Workbook
Name 新しい_SQL_Server_接続: 表3.1.2!$B$5:$E$55
Name 新しい_SQL_Server_接続: 表3.1.6!$B$5:$C$55
Name 新しい_SQL_Server_接続: 表3.1.7!$A$5:$D$104
Name 新しい_SQL_Server_接続: 表3.2.2!$C$5:$I$55
Name 新しい_SQL_Server_接続: '表3.3.2(1)'!$A$3:$G$104
Name 新しい_SQL_Server_接続: '表3.3.2(2)'!$A$3:$B$104
Name 新しい_SQL_Server_接続: '表3.3.2(3)'!$A$3:$B$104
Name 新しい_SQL_Server_接続: '表3.3.2(4)'!$A$3:$B$104
Name 新しい_SQL_Server_接続: '表3.3.3(1)'!$A$3:$G$102
Name 新しい_SQL_Server_接続: 表3.3.4!$A$3:$J$105
Name 新しい_SQL_Server_接続: 表3.3.5!$A$3:$J$105
Name 新しい_SQL_Server_接続: 表3.3.6!$A$3:$J$105
Name 新しい_SQL_Server_接続: '表3.4.1.1(1)'!$D$6:$E$105
Name 新しい_SQL_Server_接続: '表3.4.1.1(10)'!$A$6:$B$105
Name 新しい_SQL_Server_接続: '表3.4.1.1(11)'!$A$6:$B$105
Name 新しい_SQL_Server_接続: '表3.4.1.1(12)'!$A$6:$B$105
Name 新しい_SQL_Server_接続: '表3.4.1.1(13)'!$A$6:$B$105
Name 新しい_SQL_Server_接続: '表3.4.1.1(14)'!$A$6:$B$105
Name 新しい_SQL_Server_接続: '表3.4.1.1(15)'!$A$6:$B$105
Name 新しい_SQL_Server_接続: '表3.4.1.1(16)'!$A$6:$B$105
Name 新しい_SQL_Server_接続: '表3.4.1.1(3)'!$A$6:$G$105
Name 新しい_SQL_Server_接続: '表3.4.1.1(4)'!$A$6:$B$105
Name 新しい_SQL_Server_接続: '表3.4.1.1(5)'!$A$6:$B$105
Name 新しい_SQL_Server_接続: '表3.4.1.1(6)'!$A$6:$B$105
Name 新しい_SQL_Server_接続: '表3.4.1.1(7)'!$A$6:$B$105
Name 新しい_SQL_Server_接続: '表3.4.1.1(8)'!$A$6:$B$105
Name 新しい_SQL_Server_接続: '表3.4.1.1(9)'!$A$6:$B$105
Name 新しい_SQL_Server_接続: '表3.4.1.2(1)'!$A$7:$H$106
Name 新しい_SQL_Server_接続: '表3.4.1.2(10)'!$A$7:$B$106
Name 新しい_SQL_Server_接続: '表3.4.1.2(11)'!$A$7:$B$106
Name 新しい_SQL_Server_接続: '表3.4.1.2(12)'!$A$7:$B$106
Name 新しい_SQL_Server_接続: '表3.4.1.2(13)'!$A$7:$B$106
Name 新しい_SQL_Server_接続: '表3.4.1.2(14)'!$A$7:$B$106
Name 新しい_SQL_Server_接続: '表3.4.1.2(15)'!$A$7:$B$106
Name 新しい_SQL_Server_接続: '表3.4.1.2(16)'!$A$7:$B$106
Name 新しい_SQL_Server_接続: '表3.4.1.2(3)'!$A$7:$B$106
Name 新しい_SQL_Server_接続: '表3.4.1.2(4)'!$A$7:$B$106
Name 新しい_SQL_Server_接続: '表3.4.1.2(5)'!$A$7:$B$106
Name 新しい_SQL_Server_接続: '表3.4.1.2(6)'!$A$7:$B$106
Name 新しい_SQL_Server_接続: '表3.4.1.2(7)'!$A$7:$B$106
Name 新しい_SQL_Server_接続: '表3.4.1.2(8)'!$A$7:$B$106
Name 新しい_SQL_Server_接続: '表3.4.1.2(9)'!$A$7:$B$106
Name 新しい_SQL_Server_接続: '表3.4.2.1(1)'!$B$6:$E$103
Name 新しい_SQL_Server_接続: '表3.4.2.1(2)'!$D$6:$E$103
Name 新しい_SQL_Server_接続: '表3.4.2.1(3)'!$F$6:$G$103
Name 新しい_SQL_Server_接続: 表3.4.3.1!$B$6:$E$14
Name 新しい_SQL_Server_接続_1: '表3.4.2.1(10)'!$F$6:$G$103
Name 新しい_SQL_Server_接続_1: '表3.4.2.1(11)'!$F$6:$G$103
Name 新しい_SQL_Server_接続_1: '表3.4.2.1(12)'!$F$6:$G$103
Name 新しい_SQL_Server_接続_1: '表3.4.2.1(13)'!$F$6:$G$103
Name 新しい_SQL_Server_接続_1: '表3.4.2.1(14)'!$F$6:$G$103
Name 新しい_SQL_Server_接続_1: '表3.4.2.1(15)'!$F$6:$G$103
Name 新しい_SQL_Server_接続_1: '表3.4.2.1(16)'!$F$6:$G$103
Name 新しい_SQL_Server_接続_1: '表3.4.2.1(4)'!$F$6:$G$103
Name 新しい_SQL_Server_接続_1: '表3.4.2.1(5)'!$F$6:$G$103
Name 新しい_SQL_Server_接続_1: '表3.4.2.1(6)'!$F$6:$G$103
Name 新しい_SQL_Server_接続_1: '表3.4.2.1(7)'!$F$6:$G$103
Name 新しい_SQL_Server_接続_1: '表3.4.2.1(8)'!$F$6:$G$103
Name 新しい_SQL_Server_接続_1: '表3.4.2.1(9)'!$F$6:$G$103
Name 新しい_SQL_Server_接続_1: '表3.4.2.2(1)'!$G$7:$H$104

Sheet 表3.1.1
A1: 表3.1.1 調査対象工場・事業場数
A3: 所管 | B3: 総数 | C3: 排水量・有害物質区分
C4: ① | D4: ② | E4: ③
A5: 都道府県 | B5: =SUM(C5:E5) -> 26346 | C5: =I38 -> 19903 | D5: =J38 -> 2746 | E5: =K38 -> 3697
A6: 政令市 | B6: =SUM(C6:E6) -> 7979 | C6: =表3.1.2!I59 -> 5368 | D6: =表3.1.2!J59 -> 1157 | E6: =表3.1.2!K59 -> 1454
A7: 経済産業省 | B7: =SUM(C7:E7) -> 72 | C7: 31 | D7: 41
A8: 総計 | B8: =SUM(C8:E8) -> 34397 | C8: =SUM(C5:C7) -> 25302 | D8: =SUM(D5:D7) -> 3944 | E8: =SUM(E5:E7) -> 5151
A11: 表3.1.2(1) 調査対象工場・事業場数 都道府県別
A13: 都道府県 | B13: 総数 | C13: 排水量・有害物質区分 | G13: 都道府県 | H13: 総数 | I13: 排水量・有害物質区分
C14: ① | D14: ② | E14: ③ | I14: ① | J14: ② | K14: ③
A15: 北海道 | B15: =SUM(C15:E15) -> 1158 | C15: 1060 | D15: 44 | E15: 54 | G15: 滋賀県 | H15: =SUM(I15:K15) -> 686 | I15: 460 | J15: 119 | K15: 107
A16: 青森県 | B16: =SUM(C16:E16) -> 342 | C16: 312 | D16: 10 | E16: 20 | G16: 京都府 | H16: =SUM(I16:K16) -> 459 | I16: 278 | J16: 55 | K16: 126
A17: 岩手県 | B17: =SUM(C17:E17) -> 517 | C17: 427 | D17: 41 | E17: 49 | G17: 大阪府 | H17: =SUM(I17:K17) -> 406 | I17: 268 | J17: 25 | K17: 113
A18: 宮城県 | B18: =SUM(C18:E18) -> 344 | C18: 279 | D18: 30 | E18: 35 | G18: 兵庫県 | H18: =SUM(I18:K18) -> 1167 | I18: 693 | J18: 148 | K18: 326
A19: 秋田県 | B19: =SUM(C19:E19) -> 504 | C19: 346 | D19: 85 | E19: 73 | G19: 奈良県 | H19: =SUM(I19:K19) -> 262 | I19: 223 | J19: 14 | K19: 25
A20: 山形県 | B20: =SUM(C20:E20) -> 503 | C20: 387 | D20: 47 | E20: 69 | G20: 和歌山県 | H20: =SUM(I20:K20) -> 419 | I20: 397 | J20: 5 | K20: 17
A21: 福島県 | B21: =SUM(C21:E21) -> 594 | C21: 429 | D21: 82 | E21: 83 | G21: 鳥取県 | H21: =SUM(I21:K21) -> 242 | I21: 210 | J21: 11 | K21: 21
A22: 茨城県 | B22: =SUM(C22:E22) -> 863 | C22: 669 | D22: 104 | E22: 90 | G22: 島根県 | H22: =SUM(I22:K22) -> 375 | I22: 332 | J22: 16 | K22: 27
A23: 栃木県 | B23: =SUM(C23:E23) -> 833 | C23: 584 | D23: 114 | E23: 135 | G23: 岡山県 | H23: =SUM(I23:K23) -> 387 | I23: 324 | J23: 23 | K23: 40
A24: 群馬県 | B24: =SUM(C24:E24) -> 536 | C24: 446 | D24: 52 | E24: 38 | G24: 広島県 | H24: =SUM(I24:K24) -> 601 | I24: 495 | J24: 27 | K24: 79
A25: 埼玉県 | B25: =SUM(C25:E25) -> 785 | C25: 527 | D25: 86 | E25: 172 | G25: 山口県 | H25: =SUM(I25:K25) -> 546 | I25: 374 | J25: 97 | K25: 75
A26: 千葉県 | B26: =SUM(C26:E26) -> 827 | C26: 625 | D26: 99 | E26: 103 | G26: 徳島県 | H26: =SUM(I26:K26) -> 272 | I26: 215 | J26: 33 | K26: 24
... A37: 愛知県 | B37: =SUM(C37:E37) -> 1463 | C37: 969 | D37: 234 | E37: 260 | G37: 沖縄県 | H37: =SUM(I37:K37) -> 250 | I37: 233 | J37: 12 | K37: 5
A38: 三重県 | B38: =SUM(C38:E38) -> 931 | C38: 802 | D38: 58 | E38: 71 | G38: 小計 | H38: =SUM(B15:B38)+SUM(H15:H37) -> 26346 | I38: =SUM(C15:C38)+SUM(I15:I37) -> 19903 | J38: =SUM(D15:D38)+SUM(J15:J37) -> 2746 | K38: =SUM(E15:E38)+SUM(K15:K37) -> 3697
G39: ※排水量・有害物質区分
G40: ①：排水量50㎥/日以上、有害物質使用特定事業場でない
G41: ②：排水量50㎥/日以上、有害物質使用特定事業場である
G42: ③：排水量50㎥/日未満、有害物質使用特定事業場である

Sheet 表3.1.2
A1: 表3.1.2(2) 調査対象工場・事業場数 水質汚濁防止法政令市別
A3: 政令市 | B3: 総数 | C3: 排水量・有害物質区分 | G3: 政令市 | H3: 総数 | I3: 排水量・有害物質区分
C4: ① | D4: ② | E4: ③ | I4: ① | J4: ② | K4: ③
A5: 札幌市 | B5: =SUM(C5:E5) -> 39 | C5: 36 | D5: 2 | E5: 1 | G5: 岐阜市 | H5: =SUM(I5:K5) -> 70 | I5: 55 | J5: 7 | K5: 8
A6: 函館市 | B6: =SUM(C6:E6) -> 44 | C6: 40 | E6: 4 | G6: 静岡市 | H6: =SUM(I6:K6) -> 145 | I6: 95 | J6: 21 | K6: 29
A7: 旭川市 | B7: =SUM(C7:E7) -> 32 | C7: 24 | D7: 3 | E7: 5 | G7: 浜松市 | H7: =SUM(I7:K7) -> 172 | I7: 91 | J7: 56 | K7: 25
A8: 青森市 | B8: =SUM(C8:E8) -> 64 | C8: 57 | D8: 6 | E8: 1 | G8: 沼津市 | H8: =SUM(I8:K8) -> 96 | I8: 69 | J8: 16 | K8: 11
A9: 八戸市 | B9: =SUM(C9:E9) -> 68 | C9: 54 | D9: 11 | E9: 3 | G9: 富士市 | H9: =SUM(I9:K9) -> 148 | I9: 118 | J9: 16 | K9: 14
A10: 盛岡市 | B10: =SUM(C10:E10) -> 40 | C10: 31 | D10: 5 | E10: 4 | G10: 名古屋市 | H10: =SUM(I10:K10) -> 85 | I10: 55 | J10: 18 | K10: 12
A11: 仙台市 | B11: =SUM(C11:E11) -> 69 | C11: 57 | D11: 11 | E11: 1 | G11: 豊橋市 | H11: =SUM(I11:K11) -> 112 | I11: 76 | J11: 20 | K11: 16
A12: 秋田市 | B12: =SUM(C12:E12) -> 90 | C12: 60 | D12: 19 | E12: 11 | G12: 岡崎市 | H12: =SUM(I12:K12) -> 88 | I12: 66 | J12: 8 | K12: 14
A13: 山形市 | B13: =SUM(C13:E13) -> 89 | C13: 62 | D13: 5 | E13: 22 | G13: 一宮市 | H13: =SUM(I13:K13) -> 86 | I13: 65 | J13: 10 | K13: 11
A14: 福島市 | B14: =SUM(C14:E14) -> 97 | C14: 83 | D14: 11 | E14: 3 | G14: 春日井市 | H14: =SUM(I14:K14) -> 92 | I14: 59 | J14: 12 | K14: 21
A15: 郡山市 | B15: =SUM(C15:E15) -> 111 | C15: 73 | D15: 25 | E15: 13 | G15: 豊田市 | H15: =SUM(I15:K15) -> 162 | I15: 115 | J15: 26 | K15: 21
A16: いわき市 | B16: =SUM(C16:E16) -> 128 | C16: 72 | D16: 35 | E16: 21 | G16: 四日市市 | H16: =SUM(I16:K16) -> 103 | I16: 80 | J16: 14 | K16: 9
A17: 水戸市 | B17: =SUM(C17:E17) -> 55 | C17: 46 | D17: 2 | E17: 7 | G17: 大津市 | H17: =SUM(I17:K17) -> 52 | I17: 31 | J17: 11 | K17: 10
A18: つくば市 | B18: =SUM(C18:E18) -> 51 | C18: 19 | D18: 3 | E18: 29 | G18: 京都市 | H18: =SUM(I18:K18) -> 32 | I18: 21 | J18: 8 | K18: 3
... A21: 高崎市 | B21: =SUM(C21:E21) -> 110 | C21: 67 | D21: 18 | E21: 25 | G21: 岸和田市 | H21: =SUM(I21:K21) -> 29 | I21: 12 | J21: 2 | K21: 15
A22: 伊勢崎市 | B22: =SUM(C22:E22) -> 127 | C22: 73 | D22: 31 | E22: 23 | G22: 豊中市 | H22: =SUM(I22:K22) -> 3 | I22: 2 | K22: 1
A23: 太田市 | B23: =SUM(C23:E23) -> 131 | C23: 78 | D23: 19 | E23: 34 | G23: 吹田市 | H23: =SUM(I23:K23) -> 15 | I23: 9 | K23: 6
A24: さいたま市 | B24: =SUM(C24:E24) -> 105 | C24: 59 | D24: 16 | E24: 30 | G24: 高槻市 | H24: =SUM(I24:K24) -> 37 | I24: 13 | J24: 2 | K24: 22
A25: 川越市 | B25: =SUM(C25:E25) -> 62 | C25: 29 | D25: 8 | E25: 25 | G25: 枚方市 | H25: =SUM(I25:K25) -> 28 | I25: 16 | J25: 2 | K25: 10
A26: 熊谷市 | B26: =SUM(C26:E26) -> 80 | C26: 67 | D26: 8 | E26: 5 | G26: 茨木市 | H26: =SUM(I26:K26) -> 9 | I26: 6 | J26: 1 | K26: 2
A27: 川口市 | B27: =SUM(C27:E27) -> 31 | C27: 12 | D27: 4 | E27: 15 | G27: 八尾市 | H27: =SUM(I27:K27) -> 53 | I27: 18 | J27: 2 | K27: 33
A28: 所沢市 | B28: =SUM(C28:E28) -> 25 | C28: 14 | D28: 4 | E28: 7 | G28: 寝屋川市 | H28: =SUM(I28:K28) -> 7 | I28: 4 | K28: 3
A29: 春日部市 | B29: =SUM(C29:E29) -> 21 | C29: 19 | D29: 1 | E29: 1 | G29: 東大阪市 | H29: =SUM(I29:K29) -> 15 | I29: 8 | J29: 1 | K29: 6
A30: 草加市 | B30: =SUM(C30:E30) -> 17 | C30: 6 | D30: 3 | E30: 8 | G30: 神戸市 | H30: =SUM(I30:K30) -> 94 | I30: 81 | J30: 5 | K30: 8
A31: 越谷市 | B31: =SUM(C31:E31) -> 36 | C31: 24 | D31: 1 | E31: 11 | G31: 姫路市 | H31: =SUM(I31:K31) -> 120 | I31: 101 | J31: 9 | K31: 10
A32: 千葉市 | B32: =SUM(C32:E32) -> 71 | C32: 34 | D32: 22 | E32: 15 | G32: 尼崎市 | H32: =SUM(I32:K32) -> 25 | I32: 3 | J32: 21 | K32: 1
A33: 市川市 | B33: =SUM(C33:E33) -> 92 | C33: 69 | D33: 15 | E33: 8 | G33: 明石市 | H33: =SUM(I33:K33) -> 23 | I33: 15 | J33: 6 | K33: 2
A34: 船橋市 | B34: =SUM(C34:E34) -> 149 | C34: 136 | D34: 3 | E34: 10 | G34: 西宮市 | H34: =SUM(I34:K34) -> 13 | I34: 11 | J34: 1 | K34: 1
A35: 松戸市 | B35: =SUM(C35:E35) -> 62 | C35: 27 | D35: 11 | E35: 24 | G35: 加古川市 | H35: =SUM(I35:K35) -> 36 | I35: 26 | J35: 5 | K35: 5
A36: 柏市 | B36: =SUM(C36:E36) -> 60 | C36: 43 | D36: 6 | E36: 11 | G36: 宝塚市 | H36: =SUM(I36:K36) -> 4 | I36: 4
A37: 市原市 | B37: =SUM(C37:E37) -> 97 | C37: 63 | D37: 27 | E37: 7 | G37: 奈良市 | H37: =SUM(I37:K37) -> 45 | I37: 34 | J37: 6 | K37: 5
A38: 八王子市 | B38: =SUM(C38:E38) -> 64 | C38: 29 | D38: 3 | E38: 32 | G38: 和歌山市 | H38: =SUM(I38:K38) -> 150 | I38: 106 | J38: 15 | K38: 29
A39: 町田市 | B39: =SUM(C39:E39) -> 22 | C39: 15 | D39: 2 | E39: 5 | G39: 鳥取市 | H39: =SUM(I39:K39) -> 87 | I39: 74 | J39: 6 | K39: 7
A40: 横浜市 | B40: =SUM(C40:E40) -> 126 | C40: 50 | D40: 34 | E40: 42 | G40: 岡山市 | H40: =SUM(I40:K40) -> 202 | I40: 165 | J40: 17 | K40: 20
A41: 川崎市 | B41: =SUM(C41:E41) -> 136 | C41: 30 | D41: 33 | E41: 73 | G41: 倉敷市 | H41: =SUM(I41:K41) -> 148 | I41: 101 | J41: 35 | K41: 12
A42: 横須賀市 | B42: =SUM(C42:E42) -> 17 | C42: 6 | D42: 9 | E42: 2 | G42: 広島市 | H42: =SUM(I42:K42) -> 92 | I42: 67 | J42: 6 | K42: 19
A43: 平塚市 | B43: =SUM(C43:E43) -> 29 | C43: 7 | D43: 5 | E43: 17 | G43: 呉市 | H43: =SUM(I43:K43) -> 45 | I43: 38 | J43: 5 | K43: 2
...

Sheet 表3.1.3
A1: 表3.1.3 調査対象工場・事業場数 産業分類別
A3: 産業中分類 | C3: 総数 | D3: 排水量・有害物質区分
D4: ① | E4: ② | F4: ③
A5: 01 | B5: 農業 | C5: =SUM(D5:F5) -> 296 | D5: 280 | E5: 4 | F5: 12
A6: 02 | B6: 林業 | C6: =SUM(D6:F6) -> 3 | D6: 1 | F6: 2
A7: 03 | B7: 漁業（水産養殖業を除く） | C7: =SUM(D7:F7) -> 6 | D7: 4 | E7: 1 | F7: 1
A8: 04 | B8: 水産養殖業 | C8: =SUM(D8:F8) -> 9 | D8: 7 | E8: 2
A9: 05 | B9: 鉱業，採石業，砂利採取業 | C9: =SUM(D9:F9) -> 197 | D9: 162 | E9: 34 | F9: 1
A10: 06 | B10: 総合工事業 | C10: =SUM(D10:F10) -> 128 | D10: 119 | E10: 6 | F10: 3
A11: 07 | B11: 職別工事業(設備工事業を除く) | C11: =SUM(D11:F11) -> 10 | D11: 3 | F11: 7
A12: 08 | B12: 設備工事業 | C12: =SUM(D12:F12) -> 8 | D12: 3 | F12: 5
A13: 09 | B13: 食料品製造業 | C13: =SUM(D13:F13) -> 2834 | D13: 2797 | E13: 28 | F13: 9
A14: 10 | B14: 飲料・たばこ・飼料製造業 | C14: =SUM(D14:F14) -> 508 | D14: 496 | E14: 8 | F14: 4
A15: 11 | B15: 繊維工業 | C15: =SUM(D15:F15) -> 498 | D15: 372 | E15: 98 | F15: 28
A16: 12 | B16: 木材・木製品製造業（家具を除く） | C16: =SUM(D16:F16) -> 74 | D16: 43 | E16: 3 | F16: 28
A17: 13 | B17: 家具・装備品製造業 | C17: =SUM(D17:F17) -> 32 | D17: 16 | E17: 10 | F17: 6
A18: 14 | B18: パルプ・紙・紙加工品製造業 | C18: =SUM(D18:F18) -> 382 | D18: 327 | E18: 50 | F18: 5
A19: 15 | B19: 印刷・同関連業 | C19: =SUM(D19:F19) -> 110 | D19: 18 | E19: 22 | F19: 70
A20: 16 | B20: 化学工業 | C20: =SUM(D20:F20) -> 1086 | D20: 413 | E20: 510 | F20: 163
A21: 17 | B21: 石油製品・石炭製品製造業 | C21: =SUM(D21:F21) -> 63 | D21: 29 | E21: 25 | F21: 9
A22: 18 | B22: プラスチック製品製造業（別掲を除く） | C22: =SUM(D22:F22) -> 102 | D22: 51 | E22: 29 | F22: 22
A23: 19 | B23: ゴム製品製造業 | C23: =SUM(D23:F23) -> 122 | D23: 46 | E23: 56 | F23: 20
A24: 20 | B24: なめし革・同製品・毛皮製造業 | C24: =SUM(D24:F24) -> 13 | D24: 5 | E24: 5 | F24: 3
... A38: 34 | B38: ガス業 | C38: =SUM(D38:F38) -> 8 | D38: 6 | E38: 1 | F38: 1
A39: 35 | B39: 熱供給業 | C39: =SUM(D39:F39) -> 5 | D39: 5
A40: 36 | B40: 水道業 | C40: =SUM(D40:F40) -> 2587 | D40: 2231 | E40: 345 | F40: 11
A41: 37 | B41: 通信業 | C41: =SUM(D41:F41) -> 2 | D41: 2
A42: 38 | B42: 放送業 | C42: =SUM(D42:F42) -> 0 | D42: 0 | E42: 0 | F42: 0
A43: 39 | B43: 情報サービス業 | C43: =SUM(D43:F43) -> 6 | D43: 4 | E43: 1 | F43: 1
A44: 40 | B44: インターネット附随サービス業 | C44: =SUM(D44:F44) -> 0 | D44: 0 | E44: 0 | F44: 0
A45: 41 | B45: 映像・音声・文字情報制作業 | C45: =SUM(D45:F45) -> 9 | D45: 4 | F45: 5
A46: 42 | B46: 鉄道業 | C46: =SUM(D46:F46) -> 53 | D46: 52 | E46: 1
A47: 43 | B47: 道路旅客運送業 | C47: =SUM(D47:F47) -> 9 | D47: 9
A48: 44 | B48: 道路貨物運送業 | C48: =SUM(D48:F48) -> 22 | D48: 21 | F48: 1
A49: 45 | B49: 水運業 | C49: =SUM(D49:F49) -> 2 | D49: 1 | E49: 1
A50: 46 | B50: 航空運輸業 | C50: =SUM(D50:F50) -> 2 | D50: 1 | F50: 1
A51: 47 | B51: 倉庫業 | C51: =SUM(D51:F51) -> 20 | D51: 18 | E51: 1 | F51: 1
A52: 48 | B52: 運輸に附帯するサービス業 | C52: =SUM(D52:F52) -> 122 | D52: 119 | E52: 2 | F52: 1
A53: 49 | B53: 郵便業（信書便事業を含む） | C53: =SUM(D53:F53) -> 2 | D53: 2
A54: 50 | B54: 各種商品卸売業 | C54: =SUM(D54:F54) -> 16 | D54: 16
...

Sheet 表3.1.4
A1: 表3.1.4 調査対象工場・事業場数 代表特定施設別
A3: 代表特定施設 | C3: 総数 | D3: 排水量・有害物質区分
D4: ① | E4: ② | F4: ③
A5: 1 | B5: 鉱業又は水洗炭業の用に供する施設 | C5: =SUM(D5:F5) -> 86 | D5: 40 | E5: 46
A6: 1-2 | B6: 畜産農業又はサービス業の用に供する施設 | C6: =SUM(D6:F6) -> 298 | D6: 277 | E6: 10 | F6: 11
A7: 2 | B7: 畜産食料品製造業の用に供する施設 | C7: =SUM(D7:F7) -> 600 | D7: 582 | E7: 15 | F7: 3
A8: 3 | B8: 水産食料品製造業の用に供する施設 | C8: =SUM(D8:F8) -> 539 | D8: 539
A9: 4 | B9: 野菜又は果実を原料とする保存食料品製造業の用に供する施設 | C9: =SUM(D9:F9) -> 503 | D9: 500 | E9: 2 | F9: 1
A10: 5 | B10: みそ、しょう油、食用アミノ酸等の製造業の用に供する施設 | C10: =SUM(D10:F10) -> 145 | D10: 140 | E10: 4 | F10: 1
A11: 6 | B11: 小麦粉製造業の用に供する洗浄施設 | C11: =SUM(D11:F11) -> 0 | D11: 0 | E11: 0 | F11: 0
A12: 7 | B12: 砂糖製造業の用に供する施設 | C12: =SUM(D12:F12) -> 43 | D12: 43
A13: 8 | B13: パン・菓子の製造業又は製あん業の用に供する粗製あんの沈殿槽 | C13: =SUM(D13:F13) -> 54 | D13: 54
A14: 9 | B14: 米菓製造業又はこうじ製造業の用に供する洗米機 | C14: =SUM(D14:F14) -> 52 | D14: 52
A15: 10 | B15: 飲料製造業の用に供する施設 | C15: =SUM(D15:F15) -> 478 | D15: 462 | E15: 11 | F15: 5
A16: 11 | B16: 動物系飼料又は有機質肥料の製造業の用に供する施設 | C16: =SUM(D16:F16) -> 82 | D16: 81 | F16: 1
A17: 12 | B17: 動植物油脂製造業の用に供する施設 | C17: =SUM(D17:F17) -> 57 | D17: 51 | E17: 1 | F17: 5
A18: 13 | B18: イースト製造業の用に供する施設 | C18: =SUM(D18:F18) -> 3 | D18: 3
A19: 14 | B19: でん粉又は化工でん粉の製造業の用に供する施設 | C19: =SUM(D19:F19) -> 49 | D19: 49
A20: 15 | B20: ぶどう糖又は水あめの製造業の用に供する施設 | C20: =SUM(D20:F20) -> 12 | D20: 11 | E20: 1
A21: 16 | B21: めん類製造業の用に供する湯煮施設 | C21: =SUM(D21:F21) -> 123 | D21: 123
A22: 17 | B22: 豆腐又は煮豆の製造業の用に供する湯煮施設 | C22: =SUM(D22:F22) -> 239 | D22: 238 | E22: 1
A23: 18 | B23: インスタントコーヒー製造業の用に供する抽出施設 | C23: =SUM(D23:F23) -> 3 | D23: 3
A24: 18-2 | B24: 冷凍調理食品製造業の用に供する施設 | C24: =SUM(D24:F24) -> 116 | D24: 116
A25: 18-3 | B25: たばこ製造業の用に供する施設 | C25: =SUM(D25:F25) -> 3 | D25: 3
A26: 19 | B26: 紡績業又は繊維製品の製造業若しくは加工業の用に供する施設 | C26: =SUM(D26:F26) -> 449 | D26: 347 | E26: 79 | F26: 23
A27: 20 | B27: 洗毛業の用に供する施設 | C27: =SUM(D27:F27) -> 3 | D27: 1 | E27: 1 | F27: 1
A28: 21 | B28: 化学繊維製造業の用に供する施設 | C28: =SUM(D28:F28) -> 35 | D28: 18 | E28: 17
A29: 21-2 | B29: 一般製材業又は木材チップ製造業の用に供する湿式バーカー | C29: =SUM(D29:F29) -> 4 | D29: 4
A30: 21-3 | B30: 合板製造業の用に供する接着機洗浄施設 | C30: =SUM(D30:F30) -> 19 | D30: 18 | F30: 1
A31: 21-4 | B31: パーティクルボード製造業の用に供する施設 | C31: =SUM(D31:F31) -> 4 | D31: 2 | E31: 2
A32: 22 | B32: 木材薬品処理業の用に供する施設 | C32: =SUM(D32:F32) -> 32 | D32: 2 | E32: 2 | F32: 28
A33: 23 | B33: パルプ、紙又は紙加工品の製造業の用に供する施設 | C33: =SUM(D33:F33) -> 384 | D33: 334 | E33: 49 | F33: 1
A34: 23-2 | B34: 新聞業、出版業、印刷業又は製版業の用に供する施設 | C34: =SUM(D34:F34) -> 76 | D34: 18 | E34: 11 | F34: 47
A35: 24 | B35: 化学肥料製造業の用に供する施設 | C35: =SUM(D35:F35) -> 28 | D35: 7 | E35: 17 | F35: 4
A36: 25 | B36: 水銀電解法による化成ソーダ又は化成カリの製造業の用に供する施設 | C36: =SUM(D36:F36) -> 3 | E36: 3
A37: 26 | B37: 無機顔料製造業の用に供する施設 | C37: =SUM(D37:F37) -> 34 | D37: 16 | E37: 15 | F37: 3
A38: 27 | B38: その他の無機化学工業製品製造業の用に供する施設 | C38: =SUM(D38:F38) -> 251 | D38: 92 | E38: 117 | F38: 42
A39: 28 | B39: カーバイド法アセチレン誘導品製造業の用に供する施設 | C39: =SUM(D39:F39) -> 16 | D39: 10 | E39: 3 | F39: 3
A40: 29 | B40: コールタール製品製造業の用に供する施設 | C40: =SUM(D40:F40) -> 4 | D40: 1 | E40: 3
A41: 30 | B41: 発酵工業の用に供する施設 | C41: =SUM(D41:F41) -> 10 | D41: 9 | E41: 1
...

Sheet 表3.1.5
A1: 表3.1.5 調査票の回収数及び回収率
A3: 所管 | B3: 配布数 | C3: 回収状況
C4: 回収 | D4: 未回収 | E4: 回収率(%)
A5: 都道府県 | B5: =表3.1.1!B5 -> 26346 | C5: =I38 -> 21145 | D5: =B5-C5 -> 5201 | E5: =C5/B5 *100 -> 80.258863
A6: 政令市 | B6: =表3.1.1!B6 -> 7979 | C6: =表3.1.6!I59 -> 6512 | D6: =B6-C6 -> 1467 | E6: =C6/B6 *100 -> 81.614237
A7: 経済産業省 | B7: =表3.1.1!B7 -> 72 | C7: 69 | D7: =B7-C7 -> 3 | E7: =C7/B7 *100 -> 95.833333
A8: 総計 | B8: =SUM(B5:B7) -> 34397 | C8: =SUM(C5:C7) -> 27726 | D8: =B8-C8 -> 6671 | E8: =C8/B8 *100 -> 80.605867
A11: 表3.1.6(1) 調査票の回収数及び回収率 都道府県別
A13: 都道府県 | B13: 配布数 | C13: 回収状況 | G13: 都道府県 | H13: 配布数 | I13: 回収状況
C14: 回収 | D14: 未回収 | E14: 回収率(%) | I14: 回収 | J14: 未回収 | K14: 回収率(%)
A15: 北海道 | B15: =表3.1.1!B15 -> 1158 | C15: 878 | D15: =B15-C15 -> 280 | E15: =C15/B15 *100 -> 75.82038 | G15: 滋賀県 | H15: =表3.1.1!H15 -> 686 | I15: 588 | J15: =H15-I15 -> 98 | K15: =I15/H15 *100 -> 85.714286
A16: 青森県 | B16: =表3.1.1!B16 -> 342 | C16: 294 | D16: =B16-C16 -> 48 | E16: =C16/B16 *100 -> 85.964912 | G16: 京都府 | H16: =表3.1.1!H16 -> 459 | I16: 376 | J16: =H16-I16 -> 83 | K16: =I16/H16 *100 -> 81.917211
A17: 岩手県 | B17: =表3.1.1!B17 -> 517 | C17: 419 | D17: =B17-C17 -> 98 | E17: =C17/B17 *100 -> 81.044487 | G17: 大阪府 | H17: =表3.1.1!H17 -> 406 | I17: 308 | J17: =H17-I17 -> 98 | K17: =I17/H17 *100 -> 75.862069
A18: 宮城県 | B18: =表3.1.1!B18 -> 344 | C18: 267 | D18: =B18-C18 -> 77 | E18: =C18/B18 *100 -> 77.616279 | G18: 兵庫県 | H18: =表3.1.1!H18 -> 1167 | I18: 984 | J18: =H18-I18 -> 183 | K18: =I18/H18 *100 -> 84.318766
A19: 秋田県 | B19: =表3.1.1!B19 -> 504 | C19: 412 | D19: =B19-C19 -> 92 | E19: =C19/B19 *100 -> 81.746032 | G19: 奈良県 | H19: =表3.1.1!H19 -> 262 | I19: 199 | J19: =H19-I19 -> 63 | K19: =I19/H19 *100 -> 75.954198
A20: 山形県 | B20: =表3.1.1!B20 -> 503 | C20: 375 | D20: =B20-C20 -> 128 | E20: =C20/B20 *100 -> 74.552684 | G20: 和歌山県 | H20: =表3.1.1!H20 -> 419 | I20: 324 | J20: =H20-I20 -> 95 | K20: =I20/H20 *100 -> 77.326969
A21: 福島県 | B21: =表3.1.1!B21 -> 594 | C21: 473 | D21: =B21-C21 -> 121 | E21: =C21/B21 *100 -> 79.62963 | G21: 鳥取県 | H21: =表3.1.1!H21 -> 242 | I21: 197 | J21: =H21-I21 -> 45 | K21: =I21/H21 *100 -> 81.404959
A22: 茨城県 | B22: =表3.1.1!B22 -> 863 | C22: 728 | D22: =B22-C22 -> 135 | E22: =C22/B22 *100 -> 84.356895 | G22: 島根県 | H22: =表3.1.1!H22 -> 375 | I22: 337 | J22: =H22-I22 -> 38 | K22: =I22/H22 *100 -> 89.866667
A23: 栃木県 | B23: =表3.1.1!B23 -> 833 | C23: 581 | D23: =B23-C23 -> 252 | E23: =C23/B23 *100 -> 69.747899 | G23: 岡山県 | H23: =表3.1.1!H23 -> 387 | I23: 329 | J23: =H23-I23 -> 58 | K23: =I23/H23 *100 -> 85.01292
A24: 群馬県 | B24: =表3.1.1!B24 -> 536 | C24: 357 | D24: =B24-C24 -> 179 | E24: =C24/B24 *100 -> 66.604478 | G24: 広島県 | H24: =表3.1.1!H24 -> 601 | I24: 495 | J24: =H24-I24 -> 106 | K24: =I24/H24 *100 -> 82.362729
A25: 埼玉県 | B25: =表3.1.1!B25 -> 785 | C25: 622 | D25: =B25-C25 -> 163 | E25: =C25/B25 *100 -> 79.235669 | G25: 山口県 | H25: =表3.1.1!H25 -> 546 | I25: 492 | J25: =H25-I25 -> 54 | K25: =I25/H25 *100 -> 90.10989
A26: 千葉県 | B26: =表3.1.1!B26 -> 827 | C26: 664 | D26: =B26-C26 -> 163 | E26: =C26/B26 *100 -> 80.290206 | G26: 徳島県 | H26: =表3.1.1!H26 -> 272 | I26: 214 | J26: =H26-I26 -> 58 | K26: =I26/H26 *100 -> 78.676471
... A37: 愛知県 | B37: =表3.1.1!B37 -> 1463 | C37: 1271 | D37: =B37-C37 -> 192 | E37: =C37/B37 *100 -> 86.876282 | G37: 沖縄県 | H37: =表3.1.1!H37 -> 250 | I37: 176 | J37: =H37-I37 -> 74 | K37: =I37/H37 *100 -> 70.4
A38: 三重県 | B38: =表3.1.1!B38 -> 931 | C38: 782 | D38: =B38-C38 -> 149 | E38: =C38/B38 *100 -> 83.995704 | G38: 小計 | H38: =SUM(B15:B38,H15:H37) -> 26346 | I38: =SUM(C15:C38,I15:I37) -> 21145 | J38: =H38-I38 -> 5201 | K38: =I38/H38 *100 -> 80.258863

Sheet 表3.1.6
A1: 表3.1.6(2) 調査票の回収数及び回収率 水質汚濁防止法政令市別
A3: 政令市 | B3: 配布数 | C3: 回収状況 | G3: 政令市 | H3: 配布数 | I3: 回収状況
C4: 回収 | D4: 未回収 | E4: 回収率(%) | I4: 回収 | J4: 未回収 | K4: 回収率(%)
A5: 札幌市 | B5: =表3.1.2!B5 -> 39 | C5: 32 | D5: =B5-C5 -> 7 | E5: =C5/B5*100 -> 82.051282 | G5: 岐阜市 | H5: =表3.1.2!H5 -> 70 | I5: 64 | J5: =H5-I5 -> 6 | K5: =I5/H5*100 -> 91.428571
A6: 函館市 | B6: =表3.1.2!B6 -> 44 | C6: 26 | D6: =B6-C6 -> 18 | E6: =C6/B6*100 -> 59.090909 | G6: 静岡市 | H6: =表3.1.2!H6 -> 145 | I6: 117 | J6: =H6-I6 -> 28 | K6: =I6 / H6 * 100 -> 80.689655
A7: 旭川市 | B7: =表3.1.2!B7 -> 32 | C7: 23 | D7: =B7-C7 -> 9 | E7: =C7/B7*100 -> 71.875 | G7: 浜松市 | H7: =表3.1.2!H7 -> 172 | I7: 133 | J7: =H7-I7 -> 39 | K7: =I7 / H7 * 100 -> 77.325581
A8: 青森市 | B8: =表3.1.2!B8 -> 64 | C8: 46 | D8: =B8-C8 -> 18 | E8: =C8/B8*100 -> 71.875 | G8: 沼津市 | H8: =表3.1.2!H8 -> 96 | I8: 78 | J8: =H8-I8 -> 18 | K8: =I8 / H8 * 100 -> 81.25
A9: 八戸市 | B9: =表3.1.2!B9 -> 68 | C9: 60 | D9: =B9-C9 -> 8 | E9: =C9/B9*100 -> 88.235294 | G9: 富士市 | H9: =表3.1.2!H9 -> 148 | I9: 123 | J9: =H9-I9 -> 25 | K9: =I9 / H9 * 100 -> 83.108108
A10: 盛岡市 | B10: =表3.1.2!B10 -> 40 | C10: 39 | D10: =B10-C10 -> 1 | E10: =C10/B10*100 -> 97.5 | G10: 名古屋市 | H10: =表3.1.2!H10 -> 85 | I10: 78 | J10: =H10-I10 -> 7 | K10: =I10 / H10 * 100 -> 91.764706
A11: 仙台市 | B11: =表3.1.2!B11 -> 69 | C11: 57 | D11: =B11-C11 -> 12 | E11: =C11/B11*100 -> 82.608696 | G11: 豊橋市 | H11: =表3.1.2!H11 -> 112 | I11: 97 | J11: =H11-I11 -> 15 | K11: =I11 / H11 * 100 -> 86.607143
A12: 秋田市 | B12: =表3.1.2!B12 -> 90 | C12: 74 | D12: =B12-C12 -> 16 | E12: =C12/B12*100 -> 82.222222 | G12: 岡崎市 | H12: =表3.1.2!H12 -> 88 | I12: 83 | J12: =H12-I12 -> 5 | K12: =I12 / H12 * 100 -> 94.318182
A13: 山形市 | B13: =表3.1.2!B13 -> 89 | C13: 56 | D13: =B13-C13 -> 33 | E13: =C13/B13*100 -> 62.921348 | G13: 一宮市 | H13: =表3.1.2!H13 -> 86 | I13: 64 | J13: =H13-I13 -> 22 | K13: =I13 / H13 * 100 -> 74.418605
A14: 福島市 | B14: =表3.1.2!B14 -> 97 | C14: 63 | D14: =B14-C14 -> 34 | E14: =C14/B14*100 -> 64.948454 | G14: 春日井市 | H14: =表3.1.2!H14 -> 92 | I14: 72 | J14: =H14-I14 -> 20 | K14: =I14 / H14 * 100 -> 78.26087
A15: 郡山市 | B15: =表3.1.2!B15 -> 111 | C15: 85 | D15: =B15-C15 -> 26 | E15: =C15/B15*100 -> 76.576577 | G15: 豊田市 | H15: =表3.1.2!H15 -> 162 | I15: 147 | J15: =H15-I15 -> 15 | K15: =I15 / H15 * 100 -> 90.740741
A16: いわき市 | B16: =表3.1.2!B16 -> 128 | C16: 98 | D16: =B16-C16 -> 30 | E16: =C16/B16*100 -> 76.5625 | G16: 四日市市 | H16: =表3.1.2!H16 -> 103 | I16: 91 | J16: =H16-I16 -> 12 | K16: =I16 / H16 * 100 -> 88.349515
A17: 水戸市 | B17: =表3.1.2!B17 -> 55 | C17: 46 | D17: =B17-C17 -> 9 | E17: =C17/B17*100 -> 83.636364 | G17: 大津市 | H17: =表3.1.2!H17 -> 52 | I17: 41 | J17: =H17-I17 -> 11 | K17: =I17 / H17 * 100 -> 78.846154
... A58: 松本市 | B58: =表3.1.2!B58 -> 58 | C58: 47 | D58: =B58-C58 -> 11 | E58: =C58/B58*100 -> 81.034483 | G58: 鹿児島市 | H58: =表3.1.2!H58 -> 61 | I58: 47 | J58: =H58-I58 -> 14 | K58: =I58 / H58 * 100 -> 77.04918
G59: 小計 | H59: =SUM(B5:B58,H5:H58) -> 7979 | I59: =SUM(C5:C58,I5:I58) -> 6512 | J59: =SUM(D5:D58,J5:J58) -> 1467 | K59: =I59 / H59 * 100 -> 81.614237

Sheet 表3.1.7
A1: 表3.1.7 調査票の回収数及び回収率 産業分類別
A3: 産業中分類 | C3: 配布数 | D3: 回収状況
D4: 回収 | E4: 未回収 | F4: 回収率(%)
A5: 01 | B5: 農業 | C5: =表3.1.3!C5 -> 296 | D5: 172 | E5: =C5-D5 -> 124 | F5: =IF(C5=0,0,D5/C5*100) -> 58.108108 | H5: 01 | I5: 農業
A6: 02 | B6: 林業 | C6: =表3.1.3!C6 -> 3 | D6: 3 | E6: =C6-D6 -> 0 | F6: =IF(C6=0,0,D6/C6*100) -> 100 | H6: 02 | I6: 林業
A7: 03 | B7: 漁業（水産養殖業を除く） | C7: =表3.1.3!C7 -> 6 | D7: 5 | E7: =C7-D7 -> 1 | F7: =IF(C7=0,0,D7/C7*100) -> 83.333333 | H7: 03 | I7: 漁業（水産養殖業を除く）
A8: 04 | B8: 水産養殖業 | C8: =表3.1.3!C8 -> 9 | D8: 5 | E8: =C8-D8 -> 4 | F8: =IF(C8=0,0,D8/C8*100) -> 55.555556 | H8: 04 | I8: 水産養殖業
A9: 05 | B9: 鉱業，採石業，砂利採取業 | C9: =表3.1.3!C9 -> 197 | D9: 150 | E9: =C9-D9 -> 47 | F9: =IF(C9=0,0,D9/C9*100) -> 76.142132 | H9: 05 | I9: 鉱業，採石業，砂利採取業
A10: 06 | B10: 総合工事業 | C10: =表3.1.3!C10 -> 128 | D10: 119 | E10: =C10-D10 -> 9 | F10: =IF(C10=0,0,D10/C10*100) -> 92.96875 | H10: 06 | I10: 総合工事業
A11: 07 | B11: 職別工事業(設備工事業を除く) | C11: =表3.1.3!C11 -> 10 | D11: 8 | E11: =C11-D11 -> 2 | F11: =IF(C11=0,0,D11/C11*100) -> 80 | H11: 07 | I11: 職別工事業(設備工事業を除く)
A12: 08 | B12: 設備工事業 | C12: =表3.1.3!C12 -> 8 | D12: 7 | E12: =C12-D12 -> 1 | F12: =IF(C12=0,0,D12/C12*100) -> 87.5 | H12: 08 | I12: 設備工事業
A13: 09 | B13: 食料品製造業 | C13: =表3.1.3!C13 -> 2834 | D13: 2186 | E13: =C13-D13 -> 648 | F13: =IF(C13=0,0,D13/C13*100) -> 77.134792 | H13: 09 | I13: 食料品製造業
A14: 10 | B14: 飲料・たばこ・飼料製造業 | C14: =表3.1.3!C14 -> 508 | D14: 433 | E14: =C14-D14 -> 75 | F14: =IF(C14=0,0,D14/C14*100) -> 85.23622 | H14: 10 | I14: 飲料・たばこ・飼料製造業
A15: 11 | B15: 繊維工業 | C15: =表3.1.3!C15 -> 498 | D15: 384 | E15: =C15-D15 -> 114 | F15: =IF(C15=0,0,D15/C15*100) -> 77.108434 | H15: 11 | I15: 繊維工業
A16: 12 | B16: 木材・木製品製造業（家具を除く） | C16: =表3.1.3!C16 -> 74 | D16: 62 | E16: =C16-D16 -> 12 | F16: =IF(C16=0,0,D16/C16*100) -> 83.783784 | H16: 12 | I16: 木材・木製品製造業（家具を除く）
... A104: - | B104: 産業分類不明 | C104: =表3.1.3!C104 -> 159 | D104: 70 | E104: =C104-D104 -> 89 | F104: =IF(C104=0,0,D104/C104*100) -> 44.025157 | H104: - | I104: 産業分類不明
B105: 合計 | C105: =SUM(C5:C104) -> 34397 | D105: =SUM(D5:D104) -> 27726 | E105: =SUM(E5:E104) -> 6671 | F105: =IF(C105=0,0,D105/C105*100) -> 80.605867

Sheet 表3.1.8
A1: 表3.1.8 調査票の回収数及び回収率 代表特定施設別
A3: 代表特定施設 | C3: 配布数 | D3: 回収状況
D4: 回収 | E4: 未回収 | F4: 回収率(%)
A5: 1 | B5: 鉱業又は水洗炭業の用に供する施設 | C5: =表3.1.4!C5 -> 86 | D5: 80 | E5: =C5-D5 -> 6 | F5: =IF(C5=0,0,D5/C5*100) -> 93.023256
A6: 1-2 | B6: 畜産農業又はサービス業の用に供する施設 | C6: =表3.1.4!C6 -> 298 | D6: 182 | E6: =C6-D6 -> 116 | F6: =IF(C6=0,0,D6/C6*100) -> 61.073826
A7: 2 | B7: 畜産食料品製造業の用に供する施設 | C7: =表3.1.4!C7 -> 600 | D7: 518 | E7: =C7-D7 -> 82 | F7: =IF(C7=0,0,D7/C7*100) -> 86.333333
A8: 3 | B8: 水産食料品製造業の用に供する施設 | C8: =表3.1.4!C8 -> 539 | D8: 369 | E8: =C8-D8 -> 170 | F8: =IF(C8=0,0,D8/C8*100) -> 68.460111
A9: 4 | B9: 野菜又は果実を原料とする保存食料品製造業の用に供する施設 | C9: =表3.1.4!C9 -> 503 | D9: 371 | E9: =C9-D9 -> 132 | F9: =IF(C9=0,0,D9/C9*100) -> 73.757455
A10: 5 | B10: みそ、しょう油、食用アミノ酸等の製造業の用に供する施設 | C10: =表3.1.4!C10 -> 145 | D10: 120 | E10: =C10-D10 -> 25 | F10: =IF(C10=0,0,D10/C10*100) -> 82.758621
A11: 6 | B11: 小麦粉製造業の用に供する洗浄施設 | C11: =表3.1.4!C11 -> 0 | D11: 0 | E11: =C11-D11 -> 0 | F11: =IF(C11=0,0,D11/C11*100) -> 0
A12: 7 | B12: 砂糖製造業の用に供する施設 | C12: =表3.1.4!C12 -> 43 | D12: 39 | E12: =C12-D12 -> 4 | F12: =IF(C12=0,0,D12/C12*100) -> 90.697674
A13: 8 | B13: パン・菓子の製造業又は製あん業の用に供する粗製あんの沈殿槽 | C13: =表3.1.4!C13 -> 54 | D13: 39 | E13: =C13-D13 -> 15 | F13: =IF(C13=0,0,D13/C13*100) -> 72.222222
A14: 9 | B14: 米菓製造業又はこうじ製造業の用に供する洗米機 | C14: =表3.1.4!C14 -> 52 | D14: 38 | E14: =C14-D14 -> 14 | F14: =IF(C14=0,0,D14/C14*100) -> 73.076923
A15: 10 | B15: 飲料製造業の用に供する施設 | C15: =表3.1.4!C15 -> 478 | D15: 413 | E15: =C15-D15 -> 65 | F15: =IF(C15=0,0,D15/C15*100) -> 86.401674
A16: 11 | B16: 動物系飼料又は有機質肥料の製造業の用に供する施設 | C16: =表3.1.4!C16 -> 82 | D16: 60 | E16: =C16-D16 -> 22 | F16: =IF(C16=0,0,D16/C16*100) -> 73.170732
... A109: - | B109: 特定施設不明 | C109: =表3.1.4!C109 -> 21 | D109: 18 | E109: =C109-D109 -> 3 | F109: =IF(C109=0,0,D109/C109*100) -> 85.714286
B110: 合計 | C110: =SUM(C5:C109) -> 34397 | D110: =SUM(D5:D109) -> 27726 | E110: =SUM(E5:E109) -> 6671 | F110: =IF(C110=0,0,D110/C110*100) -> 80.605867

Sheet 表3.2.1
A1: 表3.2.1 稼働別工場・事業場数
A3: 所管 | B3: 回収数 | C3: 稼動コード
C4: 1稼働 | D4: 2下水道接続 | E4: 3建設中 | F4: 4休止 | G4: 5廃止 | H4: 9その他
A5: 都道府県 | B5: =SUM(C5:I5) -> 21145 | C5: =M39 -> 19642 | D5: =N39 -> 673 | E5: =O39 -> 98 | F5: =P39 -> 261 | G5: =Q39 -> 317 | H5: =R39 -> 154
A6: 政令市 | B6: =SUM(C6:I6) -> 6512 | C6: =表3.2.2!M59 -> 6052 | D6: =表3.2.2!N59 -> 236 | E6: =表3.2.2!O59 -> 22 | F6: =表3.2.2!P59 -> 68 | G6: =表3.2.2!Q59 -> 96 | H6: =表3.2.2!R59 -> 38
A7: 経済産業省 | B7: =SUM(C7:I7) -> 69 | C7: 62 | F7: 2 | H7: 5
C8: 0 | D8: 0 | E8: 0 | F8: 0 | G8: 0 | H8: 0
A9: 総計 | B9: =SUM(B5:B8) -> 27726 | C9: =SUM(C5:C8) -> 25756 | D9: =SUM(D5:D8) -> 909 | E9: =SUM(E5:E8) -> 120 | F9: =SUM(F5:F8) -> 331 | G9: =SUM(G5:G8) -> 413 | H9: =SUM(H5:H8) -> 197
A12: 表3.2.2(1) 稼働別工場・事業場数 都道府県別
A14: 都道府県 | B14: 回収数 | C14: 稼働コード | K14: 都道府県 | L14: 回収数 | M14: 稼働コード
C15: 1稼働 | D15: 2下水道接続 | E15: 3建設中 | F15: 4休止 | G15: 5廃止 | H15: 9その他 | M15: 1稼働 | N15: 2下水道接続 | O15: 3建設中 | P15: 4休止 | Q15: 5廃止 | R15: 9その他
A16: 北海道 | B16: =SUM(C16:I16) -> 878 | C16: 824 | D16: 22 | E16: 3 | F16: 14 | G16: 13 | H16: 2 | K16: 滋賀県 | L16: =SUM(M16:S16) -> 588 | M16: 552 | N16: 28 | O16: 1 | P16: 4 | Q16: 2 | R16: 1
A17: 青森県 | B17: =SUM(C17:I17) -> 294 | C17: 272 | D17: 4 | E17: 4 | F17: 7 | G17: 6 | H17: 1 | K17: 京都府 | L17: =SUM(M17:S17) -> 376 | M17: 330 | N17: 24 | O17: 2 | P17: 4 | Q17: 13 | R17: 3
A18: 岩手県 | B18: =SUM(C18:I18) -> 419 | C18: 396 | D18: 11 | E18: 2 | F18: 5 | G18: 3 | H18: 2 | K18: 大阪府 | L18: =SUM(M18:S18) -> 308 | M18: 262 | N18: 29 | P18: 6 | Q18: 5 | R18: 6
A19: 宮城県 | B19: =SUM(C19:I19) -> 267 | C19: 239 | D19: 11 | E19: 1 | F19: 8 | G19: 5 | H19: 3 | K19: 兵庫県 | L19: =SUM(M19:S19) -> 984 | M19: 886 | N19: 32 | O19: 2 | P19: 10 | Q19: 42 | R19: 12
A20: 秋田県 | B20: =SUM(C20:I20) -> 412 | C20: 388 | D20: 7 | E20: 3 | F20: 3 | G20: 8 | H20: 3 | K20: 奈良県 | L20: =SUM(M20:S20) -> 199 | M20: 181 | N20: 9 | O20: 2 | P20: 2 | Q20: 3 | R20: 2
A21: 山形県 | B21: =SUM(C21:I21) -> 375 | C21: 348 | D21: 15 | E21: 1 | F21: 5 | G21: 6 | K21: 和歌山県 | L21: =SUM(M21:S21) -> 324 | M21: 309 | N21: 3 | O21: 3 | P21: 4 | Q21: 3 | R21: 2
A22: 福島県 | B22: =SUM(C22:I22) -> 473 | C22: 429 | D22: 16 | E22: 1 | F22: 18 | G22: 6 | H22: 3 | K22: 鳥取県 | L22: =SUM(M22:S22) -> 197 | M22: 188 | N22: 3 | Q22: 4 | R22: 2
A23: 茨城県 | B23: =SUM(C23:I23) -> 728 | C23: 683 | D23: 14 | E23: 6 | F23: 5 | G23: 13 | H23: 7 | K23: 島根県 | L23: =SUM(M23:S23) -> 337 | M23: 319 | N23: 8 | O23: 4 | P23: 2 | Q23: 4
A24: 栃木県 | B24: =SUM(C24:I24) -> 581 | C24: 525 | D24: 30 | E24: 1 | F24: 7 | G24: 8 | H24: 10 | K24: 岡山県 | L24: =SUM(M24:S24) -> 329 | M24: 298 | N24: 18 | P24: 3 | Q24: 7 | R24: 3
A25: 群馬県 | B25: =SUM(C25:I25) -> 357 | C25: 327 | D25: 15 | E25: 2 | F25: 7 | G25: 3 | H25: 3 | K25: 広島県 | L25: =SUM(M25:S25) -> 495 | M25: 451 | N25: 28 | O25: 1 | P25: 6 | Q25: 3 | R25: 6
A26: 埼玉県 | B26: =SUM(C26:I26) -> 622 | C26: 598 | D26: 9 | E26: 2 | F26: 4 | G26: 6 | H26: 3 | K26: 山口県 | L26: =SUM(M26:S26) -> 492 | M26: 468 | N26: 7 | O26: 2 | P26: 5 | Q26: 4 | R26: 6
A27: 千葉県 | B27: =SUM(C27:I27) -> 664 | C27: 626 | D27: 14 | E27: 3 | F27: 9 | G27: 8 | H27: 4 | K27: 徳島県 | L27: =SUM(M27:S27) -> 214 | M27: 207 | N27: 2 | O27: 1 | P27: 3 | Q27: 1
A28: 東京都 | B28: =SUM(C28:I28) -> 107 | C28: 102 | D28: 3 | E28: 1 | G28: 1 | K28: 香川県 | L28: =SUM(M28:S28) -> 269 | M28: 260 | N28: 4 | O28: 1 | P28: 2 | Q28: 1 | R28: 1
A29: 神奈川県 | B29: =SUM(C29:I29) -> 288 | C29: 204 | D29: 70 | F29: 7 | G29: 6 | H29: 1 | K29: 愛媛県 | L29: =SUM(M29:S29) -> 337 | M29: 328 | N29: 2 | P29: 2 | Q29: 4 | R29: 1
A30: 新潟県 | B30: =SUM(C30:I30) -> 715 | C30: 666 | D30: 11 | E30: 3 | F30: 14 | G30: 18 | H30: 3 | K30: 高知県 | L30: =SUM(M30:S30) -> 199 | M30: 188 | N30: 5 | O30: 3 | P30: 2 | R30: 1
A31: 富山県 | B31: =SUM(C31:I31) -> 344 | C31: 325 | D31: 8 | F31: 6 | G31: 3 | H31: 2 | K31: 福岡県 | L31: =SUM(M31:S31) -> 559 | M31: 520 | N31: 22 | O31: 3 | P31: 3 | Q31: 6 | R31: 5
A32: 石川県 | B32: =SUM(C32:I32) -> 393 | C32: 376 | D32: 10 | F32: 3 | G32: 2 | H32: 2 | K32: 佐賀県 | L32: =SUM(M32:S32) -> 346 | M32: 310 | N32: 22 | O32: 4 | P32: 5 | Q32: 4 | R32: 1
A33: 福井県 | B33: =SUM(C33:I33) -> 262 | C33: 248 | D33: 2 | E33: 2 | F33: 5 | G33: 4 | H33: 1 | K33: 長崎県 | L33: =SUM(M33:S33) -> 249 | M33: 233 | N33: 7 | O33: 4 | P33: 2 | Q33: 2 | R33: 1
A34: 山梨県 | B34: =SUM(C34:I34) -> 319 | C34: 291 | D34: 14 | E34: 4 | F34: 6 | G34: 3 | H34: 1 | K34: 熊本県 | L34: =SUM(M34:S34) -> 307 | M34: 280 | N34: 13 | O34: 2 | P34: 2 | Q34: 8 | R34: 2
A35: 長野県 | B35: =SUM(C35:I35) -> 782 | C35: 722 | D35: 28 | E35: 2 | F35: 13 | G35: 14 | H35: 3 | K35: 大分県 | L35: =SUM(M35:S35) -> 291 | M35: 270 | N35: 7 | P35: 7 | Q35: 6 | R35: 1
A36: 岐阜県 | B36: =SUM(C36:I36) -> 794 | C36: 746 | D36: 16 | E36: 1 | F36: 8 | G36: 16 | H36: 7 | K36: 宮崎県 | L36: =SUM(M36:S36) -> 228 | M36: 209 | N36: 5 | O36: 2 | P36: 5 | Q36: 4 | R36: 3
A37: 静岡県 | B37: =SUM(C37:I37) -> 743 | C37: 713 | D37: 14 | E37: 1 | F37: 4 | G37: 4 | H37: 7 | K37: 鹿児島県 | L37: =SUM(M37:S37) -> 471 | M37: 432 | N37: 7 | O37: 3 | P37: 9 | Q37: 12 | R37: 8
A38: 愛知県 | B38: =SUM(C38:I38) -> 1271 | C38: 1207 | D38: 26 | E38: 5 | F38: 6 | G38: 16 | H38: 11 | K38: 沖縄県 | L38: =SUM(M38:S38) -> 176 | M38: 167 | N38: 4 | O38: 1 | P38: 3 | Q38: 1
A39: 三重県 | B39: =SUM(C39:I39) -> 782 | C39: 739 | D39: 14 | E39: 9 | F39: 6 | G39: 6 | H39: 8 | K39: 小計 | L39: =SUM(B16:B39,L16:L38) -> 21145 | M39: =SUM(C16:C39,M16:M38) -> 19642 | N39: =SUM(D16:D39,N16:N38) -> 673 | O39: =SUM(E16:E39,O16:O38) -> 98 | P39: =SUM(F16:F39,P16:P38) -> 261 | Q39: =SUM(G16:G39,Q16:Q38) -> 317 | R39: =SUM(H16:H39,R16:R38) -> 154

Sheet 表3.2.2
A1: 表3.2.2(2) 稼働別工場・事業場数 水質汚濁奉仕法政令市別
A3: 政令市 | B3: 回収数 | C3: 稼働コード | K3: 政令市 | L3: 回収数 | M3: 稼働コード
C4: 1稼働 | D4: 2下水接続 | E4: 3建設中 | F4: 4休止 | G4: 5廃止 | H4: 9その他 | M4: 1稼働 | N4: 2下水接続 | O4: 3建設中 | P4: 4休止 | Q4: 5廃止 | R4: 9その他
A5: 札幌市 | B5: =SUM(C5:I5) -> 32 | C5: 31 | D5: 1 | K5: 岐阜市 | L5: =SUM(M5:S5) -> 64 | M5: 61 | Q5: 1 | R5: 2
A6: 函館市 | B6: =SUM(C6:I6) -> 26 | C6: 24 | D6: 2 | K6: 静岡市 | L6: =SUM(M6:S6) -> 117 | M6: 105 | N6: 5 | P6: 3 | Q6: 4
A7: 旭川市 | B7: =SUM(C7:I7) -> 23 | C7: 22 | D7: 1 | K7: 浜松市 | L7: =SUM(M7:S7) -> 133 | M7: 125 | N7: 2 | P7: 3 | Q7: 2 | R7: 1
A8: 青森市 | B8: =SUM(C8:I8) -> 46 | C8: 44 | D8: 2 | K8: 沼津市 | L8: =SUM(M8:S8) -> 78 | M8: 75 | Q8: 3
A9: 八戸市 | B9: =SUM(C9:I9) -> 60 | C9: 57 | D9: 1 | F9: 1 | H9: 1 | K9: 富士市 | L9: =SUM(M9:S9) -> 123 | M9: 115 | N9: 4 | P9: 2 | Q9: 1 | R9: 1
A10: 盛岡市 | B10: =SUM(C10:I10) -> 39 | C10: 36 | D10: 1 | E10: 2 | K10: 名古屋市 | L10: =SUM(M10:S10) -> 78 | M10: 75 | N10: 2 | O10: 1
A11: 仙台市 | B11: =SUM(C11:I11) -> 57 | C11: 53 | D11: 1 | F11: 1 | G11: 2 | K11: 豊橋市 | L11: =SUM(M11:S11) -> 97 | M11: 96 | N11: 1
A12: 秋田市 | B12: =SUM(C12:I12) -> 74 | C12: 69 | D12: 2 | E12: 1 | F12: 2 | K12: 岡崎市 | L12: =SUM(M12:S12) -> 83 | M12: 80 | N12: 1 | Q12: 1 | R12: 1
A13: 山形市 | B13: =SUM(C13:I13) -> 56 | C13: 48 | D13: 6 | G13: 2 | K13: 一宮市 | L13: =SUM(M13:S13) -> 64 | M13: 63 | N13: 1
A14: 福島市 | B14: =SUM(C14:I14) -> 63 | C14: 57 | D14: 3 | F14: 1 | G14: 1 | H14: 1 | K14: 春日井市 | L14: =SUM(M14:S14) -> 72 | M14: 69 | N14: 1 | R14: 2
A15: 郡山市 | B15: =SUM(C15:I15) -> 85 | C15: 83 | F15: 1 | G15: 1 | K15: 豊田市 | L15: =SUM(M15:S15) -> 147 | M15: 138 | N15: 4 | P15: 2 | Q15: 3
A16: いわき市 | B16: =SUM(C16:I16) -> 98 | C16: 89 | D16: 1 | F16: 4 | G16: 3 | H16: 1 | K16: 四日市市 | L16: =SUM(M16:S16) -> 91 | M16: 87 | P16: 1 | Q16: 1 | R16: 2
A17: 水戸市 | B17: =SUM(C17:I17) -> 46 | C17: 40 | D17: 3 | E17: 2 | F17: 1 | K17: 大津市 | L17: =SUM(M17:S17) -> 41 | M17: 38 | N17: 2 | R17: 1
A18: つくば市 | B18: =SUM(C18:I18) -> 38 | C18: 24 | D18: 14 | K18: 京都市 | L18: =SUM(M18:S18) -> 24 | M18: 20 | N18: 2 | Q18: 2
A19: 宇都宮市 | B19: =SUM(C19:I19) -> 92 | C19: 82 | D19: 4 | E19: 1 | F19: 1 | G19: 3 | H19: 1 | K19: 大阪市 | L19: =SUM(M19:S19) -> 31 | M19: 30 | N19: 1
A20: 前橋市 | B20: =SUM(C20:I20) -> 87 | C20: 82 | D20: 2 | E20: 1 | F20: 1 | G20: 1 | K20: 堺市 | L20: =SUM(M20:S20) -> 93 | M20: 88 | N20: 4 | P20: 1
A21: 高崎市 | B21: =SUM(C21:I21) -> 89 | C21: 85 | D21: 1 | G21: 2 | H21: 1 | K21: 岸和田市 | L21: =SUM(M21:S21) -> 23 | M21: 18 | O21: 2 | P21: 3
A22: 伊勢崎市 | B22: =SUM(C22:I22) -> 102 | C22: 93 | D22: 3 | F22: 1 | G22: 5 | K22: 豊中市 | L22: =SUM(M22:S22) -> 3 | M22: 3
A23: 太田市 | B23: =SUM(C23:I23) -> 103 | C23: 91 | D23: 3 | E23: 1 | F23: 1 | G23: 6 | H23: 1 | K23: 吹田市 | L23: =SUM(M23:S23) -> 13 | M23: 11 | N23: 2
A24: さいたま市 | B24: =SUM(C24:I24) -> 80 | C24: 77 | D24: 2 | G24: 1 | K24: 高槻市 | L24: =SUM(M24:S24) -> 28 | M24: 23 | N24: 5
A25: 川越市 | B25: =SUM(C25:I25) -> 41 | C25: 37 | D25: 2 | F25: 1 | H25: 1 | K25: 枚方市 | L25: =SUM(M25:S25) -> 22 | M25: 16 | N25: 5 | P25: 1
A26: 熊谷市 | B26: =SUM(C26:I26) -> 73 | C26: 73 | K26: 茨木市 | L26: =SUM(M26:S26) -> 7 | M26: 7
A27: 川口市 | B27: =SUM(C27:I27) -> 23 | C27: 22 | F27: 1 | K27: 八尾市 | L27: =SUM(M27:S27) -> 34 | M27: 30 | N27: 3 | Q27: 1
A28: 所沢市 | B28: =SUM(C28:I28) -> 19 | C28: 18 | F28: 1 | K28: 寝屋川市 | L28: =SUM(M28:S28) -> 4 | M28: 4
A29: 春日部市 | B29: =SUM(C29:I29) -> 16 | C29: 16 | K29: 東大阪市 | L29: =SUM(M29:S29) -> 9 | M29: 7 | P29: 1 | Q29: 1
A30: 草加市 | B30: =SUM(C30:I30) -> 10 | C30: 8 | D30: 1 | G30: 1 | K30: 神戸市 | L30: =SUM(M30:S30) -> 86 | M30: 83 | N30: 2 | P30: 1
A31: 越谷市 | B31: =SUM(C31:I31) -> 30 | C31: 29 | F31: 1 | K31: 姫路市 | L31: =SUM(M31:S31) -> 107 | M31: 103 | N31: 3 | Q31: 1
A32: 千葉市 | B32: =SUM(C32:I32) -> 57 | C32: 54 | D32: 2 | F32: 1 | K32: 尼崎市 | L32: =SUM(M32:S32) -> 21 | M32: 21
A33: 市川市 | B33: =SUM(C33:I33) -> 73 | C33: 68 | D33: 3 | G33: 1 | H33: 1 | K33: 明石市 | L33: =SUM(M33:S33) -> 21 | M33: 21
A34: 船橋市 | B34: =SUM(C34:I34) -> 123 | C34: 111 | D34: 6 | G34: 5 | H34: 1 | K34: 西宮市 | L34: =SUM(M34:S34) -> 13 | M34: 13
A35: 松戸市 | B35: =SUM(C35:I35) -> 55 | C35: 48 | D35: 4 | E35: 1 | F35: 2 | K35: 加古川市 | L35: =SUM(M35:S35) -> 29 | M35: 29
A36: 柏市 | B36: =SUM(C36:I36) -> 37 | C36: 34 | D36: 2 | G36: 1 | K36: 宝塚市 | L36: =SUM(M36:S36) -> 4 | M36: 4
A37: 市原市 | B37: =SUM(C37:I37) -> 85 | C37: 83 | F37: 1 | G37: 1 | K37: 奈良市 | L37: =SUM(M37:S37) -> 33 | M37: 32 | P37: 1
A38: 八王子市 | B38: =SUM(C38:I38) -> 46 | C38: 35 | D38: 8 | G38: 2 | H38: 1 | K38: 和歌山市 | L38: =SUM(M38:S38) -> 117 | M38: 110 | N38: 4 | P38: 3
A39: 町田市 | B39: =SUM(C39:I39) -> 17 | C39: 17 | K39: 鳥取市 | L39: =SUM(M39:S39) -> 78 | M39: 73 | N39: 2 | P39: 1 | Q39: 2
A40: 横浜市 | B40: =SUM(C40:I40) -> 110 | C40: 101 | D40: 5 | F40: 1 | G40: 3 | K40: 岡山市 | L40: =SUM(M40:S40) -> 173 | M40: 164 | N40: 5 | O40: 1 | Q40: 2 | R40: 1
A41: 川崎市 | B41: =SUM(C41:I41) -> 113 | C41: 91 | D41: 18 | E41: 1 | G41: 1 | H41: 2 | K41: 倉敷市 | L41: =SUM(M41:S41) -> 120 | M41: 113 | N41: 2 | O41: 1 | P41: 2 | Q41: 1 | R41: 1
...

Sheet 表3.2.5(データ集計用)
I2: 30 | J2: 60 | K2: 60 | L2: 60 | M2: 60 | N2: 60 | O2: 60 | P2: 60 | Q2: 60 | R2: 30
I3: 30 | J3: 60 | K3: 60 | L3: 60 | M3: 60 | N3: 60 | O3: 60 | P3: 60 | Q3: 60 | R3: 0 | Y3: 0
J4: 60 | K4: 60 | L4: 60 | M4: 60 | N4: 60 | O4: 60 | P4: 60 | Q4: 60 | R4: 60
I5: 45 | J5: 60 | K5: 60 | L5: 60 | M5: 60 | N5: 60 | O5: 60 | P5: 60 | Q5: 60 | R5: 10 | Y5: 0
A6: 60 | B6: 60 | C6: 60 | D6: 60 | E6: 60 | F6: 60 | G6: 60 | H6: 60 | I6: 60 | J6: 60 | K6: 60 | L6: 60 | M6: 60 | N6: 60 | O6: 60 | P6: 60 | Q6: 60 | R6: 60 | S6: 60 | T6: 60 | U6: 60 | V6: 60 | W6: 60 | X6: 60
I7: 50 | J7: 60 | K7: 60 | L7: 60 | M7: 60 | N7: 60 | O7: 60 | P7: 60 | Q7: 60 | R7: 20
A8: 60 | B8: 60 | C8: 60 | D8: 60 | E8: 60 | F8: 20 | I8: 30 | J8: 60 | K8: 60 | L8: 60 | M8: 60 | N8: 60 | O8: 60 | P8: 60 | Q8: 60 | R8: 60 | S8: 60 | T8: 60 | U8: 60 | V8: 60 | W8: 60 | X8: 60 | Y8: 0
I9: 30 | J9: 60 | K9: 60 | L9: 60 | M9: 60 | N9: 60 | O9: 60 | P9: 60 | Q9: 60 | R9: 0 | Y9: 0
H10: 60 | I10: 60 | J10: 60 | K10: 60 | L10: 60 | M10: 60 | N10: 60 | O10: 60 | P10: 60 | Q10: 60 | R10: 60 | S10: 60 | T10: 60 | U10: 60 | V10: 60 | W10: 60 | X10: 60 | Y10: 0
I11: 30 | J11: 60 | K11: 60 | L11: 60 | M11: 60 | N11: 60 | O11: 60 | P11: 60 | Q11: 60 | R11: 30
I12: 60 | J12: 60 | K12: 60 | L12: 60 | M12: 60 | N12: 60 | O12: 60 | P12: 60 | Q12: 60 | Y12: 0
I13: 45 | J13: 60 | K13: 60 | L13: 60 | M13: 60 | N13: 60 | O13: 60 | P13: 60 | Q13: 60 | R13: 0
J14: 60 | K14: 60 | L14: 60 | M14: 60 | N14: 60 | O14: 60 | P14: 60 | Q14: 60 | R14: 60
A15: 60 | B15: 60 | C15: 60 | D15: 60 | E15: 60 | F15: 60 | G15: 60 | H15: 60 | I15: 60 | J15: 60 | K15: 60 | L15: 60 | M15: 60 | N15: 60 | O15: 60 | P15: 60 | Q15: 60 | R15: 60 | S15: 60 | T15: 60 | U15: 60 | V15: 60 | W15: 60 | X15: 60
J16: 60 | K16: 60 | L16: 60 | M16: 60 | N16: 60 | O16: 60 | P16: 60 | Q16: 60
I17: 30 | J17: 60 | K17: 60 | L17: 60 | M17: 60 | N17: 60 | O17: 60 | P17: 60 | Q17: 60 | R17: 60 | S17: 60 | T17: 10
H18: 60 | I18: 60 | J18: 60 | K18: 60 | L18: 60 | M18: 60 | N18: 60 | O18: 60 | P18: 60 | Q18: 60 | R18: 60 | S18: 60 | T18: 60 | U18: 60
A19: 60 | B19: 60 | C19: 60 | D19: 60 | E19: 60 | F19: 60 | G19: 60 | H19: 60 | I19: 60 | J19: 60 | K19: 60 | L19: 60 | M19: 60 | N19: 60 | O19: 60 | P19: 60 | Q19: 60 | R19: 60 | S19: 60 | T19: 60 | U19: 60 | V19: 60 | W19: 60 | X19: 60
A20: 60 | B20: 60 | C20: 60 | D20: 60 | E20: 60 | F20: 60 | G20: 60 | H20: 60 | I20: 60 | J20: 60 | K20: 60 | L20: 60 | M20: 60 | N20: 60 | O20: 60 | P20: 60 | Q20: 60 | R20: 60 | S20: 60 | T20: 60 | U20: 60 | V20: 60 | W20: 60 | X20: 60
I21: 30 | J21: 60 | K21: 60 | L21: 60 | M21: 60 | N21: 60 | O21: 60 | P21: 60 | Q21: 60 | R21: 20
I22: 60 | J22: 60 | K22: 60 | L22: 60 | M22: 60 | N22: 60 | O22: 60 | P22: 60 | Q22: 60
J23: 55 | K23: 60 | L23: 60 | M23: 60 | N23: 60 | O23: 60 | P23: 60 | Q23: 60 | R23: 20
I24: 30 | J24: 60 | K24: 60 | L24: 60 | M24: 60 | N24: 60 | O24: 60 | P24: 60 | Q24: 60 | R24: 30
A25: 60 | B25: 60 | C25: 60 | D25: 60 | E25: 60 | F25: 60 | G25: 60 | H25: 60 | I25: 60 | J25: 60 | K25: 60 | L25: 60 | M25: 60 | N25: 60 | O25: 60 | P25: 60 | Q25: 60 | R25: 60 | S25: 60 | T25: 60 | U25: 60 | V25: 60 | W25: 60 | X25: 60
A26: 60 | B26: 60 | C26: 60 | D26: 60 | E26: 60 | F26: 60 | G26: 60 | H26: 60 | I26: 60 | J26: 60 | K26: 60 | L26: 60 | M26: 60 | N26: 60 | O26: 60 | P26: 60 | Q26: 60 | R26: 60 | S26: 60 | T26: 60 | U26: 60 | V26: 60 | W26: 60 | X26: 60
A27: 60 | B27: 60 | C27: 60 | D27: 60 | E27: 60 | F27: 60 | G27: 60 | H27: 60 | I27: 60 | J27: 60 | K27: 60 | L27: 60 | M27: 60 | N27: 60 | O27: 60 | P27: 60 | Q27: 60 | R27: 60 | S27: 60 | T27: 60 | U27: 60 | V27: 60 | W27: 60 | X27: 60
I28: 60 | J28: 60 | K28: 60 | L28: 60 | M28: 60 | N28: 60 | O28: 60 | P28: 60 | Q28: 60 | R28: 30 | Y28: 0
I29: 60 | J29: 60 | K29: 60 | L29: 60 | M29: 60 | N29: 60 | O29: 60 | P29: 60 | Q29: 60
I30: 45 | J30: 60 | K30: 60 | L30: 60 | M30: 60 | N30: 60 | O30: 60 | P30: 60 | Q30: 60 | R30: 60 | S30: 60 | T30: 15
I31: 40 | J31: 60 | K31: 60 | L31: 60 | M31: 60 | N31: 60 | O31: 60 | P31: 60 | Q31: 60 | R31: 30
I32: 40 | J32: 60 | K32: 60 | L32: 60 | M32: 60 | N32: 60 | O32: 60 | P32: 60 | Q32: 60 | R32: 10
J33: 60 | K33: 60 | L33: 60 | M33: 60 | N33: 60 | O33: 60 | P33: 60 | Q33: 60 | R33: 60
J34: 60 | K34: 60 | L34: 60 | M34: 60 | N34: 60 | O34: 60 | P34: 60 | Q34: 60 | R34: 60
I35: 30 | J35: 60 | K35: 60 | L35: 60 | M35: 60 | N35: 60 | O35: 60 | P35: 60 | Q35: 60 | R35: 50
I36: 45 | J36: 60 | K36: 60 | L36: 60 | M36: 60 | N36: 60 | O36: 60 | P36: 60 | Q36: 60 | R36: 15 | Y36: 0
I37: 60 | J37: 60 | K37: 60 | L37: 60 | M37: 60 | N37: 60 | O37: 60 | P37: 60 | Q37: 60 | R37: 30
I38: 30 | J38: 60 | K38: 60 | L38: 60 | M38: 60 | N38: 60 | O38: 60 | P38: 60 | Q38: 60 | R38: 30
J39: 60 | K39: 60 | L39: 60 | M39: 60 | N39: 60 | O39: 60 | P39: 60 | Q39: 60 | R39: 60
A40: 60 | B40: 60 | C40: 60 | D40: 60 | E40: 60 | F40: 60 | G40: 60 | H40: 60 | I40: 60 | J40: 60 | K40: 60 | L40: 60 | M40: 60 | N40: 60 | O40: 60 | P40: 60 | Q40: 60 | R40: 60 | S40: 60 | T40: 60 | U40: 60 | V40: 60 | W40: 60 | X40: 60
I41: 60 | J41: 60 | K41: 60 | L41: 60 | M41: 60 | N41: 60 | O41: 60 | P41: 60 | Q41: 60
...

Sheet 表3.3.1(1)
A1: 表3.3.1(1) 用水量の分布（用水量階級別工場・事業場数）
A3: 用水量階級 | C3: 総数 | D3: 排水量・有害物質区分
D4: ① | E4: ② | F4: ③
A5: 10 | B5: ㎥/日未満 | C5: =SUM(D5:F5) -> 4397 | D5: 3142 | E5: 196 | F5: 1059 | G5: ※排水量・有害物質区分
A6: 10～ 30 | B6: 〃 | C6: =SUM(D6:F6) -> 1848 | D6: 1063 | E6: 108 | F6: 677 | G6: ①：排水量50㎥/日以上、有害物質使用特定事業場でない
A7: 30～ 50 | B7: 〃 | C7: =SUM(D7:F7) -> 1672 | D7: 1186 | E7: 118 | F7: 368 | G7: ②：排水量50㎥/日以上、有害物質使用特定事業場である
A8: 50～ 100 | B8: 〃 | C8: =SUM(D8:F8) -> 3185 | D8: 2676 | E8: 323 | F8: 186 | G8: ③：排水量50㎥/日未満、有害物質使用特定事業場である
A9: 100～ 200 | B9: 〃 | C9: =SUM(D9:F9) -> 3056 | D9: 2506 | E9: 455 | F9: 95
A10: 200～ 500 | B10: 〃 | C10: =SUM(D10:F10) -> 2909 | D10: 2229 | E10: 621 | F10: 59
A11: 500～ 1,000 | B11: 〃 | C11: =SUM(D11:F11) -> 1468 | D11: 1042 | E11: 405 | F11: 21
A12: 1,000～ 2,000 | B12: 〃 | C12: =SUM(D12:F12) -> 862 | D12: 567 | E12: 278 | F12: 17
A13: 2,000～ 5,000 | B13: 〃 | C13: =SUM(D13:F13) -> 785 | D13: 477 | E13: 296 | F13: 12
A14: 5,000㎥/日以上 | C14: =SUM(D14:F14) -> 1206 | D14: 691 | E14: 493 | F14: 22
A15: 未回答 | C15: =SUM(D15:F15) -> 4368 | D15: 3891 | E15: 174 | F15: 303
A16: 合計 | C16: =SUM(C5:C15) -> 25756 | D16: =SUM(D5:D15) -> 19470 | E16: =SUM(E5:E15) -> 3467 | F16: =SUM(F5:F15) -> 2819
C19: ①：排水量50㎥/日以上、有害物質使用特定事業場でない
C20: ②：排水量50㎥/日以上、有害物質使用特定事業場である
C21: ③：排水量50㎥/日未満、有害物質使用特定事業場である
B29: ～10
B30: 10～
B31: 30～
B32: 50～
B33: 100～
B34: 200～
B35: 500～
B36: 1000～
B37: 2000～
B38: 5000～
A45: 図3.3.1 用水量の分布（用水量階級別工場・事業場数）

Sheet 表3.3.1(2)
A1: 表3.3.1(2) 総排水量の分布（総排水量階級別工場・事業場数）
A3: 総排水量階級 | C3: 総数 | D3: 排水量・有害物質区分
D4: ① | E4: ② | F4: ③
A5: 10 | B5: ㎥/日未満 | C5: =SUM(D5:F5) -> 1389 | D5: 255 | E5: 19 | F5: 1115 | G5: ※排水量・有害物質区分
A6: 10～ 30 | B6: 〃 | C6: =SUM(D6:F6) -> 1652 | D6: 925 | E6: 85 | F6: 642 | G6: ①：排水量50㎥/日以上、有害物質使用特定事業場でない
A7: 30～ 50 | B7: 〃 | C7: =SUM(D7:F7) -> 1839 | D7: 1392 | E7: 104 | F7: 343 | G7: ②：排水量50㎥/日以上、有害物質使用特定事業場である
A8: 50～ 100 | B8: 〃 | C8: =SUM(D8:F8) -> 3980 | D8: 3471 | E8: 373 | F8: 136 | G8: ③：排水量50㎥/日未満、有害物質使用特定事業場である
A9: 100～ 200 | B9: 〃 | C9: =SUM(D9:F9) -> 4556 | D9: 3991 | E9: 501 | F9: 64
A10: 200～ 500 | B10: 〃 | C10: =SUM(D10:F10) -> 4437 | D10: 3770 | E10: 629 | F10: 38
A11: 500～ 1,000 | B11: 〃 | C11: =SUM(D11:F11) -> 1911 | D11: 1485 | E11: 412 | F11: 14
A12: 1,000～ 2,000 | B12: 〃 | C12: =SUM(D12:F12) -> 1065 | D12: 736 | E12: 318 | F12: 11
A13: 2,000～ 5,000 | B13: 〃 | C13: =SUM(D13:F13) -> 927 | D13: 593 | E13: 321 | F13: 13
A14: 5,000㎥/日以上 | C14: =SUM(D14:F14) -> 1586 | D14: 1002 | E14: 572 | F14: 12
A15: 未回答 | C15: =SUM(D15:F15) -> 2414 | D15: 1850 | E15: 133 | F15: 431
A16: 合計 | C16: =SUM(C5:C15) -> 25756 | D16: =SUM(D5:D15) -> 19470 | E16: =SUM(E5:E15) -> 3467 | F16: =SUM(F5:F15) -> 2819
C19: ①：排水量50㎥/日以上、有害物質使用特定事業場でない
C20: ②：排水量50㎥/日以上、有害物質使用特定事業場である
C21: ③：排水量50㎥/日未満、有害物質使用特定事業場である
B26: ～10
B27: 10～
B28: 30～
B29: 50～
B30: 100～
B31: 200～
B32: 500～
B33: 1000～
B34: 2000～
B35: 5000～
A37: 1,000～5,000
A45: 図3.3.2 総排水量の分布（総排水量階級別工場・事業場数）

Sheet 表3.3.1(3)
A1: 表3.3.1(3) 処理水量の分布（処理水量階級別工場・事業場数）
A3: 総排水量階級 | C3: 総数 | D3: 排水量・有害物質区分
D4: ① | E4: ② | F4: ③
A5: 10 | B5: ㎥/日未満 | C5: =SUM(D5:F5) -> 2442 | D5: 780 | E5: 255 | F5: 1407 | G5: ※排水量・有害物質区分
A6: 10～ 30 | B6: 〃 | C6: =SUM(D6:F6) -> 1876 | D6: 1194 | E6: 159 | F6: 523 | G6: ①：排水量50㎥/日以上、有害物質使用特定事業場でない
A7: 30～ 50 | B7: 〃 | C7: =SUM(D7:F7) -> 2073 | D7: 1611 | E7: 191 | F7: 271 | G7: ②：排水量50㎥/日以上、有害物質使用特定事業場である
A8: 50～ 100 | B8: 〃 | C8: =SUM(D8:F8) -> 4315 | D8: 3791 | E8: 448 | F8: 76 | G8: ③：排水量50㎥/日未満、有害物質使用特定事業場である
A9: 100～ 200 | B9: 〃 | C9: =SUM(D9:F9) -> 4604 | D9: 4083 | E9: 494 | F9: 27
A10: 200～ 500 | B10: 〃 | C10: =SUM(D10:F10) -> 4162 | D10: 3584 | E10: 568 | F10: 10
A11: 500～ 1,000 | B11: 〃 | C11: =SUM(D11:F11) -> 1611 | D11: 1271 | E11: 330 | F11: 10
A12: 1,000～ 2,000 | B12: 〃 | C12: =SUM(D12:F12) -> 877 | D12: 602 | E12: 270 | F12: 5
A13: 2,000～ 5,000 | B13: 〃 | C13: =SUM(D13:F13) -> 735 | D13: 466 | E13: 261 | F13: 8
A14: 5,000㎥/日以上 | C14: =SUM(D14:F14) -> 1205 | D14: 822 | E14: 374 | F14: 9
A15: 未回答 | C15: =SUM(D15:F15) -> 1856 | D15: 1266 | E15: 117 | F15: 473
A16: 合計 | C16: =SUM(C5:C15) -> 25756 | D16: =SUM(D5:D15) -> 19470 | E16: =SUM(E5:E15) -> 3467 | F16: =SUM(F5:F15) -> 2819
C19: ①：排水量50㎥/日以上、有害物質使用特定事業場でない
C20: ②：排水量50㎥/日以上、有害物質使用特定事業場である
C21: ③：排水量50㎥/日未満、有害物質使用特定事業場である
B26: ～10
B27: 10～
B28: 30～
B29: 50～
B30: 100～
B31: 200～
B32: 500～
B33: 1000～
B34: 2000～
B35: 5000～
A37: 1,000～5,000
A45: 図3.3.3 処理水量の分布（処理水量階級別工場・事業場数）

Sheet 表3.3.1(4)
A1: 表3.3.1(4) 未処理水量の分布（未処理水量階級別工場・事業場数）
A3: 総排水量階級 | C3: 総数 | D3: 排水量・有害物質区分
D4: ① | E4: ② | F4: ③
A5: 10 | B5: ㎥/日未満 | C5: =SUM(D5:F5) -> 15477 | D5: 12052 | E5: 1513 | F5: 1912 | G5: ※排水量・有害物質区分
A6: 10～ 30 | B6: 〃 | C6: =SUM(D6:F6) -> 1007 | D6: 669 | E6: 166 | F6: 172 | G6: ①：排水量50㎥/日以上、有害物質使用特定事業場でない
A7: 30～ 50 | B7: 〃 | C7: =SUM(D7:F7) -> 452 | D7: 305 | E7: 108 | F7: 39 | G7: ②：排水量50㎥/日以上、有害物質使用特定事業場である
A8: 50～ 100 | B8: 〃 | C8: =SUM(D8:F8) -> 619 | D8: 447 | E8: 153 | F8: 19 | G8: ③：排水量50㎥/日未満、有害物質使用特定事業場である
A9: 100～ 200 | B9: 〃 | C9: =SUM(D9:F9) -> 637 | D9: 424 | E9: 202 | F9: 11
A10: 200～ 500 | B10: 〃 | C10: =SUM(D10:F10) -> 761 | D10: 502 | E10: 246 | F10: 13
A11: 500～ 1,000 | B11: 〃 | C11: =SUM(D11:F11) -> 460 | D11: 275 | E11: 182 | F11: 3
A12: 1,000～ 2,000 | B12: 〃 | C12: =SUM(D12:F12) -> 280 | D12: 157 | E12: 121 | F12: 2
A13: 2,000～ 5,000 | B13: 〃 | C13: =SUM(D13:F13) -> 278 | D13: 146 | E13: 128 | F13: 4
A14: 5,000㎥/日以上 | C14: =SUM(D14:F14) -> 461 | D14: 203 | E14: 257 | F14: 1
A15: 未回答 | C15: =SUM(D15:F15) -> 5324 | D15: 4290 | E15: 391 | F15: 643
A16: 合計 | C16: =SUM(C5:C15) -> 25756 | D16: =SUM(D5:D15) -> 19470 | E16: =SUM(E5:E15) -> 3467 | F16: =SUM(F5:F15) -> 2819
C19: ①：排水量50㎥/日以上、有害物質使用特定事業場でない
C20: ②：排水量50㎥/日以上、有害物質使用特定事業場である
C21: ③：排水量50㎥/日未満、有害物質使用特定事業場である
B26: ～10
B27: 10～
B28: 30～
B29: 50～
B30: 100～
B31: 200～
B32: 500～
B33: 1000～
B34: 2000～
B35: 5000～
A37: 1,000～5,000
A45: 図3.3.4 未処理水量の分布（未処理水量階級別工場・事業場数）

Sheet 表3.3.2(1)
A1: 表3.3.2(1) 産業分類別用水量の平均値、標準偏差、最大値、最小値
G2: 単位：ｍ3/日
B3: 産業中分類 | C3: 事業場数 | D3: 平均値 | E3: 標準偏差 | F3: 最大値 | G3: 最小値
A4: 01 | B4: 農業 | C4: 134 | D4: 210.39229 | E4: 488.43153 | F4: 4049 | G4: 5
A5: 02 | B5: 林業 | C5: 1 | D5: 383 | E5: － | F5: 383 | G5: 383
A6: 03 | B6: 漁業（水産養殖業を除く） | C6: 2 | D6: 400 | E6: 452.54834 | F6: 720 | G6: 80
A7: 04 | B7: 水産養殖業 | C7: 5 | D7: 9420.2 | E7: 9550.6655 | F7: 21565 | G7: 504
A8: 05 | B8: 鉱業，採石業，砂利採取業 | C8: 113 | D8: 2789.3717 | E8: 12852.007 | F8: 101669 | G8: 0
A9: 06 | B9: 総合工事業 | C9: 69 | D9: 424.94928 | E9: 1179.8421 | F9: 7100 | G9: 0
A10: 07 | B10: 職別工事業(設備工事業を除く) | C10: 6 | D10: 23 | E10: 33.609522 | F10: 90 | G10: 0
A11: 08 | B11: 設備工事業 | C11: 2 | D11: 1.08 | E11: 0.80610173 | F11: 1.65 | G11: 0.51
A12: 09 | B12: 食料品製造業 | C12: 1959 | D12: 2158.0372 | E12: 18931.41 | F12: 673861 | G12: 0
A13: 10 | B13: 飲料・たばこ・飼料製造業 | C13: 393 | D13: 1391.2114 | E13: 2163.407 | F13: 16423 | G13: 0
A14: 11 | B14: 繊維工業 | C14: 351 | D14: 6057.554 | E14: 22566.995 | F14: 234496 | G14: 0
A15: 12 | B15: 木材・木製品製造業（家具を除く） | C15: 37 | D15: 734.89108 | E15: 1234.4505 | F15: 4766 | G15: 1
A16: 13 | B16: 家具・装備品製造業 | C16: 22 | D16: 174.06818 | E16: 208.56039 | F16: 1004 | G16: 5
A17: 14 | B17: パルプ・紙・紙加工品製造業 | C17: 292 | D17: 21850.23 | E17: 49798.852 | F17: 389500 | G17: 8.34
... A39: 36 | B39: 水道業 | C39: 1928 | D39: 7616.5089 | E39: 41149.024 | F39: 1205706 | G39: 0
A40: 37 | B40: 通信業 | C40: 1 | D40: 57276 | E40: － | F40: 57276 | G40: 57276
A41: 38 | B41: 放送業 | C41: 0 | D41: － | E41: － | F41: － | G41: －
A42: 39 | B42: 情報サービス業 | C42: 5 | D42: 179.2 | E42: 255.32861 | F42: 623 | G42: 7
A43: 40 | B43: インターネット附随サービス業 | C43: 0 | D43: － | E43: － | F43: － | G43: －
A44: 41 | B44: 映像・音声・文字情報制作業 | C44: 4 | D44: 201.75 | E44: 319.08136 | F44: 677 | G44: 9
A45: 42 | B45: 鉄道業 | C45: 38 | D45: 140.18605 | E45: 125.75506 | F45: 648 | G45: 15
A46: 43 | B46: 道路旅客運送業 | C46: 3 | D46: 299.66667 | E46: 355.93867 | F46: 708 | G46: 55
A47: 44 | B47: 道路貨物運送業 | C47: 10 | D47: 51.063 | E47: 41.852016 | F47: 149 | G47: 8.4
A48: 45 | B48: 水運業 | C48: 1 | D48: 100 | E48: － | F48: 100 | G48: 100
A49: 46 | B49: 航空運輸業 | C49: 2 | D49: 558 | E49: 782.0601 | F49: 1111 | G49: 5
A50: 47 | B50: 倉庫業 | C50: 12 | D50: 326.29167 | E50: 644.00213 | F50: 2292 | G50: 6.5
A51: 48 | B51: 運輸に附帯するサービス業 | C51: 109 | D51: 91.549725 | E51: 223.11244 | F51: 2327 | G51: 0
A52: 49 | B52: 郵便業（信書便事業を含む） | C52: 1 | D52: 173 | E52: － | F52: 173 | G52: 173
A53: 50 | B53: 各種商品卸売業 | C53: 15 | D53: 231.062 | E53: 350.77568 | F53: 1415 | G53: 34
A54: 51 | B54: 繊維・衣服等卸売業 | C54: 1 | D54: 52 | E54: － | F54: 52 | G54: 52
A55: 52 | B55: 飲食料品卸売業 | C55: 31 | D55: 464.60323 | E55: 673.53415 | F55: 3286 | G55: 4
A56: 53 | B56: 建築材料，鉱物・金属材料等卸売業 | C56: 6 | D56: 187.66667 | E56: 171.71216 | F56: 509 | G56: 36
A57: 54 | B57: 機械器具卸売業 | C57: 9 | D57: 46.411111 | E57: 39.344391 | F57: 132 | G57: 2
A58: 55 | B58: その他の卸売業 | C58: 14 | D58: 46.614286 | E58: 41.46572 | F58: 142 | G58: 0
A59: 56 | B59: 各種商品小売業 | C59: 334 | D59: 121.72787 | E59: 701.22228 | F59: 12805 | G59: 0
A60: 57 | B60: 織物・衣服・身の回り品小売業 | C60: 4 | D60: 57.5 | E60: 27.790886 | F60: 96 | G60: 31
A61: 58 | B61: 飲食料品小売業 | C61: 32 | D61: 106.23125 | E61: 203.87737 | F61: 1200 | G61: 0
...

Sheet 表3.3.2(2)
A1: 表3.3.2(2) 産業分類別総排水量の平均値、標準偏差、最大値、最小値
G2: 単位：ｍ3/日
B3: 産業中分類 | C3: 事業場数 | D3: 平均値 | E3: 標準偏差 | F3: 最大値 | G3: 最小値
A4: 01 | B4: 農業 | C4: 129 | D4: 207.81401 | E4: 496.85704 | F4: 4049 | G4: 0
A5: 02 | B5: 林業 | C5: 2 | D5: 1 | E5: 1.4142136 | F5: 2 | G5: 0
A6: 03 | B6: 漁業（水産養殖業を除く） | C6: 2 | D6: 402.5 | E6: 456.08387 | F6: 725 | G6: 80
A7: 04 | B7: 水産養殖業 | C7: 5 | D7: 9420.2 | E7: 9550.6655 | F7: 21565 | G7: 504
A8: 05 | B8: 鉱業，採石業，砂利採取業 | C8: 120 | D8: 2336.3558 | E8: 9637.9062 | F8: 101669 | G8: 0
A9: 06 | B9: 総合工事業 | C9: 74 | D9: 1604.627 | E9: 4168.971 | F9: 28153 | G9: 0
A10: 07 | B10: 職別工事業(設備工事業を除く) | C10: 6 | D10: 69.333333 | E10: 108.56457 | F10: 281 | G10: 0
A11: 08 | B11: 設備工事業 | C11: 2 | D11: 1.08 | E11: 0.80610173 | F11: 1.65 | G11: 0.51
A12: 09 | B12: 食料品製造業 | C12: 1929 | D12: 1925.3675 | E12: 17346.879 | F12: 644573 | G12: 0.78
A13: 10 | B13: 飲料・たばこ・飼料製造業 | C13: 390 | D13: 1180.3852 | E13: 1900.1361 | F13: 14564.5 | G13: 1
A14: 11 | B14: 繊維工業 | C14: 353 | D14: 6077.8288 | E14: 22807.779 | F14: 230485 | G14: 0
A15: 12 | B15: 木材・木製品製造業（家具を除く） | C15: 37 | D15: 603.47568 | E15: 1073.2316 | F15: 4368 | G15: 0
... A39: 36 | B39: 水道業 | C39: 2431 | D39: 21107.855 | E39: 161300.11 | F39: 7216680 | G39: 0
A40: 37 | B40: 通信業 | C40: 1 | D40: 57276 | E40: － | F40: 57276 | G40: 57276
A41: 38 | B41: 放送業 | C41: 0 | D41: － | E41: － | F41: － | G41: －
A42: 39 | B42: 情報サービス業 | C42: 5 | D42: 118.2 | E42: 141.82983 | F42: 359 | G42: 7
A43: 40 | B43: インターネット附随サービス業 | C43: 0 | D43: － | E43: － | F43: － | G43: －
A44: 41 | B44: 映像・音声・文字情報制作業 | C44: 3 | D44: 255.33333 | E44: 366.89553 | F44: 677 | G44: 9
A45: 42 | B45: 鉄道業 | C45: 39 | D45: 139.20667 | E45: 141.56441 | F45: 648 | G45: 15
A46: 43 | B46: 道路旅客運送業 | C46: 3 | D46: 276.83333 | E46: 373.45359 | F46: 708 | G46: 55
A47: 44 | B47: 道路貨物運送業 | C47: 11 | D47: 50.602727 | E47: 38.984131 | F47: 149 | G47: 8.4
A48: 45 | B48: 水運業 | C48: 1 | D48: 100 | E48: － | F48: 100 | G48: 100
A49: 46 | B49: 航空運輸業 | C49: 2 | D49: 558 | E49: 782.0601 | F49: 1111 | G49: 5
A50: 47 | B50: 倉庫業 | C50: 12 | D50: 126.29167 | E50: 178.27411 | F50: 515 | G50: 6.5
A51: 48 | B51: 運輸に附帯するサービス業 | C51: 116 | D51: 78.939224 | E51: 91.191128 | F51: 863 | G51: 5.6
A52: 49 | B52: 郵便業（信書便事業を含む） | C52: 1 | D52: 173 | E52: － | F52: 173 | G52: 173
A53: 50 | B53: 各種商品卸売業 | C53: 14 | D53: 234.56643 | E53: 349.46762 | F53: 1361 | G53: 34
A54: 51 | B54: 繊維・衣服等卸売業 | C54: 2 | D54: 126 | E54: 104.6518 | F54: 200 | G54: 52
A55: 52 | B55: 飲食料品卸売業 | C55: 31 | D55: 453.11935 | E55: 668.4742 | F55: 3286 | G55: 4
A56: 53 | B56: 建築材料，鉱物・金属材料等卸売業 | C56: 5 | D56: 129.6 | E56: 80.428851 | F56: 240 | G56: 36
A57: 54 | B57: 機械器具卸売業 | C57: 9 | D57: 43.355556 | E57: 39.510572 | F57: 132 | G57: 2
A58: 55 | B58: その他の卸売業 | C58: 14 | D58: 46.614286 | E58: 41.46572 | F58: 142 | G58: 0
A59: 56 | B59: 各種商品小売業 | C59: 334 | D59: 121.46231 | E59: 701.74234 | F59: 12805 | G59: 4
A60: 57 | B60: 織物・衣服・身の回り品小売業 | C60: 4 | D60: 41.5 | E60: 12.396236 | F60: 57 | G60: 31
A61: 58 | B61: 飲食料品小売業 | C61: 32 | D61: 104.70625 | E61: 203.3292 | F61: 1200 | G61: 20
A62: 59 | B62: 機械器具小売業 | C62: 3 | D62: 35.246667 | E62: 16.780811 | F62: 45 | G62: 15.87
A63: 60 | B63: その他の小売業 | C63: 25 | D63: 80.04 | E63: 98.410484 | F63: 473 | G63: 6
...

Sheet 表3.3.2(3)
A1: 表3.3.2(3) 産業分類別処理水量の平均値、標準偏差、最大値、最小値
G2: 単位：ｍ3/日
B3: 産業中分類 | C3: 事業場数 | D3: 平均値 | E3: 標準偏差 | F3: 最大値 | G3: 最小値
A4: 01 | B4: 農業 | C4: 137 | D4: 169.41574 | E4: 461.11804 | F4: 4049 | G4: 0
A5: 02 | B5: 林業 | C5: 2 | D5: 1 | E5: 1.4142136 | F5: 2 | G5: 0
A6: 03 | B6: 漁業（水産養殖業を除く） | C6: 3 | D6: 84.666667 | E6: 82.099533 | F6: 169 | G6: 5
A7: 04 | B7: 水産養殖業 | C7: 5 | D7: 2588.24 | E7: 5786.2508 | F7: 12939 | G7: 0
A8: 05 | B8: 鉱業，採石業，砂利採取業 | C8: 117 | D8: 1981.906 | E8: 8010.1259 | F8: 82978 | G8: 0
A9: 06 | B9: 総合工事業 | C9: 76 | D9: 1478.5974 | E9: 4046.068 | F9: 28153 | G9: 0
A10: 07 | B10: 職別工事業(設備工事業を除く) | C10: 5 | D10: 79.8 | E10: 117.94575 | F10: 281 | G10: 0
A11: 08 | B11: 設備工事業 | C11: 3 | D11: 43.612 | E11: 74.814259 | F11: 130 | G11: 0.326
A12: 09 | B12: 食料品製造業 | C12: 1972 | D12: 1317.1447 | E12: 17522.681 | F12: 644573 | G12: 0
A13: 10 | B13: 飲料・たばこ・飼料製造業 | C13: 395 | D13: 688.7143 | E13: 1458.1582 | F13: 14283 | G13: 0
A14: 11 | B14: 繊維工業 | C14: 348 | D14: 2210.4224 | E14: 8485.7597 | F14: 118035 | G14: 0
A15: 12 | B15: 木材・木製品製造業（家具を除く） | C15: 40 | D15: 268.685 | E15: 561.3859 | F15: 2877 | G15: 0
... A39: 36 | B39: 水道業 | C39: 2451 | D39: 20356.338 | E39: 157096.08 | F39: 7216680 | G39: 0
A40: 37 | B40: 通信業 | C40: 1 | D40: 628 | E40: － | F40: 628 | G40: 628
A41: 38 | B41: 放送業 | C41: 0 | D41: － | E41: － | F41: － | G41: －
A42: 39 | B42: 情報サービス業 | C42: 5 | D42: 53.2 | E42: 45.334314 | F42: 123 | G42: 7
A43: 40 | B43: インターネット附随サービス業 | C43: 0 | D43: － | E43: － | F43: － | G43: －
A44: 41 | B44: 映像・音声・文字情報制作業 | C44: 4 | D44: 28.25 | E44: 35.8922 | F44: 80 | G44: 0
A45: 42 | B45: 鉄道業 | C45: 38 | D45: 120.90421 | E45: 132.17019 | F45: 648 | G45: 15
A46: 43 | B46: 道路旅客運送業 | C46: 3 | D46: 276.83333 | E46: 373.45359 | F46: 708 | G46: 55
A47: 44 | B47: 道路貨物運送業 | C47: 10 | D47: 46.463 | E47: 40.632386 | F47: 149 | G47: 8.4
A48: 45 | B48: 水運業 | C48: 1 | D48: 67 | E48: － | F48: 67 | G48: 67
A49: 46 | B49: 航空運輸業 | C49: 2 | D49: 336.5 | E49: 468.8118 | F49: 668 | G49: 5
A50: 47 | B50: 倉庫業 | C50: 13 | D50: 132.19231 | E50: 172.52627 | F50: 515 | G50: 6.5
A51: 48 | B51: 運輸に附帯するサービス業 | C51: 116 | D51: 77.584914 | E51: 91.129574 | F51: 863 | G51: 5.6
A52: 49 | B52: 郵便業（信書便事業を含む） | C52: 1 | D52: 173 | E52: － | F52: 173 | G52: 173
A53: 50 | B53: 各種商品卸売業 | C53: 14 | D53: 136.63786 | E53: 144.41903 | F53: 563 | G53: 34
A54: 51 | B54: 繊維・衣服等卸売業 | C54: 2 | D54: 48.5 | E54: 4.9497475 | F54: 52 | G54: 45
A55: 52 | B55: 飲食料品卸売業 | C55: 31 | D55: 330.02258 | E55: 638.89009 | F55: 3286 | G55: 0
A56: 53 | B56: 建築材料，鉱物・金属材料等卸売業 | C56: 5 | D56: 85 | E56: 106.03301 | F56: 240 | G56: 0
A57: 54 | B57: 機械器具卸売業 | C57: 8 | D57: 30.2125 | E57: 22.296344 | F57: 56 | G57: 2
A58: 55 | B58: その他の卸売業 | C58: 15 | D58: 52.806667 | E58: 41.328691 | F58: 142 | G58: 5
A59: 56 | B59: 各種商品小売業 | C59: 361 | D59: 113.12934 | E59: 673.35623 | F59: 12805 | G59: 0
A60: 57 | B60: 織物・衣服・身の回り品小売業 | C60: 4 | D60: 39.75 | E60: 9.6738479 | F60: 50 | G60: 31
A61: 58 | B61: 飲食料品小売業 | C61: 37 | D61: 93.57027 | E61: 187.57095 | F61: 1180 | G61: 5
A62: 59 | B62: 機械器具小売業 | C62: 3 | D62: 29.193333 | E62: 25.294508 | F62: 44.58 | G62: 0
A63: 60 | B63: その他の小売業 | C63: 28 | D63: 75.513571 | E63: 91.585669 | F63: 473 | G63: 6
...

Sheet 表3.3.2(4)
A1: 表3.3.2(4) 産業分類別未処理水量の平均値、標準偏差、最大値、最小値
G2: 単位：ｍ3/日
B3: 産業中分類 | C3: 事業場数 | D3: 平均値 | E3: 標準偏差 | F3: 最大値 | G3: 最小値
A4: 01 | B4: 農業 | C4: 114 | D4: 20.052632 | E4: 152.72343 | F4: 1608 | G4: 0
A5: 02 | B5: 林業 | C5: 2 | D5: 0 | E5: 0 | F5: 0 | G5: 0
A6: 03 | B6: 漁業（水産養殖業を除く） | C6: 2 | D6: 360 | E6: 509.11688 | F6: 720 | G6: 0
A7: 04 | B7: 水産養殖業 | C7: 5 | D7: 6831.8 | E7: 6791.4774 | F7: 17640 | G7: 504
A8: 05 | B8: 鉱業，採石業，砂利採取業 | C8: 91 | D8: 447.26374 | E8: 2186.8494 | F8: 18692 | G8: 0
A9: 06 | B9: 総合工事業 | C9: 67 | D9: 103.71642 | E9: 717.18002 | F9: 5800 | G9: 0
A10: 07 | B10: 職別工事業(設備工事業を除く) | C10: 3 | D10: 5.6666667 | E10: 9.8149546 | F10: 17 | G10: 0
A11: 08 | B11: 設備工事業 | C11: 2 | D11: 0.662 | E11: 0.93620938 | F11: 1.324 | G11: 0
A12: 09 | B12: 食料品製造業 | C12: 1776 | D12: 749.09677 | E12: 4924.2467 | F12: 70200 | G12: 0
A13: 10 | B13: 飲料・たばこ・飼料製造業 | C13: 376 | D13: 472.97761 | E13: 1035.0637 | F13: 7500 | G13: 0
