Workbook
Name 新しい_SQL_Server_接続: 表3.1.2!$B$5:$E$55
Name 新しい_SQL_Server_接続: 表3.1.6!$B$5:$C$55
Name 新しい_SQL_Server_接続: 表3.1.7!$A$5:$D$104
Name 新しい_SQL_Server_接続: 表3.2.2!$C$5:$I$55
Name 新しい_SQL_Server_接続: '表3.3.2(1)'!$A$3:$G$104
Name 新しい_SQL_Server_接続: '表3.3.2(2)'!$A$3:$B$104
Name 新しい_SQL_Server_接続: '表3.3.2(3)'!$A$3:$B$104
Name 新しい_SQL_Server_接続: '表3.3.2(4)'!$A$3:$B$104
Name 新しい_SQL_Server_接続: '表3.3.3(1)'!$A$3:$G$102
Name 新しい_SQL_Server_接続: 表3.3.4!$A$3:$J$105
Name 新しい_SQL_Server_接続: 表3.3.5!$A$3:$J$105
Name 新しい_SQL_Server_接続: 表3.3.6!$A$3:$J$105
Name 新しい_SQL_Server_接続: '表3.4.1.1(1)'!$D$6:$E$105
Name 新しい_SQL_Server_接続: '表3.4.1.1(10)'!$A$6:$B$105
Name 新しい_SQL_Server_接続: '表3.4.1.1(11)'!$A$6:$B$105
Name 新しい_SQL_Server_接続: '表3.4.1.1(12)'!$A$6:$B$105
Name 新しい_SQL_Server_接続: '表3.4.1.1(13)'!$A$6:$B$105
Name 新しい_SQL_Server_接続: '表3.4.1.1(14)'!$A$6:$B$105
Name 新しい_SQL_Server_接続: '表3.4.1.1(15)'!$A$6:$B$105
Name 新しい_SQL_Server_接続: '表3.4.1.1(16)'!$A$6:$B$105
Name 新しい_SQL_Server_接続: '表3.4.1.1(3)'!$A$6:$G$105
Name 新しい_SQL_Server_接続: '表3.4.1.1(4)'!$A$6:$B$105
Name 新しい_SQL_Server_接続: '表3.4.1.1(5)'!$A$6:$B$105
Name 新しい_SQL_Server_接続: '表3.4.1.1(6)'!$A$6:$B$105
Name 新しい_SQL_Server_接続: '表3.4.1.1(7)'!$A$6:$B$105
Name 新しい_SQL_Server_接続: '表3.4.1.1(8)'!$A$6:$B$105
Name 新しい_SQL_Server_接続: '表3.4.1.1(9)'!$A$6:$B$105
Name 新しい_SQL_Server_接続: '表3.4.1.2(1)'!$A$7:$H$106
Name 新しい_SQL_Server_接続: '表3.4.1.2(10)'!$A$7:$B$106
Name 新しい_SQL_Server_接続: '表3.4.1.2(11)'!$A$7:$B$106
Name 新しい_SQL_Server_接続: '表3.4.1.2(12)'!$A$7:$B$106
Name 新しい_SQL_Server_接続: '表3.4.1.2(13)'!$A$7:$B$106
Name 新しい_SQL_Server_接続: '表3.4.1.2(14)'!$A$7:$B$106
Name 新しい_SQL_Server_接続: '表3.4.1.2(15)'!$A$7:$B$106
Name 新しい_SQL_Server_接続: '表3.4.1.2(16)'!$A$7:$B$106
Name 新しい_SQL_Server_接続: '表3.4.1.2(3)'!$A$7:$B$106
Name 新しい_SQL_Server_接続: '表3.4.1.2(4)'!$A$7:$B$106
Name 新しい_SQL_Server_接続: '表3.4.1.2(5)'!$A$7:$B$106
Name 新しい_SQL_Server_接続: '表3.4.1.2(6)'!$A$7:$B$106
Name 新しい_SQL_Server_接続: '表3.4.1.2(7)'!$A$7:$B$106
Name 新しい_SQL_Server_接続: '表3.4.1.2(8)'!$A$7:$B$106
Name 新しい_SQL_Server_接続: '表3.4.1.2(9)'!$A$7:$B$106
Name 新しい_SQL_Server_接続: '表3.4.2.1(1)'!$B$6:$E$103
Name 新しい_SQL_Server_接続: '表3.4.2.1(2)'!$D$6:$E$103
Name 新しい_SQL_Server_接続: '表3.4.2.1(3)'!$F$6:$G$103
Name 新しい_SQL_Server_接続: 表3.4.3.1!$B$6:$E$14
Name 新しい_SQL_Server_接続_1: '表3.4.2.1(10)'!$F$6:$G$103
Name 新しい_SQL_Server_接続_1: '表3.4.2.1(11)'!$F$6:$G$103
Name 新しい_SQL_Server_接続_1: '表3.4.2.1(12)'!$F$6:$G$103
Name 新しい_SQL_Server_接続_1: '表3.4.2.1(13)'!$F$6:$G$103
Name 新しい_SQL_Server_接続_1: '表3.4.2.1(14)'!$F$6:$G$103
Name 新しい_SQL_Server_接続_1: '表3.4.2.1(15)'!$F$6:$G$103
Name 新しい_SQL_Server_接続_1: '表3.4.2.1(16)'!$F$6:$G$103
Name 新しい_SQL_Server_接続_1: '表3.4.2.1(4)'!$F$6:$G$103
Name 新しい_SQL_Server_接続_1: '表3.4.2.1(5)'!$F$6:$G$103
Name 新しい_SQL_Server_接続_1: '表3.4.2.1(6)'!$F$6:$G$103
Name 新しい_SQL_Server_接続_1: '表3.4.2.1(7)'!$F$6:$G$103
Name 新しい_SQL_Server_接続_1: '表3.4.2.1(8)'!$F$6:$G$103
Name 新しい_SQL_Server_接続_1: '表3.4.2.1(9)'!$F$6:$G$103
Name 新しい_SQL_Server_接続_1: '表3.4.2.2(1)'!$G$7:$H$104

Sheet 表3.1.1
A1: 表3.1.1 調査対象工場・事業場数
A3: 所管 | B3: 総数 | C3: 排水量・有害物質区分
C4: ① | D4: ② | E4: ③
A5: 都道府県 | B5: =SUM(C5:E5) -> 26346 | C5: =I38 -> 19903 | D5: =J38 -> 2746 | E5: =K38 -> 3697
A6: 政令市 | B6: =SUM(C6:E6) -> 7979 | C6: =表3.1.2!I59 -> 5368 | D6: =表3.1.2!J59 -> 1157 | E6: =表3.1.2!K59 -> 1454
A7: 経済産業省 | B7: =SUM(C7:E7) -> 72 | C7: 31 | D7: 41
A8: 総計 | B8: =SUM(C8:E8) -> 34397 | C8: =SUM(C5:C7) -> 25302 | D8: =SUM(D5:D7) -> 3944 | E8: =SUM(E5:E7) -> 5151
A11: 表3.1.2(1) 調査対象工場・事業場数 都道府県別
A13: 都道府県 | B13: 総数 | C13: 排水量・有害物質区分 | G13: 都道府県 | H13: 総数 | I13: 排水量・有害物質区分
C14: ① | D14: ② | E14: ③ | I14: ① | J14: ② | K14: ③
A15: 北海道 | B15: =SUM(C15:E15) -> 1158 | C15: 1060 | D15: 44 | E15: 54 | G15: 滋賀県 | H15: =SUM(I15:K15) -> 686 | I15: 460 | J15: 119 | K15: 107
A16: 青森県 | B16: =SUM(C16:E16) -> 342 | C16: 312 | D16: 10 | E16: 20 | G16: 京都府 | H16: =SUM(I16:K16) -> 459 | I16: 278 | J16: 55 | K16: 126
A17: 岩手県 | B17: =SUM(C17:E17) -> 517 | C17: 427 | D17: 41 | E17: 49 | G17: 大阪府 | H17: =SUM(I17:K17) -> 406 | I17: 268 | J17: 25 | K17: 113
A18: 宮城県 | B18: =SUM(C18:E18) -> 344 | C18: 279 | D18: 30 | E18: 35 | G18: 兵庫県 | H18: =SUM(I18:K18) -> 1167 | I18: 693 | J18: 148 | K18: 326
A19: 秋田県 | B19: =SUM(C19:E19) -> 504 | C19: 346 | D19: 85 | E19: 73 | G19: 奈良県 | H19: =SUM(I19:K19) -> 262 | I19: 223 | J19: 14 | K19: 25
A20: 山形県 | B20: =SUM(C20:E20) -> 503 | C20: 387 | D20: 47 | E20: 69 | G20: 和歌山県 | H20: =SUM(I20:K20) -> 419 | I20: 397 | J20: 5 | K20: 17
A21: 福島県 | B21: =SUM(C21:E21) -> 594 | C21: 429 | D21: 82 | E21: 83 | G21: 鳥取県 | H21: =SUM(I21:K21) -> 242 | I21: 210 | J21: 11 | K21: 21
A22: 茨城県 | B22: =SUM(C22:E22) -> 863 | C22: 669 | D22: 104 | E22: 90 | G22: 島根県 | H22: =SUM(I22:K22) -> 375 | I22: 332 | J22: 16 | K22: 27
A23: 栃木県 | B23: =SUM(C23:E23) -> 833 | C23: 584 | D23: 114 | E23: 135 | G23: 岡山県 | H23: =SUM(I23:K23) -> 387 | I23: 324 | J23: 23 | K23: 40
A24: 群馬県 | B24: =SUM(C24:E24) -> 536 | C24: 446 | D24: 52 | E24: 38 | G24: 広島県 | H24: =SUM(I24:K24) -> 601 | I24: 495 | J24: 27 | K24: 79
A25: 埼玉県 | B25: =SUM(C25:E25) -> 785 | C25: 527 | D25: 86 | E25: 172 | G25: 山口県 | H25: =SUM(I25:K25) -> 546 | I25: 374 | J25: 97 | K25: 75
A26: 千葉県 | B26: =SUM(C26:E26) -> 827 | C26: 625 | D26: 99 | E26: 103 | G26: 徳島県 | H26: =SUM(I26:K26) -> 272 | I26: 215 | J26: 33 | K26: 24
... A37: 愛知県 | B37: =SUM(C37:E37) -> 1463 | C37: 969 | D37: 234 | E37: 260 | G37: 沖縄県 | H37: =SUM(I37:K37) -> 250 | I37: 233 | J37: 12 | K37: 5
A38: 三重県 | B38: =SUM(C38:E38) -> 931 | C38: 802 | D38: 58 | E38: 71 | G38: 小計 | H38: =SUM(B15:B38)+SUM(H15:H37) -> 26346 | I38: =SUM(C15:C38)+SUM(I15:I37) -> 19903 | J38: =SUM(D15:D38)+SUM(J15:J37) -> 2746 | K38: =SUM(E15:E38)+SUM(K15:K37) -> 3697
G39: ※排水量・有害物質区分
G40: ①：排水量50㎥/日以上、有害物質使用特定事業場でない
G41: ②：排水量50㎥/日以上、有害物質使用特定事業場である
G42: ③：排水量50㎥/日未満、有害物質使用特定事業場である

Sheet 表3.1.2
A1: 表3.1.2(2) 調査対象工場・事業場数 水質汚濁防止法政令市別
A3: 政令市 | B3: 総数 | C3: 排水量・有害物質区分 | G3: 政令市 | H3: 総数 | I3: 排水量・有害物質区分
C4: ① | D4: ② | E4: ③ | I4: ① | J4: ② | K4: ③
A5: 札幌市 | B5: =SUM(C5:E5) -> 39 | C5: 36 | D5: 2 | E5: 1 | G5: 岐阜市 | H5: =SUM(I5:K5) -> 70 | I5: 55 | J5: 7 | K5: 8
A6: 函館市 | B6: =SUM(C6:E6) -> 44 | C6: 40 | E6: 4 | G6: 静岡市 | H6: =SUM(I6:K6) -> 145 | I6: 95 | J6: 21 | K6: 29
A7: 旭川市 | B7: =SUM(C7:E7) -> 32 | C7: 24 | D7: 3 | E7: 5 | G7: 浜松市 | H7: =SUM(I7:K7) -> 172 | I7: 91 | J7: 56 | K7: 25
A8: 青森市 | B8: =SUM(C8:E8) -> 64 | C8: 57 | D8: 6 | E8: 1 | G8: 沼津市 | H8: =SUM(I8:K8) -> 96 | I8: 69 | J8: 16 | K8: 11
A9: 八戸市 | B9: =SUM(C9:E9) -> 68 | C9: 54 | D9: 11 | E9: 3 | G9: 富士市 | H9: =SUM(I9:K9) -> 148 | I9: 118 | J9: 16 | K9: 14
A10: 盛岡市 | B10: =SUM(C10:E10) -> 40 | C10: 31 | D10: 5 | E10: 4 | G10: 名古屋市 | H10: =SUM(I10:K10) -> 85 | I10: 55 | J10: 18 | K10: 12
A11: 仙台市 | B11: =SUM(C11:E11) -> 69 | C11: 57 | D11: 11 | E11: 1 | G11: 豊橋市 | H11: =SUM(I11:K11) -> 112 | I11: 76 | J11: 20 | K11: 16
A12: 秋田市 | B12: =SUM(C12:E12) -> 90 | C12: 60 | D12: 19 | E12: 11 | G12: 岡崎市 | H12: =SUM(I12:K12) -> 88 | I12: 66 | J12: 8 | K12: 14
A13: 山形市 | B13: =SUM(C13:E13) -> 89 | C13: 62 | D13: 5 | E13: 22 | G13: 一宮市 | H13: =SUM(I13:K13) -> 86 | I13: 65 | J13: 10 | K13: 11
A14: 福島市 | B14: =SUM(C14:E14) -> 97 | C14: 83 | D14: 11 | E14: 3 | G14: 春日井市 | H14: =SUM(I14:K14) -> 92 | I14: 59 | J14: 12 | K14: 21
A15: 郡山市 | B15: =SUM(C15:E15) -> 111 | C15: 73 | D15: 25 | E15: 13 | G15: 豊田市 | H15: =SUM(I15:K15) -> 162 | I15: 115 | J15: 26 | K15: 21
A16: いわき市 | B16: =SUM(C16:E16) -> 128 | C16: 72 | D16: 35 | E16: 21 | G16: 四日市市 | H16: =SUM(I16:K16) -> 103 | I16: 80 | J16: 14 | K16: 9
A17: 水戸市 | B17: =SUM(C17:E17) -> 55 | C17: 46 | D17: 2 | E17: 7 | G17: 大津市 | H17: =SUM(I17:K17) -> 52 | I17: 31 | J17: 11 | K17: 10
A18: つくば市 | B18: =SUM(C18:E18) -> 51 | C18: 19 | D18: 3 | E18: 29 | G18: 京都市 | H18: =SUM(I18:K18) -> 32 | I18: 21 | J18: 8 | K18: 3
... A21: 高崎市 | B21: =SUM(C21:E21) -> 110 | C21: 67 | D21: 18 | E21: 25 | G21: 岸和田市 | H21: =SUM(I21:K21) -> 29 | I21: 12 | J21: 2 | K21: 15
A22: 伊勢崎市 | B22: =SUM(C22:E22) -> 127 | C22: 73 | D22: 31 | E22: 23 | G22: 豊中市 | H22: =SUM(I22:K22) -> 3 | I22: 2 | K22: 1
A23: 太田市 | B23: =SUM(C23:E23) -> 131 | C23: 78 | D23: 19 | E23: 34 | G23: 吹田市 | H23: =SUM(I23:K23) -> 15 | I23: 9 | K23: 6
A24: さいたま市 | B24: =SUM(C24:E24) -> 105 | C24: 59 | D24: 16 | E24: 30 | G24: 高槻市 | H24: =SUM(I24:K24) -> 37 | I24: 13 | J24: 2 | K24: 22
A25: 川越市 | B25: =SUM(C25:E25) -> 62 | C25: 29 | D25: 8 | E25: 25 | G25: 枚方市 | H25: =SUM(I25:K25) -> 28 | I25: 16 | J25: 2 | K25: 10
A26: 熊谷市 | B26: =SUM(C26:E26) -> 80 | C26: 67 | D26: 8 | E26: 5 | G26: 茨木市 | H26: =SUM(I26:K26) -> 9 | I26: 6 | J26: 1 | K26: 2
A27: 川口市 | B27: =SUM(C27:E27) -> 31 | C27: 12 | D27: 4 | E27: 15 | G27: 八尾市 | H27: =SUM(I27:K27) -> 53 | I27: 18 | J27: 2 | K27: 33
A28: 所沢市 | B28: =SUM(C28:E28) -> 25 | C28: 14 | D28: 4 | E28: 7 | G28: 寝屋川市 | H28: =SUM(I28:K28) -> 7 | I28: 4 | K28: 3
A29: 春日部市 | B29: =SUM(C29:E29) -> 21 | C29: 19 | D29: 1 | E29: 1 | G29: 東大阪市 | H29: =SUM(I29:K29) -> 15 | I29: 8 | J29: 1 | K29: 6
A30: 草加市 | B30: =SUM(C30:E30) -> 17 | C30: 6 | D30: 3 | E30: 8 | G30: 神戸市 | H30: =SUM(I30:K30) -> 94 | I30: 81 | J30: 5 | K30: 8
A31: 越谷市 | B31: =SUM(C31:E31) -> 36 | C31: 24 | D31: 1 | E31: 11 | G31: 姫路市 | H31: =SUM(I31:K31) -> 120 | I31: 101 | J31: 9 | K31: 10
A32: 千葉市 | B32: =SUM(C32:E32) -> 71 | C32: 34 | D32: 22 | E32: 15 | G32: 尼崎市 | H32: =SUM(I32:K32) -> 25 | I32: 3 | J32: 21 | K32: 1
A33: 市川市 | B33: =SUM(C33:E33) -> 92 | C33: 69 | D33: 15 | E33: 8 | G33: 明石市 | H33: =SUM(I33:K33) -> 23 | I33: 15 | J33: 6 | K33: 2
A34: 船橋市 | B34: =SUM(C34:E34) -> 149 | C34: 136 | D34: 3 | E34: 10 | G34: 西宮市 | H34: =SUM(I34:K34) -> 13 | I34: 11 | J34: 1 | K34: 1
A35: 松戸市 | B35: =SUM(C35:E35) -> 62 | C35: 27 | D35: 11 | E35: 24 | G35: 加古川市 | H35: =SUM(I35:K35) -> 36 | I35: 26 | J35: 5 | K35: 5
A36: 柏市 | B36: =SUM(C36:E36) -> 60 | C36: 43 | D36: 6 | E36: 11 | G36: 宝塚市 | H36: =SUM(I36:K36) -> 4 | I36: 4
A37: 市原市 | B37: =SUM(C37:E37) -> 97 | C37: 63 | D37: 27 | E37: 7 | G37: 奈良市 | H37: =SUM(I37:K37) -> 45 | I37: 34 | J37: 6 | K37: 5
A38: 八王子市 | B38: =SUM(C38:E38) -> 64 | C38: 29 | D38: 3 | E38: 32 | G38: 和歌山市 | H38: =SUM(I38:K38) -> 150 | I38: 106 | J38: 15 | K38: 29
A39: 町田市 | B39: =SUM(C39:E39) -> 22 | C39: 15 | D39: 2 | E39: 5 | G39: 鳥取市 | H39: =SUM(I39:K39) -> 87 | I39: 74 | J39: 6 | K39: 7
A40: 横浜市 | B40: =SUM(C40:E40) -> 126 | C40: 50 | D40: 34 | E40: 42 | G40: 岡山市 | H40: =SUM(I40:K40) -> 202 | I40: 165 | J40: 17 | K40: 20
A41: 川崎市 | B41: =SUM(C41:E41) -> 136 | C41: 30 | D41: 33 | E41: 73 | G41: 倉敷市 | H41: =SUM(I41:K41) -> 148 | I41: 101 | J41: 35 | K41: 12
A42: 横須賀市 | B42: =SUM(C42:E42) -> 17 | C42: 6 | D42: 9 | E42: 2 | G42: 広島市 | H42: =SUM(I42:K42) -> 92 | I42: 67 | J42: 6 | K42: 19
A43: 平塚市 | B43: =SUM(C43:E43) -> 29 | C43: 7 | D43: 5 | E43: 17 | G43: 呉市 | H43: =SUM(I43:K43) -> 45 | I43: 38 | J43: 5 | K43: 2
A44: 藤沢市 | B44: =SUM(C44:E44) -> 43 | C44: 10 | D44: 12 | E44: 21 | G44: 福山市 | H44: =SUM(I44:K44) -> 89 | I44: 70 | J44: 7 | K44: 12
A45: 小田原市 | B45: =SUM(C45:E45) -> 30 | C45: 18 | D45: 11 | E45: 1 | G45: 下関市 | H45: =SUM(I45:K45) -> 71 | I45: 56 | J45: 13 | K45: 2
A46: 茅ヶ崎市 | B46: =SUM(C46:E46) -> 10 | C46: 6 | D46: 3 | E46: 1 | G46: 徳島市 | H46: =SUM(I46:K46) -> 123 | I46: 98 | J46: 11 | K46: 14
A47: 相模原市 | B47: =SUM(C47:E47) -> 47 | C47: 24 | D47: 11 | E47: 12 | G47: 高松市 | H47: =SUM(I47:K47) -> 85 | I47: 68 | J47: 4 | K47: 13
A48: 厚木市 | B48: =SUM(C48:E48) -> 38 | C48: 6 | D48: 3 | E48: 29 | G48: 松山市 | H48: =SUM(I48:K48) -> 135 | I48: 91 | J48: 8 | K48: 36
... A50: 新潟市 | B50: =SUM(C50:E50) -> 191 | C50: 126 | D50: 11 | E50: 54 | G50: 北九州市 | H50: =SUM(I50:K50) -> 72 | I50: 35 | J50: 24 | K50: 13
A51: 長岡市 | B51: =SUM(C51:E51) -> 78 | C51: 51 | D51: 7 | E51: 20 | G51: 福岡市 | H51: =SUM(I51:K51) -> 24 | I51: 21 | J51: 3
A52: 上越市 | B52: =SUM(C52:E52) -> 116 | C52: 84 | D52: 17 | E52: 15 | G52: 久留米市 | H52: =SUM(I52:K52) -> 56 | I52: 41 | J52: 3 | K52: 12
A53: 富山市 | B53: =SUM(C53:E53) -> 163 | C53: 106 | D53: 43 | E53: 14 | G53: 長崎市 | H53: =SUM(I53:K53) -> 51 | I53: 42 | J53: 3 | K53: 6
A54: 金沢市 | B54: =SUM(C54:E54) -> 84 | C54: 58 | D54: 13 | E54: 13 | G54: 佐世保市 | H54: =SUM(I54:K54) -> 44 | I54: 39 | J54: 1 | K54: 4
A55: 福井市 | B55: =SUM(C55:E55) -> 83 | C55: 69 | D55: 5 | E55: 9 | G55: 熊本市 | H55: =SUM(I55:K55) -> 78 | I55: 64 | J55: 6 | K55: 8
A56: 甲府市 | B56: =SUM(C56:E56) -> 32 | C56: 16 | D56: 7 | E56: 9 | G56: 大分市 | H56: =SUM(I56:K56) -> 75 | I56: 53 | J56: 13 | K56: 9
A57: 長野市 | B57: =SUM(C57:E57) -> 101 | C57: 48 | D57: 21 | E57: 32 | G57: 宮崎市 | H57: =SUM(I57:K57) -> 92 | I57: 78 | J57: 8 | K57: 6
A58: 松本市 | B58: =SUM(C58:E58) -> 58 | C58: 47 | D58: 6 | E58: 5 | G58: 鹿児島市 | H58: =SUM(I58:K58) -> 61 | I58: 53 | J58: 2 | K58: 6
G59: 小計 | H59: =SUM(H5:H58,B5:B58) -> 7979 | I59: =SUM(I5:I58,C5:C58) -> 5368 | J59: =SUM(J5:J58,D5:D58) -> 1157 | K59: =SUM(K5:K58,E5:E58) -> 1454
G60: ※排水量・有害物質区分
G61: ①：排水量50㎥/日以上、有害物質使用特定事業場でない
G62: ②：排水量50㎥/日以上、有害物質使用特定事業場である
G63: ③：排水量50㎥/日未満、有害物質使用特定事業場である

Sheet 表3.1.3
A1: 表3.1.3 調査対象工場・事業場数 産業分類別
A3: 産業中分類 | C3: 総数 | D3: 排水量・有害物質区分
D4: ① | E4: ② | F4: ③
A5: 01 | B5: 農業 | C5: =SUM(D5:F5) -> 296 | D5: 280 | E5: 4 | F5: 12
A6: 02 | B6: 林業 | C6: =SUM(D6:F6) -> 3 | D6: 1 | F6: 2
A7: 03 | B7: 漁業（水産養殖業を除く） | C7: =SUM(D7:F7) -> 6 | D7: 4 | E7: 1 | F7: 1
A8: 04 | B8: 水産養殖業 | C8: =SUM(D8:F8) -> 9 | D8: 7 | E8: 2
A9: 05 | B9: 鉱業，採石業，砂利採取業 | C9: =SUM(D9:F9) -> 197 | D9: 162 | E9: 34 | F9: 1
A10: 06 | B10: 総合工事業 | C10: =SUM(D10:F10) -> 128 | D10: 119 | E10: 6 | F10: 3
A11: 07 | B11: 職別工事業(設備工事業を除く) | C11: =SUM(D11:F11) -> 10 | D11: 3 | F11: 7
A12: 08 | B12: 設備工事業 | C12: =SUM(D12:F12) -> 8 | D12: 3 | F12: 5
A13: 09 | B13: 食料品製造業 | C13: =SUM(D13:F13) -> 2834 | D13: 2797 | E13: 28 | F13: 9
A14: 10 | B14: 飲料・たばこ・飼料製造業 | C14: =SUM(D14:F14) -> 508 | D14: 496 | E14: 8 | F14: 4
A15: 11 | B15: 繊維工業 | C15: =SUM(D15:F15) -> 498 | D15: 372 | E15: 98 | F15: 28
A16: 12 | B16: 木材・木製品製造業（家具を除く） | C16: =SUM(D16:F16) -> 74 | D16: 43 | E16: 3 | F16: 28
A17: 13 | B17: 家具・装備品製造業 | C17: =SUM(D17:F17) -> 32 | D17: 16 | E17: 10 | F17: 6
A18: 14 | B18: パルプ・紙・紙加工品製造業 | C18: =SUM(D18:F18) -> 382 | D18: 327 | E18: 50 | F18: 5
A19: 15 | B19: 印刷・同関連業 | C19: =SUM(D19:F19) -> 110 | D19: 18 | E19: 22 | F19: 70
A20: 16 | B20: 化学工業 | C20: =SUM(D20:F20) -> 1086 | D20: 413 | E20: 510 | F20: 163
A21: 17 | B21: 石油製品・石炭製品製造業 | C21: =SUM(D21:F21) -> 63 | D21: 29 | E21: 25 | F21: 9
A22: 18 | B22: プラスチック製品製造業（別掲を除く） | C22: =SUM(D22:F22) -> 102 | D22: 51 | E22: 29 | F22: 22
A23: 19 | B23: ゴム製品製造業 | C23: =SUM(D23:F23) -> 122 | D23: 46 | E23: 56 | F23: 20
A24: 20 | B24: なめし革・同製品・毛皮製造業 | C24: =SUM(D24:F24) -> 13 | D24: 5 | E24: 5 | F24: 3
... A38: 34 | B38: ガス業 | C38: =SUM(D38:F38) -> 8 | D38: 6 | E38: 1 | F38: 1
A39: 35 | B39: 熱供給業 | C39: =SUM(D39:F39) -> 5 | D39: 5
A40: 36 | B40: 水道業 | C40: =SUM(D40:F40) -> 2587 | D40: 2231 | E40: 345 | F40: 11
A41: 37 | B41: 通信業 | C41: =SUM(D41:F41) -> 2 | D41: 2
A42: 38 | B42: 放送業 | C42: =SUM(D42:F42) -> 0 | D42: 0 | E42: 0 | F42: 0
A43: 39 | B43: 情報サービス業 | C43: =SUM(D43:F43) -> 6 | D43: 4 | E43: 1 | F43: 1
A44: 40 | B44: インターネット附随サービス業 | C44: =SUM(D44:F44) -> 0 | D44: 0 | E44: 0 | F44: 0
A45: 41 | B45: 映像・音声・文字情報制作業 | C45: =SUM(D45:F45) -> 9 | D45: 4 | F45: 5
A46: 42 | B46: 鉄道業 | C46: =SUM(D46:F46) -> 53 | D46: 52 | E46: 1
A47: 43 | B47: 道路旅客運送業 | C47: =SUM(D47:F47) -> 9 | D47: 9
A48: 44 | B48: 道路貨物運送業 | C48: =SUM(D48:F48) -> 22 | D48: 21 | F48: 1
A49: 45 | B49: 水運業 | C49: =SUM(D49:F49) -> 2 | D49: 1 | E49: 1
A50: 46 | B50: 航空運輸業 | C50: =SUM(D50:F50) -> 2 | D50: 1 | F50: 1
A51: 47 | B51: 倉庫業 | C51: =SUM(D51:F51) -> 20 | D51: 18 | E51: 1 | F51: 1
A52: 48 | B52: 運輸に附帯するサービス業 | C52: =SUM(D52:F52) -> 122 | D52: 119 | E52: 2 | F52: 1
A53: 49 | B53: 郵便業（信書便事業を含む） | C53: =SUM(D53:F53) -> 2 | D53: 2
A54: 50 | B54: 各種商品卸売業 | C54: =SUM(D54:F54) -> 16 | D54: 16
A55: 51 | B55: 繊維・衣服等卸売業 | C55: =SUM(D55:F55) -> 5 | D55: 3 | F55: 2
A56: 52 | B56: 飲食料品卸売業 | C56: =SUM(D56:F56) -> 37 | D56: 35 | E56: 1 | F56: 1
A57: 53 | B57: 建築材料，鉱物・金属材料等卸売業 | C57: =SUM(D57:F57) -> 9 | D57: 5 | E57: 1 | F57: 3
A58: 54 | B58: 機械器具卸売業 | C58: =SUM(D58:F58) -> 9 | D58: 5 | E58: 1 | F58: 3
A59: 55 | B59: その他の卸売業 | C59: =SUM(D59:F59) -> 22 | D59: 21 | F59: 1
A60: 56 | B60: 各種商品小売業 | C60: =SUM(D60:F60) -> 565 | D60: 562 | E60: 3
A61: 57 | B61: 織物・衣服・身の回り品小売業 | C61: =SUM(D61:F61) -> 6 | D61: 6
A62: 58 | B62: 飲食料品小売業 | C62: =SUM(D62:F62) -> 76 | D62: 76
A63: 59 | B63: 機械器具小売業 | C63: =SUM(D63:F63) -> 6 | D63: 4 | F63: 2
A64: 60 | B64: その他の小売業 | C64: =SUM(D64:F64) -> 51 | D64: 46 | E64: 2 | F64: 3
A65: 61 | B65: 無店舗小売業 | C65: =SUM(D65:F65) -> 6 | D65: 4 | F65: 2
A66: 62 | B66: 銀行業 | C66: =SUM(D66:F66) -> 1 | D66: 1
A67: 63 | B67: 協同組織金融業 | C67: =SUM(D67:F67) -> 4 | D67: 4
A68: 64 | B68: 貸金業，クレジットカード業等非預金信用機関 | C68: =SUM(D68:F68) -> 1 | E68: 1
A69: 65 | B69: 金融商品取引業，商品先物取引業 | C69: =SUM(D69:F69) -> 0 | D69: 0 | E69: 0 | F69: 0
A70: 66 | B70: 補助的金融業等 | C70: =SUM(D70:F70) -> 1 | F70: 1
A71: 67 | B71: 保険業（保険媒介代理業，保険サービス業を含む） | C71: =SUM(D71:F71) -> 0 | D71: 0 | E71: 0 | F71: 0
A72: 68 | B72: 不動産取引業 | C72: =SUM(D72:F72) -> 22 | D72: 22
A73: 69 | B73: 不動産賃貸業・管理業 | C73: =SUM(D73:F73) -> 163 | D73: 157 | E73: 4 | F73: 2
A74: 70 | B74: 物品賃貸業 | C74: =SUM(D74:F74) -> 4 | D74: 2 | E74: 1 | F74: 1
A75: 71 | B75: 学術・開発研究機関 | C75: =SUM(D75:F75) -> 517 | D75: 86 | E75: 119 | F75: 312
A76: 72 | B76: 専門サービス業（他に分類されないもの） | C76: =SUM(D76:F76) -> 35 | D76: 25 | E76: 2 | F76: 8
A77: 73 | B77: 広告業 | C77: =SUM(D77:F77) -> 5 | D77: 5
A78: 74 | B78: 技術サービス業（他に分類されないもの） | C78: =SUM(D78:F78) -> 205 | D78: 4 | E78: 6 | F78: 195
A79: 75 | B79: 宿泊業 | C79: =SUM(D79:F79) -> 3244 | D79: 3196 | E79: 36 | F79: 12
A80: 76 | B80: 飲食店 | C80: =SUM(D80:F80) -> 353 | D80: 348 | E80: 4 | F80: 1
A81: 77 | B81: 持ち帰り・配達飲食サービス業 | C81: =SUM(D81:F81) -> 203 | D81: 203
A82: 78 | B82: 洗濯・理容・美容・浴場業 | C82: =SUM(D82:F82) -> 1516 | D82: 520 | E82: 63 | F82: 933
A83: 79 | B83: その他の生活関連サービス業 | C83: =SUM(D83:F83) -> 53 | D83: 37 | F83: 16
A84: 80 | B84: 娯楽業 | C84: =SUM(D84:F84) -> 1260 | D84: 1226 | E84: 21 | F84: 13
A85: 81 | B85: 学校教育 | C85: =SUM(D85:F85) -> 650 | D85: 381 | E85: 132 | F85: 137
A86: 82 | B86: その他の教育，学習支援業 | C86: =SUM(D86:F86) -> 211 | D86: 178 | E86: 7 | F86: 26
A87: 83 | B87: 医療業 | C87: =SUM(D87:F87) -> 1444 | D87: 1280 | E87: 142 | F87: 22
A88: 84 | B88: 保健衛生 | C88: =SUM(D88:F88) -> 115 | D88: 25 | E88: 2 | F88: 88
A89: 85 | B89: 社会保険・社会福祉・介護事業 | C89: =SUM(D89:F89) -> 353 | D89: 342 | E89: 8 | F89: 3
A90: 86 | B90: 郵便局 | C90: =SUM(D90:F90) -> 2 | D90: 2
A91: 87 | B91: 協同組合（他に分類されないもの） | C91: =SUM(D91:F91) -> 78 | D91: 62 | E91: 12 | F91: 4
A92: 88 | B92: 廃棄物処理業 | C92: =SUM(D92:F92) -> 4930 | D92: 4700 | E92: 125 | F92: 105
A93: 89 | B93: 自動車整備業 | C93: =SUM(D93:F93) -> 11 | D93: 6 | F93: 5
A94: 90 | B94: 機械等修理業（別掲を除く） | C94: =SUM(D94:F94) -> 8 | D94: 3 | F94: 5
A95: 91 | B95: 職業紹介・労働者派遣業 | C95: =SUM(D95:F95) -> 1 | D95: 1
A96: 92 | B96: その他の事業サービス業 | C96: =SUM(D96:F96) -> 36 | D96: 22 | E96: 3 | F96: 11
A97: 93 | B97: 政治・経済・文化団体 | C97: =SUM(D97:F97) -> 12 | D97: 10 | E97: 1 | F97: 1
A98: 94 | B98: 宗教 | C98: =SUM(D98:F98) -> 29 | D98: 29
A99: 95 | B99: その他のサービス業 | C99: =SUM(D99:F99) -> 213 | D99: 188 | E99: 4 | F99: 21
A100: 96 | B100: 外国公務 | C100: =SUM(D100:F100) -> 9 | D100: 8 | F100: 1
A101: 97 | B101: 国家公務 | C101: =SUM(D101:F101) -> 99 | D101: 88 | E101: 3 | F101: 8
A102: 98 | B102: 地方公務 | C102: =SUM(D102:F102) -> 355 | D102: 292 | E102: 9 | F102: 54
A103: 99 | B103: 分類不能の産業 | C103: =SUM(D103:F103) -> 2203 | D103: 2185 | E103: 9 | F103: 9
A104: - | B104: 産業分類不明 | C104: =SUM(D104:F104) -> 159 | D104: 92 | E104: 5 | F104: 62
B105: 合計 | C105: =SUM(D105:F105) -> 34397 | D105: =SUM(D5:D104) -> 25302 | E105: =SUM(E5:E104) -> 3944 | F105: =SUM(F5:F104) -> 5151
C106: ※排水量・有害物質区分
C107: ①：排水量50㎥/日以上、有害物質使用特定事業場でない
C108: ②：排水量50㎥/日以上、有害物質使用特定事業場である
C109: ③：排水量50㎥/日未満、有害物質使用特定事業場である

Sheet 表3.1.4
A1: 表3.1.4 調査対象工場・事業場数 代表特定施設別
A3: 代表特定施設 | C3: 総数 | D3: 排水量・有害物質区分
D4: ① | E4: ② | F4: ③
A5: 1 | B5: 鉱業又は水洗炭業の用に供する施設 | C5: =SUM(D5:F5) -> 86 | D5: 40 | E5: 46
A6: 1-2 | B6: 畜産農業又はサービス業の用に供する施設 | C6: =SUM(D6:F6) -> 298 | D6: 277 | E6: 10 | F6: 11
A7: 2 | B7: 畜産食料品製造業の用に供する施設 | C7: =SUM(D7:F7) -> 600 | D7: 582 | E7: 15 | F7: 3
A8: 3 | B8: 水産食料品製造業の用に供する施設 | C8: =SUM(D8:F8) -> 539 | D8: 539
A9: 4 | B9: 野菜又は果実を原料とする保存食料品製造業の用に供する施設 | C9: =SUM(D9:F9) -> 503 | D9: 500 | E9: 2 | F9: 1
A10: 5 | B10: みそ、しょう油、食用アミノ酸等の製造業の用に供する施設 | C10: =SUM(D10:F10) -> 145 | D10: 140 | E10: 4 | F10: 1
A11: 6 | B11: 小麦粉製造業の用に供する洗浄施設 | C11: =SUM(D11:F11) -> 0 | D11: 0 | E11: 0 | F11: 0
A12: 7 | B12: 砂糖製造業の用に供する施設 | C12: =SUM(D12:F12) -> 43 | D12: 43
A13: 8 | B13: パン・菓子の製造業又は製あん業の用に供する粗製あんの沈殿槽 | C13: =SUM(D13:F13) -> 54 | D13: 54
A14: 9 | B14: 米菓製造業又はこうじ製造業の用に供する洗米機 | C14: =SUM(D14:F14) -> 52 | D14: 52
A15: 10 | B15: 飲料製造業の用に供する施設 | C15: =SUM(D15:F15) -> 478 | D15: 462 | E15: 11 | F15: 5
A16: 11 | B16: 動物系飼料又は有機質肥料の製造業の用に供する施設 | C16: =SUM(D16:F16) -> 82 | D16: 81 | F16: 1
A17: 12 | B17: 動植物油脂製造業の用に供する施設 | C17: =SUM(D17:F17) -> 57 | D17: 51 | E17: 1 | F17: 5
A18: 13 | B18: イースト製造業の用に供する施設 | C18: =SUM(D18:F18) -> 3 | D18: 3
A19: 14 | B19: でん粉又は化工でん粉の製造業の用に供する施設 | C19: =SUM(D19:F19) -> 49 | D19: 49
A20: 15 | B20: ぶどう糖又は水あめの製造業の用に供する施設 | C20: =SUM(D20:F20) -> 12 | D20: 11 | E20: 1
A21: 16 | B21: めん類製造業の用に供する湯煮施設 | C21: =SUM(D21:F21) -> 123 | D21: 123
A22: 17 | B22: 豆腐又は煮豆の製造業の用に供する湯煮施設 | C22: =SUM(D22:F22) -> 239 | D22: 238 | E22: 1
A23: 18 | B23: インスタントコーヒー製造業の用に供する抽出施設 | C23: =SUM(D23:F23) -> 3 | D23: 3
A24: 18-2 | B24: 冷凍調理食品製造業の用に供する施設 | C24: =SUM(D24:F24) -> 116 | D24: 116
A25: 18-3 | B25: たばこ製造業の用に供する施設 | C25: =SUM(D25:F25) -> 3 | D25: 3
A26: 19 | B26: 紡績業又は繊維製品の製造業若しくは加工業の用に供する施設 | C26: =SUM(D26:F26) -> 449 | D26: 347 | E26: 79 | F26: 23
A27: 20 | B27: 洗毛業の用に供する施設 | C27: =SUM(D27:F27) -> 3 | D27: 1 | E27: 1 | F27: 1
A28: 21 | B28: 化学繊維製造業の用に供する施設 | C28: =SUM(D28:F28) -> 35 | D28: 18 | E28: 17
A29: 21-2 | B29: 一般製材業又は木材チップ製造業の用に供する湿式バーカー | C29: =SUM(D29:F29) -> 4 | D29: 4
A30: 21-3 | B30: 合板製造業の用に供する接着機洗浄施設 | C30: =SUM(D30:F30) -> 19 | D30: 18 | F30: 1
A31: 21-4 | B31: パーティクルボード製造業の用に供する施設 | C31: =SUM(D31:F31) -> 4 | D31: 2 | E31: 2
A32: 22 | B32: 木材薬品処理業の用に供する施設 | C32: =SUM(D32:F32) -> 32 | D32: 2 | E32: 2 | F32: 28
A33: 23 | B33: パルプ、紙又は紙加工品の製造業の用に供する施設 | C33: =SUM(D33:F33) -> 384 | D33: 334 | E33: 49 | F33: 1
A34: 23-2 | B34: 新聞業、出版業、印刷業又は製版業の用に供する施設 | C34: =SUM(D34:F34) -> 76 | D34: 18 | E34: 11 | F34: 47
A35: 24 | B35: 化学肥料製造業の用に供する施設 | C35: =SUM(D35:F35) -> 28 | D35: 7 | E35: 17 | F35: 4
A36: 25 | B36: 水銀電解法による化成ソーダ又は化成カリの製造業の用に供する施設 | C36: =SUM(D36:F36) -> 3 | E36: 3
A37: 26 | B37: 無機顔料製造業の用に供する施設 | C37: =SUM(D37:F37) -> 34 | D37: 16 | E37: 15 | F37: 3
A38: 27 | B38: その他の無機化学工業製品製造業の用に供する施設 | C38: =SUM(D38:F38) -> 251 | D38: 92 | E38: 117 | F38: 42
A39: 28 | B39: カーバイド法アセチレン誘導品製造業の用に供する施設 | C39: =SUM(D39:F39) -> 16 | D39: 10 | E39: 3 | F39: 3
A40: 29 | B40: コールタール製品製造業の用に供する施設 | C40: =SUM(D40:F40) -> 4 | D40: 1 | E40: 3
A41: 30 | B41: 発酵工業の用に供する施設 | C41: =SUM(D41:F41) -> 10 | D41: 9 | E41: 1
A42: 31 | B42: メタン誘導品製造業の用に供する施設 | C42: =SUM(D42:F42) -> 6 | D42: 2 | E42: 2 | F42: 2
A43: 32 | B43: 有機顔料又は合成染料の製造業の用に供する施設 | C43: =SUM(D43:F43) -> 26 | D43: 8 | E43: 15 | F43: 3
A44: 33 | B44: 合成樹脂製造業の用に供する施設 | C44: =SUM(D44:F44) -> 145 | D44: 83 | E44: 56 | F44: 6
A45: 34 | B45: 合成ゴム製造業の用に供する施設 | C45: =SUM(D45:F45) -> 10 | D45: 2 | E45: 8
A46: 35 | B46: 有機ゴム薬品製造業の用に供する施設 | C46: =SUM(D46:F46) -> 7 | D46: 2 | E46: 5
A47: 36 | B47: 合成洗剤製造業の用に供する施設 | C47: =SUM(D47:F47) -> 5 | D47: 4 | E47: 1
A48: 37 | B48: その他の石油化学工業の用に供する施設 | C48: =SUM(D48:F48) -> 57 | D48: 17 | E48: 35 | F48: 5
A49: 38 | B49: 石けん製造業の用に供する施設 | C49: =SUM(D49:F49) -> 0 | D49: 0 | E49: 0 | F49: 0
A50: 39 | B50: 硬化油製造業の用に供する施設 | C50: =SUM(D50:F50) -> 1 | D50: 1
A51: 40 | B51: 脂肪酸製造業の用に供する蒸りゅう施設 | C51: =SUM(D51:F51) -> 3 | D51: 2 | E51: 1
A52: 41 | B52: 香料製造業の用に供する施設 | C52: =SUM(D52:F52) -> 14 | D52: 7 | E52: 4 | F52: 3
A53: 42 | B53: ゼラチン又はにかわの製造業の用に供する施設 | C53: =SUM(D53:F53) -> 1 | D53: 1
A54: 43 | B54: 写真感光材料製造業の用に供する感光剤洗浄施設 | C54: =SUM(D54:F54) -> 7 | D54: 3 | E54: 3 | F54: 1
A55: 44 | B55: 天然樹脂製品製造業の用に供する施設 | C55: =SUM(D55:F55) -> 0 | D55: 0 | E55: 0 | F55: 0
A56: 45 | B56: 木材化学工業の用に供するフルフラール蒸りゅう施設 | C56: =SUM(D56:F56) -> 0 | D56: 0 | E56: 0 | F56: 0
A57: 46 | B57: その他の有機化学工業製品製造業の用に供する施設 | C57: =SUM(D57:F57) -> 215 | D57: 83 | E57: 104 | F57: 28
A58: 47 | B58: 医薬品製造業の用に供する施設 | C58: =SUM(D58:F58) -> 190 | D58: 84 | E58: 82 | F58: 24
A59: 48 | B59: 火薬製造業の用に供する洗浄施設 | C59: =SUM(D59:F59) -> 10 | D59: 2 | E59: 5 | F59: 3
A60: 49 | B60: 農薬製造業の用に供する混合施設 | C60: =SUM(D60:F60) -> 11 | E60: 6 | F60: 5
A61: 50 | B61: 試薬の製造業の用に供する試薬製造施設 | C61: =SUM(D61:F61) -> 1 | F61: 1
A62: 51 | B62: 石油精製業の用に供する施設 | C62: =SUM(D62:F62) -> 37 | D62: 17 | E62: 19 | F62: 1
A63: 51-2 | B63: 自動車用タイヤ等ゴム製品製造業の用に供する直接加流施設 | C63: =SUM(D63:F63) -> 66 | D63: 23 | E63: 33 | F63: 10
A64: 51-3 | B64: 医療、衛生用ゴム製品製造業の用に供するラテックス成形型洗浄施設 | C64: =SUM(D64:F64) -> 3 | D64: 3
A65: 52 | B65: 皮革製造業の用に供する施設 | C65: =SUM(D65:F65) -> 11 | D65: 3 | E65: 5 | F65: 3
A66: 53 | B66: ガラス又はガラス製品の製造業の用に供する施設 | C66: =SUM(D66:F66) -> 279 | D66: 32 | E66: 88 | F66: 159
A67: 54 | B67: セメント製品製造業の用に供する施設 | C67: =SUM(D67:F67) -> 166 | D67: 47 | E67: 16 | F67: 103
A68: 55 | B68: 生コンクリート製造業の用に供するバッチャープラント | C68: =SUM(D68:F68) -> 316 | D68: 163 | E68: 10 | F68: 143
A69: 56 | B69: 有機質砂かべ材製造業の用に供する混合施設 | C69: =SUM(D69:F69) -> 2 | E69: 1 | F69: 1
A70: 57 | B70: 人造黒鉛電極製造業の用に供する成型施設 | C70: =SUM(D70:F70) -> 8 | D70: 5 | E70: 3
A71: 58 | B71: 窯業原料の精製業の用に供する施設 | C71: =SUM(D71:F71) -> 121 | D71: 44 | E71: 25 | F71: 52
A72: 59 | B72: 砕石業の用に供する施設 | C72: =SUM(D72:F72) -> 55 | D72: 52 | E72: 1 | F72: 2
A73: 60 | B73: 砂利採取業の用に供する水洗式分別施設 | C73: =SUM(D73:F73) -> 106 | D73: 106
A74: 61 | B74: 鉄鋼業の用に供する施設 | C74: =SUM(D74:F74) -> 132 | D74: 68 | E74: 55 | F74: 9
A75: 62 | B75: 非鉄金属製造業の用に供する施設 | C75: =SUM(D75:F75) -> 100 | D75: 22 | E75: 50 | F75: 28
A76: 63 | B76: 金属製品製造業又は機械器具製造業の用に供する施設 | C76: =SUM(D76:F76) -> 782 | D76: 195 | E76: 306 | F76: 281
A77: 63-2 | B77: 空きびん卸売業の用に供する自動式洗びん施設 | C77: =SUM(D77:F77) -> 5 | D77: 5
A78: 63-3 | B78: 石炭を燃料とする火力発電施設のうち廃ガス洗浄施設 | C78: =SUM(D78:F78) -> 29 | D78: 12 | E78: 17
A79: 64 | B79: ガス供給業又はコークス製造業の用に供する施設 | C79: =SUM(D79:F79) -> 9 | D79: 5 | E79: 4
A80: 64-2 | B80: 水道施設、工業用水道施設又は自家用工業用水道の浄水施設 | C80: =SUM(D80:F80) -> 285 | D80: 250 | E80: 29 | F80: 6
A81: 65 | B81: 酸又はアルカリによる表面処理施設 | C81: =SUM(D81:F81) -> 2140 | D81: 432 | E81: 854 | F81: 854
A82: 66 | B82: 電気めっき施設 | C82: =SUM(D82:F82) -> 1093 | D82: 36 | E82: 470 | F82: 587
A83: 66-2 | B83: 旅館業の用に供する施設 | C83: =SUM(D83:F83) -> 3392 | D83: 3339 | E83: 42 | F83: 11
A84: 66-3 | B84: 共同調理場に設置されるちゅう房施設 | C84: =SUM(D84:F84) -> 218 | D84: 218
A85: 66-4 | B85: 弁当仕出屋又は弁当製造業の用に供するちゅう房施設 | C85: =SUM(D85:F85) -> 273 | D85: 273
A86: 66-5 | B86: 飲食店に設置されるちゅう房施設 | C86: =SUM(D86:F86) -> 872 | D86: 844 | E86: 19 | F86: 9
A87: 66-6 | B87: そば店、うどん店、すし店のほか、喫茶店等に設置されるちゅう房施設 | C87: =SUM(D87:F87) -> 5 | D87: 5
A88: 66-7 | B88: 料亭、バー、キャバレー、ナイトクラブ等に設置されるちゅう房施設 | C88: =SUM(D88:F88) -> 2 | D88: 2
A89: 67 | B89: 洗たく業の用に供する洗浄施設 | C89: =SUM(D89:F89) -> 1307 | D89: 345 | E89: 62 | F89: 900
A90: 68 | B90: 写真現像業の用に供する自動式フィルム現像洗浄施設 | C90: =SUM(D90:F90) -> 25 | D90: 3 | F90: 22
A91: 68-2 | B91: 病院で病床数が300以上であるものに設置される施設 | C91: =SUM(D91:F91) -> 383 | D91: 295 | E91: 79 | F91: 9
A92: 69 | B92: と畜業又は死亡獣畜取扱業の用に供する解体施設 | C92: =SUM(D92:F92) -> 115 | D92: 113 | E92: 2
A93: 69-2 | B93: 中央卸売市場に設置される施設 | C93: =SUM(D93:F93) -> 9 | D93: 8 | E93: 1
A94: 69-3 | B94: 地方卸売市場に設置される施設 | C94: =SUM(D94:F94) -> 32 | D94: 32
A95: 70 | B95: 廃油処理施設 | C95: =SUM(D95:F95) -> 4 | D95: 3 | E95: 1
A96: 70-2 | B96: 自動車分解整備事業の用に供する洗車施設 | C96: =SUM(D96:F96) -> 5 | D96: 5
A97: 71 | B97: 自動式車両洗浄施設 | C97: =SUM(D97:F97) -> 73 | D97: 64 | E97: 1 | F97: 8
A98: 71-2 | B98: 科学技術に関する研究、試験、検査又は専門教育の用に供する施設 | C98: =SUM(D98:F98) -> 1334 | D98: 141 | E98: 278 | F98: 915
A99: 71-3 | B99: 一般廃棄物処理施設である焼却施設 | C99: =SUM(D99:F99) -> 98 | D99: 27 | E99: 21 | F99: 50
A100: 71-4 | B100: 産業廃棄物処理施設 | C100: =SUM(D100:F100) -> 98 | D100: 43 | E100: 26 | F100: 29
A101: 71-5 | B101: TCE、PCE又はジクロロメタンによる洗浄施設 | C101: =SUM(D101:F101) -> 693 | D101: 3 | E101: 55 | F101: 635
...

Sheet 表3.1.5
A1: 表3.1.5 調査票の回収数及び回収率
A3: 所管 | B3: 配布数 | C3: 回収状況
C4: 回収 | D4: 未回収 | E4: 回収率(%)
A5: 都道府県 | B5: =表3.1.1!B5 -> 26346 | C5: =I38 -> 21145 | D5: =B5-C5 -> 5201 | E5: =C5/B5 *100 -> 80.258863
A6: 政令市 | B6: =表3.1.1!B6 -> 7979 | C6: =表3.1.6!I59 -> 6512 | D6: =B6-C6 -> 1467 | E6: =C6/B6 *100 -> 81.614237
A7: 経済産業省 | B7: =表3.1.1!B7 -> 72 | C7: 69 | D7: =B7-C7 -> 3 | E7: =C7/B7 *100 -> 95.833333
A8: 総計 | B8: =SUM(B5:B7) -> 34397 | C8: =SUM(C5:C7) -> 27726 | D8: =B8-C8 -> 6671 | E8: =C8/B8 *100 -> 80.605867
A11: 表3.1.6(1) 調査票の回収数及び回収率 都道府県別
A13: 都道府県 | B13: 配布数 | C13: 回収状況 | G13: 都道府県 | H13: 配布数 | I13: 回収状況
C14: 回収 | D14: 未回収 | E14: 回収率(%) | I14: 回収 | J14: 未回収 | K14: 回収率(%)
A15: 北海道 | B15: =表3.1.1!B15 -> 1158 | C15: 878 | D15: =B15-C15 -> 280 | E15: =C15/B15 *100 -> 75.82038 | G15: 滋賀県 | H15: =表3.1.1!H15 -> 686 | I15: 588 | J15: =H15-I15 -> 98 | K15: =I15/H15 *100 -> 85.714286
A16: 青森県 | B16: =表3.1.1!B16 -> 342 | C16: 294 | D16: =B16-C16 -> 48 | E16: =C16/B16 *100 -> 85.964912 | G16: 京都府 | H16: =表3.1.1!H16 -> 459 | I16: 376 | J16: =H16-I16 -> 83 | K16: =I16/H16 *100 -> 81.917211
A17: 岩手県 | B17: =表3.1.1!B17 -> 517 | C17: 419 | D17: =B17-C17 -> 98 | E17: =C17/B17 *100 -> 81.044487 | G17: 大阪府 | H17: =表3.1.1!H17 -> 406 | I17: 308 | J17: =H17-I17 -> 98 | K17: =I17/H17 *100 -> 75.862069
A18: 宮城県 | B18: =表3.1.1!B18 -> 344 | C18: 267 | D18: =B18-C18 -> 77 | E18: =C18/B18 *100 -> 77.616279 | G18: 兵庫県 | H18: =表3.1.1!H18 -> 1167 | I18: 984 | J18: =H18-I18 -> 183 | K18: =I18/H18 *100 -> 84.318766
A19: 秋田県 | B19: =表3.1.1!B19 -> 504 | C19: 412 | D19: =B19-C19 -> 92 | E19: =C19/B19 *100 -> 81.746032 | G19: 奈良県 | H19: =表3.1.1!H19 -> 262 | I19: 199 | J19: =H19-I19 -> 63 | K19: =I19/H19 *100 -> 75.954198
A20: 山形県 | B20: =表3.1.1!B20 -> 503 | C20: 375 | D20: =B20-C20 -> 128 | E20: =C20/B20 *100 -> 74.552684 | G20: 和歌山県 | H20: =表3.1.1!H20 -> 419 | I20: 324 | J20: =H20-I20 -> 95 | K20: =I20/H20 *100 -> 77.326969
A21: 福島県 | B21: =表3.1.1!B21 -> 594 | C21: 473 | D21: =B21-C21 -> 121 | E21: =C21/B21 *100 -> 79.62963 | G21: 鳥取県 | H21: =表3.1.1!H21 -> 242 | I21: 197 | J21: =H21-I21 -> 45 | K21: =I21/H21 *100 -> 81.404959
A22: 茨城県 | B22: =表3.1.1!B22 -> 863 | C22: 728 | D22: =B22-C22 -> 135 | E22: =C22/B22 *100 -> 84.356895 | G22: 島根県 | H22: =表3.1.1!H22 -> 375 | I22: 337 | J22: =H22-I22 -> 38 | K22: =I22/H22 *100 -> 89.866667
A23: 栃木県 | B23: =表3.1.1!B23 -> 833 | C23: 581 | D23: =B23-C23 -> 252 | E23: =C23/B23 *100 -> 69.747899 | G23: 岡山県 | H23: =表3.1.1!H23 -> 387 | I23: 329 | J23: =H23-I23 -> 58 | K23: =I23/H23 *100 -> 85.01292
A24: 群馬県 | B24: =表3.1.1!B24 -> 536 | C24: 357 | D24: =B24-C24 -> 179 | E24: =C24/B24 *100 -> 66.604478 | G24: 広島県 | H24: =表3.1.1!H24 -> 601 | I24: 495 | J24: =H24-I24 -> 106 | K24: =I24/H24 *100 -> 82.362729
A25: 埼玉県 | B25: =表3.1.1!B25 -> 785 | C25: 622 | D25: =B25-C25 -> 163 | E25: =C25/B25 *100 -> 79.235669 | G25: 山口県 | H25: =表3.1.1!H25 -> 546 | I25: 492 | J25: =H25-I25 -> 54 | K25: =I25/H25 *100 -> 90.10989
A26: 千葉県 | B26: =表3.1.1!B26 -> 827 | C26: 664 | D26: =B26-C26 -> 163 | E26: =C26/B26 *100 -> 80.290206 | G26: 徳島県 | H26: =表3.1.1!H26 -> 272 | I26: 214 | J26: =H26-I26 -> 58 | K26: =I26/H26 *100 -> 78.676471
... A37: 愛知県 | B37: =表3.1.1!B37 -> 1463 | C37: 1271 | D37: =B37-C37 -> 192 | E37: =C37/B37 *100 -> 86.876282 | G37: 沖縄県 | H37: =表3.1.1!H37 -> 250 | I37: 176 | J37: =H37-I37 -> 74 | K37: =I37/H37 *100 -> 70.4
A38: 三重県 | B38: =表3.1.1!B38 -> 931 | C38: 782 | D38: =B38-C38 -> 149 | E38: =C38/B38 *100 -> 83.995704 | G38: 小計 | H38: =SUM(B15:B38,H15:H37) -> 26346 | I38: =SUM(C15:C38,I15:I37) -> 21145 | J38: =H38-I38 -> 5201 | K38: =I38/H38 *100 -> 80.258863

Sheet 表3.1.6
A1: 表3.1.6(2) 調査票の回収数及び回収率 水質汚濁防止法政令市別
A3: 政令市 | B3: 配布数 | C3: 回収状況 | G3: 政令市 | H3: 配布数 | I3: 回収状況
C4: 回収 | D4: 未回収 | E4: 回収率(%) | I4: 回収 | J4: 未回収 | K4: 回収率(%)
A5: 札幌市 | B5: =表3.1.2!B5 -> 39 | C5: 32 | D5: =B5-C5 -> 7 | E5: =C5/B5*100 -> 82.051282 | G5: 岐阜市 | H5: =表3.1.2!H5 -> 70 | I5: 64 | J5: =H5-I5 -> 6 | K5: =I5/H5*100 -> 91.428571
A6: 函館市 | B6: =表3.1.2!B6 -> 44 | C6: 26 | D6: =B6-C6 -> 18 | E6: =C6/B6*100 -> 59.090909 | G6: 静岡市 | H6: =表3.1.2!H6 -> 145 | I6: 117 | J6: =H6-I6 -> 28 | K6: =I6 / H6 * 100 -> 80.689655
A7: 旭川市 | B7: =表3.1.2!B7 -> 32 | C7: 23 | D7: =B7-C7 -> 9 | E7: =C7/B7*100 -> 71.875 | G7: 浜松市 | H7: =表3.1.2!H7 -> 172 | I7: 133 | J7: =H7-I7 -> 39 | K7: =I7 / H7 * 100 -> 77.325581
A8: 青森市 | B8: =表3.1.2!B8 -> 64 | C8: 46 | D8: =B8-C8 -> 18 | E8: =C8/B8*100 -> 71.875 | G8: 沼津市 | H8: =表3.1.2!H8 -> 96 | I8: 78 | J8: =H8-I8 -> 18 | K8: =I8 / H8 * 100 -> 81.25
A9: 八戸市 | B9: =表3.1.2!B9 -> 68 | C9: 60 | D9: =B9-C9 -> 8 | E9: =C9/B9*100 -> 88.235294 | G9: 富士市 | H9: =表3.1.2!H9 -> 148 | I9: 123 | J9: =H9-I9 -> 25 | K9: =I9 / H9 * 100 -> 83.108108
A10: 盛岡市 | B10: =表3.1.2!B10 -> 40 | C10: 39 | D10: =B10-C10 -> 1 | E10: =C10/B10*100 -> 97.5 | G10: 名古屋市 | H10: =表3.1.2!H10 -> 85 | I10: 78 | J10: =H10-I10 -> 7 | K10: =I10 / H10 * 100 -> 91.764706
A11: 仙台市 | B11: =表3.1.2!B11 -> 69 | C11: 57 | D11: =B11-C11 -> 12 | E11: =C11/B11*100 -> 82.608696 | G11: 豊橋市 | H11: =表3.1.2!H11 -> 112 | I11: 97 | J11: =H11-I11 -> 15 | K11: =I11 / H11 * 100 -> 86.607143
A12: 秋田市 | B12: =表3.1.2!B12 -> 90 | C12: 74 | D12: =B12-C12 -> 16 | E12: =C12/B12*100 -> 82.222222 | G12: 岡崎市 | H12: =表3.1.2!H12 -> 88 | I12: 83 | J12: =H12-I12 -> 5 | K12: =I12 / H12 * 100 -> 94.318182
A13: 山形市 | B13: =表3.1.2!B13 -> 89 | C13: 56 | D13: =B13-C13 -> 33 | E13: =C13/B13*100 -> 62.921348 | G13: 一宮市 | H13: =表3.1.2!H13 -> 86 | I13: 64 | J13: =H13-I13 -> 22 | K13: =I13 / H13 * 100 -> 74.418605
A14: 福島市 | B14: =表3.1.2!B14 -> 97 | C14: 63 | D14: =B14-C14 -> 34 | E14: =C14/B14*100 -> 64.948454 | G14: 春日井市 | H14: =表3.1.2!H14 -> 92 | I14: 72 | J14: =H14-I14 -> 20 | K14: =I14 / H14 * 100 -> 78.26087
A15: 郡山市 | B15: =表3.1.2!B15 -> 111 | C15: 85 | D15: =B15-C15 -> 26 | E15: =C15/B15*100 -> 76.576577 | G15: 豊田市 | H15: =表3.1.2!H15 -> 162 | I15: 147 | J15: =H15-I15 -> 15 | K15: =I15 / H15 * 100 -> 90.740741
A16: いわき市 | B16: =表3.1.2!B16 -> 128 | C16: 98 | D16: =B16-C16 -> 30 | E16: =C16/B16*100 -> 76.5625 | G16: 四日市市 | H16: =表3.1.2!H16 -> 103 | I16: 91 | J16: =H16-I16 -> 12 | K16: =I16 / H16 * 100 -> 88.349515
A17: 水戸市 | B17: =表3.1.2!B17 -> 55 | C17: 46 | D17: =B17-C17 -> 9 | E17: =C17/B17*100 -> 83.636364 | G17: 大津市 | H17: =表3.1.2!H17 -> 52 | I17: 41 | J17: =H17-I17 -> 11 | K17: =I17 / H17 * 100 -> 78.846154
... A58: 松本市 | B58: =表3.1.2!B58 -> 58 | C58: 47 | D58: =B58-C58 -> 11 | E58: =C58/B58*100 -> 81.034483 | G58: 鹿児島市 | H58: =表3.1.2!H58 -> 61 | I58: 47 | J58: =H58-I58 -> 14 | K58: =I58 / H58 * 100 -> 77.04918
G59: 小計 | H59: =SUM(B5:B58,H5:H58) -> 7979 | I59: =SUM(C5:C58,I5:I58) -> 6512 | J59: =SUM(D5:D58,J5:J58) -> 1467 | K59: =I59 / H59 * 100 -> 81.614237

Sheet 表3.1.7
A1: 表3.1.7 調査票の回収数及び回収率 産業分類別
A3: 産業中分類 | C3: 配布数 | D3: 回収状況
D4: 回収 | E4: 未回収 | F4: 回収率(%)
A5: 01 | B5: 農業 | C5: =表3.1.3!C5 -> 296 | D5: 172 | E5: =C5-D5 -> 124 | F5: =IF(C5=0,0,D5/C5*100) -> 58.108108 | H5: 01 | I5: 農業
A6: 02 | B6: 林業 | C6: =表3.1.3!C6 -> 3 | D6: 3 | E6: =C6-D6 -> 0 | F6: =IF(C6=0,0,D6/C6*100) -> 100 | H6: 02 | I6: 林業
A7: 03 | B7: 漁業（水産養殖業を除く） | C7: =表3.1.3!C7 -> 6 | D7: 5 | E7: =C7-D7 -> 1 | F7: =IF(C7=0,0,D7/C7*100) -> 83.333333 | H7: 03 | I7: 漁業（水産養殖業を除く）
A8: 04 | B8: 水産養殖業 | C8: =表3.1.3!C8 -> 9 | D8: 5 | E8: =C8-D8 -> 4 | F8: =IF(C8=0,0,D8/C8*100) -> 55.555556 | H8: 04 | I8: 水産養殖業
A9: 05 | B9: 鉱業，採石業，砂利採取業 | C9: =表3.1.3!C9 -> 197 | D9: 150 | E9: =C9-D9 -> 47 | F9: =IF(C9=0,0,D9/C9*100) -> 76.142132 | H9: 05 | I9: 鉱業，採石業，砂利採取業
A10: 06 | B10: 総合工事業 | C10: =表3.1.3!C10 -> 128 | D10: 119 | E10: =C10-D10 -> 9 | F10: =IF(C10=0,0,D10/C10*100) -> 92.96875 | H10: 06 | I10: 総合工事業
A11: 07 | B11: 職別工事業(設備工事業を除く) | C11: =表3.1.3!C11 -> 10 | D11: 8 | E11: =C11-D11 -> 2 | F11: =IF(C11=0,0,D11/C11*100) -> 80 | H11: 07 | I11: 職別工事業(設備工事業を除く)
A12: 08 | B12: 設備工事業 | C12: =表3.1.3!C12 -> 8 | D12: 7 | E12: =C12-D12 -> 1 | F12: =IF(C12=0,0,D12/C12*100) -> 87.5 | H12: 08 | I12: 設備工事業
A13: 09 | B13: 食料品製造業 | C13: =表3.1.3!C13 -> 2834 | D13: 2186 | E13: =C13-D13 -> 648 | F13: =IF(C13=0,0,D13/C13*100) -> 77.134792 | H13: 09 | I13: 食料品製造業
A14: 10 | B14: 飲料・たばこ・飼料製造業 | C14: =表3.1.3!C14 -> 508 | D14: 433 | E14: =C14-D14 -> 75 | F14: =IF(C14=0,0,D14/C14*100) -> 85.23622 | H14: 10 | I14: 飲料・たばこ・飼料製造業
A15: 11 | B15: 繊維工業 | C15: =表3.1.3!C15 -> 498 | D15: 384 | E15: =C15-D15 -> 114 | F15: =IF(C15=0,0,D15/C15*100) -> 77.108434 | H15: 11 | I15: 繊維工業
A16: 12 | B16: 木材・木製品製造業（家具を除く） | C16: =表3.1.3!C16 -> 74 | D16: 62 | E16: =C16-D16 -> 12 | F16: =IF(C16=0,0,D16/C16*100) -> 83.783784 | H16: 12 | I16: 木材・木製品製造業（家具を除く）
... A104: - | B104: 産業分類不明 | C104: =表3.1.3!C104 -> 159 | D104: 70 | E104: =C104-D104 -> 89 | F104: =IF(C104=0,0,D104/C104*100) -> 44.025157 | H104: - | I104: 産業分類不明
B105: 合計 | C105: =SUM(C5:C104) -> 34397 | D105: =SUM(D5:D104) -> 27726 | E105: =SUM(E5:E104) -> 6671 | F105: =IF(C105=0,0,D105/C105*100) -> 80.605867

Sheet 表3.1.8
A1: 表3.1.8 調査票の回収数及び回収率 代表特定施設別
A3: 代表特定施設 | C3: 配布数 | D3: 回収状況
D4: 回収 | E4: 未回収 | F4: 回収率(%)
A5: 1 | B5: 鉱業又は水洗炭業の用に供する施設 | C5: =表3.1.4!C5 -> 86 | D5: 80 | E5: =C5-D5 -> 6 | F5: =IF(C5=0,0,D5/C5*100) -> 93.023256
A6: 1-2 | B6: 畜産農業又はサービス業の用に供する施設 | C6: =表3.1.4!C6 -> 298 | D6: 182 | E6: =C6-D6 -> 116 | F6: =IF(C6=0,0,D6/C6*100) -> 61.073826
A7: 2 | B7: 畜産食料品製造業の用に供する施設 | C7: =表3.1.4!C7 -> 600 | D7: 518 | E7: =C7-D7 -> 82 | F7: =IF(C7=0,0,D7/C7*100) -> 86.333333
A8: 3 | B8: 水産食料品製造業の用に供する施設 | C8: =表3.1.4!C8 -> 539 | D8: 369 | E8: =C8-D8 -> 170 | F8: =IF(C8=0,0,D8/C8*100) -> 68.460111
A9: 4 | B9: 野菜又は果実を原料とする保存食料品製造業の用に供する施設 | C9: =表3.1.4!C9 -> 503 | D9: 371 | E9: =C9-D9 -> 132 | F9: =IF(C9=0,0,D9/C9*100) -> 73.757455
A10: 5 | B10: みそ、しょう油、食用アミノ酸等の製造業の用に供する施設 | C10: =表3.1.4!C10 -> 145 | D10: 120 | E10: =C10-D10 -> 25 | F10: =IF(C10=0,0,D10/C10*100) -> 82.758621
A11: 6 | B11: 小麦粉製造業の用に供する洗浄施設 | C11: =表3.1.4!C11 -> 0 | D11: 0 | E11: =C11-D11 -> 0 | F11: =IF(C11=0,0,D11/C11*100) -> 0
A12: 7 | B12: 砂糖製造業の用に供する施設 | C12: =表3.1.4!C12 -> 43 | D12: 39 | E12: =C12-D12 -> 4 | F12: =IF(C12=0,0,D12/C12*100) -> 90.697674
A13: 8 | B13: パン・菓子の製造業又は製あん業の用に供する粗製あんの沈殿槽 | C13: =表3.1.4!C13 -> 54 | D13: 39 | E13: =C13-D13 -> 15 | F13: =IF(C13=0,0,D13/C13*100) -> 72.222222
A14: 9 | B14: 米菓製造業又はこうじ製造業の用に供する洗米機 | C14: =表3.1.4!C14 -> 52 | D14: 38 | E14: =C14-D14 -> 14 | F14: =IF(C14=0,0,D14/C14*100) -> 73.076923
A15: 10 | B15: 飲料製造業の用に供する施設 | C15: =表3.1.4!C15 -> 478 | D15: 413 | E15: =C15-D15 -> 65 | F15: =IF(C15=0,0,D15/C15*100) -> 86.401674
A16: 11 | B16: 動物系飼料又は有機質肥料の製造業の用に供する施設 | C16: =表3.1.4!C16 -> 82 | D16: 60 | E16: =C16-D16 -> 22 | F16: =IF(C16=0,0,D16/C16*100) -> 73.170732
... A109: - | B109: 特定施設不明 | C109: =表3.1.4!C109 -> 21 | D109: 18 | E109: =C109-D109 -> 3 | F109: =IF(C109=0,0,D109/C109*100) -> 85.714286
B110: 合計 | C110: =SUM(C5:C109) -> 34397 | D110: =SUM(D5:D109) -> 27726 | E110: =SUM(E5:E109) -> 6671 | F110: =IF(C110=0,0,D110/C110*100) -> 80.605867

Sheet 表3.2.1
A1: 表3.2.1 稼働別工場・事業場数
A3: 所管 | B3: 回収数 | C3: 稼動コード
C4: 1稼働 | D4: 2下水道接続 | E4: 3建設中 | F4: 4休止 | G4: 5廃止 | H4: 9その他
A5: 都道府県 | B5: =SUM(C5:I5) -> 21145 | C5: =M39 -> 19642 | D5: =N39 -> 673 | E5: =O39 -> 98 | F5: =P39 -> 261 | G5: =Q39 -> 317 | H5: =R39 -> 154
A6: 政令市 | B6: =SUM(C6:I6) -> 6512 | C6: =表3.2.2!M59 -> 6052 | D6: =表3.2.2!N59 -> 236 | E6: =表3.2.2!O59 -> 22 | F6: =表3.2.2!P59 -> 68 | G6: =表3.2.2!Q59 -> 96 | H6: =表3.2.2!R59 -> 38
A7: 経済産業省 | B7: =SUM(C7:I7) -> 69 | C7: 62 | F7: 2 | H7: 5
C8: 0 | D8: 0 | E8: 0 | F8: 0 | G8: 0 | H8: 0
A9: 総計 | B9: =SUM(B5:B8) -> 27726 | C9: =SUM(C5:C8) -> 25756 | D9: =SUM(D5:D8) -> 909 | E9: =SUM(E5:E8) -> 120 | F9: =SUM(F5:F8) -> 331 | G9: =SUM(G5:G8) -> 413 | H9: =SUM(H5:H8) -> 197
A12: 表3.2.2(1) 稼働別工場・事業場数 都道府県別
A14: 都道府県 | B14: 回収数 | C14: 稼働コード | K14: 都道府県 | L14: 回収数 | M14: 稼働コード
C15: 1稼働 | D15: 2下水道接続 | E15: 3建設中 | F15: 4休止 | G15: 5廃止 | H15: 9その他 | M15: 1稼働 | N15: 2下水道接続 | O15: 3建設中 | P15: 4休止 | Q15: 5廃止 | R15: 9その他
A16: 北海道 | B16: =SUM(C16:I16) -> 878 | C16: 824 | D16: 22 | E16: 3 | F16: 14 | G16: 13 | H16: 2 | K16: 滋賀県 | L16: =SUM(M16:S16) -> 588 | M16: 552 | N16: 28 | O16: 1 | P16: 4 | Q16: 2 | R16: 1
A17: 青森県 | B17: =SUM(C17:I17) -> 294 | C17: 272 | D17: 4 | E17: 4 | F17: 7 | G17: 6 | H17: 1 | K17: 京都府 | L17: =SUM(M17:S17) -> 376 | M17: 330 | N17: 24 | O17: 2 | P17: 4 | Q17: 13 | R17: 3
A18: 岩手県 | B18: =SUM(C18:I18) -> 419 | C18: 396 | D18: 11 | E18: 2 | F18: 5 | G18: 3 | H18: 2 | K18: 大阪府 | L18: =SUM(M18:S18) -> 308 | M18: 262 | N18: 29 | P18: 6 | Q18: 5 | R18: 6
A19: 宮城県 | B19: =SUM(C19:I19) -> 267 | C19: 239 | D19: 11 | E19: 1 | F19: 8 | G19: 5 | H19: 3 | K19: 兵庫県 | L19: =SUM(M19:S19) -> 984 | M19: 886 | N19: 32 | O19: 2 | P19: 10 | Q19: 42 | R19: 12
A20: 秋田県 | B20: =SUM(C20:I20) -> 412 | C20: 388 | D20: 7 | E20: 3 | F20: 3 | G20: 8 | H20: 3 | K20: 奈良県 | L20: =SUM(M20:S20) -> 199 | M20: 181 | N20: 9 | O20: 2 | P20: 2 | Q20: 3 | R20: 2
A21: 山形県 | B21: =SUM(C21:I21) -> 375 | C21: 348 | D21: 15 | E21: 1 | F21: 5 | G21: 6 | K21: 和歌山県 | L21: =SUM(M21:S21) -> 324 | M21: 309 | N21: 3 | O21: 3 | P21: 4 | Q21: 3 | R21: 2
A22: 福島県 | B22: =SUM(C22:I22) -> 473 | C22: 429 | D22: 16 | E22: 1 | F22: 18 | G22: 6 | H22: 3 | K22: 鳥取県 | L22: =SUM(M22:S22) -> 197 | M22: 188 | N22: 3 | Q22: 4 | R22: 2
A23: 茨城県 | B23: =SUM(C23:I23) -> 728 | C23: 683 | D23: 14 | E23: 6 | F23: 5 | G23: 13 | H23: 7 | K23: 島根県 | L23: =SUM(M23:S23) -> 337 | M23: 319 | N23: 8 | O23: 4 | P23: 2 | Q23: 4
A24: 栃木県 | B24: =SUM(C24:I24) -> 581 | C24: 525 | D24: 30 | E24: 1 | F24: 7 | G24: 8 | H24: 10 | K24: 岡山県 | L24: =SUM(M24:S24) -> 329 | M24: 298 | N24: 18 | P24: 3 | Q24: 7 | R24: 3
A25: 群馬県 | B25: =SUM(C25:I25) -> 357 | C25: 327 | D25: 15 | E25: 2 | F25: 7 | G25: 3 | H25: 3 | K25: 広島県 | L25: =SUM(M25:S25) -> 495 | M25: 451 | N25: 28 | O25: 1 | P25: 6 | Q25: 3 | R25: 6
A26: 埼玉県 | B26: =SUM(C26:I26) -> 622 | C26: 598 | D26: 9 | E26: 2 | F26: 4 | G26: 6 | H26: 3 | K26: 山口県 | L26: =SUM(M26:S26) -> 492 | M26: 468 | N26: 7 | O26: 2 | P26: 5 | Q26: 4 | R26: 6
A27: 千葉県 | B27: =SUM(C27:I27) -> 664 | C27: 626 | D27: 14 | E27: 3 | F27: 9 | G27: 8 | H27: 4 | K27: 徳島県 | L27: =SUM(M27:S27) -> 214 | M27: 207 | N27: 2 | O27: 1 | P27: 3 | Q27: 1
A28: 東京都 | B28: =SUM(C28:I28) -> 107 | C28: 102 | D28: 3 | E28: 1 | G28: 1 | K28: 香川県 | L28: =SUM(M28:S28) -> 269 | M28: 260 | N28: 4 | O28: 1 | P28: 2 | Q28: 1 | R28: 1
A29: 神奈川県 | B29: =SUM(C29:I29) -> 288 | C29: 204 | D29: 70 | F29: 7 | G29: 6 | H29: 1 | K29: 愛媛県 | L29: =SUM(M29:S29) -> 337 | M29: 328 | N29: 2 | P29: 2 | Q29: 4 | R29: 1
A30: 新潟県 | B30: =SUM(C30:I30) -> 715 | C30: 666 | D30: 11 | E30: 3 | F30: 14 | G30: 18 | H30: 3 | K30: 高知県 | L30: =SUM(M30:S30) -> 199 | M30: 188 | N30: 5 | O30: 3 | P30: 2 | R30: 1
A31: 富山県 | B31: =SUM(C31:I31) -> 344 | C31: 325 | D31: 8 | F31: 6 | G31: 3 | H31: 2 | K31: 福岡県 | L31: =SUM(M31:S31) -> 559 | M31: 520 | N31: 22 | O31: 3 | P31: 3 | Q31: 6 | R31: 5
A32: 石川県 | B32: =SUM(C32:I32) -> 393 | C32: 376 | D32: 10 | F32: 3 | G32: 2 | H32: 2 | K32: 佐賀県 | L32: =SUM(M32:S32) -> 346 | M32: 310 | N32: 22 | O32: 4 | P32: 5 | Q32: 4 | R32: 1
A33: 福井県 | B33: =SUM(C33:I33) -> 262 | C33: 248 | D33: 2 | E33: 2 | F33: 5 | G33: 4 | H33: 1 | K33: 長崎県 | L33: =SUM(M33:S33) -> 249 | M33: 233 | N33: 7 | O33: 4 | P33: 2 | Q33: 2 | R33: 1
A34: 山梨県 | B34: =SUM(C34:I34) -> 319 | C34: 291 | D34: 14 | E34: 4 | F34: 6 | G34: 3 | H34: 1 | K34: 熊本県 | L34: =SUM(M34:S34) -> 307 | M34: 280 | N34: 13 | O34: 2 | P34: 2 | Q34: 8 | R34: 2
A35: 長野県 | B35: =SUM(C35:I35) -> 782 | C35: 722 | D35: 28 | E35: 2 | F35: 13 | G35: 14 | H35: 3 | K35: 大分県 | L35: =SUM(M35:S35) -> 291 | M35: 270 | N35: 7 | P35: 7 | Q35: 6 | R35: 1
A36: 岐阜県 | B36: =SUM(C36:I36) -> 794 | C36: 746 | D36: 16 | E36: 1 | F36: 8 | G36: 16 | H36: 7 | K36: 宮崎県 | L36: =SUM(M36:S36) -> 228 | M36: 209 | N36: 5 | O36: 2 | P36: 5 | Q36: 4 | R36: 3
A37: 静岡県 | B37: =SUM(C37:I37) -> 743 | C37: 713 | D37: 14 | E37: 1 | F37: 4 | G37: 4 | H37: 7 | K37: 鹿児島県 | L37: =SUM(M37:S37) -> 471 | M37: 432 | N37: 7 | O37: 3 | P37: 9 | Q37: 12 | R37: 8
A38: 愛知県 | B38: =SUM(C38:I38) -> 1271 | C38: 1207 | D38: 26 | E38: 5 | F38: 6 | G38: 16 | H38: 11 | K38: 沖縄県 | L38: =SUM(M38:S38) -> 176 | M38: 167 | N38: 4 | O38: 1 | P38: 3 | Q38: 1
A39: 三重県 | B39: =SUM(C39:I39) -> 782 | C39: 739 | D39: 14 | E39: 9 | F39: 6 | G39: 6 | H39: 8 | K39: 小計 | L39: =SUM(B16:B39,L16:L38) -> 21145 | M39: =SUM(C16:C39,M16:M38) -> 19642 | N39: =SUM(D16:D39,N16:N38) -> 673 | O39: =SUM(E16:E39,O16:O38) -> 98 | P39: =SUM(F16:F39,P16:P38) -> 261 | Q39: =SUM(G16:G39,Q16:Q38) -> 317 | R39: =SUM(H16:H39,R16:R38) -> 154

Sheet 表3.2.2
A1: 表3.2.2(2) 稼働別工場・事業場数 水質汚濁奉仕法政令市別
A3: 政令市 | B3: 回収数 | C3: 稼働コード | K3: 政令市 | L3: 回収数 | M3: 稼働コード
C4: 1稼働 | D4: 2下水接続 | E4: 3建設中 | F4: 4休止 | G4: 5廃止 | H4: 9その他 | M4: 1稼働 | N4: 2下水接続 | O4: 3建設中 | P4: 4休止 | Q4: 5廃止 | R4: 9その他
A5: 札幌市 | B5: =SUM(C5:I5) -> 32 | C5: 31 | D5: 1 | K5: 岐阜市 | L5: =SUM(M5:S5) -> 64 | M5: 61 | Q5: 1 | R5: 2
A6: 函館市 | B6: =SUM(C6:I6) -> 26 | C6: 24 | D6: 2 | K6: 静岡市 | L6: =SUM(M6:S6) -> 117 | M6: 105 | N6: 5 | P6: 3 | Q6: 4
A7: 旭川市 | B7: =SUM(C7:I7) -> 23 | C7: 22 | D7: 1 | K7: 浜松市 | L7: =SUM(M7:S7) -> 133 | M7: 125 | N7: 2 | P7: 3 | Q7: 2 | R7: 1
A8: 青森市 | B8: =SUM(C8:I8) -> 46 | C8: 44 | D8: 2 | K8: 沼津市 | L8: =SUM(M8:S8) -> 78 | M8: 75 | Q8: 3
A9: 八戸市 | B9: =SUM(C9:I9) -> 60 | C9: 57 | D9: 1 | F9: 1 | H9: 1 | K9: 富士市 | L9: =SUM(M9:S9) -> 123 | M9: 115 | N9: 4 | P9: 2 | Q9: 1 | R9: 1
A10: 盛岡市 | B10: =SUM(C10:I10) -> 39 | C10: 36 | D10: 1 | E10: 2 | K10: 名古屋市 | L10: =SUM(M10:S10) -> 78 | M10: 75 | N10: 2 | O10: 1
A11: 仙台市 | B11: =SUM(C11:I11) -> 57 | C11: 53 | D11: 1 | F11: 1 | G11: 2 | K11: 豊橋市 | L11: =SUM(M11:S11) -> 97 | M11: 96 | N11: 1
A12: 秋田市 | B12: =SUM(C12:I12) -> 74 | C12: 69 | D12: 2 | E12: 1 | F12: 2 | K12: 岡崎市 | L12: =SUM(M12:S12) -> 83 | M12: 80 | N12: 1 | Q12: 1 | R12: 1
A13: 山形市 | B13: =SUM(C13:I13) -> 56 | C13: 48 | D13: 6 | G13: 2 | K13: 一宮市 | L13: =SUM(M13:S13) -> 64 | M13: 63 | N13: 1
A14: 福島市 | B14: =SUM(C14:I14) -> 63 | C14: 57 | D14: 3 | F14: 1 | G14: 1 | H14: 1 | K14: 春日井市 | L14: =SUM(M14:S14) -> 72 | M14: 69 | N14: 1 | R14: 2
A15: 郡山市 | B15: =SUM(C15:I15) -> 85 | C15: 83 | F15: 1 | G15: 1 | K15: 豊田市 | L15: =SUM(M15:S15) -> 147 | M15: 138 | N15: 4 | P15: 2 | Q15: 3
A16: いわき市 | B16: =SUM(C16:I16) -> 98 | C16: 89 | D16: 1 | F16: 4 | G16: 3 | H16: 1 | K16: 四日市市 | L16: =SUM(M16:S16) -> 91 | M16: 87 | P16: 1 | Q16: 1 | R16: 2
A17: 水戸市 | B17: =SUM(C17:I17) -> 46 | C17: 40 | D17: 3 | E17: 2 | F17: 1 | K17: 大津市 | L17: =SUM(M17:S17) -> 41 | M17: 38 | N17: 2 | R17: 1
A18: つくば市 | B18: =SUM(C18:I18) -> 38 | C18: 24 | D18: 14 | K18: 京都市 | L18: =SUM(M18:S18) -> 24 | M18: 20 | N18: 2 | Q18: 2
A19: 宇都宮市 | B19: =SUM(C19:I19) -> 92 | C19: 82 | D19: 4 | E19: 1 | F19: 1 | G19: 3 | H19: 1 | K19: 大阪市 | L19: =SUM(M19:S19) -> 31 | M19: 30 | N19: 1
A20: 前橋市 | B20: =SUM(C20:I20) -> 87 | C20: 82 | D20: 2 | E20: 1 | F20: 1 | G20: 1 | K20: 堺市 | L20: =SUM(M20:S20) -> 93 | M20: 88 | N20: 4 | P20: 1
A21: 高崎市 | B21: =SUM(C21:I21) -> 89 | C21: 85 | D21: 1 | G21: 2 | H21: 1 | K21: 岸和田市 | L21: =SUM(M21:S21) -> 23 | M21: 18 | O21: 2 | P21: 3
A22: 伊勢崎市 | B22: =SUM(C22:I22) -> 102 | C22: 93 | D22: 3 | F22: 1 | G22: 5 | K22: 豊中市 | L22: =SUM(M22:S22) -> 3 | M22: 3
A23: 太田市 | B23: =SUM(C23:I23) -> 103 | C23: 91 | D23: 3 | E23: 1 | F23: 1 | G23: 6 | H23: 1 | K23: 吹田市 | L23: =SUM(M23:S23) -> 13 | M23: 11 | N23: 2
A24: さいたま市 | B24: =SUM(C24:I24) -> 80 | C24: 77 | D24: 2 | G24: 1 | K24: 高槻市 | L24: =SUM(M24:S24) -> 28 | M24: 23 | N24: 5
A25: 川越市 | B25: =SUM(C25:I25) -> 41 | C25: 37 | D25: 2 | F25: 1 | H25: 1 | K25: 枚方市 | L25: =SUM(M25:S25) -> 22 | M25: 16 | N25: 5 | P25: 1
A26: 熊谷市 | B26: =SUM(C26:I26) -> 73 | C26: 73 | K26: 茨木市 | L26: =SUM(M26:S26) -> 7 | M26: 7
A27: 川口市 | B27: =SUM(C27:I27) -> 23 | C27: 22 | F27: 1 | K27: 八尾市 | L27: =SUM(M27:S27) -> 34 | M27: 30 | N27: 3 | Q27: 1
A28: 所沢市 | B28: =SUM(C28:I28) -> 19 | C28: 18 | F28: 1 | K28: 寝屋川市 | L28: =SUM(M28:S28) -> 4 | M28: 4
A29: 春日部市 | B29: =SUM(C29:I29) -> 16 | C29: 16 | K29: 東大阪市 | L29: =SUM(M29:S29) -> 9 | M29: 7 | P29: 1 | Q29: 1
A30: 草加市 | B30: =SUM(C30:I30) -> 10 | C30: 8 | D30: 1 | G30: 1 | K30: 神戸市 | L30: =SUM(M30:S30) -> 86 | M30: 83 | N30: 2 | P30: 1
A31: 越谷市 | B31: =SUM(C31:I31) -> 30 | C31: 29 | F31: 1 | K31: 姫路市 | L31: =SUM(M31:S31) -> 107 | M31: 103 | N31: 3 | Q31: 1
A32: 千葉市 | B32: =SUM(C32:I32) -> 57 | C32: 54 | D32: 2 | F32: 1 | K32: 尼崎市 | L32: =SUM(M32:S32) -> 21 | M32: 21
A33: 市川市 | B33: =SUM(C33:I33) -> 73 | C33: 68 | D33: 3 | G33: 1 | H33: 1 | K33: 明石市 | L33: =SUM(M33:S33) -> 21 | M33: 21
A34: 船橋市 | B34: =SUM(C34:I34) -> 123 | C34: 111 | D34: 6 | G34: 5 | H34: 1 | K34: 西宮市 | L34: =SUM(M34:S34) -> 13 | M34: 13
A35: 松戸市 | B35: =SUM(C35:I35) -> 55 | C35: 48 | D35: 4 | E35: 1 | F35: 2 | K35: 加古川市 | L35: =SUM(M35:S35) -> 29 | M35: 29
A36: 柏市 | B36: =SUM(C36:I36) -> 37 | C36: 34 | D36: 2 | G36: 1 | K36: 宝塚市 | L36: =SUM(M36:S36) -> 4 | M36: 4
A37: 市原市 | B37: =SUM(C37:I37) -> 85 | C37: 83 | F37: 1 | G37: 1 | K37: 奈良市 | L37: =SUM(M37:S37) -> 33 | M37: 32 | P37: 1
A38: 八王子市 | B38: =SUM(C38:I38) -> 46 | C38: 35 | D38: 8 | G38: 2 | H38: 1 | K38: 和歌山市 | L38: =SUM(M38:S38) -> 117 | M38: 110 | N38: 4 | P38: 3
A39: 町田市 | B39: =SUM(C39:I39) -> 17 | C39: 17 | K39: 鳥取市 | L39: =SUM(M39:S39) -> 78 | M39: 73 | N39: 2 | P39: 1 | Q39: 2
A40: 横浜市 | B40: =SUM(C40:I40) -> 110 | C40: 101 | D40: 5 | F40: 1 | G40: 3 | K40: 岡山市 | L40: =SUM(M40:S40) -> 173 | M40: 164 | N40: 5 | O40: 1 | Q40: 2 | R40: 1
A41: 川崎市 | B41: =SUM(C41:I41) -> 113 | C41: 91 | D41: 18 | E41: 1 | G41: 1 | H41: 2 | K41: 倉敷市 | L41: =SUM(M41:S41) -> 120 | M41: 113 | N41: 2 | O41: 1 | P41: 2 | Q41: 1 | R41: 1
A42: 横須賀市 | B42: =SUM(C42:I42) -> 16 | C42: 15 | G42: 1 | K42: 広島市 | L42: =SUM(M42:S42) -> 81 | M42: 76 | N42: 4 | Q42: 1
A43: 平塚市 | B43: =SUM(C43:I43) -> 23 | C43: 16 | D43: 6 | E43: 1 | K43: 呉市 | L43: =SUM(M43:S43) -> 41 | M43: 38 | O43: 2 | Q43: 1
A44: 藤沢市 | B44: =SUM(C44:I44) -> 30 | C44: 28 | D44: 2 | K44: 福山市 | L44: =SUM(M44:S44) -> 71 | M44: 69 | P44: 1 | Q44: 1
A45: 小田原市 | B45: =SUM(C45:I45) -> 29 | C45: 29 | K45: 下関市 | L45: =SUM(M45:S45) -> 62 | M45: 62
A46: 茅ヶ崎市 | B46: =SUM(C46:I46) -> 9 | C46: 8 | D46: 1 | K46: 徳島市 | L46: =SUM(M46:S46) -> 100 | M46: 98 | P46: 2
A47: 相模原市 | B47: =SUM(C47:I47) -> 33 | C47: 30 | D47: 3 | K47: 高松市 | L47: =SUM(M47:S47) -> 71 | M47: 66 | N47: 2 | P47: 2 | R47: 1
A48: 厚木市 | B48: =SUM(C48:I48) -> 26 | C48: 20 | D48: 5 | G48: 1 | K48: 松山市 | L48: =SUM(M48:S48) -> 121 | M48: 101 | N48: 13 | O48: 1 | P48: 1 | Q48: 3 | R48: 2
A49: 大和市 | B49: =SUM(C49:I49) -> 14 | C49: 14 | K49: 高知市 | L49: =SUM(M49:S49) -> 76 | M49: 74 | Q49: 1 | R49: 1
A50: 新潟市 | B50: =SUM(C50:I50) -> 153 | C50: 145 | D50: 2 | F50: 1 | G50: 4 | H50: 1 | K50: 北九州市 | L50: =SUM(M50:S50) -> 67 | M50: 64 | N50: 1 | O50: 1 | R50: 1
A51: 長岡市 | B51: =SUM(C51:I51) -> 63 | C51: 56 | D51: 2 | E51: 1 | F51: 1 | G51: 3 | K51: 福岡市 | L51: =SUM(M51:S51) -> 24 | M51: 24
A52: 上越市 | B52: =SUM(C52:I52) -> 99 | C52: 92 | D52: 4 | G52: 2 | H52: 1 | K52: 久留米市 | L52: =SUM(M52:S52) -> 43 | M52: 41 | N52: 1 | P52: 1
A53: 富山市 | B53: =SUM(C53:I53) -> 146 | C53: 140 | D53: 2 | F53: 2 | G53: 2 | K53: 長崎市 | L53: =SUM(M53:S53) -> 42 | M53: 40 | N53: 1 | P53: 1
A54: 金沢市 | B54: =SUM(C54:I54) -> 66 | C54: 65 | F54: 1 | K54: 佐世保市 | L54: =SUM(M54:S54) -> 36 | M54: 35 | Q54: 1
A55: 福井市 | B55: =SUM(C55:I55) -> 70 | C55: 68 | E55: 1 | F55: 1 | K55: 熊本市 | L55: =SUM(M55:S55) -> 56 | M55: 52 | N55: 3 | Q55: 1
A56: 甲府市 | B56: =SUM(C56:I56) -> 24 | C56: 20 | D56: 2 | F56: 1 | G56: 1 | K56: 大分市 | L56: =SUM(M56:S56) -> 67 | M56: 65 | N56: 1 | P56: 1
A57: 長野市 | B57: =SUM(C57:I57) -> 79 | C57: 71 | D57: 3 | G57: 1 | H57: 4 | K57: 宮崎市 | L57: =SUM(M57:S57) -> 75 | M57: 59 | N57: 8 | P57: 2 | Q57: 4 | R57: 2
A58: 松本市 | B58: =SUM(C58:I58) -> 47 | C58: 43 | D58: 3 | F58: 1 | K58: 鹿児島市 | L58: =SUM(M58:S58) -> 47 | M58: 46 | R58: 1
K59: 小計 | L59: =SUM(M59:S59) -> 6512 | M59: =SUM(C5:C58,M5:M58) -> 6052 | N59: =SUM(D5:D58,N5:N58) -> 236 | O59: =SUM(E5:E58,O5:O58) -> 22 | P59: =SUM(F5:F58,P5:P58) -> 68 | Q59: =SUM(G5:G58,Q5:Q58) -> 96 | R59: =SUM(H5:H58,R5:R58) -> 38

Sheet 表3.2.5(データ集計用)
I2: 30 | J2: 60 | K2: 60 | L2: 60 | M2: 60 | N2: 60 | O2: 60 | P2: 60 | Q2: 60 | R2: 30
I3: 30 | J3: 60 | K3: 60 | L3: 60 | M3: 60 | N3: 60 | O3: 60 | P3: 60 | Q3: 60 | R3: 0 | Y3: 0
J4: 60 | K4: 60 | L4: 60 | M4: 60 | N4: 60 | O4: 60 | P4: 60 | Q4: 60 | R4: 60
I5: 45 | J5: 60 | K5: 60 | L5: 60 | M5: 60 | N5: 60 | O5: 60 | P5: 60 | Q5: 60 | R5: 10 | Y5: 0
A6: 60 | B6: 60 | C6: 60 | D6: 60 | E6: 60 | F6: 60 | G6: 60 | H6: 60 | I6: 60 | J6: 60 | K6: 60 | L6: 60 | M6: 60 | N6: 60 | O6: 60 | P6: 60 | Q6: 60 | R6: 60 | S6: 60 | T6: 60 | U6: 60 | V6: 60 | W6: 60 | X6: 60
I7: 50 | J7: 60 | K7: 60 | L7: 60 | M7: 60 | N7: 60 | O7: 60 | P7: 60 | Q7: 60 | R7: 20
A8: 60 | B8: 60 | C8: 60 | D8: 60 | E8: 60 | F8: 20 | I8: 30 | J8: 60 | K8: 60 | L8: 60 | M8: 60 | N8: 60 | O8: 60 | P8: 60 | Q8: 60 | R8: 60 | S8: 60 | T8: 60 | U8: 60 | V8: 60 | W8: 60 | X8: 60 | Y8: 0
I9: 30 | J9: 60 | K9: 60 | L9: 60 | M9: 60 | N9: 60 | O9: 60 | P9: 60 | Q9: 60 | R9: 0 | Y9: 0
H10: 60 | I10: 60 | J10: 60 | K10: 60 | L10: 60 | M10: 60 | N10: 60 | O10: 60 | P10: 60 | Q10: 60 | R10: 60 | S10: 60 | T10: 60 | U10: 60 | V10: 60 | W10: 60 | X10: 60 | Y10: 0
I11: 30 | J11: 60 | K11: 60 | L11: 60 | M11: 60 | N11: 60 | O11: 60 | P11: 60 | Q11: 60 | R11: 30
I12: 60 | J12: 60 | K12: 60 | L12: 60 | M12: 60 | N12: 60 | O12: 60 | P12: 60 | Q12: 60 | Y12: 0
I13: 45 | J13: 60 | K13: 60 | L13: 60 | M13: 60 | N13: 60 | O13: 60 | P13: 60 | Q13: 60 | R13: 0
J14: 60 | K14: 60 | L14: 60 | M14: 60 | N14: 60 | O14: 60 | P14: 60 | Q14: 60 | R14: 60
A15: 60 | B15: 60 | C15: 60 | D15: 60 | E15: 60 | F15: 60 | G15: 60 | H15: 60 | I15: 60 | J15: 60 | K15: 60 | L15: 60 | M15: 60 | N15: 60 | O15: 60 | P15: 60 | Q15: 60 | R15: 60 | S15: 60 | T15: 60 | U15: 60 | V15: 60 | W15: 60 | X15: 60
J16: 60 | K16: 60 | L16: 60 | M16: 60 | N16: 60 | O16: 60 | P16: 60 | Q16: 60
I17: 30 | J17: 60 | K17: 60 | L17: 60 | M17: 60 | N17: 60 | O17: 60 | P17: 60 | Q17: 60 | R17: 60 | S17: 60 | T17: 10
H18: 60 | I18: 60 | J18: 60 | K18: 60 | L18: 60 | M18: 60 | N18: 60 | O18: 60 | P18: 60 | Q18: 60 | R18: 60 | S18: 60 | T18: 60 | U18: 60
A19: 60 | B19: 60 | C19: 60 | D19: 60 | E19: 60 | F19: 60 | G19: 60 | H19: 60 | I19: 60 | J19: 60 | K19: 60 | L19: 60 | M19: 60 | N19: 60 | O19: 60 | P19: 60 | Q19: 60 | R19: 60 | S19: 60 | T19: 60 | U19: 60 | V19: 60 | W19: 60 | X19: 60
A20: 60 | B20: 60 | C20: 60 | D20: 60 | E20: 60 | F20: 60 | G20: 60 | H20: 60 | I20: 60 | J20: 60 | K20: 60 | L20: 60 | M20: 60 | N20: 60 | O20: 60 | P20: 60 | Q20: 60 | R20: 60 | S20: 60 | T20: 60 | U20: 60 | V20: 60 | W20: 60 | X20: 60
I21: 30 | J21: 60 | K21: 60 | L21: 60 | M21: 60 | N21: 60 | O21: 60 | P21: 60 | Q21: 60 | R21: 20
I22: 60 | J22: 60 | K22: 60 | L22: 60 | M22: 60 | N22: 60 | O22: 60 | P22: 60 | Q22: 60
J23: 55 | K23: 60 | L23: 60 | M23: 60 | N23: 60 | O23: 60 | P23: 60 | Q23: 60 | R23: 20
I24: 30 | J24: 60 | K24: 60 | L24: 60 | M24: 60 | N24: 60 | O24: 60 | P24: 60 | Q24: 60 | R24: 30
A25: 60 | B25: 60 | C25: 60 | D25: 60 | E25: 60 | F25: 60 | G25: 60 | H25: 60 | I25: 60 | J25: 60 | K25: 60 | L25: 60 | M25: 60 | N25: 60 | O25: 60 | P25: 60 | Q25: 60 | R25: 60 | S25: 60 | T25: 60 | U25: 60 | V25: 60 | W25: 60 | X25: 60
A26: 60 | B26: 60 | C26: 60 | D26: 60 | E26: 60 | F26: 60 | G26: 60 | H26: 60 | I26: 60 | J26: 60 | K26: 60 | L26: 60 | M26: 60 | N26: 60 | O26: 60 | P26: 60 | Q26: 60 | R26: 60 | S26: 60 | T26: 60 | U26: 60 | V26: 60 | W26: 60 | X26: 60
A27: 60 | B27: 60 | C27: 60 | D27: 60 | E27: 60 | F27: 60 | G27: 60 | H27: 60 | I27: 60 | J27: 60 | K27: 60 | L27: 60 | M27: 60 | N27: 60 | O27: 60 | P27: 60 | Q27: 60 | R27: 60 | S27: 60 | T27: 60 | U27: 60 | V27: 60 | W27: 60 | X27: 60
I28: 60 | J28: 60 | K28: 60 | L28: 60 | M28: 60 | N28: 60 | O28: 60 | P28: 60 | Q28: 60 | R28: 30 | Y28: 0
I29: 60 | J29: 60 | K29: 60 | L29: 60 | M29: 60 | N29: 60 | O29: 60 | P29: 60 | Q29: 60
I30: 45 | J30: 60 | K30: 60 | L30: 60 | M30: 60 | N30: 60 | O30: 60 | P30: 60 | Q30: 60 | R30: 60 | S30: 60 | T30: 15
I31: 40 | J31: 60 | K31: 60 | L31: 60 | M31: 60 | N31: 60 | O31: 60 | P31: 60 | Q31: 60 | R31: 30
I32: 40 | J32: 60 | K32: 60 | L32: 60 | M32: 60 | N32: 60 | O32: 60 | P32: 60 | Q32: 60 | R32: 10
J33: 60 | K33: 60 | L33: 60 | M33: 60 | N33: 60 | O33: 60 | P33: 60 | Q33: 60 | R33: 60
J34: 60 | K34: 60 | L34: 60 | M34: 60 | N34: 60 | O34: 60 | P34: 60 | Q34: 60 | R34: 60
I35: 30 | J35: 60 | K35: 60 | L35: 60 | M35: 60 | N35: 60 | O35: 60 | P35: 60 | Q35: 60 | R35: 50
I36: 45 | J36: 60 | K36: 60 | L36: 60 | M36: 60 | N36: 60 | O36: 60 | P36: 60 | Q36: 60 | R36: 15 | Y36: 0
I37: 60 | J37: 60 | K37: 60 | L37: 60 | M37: 60 | N37: 60 | O37: 60 | P37: 60 | Q37: 60 | R37: 30
I38: 30 | J38: 60 | K38: 60 | L38: 60 | M38: 60 | N38: 60 | O38: 60 | P38: 60 | Q38: 60 | R38: 30
J39: 60 | K39: 60 | L39: 60 | M39: 60 | N39: 60 | O39: 60 | P39: 60 | Q39: 60 | R39: 60
A40: 60 | B40: 60 | C40: 60 | D40: 60 | E40: 60 | F40: 60 | G40: 60 | H40: 60 | I40: 60 | J40: 60 | K40: 60 | L40: 60 | M40: 60 | N40: 60 | O40: 60 | P40: 60 | Q40: 60 | R40: 60 | S40: 60 | T40: 60 | U40: 60 | V40: 60 | W40: 60 | X40: 60
I41: 60 | J41: 60 | K41: 60 | L41: 60 | M41: 60 | N41: 60 | O41: 60 | P41: 60 | Q41: 60
J42: 60 | K42: 60 | L42: 60 | M42: 60 | N42: 60 | O42: 60 | P42: 60 | Q42: 60 | R42: 60
J43: 60 | K43: 60 | L43: 60 | M43: 60 | N43: 60 | O43: 60 | P43: 60 | Q43: 60 | R43: 60 | S43: 60 | T43: 60 | U43: 60
J44: 60 | K44: 60 | L44: 60 | M44: 60 | N44: 60 | O44: 60 | P44: 60 | Q44: 60 | R44: 60 | S44: 60 | Y44: 0
A45: 60 | B45: 60 | C45: 60 | D45: 60 | E45: 60 | F45: 60 | G45: 0 | I45: 30 | J45: 60 | K45: 60 | L45: 60 | M45: 60 | N45: 60 | O45: 60 | P45: 60 | Q45: 60 | R45: 60 | S45: 60 | T45: 60 | U45: 60 | V45: 60 | W45: 60 | X45: 60 | Y45: 0
A46: 60 | B46: 60 | C46: 60 | D46: 60 | E46: 60 | F46: 60 | G46: 60 | H46: 60 | I46: 60 | J46: 60 | K46: 60 | L46: 60 | M46: 60 | N46: 60 | O46: 60 | P46: 60 | Q46: 60 | R46: 60 | S46: 60 | T46: 60 | U46: 60 | V46: 60 | W46: 60 | X46: 60 | Y46: 0
J47: 15
A48: 60 | B48: 60 | C48: 60 | D48: 60 | E48: 60 | J48: 60 | K48: 60 | L48: 60 | M48: 60 | N48: 60 | O48: 60 | P48: 60 | Q48: 60 | R48: 60 | S48: 60 | T48: 60 | U48: 60 | V48: 60 | W48: 60 | X48: 60
J49: 60 | K49: 60 | L49: 60 | M49: 60 | N49: 60 | O49: 60 | P49: 60 | Q49: 60 | R49: 60
J50: 60 | K50: 60 | L50: 60 | M50: 60 | N50: 60 | O50: 60 | P50: 60 | Q50: 60 | R50: 60
I51: 60 | J51: 60 | K51: 60 | L51: 60 | M51: 60 | N51: 60 | O51: 60 | P51: 60 | Q51: 60
I52: 30 | J52: 60 | K52: 60 | L52: 60 | M52: 60 | N52: 60 | O52: 60 | P52: 60 | Q52: 60 | R52: 30
A53: 60 | B53: 60 | C53: 60 | D53: 60 | E53: 60 | F53: 60 | G53: 60 | J53: 60 | K53: 60 | L53: 60 | M53: 60 | N53: 60 | O53: 60 | P53: 60 | Q53: 60 | R53: 60 | S53: 60 | T53: 60 | U53: 60 | V53: 60 | W53: 60 | X53: 60
J54: 60 | K54: 60 | L54: 60 | M54: 60 | N54: 60 | O54: 60 | P54: 60 | Q54: 60 | R54: 60
J55: 60 | K55: 60 | L55: 60 | M55: 60 | N55: 60 | O55: 60 | P55: 60 | Q55: 60 | R55: 60 | S55: 60 | T55: 60
I56: 60 | J56: 60 | K56: 60 | L56: 60 | M56: 60 | N56: 60 | O56: 60 | P56: 60 | Q56: 60 | R56: 60 | S56: 60
H57: 60 | I57: 60 | J57: 60 | K57: 60 | L57: 60 | M57: 60 | N57: 60 | O57: 60 | P57: 60
A58: 60 | B58: 60 | C58: 60 | D58: 60 | E58: 60 | F58: 60 | G58: 60 | H58: 60 | I58: 60 | J58: 60 | K58: 60 | L58: 60 | M58: 60 | N58: 60 | O58: 60 | P58: 60 | Q58: 60 | R58: 60 | S58: 60 | T58: 60 | U58: 60 | V58: 60 | W58: 60 | X58: 60
I59: 60 | J59: 60 | K59: 60 | L59: 60 | M59: 60 | N59: 60 | O59: 60 | P59: 60 | Q59: 50
I60: 55 | J60: 60 | K60: 60 | L60: 60 | M60: 60 | N60: 60 | O60: 60 | P60: 60 | Q60: 50
F61: 60 | G61: 60 | H61: 60 | I61: 60 | J61: 60 | K61: 60 | L61: 60 | M61: 60 | N61: 60 | O61: 60 | P61: 60 | Q61: 60 | R61: 60 | S61: 60 | T61: 60
A62: 60 | B62: 60 | C62: 60 | D62: 60 | E62: 60 | F62: 60 | G62: 60 | H62: 60 | I62: 60 | J62: 60 | K62: 60 | L62: 60 | M62: 60 | N62: 60 | O62: 60 | P62: 60 | Q62: 60 | R62: 60 | S62: 60 | T62: 60 | U62: 60 | V62: 60 | W62: 60 | X62: 60 | Y62: 0
A63: 60 | B63: 60 | C63: 60 | D63: 60 | E63: 60 | F63: 60 | G63: 60 | H63: 60 | I63: 60 | J63: 60 | K63: 60 | L63: 60 | M63: 60 | N63: 60 | O63: 60 | P63: 60 | Q63: 60 | R63: 60 | S63: 60 | T63: 60 | U63: 60 | V63: 60 | W63: 60 | X63: 60 | Y63: 0
A64: 60 | B64: 60 | C64: 60 | D64: 60 | E64: 60 | F64: 60 | G64: 60 | H64: 60 | I64: 60 | J64: 60 | K64: 60 | L64: 60 | M64: 60 | N64: 60 | O64: 60 | P64: 60 | Q64: 60 | R64: 60 | S64: 60 | T64: 60 | U64: 60 | V64: 60 | W64: 60 | X64: 60
A65: 60 | B65: 60 | C65: 60 | D65: 60 | E65: 60 | F65: 60 | G65: 60 | H65: 60 | I65: 60 | J65: 60 | K65: 60 | L65: 60 | M65: 60 | N65: 60 | O65: 60 | P65: 60 | Q65: 60 | R65: 60 | S65: 60 | T65: 60 | U65: 60 | V65: 60 | W65: 60 | X65: 60 | Y65: 0
A66: 60 | B66: 60 | C66: 60 | D66: 60 | E66: 60 | F66: 60 | G66: 60 | H66: 60 | I66: 60 | J66: 60 | K66: 60 | L66: 60 | M66: 60 | N66: 60 | O66: 60 | P66: 60 | Q66: 60 | R66: 60 | S66: 60 | T66: 60 | U66: 60 | V66: 60 | W66: 60 | X66: 60
A67: 60 | B67: 60 | C67: 60 | D67: 60 | E67: 60 | F67: 60 | G67: 60 | H67: 60 | I67: 60 | J67: 60 | K67: 60 | L67: 60 | M67: 60 | N67: 60 | O67: 60 | P67: 60 | Q67: 60 | R67: 60 | S67: 60 | T67: 60 | U67: 60 | V67: 60 | W67: 60 | X67: 60
I68: 60 | J68: 60 | K68: 60 | L68: 60 | M68: 60 | N68: 60 | O68: 60 | P68: 60 | Q68: 60 | R68: 30
I69: 60 | J69: 60 | K69: 60 | L69: 60 | M69: 60 | N69: 60 | O69: 60 | P69: 60 | Q69: 45
I70: 50 | J70: 60 | K70: 60 | L70: 60 | M70: 60 | N70: 60 | O70: 60 | P70: 60 | Q70: 60 | R70: 60 | S70: 60 | T70: 20
I71: 40 | J71: 60 | K71: 60 | L71: 60 | M71: 60 | N71: 60 | O71: 60 | P71: 60 | Q71: 60 | R71: 20
A72: 60 | B72: 60 | C72: 60 | D72: 60 | E72: 60 | F72: 60 | G72: 60 | H72: 60 | I72: 60 | J72: 60 | K72: 60 | L72: 60 | M72: 60 | N72: 60 | O72: 60 | P72: 60 | Q72: 60 | R72: 60 | S72: 60 | T72: 60 | U72: 60 | V72: 60 | W72: 60 | X72: 60
J73: 60 | K73: 60 | L73: 60 | M73: 60 | N73: 60 | O73: 60 | P73: 60 | Q73: 60 | R73: 15
A74: 60 | B74: 60 | C74: 60 | D74: 60 | E74: 60 | F74: 60 | G74: 60 | H74: 60 | I74: 60 | J74: 60 | K74: 60 | L74: 60 | M74: 60 | N74: 60 | O74: 60 | P74: 60 | Q74: 60 | R74: 60 | S74: 60 | T74: 60 | U74: 60 | V74: 60 | W74: 60 | X74: 60
A75: 60 | B75: 60 | C75: 60 | D75: 60 | E75: 60 | F75: 60 | G75: 60 | H75: 60 | I75: 60 | J75: 60 | K75: 60 | L75: 60 | M75: 60 | N75: 60 | O75: 60 | P75: 60 | Q75: 60 | R75: 60 | S75: 60 | T75: 60 | U75: 60 | V75: 60 | W75: 60 | X75: 60
A76: 60 | B76: 60 | C76: 60 | D76: 60 | E76: 60 | F76: 60 | G76: 60 | H76: 60 | I76: 60 | J76: 60 | K76: 60 | L76: 60 | M76: 60 | N76: 60 | O76: 60 | P76: 60 | Q76: 60 | R76: 60 | S76: 60 | T76: 60 | U76: 60 | V76: 60 | W76: 60 | X76: 60 | Y76: 0
I77: 60 | J77: 60 | K77: 60 | L77: 60 | M77: 60 | N77: 60 | O77: 60 | P77: 60 | Q77: 60
J78: 60 | K78: 60 | L78: 60 | M78: 60 | N78: 60 | O78: 60 | P78: 60 | Q78: 60 | R78: 30
I79: 60 | J79: 60 | K79: 60 | L79: 60 | M79: 60 | N79: 60 | O79: 60 | P79: 60 | Q79: 60
J80: 60 | K80: 60 | L80: 60 | M80: 60 | N80: 60 | O80: 60 | P80: 60 | Q80: 60
J81: 60 | K81: 60 | Y81: 0
I82: 30 | J82: 60 | K82: 60 | L82: 60 | M82: 60 | N82: 60 | O82: 60 | P82: 60 | Q82: 60 | R82: 60 | S82: 0 | Y82: 0
J83: 60 | K83: 60 | L83: 60 | M83: 60 | N83: 60 | O83: 30 | Y83: 0
I84: 60 | J84: 60 | K84: 60 | L84: 60 | M84: 60 | N84: 60 | O84: 60 | P84: 60 | Q84: 60 | Y84: 0
N85: 60
N86: 60 | O86: 60
I87: 30 | J87: 60 | K87: 60 | L87: 60 | M87: 60 | N87: 60 | O87: 60 | P87: 60 | Q87: 60 | R87: 30 | Y87: 0
I88: 60 | J88: 60 | K88: 60 | L88: 30 | Y88: 0
K89: 60 | L89: 60 | M89: 60 | N89: 60 | O89: 60 | P89: 60 | Q89: 60
J90: 60 | K90: 60 | L90: 60 | M90: 60 | N90: 60 | O90: 60 | P90: 60 | Q90: 60 | Y90: 0
I91: 60 | J91: 60 | K91: 60 | L91: 60 | M91: 60 | N91: 60 | O91: 60 | P91: 60 | Q91: 60 | Y91: 0
J92: 60 | K92: 60 | L92: 60 | M92: 60 | N92: 60 | O92: 60 | P92: 60 | Q92: 60 | Y92: 0
I93: 30 | J93: 60 | K93: 60 | L93: 60 | M93: 60 | N93: 60 | O93: 60 | P93: 60 | Q93: 60 | R93: 30 | Y93: 0
I94: 30 | J94: 60 | K94: 60 | L94: 60 | M94: 60 | N94: 60 | O94: 60 | P94: 60 | Q94: 60 | R94: 30
I95: 60 | J95: 60 | K95: 60 | L95: 60 | M95: 60 | N95: 60 | O95: 60 | P95: 60 | Q95: 60
I96: 30 | J96: 60 | K96: 60 | L96: 60 | M96: 60 | N96: 60 | O96: 60 | P96: 60 | Q96: 60 | R96: 30
I97: 45 | J97: 60 | K97: 60 | L97: 60 | M97: 60 | N97: 60 | O97: 60 | P97: 60 | Q97: 60 | R97: 0
I98: 45 | J98: 60 | K98: 60 | L98: 60 | M98: 60 | N98: 60 | O98: 60 | P98: 60 | Q98: 55
I99: 60 | J99: 60 | K99: 60 | L99: 60 | M99: 60 | N99: 60 | O99: 60 | P99: 60 | Q99: 60
I100: 30 | J100: 60 | K100: 60 | L100: 60 | M100: 60 | N100: 60 | O100: 60 | P100: 60 | Q100: 60 | R100: 0
I101: 60 | J101: 60 | K101: 60 | L101: 60 | M101: 60 | N101: 60 | O101: 60 | P101: 60 | Q101: 50 | Y101: 0
...

Sheet 表3.3.1(1)
A1: 表3.3.1(1) 用水量の分布（用水量階級別工場・事業場数）
A3: 用水量階級 | C3: 総数 | D3: 排水量・有害物質区分
D4: ① | E4: ② | F4: ③
A5: 10 | B5: ㎥/日未満 | C5: =SUM(D5:F5) -> 4397 | D5: 3142 | E5: 196 | F5: 1059 | G5: ※排水量・有害物質区分
A6: 10～ 30 | B6: 〃 | C6: =SUM(D6:F6) -> 1848 | D6: 1063 | E6: 108 | F6: 677 | G6: ①：排水量50㎥/日以上、有害物質使用特定事業場でない
A7: 30～ 50 | B7: 〃 | C7: =SUM(D7:F7) -> 1672 | D7: 1186 | E7: 118 | F7: 368 | G7: ②：排水量50㎥/日以上、有害物質使用特定事業場である
A8: 50～ 100 | B8: 〃 | C8: =SUM(D8:F8) -> 3185 | D8: 2676 | E8: 323 | F8: 186 | G8: ③：排水量50㎥/日未満、有害物質使用特定事業場である
A9: 100～ 200 | B9: 〃 | C9: =SUM(D9:F9) -> 3056 | D9: 2506 | E9: 455 | F9: 95
A10: 200～ 500 | B10: 〃 | C10: =SUM(D10:F10) -> 2909 | D10: 2229 | E10: 621 | F10: 59
A11: 500～ 1,000 | B11: 〃 | C11: =SUM(D11:F11) -> 1468 | D11: 1042 | E11: 405 | F11: 21
A12: 1,000～ 2,000 | B12: 〃 | C12: =SUM(D12:F12) -> 862 | D12: 567 | E12: 278 | F12: 17
A13: 2,000～ 5,000 | B13: 〃 | C13: =SUM(D13:F13) -> 785 | D13: 477 | E13: 296 | F13: 12
A14: 5,000㎥/日以上 | C14: =SUM(D14:F14) -> 1206 | D14: 691 | E14: 493 | F14: 22
A15: 未回答 | C15: =SUM(D15:F15) -> 4368 | D15: 3891 | E15: 174 | F15: 303
A16: 合計 | C16: =SUM(C5:C15) -> 25756 | D16: =SUM(D5:D15) -> 19470 | E16: =SUM(E5:E15) -> 3467 | F16: =SUM(F5:F15) -> 2819
C19: ①：排水量50㎥/日以上、有害物質使用特定事業場でない
C20: ②：排水量50㎥/日以上、有害物質使用特定事業場である
C21: ③：排水量50㎥/日未満、有害物質使用特定事業場である
B29: ～10
B30: 10～
B31: 30～
B32: 50～
B33: 100～
B34: 200～
B35: 500～
B36: 1000～
B37: 2000～
B38: 5000～
A45: 図3.3.1 用水量の分布（用水量階級別工場・事業場数）

Sheet 表3.3.1(2)
A1: 表3.3.1(2) 総排水量の分布（総排水量階級別工場・事業場数）
A3: 総排水量階級 | C3: 総数 | D3: 排水量・有害物質区分
D4: ① | E4: ② | F4: ③
A5: 10 | B5: ㎥/日未満 | C5: =SUM(D5:F5) -> 1389 | D5: 255 | E5: 19 | F5: 1115 | G5: ※排水量・有害物質区分
A6: 10～ 30 | B6: 〃 | C6: =SUM(D6:F6) -> 1652 | D6: 925 | E6: 85 | F6: 642 | G6: ①：排水量50㎥/日以上、有害物質使用特定事業場でない
A7: 30～ 50 | B7: 〃 | C7: =SUM(D7:F7) -> 1839 | D7: 1392 | E7: 104 | F7: 343 | G7: ②：排水量50㎥/日以上、有害物質使用特定事業場である
A8: 50～ 100 | B8: 〃 | C8: =SUM(D8:F8) -> 3980 | D8: 3471 | E8: 373 | F8: 136 | G8: ③：排水量50㎥/日未満、有害物質使用特定事業場である
A9: 100～ 200 | B9: 〃 | C9: =SUM(D9:F9) -> 4556 | D9: 3991 | E9: 501 | F9: 64
A10: 200～ 500 | B10: 〃 | C10: =SUM(D10:F10) -> 4437 | D10: 3770 | E10: 629 | F10: 38
A11: 500～ 1,000 | B11: 〃 | C11: =SUM(D11:F11) -> 1911 | D11: 1485 | E11: 412 | F11: 14
A12: 1,000～ 2,000 | B12: 〃 | C12: =SUM(D12:F12) -> 1065 | D12: 736 | E12: 318 | F12: 11
A13: 2,000～ 5,000 | B13: 〃 | C13: =SUM(D13:F13) -> 927 | D13: 593 | E13: 321 | F13: 13
A14: 5,000㎥/日以上 | C14: =SUM(D14:F14) -> 1586 | D14: 1002 | E14: 572 | F14: 12
A15: 未回答 | C15: =SUM(D15:F15) -> 2414 | D15: 1850 | E15: 133 | F15: 431
A16: 合計 | C16: =SUM(C5:C15) -> 25756 | D16: =SUM(D5:D15) -> 19470 | E16: =SUM(E5:E15) -> 3467 | F16: =SUM(F5:F15) -> 2819
C19: ①：排水量50㎥/日以上、有害物質使用特定事業場でない
C20: ②：排水量50㎥/日以上、有害物質使用特定事業場である
C21: ③：排水量50㎥/日未満、有害物質使用特定事業場である
B26: ～10
B27: 10～
B28: 30～
B29: 50～
B30: 100～
B31: 200～
B32: 500～
B33: 1000～
B34: 2000～
B35: 5000～
A37: 1,000～5,000
A45: 図3.3.2 総排水量の分布（総排水量階級別工場・事業場数）

Sheet 表3.3.1(3)
A1: 表3.3.1(3) 処理水量の分布（処理水量階級別工場・事業場数）
A3: 総排水量階級 | C3: 総数 | D3: 排水量・有害物質区分
D4: ① | E4: ② | F4: ③
A5: 10 | B5: ㎥/日未満 | C5: =SUM(D5:F5) -> 2442 | D5: 780 | E5: 255 | F5: 1407 | G5: ※排水量・有害物質区分
A6: 10～ 30 | B6: 〃 | C6: =SUM(D6:F6) -> 1876 | D6: 1194 | E6: 159 | F6: 523 | G6: ①：排水量50㎥/日以上、有害物質使用特定事業場でない
A7: 30～ 50 | B7: 〃 | C7: =SUM(D7:F7) -> 2073 | D7: 1611 | E7: 191 | F7: 271 | G7: ②：排水量50㎥/日以上、有害物質使用特定事業場である
A8: 50～ 100 | B8: 〃 | C8: =SUM(D8:F8) -> 4315 | D8: 3791 | E8: 448 | F8: 76 | G8: ③：排水量50㎥/日未満、有害物質使用特定事業場である
A9: 100～ 200 | B9: 〃 | C9: =SUM(D9:F9) -> 4604 | D9: 4083 | E9: 494 | F9: 27
A10: 200～ 500 | B10: 〃 | C10: =SUM(D10:F10) -> 4162 | D10: 3584 | E10: 568 | F10: 10
A11: 500～ 1,000 | B11: 〃 | C11: =SUM(D11:F11) -> 1611 | D11: 1271 | E11: 330 | F11: 10
A12: 1,000～ 2,000 | B12: 〃 | C12: =SUM(D12:F12) -> 877 | D12: 602 | E12: 270 | F12: 5
A13: 2,000～ 5,000 | B13: 〃 | C13: =SUM(D13:F13) -> 735 | D13: 466 | E13: 261 | F13: 8
A14: 5,000㎥/日以上 | C14: =SUM(D14:F14) -> 1205 | D14: 822 | E14: 374 | F14: 9
A15: 未回答 | C15: =SUM(D15:F15) -> 1856 | D15: 1266 | E15: 117 | F15: 473
A16: 合計 | C16: =SUM(C5:C15) -> 25756 | D16: =SUM(D5:D15) -> 19470 | E16: =SUM(E5:E15) -> 3467 | F16: =SUM(F5:F15) -> 2819
C19: ①：排水量50㎥/日以上、有害物質使用特定事業場でない
C20: ②：排水量50㎥/日以上、有害物質使用特定事業場である
C21: ③：排水量50㎥/日未満、有害物質使用特定事業場である
B26: ～10
B27: 10～
B28: 30～
B29: 50～
B30: 100～
B31: 200～
B32: 500～
B33: 1000～
B34: 2000～
B35: 5000～
A37: 1,000～5,000
A45: 図3.3.3 処理水量の分布（処理水量階級別工場・事業場数）

Sheet 表3.3.1(4)
A1: 表3.3.1(4) 未処理水量の分布（未処理水量階級別工場・事業場数）
A3: 総排水量階級 | C3: 総数 | D3: 排水量・有害物質区分
D4: ① | E4: ② | F4: ③
A5: 10 | B5: ㎥/日未満 | C5: =SUM(D5:F5) -> 15477 | D5: 12052 | E5: 1513 | F5: 1912 | G5: ※排水量・有害物質区分
A6: 10～ 30 | B6: 〃 | C6: =SUM(D6:F6) -> 1007 | D6: 669 | E6: 166 | F6: 172 | G6: ①：排水量50㎥/日以上、有害物質使用特定事業場でない
A7: 30～ 50 | B7: 〃 | C7: =SUM(D7:F7) -> 452 | D7: 305 | E7: 108 | F7: 39 | G7: ②：排水量50㎥/日以上、有害物質使用特定事業場である
A8: 50～ 100 | B8: 〃 | C8: =SUM(D8:F8) -> 619 | D8: 447 | E8: 153 | F8: 19 | G8: ③：排水量50㎥/日未満、有害物質使用特定事業場である
A9: 100～ 200 | B9: 〃 | C9: =SUM(D9:F9) -> 637 | D9: 424 | E9: 202 | F9: 11
A10: 200～ 500 | B10: 〃 | C10: =SUM(D10:F10) -> 761 | D10: 502 | E10: 246 | F10: 13
A11: 500～ 1,000 | B11: 〃 | C11: =SUM(D11:F11) -> 460 | D11: 275 | E11: 182 | F11: 3
A12: 1,000～ 2,000 | B12: 〃 | C12: =SUM(D12:F12) -> 280 | D12: 157 | E12: 121 | F12: 2
A13: 2,000～ 5,000 | B13: 〃 | C13: =SUM(D13:F13) -> 278 | D13: 146 | E13: 128 | F13: 4
A14: 5,000㎥/日以上 | C14: =SUM(D14:F14) -> 461 | D14: 203 | E14: 257 | F14: 1
A15: 未回答 | C15: =SUM(D15:F15) -> 5324 | D15: 4290 | E15: 391 | F15: 643
A16: 合計 | C16: =SUM(C5:C15) -> 25756 | D16: =SUM(D5:D15) -> 19470 | E16: =SUM(E5:E15) -> 3467 | F16: =SUM(F5:F15) -> 2819
C19: ①：排水量50㎥/日以上、有害物質使用特定事業場でない
C20: ②：排水量50㎥/日以上、有害物質使用特定事業場である
C21: ③：排水量50㎥/日未満、有害物質使用特定事業場である
B26: ～10
B27: 10～
B28: 30～
B29: 50～
B30: 100～
B31: 200～
B32: 500～
B33: 1000～
B34: 2000～
B35: 5000～
A37: 1,000～5,000
A45: 図3.3.4 未処理水量の分布（未処理水量階級別工場・事業場数）

Sheet 表3.3.2(1)
A1: 表3.3.2(1) 産業分類別用水量の平均値、標準偏差、最大値、最小値
G2: 単位：ｍ3/日
B3: 産業中分類 | C3: 事業場数 | D3: 平均値 | E3: 標準偏差 | F3: 最大値 | G3: 最小値
A4: 01 | B4: 農業 | C4: 134 | D4: 210.39229 | E4: 488.43153 | F4: 4049 | G4: 5
A5: 02 | B5: 林業 | C5: 1 | D5: 383 | E5: － | F5: 383 | G5: 383
A6: 03 | B6: 漁業（水産養殖業を除く） | C6: 2 | D6: 400 | E6: 452.54834 | F6: 720 | G6: 80
A7: 04 | B7: 水産養殖業 | C7: 5 | D7: 9420.2 | E7: 9550.6655 | F7: 21565 | G7: 504
A8: 05 | B8: 鉱業，採石業，砂利採取業 | C8: 113 | D8: 2789.3717 | E8: 12852.007 | F8: 101669 | G8: 0
A9: 06 | B9: 総合工事業 | C9: 69 | D9: 424.94928 | E9: 1179.8421 | F9: 7100 | G9: 0
A10: 07 | B10: 職別工事業(設備工事業を除く) | C10: 6 | D10: 23 | E10: 33.609522 | F10: 90 | G10: 0
A11: 08 | B11: 設備工事業 | C11: 2 | D11: 1.08 | E11: 0.80610173 | F11: 1.65 | G11: 0.51
A12: 09 | B12: 食料品製造業 | C12: 1959 | D12: 2158.0372 | E12: 18931.41 | F12: 673861 | G12: 0
A13: 10 | B13: 飲料・たばこ・飼料製造業 | C13: 393 | D13: 1391.2114 | E13: 2163.407 | F13: 16423 | G13: 0
A14: 11 | B14: 繊維工業 | C14: 351 | D14: 6057.554 | E14: 22566.995 | F14: 234496 | G14: 0
A15: 12 | B15: 木材・木製品製造業（家具を除く） | C15: 37 | D15: 734.89108 | E15: 1234.4505 | F15: 4766 | G15: 1
A16: 13 | B16: 家具・装備品製造業 | C16: 22 | D16: 174.06818 | E16: 208.56039 | F16: 1004 | G16: 5
A17: 14 | B17: パルプ・紙・紙加工品製造業 | C17: 292 | D17: 21850.23 | E17: 49798.852 | F17: 389500 | G17: 8.34
... A39: 36 | B39: 水道業 | C39: 1928 | D39: 7616.5089 | E39: 41149.024 | F39: 1205706 | G39: 0
A40: 37 | B40: 通信業 | C40: 1 | D40: 57276 | E40: － | F40: 57276 | G40: 57276
A41: 38 | B41: 放送業 | C41: 0 | D41: － | E41: － | F41: － | G41: －
A42: 39 | B42: 情報サービス業 | C42: 5 | D42: 179.2 | E42: 255.32861 | F42: 623 | G42: 7
A43: 40 | B43: インターネット附随サービス業 | C43: 0 | D43: － | E43: － | F43: － | G43: －
A44: 41 | B44: 映像・音声・文字情報制作業 | C44: 4 | D44: 201.75 | E44: 319.08136 | F44: 677 | G44: 9
A45: 42 | B45: 鉄道業 | C45: 38 | D45: 140.18605 | E45: 125.75506 | F45: 648 | G45: 15
A46: 43 | B46: 道路旅客運送業 | C46: 3 | D46: 299.66667 | E46: 355.93867 | F46: 708 | G46: 55
A47: 44 | B47: 道路貨物運送業 | C47: 10 | D47: 51.063 | E47: 41.852016 | F47: 149 | G47: 8.4
A48: 45 | B48: 水運業 | C48: 1 | D48: 100 | E48: － | F48: 100 | G48: 100
A49: 46 | B49: 航空運輸業 | C49: 2 | D49: 558 | E49: 782.0601 | F49: 1111 | G49: 5
A50: 47 | B50: 倉庫業 | C50: 12 | D50: 326.29167 | E50: 644.00213 | F50: 2292 | G50: 6.5
A51: 48 | B51: 運輸に附帯するサービス業 | C51: 109 | D51: 91.549725 | E51: 223.11244 | F51: 2327 | G51: 0
A52: 49 | B52: 郵便業（信書便事業を含む） | C52: 1 | D52: 173 | E52: － | F52: 173 | G52: 173
A53: 50 | B53: 各種商品卸売業 | C53: 15 | D53: 231.062 | E53: 350.77568 | F53: 1415 | G53: 34
A54: 51 | B54: 繊維・衣服等卸売業 | C54: 1 | D54: 52 | E54: － | F54: 52 | G54: 52
A55: 52 | B55: 飲食料品卸売業 | C55: 31 | D55: 464.60323 | E55: 673.53415 | F55: 3286 | G55: 4
A56: 53 | B56: 建築材料，鉱物・金属材料等卸売業 | C56: 6 | D56: 187.66667 | E56: 171.71216 | F56: 509 | G56: 36
A57: 54 | B57: 機械器具卸売業 | C57: 9 | D57: 46.411111 | E57: 39.344391 | F57: 132 | G57: 2
A58: 55 | B58: その他の卸売業 | C58: 14 | D58: 46.614286 | E58: 41.46572 | F58: 142 | G58: 0
A59: 56 | B59: 各種商品小売業 | C59: 334 | D59: 121.72787 | E59: 701.22228 | F59: 12805 | G59: 0
A60: 57 | B60: 織物・衣服・身の回り品小売業 | C60: 4 | D60: 57.5 | E60: 27.790886 | F60: 96 | G60: 31
A61: 58 | B61: 飲食料品小売業 | C61: 32 | D61: 106.23125 | E61: 203.87737 | F61: 1200 | G61: 0
A62: 59 | B62: 機械器具小売業 | C62: 3 | D62: 35.246667 | E62: 16.780811 | F62: 45 | G62: 15.87
A63: 60 | B63: その他の小売業 | C63: 24 | D63: 59.041667 | E63: 58.912964 | F63: 210 | G63: 0
A64: 61 | B64: 無店舗小売業 | C64: 2 | D64: 795 | E64: 615.1829 | F64: 1230 | G64: 360
A65: 62 | B65: 銀行業 | C65: 1 | D65: 41 | E65: － | F65: 41 | G65: 41
A66: 63 | B66: 協同組織金融業 | C66: 2 | D66: 18.5 | E66: 24.748737 | F66: 36 | G66: 1
A67: 64 | B67: 貸金業，クレジットカード業等非預金信用機関 | C67: 0 | D67: － | E67: － | F67: － | G67: －
A68: 65 | B68: 金融商品取引業，商品先物取引業 | C68: 0 | D68: － | E68: － | F68: － | G68: －
A69: 66 | B69: 補助的金融業等 | C69: 0 | D69: － | E69: － | F69: － | G69: －
A70: 67 | B70: 保険業（保険媒介代理業，保険サービス業を含む） | C70: 0 | D70: － | E70: － | F70: － | G70: －
A71: 68 | B71: 不動産取引業 | C71: 7 | D71: 74.385714 | E71: 60.442326 | F71: 200 | G71: 20
A72: 69 | B72: 不動産賃貸業・管理業 | C72: 79 | D72: 173.12316 | E72: 457.31985 | F72: 3953.9 | G72: 0
A73: 70 | B73: 物品賃貸業 | C73: 3 | D73: 64.58 | E73: 22.023378 | F73: 90 | G73: 51.24
A74: 71 | B74: 学術・開発研究機関 | C74: 393 | D74: 875.16707 | E74: 4396.8698 | F74: 60012 | G74: 0
A75: 72 | B75: 専門サービス業（他に分類されないもの） | C75: 19 | D75: 213.21053 | E75: 528.97496 | F75: 2359 | G75: 1
A76: 73 | B76: 広告業 | C76: 2 | D76: 198.55 | E76: 171.75624 | F76: 320 | G76: 77.1
A77: 74 | B77: 技術サービス業（他に分類されないもの） | C77: 149 | D77: 17.065772 | E77: 84.13427 | F77: 1014 | G77: 0
A78: 75 | B78: 宿泊業 | C78: 1196 | D78: 619.67108 | E78: 6737.7736 | F78: 157497 | G78: 0
A79: 76 | B79: 飲食店 | C79: 150 | D79: 90.344733 | E79: 137.68724 | F79: 913 | G79: 5
A80: 77 | B80: 持ち帰り・配達飲食サービス業 | C80: 174 | D80: 90.606943 | E80: 56.099233 | F80: 450 | G80: 0
A81: 78 | B81: 洗濯・理容・美容・浴場業 | C81: 534 | D81: 230.81581 | E81: 633.49022 | F81: 7103 | G81: 0.001
A82: 79 | B82: その他の生活関連サービス業 | C82: 20 | D82: 223.365 | E82: 712.65061 | F82: 3231 | G82: 0
... A88: 85 | B88: 社会保険・社会福祉・介護事業 | C88: 218 | D88: 395.15225 | E88: 2242.8834 | F88: 19581 | G88: 1.6
A89: 86 | B89: 郵便局 | C89: 1 | D89: 27.9 | E89: － | F89: 27.9 | G89: 27.9
A90: 87 | B90: 協同組合（他に分類されないもの） | C90: 46 | D90: 385.07065 | E90: 698.33468 | F90: 3569 | G90: 0
A91: 88 | B91: 廃棄物処理業 | C91: 3111 | D91: 148.45505 | E91: 1114.6262 | F91: 50818 | G91: 0
A92: 89 | B92: 自動車整備業 | C92: 5 | D92: 31.96 | E92: 26.350484 | F92: 74 | G92: 3
A93: 90 | B93: 機械等修理業（別掲を除く） | C93: 3 | D93: 20.466667 | E93: 34.154697 | F93: 59.9 | G93: 0.2
A94: 91 | B94: 職業紹介・労働者派遣業 | C94: 1 | D94: 89 | E94: － | F94: 89 | G94: 89
A95: 92 | B95: その他の事業サービス業 | C95: 26 | D95: 117.785 | E95: 138.33009 | F95: 556 | G95: 1.1
A96: 93 | B96: 政治・経済・文化団体 | C96: 6 | D96: 131.5 | E96: 207.49627 | F96: 543 | G96: 1
A97: 94 | B97: 宗教 | C97: 23 | D97: 267.46957 | E97: 957.70855 | F97: 4651 | G97: 3
A98: 95 | B98: その他のサービス業 | C98: 161 | D98: 423.0387 | E98: 544.4314 | F98: 4032 | G98: 0
A99: 96 | B99: 外国公務 | C99: 4 | D99: 2 | E99: 2 | F99: 5 | G99: 1
A100: 97 | B100: 国家公務 | C100: 78 | D100: 320.9641 | E100: 359.99267 | F100: 2400 | G100: 0
A101: 98 | B101: 地方公務 | C101: 234 | D101: 753.04513 | E101: 5435.8846 | F101: 67557 | G101: 0
A102: 99 | B102: 分類不能の産業 | C102: 1202 | D102: 161.66044 | E102: 1186.8658 | F102: 38978 | G102: 0
A103: - | B103: 産業分類不明 | C103: 23 | D103: 68.398522 | E103: 132.0203 | F103: 550 | G103: 0
B104: 合計 | C104: 21388 | D104: 17325.696 | E104: 353746.68 | F104: 23663595 | G104: 0

Sheet 表3.3.2(2)
A1: 表3.3.2(2) 産業分類別総排水量の平均値、標準偏差、最大値、最小値
G2: 単位：ｍ3/日
B3: 産業中分類 | C3: 事業場数 | D3: 平均値 | E3: 標準偏差 | F3: 最大値 | G3: 最小値
A4: 01 | B4: 農業 | C4: 129 | D4: 207.81401 | E4: 496.85704 | F4: 4049 | G4: 0
A5: 02 | B5: 林業 | C5: 2 | D5: 1 | E5: 1.4142136 | F5: 2 | G5: 0
A6: 03 | B6: 漁業（水産養殖業を除く） | C6: 2 | D6: 402.5 | E6: 456.08387 | F6: 725 | G6: 80
A7: 04 | B7: 水産養殖業 | C7: 5 | D7: 9420.2 | E7: 9550.6655 | F7: 21565 | G7: 504
A8: 05 | B8: 鉱業，採石業，砂利採取業 | C8: 120 | D8: 2336.3558 | E8: 9637.9062 | F8: 101669 | G8: 0
A9: 06 | B9: 総合工事業 | C9: 74 | D9: 1604.627 | E9: 4168.971 | F9: 28153 | G9: 0
A10: 07 | B10: 職別工事業(設備工事業を除く) | C10: 6 | D10: 69.333333 | E10: 108.56457 | F10: 281 | G10: 0
A11: 08 | B11: 設備工事業 | C11: 2 | D11: 1.08 | E11: 0.80610173 | F11: 1.65 | G11: 0.51
A12: 09 | B12: 食料品製造業 | C12: 1929 | D12: 1925.3675 | E12: 17346.879 | F12: 644573 | G12: 0.78
A13: 10 | B13: 飲料・たばこ・飼料製造業 | C13: 390 | D13: 1180.3852 | E13: 1900.1361 | F13: 14564.5 | G13: 1
A14: 11 | B14: 繊維工業 | C14: 353 | D14: 6077.8288 | E14: 22807.779 | F14: 230485 | G14: 0
A15: 12 | B15: 木材・木製品製造業（家具を除く） | C15: 37 | D15: 603.47568 | E15: 1073.2316 | F15: 4368 | G15: 0
... A39: 36 | B39: 水道業 | C39: 2431 | D39: 21107.855 | E39: 161300.11 | F39: 7216680 | G39: 0
A40: 37 | B40: 通信業 | C40: 1 | D40: 57276 | E40: － | F40: 57276 | G40: 57276
A41: 38 | B41: 放送業 | C41: 0 | D41: － | E41: － | F41: － | G41: －
A42: 39 | B42: 情報サービス業 | C42: 5 | D42: 118.2 | E42: 141.82983 | F42: 359 | G42: 7
A43: 40 | B43: インターネット附随サービス業 | C43: 0 | D43: － | E43: － | F43: － | G43: －
A44: 41 | B44: 映像・音声・文字情報制作業 | C44: 3 | D44: 255.33333 | E44: 366.89553 | F44: 677 | G44: 9
A45: 42 | B45: 鉄道業 | C45: 39 | D45: 139.20667 | E45: 141.56441 | F45: 648 | G45: 15
A46: 43 | B46: 道路旅客運送業 | C46: 3 | D46: 276.83333 | E46: 373.45359 | F46: 708 | G46: 55
A47: 44 | B47: 道路貨物運送業 | C47: 11 | D47: 50.602727 | E47: 38.984131 | F47: 149 | G47: 8.4
A48: 45 | B48: 水運業 | C48: 1 | D48: 100 | E48: － | F48: 100 | G48: 100
A49: 46 | B49: 航空運輸業 | C49: 2 | D49: 558 | E49: 782.0601 | F49: 1111 | G49: 5
A50: 47 | B50: 倉庫業 | C50: 12 | D50: 126.29167 | E50: 178.27411 | F50: 515 | G50: 6.5
A51: 48 | B51: 運輸に附帯するサービス業 | C51: 116 | D51: 78.939224 | E51: 91.191128 | F51: 863 | G51: 5.6
A52: 49 | B52: 郵便業（信書便事業を含む） | C52: 1 | D52: 173 | E52: － | F52: 173 | G52: 173
A53: 50 | B53: 各種商品卸売業 | C53: 14 | D53: 234.56643 | E53: 349.46762 | F53: 1361 | G53: 34
A54: 51 | B54: 繊維・衣服等卸売業 | C54: 2 | D54: 126 | E54: 104.6518 | F54: 200 | G54: 52
A55: 52 | B55: 飲食料品卸売業 | C55: 31 | D55: 453.11935 | E55: 668.4742 | F55: 3286 | G55: 4
A56: 53 | B56: 建築材料，鉱物・金属材料等卸売業 | C56: 5 | D56: 129.6 | E56: 80.428851 | F56: 240 | G56: 36
A57: 54 | B57: 機械器具卸売業 | C57: 9 | D57: 43.355556 | E57: 39.510572 | F57: 132 | G57: 2
A58: 55 | B58: その他の卸売業 | C58: 14 | D58: 46.614286 | E58: 41.46572 | F58: 142 | G58: 0
A59: 56 | B59: 各種商品小売業 | C59: 334 | D59: 121.46231 | E59: 701.74234 | F59: 12805 | G59: 4
A60: 57 | B60: 織物・衣服・身の回り品小売業 | C60: 4 | D60: 41.5 | E60: 12.396236 | F60: 57 | G60: 31
A61: 58 | B61: 飲食料品小売業 | C61: 32 | D61: 104.70625 | E61: 203.3292 | F61: 1200 | G61: 20
A62: 59 | B62: 機械器具小売業 | C62: 3 | D62: 35.246667 | E62: 16.780811 | F62: 45 | G62: 15.87
A63: 60 | B63: その他の小売業 | C63: 25 | D63: 80.04 | E63: 98.410484 | F63: 473 | G63: 6
A64: 61 | B64: 無店舗小売業 | C64: 2 | D64: 2615 | E64: 1958.6858 | F64: 4000 | G64: 1230
A65: 62 | B65: 銀行業 | C65: 1 | D65: 41 | E65: － | F65: 41 | G65: 41
A66: 63 | B66: 協同組織金融業 | C66: 2 | D66: 50.5 | E66: 20.506097 | F66: 65 | G66: 36
A67: 64 | B67: 貸金業，クレジットカード業等非預金信用機関 | C67: 0 | D67: － | E67: － | F67: － | G67: －
A68: 65 | B68: 金融商品取引業，商品先物取引業 | C68: 0 | D68: － | E68: － | F68: － | G68: －
A69: 66 | B69: 補助的金融業等 | C69: 0 | D69: － | E69: － | F69: － | G69: －
A70: 67 | B70: 保険業（保険媒介代理業，保険サービス業を含む） | C70: 0 | D70: － | E70: － | F70: － | G70: －
A71: 68 | B71: 不動産取引業 | C71: 9 | D71: 170.74444 | E71: 207.65515 | F71: 700 | G71: 35
A72: 69 | B72: 不動産賃貸業・管理業 | C72: 83 | D72: 184.61976 | E72: 447.87057 | F72: 3953.9 | G72: 4
A73: 70 | B73: 物品賃貸業 | C73: 3 | D73: 57.08 | E73: 11.206213 | F73: 70 | G73: 50
A74: 71 | B74: 学術・開発研究機関 | C74: 387 | D74: 883.07119 | E74: 4444.1318 | F74: 60012 | G74: 0
A75: 72 | B75: 専門サービス業（他に分類されないもの） | C75: 20 | D75: 162.785 | E75: 337.96327 | F75: 1539 | G75: 1
A76: 73 | B76: 広告業 | C76: 1 | D76: 95 | E76: － | F76: 95 | G76: 95
A77: 74 | B77: 技術サービス業（他に分類されないもの） | C77: 149 | D77: 17.010309 | E77: 84.145083 | F77: 1014 | G77: 0
A78: 75 | B78: 宿泊業 | C78: 1182 | D78: 579.81581 | E78: 5734.1357 | F78: 135000 | G78: 0
A79: 76 | B79: 飲食店 | C79: 150 | D79: 88.790333 | E79: 136.24811 | F79: 913 | G79: 4
A80: 77 | B80: 持ち帰り・配達飲食サービス業 | C80: 168 | D80: 86.971238 | E80: 49.077313 | F80: 320 | G80: 20
A81: 78 | B81: 洗濯・理容・美容・浴場業 | C81: 526 | D81: 229.9949 | E81: 593.13929 | F81: 7000 | G81: 0.001
A82: 79 | B82: その他の生活関連サービス業 | C82: 20 | D82: 83.825 | E82: 121.62429 | F82: 465 | G82: 0
A83: 80 | B83: 娯楽業 | C83: 667 | D83: 407.55757 | E83: 4571.0645 | F83: 101856 | G83: 0
A84: 81 | B84: 学校教育 | C84: 477 | D84: 124.99309 | E84: 355.99153 | F84: 6000 | G84: 0
A85: 82 | B85: その他の教育，学習支援業 | C85: 158 | D85: 215.80759 | E85: 818.88745 | F85: 7510 | G85: 0.2
A86: 83 | B86: 医療業 | C86: 977 | D86: 478.44694 | E86: 5382.62 | F86: 140347 | G86: 0
A87: 84 | B87: 保健衛生 | C87: 68 | D87: 27.874618 | E87: 62.980424 | F87: 370 | G87: 0.1
A88: 85 | B88: 社会保険・社会福祉・介護事業 | C88: 220 | D88: 310.84436 | E88: 1817.7492 | F88: 19156 | G88: 3.38
A89: 86 | B89: 郵便局 | C89: 1 | D89: 27.9 | E89: － | F89: 27.9 | G89: 27.9
A90: 87 | B90: 協同組合（他に分類されないもの） | C90: 50 | D90: 431.446 | E90: 670.382 | F90: 3569 | G90: 13
A91: 88 | B91: 廃棄物処理業 | C91: 4436 | D91: 455.98352 | E91: 3862.1176 | F91: 125610 | G91: 0
A92: 89 | B92: 自動車整備業 | C92: 3 | D92: 56.266667 | E92: 45.583038 | F92: 108 | G92: 22
A93: 90 | B93: 機械等修理業（別掲を除く） | C93: 3 | D93: 11.933333 | E93: 19.465953 | F93: 34.4 | G93: 0.1
A94: 91 | B94: 職業紹介・労働者派遣業 | C94: 1 | D94: 89 | E94: － | F94: 89 | G94: 89
A95: 92 | B95: その他の事業サービス業 | C95: 26 | D95: 113.27615 | E95: 132.6112 | F95: 552 | G95: 1.67
A96: 93 | B96: 政治・経済・文化団体 | C96: 6 | D96: 118.5 | E96: 158.03765 | F96: 406 | G96: 1
A97: 94 | B97: 宗教 | C97: 23 | D97: 297.47391 | E97: 1062.4718 | F97: 5160 | G97: 3
A98: 95 | B98: その他のサービス業 | C98: 166 | D98: 412.52771 | E98: 529.30906 | F98: 4032 | G98: 0
A99: 96 | B99: 外国公務 | C99: 3 | D99: 132 | E99: 192.48636 | F99: 353 | G99: 1
A100: 97 | B100: 国家公務 | C100: 77 | D100: 300.63896 | E100: 288.11658 | F100: 1600 | G100: 0
A101: 98 | B101: 地方公務 | C101: 279 | D101: 778.13763 | E101: 4702.1452 | F101: 67557 | G101: 0
A102: 99 | B102: 分類不能の産業 | C102: 1439 | D102: 268.21855 | E102: 1921.6267 | F102: 48849 | G102: 0
A103: - | B103: 産業分類不明 | C103: 24 | D103: 100.66233 | E103: 152.55666 | F103: 550 | G103: 0
B104: 合計 | C104: 23342 | D104: 18035.111 | E104: 361907.65 | F104: 23666155 | G104: 0

Sheet 表3.3.2(3)
A1: 表3.3.2(3) 産業分類別処理水量の平均値、標準偏差、最大値、最小値
G2: 単位：ｍ3/日
B3: 産業中分類 | C3: 事業場数 | D3: 平均値 | E3: 標準偏差 | F3: 最大値 | G3: 最小値
A4: 01 | B4: 農業 | C4: 137 | D4: 169.41574 | E4: 461.11804 | F4: 4049 | G4: 0
A5: 02 | B5: 林業 | C5: 2 | D5: 1 | E5: 1.4142136 | F5: 2 | G5: 0
A6: 03 | B6: 漁業（水産養殖業を除く） | C6: 3 | D6: 84.666667 | E6: 82.099533 | F6: 169 | G6: 5
A7: 04 | B7: 水産養殖業 | C7: 5 | D7: 2588.24 | E7: 5786.2508 | F7: 12939 | G7: 0
A8: 05 | B8: 鉱業，採石業，砂利採取業 | C8: 117 | D8: 1981.906 | E8: 8010.1259 | F8: 82978 | G8: 0
A9: 06 | B9: 総合工事業 | C9: 76 | D9: 1478.5974 | E9: 4046.068 | F9: 28153 | G9: 0
A10: 07 | B10: 職別工事業(設備工事業を除く) | C10: 5 | D10: 79.8 | E10: 117.94575 | F10: 281 | G10: 0
A11: 08 | B11: 設備工事業 | C11: 3 | D11: 43.612 | E11: 74.814259 | F11: 130 | G11: 0.326
A12: 09 | B12: 食料品製造業 | C12: 1972 | D12: 1317.1447 | E12: 17522.681 | F12: 644573 | G12: 0
A13: 10 | B13: 飲料・たばこ・飼料製造業 | C13: 395 | D13: 688.7143 | E13: 1458.1582 | F13: 14283 | G13: 0
A14: 11 | B14: 繊維工業 | C14: 348 | D14: 2210.4224 | E14: 8485.7597 | F14: 118035 | G14: 0
A15: 12 | B15: 木材・木製品製造業（家具を除く） | C15: 40 | D15: 268.685 | E15: 561.3859 | F15: 2877 | G15: 0
... A39: 36 | B39: 水道業 | C39: 2451 | D39: 20356.338 | E39: 157096.08 | F39: 7216680 | G39: 0
A40: 37 | B40: 通信業 | C40: 1 | D40: 628 | E40: － | F40: 628 | G40: 628
A41: 38 | B41: 放送業 | C41: 0 | D41: － | E41: － | F41: － | G41: －
A42: 39 | B42: 情報サービス業 | C42: 5 | D42: 53.2 | E42: 45.334314 | F42: 123 | G42: 7
A43: 40 | B43: インターネット附随サービス業 | C43: 0 | D43: － | E43: － | F43: － | G43: －
A44: 41 | B44: 映像・音声・文字情報制作業 | C44: 4 | D44: 28.25 | E44: 35.8922 | F44: 80 | G44: 0
A45: 42 | B45: 鉄道業 | C45: 38 | D45: 120.90421 | E45: 132.17019 | F45: 648 | G45: 15
A46: 43 | B46: 道路旅客運送業 | C46: 3 | D46: 276.83333 | E46: 373.45359 | F46: 708 | G46: 55
A47: 44 | B47: 道路貨物運送業 | C47: 10 | D47: 46.463 | E47: 40.632386 | F47: 149 | G47: 8.4
A48: 45 | B48: 水運業 | C48: 1 | D48: 67 | E48: － | F48: 67 | G48: 67
A49: 46 | B49: 航空運輸業 | C49: 2 | D49: 336.5 | E49: 468.8118 | F49: 668 | G49: 5
A50: 47 | B50: 倉庫業 | C50: 13 | D50: 132.19231 | E50: 172.52627 | F50: 515 | G50: 6.5
A51: 48 | B51: 運輸に附帯するサービス業 | C51: 116 | D51: 77.584914 | E51: 91.129574 | F51: 863 | G51: 5.6
A52: 49 | B52: 郵便業（信書便事業を含む） | C52: 1 | D52: 173 | E52: － | F52: 173 | G52: 173
A53: 50 | B53: 各種商品卸売業 | C53: 14 | D53: 136.63786 | E53: 144.41903 | F53: 563 | G53: 34
A54: 51 | B54: 繊維・衣服等卸売業 | C54: 2 | D54: 48.5 | E54: 4.9497475 | F54: 52 | G54: 45
A55: 52 | B55: 飲食料品卸売業 | C55: 31 | D55: 330.02258 | E55: 638.89009 | F55: 3286 | G55: 0
A56: 53 | B56: 建築材料，鉱物・金属材料等卸売業 | C56: 5 | D56: 85 | E56: 106.03301 | F56: 240 | G56: 0
A57: 54 | B57: 機械器具卸売業 | C57: 8 | D57: 30.2125 | E57: 22.296344 | F57: 56 | G57: 2
A58: 55 | B58: その他の卸売業 | C58: 15 | D58: 52.806667 | E58: 41.328691 | F58: 142 | G58: 5
A59: 56 | B59: 各種商品小売業 | C59: 361 | D59: 113.12934 | E59: 673.35623 | F59: 12805 | G59: 0
A60: 57 | B60: 織物・衣服・身の回り品小売業 | C60: 4 | D60: 39.75 | E60: 9.6738479 | F60: 50 | G60: 31
A61: 58 | B61: 飲食料品小売業 | C61: 37 | D61: 93.57027 | E61: 187.57095 | F61: 1180 | G61: 5
A62: 59 | B62: 機械器具小売業 | C62: 3 | D62: 29.193333 | E62: 25.294508 | F62: 44.58 | G62: 0
A63: 60 | B63: その他の小売業 | C63: 28 | D63: 75.513571 | E63: 91.585669 | F63: 473 | G63: 6
A64: 61 | B64: 無店舗小売業 | C64: 2 | D64: 2615 | E64: 1958.6858 | F64: 4000 | G64: 1230
A65: 62 | B65: 銀行業 | C65: 1 | D65: 38 | E65: － | F65: 38 | G65: 38
A66: 63 | B66: 協同組織金融業 | C66: 2 | D66: 51 | E66: 21.213203 | F66: 66 | G66: 36
A67: 64 | B67: 貸金業，クレジットカード業等非預金信用機関 | C67: 0 | D67: － | E67: － | F67: － | G67: －
A68: 65 | B68: 金融商品取引業，商品先物取引業 | C68: 0 | D68: － | E68: － | F68: － | G68: －
A69: 66 | B69: 補助的金融業等 | C69: 0 | D69: － | E69: － | F69: － | G69: －
A70: 67 | B70: 保険業（保険媒介代理業，保険サービス業を含む） | C70: 0 | D70: － | E70: － | F70: － | G70: －
A71: 68 | B71: 不動産取引業 | C71: 9 | D71: 170.74444 | E71: 207.65515 | F71: 700 | G71: 35
A72: 69 | B72: 不動産賃貸業・管理業 | C72: 87 | D72: 162.29931 | E72: 432.2525 | F72: 3953.9 | G72: 0
A73: 70 | B73: 物品賃貸業 | C73: 3 | D73: 52.086667 | E73: 16.966512 | F73: 70 | G73: 36.26
A74: 71 | B74: 学術・開発研究機関 | C74: 379 | D74: 180.91391 | E74: 713.72636 | F74: 8960 | G74: 0
A75: 72 | B75: 専門サービス業（他に分類されないもの） | C75: 20 | D75: 149.41 | E75: 339.22828 | F75: 1539 | G75: 0
A76: 73 | B76: 広告業 | C76: 2 | D76: 100.5 | E76: 7.7781746 | F76: 106 | G76: 95
A77: 74 | B77: 技術サービス業（他に分類されないもの） | C77: 151 | D77: 7.1052517 | E77: 13.071066 | F77: 121.8 | G77: 0
A78: 75 | B78: 宿泊業 | C78: 1259 | D78: 265.32805 | E78: 3336.0028 | F78: 91280 | G78: 0
A79: 76 | B79: 飲食店 | C79: 170 | D79: 70.667 | E79: 80.570256 | F79: 483 | G79: 0
A80: 77 | B80: 持ち帰り・配達飲食サービス業 | C80: 174 | D80: 83.773379 | E80: 48.850494 | F80: 320 | G80: 0
A81: 78 | B81: 洗濯・理容・美容・浴場業 | C81: 507 | D81: 204.36678 | E81: 508.67907 | F81: 7000 | G81: 0
A82: 79 | B82: その他の生活関連サービス業 | C82: 22 | D82: 88.609091 | E82: 111.07311 | F82: 465 | G82: 0
... A88: 85 | B88: 社会保険・社会福祉・介護事業 | C88: 233 | D88: 370.64502 | E88: 2167.8826 | F88: 19500 | G88: 0
A89: 86 | B89: 郵便局 | C89: 1 | D89: 27.9 | E89: － | F89: 27.9 | G89: 27.9
A90: 87 | B90: 協同組合（他に分類されないもの） | C90: 53 | D90: 317.93321 | E90: 452.721 | F90: 2731 | G90: 0
A91: 88 | B91: 廃棄物処理業 | C91: 4527 | D91: 445.22147 | E91: 3816.5096 | F91: 125610 | G91: 0
A92: 89 | B92: 自動車整備業 | C92: 4 | D92: 39.2 | E92: 24.007221 | F92: 74 | G92: 22
A93: 90 | B93: 機械等修理業（別掲を除く） | C93: 3 | D93: 5.6666667 | E93: 8.6234177 | F93: 15.6 | G93: 0.1
A94: 91 | B94: 職業紹介・労働者派遣業 | C94: 1 | D94: 55 | E94: － | F94: 55 | G94: 55
A95: 92 | B95: その他の事業サービス業 | C95: 26 | D95: 95.948462 | E95: 131.44849 | F95: 552 | G95: 0
A96: 93 | B96: 政治・経済・文化団体 | C96: 7 | D96: 66 | E96: 74.150747 | F96: 200 | G96: 1
A97: 94 | B97: 宗教 | C97: 25 | D97: 275.452 | E97: 1020.068 | F97: 5160 | G97: 2
A98: 95 | B98: その他のサービス業 | C98: 170 | D98: 347.55635 | E98: 401.4474 | F98: 1994 | G98: 0
A99: 96 | B99: 外国公務 | C99: 3 | D99: 131.96667 | E99: 192.5204 | F99: 353 | G99: 0.9
A100: 97 | B100: 国家公務 | C100: 81 | D100: 258.79877 | E100: 256.35839 | F100: 1600 | G100: 0
A101: 98 | B101: 地方公務 | C101: 287 | D101: 622.41498 | E101: 4372.3231 | F101: 67557 | G101: 0
A102: 99 | B102: 分類不能の産業 | C102: 1590 | D102: 245.48904 | E102: 1820.8437 | F102: 48849 | G102: 0
A103: - | B103: 産業分類不明 | C103: 27 | D103: 47.003556 | E103: 79.413969 | F103: 383 | G103: 0
B104: 合計 | C104: 23900 | D104: 3104.2336 | E104: 54619.753 | F104: 7216680 | G104: 0

Sheet 表3.3.2(4)
A1: 表3.3.2(4) 産業分類別未処理水量の平均値、標準偏差、最大値、最小値
G2: 単位：ｍ3/日
B3: 産業中分類 | C3: 事業場数 | D3: 平均値 | E3: 標準偏差 | F3: 最大値 | G3: 最小値
A4: 01 | B4: 農業 | C4: 114 | D4: 20.052632 | E4: 152.72343 | F4: 1608 | G4: 0
A5: 02 | B5: 林業 | C5: 2 | D5: 0 | E5: 0 | F5: 0 | G5: 0
A6: 03 | B6: 漁業（水産養殖業を除く） | C6: 2 | D6: 360 | E6: 509.11688 | F6: 720 | G6: 0
A7: 04 | B7: 水産養殖業 | C7: 5 | D7: 6831.8 | E7: 6791.4774 | F7: 17640 | G7: 504
A8: 05 | B8: 鉱業，採石業，砂利採取業 | C8: 91 | D8: 447.26374 | E8: 2186.8494 | F8: 18692 | G8: 0
A9: 06 | B9: 総合工事業 | C9: 67 | D9: 103.71642 | E9: 717.18002 | F9: 5800 | G9: 0
A10: 07 | B10: 職別工事業(設備工事業を除く) | C10: 3 | D10: 5.6666667 | E10: 9.8149546 | F10: 17 | G10: 0
A11: 08 | B11: 設備工事業 | C11: 2 | D11: 0.662 | E11: 0.93620938 | F11: 1.324 | G11: 0
A12: 09 | B12: 食料品製造業 | C12: 1776 | D12: 749.09677 | E12: 4924.2467 | F12: 70200 | G12: 0
A13: 10 | B13: 飲料・たばこ・飼料製造業 | C13: 376 | D13: 472.97761 | E13: 1035.0637 | F13: 7500 | G13: 0
A14: 11 | B14: 繊維工業 | C14: 318 | D14: 4287.7763 | E14: 19285.891 | F14: 213834 | G14: 0
A15: 12 | B15: 木材・木製品製造業（家具を除く） | C15: 39 | D15: 285.55462 | E15: 695.27127 | F15: 3540 | G15: 0
... A39: 36 | B39: 水道業 | C39: 2004 | D39: 288.8582 | E39: 2055.0166 | F39: 39482 | G39: 0
A40: 37 | B40: 通信業 | C40: 1 | D40: 56648 | E40: － | F40: 56648 | G40: 56648
A41: 38 | B41: 放送業 | C41: 0 | D41: － | E41: － | F41: － | G41: －
A42: 39 | B42: 情報サービス業 | C42: 4 | D42: 81.25 | E42: 160.50623 | F42: 322 | G42: 0
A43: 40 | B43: インターネット附随サービス業 | C43: 0 | D43: － | E43: － | F43: － | G43: －
A44: 41 | B44: 映像・音声・文字情報制作業 | C44: 4 | D44: 120.5 | E44: 240.3338 | F44: 481 | G44: 0
A45: 42 | B45: 鉄道業 | C45: 35 | D45: 3.7285714 | E45: 10.531007 | F45: 52 | G45: 0
A46: 43 | B46: 道路旅客運送業 | C46: 2 | D46: 0 | E46: 0 | F46: 0 | G46: 0
A47: 44 | B47: 道路貨物運送業 | C47: 11 | D47: 2 | E47: 5.709641 | F47: 19 | G47: 0
A48: 45 | B48: 水運業 | C48: 1 | D48: 33 | E48: － | F48: 33 | G48: 33
A49: 46 | B49: 航空運輸業 | C49: 2 | D49: 221.5 | E49: 313.2483 | F49: 443 | G49: 0
A50: 47 | B50: 倉庫業 | C50: 12 | D50: 13.083333 | E50: 26.905418 | F50: 88 | G50: 0
A51: 48 | B51: 運輸に附帯するサービス業 | C51: 105 | D51: 3.62 | E51: 22.151682 | F51: 220 | G51: 0
A52: 49 | B52: 郵便業（信書便事業を含む） | C52: 1 | D52: 0 | E52: － | F52: 0 | G52: 0
A53: 50 | B53: 各種商品卸売業 | C53: 14 | D53: 92.142857 | E53: 220.26168 | F53: 798 | G53: 0
A54: 51 | B54: 繊維・衣服等卸売業 | C54: 2 | D54: 77.5 | E54: 109.60155 | F54: 155 | G54: 0
A55: 52 | B55: 飲食料品卸売業 | C55: 26 | D55: 68.038462 | E55: 162.78144 | F55: 720 | G55: 0
A56: 53 | B56: 建築材料，鉱物・金属材料等卸売業 | C56: 4 | D56: 67 | E56: 86 | F56: 180 | G56: 0
A57: 54 | B57: 機械器具卸売業 | C57: 6 | D57: 1.0833333 | E57: 2.6536139 | F57: 6.5 | G57: 0
A58: 55 | B58: その他の卸売業 | C58: 9 | D58: 0.94444444 | E58: 2.6509956 | F58: 8 | G58: 0
A59: 56 | B59: 各種商品小売業 | C59: 288 | D59: 4.3535417 | E59: 14.362321 | F59: 183 | G59: 0
A60: 57 | B60: 織物・衣服・身の回り品小売業 | C60: 2 | D60: 3.5 | E60: 4.9497475 | F60: 7 | G60: 0
A61: 58 | B61: 飲食料品小売業 | C61: 25 | D61: 4.28 | E61: 11.749184 | F61: 55 | G61: 0
A62: 59 | B62: 機械器具小売業 | C62: 3 | D62: 0.096666667 | E62: 0.16743158 | F62: 0.29 | G62: 0
A63: 60 | B63: その他の小売業 | C63: 16 | D63: 15.625 | E63: 26.607956 | F63: 88 | G63: 0
A64: 61 | B64: 無店舗小売業 | C64: 1 | D64: 0 | E64: － | F64: 0 | G64: 0
A65: 62 | B65: 銀行業 | C65: 1 | D65: 3 | E65: － | F65: 3 | G65: 3
A66: 63 | B66: 協同組織金融業 | C66: 2 | D66: 0 | E66: 0 | F66: 0 | G66: 0
A67: 64 | B67: 貸金業，クレジットカード業等非預金信用機関 | C67: 0 | D67: － | E67: － | F67: － | G67: －
A68: 65 | B68: 金融商品取引業，商品先物取引業 | C68: 0 | D68: － | E68: － | F68: － | G68: －
A69: 66 | B69: 補助的金融業等 | C69: 0 | D69: － | E69: － | F69: － | G69: －
A70: 67 | B70: 保険業（保険媒介代理業，保険サービス業を含む） | C70: 0 | D70: － | E70: － | F70: － | G70: －
A71: 68 | B71: 不動産取引業 | C71: 8 | D71: 0 | E71: 0 | F71: 0 | G71: 0
A72: 69 | B72: 不動産賃貸業・管理業 | C72: 71 | D72: 8.4605634 | E72: 67.860574 | F72: 572 | G72: 0
A73: 70 | B73: 物品賃貸業 | C73: 3 | D73: 0 | E73: 0 | F73: 0 | G73: 0
A74: 71 | B74: 学術・開発研究機関 | C74: 351 | D74: 782.44886 | E74: 4628.6729 | F74: 60012 | G74: 0
A75: 72 | B75: 専門サービス業（他に分類されないもの） | C75: 19 | D75: 9.8157895 | E75: 40.513102 | F75: 177 | G75: 0
A76: 73 | B76: 広告業 | C76: 1 | D76: 0 | E76: － | F76: 0 | G76: 0
A77: 74 | B77: 技術サービス業（他に分類されないもの） | C77: 144 | D77: 7.4609931 | E77: 73.888262 | F77: 887 | G77: 0
A78: 75 | B78: 宿泊業 | C78: 1049 | D78: 117.10946 | E78: 1494.5277 | F78: 46000 | G78: 0
A79: 76 | B79: 飲食店 | C79: 133 | D79: 17.282707 | E79: 79.915103 | F79: 660 | G79: 0
A80: 77 | B80: 持ち帰り・配達飲食サービス業 | C80: 152 | D80: 1.7947368 | E80: 5.1131798 | F80: 33 | G80: 0
A81: 78 | B81: 洗濯・理容・美容・浴場業 | C81: 422 | D81: 26.633429 | E81: 223.84716 | F81: 4464 | G81: 0
A82: 79 | B82: その他の生活関連サービス業 | C82: 17 | D82: 18.352941 | E82: 73.384213 | F82: 303 | G82: 0
A83: 80 | B83: 娯楽業 | C83: 573 | D83: 23.515881 | E83: 106.58022 | F83: 1400 | G83: 0
A84: 81 | B84: 学校教育 | C84: 404 | D84: 44.814406 | E84: 347.67567 | F84: 6000 | G84: 0
A85: 82 | B85: その他の教育，学習支援業 | C85: 138 | D85: 152.44377 | E85: 811.9931 | F85: 6850 | G85: 0
A86: 83 | B86: 医療業 | C86: 825 | D86: 10.959321 | E86: 71.809066 | F86: 1639 | G86: 0
A87: 84 | B87: 保健衛生 | C87: 66 | D87: 5.5857576 | E87: 36.489707 | F87: 296 | G87: 0
A88: 85 | B88: 社会保険・社会福祉・介護事業 | C88: 194 | D88: 12.646392 | E88: 116.35733 | F88: 1611 | G88: 0
A89: 86 | B89: 郵便局 | C89: 1 | D89: 0 | E89: － | F89: 0 | G89: 0
A90: 87 | B90: 協同組合（他に分類されないもの） | C90: 42 | D90: 111.83333 | E90: 423.17291 | F90: 2507 | G90: 0
A91: 88 | B91: 廃棄物処理業 | C91: 3571 | D91: 9.1353346 | E91: 176.79221 | F91: 9691 | G91: 0
A92: 89 | B92: 自動車整備業 | C92: 3 | D92: 0.86666667 | E92: 1.5011107 | F92: 2.6 | G92: 0
A93: 90 | B93: 機械等修理業（別掲を除く） | C93: 3 | D93: 6.2333333 | E93: 10.79645 | F93: 18.7 | G93: 0
A94: 91 | B94: 職業紹介・労働者派遣業 | C94: 1 | D94: 34 | E94: － | F94: 34 | G94: 34
A95: 92 | B95: その他の事業サービス業 | C95: 26 | D95: 14.156538 | E95: 46.292441 | F95: 231 | G95: 0
A96: 93 | B96: 政治・経済・文化団体 | C96: 5 | D96: 0.8 | E96: 1.7888544 | F96: 4 | G96: 0
A97: 94 | B97: 宗教 | C97: 24 | D97: 0.89583333 | E97: 2.3154451 | F97: 10 | G97: 0
A98: 95 | B98: その他のサービス業 | C98: 143 | D98: 62.968671 | E98: 348.17472 | F98: 4032 | G98: 0
A99: 96 | B99: 外国公務 | C99: 1 | D99: 0.1 | E99: － | F99: 0.1 | G99: 0.1
A100: 97 | B100: 国家公務 | C100: 72 | D100: 32.023611 | E100: 85.414437 | F100: 570 | G100: 0
A101: 98 | B101: 地方公務 | C101: 241 | D101: 165.99494 | E101: 1742.2063 | F101: 25920 | G101: 0
A102: 99 | B102: 分類不能の産業 | C102: 1299 | D102: 4.823418 | E102: 47.852429 | F102: 917 | G102: 0
A103: - | B103: 産業分類不明 | C103: 22 | D103: 25.764545 | E103: 87.384766 | F103: 390 | G103: 0
B104: 合計 | C104: 20432 | D104: 16874.926 | E104: 381834.12 | F104: 23658114 | G104: 0

Sheet 表3.3.3(1)
A1: 表3.3.3(1) 代表特定施設別用水量の平均値、標準偏差、最大値、最小値
G2: 単位：ｍ3/日
B3: 代表特定施設 | C3: 事業場数 | D3: 平均値 | E3: 標準偏差 | F3: 最大値 | G3: 最小値
A4: 1 | B4: 鉱業又は水洗炭業の用に供する施設 | C4: 61 | D4: 91410.111 | E4: 613149.52 | F4: 4779876 | G4: 0
A5: 1-2 | B5: 畜産農業又はサービス業の用に供する施設 | C5: 141 | D5: 210.75253 | E5: 446.97925 | F5: 4049 | G5: 0
A6: 2 | B6: 畜産食料品製造業の用に供する施設 | C6: 477 | D6: 1490.8477 | E6: 13391.567 | F6: 284800 | G6: 8.34
A7: 3 | B7: 水産食料品製造業の用に供する施設 | C7: 315 | D7: 451.47212 | E7: 2151.6868 | F7: 36176 | G7: 3
A8: 4 | B8: 野菜又は果実を原料とする保存食料品製造業の用に供する施設 | C8: 331 | D8: 494.13384 | E8: 780.93457 | F8: 6681 | G8: 9
A9: 5 | B9: みそ、しょう油、食用アミノ酸等の製造業の用に供する施設 | C9: 110 | D9: 1850.4618 | E9: 7571.4494 | F9: 59680 | G9: 3
A10: 6 | B10: 小麦粉製造業の用に供する洗浄施設 | C10: 0 | D10: － | E10: － | F10: － | G10: －
A11: 7 | B11: 砂糖製造業の用に供する施設 | C11: 39 | D11: 24982.59 | E11: 21750.847 | F11: 73818 | G11: 5
A12: 8 | B12: パン・菓子の製造業又は製あん業の用に供する粗製あんの沈殿槽 | C12: 37 | D12: 316.7027 | E12: 328.7384 | F12: 1425 | G12: 0
A13: 9 | B13: 米菓製造業又はこうじ製造業の用に供する洗米機 | C13: 34 | D13: 2057.8529 | E13: 9705.801 | F13: 56957 | G13: 27
A14: 10 | B14: 飲料製造業の用に供する施設 | C14: 374 | D14: 1391.5644 | E14: 2193.9513 | F14: 16423 | G14: 2
A15: 11 | B15: 動物系飼料又は有機質肥料の製造業の用に供する施設 | C15: 47 | D15: 1003.5106 | E15: 1547.6141 | F15: 6500 | G15: 2
A16: 12 | B16: 動植物油脂製造業の用に供する施設 | C16: 37 | D16: 3935.1892 | E16: 10805.106 | F16: 63162 | G16: 10
A17: 13 | B17: イースト製造業の用に供する施設 | C17: 2 | D17: 9494 | E17: 10739.538 | F17: 17088 | G17: 1900
A18: 14 | B18: でん粉又は化工でん粉の製造業の用に供する施設 | C18: 32 | D18: 7347.4219 | E18: 8463.8319 | F18: 35983 | G18: 206
A19: 15 | B19: ぶどう糖又は水あめの製造業の用に供する施設 | C19: 10 | D19: 5011.1 | E19: 6986.6944 | F19: 23669 | G19: 196
A20: 16 | B20: めん類製造業の用に供する湯煮施設 | C20: 88 | D20: 1041.1364 | E20: 5244.2531 | F20: 49446 | G20: 25
A21: 17 | B21: 豆腐又は煮豆の製造業の用に供する湯煮施設 | C21: 139 | D21: 5379.1381 | E21: 57119.718 | F21: 673861 | G21: 30
A22: 18 | B22: インスタントコーヒー製造業の用に供する抽出施設 | C22: 3 | D22: 3765 | E22: 1814.5167 | F22: 5860 | G22: 2691
... A25: 19 | B25: 紡績業又は繊維製品の製造業若しくは加工業の用に供する施設 | C25: 320 | D25: 1911.5069 | E25: 4450.2304 | F25: 48128 | G25: 0
A26: 20 | B26: 洗毛業の用に供する施設 | C26: 1 | D26: 1287 | E26: － | F26: 1287 | G26: 1287
A27: 21 | B27: 化学繊維製造業の用に供する施設 | C27: 31 | D27: 40221.939 | E27: 56005.703 | F27: 234496 | G27: 166
A28: 21-2 | B28: 一般製材業又は木材チップ製造業の用に供する湿式バーカー | C28: 0 | D28: － | E28: － | F28: － | G28: －
A29: 21-3 | B29: 合板製造業の用に供する接着機洗浄施設 | C29: 11 | D29: 484.44545 | E29: 458.26999 | F29: 1301 | G29: 77
A30: 21-4 | B30: パーティクルボード製造業の用に供する施設 | C30: 3 | D30: 602.33333 | E30: 504.63881 | F30: 1100 | G30: 91
A31: 22 | B31: 木材薬品処理業の用に供する施設 | C31: 13 | D31: 69 | E31: 130.51756 | F31: 368 | G31: 1
A32: 23 | B32: パルプ、紙又は紙加工品の製造業の用に供する施設 | C32: 296 | D32: 22064.925 | E32: 49598.063 | F32: 389500 | G32: 19
A33: 23-2 | B33: 新聞業、出版業、印刷業又は製版業の用に供する施設 | C33: 37 | D33: 337.75432 | E33: 1162.1472 | F33: 7107 | G33: 0.01
A34: 24 | B34: 化学肥料製造業の用に供する施設 | C34: 23 | D34: 147492.96 | E34: 380241.31 | F34: 1597756 | G34: 10
A35: 25 | B35: 水銀電解法による化成ソーダ又は化成カリの製造業の用に供する施設 | C35: 3 | D35: 3601.6667 | E35: 778.14416 | F35: 4100 | G35: 2705
A36: 26 | B36: 無機顔料製造業の用に供する施設 | C36: 28 | D36: 10984.929 | E36: 21952.696 | F36: 79938 | G36: 37
A37: 27 | B37: その他の無機化学工業製品製造業の用に供する施設 | C37: 215 | D37: 21039.915 | E37: 94669.565 | F37: 1046808 | G37: 1
A38: 28 | B38: カーバイド法アセチレン誘導品製造業の用に供する施設 | C38: 15 | D38: 15234.533 | E38: 32949.143 | F38: 109400 | G38: 2
A39: 29 | B39: コールタール製品製造業の用に供する施設 | C39: 3 | D39: 26533 | E39: 37663.908 | F39: 69868 | G39: 1683
A40: 30 | B40: 発酵工業の用に供する施設 | C40: 9 | D40: 13084.778 | E40: 21128.126 | F40: 58698 | G40: 240
... A47: 37 | B47: その他の石油化学工業の用に供する施設 | C47: 49 | D47: 88358.755 | E47: 176194.73 | F47: 824100 | G47: 7
A48: 38 | B48: 石けん製造業の用に供する施設 | C48: 0 | D48: － | E48: － | F48: － | G48: －
A49: 39 | B49: 硬化油製造業の用に供する施設 | C49: 1 | D49: 19989 | E49: － | F49: 19989 | G49: 19989
A50: 40 | B50: 脂肪酸製造業の用に供する蒸りゅう施設 | C50: 2 | D50: 1570 | E50: 1880.904 | F50: 2900 | G50: 240
A51: 41 | B51: 香料製造業の用に供する施設 | C51: 11 | D51: 1064.9091 | E51: 1621.1631 | F51: 5598 | G51: 51
A52: 42 | B52: ゼラチン又はにかわの製造業の用に供する施設 | C52: 0 | D52: － | E52: － | F52: － | G52: －
A53: 43 | B53: 写真感光材料製造業の用に供する感光剤洗浄施設 | C53: 7 | D53: 3659.8571 | E53: 7590.9322 | F53: 20830 | G53: 141
A54: 44 | B54: 天然樹脂製品製造業の用に供する施設 | C54: 0 | D54: － | E54: － | F54: － | G54: －
A55: 45 | B55: 木材化学工業の用に供するフルフラール蒸りゅう施設 | C55: 0 | D55: － | E55: － | F55: － | G55: －
A56: 46 | B56: その他の有機化学工業製品製造業の用に供する施設 | C56: 189 | D56: 3765.0175 | E56: 11283.926 | F56: 97682 | G56: 3
A57: 47 | B57: 医薬品製造業の用に供する施設 | C57: 169 | D57: 3511.07 | E57: 18129.232 | F57: 228400 | G57: 0.5
A58: 48 | B58: 火薬製造業の用に供する洗浄施設 | C58: 10 | D58: 765.95 | E58: 862.9928 | F58: 2561 | G58: 10.5
A59: 49 | B59: 農薬製造業の用に供する混合施設 | C59: 11 | D59: 872.61818 | E59: 2480.1469 | F59: 8336 | G59: 1
A60: 50 | B60: 試薬の製造業の用に供する試薬製造施設 | C60: 1 | D60: 4035 | E60: － | F60: 4035 | G60: 4035
A61: 51 | B61: 石油精製業の用に供する施設 | C61: 36 | D61: 163961.67 | E61: 197542.1 | F61: 726511 | G61: 5
A62: 51-2 | B62: 自動車用タイヤ等ゴム製品製造業の用に供する直接加流施設 | C62: 54 | D62: 820.82407 | E62: 1680.5886 | F62: 11276 | G62: 0.2
A63: 51-3 | B63: 医療、衛生用ゴム製品製造業の用に供するラテックス成形型洗浄施設 | C63: 3 | D63: 1381 | E63: 1285.7889 | F63: 2640 | G63: 70
A64: 52 | B64: 皮革製造業の用に供する施設 | C64: 8 | D64: 458 | E64: 601.97461 | F64: 1800 | G64: 11
A65: 53 | B65: ガラス又はガラス製品の製造業の用に供する施設 | C65: 164 | D65: 564.1722 | E65: 1438.035 | F65: 11124 | G65: 0
A66: 54 | B66: セメント製品製造業の用に供する施設 | C66: 104 | D66: 273.62019 | E66: 562.47874 | F66: 3061 | G66: 0.1
A67: 55 | B67: 生コンクリート製造業の用に供するバッチャープラント | C67: 180 | D67: 427.69111 | E67: 2551.1394 | F67: 32576 | G67: 0
A68: 56 | B68: 有機質砂かべ材製造業の用に供する混合施設 | C68: 0 | D68: － | E68: － | F68: － | G68: －
A69: 57 | B69: 人造黒鉛電極製造業の用に供する成型施設 | C69: 6 | D69: 3624.5 | E69: 4729.6792 | F69: 12800 | G69: 600
A70: 58 | B70: 窯業原料の精製業の用に供する施設 | C70: 99 | D70: 803.91697 | E70: 2597.9574 | F70: 21100 | G70: 0.02
A71: 59 | B71: 砕石業の用に供する施設 | C71: 33 | D71: 862.36364 | E71: 1280.3711 | F71: 5200 | G71: 1
A72: 60 | B72: 砂利採取業の用に供する水洗式分別施設 | C72: 48 | D72: 726.4725 | E72: 825.69452 | F72: 4452 | G72: 0
A73: 61 | B73: 鉄鋼業の用に供する施設 | C73: 119 | D73: 250758.51 | E73: 811135.6 | F73: 5131024 | G73: 12
A74: 62 | B74: 非鉄金属製造業の用に供する施設 | C74: 79 | D74: 15590.71 | E74: 49741.912 | F74: 281479 | G74: 1
A75: 63 | B75: 金属製品製造業又は機械器具製造業の用に供する施設 | C75: 571 | D75: 2477.13 | E75: 27004.361 | F75: 617940 | G75: 0
A76: 63-2 | B76: 空きびん卸売業の用に供する自動式洗びん施設 | C76: 3 | D76: 146.33333 | E76: 95.028066 | F76: 240 | G76: 50
A77: 63-3 | B77: 石炭を燃料とする火力発電施設のうち廃ガス洗浄施設 | C77: 27 | D77: 2236587.8 | E77: 2099817.9 | F77: 7507483 | G77: 2864
A78: 64 | B78: ガス供給業又はコークス製造業の用に供する施設 | C78: 7 | D78: 67645.429 | E78: 74446.285 | F78: 192209 | G78: 48
A79: 64-2 | B79: 水道施設、工業用水道施設又は自家用工業用水道の浄水施設 | C79: 270 | D79: 50743.685 | E79: 99330.892 | F79: 1205706 | G79: 202
A80: 65 | B80: 酸又はアルカリによる表面処理施設 | C80: 1518 | D80: 1157.7554 | E80: 8255.8671 | F80: 301600 | G80: 0
... A85: 66-5 | B85: 飲食店に設置されるちゅう房施設 | C85: 417 | D85: 1312.1394 | E85: 24194.781 | F85: 494148 | G85: 0
A86: 66-6 | B86: そば店、うどん店、すし店のほか、喫茶店等に設置されるちゅう房施設 | C86: 0 | D86: － | E86: － | F86: － | G86: －
A87: 66-7 | B87: 料亭、バー、キャバレー、ナイトクラブ等に設置されるちゅう房施設 | C87: 0 | D87: － | E87: － | F87: － | G87: －
A88: 67 | B88: 洗たく業の用に供する洗浄施設 | C88: 438 | D88: 262.70997 | E88: 793.55666 | F88: 8300 | G88: 0.001
A89: 68 | B89: 写真現像業の用に供する自動式フィルム現像洗浄施設 | C89: 6 | D89: 46.516667 | E89: 44.699459 | F89: 126 | G89: 0.1
A90: 68-2 | B90: 病院で病床数が300以上であるものに設置される施設 | C90: 277 | D90: 226.54278 | E90: 216.63338 | F90: 2289 | G90: 0
A91: 69 | B91: と畜業又は死亡獣畜取扱業の用に供する解体施設 | C91: 93 | D91: 688.52247 | E91: 501.72138 | F91: 2105 | G91: 26.59
A92: 69-2 | B92: 中央卸売市場に設置される施設 | C92: 7 | D92: 613.14286 | E92: 398.74111 | F92: 1415 | G92: 255
A93: 69-3 | B93: 地方卸売市場に設置される施設 | C93: 28 | D93: 492.04286 | E93: 802.12103 | F93: 4032 | G93: 12
A94: 70 | B94: 廃油処理施設 | C94: 4 | D94: 3548.75 | E94: 5232.6216 | F94: 11270 | G94: 160
A95: 70-2 | B95: 自動車分解整備事業の用に供する洗車施設 | C95: 4 | D95: 28.1 | E95: 12.802604 | F95: 40 | G95: 11.6
A96: 71 | B96: 自動式車両洗浄施設 | C96: 55 | D96: 203.74691 | E96: 256.72392 | F96: 1007 | G96: 0.64
A97: 71-2 | B97: 科学技術に関する研究、試験、検査又は専門教育の用に供する施設 | C97: 975 | D97: 801.04771 | E97: 6246.4664 | F97: 145140 | G97: 0
A98: 71-3 | B98: 一般廃棄物処理施設である焼却施設 | C98: 80 | D98: 964.78325 | E98: 5767.6906 | F98: 50818 | G98: 2.6
A99: 71-4 | B99: 産業廃棄物処理施設 | C99: 73 | D99: 704.89589 | E99: 2165.6674 | F99: 15014 | G99: 0
... A108: － | B108: 特定施設不明 | C108: 12 | D108: 806 | E108: 1650.8242 | F108: 5454 | G108: 0
B109: 合計 | C109: 21388 | D109: 17325.696 | E109: 353746.68 | F109: 23663595 | G109: 0

Sheet 表3.3.3(2)
A1: 表3.3.3(2) 代表特定施設別総排水量の平均値、標準偏差、最大値、最小値
G2: 単位：ｍ3/日
B3: 代表特定施設 | C3: 事業場数 | D3: 平均値 | E3: 標準偏差 | F3: 最大値 | G3: 最小値
A4: 1 | B4: 鉱業又は水洗炭業の用に供する施設 | C4: 70 | D4: 79862 | E4: 572487.99 | F4: 4779876 | G4: 0
A5: 1-2 | B5: 畜産農業又はサービス業の用に供する施設 | C5: 142 | D5: 206.5628 | E5: 443.92042 | F5: 4049 | G5: 0
A6: 2 | B6: 畜産食料品製造業の用に供する施設 | C6: 473 | D6: 1285.9529 | E6: 13087.92 | F6: 284800 | G6: 8.34
A7: 3 | B7: 水産食料品製造業の用に供する施設 | C7: 307 | D7: 639.11113 | E7: 4327.8156 | F7: 70103 | G7: 3
A8: 4 | B8: 野菜又は果実を原料とする保存食料品製造業の用に供する施設 | C8: 324 | D8: 446.00586 | E8: 656.44229 | F8: 5100 | G8: 8
A9: 5 | B9: みそ、しょう油、食用アミノ酸等の製造業の用に供する施設 | C9: 110 | D9: 1670.3318 | E9: 7024.4152 | F9: 51065 | G9: 3
A10: 6 | B10: 小麦粉製造業の用に供する洗浄施設 | C10: 0 | D10: － | E10: － | F10: － | G10: －
A11: 7 | B11: 砂糖製造業の用に供する施設 | C11: 39 | D11: 23724.282 | E11: 20982.852 | F11: 72447 | G11: 1
A12: 8 | B12: パン・菓子の製造業又は製あん業の用に供する粗製あんの沈殿槽 | C12: 35 | D12: 292.65714 | E12: 301.76227 | F12: 1411 | G12: 30
A13: 9 | B13: 米菓製造業又はこうじ製造業の用に供する洗米機 | C13: 35 | D13: 1947.7714 | E13: 9580.6993 | F13: 56987 | G13: 27
A14: 10 | B14: 飲料製造業の用に供する施設 | C14: 373 | D14: 1187.6467 | E14: 1927.0547 | F14: 14564.5 | G14: 1
A15: 11 | B15: 動物系飼料又は有機質肥料の製造業の用に供する施設 | C15: 47 | D15: 1021.7021 | E15: 1642.4698 | F15: 7500 | G15: 12
A16: 12 | B16: 動植物油脂製造業の用に供する施設 | C16: 36 | D16: 3852.75 | E16: 10654.752 | F16: 61438 | G16: 35
A17: 13 | B17: イースト製造業の用に供する施設 | C17: 2 | D17: 9330 | E17: 10719.739 | F17: 16910 | G17: 1750
A18: 14 | B18: でん粉又は化工でん粉の製造業の用に供する施設 | C18: 32 | D18: 7162.3031 | E18: 7711.5914 | F18: 27708 | G18: 204
A19: 15 | B19: ぶどう糖又は水あめの製造業の用に供する施設 | C19: 10 | D19: 4480.8 | E19: 5719.6297 | F19: 19289 | G19: 193
A20: 16 | B20: めん類製造業の用に供する湯煮施設 | C20: 87 | D20: 832.4023 | E20: 3858.1607 | F20: 36147 | G20: 24
A21: 17 | B21: 豆腐又は煮豆の製造業の用に供する湯煮施設 | C21: 140 | D21: 5101.9014 | E21: 54443.066 | F21: 644573 | G21: 30
A22: 18 | B22: インスタントコーヒー製造業の用に供する抽出施設 | C22: 3 | D22: 2797.3333 | E22: 1959.5587 | F22: 5056 | G22: 1551
... A25: 19 | B25: 紡績業又は繊維製品の製造業若しくは加工業の用に供する施設 | C25: 318 | D25: 2199.2465 | E25: 8828.6594 | F25: 145778 | G25: 0.2
A26: 20 | B26: 洗毛業の用に供する施設 | C26: 1 | D26: 931 | E26: － | F26: 931 | G26: 931
A27: 21 | B27: 化学繊維製造業の用に供する施設 | C27: 31 | D27: 39106.874 | E27: 55050.254 | F27: 230485 | G27: 166
A28: 21-2 | B28: 一般製材業又は木材チップ製造業の用に供する湿式バーカー | C28: 0 | D28: － | E28: － | F28: － | G28: －
A29: 21-3 | B29: 合板製造業の用に供する接着機洗浄施設 | C29: 11 | D29: 323.76364 | E29: 388.93168 | F29: 1158 | G29: 40
A30: 21-4 | B30: パーティクルボード製造業の用に供する施設 | C30: 3 | D30: 402.33333 | E30: 527.76163 | F30: 1011 | G30: 72
A31: 22 | B31: 木材薬品処理業の用に供する施設 | C31: 14 | D31: 62.321429 | E31: 118.10322 | F31: 349 | G31: 0
A32: 23 | B32: パルプ、紙又は紙加工品の製造業の用に供する施設 | C32: 297 | D32: 21244.182 | E32: 48157.538 | F32: 364800 | G32: 18
A33: 23-2 | B33: 新聞業、出版業、印刷業又は製版業の用に供する施設 | C33: 36 | D33: 334.2975 | E33: 1178.7437 | F33: 7107 | G33: 0.01
A34: 24 | B34: 化学肥料製造業の用に供する施設 | C34: 24 | D34: 103179.54 | E34: 318680.79 | F34: 1565546 | G34: 9
A35: 25 | B35: 水銀電解法による化成ソーダ又は化成カリの製造業の用に供する施設 | C35: 3 | D35: 2836 | E35: 1348.6126 | F35: 3700 | G35: 1282
A36: 26 | B36: 無機顔料製造業の用に供する施設 | C36: 28 | D36: 11172.536 | E36: 21969.018 | F36: 79459 | G36: 37
A37: 27 | B37: その他の無機化学工業製品製造業の用に供する施設 | C37: 215 | D37: 33254.962 | E37: 220109.1 | F37: 2941000 | G37: 0.03
A38: 28 | B38: カーバイド法アセチレン誘導品製造業の用に供する施設 | C38: 15 | D38: 15244.9 | E38: 32956.813 | F38: 109400 | G38: 0
A39: 29 | B39: コールタール製品製造業の用に供する施設 | C39: 3 | D39: 28047 | E39: 41297.965 | F39: 75560 | G39: 768
A40: 30 | B40: 発酵工業の用に供する施設 | C40: 9 | D40: 14904.667 | E40: 25348.859 | F40: 72979 | G40: 80
... A47: 37 | B47: その他の石油化学工業の用に供する施設 | C47: 49 | D47: 79466.502 | E47: 171482.89 | F47: 824100 | G47: 0
A48: 38 | B48: 石けん製造業の用に供する施設 | C48: 0 | D48: － | E48: － | F48: － | G48: －
A49: 39 | B49: 硬化油製造業の用に供する施設 | C49: 1 | D49: 870 | E49: － | F49: 870 | G49: 870
A50: 40 | B50: 脂肪酸製造業の用に供する蒸りゅう施設 | C50: 2 | D50: 1620 | E50: 2022.3254 | F50: 3050 | G50: 190
A51: 41 | B51: 香料製造業の用に供する施設 | C51: 10 | D51: 1058.9 | E51: 1637.5768 | F51: 5495 | G51: 89
A52: 42 | B52: ゼラチン又はにかわの製造業の用に供する施設 | C52: 0 | D52: － | E52: － | F52: － | G52: －
A53: 43 | B53: 写真感光材料製造業の用に供する感光剤洗浄施設 | C53: 7 | D53: 4676 | E53: 10574.377 | F53: 28638 | G53: 113
A54: 44 | B54: 天然樹脂製品製造業の用に供する施設 | C54: 0 | D54: － | E54: － | F54: － | G54: －
A55: 45 | B55: 木材化学工業の用に供するフルフラール蒸りゅう施設 | C55: 0 | D55: － | E55: － | F55: － | G55: －
A56: 46 | B56: その他の有機化学工業製品製造業の用に供する施設 | C56: 186 | D56: 3646.7323 | E56: 10148.911 | F56: 73630 | G56: 3
A57: 47 | B57: 医薬品製造業の用に供する施設 | C57: 168 | D57: 3441.8385 | E57: 18211.122 | F57: 228400 | G57: 0
A58: 48 | B58: 火薬製造業の用に供する洗浄施設 | C58: 9 | D58: 1582.6667 | E58: 2871.4645 | F58: 9056 | G58: 30
A59: 49 | B59: 農薬製造業の用に供する混合施設 | C59: 11 | D59: 793.21818 | E59: 2218.62 | F59: 7462 | G59: 1
A60: 50 | B60: 試薬の製造業の用に供する試薬製造施設 | C60: 1 | D60: 4035 | E60: － | F60: 4035 | G60: 4035
A61: 51 | B61: 石油精製業の用に供する施設 | C61: 36 | D61: 159579.22 | E61: 197784.51 | F61: 707242 | G61: 5
A62: 51-2 | B62: 自動車用タイヤ等ゴム製品製造業の用に供する直接加流施設 | C62: 51 | D62: 742.26471 | E62: 1431.3188 | F62: 8964 | G62: 0.2
A63: 51-3 | B63: 医療、衛生用ゴム製品製造業の用に供するラテックス成形型洗浄施設 | C63: 3 | D63: 1381 | E63: 1285.7889 | F63: 2640 | G63: 70
A64: 52 | B64: 皮革製造業の用に供する施設 | C64: 8 | D64: 455.5 | E64: 550.80253 | F64: 1600 | G64: 11
A65: 53 | B65: ガラス又はガラス製品の製造業の用に供する施設 | C65: 161 | D65: 492.76484 | E65: 1258.9835 | F65: 9859 | G65: 0
A66: 54 | B66: セメント製品製造業の用に供する施設 | C66: 96 | D66: 266.79094 | E66: 714.43203 | F66: 4371 | G66: 0
A67: 55 | B67: 生コンクリート製造業の用に供するバッチャープラント | C67: 171 | D67: 1135.8314 | E67: 7164.6206 | F67: 90796 | G67: 0
A68: 56 | B68: 有機質砂かべ材製造業の用に供する混合施設 | C68: 0 | D68: － | E68: － | F68: － | G68: －
A69: 57 | B69: 人造黒鉛電極製造業の用に供する成型施設 | C69: 6 | D69: 2577.5 | E69: 2544.6004 | F69: 6800 | G69: 600
A70: 58 | B70: 窯業原料の精製業の用に供する施設 | C70: 97 | D70: 778.90928 | E70: 2539.7743 | F70: 21100 | G70: 0
A71: 59 | B71: 砕石業の用に供する施設 | C71: 35 | D71: 579.94286 | E71: 1000.6388 | F71: 5200 | G71: 0
A72: 60 | B72: 砂利採取業の用に供する水洗式分別施設 | C72: 47 | D72: 664.61277 | E72: 821.12057 | F72: 4452 | G72: 0
A73: 61 | B73: 鉄鋼業の用に供する施設 | C73: 118 | D73: 165637.96 | E73: 511894.08 | F73: 3153310 | G73: 2
A74: 62 | B74: 非鉄金属製造業の用に供する施設 | C74: 80 | D74: 16131.64 | E74: 53117.027 | F74: 280553 | G74: 0
A75: 63 | B75: 金属製品製造業又は機械器具製造業の用に供する施設 | C75: 546 | D75: 2315.6186 | E75: 30549.598 | F75: 710521 | G75: 0
A76: 63-2 | B76: 空きびん卸売業の用に供する自動式洗びん施設 | C76: 2 | D76: 145 | E76: 134.35029 | F76: 240 | G76: 50
A77: 63-3 | B77: 石炭を燃料とする火力発電施設のうち廃ガス洗浄施設 | C77: 27 | D77: 2848021.7 | E77: 3427755.6 | F77: 16591023 | G77: 169
A78: 64 | B78: ガス供給業又はコークス製造業の用に供する施設 | C78: 7 | D78: 65979.429 | E78: 72901.378 | F78: 186932 | G78: 48
A79: 64-2 | B79: 水道施設、工業用水道施設又は自家用工業用水道の浄水施設 | C79: 265 | D79: 1617.0532 | E79: 3948.1702 | F79: 39501 | G79: 0
A80: 65 | B80: 酸又はアルカリによる表面処理施設 | C80: 1483 | D80: 903.79912 | E80: 2930.6312 | F80: 47701 | G80: 0
... A85: 66-5 | B85: 飲食店に設置されるちゅう房施設 | C85: 426 | D85: 451.41188 | E85: 5142.0379 | F85: 101856 | G85: 0
A86: 66-6 | B86: そば店、うどん店、すし店のほか、喫茶店等に設置されるちゅう房施設 | C86: 0 | D86: － | E86: － | F86: － | G86: －
A87: 66-7 | B87: 料亭、バー、キャバレー、ナイトクラブ等に設置されるちゅう房施設 | C87: 0 | D87: － | E87: － | F87: － | G87: －
A88: 67 | B88: 洗たく業の用に供する洗浄施設 | C88: 428 | D88: 262.26843 | E88: 758.70196 | F88: 8300 | G88: 0.001
A89: 68 | B89: 写真現像業の用に供する自動式フィルム現像洗浄施設 | C89: 6 | D89: 44.85 | E89: 46.484137 | F89: 126 | G89: 0
A90: 68-2 | B90: 病院で病床数が300以上であるものに設置される施設 | C90: 273 | D90: 728.25659 | E90: 8482.9746 | F90: 140347 | G90: 18
A91: 69 | B91: と畜業又は死亡獣畜取扱業の用に供する解体施設 | C91: 92 | D91: 691.68033 | E91: 493.96504 | F91: 2105 | G91: 26.59
A92: 69-2 | B92: 中央卸売市場に設置される施設 | C92: 7 | D92: 633.14286 | E92: 421.13158 | F92: 1361 | G92: 255
A93: 69-3 | B93: 地方卸売市場に設置される施設 | C93: 28 | D93: 474.73929 | E93: 803.03636 | F93: 4032 | G93: 12
A94: 70 | B94: 廃油処理施設 | C94: 3 | D94: 3973 | E94: 6321.3999 | F94: 11270 | G94: 165
A95: 70-2 | B95: 自動車分解整備事業の用に供する洗車施設 | C95: 3 | D95: 25.466667 | E95: 13.607841 | F95: 38.8 | G95: 11.6
A96: 71 | B96: 自動式車両洗浄施設 | C96: 54 | D96: 721.16537 | E96: 3810.9971 | F96: 28153 | G96: 0
A97: 71-2 | B97: 科学技術に関する研究、試験、検査又は専門教育の用に供する施設 | C97: 952 | D97: 677.88359 | E97: 4297.2564 | F97: 67557 | G97: 0
A98: 71-3 | B98: 一般廃棄物処理施設である焼却施設 | C98: 63 | D98: 213.72698 | E98: 889.49323 | F98: 6960 | G98: 0
A99: 71-4 | B99: 産業廃棄物処理施設 | C99: 74 | D99: 1234.6535 | E99: 5982.2089 | F99: 48450 | G99: 0
... A108: － | B108: 特定施設不明 | C108: 13 | D108: 840.57692 | E108: 1559.1093 | F108: 5454 | G108: 6.5
B109: 合計 | C109: 23342 | D109: 18035.111 | E109: 361907.65 | F109: 23666155 | G109: 0

Sheet 表3.3.3(3)
A1: 表3.3.3(3) 代表特定施設別処理水量の平均値、標準偏差、最大値、最小値
G2: 単位：ｍ3/日
B3: 代表特定施設 | C3: 事業場数 | D3: 平均値 | E3: 標準偏差 | F3: 最大値 | G3: 最小値
A4: 1 | B4: 鉱業又は水洗炭業の用に供する施設 | C4: 70 | D4: 4147.3 | E4: 10876.529 | F4: 82978 | G4: 0
A5: 1-2 | B5: 畜産農業又はサービス業の用に供する施設 | C5: 149 | D5: 164.44528 | E5: 393.27284 | F5: 4049 | G5: 0
A6: 2 | B6: 畜産食料品製造業の用に供する施設 | C6: 481 | D6: 1219.3288 | E6: 13128.609 | F6: 284800 | G6: 0
A7: 3 | B7: 水産食料品製造業の用に供する施設 | C7: 316 | D7: 488.51841 | E7: 4090.8311 | F7: 70103 | G7: 0
A8: 4 | B8: 野菜又は果実を原料とする保存食料品製造業の用に供する施設 | C8: 330 | D8: 332.26212 | E8: 459.41284 | F8: 3470 | G8: 0
A9: 5 | B9: みそ、しょう油、食用アミノ酸等の製造業の用に供する施設 | C9: 112 | D9: 848.52946 | E9: 4801.0995 | F9: 50214 | G9: 0
A10: 6 | B10: 小麦粉製造業の用に供する洗浄施設 | C10: 0 | D10: － | E10: － | F10: － | G10: －
A11: 7 | B11: 砂糖製造業の用に供する施設 | C11: 38 | D11: 2889.0526 | E11: 5655.3209 | F11: 24670 | G11: 0
A12: 8 | B12: パン・菓子の製造業又は製あん業の用に供する粗製あんの沈殿槽 | C12: 36 | D12: 248 | E12: 272.14271 | F12: 1411 | G12: 28
A13: 9 | B13: 米菓製造業又はこうじ製造業の用に供する洗米機 | C13: 35 | D13: 1891.1714 | E13: 9580.0816 | F13: 56927 | G13: 0
A14: 10 | B14: 飲料製造業の用に供する施設 | C14: 375 | D14: 708.60813 | E14: 1487.9011 | F14: 14283 | G14: 0
A15: 11 | B15: 動物系飼料又は有機質肥料の製造業の用に供する施設 | C15: 48 | D15: 500.91667 | E15: 1391.1591 | F15: 7500 | G15: 0
A16: 12 | B16: 動植物油脂製造業の用に供する施設 | C16: 36 | D16: 801.36389 | E16: 1382.5801 | F16: 5463 | G16: 0
A17: 13 | B17: イースト製造業の用に供する施設 | C17: 2 | D17: 205 | E17: 289.91378 | F17: 410 | G17: 0
A18: 14 | B18: でん粉又は化工でん粉の製造業の用に供する施設 | C18: 31 | D18: 4432.5548 | E18: 6036.8975 | F18: 26211 | G18: 0
A19: 15 | B19: ぶどう糖又は水あめの製造業の用に供する施設 | C19: 9 | D19: 1998.4444 | E19: 2857.8097 | F19: 8770 | G19: 66
A20: 16 | B20: めん類製造業の用に供する湯煮施設 | C20: 90 | D20: 738.41111 | E20: 3785.3072 | F20: 36147 | G20: 0
A21: 17 | B21: 豆腐又は煮豆の製造業の用に供する湯煮施設 | C21: 147 | D21: 4772.1184 | E21: 53135.67 | F21: 644573 | G21: 15
A22: 18 | B22: インスタントコーヒー製造業の用に供する抽出施設 | C22: 3 | D22: 1044.6667 | E22: 329.98838 | F22: 1413 | G22: 776
... A27: 21 | B27: 化学繊維製造業の用に供する施設 | C27: 31 | D27: 10443.774 | E27: 23596.095 | F27: 118035 | G27: 0
A28: 21-2 | B28: 一般製材業又は木材チップ製造業の用に供する湿式バーカー | C28: 0 | D28: － | E28: － | F28: － | G28: －
A29: 21-3 | B29: 合板製造業の用に供する接着機洗浄施設 | C29: 10 | D29: 245.04 | E29: 314.37934 | F29: 984 | G29: 0
A30: 21-4 | B30: パーティクルボード製造業の用に供する施設 | C30: 3 | D30: 43.666667 | E30: 44.003788 | F30: 88 | G30: 0
A31: 22 | B31: 木材薬品処理業の用に供する施設 | C31: 17 | D31: 22.294118 | E31: 84.460616 | F31: 349 | G31: 0
A32: 23 | B32: パルプ、紙又は紙加工品の製造業の用に供する施設 | C32: 289 | D32: 18507.312 | E32: 40345.157 | F32: 264362 | G32: 0
A33: 23-2 | B33: 新聞業、出版業、印刷業又は製版業の用に供する施設 | C33: 34 | D33: 34.041176 | E33: 56.195978 | F33: 296 | G33: 0
A34: 24 | B34: 化学肥料製造業の用に供する施設 | C34: 20 | D34: 10895 | E34: 24005.412 | F34: 88326 | G34: 0
A35: 25 | B35: 水銀電解法による化成ソーダ又は化成カリの製造業の用に供する施設 | C35: 3 | D35: 1552 | E35: 1919.6625 | F35: 3700 | G35: 4
A36: 26 | B36: 無機顔料製造業の用に供する施設 | C36: 27 | D36: 6187.8519 | E36: 16792.736 | F36: 78617 | G36: 30
A37: 27 | B37: その他の無機化学工業製品製造業の用に供する施設 | C37: 212 | D37: 18068.51 | E37: 192048.87 | F37: 2762000 | G37: 0
A38: 28 | B38: カーバイド法アセチレン誘導品製造業の用に供する施設 | C38: 14 | D38: 10285.929 | E38: 29802.289 | F38: 109400 | G38: 0
A39: 29 | B39: コールタール製品製造業の用に供する施設 | C39: 3 | D39: 427.66667 | E39: 740.7404 | F39: 1283 | G39: 0
A40: 30 | B40: 発酵工業の用に供する施設 | C40: 9 | D40: 1258.3333 | E40: 2348.0289 | F40: 6996 | G40: 0
... A47: 37 | B47: その他の石油化学工業の用に供する施設 | C47: 50 | D47: 4024.12 | E47: 6734.626 | F47: 29455 | G47: 0
A48: 38 | B48: 石けん製造業の用に供する施設 | C48: 0 | D48: － | E48: － | F48: － | G48: －
A49: 39 | B49: 硬化油製造業の用に供する施設 | C49: 1 | D49: 646 | E49: － | F49: 646 | G49: 646
A50: 40 | B50: 脂肪酸製造業の用に供する蒸りゅう施設 | C50: 2 | D50: 580 | E50: 551.54329 | F50: 970 | G50: 190
A51: 41 | B51: 香料製造業の用に供する施設 | C51: 11 | D51: 275.54545 | E51: 326.2494 | F51: 932 | G51: 0
A52: 42 | B52: ゼラチン又はにかわの製造業の用に供する施設 | C52: 0 | D52: － | E52: － | F52: － | G52: －
A53: 43 | B53: 写真感光材料製造業の用に供する感光剤洗浄施設 | C53: 7 | D53: 239.42857 | E53: 323.31247 | F53: 775 | G53: 0
A54: 44 | B54: 天然樹脂製品製造業の用に供する施設 | C54: 0 | D54: － | E54: － | F54: － | G54: －
A55: 45 | B55: 木材化学工業の用に供するフルフラール蒸りゅう施設 | C55: 0 | D55: － | E55: － | F55: － | G55: －
A56: 46 | B56: その他の有機化学工業製品製造業の用に供する施設 | C56: 185 | D56: 1326.427 | E56: 6075.0653 | F56: 59830 | G56: 0
A57: 47 | B57: 医薬品製造業の用に供する施設 | C57: 168 | D57: 2058.7599 | E57: 17617.772 | F57: 228400 | G57: 0
A58: 48 | B58: 火薬製造業の用に供する洗浄施設 | C58: 10 | D58: 144.06 | E58: 243.03807 | F58: 780 | G58: 0.6
A59: 49 | B59: 農薬製造業の用に供する混合施設 | C59: 9 | D59: 109.32222 | E59: 232.24467 | F59: 722 | G59: 6
A60: 50 | B60: 試薬の製造業の用に供する試薬製造施設 | C60: 1 | D60: 2994 | E60: － | F60: 2994 | G60: 2994
A61: 51 | B61: 石油精製業の用に供する施設 | C61: 35 | D61: 7558.4571 | E61: 7880.316 | F61: 34276 | G61: 0
A62: 51-2 | B62: 自動車用タイヤ等ゴム製品製造業の用に供する直接加流施設 | C62: 49 | D62: 296.2 | E62: 657.91873 | F62: 4330 | G62: 0
A63: 51-3 | B63: 医療、衛生用ゴム製品製造業の用に供するラテックス成形型洗浄施設 | C63: 3 | D63: 97 | E63: 103.11644 | F63: 216 | G63: 34
A64: 52 | B64: 皮革製造業の用に供する施設 | C64: 8 | D64: 388.5 | E64: 416.54189 | F64: 1100 | G64: 1
A65: 53 | B65: ガラス又はガラス製品の製造業の用に供する施設 | C65: 163 | D65: 336.65417 | E65: 1119.4842 | F65: 9834 | G65: 0
A66: 54 | B66: セメント製品製造業の用に供する施設 | C66: 95 | D66: 183.32242 | E66: 565.68737 | F66: 3871 | G66: 0
A67: 55 | B67: 生コンクリート製造業の用に供するバッチャープラント | C67: 173 | D67: 1074.8373 | E67: 7103.8982 | F67: 90796 | G67: 0
A68: 56 | B68: 有機質砂かべ材製造業の用に供する混合施設 | C68: 0 | D68: － | E68: － | F68: － | G68: －
A69: 57 | B69: 人造黒鉛電極製造業の用に供する成型施設 | C69: 6 | D69: 1514.8333 | E69: 1592.842 | F69: 4558 | G69: 334
A70: 58 | B70: 窯業原料の精製業の用に供する施設 | C70: 98 | D70: 555.21122 | E70: 2243.9334 | F70: 21100 | G70: 0
A71: 59 | B71: 砕石業の用に供する施設 | C71: 35 | D71: 570.48571 | E71: 996.36248 | F71: 5200 | G71: 0
A72: 60 | B72: 砂利採取業の用に供する水洗式分別施設 | C72: 44 | D72: 572.26818 | E72: 724.11963 | F72: 4452 | G72: 0
A73: 61 | B73: 鉄鋼業の用に供する施設 | C73: 114 | D73: 12627.924 | E73: 32144.905 | F73: 201396 | G73: 0
A74: 62 | B74: 非鉄金属製造業の用に供する施設 | C74: 77 | D74: 2335.4416 | E74: 5998.4954 | F74: 36000 | G74: 0
A75: 63 | B75: 金属製品製造業又は機械器具製造業の用に供する施設 | C75: 557 | D75: 1821.8929 | E75: 26336.828 | F75: 617940 | G75: 0
A76: 63-2 | B76: 空きびん卸売業の用に供する自動式洗びん施設 | C76: 3 | D76: 146.33333 | E76: 95.028066 | F76: 240 | G76: 50
A77: 63-3 | B77: 石炭を燃料とする火力発電施設のうち廃ガス洗浄施設 | C77: 27 | D77: 1287.6667 | E77: 825.77167 | F77: 3108 | G77: 0
A78: 64 | B78: ガス供給業又はコークス製造業の用に供する施設 | C78: 7 | D78: 2498.8571 | E78: 3569.5139 | F78: 9945 | G78: 0
A79: 64-2 | B79: 水道施設、工業用水道施設又は自家用工業用水道の浄水施設 | C79: 255 | D79: 970.90471 | E79: 2363.4926 | F79: 21357 | G79: 0
A80: 65 | B80: 酸又はアルカリによる表面処理施設 | C80: 1482 | D80: 556.45834 | E80: 2275.9508 | F80: 47701 | G80: 0
... A85: 66-5 | B85: 飲食店に設置されるちゅう房施設 | C85: 456 | D85: 309.65101 | E85: 4769.8423 | F85: 101856 | G85: 0
A86: 66-6 | B86: そば店、うどん店、すし店のほか、喫茶店等に設置されるちゅう房施設 | C86: 1 | D86: 143 | E86: － | F86: 143 | G86: 143
A87: 66-7 | B87: 料亭、バー、キャバレー、ナイトクラブ等に設置されるちゅう房施設 | C87: 0 | D87: － | E87: － | F87: － | G87: －
A88: 67 | B88: 洗たく業の用に供する洗浄施設 | C88: 406 | D88: 244.67051 | E88: 690.43357 | F88: 8300 | G88: 0
A89: 68 | B89: 写真現像業の用に供する自動式フィルム現像洗浄施設 | C89: 5 | D89: 31.2 | E89: 26.975915 | F89: 57 | G89: 0
A90: 68-2 | B90: 病院で病床数が300以上であるものに設置される施設 | C90: 286 | D90: 372.58598 | E90: 3039.6332 | F90: 51532 | G90: 0
A91: 69 | B91: と畜業又は死亡獣畜取扱業の用に供する解体施設 | C91: 95 | D91: 637.03779 | E91: 455.47717 | F91: 1994 | G91: 10
A92: 69-2 | B92: 中央卸売市場に設置される施設 | C92: 7 | D92: 434 | E92: 195.89963 | F92: 800 | G92: 255
A93: 69-3 | B93: 地方卸売市場に設置される施設 | C93: 27 | D93: 217.47037 | E93: 332.25828 | F93: 1578 | G93: 0
A94: 70 | B94: 廃油処理施設 | C94: 4 | D94: 298.75 | E94: 197.79177 | F94: 431 | G94: 5
A95: 70-2 | B95: 自動車分解整備事業の用に供する洗車施設 | C95: 4 | D95: 24.45 | E95: 10.350362 | F95: 36.2 | G95: 11
A96: 71 | B96: 自動式車両洗浄施設 | C96: 52 | D96: 728.19692 | E96: 3885.0645 | F96: 28153 | G96: 0
A97: 71-2 | B97: 科学技術に関する研究、試験、検査又は専門教育の用に供する施設 | C97: 941 | D97: 219.25884 | E97: 2344.079 | F97: 67557 | G97: 0
A98: 71-3 | B98: 一般廃棄物処理施設である焼却施設 | C98: 71 | D98: 187.4831 | E98: 839.22408 | F98: 6960 | G98: 0
A99: 71-4 | B99: 産業廃棄物処理施設 | C99: 75 | D99: 1004.5568 | E99: 5674.7785 | F99: 48450 | G99: 0
... A108: － | B108: 特定施設不明 | C108: 14 | D108: 617.32143 | E108: 1454.4065 | F108: 5454 | G108: 6.5
B109: 合計 | C109: 23900 | D109: 3104.2336 | E109: 54619.753 | F109: 7216680 | G109: 0

Sheet 表3.3.3(4)
A1: 表3.3.3(4) 代表特定施設別未処理水量の平均値、標準偏差、最大値、最小値
G2: 単位：ｍ3/日
B3: 代表特定施設 | C3: 事業場数 | D3: 平均値 | E3: 標準偏差 | F3: 最大値 | G3: 最小値
A4: 1 | B4: 鉱業又は水洗炭業の用に供する施設 | C4: 55 | D4: 96383.982 | E4: 645795.08 | F4: 4778440 | G4: 0
A5: 1-2 | B5: 畜産農業又はサービス業の用に供する施設 | C5: 123 | D5: 25.622195 | E5: 152.74752 | F5: 1608 | G5: 0
A6: 2 | B6: 畜産食料品製造業の用に供する施設 | C6: 446 | D6: 187.50919 | E6: 1173.4368 | F6: 24000 | G6: 0
A7: 3 | B7: 水産食料品製造業の用に供する施設 | C7: 265 | D7: 147.56792 | E7: 716.52378 | F7: 8000 | G7: 0
A8: 4 | B8: 野菜又は果実を原料とする保存食料品製造業の用に供する施設 | C8: 303 | D8: 127.46997 | E8: 429.55653 | F8: 4500 | G8: 0
A9: 5 | B9: みそ、しょう油、食用アミノ酸等の製造業の用に供する施設 | C9: 109 | D9: 797.66147 | E9: 4320.4659 | F9: 41993 | G9: 0
A10: 6 | B10: 小麦粉製造業の用に供する洗浄施設 | C10: 0 | D10: － | E10: － | F10: － | G10: －
A11: 7 | B11: 砂糖製造業の用に供する施設 | C11: 39 | D11: 19241.359 | E11: 20231.703 | F11: 70200 | G11: 0
A12: 8 | B12: パン・菓子の製造業又は製あん業の用に供する粗製あんの沈殿槽 | C12: 31 | D12: 36.612903 | E12: 101.58237 | F12: 500 | G12: 0
A13: 9 | B13: 米菓製造業又はこうじ製造業の用に供する洗米機 | C13: 32 | D13: 36.78125 | E13: 62.903272 | F13: 247 | G13: 0
A14: 10 | B14: 飲料製造業の用に供する施設 | C14: 360 | D14: 442.77134 | E14: 989.09351 | F14: 7500 | G14: 0
A15: 11 | B15: 動物系飼料又は有機質肥料の製造業の用に供する施設 | C15: 41 | D15: 554.5122 | E15: 1083.2197 | F15: 4800 | G15: 0
A16: 12 | B16: 動植物油脂製造業の用に供する施設 | C16: 33 | D16: 3200.303 | E16: 10287.218 | F16: 57426 | G16: 0
A17: 13 | B17: イースト製造業の用に供する施設 | C17: 2 | D17: 9000 | E17: 10606.602 | F17: 16500 | G17: 1500
A18: 14 | B18: でん粉又は化工でん粉の製造業の用に供する施設 | C18: 29 | D18: 1814.5862 | E18: 4978.5637 | F18: 22624 | G18: 0
A19: 15 | B19: ぶどう糖又は水あめの製造業の用に供する施設 | C19: 9 | D19: 2427.8889 | E19: 4872.9297 | F19: 15117 | G19: 0
A20: 16 | B20: めん類製造業の用に供する湯煮施設 | C20: 80 | D20: 73.6875 | E20: 293.10557 | F20: 2276 | G20: 0
A21: 17 | B21: 豆腐又は煮豆の製造業の用に供する湯煮施設 | C21: 122 | D21: 106.69672 | E21: 390.68763 | F21: 3300 | G21: 0
A22: 18 | B22: インスタントコーヒー製造業の用に供する抽出施設 | C22: 3 | D22: 1752.6667 | E22: 1649.4309 | F22: 3643 | G22: 606
... A27: 21 | B27: 化学繊維製造業の用に供する施設 | C27: 31 | D27: 28640.968 | E27: 44080.954 | F27: 213834 | G27: 0
A28: 21-2 | B28: 一般製材業又は木材チップ製造業の用に供する湿式バーカー | C28: 0 | D28: － | E28: － | F28: － | G28: －
A29: 21-3 | B29: 合板製造業の用に供する接着機洗浄施設 | C29: 11 | D29: 95.181818 | E29: 115.1962 | F29: 353 | G29: 0
A30: 21-4 | B30: パーティクルボード製造業の用に供する施設 | C30: 3 | D30: 358.66667 | E30: 488.74772 | F30: 923 | G30: 72
A31: 22 | B31: 木材薬品処理業の用に供する施設 | C31: 16 | D31: 28.875 | E31: 74.168165 | F31: 290 | G31: 0
A32: 23 | B32: パルプ、紙又は紙加工品の製造業の用に供する施設 | C32: 243 | D32: 2296.6564 | E32: 11892.226 | F32: 151317 | G32: 0
A33: 23-2 | B33: 新聞業、出版業、印刷業又は製版業の用に供する施設 | C33: 32 | D33: 329.52219 | E33: 1253.8601 | F33: 7107 | G33: 0
A34: 24 | B34: 化学肥料製造業の用に供する施設 | C34: 22 | D34: 102208.73 | E34: 318571.71 | F34: 1497367 | G34: 0
A35: 25 | B35: 水銀電解法による化成ソーダ又は化成カリの製造業の用に供する施設 | C35: 3 | D35: 1284 | E35: 1287.0105 | F35: 2574 | G35: 0
A36: 26 | B36: 無機顔料製造業の用に供する施設 | C36: 25 | D36: 5829.88 | E36: 11605.605 | F36: 40842 | G36: 0
A37: 27 | B37: その他の無機化学工業製品製造業の用に供する施設 | C37: 203 | D37: 15753.175 | E37: 89444.64 | F37: 1100325 | G37: 0
A38: 28 | B38: カーバイド法アセチレン誘導品製造業の用に供する施設 | C38: 15 | D38: 5615.5667 | E38: 12622.305 | F38: 44300 | G38: 0
A39: 29 | B39: コールタール製品製造業の用に供する施設 | C39: 4 | D39: 20522.5 | E39: 36025.101 | F39: 74277 | G39: 0
A40: 30 | B40: 発酵工業の用に供する施設 | C40: 9 | D40: 13585.556 | E40: 23734.459 | F40: 69999 | G40: 10
... A47: 37 | B47: その他の石油化学工業の用に供する施設 | C47: 50 | D47: 73227.46 | E47: 168298.43 | F47: 821307 | G47: 0
A48: 38 | B48: 石けん製造業の用に供する施設 | C48: 0 | D48: － | E48: － | F48: － | G48: －
A49: 39 | B49: 硬化油製造業の用に供する施設 | C49: 1 | D49: 224 | E49: － | F49: 224 | G49: 224
A50: 40 | B50: 脂肪酸製造業の用に供する蒸りゅう施設 | C50: 1 | D50: 2080 | E50: － | F50: 2080 | G50: 2080
A51: 41 | B51: 香料製造業の用に供する施設 | C51: 11 | D51: 687.72727 | E51: 1367.3666 | F51: 4563 | G51: 0
A52: 42 | B52: ゼラチン又はにかわの製造業の用に供する施設 | C52: 0 | D52: － | E52: － | F52: － | G52: －
A53: 43 | B53: 写真感光材料製造業の用に供する感光剤洗浄施設 | C53: 7 | D53: 3680.7143 | E53: 9061.2054 | F53: 24227 | G53: 0
A54: 44 | B54: 天然樹脂製品製造業の用に供する施設 | C54: 0 | D54: － | E54: － | F54: － | G54: －
A55: 45 | B55: 木材化学工業の用に供するフルフラール蒸りゅう施設 | C55: 0 | D55: － | E55: － | F55: － | G55: －
A56: 46 | B56: その他の有機化学工業製品製造業の用に供する施設 | C56: 183 | D56: 2268.0743 | E56: 7688.1502 | F56: 71790 | G56: 0
A57: 47 | B57: 医薬品製造業の用に供する施設 | C57: 163 | D57: 1405.8577 | E57: 4422.7662 | F57: 46511 | G57: 0
A58: 48 | B58: 火薬製造業の用に供する洗浄施設 | C58: 9 | D58: 1343.6667 | E58: 2844.6154 | F58: 8799 | G58: 0
A59: 49 | B59: 農薬製造業の用に供する混合施設 | C59: 10 | D59: 774.05 | E59: 2104.2283 | F59: 6740 | G59: 0
A60: 50 | B60: 試薬の製造業の用に供する試薬製造施設 | C60: 1 | D60: 1041 | E60: － | F60: 1041 | G60: 1041
A61: 51 | B61: 石油精製業の用に供する施設 | C61: 34 | D61: 161313.21 | E61: 197578.42 | F61: 672966 | G61: 0
A62: 51-2 | B62: 自動車用タイヤ等ゴム製品製造業の用に供する直接加流施設 | C62: 49 | D62: 258.40204 | E62: 479.6588 | F62: 2646 | G62: 0
A63: 51-3 | B63: 医療、衛生用ゴム製品製造業の用に供するラテックス成形型洗浄施設 | C63: 3 | D63: 1284 | E63: 1289.8058 | F63: 2606 | G63: 29
A64: 52 | B64: 皮革製造業の用に供する施設 | C64: 7 | D64: 33 | E64: 74.047282 | F64: 200 | G64: 0
A65: 53 | B65: ガラス又はガラス製品の製造業の用に供する施設 | C65: 158 | D65: 122.62962 | E65: 301.93822 | F65: 2285 | G65: 0
A66: 54 | B66: セメント製品製造業の用に供する施設 | C66: 90 | D66: 38.403889 | E66: 174.03402 | F66: 1527 | G66: 0
A67: 55 | B67: 生コンクリート製造業の用に供するバッチャープラント | C67: 164 | D67: 43.228659 | E67: 459.15394 | F67: 5800 | G67: 0
A68: 56 | B68: 有機質砂かべ材製造業の用に供する混合施設 | C68: 0 | D68: － | E68: － | F68: － | G68: －
A69: 57 | B69: 人造黒鉛電極製造業の用に供する成型施設 | C69: 5 | D69: 1275.2 | E69: 2096.9228 | F69: 4830 | G69: 0
A70: 58 | B70: 窯業原料の精製業の用に供する施設 | C70: 89 | D70: 224.70562 | E70: 1084.3849 | F70: 9269 | G70: 0
A71: 59 | B71: 砕石業の用に供する施設 | C71: 29 | D71: 11.37931 | E71: 33.650954 | F71: 150 | G71: 0
A72: 60 | B72: 砂利採取業の用に供する水洗式分別施設 | C72: 32 | D72: 28 | E72: 150.07933 | F72: 850 | G72: 0
A73: 61 | B73: 鉄鋼業の用に供する施設 | C73: 106 | D73: 170708.15 | E73: 518205.52 | F73: 3080495 | G73: 0
A74: 62 | B74: 非鉄金属製造業の用に供する施設 | C74: 75 | D74: 14640.552 | E74: 53449.543 | F74: 271673 | G74: 0
A75: 63 | B75: 金属製品製造業又は機械器具製造業の用に供する施設 | C75: 519 | D75: 450.4091 | E75: 4174.0748 | F75: 92581 | G75: 0
A76: 63-2 | B76: 空きびん卸売業の用に供する自動式洗びん施設 | C76: 2 | D76: 0 | E76: 0 | F76: 0 | G76: 0
A77: 63-3 | B77: 石炭を燃料とする火力発電施設のうち廃ガス洗浄施設 | C77: 27 | D77: 2846707.7 | E77: 3427341.4 | F77: 16588800 | G77: 0
A78: 64 | B78: ガス供給業又はコークス製造業の用に供する施設 | C78: 7 | D78: 49554.857 | E78: 72059.982 | F78: 176987 | G78: 0
A79: 64-2 | B79: 水道施設、工業用水道施設又は自家用工業用水道の浄水施設 | C79: 254 | D79: 456.06102 | E79: 2594.1513 | F79: 39482 | G79: 0
A80: 65 | B80: 酸又はアルカリによる表面処理施設 | C80: 1382 | D80: 284.1814 | E80: 1284.5874 | F80: 30800 | G80: 0
... A85: 66-5 | B85: 飲食店に設置されるちゅう房施設 | C85: 361 | D85: 30.367867 | E85: 198.69735 | F85: 3261 | G85: 0
A86: 66-6 | B86: そば店、うどん店、すし店のほか、喫茶店等に設置されるちゅう房施設 | C86: 0 | D86: － | E86: － | F86: － | G86: －
A87: 66-7 | B87: 料亭、バー、キャバレー、ナイトクラブ等に設置されるちゅう房施設 | C87: 0 | D87: － | E87: － | F87: － | G87: －
A88: 67 | B88: 洗たく業の用に供する洗浄施設 | C88: 347 | D88: 22.412674 | E88: 243.31211 | F88: 4464 | G88: 0
A89: 68 | B89: 写真現像業の用に供する自動式フィルム現像洗浄施設 | C89: 4 | D89: 8.5 | E89: 17 | F89: 34 | G89: 0
A90: 68-2 | B90: 病院で病床数が300以上であるものに設置される施設 | C90: 221 | D90: 17.548688 | E90: 69.947886 | F90: 944 | G90: 0
A91: 69 | B91: と畜業又は死亡獣畜取扱業の用に供する解体施設 | C91: 79 | D91: 58.341772 | E91: 121.2982 | F91: 600 | G91: 0
A92: 69-2 | B92: 中央卸売市場に設置される施設 | C92: 6 | D92: 232.33333 | E92: 319.29527 | F92: 798 | G92: 0
A93: 69-3 | B93: 地方卸売市場に設置される施設 | C93: 21 | D93: 254.90476 | E93: 880.7423 | F93: 4032 | G93: 0
A94: 70 | B94: 廃油処理施設 | C94: 3 | D94: 3695.6667 | E94: 6186.4129 | F94: 10839 | G94: 88
A95: 70-2 | B95: 自動車分解整備事業の用に供する洗車施設 | C95: 4 | D95: 0.65 | E95: 1.3 | F95: 2.6 | G95: 0
A96: 71 | B96: 自動式車両洗浄施設 | C96: 45 | D96: 13.079778 | E96: 36.769413 | F96: 200 | G96: 0
A97: 71-2 | B97: 科学技術に関する研究、試験、検査又は専門教育の用に供する施設 | C97: 868 | D97: 512.0998 | E97: 3737.527 | F97: 60012 | G97: 0
A98: 71-3 | B98: 一般廃棄物処理施設である焼却施設 | C98: 63 | D98: 2.5079365 | E98: 13.883005 | F98: 104 | G98: 0
A99: 71-4 | B99: 産業廃棄物処理施設 | C99: 68 | D99: 203.04412 | E99: 1305.812 | F99: 10762 | G99: 0
... A108: － | B108: 特定施設不明 | C108: 11 | D108: 215 | E108: 696.63893 | F108: 2315 | G108: 0
B109: 合計 | C109: 20432 | D109: 16874.926 | E109: 381834.12 | F109: 23658114 | G109: 0

Sheet 表3.3.4
A1: 表3.3.4 産業分類別延床面積あたりの用水量・総排水量・処理水量・未処理水量
J2: 単位：ｍ3/日/ｍ2
A3: 産業中分類 | C3: 用水量 | E3: 総排水量 | G3: 処理水量 | I3: 未処理水量
C4: 事業 場数 | D4: 平均値 | E4: 事業 場数 | F4: 平均値 | G4: 事業 場数 | H4: 平均値 | I4: 事業 場数 | J4: 平均値
A5: 01 | B5: 農業 | C5: 118 | D5: 0.039047227 | E5: 115 | F5: 0.040453271 | G5: 122 | H5: 0.017477113 | I5: 103 | J5: 0.00066415912
A6: 02 | B6: 林業 | C6: 1 | D6: 0.053142778 | E6: 1 | F6: 0.00027750798 | G6: 1 | H6: 0.00027750798 | I6: 1 | J6: 0
A7: 03 | B7: 漁業（水産養殖業を除く） | C7: 2 | D7: 0.27389944 | E7: 2 | F7: 0.27443987 | G7: 3 | H7: 0.15249061 | I7: 2 | J7: 0.077821012
A8: 04 | B8: 水産養殖業 | C8: 5 | D8: 11.373531 | E8: 5 | F8: 11.373531 | G8: 5 | H8: 1.0875191 | I8: 5 | J8: 10.285087
A9: 05 | B9: 鉱業，採石業，砂利採取業 | C9: 98 | D9: 3.1260582 | E9: 99 | F9: 1.7441395 | G9: 97 | H9: 1.4981847 | I9: 83 | J9: 0.15230586
A10: 06 | B10: 総合工事業 | C10: 49 | D10: 1.6517441 | E10: 52 | F10: 2.8129345 | G10: 53 | H10: 2.4320102 | I10: 47 | J10: 0.36789333
A11: 07 | B11: 職別工事業(設備工事業を除く) | C11: 3 | D11: 0.015834343 | E11: 3 | F11: 0.015434343 | G11: 2 | H11: 0.018 | I11: 3 | J11: 0.0034343434
A12: 08 | B12: 設備工事業 | C12: 2 | D12: 0.0022390195 | E12: 2 | F12: 0.0022390195 | G12: 2 | H12: 0.0010153596 | I12: 2 | J12: 0.0012236599
A13: 09 | B13: 食料品製造業 | C13: 1817 | D13: 0.35890702 | E13: 1784 | F13: 0.25359143 | G13: 1820 | H13: 0.25428072 | I13: 1658 | J13: 0.085554146
A14: 10 | B14: 飲料・たばこ・飼料製造業 | C14: 368 | D14: 0.11761788 | E14: 365 | F14: 0.10485423 | G14: 367 | H14: 0.041669823 | I14: 352 | J14: 0.063446565
A15: 11 | B15: 繊維工業 | C15: 316 | D15: 0.20439188 | E15: 317 | F15: 0.25560702 | G15: 313 | H15: 0.12986106 | I15: 293 | J15: 0.11864481
A16: 12 | B16: 木材・木製品製造業（家具を除く） | C16: 34 | D16: 0.033584295 | E16: 34 | F16: 0.028940771 | G16: 37 | H16: 0.014589943 | I16: 36 | J16: 0.013357785
... A41: 37 | B41: 通信業 | C41: 1 | D41: 1.3660734 | E41: 1 | F41: 1.3660734 | G41: 1 | H41: 0.014978247 | I41: 1 | J41: 1.3510951
A42: 38 | B42: 放送業 | C42: 0 | D42: － | E42: 0 | F42: － | G42: 0 | H42: － | I42: 0 | J42: －
A43: 39 | B43: 情報サービス業 | C43: 5 | D43: 0.0044812207 | E43: 5 | F43: 0.0037214856 | G43: 5 | H43: 0.0029213667 | I43: 4 | J43: 0.0010001486
A44: 40 | B44: インターネット附随サービス業 | C44: 0 | D44: － | E44: 0 | F44: － | G44: 0 | H44: － | I44: 0 | J44: －
A45: 41 | B45: 映像・音声・文字情報制作業 | C45: 2 | D45: 0.0025307287 | E45: 1 | F45: 0.0030889224 | G45: 2 | H45: 0.0021947415 | I45: 2 | J45: 2.7095014e-05
A46: 42 | B46: 鉄道業 | C46: 35 | D46: 0.3343768 | E46: 35 | F46: 0.22273501 | G46: 34 | H46: 0.18167218 | I46: 32 | J46: 0.00047009629
A47: 43 | B47: 道路旅客運送業 | C47: 1 | D47: 0.057281553 | E47: 1 | F47: 0.057281553 | G47: 1 | H47: 0.057281553 | I47: 1 | J47: 0
A48: 44 | B48: 道路貨物運送業 | C48: 7 | D48: 0.001822379 | E48: 8 | F48: 0.0019617508 | G48: 7 | H48: 0.0016568134 | I48: 8 | J48: 0.00013695561
A49: 45 | B49: 水運業 | C49: 1 | D49: 0.012771392 | E49: 1 | F49: 0.012771392 | G49: 1 | H49: 0.0085568327 | I49: 1 | J49: 0.0042145594
A50: 46 | B50: 航空運輸業 | C50: 2 | D50: 0.0040333325 | E50: 2 | F50: 0.0040333325 | G50: 2 | H50: 0.0025734448 | I50: 2 | J50: 0.0014598877
A51: 47 | B51: 倉庫業 | C51: 12 | D51: 0.054572356 | E51: 12 | F51: 0.0044621018 | G51: 13 | H51: 0.010729503 | I51: 12 | J51: 0.0007635711
A52: 48 | B52: 運輸に附帯するサービス業 | C52: 52 | D52: 0.047559928 | E52: 58 | F52: 0.052232339 | G52: 58 | H52: 0.051602488 | I52: 50 | J52: 0.0015394728
A53: 49 | B53: 郵便業（信書便事業を含む） | C53: 1 | D53: 0.0040207312 | E53: 1 | F53: 0.0040207312 | G53: 1 | H53: 0.0040207312 | I53: 1 | J53: 0
A54: 50 | B54: 各種商品卸売業 | C54: 12 | D54: 0.013791211 | E54: 11 | F54: 0.01386711 | G54: 11 | H54: 0.0074473475 | I54: 11 | J54: 0.0065104138
A55: 51 | B55: 繊維・衣服等卸売業 | C55: 1 | D55: 0.00048827208 | E55: 2 | F55: 0.10818887 | G55: 2 | H55: 0.024531701 | I55: 2 | J55: 0.083657168
A56: 52 | B56: 飲食料品卸売業 | C56: 30 | D56: 0.056878501 | E56: 30 | F56: 0.056537508 | G56: 30 | H56: 0.039420472 | I56: 25 | J56: 0.0095826658
... A64: 60 | B64: その他の小売業 | C64: 19 | D64: 0.0099390703 | E64: 19 | F64: 0.011180478 | G64: 22 | H64: 0.011309883 | I64: 12 | J64: 0.00061673337
A65: 61 | B65: 無店舗小売業 | C65: 1 | D65: 0.76397516 | E65: 1 | F65: 0.76397516 | G65: 1 | H65: 0.76397516 | I65: 0 | J65: －
A66: 62 | B66: 銀行業 | C66: 1 | D66: 0.0026911716 | E66: 1 | F66: 0.0026911716 | G66: 1 | H66: 0.0024942566 | I66: 1 | J66: 0.000196915
A67: 63 | B67: 協同組織金融業 | C67: 2 | D67: 0.0037055736 | E67: 2 | F67: 0.027765724 | G67: 2 | H67: 0.028141664 | I67: 2 | J67: 0
A68: 64 | B68: 貸金業，クレジットカード業等非預金信用機関 | C68: 0 | D68: － | E68: 0 | F68: － | G68: 0 | H68: － | I68: 0 | J68: －
A69: 65 | B69: 金融商品取引業，商品先物取引業 | C69: 0 | D69: － | E69: 0 | F69: － | G69: 0 | H69: － | I69: 0 | J69: －
A70: 66 | B70: 補助的金融業等 | C70: 0 | D70: － | E70: 0 | F70: － | G70: 0 | H70: － | I70: 0 | J70: －
A71: 67 | B71: 保険業（保険媒介代理業，保険サービス業を含む） | C71: 0 | D71: － | E71: 0 | F71: － | G71: 0 | H71: － | I71: 0 | J71: －
A72: 68 | B72: 不動産取引業 | C72: 4 | D72: 0.0141681 | E72: 5 | F72: 0.24032536 | G72: 5 | H72: 0.24032536 | I72: 4 | J72: 0
A73: 69 | B73: 不動産賃貸業・管理業 | C73: 58 | D73: 0.19515874 | E73: 61 | F73: 0.19650112 | G73: 62 | H73: 0.17273503 | I73: 51 | J73: 0.0030542138
A74: 70 | B74: 物品賃貸業 | C74: 2 | D74: 0.017714936 | E74: 2 | F74: 0.014857793 | G74: 2 | H74: 0.013437619 | I74: 2 | J74: 0
A75: 71 | B75: 学術・開発研究機関 | C75: 381 | D75: 0.38828929 | E75: 375 | F75: 0.41641146 | G75: 368 | H75: 0.040281973 | I75: 341 | J75: 0.39085665
A76: 72 | B76: 専門サービス業（他に分類されないもの） | C76: 17 | D76: 0.059717581 | E76: 17 | F76: 0.054928747 | G76: 17 | H76: 0.025599061 | I76: 16 | J76: 0.030034901
A77: 73 | B77: 広告業 | C77: 2 | D77: 0.14358118 | E77: 1 | F77: 0.082455973 | G77: 1 | H77: 0.082455973 | I77: 1 | J77: 0
A78: 74 | B78: 技術サービス業（他に分類されないもの） | C78: 141 | D78: 0.014056689 | E78: 140 | F78: 0.013664699 | G78: 142 | H78: 0.0087081686 | I78: 136 | J78: 0.0033477462
A79: 75 | B79: 宿泊業 | C79: 1044 | D79: 0.30135481 | E79: 1026 | F79: 0.31316367 | G79: 1065 | H79: 0.078032317 | I79: 907 | J79: 0.11885238
A80: 76 | B80: 飲食店 | C80: 114 | D80: 0.042213487 | E80: 114 | F80: 0.041803858 | G80: 121 | H80: 0.038223861 | I80: 101 | J80: 0.0044483244
A81: 77 | B81: 持ち帰り・配達飲食サービス業 | C81: 166 | D81: 0.062736566 | E81: 160 | F81: 0.055849827 | G81: 164 | H81: 0.053841193 | I81: 143 | J81: 0.0012583243
A82: 78 | B82: 洗濯・理容・美容・浴場業 | C82: 474 | D82: 0.23965203 | E82: 468 | F82: 0.30160083 | G82: 453 | H82: 0.26778468 | I82: 376 | J82: 0.016223422
A83: 79 | B83: その他の生活関連サービス業 | C83: 15 | D83: 0.1488182 | E83: 15 | F83: 0.029979186 | G83: 17 | H83: 0.032043858 | I83: 13 | J83: 0.0035152432
... A99: 95 | B99: その他のサービス業 | C99: 145 | D99: 0.075326309 | E99: 146 | F99: 0.076085315 | G99: 149 | H99: 0.068539264 | I99: 128 | J99: 0.0070868015
A100: 96 | B100: 外国公務 | C100: 3 | D100: 0.0034066022 | E100: 2 | F100: 0.26824717 | G100: 2 | H100: 0.26824717 | I100: 0 | J100: －
A101: 97 | B101: 国家公務 | C101: 55 | D101: 0.080407962 | E101: 55 | F101: 0.086443406 | G101: 56 | H101: 0.035701505 | I101: 52 | J101: 0.044368348
A102: 98 | B102: 地方公務 | C102: 220 | D102: 0.45903905 | E102: 262 | F102: 0.75713584 | G102: 268 | H102: 0.69698672 | I102: 226 | J102: 0.078786558
A103: 99 | B103: 分類不能の産業 | C103: 663 | D103: 0.11468629 | E103: 748 | F103: 0.20778441 | G103: 785 | H103: 0.20351584 | I103: 681 | J103: 0.0010786351
A104: - | B104: 産業分類不明 | C104: 19 | D104: 0.042899779 | E104: 17 | F104: 0.048626836 | G104: 19 | H104: 0.014350497 | I104: 14 | J104: 0.010444862
B105: 合計 | C105: 18972 | D105: 0.86947762 | E105: 20422 | F105: 1.287214 | G105: 20712 | H105: 0.92170286 | I105: 18059 | J105: 0.45797413

Sheet 表3.3.5
A1: 表3.3.5 産業分類別従業員数等あたりの用水量・総排水量・処理水量・未処理水量
J2: 単位：ｍ3/日/人
A3: 産業中分類 | C3: 用水量 | E3: 総排水量 | G3: 処理水量 | I3: 未処理水量
C4: 事業 場数 | D4: 平均値 | E4: 事業 場数 | F4: 平均値 | G4: 事業 場数 | H4: 平均値 | I4: 事業 場数 | J4: 平均値
A5: 01 | B5: 農業 | C5: 130 | D5: 19.585782 | E5: 128 | F5: 19.427473 | G5: 134 | H5: 11.595242 | I5: 113 | J5: 2.8166802
A6: 02 | B6: 林業 | C6: 1 | D6: 4.8481013 | E6: 2 | F6: 0.012658228 | G6: 2 | H6: 0.012658228 | I6: 2 | J6: 0
A7: 03 | B7: 漁業（水産養殖業を除く） | C7: 2 | D7: 24.444444 | E7: 2 | F7: 24.583333 | G7: 3 | H7: 3.5026455 | I7: 2 | J7: 20
A8: 04 | B8: 水産養殖業 | C8: 5 | D8: 1141.4514 | E8: 5 | F8: 1141.4514 | G8: 5 | H8: 184.92419 | I8: 5 | J8: 956.49524
A9: 05 | B9: 鉱業，採石業，砂利採取業 | C9: 107 | D9: 158.84892 | E9: 114 | F9: 213.04576 | G9: 111 | H9: 201.27549 | I9: 89 | J9: 9.8378806
A10: 06 | B10: 総合工事業 | C10: 59 | D10: 12.604596 | E10: 63 | F10: 147.64123 | G10: 64 | H10: 142.0809 | I10: 58 | J10: 3.5389199
A11: 07 | B11: 職別工事業(設備工事業を除く) | C11: 6 | D11: 1.9712626 | E11: 6 | F11: 4.9934848 | G11: 5 | H11: 5.7088485 | I11: 3 | J11: 0.47222222
A12: 08 | B12: 設備工事業 | C12: 2 | D12: 0.18625 | E12: 2 | F12: 0.18625 | G12: 3 | H12: 0.93867778 | I12: 2 | J12: 0.1324
A13: 09 | B13: 食料品製造業 | C13: 1896 | D13: 25.178572 | E13: 1862 | F13: 23.90186 | G13: 1900 | H13: 14.908468 | I13: 1729 | J13: 9.1935638
A14: 10 | B14: 飲料・たばこ・飼料製造業 | C14: 381 | D14: 22.143682 | E14: 379 | F14: 20.006766 | G14: 382 | H14: 9.7432825 | I14: 366 | J14: 9.9290167
A15: 11 | B15: 繊維工業 | C15: 340 | D15: 35.297182 | E15: 342 | F15: 37.068922 | G15: 338 | H15: 22.367632 | I15: 309 | J15: 15.030119
A16: 12 | B16: 木材・木製品製造業（家具を除く） | C16: 35 | D16: 7.8863853 | E16: 35 | F16: 6.9731873 | G16: 38 | H16: 2.9397244 | I16: 37 | J16: 3.4544531
... A41: 37 | B41: 通信業 | C41: 1 | D41: 149.93717 | E41: 1 | F41: 149.93717 | G41: 1 | H41: 1.6439791 | I41: 1 | J41: 148.29319
A42: 38 | B42: 放送業 | C42: 0 | D42: － | E42: 0 | F42: － | G42: 0 | H42: － | I42: 0 | J42: －
A43: 39 | B43: 情報サービス業 | C43: 5 | D43: 0.67711489 | E43: 5 | F43: 0.4862371 | G43: 5 | H43: 0.37472032 | I43: 4 | J43: 0.13939597
A44: 40 | B44: インターネット附随サービス業 | C44: 0 | D44: － | E44: 0 | F44: － | G44: 0 | H44: － | I44: 0 | J44: －
A45: 41 | B45: 映像・音声・文字情報制作業 | C45: 3 | D45: 0.70338798 | E45: 2 | F45: 0.70295842 | G45: 3 | H45: 0.26383526 | I45: 3 | J45: 0.30813836
A46: 42 | B46: 鉄道業 | C46: 36 | D46: 1.2557132 | E46: 36 | F46: 1.2982787 | G46: 34 | H46: 1.0650977 | I46: 32 | J46: 0.030231827
A47: 43 | B47: 道路旅客運送業 | C47: 2 | D47: 1.3439083 | E47: 2 | F47: 1.0408109 | G47: 2 | H47: 1.0408109 | I47: 2 | J47: 0
A48: 44 | B48: 道路貨物運送業 | C48: 7 | D48: 0.19318091 | E48: 8 | F48: 0.20026426 | G48: 7 | H48: 0.18404826 | I48: 8 | J48: 0.0074107143
A49: 45 | B49: 水運業 | C49: 1 | D49: 1.3333333 | E49: 1 | F49: 1.3333333 | G49: 1 | H49: 0.89333333 | I49: 1 | J49: 0.44
A50: 46 | B50: 航空運輸業 | C50: 2 | D50: 0.30996549 | E50: 2 | F50: 0.30996549 | G50: 2 | H50: 0.19454079 | I50: 2 | J50: 0.1154247
A51: 47 | B51: 倉庫業 | C51: 11 | D51: 3.5977771 | E51: 11 | F51: 1.2433369 | G51: 12 | H51: 1.3032654 | I51: 11 | J51: 0.17952801
A52: 48 | B52: 運輸に附帯するサービス業 | C52: 43 | D52: 1.7203055 | E52: 47 | F52: 1.791772 | G52: 47 | H52: 1.7840504 | I52: 40 | J52: 0.0055555556
A53: 49 | B53: 郵便業（信書便事業を含む） | C53: 1 | D53: 0.18542337 | E53: 1 | F53: 0.18542337 | G53: 1 | H53: 0.18542337 | I53: 1 | J53: 0
A54: 50 | B54: 各種商品卸売業 | C54: 13 | D54: 0.72006771 | E54: 12 | F54: 0.74074002 | G54: 12 | H54: 0.40482179 | I54: 12 | J54: 0.31189191
A55: 51 | B55: 繊維・衣服等卸売業 | C55: 1 | D55: 0.074285714 | E55: 2 | F55: 0.94623377 | G55: 2 | H55: 0.24168831 | I55: 2 | J55: 0.70454545
A56: 52 | B56: 飲食料品卸売業 | C56: 29 | D56: 10.607648 | E56: 29 | F56: 10.586203 | G56: 29 | H56: 6.5197673 | I56: 24 | J56: 0.98717316
... A67: 63 | B67: 協同組織金融業 | C67: 2 | D67: 0.8 | E67: 2 | F67: 32.8 | G67: 2 | H67: 33.3 | I67: 2 | J67: 0
A68: 64 | B68: 貸金業，クレジットカード業等非預金信用機関 | C68: 0 | D68: － | E68: 0 | F68: － | G68: 0 | H68: － | I68: 0 | J68: －
A69: 65 | B69: 金融商品取引業，商品先物取引業 | C69: 0 | D69: － | E69: 0 | F69: － | G69: 0 | H69: － | I69: 0 | J69: －
A70: 66 | B70: 補助的金融業等 | C70: 0 | D70: － | E70: 0 | F70: － | G70: 0 | H70: － | I70: 0 | J70: －
A71: 67 | B71: 保険業（保険媒介代理業，保険サービス業を含む） | C71: 0 | D71: － | E71: 0 | F71: － | G71: 0 | H71: － | I71: 0 | J71: －
A72: 68 | B72: 不動産取引業 | C72: 4 | D72: 2.765632 | E72: 5 | F72: 2.4774357 | G72: 5 | H72: 2.4774357 | I72: 4 | J72: 0
A73: 69 | B73: 不動産賃貸業・管理業 | C73: 57 | D73: 9.970191 | E73: 61 | F73: 14.644256 | G73: 59 | H73: 12.801395 | I73: 49 | J73: 0.36921964
A74: 70 | B74: 物品賃貸業 | C74: 3 | D74: 1.7297895 | E74: 3 | F74: 1.603599 | G74: 3 | H74: 1.5510376 | I74: 3 | J74: 0
A75: 71 | B75: 学術・開発研究機関 | C75: 385 | D75: 81.799171 | E75: 379 | F75: 83.862444 | G75: 372 | H75: 6.6471445 | I75: 343 | J75: 84.743961
A76: 72 | B76: 専門サービス業（他に分類されないもの） | C76: 18 | D76: 3.2689695 | E76: 18 | F76: 3.1220827 | G76: 18 | H76: 2.4537992 | I76: 17 | J76: 0.60224458
A77: 73 | B77: 広告業 | C77: 2 | D77: 0.84408781 | E77: 1 | F77: 0.43577982 | G77: 1 | H77: 0.43577982 | I77: 1 | J77: 0
A78: 74 | B78: 技術サービス業（他に分類されないもの） | C78: 147 | D78: 0.47660316 | E78: 146 | F78: 0.45016795 | G78: 149 | H78: 0.29211042 | I78: 143 | J78: 0.10817924
A79: 75 | B79: 宿泊業 | C79: 1088 | D79: 22.486098 | E79: 1068 | F79: 22.930272 | G79: 1117 | H79: 5.0539078 | I79: 951 | J79: 10.849283
A80: 76 | B80: 飲食店 | C80: 121 | D80: 2.1423708 | E80: 121 | F80: 2.1902733 | G80: 128 | H80: 1.9491643 | I80: 108 | J80: 0.30248647
A81: 77 | B81: 持ち帰り・配達飲食サービス業 | C81: 166 | D81: 2.409233 | E81: 160 | F81: 2.3307517 | G81: 164 | H81: 2.2541312 | I81: 144 | J81: 0.039206641
A82: 78 | B82: 洗濯・理容・美容・浴場業 | C82: 500 | D82: 9.6116886 | E82: 494 | F82: 10.339709 | G82: 477 | H82: 7.9224994 | I82: 398 | J82: 0.85478394
A83: 79 | B83: その他の生活関連サービス業 | C83: 17 | D83: 11.402923 | E83: 17 | F83: 1.5461858 | G83: 19 | H83: 1.4060363 | I83: 15 | J83: 0.37707407
... A99: 95 | B99: その他のサービス業 | C99: 151 | D99: 12.666436 | E99: 154 | F99: 12.207123 | G99: 158 | H99: 11.44249 | I99: 134 | J99: 0.75492446
A100: 96 | B100: 外国公務 | C100: 3 | D100: 0.0054733998 | E100: 2 | F100: 0.28786833 | G100: 2 | H100: 0.28786833 | I100: 0 | J100: －
A101: 97 | B101: 国家公務 | C101: 64 | D101: 0.54354079 | E101: 62 | F101: 0.54216132 | G101: 65 | H101: 0.4237801 | I101: 59 | J101: 0.096379879
A102: 98 | B102: 地方公務 | C102: 221 | D102: 70.53028 | E102: 261 | F102: 57.259657 | G102: 265 | H102: 37.122675 | I102: 224 | J102: 22.742571
A103: 99 | B103: 分類不能の産業 | C103: 758 | D103: 1.5820808 | E103: 884 | F103: 3.8776667 | G103: 933 | H103: 3.5006044 | I103: 792 | J103: 0.14348363
A104: - | B104: 産業分類不明 | C104: 18 | D104: 11.611294 | E104: 18 | F104: 11.682456 | G104: 20 | H104: 1.2163234 | I104: 15 | J104: 0.33485505
B105: 合計 | C105: 19823 | D105: 103.67665 | E105: 21499 | F105: 107.81467 | G105: 21798 | H105: 11.234314 | I105: 18883 | J105: 98.322236

Sheet 表3.3.6
A1: 表3.3.6 産業分類別出荷額等あたりの用水量・総排水量・処理水量・未処理水量
J2: 単位：ｍ3/日/百万円
A3: 産業中分類 | C3: 用水量 | E3: 総排水量 | G3: 処理水量 | I3: 未処理水量
C4: 事業 場数 | D4: 平均値 | E4: 事業 場数 | F4: 平均値 | G4: 事業 場数 | H4: 平均値 | I4: 事業 場数 | J4: 平均値
A5: 01 | B5: 農業 | C5: 113 | D5: 3.2502288 | E5: 113 | F5: 3.266049 | G5: 119 | H5: 0.60727209 | I5: 98 | J5: 0.095517127
A6: 02 | B6: 林業 | C6: 0 | D6: － | E6: 1 | F6: 0 | G6: 1 | H6: 0 | I6: 1 | J6: 0
A7: 03 | B7: 漁業（水産養殖業を除く） | C7: 1 | D7: 13.395349 | E7: 1 | F7: 13.488372 | G7: 2 | H7: 0.39859496 | I7: 1 | J7: 13.395349
A8: 04 | B8: 水産養殖業 | C8: 5 | D8: 1040.151 | E8: 5 | F8: 1040.151 | G8: 5 | H8: 47.837313 | I8: 5 | J8: 992.27557
A9: 05 | B9: 鉱業，採石業，砂利採取業 | C9: 96 | D9: 5.8567165 | E9: 94 | F9: 6.0623779 | G9: 93 | H9: 5.5190606 | I9: 78 | J9: 0.25979639
A10: 06 | B10: 総合工事業 | C10: 46 | D10: 5.0617261 | E10: 48 | F10: 12.419169 | G10: 48 | H10: 12.068259 | I10: 45 | J10: 0.30496876
A11: 07 | B11: 職別工事業(設備工事業を除く) | C11: 3 | D11: 0.037043412 | E11: 3 | F11: 0.51584396 | G11: 2 | H11: 0.7396294 | I11: 2 | J11: 0.034136546
A12: 08 | B12: 設備工事業 | C12: 2 | D12: 0.0086442772 | E12: 2 | F12: 0.0086442772 | G12: 2 | H12: 0.0031925766 | I12: 2 | J12: 0.0054517006
A13: 09 | B13: 食料品製造業 | C13: 1787 | D13: 1.2974002 | E13: 1758 | F13: 1.1041776 | G13: 1790 | H13: 1.0176348 | I13: 1631 | J13: 0.30297588
A14: 10 | B14: 飲料・たばこ・飼料製造業 | C14: 350 | D14: 2.1147394 | E14: 348 | F14: 2.3785565 | G14: 351 | H14: 1.0253333 | I14: 335 | J14: 1.3591332
A15: 11 | B15: 繊維工業 | C15: 329 | D15: 5.7402616 | E15: 331 | F15: 5.9058999 | G15: 325 | H15: 3.0864198 | I15: 298 | J15: 2.9476184
A16: 12 | B16: 木材・木製品製造業（家具を除く） | C16: 32 | D16: 0.40978771 | E16: 32 | F16: 0.37346783 | G16: 35 | H16: 0.32866232 | I16: 34 | J16: 0.16320841
A17: 13 | B17: 家具・装備品製造業 | C17: 22 | D17: 0.14222421 | E17: 22 | F17: 0.15199264 | G17: 21 | H17: 0.10819606 | I17: 21 | J17: 0.048469452
A18: 14 | B18: パルプ・紙・紙加工品製造業 | C18: 281 | D18: 8.7783557 | E18: 280 | F18: 8.5920804 | G18: 274 | H18: 7.4082031 | I18: 231 | J18: 1.6981982
... A40: 36 | B40: 水道業 | C40: 982 | D40: 22.293519 | E40: 1155 | F40: 88.44128 | G40: 1162 | H40: 89.565185 | I40: 987 | J40: 0.31622495
A41: 37 | B41: 通信業 | C41: 0 | D41: － | E41: 0 | F41: － | G41: 0 | H41: － | I41: 0 | J41: －
A42: 38 | B42: 放送業 | C42: 0 | D42: － | E42: 0 | F42: － | G42: 0 | H42: － | I42: 0 | J42: －
A43: 39 | B43: 情報サービス業 | C43: 3 | D43: 0.031419209 | E43: 3 | F43: 0.024646827 | G43: 3 | H43: 0.024576405 | I43: 2 | J43: 0.0001056338
A44: 40 | B44: インターネット附随サービス業 | C44: 0 | D44: － | E44: 0 | F44: － | G44: 0 | H44: － | I44: 0 | J44: －
A45: 41 | B45: 映像・音声・文字情報制作業 | C45: 2 | D45: 0.015220384 | E45: 1 | F45: 0.0045339728 | G45: 2 | H45: 0.014266986 | I45: 2 | J45: 0.0005
A46: 42 | B46: 鉄道業 | C46: 9 | D46: 0.9626635 | E46: 9 | F46: 0.92354043 | G46: 9 | H46: 0.92076575 | I46: 9 | J46: 0.0012792836
A47: 43 | B47: 道路旅客運送業 | C47: 1 | D47: 0.26002167 | E47: 1 | F47: 0.26002167 | G47: 1 | H47: 0.26002167 | I47: 1 | J47: 0
A48: 44 | B48: 道路貨物運送業 | C48: 2 | D48: 0.048944444 | E48: 3 | F48: 0.03295463 | G48: 2 | H48: 0.048944444 | I48: 3 | J48: 0
A49: 45 | B49: 水運業 | C49: 0 | D49: － | E49: 0 | F49: － | G49: 0 | H49: － | I49: 0 | J49: －
A50: 46 | B50: 航空運輸業 | C50: 1 | D50: 0.0023809524 | E50: 1 | F50: 0.0023809524 | G50: 1 | H50: 0.0023809524 | I50: 1 | J50: 0
A51: 47 | B51: 倉庫業 | C51: 8 | D51: 0.081580716 | E51: 7 | F51: 0.032087238 | G51: 8 | H51: 0.030522765 | I51: 7 | J51: 0.0059367148
A52: 48 | B52: 運輸に附帯するサービス業 | C52: 10 | D52: 0.44244824 | E52: 14 | F52: 0.38000788 | G52: 14 | H52: 0.37926967 | I52: 13 | J52: 0
A53: 49 | B53: 郵便業（信書便事業を含む） | C53: 0 | D53: － | E53: 0 | F53: － | G53: 0 | H53: － | I53: 0 | J53: －
A54: 50 | B54: 各種商品卸売業 | C54: 7 | D54: 0.036534782 | E54: 7 | F54: 0.035727162 | G54: 6 | H54: 0.027818417 | I54: 6 | J54: 0.012605616
A55: 51 | B55: 繊維・衣服等卸売業 | C55: 1 | D55: 0.00052 | E55: 1 | F55: 0.00052 | G55: 1 | H55: 0.00052 | I55: 1 | J55: 0
A56: 52 | B56: 飲食料品卸売業 | C56: 24 | D56: 0.30007622 | E56: 25 | F56: 0.29527411 | G56: 24 | H56: 0.26327439 | I56: 21 | J56: 0.0088580787
A57: 53 | B57: 建築材料，鉱物・金属材料等卸売業 | C57: 5 | D57: 0.38152502 | E57: 4 | F57: 0.26492252 | G57: 5 | H57: 0.37369492 | I57: 4 | J57: 0.0082558536
A58: 54 | B58: 機械器具卸売業 | C58: 5 | D58: 0.0097211036 | E58: 5 | F58: 0.0066227263 | G58: 4 | H58: 0.004306046 | I58: 4 | J58: 0.003321614
A59: 55 | B59: その他の卸売業 | C59: 5 | D59: 0.14580374 | E59: 5 | F59: 0.14580374 | G59: 5 | H59: 0.14580374 | I59: 2 | J59: 0
A60: 56 | B60: 各種商品小売業 | C60: 158 | D60: 0.084592404 | E60: 156 | F60: 0.12819344 | G60: 159 | H60: 0.12517574 | I60: 134 | J60: 0.0013953414
A61: 57 | B61: 織物・衣服・身の回り品小売業 | C61: 2 | D61: 0.0093733411 | E61: 2 | F61: 0.0088034594 | G61: 2 | H61: 0.0088034594 | I61: 1 | J61: 0
A62: 58 | B62: 飲食料品小売業 | C62: 15 | D62: 0.93221346 | E62: 18 | F62: 0.78373359 | G62: 18 | H62: 0.77086261 | I62: 13 | J62: 0.017914363
A63: 59 | B63: 機械器具小売業 | C63: 3 | D63: 0.013173183 | E63: 3 | F63: 0.013173183 | G63: 3 | H63: 0.010816222 | I63: 3 | J63: 6.9480882e-05
A64: 60 | B64: その他の小売業 | C64: 11 | D64: 0.058577215 | E64: 10 | F64: 0.066247623 | G64: 12 | H64: 0.076459164 | I64: 7 | J64: 0.0016264239
A65: 61 | B65: 無店舗小売業 | C65: 2 | D65: 2.5691729 | E65: 2 | F65: 5.1691729 | G65: 2 | H65: 5.1691729 | I65: 1 | J65: 0
A66: 62 | B66: 銀行業 | C66: 0 | D66: － | E66: 0 | F66: － | G66: 0 | H66: － | I66: 0 | J66: －
A67: 63 | B67: 協同組織金融業 | C67: 0 | D67: － | E67: 0 | F67: － | G67: 0 | H67: － | I67: 0 | J67: －
A68: 64 | B68: 貸金業，クレジットカード業等非預金信用機関 | C68: 0 | D68: － | E68: 0 | F68: － | G68: 0 | H68: － | I68: 0 | J68: －
A69: 65 | B69: 金融商品取引業，商品先物取引業 | C69: 0 | D69: － | E69: 0 | F69: － | G69: 0 | H69: － | I69: 0 | J69: －
A70: 66 | B70: 補助的金融業等 | C70: 0 | D70: － | E70: 0 | F70: － | G70: 0 | H70: － | I70: 0 | J70: －
A71: 67 | B71: 保険業（保険媒介代理業，保険サービス業を含む） | C71: 0 | D71: － | E71: 0 | F71: － | G71: 0 | H71: － | I71: 0 | J71: －
A72: 68 | B72: 不動産取引業 | C72: 1 | D72: 0.43728136 | E72: 1 | F72: 0.43728136 | G72: 1 | H72: 0.43728136 | I72: 0 | J72: －
A73: 69 | B73: 不動産賃貸業・管理業 | C73: 6 | D73: 8.6514928 | E73: 5 | F73: 2.1644366 | G73: 5 | H73: 1.8412382 | I73: 4 | J73: 0.40399797
A74: 70 | B74: 物品賃貸業 | C74: 1 | D74: 0.0028699724 | E74: 1 | F74: 0.0028699724 | G74: 1 | H74: 0.0020309368 | I74: 1 | J74: 0
A75: 71 | B75: 学術・開発研究機関 | C75: 151 | D75: 87.497253 | E75: 152 | F75: 88.038512 | G75: 149 | H75: 2.3207883 | I75: 134 | J75: 95.901035
A76: 72 | B76: 専門サービス業（他に分類されないもの） | C76: 10 | D76: 0.50472156 | E76: 10 | F76: 0.51863158 | G76: 10 | H76: 0.32627925 | I76: 9 | J76: 0.17744027
A77: 73 | B77: 広告業 | C77: 1 | D77: 0.027138332 | E77: 0 | F77: － | G77: 0 | H77: － | I77: 0 | J77: －
A78: 74 | B78: 技術サービス業（他に分類されないもの） | C78: 128 | D78: 0.073315262 | E78: 128 | F78: 0.073465563 | G78: 128 | H78: 0.054196044 | I78: 121 | J78: 0.0098562963
A79: 75 | B79: 宿泊業 | C79: 660 | D79: 14.902608 | E79: 651 | F79: 15.162972 | G79: 666 | H79: 1.7235618 | I79: 578 | J79: 12.287352
A80: 76 | B80: 飲食店 | C80: 54 | D80: 0.363635 | E80: 52 | F80: 0.38336629 | G80: 57 | H80: 0.31900025 | I80: 48 | J80: 0.052474226
A81: 77 | B81: 持ち帰り・配達飲食サービス業 | C81: 122 | D81: 0.58149912 | E81: 117 | F81: 0.66004379 | G81: 121 | H81: 0.44088756 | I81: 107 | J81: 0.0095007502
A82: 78 | B82: 洗濯・理容・美容・浴場業 | C82: 408 | D82: 1.3831666 | E82: 399 | F82: 1.8407333 | G82: 382 | H82: 1.0019817 | I82: 329 | J82: 0.77195527
A83: 79 | B83: その他の生活関連サービス業 | C83: 8 | D83: 0.84771292 | E83: 8 | F83: 0.43104626 | G83: 7 | H83: 0.40692502 | I83: 7 | J83: 0.077295918
A84: 80 | B84: 娯楽業 | C84: 320 | D84: 1.7096855 | E84: 312 | F84: 2.3771829 | G84: 327 | H84: 1.4588706 | I84: 276 | J84: 0.81983584
A85: 81 | B85: 学校教育 | C85: 114 | D85: 4.771518 | E85: 109 | F85: 3.6608615 | G85: 108 | H85: 2.9144875 | I85: 91 | J85: 0.7509069
A86: 82 | B86: その他の教育，学習支援業 | C86: 58 | D86: 3.6933587 | E86: 56 | F86: 2.7053201 | G86: 57 | H86: 2.3319146 | I86: 53 | J86: 0.1722625
A87: 83 | B87: 医療業 | C87: 385 | D87: 0.65216264 | E87: 381 | F87: 0.94074971 | G87: 389 | H87: 0.66557734 | I87: 334 | J87: 0.0074274199
A88: 84 | B88: 保健衛生 | C88: 31 | D88: 0.26057998 | E88: 31 | F88: 0.24746985 | G88: 30 | H88: 0.23669879 | I88: 28 | J88: 0.01891237
A89: 85 | B89: 社会保険・社会福祉・介護事業 | C89: 79 | D89: 17.967875 | E89: 78 | F89: 18.07738 | G89: 78 | H89: 18.17055 | I89: 69 | J89: 0.1653921
A90: 86 | B90: 郵便局 | C90: 0 | D90: － | E90: 0 | F90: － | G90: 0 | H90: － | I90: 0 | J90: －
A91: 87 | B91: 協同組合（他に分類されないもの） | C91: 27 | D91: 6.035347 | E91: 30 | F91: 8.8526959 | G91: 29 | H91: 9.1264255 | I91: 24 | J91: 0.036691993
A92: 88 | B92: 廃棄物処理業 | C92: 1418 | D92: 5.533882 | E92: 1755 | F92: 27.770771 | G92: 1778 | H92: 26.451395 | I92: 1456 | J92: 0.12168004
A93: 89 | B93: 自動車整備業 | C93: 1 | D93: 0.0052128805 | E93: 0 | F93: － | G93: 1 | H93: 0.0052128805 | I93: 1 | J93: 0
A94: 90 | B94: 機械等修理業（別掲を除く） | C94: 1 | D94: 0.015207832 | E94: 1 | F94: 0.0087337131 | G94: 1 | H94: 0.0039606374 | I94: 1 | J94: 0.0047476871
A95: 91 | B95: 職業紹介・労働者派遣業 | C95: 1 | D95: 0.081651376 | E95: 1 | F95: 0.081651376 | G95: 1 | H95: 0.050458716 | I95: 1 | J95: 0.031192661
A96: 92 | B96: その他の事業サービス業 | C96: 18 | D96: 1.3197251 | E96: 18 | F96: 1.3071373 | G96: 18 | H96: 1.2281372 | I96: 18 | J96: 0.039309507
A97: 93 | B97: 政治・経済・文化団体 | C97: 2 | D97: 0.10810185 | E97: 2 | F97: 0.10810185 | G97: 2 | H97: 0.089583333 | I97: 2 | J97: 0.018518519
A98: 94 | B98: 宗教 | C98: 2 | D98: 8.6868687 | E98: 2 | F98: 7.8164983 | G98: 2 | H98: 7.1868687 | I98: 2 | J98: 0.62962963
A99: 95 | B99: その他のサービス業 | C99: 104 | D99: 1.361378 | E99: 104 | F99: 1.3639203 | G99: 104 | H99: 1.2220276 | I99: 91 | J99: 0.16021113
A100: 96 | B100: 外国公務 | C100: 0 | D100: － | E100: 0 | F100: － | G100: 0 | H100: － | I100: 0 | J100: －
A101: 97 | B101: 国家公務 | C101: 10 | D101: 126.38586 | E101: 10 | F101: 129.43486 | G101: 10 | H101: 74.667651 | I101: 10 | J101: 51.605307
A102: 98 | B102: 地方公務 | C102: 72 | D102: 278.93054 | E102: 104 | F102: 208.41746 | G102: 103 | H102: 22.618557 | I102: 94 | J102: 206.1644
A103: 99 | B103: 分類不能の産業 | C103: 69 | D103: 8.5984756 | E103: 72 | F103: 16.275326 | G103: 74 | H103: 15.40304 | I103: 60 | J103: 0.97148654
A104: - | B104: 産業分類不明 | C104: 12 | D104: 0.91686416 | E104: 12 | F104: 1.1906812 | G104: 13 | H104: 0.23725039 | I104: 10 | J104: 0.041037426
B105: 合計 | C105: 13347 | D105: 7.5645084 | E105: 13713 | F105: 16.373114 | G105: 13783 | H105: 12.392996 | I105: 12345 | J105: 4.2237677

Sheet 表3.3.7
A1: 表3.3.7 延床面積階級別用水量と総排水量の事業場数、平均値、標準偏差、最大値、最小値
A2: ＜用水量＞ | G2: 単位:㎥/日
A3: 延べ床面積 | C3: 事業場数 | D3: 平均値 | E3: 標準偏差 | F3: 最大値 | G3: 最小値
A4: 1000 | B4: ｍ2未満 | C4: 4110 | D4: 390.6917 | E4: 3781.5827 | F4: 120155 | G4: 0
A5: 1,000～5,000 | B5: 〃 | C5: 5385 | D5: 3120.1957 | E5: 123081.04 | F5: 8991781 | G5: 0
A6: 5,000～10,000 | B6: 〃 | C6: 3221 | D6: 3620.461 | E6: 86298.046 | F6: 4493670 | G6: 0
A7: 10,000～30,000 | B7: 〃 | C7: 3801 | D7: 7697.8254 | E7: 112353.19 | F7: 4424218 | G7: 0
A8: 30,000～50,000 | B8: 〃 | C8: 998 | D8: 24948.211 | E8: 229176.85 | F8: 4476652 | G8: 0
A9: 50,000～100,000 | B9: 〃 | C9: 784 | D9: 114921 | E9: 760613.14 | F9: 8878134 | G9: 0
A10: 100,000～300,000 | B10: 〃 | C10: 515 | D10: 245316.37 | E10: 1700067.8 | F10: 23663595 | G10: 0
A11: 300,000～500,000 | B11: 〃 | C11: 77 | D11: 251231.5 | E11: 1807690.4 | F11: 15872406 | G11: 0
A12: 500,000～1,000,000 | B12: 〃 | C12: 43 | D12: 113510.23 | E12: 454807.27 | F12: 2794393 | G12: 0
A13: 1,000,000～3,000,000 | B13: 〃 | C13: 23 | D13: 1001298.3 | E13: 1605491 | F13: 5131024 | G13: 0
A14: 3000000 | B14: ｍ2以上 | C14: 15 | D14: 747968.67 | E14: 2890382.4 | F14: 11196067 | G14: 0
A15: 未回答または0 | C15: 2416 | D15: 4728.3063 | E15: 108258.69 | F15: 4713576 | G15: 0
A16: 合計 | C16: 21388 | D16: 17325.696 | E16: 353746.68 | F16: 23663595 | G16: 0
A20: ＜総排水量＞ | G20: 単位:㎥/日
A21: 延べ床面積 | C21: 事業場数 | D21: 平均値 | E21: 標準偏差 | F21: 最大値 | G21: 最小値
A22: 1000 | B22: ｍ2未満 | C22: 5456 | D22: 617.04133 | E22: 9888.1196 | F22: 635664 | G22: 0
A23: 1,000～5,000 | B23: 〃 | C23: 5509 | D23: 2930.8565 | E23: 122198.27 | F23: 8991018 | G23: 0
A24: 5,000～10,000 | B24: 〃 | C24: 3217 | D24: 4442.4475 | E24: 92052.885 | F24: 4493472 | G24: 0
A25: 10,000～30,000 | B25: 〃 | C25: 3786 | D25: 9318.5946 | E25: 110018.83 | F25: 4417232 | G25: 0
A26: 30,000～50,000 | B26: 〃 | C26: 994 | D26: 28299.214 | E26: 229875.01 | F26: 4476291 | G26: 0
A27: 50,000～100,000 | B27: 〃 | C27: 786 | D27: 141171.99 | E27: 959969.08 | F27: 16591023 | G27: 0
A28: 100,000～300,000 | B28: 〃 | C28: 516 | D28: 269970.14 | E28: 1755828 | F28: 23666155 | G28: 2
A29: 300,000～500,000 | B29: 〃 | C29: 77 | D29: 249559.26 | E29: 1808185.1 | F29: 15872353 | G29: 7
A30: 500,000～1,000,000 | B30: 〃 | C30: 41 | D30: 103360.59 | E30: 452680.38 | F30: 2734435 | G30: 24
A31: 1,000,000～3,000,000 | B31: 〃 | C31: 25 | D31: 493729.93 | E31: 833251.48 | F31: 3153310 | G31: 0
A32: 3000000 | B32: ｍ2以上 | C32: 15 | D32: 749224.79 | E32: 2890036.2 | F32: 11196067 | G32: 60
A33: 未回答または0 | C33: 2920 | D33: 9061.878 | E33: 166082.57 | F33: 7216680 | G33: 0
A34: 合計 | C34: 23342 | D34: 18035.111 | E34: 361907.65 | F34: 23666155 | G34: 0

Sheet 表3.3.8
A1: 表3.3.8 従業員数等階級別用水量と総排水量の事業場数、平均値、標準偏差、最大値、最小値
A2: ＜用水量＞ | G2: 単位:㎥/日
A3: 従業員数等 | C3: 事業場数 | D3: 平均値 | E3: 標準偏差 | F3: 最大値 | G3: 最小値
A4: 1000 | B4: 人未満 | C4: 16770 | D4: 17049.972 | E4: 363409.46 | F4: 23663595 | G4: 0
A5: 1,000～5,000 | B5: 〃 | C5: 1833 | D5: 34439.567 | E5: 473036.28 | F5: 13738072 | G5: 0
A6: 5,000～10,000 | B6: 〃 | C6: 205 | D6: 955.46405 | E6: 2684.6618 | F6: 23710 | G6: 0
A7: 10,000～30,000 | B7: 〃 | C7: 283 | D7: 1656.2842 | E7: 3672.1083 | F7: 24456 | G7: 0
A8: 30,000～50,000 | B8: 〃 | C8: 162 | D8: 3478.2054 | E8: 6639.6388 | F8: 26540 | G8: 0
A9: 50,000～100,000 | B9: 〃 | C9: 242 | D9: 7006.9823 | E9: 11617.772 | F9: 56687 | G9: 0
A10: 100,000～300,000 | B10: 〃 | C10: 231 | D10: 16499.203 | E10: 31219.659 | F10: 276086 | G10: 0
A11: 300,000～500,000 | B11: 〃 | C11: 62 | D11: 30368.742 | E11: 51371.685 | F11: 191000 | G11: 8
A12: 500,000～1,000,000 | B12: 〃 | C12: 26 | D12: 34846.173 | E12: 63389.142 | F12: 241557 | G12: 10
A13: 1,000,000～3,000,000 | B13: 〃 | C13: 8 | D13: 282193.5 | E13: 215467.15 | F13: 629887 | G13: 0
A14: 3000000 | B14: 人以上 | C14: 1 | D14: 1205706 | E14: － | F14: 1205706 | G14: 1205706
A15: 未回答または0 | C15: 1565 | D15: 5443.4785 | E15: 175103.96 | F15: 6912400 | G15: 0
A16: 合計 | C16: 21388 | D16: 17325.696 | E16: 353746.68 | F16: 23663595 | G16: 0
A20: ＜総排水量＞ | G20: 単位:㎥/日
A21: 従業員数等 | C21: 事業場数 | D21: 平均値 | E21: 標準偏差 | F21: 最大値 | G21: 最小値
A22: 1000 | B22: 人未満 | C22: 17725 | D22: 17584.326 | E22: 382434.01 | F22: 23666155 | G22: 0
A23: 1,000～5,000 | B23: 〃 | C23: 2445 | D23: 22149.995 | E23: 382266.16 | F23: 13737887 | G23: 0
A24: 5,000～10,000 | B24: 〃 | C24: 240 | D24: 8439.8354 | E24: 67086.44 | F24: 828258 | G24: 10
A25: 10,000～30,000 | B25: 〃 | C25: 316 | D25: 28987.908 | E25: 405660.8 | F25: 7216680 | G25: 2
A26: 30,000～50,000 | B26: 〃 | C26: 171 | D26: 11164.649 | E26: 12672.025 | F26: 112589 | G26: 0
A27: 50,000～100,000 | B27: 〃 | C27: 257 | D27: 20227.38 | E27: 20965.309 | F27: 161993 | G27: 5
A28: 100,000～300,000 | B28: 〃 | C28: 239 | D28: 47404.348 | E28: 51119.523 | F28: 262900 | G28: 0
A29: 300,000～500,000 | B29: 〃 | C29: 64 | D29: 97948.144 | E29: 83129.602 | F29: 249275 | G29: 32
A30: 500,000～1,000,000 | B30: 〃 | C30: 31 | D30: 230024.45 | E30: 165848.12 | F30: 659970 | G30: 54
A31: 1,000,000～3,000,000 | B31: 〃 | C31: 10 | D31: 287341.83 | E31: 411117.48 | F31: 1191870 | G31: 0
A32: 3000000 | B32: 人以上 | C32: 1 | D32: 24 | E32: － | F32: 24 | G32: 24
A33: 未回答または0 | C33: 1843 | D33: 5014.0003 | E33: 161676.72 | F33: 6912330 | G33: 0
A34: 合計 | C34: 23342 | D34: 18035.111 | E34: 361907.65 | F34: 23666155 | G34: 0

Sheet 表3.3.9
A1: 表3.3.9 出荷額等階級別用水量と総排水量の事業場数、平均値、標準偏差、最大値、最小値
A2: ＜用水量＞ | G2: 単位:㎥/日
A3: 出荷額等階級 | C3: 事業場数 | D3: 平均値 | E3: 標準偏差 | F3: 最大値 | G3: 最小値
A4: 1000 | B4: 万円未満 | C4: 1018 | D4: 223.13578 | E4: 2633.5619 | F4: 60012 | G4: 0
A5: 1,000～5,000 | B5: 〃 | C5: 1239 | D5: 180.2139 | E5: 1412.2544 | F5: 38500 | G5: 0
A6: 5,000～10,000 | B6: 〃 | C6: 651 | D6: 369.99962 | E6: 2148.4927 | F6: 30000 | G6: 0
A7: 10,000～30,000 | B7: 〃 | C7: 1780 | D7: 862.80263 | E7: 8642.744 | F7: 296015 | G7: 0
A8: 30,000～50,000 | B8: 〃 | C8: 1043 | D8: 816.51626 | E8: 6045.5287 | F8: 131040 | G8: 0
A9: 50,000～100,000 | B9: 〃 | C9: 1435 | D9: 1169.5493 | E9: 6695.55 | F9: 108052 | G9: 0
A10: 100,000～300,000 | B10: 〃 | C10: 2303 | D10: 2789.4092 | E10: 18460.797 | F10: 629887 | G10: 0
A11: 300,000～500,000 | B11: 〃 | C11: 951 | D11: 3836.5725 | E11: 30702.7 | F11: 673861 | G11: 0
A12: 500,000～1,000,000 | B12: 〃 | C12: 1034 | D12: 5801.8669 | E12: 40834.499 | F12: 937802 | G12: 0
A13: 1,000,000～3,000,000 | B13: 〃 | C13: 1120 | D13: 26502.324 | E13: 363422 | F13: 11196067 | G13: 3.394
A14: 3000000 | B14: 万円以上 | C14: 773 | D14: 208091.7 | E14: 1249979.5 | F14: 23663595 | G14: 2
A15: 未回答または0 | C15: 8041 | D15: 19798.006 | E15: 400184.04 | F15: 16239655 | G15: 0
A16: 合計 | C16: 21388 | D16: 17325.696 | E16: 353746.68 | F16: 23663595 | G16: 0
A20: ＜総排水量＞ | G20: 単位:㎥/日
A21: 出荷額等階級 | C21: 事業場数 | D21: 平均値 | E21: 標準偏差 | F21: 最大値 | G21: 最小値
A22: 1000 | B22: 万円未満 | C22: 1276 | D22: 410.59868 | E22: 3611.2863 | F22: 61507 | G22: 0
A23: 1,000～5,000 | B23: 〃 | C23: 1462 | D23: 544.1866 | E23: 4290.7995 | F23: 131683 | G23: 0
A24: 5,000～10,000 | B24: 〃 | C24: 664 | D24: 1554.8477 | E24: 24717.726 | F24: 635664 | G24: 0
A25: 10,000～30,000 | B25: 〃 | C25: 1769 | D25: 1518.397 | E25: 8873.493 | F25: 286152 | G25: 0
A26: 30,000～50,000 | B26: 〃 | C26: 1034 | D26: 2242.4977 | E26: 8700.8771 | F26: 75272 | G26: 0
A27: 50,000～100,000 | B27: 〃 | C27: 1415 | D27: 3662.2148 | E27: 17776.465 | F27: 232820 | G27: 0
A28: 100,000～300,000 | B28: 〃 | C28: 2260 | D28: 3245.5032 | E28: 20216.078 | F28: 337078 | G28: 0
A29: 300,000～500,000 | B29: 〃 | C29: 934 | D29: 3057.2766 | E29: 25858.489 | F29: 644573 | G29: 0
A30: 500,000～1,000,000 | B30: 〃 | C30: 1016 | D30: 6114.903 | E30: 46377.524 | F30: 937802 | G30: 4
A31: 1,000,000～3,000,000 | B31: 〃 | C31: 1111 | D31: 25190.541 | E31: 362913.32 | F31: 11196067 | G31: 0
A32: 3000000 | B32: 万円以上 | C32: 772 | D32: 204730.59 | E32: 1276068.2 | F32: 23666155 | G32: 0
A33: 未回答または0 | C33: 9629 | D33: 21393.189 | E33: 410278.23 | F33: 16591023 | G33: 0
A34: 合計 | C34: 23342 | D34: 18035.111 | E34: 361907.65 | F34: 23666155 | G34: 0

Sheet 表3.3.10
A1: 表3.3.10 排水処理方法別工場・事業場数
A3: 排水処理方法 | B3: 総数 | C3: 排水量・有害物質区分
C4: ① | D4: ② | E4: ③
A5: 活性汚泥処理 | B5: =SUM(C5:E5) -> 12733 | C5: 11299 | D5: 1059 | E5: 375
A6: その他の生物処理 | B6: =SUM(C6:E6) -> 4337 | C6: 3880 | D6: 237 | E6: 220
A7: 凝集沈殿、凝集浮上、加圧浮上 | B7: =SUM(C7:E7) -> 2583 | C7: 996 | D7: 1023 | E7: 564
A8: 砂ろ過 | B8: =SUM(C8:E8) -> 197 | C8: 145 | D8: 33 | E8: 19
A9: オゾン処理 | B9: =SUM(C9:E9) -> 43 | C9: 33 | D9: 8 | E9: 2
A10: 活性炭 | B10: =SUM(C10:E10) -> 248 | C10: 142 | D10: 43 | E10: 63
A11: 油水分離 | B11: =SUM(C11:E11) -> 273 | C11: 118 | D11: 77 | E11: 78
A12: その他の高度処理 | B12: =SUM(C12:E12) -> 603 | C12: 436 | D12: 92 | E12: 75
A13: 沈殿、中和、無機物の除去を主たる目的とした処理等 | B13: =SUM(C13:E13) -> 2102 | C13: 760 | D13: 607 | E13: 735
A14: その他 | C14: 138 | D14: 43 | E14: 175
A15: 未回答 | B15: =B16-SUM(B5:B14) -> 2637 | C15: =C16-SUM(C5:C14) -> 1523 | D15: =D16-SUM(D5:D14) -> 245 | E15: =E16-SUM(E5:E14) -> 513
A16: 合計 | B16: ='表3.3.1(1)'!C16 -> 25756 | C16: ='表3.3.1(1)'!D16 -> 19470 | D16: ='表3.3.1(1)'!E16 -> 3467 | E16: ='表3.3.1(1)'!F16 -> 2819
B18: ※排水量・有害物質区分
B19: ①：排水量50㎥/日以上、有害物質使用特定事業場でない
B20: ②：排水量50㎥/日以上、有害物質使用特定事業場である
B21: ③：排水量50㎥/日未満、有害物質使用特定事業場である

Sheet 表3.4.1.1(1)
A3: 表3.4.1.1(1) 産業分類別の生活環境項目濃度の平均値、標準偏差、最大値、最小値
E4: 水素イオン濃度(pH) 下限値
A5: 産業中分類 | C5: 事業場数 | D5: 最大値 | E5: 最小値
A6: 01 | B6: 農業 | C6: 129 | D6: 8.5 | E6: 4.9
A7: 02 | B7: 林業 | C7: 2 | D7: 7.5 | E7: 6
A8: 03 | B8: 漁業（水産養殖業を除く） | C8: 3 | D8: 7.5 | E8: 5.8
A9: 04 | B9: 水産養殖業 | C9: 5 | D9: 7.8 | E9: 6.6
A10: 05 | B10: 鉱業，採石業，砂利採取業 | C10: 112 | D10: 8.6 | E10: 4.2
A11: 06 | B11: 総合工事業 | C11: 74 | D11: 8.1 | E11: 1.1
A12: 07 | B12: 職別工事業(設備工事業を除く) | C12: 6 | D12: 7 | E12: 6
A13: 08 | B13: 設備工事業 | C13: 4 | D13: 6.9 | E13: 6.4
A14: 09 | B14: 食料品製造業 | C14: 1973 | D14: 8.3 | E14: 2.3
A15: 10 | B15: 飲料・たばこ・飼料製造業 | C15: 392 | D15: 8.2 | E15: 4.3
A16: 11 | B16: 繊維工業 | C16: 339 | D16: 8.5 | E16: 2.6
A17: 12 | B17: 木材・木製品製造業（家具を除く） | C17: 30 | D17: 8.2 | E17: 5.2
... A42: 37 | B42: 通信業 | C42: 1 | D42: 6.7 | E42: 6.7
A43: 38 | B43: 放送業 | C43: 0 | D43: － | E43: －
A44: 39 | B44: 情報サービス業 | C44: 5 | D44: 7 | E44: 6.4
A45: 40 | B45: インターネット附随サービス業 | C45: 0 | D45: － | E45: －
A46: 41 | B46: 映像・音声・文字情報制作業 | C46: 4 | D46: 7.9 | E46: 6.3
A47: 42 | B47: 鉄道業 | C47: 44 | D47: 7.7 | E47: 4.8
A48: 43 | B48: 道路旅客運送業 | C48: 4 | D48: 7.6 | E48: 6.9
A49: 44 | B49: 道路貨物運送業 | C49: 9 | D49: 7.9 | E49: 6
A50: 45 | B50: 水運業 | C50: 1 | D50: 7.7 | E50: 7.7
A51: 46 | B51: 航空運輸業 | C51: 2 | D51: 6.6 | E51: 6.5
A52: 47 | B52: 倉庫業 | C52: 13 | D52: 7.38 | E52: 5.8
A53: 48 | B53: 運輸に附帯するサービス業 | C53: 114 | D53: 7.7 | E53: 4.5
A54: 49 | B54: 郵便業（信書便事業を含む） | C54: 1 | D54: 6.4 | E54: 6.4
A55: 50 | B55: 各種商品卸売業 | C55: 15 | D55: 7.4 | E55: 5
A56: 51 | B56: 繊維・衣服等卸売業 | C56: 3 | D56: 7.4 | E56: 6.2
A57: 52 | B57: 飲食料品卸売業 | C57: 31 | D57: 8.1 | E57: 5.8
... A69: 64 | B69: 貸金業，クレジットカード業等非預金信用機関 | C69: 1 | D69: 6.8 | E69: 6.8
A70: 65 | B70: 金融商品取引業，商品先物取引業 | C70: 0 | D70: － | E70: －
A71: 66 | B71: 補助的金融業等 | C71: 0 | D71: － | E71: －
A72: 67 | B72: 保険業（保険媒介代理業，保険サービス業を含む） | C72: 0 | D72: － | E72: －
A73: 68 | B73: 不動産取引業 | C73: 11 | D73: 7.5 | E73: 6.8
A74: 69 | B74: 不動産賃貸業・管理業 | C74: 120 | D74: 8 | E74: 3.7
A75: 70 | B75: 物品賃貸業 | C75: 3 | D75: 7.7 | E75: 5.76
A76: 71 | B76: 学術・開発研究機関 | C76: 321 | D76: 8.9 | E76: 2
A77: 72 | B77: 専門サービス業（他に分類されないもの） | C77: 20 | D77: 8.2 | E77: 4.7
A78: 73 | B78: 広告業 | C78: 3 | D78: 7.4 | E78: 3.6
A79: 74 | B79: 技術サービス業（他に分類されないもの） | C79: 143 | D79: 8.1 | E79: 2.8
A80: 75 | B80: 宿泊業 | C80: 1342 | D80: 10.68 | E80: 2.2
A81: 76 | B81: 飲食店 | C81: 182 | D81: 7.8 | E81: 3.31
A82: 77 | B82: 持ち帰り・配達飲食サービス業 | C82: 178 | D82: 8.1 | E82: 3.1
A83: 78 | B83: 洗濯・理容・美容・浴場業 | C83: 406 | D83: 9.8 | E83: 1.5
A84: 79 | B84: その他の生活関連サービス業 | C84: 21 | D84: 7.9 | E84: 4.3
... A105: - | B105: 産業分類不明 | C105: 27 | D105: 8.5 | E105: 3.6
B106: 合計 | C106: =SUM(C6:C105) -> 23798 | D106: =MAX(D6:D105) -> 10.68 | E106: =MIN(E6:E105) -> 1.1
A108: ※水素イオン濃度(pH)は濃度の逆数の常用対数であるため、平均値及び標準偏差の算出は行っていない。

Sheet 表3.4.1.1(2)
A3: 表3.4.1.1(2) 産業分類別の生活環境項目濃度の平均値、標準偏差、最大値、最小値
E4: 水素イオン濃度(pH) 上限値
A5: 産業中分類 | C5: 事業場数 | D5: 最大値 | E5: 最小値
A6: 01 | B6: 農業 | C6: 129 | D6: 8.6 | E6: 5
A7: 02 | B7: 林業 | C7: 2 | D7: 7.5 | E7: 7.2
A8: 03 | B8: 漁業（水産養殖業を除く） | C8: 3 | D8: 8.6 | E8: 7.4
A9: 04 | B9: 水産養殖業 | C9: 5 | D9: 8.1 | E9: 6.6
A10: 05 | B10: 鉱業，採石業，砂利採取業 | C10: 112 | D10: 8.9 | E10: 6
A11: 06 | B11: 総合工事業 | C11: 74 | D11: 8.6 | E11: 6.7
A12: 07 | B12: 職別工事業(設備工事業を除く) | C12: 6 | D12: 8.6 | E12: 7
A13: 08 | B13: 設備工事業 | C13: 4 | D13: 7.8 | E13: 7.3
A14: 09 | B14: 食料品製造業 | C14: 1973 | D14: 10 | E14: 5.6
A15: 10 | B15: 飲料・たばこ・飼料製造業 | C15: 392 | D15: 9.18 | E15: 6.5
A16: 11 | B16: 繊維工業 | C16: 339 | D16: 10.1 | E16: 6.4
A17: 12 | B17: 木材・木製品製造業（家具を除く） | C17: 30 | D17: 8.9 | E17: 6.9
... A42: 37 | B42: 通信業 | C42: 1 | D42: 7.2 | E42: 7.2
A43: 38 | B43: 放送業 | C43: 0 | D43: － | E43: －
A44: 39 | B44: 情報サービス業 | C44: 5 | D44: 8 | E44: 7.3
A45: 40 | B45: インターネット附随サービス業 | C45: 0 | D45: － | E45: －
A46: 41 | B46: 映像・音声・文字情報制作業 | C46: 4 | D46: 7.9 | E46: 7
A47: 42 | B47: 鉄道業 | C47: 44 | D47: 8.5 | E47: 6.1
A48: 43 | B48: 道路旅客運送業 | C48: 4 | D48: 8.9 | E48: 7.6
A49: 44 | B49: 道路貨物運送業 | C49: 9 | D49: 7.9 | E49: 6.8
A50: 45 | B50: 水運業 | C50: 1 | D50: 7.7 | E50: 7.7
A51: 46 | B51: 航空運輸業 | C51: 2 | D51: 7.9 | E51: 7.5
A52: 47 | B52: 倉庫業 | C52: 13 | D52: 8.64 | E52: 7
A53: 48 | B53: 運輸に附帯するサービス業 | C53: 114 | D53: 8.6 | E53: 5.5
A54: 49 | B54: 郵便業（信書便事業を含む） | C54: 1 | D54: 7.7 | E54: 7.7
A55: 50 | B55: 各種商品卸売業 | C55: 15 | D55: 7.9 | E55: 7
A56: 51 | B56: 繊維・衣服等卸売業 | C56: 3 | D56: 7.7 | E56: 7.3
A57: 52 | B57: 飲食料品卸売業 | C57: 31 | D57: 8.6 | E57: 6.3
... A69: 64 | B69: 貸金業，クレジットカード業等非預金信用機関 | C69: 1 | D69: 7.8 | E69: 7.8
A70: 65 | B70: 金融商品取引業，商品先物取引業 | C70: 0 | D70: － | E70: －
A71: 66 | B71: 補助的金融業等 | C71: 0 | D71: － | E71: －
A72: 67 | B72: 保険業（保険媒介代理業，保険サービス業を含む） | C72: 0 | D72: － | E72: －
A73: 68 | B73: 不動産取引業 | C73: 11 | D73: 7.8 | E73: 7
A74: 69 | B74: 不動産賃貸業・管理業 | C74: 120 | D74: 8.6 | E74: 5.9
A75: 70 | B75: 物品賃貸業 | C75: 3 | D75: 8.5 | E75: 7.1
A76: 71 | B76: 学術・開発研究機関 | C76: 321 | D76: 9.7 | E76: 3.9
A77: 72 | B77: 専門サービス業（他に分類されないもの） | C77: 20 | D77: 8.2 | E77: 4.7
A78: 73 | B78: 広告業 | C78: 3 | D78: 7.6 | E78: 7.4
A79: 74 | B79: 技術サービス業（他に分類されないもの） | C79: 143 | D79: 10 | E79: 5.9
A80: 75 | B80: 宿泊業 | C80: 1342 | D80: 10.68 | E80: 2.2
A81: 76 | B81: 飲食店 | C81: 182 | D81: 9.7 | E81: 5.6
A82: 77 | B82: 持ち帰り・配達飲食サービス業 | C82: 178 | D82: 9 | E82: 6.5
A83: 78 | B83: 洗濯・理容・美容・浴場業 | C83: 406 | D83: 10.1 | E83: 2.6
A84: 79 | B84: その他の生活関連サービス業 | C84: 21 | D84: 8.2 | E84: 6.8
... A105: - | B105: 産業分類不明 | C105: 27 | D105: 8.5 | E105: 3.6
B106: 合計 | C106: =SUM(C6:C105) -> 23798 | D106: =MAX(D6:D105) -> 10.68 | E106: =MIN(E6:E105) -> 2.2
A108: ※水素イオン濃度(pH)は濃度の逆数の常用対数であるため、平均値及び標準偏差の算出は行っていない。

Sheet 表3.4.1.1(3)
A3: 表3.4.1.1(3) 産業分類別の生活環境項目濃度の平均値、標準偏差、最大値、最小値
F4: BOD | G4: 単位：㎎/ℓ
A5: 産業中分類 | C5: 事業場数 | D5: 平均値 | E5: 標準偏差 | F5: 最大値 | G5: 最小値
A6: 01 | B6: 農業 | C6: 143 | D6: 29.04049 | E6: 28.592843 | F6: 150 | G6: 0.5
A7: 02 | B7: 林業 | C7: 2 | D7: 8.5 | E7: 9.1923882 | F7: 15 | G7: 2
A8: 03 | B8: 漁業（水産養殖業を除く） | C8: 3 | D8: 9.4333333 | E8: 7.8653247 | F8: 17 | G8: 1.3
A9: 04 | B9: 水産養殖業 | C9: 3 | D9: 1.2333333 | E9: 1.123981 | F9: 2.2 | G9: 0
A10: 05 | B10: 鉱業，採石業，砂利採取業 | C10: 34 | D10: 6.195 | E10: 27.206893 | F10: 160 | G10: 0
A11: 06 | B11: 総合工事業 | C11: 45 | D11: 3.5733333 | E11: 5.8111726 | F11: 28 | G11: 0
A12: 07 | B12: 職別工事業(設備工事業を除く) | C12: 4 | D12: 9.375 | E12: 8.1176249 | F12: 20 | G12: 0.5
A13: 08 | B13: 設備工事業 | C13: 1 | D13: 1.3 | E13: － | F13: 1.3 | G13: 1.3
A14: 09 | B14: 食料品製造業 | C14: 1846 | D14: 10.073349 | E14: 27.53115 | F14: 824 | G14: 0
A15: 10 | B15: 飲料・たばこ・飼料製造業 | C15: 373 | D15: 7.5663271 | E15: 14.616155 | F15: 140 | G15: 0
A16: 11 | B16: 繊維工業 | C16: 324 | D16: 14.259167 | E16: 17.673004 | F16: 107 | G16: 0
A17: 12 | B17: 木材・木製品製造業（家具を除く） | C17: 22 | D17: 13.014091 | E17: 16.088592 | F17: 63.3 | G17: 0.43
A18: 13 | B18: 家具・装備品製造業 | C18: 19 | D18: 5.0026316 | E18: 5.224738 | F18: 19 | G18: 0.6
A19: 14 | B19: パルプ・紙・紙加工品製造業 | C19: 206 | D19: 20.437282 | E19: 21.290078 | F19: 118 | G19: 0
A20: 15 | B20: 印刷・同関連業 | C20: 54 | D20: 9.672963 | E20: 12.945881 | F20: 70 | G20: 0.2
A21: 16 | B21: 化学工業 | C21: 661 | D21: 6.3897579 | E21: 14.300459 | F21: 210 | G21: 0
A22: 17 | B22: 石油製品・石炭製品製造業 | C22: 19 | D22: 4.0526316 | E22: 5.0366841 | F22: 20.3 | G22: 0
A23: 18 | B23: プラスチック製品製造業（別掲を除く） | C23: 76 | D23: 5.4467763 | E23: 8.7157676 | F23: 51 | G23: 0
A24: 19 | B24: ゴム製品製造業 | C24: 94 | D24: 5.287234 | E24: 8.5527178 | F24: 77 | G24: 0
A25: 20 | B25: なめし革・同製品・毛皮製造業 | C25: 9 | D25: 13.155556 | E25: 16.306679 | F25: 46.4 | G25: 0
... A41: 36 | B41: 水道業 | C41: 2423 | D41: 3.4428007 | E41: 6.2226694 | F41: 225 | G41: 0
A42: 37 | B42: 通信業 | C42: 1 | D42: 2.1 | E42: － | F42: 2.1 | G42: 2.1
A43: 38 | B43: 放送業 | C43: 0 | D43: － | E43: － | F43: － | G43: －
A44: 39 | B44: 情報サービス業 | C44: 5 | D44: 1.896 | E44: 0.80961719 | F44: 2.8 | G44: 0.76
A45: 40 | B45: インターネット附随サービス業 | C45: 0 | D45: － | E45: － | F45: － | G45: －
A46: 41 | B46: 映像・音声・文字情報制作業 | C46: 4 | D46: 5.25 | E46: 4.1 | F46: 8.8 | G46: 0
A47: 42 | B47: 鉄道業 | C47: 43 | D47: 8.2388372 | E47: 15.676584 | F47: 95 | G47: 0.8
A48: 43 | B48: 道路旅客運送業 | C48: 4 | D48: 7.925 | E48: 9.4097024 | F48: 21 | G48: 0
A49: 44 | B49: 道路貨物運送業 | C49: 9 | D49: 5.5 | E49: 3.0947536 | F49: 10.1 | G49: 2
A50: 45 | B50: 水運業 | C50: 1 | D50: 5.9 | E50: － | F50: 5.9 | G50: 5.9
A51: 46 | B51: 航空運輸業 | C51: 2 | D51: 1.55 | E51: 1.6263456 | F51: 2.7 | G51: 0.4
A52: 47 | B52: 倉庫業 | C52: 10 | D52: 3.03 | E52: 1.7256561 | F52: 5.6 | G52: 1
A53: 48 | B53: 運輸に附帯するサービス業 | C53: 115 | D53: 4.6101739 | E53: 7.6452788 | F53: 72 | G53: 0.5
A54: 49 | B54: 郵便業（信書便事業を含む） | C54: 1 | D54: 3.2 | E54: － | F54: 3.2 | G54: 3.2
A55: 50 | B55: 各種商品卸売業 | C55: 14 | D55: 2.8964286 | E55: 3.0251118 | F55: 11.8 | G55: 0.3
A56: 51 | B56: 繊維・衣服等卸売業 | C56: 3 | D56: 1 | E56: 0.5 | F56: 1.5 | G56: 0.5
A57: 52 | B57: 飲食料品卸売業 | C57: 29 | D57: 13.010345 | E57: 27.393904 | F57: 130 | G57: 0.6
A58: 53 | B58: 建築材料，鉱物・金属材料等卸売業 | C58: 5 | D58: 13.24 | E58: 15.790123 | F58: 41 | G58: 3.2
A59: 54 | B59: 機械器具卸売業 | C59: 8 | D59: 9.275 | E59: 10.82982 | F59: 30 | G59: 0.7
A60: 55 | B60: その他の卸売業 | C60: 14 | D60: 15.835714 | E60: 16.396416 | F60: 59 | G60: 1.7
A61: 56 | B61: 各種商品小売業 | C61: 372 | D61: 6.1996774 | E61: 7.3052482 | F61: 65.5 | G61: 0
A62: 57 | B62: 織物・衣服・身の回り品小売業 | C62: 5 | D62: 7.4 | E62: 1.286468 | F62: 9.4 | G62: 6.5
A63: 58 | B63: 飲食料品小売業 | C63: 35 | D63: 7.5525714 | E63: 7.934993 | F63: 39 | G63: 0.5
A64: 59 | B64: 機械器具小売業 | C64: 4 | D64: 5.7625 | E64: 6.9276469 | F64: 16 | G64: 1.25
A65: 60 | B65: その他の小売業 | C65: 25 | D65: 6.2924 | E65: 4.5820422 | F65: 17 | G65: 0.7
A66: 61 | B66: 無店舗小売業 | C66: 1 | D66: 0.7 | E66: － | F66: 0.7 | G66: 0.7
A67: 62 | B67: 銀行業 | C67: 1 | D67: 3.2 | E67: － | F67: 3.2 | G67: 3.2
A68: 63 | B68: 協同組織金融業 | C68: 2 | D68: 6.175 | E68: 3.0759145 | F68: 8.35 | G68: 4
A69: 64 | B69: 貸金業，クレジットカード業等非預金信用機関 | C69: 1 | D69: 29 | E69: － | F69: 29 | G69: 29
A70: 65 | B70: 金融商品取引業，商品先物取引業 | C70: 0 | D70: － | E70: － | F70: － | G70: －
A71: 66 | B71: 補助的金融業等 | C71: 0 | D71: － | E71: － | F71: － | G71: －
A72: 67 | B72: 保険業（保険媒介代理業，保険サービス業を含む） | C72: 0 | D72: － | E72: － | F72: － | G72: －
A73: 68 | B73: 不動産取引業 | C73: 9 | D73: 6.2444444 | E73: 5.9787355 | F73: 20 | G73: 1.3
A74: 69 | B74: 不動産賃貸業・管理業 | C74: 116 | D74: 7.5053448 | E74: 11.726676 | F74: 83 | G74: 0
A75: 70 | B75: 物品賃貸業 | C75: 3 | D75: 4.64 | E75: 6.3046649 | F75: 11.92 | G75: 1
A76: 71 | B76: 学術・開発研究機関 | C76: 258 | D76: 12.537205 | E76: 69.337507 | F76: 1039.5 | G76: 0
A77: 72 | B77: 専門サービス業（他に分類されないもの） | C77: 19 | D77: 4.9852632 | E77: 6.8049789 | F77: 30 | G77: 0
A78: 73 | B78: 広告業 | C78: 3 | D78: 3.1333333 | E78: 1.9295941 | F78: 5.3 | G78: 1.6
A79: 74 | B79: 技術サービス業（他に分類されないもの） | C79: 121 | D79: 14.063636 | E79: 25.436414 | F79: 200 | G79: 0
A80: 75 | B80: 宿泊業 | C80: 1265 | D80: 6.2612727 | E80: 12.104104 | F80: 220 | G80: 0
A81: 76 | B81: 飲食店 | C81: 172 | D81: 5.255843 | E81: 5.1778775 | F81: 27.4 | G81: 0.3
A82: 77 | B82: 持ち帰り・配達飲食サービス業 | C82: 173 | D82: 4.937341 | E82: 9.8308229 | F82: 106.825 | G82: 0
A83: 78 | B83: 洗濯・理容・美容・浴場業 | C83: 382 | D83: 12.448916 | E83: 44.594335 | F83: 500 | G83: 0
A84: 79 | B84: その他の生活関連サービス業 | C84: 19 | D84: 3.9763158 | E84: 3.7483466 | F84: 15.3 | G84: 0.5
... A90: 85 | B90: 社会保険・社会福祉・介護事業 | C90: 236 | D90: 5.332822 | E90: 6.6770881 | F90: 68 | G90: 0
A91: 86 | B91: 郵便局 | C91: 1 | D91: 2.8 | E91: － | F91: 2.8 | G91: 2.8
A92: 87 | B92: 協同組合（他に分類されないもの） | C92: 57 | D92: 8.1417544 | E92: 8.6194566 | F92: 50 | G92: 0.8
A93: 88 | B93: 廃棄物処理業 | C93: 4488 | D93: 4.7711655 | E93: 4.8962785 | F93: 74.4 | G93: 0
A94: 89 | B94: 自動車整備業 | C94: 5 | D94: 91.9 | E94: 178.97667 | F94: 411 | G94: 1.8
A95: 90 | B95: 機械等修理業（別掲を除く） | C95: 1 | D95: 1 | E95: － | F95: 1 | G95: 1
A96: 91 | B96: 職業紹介・労働者派遣業 | C96: 1 | D96: 2.2 | E96: － | F96: 2.2 | G96: 2.2
A97: 92 | B97: その他の事業サービス業 | C97: 23 | D97: 6.0143478 | E97: 10.087868 | F97: 50 | G97: 0.5
A98: 93 | B98: 政治・経済・文化団体 | C98: 8 | D98: 11.155 | E98: 10.711845 | F98: 26.8 | G98: 0.5
A99: 94 | B99: 宗教 | C99: 26 | D99: 5.0719231 | E99: 4.7508231 | F99: 20 | G99: 0.74
A100: 95 | B100: その他のサービス業 | C100: 161 | D100: 7.2690683 | E100: 9.3882105 | F100: 70 | G100: 0
A101: 96 | B101: 外国公務 | C101: 4 | D101: 5.325 | E101: 1.4174508 | F101: 7 | G101: 3.6
A102: 97 | B102: 国家公務 | C102: 78 | D102: 4.6280128 | E102: 6.9392079 | F102: 50 | G102: 0
A103: 98 | B103: 地方公務 | C103: 272 | D103: 6.141636 | E103: 9.3058587 | F103: 83 | G103: 0
A104: 99 | B104: 分類不能の産業 | C104: 1618 | D104: 6.1605655 | E104: 8.4929765 | F104: 171 | G104: 0
A105: - | B105: 産業分類不明 | C105: 22 | D105: 8.3136364 | E105: 10.405278 | F105: 42 | G105: 0.8
B106: 合計 | C106: 22052 | D106: 6.6713619 | E106: 17.665378 | F106: 1039.5 | G106: 0

Sheet 表3.4.1.1(4)
A3: 表3.4.1.1(4) 産業分類別の生活環境項目濃度の平均値、標準偏差、最大値、最小値
F4: COD | G4: 単位：㎎/ℓ
A5: 産業中分類 | C5: 事業場数 | D5: 平均値 | E5: 標準偏差 | F5: 最大値 | G5: 最小値
A6: 01 | B6: 農業 | C6: 72 | D6: 69.190417 | E6: 52.399725 | F6: 216.8 | G6: 0
A7: 02 | B7: 林業 | C7: 1 | D7: 4.4 | E7: － | F7: 4.4 | G7: 4.4
A8: 03 | B8: 漁業（水産養殖業を除く） | C8: 2 | D8: 16 | E8: 19.79899 | F8: 30 | G8: 2
A9: 04 | B9: 水産養殖業 | C9: 4 | D9: 2.35 | E9: 1.4910846 | F9: 4.5 | G9: 1.1
A10: 05 | B10: 鉱業，採石業，砂利採取業 | C10: 39 | D10: 7.6715385 | E10: 14.899553 | F10: 68.7 | G10: 0
A11: 06 | B11: 総合工事業 | C11: 36 | D11: 3.9897222 | E11: 4.4333125 | F11: 20.73 | G11: 0
A12: 07 | B12: 職別工事業(設備工事業を除く) | C12: 1 | D12: 9 | E12: － | F12: 9 | G12: 9
A13: 08 | B13: 設備工事業 | C13: 2 | D13: 2.85 | E13: 1.2020815 | F13: 3.7 | G13: 2
A14: 09 | B14: 食料品製造業 | C14: 1455 | D14: 16.985603 | E14: 55.131015 | F14: 2025.9 | G14: 0
A15: 10 | B15: 飲料・たばこ・飼料製造業 | C15: 282 | D15: 12.990816 | E15: 14.173561 | F15: 92 | G15: 0
A16: 11 | B16: 繊維工業 | C16: 283 | D16: 29.358799 | E16: 33.272456 | F16: 285 | G16: 0.1
A17: 12 | B17: 木材・木製品製造業（家具を除く） | C17: 19 | D17: 16.443684 | E17: 14.299181 | F17: 47.2 | G17: 1.3
A18: 13 | B18: 家具・装備品製造業 | C18: 19 | D18: 5.7842105 | E18: 4.2236968 | F18: 15 | G18: 0.5
A19: 14 | B19: パルプ・紙・紙加工品製造業 | C19: 239 | D19: 33.182218 | E19: 23.392455 | F19: 117 | G19: 0.3
A20: 15 | B20: 印刷・同関連業 | C20: 45 | D20: 14.589111 | E20: 15.728242 | F20: 80 | G20: 0.7
A21: 16 | B21: 化学工業 | C21: 812 | D21: 10.097244 | E21: 25.505933 | F21: 420 | G21: 0
A22: 17 | B22: 石油製品・石炭製品製造業 | C22: 51 | D22: 5.4709804 | E22: 3.519853 | F22: 19 | G22: 1.06
A23: 18 | B23: プラスチック製品製造業（別掲を除く） | C23: 72 | D23: 6.2810278 | E23: 6.4597765 | F23: 32 | G23: 0.3
A24: 19 | B24: ゴム製品製造業 | C24: 73 | D24: 6.817274 | E24: 8.1450447 | F24: 58.5 | G24: 0
... A41: 36 | B41: 水道業 | C41: 2161 | D41: 8.4128218 | E41: 5.815218 | F41: 157 | G41: 0
A42: 37 | B42: 通信業 | C42: 1 | D42: 0 | E42: － | F42: 0 | G42: 0
A43: 38 | B43: 放送業 | C43: 0 | D43: － | E43: － | F43: － | G43: －
A44: 39 | B44: 情報サービス業 | C44: 3 | D44: 6.06 | E44: 3.266619 | F44: 8.2 | G44: 2.3
A45: 40 | B45: インターネット附随サービス業 | C45: 0 | D45: － | E45: － | F45: － | G45: －
A46: 41 | B46: 映像・音声・文字情報制作業 | C46: 3 | D46: 8.8333333 | E46: 7.8475049 | F46: 15 | G46: 0
A47: 42 | B47: 鉄道業 | C47: 32 | D47: 8.4953125 | E47: 10.31348 | F47: 61 | G47: 1.7
A48: 43 | B48: 道路旅客運送業 | C48: 2 | D48: 6.5 | E48: 2.6870058 | F48: 8.4 | G48: 4.6
A49: 44 | B49: 道路貨物運送業 | C49: 11 | D49: 14.805455 | E49: 7.8411943 | F49: 30 | G49: 5.6
A50: 45 | B50: 水運業 | C50: 1 | D50: 8.8 | E50: － | F50: 8.8 | G50: 8.8
A51: 46 | B51: 航空運輸業 | C51: 1 | D51: 4.9 | E51: － | F51: 4.9 | G51: 4.9
A52: 47 | B52: 倉庫業 | C52: 13 | D52: 7.5230769 | E52: 3.8479765 | F52: 14.2 | G52: 2.4
A53: 48 | B53: 運輸に附帯するサービス業 | C53: 94 | D53: 10.699255 | E53: 5.5357882 | F53: 33.4 | G53: 3.1
A54: 49 | B54: 郵便業（信書便事業を含む） | C54: 0 | D54: － | E54: － | F54: － | G54: －
A55: 50 | B55: 各種商品卸売業 | C55: 12 | D55: 7.0258333 | E55: 3.001392 | F55: 12.91 | G55: 1.7
A56: 51 | B56: 繊維・衣服等卸売業 | C56: 2 | D56: 3.8 | E56: 3.1112698 | F56: 6 | G56: 1.6
A57: 52 | B57: 飲食料品卸売業 | C57: 27 | D57: 8.1740741 | E57: 5.5756057 | F57: 21 | G57: 1
A58: 53 | B58: 建築材料，鉱物・金属材料等卸売業 | C58: 5 | D58: 6.5 | E58: 5.3272882 | F58: 14.4 | G58: 2
A59: 54 | B59: 機械器具卸売業 | C59: 7 | D59: 10.857143 | E59: 7.3846366 | F59: 23 | G59: 2.9
A60: 55 | B60: その他の卸売業 | C60: 8 | D60: 24.4375 | E60: 20.733061 | F60: 51 | G60: 0.9
A61: 56 | B61: 各種商品小売業 | C61: 324 | D61: 12.154136 | E61: 8.3889416 | F61: 51 | G61: 0
A62: 57 | B62: 織物・衣服・身の回り品小売業 | C62: 4 | D62: 11.85 | E62: 1.8138357 | F62: 13.6 | G62: 9.6
A63: 58 | B63: 飲食料品小売業 | C63: 26 | D63: 12.768077 | E63: 7.6582792 | F63: 32.5 | G63: 4.11
A64: 59 | B64: 機械器具小売業 | C64: 2 | D64: 10.835 | E64: 5.8901995 | F64: 15 | G64: 6.67
A65: 60 | B65: その他の小売業 | C65: 20 | D65: 13.24935 | E65: 9.7540395 | F65: 40 | G65: 1.5
A66: 61 | B66: 無店舗小売業 | C66: 1 | D66: 33.1 | E66: － | F66: 33.1 | G66: 33.1
A67: 62 | B67: 銀行業 | C67: 0 | D67: － | E67: － | F67: － | G67: －
A68: 63 | B68: 協同組織金融業 | C68: 2 | D68: 34.85 | E68: 32.31478 | F68: 57.7 | G68: 12
A69: 64 | B69: 貸金業，クレジットカード業等非預金信用機関 | C69: 0 | D69: － | E69: － | F69: － | G69: －
A70: 65 | B70: 金融商品取引業，商品先物取引業 | C70: 0 | D70: － | E70: － | F70: － | G70: －
A71: 66 | B71: 補助的金融業等 | C71: 0 | D71: － | E71: － | F71: － | G71: －
A72: 67 | B72: 保険業（保険媒介代理業，保険サービス業を含む） | C72: 0 | D72: － | E72: － | F72: － | G72: －
A73: 68 | B73: 不動産取引業 | C73: 5 | D73: 16.4 | E73: 9.1079635 | F73: 28 | G73: 5.1
A74: 69 | B74: 不動産賃貸業・管理業 | C74: 70 | D74: 12.786429 | E74: 10.534031 | F74: 50 | G74: 0
A75: 70 | B75: 物品賃貸業 | C75: 2 | D75: 6.2 | E75: 1.8384776 | F75: 7.5 | G75: 4.9
A76: 71 | B76: 学術・開発研究機関 | C76: 223 | D76: 8.8609776 | E76: 22.234537 | F76: 276 | G76: 0
A77: 72 | B77: 専門サービス業（他に分類されないもの） | C77: 14 | D77: 9.5785714 | E77: 8.7570928 | F77: 32 | G77: 0
A78: 73 | B78: 広告業 | C78: 2 | D78: 10.95 | E78: 4.17193 | F78: 13.9 | G78: 8
A79: 74 | B79: 技術サービス業（他に分類されないもの） | C79: 109 | D79: 11.099083 | E79: 15.895402 | F79: 120 | G79: 0
A80: 75 | B80: 宿泊業 | C80: 813 | D80: 8.7064834 | E80: 9.2783684 | F80: 170 | G80: 0
A81: 76 | B81: 飲食店 | C81: 129 | D81: 11.517465 | E81: 8.4464298 | F81: 44.2 | G81: 0
A82: 77 | B82: 持ち帰り・配達飲食サービス業 | C82: 129 | D82: 9.9735659 | E82: 6.7965447 | F82: 39.8 | G82: 2.9
A83: 78 | B83: 洗濯・理容・美容・浴場業 | C83: 279 | D83: 18.980824 | E83: 55.559806 | F83: 597 | G83: 0
A84: 79 | B84: その他の生活関連サービス業 | C84: 16 | D84: 8.5 | E84: 5.7074221 | F84: 24 | G84: 2.7
... A90: 85 | B90: 社会保険・社会福祉・介護事業 | C90: 212 | D90: 9.8476557 | E90: 5.929262 | F90: 36 | G90: 0
A91: 86 | B91: 郵便局 | C91: 1 | D91: 5.6 | E91: － | F91: 5.6 | G91: 5.6
A92: 87 | B92: 協同組合（他に分類されないもの） | C92: 34 | D92: 11.402647 | E92: 6.9090495 | F92: 30 | G92: 2.7
A93: 88 | B93: 廃棄物処理業 | C93: 3253 | D93: 9.8304547 | E93: 7.1234861 | F93: 155 | G93: 0
A94: 89 | B94: 自動車整備業 | C94: 2 | D94: 5 | E94: 2.4041631 | F94: 6.7 | G94: 3.3
A95: 90 | B95: 機械等修理業（別掲を除く） | C95: 1 | D95: 7.4 | E95: － | F95: 7.4 | G95: 7.4
A96: 91 | B96: 職業紹介・労働者派遣業 | C96: 1 | D96: 4.7 | E96: － | F96: 4.7 | G96: 4.7
A97: 92 | B97: その他の事業サービス業 | C97: 22 | D97: 10.506818 | E97: 17.924423 | F97: 88 | G97: 1
A98: 93 | B98: 政治・経済・文化団体 | C98: 5 | D98: 8.984 | E98: 6.564273 | F98: 18.5 | G98: 1.5
A99: 94 | B99: 宗教 | C99: 20 | D99: 9.019 | E99: 6.4781697 | F99: 28 | G99: 0
A100: 95 | B100: その他のサービス業 | C100: 115 | D100: 11.318739 | E100: 7.8489388 | F100: 39 | G100: 1.2
A101: 96 | B101: 外国公務 | C101: 3 | D101: 16.033333 | E101: 9.8337853 | F101: 27 | G101: 8
A102: 97 | B102: 国家公務 | C102: 57 | D102: 7.952193 | E102: 4.8102236 | F102: 27 | G102: 0
A103: 98 | B103: 地方公務 | C103: 204 | D103: 9.847549 | E103: 5.977306 | F103: 38.33 | G103: 0
A104: 99 | B104: 分類不能の産業 | C104: 1514 | D104: 11.227997 | E104: 8.5784565 | F104: 120 | G104: 0
A105: - | B105: 産業分類不明 | C105: 14 | D105: 22.492857 | E105: 28.195757 | F105: 99 | G105: 4.6
B106: 合計 | C106: 17995 | D106: 11.188971 | E106: 21.648604 | F106: 2025.9 | G106: 0

Sheet 表3.4.1.1(5)
A3: 表3.4.1.1(5) 産業分類別の生活環境項目濃度の平均値、標準偏差、最大値、最小値
F4: SS | G4: 単位：㎎/ℓ
A5: 産業中分類 | C5: 事業場数 | D5: 平均値 | E5: 標準偏差 | F5: 最大値 | G5: 最小値
A6: 01 | B6: 農業 | C6: 141 | D6: 31.175745 | E6: 38.127531 | F6: 185 | G6: 0
A7: 02 | B7: 林業 | C7: 2 | D7: 7.5 | E7: 9.1923882 | F7: 14 | G7: 1
A8: 03 | B8: 漁業（水産養殖業を除く） | C8: 3 | D8: 36.666667 | E8: 29.399546 | F8: 61 | G8: 4
A9: 04 | B9: 水産養殖業 | C9: 5 | D9: 2.778 | E9: 2.3600678 | F9: 6 | G9: 0
A10: 05 | B10: 鉱業，採石業，砂利採取業 | C10: 105 | D10: 19.862571 | E10: 25.086398 | F10: 154 | G10: 0
A11: 06 | B11: 総合工事業 | C11: 60 | D11: 10.221167 | E11: 11.674682 | F11: 60 | G11: 0
A12: 07 | B12: 職別工事業(設備工事業を除く) | C12: 3 | D12: 13.333333 | E12: 14.468356 | F12: 30 | G12: 4
A13: 08 | B13: 設備工事業 | C13: 2 | D13: 13.25 | E13: 13.788582 | F13: 23 | G13: 3.5
A14: 09 | B14: 食料品製造業 | C14: 1934 | D14: 13.660807 | E14: 38.127125 | F14: 1358.5 | G14: 0
A15: 10 | B15: 飲料・たばこ・飼料製造業 | C15: 381 | D15: 8.4095801 | E15: 10.712061 | F15: 100 | G15: 0
A16: 11 | B16: 繊維工業 | C16: 333 | D16: 12.792027 | E16: 15.158086 | F16: 100 | G16: 0
A17: 12 | B17: 木材・木製品製造業（家具を除く） | C17: 25 | D17: 8.1616 | E17: 8.9807682 | F17: 37.3 | G17: 0.1
... A41: 36 | B41: 水道業 | C41: 2438 | D41: 3.8333101 | E41: 8.1148128 | F41: 260 | G41: 0
A42: 37 | B42: 通信業 | C42: 1 | D42: 2.4 | E42: － | F42: 2.4 | G42: 2.4
A43: 38 | B43: 放送業 | C43: 0 | D43: － | E43: － | F43: － | G43: －
A44: 39 | B44: 情報サービス業 | C44: 5 | D44: 3.264 | E44: 3.1274159 | F44: 8.67 | G44: 1.1
A45: 40 | B45: インターネット附随サービス業 | C45: 0 | D45: － | E45: － | F45: － | G45: －
A46: 41 | B46: 映像・音声・文字情報制作業 | C46: 4 | D46: 10.225 | E46: 11.504311 | F46: 27.1 | G46: 2.8
A47: 42 | B47: 鉄道業 | C47: 40 | D47: 6.75325 | E47: 7.1702181 | F47: 38 | G47: 0
A48: 43 | B48: 道路旅客運送業 | C48: 4 | D48: 5.425 | E48: 5.0321467 | F48: 12 | G48: 0
A49: 44 | B49: 道路貨物運送業 | C49: 9 | D49: 6.7888889 | E49: 5.9225089 | F49: 21 | G49: 1
A50: 45 | B50: 水運業 | C50: 1 | D50: 1 | E50: － | F50: 1 | G50: 1
A51: 46 | B51: 航空運輸業 | C51: 2 | D51: 3.15 | E51: 2.6162951 | F51: 5 | G51: 1.3
A52: 47 | B52: 倉庫業 | C52: 12 | D52: 2.0525 | E52: 2.2301208 | F52: 7.9 | G52: 0.03
A53: 48 | B53: 運輸に附帯するサービス業 | C53: 110 | D53: 4.3461818 | E53: 5.2891674 | F53: 36.3 | G53: 0
A54: 49 | B54: 郵便業（信書便事業を含む） | C54: 1 | D54: 7.9 | E54: － | F54: 7.9 | G54: 7.9
A55: 50 | B55: 各種商品卸売業 | C55: 14 | D55: 4.7792857 | E55: 2.3146273 | F55: 8.58 | G55: 1.6
A56: 51 | B56: 繊維・衣服等卸売業 | C56: 3 | D56: 2.9 | E56: 1.8734994 | F56: 5 | G56: 1.4
A57: 52 | B57: 飲食料品卸売業 | C57: 28 | D57: 8.5517857 | E57: 11.780237 | F57: 49 | G57: 1
A58: 53 | B58: 建築材料，鉱物・金属材料等卸売業 | C58: 4 | D58: 7.8 | E58: 4.3297421 | F58: 12 | G58: 3.4
A59: 54 | B59: 機械器具卸売業 | C59: 7 | D59: 5.0285714 | E59: 5.2133528 | F59: 14 | G59: 0
A60: 55 | B60: その他の卸売業 | C60: 13 | D60: 14.5 | E60: 13.333417 | F60: 39 | G60: 1
A61: 56 | B61: 各種商品小売業 | C61: 345 | D61: 8.1058493 | E61: 10.166013 | F61: 78 | G61: 0
A62: 57 | B62: 織物・衣服・身の回り品小売業 | C62: 5 | D62: 5.64 | E62: 4.0414106 | F62: 12 | G62: 1.9
A63: 58 | B63: 飲食料品小売業 | C63: 32 | D63: 7.9515625 | E63: 6.9644332 | F63: 35 | G63: 1
A64: 59 | B64: 機械器具小売業 | C64: 4 | D64: 3.4175 | E64: 2.8735388 | F64: 6.67 | G64: 1
A65: 60 | B65: その他の小売業 | C65: 23 | D65: 8.0769565 | E65: 6.4605189 | F65: 27 | G65: 0
A66: 61 | B66: 無店舗小売業 | C66: 1 | D66: 19 | E66: － | F66: 19 | G66: 19
A67: 62 | B67: 銀行業 | C67: 0 | D67: － | E67: － | F67: － | G67: －
A68: 63 | B68: 協同組織金融業 | C68: 2 | D68: 3.25 | E68: 3.8890873 | F68: 6 | G68: 0.5
A69: 64 | B69: 貸金業，クレジットカード業等非預金信用機関 | C69: 1 | D69: 14 | E69: － | F69: 14 | G69: 14
A70: 65 | B70: 金融商品取引業，商品先物取引業 | C70: 0 | D70: － | E70: － | F70: － | G70: －
A71: 66 | B71: 補助的金融業等 | C71: 0 | D71: － | E71: － | F71: － | G71: －
A72: 67 | B72: 保険業（保険媒介代理業，保険サービス業を含む） | C72: 0 | D72: － | E72: － | F72: － | G72: －
A73: 68 | B73: 不動産取引業 | C73: 8 | D73: 5.9 | E73: 4.4925335 | F73: 15.5 | G73: 1
A74: 69 | B74: 不動産賃貸業・管理業 | C74: 111 | D74: 6.9655856 | E74: 8.5911787 | F74: 50 | G74: 0
A75: 70 | B75: 物品賃貸業 | C75: 2 | D75: 4.5 | E75: 4.9497475 | F75: 8 | G75: 1
A76: 71 | B76: 学術・開発研究機関 | C76: 262 | D76: 6.6485115 | E76: 11.061399 | F76: 64.1 | G76: 0
A77: 72 | B77: 専門サービス業（他に分類されないもの） | C77: 20 | D77: 5.625 | E77: 4.4550238 | F77: 15.2 | G77: 0
A78: 73 | B78: 広告業 | C78: 3 | D78: 6.5666667 | E78: 5.7239264 | F78: 10.5 | G78: 0
A79: 74 | B79: 技術サービス業（他に分類されないもの） | C79: 122 | D79: 8.1254098 | E79: 13.458922 | F79: 83 | G79: 0
A80: 75 | B80: 宿泊業 | C80: 1117 | D80: 6.9777648 | E80: 9.7214569 | F80: 132 | G80: 0
A81: 76 | B81: 飲食店 | C81: 159 | D81: 6.5790377 | E81: 7.7563375 | F81: 70 | G81: 0
A82: 77 | B82: 持ち帰り・配達飲食サービス業 | C82: 163 | D82: 9.2325767 | E82: 11.062999 | F82: 116.25 | G82: 0
A83: 78 | B83: 洗濯・理容・美容・浴場業 | C83: 358 | D83: 10.118603 | E83: 19.072703 | F83: 225.5 | G83: 0
A84: 79 | B84: その他の生活関連サービス業 | C84: 19 | D84: 5.4947368 | E84: 5.6966339 | F84: 26 | G84: 1
... A90: 85 | B90: 社会保険・社会福祉・介護事業 | C90: 214 | D90: 7.2018224 | E90: 7.1833764 | F90: 50 | G90: 0
A91: 86 | B91: 郵便局 | C91: 1 | D91: 0 | E91: － | F91: 0 | G91: 0
A92: 87 | B92: 協同組合（他に分類されないもの） | C92: 56 | D92: 9.4758929 | E92: 8.6285361 | F92: 39 | G92: 0
A93: 88 | B93: 廃棄物処理業 | C93: 4478 | D93: 4.0211938 | E93: 4.8119263 | F93: 105.2 | G93: 0
A94: 89 | B94: 自動車整備業 | C94: 5 | D94: 11.26 | E94: 13.361437 | F94: 26.5 | G94: 0
A95: 90 | B95: 機械等修理業（別掲を除く） | C95: 1 | D95: 1.1 | E95: － | F95: 1.1 | G95: 1.1
A96: 91 | B96: 職業紹介・労働者派遣業 | C96: 1 | D96: 2.4 | E96: － | F96: 2.4 | G96: 2.4
A97: 92 | B97: その他の事業サービス業 | C97: 24 | D97: 4.4870833 | E97: 4.8068117 | F97: 17 | G97: 0
A98: 93 | B98: 政治・経済・文化団体 | C98: 7 | D98: 8.8128571 | E98: 6.806528 | F98: 20 | G98: 2.5
A99: 94 | B99: 宗教 | C99: 25 | D99: 3.968 | E99: 3.5942048 | F99: 15 | G99: 0.55
A100: 95 | B100: その他のサービス業 | C100: 156 | D100: 6.9312821 | E100: 7.2397694 | F100: 53 | G100: 0
A101: 96 | B101: 外国公務 | C101: 3 | D101: 3.0666667 | E101: 1.0016653 | F101: 4.1 | G101: 2.1
A102: 97 | B102: 国家公務 | C102: 82 | D102: 7.5010976 | E102: 16.465726 | F102: 137 | G102: 0
A103: 98 | B103: 地方公務 | C103: 261 | D103: 4.6964406 | E103: 5.3936014 | F103: 47 | G103: 0
A104: 99 | B104: 分類不能の産業 | C104: 1512 | D104: 6.9910891 | E104: 8.7694845 | F104: 175.2 | G104: 0
A105: - | B105: 産業分類不明 | C105: 23 | D105: 10.291304 | E105: 11.563694 | F105: 46 | G105: 0.5
B106: 合計 | C106: 22212 | D106: 6.8354478 | E106: 15.127982 | F106: 1358.5 | G106: 0

Sheet 表3.4.1.1(6)
A3: 表3.4.1.1(6) 産業分類別の生活環境項目濃度の平均値、標準偏差、最大値、最小値
F4: ノルマルヘキサン抽出物質(鉱油類) | G4: 単位：㎎/ℓ
A5: 産業中分類 | C5: 事業場数 | D5: 平均値 | E5: 標準偏差 | F5: 最大値 | G5: 最小値
A6: 01 | B6: 農業 | C6: 6 | D6: 0.25 | E6: 0.41833001 | F6: 1 | G6: 0
A7: 02 | B7: 林業 | C7: 1 | D7: 2 | E7: － | F7: 2 | G7: 2
A8: 03 | B8: 漁業（水産養殖業を除く） | C8: 1 | D8: 1 | E8: － | F8: 1 | G8: 1
A9: 04 | B9: 水産養殖業 | C9: 0 | D9: － | E9: － | F9: － | G9: －
A10: 05 | B10: 鉱業，採石業，砂利採取業 | C10: 11 | D10: 0.33636364 | E10: 0.3931227 | F10: 1 | G10: 0
A11: 06 | B11: 総合工事業 | C11: 25 | D11: 0.664 | E11: 1.0594338 | F11: 5 | G11: 0
A12: 07 | B12: 職別工事業(設備工事業を除く) | C12: 2 | D12: 0.25 | E12: 0.35355339 | F12: 0.5 | G12: 0
A13: 08 | B13: 設備工事業 | C13: 2 | D13: 0.95 | E13: 0.35355339 | F13: 1.2 | G13: 0.7
A14: 09 | B14: 食料品製造業 | C14: 348 | D14: 0.52028736 | E14: 0.99184684 | F14: 10 | G14: 0
A15: 10 | B15: 飲料・たばこ・飼料製造業 | C15: 120 | D15: 0.52525 | E15: 0.93331429 | F15: 5 | G15: 0
A16: 11 | B16: 繊維工業 | C16: 146 | D16: 1.5482192 | E16: 2.7877628 | F16: 22 | G16: 0
A17: 12 | B17: 木材・木製品製造業（家具を除く） | C17: 11 | D17: 1.0090909 | E17: 1.4597634 | F17: 5 | G17: 0
A18: 13 | B18: 家具・装備品製造業 | C18: 15 | D18: 0.47733333 | E18: 0.51931915 | F18: 2 | G18: 0
A19: 14 | B19: パルプ・紙・紙加工品製造業 | C19: 87 | D19: 0.51816092 | E19: 0.90636192 | F19: 5 | G19: 0
A20: 15 | B20: 印刷・同関連業 | C20: 34 | D20: 0.90588235 | E20: 1.4274243 | F20: 5 | G20: 0
A21: 16 | B21: 化学工業 | C21: 570 | D21: 0.37701754 | E21: 0.71962855 | F21: 5 | G21: 0
... A41: 36 | B41: 水道業 | C41: 1540 | D41: 0.21515909 | E41: 0.72119087 | F41: 10.8 | G41: 0
A42: 37 | B42: 通信業 | C42: 1 | D42: 0 | E42: － | F42: 0 | G42: 0
A43: 38 | B43: 放送業 | C43: 0 | D43: － | E43: － | F43: － | G43: －
A44: 39 | B44: 情報サービス業 | C44: 2 | D44: 0.25 | E44: 0.35355339 | F44: 0.5 | G44: 0
A45: 40 | B45: インターネット附随サービス業 | C45: 0 | D45: － | E45: － | F45: － | G45: －
A46: 41 | B46: 映像・音声・文字情報制作業 | C46: 1 | D46: 0.3 | E46: － | F46: 0.3 | G46: 0.3
A47: 42 | B47: 鉄道業 | C47: 23 | D47: 0.85043478 | E47: 0.81106259 | F47: 4 | G47: 0
A48: 43 | B48: 道路旅客運送業 | C48: 2 | D48: 1 | E48: 1.4142136 | F48: 2 | G48: 0
A49: 44 | B49: 道路貨物運送業 | C49: 1 | D49: 0.5 | E49: － | F49: 0.5 | G49: 0.5
A50: 45 | B50: 水運業 | C50: 1 | D50: 1 | E50: － | F50: 1 | G50: 1
A51: 46 | B51: 航空運輸業 | C51: 2 | D51: 1.25 | E51: 1.767767 | F51: 2.5 | G51: 0
A52: 47 | B52: 倉庫業 | C52: 5 | D52: 0.22 | E52: 0.43817805 | F52: 1 | G52: 0
A53: 48 | B53: 運輸に附帯するサービス業 | C53: 25 | D53: 0.528 | E53: 1.0698598 | F53: 5 | G53: 0
A54: 49 | B54: 郵便業（信書便事業を含む） | C54: 1 | D54: 5 | E54: － | F54: 5 | G54: 5
A55: 50 | B55: 各種商品卸売業 | C55: 2 | D55: 0.15 | E55: 0.21213203 | F55: 0.3 | G55: 0
A56: 51 | B56: 繊維・衣服等卸売業 | C56: 0 | D56: － | E56: － | F56: － | G56: －
A57: 52 | B57: 飲食料品卸売業 | C57: 7 | D57: 0.7 | E57: 0.47958315 | F57: 1 | G57: 0
A58: 53 | B58: 建築材料，鉱物・金属材料等卸売業 | C58: 1 | D58: 1 | E58: － | F58: 1 | G58: 1
A59: 54 | B59: 機械器具卸売業 | C59: 5 | D59: 0.66 | E59: 0.32093613 | F59: 1 | G59: 0.3
A60: 55 | B60: その他の卸売業 | C60: 0 | D60: － | E60: － | F60: － | G60: －
A61: 56 | B61: 各種商品小売業 | C61: 28 | D61: 0.57821429 | E61: 0.75170943 | F61: 2.5 | G61: 0
A62: 57 | B62: 織物・衣服・身の回り品小売業 | C62: 0 | D62: － | E62: － | F62: － | G62: －
A63: 58 | B63: 飲食料品小売業 | C63: 5 | D63: 0.8 | E63: 1.0368221 | F63: 2.5 | G63: 0
A64: 59 | B64: 機械器具小売業 | C64: 3 | D64: 1 | E64: 0 | F64: 1 | G64: 1
A65: 60 | B65: その他の小売業 | C65: 3 | D65: 0.9 | E65: 0.85440037 | F65: 1.7 | G65: 0
A66: 61 | B66: 無店舗小売業 | C66: 0 | D66: － | E66: － | F66: － | G66: －
A67: 62 | B67: 銀行業 | C67: 0 | D67: － | E67: － | F67: － | G67: －
A68: 63 | B68: 協同組織金融業 | C68: 0 | D68: － | E68: － | F68: － | G68: －
A69: 64 | B69: 貸金業，クレジットカード業等非預金信用機関 | C69: 0 | D69: － | E69: － | F69: － | G69: －
A70: 65 | B70: 金融商品取引業，商品先物取引業 | C70: 0 | D70: － | E70: － | F70: － | G70: －
A71: 66 | B71: 補助的金融業等 | C71: 0 | D71: － | E71: － | F71: － | G71: －
A72: 67 | B72: 保険業（保険媒介代理業，保険サービス業を含む） | C72: 0 | D72: － | E72: － | F72: － | G72: －
A73: 68 | B73: 不動産取引業 | C73: 1 | D73: 0.5 | E73: － | F73: 0.5 | G73: 0.5
A74: 69 | B74: 不動産賃貸業・管理業 | C74: 5 | D74: 0.4 | E74: 0.89442719 | F74: 2 | G74: 0
A75: 70 | B75: 物品賃貸業 | C75: 1 | D75: 0 | E75: － | F75: 0 | G75: 0
A76: 71 | B76: 学術・開発研究機関 | C76: 133 | D76: 0.7309815 | E76: 2.1478506 | F76: 22.3 | G76: 0
A77: 72 | B77: 専門サービス業（他に分類されないもの） | C77: 5 | D77: 0.48 | E77: 1.0733126 | F77: 2.4 | G77: 0
A78: 73 | B78: 広告業 | C78: 0 | D78: － | E78: － | F78: － | G78: －
A79: 74 | B79: 技術サービス業（他に分類されないもの） | C79: 89 | D79: 0.44606742 | E79: 0.91167381 | F79: 5 | G79: 0
A80: 75 | B80: 宿泊業 | C80: 105 | D80: 1.0790476 | E80: 3.1825088 | F80: 29 | G80: 0
A81: 76 | B81: 飲食店 | C81: 13 | D81: 0.73076923 | E81: 1.4232502 | F81: 5 | G81: 0
A82: 77 | B82: 持ち帰り・配達飲食サービス業 | C82: 32 | D82: 1.940625 | E82: 5.1889995 | F82: 25 | G82: 0
A83: 78 | B83: 洗濯・理容・美容・浴場業 | C83: 131 | D83: 1.4140687 | E83: 2.1066538 | F83: 15.26 | G83: 0
A84: 79 | B84: その他の生活関連サービス業 | C84: 2 | D84: 0.5 | E84: 0.70710678 | F84: 1 | G84: 0
A85: 80 | B85: 娯楽業 | C85: 67 | D85: 0.72240299 | E85: 1.0499277 | F85: 5 | G85: 0
A86: 81 | B86: 学校教育 | C86: 87 | D86: 0.43977011 | E86: 0.81671631 | F86: 5 | G86: 0
A87: 82 | B87: その他の教育，学習支援業 | C87: 17 | D87: 0.85882353 | E87: 2.4202425 | F87: 10 | G87: 0
A88: 83 | B88: 医療業 | C88: 86 | D88: 0.58988372 | E88: 1.0091003 | F88: 5 | G88: 0
A89: 84 | B89: 保健衛生 | C89: 15 | D89: 0.27333333 | E89: 0.5133457 | F89: 1.6 | G89: 0
A90: 85 | B90: 社会保険・社会福祉・介護事業 | C90: 17 | D90: 0.39411765 | E90: 0.65332858 | F90: 2 | G90: 0
A91: 86 | B91: 郵便局 | C91: 0 | D91: － | E91: － | F91: － | G91: －
A92: 87 | B92: 協同組合（他に分類されないもの） | C92: 7 | D92: 0.64285714 | E92: 0.94491118 | F92: 2.5 | G92: 0
A93: 88 | B93: 廃棄物処理業 | C93: 744 | D93: 0.34486559 | E93: 0.71460705 | F93: 5.2 | G93: 0
A94: 89 | B94: 自動車整備業 | C94: 5 | D94: 3.9 | E94: 7.5193085 | F94: 17.3 | G94: 0
A95: 90 | B95: 機械等修理業（別掲を除く） | C95: 1 | D95: 1 | E95: － | F95: 1 | G95: 1
A96: 91 | B96: 職業紹介・労働者派遣業 | C96: 0 | D96: － | E96: － | F96: － | G96: －
A97: 92 | B97: その他の事業サービス業 | C97: 8 | D97: 0.8 | E97: 2.0681254 | F97: 5.9 | G97: 0
A98: 93 | B98: 政治・経済・文化団体 | C98: 0 | D98: － | E98: － | F98: － | G98: －
A99: 94 | B99: 宗教 | C99: 3 | D99: 0.016666667 | E99: 0.028867513 | F99: 0.05 | G99: 0
A100: 95 | B100: その他のサービス業 | C100: 18 | D100: 0.37555556 | E100: 0.78256157 | F100: 3 | G100: 0
A101: 96 | B101: 外国公務 | C101: 1 | D101: 0 | E101: － | F101: 0 | G101: 0
A102: 97 | B102: 国家公務 | C102: 22 | D102: 1.535 | E102: 2.7792783 | F102: 13.27 | G102: 0
A103: 98 | B103: 地方公務 | C103: 42 | D103: 0.46904762 | E103: 0.91691106 | F103: 5 | G103: 0
A104: 99 | B104: 分類不能の産業 | C104: 90 | D104: 0.49533333 | E104: 0.83568205 | F104: 5 | G104: 0
A105: - | B105: 産業分類不明 | C105: 6 | D105: 1.1833333 | E105: 1.9083151 | F105: 5 | G105: 0
B106: 合計 | C106: 7314 | D106: 0.54049228 | E106: 1.3228233 | F106: 41 | G106: 0

Sheet 表3.4.1.1(7)
A3: 表3.4.1.1(7) 産業分類別の生活環境項目濃度の平均値、標準偏差、最大値、最小値
F4: ノルマルヘキサン抽出物質(動植物油脂類) | G4: 単位：㎎/ℓ
A5: 産業中分類 | C5: 事業場数 | D5: 平均値 | E5: 標準偏差 | F5: 最大値 | G5: 最小値
A6: 01 | B6: 農業 | C6: 10 | D6: 0.288 | E6: 0.4137847 | F6: 1 | G6: 0
A7: 02 | B7: 林業 | C7: 1 | D7: 2 | E7: － | F7: 2 | G7: 2
A8: 03 | B8: 漁業（水産養殖業を除く） | C8: 2 | D8: 13.5 | E8: 17.67767 | F8: 26 | G8: 1
A9: 04 | B9: 水産養殖業 | C9: 0 | D9: － | E9: － | F9: － | G9: －
A10: 05 | B10: 鉱業，採石業，砂利採取業 | C10: 6 | D10: 0.33333333 | E10: 0.40824829 | F10: 1 | G10: 0
A11: 06 | B11: 総合工事業 | C11: 20 | D11: 0.375 | E11: 0.48327283 | F11: 1 | G11: 0
A12: 07 | B12: 職別工事業(設備工事業を除く) | C12: 1 | D12: 0 | E12: － | F12: 0 | G12: 0
A13: 08 | B13: 設備工事業 | C13: 0 | D13: － | E13: － | F13: － | G13: －
A14: 09 | B14: 食料品製造業 | C14: 1015 | D14: 1.6719507 | E14: 5.5064787 | F14: 138 | G14: 0
A15: 10 | B15: 飲料・たばこ・飼料製造業 | C15: 130 | D15: 0.81923077 | E15: 1.7446417 | F15: 14 | G15: 0
A16: 11 | B16: 繊維工業 | C16: 103 | D16: 2.0741748 | E16: 2.9580261 | F16: 14 | G16: 0
A17: 12 | B17: 木材・木製品製造業（家具を除く） | C17: 7 | D17: 1.2857143 | E17: 1.6797109 | F17: 5 | G17: 0
A18: 13 | B18: 家具・装備品製造業 | C18: 5 | D18: 0.37 | E18: 0.35637059 | F18: 0.8 | G18: 0
A19: 14 | B19: パルプ・紙・紙加工品製造業 | C19: 62 | D19: 0.61564516 | E19: 1.1595061 | F19: 5 | G19: 0
A20: 15 | B20: 印刷・同関連業 | C20: 16 | D20: 0.54375 | E20: 0.77714756 | F20: 2.5 | G20: 0
A21: 16 | B21: 化学工業 | C21: 260 | D21: 0.37684615 | E21: 0.77921556 | F21: 5 | G21: 0
A22: 17 | B22: 石油製品・石炭製品製造業 | C22: 5 | D22: 0.2 | E22: 0.4472136 | F22: 1 | G22: 0
A23: 18 | B23: プラスチック製品製造業（別掲を除く） | C23: 27 | D23: 0.41925926 | E23: 0.86760912 | F23: 3.75 | G23: 0
A24: 19 | B24: ゴム製品製造業 | C24: 28 | D24: 0.27428571 | E24: 0.377118 | F24: 1 | G24: 0
A25: 20 | B25: なめし革・同製品・毛皮製造業 | C25: 6 | D25: 0.86666667 | E25: 0.64394617 | F25: 1.9 | G25: 0
... A38: 33 | B38: 電気業 | C38: 10 | D38: 0.1 | E38: 0.31622777 | F38: 1 | G38: 0
A39: 34 | B39: ガス業 | C39: 1 | D39: 0.1 | E39: － | F39: 0.1 | G39: 0.1
A40: 35 | B40: 熱供給業 | C40: 1 | D40: 0.8 | E40: － | F40: 0.8 | G40: 0.8
A41: 36 | B41: 水道業 | C41: 1490 | D41: 0.27973154 | E41: 0.85193113 | F41: 18 | G41: 0
A42: 37 | B42: 通信業 | C42: 1 | D42: 0 | E42: － | F42: 0 | G42: 0
A43: 38 | B43: 放送業 | C43: 0 | D43: － | E43: － | F43: － | G43: －
A44: 39 | B44: 情報サービス業 | C44: 2 | D44: 0 | E44: 0 | F44: 0 | G44: 0
A45: 40 | B45: インターネット附随サービス業 | C45: 0 | D45: － | E45: － | F45: － | G45: －
A46: 41 | B46: 映像・音声・文字情報制作業 | C46: 1 | D46: 0 | E46: － | F46: 0 | G46: 0
A47: 42 | B47: 鉄道業 | C47: 13 | D47: 0.34615385 | E47: 0.43515397 | F47: 1 | G47: 0
A48: 43 | B48: 道路旅客運送業 | C48: 2 | D48: 1.05 | E48: 0.070710678 | F48: 1.1 | G48: 1
A49: 44 | B49: 道路貨物運送業 | C49: 4 | D49: 1.375 | E49: 1.3149778 | F49: 2.5 | G49: 0
A50: 45 | B50: 水運業 | C50: 0 | D50: － | E50: － | F50: － | G50: －
A51: 46 | B51: 航空運輸業 | C51: 1 | D51: 0 | E51: － | F51: 0 | G51: 0
A52: 47 | B52: 倉庫業 | C52: 5 | D52: 0.6 | E52: 0.54772256 | F52: 1 | G52: 0
