Workbook

Sheet Sheet1
A1: 第３表 省庁別、俸給表別在職者数 | W1: 常 勤 職 員
B2: 俸給表名 | C2: 行政職 | D2: 行政職 | E2: 専門行政職 | F2: 税務職 | G2: 公安職 | H2: 公安職 | I2: 海事職 | J2: 海事職 | K2: 教育職 | L2: 教育職 | M2: 研究職 | N2: 医療職 | O2: 医療職 | P2: 医療職 | Q2: 福祉職 | R2: 専門 | S2: 指定職 | T2: 特定 | U2: 第一号 | V2: 第二号 | W2: 計
A3: 省 庁 名 | C3: （一） | D3: （二） | G3: （一） | H3: （二） | I3: （一） | J3: （二） | K3: （一） | L3: （二） | N3: （一） | O3: （二） | P3: （三） | R3: スタッフ職 | T3: 任期付職員 | U3: 任期付研究員 | V3: 任期付研究員
C4: 1 | D4: 0 | E4: 0 | F4: 0 | G4: 0 | H4: 0 | I4: 0 | J4: 0 | K4: 0 | L4: 0 | M4: =SUM('[1]1会'!R$28) -> 0 | N4: =SUM('[1]1会'!R$30) -> 0 | O4: =SUM('[1]1会'!R$32) -> 0 | P4: =SUM('[1]1会'!R$34) -> 0 | Q4: =SUM('[1]1会'!R$36) -> 0 | R4: =SUM('[1]1会'!R$38) -> 0 | S4: =SUM('[1]1会'!R$40) -> 0 | T4: =SUM('[1]1会'!R$42) -> 0 | U4: =SUM('[1]1会'!R$44) -> 0 | V4: =SUM('[1]1会'!R$46) -> 0 | W4: =SUM('[1]1会'!R$48) -> 1
A5: 会計検査院 | C5: 1193 | D5: 24 | E5: 0 | F5: 0 | G5: 0 | H5: 0 | I5: 0 | J5: 0 | K5: 0 | L5: 0 | M5: =SUM('[1]1会'!R$29) -> 0 | N5: =SUM('[1]1会'!R$31) -> 0 | O5: =SUM('[1]1会'!R$33) -> 0 | P5: =SUM('[1]1会'!R$35) -> 2 | Q5: =SUM('[1]1会'!R$37) -> 0 | R5: =SUM('[1]1会'!R$39) -> 4 | S5: =SUM('[1]1会'!R$41) -> 21 | T5: =SUM('[1]1会'!R$43) -> 6 | U5: =SUM('[1]1会'!R$45) -> 0 | V5: =SUM('[1]1会'!R$47) -> 0 | W5: =SUM('[1]1会'!R$49) -> 1250
C6: 0 | D6: 0 | E6: 0 | F6: 0 | G6: 0 | H6: 0 | I6: 0 | J6: 0 | K6: 0 | L6: 0 | M6: =SUM('[1]2人'!R$28) -> 0 | N6: =SUM('[1]2人'!R$30) -> 0 | O6: =SUM('[1]2人'!R$32) -> 0 | P6: =SUM('[1]2人'!R$34) -> 0 | Q6: =SUM('[1]2人'!R$36) -> 0 | R6: =SUM('[1]2人'!R$38) -> 0 | S6: =SUM('[1]2人'!R$40) -> 0 | T6: =SUM('[1]2人'!R$42) -> 0 | U6: =SUM('[1]2人'!R$44) -> 0 | V6: =SUM('[1]2人'!R$46) -> 0 | W6: =SUM('[1]2人'!R$48) -> 0
A7: 人事院 | C7: 605 | D7: 27 | E7: 0 | F7: 0 | G7: 0 | H7: 0 | I7: 0 | J7: 0 | K7: 0 | L7: 0 | M7: =SUM('[1]2人'!R$29) -> 0 | N7: =SUM('[1]2人'!R$31) -> 2 | O7: =SUM('[1]2人'!R$33) -> 1 | P7: =SUM('[1]2人'!R$35) -> 1 | Q7: =SUM('[1]2人'!R$37) -> 0 | R7: =SUM('[1]2人'!R$39) -> 1 | S7: =SUM('[1]2人'!R$41) -> 19 | T7: =SUM('[1]2人'!R$43) -> 0 | U7: =SUM('[1]2人'!R$45) -> 0 | V7: =SUM('[1]2人'!R$47) -> 0 | W7: =SUM('[1]2人'!R$49) -> 656
C8: 0 | D8: 0 | E8: 0 | F8: 0 | G8: 0 | H8: 0 | I8: 0 | J8: 0 | K8: 0 | L8: 0 | M8: =SUM('[1]3内'!R$28) -> 0 | N8: =SUM('[1]3内'!R$30) -> 0 | O8: =SUM('[1]3内'!R$32) -> 0 | P8: =SUM('[1]3内'!R$34) -> 0 | Q8: =SUM('[1]3内'!R$36) -> 0 | R8: =SUM('[1]3内'!R$38) -> 0 | S8: =SUM('[1]3内'!R$40) -> 0 | T8: =SUM('[1]3内'!R$42) -> 0 | U8: =SUM('[1]3内'!R$44) -> 0 | V8: =SUM('[1]3内'!R$46) -> 0 | W8: =SUM('[1]3内'!R$47) -> 0
A9: 内閣官房 | C9: 575 | D9: 54 | E9: 0 | F9: 0 | G9: 0 | H9: 0 | I9: 0 | J9: 0 | K9: 0 | L9: 0 | M9: =SUM('[1]3内'!R$29) -> 0 | N9: =SUM('[1]3内'!R$31) -> 0 | O9: =SUM('[1]3内'!R$33) -> 0 | P9: =SUM('[1]3内'!R$35) -> 0 | Q9: =SUM('[1]3内'!R$37) -> 0 | R9: =SUM('[1]3内'!R$39) -> 0 | S9: =SUM('[1]3内'!R$41) -> 21 | T9: =SUM('[1]3内'!R$43) -> 28 | U9: =SUM('[1]3内'!R$45) -> 0 | V9: =SUM('[1]3内'!R$47) -> 0 | W9: =SUM('[1]3内'!R$49) -> 678
C10: 0 | D10: 0 | E10: 0 | F10: 0 | G10: 0 | H10: 0 | I10: 0 | J10: 0 | K10: 0 | L10: 0 | M10: =SUM('[1]4内'!R$28) -> 0 | N10: =SUM('[1]4内'!R$30) -> 0 | O10: =SUM('[1]4内'!R$32) -> 0 | P10: =SUM('[1]4内'!R$34) -> 0 | Q10: =SUM('[1]4内'!R$36) -> 0 | R10: =SUM('[1]4内'!R$38) -> 0 | S10: =SUM('[1]4内'!R$40) -> 0 | T10: =SUM('[1]4内'!R$42) -> 0 | U10: =SUM('[1]4内'!R$44) -> 0 | V10: =SUM('[1]4内'!R$46) -> 0 | W10: =SUM('[1]4内'!R$48) -> 0
A11: 内閣法制局 | C11: 63 | D11: 5 | E11: 0 | F11: 0 | G11: 0 | H11: 0 | I11: 0 | J11: 0 | K11: 0 | L11: 0 | M11: =SUM('[1]4内'!R$29) -> 0 | N11: =SUM('[1]4内'!R$31) -> 0 | O11: =SUM('[1]4内'!R$33) -> 0 | P11: =SUM('[1]4内'!R$35) -> 0 | Q11: =SUM('[1]4内'!R$37) -> 0 | R11: =SUM('[1]4内'!R$39) -> 0 | S11: =SUM('[1]4内'!R$41) -> 5 | T11: =SUM('[1]4内'!R$43) -> 0 | U11: =SUM('[1]4内'!R$45) -> 0 | V11: =SUM('[1]4内'!R$47) -> 0 | W11: =SUM('[1]4内'!R$49) -> 73
C12: 3 | D12: 0 | E12: 0 | F12: 0 | G12: 0 | H12: 0 | I12: 0 | J12: 0 | K12: 0 | L12: 0 | M12: =SUM('[1]5内'!R$28) -> 0 | N12: =SUM('[1]5内'!R$30) -> 0 | O12: =SUM('[1]5内'!R$32) -> 0 | P12: =SUM('[1]5内'!R$34) -> 0 | Q12: =SUM('[1]5内'!R$36) -> 0 | R12: =SUM('[1]5内'!R$38) -> 0 | S12: =SUM('[1]5内'!R$40) -> 0 | T12: =SUM('[1]5内'!R$42) -> 0 | U12: =SUM('[1]5内'!R$44) -> 0 | V12: =SUM('[1]5内'!R$46) -> 0 | W12: =SUM('[1]5内'!R$48) -> 3
A13: 内閣府 | C13: 2136 | D13: 81 | E13: 7 | F13: 0 | G13: 0 | H13: 0 | I13: 0 | J13: 0 | K13: 0 | L13: 0 | M13: =SUM('[1]5内'!R$29) -> 20 | N13: =SUM('[1]5内'!R$31) -> 1 | O13: =SUM('[1]5内'!R$33) -> 0 | P13: =SUM('[1]5内'!R$35) -> 2 | Q13: =SUM('[1]5内'!R$37) -> 0 | R13: =SUM('[1]5内'!R$39) -> 3 | S13: =SUM('[1]5内'!R$41) -> 54 | T13: =SUM('[1]5内'!R$43) -> 33 | U13: =SUM('[1]5内'!R$45) -> 1 | V13: =SUM('[1]5内'!R$47) -> 1 | W13: =SUM('[1]5内'!R$49) -> 2339
C14: 0 | D14: 0 | E14: 0 | F14: 0 | G14: 0 | H14: 0 | I14: 0 | J14: 0 | K14: 0 | L14: 0 | M14: =SUM('[1]6宮'!R$28) -> 0 | N14: =SUM('[1]6宮'!R$30) -> 0 | O14: =SUM('[1]6宮'!R$32) -> 0 | P14: =SUM('[1]6宮'!R$34) -> 0 | Q14: =SUM('[1]6宮'!R$36) -> 0 | R14: =SUM('[1]6宮'!R$38) -> 0 | S14: =SUM('[1]6宮'!R$40) -> 0 | T14: =SUM('[1]6宮'!R$42) -> 0 | U14: =SUM('[1]6宮'!R$44) -> 0 | V14: =SUM('[1]6宮'!R$46) -> 0 | W14: =SUM('[1]6宮'!R$48) -> 0
A15: 宮内庁 | C15: 686 | D15: 186 | E15: 0 | F15: 0 | G15: 0 | H15: 0 | I15: 0 | J15: 0 | K15: 0 | L15: 0 | M15: =SUM('[1]6宮'!R$29) -> 47 | N15: =SUM('[1]6宮'!R$31) -> 7 | O15: =SUM('[1]6宮'!R$33) -> 6 | P15: =SUM('[1]6宮'!R$35) -> 20 | Q15: =SUM('[1]6宮'!R$37) -> 0 | R15: =SUM('[1]6宮'!R$39) -> 0 | S15: =SUM('[1]6宮'!R$41) -> 8 | T15: =SUM('[1]6宮'!R$43) -> 0 | U15: =SUM('[1]6宮'!R$45) -> 0 | V15: =SUM('[1]6宮'!R$47) -> 0 | W15: =SUM('[1]6宮'!R$49) -> 960
C16: 2 | D16: 0 | E16: 0 | F16: 0 | G16: 0 | H16: 0 | I16: 0 | J16: 0 | K16: 0 | L16: 0 | M16: =SUM('[1]7公'!R$28) -> 0 | N16: =SUM('[1]7公'!R$30) -> 0 | O16: =SUM('[1]7公'!R$32) -> 0 | P16: =SUM('[1]7公'!R$34) -> 0 | Q16: =SUM('[1]7公'!R$36) -> 0 | R16: =SUM('[1]7公'!R$38) -> 0 | S16: =SUM('[1]7公'!R$40) -> 0 | T16: =SUM('[1]7公'!R$42) -> 0 | U16: =SUM('[1]7公'!R$44) -> 0 | V16: =SUM('[1]7公'!R$46) -> 0 | W16: =SUM('[1]7公'!R$48) -> 2
A17: 公正取引委員会 | C17: 690 | D17: 5 | E17: 0 | F17: 0 | G17: 0 | H17: 0 | I17: 0 | J17: 0 | K17: 0 | L17: 0 | M17: =SUM('[1]7公'!R$29) -> 0 | N17: =SUM('[1]7公'!R$31) -> 0 | O17: =SUM('[1]7公'!R$33) -> 0 | P17: =SUM('[1]7公'!R$35) -> 0 | Q17: =SUM('[1]7公'!R$37) -> 0 | R17: =SUM('[1]7公'!R$39) -> 0 | S17: =SUM('[1]7公'!R$41) -> 11 | T17: =SUM('[1]7公'!R$43) -> 23 | U17: =SUM('[1]7公'!R$45) -> 0 | V17: =SUM('[1]7公'!R$47) -> 0 | W17: =SUM('[1]7公'!R$49) -> 729
C18: 0 | D18: 0 | E18: 0 | F18: 0 | G18: 10 | H18: 0 | I18: 0 | J18: 0 | K18: 0 | L18: 0 | M18: =SUM('[1]8警'!R$28) -> 0 | N18: =SUM('[1]8警'!R$30) -> 0 | O18: =SUM('[1]8警'!R$32) -> 0 | P18: =SUM('[1]8警'!R$34) -> 0 | Q18: =SUM('[1]8警'!R$36) -> 0 | R18: =SUM('[1]8警'!R$38) -> 0 | S18: =SUM('[1]8警'!R$40) -> 1 | T18: =SUM('[1]8警'!R$42) -> 0 | U18: =SUM('[1]8警'!R$44) -> 0 | V18: =SUM('[1]8警'!R$46) -> 0 | W18: =SUM('[1]8警'!R$48) -> 11
A19: 警察庁 | C19: 4463 | D19: 85 | E19: 0 | F19: 0 | G19: 3235 | H19: 0 | I19: 0 | J19: 0 | K19: 0 | L19: 0 | M19: =SUM('[1]8警'!R$29) -> 95 | N19: =SUM('[1]8警'!R$31) -> 3 | O19: =SUM('[1]8警'!R$33) -> 5 | P19: =SUM('[1]8警'!R$35) -> 11 | Q19: =SUM('[1]8警'!R$37) -> 0 | R19: =SUM('[1]8警'!R$39) -> 5 | S19: =SUM('[1]8警'!R$41) -> 67 | T19: =SUM('[1]8警'!R$43) -> 0 | U19: =SUM('[1]8警'!R$45) -> 1 | V19: =SUM('[1]8警'!R$47) -> 0 | W19: =SUM('[1]8警'!R$49) -> 7970
C20: 0 | D20: 0 | E20: 0 | F20: 0 | G20: 0 | H20: 0 | I20: 0 | J20: 0 | K20: 0 | L20: 0 | M20: =SUM('[1]9金'!R$28) -> 0 | N20: =SUM('[1]9金'!R$30) -> 0 | O20: =SUM('[1]9金'!R$32) -> 0 | P20: =SUM('[1]9金'!R$34) -> 0 | Q20: =SUM('[1]9金'!R$36) -> 0 | R20: =SUM('[1]9金'!R$38) -> 0 | S20: =SUM('[1]9金'!R$40) -> 0 | T20: =SUM('[1]9金'!R$42) -> 0 | U20: =SUM('[1]9金'!R$44) -> 0 | V20: =SUM('[1]9金'!R$46) -> 0 | W20: =SUM('[1]9金'!R$48) -> 0
A21: 金融庁 | C21: 1294 | D21: 6 | E21: 0 | F21: 0 | G21: 0 | H21: 0 | I21: 0 | J21: 0 | K21: 0 | L21: 0 | M21: =SUM('[1]9金'!R$29) -> 0 | N21: =SUM('[1]9金'!R$31) -> 0 | O21: =SUM('[1]9金'!R$33) -> 0 | P21: =SUM('[1]9金'!R$35) -> 0 | Q21: =SUM('[1]9金'!R$37) -> 0 | R21: =SUM('[1]9金'!R$39) -> 0 | S21: =SUM('[1]9金'!R$41) -> 15 | T21: =SUM('[1]9金'!R$43) -> 115 | U21: =SUM('[1]9金'!R$45) -> 0 | V21: =SUM('[1]9金'!R$47) -> 0 | W21: =SUM('[1]9金'!R$49) -> 1430
C22: 0 | D22: 0 | E22: 0 | F22: 0 | G22: 0 | H22: 0 | I22: 0 | J22: 0 | K22: 0 | L22: 0 | M22: ='[1]10消 '!$R28 -> 0 | N22: ='[1]10消 '!$R30 -> 0 | O22: ='[1]10消 '!$R32 -> 0 | P22: ='[1]10消 '!$R34 -> 0 | Q22: ='[1]10消 '!$R36 -> 0 | R22: ='[1]10消 '!$R38 -> 0 | S22: ='[1]10消 '!$R40 -> 0 | T22: ='[1]10消 '!$R42 -> 0 | U22: ='[1]10消 '!$R44 -> 0 | V22: ='[1]10消 '!$R46 -> 0 | W22: ='[1]10消 '!$R48 -> 0
A23: 消費者庁 | C23: 183 | D23: 0 | E23: 0 | F23: 0 | G23: 0 | H23: 0 | I23: 0 | J23: 0 | K23: 0 | L23: 0 | M23: ='[1]10消 '!$R29 -> 0 | N23: ='[1]10消 '!$R31 -> 0 | O23: ='[1]10消 '!$R33 -> 0 | P23: ='[1]10消 '!$R35 -> 0 | Q23: ='[1]10消 '!$R37 -> 0 | R23: ='[1]10消 '!$R39 -> 0 | S23: ='[1]10消 '!$R41 -> 4 | T23: ='[1]10消 '!$R43 -> 5 | U23: ='[1]10消 '!$R45 -> 0 | V23: ='[1]10消 '!$R47 -> 0 | W23: ='[1]10消 '!$R49 -> 192
C24: 0 | D24: 0 | E24: 0 | F24: 0 | G24: 0 | H24: 0 | I24: 0 | J24: 0 | K24: 0 | L24: 0 | M24: =SUM('[1]11総'!R$28) -> 0 | N24: =SUM('[1]11総'!R$30) -> 0 | O24: =SUM('[1]11総'!R$32) -> 0 | P24: =SUM('[1]11総'!R$34) -> 0 | Q24: =SUM('[1]11総'!R$36) -> 0 | R24: =SUM('[1]11総'!R$38) -> 0 | S24: =SUM('[1]11総'!R$40) -> 0 | T24: =SUM('[1]11総'!R$42) -> 0 | U24: =SUM('[1]11総'!R$44) -> 0 | V24: =SUM('[1]11総'!R$46) -> 0 | W24: =SUM('[1]11総'!R$48) -> 0
A25: 総務省 | C25: 4840 | D25: 85 | E25: 0 | F25: 0 | G25: 0 | H25: 0 | I25: 0 | J25: 0 | K25: 0 | L25: 0 | M25: =SUM('[1]11総'!R$29) -> 0 | N25: =SUM('[1]11総'!R$31) -> 2 | O25: =SUM('[1]11総'!R$33) -> 2 | P25: =SUM('[1]11総'!R$35) -> 6 | Q25: =SUM('[1]11総'!R$37) -> 0 | R25: =SUM('[1]11総'!R$39) -> 10 | S25: =SUM('[1]11総'!R$41) -> 60 | T25: =SUM('[1]11総'!R$43) -> 2 | U25: =SUM('[1]11総'!R$45) -> 0 | V25: =SUM('[1]11総'!R$47) -> 0 | W25: =SUM('[1]11総'!R$49) -> 5007
C26: 0 | D26: 0 | E26: 0 | F26: 0 | G26: 0 | H26: 0 | I26: 0 | J26: 0 | K26: 0 | L26: 0 | M26: =SUM('[1]12公'!R$28) -> 0 | N26: =SUM('[1]12公'!R$30) -> 0 | O26: =SUM('[1]12公'!R$32) -> 0 | P26: =SUM('[1]12公'!R$34) -> 0 | Q26: =SUM('[1]12公'!R$36) -> 0 | R26: =SUM('[1]12公'!R$38) -> 0 | S26: =SUM('[1]12公'!R$40) -> 0 | T26: =SUM('[1]12公'!R$42) -> 0 | U26: =SUM('[1]12公'!R$44) -> 0 | V26: =SUM('[1]12公'!R$46) -> 0 | W26: =SUM('[1]12公'!R$48) -> 0
A27: 公害等調整委員会 | C27: 32 | D27: 1 | E27: 0 | F27: 0 | G27: 0 | H27: 0 | I27: 0 | J27: 0 | K27: 0 | L27: 0 | M27: =SUM('[1]12公'!R$29) -> 0 | N27: =SUM('[1]12公'!R$31) -> 0 | O27: =SUM('[1]12公'!R$33) -> 0 | P27: =SUM('[1]12公'!R$35) -> 0 | Q27: =SUM('[1]12公'!R$37) -> 0 | R27: =SUM('[1]12公'!R$39) -> 0 | S27: =SUM('[1]12公'!R$41) -> 2 | T27: =SUM('[1]12公'!R$43) -> 0 | U27: =SUM('[1]12公'!R$45) -> 0 | V27: =SUM('[1]12公'!R$47) -> 0 | W27: =SUM('[1]12公'!R$49) -> 35
C28: 0 | D28: 0 | E28: 0 | F28: 0 | G28: 0 | H28: 0 | I28: 0 | J28: 0 | K28: 0 | L28: 0 | M28: =SUM('[1]13消'!R$28) -> 0 | N28: =SUM('[1]13消'!R$30) -> 0 | O28: =SUM('[1]13消'!R$32) -> 0 | P28: =SUM('[1]13消'!R$34) -> 0 | Q28: =SUM('[1]13消'!R$36) -> 0 | R28: =SUM('[1]13消'!R$38) -> 0 | S28: =SUM('[1]13消'!R$40) -> 0 | T28: =SUM('[1]13消'!R$42) -> 0 | U28: =SUM('[1]13消'!R$44) -> 0 | V28: =SUM('[1]13消'!R$46) -> 0 | W28: =SUM('[1]13消'!R$48) -> 0
A29: 消防庁 | C29: 126 | D29: 1 | E29: 0 | F29: 0 | G29: 0 | H29: 0 | I29: 0 | J29: 0 | K29: 0 | L29: 0 | M29: =SUM('[1]13消'!R$29) -> 27 | N29: =SUM('[1]13消'!R$31) -> 0 | O29: =SUM('[1]13消'!R$33) -> 0 | P29: =SUM('[1]13消'!R$35) -> 0 | Q29: =SUM('[1]13消'!R$37) -> 0 | R29: =SUM('[1]13消'!R$39) -> 0 | S29: =SUM('[1]13消'!R$41) -> 6 | T29: =SUM('[1]13消'!R$43) -> 0 | U29: =SUM('[1]13消'!R$45) -> 0 | V29: =SUM('[1]13消'!R$47) -> 0 | W29: =SUM('[1]13消'!R$49) -> 160
C30: 0 | D30: 0 | E30: 0 | F30: 0 | G30: 0 | H30: 0 | I30: 0 | J30: 0 | K30: 0 | L30: 0 | M30: =SUM('[1]14法'!R$28) -> 0 | N30: =SUM('[1]14法'!R$30) -> 0 | O30: =SUM('[1]14法'!R$32) -> 0 | P30: =SUM('[1]14法'!R$34) -> 0 | Q30: =SUM('[1]14法'!R$36) -> 0 | R30: =SUM('[1]14法'!R$38) -> 0 | S30: =SUM('[1]14法'!R$40) -> 0 | T30: =SUM('[1]14法'!R$42) -> 0 | U30: =SUM('[1]14法'!R$44) -> 0 | V30: =SUM('[1]14法'!R$46) -> 0 | W30: =SUM('[1]14法'!R$48) -> 0
A31: 法務省 | C31: 14994 | D31: 391 | E31: 0 | F31: 0 | G31: 19224 | H31: 11864 | I31: 0 | J31: 0 | K31: 0 | L31: 0 | M31: =SUM('[1]14法'!R$29) -> 14 | N31: =SUM('[1]14法'!R$31) -> 299 | O31: =SUM('[1]14法'!R$33) -> 116 | P31: =SUM('[1]14法'!R$35) -> 296 | Q31: =SUM('[1]14法'!R$37) -> 0 | R31: =SUM('[1]14法'!R$39) -> 1 | S31: =SUM('[1]14法'!R$41) -> 24 | T31: =SUM('[1]14法'!R$43) -> 11 | U31: =SUM('[1]14法'!R$45) -> 0 | V31: =SUM('[1]14法'!R$47) -> 0 | W31: =SUM('[1]14法'!R$49) -> 47234
C32: 0 | D32: 0 | E32: 0 | F32: 0 | G32: 0 | H32: 0 | I32: 0 | J32: 0 | K32: 0 | L32: 0 | M32: =SUM('[1]15公'!R$28) -> 0 | N32: =SUM('[1]15公'!R$30) -> 0 | O32: =SUM('[1]15公'!R$32) -> 0 | P32: =SUM('[1]15公'!R$34) -> 0 | Q32: =SUM('[1]15公'!R$36) -> 0 | R32: =SUM('[1]15公'!R$38) -> 0 | S32: =SUM('[1]15公'!R$40) -> 0 | T32: =SUM('[1]15公'!R$42) -> 0 | U32: =SUM('[1]15公'!R$44) -> 0 | V32: =SUM('[1]15公'!R$46) -> 0 | W32: =SUM('[1]15公'!R$48) -> 0
A33: 公安審査委員会 | C33: 4 | D33: 0 | E33: 0 | F33: 0 | G33: 0 | H33: 0 | I33: 0 | J33: 0 | K33: 0 | L33: 0 | M33: =SUM('[1]15公'!R$29) -> 0 | N33: =SUM('[1]15公'!R$31) -> 0 | O33: =SUM('[1]15公'!R$33) -> 0 | P33: =SUM('[1]15公'!R$35) -> 0 | Q33: =SUM('[1]15公'!R$37) -> 0 | R33: =SUM('[1]15公'!R$39) -> 0 | S33: =SUM('[1]15公'!R$41) -> 0 | T33: =SUM('[1]15公'!R$43) -> 0 | U33: =SUM('[1]15公'!R$45) -> 0 | V33: =SUM('[1]15公'!R$47) -> 0 | W33: =SUM('[1]15公'!R$49) -> 4
C34: 0 | D34: 0 | E34: 0 | F34: 0 | G34: 0 | H34: 0 | I34: 0 | J34: 0 | K34: 0 | L34: 0 | M34: =SUM('[1]16公'!R$28) -> 0 | N34: =SUM('[1]16公'!R$30) -> 0 | O34: =SUM('[1]16公'!R$32) -> 0 | P34: =SUM('[1]16公'!R$34) -> 0 | Q34: =SUM('[1]16公'!R$36) -> 0 | R34: =SUM('[1]16公'!R$38) -> 0 | S34: =SUM('[1]16公'!R$40) -> 0 | T34: =SUM('[1]16公'!R$42) -> 0 | U34: =SUM('[1]16公'!R$44) -> 0 | V34: =SUM('[1]16公'!R$46) -> 0 | W34: =SUM('[1]16公'!R$48) -> 0
A35: 公安調査庁 | C35: 72 | D35: 5 | E35: 0 | F35: 0 | G35: 0 | H35: 1404 | I35: 0 | J35: 0 | K35: 0 | L35: 0 | M35: =SUM('[1]16公'!R$29) -> 0 | N35: =SUM('[1]16公'!R$31) -> 0 | O35: =SUM('[1]16公'!R$33) -> 0 | P35: =SUM('[1]16公'!R$35) -> 0 | Q35: =SUM('[1]16公'!R$37) -> 0 | R35: =SUM('[1]16公'!R$39) -> 0 | S35: =SUM('[1]16公'!R$41) -> 6 | T35: =SUM('[1]16公'!R$43) -> 0 | U35: =SUM('[1]16公'!R$45) -> 0 | V35: =SUM('[1]16公'!R$47) -> 0 | W35: =SUM('[1]16公'!R$49) -> 1487
C36: 20 | D36: 0 | E36: 0 | F36: 0 | G36: 0 | H36: 0 | I36: 0 | J36: 0 | K36: 0 | L36: 0 | M36: =SUM('[1]17外'!R$28) -> 0 | N36: =SUM('[1]17外'!R$30) -> 0 | O36: =SUM('[1]17外'!R$32) -> 0 | P36: =SUM('[1]17外'!R$34) -> 0 | Q36: =SUM('[1]17外'!R$36) -> 0 | R36: =SUM('[1]17外'!R$38) -> 0 | S36: =SUM('[1]17外'!R$40) -> 2 | T36: =SUM('[1]17外'!R$42) -> 0 | U36: =SUM('[1]17外'!R$44) -> 0 | V36: =SUM('[1]17外'!R$46) -> 0 | W36: =SUM('[1]17外'!R$48) -> 22
A37: 外務省 | C37: 5272 | D37: 78 | E37: 0 | F37: 0 | G37: 0 | H37: 0 | I37: 0 | J37: 0 | K37: 0 | L37: 0 | M37: =SUM('[1]17外'!R$29) -> 0 | N37: =SUM('[1]17外'!R$31) -> 95 | O37: =SUM('[1]17外'!R$33) -> 3 | P37: =SUM('[1]17外'!R$35) -> 7 | Q37: =SUM('[1]17外'!R$37) -> 0 | R37: =SUM('[1]17外'!R$39) -> 0 | S37: =SUM('[1]17外'!R$41) -> 63 | T37: =SUM('[1]17外'!R$43) -> 11 | U37: =SUM('[1]17外'!R$45) -> 0 | V37: =SUM('[1]17外'!R$47) -> 0 | W37: =SUM('[1]17外'!R$49) -> 5529
C38: 73 | D38: 0 | E38: 0 | F38: 0 | G38: 0 | H38: 0 | I38: 0 | J38: 0 | K38: 0 | L38: 0 | M38: =SUM('[1]18財'!R$28) -> 0 | N38: =SUM('[1]18財'!R$30) -> 0 | O38: =SUM('[1]18財'!R$32) -> 0 | P38: =SUM('[1]18財'!R$34) -> 0 | Q38: =SUM('[1]18財'!R$36) -> 0 | R38: =SUM('[1]18財'!R$38) -> 0 | S38: =SUM('[1]18財'!R$40) -> 11 | T38: =SUM('[1]18財'!R$42) -> 0 | U38: =SUM('[1]18財'!R$44) -> 0 | V38: =SUM('[1]18財'!R$46) -> 0 | W38: =SUM('[1]18財'!R$48) -> 84
A39: 財務省 | C39: 14654 | D39: 234 | E39: 0 | F39: 0 | G39: 0 | H39: 0 | I39: 29 | J39: 115 | K39: 0 | L39: 0 | M39: =SUM('[1]18財'!R$29) -> 0 | N39: =SUM('[1]18財'!R$31) -> 1 | O39: =SUM('[1]18財'!R$33) -> 1 | P39: =SUM('[1]18財'!R$35) -> 11 | Q39: =SUM('[1]18財'!R$37) -> 0 | R39: =SUM('[1]18財'!R$39) -> 8 | S39: =SUM('[1]18財'!R$41) -> 54 | T39: =SUM('[1]18財'!R$43) -> 23 | U39: =SUM('[1]18財'!R$45) -> 0 | V39: =SUM('[1]18財'!R$47) -> 0 | W39: =SUM('[1]18財'!R$49) -> 15130
C40: 0 | D40: 0 | E40: 0 | F40: 0 | G40: 0 | H40: 0 | I40: 0 | J40: 0 | K40: 0 | L40: 0 | M40: =SUM('[1]19国'!R$28) -> 0 | N40: =SUM('[1]19国'!R$30) -> 0 | O40: =SUM('[1]19国'!R$32) -> 0 | P40: =SUM('[1]19国'!R$34) -> 0 | Q40: =SUM('[1]19国'!R$36) -> 0 | R40: =SUM('[1]19国'!R$38) -> 0 | S40: =SUM('[1]19国'!R$40) -> 0 | T40: =SUM('[1]19国'!R$42) -> 0 | U40: =SUM('[1]19国'!R$44) -> 0 | V40: =SUM('[1]19国'!R$46) -> 0 | W40: =SUM('[1]19国'!R$48) -> 0
A41: 国税庁 | C41: 989 | D41: 973 | E41: 0 | F41: 53855 | G41: 0 | H41: 0 | I41: 0 | J41: 0 | K41: 0 | L41: 0 | M41: =SUM('[1]19国'!R$29) -> 0 | N41: =SUM('[1]19国'!R$31) -> 25 | O41: =SUM('[1]19国'!R$33) -> 29 | P41: =SUM('[1]19国'!R$35) -> 46 | Q41: =SUM('[1]19国'!R$37) -> 0 | R41: =SUM('[1]19国'!R$39) -> 0 | S41: =SUM('[1]19国'!R$41) -> 20 | T41: =SUM('[1]19国'!R$43) -> 12 | U41: =SUM('[1]19国'!R$45) -> 0 | V41: =SUM('[1]19国'!R$47) -> 0 | W41: =SUM('[1]19国'!R$49) -> 55949
C42: 20 | D42: 0 | E42: 0 | F42: 0 | G42: 0 | H42: 0 | I42: 0 | J42: 0 | K42: 0 | L42: 0 | M42: =SUM('[1]20文'!R$28) -> 0 | N42: =SUM('[1]20文'!R$30) -> 0 | O42: =SUM('[1]20文'!R$32) -> 0 | P42: =SUM('[1]20文'!R$34) -> 0 | Q42: =SUM('[1]20文'!R$36) -> 0 | R42: =SUM('[1]20文'!R$38) -> 0 | S42: =SUM('[1]20文'!R$40) -> 1 | T42: =SUM('[1]20文'!R$42) -> 0 | U42: =SUM('[1]20文'!R$44) -> 0 | V42: =SUM('[1]20文'!R$46) -> 0 | W42: =SUM('[1]20文'!R$48) -> 21
A43: 文部科学省 | C43: 1822 | D43: 26 | E43: 0 | F43: 0 | G43: 0 | H43: 0 | I43: 0 | J43: 0 | K43: 0 | L43: 0 | M43: =SUM('[1]20文'!R$29) -> 65 | N43: =SUM('[1]20文'!R$31) -> 0 | O43: =SUM('[1]20文'!R$33) -> 0 | P43: =SUM('[1]20文'!R$35) -> 0 | Q43: =SUM('[1]20文'!R$37) -> 0 | R43: =SUM('[1]20文'!R$39) -> 3 | S43: =SUM('[1]20文'!R$41) -> 30 | T43: =SUM('[1]20文'!R$43) -> 9 | U43: =SUM('[1]20文'!R$45) -> 1 | V43: =SUM('[1]20文'!R$47) -> 8 | W43: =SUM('[1]20文'!R$49) -> 1964
C44: 0 | D44: 0 | E44: 0 | F44: 0 | G44: 0 | H44: 0 | I44: 0 | J44: 0 | K44: 0 | L44: 0 | M44: =SUM('[1]21文'!R$28) -> 0 | N44: =SUM('[1]21文'!R$30) -> 0 | O44: =SUM('[1]21文'!R$32) -> 0 | P44: =SUM('[1]21文'!R$34) -> 0 | Q44: =SUM('[1]21文'!R$36) -> 0 | R44: =SUM('[1]21文'!R$38) -> 0 | S44: =SUM('[1]21文'!R$40) -> 0 | T44: =SUM('[1]21文'!R$42) -> 0 | U44: =SUM('[1]21文'!R$44) -> 0 | V44: =SUM('[1]21文'!R$46) -> 0 | W44: =SUM('[1]21文'!R$48) -> 0
A45: 文化庁 | C45: 157 | D45: 4 | E45: 0 | F45: 0 | G45: 0 | H45: 0 | I45: 0 | J45: 0 | K45: 0 | L45: 0 | M45: =SUM('[1]21文'!R$29) -> 63 | N45: =SUM('[1]21文'!R$31) -> 0 | O45: =SUM('[1]21文'!R$33) -> 0 | P45: =SUM('[1]21文'!R$35) -> 0 | Q45: =SUM('[1]21文'!R$37) -> 0 | R45: =SUM('[1]21文'!R$39) -> 1 | S45: =SUM('[1]21文'!R$41) -> 5 | T45: =SUM('[1]21文'!R$43) -> 1 | U45: =SUM('[1]21文'!R$45) -> 0 | V45: =SUM('[1]21文'!R$47) -> 0 | W45: =SUM('[1]21文'!R$49) -> 231
C46: 14 | D46: 0 | E46: 0 | F46: 0 | G46: 0 | H46: 0 | I46: 0 | J46: 0 | K46: 0 | L46: 0 | M46: =SUM('[1]22厚'!R$28) -> 0 | N46: =SUM('[1]22厚'!R$30) -> 9 | O46: =SUM('[1]22厚'!R$32) -> 0 | P46: =SUM('[1]22厚'!R$34) -> 2 | Q46: =SUM('[1]22厚'!R$36) -> 0 | R46: =SUM('[1]22厚'!R$38) -> 0 | S46: =SUM('[1]22厚'!R$40) -> 2 | T46: =SUM('[1]22厚'!R$42) -> 0 | U46: =SUM('[1]22厚'!R$44) -> 0 | V46: =SUM('[1]22厚'!R$46) -> 0 | W46: =SUM('[1]22厚'!R$48) -> 27
A47: 厚生労働省 | C47: 27929 | D47: 1374 | E47: 449 | F47: 0 | G47: 0 | H47: 0 | I47: 0 | J47: 10 | K47: 43 | L47: 110 | M47: =SUM('[1]22厚'!R$29) -> 875 | N47: =SUM('[1]22厚'!R$31) -> 1101 | O47: =SUM('[1]22厚'!R$33) -> 940 | P47: =SUM('[1]22厚'!R$35) -> 4412 | Q47: =SUM('[1]22厚'!R$37) -> 294 | R47: =SUM('[1]22厚'!R$39) -> 7 | S47: =SUM('[1]22厚'!R$41) -> 100 | T47: =SUM('[1]22厚'!R$43) -> 0 | U47: =SUM('[1]22厚'!R$45) -> 111 | V47: =SUM('[1]22厚'!R$47) -> 60 | W47: =SUM('[1]22厚'!R$49) -> 37815
C48: 0 | D48: 0 | E48: 0 | F48: 0 | G48: 0 | H48: 0 | I48: 0 | J48: 0 | K48: 0 | L48: 0 | M48: =SUM('[1]23中'!R$28) -> 0 | N48: =SUM('[1]23中'!R$30) -> 0 | O48: =SUM('[1]23中'!R$32) -> 0 | P48: =SUM('[1]23中'!R$34) -> 0 | Q48: =SUM('[1]23中'!R$36) -> 0 | R48: =SUM('[1]23中'!R$38) -> 0 | S48: =SUM('[1]23中'!R$40) -> 0 | T48: =SUM('[1]23中'!R$42) -> 0 | U48: =SUM('[1]23中'!R$44) -> 0 | V48: =SUM('[1]23中'!R$46) -> 0 | W48: =SUM('[1]23中'!R$48) -> 0
A49: 中央労働委員会 | C49: 106 | D49: 1 | E49: 0 | F49: 0 | G49: 0 | H49: 0 | I49: 0 | J49: 0 | K49: 0 | L49: 0 | M49: =SUM('[1]23中'!R$29) -> 0 | N49: =SUM('[1]23中'!R$31) -> 0 | O49: =SUM('[1]23中'!R$33) -> 0 | P49: =SUM('[1]23中'!R$35) -> 0 | Q49: =SUM('[1]23中'!R$37) -> 0 | R49: =SUM('[1]23中'!R$39) -> 1 | S49: =SUM('[1]23中'!R$41) -> 3 | T49: =SUM('[1]23中'!R$43) -> 0 | U49: =SUM('[1]23中'!R$45) -> 0 | V49: =SUM('[1]23中'!R$47) -> 0 | W49: =SUM('[1]23中'!R$49) -> 111
C50: 65 | D50: 0 | E50: 2 | F50: 0 | G50: 0 | H50: 0 | I50: 0 | J50: 0 | K50: 0 | L50: 0 | M50: =SUM('[1]24農'!R$28) -> 1 | N50: =SUM('[1]24農'!R$30) -> 0 | O50: =SUM('[1]24農'!R$32) -> 0 | P50: =SUM('[1]24農'!R$34) -> 0 | Q50: =SUM('[1]24農'!R$36) -> 0 | R50: =SUM('[1]24農'!R$38) -> 0 | S50: =SUM('[1]24農'!R$40) -> 0 | T50: =SUM('[1]24農'!R$42) -> 0 | U50: =SUM('[1]24農'!R$44) -> 0 | V50: =SUM('[1]24農'!R$46) -> 0 | W50: =SUM('[1]24農'!R$48) -> 68
A51: 農林水産省 | C51: 17197 | D51: 181 | E51: 1096 | F51: 0 | G51: 0 | H51: 0 | I51: 0 | J51: 0 | K51: 0 | L51: 0 | M51: =SUM('[1]24農'!R$29) -> 66 | N51: =SUM('[1]24農'!R$31) -> 1 | O51: =SUM('[1]24農'!R$33) -> 0 | P51: =SUM('[1]24農'!R$35) -> 8 | Q51: =SUM('[1]24農'!R$37) -> 0 | R51: =SUM('[1]24農'!R$39) -> 15 | S51: =SUM('[1]24農'!R$41) -> 41 | T51: =SUM('[1]24農'!R$43) -> 3 | U51: =SUM('[1]24農'!R$45) -> 0 | V51: =SUM('[1]24農'!R$47) -> 3 | W51: =SUM('[1]24農'!R$49) -> 18611
C52: 15 | D52: 0 | E52: 0 | F52: 0 | G52: 0 | H52: 0 | I52: 0 | J52: 0 | K52: 0 | L52: 0 | M52: =SUM('[1]25林'!R$28) -> 0 | N52: =SUM('[1]25林'!R$30) -> 0 | O52: =SUM('[1]25林'!R$32) -> 0 | P52: =SUM('[1]25林'!R$34) -> 0 | Q52: =SUM('[1]25林'!R$36) -> 0 | R52: =SUM('[1]25林'!R$38) -> 0 | S52: =SUM('[1]25林'!R$40) -> 0 | T52: =SUM('[1]25林'!R$42) -> 0 | U52: =SUM('[1]25林'!R$44) -> 0 | V52: =SUM('[1]25林'!R$46) -> 0 | W52: =SUM('[1]25林'!R$48) -> 15
A53: 林野庁 | C53: 444 | D53: 6 | E53: 0 | F53: 0 | G53: 0 | H53: 0 | I53: 0 | J53: 0 | K53: 0 | L53: 0 | M53: =SUM('[1]25林'!R$29) -> 0 | N53: =SUM('[1]25林'!R$31) -> 0 | O53: =SUM('[1]25林'!R$33) -> 0 | P53: =SUM('[1]25林'!R$35) -> 0 | Q53: =SUM('[1]25林'!R$37) -> 0 | R53: =SUM('[1]25林'!R$39) -> 4 | S53: =SUM('[1]25林'!R$41) -> 4 | T53: =SUM('[1]25林'!R$43) -> 0 | U53: =SUM('[1]25林'!R$45) -> 0 | V53: =SUM('[1]25林'!R$47) -> 0 | W53: =SUM('[1]25林'!R$49) -> 458
C54: 8 | D54: 0 | E54: 0 | F54: 0 | G54: 0 | H54: 0 | I54: 0 | J54: 0 | K54: 0 | L54: 0 | M54: =SUM('[1]26水'!R$28) -> 0 | N54: =SUM('[1]26水'!R$30) -> 0 | O54: =SUM('[1]26水'!R$32) -> 0 | P54: =SUM('[1]26水'!R$34) -> 0 | Q54: =SUM('[1]26水'!R$36) -> 0 | R54: =SUM('[1]26水'!R$38) -> 0 | S54: =SUM('[1]26水'!R$40) -> 0 | T54: =SUM('[1]26水'!R$42) -> 0 | U54: =SUM('[1]26水'!R$44) -> 0 | V54: =SUM('[1]26水'!R$46) -> 0 | W54: =SUM('[1]26水'!R$48) -> 8
A55: 水産庁 | C55: 661 | D55: 0 | E55: 0 | F55: 0 | G55: 0 | H55: 0 | I55: 93 | J55: 135 | K55: 0 | L55: 0 | M55: =SUM('[1]26水'!R$29) -> 0 | N55: =SUM('[1]26水'!R$31) -> 0 | O55: =SUM('[1]26水'!R$33) -> 0 | P55: =SUM('[1]26水'!R$35) -> 0 | Q55: =SUM('[1]26水'!R$37) -> 0 | R55: =SUM('[1]26水'!R$39) -> 2 | S55: =SUM('[1]26水'!R$41) -> 7 | T55: =SUM('[1]26水'!R$43) -> 0 | U55: =SUM('[1]26水'!R$45) -> 0 | V55: =SUM('[1]26水'!R$47) -> 0 | W55: =SUM('[1]26水'!R$49) -> 898
C56: 25 | D56: 0 | E56: 0 | F56: 0 | G56: 0 | H56: 0 | I56: 0 | J56: 0 | K56: 0 | L56: 0 | M56: =SUM('[1]27経'!R$28) -> 0 | N56: =SUM('[1]27経'!R$30) -> 0 | O56: =SUM('[1]27経'!R$32) -> 0 | P56: =SUM('[1]27経'!R$34) -> 0 | Q56: =SUM('[1]27経'!R$36) -> 0 | R56: =SUM('[1]27経'!R$38) -> 0 | S56: =SUM('[1]27経'!R$40) -> 0 | T56: =SUM('[1]27経'!R$42) -> 0 | U56: =SUM('[1]27経'!R$44) -> 0 | V56: =SUM('[1]27経'!R$46) -> 0 | W56: =SUM('[1]27経'!R$48) -> 25
A57: 経済産業省 | C57: 4072 | D57: 35 | E57: 0 | F57: 0 | G57: 0 | H57: 0 | I57: 0 | J57: 0 | K57: 0 | L57: 0 | M57: =SUM('[1]27経'!R$29) -> 0 | N57: =SUM('[1]27経'!R$31) -> 2 | O57: =SUM('[1]27経'!R$33) -> 2 | P57: =SUM('[1]27経'!R$35) -> 6 | Q57: =SUM('[1]27経'!R$37) -> 0 | R57: =SUM('[1]27経'!R$39) -> 21 | S57: =SUM('[1]27経'!R$41) -> 46 | T57: =SUM('[1]27経'!R$43) -> 16 | U57: =SUM('[1]27経'!R$45) -> 0 | V57: =SUM('[1]27経'!R$47) -> 0 | W57: =SUM('[1]27経'!R$49) -> 4200
C58: 0 | D58: 0 | E58: 0 | F58: 0 | G58: 0 | H58: 0 | I58: 0 | J58: 0 | K58: 0 | L58: 0 | M58: =SUM('[1]28資'!R$28) -> 0 | N58: =SUM('[1]28資'!R$30) -> 0 | O58: =SUM('[1]28資'!R$32) -> 0 | P58: =SUM('[1]28資'!R$34) -> 0 | Q58: =SUM('[1]28資'!R$36) -> 0 | R58: =SUM('[1]28資'!R$38) -> 0 | S58: =SUM('[1]28資'!R$40) -> 0 | T58: =SUM('[1]28資'!R$42) -> 0 | U58: =SUM('[1]28資'!R$44) -> 0 | V58: =SUM('[1]28資'!R$46) -> 0 | W58: =SUM('[1]28資'!R$48) -> 0
A59: 資源エネルギー庁 | C59: 1164 | D59: 4 | E59: 0 | F59: 0 | G59: 0 | H59: 0 | I59: 0 | J59: 0 | K59: 0 | L59: 0 | M59: =SUM('[1]28資'!R$29) -> 0 | N59: =SUM('[1]28資'!R$31) -> 0 | O59: =SUM('[1]28資'!R$33) -> 0 | P59: =SUM('[1]28資'!R$35) -> 0 | Q59: =SUM('[1]28資'!R$37) -> 0 | R59: =SUM('[1]28資'!R$39) -> 2 | S59: =SUM('[1]28資'!R$41) -> 11 | T59: =SUM('[1]28資'!R$43) -> 0 | U59: =SUM('[1]28資'!R$45) -> 0 | V59: =SUM('[1]28資'!R$47) -> 0 | W59: =SUM('[1]28資'!R$49) -> 1181
C60: 4 | D60: 0 | E60: 4 | F60: 0 | G60: 0 | H60: 0 | I60: 0 | J60: 0 | K60: 0 | L60: 0 | M60: =SUM('[1]29特'!R$28) -> 0 | N60: =SUM('[1]29特'!R$30) -> 0 | O60: =SUM('[1]29特'!R$32) -> 0 | P60: =SUM('[1]29特'!R$34) -> 0 | Q60: =SUM('[1]29特'!R$36) -> 0 | R60: =SUM('[1]29特'!R$38) -> 0 | S60: =SUM('[1]29特'!R$40) -> 0 | T60: =SUM('[1]29特'!R$42) -> 0 | U60: =SUM('[1]29特'!R$44) -> 0 | V60: =SUM('[1]29特'!R$46) -> 0 | W60: =SUM('[1]29特'!R$48) -> 8
A61: 特許庁 | C61: 593 | D61: 5 | E61: 2225 | F61: 0 | G61: 0 | H61: 0 | I61: 0 | J61: 0 | K61: 0 | L61: 0 | M61: =SUM('[1]29特'!R$29) -> 0 | N61: =SUM('[1]29特'!R$31) -> 0 | O61: =SUM('[1]29特'!R$33) -> 0 | P61: =SUM('[1]29特'!R$35) -> 0 | Q61: =SUM('[1]29特'!R$37) -> 0 | R61: =SUM('[1]29特'!R$39) -> 5 | S61: =SUM('[1]29特'!R$41) -> 10 | T61: =SUM('[1]29特'!R$43) -> 2 | U61: =SUM('[1]29特'!R$45) -> 0 | V61: =SUM('[1]29特'!R$47) -> 0 | W61: =SUM('[1]29特'!R$49) -> 2840
C62: 0 | D62: 0 | E62: 0 | F62: 0 | G62: 0 | H62: 0 | I62: 0 | J62: 0 | K62: 0 | L62: 0 | M62: =SUM('[1]30中'!R$28) -> 0 | N62: =SUM('[1]30中'!R$30) -> 0 | O62: =SUM('[1]30中'!R$32) -> 0 | P62: =SUM('[1]30中'!R$34) -> 0 | Q62: =SUM('[1]30中'!R$36) -> 0 | R62: =SUM('[1]30中'!R$38) -> 0 | S62: =SUM('[1]30中'!R$40) -> 0 | T62: =SUM('[1]30中'!R$42) -> 0 | U62: =SUM('[1]30中'!R$44) -> 0 | V62: =SUM('[1]30中'!R$46) -> 0 | W62: =SUM('[1]30中'!R$48) -> 0
A63: 中小企業庁 | C63: 179 | D63: 4 | E63: 0 | F63: 0 | G63: 0 | H63: 0 | I63: 0 | J63: 0 | K63: 0 | L63: 0 | M63: =SUM('[1]30中'!R$29) -> 0 | N63: =SUM('[1]30中'!R$31) -> 0 | O63: =SUM('[1]30中'!R$33) -> 0 | P63: =SUM('[1]30中'!R$35) -> 0 | Q63: =SUM('[1]30中'!R$37) -> 0 | R63: =SUM('[1]30中'!R$39) -> 0 | S63: =SUM('[1]30中'!R$41) -> 4 | T63: =SUM('[1]30中'!R$43) -> 0 | U63: =SUM('[1]30中'!R$45) -> 0 | V63: =SUM('[1]30中'!R$47) -> 0 | W63: =SUM('[1]30中'!R$49) -> 187
C64: 48 | D64: 0 | E64: 0 | F64: 0 | G64: 0 | H64: 0 | I64: 0 | J64: 0 | K64: 0 | L64: 0 | M64: =SUM('[1]31国'!R$28) -> 0 | N64: =SUM('[1]31国'!R$30) -> 0 | O64: =SUM('[1]31国'!R$32) -> 0 | P64: =SUM('[1]31国'!R$34) -> 0 | Q64: =SUM('[1]31国'!R$36) -> 0 | R64: =SUM('[1]31国'!R$38) -> 0 | S64: =SUM('[1]31国'!R$40) -> 0 | T64: =SUM('[1]31国'!R$42) -> 0 | U64: =SUM('[1]31国'!R$44) -> 0 | V64: =SUM('[1]31国'!R$46) -> 0 | W64: =SUM('[1]31国'!R$48) -> 48
A65: 国土交通省 | C65: 36152 | D65: 428 | E65: 4537 | F65: 0 | G65: 0 | H65: 0 | I65: 52 | J65: 33 | K65: 0 | L65: 0 | M65: =SUM('[1]31国'!R$29) -> 250 | N65: =SUM('[1]31国'!R$31) -> 2 | O65: =SUM('[1]31国'!R$33) -> 0 | P65: =SUM('[1]31国'!R$35) -> 4 | Q65: =SUM('[1]31国'!R$37) -> 0 | R65: =SUM('[1]31国'!R$39) -> 6 | S65: =SUM('[1]31国'!R$41) -> 119 | T65: =SUM('[1]31国'!R$43) -> 6 | U65: =SUM('[1]31国'!R$45) -> 0 | V65: =SUM('[1]31国'!R$47) -> 14 | W65: =SUM('[1]31国'!R$49) -> 41603
C66: 0 | D66: 0 | E66: 0 | F66: 0 | G66: 0 | H66: 0 | I66: 0 | J66: 0 | K66: 0 | L66: 0 | M66: =SUM('[1]32観'!R$28) -> 0 | N66: =SUM('[1]32観'!R$30) -> 0 | O66: =SUM('[1]32観'!R$32) -> 0 | P66: =SUM('[1]32観'!R$34) -> 0 | Q66: =SUM('[1]32観'!R$36) -> 0 | R66: =SUM('[1]32観'!R$38) -> 0 | S66: =SUM('[1]32観'!R$40) -> 0 | T66: =SUM('[1]32観'!R$42) -> 0 | U66: =SUM('[1]32観'!R$44) -> 0 | V66: =SUM('[1]32観'!R$46) -> 0 | W66: =SUM('[1]32観'!R$48) -> 0
A67: 観光庁 | C67: 92 | D67: 0 | E67: 0 | F67: 0 | G67: 0 | H67: 0 | I67: 0 | J67: 0 | K67: 0 | L67: 0 | M67: =SUM('[1]32観'!R$29) -> 0 | N67: =SUM('[1]32観'!R$31) -> 0 | O67: =SUM('[1]32観'!R$33) -> 0 | P67: =SUM('[1]32観'!R$35) -> 0 | Q67: =SUM('[1]32観'!R$37) -> 0 | R67: =SUM('[1]32観'!R$39) -> 0 | S67: =SUM('[1]32観'!R$41) -> 4 | T67: =SUM('[1]32観'!R$43) -> 0 | U67: =SUM('[1]32観'!R$45) -> 0 | V67: =SUM('[1]32観'!R$47) -> 0 | W67: =SUM('[1]32観'!R$49) -> 96
C68: 5 | D68: 0 | E68: 0 | F68: 0 | G68: 0 | H68: 0 | I68: 0 | J68: 0 | K68: 0 | L68: 0 | M68: =SUM('[1]33気'!R$28) -> 0 | N68: =SUM('[1]33気'!R$30) -> 0 | O68: =SUM('[1]33気'!R$32) -> 0 | P68: =SUM('[1]33気'!R$34) -> 0 | Q68: =SUM('[1]33気'!R$36) -> 0 | R68: =SUM('[1]33気'!R$38) -> 0 | S68: =SUM('[1]33気'!R$40) -> 0 | T68: =SUM('[1]33気'!R$42) -> 0 | U68: =SUM('[1]33気'!R$44) -> 0 | V68: =SUM('[1]33気'!R$46) -> 0 | W68: =SUM('[1]33気'!R$48) -> 5
A69: 気象庁 | C69: 5054 | D69: 4 | E69: 0 | F69: 0 | G69: 0 | H69: 0 | I69: 50 | J69: 77 | K69: 23 | L69: 0 | M69: =SUM('[1]33気'!R$29) -> 173 | N69: =SUM('[1]33気'!R$31) -> 1 | O69: =SUM('[1]33気'!R$33) -> 0 | P69: =SUM('[1]33気'!R$35) -> 1 | Q69: =SUM('[1]33気'!R$37) -> 0 | R69: =SUM('[1]33気'!R$39) -> 0 | S69: =SUM('[1]33気'!R$41) -> 13 | T69: =SUM('[1]33気'!R$43) -> 0 | U69: =SUM('[1]33気'!R$45) -> 0 | V69: =SUM('[1]33気'!R$47) -> 0 | W69: =SUM('[1]33気'!R$49) -> 5396
C70: 1 | D70: 0 | E70: 0 | F70: 0 | G70: 0 | H70: 0 | I70: 0 | J70: 0 | K70: 0 | L70: 0 | M70: =SUM('[1]34運'!R$28) -> 0 | N70: =SUM('[1]34運'!R$30) -> 0 | O70: =SUM('[1]34運'!R$32) -> 0 | P70: =SUM('[1]34運'!R$34) -> 0 | Q70: =SUM('[1]34運'!R$36) -> 0 | R70: =SUM('[1]34運'!R$38) -> 0 | S70: =SUM('[1]34運'!R$40) -> 0 | T70: =SUM('[1]34運'!R$42) -> 0 | U70: =SUM('[1]34運'!R$44) -> 0 | V70: =SUM('[1]34運'!R$46) -> 0 | W70: =SUM('[1]34運'!R$48) -> 1
A71: 運輸安全委員会 | C71: 75 | D71: 0 | E71: 96 | F71: 0 | G71: 0 | H71: 0 | I71: 0 | J71: 0 | K71: 0 | L71: 0 | M71: =SUM('[1]34運'!R$29) -> 0 | N71: =SUM('[1]34運'!R$31) -> 0 | O71: =SUM('[1]34運'!R$33) -> 0 | P71: =SUM('[1]34運'!R$35) -> 0 | Q71: =SUM('[1]34運'!R$37) -> 0 | R71: =SUM('[1]34運'!R$39) -> 0 | S71: =SUM('[1]34運'!R$41) -> 2 | T71: =SUM('[1]34運'!R$43) -> 5 | U71: =SUM('[1]34運'!R$45) -> 0 | V71: =SUM('[1]34運'!R$47) -> 0 | W71: =SUM('[1]34運'!R$49) -> 178
C72: 1 | D72: 0 | E72: 0 | F72: 0 | G72: 0 | H72: 9 | I72: 0 | J72: 0 | K72: 0 | L72: 0 | M72: =SUM('[1]35海'!R$28) -> 0 | N72: =SUM('[1]35海'!R$30) -> 0 | O72: =SUM('[1]35海'!R$32) -> 0 | P72: =SUM('[1]35海'!R$34) -> 0 | Q72: =SUM('[1]35海'!R$36) -> 0 | R72: =SUM('[1]35海'!R$38) -> 0 | S72: =SUM('[1]35海'!R$40) -> 0 | T72: =SUM('[1]35海'!R$42) -> 0 | U72: =SUM('[1]35海'!R$44) -> 0 | V72: =SUM('[1]35海'!R$46) -> 0 | W72: =SUM('[1]35海'!R$48) -> 10
A73: 海上保安庁 | C73: 1944 | D73: 45 | E73: 0 | F73: 0 | G73: 0 | H73: 10480 | I73: 0 | J73: 0 | K73: 66 | L73: 0 | M73: =SUM('[1]35海'!R$29) -> 10 | N73: =SUM('[1]35海'!R$31) -> 1 | O73: =SUM('[1]35海'!R$33) -> 0 | P73: =SUM('[1]35海'!R$35) -> 4 | Q73: =SUM('[1]35海'!R$37) -> 0 | R73: =SUM('[1]35海'!R$39) -> 0 | S73: =SUM('[1]35海'!R$41) -> 17 | T73: =SUM('[1]35海'!R$43) -> 0 | U73: =SUM('[1]35海'!R$45) -> 0 | V73: =SUM('[1]35海'!R$47) -> 0 | W73: =SUM('[1]35海'!R$49) -> 12567
C74: 16 | D74: 0 | E74: 0 | F74: 0 | G74: 0 | H74: 0 | I74: 0 | J74: 0 | K74: 0 | L74: 0 | M74: =SUM('[1]36環'!R$28) -> 0 | N74: =SUM('[1]36環'!R$30) -> 0 | O74: =SUM('[1]36環'!R$32) -> 0 | P74: =SUM('[1]36環'!R$34) -> 0 | Q74: =SUM('[1]36環'!R$36) -> 0 | R74: =SUM('[1]36環'!R$38) -> 0 | S74: =SUM('[1]36環'!R$40) -> 0 | T74: =SUM('[1]36環'!R$42) -> 0 | U74: =SUM('[1]36環'!R$44) -> 0 | V74: =SUM('[1]36環'!R$46) -> 0 | W74: =SUM('[1]36環'!R$48) -> 16
A75: 環境省 | C75: 1118 | D75: 12 | E75: 0 | F75: 0 | G75: 0 | H75: 0 | I75: 0 | J75: 0 | K75: 0 | L75: 0 | M75: =SUM('[1]36環'!R$29) -> 11 | N75: =SUM('[1]36環'!R$31) -> 2 | O75: =SUM('[1]36環'!R$33) -> 3 | P75: =SUM('[1]36環'!R$35) -> 1 | Q75: =SUM('[1]36環'!R$37) -> 0 | R75: =SUM('[1]36環'!R$39) -> 2 | S75: =SUM('[1]36環'!R$41) -> 16 | T75: =SUM('[1]36環'!R$43) -> 3 | U75: =SUM('[1]36環'!R$45) -> 0 | V75: =SUM('[1]36環'!R$47) -> 0 | W75: =SUM('[1]36環'!R$49) -> 1168
C76: 0 | D76: 0 | E76: 0 | F76: 0 | G76: 0 | H76: 0 | I76: 0 | J76: 0 | K76: 0 | L76: 0 | M76: =SUM('[1]37防'!R$28) -> 0 | N76: =SUM('[1]37防'!R$30) -> 0 | O76: =SUM('[1]37防'!R$32) -> 0 | P76: =SUM('[1]37防'!R$34) -> 0 | Q76: =SUM('[1]37防'!R$36) -> 0 | R76: =SUM('[1]37防'!R$38) -> 0 | S76: =SUM('[1]37防'!R$40) -> 0 | T76: =SUM('[1]37防'!R$42) -> 0 | U76: =SUM('[1]37防'!R$44) -> 0 | V76: =SUM('[1]37防'!R$46) -> 0 | W76: =SUM('[1]37防'!R$48) -> 0
A77: 防衛省 | C77: 29 | D77: 0 | E77: 0 | F77: 0 | G77: 0 | H77: 0 | I77: 0 | J77: 0 | K77: 0 | L77: 0 | M77: =SUM('[1]37防'!R$29) -> 0 | N77: =SUM('[1]37防'!R$31) -> 0 | O77: =SUM('[1]37防'!R$33) -> 0 | P77: =SUM('[1]37防'!R$35) -> 0 | Q77: =SUM('[1]37防'!R$37) -> 0 | R77: =SUM('[1]37防'!R$39) -> 0 | S77: =SUM('[1]37防'!R$41) -> 0 | T77: =SUM('[1]37防'!R$43) -> 0 | U77: =SUM('[1]37防'!R$45) -> 0 | V77: =SUM('[1]37防'!R$47) -> 0 | W77: =SUM('[1]37防'!R$49) -> 29
A78: 計 | C78: 321 | D78: 0 | E78: 6 | F78: 0 | G78: 10 | H78: 9 | M78: =Sheet1!M4+Sheet1!M6+Sheet1!M8+Sheet1!M10+Sheet1!M12+Sheet1!M14+Sheet1!M16+Sheet1!M18+Sheet1!M20+Sheet1!M22+Sheet1!M24+Sheet1!M26+Sheet1!M28+Sheet1!M30+Sheet1!M32+Sheet1!M34+Sheet1!M36+Sheet1!M38+Sheet1!M40+M42+M44+M46+M48+M50+M52+M54+M56+M58+M60+M62+M64+M66+M68+M70+M72+M74+M76 -> 1 | N78: =Sheet1!N4+Sheet1!N6+Sheet1!N8+Sheet1!N10+Sheet1!N12+Sheet1!N14+Sheet1!N16+Sheet1!N18+Sheet1!N20+Sheet1!N22+Sheet1!N24+Sheet1!N26+Sheet1!N28+Sheet1!N30+Sheet1!N32+Sheet1!N34+Sheet1!N36+Sheet1!N38+Sheet1!N40+N42+N44+N46+N48+N50+N52+N54+N56+N58+N60+N62+N64+N66+N68+N70+N72+N74+N76 -> 9 | O78: 0 | P78: =Sheet1!P4+Sheet1!P6+Sheet1!P8+Sheet1!P10+Sheet1!P12+Sheet1!P14+Sheet1!P16+Sheet1!P18+Sheet1!P20+Sheet1!P22+Sheet1!P24+Sheet1!P26+Sheet1!P28+Sheet1!P30+Sheet1!P32+Sheet1!P34+Sheet1!P36+Sheet1!P38+Sheet1!P40+P42+P44+P46+P48+P50+P52+P54+P56+P58+P60+P62+P64+P66+P68+P70+P72+P74+P76 -> 2 | Q78: 0 | R78: =Sheet1!R4+Sheet1!R6+Sheet1!R8+Sheet1!R10+Sheet1!R12+Sheet1!R14+Sheet1!R16+Sheet1!R18+Sheet1!R20+Sheet1!R22+Sheet1!R24+Sheet1!R26+Sheet1!R28+Sheet1!R30+Sheet1!R32+Sheet1!R34+Sheet1!R36+Sheet1!R38+Sheet1!R40+R42+R44+R46+R48+R50+R52+R54+R56+R58+R60+R62+R64+R66+R68+R70+R72+R74+R76 -> 0 | S78: =Sheet1!S4+Sheet1!S6+Sheet1!S8+Sheet1!S10+Sheet1!S12+Sheet1!S14+Sheet1!S16+Sheet1!S18+Sheet1!S20+Sheet1!S22+Sheet1!S24+Sheet1!S26+Sheet1!S28+Sheet1!S30+Sheet1!S32+Sheet1!S34+Sheet1!S36+Sheet1!S38+Sheet1!S40+S42+S44+S46+S48+S50+S52+S54+S56+S58+S60+S62+S64+S66+S68+S70+S72+S74+S76 -> 17 | T78: 0 | U78: 0 | V78: 0 | W78: =SUM(M78:V78)+'[1]2第3表1'!P85 -> 375
C79: 151659 | D79: 4370 | E79: 8410 | F79: 53855 | G79: 22459 | H79: 23748 | I79: 224 | J79: 370 | K79: 132 | L79: 110 | M79: =Sheet1!M5+Sheet1!M7+Sheet1!M9+Sheet1!M11+Sheet1!M13+Sheet1!M15+Sheet1!M17+Sheet1!M19+Sheet1!M21+Sheet1!M23+Sheet1!M25+Sheet1!M27+Sheet1!M29+Sheet1!M31+Sheet1!M33+Sheet1!M35+Sheet1!M37+Sheet1!M39+Sheet1!M41+M43+M45+M47+M49+M51+M53+M55+M57+M59+M61+M63+M65+M67+M69+M71+M73+M75+M77 -> 1716 | N79: =Sheet1!N5+Sheet1!N7+Sheet1!N9+Sheet1!N11+Sheet1!N13+Sheet1!N15+Sheet1!N17+Sheet1!N19+Sheet1!N21+Sheet1!N23+Sheet1!N25+Sheet1!N27+Sheet1!N29+Sheet1!N31+Sheet1!N33+Sheet1!N35+Sheet1!N37+Sheet1!N39+Sheet1!N41+N43+N45+N47+N49+N51+N53+N55+N57+N59+N61+N63+N65+N67+N69+N71+N73+N75+N77 -> 1545 | O79: =Sheet1!O5+Sheet1!O7+Sheet1!O9+Sheet1!O11+Sheet1!O13+Sheet1!O15+Sheet1!O17+Sheet1!O19+Sheet1!O21+Sheet1!O23+Sheet1!O25+Sheet1!O27+Sheet1!O29+Sheet1!O31+Sheet1!O33+Sheet1!O35+Sheet1!O37+Sheet1!O39+Sheet1!O41+O43+O45+O47+O49+O51+O53+O55+O57+O59+O61+O63+O65+O67+O69+O71+O73+O75+O77 -> 1108 | P79: =Sheet1!P5+Sheet1!P7+Sheet1!P9+Sheet1!P11+Sheet1!P13+Sheet1!P15+Sheet1!P17+Sheet1!P19+Sheet1!P21+Sheet1!P23+Sheet1!P25+Sheet1!P27+Sheet1!P29+Sheet1!P31+Sheet1!P33+Sheet1!P35+Sheet1!P37+Sheet1!P39+Sheet1!P41+P43+P45+P47+P49+P51+P53+P55+P57+P59+P61+P63+P65+P67+P69+P71+P73+P75+P77 -> 4838 | Q79: =Sheet1!Q5+Sheet1!Q7+Sheet1!Q9+Sheet1!Q11+Sheet1!Q13+Sheet1!Q15+Sheet1!Q17+Sheet1!Q19+Sheet1!Q21+Sheet1!Q23+Sheet1!Q25+Sheet1!Q27+Sheet1!Q29+Sheet1!Q31+Sheet1!Q33+Sheet1!Q35+Sheet1!Q37+Sheet1!Q39+Sheet1!Q41+Q43+Q45+Q47+Q49+Q51+Q53+Q55+Q57+Q59+Q61+Q63+Q65+Q67+Q69+Q71+Q73+Q75+Q77 -> 294 | R79: =Sheet1!R5+Sheet1!R7+Sheet1!R9+Sheet1!R11+Sheet1!R13+Sheet1!R15+Sheet1!R17+Sheet1!R19+Sheet1!R21+Sheet1!R23+Sheet1!R25+Sheet1!R27+Sheet1!R29+Sheet1!R31+Sheet1!R33+Sheet1!R35+Sheet1!R37+Sheet1!R39+Sheet1!R41+R43+R45+R47+R49+R51+R53+R55+R57+R59+R61+R63+R65+R67+R69+R71+R73+R75+R77 -> 101 | S79: =Sheet1!S5+Sheet1!S7+Sheet1!S9+Sheet1!S11+Sheet1!S13+Sheet1!S15+Sheet1!S17+Sheet1!S19+Sheet1!S21+Sheet1!S23+Sheet1!S25+Sheet1!S27+Sheet1!S29+Sheet1!S31+Sheet1!S33+Sheet1!S35+Sheet1!S37+Sheet1!S39+Sheet1!S41+S43+S45+S47+S49+S51+S53+S55+S57+S59+S61+S63+S65+S67+S69+S71+S73+S75+S77 -> 892 | T79: =Sheet1!T5+Sheet1!T7+Sheet1!T9+Sheet1!T11+Sheet1!T13+Sheet1!T15+Sheet1!T17+Sheet1!T19+Sheet1!T21+Sheet1!T23+Sheet1!T25+Sheet1!T27+Sheet1!T29+Sheet1!T31+Sheet1!T33+Sheet1!T35+Sheet1!T37+Sheet1!T39+Sheet1!T41+T43+T45+T47+T49+T51+T53+T55+T57+T59+T61+T63+T65+T67+T69+T71+T73+T75+T77 -> 314 | ... V79: =Sheet1!V5+Sheet1!V7+Sheet1!V9+Sheet1!V11+Sheet1!V13+Sheet1!V15+Sheet1!V17+Sheet1!V19+Sheet1!V21+Sheet1!V23+Sheet1!V25+Sheet1!V27+Sheet1!V29+Sheet1!V31+Sheet1!V33+Sheet1!V35+Sheet1!V37+Sheet1!V39+Sheet1!V41+V43+V45+V47+V49+V51+V53+V55+V57+V59+V61+V63+V65+V67+V69+V71+V73+V75+V77 -> 86 | W79: =SUM(M79:V79)+'[1]2第3表1'!P86 -> 276345
A80: （注） 上段の数は、常勤職員数の内数としての派遣職員数(国際機関等に派遣される一般職の国家公務員の処遇等に関する法律（昭和４５年法律第１１７号） 第２条第１項の規定により派遣された職員の数をいう。）である。

Sheet Sheet2

Sheet Sheet3
