Workbook

Sheet Sheet1
A1: 第３表 省庁別、俸給表別在職者数 | W1: 常 勤 職 員
B2: 俸給表名 | C2: 行政職 | D2: 行政職 | E2: 専門行政職 | F2: 税務職 | G2: 公安職 | H2: 公安職 | I2: 海事職 | J2: 海事職 | K2: 教育職 | L2: 教育職 | M2: 研究職 | N2: 医療職 | O2: 医療職 | P2: 医療職 | Q2: 福祉職 | R2: 専門 | S2: 指定職 | T2: 特定 | U2: 第一号 | V2: 第二号 | W2: 計
A3: 省 庁 名 | C3: （一） | D3: （二） | G3: （一） | H3: （二） | I3: （一） | J3: （二） | K3: （一） | L3: （二） | N3: （一） | O3: （二） | P3: （三） | R3: スタッフ職 | T3: 任期付職員 | U3: 任期付研究員 | V3: 任期付研究員
C4: 1 | D4: 0 | E4: 0 | F4: 0 | G4: 0 | H4: 0 | I4: 0 | J4: 0 | K4: 0 | L4: 0 | M4: =SUM('[1]1会'!R$28) -> 0 | N4: =SUM('[1]1会'!R$30) -> 0 | O4: =SUM('[1]1会'!R$32) -> 0 | P4: =SUM('[1]1会'!R$34) -> 0 | Q4: =SUM('[1]1会'!R$36) -> 0 | R4: =SUM('[1]1会'!R$38) -> 0 | S4: =SUM('[1]1会'!R$40) -> 0 | T4: =SUM('[1]1会'!R$42) -> 0 | U4: =SUM('[1]1会'!R$44) -> 0 | V4: =SUM('[1]1会'!R$46) -> 0 | W4: =SUM('[1]1会'!R$48) -> 1
A5: 会計検査院 | C5: 1193 | D5: 24 | E5: 0 | F5: 0 | G5: 0 | H5: 0 | I5: 0 | J5: 0 | K5: 0 | L5: 0 | M5: =SUM('[1]1会'!R$29) -> 0 | N5: =SUM('[1]1会'!R$31) -> 0 | O5: =SUM('[1]1会'!R$33) -> 0 | P5: =SUM('[1]1会'!R$35) -> 2 | Q5: =SUM('[1]1会'!R$37) -> 0 | R5: =SUM('[1]1会'!R$39) -> 4 | S5: =SUM('[1]1会'!R$41) -> 21 | T5: =SUM('[1]1会'!R$43) -> 6 | U5: =SUM('[1]1会'!R$45) -> 0 | V5: =SUM('[1]1会'!R$47) -> 0 | W5: =SUM('[1]1会'!R$49) -> 1250
C6: 0 | D6: 0 | E6: 0 | F6: 0 | G6: 0 | H6: 0 | I6: 0 | J6: 0 | K6: 0 | L6: 0 | M6: =SUM('[1]2人'!R$28) -> 0 | N6: =SUM('[1]2人'!R$30) -> 0 | O6: =SUM('[1]2人'!R$32) -> 0 | P6: =SUM('[1]2人'!R$34) -> 0 | Q6: =SUM('[1]2人'!R$36) -> 0 | R6: =SUM('[1]2人'!R$38) -> 0 | S6: =SUM('[1]2人'!R$40) -> 0 | T6: =SUM('[1]2人'!R$42) -> 0 | U6: =SUM('[1]2人'!R$44) -> 0 | V6: =SUM('[1]2人'!R$46) -> 0 | W6: =SUM('[1]2人'!R$48) -> 0
A7: 人事院 | C7: 605 | D7: 27 | E7: 0 | F7: 0 | G7: 0 | H7: 0 | I7: 0 | J7: 0 | K7: 0 | L7: 0 | M7: =SUM('[1]2人'!R$29) -> 0 | N7: =SUM('[1]2人'!R$31) -> 2 | O7: =SUM('[1]2人'!R$33) -> 1 | P7: =SUM('[1]2人'!R$35) -> 1 | Q7: =SUM('[1]2人'!R$37) -> 0 | R7: =SUM('[1]2人'!R$39) -> 1 | S7: =SUM('[1]2人'!R$41) -> 19 | T7: =SUM('[1]2人'!R$43) -> 0 | U7: =SUM('[1]2人'!R$45) -> 0 | V7: =SUM('[1]2人'!R$47) -> 0 | W7: =SUM('[1]2人'!R$49) -> 656
C8: 0 | D8: 0 | E8: 0 | F8: 0 | G8: 0 | H8: 0 | I8: 0 | J8: 0 | K8: 0 | L8: 0 | M8: =SUM('[1]3内'!R$28) -> 0 | N8: =SUM('[1]3内'!R$30) -> 0 | O8: =SUM('[1]3内'!R$32) -> 0 | P8: =SUM('[1]3内'!R$34) -> 0 | Q8: =SUM('[1]3内'!R$36) -> 0 | R8: =SUM('[1]3内'!R$38) -> 0 | S8: =SUM('[1]3内'!R$40) -> 0 | T8: =SUM('[1]3内'!R$42) -> 0 | U8: =SUM('[1]3内'!R$44) -> 0 | V8: =SUM('[1]3内'!R$46) -> 0 | W8: =SUM('[1]3内'!R$47) -> 0
A9: 内閣官房 | C9: 575 | D9: 54 | E9: 0 | F9: 0 | G9: 0 | H9: 0 | I9: 0 | J9: 0 | K9: 0 | L9: 0 | M9: =SUM('[1]3内'!R$29) -> 0 | N9: =SUM('[1]3内'!R$31) -> 0 | O9: =SUM('[1]3内'!R$33) -> 0 | P9: =SUM('[1]3内'!R$35) -> 0 | Q9: =SUM('[1]3内'!R$37) -> 0 | R9: =SUM('[1]3内'!R$39) -> 0 | S9: =SUM('[1]3内'!R$41) -> 21 | T9: =SUM('[1]3内'!R$43) -> 28 | U9: =SUM('[1]3内'!R$45) -> 0 | V9: =SUM('[1]3内'!R$47) -> 0 | W9: =SUM('[1]3内'!R$49) -> 678
C10: 0 | D10: 0 | E10: 0 | F10: 0 | G10: 0 | H10: 0 | I10: 0 | J10: 0 | K10: 0 | L10: 0 | M10: =SUM('[1]4内'!R$28) -> 0 | N10: =SUM('[1]4内'!R$30) -> 0 | O10: =SUM('[1]4内'!R$32) -> 0 | P10: =SUM('[1]4内'!R$34) -> 0 | Q10: =SUM('[1]4内'!R$36) -> 0 | R10: =SUM('[1]4内'!R$38) -> 0 | S10: =SUM('[1]4内'!R$40) -> 0 | T10: =SUM('[1]4内'!R$42) -> 0 | U10: =SUM('[1]4内'!R$44) -> 0 | V10: =SUM('[1]4内'!R$46) -> 0 | W10: =SUM('[1]4内'!R$48) -> 0
A11: 内閣法制局 | C11: 63 | D11: 5 | E11: 0 | F11: 0 | G11: 0 | H11: 0 | I11: 0 | J11: 0 | K11: 0 | L11: 0 | M11: =SUM('[1]4内'!R$29) -> 0 | N11: =SUM('[1]4内'!R$31) -> 0 | O11: =SUM('[1]4内'!R$33) -> 0 | P11: =SUM('[1]4内'!R$35) -> 0 | Q11: =SUM('[1]4内'!R$37) -> 0 | R11: =SUM('[1]4内'!R$39) -> 0 | S11: =SUM('[1]4内'!R$41) -> 5 | T11: =SUM('[1]4内'!R$43) -> 0 | U11: =SUM('[1]4内'!R$45) -> 0 | V11: =SUM('[1]4内'!R$47) -> 0 | W11: =SUM('[1]4内'!R$49) -> 73
C12: 3 | D12: 0 | E12: 0 | F12: 0 | G12: 0 | H12: 0 | I12: 0 | J12: 0 | K12: 0 | L12: 0 | M12: =SUM('[1]5内'!R$28) -> 0 | N12: =SUM('[1]5内'!R$30) -> 0 | O12: =SUM('[1]5内'!R$32) -> 0 | P12: =SUM('[1]5内'!R$34) -> 0 | Q12: =SUM('[1]5内'!R$36) -> 0 | R12: =SUM('[1]5内'!R$38) -> 0 | S12: =SUM('[1]5内'!R$40) -> 0 | T12: =SUM('[1]5内'!R$42) -> 0 | U12: =SUM('[1]5内'!R$44) -> 0 | V12: =SUM('[1]5内'!R$46) -> 0 | W12: =SUM('[1]5内'!R$48) -> 3
A13: 内閣府 | C13: 2136 | D13: 81 | E13: 7 | F13: 0 | G13: 0 | H13: 0 | I13: 0 | J13: 0 | K13: 0 | L13: 0 | M13: =SUM('[1]5内'!R$29) -> 20 | N13: =SUM('[1]5内'!R$31) -> 1 | O13: =SUM('[1]5内'!R$33) -> 0 | P13: =SUM('[1]5内'!R$35) -> 2 | Q13: =SUM('[1]5内'!R$37) -> 0 | R13: =SUM('[1]5内'!R$39) -> 3 | S13: =SUM('[1]5内'!R$41) -> 54 | T13: =SUM('[1]5内'!R$43) -> 33 | U13: =SUM('[1]5内'!R$45) -> 1 | V13: =SUM('[1]5内'!R$47) -> 1 | W13: =SUM('[1]5内'!R$49) -> 2339
C14: 0 | D14: 0 | E14: 0 | F14: 0 | G14: 0 | H14: 0 | I14: 0 | J14: 0 | K14: 0 | L14: 0 | M14: =SUM('[1]6宮'!R$28) -> 0 | N14: =SUM('[1]6宮'!R$30) -> 0 | O14: =SUM('[1]6宮'!R$32) -> 0 | P14: =SUM('[1]6宮'!R$34) -> 0 | Q14: =SUM('[1]6宮'!R$36) -> 0 | R14: =SUM('[1]6宮'!R$38) -> 0 | S14: =SUM('[1]6宮'!R$40) -> 0 | T14: =SUM('[1]6宮'!R$42) -> 0 | U14: =SUM('[1]6宮'!R$44) -> 0 | V14: =SUM('[1]6宮'!R$46) -> 0 | W14: =SUM('[1]6宮'!R$48) -> 0
A15: 宮内庁 | C15: 686 | D15: 186 | E15: 0 | F15: 0 | G15: 0 | H15: 0 | I15: 0 | J15: 0 | K15: 0 | L15: 0 | M15: =SUM('[1]6宮'!R$29) -> 47 | N15: =SUM('[1]6宮'!R$31) -> 7 | O15: =SUM('[1]6宮'!R$33) -> 6 | P15: =SUM('[1]6宮'!R$35) -> 20 | Q15: =SUM('[1]6宮'!R$37) -> 0 | R15: =SUM('[1]6宮'!R$39) -> 0 | S15: =SUM('[1]6宮'!R$41) -> 8 | T15: =SUM('[1]6宮'!R$43) -> 0 | U15: =SUM('[1]6宮'!R$45) -> 0 | V15: =SUM('[1]6宮'!R$47) -> 0 | W15: =SUM('[1]6宮'!R$49) -> 960
C16: 2 | D16: 0 | E16: 0 | F16: 0 | G16: 0 | H16: 0 | I16: 0 | J16: 0 | K16: 0 | L16: 0 | M16: =SUM('[1]7公'!R$28) -> 0 | N16: =SUM('[1]7公'!R$30) -> 0 | O16: =SUM('[1]7公'!R$32) -> 0 | P16: =SUM('[1]7公'!R$34) -> 0 | Q16: =SUM('[1]7公'!R$36) -> 0 | R16: =SUM('[1]7公'!R$38) -> 0 | S16: =SUM('[1]7公'!R$40) -> 0 | T16: =SUM('[1]7公'!R$42) -> 0 | U16: =SUM('[1]7公'!R$44) -> 0 | V16: =SUM('[1]7公'!R$46) -> 0 | W16: =SUM('[1]7公'!R$48) -> 2
A17: 公正取引委員会 | C17: 690 | D17: 5 | E17: 0 | F17: 0 | G17: 0 | H17: 0 | I17: 0 | J17: 0 | K17: 0 | L17: 0 | M17: =SUM('[1]7公'!R$29) -> 0 | N17: =SUM('[1]7公'!R$31) -> 0 | O17: =SUM('[1]7公'!R$33) -> 0 | P17: =SUM('[1]7公'!R$35) -> 0 | Q17: =SUM('[1]7公'!R$37) -> 0 | R17: =SUM('[1]7公'!R$39) -> 0 | S17: =SUM('[1]7公'!R$41) -> 11 | T17: =SUM('[1]7公'!R$43) -> 23 | U17: =SUM('[1]7公'!R$45) -> 0 | V17: =SUM('[1]7公'!R$47) -> 0 | W17: =SUM('[1]7公'!R$49) -> 729
C18: 0 | D18: 0 | E18: 0 | F18: 0 | G18: 10 | H18: 0 | I18: 0 | J18: 0 | K18: 0 | L18: 0 | M18: =SUM('[1]8警'!R$28) -> 0 | N18: =SUM('[1]8警'!R$30) -> 0 | O18: =SUM('[1]8警'!R$32) -> 0 | P18: =SUM('[1]8警'!R$34) -> 0 | Q18: =SUM('[1]8警'!R$36) -> 0 | R18: =SUM('[1]8警'!R$38) -> 0 | S18: =SUM('[1]8警'!R$40) -> 1 | T18: =SUM('[1]8警'!R$42) -> 0 | U18: =SUM('[1]8警'!R$44) -> 0 | V18: =SUM('[1]8警'!R$46) -> 0 | W18: =SUM('[1]8警'!R$48) -> 11
A19: 警察庁 | C19: 4463 | D19: 85 | E19: 0 | F19: 0 | G19: 3235 | H19: 0 | I19: 0 | J19: 0 | K19: 0 | L19: 0 | M19: =SUM('[1]8警'!R$29) -> 95 | N19: =SUM('[1]8警'!R$31) -> 3 | O19: =SUM('[1]8警'!R$33) -> 5 | P19: =SUM('[1]8警'!R$35) -> 11 | Q19: =SUM('[1]8警'!R$37) -> 0 | R19: =SUM('[1]8警'!R$39) -> 5 | S19: =SUM('[1]8警'!R$41) -> 67 | T19: =SUM('[1]8警'!R$43) -> 0 | U19: =SUM('[1]8警'!R$45) -> 1 | V19: =SUM('[1]8警'!R$47) -> 0 | W19: =SUM('[1]8警'!R$49) -> 7970
C20: 0 | D20: 0 | E20: 0 | F20: 0 | G20: 0 | H20: 0 | I20: 0 | J20: 0 | K20: 0 | L20: 0 | M20: =SUM('[1]9金'!R$28) -> 0 | N20: =SUM('[1]9金'!R$30) -> 0 | O20: =SUM('[1]9金'!R$32) -> 0 | P20: =SUM('[1]9金'!R$34) -> 0 | Q20: =SUM('[1]9金'!R$36) -> 0 | R20: =SUM('[1]9金'!R$38) -> 0 | S20: =SUM('[1]9金'!R$40) -> 0 | T20: =SUM('[1]9金'!R$42) -> 0 | U20: =SUM('[1]9金'!R$44) -> 0 | V20: =SUM('[1]9金'!R$46) -> 0 | W20: =SUM('[1]9金'!R$48) -> 0
A21: 金融庁 | C21: 1294 | D21: 6 | E21: 0 | F21: 0 | G21: 0 | H21: 0 | I21: 0 | J21: 0 | K21: 0 | L21: 0 | M21: =SUM('[1]9金'!R$29) -> 0 | N21: =SUM('[1]9金'!R$31) -> 0 | O21: =SUM('[1]9金'!R$33) -> 0 | P21: =SUM('[1]9金'!R$35) -> 0 | Q21: =SUM('[1]9金'!R$37) -> 0 | R21: =SUM('[1]9金'!R$39) -> 0 | S21: =SUM('[1]9金'!R$41) -> 15 | T21: =SUM('[1]9金'!R$43) -> 115 | U21: =SUM('[1]9金'!R$45) -> 0 | V21: =SUM('[1]9金'!R$47) -> 0 | W21: =SUM('[1]9金'!R$49) -> 1430
C22: 0 | D22: 0 | E22: 0 | F22: 0 | G22: 0 | H22: 0 | I22: 0 | J22: 0 | K22: 0 | L22: 0 | M22: ='[1]10消 '!$R28 -> 0 | N22: ='[1]10消 '!$R30 -> 0 | O22: ='[1]10消 '!$R32 -> 0 | P22: ='[1]10消 '!$R34 -> 0 | Q22: ='[1]10消 '!$R36 -> 0 | R22: ='[1]10消 '!$R38 -> 0 | S22: ='[1]10消 '!$R40 -> 0 | T22: ='[1]10消 '!$R42 -> 0 | U22: ='[1]10消 '!$R44 -> 0 | V22: ='[1]10消 '!$R46 -> 0 | W22: ='[1]10消 '!$R48 -> 0
A23: 消費者庁 | C23: 183 | D23: 0 | E23: 0 | F23: 0 | G23: 0 | H23: 0 | I23: 0 | J23: 0 | K23: 0 | L23: 0 | M23: ='[1]10消 '!$R29 -> 0 | N23: ='[1]10消 '!$R31 -> 0 | O23: ='[1]10消 '!$R33 -> 0 | P23: ='[1]10消 '!$R35 -> 0 | Q23: ='[1]10消 '!$R37 -> 0 | R23: ='[1]10消 '!$R39 -> 0 | S23: ='[1]10消 '!$R41 -> 4 | T23: ='[1]10消 '!$R43 -> 5 | U23: ='[1]10消 '!$R45 -> 0 | V23: ='[1]10消 '!$R47 -> 0 | W23: ='[1]10消 '!$R49 -> 192
C24: 0 | D24: 0 | E24: 0 | F24: 0 | G24: 0 | H24: 0 | I24: 0 | J24: 0 | K24: 0 | L24: 0 | M24: =SUM('[1]11総'!R$28) -> 0 | N24: =SUM('[1]11総'!R$30) -> 0 | O24: =SUM('[1]11総'!R$32) -> 0 | P24: =SUM('[1]11総'!R$34) -> 0 | Q24: =SUM('[1]11総'!R$36) -> 0 | R24: =SUM('[1]11総'!R$38) -> 0 | S24: =SUM('[1]11総'!R$40) -> 0 | T24: =SUM('[1]11総'!R$42) -> 0 | U24: =SUM('[1]11総'!R$44) -> 0 | V24: =SUM('[1]11総'!R$46) -> 0 | W24: =SUM('[1]11総'!R$48) -> 0
A25: 総務省 | C25: 4840 | D25: 85 | E25: 0 | F25: 0 | G25: 0 | H25: 0 | I25: 0 | J25: 0 | K25: 0 | L25: 0 | M25: =SUM('[1]11総'!R$29) -> 0 | N25: =SUM('[1]11総'!R$31) -> 2 | O25: =SUM('[1]11総'!R$33) -> 2 | P25: =SUM('[1]11総'!R$35) -> 6 | Q25: =SUM('[1]11総'!R$37) -> 0 | R25: =SUM('[1]11総'!R$39) -> 10 | S25: =SUM('[1]11総'!R$41) -> 60 | T25: =SUM('[1]11総'!R$43) -> 2 | U25: =SUM('[1]11総'!R$45) -> 0 | V25: =SUM('[1]11総'!R$47) -> 0 | W25: =SUM('[1]11総'!R$49) -> 5007
C26: 0 | D26: 0 | E26: 0 | F26: 0 | G26: 0 | H26: 0 | I26: 0 | J26: 0 | K26: 0 | L26: 0 | M26: =SUM('[1]12公'!R$28) -> 0 | N26: =SUM('[1]12公'!R$30) -> 0 | O26: =SUM('[1]12公'!R$32) -> 0 | P26: =SUM('[1]12公'!R$34) -> 0 | Q26: =SUM('[1]12公'!R$36) -> 0 | R26: =SUM('[1]12公'!R$38) -> 0 | S26: =SUM('[1]12公'!R$40) -> 0 | T26: =SUM('[1]12公'!R$42) -> 0 | U26: =SUM('[1]12公'!R$44) -> 0 | V26: =SUM('[1]12公'!R$46) -> 0 | W26: =SUM('[1]12公'!R$48) -> 0
A27: 公害等調整委員会 | C27: 32 | D27: 1 | E27: 0 | F27: 0 | G27: 0 | H27: 0 | I27: 0 | J27: 0 | K27: 0 | L27: 0 | M27: =SUM('[1]12公'!R$29) -> 0 | N27: =SUM('[1]12公'!R$31) -> 0 | O27: =SUM('[1]12公'!R$33) -> 0 | P27: =SUM('[1]12公'!R$35) -> 0 | Q27: =SUM('[1]12公'!R$37) -> 0 | R27: =SUM('[1]12公'!R$39) -> 0 | S27: =SUM('[1]12公'!R$41) -> 2 | T27: =SUM('[1]12公'!R$43) -> 0 | U27: =SUM('[1]12公'!R$45) -> 0 | V27: =SUM('[1]12公'!R$47) -> 0 | W27: =SUM('[1]12公'!R$49) -> 35
C28: 0 | D28: 0 | E28: 0 | F28: 0 | G28: 0 | H28: 0 | I28: 0 | J28: 0 | K28: 0 | L28: 0 | M28: =SUM('[1]13消'!R$28) -> 0 | N28: =SUM('[1]13消'!R$30) -> 0 | O28: =SUM('[1]13消'!R$32) -> 0 | P28: =SUM('[1]13消'!R$34) -> 0 | Q28: =SUM('[1]13消'!R$36) -> 0 | R28: =SUM('[1]13消'!R$38) -> 0 | S28: =SUM('[1]13消'!R$40) -> 0 | T28: =SUM('[1]13消'!R$42) -> 0 | U28: =SUM('[1]13消'!R$44) -> 0 | V28: =SUM('[1]13消'!R$46) -> 0 | W28: =SUM('[1]13消'!R$48) -> 0
A29: 消防庁 | C29: 126 | D29: 1 | E29: 0 | F29: 0 | G29: 0 | H29: 0 | I29: 0 | J29: 0 | K29: 0 | L29: 0 | M29: =SUM('[1]13消'!R$29) -> 27 | N29: =SUM('[1]13消'!R$31) -> 0 | O29: =SUM('[1]13消'!R$33) -> 0 | P29: =SUM('[1]13消'!R$35) -> 0 | Q29: =SUM('[1]13消'!R$37) -> 0 | R29: =SUM('[1]13消'!R$39) -> 0 | S29: =SUM('[1]13消'!R$41) -> 6 | T29: =SUM('[1]13消'!R$43) -> 0 | U29: =SUM('[1]13消'!R$45) -> 0 | V29: =SUM('[1]13消'!R$47) -> 0 | W29: =SUM('[1]13消'!R$49) -> 160
C30: 0 | D30: 0 | E30: 0 | F30: 0 | G30: 0 | H30: 0 | I30: 0 | J30: 0 | K30: 0 | L30: 0 | M30: =SUM('[1]14法'!R$28) -> 0 | N30: =SUM('[1]14法'!R$30) -> 0 | O30: =SUM('[1]14法'!R$32) -> 0 | P30: =SUM('[1]14法'!R$34) -> 0 | Q30: =SUM('[1]14法'!R$36) -> 0 | R30: =SUM('[1]14法'!R$38) -> 0 | S30: =SUM('[1]14法'!R$40) -> 0 | T30: =SUM('[1]14法'!R$42) -> 0 | U30: =SUM('[1]14法'!R$44) -> 0 | V30: =SUM('[1]14法'!R$46) -> 0 | W30: =SUM('[1]14法'!R$48) -> 0
A31: 法務省 | C31: 14994 | D31: 391 | E31: 0 | F31: 0 | G31: 19224 | H31: 11864 | I31: 0 | J31: 0 | K31: 0 | L31: 0 | M31: =SUM('[1]14法'!R$29) -> 14 | N31: =SUM('[1]14法'!R$31) -> 299 | O31: =SUM('[1]14法'!R$33) -> 116 | P31: =SUM('[1]14法'!R$35) -> 296 | Q31: =SUM('[1]14法'!R$37) -> 0 | R31: =SUM('[1]14法'!R$39) -> 1 | S31: =SUM('[1]14法'!R$41) -> 24 | T31: =SUM('[1]14法'!R$43) -> 11 | U31: =SUM('[1]14法'!R$45) -> 0 | V31: =SUM('[1]14法'!R$47) -> 0 | W31: =SUM('[1]14法'!R$49) -> 47234
C32: 0 | D32: 0 | E32: 0 | F32: 0 | G32: 0 | H32: 0 | I32: 0 | J32: 0 | K32: 0 | L32: 0 | M32: =SUM('[1]15公'!R$28) -> 0 | N32: =SUM('[1]15公'!R$30) -> 0 | O32: =SUM('[1]15公'!R$32) -> 0 | P32: =SUM('[1]15公'!R$34) -> 0 | Q32: =SUM('[1]15公'!R$36) -> 0 | R32: =SUM('[1]15公'!R$38) -> 0 | S32: =SUM('[1]15公'!R$40) -> 0 | T32: =SUM('[1]15公'!R$42) -> 0 | U32: =SUM('[1]15公'!R$44) -> 0 | V32: =SUM('[1]15公'!R$46) -> 0 | W32: =SUM('[1]15公'!R$48) -> 0
A33: 公安審査委員会 | C33: 4 | D33: 0 | E33: 0 | F33: 0 | G33: 0 | H33: 0 | I33: 0 | J33: 0 | K33: 0 | L33: 0 | M33: =SUM('[1]15公'!R$29) -> 0 | N33: =SUM('[1]15公'!R$31) -> 0 | O33: =SUM('[1]15公'!R$33) -> 0 | P33: =SUM('[1]15公'!R$35) -> 0 | Q33: =SUM('[1]15公'!R$37) -> 0 | R33: =SUM('[1]15公'!R$39) -> 0 | S33: =SUM('[1]15公'!R$41) -> 0 | T33: =SUM('[1]15公'!R$43) -> 0 | U33: =SUM('[1]15公'!R$45) -> 0 | V33: =SUM('[1]15公'!R$47) -> 0 | W33: =SUM('[1]15公'!R$49) -> 4
C34: 0 | D34: 0 | E34: 0 | F34: 0 | G34: 0 | H34: 0 | I34: 0 | J34: 0 | K34: 0 | L34: 0 | M34: =SUM('[1]16公'!R$28) -> 0 | N34: =SUM('[1]16公'!R$30) -> 0 | O34: =SUM('[1]16公'!R$32) -> 0 | P34: =SUM('[1]16公'!R$34) -> 0 | Q34: =SUM('[1]16公'!R$36) -> 0 | R34: =SUM('[1]16公'!R$38) -> 0 | S34: =SUM('[1]16公'!R$40) -> 0 | T34: =SUM('[1]16公'!R$42) -> 0 | U34: =SUM('[1]16公'!R$44) -> 0 | V34: =SUM('[1]16公'!R$46) -> 0 | W34: =SUM('[1]16公'!R$48) -> 0
A35: 公安調査庁 | C35: 72 | D35: 5 | E35: 0 | F35: 0 | G35: 0 | H35: 1404 | I35: 0 | J35: 0 | K35: 0 | L35: 0 | M35: =SUM('[1]16公'!R$29) -> 0 | N35: =SUM('[1]16公'!R$31) -> 0 | O35: =SUM('[1]16公'!R$33) -> 0 | P35: =SUM('[1]16公'!R$35) -> 0 | Q35: =SUM('[1]16公'!R$37) -> 0 | R35: =SUM('[1]16公'!R$39) -> 0 | S35: =SUM('[1]16公'!R$41) -> 6 | T35: =SUM('[1]16公'!R$43) -> 0 | U35: =SUM('[1]16公'!R$45) -> 0 | V35: =SUM('[1]16公'!R$47) -> 0 | W35: =SUM('[1]16公'!R$49) -> 1487
C36: 20 | D36: 0 | E36: 0 | F36: 0 | G36: 0 | H36: 0 | I36: 0 | J36: 0 | K36: 0 | L36: 0 | M36: =SUM('[1]17外'!R$28) -> 0 | N36: =SUM('[1]17外'!R$30) -> 0 | O36: =SUM('[1]17外'!R$32) -> 0 | P36: =SUM('[1]17外'!R$34) -> 0 | Q36: =SUM('[1]17外'!R$36) -> 0 | R36: =SUM('[1]17外'!R$38) -> 0 | S36: =SUM('[1]17外'!R$40) -> 2 | T36: =SUM('[1]17外'!R$42) -> 0 | U36: =SUM('[1]17外'!R$44) -> 0 | V36: =SUM('[1]17外'!R$46) -> 0 | W36: =SUM('[1]17外'!R$48) -> 22
A37: 外務省 | C37: 5272 | D37: 78 | E37: 0 | F37: 0 | G37: 0 | H37: 0 | I37: 0 | J37: 0 | K37: 0 | L37: 0 | M37: =SUM('[1]17外'!R$29) -> 0 | N37: =SUM('[1]17外'!R$31) -> 95 | O37: =SUM('[1]17外'!R$33) -> 3 | P37: =SUM('[1]17外'!R$35) -> 7 | Q37: =SUM('[1]17外'!R$37) -> 0 | R37: =SUM('[1]17外'!R$39) -> 0 | S37: =SUM('[1]17外'!R$41) -> 63 | T37: =SUM('[1]17外'!R$43) -> 11 | U37: =SUM('[1]17外'!R$45) -> 0 | V37: =SUM('[1]17外'!R$47) -> 0 | W37: =SUM('[1]17外'!R$49) -> 5529
C38: 73 | D38: 0 | E38: 0 | F38: 0 | G38: 0 | H38: 0 | I38: 0 | J38: 0 | K38: 0 | L38: 0 | M38: =SUM('[1]18財'!R$28) -> 0 | N38: =SUM('[1]18財'!R$30) -> 0 | O38: =SUM('[1]18財'!R$32) -> 0 | P38: =SUM('[1]18財'!R$34) -> 0 | Q38: =SUM('[1]18財'!R$36) -> 0 | R38: =SUM('[1]18財'!R$38) -> 0 | S38: =SUM('[1]18財'!R$40) -> 11 | T38: =SUM('[1]18財'!R$42) -> 0 | U38: =SUM('[1]18財'!R$44) -> 0 | V38: =SUM('[1]18財'!R$46) -> 0 | W38: =SUM('[1]18財'!R$48) -> 84
A39: 財務省 | C39: 14654 | D39: 234 | E39: 0 | F39: 0 | G39: 0 | H39: 0 | I39: 29 | J39: 115 | K39: 0 | L39: 0 | M39: =SUM('[1]18財'!R$29) -> 0 | N39: =SUM('[1]18財'!R$31) -> 1 | O39: =SUM('[1]18財'!R$33) -> 1 | P39: =SUM('[1]18財'!R$35) -> 11 | Q39: =SUM('[1]18財'!R$37) -> 0 | R39: =SUM('[1]18財'!R$39) -> 8 | S39: =SUM('[1]18財'!R$41) -> 54 | T39: =SUM('[1]18財'!R$43) -> 23 | U39: =SUM('[1]18財'!R$45) -> 0 | V39: =SUM('[1]18財'!R$47) -> 0 | W39: =SUM('[1]18財'!R$49) -> 15130
C40: 0 | D40: 0 | E40: 0 | F40: 0 | G40: 0 | H40: 0 | I40: 0 | J40: 0 | K40: 0 | L40: 0 | M40: =SUM('[1]19国'!R$28) -> 0 | N40: =SUM('[1]19国'!R$30) -> 0 | O40: =SUM('[1]19国'!R$32) -> 0 | P40: =SUM('[1]19国'!R$34) -> 0 | Q40: =SUM('[1]19国'!R$36) -> 0 | R40: =SUM('[1]19国'!R$38) -> 0 | S40: =SUM('[1]19国'!R$40) -> 0 | T40: =SUM('[1]19国'!R$42) -> 0 | U40: =SUM('[1]19国'!R$44) -> 0 | V40: =SUM('[1]19国'!R$46) -> 0 | W40: =SUM('[1]19国'!R$48) -> 0
...

Sheet Sheet2

Sheet Sheet3
