Workbook

Sheet Sheet1
B4: 第２表 俸給表別、級別在職者数 | O4: 常 勤 職 員
B5: 俸 給 表 名 | C5: 指 定 職 | D5: 職 務 の 級 | I5: (号 俸） | O5: 計
D6: 1 | E6: 2 | F6: 3 | G6: 4 | H6: 5 | I6: 6 | J6: 7 | K6: 8 | L6: 9 | M6: 10 | N6: 11
D7: ='[1]2第4表行(一)'!E85 -> 0 | E7: ='[1]2第4表行(一)'!F85 -> 5 | F7: ='[1]2第4表行(一)'!G85 -> 37 | G7: ='[1]2第4表行(一)'!H85 -> 38 | H7: ='[1]2第4表行(一)'!I85 -> 25 | I7: ='[1]2第4表行(一)'!J85 -> 106 | J7: ='[1]2第4表行(一)'!K85 -> 45 | K7: ='[1]2第4表行(一)'!L85 -> 34 | ... M7: ='[1]2第4表行(一)'!N85 -> 1 | O7: ='[1]2第4表行(一)'!O85 -> 312
B8: 行政職俸給表（一） | D8: ='[1]2第4表行(一)'!E86 -> 11212 | E8: ='[1]2第4表行(一)'!F86 -> 18671 | F8: ='[1]2第4表行(一)'!G86 -> 45995 | G8: ='[1]2第4表行(一)'!H86 -> 32237 | H8: ='[1]2第4表行(一)'!I86 -> 17665 | I8: ='[1]2第4表行(一)'!J86 -> 16551 | J8: ='[1]2第4表行(一)'!K86 -> 3644 | K8: ='[1]2第4表行(一)'!L86 -> 2173 | ... M8: ='[1]2第4表行(一)'!N86 -> 237 | O8: ='[1]2第4表行(一)'!O86 -> 149835
D9: ='[1]2第4表行(二)'!E74 -> 0 | E9: ='[1]2第4表行(二)'!F74 -> 0 | F9: ='[1]2第4表行(二)'!G74 -> 0 | G9: ='[1]2第4表行(二)'!H74 -> 0 | H9: ='[1]2第4表行(二)'!I74 -> 0 | O9: ='[1]2第4表行(二)'!N74 -> 0
B10: 行政職俸給表（二） | D10: ='[1]2第4表行(二)'!E75 -> 147 | E10: ='[1]2第4表行(二)'!F75 -> 1254 | F10: ='[1]2第4表行(二)'!G75 -> 2063 | G10: ='[1]2第4表行(二)'!H75 -> 466 | H10: ='[1]2第4表行(二)'!I75 -> 36 | O10: ='[1]2第4表行(二)'!N75 -> 3966
D11: ='[1]2第4表専行'!E18 -> 1 | E11: ='[1]2第4表専行'!F18 -> 0 | F11: ='[1]2第4表専行'!G18 -> 3 | G11: ='[1]2第4表専行'!H18 -> 2 | H11: ='[1]2第4表専行'!I18 -> 0 | I11: ='[1]2第4表専行'!J18 -> 1 | J11: ='[1]2第4表専行'!K18 -> 0 | K11: ='[1]2第4表専行'!L18 -> 0 | O11: ='[1]2第4表専行'!O18 -> 7
B12: 専門行政職俸給表 | D12: ='[1]2第4表専行'!E19 -> 1449 | E12: ='[1]2第4表専行'!F19 -> 1370 | F12: ='[1]2第4表専行'!G19 -> 2787 | G12: ='[1]2第4表専行'!H19 -> 2141 | H12: ='[1]2第4表専行'!I19 -> 356 | I12: ='[1]2第4表専行'!J19 -> 208 | J12: ='[1]2第4表専行'!K19 -> 47 | K12: ='[1]2第4表専行'!L19 -> 3 | O12: ='[1]2第4表専行'!O19 -> 8361
D13: ='[1]2第4表税･公'!E6 -> 0 | E13: ='[1]2第4表税･公'!F6 -> 0 | F13: ='[1]2第4表税･公'!G6 -> 0 | G13: ='[1]2第4表税･公'!H6 -> 0 | H13: ='[1]2第4表税･公'!I6 -> 0 | I13: ='[1]2第4表税･公'!J6 -> 0 | J13: ='[1]2第4表税･公'!K6 -> 0 | K13: ='[1]2第4表税･公'!L6 -> 0 | ... M13: ='[1]2第4表税･公'!N6 -> 0 | O13: ='[1]2第4表税･公'!P6 -> 0
B14: 税務職俸給表 | D14: ='[1]2第4表税･公'!E7 -> 6404 | E14: ='[1]2第4表税･公'!F7 -> 4357 | F14: ='[1]2第4表税･公'!G7 -> 5858 | G14: ='[1]2第4表税･公'!H7 -> 10545 | H14: ='[1]2第4表税･公'!I7 -> 13850 | I14: ='[1]2第4表税･公'!J7 -> 11708 | J14: ='[1]2第4表税･公'!K7 -> 1658 | K14: ='[1]2第4表税･公'!L7 -> 457 | ... M14: ='[1]2第4表税･公'!N7 -> 0 | O14: ='[1]2第4表税･公'!P7 -> 54951
D15: ='[1]2第4表税･公'!E16 -> 0 | E15: ='[1]2第4表税･公'!F16 -> 0 | F15: ='[1]2第4表税･公'!G16 -> 0 | G15: ='[1]2第4表税･公'!H16 -> 2 | H15: ='[1]2第4表税･公'!I16 -> 3 | I15: ='[1]2第4表税･公'!J16 -> 1 | J15: ='[1]2第4表税･公'!K16 -> 3 | K15: ='[1]2第4表税･公'!L16 -> 2 | ... O15: ='[1]2第4表税･公'!P16 -> 11
B16: 公安職俸給表（一） | D16: ='[1]2第4表税･公'!E17 -> 6584 | E16: ='[1]2第4表税･公'!F17 -> 6353 | F16: ='[1]2第4表税･公'!G17 -> 4055 | G16: ='[1]2第4表税･公'!H17 -> 2779 | H16: ='[1]2第4表税･公'!I17 -> 857 | I16: ='[1]2第4表税･公'!J17 -> 929 | J16: ='[1]2第4表税･公'!K17 -> 589 | K16: ='[1]2第4表税･公'!L17 -> 319 | ... O16: ='[1]2第4表税･公'!P17 -> 23112
D17: ='[1]2第4表税･公'!E28 -> 0 | E17: ='[1]2第4表税･公'!F28 -> 0 | F17: ='[1]2第4表税･公'!G28 -> 0 | G17: ='[1]2第4表税･公'!H28 -> 2 | H17: ='[1]2第4表税･公'!I28 -> 1 | I17: ='[1]2第4表税･公'!J28 -> 4 | J17: ='[1]2第4表税･公'!K28 -> 1 | K17: ='[1]2第4表税･公'!L28 -> 0 | ... M17: ='[1]2第4表税･公'!N28 -> 0 | O17: ='[1]2第4表税･公'!P28 -> 8
B18: 公安職俸給表（二） | D18: ='[1]2第4表税･公'!E29 -> 3449 | E18: ='[1]2第4表税･公'!F29 -> 3653 | F18: ='[1]2第4表税･公'!G29 -> 8064 | G18: ='[1]2第4表税･公'!H29 -> 4688 | H18: ='[1]2第4表税･公'!I29 -> 1481 | I18: ='[1]2第4表税･公'!J29 -> 1387 | J18: ='[1]2第4表税･公'!K29 -> 576 | K18: ='[1]2第4表税･公'!L29 -> 277 | ... M18: ='[1]2第4表税･公'!N29 -> 0 | O18: ='[1]2第4表税･公'!P29 -> 23649
D19: ='[1]2第4表海事'!E14 -> 0 | E19: ='[1]2第4表海事'!F14 -> 0 | F19: ='[1]2第4表海事'!G14 -> 0 | G19: ='[1]2第4表海事'!H14 -> 0 | H19: ='[1]2第4表海事'!I14 -> 0 | I19: ='[1]2第4表海事'!J14 -> 0 | J19: ='[1]2第4表海事'!K14 -> 0 | O19: ='[1]2第4表海事'!N14 -> 0
B20: 海事職俸給表（一） | D20: ='[1]2第4表海事'!E15 -> 4 | E20: ='[1]2第4表海事'!F15 -> 31 | F20: ='[1]2第4表海事'!G15 -> 64 | G20: ='[1]2第4表海事'!H15 -> 60 | H20: ='[1]2第4表海事'!I15 -> 30 | I20: ='[1]2第4表海事'!J15 -> 16 | J20: ='[1]2第4表海事'!K15 -> 0 | O20: ='[1]2第4表海事'!N15 -> 205
D21: ='[1]2第4表海事'!E30 -> 0 | E21: ='[1]2第4表海事'!F30 -> 0 | F21: ='[1]2第4表海事'!F30 -> 0 | G21: ='[1]2第4表海事'!G30 -> 0 | H21: ='[1]2第4表海事'!H30 -> 0 | I21: ='[1]2第4表海事'!I30 -> 0 | O21: ='[1]2第4表海事'!N30 -> 0
B22: 海事職俸給表（二） | D22: ='[1]2第4表海事'!E31 -> 14 | E22: ='[1]2第4表海事'!F31 -> 118 | F22: ='[1]2第4表海事'!G31 -> 82 | G22: ='[1]2第4表海事'!H31 -> 78 | H22: ='[1]2第4表海事'!I31 -> 57 | I22: ='[1]2第4表海事'!J31 -> 4 | O22: ='[1]2第4表海事'!N31 -> 353
D23: ='[1]2第4表教育1･2'!E10 -> 0 | E23: ='[1]2第4表教育1･2'!F10 -> 0 | F23: ='[1]2第4表教育1･2'!F10 -> 0 | G23: ='[1]2第4表教育1･2'!G10 -> 0 | H23: ='[1]2第4表教育1･2'!H10 -> 0 | O23: ='[1]2第4表教育1･2'!N10 -> 0
B24: 教育職俸給表（一） | D24: ='[1]2第4表教育1･2'!E11 -> 11 | E24: ='[1]2第4表教育1･2'!F11 -> 20 | F24: ='[1]2第4表教育1･2'!G11 -> 33 | G24: ='[1]2第4表教育1･2'!H11 -> 25 | H24: ='[1]2第4表教育1･2'!I11 -> 1 | O24: ='[1]2第4表教育1･2'!N11 -> 90
D25: ='[1]2第4表教育1･2'!E16 -> 0 | E25: ='[1]2第4表教育1･2'!F16 -> 0 | F25: ='[1]2第4表教育1･2'!G16 -> 0 | O25: ='[1]2第4表教育1･2'!N16 -> 0
B26: 教育職俸給表（二） | D26: ='[1]2第4表教育1･2'!E17 -> 0 | E26: ='[1]2第4表教育1･2'!F17 -> 102 | F26: ='[1]2第4表教育1･2'!G17 -> 1 | O26: ='[1]2第4表教育1･2'!N17 -> 103
D27: ='[1]2第4表研究'!D32 -> 0 | E27: ='[1]2第4表研究'!E32 -> 0 | F27: ='[1]2第4表研究'!F32 -> 0 | G27: ='[1]2第4表研究'!G32 -> 1 | H27: ='[1]2第4表研究'!H32 -> 0 | I27: ='[1]2第4表研究'!I32 -> 0 | O27: ='[1]2第4表研究'!N32 -> 1
B28: 研究職俸給表 | D28: ='[1]2第4表研究'!D33 -> 11 | E28: ='[1]2第4表研究'!E33 -> 297 | F28: ='[1]2第4表研究'!F33 -> 332 | G28: ='[1]2第4表研究'!G33 -> 317 | H28: ='[1]2第4表研究'!H33 -> 444 | I28: ='[1]2第4表研究'!I33 -> 0 | O28: ='[1]2第4表研究'!N33 -> 1401
D29: ='[1]2第4表医療(一)'!E38 -> 0 | E29: ='[1]2第4表医療(一)'!F38 -> 0 | F29: ='[1]2第4表医療(一)'!G38 -> 0 | G29: ='[1]2第4表医療(一)'!H38 -> 0 | H29: ='[1]2第4表医療(一)'!I38 -> 0 | O29: ='[1]2第4表医療(一)'!O38 -> 0
B30: 医療職俸給表（一） | D30: ='[1]2第4表医療(一)'!E39 -> 127 | E30: ='[1]2第4表医療(一)'!F39 -> 396 | F30: ='[1]2第4表医療(一)'!G39 -> 157 | G30: ='[1]2第4表医療(一)'!H39 -> 58 | H30: ='[1]2第4表医療(一)'!I39 -> 0 | O30: ='[1]2第4表医療(一)'!O39 -> 738
D31: ='[1]2第4表医療 (二)'!E30 -> 0 | E31: ='[1]2第4表医療 (二)'!F30 -> 0 | F31: ='[1]2第4表医療 (二)'!G30 -> 0 | G31: ='[1]2第4表医療 (二)'!H30 -> 0 | H31: ='[1]2第4表医療 (二)'!I30 -> 0 | I31: ='[1]2第4表医療 (二)'!J30 -> 0 | J31: ='[1]2第4表医療 (二)'!K30 -> 0 | K31: ='[1]2第4表医療 (二)'!L30 -> 0 | O31: ='[1]2第4表医療 (二)'!O30 -> 0
B32: 医療職俸給表（二） | D32: ='[1]2第4表医療 (二)'!E31 -> 39 | E32: ='[1]2第4表医療 (二)'!F31 -> 181 | F32: ='[1]2第4表医療 (二)'!G31 -> 148 | G32: ='[1]2第4表医療 (二)'!H31 -> 70 | H32: ='[1]2第4表医療 (二)'!I31 -> 23 | I32: ='[1]2第4表医療 (二)'!J31 -> 7 | J32: ='[1]2第4表医療 (二)'!K31 -> 0 | K32: ='[1]2第4表医療 (二)'!L31 -> 0 | O32: ='[1]2第4表医療 (二)'!O31 -> 468
D33: ='[1]2第4表 医療(三)'!E38 -> 0 | E33: ='[1]2第4表 医療(三)'!F38 -> 0 | F33: ='[1]2第4表 医療(三)'!G38 -> 0 | G33: ='[1]2第4表 医療(三)'!H38 -> 0 | H33: ='[1]2第4表 医療(三)'!I38 -> 0 | I33: ='[1]2第4表 医療(三)'!J38 -> 0 | J33: ='[1]2第4表 医療(三)'!K38 -> 0 | O33: ='[1]2第4表 医療(三)'!O38 -> 0
B34: 医療職俸給表（三） | D34: ='[1]2第4表 医療(三)'!E39 -> 227 | E34: ='[1]2第4表 医療(三)'!F39 -> 1374 | F34: ='[1]2第4表 医療(三)'!G39 -> 172 | G34: ='[1]2第4表 医療(三)'!H39 -> 42 | H34: ='[1]2第4表 医療(三)'!I39 -> 14 | I34: ='[1]2第4表 医療(三)'!J39 -> 4 | J34: ='[1]2第4表 医療(三)'!K39 -> 0 | O34: ='[1]2第4表 医療(三)'!O39 -> 1833
D35: ='[1]2第4表福祉･ｽﾀｯﾌ'!E6 -> 0 | E35: ='[1]2第4表福祉･ｽﾀｯﾌ'!F6 -> 0 | F35: ='[1]2第4表福祉･ｽﾀｯﾌ'!G6 -> 0 | G35: ='[1]2第4表福祉･ｽﾀｯﾌ'!H6 -> 0 | H35: ='[1]2第4表福祉･ｽﾀｯﾌ'!I6 -> 0 | I35: ='[1]2第4表福祉･ｽﾀｯﾌ'!J6 -> 0 | O35: ='[1]2第4表福祉･ｽﾀｯﾌ'!O6 -> 0
B36: 福祉職俸給表 | D36: ='[1]2第4表福祉･ｽﾀｯﾌ'!E7 -> 62 | E36: ='[1]2第4表福祉･ｽﾀｯﾌ'!F7 -> 102 | F36: ='[1]2第4表福祉･ｽﾀｯﾌ'!G7 -> 16 | G36: ='[1]2第4表福祉･ｽﾀｯﾌ'!H7 -> 56 | H36: ='[1]2第4表福祉･ｽﾀｯﾌ'!I7 -> 18 | I36: ='[1]2第4表福祉･ｽﾀｯﾌ'!J7 -> 0 | O36: ='[1]2第4表福祉･ｽﾀｯﾌ'!O7 -> 254
D37: ='[1]2第4表福祉･ｽﾀｯﾌ'!E50 -> 0 | E37: ='[1]2第4表福祉･ｽﾀｯﾌ'!F50 -> 0 | F37: ='[1]2第4表福祉･ｽﾀｯﾌ'!G50 -> 0 | O37: ='[1]2第4表福祉･ｽﾀｯﾌ'!O50 -> 0
B38: 専門スタッフ職俸給表 | D38: ='[1]2第4表福祉･ｽﾀｯﾌ'!E51 -> 8 | E38: ='[1]2第4表福祉･ｽﾀｯﾌ'!F51 -> 53 | F38: ='[1]2第4表福祉･ｽﾀｯﾌ'!G51 -> 68 | O38: ='[1]2第4表福祉･ｽﾀｯﾌ'!O51 -> 129
C39: ='[1]2第4表指定'!H42 -> 15 | O39: ='[1]2第4表指定'!H42 -> 15
B40: 指定職俸給表 | C40: ='[1]2第4表指定'!H43 -> 868 | O40: ='[1]2第4表指定'!H43 -> 868
D41: =[1]特定任期付職員!E48 -> 0 | E41: =[1]特定任期付職員!F48 -> 0 | F41: =[1]特定任期付職員!G48 -> 0 | G41: =[1]特定任期付職員!H48 -> 0 | H41: =[1]特定任期付職員!I48 -> 0 | I41: =[1]特定任期付職員!J48 -> 0 | J41: =[1]特定任期付職員!K48 -> 0 | O41: =[1]特定任期付職員!O48 -> 0
B42: 特定任期付職員俸給表 | D42: =[1]特定任期付職員!E49 -> 23 | E42: =[1]特定任期付職員!F49 -> 55 | F42: =[1]特定任期付職員!G49 -> 53 | G42: =[1]特定任期付職員!H49 -> 74 | H42: =[1]特定任期付職員!I49 -> 70 | I42: =[1]特定任期付職員!J49 -> 23 | J42: =SUM([1]特定任期付職員!K49,[1]特定任期付職員!L49) -> 11 | O42: =[1]特定任期付職員!O49 -> 309
D43: ='[1]１号、２号任期付研究員'!E12 -> 0 | E43: ='[1]１号、２号任期付研究員'!F12 -> 0 | F43: ='[1]１号、２号任期付研究員'!G12 -> 0 | G43: ='[1]１号、２号任期付研究員'!H12 -> 0 | H43: ='[1]１号、２号任期付研究員'!I12 -> 0 | I43: ='[1]１号、２号任期付研究員'!J12 -> 0 | O43: 0
B44: 第一号任期付研究員俸給表 | D44: ='[1]１号、２号任期付研究員'!E13 -> 31 | E44: ='[1]１号、２号任期付研究員'!F13 -> 13 | F44: ='[1]１号、２号任期付研究員'!G13 -> 1 | G44: ='[1]１号、２号任期付研究員'!H13 -> 0 | H44: ='[1]１号、２号任期付研究員'!I13 -> 1 | I44: ='[1]１号、２号任期付研究員'!J13 -> 0 | O44: ='[1]１号、２号任期付研究員'!O13 -> 46
D45: ='[1]１号、２号任期付研究員'!E28 -> 0 | E45: ='[1]１号、２号任期付研究員'!F28 -> 0 | F45: ='[1]１号、２号任期付研究員'!G28 -> 0 | O45: 0
B46: 第二号任期付研究員俸給表 | D46: ='[1]１号、２号任期付研究員'!E29 -> 17 | E46: ='[1]１号、２号任期付研究員'!F29 -> 9 | F46: ='[1]１号、２号任期付研究員'!G29 -> 1 | O46: ='[1]１号、２号任期付研究員'!O29 -> 27
B47: 合 計 | C47: =C39 -> 15 | D47: =SUM(D7,D9,D11,D13,D15,D17,D19,D21,D23,D25,D27,D29,D31,D33,D35,D37,D41,D43,D45) -> 1 | E47: =SUM(E7,E9,E11,E13,E15,E17,E19,E21,E23,E25,E27,E29,E31,E33,E35,E37,E41,E43,E45) -> 5 | F47: =SUM(F7,F9,F11,F13,F15,F17,F19,F21,F23,F25,F27,F29,F31,F33,F35,F37,F41,F43,F45) -> 40 | G47: =SUM(G7,G9,G11,G13,G15,G17,G19,G21,G23,G25,G27,G29,G31,G33,G35,G37,G41,G43,G45) -> 45 | H47: =SUM(H7,H9,H11,H13,H15,H17,H19,H21,H23,H25,H27,H29,H31,H33,H35,H37,H41,H43,H45) -> 29 | I47: =SUM(I7,I9,I11,I13,I15,I17,I19,I21,I23,I25,I27,I29,I31,I33,I35,I37,I41,I43,I45) -> 112 | J47: =SUM(J7,J9,J11,J13,J15,J17,J19,J21,J23,J25,J27,J29,J31,J33,J35,J37,J41,J43,J45) -> 49 | K47: =SUM(K7,K9,K11,K13,K15,K17,K19,K21,K23,K25,K27,K29,K31,K33,K35,K37,K41,K43,K45) -> 36 | ... N47: =SUM(N7,N9,N11,N13,N15,N17,N19,N21,N23,N25,N27,N29,N31,N33,N35,N37,N41,N43,N45) -> 0 | O47: =SUM(C47:N47) -> 354
C48: =C40 -> 868 | D48: =SUM(D8,D10,D12,D14,D16,D18,D20,D22,D24,D26,D28,D30,D32,D34,D36,D38,D42,D44,D46) -> 29819 | E48: =SUM(E8,E10,E12,E14,E16,E18,E20,E22,E24,E26,E28,E30,E32,E34,E36,E38,E42,E44,E46) -> 38409 | F48: =SUM(F8,F10,F12,F14,F16,F18,F20,F22,F24,F26,F28,F30,F32,F34,F36,F38,F42,F44,F46) -> 69950 | G48: =SUM(G8,G10,G12,G14,G16,G18,G20,G22,G24,G26,G28,G30,G32,G34,G36,G38,G42,G44,G46) -> 53636 | H48: =SUM(H8,H10,H12,H14,H16,H18,H20,H22,H24,H26,H28,H30,H32,H34,H36,H38,H42,H44,H46) -> 34903 | I48: =SUM(I8,I10,I12,I14,I16,I18,I20,I22,I24,I26,I28,I30,I32,I34,I36,I38,I42,I44,I46) -> 30837 | J48: =SUM(J8,J10,J12,J14,J16,J18,J20,J22,J24,J26,J28,J30,J32,J34,J36,J38,J42,J44,J46) -> 6525 | K48: =SUM(K8,K10,K12,K14,K16,K18,K20,K22,K24,K26,K28,K30,K32,K34,K36,K38,K42,K44,K46) -> 3229 | ... N48: =SUM(N8,N10,N12,N14,N16,N18,N20,N22,N24,N26,N28,N30,N32,N34,N36,N38,N42,N44,N46) -> 3 | O48: =SUM(C48:N48) -> 270698
B49: （注 1）特定任期付職員俸給表７号俸に号俸外５名を含む。
B50: （注 ２）上段の数は、常勤職員数の内数としての派遣職員数(国際機関等に派遣される一般職の国家公務員の処遇等に関する法律（昭和４５年法律第１１７号）
B51: 第２条第１項の規定により派遣された職員の数をいう。）である。

Sheet Sheet2

Sheet Sheet3
