Workbook
Name ＭＡＸたにがわ: #REF!
Name ＭＡＸとき: #REF!
Name ＭＡＸなすの: #REF!
Name ＭＡＸやまびこ_２: #REF!
Name あさま: #REF!
Name あずさ: #REF!
Name いしづち: #REF!
Name いなほ: #REF!
Name うずしお: #REF!
Name オーシャンアロー: #REF!
Name オホーツク: #REF!
Name かいじ: #REF!
Name かもしか: #REF!
Name かもめ: #REF!
Name きぬ: #REF!
Name きぬがわ: #REF!
Name きのさき: #REF!
Name きりしま: #REF!
Name くろしお: #REF!
Name けごん: #REF!
Name こだま_１: #REF!
Name こだま_２: #REF!
Name こだま_３: #REF!
Name こだま_４: #REF!
Name こまち: #REF!
Name さざなみ: #REF!
Name サロベツ: #REF!
Name サンダーバード: #REF!
Name シーガイアにちりん: #REF!
Name しおかぜ: #REF!
Name しおさい: #REF!
Name しなの: #REF!
Name しまんと: #REF!
Name しらさぎ: #REF!
Name スーパーあずさ: #REF!
Name スーパーいなば: #REF!
Name スーパーおおぞら: #REF!
Name スーパーおき: #REF!
Name スーパーカムイ: #REF!
Name スーパーくろしお: #REF!
Name スーパーとかち: #REF!
Name スーパーはくと: #REF!
Name スーパーひたち: #REF!
Name スーパービュー踊り子: #REF!
Name スーパーまつかぜ: #REF!
Name スーパー宗谷: #REF!
Name スーパー白鳥: #REF!
Name スーパー北斗: #REF!
Name スカイライナー: #REF!
Name スペーシアきぬがわ: #REF!
Name ソニック: #REF!
Name たにがわ: #REF!
Name タンゴエクスプローラー: #REF!
Name タンゴディスカバリー_天橋立: #REF!
Name タンゴディスカバリー_舞鶴: #REF!
Name たんば: #REF!
Name つがる: #REF!
Name つばさ: #REF!
Name つばめ: #REF!
Name とき: #REF!

Sheet 密度（平日年拡大値）
B1: 都道府県間発着人員密度分布図 | U1: （平日年拡大値）
B3: 北海道 | C3: 青 森 | D3: 岩 手 | E3: 宮 城 | F3: 秋 田 | G3: 山 形 | H3: 福 島 | I3: 茨 城 | J3: 栃 木 | K3: 群 馬 | L3: 埼 玉 | M3: 千 葉 | N3: 東 京 | O3: 神奈川 | P3: 新 潟 | Q3: 富 山 | R3: 石 川 | S3: 福 井 | T3: 山 梨 | U3: 長 野 | V3: 岐 阜 | W3: 静 岡 | X3: 愛 知 | Y3: 三 重 | Z3: 滋 賀 | AA3: 京 都 | AB3: 大 阪 | AC3: 兵 庫 | AD3: 奈 良 | AE3: 和歌山 | AF3: 鳥 取 | AG3: 島 根 | AH3: 岡 山 | AI3: 広 島 | AJ3: 山 口 | AK3: 徳 島 | AL3: 香 川 | AM3: 愛 媛 | AN3: 高 知 | AO3: 福 岡 | AP3: 佐 賀 | AQ3: 長 崎 | AR3: 熊 本 | AS3: 大 分 | AT3: 宮 崎 | AU3: 鹿児島 | AV3: 沖 縄 | AW3: 海 外 | AY3: 凡例設定 | BA3: R | BB3: G | BC3: B
A4: 北海道 | B4: ='都道府県間相互発着表（平日年拡大値）'!B3 -> 8613.6869 | C4: ='都道府県間相互発着表（平日年拡大値）'!C3 -> 249.27416 | D4: ='都道府県間相互発着表（平日年拡大値）'!D3 -> 37.906466 | E4: ='都道府県間相互発着表（平日年拡大値）'!E3 -> 24.952497 | F4: ='都道府県間相互発着表（平日年拡大値）'!F3 -> 21.777111 | G4: ='都道府県間相互発着表（平日年拡大値）'!G3 -> 4.453869 | H4: ='都道府県間相互発着表（平日年拡大値）'!H3 -> 45.711895 | I4: ='都道府県間相互発着表（平日年拡大値）'!I3 -> 17.694506 | ... AW4: ='都道府県間相互発着表（平日年拡大値）'!AW3 -> 6.431574 | AZ4: 3000 | BA4: 204 | BB4: 0 | BC4: 102
A5: 青 森 | B5: ='都道府県間相互発着表（平日年拡大値）'!B4 -> 328.84429 | C5: ='都道府県間相互発着表（平日年拡大値）'!C4 -> 584.31067 | D5: ='都道府県間相互発着表（平日年拡大値）'!D4 -> 293.0673 | E5: ='都道府県間相互発着表（平日年拡大値）'!E4 -> 488.78599 | F5: ='都道府県間相互発着表（平日年拡大値）'!F4 -> 42.337356 | G5: ='都道府県間相互発着表（平日年拡大値）'!G4 -> 68.983915 | H5: ='都道府県間相互発着表（平日年拡大値）'!H4 -> 41.699204 | I5: ='都道府県間相互発着表（平日年拡大値）'!I4 -> 18.968347 | ... AW5: ='都道府県間相互発着表（平日年拡大値）'!AW4 -> 21.003923 | AZ5: 2000 | BA5: 255 | BB5: 0 | BC5: 102
A6: 岩 手 | B6: ='都道府県間相互発着表（平日年拡大値）'!B5 -> 51.81322 | C6: ='都道府県間相互発着表（平日年拡大値）'!C5 -> 282.3061 | D6: ='都道府県間相互発着表（平日年拡大値）'!D5 -> 572.03506 | E6: ='都道府県間相互発着表（平日年拡大値）'!E5 -> 932.45109 | F6: ='都道府県間相互発着表（平日年拡大値）'!F5 -> 110.42715 | G6: ='都道府県間相互発着表（平日年拡大値）'!G5 -> 63.575644 | H6: ='都道府県間相互発着表（平日年拡大値）'!H5 -> 94.404606 | I6: ='都道府県間相互発着表（平日年拡大値）'!I5 -> 41.040994 | ... AW6: ='都道府県間相互発着表（平日年拡大値）'!AW5 -> 52.294593 | AZ6: 1000 | BA6: 255 | BB6: 102 | BC6: 153
A7: 宮 城 | B7: ='都道府県間相互発着表（平日年拡大値）'!B6 -> 40.720611 | C7: ='都道府県間相互発着表（平日年拡大値）'!C6 -> 483.80958 | D7: ='都道府県間相互発着表（平日年拡大値）'!D6 -> 998.29085 | E7: ='都道府県間相互発着表（平日年拡大値）'!E6 -> 615.46584 | F7: ='都道府県間相互発着表（平日年拡大値）'!F6 -> 242.31118 | G7: ='都道府県間相互発着表（平日年拡大値）'!G6 -> 61.014534 | H7: ='都道府県間相互発着表（平日年拡大値）'!H6 -> 2054.29 | I7: ='都道府県間相互発着表（平日年拡大値）'!I6 -> 121.8391 | ... AW7: ='都道府県間相互発着表（平日年拡大値）'!AW6 -> 36.413913 | AZ7: 500 | BA7: 255 | BB7: 124 | BC7: 128
A8: 秋 田 | B8: ='都道府県間相互発着表（平日年拡大値）'!B7 -> 11.532295 | C8: ='都道府県間相互発着表（平日年拡大値）'!C7 -> 63.008296 | D8: ='都道府県間相互発着表（平日年拡大値）'!D7 -> 156.99818 | E8: ='都道府県間相互発着表（平日年拡大値）'!E7 -> 285.82477 | F8: ='都道府県間相互発着表（平日年拡大値）'!F7 -> 66.50374 | G8: ='都道府県間相互発着表（平日年拡大値）'!G7 -> 21.336121 | H8: ='都道府県間相互発着表（平日年拡大値）'!H7 -> 51.84839 | I8: ='都道府県間相互発着表（平日年拡大値）'!I7 -> 11.488774 | ... AW8: ='都道府県間相互発着表（平日年拡大値）'!AW7 -> 0 | AZ8: 100 | BA8: 255 | BB8: 153 | BC8: 153
A9: 山 形 | B9: ='都道府県間相互発着表（平日年拡大値）'!B8 -> 13.866951 | C9: ='都道府県間相互発着表（平日年拡大値）'!C8 -> 20.5566 | D9: ='都道府県間相互発着表（平日年拡大値）'!D8 -> 19.161067 | E9: ='都道府県間相互発着表（平日年拡大値）'!E8 -> 90.494621 | F9: ='都道府県間相互発着表（平日年拡大値）'!F8 -> 5.063878 | G9: ='都道府県間相互発着表（平日年拡大値）'!G8 -> 32.130326 | H9: ='都道府県間相互発着表（平日年拡大値）'!H8 -> 36.841599 | I9: ='都道府県間相互発着表（平日年拡大値）'!I8 -> 29.577636 | ... AW9: ='都道府県間相互発着表（平日年拡大値）'!AW8 -> 26.124874 | AZ9: 70 | BA9: 255 | BB9: 204 | BC9: 204
A10: 福 島 | B10: ='都道府県間相互発着表（平日年拡大値）'!B9 -> 7.463384 | C10: ='都道府県間相互発着表（平日年拡大値）'!C9 -> 108.32316 | D10: ='都道府県間相互発着表（平日年拡大値）'!D9 -> 41.974387 | E10: ='都道府県間相互発着表（平日年拡大値）'!E9 -> 532.83207 | F10: ='都道府県間相互発着表（平日年拡大値）'!F9 -> 25.692408 | G10: ='都道府県間相互発着表（平日年拡大値）'!G9 -> 43.481089 | H10: ='都道府県間相互発着表（平日年拡大値）'!H9 -> 1715.6701 | I10: ='都道府県間相互発着表（平日年拡大値）'!I9 -> 133.02595 | ... AW10: ='都道府県間相互発着表（平日年拡大値）'!AW9 -> 4.341184 | AZ10: 50 | BA10: 255 | BB10: 255 | BC10: 153
A11: 茨 城 | B11: ='都道府県間相互発着表（平日年拡大値）'!B10 -> 20.686493 | C11: ='都道府県間相互発着表（平日年拡大値）'!C10 -> 47.745166 | D11: ='都道府県間相互発着表（平日年拡大値）'!D10 -> 66.085094 | E11: ='都道府県間相互発着表（平日年拡大値）'!E10 -> 108.93814 | F11: ='都道府県間相互発着表（平日年拡大値）'!F10 -> 9.835936 | G11: ='都道府県間相互発着表（平日年拡大値）'!G10 -> 8.568963 | H11: ='都道府県間相互発着表（平日年拡大値）'!H10 -> 155.34031 | I11: ='都道府県間相互発着表（平日年拡大値）'!I10 -> 223.14982 | ... AW11: ='都道府県間相互発着表（平日年拡大値）'!AW10 -> 24.831008 | AZ11: 30 | BA11: 204 | BB11: 255 | BC11: 204
A12: 栃 木 | B12: ='都道府県間相互発着表（平日年拡大値）'!B11 -> 17.045346 | C12: ='都道府県間相互発着表（平日年拡大値）'!C11 -> 59.796739 | D12: ='都道府県間相互発着表（平日年拡大値）'!D11 -> 7.54128 | E12: ='都道府県間相互発着表（平日年拡大値）'!E11 -> 181.59135 | F12: ='都道府県間相互発着表（平日年拡大値）'!F11 -> 24.75718 | G12: ='都道府県間相互発着表（平日年拡大値）'!G11 -> 67.043749 | H12: ='都道府県間相互発着表（平日年拡大値）'!H11 -> 69.782702 | I12: ='都道府県間相互発着表（平日年拡大値）'!I11 -> 17.643749 | ... AW12: ='都道府県間相互発着表（平日年拡大値）'!AW11 -> 35.467988 | AZ12: 10 | BA12: 204 | BB12: 236 | BC12: 255
A13: 群 馬 | B13: ='都道府県間相互発着表（平日年拡大値）'!B12 -> 6.720499 | C13: ='都道府県間相互発着表（平日年拡大値）'!C12 -> 10.023321 | D13: ='都道府県間相互発着表（平日年拡大値）'!D12 -> 55.093274 | E13: ='都道府県間相互発着表（平日年拡大値）'!E12 -> 112.12524 | F13: ='都道府県間相互発着表（平日年拡大値）'!F12 -> 10.964155 | G13: ='都道府県間相互発着表（平日年拡大値）'!G12 -> 12.521819 | H13: ='都道府県間相互発着表（平日年拡大値）'!H12 -> 55.830829 | I13: ='都道府県間相互発着表（平日年拡大値）'!I12 -> 45.316561 | ... AW13: ='都道府県間相互発着表（平日年拡大値）'!AW12 -> 5.323859 | AZ13: 5 | BA13: 204 | BB13: 204 | BC13: 255
A14: 埼 玉 | B14: ='都道府県間相互発着表（平日年拡大値）'!B13 -> 15.671606 | C14: ='都道府県間相互発着表（平日年拡大値）'!C13 -> 101.16014 | D14: ='都道府県間相互発着表（平日年拡大値）'!D13 -> 166.67937 | E14: ='都道府県間相互発着表（平日年拡大値）'!E13 -> 459.92583 | F14: ='都道府県間相互発着表（平日年拡大値）'!F13 -> 173.01421 | G14: ='都道府県間相互発着表（平日年拡大値）'!G13 -> 144.78762 | H14: ='都道府県間相互発着表（平日年拡大値）'!H13 -> 706.77416 | I14: ='都道府県間相互発着表（平日年拡大値）'!I13 -> 354.98171 | ... AW14: ='都道府県間相互発着表（平日年拡大値）'!AW13 -> 204.24123 | AZ14: 0 | BA14: 242 | BB14: 242 | BC14: 242
A15: 千 葉 | B15: ='都道府県間相互発着表（平日年拡大値）'!B14 -> 28.627187 | C15: ='都道府県間相互発着表（平日年拡大値）'!C14 -> 102.45858 | D15: ='都道府県間相互発着表（平日年拡大値）'!D14 -> 114.4598 | E15: ='都道府県間相互発着表（平日年拡大値）'!E14 -> 392.70808 | F15: ='都道府県間相互発着表（平日年拡大値）'!F14 -> 58.674847 | G15: ='都道府県間相互発着表（平日年拡大値）'!G14 -> 92.364942 | H15: ='都道府県間相互発着表（平日年拡大値）'!H14 -> 335.55546 | I15: ='都道府県間相互発着表（平日年拡大値）'!I14 -> 291.19107 | ... AW15: ='都道府県間相互発着表（平日年拡大値）'!AW14 -> 9.257552
A16: 東 京 | B16: ='都道府県間相互発着表（平日年拡大値）'!B15 -> 91.080505 | C16: ='都道府県間相互発着表（平日年拡大値）'!C15 -> 564.70742 | D16: ='都道府県間相互発着表（平日年拡大値）'!D15 -> 778.04511 | E16: ='都道府県間相互発着表（平日年拡大値）'!E15 -> 2725.1425 | F16: ='都道府県間相互発着表（平日年拡大値）'!F15 -> 256.04854 | G16: ='都道府県間相互発着表（平日年拡大値）'!G15 -> 639.33262 | H16: ='都道府県間相互発着表（平日年拡大値）'!H15 -> 2008.1528 | I16: ='都道府県間相互発着表（平日年拡大値）'!I15 -> 2679.1171 | ... AW16: ='都道府県間相互発着表（平日年拡大値）'!AW15 -> 1652.11
A17: 神奈川 | B17: ='都道府県間相互発着表（平日年拡大値）'!B16 -> 37.408258 | C17: ='都道府県間相互発着表（平日年拡大値）'!C16 -> 155.57107 | D17: ='都道府県間相互発着表（平日年拡大値）'!D16 -> 158.83282 | E17: ='都道府県間相互発着表（平日年拡大値）'!E16 -> 551.53199 | F17: ='都道府県間相互発着表（平日年拡大値）'!F16 -> 62.232093 | G17: ='都道府県間相互発着表（平日年拡大値）'!G16 -> 169.28169 | H17: ='都道府県間相互発着表（平日年拡大値）'!H16 -> 432.28309 | I17: ='都道府県間相互発着表（平日年拡大値）'!I16 -> 487.09047 | ... AW17: ='都道府県間相互発着表（平日年拡大値）'!AW16 -> 521.94985
A18: 新 潟 | B18: ='都道府県間相互発着表（平日年拡大値）'!B17 -> 3.441655 | C18: ='都道府県間相互発着表（平日年拡大値）'!C17 -> 24.564241 | D18: ='都道府県間相互発着表（平日年拡大値）'!D17 -> 10.527181 | E18: ='都道府県間相互発着表（平日年拡大値）'!E17 -> 65.676057 | F18: ='都道府県間相互発着表（平日年拡大値）'!F17 -> 9.769762 | G18: ='都道府県間相互発着表（平日年拡大値）'!G17 -> 25.201961 | H18: ='都道府県間相互発着表（平日年拡大値）'!H17 -> 20.957673 | I18: ='都道府県間相互発着表（平日年拡大値）'!I17 -> 79.746493 | ... AW18: ='都道府県間相互発着表（平日年拡大値）'!AW17 -> 29.299541
A19: 富 山 | B19: ='都道府県間相互発着表（平日年拡大値）'!B18 -> 0 | C19: ='都道府県間相互発着表（平日年拡大値）'!C18 -> 0.897795 | D19: ='都道府県間相互発着表（平日年拡大値）'!D18 -> 6.179569 | E19: ='都道府県間相互発着表（平日年拡大値）'!E18 -> 5.769687 | F19: ='都道府県間相互発着表（平日年拡大値）'!F18 -> 0.764922 | G19: ='都道府県間相互発着表（平日年拡大値）'!G18 -> 4.140817 | H19: ='都道府県間相互発着表（平日年拡大値）'!H18 -> 4.836371 | I19: ='都道府県間相互発着表（平日年拡大値）'!I18 -> 22.796848 | ... AW19: ='都道府県間相互発着表（平日年拡大値）'!AW18 -> 12.18314
A20: 石 川 | B20: ='都道府県間相互発着表（平日年拡大値）'!B19 -> 3.494751 | C20: ='都道府県間相互発着表（平日年拡大値）'!C19 -> 0 | D20: ='都道府県間相互発着表（平日年拡大値）'!D19 -> 0 | E20: ='都道府県間相互発着表（平日年拡大値）'!E19 -> 5.25292 | F20: ='都道府県間相互発着表（平日年拡大値）'!F19 -> 0 | G20: ='都道府県間相互発着表（平日年拡大値）'!G19 -> 0 | H20: ='都道府県間相互発着表（平日年拡大値）'!H19 -> 10.341737 | I20: ='都道府県間相互発着表（平日年拡大値）'!I19 -> 9.094615 | ... AW20: ='都道府県間相互発着表（平日年拡大値）'!AW19 -> 2.556943
A21: 福 井 | B21: ='都道府県間相互発着表（平日年拡大値）'!B20 -> 19.60153 | C21: ='都道府県間相互発着表（平日年拡大値）'!C20 -> 0.462756 | D21: ='都道府県間相互発着表（平日年拡大値）'!D20 -> 6.598014 | E21: ='都道府県間相互発着表（平日年拡大値）'!E20 -> 0 | F21: ='都道府県間相互発着表（平日年拡大値）'!F20 -> 3.876383 | G21: ='都道府県間相互発着表（平日年拡大値）'!G20 -> 10.180973 | H21: ='都道府県間相互発着表（平日年拡大値）'!H20 -> 7.671036 | I21: ='都道府県間相互発着表（平日年拡大値）'!I20 -> 38.959235 | ... AW21: ='都道府県間相互発着表（平日年拡大値）'!AW20 -> 27.439569
A22: 山 梨 | B22: ='都道府県間相互発着表（平日年拡大値）'!B21 -> 20.637056 | C22: ='都道府県間相互発着表（平日年拡大値）'!C21 -> 0.521941 | D22: ='都道府県間相互発着表（平日年拡大値）'!D21 -> 13.874202 | E22: ='都道府県間相互発着表（平日年拡大値）'!E21 -> 37.49843 | F22: ='都道府県間相互発着表（平日年拡大値）'!F21 -> 0 | G22: ='都道府県間相互発着表（平日年拡大値）'!G21 -> 13.416553 | H22: ='都道府県間相互発着表（平日年拡大値）'!H21 -> 7.132156 | I22: ='都道府県間相互発着表（平日年拡大値）'!I21 -> 22.700902 | ... AW22: ='都道府県間相互発着表（平日年拡大値）'!AW21 -> 10.352107
A23: 長 野 | B23: ='都道府県間相互発着表（平日年拡大値）'!B22 -> 10.534593 | C23: ='都道府県間相互発着表（平日年拡大値）'!C22 -> 9.000792 | D23: ='都道府県間相互発着表（平日年拡大値）'!D22 -> 9.709527 | E23: ='都道府県間相互発着表（平日年拡大値）'!E22 -> 56.133066 | F23: ='都道府県間相互発着表（平日年拡大値）'!F22 -> 4.480295 | G23: ='都道府県間相互発着表（平日年拡大値）'!G22 -> 3.91127 | H23: ='都道府県間相互発着表（平日年拡大値）'!H22 -> 41.29557 | I23: ='都道府県間相互発着表（平日年拡大値）'!I22 -> 70.312372 | ... AW23: ='都道府県間相互発着表（平日年拡大値）'!AW22 -> 80.001127
A24: 岐 阜 | B24: ='都道府県間相互発着表（平日年拡大値）'!B23 -> 0 | C24: ='都道府県間相互発着表（平日年拡大値）'!C23 -> 19.804197 | D24: ='都道府県間相互発着表（平日年拡大値）'!D23 -> 11.555233 | E24: ='都道府県間相互発着表（平日年拡大値）'!E23 -> 1.32694 | F24: ='都道府県間相互発着表（平日年拡大値）'!F23 -> 0 | G24: ='都道府県間相互発着表（平日年拡大値）'!G23 -> 4.396712 | H24: ='都道府県間相互発着表（平日年拡大値）'!H23 -> 28.047499 | I24: ='都道府県間相互発着表（平日年拡大値）'!I23 -> 28.520873 | ... AW24: ='都道府県間相互発着表（平日年拡大値）'!AW23 -> 1.500636
A25: 静 岡 | B25: ='都道府県間相互発着表（平日年拡大値）'!B24 -> 69.860248 | C25: ='都道府県間相互発着表（平日年拡大値）'!C24 -> 34.218066 | D25: ='都道府県間相互発着表（平日年拡大値）'!D24 -> 27.624739 | E25: ='都道府県間相互発着表（平日年拡大値）'!E24 -> 86.349493 | F25: ='都道府県間相互発着表（平日年拡大値）'!F24 -> 11.780757 | G25: ='都道府県間相互発着表（平日年拡大値）'!G24 -> 19.527367 | H25: ='都道府県間相互発着表（平日年拡大値）'!H24 -> 18.946589 | I25: ='都道府県間相互発着表（平日年拡大値）'!I24 -> 142.23886 | ... AW25: ='都道府県間相互発着表（平日年拡大値）'!AW24 -> 140.50619
A26: 愛 知 | B26: ='都道府県間相互発着表（平日年拡大値）'!B25 -> 19.330284 | C26: ='都道府県間相互発着表（平日年拡大値）'!C25 -> 9.013016 | D26: ='都道府県間相互発着表（平日年拡大値）'!D25 -> 20.872896 | E26: ='都道府県間相互発着表（平日年拡大値）'!E25 -> 65.133811 | F26: ='都道府県間相互発着表（平日年拡大値）'!F25 -> 10.289817 | G26: ='都道府県間相互発着表（平日年拡大値）'!G25 -> 18.569928 | H26: ='都道府県間相互発着表（平日年拡大値）'!H25 -> 123.45838 | I26: ='都道府県間相互発着表（平日年拡大値）'!I25 -> 156.1159 | ... AW26: ='都道府県間相互発着表（平日年拡大値）'!AW25 -> 30.918188
... A51: 海 外 | B51: ='都道府県間相互発着表（平日年拡大値）'!B50 -> 41.263295 | C51: ='都道府県間相互発着表（平日年拡大値）'!C50 -> 8.167812 | D51: ='都道府県間相互発着表（平日年拡大値）'!D50 -> 23.719442 | E51: ='都道府県間相互発着表（平日年拡大値）'!E50 -> 28.662827 | F51: ='都道府県間相互発着表（平日年拡大値）'!F50 -> 25.434178 | G51: ='都道府県間相互発着表（平日年拡大値）'!G50 -> 26.898605 | H51: ='都道府県間相互発着表（平日年拡大値）'!H50 -> 16.075543 | I51: ='都道府県間相互発着表（平日年拡大値）'!I50 -> 19.529678 | ... AW51: ='都道府県間相互発着表（平日年拡大値）'!AW50 -> 2.30985
D53: 300万人以上 | L53: 200万人以上 | T53: 100万人以上 | AB53: 50万人以上 | AJ53: 10万人以上 | AR53: 7万人以上
D55: 5万人以上 | L55: 3万人以上 | T55: 1万人以上 | AB55: 5千人以上 | AJ55: 5千人未満

Sheet 密度（平休年拡大値）
B1: 都道府県間発着人員密度分布図 | U1: （平休年拡大値）
B3: 北海道 | C3: 青 森 | D3: 岩 手 | E3: 宮 城 | F3: 秋 田 | G3: 山 形 | H3: 福 島 | I3: 茨 城 | J3: 栃 木 | K3: 群 馬 | L3: 埼 玉 | M3: 千 葉 | N3: 東 京 | O3: 神奈川 | P3: 新 潟 | Q3: 富 山 | R3: 石 川 | S3: 福 井 | T3: 山 梨 | U3: 長 野 | V3: 岐 阜 | W3: 静 岡 | X3: 愛 知 | Y3: 三 重 | Z3: 滋 賀 | AA3: 京 都 | AB3: 大 阪 | AC3: 兵 庫 | AD3: 奈 良 | AE3: 和歌山 | AF3: 鳥 取 | AG3: 島 根 | AH3: 岡 山 | AI3: 広 島 | AJ3: 山 口 | AK3: 徳 島 | AL3: 香 川 | AM3: 愛 媛 | AN3: 高 知 | AO3: 福 岡 | AP3: 佐 賀 | AQ3: 長 崎 | AR3: 熊 本 | AS3: 大 分 | AT3: 宮 崎 | AU3: 鹿児島 | AV3: 沖 縄 | AW3: 海 外 | AY3: 凡例設定 | BA3: R | BB3: G | BC3: B
A4: 北海道 | B4: ='都道府県間相互発着表（平休年拡大値）'!B3 -> 8218.4419 | C4: ='都道府県間相互発着表（平休年拡大値）'!C3 -> 321.25198 | D4: ='都道府県間相互発着表（平休年拡大値）'!D3 -> 43.571503 | E4: ='都道府県間相互発着表（平休年拡大値）'!E3 -> 32.333757 | F4: ='都道府県間相互発着表（平休年拡大値）'!F3 -> 25.7243 | G4: ='都道府県間相互発着表（平休年拡大値）'!G3 -> 11.729018 | H4: ='都道府県間相互発着表（平休年拡大値）'!H3 -> 25.843862 | I4: ='都道府県間相互発着表（平休年拡大値）'!I3 -> 19.956501 | ... AW4: ='都道府県間相互発着表（平休年拡大値）'!AW3 -> 21.090084 | AZ4: 3000 | BA4: 204 | BB4: 0 | BC4: 102
A5: 青 森 | B5: ='都道府県間相互発着表（平休年拡大値）'!B4 -> 321.25198 | C5: ='都道府県間相互発着表（平休年拡大値）'!C4 -> 539.29302 | D5: ='都道府県間相互発着表（平休年拡大値）'!D4 -> 251.74478 | E5: ='都道府県間相互発着表（平休年拡大値）'!E4 -> 440.15436 | F5: ='都道府県間相互発着表（平休年拡大値）'!F4 -> 52.859607 | G5: ='都道府県間相互発着表（平休年拡大値）'!G4 -> 35.334683 | H5: ='都道府県間相互発着表（平休年拡大値）'!H4 -> 63.957736 | I5: ='都道府県間相互発着表（平休年拡大値）'!I4 -> 33.683859 | ... AW5: ='都道府県間相互発着表（平休年拡大値）'!AW4 -> 14.823291 | AZ5: 2000 | BA5: 255 | BB5: 0 | BC5: 102
A6: 岩 手 | B6: ='都道府県間相互発着表（平休年拡大値）'!B5 -> 43.571503 | C6: ='都道府県間相互発着表（平休年拡大値）'!C5 -> 251.74478 | D6: ='都道府県間相互発着表（平休年拡大値）'!D5 -> 501.76845 | E6: ='都道府県間相互発着表（平休年拡大値）'!E5 -> 853.4883 | F6: ='都道府県間相互発着表（平休年拡大値）'!F5 -> 115.32747 | G6: ='都道府県間相互発着表（平休年拡大値）'!G5 -> 39.55015 | H6: ='都道府県間相互発着表（平休年拡大値）'!H5 -> 78.094727 | I6: ='都道府県間相互発着表（平休年拡大値）'!I5 -> 46.178342 | ... AW6: ='都道府県間相互発着表（平休年拡大値）'!AW5 -> 38.157196 | AZ6: 1000 | BA6: 255 | BB6: 102 | BC6: 153
A7: 宮 城 | B7: ='都道府県間相互発着表（平休年拡大値）'!B6 -> 32.333757 | C7: ='都道府県間相互発着表（平休年拡大値）'!C6 -> 440.15436 | D7: ='都道府県間相互発着表（平休年拡大値）'!D6 -> 853.4883 | E7: ='都道府県間相互発着表（平休年拡大値）'!E6 -> 484.59649 | F7: ='都道府県間相互発着表（平休年拡大値）'!F6 -> 241.41986 | G7: ='都道府県間相互発着表（平休年拡大値）'!G6 -> 57.084121 | H7: ='都道府県間相互発着表（平休年拡大値）'!H6 -> 1087.0639 | I7: ='都道府県間相互発着表（平休年拡大値）'!I6 -> 108.14597 | ... AW7: ='都道府県間相互発着表（平休年拡大値）'!AW6 -> 36.40044 | AZ7: 500 | BA7: 255 | BB7: 124 | BC7: 128
A8: 秋 田 | B8: ='都道府県間相互発着表（平休年拡大値）'!B7 -> 25.7243 | C8: ='都道府県間相互発着表（平休年拡大値）'!C7 -> 52.859607 | D8: ='都道府県間相互発着表（平休年拡大値）'!D7 -> 115.32747 | E8: ='都道府県間相互発着表（平休年拡大値）'!E7 -> 241.41986 | F8: ='都道府県間相互発着表（平休年拡大値）'!F7 -> 81.518104 | G8: ='都道府県間相互発着表（平休年拡大値）'!G7 -> 11.236649 | H8: ='都道府県間相互発着表（平休年拡大値）'!H7 -> 34.60647 | I8: ='都道府県間相互発着表（平休年拡大値）'!I7 -> 11.360357 | ... AW8: ='都道府県間相互発着表（平休年拡大値）'!AW7 -> 11.906359 | AZ8: 100 | BA8: 255 | BB8: 153 | BC8: 153
A9: 山 形 | B9: ='都道府県間相互発着表（平休年拡大値）'!B8 -> 11.729018 | C9: ='都道府県間相互発着表（平休年拡大値）'!C8 -> 35.334683 | D9: ='都道府県間相互発着表（平休年拡大値）'!D8 -> 39.55015 | E9: ='都道府県間相互発着表（平休年拡大値）'!E8 -> 57.084121 | F9: ='都道府県間相互発着表（平休年拡大値）'!F8 -> 11.236649 | G9: ='都道府県間相互発着表（平休年拡大値）'!G8 -> 39.726446 | H9: ='都道府県間相互発着表（平休年拡大値）'!H8 -> 34.534226 | I9: ='都道府県間相互発着表（平休年拡大値）'!I8 -> 20.354814 | ... AW9: ='都道府県間相互発着表（平休年拡大値）'!AW8 -> 21.402364 | AZ9: 70 | BA9: 255 | BB9: 204 | BC9: 204
A10: 福 島 | B10: ='都道府県間相互発着表（平休年拡大値）'!B9 -> 25.843862 | C10: ='都道府県間相互発着表（平休年拡大値）'!C9 -> 63.957736 | D10: ='都道府県間相互発着表（平休年拡大値）'!D9 -> 78.094727 | E10: ='都道府県間相互発着表（平休年拡大値）'!E9 -> 1087.0639 | F10: ='都道府県間相互発着表（平休年拡大値）'!F9 -> 34.60647 | G10: ='都道府県間相互発着表（平休年拡大値）'!G9 -> 34.534226 | H10: ='都道府県間相互発着表（平休年拡大値）'!H9 -> 1303.4066 | I10: ='都道府県間相互発着表（平休年拡大値）'!I9 -> 126.75707 | ... AW10: ='都道府県間相互発着表（平休年拡大値）'!AW9 -> 29.859766 | AZ10: 50 | BA10: 255 | BB10: 255 | BC10: 153
A11: 茨 城 | B11: ='都道府県間相互発着表（平休年拡大値）'!B10 -> 19.956501 | C11: ='都道府県間相互発着表（平休年拡大値）'!C10 -> 33.683859 | D11: ='都道府県間相互発着表（平休年拡大値）'!D10 -> 46.178342 | E11: ='都道府県間相互発着表（平休年拡大値）'!E10 -> 108.14597 | F11: ='都道府県間相互発着表（平休年拡大値）'!F10 -> 11.360357 | G11: ='都道府県間相互発着表（平休年拡大値）'!G10 -> 20.354814 | H11: ='都道府県間相互発着表（平休年拡大値）'!H10 -> 126.75707 | I11: ='都道府県間相互発着表（平休年拡大値）'!I10 -> 208.49134 | ... AW11: ='都道府県間相互発着表（平休年拡大値）'!AW10 -> 20.950893 | AZ11: 30 | BA11: 204 | BB11: 255 | BC11: 204
A12: 栃 木 | B12: ='都道府県間相互発着表（平休年拡大値）'!B11 -> 33.105265 | C12: ='都道府県間相互発着表（平休年拡大値）'!C11 -> 36.345576 | D12: ='都道府県間相互発着表（平休年拡大値）'!D11 -> 28.437333 | E12: ='都道府県間相互発着表（平休年拡大値）'!E11 -> 200.537 | F12: ='都道府県間相互発着表（平休年拡大値）'!F11 -> 12.032053 | G12: ='都道府県間相互発着表（平休年拡大値）'!G11 -> 67.80472 | H12: ='都道府県間相互発着表（平休年拡大値）'!H11 -> 219.71286 | I12: ='都道府県間相互発着表（平休年拡大値）'!I11 -> 19.124401 | ... AW12: ='都道府県間相互発着表（平休年拡大値）'!AW11 -> 37.186702 | AZ12: 10 | BA12: 204 | BB12: 236 | BC12: 255
A13: 群 馬 | B13: ='都道府県間相互発着表（平休年拡大値）'!B12 -> 23.132823 | C13: ='都道府県間相互発着表（平休年拡大値）'!C12 -> 15.808829 | D13: ='都道府県間相互発着表（平休年拡大値）'!D12 -> 28.991783 | E13: ='都道府県間相互発着表（平休年拡大値）'!E12 -> 69.479997 | F13: ='都道府県間相互発着表（平休年拡大値）'!F12 -> 8.128295 | G13: ='都道府県間相互発着表（平休年拡大値）'!G12 -> 23.27067 | H13: ='都道府県間相互発着表（平休年拡大値）'!H12 -> 31.715663 | I13: ='都道府県間相互発着表（平休年拡大値）'!I12 -> 34.219152 | ... AW13: ='都道府県間相互発着表（平休年拡大値）'!AW12 -> 23.932476 | AZ13: 5 | BA13: 204 | BB13: 204 | BC13: 255
A14: 埼 玉 | B14: ='都道府県間相互発着表（平休年拡大値）'!B13 -> 21.635813 | C14: ='都道府県間相互発着表（平休年拡大値）'!C13 -> 122.60785 | D14: ='都道府県間相互発着表（平休年拡大値）'!D13 -> 219.75787 | E14: ='都道府県間相互発着表（平休年拡大値）'!E13 -> 420.13949 | F14: ='都道府県間相互発着表（平休年拡大値）'!F13 -> 115.68337 | G14: ='都道府県間相互発着表（平休年拡大値）'!G13 -> 144.62394 | H14: ='都道府県間相互発着表（平休年拡大値）'!H13 -> 577.05392 | I14: ='都道府県間相互発着表（平休年拡大値）'!I13 -> 268.78328 | ... AW14: ='都道府県間相互発着表（平休年拡大値）'!AW13 -> 189.24731 | AZ14: 0 | BA14: 242 | BB14: 242 | BC14: 242
A15: 千 葉 | B15: ='都道府県間相互発着表（平休年拡大値）'!B14 -> 16.561296 | C15: ='都道府県間相互発着表（平休年拡大値）'!C14 -> 114.60644 | D15: ='都道府県間相互発着表（平休年拡大値）'!D14 -> 158.68999 | E15: ='都道府県間相互発着表（平休年拡大値）'!E14 -> 413.67694 | F15: ='都道府県間相互発着表（平休年拡大値）'!F14 -> 63.866802 | G15: ='都道府県間相互発着表（平休年拡大値）'!G14 -> 145.39501 | H15: ='都道府県間相互発着表（平休年拡大値）'!H14 -> 359.95457 | I15: ='都道府県間相互発着表（平休年拡大値）'!I14 -> 334.8661 | ... AW15: ='都道府県間相互発着表（平休年拡大値）'!AW14 -> 12.534392
A16: 東 京 | B16: ='都道府県間相互発着表（平休年拡大値）'!B15 -> 113.16508 | C16: ='都道府県間相互発着表（平休年拡大値）'!C15 -> 582.64714 | D16: ='都道府県間相互発着表（平休年拡大値）'!D15 -> 880.86817 | E16: ='都道府県間相互発着表（平休年拡大値）'!E15 -> 2431.8877 | F16: ='都道府県間相互発着表（平休年拡大値）'!F15 -> 368.15957 | G16: ='都道府県間相互発着表（平休年拡大値）'!G15 -> 744.78898 | H16: ='都道府県間相互発着表（平休年拡大値）'!H15 -> 1939.8417 | I16: ='都道府県間相互発着表（平休年拡大値）'!I15 -> 2328.7482 | ... AW16: ='都道府県間相互発着表（平休年拡大値）'!AW15 -> 1428.159
A17: 神奈川 | B17: ='都道府県間相互発着表（平休年拡大値）'!B16 -> 33.519152 | C17: ='都道府県間相互発着表（平休年拡大値）'!C16 -> 129.61856 | D17: ='都道府県間相互発着表（平休年拡大値）'!D16 -> 201.84416 | E17: ='都道府県間相互発着表（平休年拡大値）'!E16 -> 622.4414 | F17: ='都道府県間相互発着表（平休年拡大値）'!F16 -> 73.845113 | G17: ='都道府県間相互発着表（平休年拡大値）'!G16 -> 189.07072 | H17: ='都道府県間相互発着表（平休年拡大値）'!H16 -> 503.94348 | I17: ='都道府県間相互発着表（平休年拡大値）'!I16 -> 472.11866 | ... AW17: ='都道府県間相互発着表（平休年拡大値）'!AW16 -> 529.72156
A18: 新 潟 | B18: ='都道府県間相互発着表（平休年拡大値）'!B17 -> 5.728643 | C18: ='都道府県間相互発着表（平休年拡大値）'!C17 -> 13.960981 | D18: ='都道府県間相互発着表（平休年拡大値）'!D17 -> 16.308933 | E18: ='都道府県間相互発着表（平休年拡大値）'!E17 -> 34.113861 | F18: ='都道府県間相互発着表（平休年拡大値）'!F17 -> 18.607788 | G18: ='都道府県間相互発着表（平休年拡大値）'!G17 -> 72.915865 | H18: ='都道府県間相互発着表（平休年拡大値）'!H17 -> 14.049875 | I18: ='都道府県間相互発着表（平休年拡大値）'!I17 -> 84.917982 | ... AW18: ='都道府県間相互発着表（平休年拡大値）'!AW17 -> 78.243557
A19: 富 山 | B19: ='都道府県間相互発着表（平休年拡大値）'!B18 -> 1.30687 | C19: ='都道府県間相互発着表（平休年拡大値）'!C18 -> 5.870296 | D19: ='都道府県間相互発着表（平休年拡大値）'!D18 -> 4.419993 | E19: ='都道府県間相互発着表（平休年拡大値）'!E18 -> 6.668499 | F19: ='都道府県間相互発着表（平休年拡大値）'!F18 -> 0.56231 | G19: ='都道府県間相互発着表（平休年拡大値）'!G18 -> 4.930592 | H19: ='都道府県間相互発着表（平休年拡大値）'!H18 -> 4.646101 | I19: ='都道府県間相互発着表（平休年拡大値）'!I18 -> 22.708455 | ... AW19: ='都道府県間相互発着表（平休年拡大値）'!AW18 -> 21.673772
A20: 石 川 | B20: ='都道府県間相互発着表（平休年拡大値）'!B19 -> 3.406363 | C20: ='都道府県間相互発着表（平休年拡大値）'!C19 -> 2.942223 | D20: ='都道府県間相互発着表（平休年拡大値）'!D19 -> 2.604606 | E20: ='都道府県間相互発着表（平休年拡大値）'!E19 -> 4.295246 | F20: ='都道府県間相互発着表（平休年拡大値）'!F19 -> 0.10016 | G20: ='都道府県間相互発着表（平休年拡大値）'!G19 -> 4.168527 | H20: ='都道府県間相互発着表（平休年拡大値）'!H19 -> 5.075514 | I20: ='都道府県間相互発着表（平休年拡大値）'!I19 -> 13.332703 | ... AW20: ='都道府県間相互発着表（平休年拡大値）'!AW19 -> 18.547496
A21: 福 井 | B21: ='都道府県間相互発着表（平休年拡大値）'!B20 -> 6.632298 | C21: ='都道府県間相互発着表（平休年拡大値）'!C20 -> 1.621021 | D21: ='都道府県間相互発着表（平休年拡大値）'!D20 -> 2.23248 | E21: ='都道府県間相互発着表（平休年拡大値）'!E20 -> 6.336188 | F21: ='都道府県間相互発着表（平休年拡大値）'!F20 -> 1.311599 | G21: ='都道府県間相互発着表（平休年拡大値）'!G20 -> 3.624171 | H21: ='都道府県間相互発着表（平休年拡大値）'!H20 -> 12.009335 | I21: ='都道府県間相互発着表（平休年拡大値）'!I20 -> 31.237728 | ... AW21: ='都道府県間相互発着表（平休年拡大値）'!AW20 -> 22.763207
A22: 山 梨 | B22: ='都道府県間相互発着表（平休年拡大値）'!B21 -> 9.131085 | C22: ='都道府県間相互発着表（平休年拡大値）'!C21 -> 4.172584 | D22: ='都道府県間相互発着表（平休年拡大値）'!D21 -> 13.471334 | E22: ='都道府県間相互発着表（平休年拡大値）'!E21 -> 79.857767 | F22: ='都道府県間相互発着表（平休年拡大値）'!F21 -> 0.539778 | G22: ='都道府県間相互発着表（平休年拡大値）'!G21 -> 14.424834 | H22: ='都道府県間相互発着表（平休年拡大値）'!H21 -> 14.598231 | I22: ='都道府県間相互発着表（平休年拡大値）'!I21 -> 40.247539 | ... AW22: ='都道府県間相互発着表（平休年拡大値）'!AW21 -> 14.518137
A23: 長 野 | B23: ='都道府県間相互発着表（平休年拡大値）'!B22 -> 17.574035 | C23: ='都道府県間相互発着表（平休年拡大値）'!C22 -> 14.564769 | D23: ='都道府県間相互発着表（平休年拡大値）'!D22 -> 11.090704 | E23: ='都道府県間相互発着表（平休年拡大値）'!E22 -> 53.081461 | F23: ='都道府県間相互発着表（平休年拡大値）'!F22 -> 7.424259 | G23: ='都道府県間相互発着表（平休年拡大値）'!G22 -> 15.667006 | H23: ='都道府県間相互発着表（平休年拡大値）'!H22 -> 36.492093 | I23: ='都道府県間相互発着表（平休年拡大値）'!I22 -> 80.540708 | ... AW23: ='都道府県間相互発着表（平休年拡大値）'!AW22 -> 88.653355
A24: 岐 阜 | B24: ='都道府県間相互発着表（平休年拡大値）'!B23 -> 1.640942 | C24: ='都道府県間相互発着表（平休年拡大値）'!C23 -> 6.700874 | D24: ='都道府県間相互発着表（平休年拡大値）'!D23 -> 6.988011 | E24: ='都道府県間相互発着表（平休年拡大値）'!E23 -> 6.475644 | F24: ='都道府県間相互発着表（平休年拡大値）'!F23 -> 1.557281 | G24: ='都道府県間相互発着表（平休年拡大値）'!G23 -> 1.769635 | H24: ='都道府県間相互発着表（平休年拡大値）'!H23 -> 17.558263 | I24: ='都道府県間相互発着表（平休年拡大値）'!I23 -> 33.867199 | ... AW24: ='都道府県間相互発着表（平休年拡大値）'!AW23 -> 5.815671
A25: 静 岡 | B25: ='都道府県間相互発着表（平休年拡大値）'!B24 -> 54.650314 | C25: ='都道府県間相互発着表（平休年拡大値）'!C24 -> 28.956708 | D25: ='都道府県間相互発着表（平休年拡大値）'!D24 -> 27.331596 | E25: ='都道府県間相互発着表（平休年拡大値）'!E24 -> 89.073971 | F25: ='都道府県間相互発着表（平休年拡大値）'!F24 -> 18.38043 | G25: ='都道府県間相互発着表（平休年拡大値）'!G24 -> 36.833142 | H25: ='都道府県間相互発着表（平休年拡大値）'!H24 -> 44.749606 | I25: ='都道府県間相互発着表（平休年拡大値）'!I24 -> 194.24281 | ... AW25: ='都道府県間相互発着表（平休年拡大値）'!AW24 -> 153.79306
A26: 愛 知 | B26: ='都道府県間相互発着表（平休年拡大値）'!B25 -> 22.027611 | C26: ='都道府県間相互発着表（平休年拡大値）'!C25 -> 14.230961 | D26: ='都道府県間相互発着表（平休年拡大値）'!D25 -> 33.00317 | E26: ='都道府県間相互発着表（平休年拡大値）'!E25 -> 58.559792 | F26: ='都道府県間相互発着表（平休年拡大値）'!F25 -> 9.243688 | G26: ='都道府県間相互発着表（平休年拡大値）'!G25 -> 20.720996 | H26: ='都道府県間相互発着表（平休年拡大値）'!H25 -> 78.919642 | I26: ='都道府県間相互発着表（平休年拡大値）'!I25 -> 162.88142 | ... AW26: ='都道府県間相互発着表（平休年拡大値）'!AW25 -> 58.443754
... A51: 海 外 | B51: ='都道府県間相互発着表（平休年拡大値）'!B50 -> 21.090084 | C51: ='都道府県間相互発着表（平休年拡大値）'!C50 -> 14.823291 | D51: ='都道府県間相互発着表（平休年拡大値）'!D50 -> 38.157196 | E51: ='都道府県間相互発着表（平休年拡大値）'!E50 -> 36.40044 | F51: ='都道府県間相互発着表（平休年拡大値）'!F50 -> 11.906359 | G51: ='都道府県間相互発着表（平休年拡大値）'!G50 -> 21.402364 | H51: ='都道府県間相互発着表（平休年拡大値）'!H50 -> 29.859766 | I51: ='都道府県間相互発着表（平休年拡大値）'!I50 -> 20.950893 | ... AW51: ='都道府県間相互発着表（平休年拡大値）'!AW50 -> 2.093058
D53: 300万人以上 | L53: 200万人以上 | T53: 100万人以上 | AB53: 50万人以上 | AJ53: 10万人以上 | AR53: 7万人以上
D55: 5万人以上 | L55: 3万人以上 | T55: 1万人以上 | AB55: 5千人以上 | AJ55: 5千人未満

Sheet 都道府県間相互発着表（平日年拡大値）
B1: 列車名：全列車計 | F1: 都 道 府 県 別 相 互 発 着 表 （平日年拡大値・Ｈ22) | P1: （単位：千人）
B2: 北海道 | C2: 青 森 | D2: 岩 手 | E2: 宮 城 | F2: 秋 田 | G2: 山 形 | H2: 福 島 | I2: 茨 城 | J2: 栃 木 | K2: 群 馬 | L2: 埼 玉 | M2: 千 葉 | N2: 東 京 | O2: 神奈川 | P2: 新 潟 | Q2: 富 山 | R2: 石 川 | S2: 福 井 | T2: 山 梨 | U2: 長 野 | V2: 岐 阜 | W2: 静 岡 | X2: 愛 知 | Y2: 三 重 | Z2: 滋 賀 | AA2: 京 都 | AB2: 大 阪 | AC2: 兵 庫 | AD2: 奈 良 | AE2: 和歌山 | AF2: 鳥 取 | AG2: 島 根 | AH2: 岡 山 | AI2: 広 島 | AJ2: 山 口 | AK2: 徳 島 | AL2: 香 川 | AM2: 愛 媛 | AN2: 高 知 | AO2: 福 岡 | AP2: 佐 賀 | AQ2: 長 崎 | AR2: 熊 本 | AS2: 大 分 | AT2: 宮 崎 | AU2: 鹿児島 | AV2: 沖 縄 | AW2: 海 外 | AX2: 合計
A3: 北海道 | B3: 8613.6869 | C3: 249.27416 | D3: 37.906466 | E3: 24.952497 | F3: 21.777111 | G3: 4.453869 | H3: 45.711895 | I3: 17.694506 | J3: 10.718726 | K3: 4.710168 | L3: 25.257276 | M3: 6.265788 | N3: 149.55538 | O3: 41.497208 | Q3: 1.301268 | U3: 13.776477 | W3: 53.352182 | X3: 15.501397 | Y3: 3.924815 | AA3: 71.459715 | AB3: 14.945211 | AC3: 9.976551 | AD3: 9.22373 | AE3: 3.213855 | AF3: 2.308736 | AI3: 4.210449 | AJ3: 5.385684 | AL3: 5.676707 | AM3: 1.713036 | AO3: 12.076177 | AQ3: 4.348358 | AR3: 7.987306 | AW3: 6.431574 | AX3: 9500.2752
A4: 青 森 | B4: 328.84429 | C4: 584.31067 | D4: 293.0673 | E4: 488.78599 | F4: 42.337356 | G4: 68.983915 | H4: 41.699204 | I4: 18.968347 | J4: 28.023776 | K4: 22.889076 | L4: 101.84753 | M4: 116.64994 | N4: 610.96678 | O4: 76.129584 | P4: 8.076494 | Q4: 10.686903 | S4: 3.06434 | T4: 3.790283 | U4: 21.197989 | W4: 21.822681 | X4: 10.347332 | Y4: 6.910059 | AB4: 11.624463 | AD4: 2.970608 | AG4: 3.577833 | AH4: 4.6197 | AI4: 2.193294 | AM4: 0.982981 | AO4: 20.629101 | AU4: 4.237056 | AW4: 21.003923 | AX4: 2981.2388
A5: 岩 手 | B5: 51.81322 | C5: 282.3061 | D5: 572.03506 | E5: 932.45109 | F5: 110.42715 | G5: 63.575644 | H5: 94.404606 | I5: 41.040994 | J5: 37.428852 | K5: 19.013016 | L5: 222.21792 | M5: 143.67079 | N5: 1005.7592 | O5: 201.50072 | P5: 18.700144 | Q5: 4.307446 | T5: 6.613287 | W5: 24.076787 | X5: 38.600488 | Y5: 13.176456 | Z5: 2.298255 | AA5: 12.731617 | AB5: 12.092425 | AH5: 4.402574 | AI5: 2.898906 | AM5: 6.593507 | AO5: 12.190857 | AW5: 52.294593 | AX5: 3988.6217
A6: 宮 城 | B6: 40.720611 | C6: 483.80958 | D6: 998.29085 | E6: 615.46584 | F6: 242.31118 | G6: 61.014534 | H6: 2054.29 | I6: 121.8391 | J6: 232.97559 | K6: 46.61612 | L6: 344.89859 | M6: 424.19107 | N6: 2392.943 | O6: 643.86981 | P6: 9.014581 | Q6: 3.285588 | R6: 3.183906 | S6: 7.257282 | T6: 118.4634 | U6: 28.583994 | V6: 8.730136 | W6: 70.802717 | X6: 44.746242 | Y6: 1.267814 | Z6: 4.59651 | AA6: 38.100601 | AB6: 43.695793 | AC6: 28.869064 | AD6: 2.520063 | AF6: 1.5399 | AG6: 3.652868 | AH6: 4.863608 | AI6: 16.44368 | AJ6: 10.592596 | AL6: 26.920338 | AN6: 3.788154 | AO6: 2.278602 | AS6: 4.201738 | AT6: 13.139365 | AU6: 11.576306 | AW6: 36.413913 | AX6: 9251.7646
A7: 秋 田 | B7: 11.532295 | C7: 63.008296 | D7: 156.99818 | E7: 285.82477 | F7: 66.50374 | G7: 21.336121 | H7: 51.84839 | I7: 11.488774 | L7: 62.153127 | M7: 56.838197 | N7: 426.67686 | O7: 43.888672 | P7: 24.465903 | U7: 5.759544 | V7: 3.739392 | W7: 20.381549 | X7: 7.755877 | AA7: 12.422301 | AC7: 7.4057 | AH7: 14.774514 | AI7: 2.155898 | AO7: 2.278602 | AT7: 1.988917 | AX7: 1361.2256
A8: 山 形 | B8: 13.866951 | C8: 20.5566 | D8: 19.161067 | E8: 90.494621 | F8: 5.063878 | G8: 32.130326 | H8: 36.841599 | I8: 29.577636 | J8: 23.943764 | K8: 30.53492 | L8: 114.27703 | M8: 189.05364 | N8: 793.63696 | O8: 150.75534 | P8: 133.65784 | Q8: 5.293286 | R8: 9.834786 | T8: 15.156248 | U8: 18.054044 | W8: 19.429954 | X8: 22.329109 | Y8: 15.45105 | Z8: 2.522561 | AA8: 9.497169 | AB8: 9.139344 | AC8: 5.666192 | AD8: 13.049422 | AG8: 6.167961 | AI8: 23.149632 | AP8: 10.575926 | AU8: 4.063216 | AW8: 26.124874 | AX8: 1899.057
A9: 福 島 | B9: 7.463384 | C9: 108.32316 | D9: 41.974387 | E9: 532.83207 | F9: 25.692408 | G9: 43.481089 | H9: 1715.6701 | I9: 133.02595 | J9: 515.02087 | K9: 24.491763 | L9: 519.56604 | M9: 394.83763 | N9: 1677.9197 | O9: 490.45523 | P9: 2.22199 | Q9: 3.888605 | S9: 24.354132 | T9: 5.648064 | U9: 42.962651 | V9: 12.705334 | W9: 61.983692 | X9: 21.083179 | Y9: 2.861734 | Z9: 5.085082 | AA9: 43.143163 | AB9: 75.873769 | AC9: 33.710381 | AD9: 2.249559 | AE9: 1.449453 | AF9: 7.631352 | AG9: 11.383025 | AH9: 11.54925 | AI9: 17.679762 | AJ9: 28.927687 | AL9: 9.118469 | AM9: 1.5399 | AO9: 13.239619 | AQ9: 13.424799 | AT9: 1.994292 | AV9: 9.172953 | AW9: 4.341184 | AX9: 6699.9768
A10: 茨 城 | B10: 20.686493 | C10: 47.745166 | D10: 66.085094 | E10: 108.93814 | F10: 9.835936 | G10: 8.568963 | H10: 155.34031 | I10: 223.14982 | J10: 17.056414 | K10: 33.084042 | L10: 248.72297 | M10: 388.78209 | N10: 2131.7256 | O10: 476.71378 | P10: 105.08929 | Q10: 29.084198 | R10: 2.66728 | S10: 8.247586 | T10: 62.298907 | U10: 79.643469 | V10: 20.432789 | W10: 235.44558 | X10: 182.4316 | Y10: 44.010817 | Z10: 46.695806 | AA10: 140.596 | AB10: 284.09704 | AC10: 141.69001 | AD10: 27.478032 | AE10: 10.02031 | AG10: 19.086712 | AH10: 72.925576 | AI10: 81.561343 | AJ10: 16.265335 | AL10: 7.699588 | AM10: 25.599155 | AO10: 23.299501 | AP10: 2.845866 | AS10: 12.811254 | AT10: 2.073919 | AV10: 8.481708 | AW10: 24.831008 | AX10: 5653.8445
A11: 栃 木 | B11: 17.045346 | C11: 59.796739 | D11: 7.54128 | E11: 181.59135 | F11: 24.75718 | G11: 67.043749 | H11: 69.782702 | I11: 17.643749 | J11: 647.58099 | K11: 39.672776 | L11: 1713.8372 | M11: 394.33617 | N11: 3390.0001 | O11: 742.49877 | P11: 26.808357 | Q11: 6.440895 | R11: 33.281513 | S11: 11.49233 | T11: 19.98015 | U11: 57.919569 | V11: 33.22777 | W11: 116.72984 | X11: 86.736065 | Y11: 46.262588 | Z11: 29.043899 | AA11: 24.659578 | AB11: 119.57905 | AC11: 68.965585 | AD11: 11.857741 | AE11: 15.304331 | AH11: 13.948412 | AI11: 31.649498 | AJ11: 0.001136 | AK11: 3.714238 | AL11: 4.619662 | AM11: 5.148348 | AN11: 3.84975 | AO11: 13.671612 | AP11: 6.258086 | AU11: 10.301726 | AW11: 35.467988 | AX11: 8210.0477
A12: 群 馬 | B12: 6.720499 | C12: 10.023321 | D12: 55.093274 | E12: 112.12524 | F12: 10.964155 | G12: 12.521819 | H12: 55.830829 | I12: 45.316561 | J12: 83.190547 | K12: 97.861676 | L12: 938.6182 | M12: 202.60254 | N12: 2382.2202 | O12: 327.02643 | P12: 66.676545 | Q12: 17.018798 | R12: 10.06537 | S12: 4.404606 | T12: 17.474658 | U12: 319.20556 | V12: 2.504492 | W12: 46.69315 | X12: 64.896038 | Y12: 11.452674 | Z12: 12.604849 | AA12: 45.602595 | AB12: 97.255862 | AC12: 87.581442 | AD12: 5.035131 | AE12: 1.683402 | AH12: 13.510632 | AI12: 49.648237 | AJ12: 2.278602 | AM12: 8.448304 | AN12: 21.080526 | AO12: 28.922124 | AQ12: 8.514408 | AW12: 5.323859 | AX12: 5287.9971
A13: 埼 玉 | B13: 15.671606 | C13: 101.16014 | D13: 166.67937 | E13: 459.92583 | F13: 173.01421 | G13: 144.78762 | H13: 706.77416 | I13: 354.98171 | J13: 1049.354 | K13: 623.55348 | L13: 290.8393 | M13: 128.63037 | N13: 616.06602 | O13: 185.76342 | P13: 700.83792 | Q13: 62.690042 | R13: 64.837004 | S13: 16.189379 | T13: 120.24578 | U13: 692.96053 | V13: 20.675341 | W13: 581.4762 | X13: 399.67707 | Y13: 145.11338 | Z13: 92.113612 | AA13: 348.69849 | AB13: 519.56861 | AC13: 270.99506 | AD13: 66.175897 | AE13: 12.534166 | AF13: 12.081689 | AG13: 12.081313 | AH13: 90.399106 | AI13: 208.6704 | AJ13: 34.265134 | AK13: 5.035131 | AL13: 14.427324 | AM13: 17.90703 | AO13: 71.162737 | AP13: 21.668503 | AQ13: 7.655388 | AR13: 5.317561 | AS13: 9.559913 | AT13: 6.140654 | AU13: 4.573695 | AW13: 204.24123 | AX13: 9857.1765
A14: 千 葉 | B14: 28.627187 | C14: 102.45858 | D14: 114.4598 | E14: 392.70808 | F14: 58.674847 | G14: 92.364942 | H14: 335.55546 | I14: 291.19107 | J14: 358.87712 | K14: 270.18804 | L14: 253.04679 | M14: 561.91779 | N14: 2322.6092 | O14: 401.962 | P14: 438.22815 | Q14: 50.902289 | R14: 54.858594 | S14: 29.933266 | T14: 99.411548 | U14: 285.84469 | V14: 105.91166 | W14: 966.49915 | X14: 631.00621 | Y14: 79.924127 | Z14: 138.91121 | AA14: 391.82692 | AB14: 745.42366 | AC14: 397.11934 | AD14: 129.29037 | AE14: 40.119152 | AF14: 5.061407 | AG14: 12.376052 | AH14: 169.09041 | AI14: 245.16848 | AJ14: 56.305157 | AK14: 13.585172 | AL14: 7.447761 | AM14: 21.093116 | AO14: 93.890341 | AP14: 41.019219 | AQ14: 1.227333 | AR14: 4.557204 | AS14: 3.901287 | AT14: 13.897606 | AU14: 2.278602 | AW14: 9.257552 | AX14: 10870.008
A15: 東 京 | B15: 91.080505 | C15: 564.70742 | D15: 778.04511 | E15: 2725.1425 | F15: 256.04854 | G15: 639.33262 | H15: 2008.1528 | I15: 2679.1171 | J15: 3269.0729 | K15: 2205.7201 | L15: 1337.7884 | M15: 2518.7567 | N15: 894.13724 | O15: 930.4696 | P15: 2843.3943 | Q15: 448.24395 | R15: 333.93716 | S15: 310.15388 | T15: 1740.3786 | U15: 3121.8834 | V15: 563.29465 | W15: 5786.7389 | X15: 5335.895 | Y15: 660.14809 | Z15: 539.85064 | AA15: 2719.288 | AB15: 5213.1354 | AC15: 2379.4807 | AD15: 525.62862 | AE15: 207.8079 | AF15: 26.531152 | AG15: 44.228454 | AH15: 738.93045 | AI15: 1504.8067 | AJ15: 258.05771 | AK15: 10.736162 | AL15: 190.99799 | AM15: 65.825239 | AN15: 16.896959 | AO15: 422.1796 | AP15: 74.552215 | AQ15: 24.820048 | AR15: 41.754521 | AS15: 30.514887 | AT15: 33.329026 | AU15: 14.617576 | AV15: 9.787187 | AW15: 1652.11 | AX15: 58787.506
A16: 神奈川 | B16: 37.408258 | C16: 155.57107 | D16: 158.83282 | E16: 551.53199 | F16: 62.232093 | G16: 169.28169 | H16: 432.28309 | I16: 487.09047 | J16: 630.02241 | K16: 283.06863 | L16: 131.88671 | M16: 311.46965 | N16: 394.04394 | O16: 672.29233 | P16: 664.65478 | Q16: 105.35072 | R16: 62.973532 | S16: 96.169378 | T16: 262.82288 | U16: 567.26264 | V16: 132.40436 | W16: 2629.4337 | X16: 1247.0679 | Y16: 255.46779 | Z16: 273.27992 | AA16: 1010.042 | AB16: 1557.6038 | AC16: 823.38124 | AD16: 153.77046 | AE16: 26.023434 | AF16: 34.543042 | AG16: 12.89726 | AH16: 259.97865 | AI16: 417.75667 | AJ16: 139.41699 | AK16: 14.854745 | AL16: 50.133045 | AM16: 29.314069 | AN16: 15.981986 | AO16: 188.58862 | AP16: 20.042764 | AQ16: 34.557708 | AR16: 32.10519 | AS16: 9.114408 | AT16: 25.35848 | AU16: 14.352656 | AV16: 1.676189 | AW16: 521.94985 | AX16: 16167.346
A17: 新 潟 | B17: 3.441655 | C17: 24.564241 | D17: 10.527181 | E17: 65.676057 | F17: 9.769762 | G17: 25.201961 | H17: 20.957673 | I17: 79.746493 | J17: 49.976674 | K17: 152.46218 | L17: 474.5284 | M17: 313.64491 | N17: 2308.5648 | O17: 575.79537 | P17: 1413.7602 | Q17: 47.419305 | R17: 76.433224 | S17: 6.608283 | T17: 28.35985 | U17: 57.523058 | V17: 24.621627 | W17: 53.819305 | X17: 38.419583 | Y17: 19.480387 | Z17: 14.320067 | AA17: 42.916289 | AB17: 62.183717 | AC17: 16.408258 | AD17: 4.670136 | AF17: 25.226603 | AG17: 1.5399 | AH17: 5.733841 | AI17: 53.012751 | AJ17: 20.538738 | AL17: 2.717955 | AO17: 6.841912 | AP17: 1.142908 | AQ17: 2.675079 | AR17: 33.096768 | AU17: 33.408384 | AW17: 29.299541 | AX17: 6237.035
A18: 富 山 | C18: 0.897795 | D18: 6.179569 | E18: 5.769687 | F18: 0.764922 | G18: 4.140817 | H18: 4.836371 | I18: 22.796848 | J18: 22.448415 | K18: 3.698145 | L18: 55.208793 | M18: 81.72302 | N18: 246.36691 | O18: 77.269553 | P18: 54.543239 | Q18: 144.44506 | R18: 358.63992 | S18: 79.885267 | T18: 1.923078 | U18: 2.025427 | V18: 11.374005 | W18: 43.815009 | X18: 156.242 | Y18: 21.118141 | Z18: 16.375888 | AA18: 257.0195 | AB18: 561.83601 | AC18: 75.970826 | AD18: 42.359084 | AF18: 3.527572 | AG18: 8.562553 | AH18: 3.527572 | AI18: 20.812455 | AJ18: 3.527572 | AK18: 7.055144 | AL18: 11.036452 | AO18: 32.593035 | AP18: 7.055144 | AQ18: 2.613939 | AR18: 3.527572 | AS18: 7.055144 | AT18: 5.935615 | AW18: 12.18314 | AX18: 2488.6862
A19: 石 川 | B19: 3.494751 | E19: 5.25292 | H19: 10.341737 | I19: 9.094615 | J19: 11.045811 | K19: 15.882791 | L19: 85.576817 | M19: 18.332204 | N19: 162.52984 | O19: 74.171691 | P19: 65.393538 | Q19: 305.68819 | R19: 33.745725 | S19: 279.9843 | U19: 11.225963 | V19: 20.506897 | W19: 23.574519 | X19: 198.57824 | Y19: 18.284384 | Z19: 46.097289 | AA19: 256.95541 | AB19: 503.87133 | AC19: 119.83838 | AD19: 50.176184 | AH19: 10.234517 | AI19: 23.108464 | AJ19: 7.519493 | AK19: 13.996418 | AL19: 4.599317 | AM19: 10.759353 | AN19: 7.097475 | AO19: 14.676879 | AR19: 11.175259 | AV19: 7.055144 | AW19: 2.556943 | AX19: 2442.4228
A20: 福 井 | B20: 19.60153 | C20: 0.462756 | D20: 6.598014 | F20: 3.876383 | G20: 10.180973 | H20: 7.671036 | I20: 38.959235 | J20: 35.177329 | K20: 10.58463 | L20: 22.571864 | M20: 60.324413 | N20: 335.22457 | O20: 42.593282 | P20: 16.947054 | Q20: 42.319992 | R20: 119.58181 | S20: 169.45952 | T20: 6.549999 | U20: 7.401387 | V20: 27.511992 | W20: 18.360448 | X20: 93.465257 | Y20: 12.419191 | Z20: 12.017156 | AA20: 213.12393 | AB20: 240.56328 | AC20: 74.213059 | AD20: 23.564118 | AF20: 4.032505 | AG20: 6.014607 | AI20: 12.129863 | AL20: 9.078786 | AM20: 1.749094 | AO20: 35.017216 | AW20: 27.439569 | AX20: 1766.7858
A21: 山 梨 | B21: 20.637056 | C21: 0.521941 | D21: 13.874202 | E21: 37.49843 | G21: 13.416553 | H21: 7.132156 | I21: 22.700902 | J21: 54.298072 | K21: 18.120351 | L21: 124.57633 | M21: 101.8288 | N21: 1611.9281 | O21: 375.93903 | P21: 18.512599 | R21: 5.258906 | T21: 77.543774 | U21: 106.99974 | V21: 17.946054 | W21: 66.290963 | X21: 79.392702 | Y21: 12.917523 | Z21: 5.377207 | AA21: 24.814275 | AB21: 47.058782 | AC21: 84.334605 | AD21: 21.71528 | AE21: 2.219888 | AH21: 2.329066 | AI21: 6.480217 | AL21: 7.59704 | AN21: 2.331003 | AO21: 3.662467 | AW21: 10.352107 | AX21: 3005.6062
A22: 長 野 | B22: 10.534593 | C22: 9.000792 | D22: 9.709527 | E22: 56.133066 | F22: 4.480295 | G22: 3.91127 | H22: 41.29557 | I22: 70.312372 | J22: 38.837799 | K22: 309.06985 | L22: 754.68442 | M22: 347.02223 | N22: 3018.8914 | O22: 590.53109 | P22: 35.243206 | Q22: 16.202568 | R22: 11.702701 | S22: 10.257135 | T22: 104.49148 | U22: 2168.3924 | V22: 44.498633 | W22: 113.01283 | X22: 312.62136 | Y22: 27.114384 | Z22: 5.064742 | AA22: 119.12521 | AB22: 119.30808 | AC22: 43.501414 | AD22: 9.233404 | AE22: 2.62765 | AF22: 4.497495 | AH22: 9.87763 | AI22: 45.871847 | AJ22: 3.598389 | AL22: 10.606466 | AN22: 1.176553 | AO22: 37.474992 | AP22: 5.401368 | AQ22: 6.232995 | AR22: 12.103547 | AS22: 21.635184 | AW22: 80.001127 | AX22: 8645.2891
A23: 岐 阜 | C23: 19.804197 | D23: 11.555233 | E23: 1.32694 | G23: 4.396712 | H23: 28.047499 | I23: 28.520873 | J23: 13.572306 | K23: 33.057347 | L23: 65.747492 | M23: 111.12132 | N23: 598.51358 | O23: 161.97673 | Q23: 14.873805 | R23: 24.569145 | S23: 14.886572 | T23: 0.592919 | U23: 25.664462 | V23: 299.34557 | W23: 156.45579 | X23: 295.02506 | Y23: 132.32091 | Z23: 6.924467 | AA23: 114.79524 | AB23: 218.77086 | AC23: 71.059083 | AD23: 14.739767 | AE23: 12.942119 | AF23: 0.706775 | AG23: 7.134522 | AH23: 38.528702 | AI23: 59.678552 | AJ23: 35.639083 | AK23: 2.018808 | AL23: 7.015438 | AM23: 5.198794 | AO23: 61.342846 | AP23: 2.202637 | AR23: 7.829425 | AS23: 9.559499 | AT23: 1.95308 | AU23: 2.202637 | AW23: 1.500636 | AX23: 2723.1174
A24: 静 岡 | B24: 69.860248 | C24: 34.218066 | D24: 27.624739 | E24: 86.349493 | F24: 11.780757 | G24: 19.527367 | H24: 18.946589 | I24: 142.23886 | J24: 80.518996 | K24: 111.27214 | L24: 455.64849 | M24: 868.13427 | N24: 6093.4219 | O24: 2460.5361 | P24: 22.584121 | Q24: 25.159902 | R24: 24.662753 | S24: 26.674937 | T24: 59.538144 | U24: 86.595687 | V24: 135.16075 | W24: 3370.0614 | X24: 1302.9989 | Y24: 83.581166 | Z24: 100.46387 | AA24: 675.62895 | AB24: 431.99742 | AC24: 291.91366 | AD24: 67.098279 | AE24: 19.728128 | AF24: 25.405082 | AG24: 10.586854 | AH24: 99.02083 | AI24: 168.74212 | AJ24: 26.836611 | AK24: 19.117983 | AL24: 32.357228 | AM24: 24.511121 | AN24: 3.312027 | AO24: 169.4301 | AP24: 14.29074 | AQ24: 17.398934 | AR24: 11.90863 | AS24: 8.701373 | AT24: 9.016573 | AU24: 13.65572 | AV24: 16.432932 | AW24: 140.50619 | AX24: 18015.157
A25: 愛 知 | B25: 19.330284 | C25: 9.013016 | D25: 20.872896 | E25: 65.133811 | F25: 10.289817 | G25: 18.569928 | H25: 123.45838 | I25: 156.1159 | J25: 91.48955 | K25: 88.067604 | L25: 425.81808 | M25: 655.05949 | N25: 5825.0767 | O25: 1347.3366 | P25: 94.090378 | Q25: 150.03673 | R25: 253.25442 | S25: 135.16554 | T25: 55.19686 | U25: 328.21441 | V25: 458.43137 | W25: 1906.5543 | X25: 403.11797 | Y25: 2538.8256 | Z25: 155.62991 | AA25: 603.99729 | AB25: 2654.0681 | AC25: 769.90169 | AD25: 239.51161 | AE25: 95.443258 | AF25: 23.316646 | AG25: 26.358676 | AH25: 190.18946 | AI25: 476.65841 | AJ25: 85.60176 | AK25: 2.858477 | AL25: 81.11355 | AM25: 43.730552 | AN25: 17.081844 | AO25: 438.67098 | AP25: 40.206631 | AQ25: 50.235853 | AR25: 36.40558 | AS25: 32.741474 | AT25: 8.050852 | AU25: 18.286932 | AW25: 30.918188 | AX25: 21299.497
A26: 三 重 | B26: 2.050643 | C26: 0.001239 | D26: 11.746968 | E26: 7.892637 | F26: 2.240148 | G26: 4.129388 | H26: 22.023726 | I26: 42.837467 | J26: 94.059977 | K26: 17.385442 | L26: 112.44642 | M26: 133.29465 | N26: 717.28624 | O26: 250.65979 | P26: 23.109066 | Q26: 20.177097 | R26: 12.158669 | S26: 11.818042 | T26: 3.998121 | U26: 70.505171 | V26: 117.98839 | W26: 111.72437 | X26: 1937.4647 | Y26: 2887.51 | Z26: 3.379431 | AA26: 104.4633 | AB26: 324.56787 | AC26: 131.91122 | AD26: 43.569451 | AE26: 14.291598 | AF26: 4.988422 | AG26: 2.367791 | AH26: 30.935633 | AI26: 45.51552 | AJ26: 14.585711 | AL26: 14.631244 | AM26: 2.457913 | AN26: 1.325895 | AO26: 84.0576 | AP26: 1.44493 | AQ26: 4.838921 | AR26: 5.805971 | AS26: 6.257534 | AU26: 4.071572 | AW26: 5.882363 | AX26: 7465.8583
A27: 滋 賀 | B27: 25.60959 | D27: 6.841535 | E27: 10.917458 | G27: 2.845928 | H27: 19.321628 | I27: 77.163317 | J27: 27.518991 | K27: 15.940522 | L27: 132.25731 | M27: 143.92738 | N27: 687.46335 | O27: 207.62202 | P27: 10.573469 | Q27: 30.368481 | R27: 58.659089 | S27: 36.045259 | T27: 4.196256 | U27: 19.104933 | V27: 2.414467 | W27: 80.964797 | X27: 152.92957 | Y27: 16.197034 | Z27: 1.868276 | AA27: 41.211636 | AB27: 56.970479 | AC27: 14.666756 | AD27: 2.595172 | AE27: 14.167555 | AF27: 8.199086 | AG27: 4.516216 | AH27: 21.67847 | AI27: 63.217106 | AJ27: 30.719262 | AK27: 0.956923 | AL27: 13.620691 | AM27: 7.951306 | AN27: 2.658204 | AO27: 78.951642 | AP27: 1.051784 | AQ27: 10.525391 | AR27: 12.559504 | AS27: 39.781268 | AT27: 3.956332 | AU27: 3.349152 | AW27: 111.94521 | AX27: 2315.9998
A28: 京 都 | B28: 121.68819 | C28: 6.9896 | D28: 25.763253 | E28: 39.219479 | F28: 8.61337 | G28: 22.969729 | H28: 18.388536 | I28: 150.87357 | J28: 71.376006 | K28: 63.04528 | L28: 356.71421 | M28: 542.26382 | N28: 2869.3684 | O28: 1108.6629 | P28: 124.58498 | Q28: 110.11455 | R28: 241.71979 | S28: 209.41222 | T28: 55.096642 | U28: 79.968888 | V28: 138.77154 | W28: 450.88982 | X28: 803.04789 | Y28: 40.506729 | Z28: 110.8164 | AA28: 731.91438 | AB28: 369.14186 | AC28: 253.05734 | AD28: 28.335026 | AE28: 154.93311 | AF28: 37.258525 | AG28: 29.539212 | AH28: 84.604519 | AI28: 349.35159 | AJ28: 136.86619 | AL28: 75.189018 | AM28: 25.74909 | AN28: 13.055348 | AO28: 308.80616 | AP28: 36.292524 | AQ28: 24.942208 | AR28: 30.528606 | AS28: 44.729113 | AT28: 5.934498 | AU28: 15.396932 | AV28: 1.508639 | AW28: 185.21056 | AX28: 10713.21
A29: 大 阪 | B29: 36.110993 | C29: 14.777105 | D29: 19.296432 | E29: 36.020319 | F29: 2.240148 | G29: 21.467322 | H29: 44.10988 | I29: 212.66958 | J29: 144.8226 | K29: 126.74828 | L29: 466.64795 | M29: 684.59337 | N29: 4815.5527 | O29: 1449.9975 | P29: 71.576084 | Q29: 364.95406 | R29: 459.145 | S29: 365.22002 | T29: 46.852723 | U29: 69.717985 | V29: 205.57313 | W29: 473.80642 | X29: 3162.2109 | Y29: 331.29385 | Z29: 106.02822 | AA29: 350.2111 | AB29: 173.69269 | AC29: 666.56653 | AD29: 30.733905 | AE29: 517.12986 | AF29: 110.51453 | AG29: 76.790698 | AH29: 716.04479 | AI29: 1237.6387 | AJ29: 276.58714 | AK29: 18.227857 | AL29: 312.66116 | AM29: 99.323539 | AN29: 18.139394 | AO29: 1078.2789 | AP29: 111.80115 | AQ29: 77.399167 | AR29: 76.08756 | AS29: 132.82707 | AT29: 25.948534 | AU29: 57.068785 | AV29: 10.22777 | AW29: 101.1874 | AX29: 20006.521
A30: 兵 庫 | B30: 15.076477 | C30: 7.95821 | D30: 8.824626 | E30: 35.219221 | H30: 30.087187 | I30: 119.68688 | J30: 33.966553 | K30: 15.323757 | L30: 216.88021 | M30: 350.14065 | N30: 2344.9039 | O30: 828.13349 | P30: 29.515532 | Q30: 95.408521 | R30: 80.519068 | S30: 122.10308 | T30: 45.436628 | U30: 47.203755 | V30: 89.805884 | W30: 292.46534 | X30: 946.34915 | Y30: 127.18601 | Z30: 40.291204 | AA30: 180.52452 | AB30: 555.89372 | AC30: 665.11561 | AD30: 52.285088 | AE30: 62.244709 | AF30: 95.029046 | AG30: 37.84414 | AH30: 525.8897 | AI30: 534.48733 | AJ30: 122.99995 | AK30: 4.006432 | AL30: 88.166687 | AM30: 59.152496 | AN30: 14.383603 | AO30: 464.19333 | AP30: 33.249434 | AQ30: 43.510598 | AR30: 50.51847 | AS30: 53.800758 | AT30: 6.771606 | AU30: 26.639811 | AW30: 9.614106 | AX30: 9608.8065
A31: 奈 良 | B31: 16.846463 | D31: 6.137981 | E31: 1.393302 | H31: 30.885146 | I31: 19.38267 | J31: 16.695445 | K31: 12.93946 | L31: 69.530738 | M31: 139.19806 | N31: 705.25032 | O31: 168.28818 | P31: 11.467684 | Q31: 23.161926 | R31: 34.945252 | S31: 30.903767 | T31: 8.604362 | U31: 25.89634 | V31: 36.439451 | W31: 121.16836 | X31: 199.33326 | Y31: 28.598968 | AA31: 14.996456 | AB31: 98.271303 | AC31: 13.074891 | AD31: 5.332339 | AE31: 39.211734 | AF31: 7.63529 | AG31: 3.50704 | AH31: 26.707351 | AI31: 107.72863 | AJ31: 22.644262 | AL31: 28.581251 | AM31: 4.741068 | AO31: 125.95232 | AP31: 5.573106 | AQ31: 4.394618 | AR31: 9.064765 | AS31: 7.614375 | AU31: 7.968073 | AW31: 10.937289 | AX31: 2251.0033
A32: 和歌山 | B32: 10.560586 | E32: 1.887884 | H32: 5.566659 | I32: 8.145196 | J32: 13.436243 | K32: 1.548409 | L32: 17.072051 | M32: 14.655268 | N32: 159.42152 | O32: 42.89554 | R32: 9.68811 | U32: 6.5524 | V32: 13.727489 | W32: 19.193584 | X32: 76.697483 | Y32: 38.100059 | Z32: 19.249717 | AA32: 89.123352 | AB32: 717.73065 | AC32: 126.66348 | AD32: 79.103572 | AE32: 386.82719 | AF32: 1.915743 | AG32: 2.081994 | AH32: 2.675527 | AI32: 15.559854 | AJ32: 4.163989 | AM32: 7.228512 | AO32: 8.189324 | AQ32: 2.7915 | AU32: 7.144106 | AW32: 5.754907 | AX32: 1915.3519
A33: 鳥 取 | G33: 13.348416 | H33: 0.40038 | I33: 1.099557 | J33: 1.123343 | K33: 1.198812 | L33: 3.713317 | M33: 13.398394 | N33: 26.881174 | O33: 12.233666 | P33: 2.885155 | U33: 1.128749 | V33: 9.684086 | W33: 19.636624 | X33: 28.657784 | Y33: 2.162354 | Z33: 4.324708 | AA33: 39.627511 | AB33: 127.39416 | AC33: 70.601299 | AD33: 7.524652 | AF33: 194.90058 | AG33: 52.733445 | AH33: 77.860577 | AI33: 84.03802 | AJ33: 6.242924 | AL33: 10.481759 | AM33: 8.08034 | AN33: 5.49641 | AO33: 22.095936 | AP33: 3.265756 | AQ33: 12.226618 | AR33: 13.087534 | AS33: 8.765715 | AU33: 0.399993 | AX33: 886.69975
A34: 島 根 | B34: 0.821787 | H34: 2.882838 | I34: 17.058642 | J34: 18.004233 | K34: 1.799225 | L34: 5.056419 | M34: 2.122356 | N34: 55.921619 | O34: 9.316407 | P34: 1.929197 | S34: 5.215997 | W34: 23.028641 | X34: 14.715326 | Y34: 6.545364 | Z34: 8.441089 | AA34: 23.857817 | AB34: 71.369639 | AC34: 45.772579 | AD34: 2.172208 | AF34: 58.683125 | AG34: 228.10144 | AH34: 38.672912 | AI34: 54.662711 | AJ34: 53.313801 | AK34: 3.028912 | AL34: 5.256332 | AM34: 6.667869 | AO34: 34.310229 | AQ34: 4.662575 | AR34: 3.29738 | AS34: 2.124474 | AT34: 2.405279 | AU34: 2.511864 | AX34: 813.73029
A35: 岡 山 | B35: 2.086373 | C35: 3.602948 | E35: 4.818496 | F35: 3.59845 | H35: 19.428195 | I35: 26.451902 | J35: 47.661023 | K35: 6.338149 | L35: 70.353673 | M35: 138.3204 | N35: 845.00721 | O35: 198.07853 | P35: 26.263314 | Q35: 15.978715 | R35: 42.722605 | S35: 4.864347 | T35: 6.231668 | U35: 1.860376 | V35: 12.416103 | W35: 126.1311 | X35: 191.59272 | Y35: 39.995009 | Z35: 52.027845 | AA35: 164.48408 | AB35: 1107.4798 | AC35: 567.84146 | AD35: 46.099984 | AE35: 24.103822 | AF35: 119.50402 | AG35: 112.72555 | AH35: 2469.5064 | AI35: 824.49845 | AJ35: 110.49163 | AK35: 47.471983 | AL35: 1512.8635 | AM35: 155.93138 | AN35: 67.872123 | AO35: 470.03888 | AP35: 9.960133 | AQ35: 17.620848 | AR35: 23.948192 | AS35: 97.809037 | AT35: 5.349999 | AU35: 19.187008 | AW35: 40.245912 | AX35: 9900.8632
A36: 広 島 | C36: 2.528209 | D36: 6.474385 | E36: 14.6578 | F36: 2.528209 | G36: 7.256335 | H36: 24.32147 | I36: 71.382519 | J36: 46.213861 | K36: 18.668299 | L36: 106.50937 | M36: 283.29607 | N36: 1331.8352 | O36: 416.23775 | P36: 16.245153 | Q36: 10.256928 | R36: 52.273948 | S36: 22.840046 | T36: 26.478754 | U36: 1.457786 | V36: 41.478757 | W36: 55.959989 | X36: 274.05719 | Y36: 49.899863 | Z36: 81.138715 | AA36: 205.37879 | AB36: 1111.8924 | AC36: 686.34125 | AD36: 82.587405 | AE36: 25.554702 | AF36: 70.319867 | AG36: 15.192837 | AH36: 575.35382 | AI36: 1375.3555 | AJ36: 941.16087 | AK36: 21.180784 | AL36: 158.31056 | AM36: 20.467469 | AN36: 39.342448 | AO36: 1204.2738 | AP36: 60.547868 | AQ36: 61.643488 | AR36: 36.049968 | AS36: 115.79525 | AT36: 25.788291 | AU36: 78.168805 | AW36: 58.25293 | AX36: 9932.9558
A37: 山 口 | B37: 9.569032 | C37: 1.303363 | H37: 9.999386 | I37: 47.434323 | J37: 13.445613 | K37: 30.02424 | L37: 59.11796 | M37: 58.969495 | N37: 403.08002 | O37: 150.2659 | P37: 12.408139 | R37: 6.032783 | S37: 2.372251 | T37: 2.409584 | U37: 11.827738 | V37: 18.157437 | W37: 70.168534 | X37: 104.30239 | Y37: 39.477501 | Z37: 23.56858 | AA37: 119.94381 | AB37: 339.08919 | AC37: 216.91038 | AD37: 10.152788 | AE37: 3.251925 | AF37: 21.807917 | AG37: 39.140673 | AH37: 153.41698 | AI37: 600.65233 | AJ37: 272.00832 | AK37: 2.356074 | AL37: 18.068059 | AM37: 3.716972 | AN37: 1.626967 | AO37: 480.45463 | AP37: 18.207932 | AQ37: 17.407821 | AR37: 20.596585 | AS37: 36.322741 | AT37: 1.263422 | AU37: 16.019896 | AV37: 6.906853 | AW37: 30.026198 | AX37: 3503.2827
A38: 徳 島 | C38: 3.852528 | I38: 2.011031 | J38: 2.831825 | M38: 3.595192 | N38: 21.516918 | O38: 0.93411 | Q38: 5.781809 | R38: 4.904068 | S38: 0.930911 | T38: 2.041197 | V38: 1.86822 | W38: 19.898796 | X38: 55.304003 | AA38: 1.321439 | AB38: 4.917697 | AC38: 2.142145 | AF38: 3.902993 | AG38: 4.360559 | AH38: 60.230007 | AI38: 47.631584 | AJ38: 5.576822 | AK38: 393.06544 | AL38: 275.47447 | AM38: 8.431607 | AN38: 35.307424 | AO38: 12.033674 | AQ38: 1.228526 | AR38: 7.583749 | AS38: 3.593321 | AU38: 2.274322 | AV38: 1.873429 | AX38: 996.41981
A39: 香 川 | B39: 0.970949 | C39: 1.799225 | D39: 1.799225 | F39: 1.799225 | H39: 19.248944 | I39: 18.558895 | J39: 5.480993 | L39: 22.102384 | M39: 14.867913 | N39: 167.9135 | O39: 44.062108 | P39: 7.467181 | Q39: 4.287941 | R39: 1.887321 | T39: 9.614681 | U39: 3.15261 | V39: 8.998275 | W39: 50.78844 | X39: 92.190226 | Y39: 2.62265 | Z39: 22.877305 | AA39: 58.275665 | AB39: 318.74123 | AC39: 139.72989 | AD39: 10.061609 | AF39: 4.249956 | AG39: 6.707338 | AH39: 1288.6814 | AI39: 187.15829 | AJ39: 47.208041 | AK39: 294.83563 | AL39: 1232.0615 | AM39: 269.54899 | AN39: 56.392884 | AO39: 103.28781 | AP39: 7.375329 | AQ39: 30.078386 | AR39: 13.890809 | AS39: 5.300486 | AT39: 4.89795 | AU39: 2.706116 | AW39: 4.070079 | AX39: 4587.7494
A40: 愛 媛 | B40: 2.088073 | D40: 1.847856 | E40: 4.958816 | G40: 1.164901 | H40: 10.652982 | K40: 2.254683 | L40: 63.966989 | M40: 12.031367 | N40: 102.06415 | O40: 54.687344 | Q40: 8.610679 | S40: 5.165079 | U40: 16.793571 | V40: 12.394903 | W40: 61.020337 | X40: 54.943705 | Y40: 48.831585 | Z40: 5.777225 | AA40: 21.291192 | AB40: 156.26104 | AC40: 77.99842 | AD40: 11.640905 | AE40: 1.879013 | AF40: 7.608584 | AG40: 1.203801 | AH40: 97.303965 | AI40: 12.654265 | AJ40: 9.024466 | AK40: 8.002958 | AL40: 262.54558 | AM40: 1316.2184 | AN40: 19.107442 | AO40: 14.794878 | AQ40: 2.448703 | AR40: 16.279835 | AS40: 10.162409 | AT40: 4.285367 | AU40: 3.941866 | AV40: 2.196341 | AW40: 7.498423 | AX40: 2533.6021
...

Sheet 都道府県間相互発着表（平休年拡大値）
B1: 列車名：全列車計 | F1: 都 道 府 県 別 相 互 発 着 表 （平休年拡大値・Ｈ22) | P1: （単位：千人）
B2: 北海道 | C2: 青 森 | D2: 岩 手 | E2: 宮 城 | F2: 秋 田 | G2: 山 形 | H2: 福 島 | I2: 茨 城 | J2: 栃 木 | K2: 群 馬 | L2: 埼 玉 | M2: 千 葉 | N2: 東 京 | O2: 神奈川 | P2: 新 潟 | Q2: 富 山 | R2: 石 川 | S2: 福 井 | T2: 山 梨 | U2: 長 野 | V2: 岐 阜 | W2: 静 岡 | X2: 愛 知 | Y2: 三 重 | Z2: 滋 賀 | AA2: 京 都 | AB2: 大 阪 | AC2: 兵 庫 | AD2: 奈 良 | AE2: 和歌山 | AF2: 鳥 取 | AG2: 島 根 | AH2: 岡 山 | AI2: 広 島 | AJ2: 山 口 | AK2: 徳 島 | AL2: 香 川 | AM2: 愛 媛 | AN2: 高 知 | AO2: 福 岡 | AP2: 佐 賀 | AQ2: 長 崎 | AR2: 熊 本 | AS2: 大 分 | AT2: 宮 崎 | AU2: 鹿児島 | AV2: 沖 縄 | AW2: 海 外 | AX2: 合計
A3: 北海道 | B3: 8218.4419 | C3: 321.25198 | D3: 43.571503 | E3: 32.333757 | F3: 25.7243 | G3: 11.729018 | H3: 25.843862 | I3: 19.956501 | J3: 33.105265 | K3: 23.132823 | L3: 21.635813 | M3: 16.561296 | N3: 113.16508 | O3: 33.519152 | P3: 5.728643 | Q3: 1.30687 | R3: 3.406363 | S3: 6.632298 | T3: 9.131085 | U3: 17.574035 | V3: 1.640942 | W3: 54.650314 | X3: 22.027611 | Y3: 3.468101 | Z3: 12.99834 | AA3: 95.516129 | AB3: 27.288299 | AC3: 13.756012 | AD3: 8.821011 | AE3: 4.66067 | AF3: 1.094799 | AG3: 0.842394 | AH3: 3.138855 | AI3: 3.677202 | AJ3: 5.531777 | AK3: 0.738522 | AL3: 2.249275 | AM3: 2.229637 | AO3: 13.377584 | AP3: 3.882891 | AQ3: 2.785764 | AR3: 5.887482 | AS3: 2.585348 | AT3: 1.312486 | AU3: 1.698269 | AW3: 21.090084 | AX3: 9300.7014
A4: 青 森 | B4: 321.25198 | C4: 539.29302 | D4: 251.74478 | E4: 440.15436 | F4: 52.859607 | G4: 35.334683 | H4: 63.957736 | I4: 33.683859 | J4: 36.345576 | K4: 15.808829 | L4: 122.60785 | M4: 114.60644 | N4: 582.64714 | O4: 129.61856 | P4: 13.960981 | Q4: 5.870296 | R4: 2.942223 | S4: 1.621021 | T4: 4.172584 | U4: 14.564769 | V4: 6.700874 | W4: 28.956708 | X4: 14.230961 | Y4: 2.969314 | AA4: 8.679403 | AB4: 13.523852 | AC4: 3.919954 | AD4: 3.032744 | AG4: 1.210584 | AH4: 5.409723 | AI4: 1.909436 | AJ4: 0.441001 | AK4: 1.303527 | AL4: 0.609112 | AM4: 0.332597 | AN4: 0.44021 | AO4: 8.7484 | AQ4: 2.652624 | AR4: 0.510842 | AU4: 1.433634 | AW4: 14.823291 | AX4: 2904.8851
A5: 岩 手 | B5: 43.571503 | C5: 251.74478 | D5: 501.76845 | E5: 853.4883 | F5: 115.32747 | G5: 39.55015 | H5: 78.094727 | I5: 46.178342 | J5: 28.437333 | K5: 28.991783 | L5: 219.75787 | M5: 158.68999 | N5: 880.86817 | O5: 201.84416 | P5: 16.308933 | Q5: 4.419993 | R5: 2.604606 | S5: 2.23248 | T5: 13.471334 | U5: 11.090704 | V5: 6.988011 | W5: 27.331596 | X5: 33.00317 | Y5: 12.83023 | Z5: 4.331727 | AA5: 18.057834 | AB5: 16.269476 | AC5: 6.498502 | AD5: 2.076824 | AE5: 0.61594 | AH5: 2.264962 | AI5: 5.782288 | AJ5: 0.610141 | AK5: 1.239458 | AL5: 1.897536 | AM5: 3.066131 | AN5: 1.621228 | AO5: 10.392385 | AQ5: 0.397926 | AU5: 1.0888 | AW5: 38.157196 | AX5: 3692.9624
A6: 宮 城 | B6: 32.333757 | C6: 440.15436 | D6: 853.4883 | E6: 484.59649 | F6: 241.41986 | G6: 57.084121 | H6: 1087.0639 | I6: 108.14597 | J6: 200.537 | K6: 69.479997 | L6: 420.13949 | M6: 413.67694 | N6: 2431.8877 | O6: 622.4414 | P6: 34.113861 | Q6: 6.668499 | R6: 4.295246 | S6: 6.336188 | T6: 79.857767 | U6: 53.081461 | V6: 6.475644 | W6: 89.073971 | X6: 58.559792 | Y6: 8.159457 | Z6: 7.609489 | AA6: 31.176316 | AB6: 38.076704 | AC6: 26.160515 | AD6: 7.225771 | AE6: 1.050577 | AF6: 0.521035 | AG6: 1.524214 | AH6: 8.402159 | AI6: 25.585553 | AJ6: 5.297805 | AL6: 12.176109 | AM6: 3.408603 | AN6: 3.249527 | AO6: 18.726757 | AP6: 0.584792 | AQ6: 11.05843 | AR6: 1.082648 | AS6: 5.108575 | AT6: 7.880179 | AU6: 4.893185 | AV6: 2.52256 | AW6: 36.40044 | AX6: 8068.7932
A7: 秋 田 | B7: 25.7243 | C7: 52.859607 | D7: 115.32747 | E7: 241.41986 | F7: 81.518104 | G7: 11.236649 | H7: 34.60647 | I7: 11.360357 | J7: 12.032053 | K7: 8.128295 | L7: 115.68337 | M7: 63.866802 | N7: 368.15957 | O7: 73.845113 | P7: 18.607788 | Q7: 0.56231 | R7: 0.10016 | S7: 1.311599 | T7: 0.539778 | U7: 7.424259 | V7: 1.557281 | W7: 18.38043 | X7: 9.243688 | Y7: 1.641265 | Z7: 0.597486 | AA7: 8.497183 | AB7: 1.442198 | AC7: 2.909858 | AD7: 1.677484 | AH7: 6.514025 | AI7: 1.584897 | AL7: 0.608779 | AM7: 0.022237 | AO7: 0.770979 | AQ7: 1.515936 | AS7: 0.269889 | AT7: 0.672962 | AW7: 11.906359 | AX7: 1314.1269
A8: 山 形 | B8: 11.729018 | C8: 35.334683 | D8: 39.55015 | E8: 57.084121 | F8: 11.236649 | G8: 39.726446 | H8: 34.534226 | I8: 20.354814 | J8: 67.80472 | K8: 23.27067 | L8: 144.62394 | M8: 145.39501 | N8: 744.78898 | O8: 189.07072 | P8: 72.915865 | Q8: 4.930592 | R8: 4.168527 | S8: 3.624171 | T8: 14.424834 | U8: 15.667006 | V8: 1.769635 | W8: 36.833142 | X8: 20.720996 | Y8: 7.262764 | Z8: 1.994587 | AA8: 13.889279 | AB8: 12.876758 | AC8: 3.70334 | AD8: 5.05705 | AF8: 4.878786 | AG8: 2.086968 | AH8: 2.448414 | AI8: 11.530877 | AJ8: 0.305154 | AK8: 0.564525 | AM8: 0.394151 | AN8: 0.466956 | AO8: 3.668368 | AP8: 3.57843 | AQ8: 1.589517 | AU8: 1.374814 | AW8: 21.402364 | AX8: 1838.632
A9: 福 島 | B9: 25.843862 | C9: 63.957736 | D9: 78.094727 | E9: 1087.0639 | F9: 34.60647 | G9: 34.534226 | H9: 1303.4066 | I9: 126.75707 | J9: 219.71286 | K9: 31.715663 | L9: 577.05392 | M9: 359.95457 | N9: 1939.8417 | O9: 503.94348 | P9: 14.049875 | Q9: 4.646101 | R9: 5.075514 | S9: 12.009335 | T9: 14.598231 | U9: 36.492093 | V9: 17.558263 | W9: 44.749606 | X9: 78.919642 | Y9: 14.07535 | Z9: 8.985892 | AA9: 33.069127 | AB9: 66.302412 | AC9: 31.241221 | AD9: 15.892971 | AE9: 2.899704 | AF9: 2.717586 | AG9: 5.282167 | AH9: 11.96799 | AI9: 17.373117 | AJ9: 15.196398 | AL9: 9.891617 | AM9: 5.975293 | AO9: 16.084669 | AQ9: 6.315323 | AR9: 0.239065 | AS9: 7.767677 | AT9: 2.085464 | AU9: 13.374804 | AV9: 6.219793 | AW9: 29.859766 | AX9: 6937.4029
A10: 茨 城 | B10: 19.956501 | C10: 33.683859 | D10: 46.178342 | E10: 108.14597 | F10: 11.360357 | G10: 20.354814 | H10: 126.75707 | I10: 208.49134 | J10: 19.124401 | K10: 34.219152 | L10: 268.78328 | M10: 334.8661 | N10: 2328.7482 | O10: 472.11866 | P10: 84.917982 | Q10: 22.708455 | R10: 13.332703 | S10: 31.237728 | T10: 40.247539 | U10: 80.540708 | V10: 33.867199 | W10: 194.24281 | X10: 162.88142 | Y10: 57.926941 | Z10: 53.020321 | AA10: 159.02648 | AB10: 230.65933 | AC10: 116.4508 | AD10: 26.18274 | AE10: 9.894552 | AF10: 1.901181 | AG10: 15.127691 | AH10: 42.256281 | AI10: 79.581551 | AJ10: 29.859218 | AK10: 2.073033 | AL10: 13.551853 | AM10: 10.950341 | AN10: 4.463767 | AO10: 26.85302 | AP10: 1.26335 | AQ10: 3.343262 | AR10: 2.508998 | AS10: 8.340863 | AT10: 2.909816 | AU10: 1.858395 | AV10: 7.139816 | AW10: 20.950893 | AX10: 5624.8591
A11: 栃 木 | B11: 33.105265 | C11: 36.345576 | D11: 28.437333 | E11: 200.537 | F11: 12.032053 | G11: 67.80472 | H11: 219.71286 | I11: 19.124401 | J11: 615.98827 | K11: 52.161732 | L11: 1199.15 | M11: 399.2924 | N11: 3194.1778 | O11: 623.28341 | P11: 34.439251 | Q11: 11.942861 | R11: 18.829126 | S11: 19.586283 | T11: 31.388017 | U11: 51.845993 | V11: 30.277256 | W11: 113.56464 | X11: 100.0054 | Y11: 55.764838 | Z11: 29.500328 | AA11: 77.830795 | AB11: 124.53085 | AC11: 58.648576 | AD11: 30.395331 | AE11: 10.226378 | AF11: 2.337537 | AG11: 7.952741 | AH11: 27.398534 | AI11: 31.094138 | AJ11: 9.885199 | AK11: 2.825345 | AL11: 10.962656 | AM11: 2.666704 | AN11: 3.568126 | AO11: 37.038679 | AP11: 6.536693 | AQ11: 15.384462 | AR11: 1.466788 | AU11: 6.384476 | AW11: 37.186702 | AX11: 7702.6176
A12: 群 馬 | B12: 23.132823 | C12: 15.808829 | D12: 28.991783 | E12: 69.479997 | F12: 8.128295 | G12: 23.27067 | H12: 31.715663 | I12: 34.219152 | J12: 52.161732 | K12: 80.45478 | L12: 710.99964 | M12: 242.18651 | N12: 2049.1433 | O12: 272.14403 | P12: 106.22841 | Q12: 14.122551 | R12: 17.206602 | S12: 7.634891 | T12: 14.225595 | U12: 296.39128 | V12: 16.343742 | W12: 86.628212 | X12: 80.615793 | Y12: 19.590278 | Z12: 16.225612 | AA12: 59.806063 | AB12: 109.96484 | AC12: 46.96988 | AD12: 7.449636 | AE12: 2.582354 | AF12: 1.423223 | AG12: 2.135444 | AH12: 13.887162 | AI12: 27.621436 | AJ12: 13.563834 | AK12: 0.333691 | AL12: 1.756943 | AM12: 4.721768 | AN12: 9.273854 | AO12: 28.507753 | AQ12: 7.400764 | AR12: 15.56134 | AS12: 0.195643 | AW12: 23.932476 | AX12: 4694.1383
A13: 埼 玉 | B13: 21.635813 | C13: 122.60785 | D13: 219.75787 | E13: 420.13949 | F13: 115.68337 | G13: 144.62394 | H13: 577.05392 | I13: 268.78328 | J13: 1199.15 | K13: 710.99964 | L13: 335.89693 | M13: 258.5758 | N13: 794.40278 | O13: 138.47416 | P13: 647.35326 | Q13: 62.476125 | R13: 72.438026 | S13: 16.438396 | T13: 134.17767 | U13: 720.51271 | V13: 52.234818 | W13: 554.69763 | X13: 470.05019 | Y13: 127.01216 | Z13: 113.76185 | AA13: 429.5618 | AB13: 500.54986 | AC13: 275.05618 | AD13: 76.483028 | AE13: 15.697911 | AF13: 7.823866 | AG13: 7.634177 | AH13: 107.16796 | AI13: 176.27848 | AJ13: 49.763411 | AK13: 3.364449 | AL13: 27.108265 | AM13: 35.869526 | AN13: 2.544635 | AO13: 54.696689 | AP13: 9.687717 | AQ13: 6.545378 | AR13: 2.208177 | AS13: 5.845739 | AT13: 4.747754 | AU13: 6.987849 | AW13: 189.24731 | AX13: 10293.808
