Workbook
Name A: #REF!
Name OLE_LINK7: '表－Ⅱ・４'!$E$6
Name RZK_DD: #REF!
Name RZK_DD: #REF!
Name RZK_DD: #REF!
Name RZK_TTL: #REF!
Name RZK_TTL: #REF!
Name RZK_TTL: #REF!
Name san: #REF!
Name san: #REF!
Name デフレータ: [1]デフレータ!#REF!
Name デフレータ: [1]デフレータ!#REF!
Name デフレータ: [1]デフレータ!#REF!
Name デフレータ: [1]デフレータ!#REF!

Sheet 表－Ⅱ・１
A1: 表－Ⅱ・１ 調査対象業種
A3: No. | B3: 大分類 | C3: 産業分類 | D3: コード | E3: No. | F3: 大分類 | G3: 産業分類 | H3: コード
B4: 農業、林業 | C4: 農業、林業大分類 | D4: A | F4: 情報通信業 | G4: 情報通信業大分類 | H4: G
A5: 1 | C5: 耕種農業 | D5: A011 | E5: 38 | G5: 通信業 | H5: G37
A6: 2 | C6: 畜産農業 | D6: A012 | E6: 39 | G6: 放送業 | H6: G38
A7: 3 | C7: 林業 | D7: A02 | E7: 40 | G7: 情報サービス業 | H7: G39
A8: 4 | C8: 上記以外の農業，林業 | E8: 41 | G8: インターネット付随サービス業 | H8: G40
B9: 漁業 | C9: 漁業大分類 | D9: B | E9: 42 | G9: 映像・音声・文字情報制作業 | H9: G41
A10: 5 | C10: 漁業 | D10: B03 | F10: 運輸業、 郵便業 | G10: 運輸業、郵便業大分類 | H10: H
A11: 6 | C11: 水産養殖業 | D11: B04 | E11: 43 | G11: 鉄道業 | H11: H42
A12: 7 | B12: 鉱業 | C12: 鉱業，採石業，砂利採取業 | D12: C | E12: 44 | G12: 道路旅客運送業 | H12: H43
A13: 8 | B13: 建設業 | C13: 建設業 | D13: D | E13: 45 | G13: 道路貨物運送業 | H13: H44
B14: 製造業 | C14: 製造業大分類 | D14: E | E14: 46 | G14: 上記以外の運輸業，郵便業
A15: 9 | C15: 食料品製造業 | D15: E09 | F15: 卸売業、 小売業 | G15: 卸売業、小売業大分類 | H15: I
A16: 10 | C16: 飲料・たばこ・飼料製造業 | D16: E10 | E16: 47 | G16: 各種商品卸売業 | H16: I50
A17: 11 | C17: 繊維工業 | D17: E11 | E17: 48 | G17: 木材、竹材卸売業 | H17: I5311
A18: 12 | C18: 木材・木製品製造業 | D18: E12 | E18: 49 | G18: 各種商品小売業 | H18: I56
A19: 13 | C19: 家具・装備品製造業 | D19: E13 | E19: 50 | G19: 自動車小売業 | H19: I591
A20: 14 | C20: パルプ・紙・紙加工品製造業 | D20: E14 | E20: 51 | G20: 機械器具小売業 | H20: I593
A21: 15 | C21: 印刷・同関連業 | D21: E15 | E21: 52 | G21: 家具・建具・畳小売業 | H21: I601
A22: 16 | C22: 化学工業 | D22: E16 | E22: 53 | G22: じゅう器小売業 | H22: I602
A23: 17 | C23: 石油製品・石炭製品製造業 | D23: E17 | E23: 54 | G23: 燃料小売業 | H23: I605
A24: 18 | C24: プラスチック製品製造業 | D24: E18 | E24: 55 | G24: 上記以外の卸売業，小売業
A25: 19 | C25: ゴム製品製造業 | D25: E19 | F25: 不動産業、 物品賃借業 | G25: 不動産業、物品賃借業大分類 | H25: K
A26: 20 | C26: なめし革・同製品・毛皮製造業 | D26: E20 | E26: 56 | G26: 物品賃貸業 | H26: K70
A27: 21 | C27: 窯業・土石製品製造業 | D27: E21 | F27: 学術研究、 専門・技術サービス業 | G27: 学術研究、専門・技術サービス業大分類 | H27: L
A28: 22 | C28: 鉄鋼業 | D28: E22 | E28: 57 | G28: 学術・開発研究機関 | H28: L71
A29: 23 | C29: 非鉄金属製造業 | D29: E23 | E29: 58 | G29: 写真業 | H29: L746
A30: 24 | C30: 金属製品製造業 | D30: E24 | F30: 宿泊業、 飲食サービス業 | G30: 宿泊業、飲食サービス業大分類 | H30: M
A31: 25 | C31: はん用機械器具製造業 | D31: E25 | E31: 59 | G31: 飲食店 | H31: M76
A32: 26 | C32: 生産用機械器具製造業 | D32: E26 | E32: 60 | G32: 上記以外の宿泊業，飲食サービス業
A33: 27 | C33: 業務用機械器具製造業 | D33: E27 | F33: 生活関連サービス業、娯楽業 | G33: 生活関連サービス業、娯楽業大分類 | H33: N
A34: 28 | C34: 電子部品・デバイス・電子回路製造業 | D34: E28 | E34: 61 | G34: 洗濯業 | H34: N781
A35: 29 | C35: 電気機械器具製造業 | D35: E29 | E35: 62 | F35: 教育，学習支援業大分類 | G35: 教育，学習支援業 | H35: O
A36: 30 | C36: 情報通信機械器具製造業 | D36: E30 | F36: 医療・福祉 | G36: 医療、福祉大分類 | H36: P
A37: 31 | C37: 輸送用機械器具製造業 | D37: E31 | E37: 63 | G37: 医療業 | H37: P83
A38: 32 | C38: その他の製造業 | D38: E32 | E38: 64 | G38: 上記以外の医療，福祉
B39: 電気・ガス・熱供給・水道業 | C39: 電気・ガス・熱供給・水道業大分類 | D39: F | E39: 65 | F39: 複合サービス事業 | G39: 複合サービス事業 | H39: Q
A40: 33 | C40: 電気業 | D40: F33 | F40: サービス業 | G40: サービス業大分類 | H40: R
A41: 34 | C41: ガス業 | D41: F34 | E41: 66 | G41: 自動車整備業 | H41: R891
A42: 35 | C42: 熱供給業 | D42: F35 | E42: 67 | G42: と畜場 | H42: R952
A43: 36 | C43: 上水道業 | D43: F361 | E43: 68 | G43: 上記以外のサービス業
A44: 37 | C44: 下水道業 | D44: F363 | E44: 69 | F44: 公務 | G44: 公務 | H44: S

Sheet 表－Ⅱ・２
A1: 表－Ⅱ・２ 調査対象廃棄物
A3: 廃棄物名 | C3: 廃棄物名 | E3: 廃棄物名
A4: 燃え殻 | C4: 木くず | E4: 鉱さい
A5: 汚泥 | C5: 繊維くず | E5: がれき類
A6: 廃油 | C6: 動植物性残さ | F6: うち石綿含有
A7: 廃酸 | C7: 動物系固形不要物 | E7: 動物のふん尿
A8: 廃アルカリ | C8: ゴムくず | E8: 動物の死体
A9: 廃プラスチック類 | C9: 金属くず | E9: ばいじん
B10: うち石綿含有 | C10: ガラスくず、コンクリートくず及び陶磁器くず
A11: 紙くず | D11: うち石綿含有

Sheet 表－Ⅱ・３
A1: 表－Ⅱ・３ 調査票の構成
A3: No. | B3: 調査票名 | C3: 内容 | D3: 枚数
A4: 1 | B4: 実態調査状況票 | C4: 各都道府県で実施した既往の産業廃棄物実態調査の内容及び、今後の調査予定を調査するためのもの | D4: 4枚
A5: 2 | B5: 業種別・種類別産業廃棄物排出量調査票 | C5: 産業廃棄物及び特別管理産業廃棄物の業種別廃棄物種類別の年間排出量を調査するためのもの | D5: 2枚
A6: 3 | B6: 種類別産業廃棄物処理状況調査票 | C6: 産業廃棄物及び特別管理産業廃棄物の中間処理・最終処分・再生利用状況を調査するためのもの | D6: 2枚
A7: 合 計 | D7: 8枚

Sheet 表－Ⅱ・４
A1: 表－Ⅱ・４ 業種ごとの活動量指標の種類及び出典
A3: 業種 | C3: 活動量指標の種類 | D3: 単位 | E3: 出典 | F3: 出典年次
A4: 農業 | B4: 耕種農業 | C4: 施設面積(ハウス面積、ガラス室面積) | D4: ａ | E4: 世界農林業センサス(農業センサス) | F4: 平成22年
B5: 畜産農業 | C5: 家畜数 | D5: 頭羽 | E5: 畜産統計、食鳥流通統計調査 | F5: 平成24年
A6: 林業 | C6: 従業者数 | D6: 人 | E6: 経済センサス | F6: 平成22年
A7: 漁業 | C7: 従業者数 | D7: 人 | E7: 経済センサス | F7: 平成22年
A8: 鉱業 | C8: 従業者数 | D8: 人 | E8: 経済センサス | F8: 平成22年
A9: 建設業 | C9: 元請完成工事高 | D9: 百万円 | E9: 建設工事施工統計調査報告 | F9: 平成24年
A10: 製造業 | C10: 製造品出荷額等 | D10: 百万円 | E10: 工業統計 | F10: 平成24年
A11: 電気･ガス･熱供給･水道業 | C11: 従業者数 | D11: 人 | E11: 経済センサス | F11: 平成22年
B12: 上水道業 | C12: 給水人口 | D12: 人 | E12: 水道統計の経年分析 | F12: 平成24年
B13: 下水道 | C13: 処理区域人口 | D13: 人 | E13: 都道府県別汚水処理人口普及状況 | F13: 平成24年
A14: 情報通信業、運輸業 | C14: 従業者数 | D14: 人 | E14: 経済センサス | F14: 平成22年
A15: 卸売・小売業 飲食店、宿泊業 | C15: 従業者数 | D15: 人 | E15: 経済センサス | F15: 平成22年
A16: 医療、福祉 | C16: 病床数 | D16: 床 | E16: 医療施設動態調査 | F16: 平成24年
A17: 教育，学習支援業 複合ｻｰﾋﾞｽ業、サービス業 | C17: 従業者数 | D17: 人 | E17: 経済センサス | F17: 平成22年
B18: と畜場(動物系固形不要物) | C18: と畜頭数 | D18: 頭 | E18: 畜産物流通統計 | F18: 平成24年
A19: 公務 | C19: 従業者数 | D19: 人 | E19: 経済センサス | F19: 平成22年

Sheet 表－Ⅱ・５
A1: 表－Ⅱ・５ デフレーター
A3: 業種大分類 | B3: デフレーター
B4: 建設業* | C4: 製造業**
A5: 平成12年度 | B5: 99.8 | C5: 99.7
A6: 平成13年度 | B6: 98.1 | C6: 98.4
A7: 平成14年度 | B7: 97.1 | C7: 97
A8: 平成15年度 | B8: 97.7 | C8: 96.1
A9: 平成16年度 | B9: 98.8 | C9: 98
A10: 平成17年度 | B10: 100 | C10: 100.8
A11: 平成18年度 | B11: 102 | C11: 103.3
A12: 平成19年度 | B12: 104.6 | C12: 105.7
A13: 平成20年度 | B13: 107.9 | C13: 107.6
A14: 平成21年度 | B14: 104.3 | C14: 101.3
A15: 平成22年度 | B15: 104.6 | C15: 101.9
A16: 平成23年度 | B16: 106.2 | C16: 103.2
A17: 平成24年度 | B17: 104.7 | C17: 102.1
A18: * 「建設工事費デフレーター（2005年度基準）」（国土交通省総合政策局情報管理部建設調査統計課）
A19: ** 「企業物価指数（2005年基準）」（日本銀行調査統計局）

Sheet 表－Ⅱ・６
A1: 表－Ⅱ・６ 動物のふん尿原単位
A3: 畜 種 | C3: 排せつ物量（㎏／頭羽／日）
C4: ふん | D4: 尿 | E4: 合計
A5: 乳牛 | B5: 搾乳牛 | C5: 45.5 | D5: 13.4 | E5: 58.9
B6: 乾・未経産 | C6: 29.7 | D6: 6.1 | E6: 35.8
B7: 育成牛 | C7: 17.9 | D7: 6.7 | E7: 24.6
A8: 肉牛 | B8: 2歳未満 | C8: 17.8 | D8: 6.5 | E8: 24.3
B9: 2歳以上 | C9: 20 | D9: 6.7 | E9: 26.7
B10: 乳用種 | C10: 18 | D10: 7.2 | E10: 25.2
A11: 豚 | B11: 肥育豚 | C11: 2.1 | D11: 3.8 | E11: 5.9
B12: 繁殖豚 | C12: 3.3 | D12: 7 | E12: 10.3
A13: 採卵鶏 | B13: 成鶏 | C13: 0.136 | D13: － | E13: 0.136
B14: ヒナ | C14: 0.059 | D14: － | E14: 0.059
A15: ブロイラー | C15: 0.13 | D15: － | E15: 0.13
A16: 資料：築城幹典、原田靖生：我が国における家畜排泄物発生の実態と今後の課題、環境
A17: 保全と新しい畜産、農林水産技術情報協会、１５－２９（１９９７）
E18: （農林水産省提供）

Sheet 表－Ⅱ・７
A1: 表－Ⅱ・７ 家畜の体重の設定
A3: 種別 | B3: 区分 | C3: 体重の範囲 | D3: 体重の設定値 (kg)
C4: （kg）
A5: 乳用牛 | B5: 搾乳牛 | C5: 600～700 | D5: 650
B6: 乾乳牛 | C6: 550～650 | D6: 600
B7: 育成牛 | C7: 40～500 | D7: 270
A8: 肉用牛 | B8: 2歳未満 | C8: 200～400 | D8: 300
B9: 2歳以上 | C9: 400～700 | D9: 550
B10: 乳用種 | C10: 250～700 | D10: 475
A11: 豚 | B11: 子豚 | C11: 3～30 | D11: 16.5
B12: 肥育豚 | C12: 30～110 | D12: 70
B13: 繁殖豚 | C13: 150～ 300 | D13: 225
A14: 資料：「堆肥化施設設計マニュアル」（社団法人中央畜産会：平成13年4月20日 二版二刷）（ただし、体重の設定値は体重の範囲より算出）

Sheet 表－Ⅱ・８
A1: 表－Ⅱ・８ 濃縮汚泥量（全国量（ｍ３／年））
A3: No. | B3: 都道府県名 | C3: 平成24年度
A4: 1 | B4: 北海道 | C4: 4349727
A5: 2 | B5: 青森県 | C5: 545603
A6: 3 | B6: 岩手県 | C6: 476155
A7: 4 | B7: 宮城県 | C7: 1117127
A8: 5 | B8: 秋田県 | C8: 333376
A9: 6 | B9: 山形県 | C9: 553219
A10: 7 | B10: 福島県 | C10: 811030
A11: 8 | B11: 茨城県 | C11: 1423653
A12: 9 | B12: 栃木県 | C12: 860653
A13: 10 | B13: 群馬県 | C13: 986063
A14: 11 | B14: 埼玉県 | C14: 4142274
A15: 12 | B15: 千葉県 | C15: 3325815
... A50: 47 | B50: 沖縄県 | C50: 902621
A51: 合計 | C51: 76045849

Sheet 表－Ⅱ・９
A1: 表－Ⅱ・９ 処理状況算出項目（処理区分）
A3: 処 理 区 分 | B3: 調査票Ⅲ処理項目番号との関係
A4: ①直接再生利用量（中間処理せず、再生利用された量） | B4: 自己未処理自己再生利用量（8）
A5: ②直接最終処分量（中間処理せず、最終処分された量） | B5: 自己未処理自己最終処分量（11）＋（5）のうち委託最終処分された量（14ハ）
A6: ③中間処理量（中間処理の対象となった量） | B6: 自己中間処理量（4）＋（5）のうち委託中間処理された量（13イ）
A7: ④減量化量（中間処理により減量した量） （＝③－⑤） | B7: －
A8: ⑤処理残渣量（中間処理後の処理残渣量） （＝⑥＋⑦） | B8: －
A9: ⑥処理後再生利用量（中間処理後に、再生利用された量） | B9: 自己中間処理後再生利用量（9）＋委託中間処理後再生利用量（17）
A10: ⑦処理後最終処分量（中間処理後に、最終処分された量） | B10: 自己中間処理後自己最終処分量（10）＋（6）のうち委託最終処分された量（14ニ）＋委託中間処理後最終処分量（18）

Sheet 表－Ⅱ・１０
A1: 表－Ⅱ・１０ 上水汚泥の処理量（推計排出量と処理量の比率からの算出）
A3: 処理区分 | C3: 処理量 | D3: 処理量の比率
C4: （千ｔ／年） | D4: （％）
A5: 排出量 | C5: 10870 | D5: 100
B6: 有効利用量 | C6: 707 | D6: 6.5
B7: 減量化量 | C7: 9566 | D7: 88
B8: 埋立量 | C8: 598 | D8: 5.5

Sheet 表－Ⅱ・１１
A1: 表－Ⅱ・１１ 下水汚泥の処理量
A3: 処理区分 | C3: 処理実績 | D3: 処理量の比率
C4: (千ｔ／年） | D4: （％）
A5: 排出量 | C5: 76046 | D5: 100
B6: 再生利用量(①) | C6: 1988 | D6: 2.6
B7: 中間処理による減量化(②) | C7: 73650 | D7: 96.9
B8: 減量化(①＋②) | C8: 75639 | D8: 99.5
B9: 最終処分量 | C9: 407 | D9: 0.5
D11: （国土交通省提供資料）

Sheet 表－Ⅲ・１
A1: 表－Ⅲ・１ 都道府県実態調査の実施状況（平成24年度実績値）
A3: №都道府県 | C3: 産業分類 （新/旧） | D3: 調査年度
D4: 平成20年度 | E4: 平成21年度 | F4: 平成22年度 | G4: 平成23年度 | H4: 平成24年度
A5: 1 | B5: 北海道 | C5: 新 | D5: ○※ | H5: ●
A6: 2 | B6: 青森県 | C6: 新 | D6: ●
A7: 3 | B7: 岩手県 | C7: 新 | D7: ○ | E7: ○ | F7: ○ | G7: ○※ | H7: ▲
A8: 4 | B8: 宮城県 | C8: 新 | D8: ○ | E8: ○ | F8: ○ | G8: ○※ | H8: ▲
A9: 5 | B9: 秋田県 | C9: 新 | D9: ○ | E9: ○ | F9: △ | G9: ○※ | H9: ▲
A10: 6 | B10: 山形県 | C10: 新 | D10: ○ | E10: ●
A11: 7 | B11: 福島県 | C11: 新 | D11: ○ | E11: ○ | F11: ○ | G11: ○※ | H11: ▲
A12: 8 | B12: 茨城県 | C12: 新 | D12: ●
A13: 9 | B13: 栃木県 | C13: 新 | D13: ○ | E13: ○ | F13: ○ | G13: ○※ | H13: ●
A14: 10 | B14: 群馬県 | C14: 新 | D14: ○※ | E14: △ | F14: △ | G14: △ | H14: ▲
A15: 11 | B15: 埼玉県 | C15: 新 | D15: ○※ | F15: △ | G15: △ | H15: ▲
A16: 12 | B16: 千葉県 | C16: 新 | D16: ○ | E16: ○ | F16: ○ | G16: ○ | H16: ●
A17: 13 | B17: 東京都 | C17: 新 | D17: △ | E17: △ | F17: △ | G17: △※ | H17: ▲
A18: 14 | B18: 神奈川県 | C18: 新 | D18: ○ | E18: ○※ | F18: ○※ | G18: △ | H18: ▲
A19: 15 | B19: 新潟県 | C19: 新 | D19: ●
A20: 16 | B20: 富山県 | C20: 新 | D20: ○ | E20: ○ | F20: ○ | G20: ○※ | H20: ▲
A21: 17 | B21: 石川県 | C21: 新 | D21: ○ | E21: ○ | F21: ○ | G21: ○※ | H21: ●
A22: 18 | B22: 福井県 | C22: 新 | D22: ●
A23: 19 | B23: 山梨県 | C23: 新 | D23: ○ | E23: ○ | F23: ○ | G23: ○※ | H23: ▲
A24: 20 | B24: 長野県 | C24: 新 | D24: ●
A25: 21 | B25: 岐阜県 | C25: 新 | D25: ●
A26: 22 | B26: 静岡県 | C26: 新 | D26: ○ | E26: ○ | F26: ○※ | H26: ▲
A27: 23 | B27: 愛知県 | C27: 新 | D27: ○ | E27: ○ | F27: ○※ | H27: ▲
A28: 24 | B28: 三重県 | C28: 旧 | D28: ○※ | H28: ▲
A29: 25 | B29: 滋賀県 | C29: 新 | D29: ○ | E29: ○ | F29: ○ | G29: ○※ | H29: ▲
A30: 26 | B30: 京都府 | C30: 旧 | D30: ○ | F30: ●
A31: 27 | B31: 大阪府 | C31: 新 | D31: ○ | F31: ●
A32: 28 | B32: 兵庫県 | C32: 旧 | D32: ●
A33: 29 | B33: 奈良県 | C33: 新 | D33: ○ | F33: ●
A34: 30 | B34: 和歌山県 | C34: 新 | D34: ○ | E34: ○ | F34: ○ | G34: ○※ | H34: ▲
A35: 31 | B35: 鳥取県 | C35: 新 | E35: ○ | F35: ○ | G35: ○※ | H35: ▲
A36: 32 | B36: 島根県 | C36: 新 | D36: ●
A37: 33 | B37: 岡山県 | C37: 新 | D37: ○ | E37: ○ | F37: △ | G37: ○※ | H37: ●
A38: 34 | B38: 広島県 | C38: 旧 | D38: ○※ | E38: △ | F38: △ | G38: △ | H38: ▲
A39: 35 | B39: 山口県 | C39: 旧 | D39: ●
A40: 36 | B40: 徳島県 | C40: 旧 | D40: ●
A41: 37 | B41: 香川県 | C41: 新 | D41: ○ | E41: ○ | F41: ○※ | G41: △ | H41: ▲
A42: 38 | B42: 愛媛県 | C42: 新 | D42: ○ | E42: ●
A43: 39 | B43: 高知県 | C43: 新 | D43: ●
A44: 40 | B44: 福岡県 | C44: 旧 | D44: △ | E44: ●
A45: 41 | B45: 佐賀県 | C45: 新 | D45: ○ | E45: ○ | F45: ○ | G45: ○※ | H45: ▲
A46: 42 | B46: 長崎県 | C46: 新 | D46: ●
A47: 43 | B47: 熊本県 | C47: 旧 | D47: ●
A48: 44 | B48: 大分県 | C48: 新 | D48: ○ | E48: ○ | G48: ●
A49: 45 | B49: 宮崎県 | C49: 新 | D49: ○ | E49: ○ | F49: ○ | G49: ○※ | H49: ▲
A50: 46 | B50: 鹿児島県 | C50: 旧 | D50: ●
A51: 47 | B51: 沖縄県 | C51: 旧 | D51: ○ | E51: ○ | F51: ○※ | G51: △ | H51: ▲
A52: ○、○※、△ | D52: 32 | E52: 24 | F52: 24 | G52: 22 | H52: 0
A53: ●、▲ | D53: 14 | E53: 3 | F53: 3 | G53: 1 | H53: 26
A54: 計 | D54: 46 | E54: 27 | F54: 27 | G54: 23 | H54: 26
B55: ※１ | C55: ●：今回採用データ、▲：今回採用データ（大分類による回答あり）
C56: ○：以前の調査、△：以前の調査（大分類による回答あり）、
C57: ○※：以前の調査（按分根拠として採用）

Sheet 表－Ⅲ・２
A1: 表－Ⅲ・２ 産業廃棄物の業種別排出量（平成24年度実績値）
A3: 業種 | C3: 平成23年度（参考） | E3: 平成24年度 | H3: 旧産業分類 | I3: 新産業分類 | K3: 旧産業分類 | L3: 新産業分類
C4: 排出量（千ｔ） | D4: 割合（%） | E4: 排出量（千ｔ） | F4: 割合（%） | H4: (大分類)農業 | I4: (大分類)農業･林業 | K4: 一般機械器具製造業 | L4: はん用機械器具、生産用機械器具､業務用機械器具､その他の製造業
A5: 農業、林業 | C5: 84709.838 | D5: =C5/C$42*100 -> 22.221538 | E5: 85720.89 | F5: =E5/E$42*100 -> 22.609479 | H5: (大分類)林業 | K5: 精密機械器具製造業
A6: 漁 業 | C6: 15.389306 | D6: =C6/C$42*100 -> 0.0040370053 | E6: 7.1266707 | F6: =E6/E$42*100 -> 0.0018797088 | H6: 繊維工業 | I6: 繊維工業 | K6: その他の製造業
A7: 鉱 業 | C7: 10466.14 | D7: =C7/C$42*100 -> 2.7455339 | E7: 9480.6385 | F7: =E7/E$42*100 -> 2.5005841 | H7: 衣服･その他繊維製品製造業 | K7: 電気機械器具製造業 | L7: 電子部品･デバイス･電子回路､電気機械器具､情報通信機械器具
A8: 建設業 | C8: 75395.176 | D8: =C8/C$42*100 -> 19.778066 | E8: 74123.884 | F8: =E8/E$42*100 -> 19.550688 | K8: 情報通信機械器具製造業
A9: 製造業 | C9: 110897.93 | D9: =C9/C$42*100 -> 29.091338 | E9: 108969.85 | F9: =E9/E$42*100 -> 28.741553 | K9: 電子部品･デバイス製造業
B10: 食料品製造業 | C10: 8625.5962 | D10: =C10/C$42*100 -> 2.2627126 | E10: 8484.3846 | F10: =E10/E$42*100 -> 2.2378152
B11: 飲料・たばこ・飼料製造業 | C11: 2970.3616 | D11: =C11/C$42*100 -> 0.77920115 | E11: 2864.4058 | F11: =E11/E$42*100 -> 0.75550688
B12: 繊維工業 | C12: 625.00714 | D12: =C12/C$42*100 -> 0.16395522 | E12: 604.15097 | F12: =E12/E$42*100 -> 0.159349
B13: 木材・木製品製造業 | C13: 647.75973 | D13: =C13/C$42*100 -> 0.1699238 | E13: 626.19764 | F13: =E13/E$42*100 -> 0.16516397
B14: 家具・装備品製造業 | C14: 217.43077 | D14: =C14/C$42*100 -> 0.057037605 | E14: 329.01437 | F14: =E14/E$42*100 -> 0.086779821
B15: パルプ・紙・紙加工品製造業 | C15: 29895.251 | D15: =C15/C$42*100 -> 7.8422822 | E15: 28996.358 | F15: =E15/E$42*100 -> 7.6479902
B16: 印刷・同関連業 | C16: 557.95829 | D16: =C16/C$42*100 -> 0.14636661 | E16: 1271.9923 | F16: =E16/E$42*100 -> 0.33549678
B17: 化学工業 | C17: 13373.006 | D17: =C17/C$42*100 -> 3.5080785 | E17: 12193.302 | F17: =E17/E$42*100 -> 3.2160679
B18: 石油製品・石炭製品製造業 | C18: 1002.9316 | D18: =C18/C$42*100 -> 0.2630944 | E18: 2166.2775 | F18: =E18/E$42*100 -> 0.5713707
B19: プラスチック製品製造業 | C19: 1090.6491 | D19: =C19/C$42*100 -> 0.28610491 | E19: 992.11947 | F19: =E19/E$42*100 -> 0.26167838
B20: ゴム製品製造業 | C20: 300.93455 | D20: =C20/C$42*100 -> 0.078942763 | E20: 330.34627 | F20: =E20/E$42*100 -> 0.087131117
B21: なめし革・同製品・毛皮製造業 | C21: 56.805366 | D21: =C21/C$42*100 -> 0.014901488 | E21: 84.101361 | F21: =E21/E$42*100 -> 0.022182317
... B28: 輸送用機械器具製造業 | C28: 3083.1075 | D28: =C28/C$42*100 -> 0.80877727 | E28: 2277.3743 | F28: =E28/E$42*100 -> 0.60067326
A29: 電気･ガス・熱供給・水道業 | C29: 95575.886 | D29: =C29/C$42*100 -> 25.071978 | E29: 96473.043 | F29: =E29/E$42*100 -> 25.445433
A30: 情報通信業 | C30: 133.2484 | D30: =C30/C$42*100 -> 0.034954435 | E30: 109.83565 | F30: =E30/E$42*100 -> 0.028969915
A31: 運輸業 | C31: 557.8678 | D31: =C31/C$42*100 -> 0.14634287 | E31: 700.44991 | F31: =E31/E$42*100 -> 0.18474852
A32: 卸売・小売業 | C32: 1462.6884 | D32: =C32/C$42*100 -> 0.38370025 | E32: 1388.7716 | F32: =E32/E$42*100 -> 0.36629812
A33: 不動産業、物品賃貸業 | C33: 116.29214 | D33: =C33/C$42*100 -> 0.030506378 | E33: 101.72673 | F33: =E33/E$42*100 -> 0.026831131
A34: 学術研究、専門・技術サービス業 | C34: 67.409518 | D34: =C34/C$42*100 -> 0.017683226 | E34: 64.645059 | F34: =E34/E$42*100 -> 0.017050582
A35: 飲食店、宿泊業 | C35: 299.03199 | D35: =C35/C$42*100 -> 0.078443673 | E35: 325.88932 | F35: =E35/E$42*100 -> 0.085955566
A36: 生活関連サービス、娯楽業 | C36: 137.27005 | D36: =C36/C$42*100 -> 0.036009414 | E36: 175.12684 | F36: =E36/E$42*100 -> 0.046190917
A37: 教育、学習支援業 | C37: 334.93624 | D37: =C37/C$42*100 -> 0.087862268 | E37: 57.932069 | F37: =E37/E$42*100 -> 0.015279985
A38: 医療、福祉 | C38: 138.17622 | D38: =C38/C$42*100 -> 0.036247125 | E38: 384.34713 | F38: =E38/E$42*100 -> 0.10137422
A39: 複合サービス事業 | C39: 27.378642 | D39: =C39/C$42*100 -> 0.0071821119 | E39: 23.977558 | F39: =E39/E$42*100 -> 0.0063242469
A40: サービス業 | C40: 775.84647 | D40: =C40/C$42*100 -> 0.2035242 | E40: 961.58903 | F40: =E40/E$42*100 -> 0.25362577
... A42: 合 計 | C42: 381206 | D42: =C42/C$42*100 -> 100 | E42: 379136.96 | F42: =E42/E$42*100 -> 100
A43: ※ 各業種の産業廃棄物の排出量は四捨五入して表示しているため、合算した値は合計値と異なる場合がある。
A44: ※ 日本標準産業分類の改訂に伴う、新産業分類で相違する業種区分の対応は以下の通り。

Sheet 表－Ⅲ・３
A1: 表－Ⅲ・３ 産業廃棄物の種類別排出量（平成24年度実績値）
A3: 種類 | B3: 平成23年度（参考） | D3: 平成24年度
B4: 排出量（千ｔ） | C4: 割合（%） | D4: 排出量（千ｔ） | E4: 割合（%）
A5: 燃え殻 | B5: 1835.9379 | C5: =B5/B$24*100 -> 0.48161307 | D5: 1869.0867 | E5: =D5/D$24*100 -> 0.49298458
A6: 汚 泥 | B6: 166131.71 | C6: =B6/B$24*100 -> 43.58056 | D6: 164638.46 | E6: =D6/D$24*100 -> 43.424535
A7: 廃 油 | B7: 3117.9775 | C7: =B7/B$24*100 -> 0.81792457 | D7: 3212.4877 | E7: =D7/D$24*100 -> 0.84731589
A8: 廃 酸 | B8: 2751.883 | C8: =B8/B$24*100 -> 0.72188868 | D8: 2595.0998 | E8: =D8/D$24*100 -> 0.68447555
A9: 廃アルカリ | B9: 1889.274 | C9: =B9/B$24*100 -> 0.49560446 | D9: 1778.2726 | E9: =D9/D$24*100 -> 0.46903173
A10: 廃プラスチック類 | B10: 5709.8648 | C10: =B10/B$24*100 -> 1.4978423 | D10: 5690.8645 | E10: =D10/D$24*100 -> 1.5010049
A11: 紙くず | B11: 1117.9945 | C11: =B11/B$24*100 -> 0.2932783 | D11: 1020.4448 | E11: =D11/D$24*100 -> 0.26914939
A12: 木くず | B12: 6232.8739 | C12: =B12/B$24*100 -> 1.6350409 | D12: 6228.9514 | E12: =D12/D$24*100 -> 1.6429291
A13: 繊維くず | B13: 79.467483 | C13: =B13/B$24*100 -> 0.020846336 | D13: 68.367084 | E13: =D13/D$24*100 -> 0.018032292
A14: 動植物性残さ | B14: 2754.2283 | C14: =B14/B$24*100 -> 0.7225039 | D14: 2571.5358 | E14: =D14/D$24*100 -> 0.67826039
A15: 動物系固形不要物 | B15: 83.715326 | C15: =B15/B$24*100 -> 0.021960653 | D15: 70.255255 | E15: =D15/D$24*100 -> 0.01853031
A16: ゴムくず | B16: 32.174545 | C16: =B16/B$24*100 -> 0.0084401988 | D16: 34.290949 | E16: =D16/D$24*100 -> 0.0090444754
... A24: 合 計 | B24: 381206 | C24: =B24/B$24*100 -> 100 | D24: 379136.96 | E24: =D24/D$24*100 -> 100

Sheet 表－Ⅲ・４
A1: 表－Ⅲ・４ 産業廃棄物の地域別排出量（平成24年度実績値）
A3: 地域別 | B3: 平成23年度（参考） | D3: 平成24年度
B4: 排出量（千ｔ） | C4: 割合（%） | D4: 排出量（千ｔ） | E4: 割合（%）
A5: 北海道 | B5: 35600 | C5: 9.3387826 | D5: 36117.071 | E5: 9.5261278
A6: 東北 | B6: 35823 | C6: 9.3972812 | D6: 37628.753 | E6: 9.9248444
A7: 関東 | B7: 100008 | C7: 26.234634 | D7: 101859.27 | E7: 26.866088
A8: 中部 | B8: 64680 | C8: 16.967204 | D8: 56103.042 | E8: 14.797566
A9: 近畿 | B9: 53829 | C9: 14.120712 | D9: 52981.398 | E9: 13.974211
A10: 中国 | B10: 25360 | C10: 6.652571 | D10: 24953.565 | E10: 6.5816757
A11: 四国 | B11: 13073 | C11: 3.4293794 | D11: 14080.27 | E11: 3.7137688
A12: 九州 | B12: 52834 | C12: 13.859698 | D12: 55413.588 | E12: 14.615718
A13: 合 計 | B13: 381206 | C13: 100 | D13: 379136.96 | E13: 100
A15: 各地域に属する都府県は次のとおり。
A16: 東北地域：青森県、岩手県、宮城県、秋田県、山形県、福島県
A17: 関東地域：茨城県、栃木県、群馬県、埼玉県、千葉県、東京都、神奈川県
A18: 中部地域：新潟県、富山県、石川県、福井県、山梨県、長野県、岐阜県、静岡県、愛知県
A19: 近畿地域：三重県、滋賀県、京都府、大阪府、兵庫県、奈良県、和歌山県
A20: 中国地域：鳥取県、島根県、岡山県、広島県、山口県
A21: 四国地域：徳島県、香川県、愛媛県、高知県
A22: 九州地域：福岡県、佐賀県、長崎県、熊本県、大分県、宮崎県、鹿児島県、沖縄県

Sheet 表-Ⅲ・５
A1: 表－Ⅲ・５ 平成24年度実績値 業種別・種類別排出量推計値一覧表
C3: 全国 | E3: 平成24年度 | X3: (単位：千ｔ/年)
A4: 大分類 | B4: 番号 | C4: 産業分類 | D4: コード | E4: 燃え殻 | F4: 汚 泥 | G4: 廃 油 | H4: 廃 酸 | I4: 廃アルカリ | J4: 廃プラス チック類 | K4: 紙くず | L4: 木くず | M4: 繊維くず | N4: 動植物性 残 渣 | O4: 動物系固形不要物 | P4: ゴムくず | Q4: 金属くず | R4: ガラスくず及び 陶磁器くず | S4: 鉱さい | T4: がれき類 | U4: 動物の ふん尿 | V4: 動物の死体 | W4: ばいじん | X4: 合 計
A5: 農業、 | C5: 農業大分類 | D5: Ａ | E5: 0.25136 | F5: 3.1348226 | G5: 0.032816359 | H5: 0.25111 | I5: 0 | J5: 91.723276 | K5: 0 | L5: 36.338883 | M5: 0 | N5: 0 | O5: 0 | P5: 0.001 | Q5: 0.23042046 | R5: 1.0287343 | S5: 0 | T5: 1.3504331 | U5: 85433.752 | V5: 152.79504 | W5: 0 | X5: 85720.89
A6: 林業 | B6: 1 | C6: 耕種農業 | D6: A011 | E6: 0 | F6: 0 | G6: 0 | H6: 0 | I6: 0 | J6: 88.614109 | K6: 0 | L6: 0 | M6: 0 | N6: 0 | O6: 0 | P6: 0 | Q6: 0.0072631473 | R6: 0.65877407 | S6: 0 | T6: 0 | U6: 0 | V6: 0 | W6: 0 | X6: 89.280146
B7: 2 | C7: 畜産農業 | D7: A012 | E7: 0 | F7: 0 | G7: 0 | H7: 0 | I7: 0 | J7: 3.0801069 | K7: 0 | L7: 0 | M7: 0 | N7: 0 | O7: 0 | P7: 0 | Q7: 0 | R7: 0 | S7: 0 | T7: 0 | U7: 85433.752 | V7: 152.79504 | W7: 0 | X7: 85589.627
B8: 3 | C8: 林業大分類 | D8: A02 | E8: 0 | F8: 3.1347406 | G8: 0.032816359 | H8: 0 | I8: 0 | J8: 0.029060567 | K8: 0 | L8: 36.338883 | M8: 0 | N8: 0 | O8: 0 | P8: 0 | Q8: 0.22315732 | R8: 0.36996023 | S8: 0 | T8: 1.3504331 | U8: 0 | V8: 0 | W8: 0 | X8: 41.479051
B9: 4 | C9: 上記以外の農業 | E9: 0 | F9: 0 | G9: 0 | H9: 0 | I9: 0 | J9: 0 | K9: 0 | L9: 0 | M9: 0 | N9: 0 | O9: 0 | P9: 0 | Q9: 0 | R9: 0 | S9: 0 | T9: 0 | U9: 0 | V9: 0 | W9: 0 | X9: 0
A10: 漁 業 | C10: 漁業大分類 | D10: B | E10: 0 | F10: 0.77985555 | G10: 0.59382427 | H10: 0 | I10: 0 | J10: 4.922339 | K10: 0 | L10: 0.16866784 | M10: 0 | N10: 0 | O10: 0 | P10: 0 | Q10: 0.50268104 | R10: 0.060775329 | S10: 0 | T10: 0.098527633 | U10: 0 | V10: 0 | W10: 0 | X10: 7.1266707
B11: 5 | C11: 漁 業 | D11: B03 | E11: 0 | F11: 0.63105041 | G11: 0.59382427 | H11: 0 | I11: 0 | J11: 4.8534623 | K11: 0 | L11: 0.14050463 | M11: 0 | N11: 0 | O11: 0 | P11: 0 | Q11: 0.14215652 | R11: 0.060775329 | S11: 0 | T11: 0.098527633 | U11: 0 | V11: 0 | W11: 0 | X11: 6.5203011
B12: 6 | C12: 水産養殖業 | D12: B04 | E12: 0 | F12: 0.14880514 | G12: 0 | H12: 0 | I12: 0 | J12: 0.068876717 | K12: 0 | L12: 0.02816321 | M12: 0 | N12: 0 | O12: 0 | P12: 0 | Q12: 0.36052452 | R12: 0 | S12: 0 | T12: 0 | U12: 0 | V12: 0 | W12: 0 | X12: 0.60636958
A13: 鉱 業 | B13: 7 | C13: 鉱業 | D13: C | E13: 0 | F13: 9251.0984 | G13: 13.425808 | H13: 0.0027377678 | I13: 2.6019565e-05 | J13: 4.6562799 | K13: 0 | L13: 4.9405282 | M13: 0 | N13: 0 | O13: 0 | P13: 0.04184941 | Q13: 1.8681593 | R13: 7.5265509 | S13: 124.72074 | T13: 72.357455 | U13: 0 | V13: 0 | W13: 0 | X13: 9480.6385
A14: 建設業 | B14: 8 | C14: 建設業 | D14: D | E14: 27.214608 | F14: 7748.4805 | G14: 97.690782 | H14: 5.1198061 | I14: 33.560389 | J14: 992.83202 | K14: 269.80431 | L14: 4896.1656 | M14: 49.838839 | N14: 0 | O14: 0 | P14: 1.2521717 | Q14: 918.24709 | R14: 1827.3476 | S14: 206.76934 | T14: 57037.868 | U14: 0 | V14: 0 | W14: 11.692784 | X14: 74123.884
A15: 製造業 | C15: 製造業大分類 | D15: E | E15: 853.09085 | F15: 58363.367 | G15: 2598.2372 | H15: 2547.8497 | I15: 1675.613 | J15: 3060.8154 | K15: 729.84169 | L15: 1158.6187 | M15: 18.528245 | N15: 2571.5358 | O15: 56.162306 | P15: 21.766285 | Q15: 5811.0277 | R15: 4018.6435 | S15: 16041.966 | T15: 1378.707 | U15: 0 | V15: 0 | W15: 8064.0807 | X15: 108969.85
B16: 9 | C16: 食料品製造業 | D16: E9 | E16: 23.103827 | F16: 6144.9753 | G16: 81.502298 | H16: 47.730801 | I16: 28.756821 | J16: 258.6689 | K16: 0 | L16: 7.9951275 | M16: 0 | N16: 1781.1643 | O16: 56.162306 | P16: 0.02198011 | Q16: 28.198958 | R16: 10.946869 | S16: 1.0194456 | T16: 0.74224946 | U16: 0 | V16: 0 | W16: 13.395447 | X16: 8484.3846
B17: 10 | C17: 飲料・たばこ・飼料製造業 | D17: E10 | E17: 15.397845 | F17: 1211.9609 | G17: 7.3849975 | H17: 806.12538 | I17: 3.5964595 | J17: 36.907685 | K17: 0 | L17: 3.8559731 | M17: 0 | N17: 741.18462 | O17: 0 | P17: 0.0079704923 | Q17: 9.2727194 | R17: 25.782777 | S17: 2.1167206 | T17: 0.1983034 | U17: 0 | V17: 0 | W17: 0.61341427 | X17: 2864.4058
B18: 11 | C18: 繊維工業 | D18: E11 | E18: 38.801201 | F18: 406.68081 | G18: 15.843078 | H18: 4.9709763 | I18: 3.2750965 | J18: 85.695259 | K18: 0 | L18: 1.9385748 | M18: 18.528245 | N18: 0 | O18: 0 | P18: 0.05149827 | Q18: 5.8026032 | R18: 1.0174698 | S18: 0.065226241 | T18: 0.42859047 | U18: 0 | V18: 0 | W18: 21.052335 | X18: 604.15097
B19: 12 | C19: 木材・木製品製造業 | D19: E12 | E19: 19.02866 | F19: 16.799264 | G19: 2.262705 | H19: 0.073009949 | I19: 0.27974519 | J19: 13.448056 | K19: 0 | L19: 531.00799 | M19: 0 | N19: 0 | O19: 0 | P19: 0.19352541 | Q19: 7.1857821 | R19: 21.009746 | S19: 0.071950956 | T19: 4.7603737 | U19: 0 | V19: 0 | W19: 10.076825 | X19: 626.19764
B20: 13 | C20: 家具・装備品製造業 | D20: E13 | E20: 1.0172964 | F20: 41.580627 | G20: 3.0909182 | H20: 0.54381227 | I20: 1.2876426 | J20: 25.539138 | K20: 0 | L20: 247.49009 | M20: 0 | N20: 0 | O20: 0 | P20: 0 | Q20: 5.4384012 | R20: 2.4683874 | S20: 0.055381444 | T20: 0.48476187 | U20: 0 | V20: 0 | W20: 0.017918439 | X20: 329.01437
B21: 14 | C21: パルプ・紙・紙加工品製造業 | D21: E14 | E21: 339.50242 | F21: 26886.493 | G21: 38.418493 | H21: 3.0143196 | I21: 12.089212 | J21: 393.48476 | K21: 519.90002 | L21: 135.8552 | M21: 0 | N21: 0 | O21: 0 | P21: 0.038961489 | Q21: 34.096681 | R21: 8.2105558 | S21: 0.44167912 | T21: 1.4698374 | U21: 0 | V21: 0 | W21: 623.34277 | X21: 28996.358
B22: 15 | C22: 印刷・同関連業 | D22: E15 | E22: 0.93430055 | F22: 520.12089 | G22: 310.77964 | H22: 4.8217711 | I22: 26.829288 | J22: 120.83923 | K22: 209.94167 | L22: 2.3757149 | M22: 0 | N22: 0 | O22: 0 | P22: 0.021493757 | Q22: 13.08688 | R22: 0.61562806 | S22: 0 | T22: 0.4714728 | U22: 0 | V22: 0 | W22: 61.154326 | X22: 1271.9923
B23: 16 | C23: 化学工業 | D23: E16 | E23: 196.5523 | F23: 9239.755 | G23: 849.21108 | H23: 386.93557 | I23: 706.99723 | J23: 294.26915 | K23: 0 | L23: 12.477944 | M23: 0 | N23: 49.186929 | O23: 0 | P23: 0.045024005 | Q23: 56.912011 | R23: 36.900004 | S23: 37.025818 | T23: 56.997237 | U23: 0 | V23: 0 | W23: 270.03654 | X23: 12193.302
B24: 17 | C24: 石油製品・石炭製品製造業 | D24: E17 | E24: 33.795289 | F24: 1281.9761 | G24: 139.61707 | H24: 83.501246 | I24: 67.051495 | J24: 51.260064 | K24: 0 | L24: 2.0508381 | M24: 0 | N24: 0 | O24: 0 | P24: 0.2151558 | Q24: 9.6786754 | R24: 19.135719 | S24: 2.1916333 | T24: 298.72845 | U24: 0 | V24: 0 | W24: 177.07577 | X24: 2166.2775
B25: 18 | C25: プラスチック製品製造業 | D25: E18 | E25: 3.8125103 | F25: 230.85401 | G25: 45.608104 | H25: 30.480949 | I25: 11.313232 | J25: 630.75025 | K25: 0 | L25: 6.5271383 | M25: 0 | N25: 0 | O25: 0 | P25: 0.083178277 | Q25: 13.890306 | R25: 11.420339 | S25: 1.8156619 | T25: 5.1879887 | U25: 0 | V25: 0 | W25: 0.37579988 | X25: 992.11947
B26: 19 | C26: ゴム製品製造業 | D26: E19 | E26: 1.6848796 | F26: 43.16984 | G26: 15.023775 | H26: 12.977339 | I26: 35.063416 | J26: 180.66451 | K26: 0 | L26: 3.7287189 | M26: 0 | N26: 0 | O26: 0 | P26: 10.930557 | Q26: 17.875874 | R26: 1.9410625 | S26: 0.070486511 | T26: 1.3085941 | U26: 0 | V26: 0 | W26: 5.9072182 | X26: 330.34627
B27: 20 | C27: なめし革・同製品・毛皮製造業 | D27: E20 | E27: 0.51597986 | F27: 46.697043 | G27: 3.294859 | H27: 0.1 | I27: 1.0033647 | J27: 29.77135 | K27: 0 | L27: 0.25163287 | M27: 0 | N27: 0 | O27: 0 | P27: 1.2637501 | Q27: 1.0109973 | R27: 0.043566957 | S27: 0.0041766492 | T27: 0.013395545 | U27: 0 | V27: 0 | W27: 0.13124531 | X27: 84.101361
... B39: 32 | C39: その他の製造業 | D39: E32 | E39: 13.641873 | F39: 103.21399 | G39: 31.681749 | H39: 12.361567 | I39: 19.130984 | J39: 124.78577 | K39: 0 | L39: 9.0346301 | M39: 0 | N39: 0 | O39: 0 | P39: 0.010792493 | Q39: 35.179237 | R39: 41.52683 | S39: 21.321386 | T39: 5.9345149 | U39: 0 | V39: 0 | W39: 172.22158 | X39: 590.04491
A40: 電気･ガス | C40: インフラ大分類 | D40: F | E40: 979.13878 | F40: 88217.189 | G40: 9.722867 | H40: 1.7437256 | I40: 4.7319507 | J40: 15.523629 | K40: 0 | L40: 0.29371916 | M40: 0 | N40: 0 | O40: 0 | P40: 0.025323755 | Q40: 5.7061203 | R40: 16.596711 | S40: 9.694263 | T40: 151.88612 | U40: 0 | V40: 0 | W40: 7060.7908 | X40: 96473.043
A41: ･熱供給･ | B41: 33 | C41: 電気業 | D41: F33 | E41: 973.82565 | F41: 1217.8903 | G41: 6.0721848 | H41: 1.4845641 | I41: 4.593758 | J41: 6.5943509 | K41: 0 | L41: 0.2342107 | M41: 0 | N41: 0 | O41: 0 | P41: 0.020488013 | Q41: 3.552793 | R41: 15.065073 | S41: 9.5196267 | T41: 106.75137 | U41: 0 | V41: 0 | W41: 7049.7574 | X41: 9395.3618
A42: 水道業 | B42: 34 | C42: ガス業 | D42: F34 | E42: 4.1535669e-05 | F42: 0.53967205 | G42: 0.26868941 | H42: 0.0068621493 | I42: 0.045073892 | J42: 0.80644604 | K42: 0 | L42: 0.0084725258 | M42: 0 | N42: 0 | O42: 0 | P42: 0.0027337553 | Q42: 1.5457621 | R42: 0.11063977 | S42: 0 | T42: 6.2443588 | U42: 0 | V42: 0 | W42: 0 | X42: 9.578752
B43: 35 | C43: 熱供給業 | D43: F35 | E43: 3.2481853 | F43: 82.902113 | G43: 0.023945757 | H43: 0 | I43: 0.016159833 | J43: 0.038870388 | K43: 0 | L43: 0.00032997815 | M43: 0 | N43: 0 | O43: 0 | P43: 0 | Q43: 0.014100878 | R43: 0.00074127878 | S43: 0 | T43: 0.20372513 | U43: 0 | V43: 0 | W43: 0.11891139 | X43: 86.567083
B44: 36 | C44: 上水道業 | D44: F361 | E44: 0.60611016 | F44: 10870.008 | G44: 0.016968422 | H44: 0.039043908 | I44: 0.070430004 | J44: 7.7908495 | K44: 0 | L44: 0.0071303208 | M44: 0 | N44: 0 | O44: 0 | P44: 0.0010498161 | Q44: 0.27379067 | R44: 0.28309744 | S44: 0.17043911 | T44: 26.941397 | U44: 0 | V44: 0 | W44: 1.2104621 | X44: 10907.418
B45: 37 | C45: 下水道業 | D45: F363 | E45: 1.4587952 | F45: 76045.849 | G45: 3.3410787 | H45: 0.21325546 | I45: 0.0065290193 | J45: 0.29311254 | K45: 0 | L45: 0.043575631 | M45: 0 | N45: 0 | O45: 0 | P45: 0.0010521705 | Q45: 0.31967363 | R45: 1.1371595 | S45: 0.0041972156 | T45: 11.745269 | U45: 0 | V45: 0 | W45: 9.7039838 | X45: 76074.117
A46: 情報通信業 | C46: 情報大分類 | D46: G | E46: 0 | F46: 1.6934903 | G46: 0.95628446 | H46: 1.2319836 | I46: 3.0832966 | J46: 22.749262 | K46: 20.798791 | L46: 0 | M46: 0 | N46: 0 | O46: 0 | P46: 0 | Q46: 19.448711 | R46: 3.445287 | S46: 0 | T46: 36.428548 | U46: 0 | V46: 0 | W46: 0 | X46: 109.83565
B47: 38 | C47: 通信業 | D47: G37 | E47: 0 | F47: 0 | G47: 0.014316186 | H47: 1.2016711 | I47: 0.067185851 | J47: 7.9612477 | K47: 0 | L47: 0 | M47: 0 | N47: 0 | O47: 0 | P47: 0 | Q47: 15.684078 | R47: 0.54571071 | S47: 0 | T47: 36.428548 | U47: 0 | V47: 0 | W47: 0 | X47: 61.902758
B48: 39 | C48: 放送業 | D48: G38 | E48: 0 | F48: 0.08941064 | G48: 0 | H48: 0 | I48: 0 | J48: 0.36479327 | K48: 0 | L48: 0 | M48: 0 | N48: 0 | O48: 0 | P48: 0 | Q48: 0.12231362 | R48: 0.25414791 | S48: 0 | T48: 0 | U48: 0 | V48: 0 | W48: 0 | X48: 0.83066544
B49: 40 | C49: 情報サービス業 | D49: G39 | E49: 0 | F49: 0.26728085 | G49: 0 | H49: 0 | I49: 0 | J49: 3.4198584 | K49: 0 | L49: 0 | M49: 0 | N49: 0 | O49: 0 | P49: 0 | Q49: 2.0004669 | R49: 1.9141658 | S49: 0 | T49: 0 | U49: 0 | V49: 0 | W49: 0 | X49: 7.601772
B50: 41 | C50: インターネット付随サービス業 | D50: G40 | E50: 0 | F50: 0 | G50: 0.051170894 | H50: 0 | I50: 0.046223705 | J50: 0.06379664 | K50: 0 | L50: 0 | M50: 0 | N50: 0 | O50: 0 | P50: 0 | Q50: 0.0050916195 | R50: 0 | S50: 0 | T50: 0 | U50: 0 | V50: 0 | W50: 0 | X50: 0.16628286
B51: 42 | C51: 映像・音声・文字情報制作業 | D51: G41 | E51: 0 | F51: 1.3367988 | G51: 0.89079738 | H51: 0.030312441 | I51: 2.969887 | J51: 10.939566 | K51: 20.798791 | L51: 0 | M51: 0 | N51: 0 | O51: 0 | P51: 0 | Q51: 1.6367612 | R51: 0.73126261 | S51: 0 | T51: 0 | U51: 0 | V51: 0 | W51: 0 | X51: 39.334177
A52: 運輸業 | C52: 運輸大分類 | D52: H | E52: 1.3272513 | F52: 231.52155 | G52: 47.02875 | H52: 0.91927067 | I52: 2.9309311 | J52: 151.77945 | K52: 0 | L52: 71.556979 | M52: 0 | N52: 0 | O52: 0 | P52: 0.30349365 | Q52: 47.23665 | R52: 12.412922 | S52: 0.9888711 | T52: 132.22375 | U52: 0 | V52: 0 | W52: 0.22004298 | X52: 700.44991
B53: 43 | C53: 鉄道業 | D53: H42 | E53: 1.2286242 | F53: 155.48555 | G53: 1.5900676 | H53: 0 | I53: 0.071649685 | J53: 10.492223 | K53: 0 | L53: 0.093165347 | M53: 0 | N53: 0 | O53: 0 | P53: 0.014624179 | Q53: 7.9253556 | R53: 3.9297491 | S53: 0.016921871 | T53: 14.59427 | U53: 0 | V53: 0 | W53: 0.22004298 | X53: 195.66224
B54: 44 | C54: 道路旅客運送業 | D54: H43 | E54: 0 | F54: 4.5304248 | G54: 18.545976 | H54: 0 | I54: 2.6777478 | J54: 8.3819266 | K54: 0 | L54: 0.0018628417 | M54: 0 | N54: 0 | O54: 0 | P54: 0.058146681 | Q54: 3.4832531 | R54: 0.39062151 | S54: 0 | T54: 0.019193382 | U54: 0 | V54: 0 | W54: 0 | X54: 38.089153
B55: 45 | C55: 道路貨物運送業 | D55: H44 | E55: 0.035270395 | F55: 16.448114 | G55: 22.122179 | H55: 0 | I55: 0.084726531 | J55: 114.61234 | K55: 0 | L55: 49.036239 | M55: 0 | N55: 0 | O55: 0 | P55: 0.23072279 | Q55: 29.493765 | R55: 5.3987264 | S55: 0.97194923 | T55: 3.5949068 | U55: 0 | V55: 0 | W55: 0 | X55: 242.02894
B56: 46 | C56: 上記以外の運輸通信業 | E56: 0.063356688 | F56: 55.057467 | G56: 4.7705268 | H56: 0.91927067 | I56: 0.096807049 | J56: 18.292952 | K56: 0 | L56: 22.425712 | M56: 0 | N56: 0 | O56: 0 | P56: 0 | Q56: 6.3342768 | R56: 2.6938247 | S56: 0 | T56: 114.01538 | U56: 0 | V56: 0 | W56: 0 | X56: 224.66957
A57: 卸売・小売業 | C57: 卸・小売大分類 | D57: I | E57: 0.21738277 | F57: 154.99659 | G57: 240.62797 | H57: 7.0203585 | I57: 18.085358 | J57: 594.3876 | K57: 0 | L57: 30.578248 | M57: 0 | N57: 0 | O57: 0 | P57: 9.525635 | Q57: 245.64413 | R57: 65.279401 | S57: 1.50523 | T57: 20.867614 | U57: 0 | V57: 0 | W57: 0.03603 | X57: 1388.7716
B58: 47 | C58: 各種商品卸売業 | D58: I49 | E58: 0 | F58: 10.108173 | G58: 27.075359 | H58: 0 | I58: 3.4427724 | J58: 61.36112 | K58: 0 | L58: 0.001763564 | M58: 0 | N58: 0 | O58: 0 | P58: 0 | Q58: 23.766937 | R58: 4.7819178 | S58: 0 | T58: 0 | U58: 0 | V58: 0 | W58: 0 | X58: 130.53804
B59: 48 | C59: 木材・竹材卸売業 | D59: I5311 | E59: 0.0098304214 | F59: 0.0063686004 | G59: 0.092205106 | H59: 0 | I59: 0 | J59: 1.4054751 | K59: 0 | L59: 8.5903491 | M59: 0 | N59: 0 | O59: 0 | P59: 0 | Q59: 0.65189274 | R59: 1.2594618 | S59: 0 | T59: 0.52486287 | U59: 0 | V59: 0 | W59: 0 | X59: 12.540446
B60: 49 | C60: 各種商品小売業 | D60: I56 | E60: 0 | F60: 34.31516 | G60: 13.524416 | H60: 0.024258226 | I60: 0.33774667 | J60: 60.49593 | K60: 0 | L60: 0.12639068 | M60: 0 | N60: 0 | O60: 0 | P60: 0.0023812637 | Q60: 6.25027 | R60: 8.7077562 | S60: 0 | T60: 0.11876956 | U60: 0 | V60: 0 | W60: 0 | X60: 123.90308
B61: 50 | C61: 自動車小売業 | D61: I591 | E61: 0.0067510143 | F61: 49.932824 | G61: 89.993678 | H61: 0.15481826 | I61: 9.5484077 | J61: 108.28092 | K61: 0 | L61: 0.062175251 | M61: 0 | N61: 0 | O61: 0 | P61: 0.19801206 | Q61: 62.683005 | R61: 5.8987514 | S61: 0 | T61: 0.071303269 | U61: 0 | V61: 0 | W61: 0 | X61: 326.83064
B62: 51 | C62: 機械器具小売業 | D62: I593 | E62: 0.032558708 | F62: 10.623066 | G62: 9.7995255 | H62: 0.001141839 | I62: 0.88488822 | J62: 80.859624 | K62: 0 | L62: 0.091235648 | M62: 0 | N62: 0 | O62: 0 | P62: 9.0662572 | Q62: 35.064535 | R62: 4.8692706 | S62: 0 | T62: 0.17676809 | U62: 0 | V62: 0 | W62: 0 | X62: 151.46887
B63: 52 | C63: 家具・建具・畳小売業 | D63: I601 | E63: 0.03970523 | F63: 0 | G63: 0 | H63: 0 | I63: 0 | J63: 3.4934005 | K63: 0 | L63: 0.065433043 | M63: 0 | N63: 0 | O63: 0 | P63: 0 | Q63: 1.0646367 | R63: 0.59182919 | S63: 0 | T63: 0.00024725154 | U63: 0 | V63: 0 | W63: 0 | X63: 5.2552519
B64: 53 | C64: じゅう器小売業 | D64: I602 | E64: 0 | F64: 0.0021008108 | G64: 0.026257712 | H64: 0 | I64: 0 | J64: 2.2749306 | K64: 0 | L64: 1.143352 | M64: 0 | N64: 0 | O64: 0 | P64: 0 | Q64: 0.35331396 | R64: 0.94898389 | S64: 0 | T64: 0.13944651 | U64: 0 | V64: 0 | W64: 0 | X64: 4.8883855
B65: 54 | C65: 燃料小売業 | D65: I603 | E65: 0.0055046572 | F65: 29.400582 | G65: 86.123723 | H65: 0 | I65: 0.11051786 | J65: 29.805257 | K65: 0 | L65: 1.5195441 | M65: 0 | N65: 0 | O65: 0 | P65: 0.030030825 | Q65: 15.399835 | R65: 2.3701316 | S65: 0 | T65: 3.7559833 | U65: 0 | V65: 0 | W65: 0 | X65: 168.52111
B66: 55 | C66: 上記以外の卸売・小売業 | E66: 0.12303274 | F66: 20.608319 | G66: 13.992808 | H66: 6.8401401 | I66: 3.7610247 | J66: 246.41094 | K66: 0 | L66: 18.978005 | M66: 0 | N66: 0 | O66: 0 | P66: 0.22895356 | Q66: 100.40971 | R66: 35.851299 | S66: 0 | T66: 16.080233 | U66: 0 | V66: 0 | W66: 0 | X66: 463.28446
A67: 不動産業、 | C67: 不動産・物品賃借大分類 | D67: K | E67: 0 | F67: 5.6476553 | G67: 1.2683191 | H67: 0.001388995 | I67: 0.0084337175 | J67: 42.941286 | K67: 0 | L67: 9.3245873 | M67: 0 | N67: 0 | O67: 0 | P67: 0.22018726 | Q67: 12.572523 | R67: 21.624819 | S67: 0 | T67: 8.1175347 | U67: 0 | V67: 0 | W67: 0 | X67: 101.72673
A68: 物品賃借業 | B68: 56 | C68: 物品賃借業 | D68: K70 | E68: 0 | F68: 5.6476553 | G68: 1.2683191 | H68: 0.001388995 | I68: 0.0084337175 | J68: 42.941286 | K68: 0 | L68: 9.3245873 | M68: 0 | N68: 0 | O68: 0 | P68: 0.22018726 | Q68: 12.572523 | R68: 21.624819 | S68: 0 | T68: 8.1175347 | U68: 0 | V68: 0 | W68: 0 | X68: 101.72673
A69: 学術研究、専門 | C69: 学術研究、専門・技術サービス業 | D69: L | E69: 0.33462313 | F69: 7.3577419 | G69: 6.0017652 | H69: 6.9585861 | I69: 7.3413568 | J69: 14.460156 | K69: 0 | L69: 0.60105288 | M69: 0 | N69: 0 | O69: 0 | P69: 5.8102211e-05 | Q69: 10.058965 | R69: 6.7622388 | S69: 0.060631562 | T69: 4.6914128 | U69: 0 | V69: 0 | W69: 0.016470391 | X69: 64.645059
B70: 57 | C70: 学術開発研究機関 | D70: L71 | E70: 0.33462313 | F70: 7.3577419 | G70: 6.0017652 | H70: 1.4731751 | I70: 5.6879661 | J70: 14.029427 | K70: 0 | L70: 0.60105288 | M70: 0 | N70: 0 | O70: 0 | P70: 5.8102211e-05 | Q70: 9.7036223 | R70: 6.7381662 | S70: 0.060631562 | T70: 4.6914128 | U70: 0 | V70: 0 | W70: 0.016470391 | X70: 56.696112
B71: 58 | C71: 写真業 | D71: L746 | E71: 0 | F71: 0 | G71: 0 | H71: 5.485411 | I71: 1.6533907 | J71: 0.43072946 | K71: 0 | L71: 0 | M71: 0 | N71: 0 | O71: 0 | P71: 0 | Q71: 0.3553424 | R71: 0.024072544 | S71: 0 | T71: 0 | U71: 0 | V71: 0 | W71: 0 | X71: 7.9489462
A72: 飲食店、宿泊業 | C72: 飲食店、宿泊業大分類 | D72: Ｍ | E72: 0.075698879 | F72: 129.3112 | G72: 85.665433 | H72: 0.01681 | I72: 1.0163033 | J72: 72.155738 | K72: 0 | L72: 0.22300118 | M72: 0 | N72: 0 | O72: 0 | P72: 0.016577149 | Q72: 21.8885 | R72: 15.51735 | S72: 0.00271 | T72: 0 | U72: 0 | V72: 0 | W72: 0 | X72: 325.88932
B73: 59 | C73: 一般飲食店 | D73: M76 | E73: 0.075698879 | F73: 111.54106 | G73: 77.204896 | H73: 0 | I73: 1.0163033 | J73: 57.134843 | K73: 0 | L73: 0.14937348 | M73: 0 | N73: 0 | O73: 0 | P73: 0.0014454503 | Q73: 14.469166 | R73: 11.904839 | S73: 0 | T73: 0 | U73: 0 | V73: 0 | W73: 0 | X73: 273.49763
B74: 60 | C74: 上記以外の飲食店、宿泊業 | E74: 0 | F74: 17.770133 | G74: 8.4605377 | H74: 0 | I74: 0 | J74: 15.020895 | K74: 0 | L74: 0.073627702 | M74: 0 | N74: 0 | O74: 0 | P74: 0.015050497 | Q74: 7.4193341 | R74: 3.612511 | S74: 0 | T74: 0 | U74: 0 | V74: 0 | W74: 0 | X74: 52.372089
A75: 生活関連サービス | C75: 生活関連サービス、娯楽業 | D75: N | E75: 1.876294 | F75: 113.27706 | G75: 16.63966 | H75: 0.99882439 | I75: 0.14624724 | J75: 34.727434 | K75: 0 | L75: 0.024937174 | M75: 0 | N75: 0 | O75: 0 | P75: 0.013086772 | Q75: 4.4336334 | R75: 2.8973357 | S75: 0 | T75: 0.092323431 | U75: 0 | V75: 0 | W75: 0 | X75: 175.12684
B76: 61 | C76: 洗濯業 | D76: N781 | E76: 1.876294 | F76: 113.27706 | G76: 16.63966 | H76: 0.99882439 | I76: 0.14624724 | J76: 34.727434 | K76: 0 | L76: 0.024937174 | M76: 0 | N76: 0 | O76: 0 | P76: 0.013086772 | Q76: 4.4336334 | R76: 2.8973357 | S76: 0 | T76: 0.092323431 | U76: 0 | V76: 0 | W76: 0 | X76: 175.12684
A77: 教育、学習支援業 | B77: 64 | C77: 教育、学習支援業大分類 | D77: O | E77: 0.029649124 | F77: 6.8967861 | G77: 1.7395502 | H77: 0.68747131 | I77: 0.39186345 | J77: 17.899559 | K77: 0 | L77: 0.58138545 | M77: 0 | N77: 0 | O77: 0 | P77: 0.21071387 | Q77: 14.286476 | R77: 7.3238226 | S77: 0.011243037 | T77: 7.8735488 | U77: 0 | V77: 0 | W77: 0 | X77: 57.932069
A78: 医療、福祉 | C78: 医療、福祉大分類 | D78: P | E78: 0.24964179 | F78: 22.575702 | G78: 5.1890765 | H78: 7.188913 | I78: 5.3287474 | J78: 287.30071 | K78: 0 | L78: 0.12781994 | M78: 0 | N78: 0 | O78: 0 | P78: 0.49393499 | Q78: 29.425807 | R78: 23.185989 | S78: 0 | T78: 3.0479239 | U78: 0 | V78: 0 | W78: 0.23286481 | X78: 384.34713
B79: 62 | C79: 医療業 | D79: P83 | E79: 0.24192287 | F79: 14.635107 | G79: 3.7382173 | H79: 4.7582474 | I79: 3.6330238 | J79: 235.11513 | K79: 0 | L79: 0.12776968 | M79: 0 | N79: 0 | O79: 0 | P79: 0.24834595 | Q79: 26.324953 | R79: 19.105716 | S79: 0 | T79: 1.1515155 | U79: 0 | V79: 0 | W79: 0.19673486 | X79: 309.27668
B80: 63 | C80: 上記以外の医療、福祉 | E80: 0.0077189208 | F80: 7.9405951 | G80: 1.4508592 | H80: 2.4306655 | I80: 1.6957236 | J80: 52.185588 | K80: 0 | L80: 5.0262437e-05 | M80: 0 | N80: 0 | O80: 0 | P80: 0.24558904 | Q80: 3.1008535 | R80: 4.0802735 | S80: 0 | T80: 1.8964084 | U80: 0 | V80: 0 | W80: 0.036129951 | X80: 75.070455 | Y80: 21086101
A81: 複合サービス事業 | B81: 65 | C81: 複合サービス事業大分類 | D81: Q | E81: 0.021770276 | F81: 6.4867466 | G81: 0.9373045 | H81: 0.24985601 | I81: 0.11468068 | J81: 4.938122 | K81: 0 | L81: 0.041204501 | M81: 0 | N81: 0 | O81: 1.4142988 | P81: 0.0003426325 | Q81: 5.812751 | R81: 0.11943643 | S81: 0 | T81: 3.8410441 | U81: 0 | V81: 0 | W81: 0 | X81: 23.977558
A82: サービス業 | C82: サービス業大分類 | D82: R | E82: 5.192178 | F82: 346.58041 | G82: 86.148378 | H82: 14.400087 | I82: 25.507405 | J82: 248.20744 | K82: 0 | L82: 17.949008 | M82: 0 | N82: 0 | O82: 12.67865 | P82: 0.41823058 | Q82: 114.73843 | R82: 49.781655 | S82: 11.913295 | T82: 27.428848 | U82: 0 | V82: 0 | W82: 0.64501593 | X82: 961.58903
B83: 66 | C83: 自動車整備業 | D83: R891 | E83: 4.3647049 | F83: 107.15877 | G83: 85.195823 | H83: 0.13531478 | I83: 7.054816 | J83: 213.43672 | K83: 0 | L83: 0.27811029 | M83: 0 | N83: 0 | O83: 0 | P83: 0.26380316 | Q83: 101.67504 | R83: 42.72846 | S83: 0 | T83: 7.1364506 | U83: 0 | V83: 0 | W83: 0 | X83: 569.42802
B84: 67 | C84: と蓄場 | D84: R952 | E84: 0.25742328 | F84: 217.23707 | G84: 0 | H84: 0 | I84: 13.909304 | J84: 0.32948854 | K84: 0 | L84: 0 | M84: 0 | N84: 0 | O84: 12.67865 | P84: 0.016262354 | Q84: 0.0040812022 | R84: 0 | S84: 0 | T84: 0 | U84: 0 | V84: 0 | W84: 0.057460317 | X84: 244.48974
B85: 68 | C85: 上記以外のサービス業 | E85: 0.57004984 | F85: 22.184572 | G85: 0.95255478 | H85: 14.264772 | I85: 4.5432847 | J85: 34.441232 | K85: 0 | L85: 17.670897 | M85: 0 | N85: 0 | O85: 0 | P85: 0.13816506 | Q85: 13.059304 | R85: 7.0531942 | S85: 0 | T85: 20.292397 | U85: 0 | V85: 0 | W85: 0.58755561 | X85: 135.75798
A86: 公 務 | B86: 69 | C86: 公務大分類 | D86: S | E86: 0.066658604 | F86: 28.069123 | G86: 0.58188745 | H86: 0.45918817 | I86: 0.41265941 | J86: 28.84481 | K86: 0 | L86: 1.4171184 | M86: 0 | N86: 0 | O86: 0 | P86: 0.0020593147 | Q86: 3.9471552 | R86: 2.9541108 | S86: 8.8137511e-05 | T86: 0.4816623 | U86: 0 | V86: 0 | W86: 0.00013845758 | X86: 67.236659
C87: 合 計 | E87: 1869.0867 | F87: 164638.46 | G87: 3212.4877 | H87: 2595.0998 | I87: 1778.2726 | J87: 5690.8645 | K87: 1020.4448 | L87: 6228.9514 | M87: 68.367084 | N87: 2571.5358 | O87: 70.255255 | P87: 34.290949 | Q87: 7267.0759 | R87: 6082.5083 | S87: 16397.632 | T87: 58887.362 | U87: 85433.752 | V87: 152.79504 | W87: 15137.715 | X87: 379136.96
A88: ※大分類のみの回答で、かつ中分類への配分ができない都道府県があるため、中分類の合算値と大分類の値が合致しない項目がある。
A89: ※四捨五入により、各項目の合算値と合計値が合致しない項目がある。

Sheet 表－Ⅲ・６
B1: 表－Ⅲ・６ 平成24年度実績値 都道府県別・種類別排出量推計値一覧表
W3: (単位：千ｔ/年)
A4: 大分類 | B4: No. | C4: 都道府県名 | D4: 燃え殻 | E4: 汚 泥 | F4: 廃 油 | G4: 廃 酸 | H4: 廃アルカリ | I4: 廃プラス チック類 | J4: 紙くず | K4: 木くず | L4: 繊維くず | M4: 動植物性 残 渣 | N4: 動物系 固形不要物 | O4: ゴムくず | P4: 金属くず | Q4: ガラスくず 及び 陶磁器くず | R4: 鉱さい | S4: がれき類 | T4: 動物の ふん尿 | U4: 動物の死体 | V4: ばいじん | W4: 合 計
B5: 1 | C5: 北海道 | D5: 267.26723 | E5: 11435.541 | F5: 46.545865 | G5: 26.056751 | H5: 7.1168165 | I5: 210.05058 | J5: 20.667 | K5: 294.78902 | L5: 0.99 | M5: 221.706 | N5: 2.714 | O5: 0.36114431 | P5: 77.326012 | Q5: 236.5151 | R5: 253.73138 | S5: 2923.2823 | T5: 19906.189 | U5: 41.480346 | V5: 144.742 | W5: 36117.071
B6: 2 | C6: 青森県 | D6: 6.6633232 | E6: 1380.7767 | F6: 12.569198 | G6: 3.3700349 | H6: 2.9290599 | I6: 38.250661 | J6: 20.045057 | K6: 77.954828 | L6: 2.1062173 | M6: 52.411536 | N6: 0.52487057 | O6: 0.00018731737 | P6: 20.888831 | Q6: 74.187723 | R6: 33.731067 | S6: 962.27088 | T6: 2274.4701 | U6: 0.98478859 | V6: 29.969596 | W6: 4994.1047
B7: 3 | C7: 岩手県 | D7: 12.840055 | E7: 778.54564 | F7: 13.306018 | G7: 7.017056 | H7: 6.607158 | I7: 52.320535 | J7: 4.258064 | K7: 103.21548 | L7: 0.568843 | M7: 12.686197 | N7: 2.40423 | O7: 0.06074 | P7: 10.417375 | Q7: 54.241814 | R7: 42.61969 | S7: 1350.0655 | T7: 4082.6922 | U7: 3.5235875 | V7: 88.55432 | W7: 6625.9445
B8: 4 | C8: 宮城県 | D8: 17.213401 | E8: 4893.1876 | F8: 20.841022 | G8: 5.0478745 | H8: 9.3342958 | I8: 226.85203 | J8: 16.197068 | K8: 222.2262 | L8: 1.6432926 | M8: 47.681397 | N8: 0 | O8: 8.2000812 | P8: 56.071134 | Q8: 160.38317 | R8: 27.59594 | S8: 2456.4951 | T8: 2037.668 | U8: 2.2399578 | V8: 100.8674 | W8: 10309.745
B9: 5 | C9: 秋田県 | D9: 44.665104 | E9: 941.75464 | F9: 6.9619131 | G9: 2.7693617 | H9: 7.789892 | I9: 18.130161 | J9: 2.5749795 | K9: 152.00792 | L9: 0.68 | M9: 1.617 | N9: 0.224 | O9: 0.25514162 | P9: 7.6756693 | Q9: 13.412346 | R9: 128.78952 | S9: 332.57815 | T9: 1030.1664 | U9: 0.40134754 | V9: 270.42702 | W9: 2962.8806
B10: 6 | C10: 山形県 | D10: 1.6587788 | E10: 1161.7824 | F10: 47.940747 | G10: 11.647341 | H10: 10.40452 | I10: 89.448485 | J10: 8.7517558 | K10: 105.43119 | L10: 0.60586012 | M10: 31.742584 | N10: 1.5195934 | O10: 0.04692061 | P10: 41.00865 | Q10: 52.751997 | R10: 38.284599 | S10: 682.79566 | T10: 1063.6768 | U10: 1.7371423 | V10: 231.92233 | W10: 3583.1574
B11: 7 | C11: 福島県 | D11: 197.00801 | E11: 3525.4903 | F11: 28.173464 | G11: 15.160222 | H11: 54.059559 | I11: 96.780359 | J11: 4.054217 | K11: 127.13594 | L11: 1.163103 | M11: 14.664894 | N11: 0 | O11: 0.00918 | P11: 31.635448 | Q11: 122.36432 | R11: 314.77621 | S11: 2304.4267 | T11: 1296.3672 | U11: 1.2800295 | V11: 1018.3719 | W11: 9152.9211
B12: 8 | C12: 茨城県 | D12: 45.249599 | E12: 3481.6091 | F12: 160.0806 | G12: 38.808989 | H12: 36.068638 | I12: 156.15421 | J12: 73.634624 | K12: 183.40941 | L12: 1.7675632 | M12: 98.000378 | N12: 13.934947 | O12: 1.8501923 | P12: 116.4322 | Q12: 316.86972 | R12: 693.89911 | S12: 1639.4032 | T12: 3011.569 | U12: 4.3030736 | V12: 743.19404 | W12: 10816.239
B13: 9 | C13: 栃木県 | D13: 2.3278085 | E13: 2683.2245 | F13: 52.42424 | G13: 75.323933 | H13: 32.580006 | I13: 124.62389 | J13: 7.42043 | K13: 157.91692 | L13: 0.605116 | M13: 59.51694 | N13: 0.035 | O13: 5.0882838 | P13: 94.518483 | Q13: 178.08113 | R13: 316.21734 | S13: 969.26689 | T13: 2861.4949 | U13: 4.5292638 | V13: 50.00478 | W13: 7675.1998
B14: 10 | C14: 群馬県 | D14: 9.8185908 | E14: 1260.4625 | F14: 27.849464 | G14: 9.9758978 | H14: 9.1203011 | I14: 31.92937 | J14: 1.1547931 | K14: 37.381852 | L14: 0.13706 | M14: 47.53568 | N14: 0 | O14: 0.12711481 | P14: 13.80451 | Q14: 87.70318 | R14: 55.536133 | S14: 244.07322 | T14: 3083.4671 | U14: 5.6988415 | V14: 3.8290555 | W14: 4929.6046
B15: 11 | C15: 埼玉県 | D15: 4.0753328 | E15: 7601.2046 | F15: 90.327613 | G15: 21.661216 | H15: 39.084397 | I15: 303.71397 | J15: 110.82 | K15: 125.63697 | L15: 1.616 | M15: 105.418 | N15: 0 | O15: 1.3111735 | P15: 86.102428 | Q15: 196.62108 | R15: 220.52948 | S15: 1845.5622 | T15: 827.76196 | U15: 2.1603745 | V15: 27.198 | W15: 11610.805
B16: 12 | C16: 千葉県 | D16: 42.251399 | E16: 8333.3249 | F16: 363.47477 | G16: 229.60871 | H16: 270.95608 | I16: 227.42601 | J16: 29.007973 | K16: 340.65522 | L16: 2.4936821 | M16: 303.76204 | N16: 0 | O16: 0.027807114 | P16: 1919.8308 | Q16: 381.09519 | R16: 2591.643 | S16: 2619.7457 | T16: 3143.7045 | U16: 11.128316 | V16: 2464.4966 | W16: 23274.633
... B51: 47 | C51: 沖縄県 | D51: 11.446164 | E51: 1326.877 | F51: 12.283453 | G51: 6.9260057 | H51: 5.1181025 | I51: 51.155637 | J51: 4.8217485 | K51: 43.746054 | L51: 0.52199405 | M51: 6.4936455 | N51: 0.25000108 | O51: 0.16996357 | P51: 28.088597 | Q51: 27.370766 | R51: 38.587646 | S51: 483.68832 | T51: 1540.9398 | U51: 1.5563974 | V51: 95.352695 | W51: 3685.394
B52: 全国 | D52: 1869.0867 | E52: 164638.46 | F52: 3212.4877 | G52: 2595.0998 | H52: 1778.2726 | I52: 5690.8645 | J52: 1020.4448 | K52: 6228.9514 | L52: 68.367084 | M52: 2571.5358 | N52: 70.255255 | O52: 34.290949 | P52: 7267.0759 | Q52: 6082.5083 | R52: 16397.632 | S52: 58887.362 | T52: 85433.752 | U52: 152.79504 | V52: 15137.715 | W52: 379136.96
B53: ※四捨五入により、各項目の合算値と合計値が合致しない項目がある。

Sheet 表-Ⅲ・７
A1: 表－Ⅲ・７ 平成24年度実績値 業種別・種類別全国共通原単位一覧表
C3: 全国 | E3: 平成24年度 | X3: (単位：ｔ/年)
A4: 大分類 | B4: 番号 | C4: 産業分類 | D4: コード | E4: 単位 | F4: 燃え殻 | G4: 汚 泥 | H4: 廃 油 | I4: 廃 酸 | J4: 廃アルカリ | K4: 廃プラス チック類 | L4: 紙くず | M4: 木くず | N4: 繊維くず | O4: 動植物性 残 渣 | P4: 動物系固形不要物 | Q4: ゴムくず | R4: 金属くず | S4: ガラスくず及び 陶磁器くず | T4: 鉱さい | U4: がれき類 | V4: 動物の ふん尿 | W4: 動物の死体 | X4: ばいじん | Y4: 合 計
C5: 農業，林業大分類 | D5: A
B6: 1 | C6: 耕種農業 | D6: A011 | E6: 千a | K6: 10.045848 | Y6: 10.045848
A7: 農業，林業 | B7: 2 | C7: 畜産農業 | D7: A012 | E7: 頭羽 | K7: 1.6462036e-05 | V7: 0.14807829 | W7: 0.00030747652 | Y7: 0.14840757
B8: 3 | C8: 林業 | D8: A02 | E8: 千人 | G8: 1.3123079 | H8: 0.16752866 | K8: 0.11168578 | M8: 411.42248 | R8: 0.97725054 | S8: 0.027921444 | U8: 0.36297877 | Y8: 414.38215
B9: 4 | C9: 上記以外の農業，林業
C10: 漁業大分類 | D10: B
A11: 漁 業 | B11: 5 | C11: 漁業 | D11: B03 | E11: 千人 | H11: 3.4451979 | K11: 85.764547 | M11: 1.0961993 | R11: 3.4451979 | S11: 0.52199968 | U11: 0.31319981 | Y11: 94.586341
B12: 6 | C12: 水産養殖業 | D12: B04 | E12: 千人
A13: 鉱 業 | B13: 7 | C13: 鉱業，採石業，砂利採取業 | D13: C | E13: 千人 | G13: 497155.03 | H13: 88.832047 | I13: 0.00025537885 | K13: 96.975441 | M13: 387.23573 | Q13: 0.76154373 | R13: 57.818657 | S13: 20.555459 | T13: 499.48807 | U13: 39.567792 | Y13: 498346.27
A14: 建設業 | B14: 8 | C14: 建設業 | D14: D | E14: 十億円 | F14: 0.42904251 | G14: 180.68061 | H14: 2.0517804 | I14: 0.15567672 | J14: 0.31744773 | K14: 21.190313 | L14: 4.7347024 | M14: 86.384685 | N14: 0.98395313 | Q14: 0.032992717 | R14: 17.59074 | S14: 36.725687 | T14: 2.2200189 | U14: 1067.9214 | X14: 0.36545336 | Y14: 1439.3187
C15: 製造業大分類 | D15: E
B16: 9 | C16: 食料品製造業 | D16: E09 | E16: 十億円 | F16: 1.1270991 | G16: 189.3758 | H16: 2.013907 | I16: 2.6933773 | J16: 0.50153676 | K16: 6.7529304 | M16: 0.16175654 | O16: 55.924527 | P16: 0.72429967 | Q16: 0.00091129595 | R16: 0.46524067 | S16: 0.20020452 | U16: 0.020688703 | X16: 0.58605604 | Y16: 260.54834
B17: 10 | C17: 飲料・たばこ・飼料製造業 | D17: E10 | E17: 十億円 | F17: 0.021223022 | G17: 94.880241 | H17: 0.7355963 | I17: 47.897313 | J17: 0.064869985 | K17: 2.4244155 | M17: 0.31765407 | O17: 44.745981 | Q17: 0.00054576308 | R17: 1.0576002 | S17: 0.56647041 | T17: 0.0018192103 | U17: 0.023193112 | X17: 0.010424404 | Y17: 192.74735
B18: 11 | C18: 繊維工業 | D18: E11 | E18: 十億円 | F18: 6.6390857 | G18: 96.857193 | H18: 1.8719541 | I18: 0.36863304 | J18: 0.88021818 | K18: 12.726115 | M18: 0.6301494 | N18: 2.575235 | Q18: 0.0045179129 | R18: 0.67708551 | S18: 0.38598913 | U18: 0.043126454 | X18: 1.60756 | Y18: 125.26686
B19: 12 | C19: 木材・木製品製造業 | D19: E12 | E19: 十億円 | F19: 8.2280864 | G19: 0.51712961 | H19: 0.54909544 | I19: 0.013327038 | J19: 0.13898538 | K19: 4.0865749 | M19: 204.6764 | R19: 0.35297427 | S19: 2.4470135 | T19: 0.05055988 | U19: 3.9738692 | X19: 4.1737493 | Y19: 229.20777
B20: 13 | C20: 家具・装備品製造業 | D20: E13 | E20: 十億円 | F20: 0.34379158 | G20: 1.3925372 | H20: 1.4060536 | I20: 0.053344486 | J20: 0.2577579 | K20: 13.574161 | M20: 41.956755 | R20: 0.51532233 | S20: 0.38555398 | U20: 0.04724293 | Y20: 59.93252
B21: 14 | C21: パルプ・紙・紙加工品製造業 | D21: E14 | E21: 十億円 | F21: 64.200595 | G21: 3791.8397 | H21: 6.8822835 | I21: 0.58315972 | J21: 0.34004475 | K21: 26.870144 | L21: 27.904481 | M21: 5.6270761 | Q21: 0.0003171423 | R21: 0.93182638 | S21: 0.23239446 | T21: 0.10173925 | U21: 0.29993467 | X21: 96.906734 | Y21: 4022.7205
B22: 15 | C22: 印刷・同関連業 | D22: E15 | E22: 十億円 | F22: 0.012010319 | G22: 0.97312998 | H22: 1.808133 | I22: 0.2735381 | J22: 1.7129301 | K22: 10.263346 | L22: 9.3039014 | M22: 0.21316146 | Q22: 0.0018846674 | R22: 1.0404186 | S22: 0.0039037799 | U22: 0.0047921451 | Y22: 25.611149
B23: 16 | C23: 化学工業 | D23: E16 | E23: 十億円 | F23: 2.5806365 | G23: 174.75272 | H23: 22.257748 | I23: 4.3172925 | J23: 22.096634 | K23: 9.4499271 | M23: 0.35536236 | O23: 1.5259247 | Q23: 0.00047749367 | R23: 0.41771106 | S23: 0.48024641 | T23: 2.329906 | U23: 0.32220085 | X23: 5.7610703 | Y23: 246.64786
B24: 17 | C24: 石油製品・石炭製品製造業 | D24: E17 | E24: 十億円 | F24: 0.75992127 | G24: 34.988739 | H24: 4.0878874 | I24: 2.8249788 | J24: 4.0604768 | K24: 1.4731477 | M24: 0.049292578 | Q24: 0.00024538075 | R24: 0.13030713 | S24: 0.26870809 | T24: 0.13977675 | U24: 7.3493496 | X24: 8.5188579 | Y24: 64.651689
A25: 製造業 | B25: 18 | C25: プラスチック製品製造業 | D25: E18 | E25: 十億円 | F25: 0.48830138 | G25: 21.465541 | H25: 3.2202659 | I25: 3.254073 | J25: 0.65706045 | K25: 24.007924 | M25: 0.30333988 | Q25: 0.00013712182 | R25: 0.41293901 | S25: 0.66631661 | T25: 0.0013026573 | U25: 0.023305347 | X25: 0.035470672 | Y25: 54.535977
B26: 19 | C26: ゴム製品製造業 | D26: E19 | E26: 十億円 | F26: 0.69028148 | G26: 7.0785413 | H26: 3.1062302 | I26: 0.1113404 | J26: 0.49768689 | K26: 20.736045 | M26: 0.82794303 | Q26: 1.6682028 | R26: 1.4634199 | S26: 0.036931761 | T26: 0.0077302124 | U26: 0.59817955 | X26: 2.6911532 | Y26: 39.513686
B27: 20 | C27: なめし革・同製品・毛皮製造業 | D27: E20 | E27: 十億円 | F27: 0.02504801 | G27: 31.069551 | H27: 0.43975708 | K27: 4.0453564 | U27: 0.020038408 | Y27: 35.599751
B28: 21 | C28: 窯業・土石製品製造業 | D28: E21 | E28: 十億円 | F28: 8.2846598 | G28: 237.90791 | H28: 1.9957964 | I28: 2.9816696 | J28: 1.9637704 | K28: 3.7858116 | M28: 1.3132613 | Q28: 0.0014786791 | R28: 1.1298086 | S28: 294.88947 | T28: 7.2816004 | U28: 56.150961 | X28: 3.5699364 | Y28: 621.25614
B29: 22 | C29: 鉄鋼業 | D29: E22 | E29: 十億円 | F29: 6.8158687 | G29: 110.97898 | H29: 14.967856 | I29: 21.461345 | J29: 9.9083306 | K29: 8.6118517 | M29: 1.7904023 | Q29: 0.031694873 | R29: 264.86782 | S29: 25.987213 | T29: 574.27172 | U29: 26.586288 | X29: 455.27203 | Y29: 1521.5514
B30: 23 | C30: 非鉄金属製造業 | D30: E23 | E30: 十億円 | F30: 0.14400306 | G30: 103.12194 | H30: 3.1658537 | I30: 11.254834 | J30: 7.7780097 | K30: 4.4554505 | M30: 8.8693805 | R30: 1.2926515 | S30: 4.2653991 | T30: 42.030141 | U30: 0.25647372 | X30: 0.46861489 | Y30: 187.10275
B31: 24 | C31: 金属製品製造業 | D31: E24 | E31: 十億円 | F31: 0.40928506 | G31: 31.290863 | H31: 3.9620943 | I31: 8.0492536 | J31: 2.7693857 | K31: 3.1849762 | M31: 1.0812308 | Q31: 0.0019944046 | R31: 15.739512 | S31: 2.7758819 | T31: 13.912464 | U31: 0.11831359 | X31: 1.0957421 | Y31: 84.390996
B32: 25 | C32: はん用機械器具製造業 | D32: E25 | E32: 十億円 | F32: 0.0021819323 | G32: 8.1212691 | H32: 4.5357294 | I32: 0.98254194 | J32: 0.97620342 | K32: 1.3420972 | M32: 0.57324535 | Q32: 0.0025455877 | R32: 2.6546541 | S32: 1.1430301 | T32: 1.0437701 | U32: 0.034216726 | X32: 0.0010909661 | Y32: 21.412576
B33: 26 | C33: 生産用機械器具製造業 | D33: E26 | E33: 十億円 | F33: 0.011608443 | G33: 3.4061827 | H33: 1.2912784 | I33: 0.23662874 | J33: 0.49405327 | K33: 2.3402755 | M33: 0.28080297 | Q33: 0.73095284 | R33: 1.3588762 | S33: 0.87897109 | T33: 2.4436928 | U33: 5.1156849 | X33: 0.036417508 | Y33: 18.625426
B34: 27 | C34: 業務用機械器具製造業 | D34: E27 | E34: 十億円 | F34: 0.0042133336 | G34: 18.727554 | H34: 2.4404458 | I34: 3.0349797 | J34: 2.6553308 | K34: 1.5965447 | M34: 0.19836827 | Q34: 0.013974491 | R34: 0.6825854 | S34: 0.17783543 | T34: 0.004521159 | U34: 0.0086313035 | X34: 6.1652168e-07 | Y34: 29.544986
B35: 28 | C35: 電子部品・デバイス・電子回路製造業 | D35: E28 | E35: 十億円 | F35: 0.01460436 | G35: 24.839599 | H35: 2.5921117 | I35: 6.9994281 | J35: 11.048096 | K35: 3.5015132 | M35: 0.14204513 | Q35: 0.0015198 | R35: 0.74212979 | S35: 0.39971336 | T35: 0.0046227251 | U35: 0.0058349337 | X35: 7.9095317e-05 | Y35: 50.291298
B36: 29 | C36: 電気機械器具製造業 | D36: E29 | E36: 十億円 | F36: 0.0017830104 | G36: 15.991221 | H36: 4.1539505 | I36: 0.95999705 | J36: 2.304146 | K36: 1.9899251 | M36: 0.20892294 | Q36: 0.00010516898 | R36: 1.4597755 | S36: 1.2177356 | T36: 0.10884909 | U36: 0.0035757452 | Y36: 28.399987
B37: 30 | C37: 情報通信機械器具製造業 | D37: E30 | E37: 十億円 | F37: 0.00071583072 | G37: 0.52660362 | H37: 0.21716651 | I37: 0.17104435 | J37: 0.15823636 | K37: 1.3313166 | M37: 0.079022128 | Q37: 1.6106191e-06 | R37: 10.454533 | S37: 0.14664876 | T37: 0.97390815 | U37: 0.004473942 | Y37: 14.063671
B38: 31 | C38: 輸送用機械器具製造業 | D38: E31 | E38: 十億円 | F38: 0.0355692 | G38: 7.565423 | H38: 2.2547203 | I38: 0.38958051 | J38: 0.3863528 | K38: 1.2842987 | M38: 0.1383623 | Q38: 0.0081793107 | R38: 2.0733865 | S38: 0.19773396 | T38: 16.787662 | U38: 0.01181598 | X38: 1.1420122 | Y38: 32.275097
B39: 32 | C39: その他の製造業 | D39: E32 | E39: 十億円 | F39: 5.9999613 | G39: 40.146349 | H39: 11.374171 | I39: 4.595291 | J39: 7.3788837 | K39: 38.345753 | M39: 1.6700372 | Q39: 0.0037998084 | R39: 12.61713 | S39: 14.143339 | T39: 9.5635758 | U39: 0.019883044 | X39: 15.637749 | Y39: 161.49594
C40: 電気・ガス・熱供給・水道業大分類 | D40: F
A41: 電気･ガス | B41: 33 | C41: 電気業 | D41: F33 | E41: 千人 | F41: 5045.729 | G41: 3119.7676 | H41: 19.131352 | I41: 2.4037553 | J41: 7.0966173 | K41: 12.698806 | M41: 1.2843336 | R41: 5.3796746 | S41: 91.032579 | T41: 83.320027 | U41: 325.67074 | X41: 39019.99 | Y41: 47733.505
A42: ･熱供給･ | B42: 34 | C42: ガス業 | D42: F34 | E42: 千人 | G42: 14.259461 | H42: 8.9087811 | I42: 0.0014753179 | J42: 1.6589581 | K42: 22.06621 | M42: 0.21945354 | Q42: 0.10061668 | R42: 27.442136 | S42: 1.9138801 | U42: 131.71528 | Y42: 208.28626
A43: 水道業 | B43: 35 | C43: 熱供給業 | D43: F35 | E43: 千人 | F43: 1193.0773 | G43: 3.4731314 | H43: 6.8733205 | K43: 15.200689 | M43: 0.22483691 | R43: 7.0522267 | S43: 0.36097435 | U43: 110.46356 | X43: 109.01906 | Y43: 1445.7451
B44: 36 | C44: 上水道業 | D44: F361 | E44: 千人 | F44: 0.0001396653 | G44: 39.619433 | H44: 0.00017134582 | I44: 0.00043065078 | J44: 0.00064350133 | K44: 0.0095824338 | M44: 8.2433118e-05 | Q44: 1.3209621e-05 | R44: 0.0017557155 | S44: 0.0026385871 | T44: 0.0020322494 | U44: 0.24879382 | Y44: 39.885717
B45: 37 | C45: 下水道業 | D45: F363 | E45: 千人 | F45: 0.0066134666 | G45: 313.97909 | H45: 0.00046250121 | I45: 0.0032628065 | J45: 6.4936533e-05 | K45: 0.0027231033 | M45: 0.00068360195 | Q45: 1.6956817e-05 | R45: 0.0014942024 | S45: 0.0021649656 | U45: 0.001347252 | X45: 0.015841389 | Y45: 314.01376
C46: 情報通信業大分類 | D46: G
B47: 38 | C47: 通信業 | D47: G37 | E47: 千人 | H47: 0.043739353 | K47: 2.0526948 | R47: 3.0275103 | S47: 0.068389103 | U47: 85.919836 | Y47: 91.112169
A48: 情報通信業 | B48: 39 | C48: 放送業 | D48: G38 | E48: 千人 | G48: 0.059245226 | K48: 0.23350688 | R48: 0.34913589 | S48: 0.051680459 | Y48: 0.69356846
B49: 40 | C49: 情報サービス業 | D49: G39 | E49: 千人 | G49: 0.0092706126 | K49: 0.1722564 | R49: 0.3817813 | S49: 0.044371811 | Y49: 0.60768013
B50: 41 | C50: インターネット付随サービス業 | D50: G40 | E50: 千人 | K50: 0.014274179 | R50: 0.015381908 | Y50: 0.029656086
B51: 42 | C51: 映像・音声・文字情報制作業 | D51: G41 | E51: 千人 | H51: 0.13170993 | I51: 0.0048781456 | J51: 0.15610066 | K51: 0.57375138 | L51: 5.6049892 | R51: 0.15919633 | S51: 0.024390728 | Y51: 6.6550164
C52: 運輸業，郵便業大分類 | D52: H
A53: 運輸業， | B53: 43 | C53: 鉄道業 | D53: H42 | E53: 千人 | F53: 0.96734896 | G53: 708.12301 | H53: 4.7734572 | J53: 0.16039284 | K53: 4.4301941 | M53: 0.1275625 | R53: 4.3645189 | S53: 0.91303976 | U53: 0.18370223 | Y53: 724.04323
A54: 郵便業 | B54: 44 | C54: 道路旅客運送業 | D54: H43 | E54: 千人 | G54: 3.2999258 | H54: 25.935665 | J54: 0.018101418 | K54: 4.5853629 | M54: 0.0014589363 | Q54: 4.3121118e-05 | R54: 0.53766248 | S54: 0.072757415 | Y54: 34.450977
B55: 45 | C55: 道路貨物運送業 | D55: H44 | E55: 千人 | G55: 5.0107046 | H55: 2.1891659 | J55: 0.018250227 | K55: 12.424698 | M55: 13.526595 | Q55: 0.057983536 | R55: 3.9685906 | S55: 0.39987702 | U55: 1.5637435 | Y55: 39.159608
B56: 46 | C56: 上記以外の運輸業，郵便業 | E56: 千人 | G56: 39.747082 | H56: 1.1206649 | I56: 0.03575925 | J56: 0.11250522 | K56: 4.4839389 | M56: 4.159898 | R56: 1.8871575 | S56: 1.1018765 | U56: 136.15327 | Y56: 188.80215
C57: 卸売業，小売業大分類 | D57: I
B58: 47 | C58: 各種商品卸売業 | D58: I50 | E58: 千人 | G58: 1.8967559 | H58: 17.48653 | J58: 0.25982957 | K58: 117.26121 | R58: 11.641139 | S58: 3.3258886 | Y58: 151.87135
B59: 48 | C59: 木材・竹材卸売業 | D59: I5311 | E59: 千人 | G59: 0.076239851 | H59: 0.027197368 | K59: 3.1345164 | M59: 160.1942 | R59: 0.0056694221 | S59: 0.27851532 | U59: 8.5857253 | Y59: 172.30206
B60: 49 | C60: 各種商品小売業 | D60: I56 | E60: 千人 | G60: 8.1297733 | H60: 5.2367319 | I60: 0.062522592 | J60: 0.065733178 | K60: 48.891637 | M60: 0.031062847 | R60: 2.1952883 | S60: 1.6612563 | U60: 0.00036507226 | Y60: 66.27437
A61: 卸売業， | B61: 50 | C61: 自動車小売業 | D61: I591 | E61: 千人 | G61: 19.536788 | H61: 22.796627 | I61: 0.0040958284 | J61: 2.748984 | K61: 38.356846 | M61: 0.017047011 | Q61: 0.016252904 | R61: 23.343952 | S61: 0.51576381 | Y61: 107.33636
A62: 小売業 | B62: 51 | C62: 機械器具小売業 | D62: I593 | E62: 千人 | F62: 0.10128552 | G62: 21.226552 | H62: 28.104321 | I62: 0.0048231201 | J62: 2.8167021 | K62: 44.064151 | M62: 0.18502646 | Q62: 24.072192 | R62: 33.363023 | S62: 2.5595387 | U62: 0.065584305 | Y62: 156.5632
B63: 52 | C63: 家具・建具・畳小売業 | D63: I601 | E63: 千人 | K63: 0.15312849 | M63: 0.85772134 | R63: 0.44602109 | S63: 1.0302024 | Y63: 2.4870733
B64: 53 | C64: じゅう器小売業 | D64: I602 | E64: 千人 | M64: 8.6779158 | S64: 0.0044939425 | Y64: 8.6824098
B65: 54 | C65: 燃料小売業 | D65: I605 | E65: 千人 | G65: 21.268767 | H65: 81.528729 | K65: 19.664969 | M65: 0.11513094 | Q65: 0.034010352 | R65: 21.231009 | S65: 0.14299197 | U65: 1.1278977 | Y65: 145.1135
B66: 55 | C66: 上記以外の卸売業，小売業 | E66: 千人 | F66: 0.0049650217 | G66: 0.2933033 | H66: 0.41007617 | I66: 0.73383018 | J66: 0.3111264 | K66: 13.348293 | M66: 1.196643 | Q66: 0.0033871698 | R66: 5.8109368 | S66: 1.4605467 | U66: 1.5731318 | Y66: 25.14624
A67: 不動産業， | C67: 不動産業，物品賃貸業大分類 | D67: K
A68: 物品賃貸業 | B68: 56 | C68: 物品賃貸業 | D68: K70 | E68: 千人 | G68: 2.4457097 | H68: 1.0774786 | I68: 0.00056669644 | K68: 26.658957 | M68: 4.8044524 | R68: 3.2760935 | S68: 23.036079 | U68: 2.3647089 | Y68: 63.664046
A69: 学術研究，専門 | C69: 学術研究，専門・技術サービス業大分類 | D69: L
A70: ・技術サービス業 | B70: 57 | C70: 学術・開発研究機関 | D70: L71 | E70: 千人 | F70: 0.027852412 | G70: 4.7651283 | H70: 2.8648039 | I70: 0.29017978 | J70: 0.54400912 | K70: 11.884001 | M70: 0.79569497 | R70: 13.675766 | S70: 2.8108829 | U70: 7.4732564 | X70: 0.016711447 | Y70: 45.148286
B71: 58 | C71: 写真業 | D71: L746 | E71: 千人 | I71: 60.967919 | J71: 26.458126 | K71: 0.87974999 | S71: 0.035561742 | Y71: 88.341356
A72: 宿泊業，飲食 | C72: 宿泊業，飲食サービス業大分類 | D72: M
A73: サービス業 | B73: 59 | C73: 飲食店 | D73: M76 | E73: 千人 | F73: 0.0026756361 | G73: 16.155494 | H73: 2.336394 | K73: 3.3490279 | R73: 0.17810211 | S73: 0.20485784 | Y73: 22.226552
B74: 60 | C74: 上記以外の宿泊業，飲食サービス業 | E74: 千人 | G74: 2.5137475 | H74: 0.31399781 | K74: 0.87764969 | Q74: 0.01197028 | R74: 0.27398882 | S74: 0.29864257 | Y74: 4.2899966
A75: 生活関連サー | C75: 生活関連サービス業，娯楽業大分類 | D75: N
A76: ビス業，娯楽業 | B76: 61 | C76: 洗濯業 | D76: N781 | E76: 千人 | F76: 0.012419138 | G76: 130.444 | H76: 2.9706191 | I76: 0.012419138 | K76: 14.752998 | Q76: 0.0041397125 | R76: 3.2474625 | S76: 0.77412624 | U76: 0.053816263 | Y76: 152.272
A77: 教育，学習支援業 | B77: 62 | C77: 教育，学習支援業 | D77: O | E77: 千人 | F77: 0.0026373252 | G77: 1.4341597 | H77: 0.23874304 | I77: 0.10719913 | J77: 0.041641745 | K77: 3.1946326 | M77: 0.12078974 | Q77: 0.00084542925 | R77: 2.7691479 | S77: 1.6355258 | T77: 0.0029523449 | U77: 2.0020009 | Y77: 11.550276
C78: 医療，福祉大分類 | D78: P
A79: 医療，福祉 | B79: 63 | C79: 医療業 | D79: P83 | E79: 千床 | F79: 0.065171447 | G79: 0.96778791 | H79: 0.17226778 | I79: 0.21457216 | J79: 0.22187166 | K79: 35.577428 | M79: 0.00028619421 | Q79: 0.0010667293 | R79: 1.5873878 | S79: 1.3725748 | U79: 3.2261893e-05 | X79: 0.0010344674 | Y79: 40.181482
B80: 64 | C80: 上記以外の医療，福祉 | E80: 千人 | G80: 0.4289322 | H80: 0.02086247 | I80: 0.020633911 | J80: 0.012205141 | K80: 2.0930073 | M80: 2.7803672e-05 | Q80: 2.8371094e-06 | R80: 0.02951882 | S80: 0.022410993 | U80: 2.8371094e-06 | Y80: 2.6276043
A81: 教育、学習支援業 | B81: 65 | C81: 複合サービス事業 | D81: Q | E81: 千人 | F81: 0.014022221 | G81: 3.4288232 | H81: 1.2499187 | I81: 0.56389072 | J81: 0.13033188 | K81: 9.7522454 | M81: 0.086937769 | R81: 1.0764005 | S81: 0.20978462 | Y81: 16.512355
C82: サービス業大分類 | D82: R
A83: サービス業 | B83: 66 | C83: 自動車整備業 | D83: R891 | E83: 千人 | F83: 0.38933486 | G83: 25.722541 | H83: 30.860987 | I83: 0.14391711 | J83: 0.99297014 | K83: 108.42183 | M83: 0.00083759885 | Q83: 0.47578637 | R83: 64.699135 | S83: 1.5779657 | Y83: 233.2853
B84: 67 | C84: と畜場 | D84: R952 | E84: 千人 | G84: 41656.044 | K84: 4.2253521 | P84: 1.5250353 | R84: 0.52816901 | Y84: 42218.544
B85: 68 | C85: 上記以外のサービス業 | E85: 千人 | G85: 0.24752933 | H85: 0.019371153 | I85: 0.02628902 | J85: 0.020911266 | K85: 2.0626738 | M85: 4.4204717 | Q85: 0.00018014328 | R85: 0.31057071 | S85: 0.12220376 | U85: 12.472181 | X85: 1.5987096e-06 | Y85: 19.702548
A86: 公務 | B86: 69 | C86: 公務 | D86: Ｓ | E86: 千人 | F86: 0.022842767 | G86: 9.5364364 | H86: 0.17597636 | I86: 0.063687123 | J86: 0.051350195 | K86: 9.750297 | M86: 0.48313655 | Q86: 0.0002877829 | R86: 1.3482398 | S86: 0.94920027 | U86: 0.029451277 | Y86: 22.410906
C87: 合計
A88: ※屠畜場の動物系固形不要物の単位はt/千頭

Sheet 表－Ⅲ・８
A1: 表－Ⅲ・８ 平成24年度実績値 各都道府県回答排出量合計値一覧表
C3: 回答都道府県 | E3: 平成24年度 | X3: (単位：千ｔ/年)
A4: 大分類 | B4: 番号 | C4: 産業分類 | D4: コード | E4: 燃え殻 | F4: 汚 泥 | G4: 廃 油 | H4: 廃 酸 | I4: 廃アルカリ | J4: 廃プラス チック類 | K4: 紙くず | L4: 木くず | M4: 繊維くず | N4: 動植物性 残 渣 | O4: 動物系固形不要物 | P4: ゴムくず | Q4: 金属くず | R4: ガラスくず及び 陶磁器くず | S4: 鉱さい | T4: がれき類 | U4: 動物の ふん尿 | V4: 動物の死体 | W4: ばいじん | X4: 合 計
C5: 農業，林業大分類 | D5: A | E5: 0.25136 | F5: 3.112986 | G5: 0.020655 | H5: 0.25111 | I5: 0 | J5: 41.724578 | K5: 0 | L5: 29.495882 | M5: 0 | O5: 0 | P5: 0.001 | Q5: 0.16928715 | R5: 0.1227107 | S5: 0 | T5: 1.3148 | U5: 38363.211 | V5: 65.353803 | W5: 0 | X5: 39431.529
B6: 1 | C6: 耕種農業 | D6: A011 | E6: 0 | F6: 0 | G6: 0 | H6: 0 | I6: 0 | J6: 20.77 | K6: 0 | L6: 0 | M6: 0 | O6: 0 | P6: 0 | Q6: 0 | R6: 0 | S6: 0 | T6: 0 | U6: 0 | V6: 0 | W6: 0 | X6: 20.77
A7: 農業，林業 | B7: 2 | C7: 畜産農業 | D7: A012 | E7: 0 | F7: 0 | G7: 0 | H7: 0 | I7: 0 | J7: 3.079 | K7: 0 | L7: 0 | M7: 0 | O7: 0 | P7: 0 | Q7: 0 | R7: 0 | S7: 0 | T7: 0 | U7: 27696.03 | V7: 57.509303 | W7: 0 | X7: 27756.619
B8: 3 | C8: 林業 | D8: A02 | E8: 0 | F8: 0.047 | G8: 0.006 | H8: 0 | I8: 0 | J8: 0.004 | K8: 0 | L8: 14.735 | M8: 0 | O8: 0 | P8: 0 | Q8: 0.035 | R8: 0.001 | S8: 0 | T8: 0.013 | U8: 0 | V8: 0 | W8: 0 | X8: 14.841
B9: 4 | C9: 上記以外の農業，林業 | E9: 0 | F9: 0 | G9: 0 | H9: 0 | I9: 0 | J9: 0 | K9: 0 | L9: 0 | M9: 0 | O9: 0 | P9: 0 | Q9: 0 | R9: 0 | S9: 0 | T9: 0 | U9: 0 | V9: 0 | W9: 0 | X9: 0
C10: 漁業大分類 | D10: B | E10: 0 | F10: 0.351 | G10: 0.084785751 | H10: 0 | I10: 0 | J10: 1.85471 | K10: 0 | L10: 0.021 | M10: 0 | O10: 0 | P10: 0 | Q10: 0.06921 | R10: 0.055 | S10: 0 | T10: 0.095 | U10: 0 | V10: 0 | W10: 0 | X10: 2.5307058
A11: 漁 業 | B11: 5 | C11: 漁業 | D11: B03 | E11: 0 | F11: 0 | G11: 0.066 | H11: 0 | I11: 0 | J11: 1.643 | K11: 0 | L11: 0.021 | M11: 0 | O11: 0 | P11: 0 | Q11: 0.066 | R11: 0.01 | S11: 0 | T11: 0.006 | U11: 0 | V11: 0 | W11: 0 | X11: 1.812
B12: 6 | C12: 水産養殖業 | D12: B04 | E12: 0 | F12: 0 | G12: 0 | H12: 0 | I12: 0 | J12: 0 | K12: 0 | L12: 0 | M12: 0 | O12: 0 | P12: 0 | Q12: 0 | R12: 0 | S12: 0 | T12: 0 | U12: 0 | V12: 0 | W12: 0 | X12: 0
A13: 鉱 業 | B13: 7 | C13: 鉱業，採石業，砂利採取業 | D13: C | E13: 0 | F13: 7332.6279 | G13: 10.649826 | H13: 3.0180928e-06 | I13: 0 | J13: 1.2460655 | K13: 0 | L13: 4.5763906 | M13: 0 | O13: 0 | P13: 0.009 | Q13: 0.68330667 | R13: 6.1429265 | S13: 5.903 | T13: 27.767616 | U13: 0 | V13: 0 | W13: 0 | X13: 7389.606
A14: 建設業 | B14: 8 | C14: 建設業 | D14: D | E14: 13.710179 | F14: 5845.2323 | G14: 72.925517 | H14: 4.5127149 | I14: 11.343015 | J14: 681.92646 | K14: 153.35616 | L14: 2851.6916 | M14: 31.679456 | O14: 0 | P14: 1.0542919 | Q14: 561.68687 | R14: 1172.9457 | S14: 70.941352 | T14: 35010.798 | U14: 0 | V14: 0 | W14: 11.678169 | X14: 46495.482
C15: 製造業大分類 | D15: E | E15: 491.49089 | F15: 33866.32 | G15: 1545.6409 | H15: 1157.8952 | I15: 1087.8879 | J15: 1646.2063 | K15: 309.49492 | L15: 696.2107 | M15: 7.7380431 | N15: 1351.1218 | O15: 11.579073 | P15: 13.485725 | Q15: 3075.0197 | R15: 2671.3216 | S15: 7593.9467 | T15: 644.14422 | U15: 0 | V15: 0 | W15: 5804.1093 | X15: 62233.748
B16: 9 | C16: 食料品製造業 | D16: E09 | E16: 16.689964 | F16: 2950.757 | G16: 32.756542 | H16: 35.702368 | I16: 7.5585396 | J16: 98.089953 | K16: 0 | L16: 2.3654311 | M16: 0 | N16: 833.63555 | O16: 10.76873 | P16: 0.01354895 | Q16: 7.3058273 | R16: 2.9593174 | S16: 0 | T16: 0.30759514 | U16: 0 | V16: 0 | W16: 8.713354 | X16: 4007.6237
B17: 10 | C17: 飲料・たばこ・飼料製造業 | D17: E10 | E17: 0.091620633 | F17: 571.64632 | G17: 4.0353084 | H17: 263.43559 | I17: 0.45658322 | J17: 13.287936 | K17: 0 | L17: 1.6184497 | M17: 0 | N17: 198.9243 | O17: 0 | P17: 0.003 | Q17: 3.5570729 | R17: 3.1839871 | S17: 0.01 | T17: 0.12749 | U17: 0 | V17: 0 | W17: 0.057301809 | X17: 1060.435
B18: 11 | C18: 繊維工業 | D18: E11 | E18: 8.4688526 | F18: 215.4247 | G18: 3.7848365 | H18: 0.83203229 | I18: 1.0519508 | J18: 29.061466 | K18: 0 | L18: 1.2564137 | M18: 5.8211594 | N18: 0 | O18: 0 | P18: 0.010212463 | Q18: 1.6305099 | R18: 0.83300455 | S18: 0 | T18: 0.097484681 | U18: 0 | V18: 0 | W18: 3.63379 | X18: 271.90641
B19: 12 | C19: 木材・木製品製造業 | D19: E12 | E19: 11.31397 | F19: 0.71107531 | G19: 0.7550297 | H19: 0.018325246 | I19: 0.19111084 | J19: 4.2612152 | K19: 0 | L19: 281.4168 | N19: 0 | O19: 0 | P19: 0 | Q19: 0.48535471 | R19: 3.0827481 | S19: 0.069521996 | T19: 3.22424 | U19: 0 | V19: 0 | W19: 5.7390837 | X19: 311.26848
B20: 13 | C20: 家具・装備品製造業 | D20: E13 | E20: 0.36385506 | F20: 1.4738048 | G20: 1.6881101 | H20: 0.05645764 | I20: 0.2728005 | J20: 14.566341 | K20: 0 | L20: 73.705327 | N20: 0 | O20: 0 | P20: 0 | Q20: 0.54539625 | R20: 1.5080547 | S20: 0 | T20: 0.05 | U20: 0 | V20: 0 | W20: 0.00015304157 | X20: 94.230301
B21: 14 | C21: パルプ・紙・紙加工品製造業 | D21: E14 | E21: 248.83106 | F21: 15551.354 | G21: 29.411211 | H21: 2.3904337 | I21: 1.3915896 | J21: 108.93857 | K21: 114.33043 | L21: 23.158983 | N21: 0 | O21: 0 | P21: 0.0013 | Q21: 3.8176553 | R21: 0.95160959 | S21: 0.41704 | T21: 1.1044641 | U21: 0 | V21: 0 | W21: 359.524 | X21: 16445.622
B22: 15 | C22: 印刷・同関連業 | D22: E15 | E22: 0.045112518 | F22: 5.2552189 | G22: 273.29161 | H22: 1.1265472 | I22: 6.4041168 | J22: 38.106062 | K22: 37.945881 | L22: 1.1730557 | N22: 0 | O22: 0 | P22: 0.0070790874 | Q22: 3.907965 | R22: 0.11466317 | S22: 0 | T22: 0.018 | U22: 0 | V22: 0 | W22: 0 | X22: 367.39531
B23: 16 | C23: 化学工業 | D23: E16 | E23: 37.349297 | F23: 2712.4569 | G23: 317.89553 | H23: 59.743905 | I23: 301.67598 | J23: 148.65014 | L23: 5.1312808 | N23: 18.513549 | O23: 0 | P23: 0.00754 | Q23: 6.6660986 | R23: 7.2540479 | S23: 36.791046 | T23: 5.0796044 | U23: 0 | V23: 0 | W23: 52.255534 | X23: 3709.4704
B24: 17 | C24: 石油製品・石炭製品製造業 | D24: E17 | E24: 22.048441 | F24: 990.84287 | G24: 85.711501 | H24: 60.176946 | I24: 55.0615 | J24: 25.313058 | L24: 0.52146722 | N24: 0 | O24: 0 | P24: 0.00299 | Q24: 1.9009113 | R24: 4.540396 | S24: 1.7032 | T24: 71.448892 | U24: 0 | V24: 0 | W24: 80.885056 | X24: 1400.1572
A25: 製造業 | B25: 18 | C25: プラスチック製品製造業 | D25: E18 | E25: 3.5610772 | F25: 177.47169 | G25: 23.193509 | H25: 23.686657 | I25: 7.6718009 | J25: 173.61904 | L25: 2.1751927 | N25: 0 | O25: 0 | P25: 0.001 | Q25: 3.0104756 | R25: 5.0566041 | S25: 0.0095 | T25: 2.2699609 | U25: 0 | V25: 0 | W25: 0.30949837 | X25: 422.036
B26: 19 | C26: ゴム製品製造業 | D26: E19 | E26: 1.48636 | F26: 21.886286 | G26: 8.3555414 | H26: 8.2517456 | I26: 31.539653 | J26: 51.200532 | L26: 1.535982 | N26: 0 | O26: 0 | P26: 3.5920853 | Q26: 3.0770331 | R26: 0.76522393 | S26: 0.016645207 | T26: 1.28804 | U26: 0 | V26: 0 | W26: 5.7948313 | X26: 138.78996
B27: 20 | C27: なめし革・同製品・毛皮製造業 | D27: E20 | E27: 0.505 | F27: 10.802 | G27: 1.8877828 | H27: 0.1 | I27: 1 | J27: 19.607521 | L27: 0 | N27: 0 | O27: 0 | P27: 0 | Q27: 0.7 | R27: 0 | S27: 0 | T27: 0.004 | U27: 0 | V27: 0 | W27: 0 | X27: 34.606303
B28: 21 | C28: 窯業・土石製品製造業 | D28: E21 | E28: 33.590602 | F28: 843.94008 | G28: 7.9331694 | H28: 11.463048 | I28: 7.714811 | J28: 14.42148 | L28: 4.0453683 | N28: 0 | O28: 0 | P28: 0.006 | Q28: 4.5093966 | R28: 1084.424 | S28: 18.045372 | T28: 170.77368 | U28: 0 | V28: 0 | W28: 14.437424 | X28: 2215.3045
B29: 22 | C29: 鉄鋼業 | D29: E22 | E29: 70.439919 | F29: 1247.4824 | G29: 138.37393 | H29: 223.22684 | I29: 111.61154 | J29: 93.344959 | L29: 18.165576 | N29: 0 | O29: 0 | P29: 0.343 | Q29: 2392.1049 | R29: 523.52955 | S29: 5247.2593 | T29: 258.85007 | U29: 0 | V29: 0 | W29: 4388.988 | X29: 14713.72
B30: 23 | C30: 非鉄金属製造業 | D30: E23 | E30: 0.70656 | F30: 505.66181 | G30: 16.232359 | H30: 55.13295 | I30: 37.898601 | J30: 22.254947 | L30: 43.38517 | N30: 0 | O30: 0 | P30: 0 | Q30: 6.3424753 | R30: 20.118797 | S30: 230.57335 | T30: 1.2114043 | U30: 0 | V30: 0 | W30: 4.3098643 | X30: 943.82829
B31: 24 | C31: 金属製品製造業 | D31: E24 | E31: 3.0656717 | F31: 699.58662 | G31: 30.740692 | H31: 47.430834 | I31: 24.678266 | J31: 26.894057 | L31: 7.4436529 | N31: 0 | O31: 0 | P31: 0.014938708 | Q31: 117.32341 | R31: 17.936714 | S31: 66.12366 | T31: 0.88620536 | U31: 0 | V31: 0 | W31: 4.5584475 | X31: 1046.6832
B32: 25 | C32: はん用機械器具製造業 | D32: E25 | E32: 0.012 | F32: 76.964645 | G32: 27.545207 | H32: 5.6125281 | I32: 4.8352381 | J32: 10.162019 | L32: 2.2733345 | N32: 0 | O32: 0 | P32: 0.014 | Q32: 22.572644 | R32: 9.4648469 | S32: 5.7404351 | T32: 0.58818215 | U32: 0 | V32: 0 | W32: 0.006 | X32: 165.79108
B33: 26 | C33: 生産用機械器具製造業 | D33: E26 | E33: 0.10277585 | F33: 168.35679 | G33: 28.63239 | H33: 19.595003 | I33: 81.474122 | J33: 22.831151 | L33: 2.2281013 | N33: 0 | O33: 0 | P33: 6.4715227 | Q33: 21.73087 | R33: 12.878359 | S33: 20.795341 | T33: 45.291939 | U33: 0 | V33: 0 | W33: 0.32242399 | X33: 430.71078
B34: 27 | C34: 業務用機械器具製造業 | D34: E27 | E34: 0.020502119 | F34: 93.628447 | G34: 12.575231 | H34: 8.6630445 | I34: 17.604453 | J34: 12.950827 | L34: 0.95726177 | N34: 0 | O34: 0 | P34: 0.068 | Q34: 3.4944666 | R34: 0.96534879 | S34: 0.122 | T34: 0.142 | U34: 0 | V34: 0 | W34: 3e-06 | X34: 151.19158
B35: 28 | C35: 電子部品・デバイス・電子回路製造業 | D35: E28 | E35: 0.11531275 | F35: 196.1279 | G35: 20.966733 | H35: 54.302683 | I35: 82.8236 | J35: 30.483793 | L35: 0.92796649 | N35: 0 | O35: 0 | P35: 0.012 | Q35: 5.8592903 | R35: 3.156047 | S35: 0.0365 | T35: 0.046071328 | U35: 0 | V35: 0 | W35: 0.00062451888 | X35: 394.85852
B36: 29 | C36: 電気機械器具製造業 | D36: E29 | E36: 0.016953768 | F36: 395.14413 | G36: 43.82787 | H36: 14.946114 | I36: 47.61499 | J36: 20.823218 | L36: 1.8355454 | N36: 0 | O36: 0 | P36: 0.001 | Q36: 13.693286 | R36: 12.868848 | S36: 1.0349924 | T36: 0.134 | U36: 0 | V36: 0 | W36: 0 | X36: 551.94095
B37: 30 | C37: 情報通信機械器具製造業 | D37: E30 | E37: 0.004 | F37: 158.74262 | G37: 12.513508 | H37: 1.555781 | I37: 1.4842111 | J37: 15.639281 | L37: 0.4415688 | N37: 0 | O37: 0 | P37: 9e-06 | Q37: 59.919027 | R37: 1.5194606 | S37: 47.242114 | T37: 0.025 | U37: 0 | V37: 0 | W37: 0 | X37: 299.08658
... B39: 32 | C39: その他の製造業 | D39: E32 | E39: 13.17101 | F39: 86.817392 | G39: 24.784832 | H39: 9.8528025 | I39: 16.148066 | J39: 85.642666 | L39: 3.3966864 | N39: 0 | O39: 0 | P39: 0.0083412729 | Q39: 27.788243 | R39: 31.028359 | S39: 20.964094 | T39: 0.043646909 | U39: 0 | V39: 0 | W39: 34.327713 | X39: 353.97385
C40: 電気・ガス・熱供給・水道業大分類 | D40: F | E40: 489.86035 | F40: 47359.671 | G40: 3.9021721 | H40: 0.47433018 | I40: 2.7825218 | J40: 10.379875 | L40: 0.17256016 | N40: 0 | O40: 0 | P40: 0.004818 | Q40: 1.6904297 | R40: 10.393991 | S40: 9.3756469 | T40: 97.415465 | U40: 0 | V40: 0 | W40: 3205.9404 | X40: 52107.849
A41: 電気･ガス | B41: 33 | C41: 電気業 | D41: F33 | E41: 411.97684 | F41: 274.35783 | G41: 1.6074134 | H41: 0.23739375 | I41: 0.68285861 | J41: 1.2422391 | L41: 0.10946019 | N41: 0 | O41: 0 | P41: 0 | Q41: 0.53129415 | R41: 8.9887741 | S41: 8.2286469 | T41: 32.163091 | U41: 0 | V41: 0 | W41: 3003.401 | X41: 3743.5268
A42: ･熱供給･ | B42: 34 | C42: ガス業 | D42: F34 | E42: 0 | F42: 0.38661393 | G42: 0.241542 | H42: 4e-05 | I42: 0.044979 | J42: 0.59827674 | L42: 0.00595 | N42: 0 | O42: 0 | P42: 0.002728 | Q42: 0.74403315 | R42: 0.051890648 | S42: 0 | T42: 3.5711701 | U42: 0 | V42: 0 | W42: 0 | X42: 5.6472236
A43: 水道業 | B43: 35 | C43: 熱供給業 | D43: F35 | E43: 1.751 | F43: 0.0050972835 | G43: 0.010087514 | H43: 0 | I43: 0 | J43: 0.012309038 | L43: 0.00032997815 | N43: 0 | O43: 0 | P43: 0 | Q43: 0.010350083 | R43: 0.00052977799 | S43: 0 | T43: 0.16212 | U43: 0 | V43: 0 | W43: 0.08 | X43: 2.0318237
B44: 36 | C44: 上水道業 | D44: F361 | E44: 0.010995918 | F44: 2964.4838 | G44: 0.013490141 | H44: 0.033905348 | I44: 0.050663177 | J44: 0.75442974 | L44: 0.00649 | N44: 0 | O44: 0 | P44: 0.00104 | Q44: 0.13822835 | R44: 0.20773727 | S44: 0.16 | T44: 19.58766 | U44: 0 | V44: 0 | W44: 0 | X44: 2985.4484
B45: 37 | C45: 下水道業 | D45: F363 | E45: 0.40951908 | F45: 19195.131 | G45: 0.028639 | H45: 0.2020395 | I45: 0.004021 | J45: 0.16862 | L45: 0.04233 | N45: 0 | O45: 0 | P45: 0.00105 | Q45: 0.092524 | R45: 0.134059 | S45: 0 | T45: 0.083424537 | U45: 0 | V45: 0 | W45: 0.9809305 | X45: 19197.278
C46: 情報通信業大分類 | D46: G | E46: 0 | F46: 0.14233864 | G46: 0.21008042 | H46: 0.41060117 | I46: 0.37515295 | J46: 17.529736 | K46: 17.330732 | L46: 0.09281504 | N46: 0 | O46: 0 | P46: 0 | Q46: 11.769848 | R46: 3.1603098 | S46: 0 | T46: 24.874434 | U46: 0 | V46: 0 | W46: 0 | X46: 77.708048
B47: 38 | C47: 通信業 | D47: G37 | E47: 0 | F47: 0 | G47: 0.005 | H47: 0 | I47: 0 | J47: 0.2346508 | K47: 0 | L47: 0 | N47: 0 | O47: 0 | P47: 0 | Q47: 0.3460854 | R47: 0.0078178 | S47: 0 | T47: 9.8218 | U47: 0 | V47: 0 | W47: 0 | X47: 10.415354
A48: 情報通信業 | B48: 39 | C48: 放送業 | D48: G38 | E48: 0 | F48: 0.0028531 | G48: 0 | H48: 0 | I48: 0 | J48: 0.0112451 | K48: 0 | L48: 0 | N48: 0 | O48: 0 | P48: 0 | Q48: 0.0168135 | R48: 0.0024888 | S48: 0 | T48: 0 | U48: 0 | V48: 0 | W48: 0 | X48: 0.0334005
B49: 40 | C49: 情報サービス業 | D49: G39 | E49: 0 | F49: 0.0081469 | G49: 0 | H49: 0 | I49: 0 | J49: 0.1513768 | K49: 0 | L49: 0 | N49: 0 | O49: 0 | P49: 0 | Q49: 0.3355047 | R49: 0.0389934 | S49: 0 | T49: 0 | U49: 0 | V49: 0 | W49: 0 | X49: 0.5340218
B50: 41 | C50: インターネット付随サービス業 | D50: G40 | E50: 0 | F50: 0 | G50: 0 | H50: 0 | I50: 0 | J50: 0.0006894 | K50: 0 | L50: 0 | N50: 0 | O50: 0 | P50: 0 | Q50: 0.0007429 | R50: 0 | S50: 0 | T50: 0 | U50: 0 | V50: 0 | W50: 0 | X50: 0.0014323
B51: 42 | C51: 映像・音声・文字情報制作業 | D51: G41 | E51: 0 | F51: 0 | G51: 0.027 | H51: 0.001 | I51: 0.032 | J51: 0.1176167 | K51: 1.149 | L51: 0 | N51: 0 | O51: 0 | P51: 0 | Q51: 0.0326346 | R51: 0.005 | S51: 0 | T51: 0 | U51: 0 | V51: 0 | W51: 0 | X51: 1.3642513
C52: 運輸業，郵便業大分類 | D52: H | E52: 1.2814814 | F52: 183.28881 | G52: 22.87636 | H52: 0.72928818 | I52: 2.7374381 | J52: 92.199005 | K52: 0 | L52: 48.690232 | N52: 0 | O52: 0 | P52: 0.19581152 | Q52: 27.59737 | R52: 8.6196032 | S52: 0.78907 | T52: 98.457839 | U52: 0 | V52: 0 | W52: 0.007 | X52: 487.46931
A53: 運輸業， | B53: 43 | C53: 鉄道業 | D53: H42 | E53: 0.182 | F53: 133.22843 | G53: 0.89809288 | H53: 0 | I53: 0.0301768 | J53: 0.83351031 | K53: 0 | L53: 0.024 | N53: 0 | O53: 0 | P53: 0 | Q53: 0.82115397 | R53: 0.1717821 | S53: 0 | T53: 0.0345623 | U53: 0 | V53: 0 | W53: 0 | X53: 136.22371
A54: 郵便業 | B54: 44 | C54: 道路旅客運送業 | D54: H43 | E54: 0 | F54: 1.231815 | G54: 9.681412 | H54: 0 | I54: 0.006757 | J54: 1.7116502 | K54: 0 | L54: 0.0005446 | N54: 0 | O54: 0 | P54: 1.6096495e-05 | Q54: 0.2007017 | R54: 0.0271593 | S54: 0 | T54: 0 | U54: 0 | V54: 0 | W54: 0 | X54: 12.860056
B55: 45 | C55: 道路貨物運送業 | D55: H44 | E55: 0 | F55: 5.5306233 | G55: 2.4163173 | H55: 0 | I55: 0.0201439 | J55: 13.713904 | K55: 0 | L55: 14.930136 | N55: 0 | O55: 0 | P55: 0.064 | Q55: 4.3803779 | R55: 0.4413689 | S55: 0 | T55: 1.726 | U55: 0 | V55: 0 | W55: 0 | X55: 43.222872
B56: 46 | C56: 上記以外の運輸業，郵便業 | E56: 0 | F56: 27.620094 | G56: 0.77874567 | H56: 0.024848964 | I56: 0.078179446 | J56: 3.1158718 | K56: 0 | L56: 2.8906971 | N56: 0 | P56: 0 | Q56: 1.3113785 | R56: 0.7656897 | S56: 0 | T56: 94.612378 | U56: 0 | V56: 0 | W56: 0 | X56: 131.19788
C57: 卸売業，小売業大分類 | D57: I | E57: 0.19132559 | F57: 99.828739 | G57: 88.542143 | H57: 5.4778173 | I57: 8.2419346 | J57: 330.86112 | L57: 18.021828 | N57: 0 | P57: 7.5040286 | Q57: 138.53577 | R57: 37.159184 | S57: 1.52406 | T57: 13.707081 | U57: 0 | V57: 0 | W57: 0.03603 | X57: 776.49306
B58: 47 | C58: 各種商品卸売業 | D58: I50 | E58: 0 | F58: 0.073 | G58: 0.673 | H58: 0 | I58: 0.01 | J58: 4.5130048 | K58: 0 | L58: 0 | N58: 0 | P58: 0 | Q58: 0.4480298 | R58: 0.1280027 | S58: 0 | T58: 0 | U58: 0 | V58: 0 | W58: 0 | X58: 5.8450373
B59: 48 | C59: 木材・竹材卸売業 | D59: I5311 | E59: 0 | F59: 0.0019345975 | G59: 0.00069013723 | H59: 0 | I59: 0 | J59: 0.079538819 | K59: 0 | L59: 4.0649515 | N59: 0 | P59: 0 | Q59: 0.00014386243 | R59: 0.0070673674 | S59: 0 | T59: 0.21786405 | U59: 0 | V59: 0 | W59: 0 | X59: 4.3721904
B60: 49 | C60: 各種商品小売業 | D60: I56 | E60: 0 | F60: 2.0610986 | G60: 1.3276411 | H60: 0.015851024 | I60: 0.016664986 | J60: 12.395239 | K60: 0 | L60: 0.0078752 | N60: 0 | P60: 0 | Q60: 0.55655987 | R60: 0.42116956 | S60: 0 | T60: 9.2554847e-05 | U60: 0 | V60: 0 | W60: 0 | X60: 16.802192
A61: 卸売業， | B61: 50 | C61: 自動車小売業 | D61: I591 | E61: 0 | F61: 6.8763217 | G61: 8.02368 | H61: 0.0014416 | I61: 0.96755404 | J61: 13.500377 | K61: 0 | L61: 0.006 | N61: 0 | P61: 0.0057205 | Q61: 8.2163211 | R61: 0.18153229 | S61: 0 | T61: 0 | U61: 0 | V61: 0 | W61: 0 | X61: 37.778949
A62: 小売業 | B62: 51 | C62: 機械器具小売業 | D62: I593 | E62: 0.021 | F62: 4.401 | G62: 5.827 | H62: 0.001 | I62: 0.584 | J62: 9.136026 | K62: 0 | L62: 0.0383624 | N62: 0 | P62: 4.991 | Q62: 6.9173113 | R62: 0.5306811 | S62: 0 | T62: 0.0135979 | U62: 0 | V62: 0 | W62: 0 | X62: 32.460979
B63: 52 | C63: 家具・建具・畳小売業 | D63: I601 | E63: 0 | F63: 0 | G63: 0 | H63: 0 | I63: 0 | J63: 0.0069504 | K63: 0 | L63: 0.0389314 | N63: 0 | P63: 0 | Q63: 0.0202446 | R63: 0.0467602 | S63: 0 | T63: 0 | U63: 0 | V63: 0 | W63: 0 | X63: 0.1128866
B64: 53 | C64: じゅう器小売業 | D64: I602 | E64: 0 | F64: 0 | G64: 0 | H64: 0 | I64: 0 | J64: 0 | K64: 0 | L64: 0.5694593 | N64: 0 | P64: 0 | Q64: 0 | R64: 0.0002949 | S64: 0 | T64: 0 | U64: 0 | V64: 0 | W64: 0 | X64: 0.5697542
B65: 54 | C65: 燃料小売業 | D65: I605 | E65: 0 | F65: 4.4720986 | G65: 17.14272 | H65: 0 | I65: 0 | J65: 4.1348743 | K65: 0 | L65: 0.024208123 | N65: 0 | P65: 0.0071512206 | Q65: 4.4641593 | R65: 0.03006635 | S65: 0 | T65: 0.23715854 | U65: 0 | V65: 0 | W65: 0 | X65: 30.512436
B66: 55 | C66: 上記以外の卸売業，小売業 | E66: 0.031 | F66: 1.8312915 | G66: 2.5603838 | H66: 4.5817998 | I66: 1.9425732 | J66: 83.342452 | K66: 0 | L66: 7.4714544 | N66: 0 | P66: 0.0211484 | Q66: 36.281622 | R66: 9.1191842 | S66: 0 | T66: 9.8221295 | U66: 0 | V66: 0 | W66: 0 | X66: 157.00504
A67: 不動産業， | C67: 不動産業，物品賃貸業大分類 | D67: K | E67: 0 | F67: 0.63582713 | G67: 0.24806576 | H67: 0.00033685337 | I67: 0.000203 | J67: 32.119313 | K67: 0 | L67: 7.7950287 | N67: 0 | P67: 0.18554492 | Q67: 9.9237776 | R67: 18.677378 | S67: 0 | T67: 7.8260934 | U67: 0 | V67: 0 | W67: 0 | X67: 77.411568
A68: 物品賃貸業 | B68: 56 | C68: 物品賃貸業 | D68: K70 | E68: 0 | F68: 0.48272913 | G68: 0.21267051 | H68: 0.00011185337 | I68: 0 | J68: 5.2618899 | K68: 0 | L68: 0.94829289 | N68: 0 | P68: 0 | Q68: 0.64662857 | R68: 4.5468136 | S68: 0 | T68: 0.46674135 | U68: 0 | V68: 0 | W68: 0 | X68: 12.565878
A69: 学術研究，専門 | C69: 学術研究，専門・技術サービス業大分類 | D69: L | E69: 0.054163 | F69: 3.6683805 | G69: 4.2450843 | H69: 4.4386894 | I69: 3.1235872 | J69: 11.359699 | K69: 0 | L69: 0.32379501 | N69: 0 | P69: 0 | Q69: 6.927831 | R69: 6.0496625 | S69: 0.019 | T69: 2.1460911 | U69: 0 | V69: 0 | W69: 0.003 | X69: 42.358993
A70: ・技術サービス業 | B70: 57 | C70: 学術・開発研究機関 | D70: L71 | E70: 0.005 | F70: 0.85542471 | G70: 0.5142829 | H70: 0.052092397 | I70: 0.097659248 | J70: 2.133388 | K70: 0 | L70: 0.1428413 | N70: 0 | O70: 0 | P70: 0 | Q70: 2.4550417 | R70: 0.50460314 | S70: 0 | T70: 1.3415815 | U70: 0 | V70: 0 | W70: 0.003 | X70: 8.1049149
B71: 58 | C71: 写真業 | D71: L746 | E71: 0 | F71: 0 | G71: 0 | H71: 1.8472223 | I71: 0.80163535 | J71: 0.0266549 | K71: 0 | L71: 0 | N71: 0 | O71: 0 | P71: 0 | Q71: 0 | R71: 0.0010774591 | S71: 0 | T71: 0 | U71: 0 | V71: 0 | W71: 0 | X71: 2.67659
A72: 宿泊業，飲食 | C72: 宿泊業，飲食サービス業大分類 | D72: M | E72: 0.05459 | F72: 81.938586 | G72: 24.903473 | H72: 1.016848 | I72: 1.01622 | J72: 50.95685 | K72: 0 | L72: 0.21996941 | N72: 0 | O72: 0 | P72: 0.010081202 | Q72: 10.898863 | R72: 8.933553 | S72: 0.00271 | T72: 0 | U72: 0 | V72: 0 | W72: 0 | X72: 186.95174
A73: サービス業 | B73: 59 | C73: 飲食店 | D73: M76 | E73: 0.008 | F73: 48.304009 | G73: 6.9856855 | H73: 0 | I73: 0 | J73: 10.013403 | K73: 0 | L73: 0 | N73: 0 | O73: 0 | P73: 0 | Q73: 0.5325152 | R73: 0.6125133 | S73: 0 | T73: 0 | U73: 0 | V73: 0 | W73: 0 | X73: 66.456127
B74: 60 | C74: 上記以外の宿泊業，飲食サービス業 | E74: 0 | F74: 2.0999905 | G74: 0.2623145 | H74: 0 | I74: 0 | J74: 0.7331906 | K74: 0 | L74: 0 | N74: 0 | O74: 0 | P74: 0.01 | Q74: 0.2288909 | R74: 0.2494867 | S74: 0 | T74: 0 | U74: 0 | V74: 0 | W74: 0 | X74: 3.5838732
A75: 生活関連サー | C75: 生活関連サービス業，娯楽業大分類 | D75: N | E75: 0.00845 | F75: 52.7897 | G75: 2.361925 | H75: 0.067908 | I75: 0.023473 | J75: 22.604371 | K75: 0 | L75: 0.0019163539 | N75: 0 | O75: 0 | P75: 0.012572131 | Q75: 2.0406139 | R75: 2.6347862 | S75: 0 | T75: 0.013 | U75: 0 | V75: 0 | W75: 0 | X75: 82.558716
A76: ビス業，娯楽業 | B76: 61 | C76: 洗濯業 | D76: N781 | E76: 0.003 | F76: 31.5104 | G76: 0.71759066 | H76: 0.003 | I76: 0 | J76: 3.5637735 | K76: 0 | L76: 0 | N76: 0 | O76: 0 | P76: 0.001 | Q76: 0.78446569 | R76: 0.187 | S76: 0 | T76: 0.013 | U76: 0 | V76: 0 | W76: 0 | X76: 36.78323
A77: 教育，学習支援業 | B77: 62 | C77: 教育，学習支援業 | D77: O | E77: 0.0050024715 | F77: 2.7203103 | G77: 0.45284716 | H77: 0.20333503 | I77: 0.078985952 | J77: 6.0595707 | K77: 0 | L77: 0.22911365 | N77: 0 | O77: 0 | P77: 0.0016036079 | Q77: 5.2525124 | R77: 3.1022609 | S77: 0.0056 | T77: 3.79739 | U77: 0 | V77: 0 | W77: 0 | X77: 21.908532
C78: 医療，福祉大分類 | D78: P | E78: 0.13719454 | F78: 13.225398 | G78: 1.6267092 | H78: 3.4167599 | I78: 1.4483948 | J78: 131.30788 | K78: 0 | L78: 0.067703548 | N78: 0 | O78: 0 | P78: 0.057916794 | Q78: 12.427127 | R78: 11.071436 | S78: 0 | T78: 1.3669122 | U78: 0 | V78: 0 | W78: 0.001 | X78: 176.15443
A79: 医療，福祉 | B79: 63 | C79: 医療業 | D79: P83 | E79: 0.063 | F79: 0.93554218 | G79: 0.15754199 | H79: 0.20726283 | I79: 0.21447812 | J79: 34.392024 | K79: 0 | L79: 0.00027665851 | N79: 0 | O79: 0 | P79: 0.001031187 | Q79: 1.5344976 | R79: 1.326842 | S79: 0 | T79: 3.1186959e-05 | U79: 0 | V79: 0 | W79: 0.001 | X79: 38.833528
B80: 64 | C80: 上記以外の医療，福祉 | E80: 0 | F80: 0.76049071 | G80: 0.036988862 | H80: 0.036583631 | I80: 0.021639542 | J80: 3.7108723 | K80: 0 | L80: 4.9295516e-05 | N80: 0 | O80: 0 | P80: 5.0301547e-06 | Q80: 0.052336449 | R80: 0.039734373 | S80: 0 | T80: 5.0301547e-06 | U80: 0 | V80: 0 | W80: 0 | X80: 4.6587052
A81: 教育、学習支援業 | B81: 65 | C81: 複合サービス事業 | D81: Q | E81: 0.0025950363 | F81: 0.6345586 | G81: 0.23131745 | H81: 0.104357 | I81: 0.02412 | J81: 1.804809 | K81: 0 | L81: 0.016089225 | N81: 0 | O81: 0 | P81: 0 | Q81: 0.19920514 | R81: 0.038824 | S81: 0 | T81: 0 | U81: 0 | V81: 0 | W81: 0 | X81: 3.0558755
C82: サービス業大分類 | D82: R | E82: 4.9304391 | F82: 219.76387 | G82: 66.902984 | H82: 13.793334 | I82: 23.596308 | J82: 212.20977 | K82: 0 | L82: 17.876164 | N82: 0 | O82: 1.9987204 | P82: 0.22767553 | Q82: 97.973705 | R82: 47.948173 | S82: 12.674808 | T82: 23.890804 | U82: 0 | V82: 0 | W82: 0.58683003 | X82: 748.99758
A83: サービス業 | B83: 66 | C83: 自動車整備業 | D83: R891 | E83: 0.065 | F83: 4.2944142 | G83: 5.152285 | H83: 0.024027163 | I83: 0.16577775 | J83: 18.101176 | K83: 0 | L83: 0.0001398383 | N83: 0 | O83: 0 | P83: 0.0794332 | Q83: 10.801611 | R83: 0.26344358 | S83: 0 | T83: 0 | U83: 0 | V83: 0 | W83: 0 | X83: 38.947308
B84: 67 | C84: と畜場 | D84: R952 | E84: 0 | F84: 78.868776 | G84: 0 | H84: 0 | I84: 0 | J84: 0.008 | K84: 0 | L84: 0 | N84: 0 | O84: 1.056 | P84: 0 | Q84: 0.001 | R84: 0 | S84: 0 | T84: 0 | U84: 0 | V84: 0 | W84: 0 | X84: 79.933776
B85: 68 | C85: 上記以外のサービス業 | E85: 0 | F85: 0.7788224 | G85: 0.060949093 | H85: 0.082715362 | I85: 0.06579488 | J85: 6.1863545 | K85: 0 | L85: 6.954503 | N85: 0 | P85: 0.0005668 | Q85: 0.89517483 | R85: 0.23749999 | S85: 0 | T85: 19.623156 | U85: 0 | V85: 0 | W85: 5.0301547e-06 | X85: 34.885542
A86: 公務 | B86: 69 | C86: 公務 | D86: Ｓ | E86: 0.03175 | F86: 13.255043 | G86: 0.24459599 | H86: 0.088521067 | I86: 0.071373518 | J86: 13.552295 | K86: 0 | L86: 0.67152921 | N86: 0 | O86: 0 | P86: 0.0004 | Q86: 1.873968 | R86: 1.3193283 | S86: 0 | T86: 0.04093541 | U86: 0 | V86: 0 | W86: 0 | X86: 31.149739
C87: 合計 | E87: 1010.9688 | F87: 95620.892 | G87: 1857.5245 | H87: 1201.7301 | I87: 1152.8617 | J87: 3406.1194 | K87: 486.26382 | L87: 3743.9833 | M87: 40.471509 | N87: 2306.1078 | O87: 25.152793 | P87: 23.287469 | Q87: 3981.6764 | R87: 4038.7805 | S87: 7706.0369 | T87: 36840.625 | U87: 39188.978 | V87: 74.171803 | W87: 9030.4778 | X87: 213561.63
A88: *都道府県によって大分類のみの回答や廃棄物種類別の合計値のみが回答されているため、中分類の小計と大分類の値は一致しない。さらに大分類の小計は合計値と一致しない。

Sheet 表－Ⅲ・９
A1: 表－Ⅲ・９ 業種別・種類別活動量指標合計（有回答）一覧（平成24年度実績）
C3: 全国 | E3: 平成24年度
A4: 大分類 | B4: 番号 | C4: 産業分類 | D4: コード | E4: 単位 | F4: 燃え殻 | G4: 汚 泥 | H4: 廃 油 | I4: 廃 酸 | J4: 廃アルカリ | K4: 廃プラス チック類 | L4: 紙くず | M4: 木くず | N4: 繊維くず | O4: 動植物性 残 渣 | P4: 動物系固形不要物 | Q4: ゴムくず | R4: 金属くず | S4: ガラスくず及び 陶磁器くず | T4: 鉱さい | U4: がれき類 | V4: 動物の ふん尿 | W4: 動物の死体 | X4: ばいじん | Y4: 合 計
C5: 農業，林業大分類 | D5: A | Y5: 0
B6: 1 | C6: 耕種農業 | D6: A011 | E6: 千a | K6: 309.42488 | Y6: 309.42488
A7: 農業，林業 | B7: 2 | C7: 畜産農業 | D7: A012 | E7: 頭羽 | K7: 4692904.7 | V7: 35041807 | W7: 33811855 | Y7: 73546566
B8: 3 | C8: 林業 | D8: A02 | E8: 千人 | G8: 6.0925333 | H8: 6.0925333 | K8: 6.0925333 | M8: 6.0925333 | Y8: 24.370133
B9: 4 | C9: 上記以外の農業，林業 | Y9: 0
C10: 漁業大分類 | D10: B | Y10: 0
A11: 漁 業 | B11: 5 | C11: 漁業 | D11: B03 | E11: 千人 | H11: 1.4438 | K11: 7.2486 | M11: 1.4438 | R11: 1.4438 | S11: 1.4438 | U11: 1.4438 | Y11: 14.4676
B12: 6 | C12: 水産養殖業 | D12: B04 | E12: 千人 | Y12: 0
A13: 鉱 業 | B13: 7 | C13: 鉱業，採石業，砂利採取業 | D13: C | E13: 千人 | G13: 9.3926 | H13: 7.8418 | I13: 1.0735333 | K13: 8.9040667 | M13: 1.1277333 | Q13: 3.2739333 | R13: 5.8176 | S13: 2.2049333 | T13: 0.76906667 | U13: 2.8441333 | Y13: 43.2494
A14: 建設業 | B14: 8 | C14: 建設業 | D14: D | E14: 十億円 | F14: 21098.103 | G14: 31224.289 | H14: 31224.289 | I14: 18059.501 | J14: 20191.609 | K14: 31224.289 | L14: 31224.289 | M14: 31224.289 | N14: 31224.289 | Q14: 12642.368 | R14: 31224.289 | S14: 31224.289 | T14: 21990.605 | U14: 31224.289 | X14: 8644.596 | Y14: 383645.38
C15: 製造業大分類 | D15: E | Y15: 0
B16: 9 | C16: 食料品製造業 | D16: E09 | E16: 十億円 | F16: 8768.208 | G16: 9771.3718 | H16: 9771.3718 | I16: 9291.7521 | J16: 9415.0116 | K16: 9771.3718 | M16: 5338.0379 | O16: 9771.3718 | P16: 3118.7894 | Q16: 729.13782 | R16: 9771.3718 | S16: 9383.0934 | U16: 4012.3095 | X16: 5967.6421 | Y16: 104880.84
B17: 10 | C17: 飲料・たばこ・飼料製造業 | D17: E10 | E17: 十億円 | F17: 1569.1285 | G17: 3646.955 | H17: 3929.2578 | I17: 3371.7023 | J17: 1304.073 | K17: 4099.6373 | M17: 2404.3254 | O17: 4099.6373 | Q17: 65.02363 | R17: 3931.1183 | S17: 4099.6373 | T17: 9.96756 | U17: 840.16219 | X17: 473.93076 | Y17: 33844.556
B18: 11 | C18: 繊維工業 | D18: E11 | E18: 十億円 | F18: 1172.2738 | G18: 1753.6182 | H18: 1666.8269 | I18: 971.81129 | J18: 975.04924 | K18: 1753.0018 | M18: 1126.4668 | N18: 1299.8221 | Q18: 272.90095 | R18: 1367.6654 | S18: 1583.8757 | U18: 435.03425 | X18: 833.60583 | Y18: 15211.952
B19: 12 | C19: 木材・木製品製造業 | D19: E12 | E19: 十億円 | F19: 782.16729 | G19: 595.59508 | H19: 684.94189 | I19: 32.61952 | J19: 269.69639 | K19: 1015.3596 | M19: 1045.191 | R19: 785.0873 | S19: 937.11127 | T19: 88.98275 | U19: 500.21526 | X19: 383.198 | Y19: 7120.1654
B20: 13 | C20: 家具・装備品製造業 | D20: E13 | E20: 十億円 | F20: 305.81375 | G20: 149.44836 | H20: 359.38695 | I20: 147.34883 | J20: 162.62966 | K20: 536.74322 | M20: 547.74409 | R20: 485.32366 | S20: 518.45292 | U20: 103.31081 | X20: 35.10126 | Y20: 3351.3035
B21: 14 | C21: パルプ・紙・紙加工品製造業 | D21: E14 | E21: 十億円 | F21: 2519.7202 | G21: 2583.4863 | H21: 2546.3753 | I21: 2121.1237 | J21: 2467.2067 | K21: 2979.7257 | L21: 2894.2747 | M21: 2910.0113 | Q21: 237.36837 | R21: 2824.5603 | S21: 2744.9855 | T21: 247.75499 | U21: 1596.4031 | X21: 2548.3417 | Y21: 31221.338
B22: 15 | C22: 印刷・同関連業 | D22: E15 | E22: 十億円 | F22: 123.41515 | G22: 948.37686 | H22: 872.01532 | I22: 1387.2113 | J22: 1354.943 | K22: 1393.7098 | L22: 1344.8454 | M22: 921.14542 | Q22: 226.30476 | R22: 888.1465 | S22: 724.50183 | U22: 11.31085 | Y22: 10195.926
B23: 16 | C23: 化学工業 | D23: E16 | E23: 十億円 | F23: 9339.4227 | G23: 9752.39 | H23: 10988.993 | I23: 10981.935 | J23: 10981.935 | K23: 10988.993 | M23: 6339.9288 | O23: 6157.1543 | Q23: 1890.7631 | R23: 10988.993 | S23: 9759.4479 | T23: 4349.0587 | U23: 6361.2356 | X23: 7732.8707 | Y23: 116613.12
B24: 17 | C24: 石油製品・石炭製品製造業 | D24: E17 | E24: 十億円 | F24: 7046.3046 | G24: 7448.7731 | H24: 7453.7071 | I24: 7836.1017 | J24: 8365.9537 | K24: 8400.5976 | M24: 5565.887 | Q24: 8.43785 | R24: 8367.8165 | S24: 8384.2213 | T24: 1363.0976 | U24: 6902.6293 | X24: 8299.1405 | Y24: 85442.668
A25: 製造業 | B25: 18 | C25: プラスチック製品製造業 | D25: E18 | E25: 十億円 | F25: 2216.001 | G25: 4816.5279 | H25: 4838.6715 | I25: 4490.5685 | J25: 4659.1917 | K25: 4876.9193 | M25: 2981.7649 | Q25: 189.44854 | R25: 4449.1508 | S25: 4635.605 | T25: 843.87969 | U25: 1309.8338 | X25: 1249.0012 | Y25: 41556.564
B26: 19 | C26: ゴム製品製造業 | D26: E19 | E26: 十億円 | F26: 261.18257 | G26: 1644.926 | H26: 1663.1483 | I26: 1345.3191 | J26: 1516.1547 | K26: 1722.4876 | M26: 1104.1065 | Q26: 669.7664 | R26: 1540.9069 | S26: 1527.817 | T26: 103.27172 | U26: 339.65208 | X26: 563.86567 | Y26: 14002.605
B27: 20 | C27: なめし革・同製品・毛皮製造業 | D27: E20 | E27: 十億円 | F27: 3.41793 | G27: 6.47867 | H27: 4.97982 | K27: 34.67469 | U27: 3.41793 | Y27: 52.96904
B28: 21 | C28: 窯業・土石製品製造業 | D28: E21 | E28: 十億円 | F28: 2258.7221 | G28: 2749.4912 | H28: 2738.8311 | I28: 2444.442 | J28: 2476.6258 | K28: 2749.4912 | M28: 1756.4506 | Q28: 81.62951 | R28: 2715.0149 | S28: 2749.4912 | T28: 2204.3952 | U28: 2472.5049 | X28: 2119.4502 | Y28: 29516.54
B29: 22 | C29: 鉄鋼業 | D29: E22 | E29: 十億円 | F29: 5482.3459 | G29: 7950.9157 | H29: 7989.7553 | I29: 7974.3399 | J29: 7387.6286 | K29: 7989.7553 | M29: 6113.8314 | Q29: 1254.6547 | R29: 7960.07 | S29: 7989.7553 | T29: 7998.9095 | U29: 7238.8599 | X29: 7386.084 | Y29: 90716.905
B30: 23 | C30: 非鉄金属製造業 | D30: E23 | E30: 十億円 | F30: 1483.5805 | G30: 2916.652 | H30: 2970.5255 | I30: 2490.9496 | J30: 2504.6671 | K30: 2986.2688 | M30: 1819.7744 | R30: 2033.537 | S30: 2855.5996 | T30: 2914.2334 | U30: 2110.5309 | X30: 2528.4791 | Y30: 29614.798
B31: 24 | C31: 金属製品製造業 | D31: E24 | E31: 十億円 | F31: 2492.1261 | G31: 5146.9202 | H31: 5146.9202 | I31: 5146.9202 | J31: 5146.9202 | K31: 5146.9202 | M31: 3586.9674 | Q31: 766.65083 | R31: 5146.9202 | S31: 5146.9202 | T31: 4756.2749 | U31: 1945.5694 | X31: 3776.6907 | Y31: 53352.721
B32: 25 | C32: はん用機械器具製造業 | D32: E25 | E32: 十億円 | F32: 465.10307 | G32: 1937 | H32: 2127.3856 | I32: 2714.9876 | J32: 2510.8291 | K32: 2979.79 | M32: 1419.5953 | Q32: 248.87122 | R32: 2724.0069 | S32: 2789.4043 | T32: 1117.4631 | U32: 932.01054 | X32: 253.15012 | Y32: 22219.597
B33: 26 | C33: 生産用機械器具製造業 | D33: E26 | E33: 十億円 | F33: 2612.1628 | G33: 3955.8086 | H33: 3798.1452 | I33: 3798.1452 | J33: 3798.1452 | K33: 5306.4772 | M33: 3702.9651 | Q33: 1981.0636 | R33: 3798.1452 | S33: 5288.4503 | T33: 4579.003 | U33: 2846.8867 | X33: 1186.0849 | Y33: 46651.483
B34: 27 | C34: 業務用機械器具製造業 | D34: E27 | E34: 十億円 | F34: 477.29644 | G34: 1486.8968 | H34: 1491.4277 | I34: 2311.7629 | J34: 2383.7549 | K34: 2612.4401 | M34: 1926.188 | Q34: 48.93623 | R34: 2612.4401 | S34: 1346.6044 | T34: 314.02637 | U34: 585.50932 | X34: 114.62169 | Y34: 17711.905
B35: 28 | C35: 電子部品・デバイス・電子回路製造業 | D35: E28 | E35: 十億円 | F35: 1367.7069 | G35: 4095.3983 | H35: 5673.0881 | I35: 4183.7252 | J35: 4183.7252 | K35: 5930.6351 | M35: 2896.2428 | Q35: 435.78613 | R35: 4364.0374 | S35: 4106.4904 | T35: 505.75442 | U35: 1134.0253 | X35: 256.98112 | Y35: 39133.596
B36: 29 | C36: 電気機械器具製造業 | D36: E29 | E36: 十億円 | F36: 908.85419 | G36: 7107.4269 | H36: 7107.4269 | I36: 7087.2001 | J36: 6863.8653 | K36: 7107.4269 | M36: 3529.6151 | Q36: 55.5062 | R36: 7107.4269 | S36: 7028.8469 | T36: 416.31939 | U36: 1538.4355 | Y36: 55858.35
B37: 30 | C37: 情報通信機械器具製造業 | D37: E30 | E37: 十億円 | F37: 6.74785 | G37: 2308.146 | H37: 2314.8938 | I37: 1645.1651 | J37: 2210.0376 | K37: 2314.8938 | M37: 913.46988 | Q37: 48.27162 | R37: 2395.3226 | S37: 1794.7873 | T37: 596.87624 | U37: 599.87688 | Y37: 17148.489
B38: 31 | C38: 輸送用機械器具製造業 | D38: E31 | E38: 十億円 | F38: 6204.4565 | G38: 31593.623 | H38: 31620.291 | I38: 31481.395 | J38: 31605.228 | K38: 31620.291 | M38: 25151.213 | Q38: 930.06134 | R38: 31593.623 | S38: 31605.228 | T38: 31555.744 | U38: 25284.611 | X38: 29664.639 | Y38: 339910.4
B39: 32 | C39: その他の製造業 | D39: E32 | E39: 十億円 | F39: 640.1285 | G39: 1333.7354 | H39: 1406.3571 | I39: 1200.3688 | J39: 1160.2018 | K39: 1419.2312 | M39: 673.93024 | Q39: 285.85559 | R39: 1403.8473 | S39: 1320.8613 | T39: 928.31621 | U39: 338.61845 | X39: 547.61417 | Y39: 12659.066
C40: 電気・ガス・熱供給・水道業大分類 | D40: F | Y40: 0
A41: 電気･ガス | B41: 33 | C41: 電気業 | D41: F33 | E41: 千人 | F41: 47.000467 | G41: 54.503 | H41: 54.0234 | I41: 19.773467 | J41: 34.098933 | K41: 55.618067 | M41: 28.930133 | R41: 44.5498 | S41: 54.324867 | T41: 21.138133 | U41: 36.0728 | X41: 40.345067 | Y41: 490.37813
A42: ･熱供給･ | B42: 34 | C42: ガス業 | D42: F34 | E42: 千人 | G42: 4.6972667 | H42: 4.5146 | I42: 1.5654667 | J42: 2.1073333 | K42: 5.5066 | M42: 0.2252 | Q42: 1.5984667 | R42: 5.4050667 | S42: 4.4761333 | U42: 3.0852667 | Y42: 33.1814
A43: 水道業 | B43: 35 | C43: 熱供給業 | D43: F35 | E43: 千人 | F43: 0.17206667 | G43: 0.0404 | H43: 0.20346667 | K43: 0.0804 | M43: 0.0314 | R43: 0.20346667 | S43: 0.0404 | U43: 0.18106667 | X43: 0.04 | Y43: 0.99266667
B44: 36 | C44: 上水道業 | D44: F361 | E44: 千人 | F44: 5901.0815 | G44: 42872.411 | H44: 24160.432 | I44: 24160.432 | J44: 18818.665 | K44: 27798.346 | M44: 3090.065 | Q44: 2281.154 | R44: 26075.151 | S44: 23322.497 | T44: 954.637 | U44: 14287.351 | Y44: 213722.22
B45: 37 | C45: 下水道業 | D45: F363 | E45: 千人 | F45: 8184 | G45: 31138 | H45: 10962 | I45: 12447 | J45: 3909 | K45: 10597 | M45: 2278 | Q45: 1817 | R45: 8576 | S45: 8376 | U45: 5128 | X45: 4289 | Y45: 107701
C46: 情報通信業大分類 | D46: G | Y46: 0
B47: 38 | C47: 通信業 | D47: G37 | E47: 千人 | H47: 1.027 | K47: 1.8748 | R47: 1.8748 | S47: 1.8748 | U47: 1.8748 | Y47: 8.5262
A48: 情報通信業 | B48: 39 | C48: 放送業 | D48: G38 | E48: 千人 | G48: 1.0892667 | K48: 1.0892667 | R48: 1.0892667 | S48: 1.0892667 | Y48: 4.3570667
B49: 40 | C49: 情報サービス業 | D49: G39 | E49: 千人 | G49: 7.389 | K49: 7.389 | R49: 7.389 | S49: 7.389 | Y49: 29.556
B50: 41 | C50: インターネット付随サービス業 | D50: G40 | E50: 千人 | K50: 0.2812 | R50: 0.2812 | Y50: 0.5624
B51: 42 | C51: 映像・音声・文字情報制作業 | D51: G41 | E51: 千人 | H51: 9.8826667 | I51: 8.3578 | J51: 9.8826667 | K51: 12.0722 | L51: 9.8826667 | R51: 13.2488 | S51: 9.8826667 | Y51: 73.209467
C52: 運輸業，郵便業大分類 | D52: H | Y52: 0
A53: 運輸業， | B53: 43 | C53: 鉄道業 | D53: H42 | E53: 千人 | F53: 13.0022 | G53: 15.698267 | H53: 29.2966 | J53: 13.489067 | K53: 29.2966 | M53: 12.915267 | R53: 29.2966 | S53: 17.9944 | U53: 15.7852 | Y53: 176.7742
A54: 郵便業 | B54: 44 | C54: 道路旅客運送業 | D54: H43 | E54: 千人 | G54: 52.143133 | H54: 74.9416 | J54: 11.038 | K54: 74.9416 | M54: 5.8814 | Q54: 22.798467 | R54: 74.9416 | S54: 41.398 | Y54: 358.0838
B55: 45 | C55: 道路貨物運送業 | D55: H44 | E55: 千人 | G55: 234.79427 | H55: 234.79427 | J55: 45.0248 | K55: 234.79427 | M55: 206.81767 | Q55: 27.9766 | R55: 234.79427 | S55: 149.43873 | U55: 104.41393 | Y55: 1472.8488
B56: 46 | C56: 上記以外の運輸業，郵便業 | E56: 千人 | G56: 81.430533 | H56: 81.430533 | I56: 65.255533 | J56: 81.430533 | K56: 93.807867 | M56: 81.430533 | R56: 93.807867 | S56: 16.175 | U56: 81.430533 | Y56: 676.19893
C57: 卸売業，小売業大分類 | D57: I | Y57: 0
B58: 47 | C58: 各種商品卸売業 | D58: I50 | E58: 千人 | G58: 0.409 | H58: 0.409 | J58: 0.409 | K58: 0.77826667 | R58: 0.77826667 | S58: 0.77826667 | Y58: 3.5618
B59: 48 | C59: 木材・竹材卸売業 | D59: I5311 | E59: 千人 | G59: 1.6469181 | H59: 1.6469181 | K59: 1.6469181 | M59: 1.6469181 | R59: 1.6469181 | S59: 1.6469181 | U59: 1.6469181 | Y59: 11.528427
B60: 49 | C60: 各種商品小売業 | D60: I56 | E60: 千人 | G60: 40.627267 | H60: 40.627267 | I60: 24.618 | J60: 32.578667 | K60: 40.627267 | M60: 8.0486 | R60: 40.627267 | S60: 40.627267 | U60: 24.618 | Y60: 292.9996
A61: 卸売業， | B61: 50 | C61: 自動車小売業 | D61: I591 | E61: 千人 | G61: 44.16 | H61: 67.108667 | I61: 10.9 | J61: 67.108667 | K61: 67.108667 | M61: 7.0892667 | Q61: 17.989267 | R61: 67.108667 | S61: 67.108667 | Y61: 415.68187
A62: 小売業 | B62: 51 | C62: 機械器具小売業 | D62: I593 | E62: 千人 | F62: 18.111533 | G62: 18.111533 | H62: 18.111533 | I62: 13.859333 | J62: 18.111533 | K62: 24.075267 | M62: 5.9637333 | Q62: 4.2522 | R62: 24.075267 | S62: 24.075267 | U62: 5.9637333 | Y62: 174.71093
B63: 52 | C63: 家具・建具・畳小売業 | D63: I601 | E63: 千人 | K63: 1.5393333 | M63: 1.5393333 | R63: 1.5393333 | S63: 1.5393333 | Y63: 6.1573333
B64: 53 | C64: じゅう器小売業 | D64: I602 | E64: 千人 | M64: 1.3561333 | S64: 1.3561333 | Y64: 2.7122667
B65: 54 | C65: 燃料小売業 | D65: I605 | E65: 千人 | G65: 45.361733 | H65: 45.361733 | K65: 45.361733 | M65: 12.769133 | Q65: 19.624533 | R65: 45.361733 | S65: 45.361733 | U65: 45.361733 | Y65: 304.56407
B66: 55 | C66: 上記以外の卸売業，小売業 | E66: 千人 | F66: 133.25575 | G66: 999.33273 | H66: 1088.6526 | I66: 873.53608 | J66: 704.74325 | K66: 1088.6526 | M66: 615.42336 | Q66: 259.0524 | R66: 1088.6526 | S66: 1088.6526 | U66: 615.42336 | Y66: 8555.3774
A67: 不動産業， | C67: 不動産業，物品賃貸業大分類 | D67: K | Y67: 0
A68: 物品賃貸業 | B68: 56 | C68: 物品賃貸業 | D68: K70 | E68: 千人 | G68: 13.776867 | H68: 13.776867 | I68: 6.0745333 | K68: 13.776867 | M68: 6.0745333 | R68: 13.776867 | S68: 13.776867 | U68: 9.3871333 | Y68: 90.420533
A69: 学術研究，専門 | C69: 学術研究，専門・技術サービス業大分類 | D69: L | Y69: 0
A70: ・技術サービス業 | B70: 57 | C70: 学術・開発研究機関 | D70: L71 | E70: 千人 | F70: 14.074667 | G70: 29.911 | H70: 30.2512 | I70: 29.911 | J70: 29.911 | K70: 30.2512 | M70: 9.6689333 | R70: 30.2512 | S70: 30.2512 | U70: 29.911 | X70: 14.074667 | Y70: 278.46707
B71: 58 | C71: 写真業 | D71: L746 | E71: 千人 | I71: 6.3592 | J71: 5.6603333 | K71: 4.8256 | S71: 2.2924 | Y71: 19.137533
A72: 宿泊業，飲食 | C72: 宿泊業，飲食サービス業大分類 | D72: M | Y72: 0
A73: サービス業 | B73: 59 | C73: 飲食店 | D73: M76 | E73: 千人 | F73: 55.5642 | G73: 274.15007 | H73: 274.15007 | K73: 274.15007 | R73: 274.15007 | S73: 274.15007 | Y73: 1426.3145
B74: 60 | C74: 上記以外の宿泊業，飲食サービス業 | E74: 千人 | G74: 33.933333 | H74: 33.933333 | K74: 33.933333 | Q74: 19.672333 | R74: 33.933333 | S74: 33.933333 | Y74: 189.339
A75: 生活関連サー | C75: 生活関連サービス業，娯楽業大分類 | D75: N | Y75: 0
A76: ビス業，娯楽業 | B76: 61 | C76: 洗濯業 | D76: N781 | E76: 千人 | F76: 4.953 | G76: 53.4362 | H76: 53.4362 | I76: 3.0016 | K76: 53.4362 | Q76: 4.953 | R76: 36.1462 | S76: 4.953 | U76: 6.5739333 | Y76: 220.88933
A77: 教育，学習支援業 | B77: 62 | C77: 教育，学習支援業 | D77: O | E77: 千人 | F77: 58.905467 | G77: 421.5058 | H77: 421.5058 | I77: 421.5058 | J77: 403.20633 | K77: 739.52387 | M77: 72.669733 | Q77: 73.4112 | R77: 725.50653 | S77: 739.52387 | T77: 68.244667 | U77: 173.48907 | Y77: 4318.9981
C78: 医療，福祉大分類 | D78: P | Y78: 0
A79: 医療，福祉 | B79: 63 | C79: 医療業 | D79: P83 | E79: 千床 | F79: 137.254 | G79: 240.972 | H79: 313.553 | I79: 313.553 | J79: 313.553 | K79: 240.972 | M79: 59.959 | Q79: 164.877 | R79: 240.972 | S79: 217.242 | U79: 59.959 | X79: 23.73 | Y79: 2326.596
B80: 64 | C80: 上記以外の医療，福祉 | E80: 千人 | G80: 188.71713 | H80: 158.1596 | I80: 188.71713 | J80: 188.71713 | K80: 226.56927 | M80: 108.07927 | Q80: 108.07927 | R80: 188.71713 | S80: 188.71713 | U80: 108.07927 | Y80: 1652.5523
A81: 教育、学習支援業 | B81: 65 | C81: 複合サービス事業 | D81: Q | E81: 人 | F81: 6.3343333 | G81: 63.018333 | H81: 66.936333 | I81: 50.078333 | J81: 30.586333 | K81: 66.936333 | M81: 6.3343333 | R81: 66.936333 | S81: 30.479333 | Y81: 387.64
C82: サービス業大分類 | D82: R | Y82: 0
A83: サービス業 | B83: 66 | C83: 自動車整備業 | D83: R891 | E83: 千人 | F83: 4.3589333 | G83: 39.848 | H83: 39.848 | I83: 27.566267 | J83: 39.848 | K83: 39.848 | M83: 12.697133 | Q83: 19.228067 | R83: 39.848 | S83: 39.848 | Y83: 302.9384
B84: 67 | C84: と畜場 | D84: R952 | E84: 千人 | G84: 0.31193333 | K84: 0.017466667 | P84: 0.22373333 | R84: 0.017466667 | Y84: 0.5706
B85: 68 | C85: 上記以外のサービス業 | E85: 千人 | G85: 320.499 | H85: 320.499 | I85: 320.499 | J85: 320.499 | K85: 629.07567 | M85: 492.06833 | Q85: 62.436667 | R85: 554.505 | S85: 554.505 | U85: 554.505 | X85: 183.49167 | Y85: 4312.5833
A86: 公務 | B86: 69 | C86: 公務 | D86: Ｓ | E86: 千人 | F86: 63.4434 | G86: 372.2944 | H86: 329.333 | I86: 319.99847 | J86: 339.1216 | K86: 372.2944 | M86: 217.65593 | Q86: 21.013333 | R86: 329.333 | S86: 315.28333 | U86: 142.60667 | Y86: 2822.3775

Sheet 表－Ⅲ・10
A1: 表－Ⅲ・10 産業廃棄物排出・処理状況一覧表（平成24年度実績値）
K2: （単位：千ｔ/年）
A3: 廃棄物名 | B3: 排出量 | C3: 直接再生利用量 | D3: 直接最終処分量 | E3: 中間処理 | I3: 再生利用量 計 | J3: 減量化量 | K3: 最終処分量 計
E4: 中間処理量 | F4: 処理残渣量 | G4: 中間処理後 再生利用量 | H4: 中間処理後 最終処分量
B5: （Ａ） | C5: （Ｂ） | D5: （Ｃ） | E5: （Ｄ） | F5: （Ｅ） | G5: （Ｆ） | H5: （Ｇ） | I5: （Ｂ）＋（Ｆ） | J5: （Ｄ）－（Ｅ） | K5: （Ｃ）＋（Ｇ）
A6: 燃 え 殻 | B6: 1869.0867 | C6: 65.055776 | D6: 399.33828 | E6: 1404.6927 | F6: 1325.5674 | G6: 1290.8185 | H6: 34.748873 | I6: 1355.8743 | J6: 79.125282 | K6: 434.08716
A7: 構成比 | C7: 0.034806183 | D7: 0.21365423 | E7: 0.75153959 | F7: 0.70920593 | G7: 0.69061457 | H7: 0.018591365 | I7: 0.72542075 | J7: 0.04233366 | K7: 0.23224559
A8: 汚 泥 | B8: 164638.46 | C8: 3605.3487 | D8: 1245.0012 | E8: 159788.11 | F8: 18200.43 | G8: 14554.407 | H8: 3646.0227 | I8: 18159.756 | J8: 141587.68 | K8: 4891.0239
A9: 構成比 | C9: 0.021898581 | D9: 0.0075620311 | E9: 0.97053939 | F9: 0.11054786 | G9: 0.088402231 | H9: 0.022145632 | I9: 0.11030081 | J9: 0.85999153 | K9: 0.029707663
A10: 廃 油 | B10: 3212.4877 | C10: 170.51293 | D10: 1.8941639 | E10: 3040.0806 | F10: 1144.1718 | G10: 1087.7095 | H10: 56.46229 | I10: 1258.2224 | J10: 1895.9089 | K10: 58.356454
A11: 構成比 | C11: 0.053078158 | D11: 0.00058962527 | E11: 0.94633222 | F11: 0.35616378 | G11: 0.3385879 | H11: 0.017575877 | I11: 0.39166606 | J11: 0.59016844 | K11: 0.018165503
A12: 廃 酸 | B12: 2595.0998 | C12: 133.3156 | D12: 0.61831603 | E12: 2461.1659 | F12: 915.58756 | G12: 881.70408 | H12: 33.883483 | I12: 1015.0197 | J12: 1545.5783 | K12: 34.5018
A13: 構成比 | C13: 0.051372053 | D13: 0.00023826291 | E13: 0.94838968 | F13: 0.35281401 | G13: 0.33975729 | H13: 0.013056717 | I13: 0.39112934 | J13: 0.59557568 | K13: 0.01329498
A14: 廃 ア ル カ リ | B14: 1778.2726 | C14: 11.544282 | D14: 0.20441431 | E14: 1766.5239 | F14: 320.5884 | G14: 293.10922 | H14: 27.479188 | I14: 304.6535 | J14: 1445.9355 | K14: 27.683602
A15: 構成比 | C15: 0.0064918515 | D15: 0.00011495105 | E15: 0.9933932 | F15: 0.18028079 | G15: 0.16482805 | H15: 0.015452742 | I15: 0.1713199 | J15: 0.8131124 | K15: 0.015567693
A16: 廃プラスチック類 | B16: 5690.8645 | C16: 47.175607 | D16: 220.25086 | E16: 5423.438 | F16: 3836.9654 | G16: 3087.6106 | H16: 749.35481 | I16: 3134.7862 | J16: 1586.4727 | K16: 969.60566
A17: 構成比 | C17: 0.0082897083 | D17: 0.03870253 | E17: 0.95300776 | F17: 0.67423243 | G17: 0.54255563 | H17: 0.1316768 | I17: 0.55084534 | J17: 0.27877534 | K17: 0.17037933
A18: 紙 く ず | B18: 1020.4448 | C18: 53.346649 | D18: 4.239977 | E18: 962.85817 | F18: 546.20899 | G18: 507.01125 | H18: 39.197742 | I18: 560.3579 | J18: 416.64918 | K18: 43.437719
A19: 構成比 | C19: 0.052277839 | D19: 0.0041550283 | E19: 0.94356713 | F19: 0.53526559 | G19: 0.49685319 | H19: 0.038412408 | I19: 0.54913103 | J19: 0.40830154 | K19: 0.042567436
A20: 木 く ず | B20: 6228.9514 | C20: 38.741985 | D20: 27.638921 | E20: 6162.5705 | F20: 5087.8231 | G20: 4897.4791 | H20: 190.34408 | I20: 4936.221 | J20: 1074.7474 | K20: 217.983
A21: 構成比 | C21: 0.0062196639 | D21: 0.0044371708 | E21: 0.98934317 | F21: 0.8168025 | G21: 0.78624454 | H21: 0.030557965 | I21: 0.7924642 | J21: 0.17254066 | K21: 0.034995135
A22: 繊 維 く ず | B22: 68.367084 | C22: 0.69621357 | D22: 2.3428821 | E22: 65.327988 | F22: 42.392909 | G22: 36.552354 | H22: 5.8405549 | I22: 37.248568 | J22: 22.935079 | K22: 8.183437
A23: 構成比 | C23: 0.010183462 | D23: 0.034269154 | E23: 0.95554738 | F23: 0.62007777 | G23: 0.53464843 | H23: 0.085429341 | I23: 0.54483189 | J23: 0.33546961 | K23: 0.11969849
A24: 動植物性残渣 | B24: 2571.5358 | C24: 38.446995 | D24: 12.881054 | E24: 2520.2078 | F24: 1700.1147 | G24: 1638.0422 | H24: 62.072512 | I24: 1676.4892 | J24: 820.0931 | K24: 74.953566
A25: 構成比 | C25: 0.014950986 | D25: 0.00500909 | E25: 0.98003992 | F25: 0.66112813 | G25: 0.63698983 | H25: 0.024138303 | I25: 0.65194081 | J25: 0.31891179 | K25: 0.029147393
A26: 動物系固形不要物 | B26: 70.255255 | C26: 3.4323024e-09 | D26: 0.008113504 | E26: 70.247142 | F26: 59.15541 | G26: 57.882086 | H26: 1.2733236 | I26: 57.882086 | J26: 11.091732 | K26: 1.2814371
A27: 構成比 | C27: 4.8854742e-11 | D27: 0.00011548608 | E27: 0.99988451 | F27: 0.8420069 | G27: 0.82388266 | H27: 0.018124246 | I27: 0.82388266 | J27: 0.15787761 | K27: 0.018239732
A28: ゴ ム く ず | B28: 34.290949 | C28: 0.024291418 | D28: 1.3040138 | E28: 32.962344 | F28: 28.813183 | G28: 21.936171 | H28: 6.8770121 | I28: 21.960462 | J28: 4.1491607 | K28: 8.1810259
A29: 構成比 | C29: 0.00070839153 | D29: 0.038027929 | E29: 0.96125492 | F29: 0.84025621 | G29: 0.63970731 | H29: 0.2005489 | I29: 0.6404157 | J29: 0.12099871 | K29: 0.23857683
A30: 金 属 く ず | B30: 7267.0759 | C30: 3632.7324 | D30: 40.82364 | E30: 3593.5198 | F30: 3520.9566 | G30: 3397.6824 | H30: 123.27417 | I30: 7030.4148 | J30: 72.563242 | K30: 164.09781
A31: 構成比 | C31: 0.49988916 | D31: 0.0056176157 | E31: 0.49449323 | F31: 0.48450802 | G31: 0.46754464 | H31: 0.01696338 | I31: 0.9674338 | J31: 0.0099852049 | K31: 0.022580996
A32: ガラスくず、コンクリートくず 及び陶磁器くず | B32: 6082.5083 | C32: 93.765616 | D32: 558.18178 | E32: 5430.561 | F32: 5149.2678 | G32: 4199.924 | H32: 949.34377 | I32: 4293.6897 | J32: 281.29307 | K32: 1507.5256
A33: 構成比 | C33: 0.015415617 | D33: 0.091768355 | E33: 0.89281604 | F33: 0.8465698 | G33: 0.69049212 | H33: 0.15607768 | I33: 0.70590774 | J33: 0.046246229 | K33: 0.24784603
A34: 鉱 さ い | B34: 16397.632 | C34: 1847.2672 | D34: 667.18518 | E34: 13883.18 | F34: 13304.42 | G34: 13106.063 | H34: 198.3572 | I34: 14953.33 | J34: 578.75975 | K34: 865.54238
A35: 構成比 | C35: 0.11265451 | D35: 0.040687897 | E35: 0.84665759 | F35: 0.81136227 | G35: 0.79926557 | H35: 0.012096698 | I35: 0.91192008 | J35: 0.035295324 | K35: 0.052784595
A36: がれき類 | B36: 58887.362 | C36: 290.83997 | D36: 698.96665 | E36: 57897.555 | F36: 57213.459 | G36: 56254.335 | H36: 959.12344 | I36: 56545.175 | J36: 684.09612 | K36: 1658.0901
A37: 構成比 | C37: 0.00493892 | D37: 0.011869553 | E37: 0.98319153 | F37: 0.9715745 | G37: 0.95528708 | H37: 0.016287424 | I37: 0.960226 | J37: 0.011617028 | K37: 0.028156977
A38: 動物のふん尿 | B38: 85433.752 | C38: 71764.352 | D38: 25.630126 | E38: 13643.77 | F38: 9763.9433 | G38: 9747.5735 | H38: 16.369874 | I38: 81511.925 | J38: 3879.8268 | K38: 42
A39: 構成比 | C39: 0.84 | D39: 0.0003 | E39: 0.1597 | F39: 0.11428672 | G39: 0.11409511 | H39: 0.00019160898 | I39: 0.95409511 | J39: 0.045413279 | K39: 0.00049160898
A40: 動物の死体 | B40: 152.79504 | C40: 11.002701 | D40: 1.9440487 | E40: 139.84829 | F40: 78.390257 | G40: 60.898747 | H40: 17.491509 | I40: 71.901448 | J40: 61.458033 | K40: 19.435558
A41: 構成比 | C41: 0.072009543 | D41: 0.012723245 | E41: 0.91526721 | F41: 0.5130419 | G41: 0.39856495 | H41: 0.11447695 | I41: 0.47057449 | J41: 0.40222532 | K41: 0.12720019
A42: ば い じ ん | B42: 15137.715 | C42: 1651.9554 | D42: 1913.2371 | E42: 11572.522 | F42: 9155.1824 | G42: 8992.2509 | H42: 162.93144 | I42: 10644.206 | J42: 2417.34 | K42: 2076.1686
A43: 構成比 | C43: 0.10912846 | D43: 0.12638877 | E43: 0.76448278 | F43: 0.60479289 | G43: 0.59402961 | H43: 0.010763278 | I43: 0.70315807 | J43: 0.15968989 | K43: 0.13715205
A44: 合計 | B44: 379136.96 | C44: 83456.124 | D44: 5821.6907 | E44: 289859.14 | F44: 131393.44 | G44: 124112.99 | H44: 7280.448 | I44: 207569.11 | J44: 158465.71 | K44: 13102.139
A45: 構成比 | C45: 0.22012131 | D45: 0.015355113 | E45: 0.76452358 | F45: 0.3465593 | G45: 0.32735661 | H45: 0.019202686 | I45: 0.54747792 | J45: 0.41796428 | K45: 0.034557799
A46: ※各廃棄物の産業廃棄物排出量は、四捨五入してあるため合算した値は合計値と異なる。

Sheet 表－資・Ⅱ・１（１）
A1: 表－資・Ⅱ・１（１） 活動量指標全国合計値
A2: （旧産業分類（平成14年3月改訂版）の業種区分）
A3: 大分類 | B3: 番 号 | C3: 産業分類 | D3: コード | E3: 単位 | F3: 平成17年度 | G3: 平成18年度 | H3: 平成19年度 | I3: 平成20年度 | J3: 平成21年度 | K3: 平成22年度 | L3: 平成23年度 | M3: 平成24年度
A4: 農 業 | C4: 農業大分類 | D4: A
B5: 1 | C5: 耕種農業 | D5: A011 | E5: a | F5: 4468785.7 | G5: 4440982.5 | H5: 4431370.7 | I5: 4421759 | J5: 4196989 | K5: 4359500 | L5: =[3]H23活動指標!BB9 -> 3999583.6 | M5: ='表－資・Ⅱ・１（４）'!BA6 -> 3933780.3
B6: 2 | C6: 畜産農業 | D6: A012
B7: 3 | C7: 上記以外の農業
A8: 林 業 | B8: 4 | C8: 林業大分類 | D8: B | E8: 人 | F8: 27197.2 | G8: 26123 | H8: 25048.8 | I8: 23974.6 | J8: 61144 | K8: 67404.667 | L8: =[3]H23活動指標!BB11 -> 43403 | M8: ='表－資・Ⅱ・１（４）'!BA8 -> 65118.033
A9: 漁 業 | C9: 漁業大分類 | D9: C | E9: 人
B10: 5 | C10: 漁 業 | D10: C03 | E10: 人 | F10: 25277.8 | G10: 24222 | H10: 23054.8 | I10: 21901.6 | J10: 30194 | K10: 31955.333 | L10: =[3]H23活動指標!BB14 -> 26533 | M10: ='表－資・Ⅱ・１（４）'!BA11 -> 31559.867
B11: 6 | C11: 水産養殖業 | D11: C04 | E11: 人 | F11: 13928.8 | G11: 13304 | H11: 12815.8 | I11: 12327.6 | J11: 18153 | K11: 19544.333 | L11: =[3]H23活動指標!BB15 -> 15544 | M11: ='表－資・Ⅱ・１（４）'!BA12 -> 19205.267
A12: 鉱 業 | B12: 7 | C12: 鉱業 | D12: D | E12: 人 | F12: 36245 | G12: 33527 | H12: 30809 | I12: 28091 | J12: 30710 | K12: 30009.082 | L12: =[3]H23活動指標!BB16 -> 21406 | M12: ='表－資・Ⅱ・１（４）'!BA13 -> 22365.041
A13: 建設業 | B13: 8 | C13: 建設業 | D13: E | E13: 百万円 | F13: 53685760 | G13: 53276519 | H13: 52176284 | I13: 51812976 | J13: 45476653 | K13: 46996633 | L13: =[3]H23活動指標!BB17 -> 46524164 | M13: ='表－資・Ⅱ・１（４）'!BA14 -> 48927613
A14: 製造業 | C14: 製造業大分類 | D14: F
B15: 9 | C15: 食料品製造業 | D15: F9 | E15: 百万円 | F15: 22868629 | G15: 22673234 | H15: 24196345 | I15: 25090495 | J15: 24578723 | K15: 24200513 | L15: =[3]H23活動指標!BB19 -> 24144891 | M15: ='表－資・Ⅱ・１（４）'!BA16 -> 24301989
B16: 10 | C16: 飲料・たばこ・飼料製造業 | D16: F10 | E16: 百万円 | F16: 9697875 | G16: 9596712 | H16: 10243532 | I16: 9989766 | J16: 10058553 | K16: 9660295.1 | L16: =[3]H23活動指標!BB20 -> 9275450.5 | M16: ='表－資・Ⅱ・１（４）'!BA17 -> 9615436.9
B17: 11 | C17: 繊維工業 | D17: F11 | E17: 百万円 | F17: 2235693 | G17: 2181499 | H17: 2216679 | I17: 4877952 | J17: 4022247 | K17: 3928682.5 | L17: =[3]H23活動指標!BB21 -> 3955597.6 | M17: ='表－資・Ⅱ・１（４）'!BA18 -> 3922821.4
B18: 12 | C18: 衣服・その他の繊維製品製造業 | D18: F12 | E18: 百万円 | F18: 2108053 | G18: 2008855 | H18: 2076464
B19: 13 | C19: 木材・木製品製造業 | D19: F13 | E19: 百万円 | F19: 2540529 | G19: 2502482 | H19: 2709886 | I19: 2647439 | J19: 2167854 | K19: 2193308.7 | L19: =[3]H23活動指標!BB22 -> 2202038.9 | M19: ='表－資・Ⅱ・１（４）'!BA19 -> 2223302.9
B20: 14 | C20: 家具・装備品製造業 | D20: F14 | E20: 百万円 | F20: 2165642 | G20: 2157784 | H20: 2270254 | I20: 2187469 | J20: 1758929 | K20: 1677023.4 | L20: =[3]H23活動指標!BB23 -> 1673939 | M20: ='表－資・Ⅱ・１（４）'!BA20 -> 1730851
B21: 15 | C21: パルプ・紙・紙加工品製造業 | D21: F15 | E21: 百万円 | F21: 7055017 | G21: 7201471 | H21: 7660000 | I21: 7832638 | J21: 7103012 | K21: 7137199.2 | L21: =[3]H23活動指標!BB24 -> 6856477.4 | M21: ='表－資・Ⅱ・１（４）'!BA21 -> 6814766.4
B22: 16 | C22: 印刷・同関連業 | D22: F16 | E22: 百万円 | F22: 6968930 | G22: 6855819 | H22: 6982336 | I22: 6903687 | J22: 6320513 | K22: 6199769.3 | L22: =[3]H23活動指標!BB25 -> 5548877.4 | M22: ='表－資・Ⅱ・１（４）'!BA22 -> 5481652.4
B23: 17 | C23: 化学工業 | D23: F17 | E23: 百万円 | F23: 25073694 | G23: 26199536 | H23: 28293937 | I23: 28172300 | J23: 24311153 | K23: 26198134 | L23: =[3]H23活動指標!BB26 -> 26351179 | M23: ='表－資・Ⅱ・１（４）'!BA23 -> 26045603
B24: 18 | C24: 石油製品・石炭製品製造業 | D24: F18 | E24: 百万円 | F24: 13432316 | G24: 15682034 | H24: 13701424 | I24: 14026301 | J24: 10506512 | K24: 15004266 | L24: =[3]H23活動指標!BB27 -> 16545757 | M24: ='表－資・Ⅱ・１（４）'!BA24 -> 17172068
B25: 19 | C25: プラスチック製品製造業 | D25: F19 | E25: 百万円 | F25: 10931020 | G25: 11411576 | H25: 12398945 | I25: 12171415 | J25: 10134367 | K25: 10983212 | L25: =[3]H23活動指標!BB28 -> 10970475 | M25: ='表－資・Ⅱ・１（４）'!BA25 -> 11106061
B26: 20 | C26: ゴム製品製造業 | D26: F20 | E26: 百万円 | F26: 3102287 | G26: 3295111 | H26: 3534592 | I26: 3508612 | J26: 2667493 | K26: 3046168.2 | L26: =[3]H23活動指標!BB29 -> 3058431.7 | M26: ='表－資・Ⅱ・１（４）'!BA26 -> 3177734.3
B27: 21 | C27: なめし革・同製品・毛皮製造業 | D27: F21 | E27: 百万円 | F27: 483893.52 | G27: 467003 | H27: 499374 | I27: 495843 | J27: 413847 | K27: 380128.57 | L27: =[3]H23活動指標!BB30 -> 375924.7 | M27: ='表－資・Ⅱ・１（４）'!BA27 -> 344068.14
B28: 22 | C28: 窯業・土石製品製造業 | D28: F22 | E28: 百万円 | F28: 7529959 | G28: 7756927 | H28: 8492263 | I28: 8268369 | J28: 6848525 | K28: 7177531.8 | L28: =[3]H23活動指標!BB31 -> 7252675.1 | M28: ='表－資・Ⅱ・１（４）'!BA28 -> 6831066.1
B29: 23 | C29: 鉄鋼業 | D29: F23 | E29: 百万円 | F29: 16985362 | G29: 18472704 | H29: 21191653 | I29: 24372807 | J29: 16019441 | K29: 18131900 | L29: =[3]H23活動指標!BB32 -> 18665601 | M29: ='表－資・Ⅱ・１（４）'!BA29 -> 18012099
B30: 24 | C30: 非鉄金属製造業 | D30: F24 | E30: 百万円 | F30: 6730733.9 | G30: 8698059 | H30: 10770522 | I30: 10508603 | J30: 6957920 | K30: 8873969 | L30: =[3]H23活動指標!BB33 -> 9073807.9 | M30: ='表－資・Ⅱ・１（４）'!BA30 -> 8969612.5
B31: 25 | C31: 金属製品製造業 | D31: F25 | E31: 百万円 | F31: 14077529 | G31: 14451018 | H31: 15188870 | I31: 15501830 | J31: 12700920 | K31: 12546134 | L31: =[3]H23活動指標!BB34 -> 12127690 | M31: ='表－資・Ⅱ・１（４）'!BA31 -> 12860722
B32: 26 | C32: 一般機械器具製造業 | D32: F26 | E32: 百万円 | F32: 31435677 | G32: 33331310 | H32: 36273367 | I32: 汎用、生産、業務 | J32: 汎用、生産、業務 | K32: 汎用、生産、業務
B33: 27 | C33: 電気機械器具製造業 | D33: F27 | E33: 百万円 | F33: 18762509 | G33: 19663274 | H33: 21065598 | I33: 45487203 | J33: 33130921 | K33: 34635315 | L33: =[3]H23活動指標!BB35+[3]H23活動指標!BB36+[3]H23活動指標!BB37 -> 32249506 | M33: ='表－資・Ⅱ・１（４）'!BA32+'表－資・Ⅱ・１（４）'!BA33+'表－資・Ⅱ・１（４）'!BA34 -> 33081622
B34: 28 | C34: 情報通信機械器具製造業 | D34: F28 | E34: 百万円 | F34: 11573464 | G34: 12495990 | H34: 13324997 | I34: 電子、電気、情報 | J34: 電子、電気、情報 | K34: 電子、電気、情報
B35: 29 | C35: 電子部品・デバイス製造業 | D35: F29 | E35: 百万円 | F35: 18782182 | G35: 19004116 | H35: 20935923 | I35: 51986165 | J35: 40137981 | K35: 44331579 | L35: =[3]H23活動指標!BB38+[3]H23活動指標!BB39+[3]H23活動指標!BB40 -> 40327703 | M35: ='表－資・Ⅱ・１（４）'!BA35+'表－資・Ⅱ・１（４）'!BA36+'表－資・Ⅱ・１（４）'!BA37 -> 36797797
B36: 30 | C36: 輸送用機械器具製造業 | D36: F30 | E36: 百万円 | F36: 54414305 | G36: 59835574 | H36: 63910025 | I36: 63835119 | J36: 47238029 | K36: 54226046 | L36: =[3]H23活動指標!BB41 -> 50586950 | M36: ='表－資・Ⅱ・１（４）'!BA38 -> 56485808
B37: 31 | C37: 精密機械器具製造業 | D37: F31 | E37: 百万円 | F37: 3828206 | G37: 4073138 | H37: 4274101
B38: 32 | C38: その他の製造業 | D38: F32 | E38: 百万円 | F38: 4327952 | G38: 4501305 | H38: 4545546 | L38: =[3]H23活動指標!BB42 -> 3725782.2 | M38: ='表－資・Ⅱ・１（４）'!BA39 -> 3752559.2
A39: 電気･ガス | C39: 電気・ガス・熱供給・水道業大分類 | D39: G
A40: ･熱供給･ | B40: 33 | C40: 電気業 | D40: G33 | E40: 人 | F40: 140053.8 | G40: 135788 | H40: 131522.2 | I40: 127256.4 | J40: 148753 | K40: 153057.72 | L40: =[3]H23活動指標!BB44 -> 141957 | M40: ='表－資・Ⅱ・１（４）'!BA41 -> 154857.66
A41: 水道業 | B41: 34 | C41: ガス業 | D41: G34 | E41: 人 | F41: 36826.4 | G41: 34850 | H41: 32873.6 | I41: 30897.2 | J41: 37598 | K41: 38605.107 | L41: =[3]H23活動指標!BB45 -> 35588 | M41: ='表－資・Ⅱ・１（４）'!BA42 -> 39441.953
B42: 35 | C42: 熱供給業 | D42: G35 | E42: 人 | F42: 2367.4 | G42: 2490 | H42: 2614.4 | I42: 2738.8 | J42: 2613 | K42: 2580.5914 | L42: =[3]H23活動指標!BB46 -> 2011 | M42: ='表－資・Ⅱ・１（４）'!BA43 -> 1937.9957
B43: 36 | C43: 上水道業 | D43: G361 | E43: 人 | F43: 124789780 | G43: 124363085 | H43: 124576909 | I43: 124743531 | J43: 124796337 | K43: 124817005 | L43: =[3]H23活動指標!BB47 -> 124657159 | M43: ='表－資・Ⅱ・１（４）'!BA44 -> 124693896
B44: 37 | C44: 下水道業 | D44: G363 | E44: 人 | F44: 88568618 | G44: 89527635 | H44: 91089206 | I44: 92411000 | J44: 93599000 | K44: 94512000 | L44: =[3]H23活動指標!BB48 -> 95235000 | M44: ='表－資・Ⅱ・１（４）'!BA45 -> 97434000
A45: 情報通信業 | C45: 情報通信業大分類 | D45: H
B46: 38 | C46: 通信業 | D46: H37 | E46: 人 | F46: 262300.8 | G46: 253370 | H46: 244439.2 | I46: 235508.4 | J46: 192861 | K46: 182904.39 | L46: =[3]H23活動指標!BB50 -> 196034 | M46: ='表－資・Ⅱ・１（４）'!BA47 -> 170784.09
B47: 39 | C47: 放送業 | D47: H38 | E47: 人 | F47: 65720.4 | G47: 65291 | H47: 64861.6 | I47: 64432.2 | J47: 72194 | K47: 74497.188 | L47: =[3]H23活動指標!BB51 -> 68217 | M47: ='表－資・Ⅱ・１（４）'!BA48 -> 73249.494
B48: 40 | C48: 情報サービス業 | D48: H39 | E48: 人 | F48: 936885.4 | G48: 961770 | H48: 986654.6 | I48: 1011539.2 | J48: 1108899 | K48: 1157929 | L48: =[3]H23活動指標!BB52 -> 1044785 | M48: ='表－資・Ⅱ・１（４）'!BA49 -> 1117979.9
B49: 41 | C49: インターネット付随サービス業 | D49: H40 | E49: 人 | F49: 39271.8 | G49: 47021 | H49: 54770.2 | I49: 62519.4 | J49: 64936 | K49: 70953.328 | L49: =[3]H23活動指標!BB53 -> 53201 | M49: ='表－資・Ⅱ・１（４）'!BA50 -> 57580.364
B50: 42 | C50: 映像・音声・文字情報制作業 | D50: H41 | E50: 人 | F50: 263135.2 | G50: 265191 | H50: 267246.8 | I50: 269302.6 | J50: 286088 | K50: 293051.76 | L50: =[3]H23活動指標!BB54 -> 248970 | M50: ='表－資・Ⅱ・１（４）'!BA51 -> 260844.58
A51: 運輸業 | C51: 運輸業大分類 | D51: I
B52: 43 | C52: 鉄道業 | D52: I42 | E52: 人 | F52: 217004 | G52: 211963 | H52: 206922 | I52: 201881 | J52: 275173 | K52: 296386.38 | L52: =[3]H23活動指標!BB56 -> 261271 | M52: ='表－資・Ⅱ・１（４）'!BA53 -> 281067.67
B53: 44 | C53: 道路旅客運送業 | D53: I43 | E53: 人 | F53: 598691 | G53: 595807 | H53: 592923 | I53: 590039 | J53: 621855 | K53: 630535.61 | L53: =[3]H23活動指標!BB57 -> 563476 | M53: ='表－資・Ⅱ・１（４）'!BA54 -> 583724.3
B54: 45 | C54: 道路貨物運送業 | D54: I44 | E54: 人 | F54: 1532484.4 | G54: 1530488 | H54: 1528491.6 | I54: 1526495.2 | J54: 1793269 | K54: 1880854.9 | L54: =[3]H23活動指標!BB58 -> 1532188 | M54: ='表－資・Ⅱ・１（４）'!BA55 -> 1709367.8
B55: 46 | C55: 上記以外の運輸通信業 | F55: 578130 | G55: 575868 | H55: 573606 | I55: 571344 | J55: 0 | K55: 0 | L55: =[3]H23活動指標!BB59 -> 925355 | M55: ='表－資・Ⅱ・１（４）'!BA56 -> 1043358.7
A56: 卸売・小売業 | C56: 卸売・小売業大分類 | D56: J
B57: 47 | C57: 各種商品卸売業 | D57: J49 | E57: 人 | F57: 40646 | G57: 39520 | H57: 38503.8 | I57: 37537.6 | J57: 37936 | K57: 40915.658 | L57: =[3]H23活動指標!BB61 -> 41092 | M57: ='表－資・Ⅱ・１（４）'!BA58 -> 43629.629
B58: 48 | C58: 各種商品小売業 | D58: J55 | E58: 人 | F58: 646798.6 | G58: 627140 | H58: 607481.4 | I58: 587822.8 | J58: 691825.74 | K58: 705483.8 | L58: =[3]H23活動指標!BB63 -> 375848 | M58: ='表－資・Ⅱ・１（４）'!BA60 -> 407804.77
B59: 49 | C59: 自動車小売業 | D59: J571 | E59: 人 | F59: 634183.4 | G59: 628997 | H59: 591980.6 | I59: 581489.2 | J59: 636711 | K59: 648121.38 | L59: =[3]H23活動指標!BB64 -> 538840 | M59: ='表－資・Ⅱ・１（４）'!BA61 -> 572156.09
B60: 50 | C60: 家具・じゅう器・機械器具小売業 | D60: J59 | E60: 人 | F60: 549012.8 | G60: 534976 | H60: 520939.2 | I60: 506902.4 | J60: 557085 | K60: 564452.69 | L60: =[3]H23活動指標!BB66+[3]H23活動指標!BB67+[3]H23活動指標!BB65 -> 463070 | M60: ='表－資・Ⅱ・１（４）'!BA63+'表－資・Ⅱ・１（４）'!BA64+'表－資・Ⅱ・１（４）'!BA62 -> 518404.83
B61: 51 | C61: 燃料小売業 | D61: J603 | E61: 人 | F61: 425487.4 | G61: 408439 | H61: 391390.6 | I61: 374342.2 | J61: 394418 | K61: 389742.39 | L61: =[3]H23活動指標!BB68 -> 339244 | M61: ='表－資・Ⅱ・１（４）'!BA65 -> 346944.1
B62: 52 | C62: 上記以外の卸売・小売業・飲食店小売業
A63: 飲食店、宿泊業 | C63: 飲食店、宿泊業大分類 | D63: M
B64: 53 | C64: 一般飲食店 | D64: M70 | E64: 人 | F64: 2882563 | G64: 2870766 | H64: 2858969 | I64: 2847172 | J64: 4421927 | K64: 4939103.9 | L64: =[3]H23活動指標!BB74 -> 4201979 | M64: ='表－資・Ⅱ・１（４）'!BA71 -> 4653581.3
B65: 54 | C65: 上記以外の飲食店、宿泊業
A66: 医療、福祉 | C66: 医療、福祉大分類 | D66: N
B67: 55 | C67: 医療業 | D67: N73 | E67: 床 | F67: 1811181 | G67: 1786649 | H67: 1768153 | I67: 1751842 | J67: 1743293 | K67: 1730215 | L67: =[3]H23活動指標!BB78 -> 1712439 | M67: ='表－資・Ⅱ・１（４）'!BA75 -> 1703853
B68: 56 | C68: 上記以外の医療、福祉
A69: 教育、学習支援業 | B69: 57 | C69: 教育、学習支援業大分類 | D69: O | E69: 人 | F69: 2914371.8 | G69: 2939730 | H69: 2965088.2 | I69: 2990446.4 | J69: 3086902 | K69: 3135750.1 | L69: =[3]H23活動指標!BB88 -> 2992400 | M69: ='表－資・Ⅱ・１（４）'!BA85 -> 2993051.2
A70: 複合サービス事業 | B70: 58 | C70: 複合サービス事業大分類 | D70: P | E70: 人 | F70: 715938.4 | G70: 706584 | H70: 697229.6 | I70: 687875.2 | J70: 406970 | K70: 369603.55 | L70: =[3]H23活動指標!BB89 -> 342426 | M70: ='表－資・Ⅱ・１（４）'!BA86 -> 315248.45
A71: サービス業 | C71: サービス業大分類 | D71: Q
B72: 59 | C72: 写真業 | D72: Q808 | E72: 人 | F72: 70036.2 | G72: 54047 | H72: 51621.8 | I72: 49196.6 | J72: 53803 | K72: 53720.858 | L72: =[3]H23活動指標!BB71 -> 48716 | M72: ='表－資・Ⅱ・１（４）'!BA68 -> 48555.8
B73: 60 | C73: 学術開発研究機関 | D73: Q81 | E73: 人 | F73: 277370.2 | G73: 275745 | H73: 274141.4 | I73: 272537.8 | J73: 303752 | K73: 312190.91 | L73: =[3]H23活動指標!BB72 -> 252841 | M73: ='表－資・Ⅱ・１（４）'!BA69 -> 247821
B74: 61 | C74: 洗濯業 | D74: Q821 | E74: 人 | F74: 373811 | G74: 367678 | H74: 361460 | I74: 355242 | J74: 385042 | K74: 390823.12 | L74: =[3]H23活動指標!BB76 -> 365401 | M74: ='表－資・Ⅱ・１（４）'!BA73 -> 383191.56
B75: 62 | C75: 自動車整備業 | D75: Q86 | E75: 人 | F75: 314248.8 | G75: 313534 | H75: 312412.6 | I75: 311291.2 | J75: 272354 | K75: 258637.39 | L75: =[3]H23活動指標!BB81 -> 279646 | M75: ='表－資・Ⅱ・１（４）'!BA78 -> 269097.6
B76: 63 | C76: と蓄場 | D76: Q932 | E76: 人 | F76: 2884 | G76: 2949 | H76: 3015 | I76: 3081 | J76: 4052 | K76: 4311.5134 | L76: =[3]H23活動指標!BB82 -> 2477 | M76: ='表－資・Ⅱ・１（４）'!BA79 -> 3114.9567
E77: （頭） | F77: 1236762 | G77: 1216289 | H77: 1207084 | I77: 1237578 | J77: 1227764 | K77: 1218663 | L77: =[3]H23活動指標!BB83 -> 1174221 | M77: ='表－資・Ⅱ・１（４）'!BA80 -> 1199510
B78: 64 | C78: 上記以外のサービス業
A79: 公 務 | B79: 65 | C79: 公務大分類 | D79: R | E79: 人 | F79: 1857147.4 | G79: 1852111 | H79: 1847074.6 | I79: 1842038.2 | J79: 1868690 | K79: 1874179.3 | L79: =[3]H23活動指標!BB85 -> 2187800 | M79: ='表－資・Ⅱ・１（４）'!BA82 -> 2203870.5

Sheet 表－資・Ⅱ・１（２）
A1: 表－資・Ⅱ・１（２） 活動量指標全国合計値
A2: （新産業分類（平成19年3月改訂版）の業種区分）
A3: 大分類 | B3: 番 号 | C3: 産業分類 | D3: コード | E3: 単位 | F3: 平成17年度 | G3: 平成18年度 | H3: 平成19年度 | I3: 平成20年度 | J3: 平成21年度 | K3: 平成22年度 | L3: 平成23年度 | M3: 平成24年度
A4: 農業・林業 | C4: 農業大分類 | D4: A
B5: 1 | C5: 耕種農業 | D5: A011 | E5: a | F5: 4468785.7 | G5: 4440982.5 | H5: 4431370.7 | I5: 4421759 | J5: 4196989 | K5: 4359500 | L5: =[3]H23活動指標!BB9 -> 3999583.6 | M5: ='表－資・Ⅱ・１（４）'!BA6 -> 3933780.3
B6: 2 | C6: 畜産農業 | D6: A012 | E6: 頭羽 | M6: -
B7: 4 | C7: 林業大分類 | D7: B | E7: 人 | F7: 27197.2 | G7: 26123 | H7: 25048.8 | I7: 23974.6 | J7: 61144 | K7: 67404.667 | L7: =[3]H23活動指標!BB11 -> 43403 | M7: ='表－資・Ⅱ・１（４）'!BA8 -> 65118.033
B8: 3 | C8: 上記以外の農業・林業
A9: 漁 業 | C9: 漁業大分類 | D9: C | E9: 人
B10: 5 | C10: 漁 業 | D10: C03 | E10: 人 | F10: 25277.8 | G10: 24222 | H10: 23054.8 | I10: 21901.6 | J10: 30194 | K10: 31955.333 | L10: =[3]H23活動指標!BB14 -> 26533 | M10: ='表－資・Ⅱ・１（４）'!BA11 -> 31559.867
B11: 6 | C11: 水産養殖業 | D11: C04 | E11: 人 | F11: 13928.8 | G11: 13304 | H11: 12815.8 | I11: 12327.6 | J11: 18153 | K11: 19544.333 | L11: =[3]H23活動指標!BB15 -> 15544 | M11: ='表－資・Ⅱ・１（４）'!BA12 -> 19205.267
A12: 鉱業、採石業、砂利採取業 | B12: 7 | C12: 鉱業、採石業、砂利採取業 | D12: D | E12: 人 | F12: 36245 | G12: 33527 | H12: 30809 | I12: 28091 | J12: 30710 | K12: 30009.082 | L12: =[3]H23活動指標!BB16 -> 21406 | M12: ='表－資・Ⅱ・１（４）'!BA13 -> 22365.041
A13: 建設業 | B13: 8 | C13: 建設業 | D13: E | E13: 百万円 | F13: 53685760 | G13: 53276519 | H13: 52176284 | I13: 51812976 | J13: 45476653 | K13: 46996633 | L13: =[3]H23活動指標!BB17 -> 46524164 | M13: ='表－資・Ⅱ・１（４）'!BA14 -> 48927613
A14: 製造業 | C14: 製造業大分類 | D14: F
B15: 9 | C15: 食料品製造業 | D15: F9 | E15: 百万円 | F15: 22868629 | G15: 22673234 | H15: 24196345 | I15: 25090495 | J15: 24578723 | K15: 24200513 | L15: =[3]H23活動指標!BB19 -> 24144891 | M15: ='表－資・Ⅱ・１（４）'!BA16 -> 24301989
B16: 10 | C16: 飲料・たばこ・飼料製造業 | D16: F10 | E16: 百万円 | F16: 9697875 | G16: 9596712 | H16: 10243532 | I16: 9989766 | J16: 10058553 | K16: 9660295.1 | L16: =[3]H23活動指標!BB20 -> 9275450.5 | M16: ='表－資・Ⅱ・１（４）'!BA17 -> 9615436.9
B17: 11 | C17: 繊維工業 | D17: F11 | E17: 百万円 | F17: 4343746 | G17: 4190354 | H17: 4293143 | I17: 4877952 | J17: 4022247 | K17: 3928682.5 | L17: =[3]H23活動指標!BB21 -> 3955597.6 | M17: ='表－資・Ⅱ・１（４）'!BA18 -> 3922821.4
B18: 12 | C18: 木材・木製品製造業（家具を除く） | D18: F12 | E18: 百万円 | F18: 2540529 | G18: 2502482 | H18: 2709886 | I18: 2647439 | J18: 2167854 | K18: 2193308.7 | L18: =[3]H23活動指標!BB22 -> 2202038.9 | M18: ='表－資・Ⅱ・１（４）'!BA19 -> 2223302.9
B19: 13 | C19: 家具・装備品製造業 | D19: F13 | E19: 百万円 | F19: 2165642 | G19: 2157784 | H19: 2270254 | I19: 2187469 | J19: 1758929 | K19: 1677023.4 | L19: =[3]H23活動指標!BB23 -> 1673939 | M19: ='表－資・Ⅱ・１（４）'!BA20 -> 1730851
B20: 14 | C20: パルプ・紙・紙加工品製造業 | D20: F14 | E20: 百万円 | F20: 7055017 | G20: 7201471 | H20: 7660000 | I20: 7832638 | J20: 7103012 | K20: 7137199.2 | L20: =[3]H23活動指標!BB24 -> 6856477.4 | M20: ='表－資・Ⅱ・１（４）'!BA21 -> 6814766.4
B21: 15 | C21: 印刷・同関連業 | D21: F15 | E21: 百万円 | F21: 6968930 | G21: 6855819 | H21: 6982336 | I21: 6903687 | J21: 6320513 | K21: 6199769.3 | L21: =[3]H23活動指標!BB25 -> 5548877.4 | M21: ='表－資・Ⅱ・１（４）'!BA22 -> 5481652.4
B22: 16 | C22: 化学工業 | D22: F16 | E22: 百万円 | F22: 25073694 | G22: 26199536 | H22: 28293937 | I22: 28172300 | J22: 24311153 | K22: 26198134 | L22: =[3]H23活動指標!BB26 -> 26351179 | M22: ='表－資・Ⅱ・１（４）'!BA23 -> 26045603
B23: 17 | C23: 石油製品・石炭製品製造業 | D23: F17 | E23: 百万円 | F23: 13432316 | G23: 15682034 | H23: 13701424 | I23: 14026301 | J23: 10506512 | K23: 15004266 | L23: =[3]H23活動指標!BB27 -> 16545757 | M23: ='表－資・Ⅱ・１（４）'!BA24 -> 17172068
B24: 18 | C24: プラスチック製品製造業（別掲を除く） | D24: F18 | E24: 百万円 | F24: 10931020 | G24: 11411576 | H24: 12398945 | I24: 12171415 | J24: 10134367 | K24: 10983212 | L24: =[3]H23活動指標!BB28 -> 10970475 | M24: ='表－資・Ⅱ・１（４）'!BA25 -> 11106061
B25: 19 | C25: ゴム製品製造業 | D25: F19 | E25: 百万円 | F25: 3102287 | G25: 3295111 | H25: 3534592 | I25: 3508612 | J25: 2667493 | K25: 3046168.2 | L25: =[3]H23活動指標!BB29 -> 3058431.7 | M25: ='表－資・Ⅱ・１（４）'!BA26 -> 3177734.3
B26: 20 | C26: なめし革・同製品・毛皮製造業 | D26: F20 | E26: 百万円 | F26: 483893.52 | G26: 467003 | H26: 499374 | I26: 495843 | J26: 413847 | K26: 380128.57 | L26: =[3]H23活動指標!BB30 -> 375924.7 | M26: ='表－資・Ⅱ・１（４）'!BA27 -> 344068.14
B27: 21 | C27: 窯業・土石製品製造業 | D27: F21 | E27: 百万円 | F27: 7529959 | G27: 7756927 | H27: 8492263 | I27: 8268369 | J27: 6848525 | K27: 7177531.8 | L27: =[3]H23活動指標!BB31 -> 7252675.1 | M27: ='表－資・Ⅱ・１（４）'!BA28 -> 6831066.1
B28: 22 | C28: 鉄鋼業 | D28: F22 | E28: 百万円 | F28: 16985362 | G28: 18472704 | H28: 21191653 | I28: 24372807 | J28: 16019441 | K28: 18131900 | L28: =[3]H23活動指標!BB32 -> 18665601 | M28: ='表－資・Ⅱ・１（４）'!BA29 -> 18012099
B29: 23 | C29: 非鉄金属製造業 | D29: F23 | E29: 百万円 | F29: 6730733.9 | G29: 8698059 | H29: 10770522 | I29: 10508603 | J29: 6957920 | K29: 8873969 | L29: =[3]H23活動指標!BB33 -> 9073807.9 | M29: ='表－資・Ⅱ・１（４）'!BA30 -> 8969612.5
B30: 24 | C30: 金属製品製造業 | D30: F24 | E30: 百万円 | F30: 14077529 | G30: 14451018 | H30: 15188870 | I30: 15501830 | J30: 12700920 | K30: 12546134 | L30: =[3]H23活動指標!BB34 -> 12127690 | M30: ='表－資・Ⅱ・１（４）'!BA31 -> 12860722
B31: 25 | C31: はん用機械器具製造業 | D31: F25 | E31: 百万円 | I31: 12625353 | J31: 9908201 | K31: 10162173 | L31: =[3]H23活動指標!BB35 -> 10048002 | M31: ='表－資・Ⅱ・１（４）'!BA32 -> 10623791
B32: 26 | C32: 生産用機械器具製造業 | D32: F26 | E32: 百万円 | F32: 39591835 | G32: 41905753 | H32: 45093014 | I32: 19393803 | J32: 12191600 | K32: 13831242 | L32: =[3]H23活動指標!BB36 -> 15556151 | M32: ='表－資・Ⅱ・１（４）'!BA33 -> 15538575
B33: 27 | C33: 業務用機械器具製造業 | D33: F27 | E33: 百万円 | I33: 8612432 | J33: 7098027 | K33: 6911489.7 | L33: =[3]H23活動指標!BB37 -> 6645352.5 | M33: ='表－資・Ⅱ・１（４）'!BA34 -> 6919256.1
B34: 28 | C34: 電子部品・デバイス・電子回路製造業 | D34: F28 | E34: 百万円 | I34: 20579437 | J34: 14902077 | K34: 16614000 | L34: =[3]H23活動指標!BB38 -> 15536102 | M34: ='表－資・Ⅱ・１（４）'!BA35 -> 13143253
B35: 29 | C35: 電気機械器具製造業 | D35: F29 | E35: 百万円 | F35: 49118155 | G35: 51163380 | H35: 55326518 | I35: 16916453 | J35: 13772134 | K35: 15162882 | L35: =[3]H23活動指標!BB39 -> 14667987 | M35: ='表－資・Ⅱ・１（４）'!BA36 -> 14982669
B36: 30 | C36: 情報通信機械器具製造業 | D36: F30 | E36: 百万円 | I36: 14490275 | J36: 11463770 | K36: 12554697 | L36: =[3]H23活動指標!BB40 -> 10123614 | M36: ='表－資・Ⅱ・１（４）'!BA37 -> 8671875.7
B37: 31 | C37: 輸送用機械器具製造業 | D37: F31 | E37: 百万円 | F37: 54414305 | G37: 59835574 | H37: 63910025 | I37: 63835119 | J37: 47238029 | K37: 54226046 | L37: =[3]H23活動指標!BB41 -> 50586950 | M37: ='表－資・Ⅱ・１（４）'!BA38 -> 56485808
B38: 32 | C38: その他の製造業 | D38: F32 | E38: 百万円 | I38: 4855615 | J38: 3933093 | K38: 3730411.1 | L38: =[3]H23活動指標!BB42 -> 3725782.2 | M38: ='表－資・Ⅱ・１（４）'!BA39 -> 3752559.2
A39: 電気･ガス | C39: 電気・ガス・熱供給・水道業大分類 | D39: G
A40: ･熱供給･ | B40: 33 | C40: 電気業 | D40: G33 | E40: 人 | F40: 140053.8 | G40: 135788 | H40: 131522.2 | I40: 127256.4 | J40: 148753 | K40: 153057.72 | L40: =[3]H23活動指標!BB44 -> 141957 | M40: ='表－資・Ⅱ・１（４）'!BA41 -> 154857.66
A41: 水道業 | B41: 34 | C41: ガス業 | D41: G34 | E41: 人 | F41: 36826.4 | G41: 34850 | H41: 32873.6 | I41: 30897.2 | J41: 37598 | K41: 38605.107 | L41: =[3]H23活動指標!BB45 -> 35588 | M41: ='表－資・Ⅱ・１（４）'!BA42 -> 39441.953
B42: 35 | C42: 熱供給業 | D42: G35 | E42: 人 | F42: 2367.4 | G42: 2490 | H42: 2614.4 | I42: 2738.8 | J42: 2613 | K42: 2580.5914 | L42: =[3]H23活動指標!BB46 -> 2011 | M42: ='表－資・Ⅱ・１（４）'!BA43 -> 1937.9957
B43: 36 | C43: 上水道業 | D43: G361 | E43: 人 | F43: 124789780 | G43: 124363085 | H43: 124576909 | I43: 124743531 | J43: 124796337 | K43: 124817005 | L43: =[3]H23活動指標!BB47 -> 124657159 | M43: ='表－資・Ⅱ・１（４）'!BA44 -> 124693896
B44: 37 | C44: 下水道業 | D44: G363 | E44: 人 | F44: 88568618 | G44: 89527635 | H44: 91089206 | I44: 92411000 | J44: 93599000 | K44: 94512000 | L44: =[3]H23活動指標!BB48 -> 95235000 | M44: ='表－資・Ⅱ・１（４）'!BA45 -> 97434000
A45: 情報通信業 | C45: 情報通信業大分類 | D45: H
B46: 38 | C46: 通信業 | D46: H37 | E46: 人 | F46: 262300.8 | G46: 253370 | H46: 244439.2 | I46: 235508.4 | J46: 192861 | K46: 182904.39 | L46: =[3]H23活動指標!BB50 -> 196034 | M46: ='表－資・Ⅱ・１（４）'!BA47 -> 170784.09
B47: 39 | C47: 放送業 | D47: H38 | E47: 人 | F47: 65720.4 | G47: 65291 | H47: 64861.6 | I47: 64432.2 | J47: 72194 | K47: 74497.188 | L47: =[3]H23活動指標!BB51 -> 68217 | M47: ='表－資・Ⅱ・１（４）'!BA48 -> 73249.494
B48: 40 | C48: 情報サービス業 | D48: H39 | E48: 人 | F48: 936885.4 | G48: 961770 | H48: 986654.6 | I48: 1011539.2 | J48: 1108899 | K48: 1157929 | L48: =[3]H23活動指標!BB52 -> 1044785 | M48: ='表－資・Ⅱ・１（４）'!BA49 -> 1117979.9
B49: 41 | C49: インターネット付随サービス業 | D49: H40 | E49: 人 | F49: 39271.8 | G49: 47021 | H49: 54770.2 | I49: 62519.4 | J49: 64936 | K49: 70953.328 | L49: =[3]H23活動指標!BB53 -> 53201 | M49: ='表－資・Ⅱ・１（４）'!BA50 -> 57580.364
B50: 42 | C50: 映像・音声・文字情報制作業 | D50: H41 | E50: 人 | F50: 263135.2 | G50: 265191 | H50: 267246.8 | I50: 269302.6 | J50: 286088 | K50: 293051.76 | L50: =[3]H23活動指標!BB54 -> 248970 | M50: ='表－資・Ⅱ・１（４）'!BA51 -> 260844.58
A51: 運輸業、郵便業 | C51: 運輸業大分類 | D51: I
B52: 43 | C52: 鉄道業 | D52: I42 | E52: 人 | F52: 217004 | G52: 211963 | H52: 206922 | I52: 201881 | J52: 275173 | K52: 296386.38 | L52: =[3]H23活動指標!BB56 -> 261271 | M52: ='表－資・Ⅱ・１（４）'!BA53 -> 281067.67
B53: 44 | C53: 道路旅客運送業 | D53: I43 | E53: 人 | F53: 598691 | G53: 595807 | H53: 592923 | I53: 590039 | J53: 621855 | K53: 630535.61 | L53: =[3]H23活動指標!BB57 -> 563476 | M53: ='表－資・Ⅱ・１（４）'!BA54 -> 583724.3
B54: 45 | C54: 道路貨物運送業 | D54: I44 | E54: 人 | F54: 1532484.4 | G54: 1530488 | H54: 1528491.6 | I54: 1526495.2 | J54: 1793269 | K54: 1880854.9 | L54: =[3]H23活動指標!BB58 -> 1532188 | M54: ='表－資・Ⅱ・１（４）'!BA55 -> 1709367.8
B55: 46 | C55: 上記以外の運輸通信業 | E55: 人 | M55: -
A56: 卸売・小売業 | C56: 卸売・小売業大分類 | D56: J
B57: 47 | C57: 各種商品卸売業 | D57: J49 | E57: 人 | F57: 40646 | G57: 39520 | H57: 38503.8 | I57: 37537.6 | J57: 37936 | K57: 40915.658 | L57: =[3]H23活動指標!BB61 -> 41092 | M57: ='表－資・Ⅱ・１（４）'!BA58 -> 43629.629
B58: 48 | C58: 木材・竹材・卸売業 | E58: 人 | I58: 53015.854 | J58: 55114.74 | K58: 57362.421 | L58: =[3]H23活動指標!BB62 -> 39233 | M58: ='表－資・Ⅱ・１（４）'!BA59 -> 41406.284
B59: 49 | C59: 各種商品小売業 | D59: J55 | E59: 人 | F59: 634183.4 | G59: 628997 | H59: 591980.6 | I59: 587822.8 | J59: 640122 | K59: 647042.34 | L59: =[3]H23活動指標!BB63 -> 375848 | M59: ='表－資・Ⅱ・１（４）'!BA60 -> 407804.77
B60: 50 | C60: 自動車小売業 | D60: J571 | E60: 人 | F60: 549012.8 | G60: 534976 | H60: 520939.2 | I60: 581489.2 | J60: 636711 | K60: 648121.38 | L60: =[3]H23活動指標!BB64 -> 538840 | M60: ='表－資・Ⅱ・１（４）'!BA61 -> 572156.09
B61: 51 | C61: 機械器具小売業 | E61: 人 | I61: 119737.2 | J61: 297765 | K61: 298466.01 | L61: =[3]H23活動指標!BB65 -> 284007 | M61: ='表－資・Ⅱ・１（４）'!BA62 -> 338763.6
B62: 52 | C62: 家具・建具・畳小売業 | D62: J59 | E62: 人 | F62: 549012.8 | G62: 534976 | H62: 520939.2 | I62: 286889.8 | J62: 122522 | K62: 120126.94 | L62: =[3]H23活動指標!BB66 -> 97913 | M62: ='表－資・Ⅱ・１（４）'!BA63 -> 75699.061
B63: 53 | C63: じゅう器小売業 | E63: 人 | I63: 100275.4 | J63: 136798 | K63: 145859.74 | L63: =[3]H23活動指標!BB67 -> 81150 | M63: ='表－資・Ⅱ・１（４）'!BA64 -> 103942.17
B64: 54 | C64: 燃料小売業 | D64: J603 | E64: 人 | F64: 425487.4 | G64: 408439 | H64: 391390.6 | I64: 374342.2 | J64: 394418 | K64: 389742.39 | L64: =[3]H23活動指標!BB68 -> 339244 | M64: ='表－資・Ⅱ・１（４）'!BA65 -> 346944.1
B65: 55 | C65: 上記以外の卸売・小売業 | E65: 人 | I65: 9946580 | K65: 10448332 | L65: =[3]H23活動指標!BB69 -> 9954310 | M65: ='表－資・Ⅱ・１（４）'!BA66 -> 9789636
A66: 不動産業，物品賃貸業 | B66: 56 | C66: 物品賃貸業 | E66: 人 | I66: 284584.2 | J66: 310812 | K66: 318927.61 | L66: =[3]H23活動指標!BB70 -> 294957 | M66: ='表－資・Ⅱ・１（４）'!BA67 -> 298414.6
A67: (L)学術研究，専門・技術サービス業 | B67: 57 | C67: 写真業 | D67: Q808 | E67: 人 | F67: 70036.2 | G67: 54047 | H67: 51621.8 | I67: 49196.6 | J67: 53803 | K67: 53720.858 | L67: =[3]H23活動指標!BB71 -> 48716 | M67: ='表－資・Ⅱ・１（４）'!BA68 -> 48555.8
B68: 58 | C68: 学術開発研究機関 | D68: Q81 | E68: 人 | F68: 277370.2 | G68: 275745 | H68: 274141.4 | I68: 272537.8 | J68: 303752 | K68: 312190.91 | L68: =[3]H23活動指標!BB72 -> 252841 | M68: ='表－資・Ⅱ・１（４）'!BA69 -> 247821
A69: 宿泊業、飲食サービス業 | C69: 飲食店、宿泊業大分類 | D69: M
B70: 59 | C70: 一般飲食店 | D70: M70 | E70: 人 | F70: 2882563 | G70: 2870766 | H70: 2858969 | I70: 2847172 | J70: 4421927 | K70: 4939103.9 | L70: =[3]H23活動指標!BB74 -> 4201979 | M70: ='表－資・Ⅱ・１（４）'!BA71 -> 4653581.3
B71: 60 | C71: 上記以外の飲食店、宿泊業 | E71: 人
A72: 生活関連サービス業，娯楽業 | B72: 61 | C72: 洗濯業 | D72: Q821 | E72: 人 | F72: 373811 | G72: 367678 | H72: 361460 | I72: 355242 | J72: 385042 | K72: 390823.12 | L72: =[3]H23活動指標!BB76 -> 365401 | M72: ='表－資・Ⅱ・１（４）'!BA73 -> 383191.56
A73: 教育、学習支援業 | B73: 66 | C73: 教育、学習支援業大分類 | D73: O | E73: 人 | F73: 2914371.8 | G73: 2939730 | H73: 2965088.2 | I73: 2990446.4 | J73: 3086902 | K73: 3135750.1 | L73: =[3]H23活動指標!BB88 -> 2992400 | M73: ='表－資・Ⅱ・１（４）'!BA85 -> 2993051.2
A74: 医療、福祉 | C74: 医療、福祉大分類 | D74: N
B75: 62 | C75: 医療業 | D75: N73 | E75: 床 | F75: 1811181 | G75: 1786649 | H75: 1768153 | I75: 1751842 | J75: 1743293 | K75: 1730215 | L75: =[3]H23活動指標!BB78 -> 1712439 | M75: ='表－資・Ⅱ・１（４）'!BA75 -> 1703853
B76: 63 | C76: 上記以外の医療、福祉 | E76: 人
A77: 複合サービス事業 | B77: 67 | C77: 複合サービス事業大分類 | D77: P | E77: 人 | F77: 715938.4 | G77: 706584 | H77: 697229.6 | I77: 687875.2 | J77: 406970 | K77: 369603.55 | L77: =[3]H23活動指標!BB89 -> 342426 | M77: ='表－資・Ⅱ・１（４）'!BA86 -> 315248.45
A78: サービス業 | C78: サービス業大分類 | D78: Q
B79: 64 | C79: 自動車整備業 | D79: Q86 | E79: 人 | F79: 314248.8 | G79: 313534 | H79: 312412.6 | I79: 311291.2 | J79: 272354 | K79: 258637.39 | L79: =[3]H23活動指標!BB81 -> 279646 | M79: ='表－資・Ⅱ・１（４）'!BA78 -> 269097.6
B80: 65 | C80: と蓄場 | D80: Q932 | E80: 人 | F80: 2884 | G80: 2949 | H80: 3015 | I80: 3081 | J80: 4052 | K80: 4311.5134 | L80: =[3]H23活動指標!BB82 -> 2477 | M80: ='表－資・Ⅱ・１（４）'!BA79 -> 3114.9567
E81: （頭） | F81: 1236762 | G81: 1216289 | H81: 1207084 | I81: 1237578 | J81: 1227764 | K81: 1218663 | L81: =[3]H23活動指標!BB83 -> 1174221 | M81: ='表－資・Ⅱ・１（４）'!BA80 -> 1199510
B82: 66 | C82: 上記以外のサービス業
A83: 公 務 | B83: 67 | C83: 公務大分類 | D83: R | E83: 人 | F83: 1857147.4 | G83: 1852111 | H83: 1847074.6 | I83: 1842038.2 | J83: 1868690 | K83: 1874179.3 | L83: =[3]H23活動指標!BB85 -> 2187800 | M83: ='表－資・Ⅱ・１（４）'!BA82 -> 2203870.5

Sheet 表－資・Ⅱ・１（４）
A1: 表－資・Ⅱ・１（４） 活動量指標（新産業分類（平成19年10月改訂版）の業種区分）（平成24年度実績値）
A3: 大分類 | B3: 番 号 | C3: 産業分類 | D3: コード | E3: 単位 | F3: 1 | G3: 2 | H3: 3 | I3: 4 | J3: 5 | K3: 6 | L3: 7 | M3: 8 | N3: 9 | O3: 10 | P3: 11 | Q3: 12 | R3: 13 | S3: 14 | T3: 15 | U3: 16 | V3: 17 | W3: 18 | X3: 19 | Y3: 20 | Z3: 21 | AA3: 22 | AB3: 23 | AC3: 24 | AD3: 25 | AE3: 26 | AF3: 27 | AG3: 28 | AH3: 29 | AI3: 30 | AJ3: 31 | AK3: 32 | AL3: 33 | AM3: 34 | AN3: 35 | AO3: 36 | AP3: 37 | AQ3: 38 | AR3: 39 | AS3: 40 | AT3: 41 | AU3: 42 | AV3: 43 | AW3: 44 | AX3: 45 | AY3: 46 | AZ3: 47 | BB3: 大分類 | BC3: 番 号 | BD3: 産業分類 | BE3: コード
F4: 北海道 | G4: 青森県 | H4: 岩手県 | I4: 宮城県 | J4: 秋田県 | K4: 山形県 | L4: 福島県 | M4: 茨城県 | N4: 栃木県 | O4: 群馬県 | P4: 埼玉県 | Q4: 千葉県 | R4: 東京都 | S4: 神奈川県 | T4: 新潟県 | U4: 富山県 | V4: 石川県 | W4: 福井県 | X4: 山梨県 | Y4: 長野県 | Z4: 岐阜県 | AA4: 静岡県 | AB4: 愛知県 | AC4: 三重県 | AD4: 滋賀県 | AE4: 京都府 | AF4: 大阪府 | AG4: 兵庫県 | AH4: 奈良県 | AI4: 和歌山県 | AJ4: 鳥取県 | AK4: 島根県 | AL4: 岡山県 | AM4: 広島県 | AN4: 山口県 | AO4: 徳島県 | AP4: 香川県 | AQ4: 愛媛県 | AR4: 高知県 | AS4: 福岡県 | AT4: 佐賀県 | AU4: 長崎県 | AV4: 熊本県 | AW4: 大分県 | AX4: 宮崎県 | AY4: 鹿児島県 | AZ4: 沖縄県 | BA4: 合計
A5: 農業・林業 | C5: 農業大分類 | D5: A | BB5: 農業・林業 | BD5: 農業大分類 | BE5: A
B6: 1 | C6: 耕種農業 | D6: A011 | E6: a | F6: 292460.3 | G6: 45233.634 | H6: 45624.632 | I6: 70023.076 | J6: 31453.728 | K6: 103847.95 | L6: 95517.146 | M6: 312266.28 | N6: 185136.01 | O6: 129241.58 | P6: 77752.608 | Q6: 144545.99 | R6: 16755.366 | S6: 27882.268 | T6: 38590.018 | U6: 4583.36 | V6: 16964.584 | W6: 10835.262 | X6: 29098.056 | Y6: 69093.754 | Z6: 31575.118 | AA6: 110734.34 | AB6: 222124.06 | AC6: 20698.656 | AD6: 21154.472 | AE6: 23092.102 | AF6: 30477.7 | AG6: 29677.374 | AH6: 29934.992 | AI6: 49177.308 | AJ6: 31897.726 | AK6: 41075.808 | AL6: 38388.156 | AM6: 25045.346 | AN6: 19361.234 | AO6: 46021.912 | AP6: 29710.058 | AQ6: 39963.274 | AR6: 136935.84 | AS6: 193634.53 | AT6: 120367.71 | AU6: 103099.08 | AV6: 408156.41 | AW6: 60320.848 | AX6: 155896.87 | AY6: 93066.478 | AZ6: 75287.354 | BA6: =SUM(F6:AZ6) -> 3933780.3 | BC6: 1 | BD6: 耕種農業 | BE6: A011
B7: 2 | C7: 畜産農業 | D7: A012 | E7: 頭羽 | F7: 13604410 | G7: 13809700 | H7: 27303660 | I7: 6635720 | J7: 2630074 | K7: 1382582.3 | L7: 5191970 | M7: 15533040 | N7: 4692904.7 | O7: 9330370 | P7: 4961000 | Q7: 14299900 | R7: 119000 | S7: 1214640 | T7: 8129970 | U7: 1174074 | V7: 1229952 | W7: 647760 | X7: 1013320 | Y7: 1643810 | Z7: 6319210 | AA7: 5570220 | AB7: 10707020 | AC7: 6569820 | AD7: 566437 | AE7: 2029280 | AF7: 95390 | AG7: 7587690 | AH7: 600708 | AI7: 1289860 | AJ7: 2749320 | AK7: 1369180 | AL7: 10961500 | AM7: 9522070 | AN7: 3380450 | AO7: 4980150 | AP7: 7732030 | AQ7: 4278500 | AR7: 771480 | AS7: 5017830 | AT7: 4516120 | AU7: 4661480 | AV7: 6533850 | AW7: 4254190 | AX7: 31088270 | AY7: 37449440 | AZ7: 2362740 | BA7: =SUM(F7:AZ7) -> 317512092 | BC7: 2 | BD7: 畜産農業 | BE7: A012
B8: 4 | C8: 林業大分類 | D8: B | E8: 人 | F8: 6092.5333 | G8: 1894.9333 | H8: 2412.5333 | I8: 1792.2 | J8: 2145.1333 | K8: 1134.5333 | L8: 2165.6 | M8: 508.73333 | N8: 951.93333 | O8: 1627.3333 | P8: 692.73333 | Q8: 504.7 | R8: 259.46667 | S8: 1364.1333 | T8: 1792.1 | U8: 785.8 | V8: 821.26667 | W8: 854.3 | X8: 1114.6667 | Y8: 3306.6 | Z8: 2062.8667 | AA8: 1553.4 | AB8: 1009.9 | AC8: 1171.4 | AD8: 513.86667 | AE8: 1025.7 | AF8: 48 | AG8: 1344.1 | AH8: 406.06667 | AI8: 1139 | AJ8: 976.5 | AK8: 1737.8 | AL8: 1099.9 | AM8: 2428.9 | AN8: 1051.3 | AO8: 962.8 | AP8: 371.2 | AQ8: 1665.4 | AR8: 2133.3333 | AS8: 1050.3 | AT8: 739.7 | AU8: 755.3 | AV8: 2065.8 | AW8: 1606 | AX8: 1832.4667 | AY8: 1897.3 | AZ8: 248.5 | BA8: =SUM(F8:AZ8) -> 65118.033 | BC8: 4 | BD8: 林業大分類 | BE8: B
B9: 3 | C9: 上記以外の農業・林業 | BC9: 3 | BD9: 上記以外の農業・林業
A10: 漁 業 | C10: 漁業大分類 | D10: C | BB10: 漁 業 | BD10: 漁業大分類 | BE10: C
B11: 5 | C11: 漁 業 | D11: C03 | E11: 人 | F11: 5804.8 | G11: 1247.4667 | H11: 1200.2 | I11: 804.73333 | J11: 154.73333 | K11: 104.86667 | L11: 458.4 | M11: 918.6 | N11: 3 | O11: 15.066667 | P11: 12 | Q11: 1158.7333 | R11: 86 | S11: 420.6 | T11: 456 | U11: 861.66667 | V11: 1443.8 | W11: 349.53333 | X11: 0 | Y11: 0 | Z11: 116 | AA11: 1955 | AB11: 338.6 | AC11: 978.26667 | AD11: 79.5 | AE11: 190.26667 | AF11: 53.5 | AG11: 510.4 | AH11: 0 | AI11: 155.26667 | AJ11: 854.86667 | AK11: 1421.6 | AL11: 47.8 | AM11: 107.2 | AN11: 500.33333 | AO11: 130.13333 | AP11: 178.3 | AQ11: 408.86667 | AR11: 1053.7333 | AS11: 306.8 | AT11: 134 | AU11: 2374.2 | AV11: 200.93333 | AW11: 577.8 | AX11: 1839.0667 | AY11: 1481.7333 | AZ11: 65.5 | BA11: =SUM(F11:AZ11) -> 31559.867 | BC11: 5 | BD11: 漁 業 | BE11: C03
B12: 6 | C12: 水産養殖業 | D12: C04 | E12: 人 | F12: 778.93333 | G12: 246.4 | H12: 424.13333 | I12: 263.46667 | J12: 85.466667 | K12: 267.8 | L12: 238.33333 | M12: 267.8 | N12: 217.53333 | O12: 137.93333 | P12: 36.8 | Q12: 159.3 | R12: 140.33333 | S12: 88.8 | T12: 354.53333 | U12: 85.866667 | V12: 73.2 | W12: 124.86667 | X12: 196.6 | Y12: 326.4 | Z12: 287.53333 | AA12: 565.2 | AB12: 338.73333 | AC12: 456.53333 | AD12: 212.53333 | AE12: 98.266667 | AF12: 7 | AG12: 546.3 | AH12: 55.4 | AI12: 545.93333 | AJ12: 84.266667 | AK12: 107.2 | AL12: 314 | AM12: 1375.2 | AN12: 331.4 | AO12: 393.53333 | AP12: 656.13333 | AQ12: 1261.4667 | AR12: 433.46667 | AS12: 149.4 | AT12: 92.733333 | AU12: 1171.0667 | AV12: 1090.0667 | AW12: 956.4 | AX12: 762 | AY12: 2181 | AZ12: 218 | BA12: =SUM(F12:AZ12) -> 19205.267 | BC12: 6 | BD12: 水産養殖業 | BE12: C04
A13: 鉱業、採石業、砂利採取業 | B13: 7 | C13: 鉱業、採石業、砂利採取業 | D13: D | E13: 人 | F13: 2694.4 | G13: 650.40557 | H13: 632.46667 | I13: 291.73333 | J13: 473.4 | K13: 337.2 | L13: 693.6 | M13: 724.7688 | N13: 213.73333 | O13: 132.3 | P13: 525.33333 | Q13: 1073.5333 | R13: 305 | S13: 191.13333 | T13: 2168.8667 | U13: 229.73333 | V13: 165 | W13: 75.866667 | X13: 314.46667 | Y13: 643.53333 | Z13: 816 | AA13: 721.93333 | AB13: 812.8 | AC13: 632.66667 | AD13: 210.46667 | AE13: 161.3 | AF13: 175 | AG13: 430.8 | AH13: 35.2 | AI13: 96.4 | AJ13: 67.666667 | AK13: 315.26667 | AL13: 344.86667 | AM13: 183.2 | AN13: 267 | AO13: 182.06667 | AP13: 324.6 | AQ13: 318.86667 | AR13: 391 | AS13: 874.8 | AT13: 152.46667 | AU13: 532.46667 | AV13: 400.13333 | AW13: 421.13333 | AX13: 54.2 | AY13: 625.26667 | AZ13: 281 | BA13: =SUM(F13:AZ13) -> 22365.041 | BB13: 鉱業、採石業、砂利採取業 | BC13: 7 | BD13: 鉱業、採石業、砂利採取業 | BE13: D
A14: 建設業 | B14: 8 | C14: 建設業 | D14: E | E14: 百万円 | F14: 1788342 | G14: 548762 | H14: 592778 | I14: 1641746 | J14: 352115 | K14: 336104 | L14: 1324516 | M14: 1459307 | N14: 777928 | O14: 699878 | P14: 1766356 | Q14: 2138187 | R14: 7025252 | S14: 3091747 | T14: 1241983 | U14: 503790 | V14: 479776 | W14: 389747 | X14: 381140 | Y14: 718805 | Z14: 712661 | AA14: 1523666 | AB14: 2907790 | AC14: 801657 | AD14: 544505 | AE14: 789426 | AF14: 3538884 | AG14: 1685720 | AH14: 270077 | AI14: 394357 | AJ14: 170516 | AK14: 320957 | AL14: 674369 | AM14: 893087 | AN14: 638337 | AO14: 291032 | AP14: 326008 | AQ14: 444365 | AR14: 203452 | AS14: 1515884 | AT14: 314886 | AU14: 441659 | AV14: 484962 | AW14: 360367 | AX14: 435905 | AY14: 579830 | AZ14: 404995 | BA14: =SUM(F14:AZ14) -> 48927613 | BB14: 建設業 | BC14: 8 | BD14: 建設業 | BE14: E
A15: 製造業 | C15: 製造業大分類 | D15: F | BB15: 製造業 | BD15: 製造業大分類 | BE15: F
B16: 9 | C16: 食料品製造業 | D16: F9 | E16: 百万円 | F16: 1844000.4 | G16: 271099.28 | H16: 305392.33 | I16: 443020.6 | J16: 91341.33 | K16: 275593.92 | L16: 255297.85 | M16: 1148655.6 | N16: 482224.62 | O16: 670329.29 | P16: 1407434 | Q16: 1278976.5 | R16: 687505.44 | S16: 1339031.1 | T16: 671305.99 | U16: 140919.71 | V16: 142934 | W16: 57881.66 | X16: 169573.51 | Y16: 490061.11 | Z16: 308737.34 | AA16: 1118835.2 | AB16: 1575471.5 | AC16: 388278.32 | AD16: 233137.64 | AE16: 404877.37 | AF16: 1127573.4 | AG16: 1448190.1 | AH16: 226418.57 | AI16: 147472.49 | AJ16: 124099.14 | AK16: 73322.63 | AL16: 444465.61 | AM16: 566821.06 | AN16: 248297.31 | AO16: 144782.45 | AP16: 293556.32 | AQ16: 293910.47 | AR16: 72332.33 | AS16: 899582.34 | AT16: 299813.87 | AU16: 237583.43 | AV16: 316395.84 | AW16: 139225.44 | AX16: 286117.22 | AY16: 578379.34 | AZ16: 131733.88 | BA16: 24301989 | BC16: 9 | BD16: 食料品製造業 | BE16: F9
B17: 10 | C17: 飲料・たばこ・飼料製造業 | D17: F10 | E17: 百万円 | F17: 227491.46 | G17: 87450.8 | H17: 12922.44 | I17: 144131.94 | J17: 22224.12 | K17: 36747.28 | L17: 308577.74 | M17: 561091.32 | N17: 577524.17 | O17: 434462.76 | P17: 206561.3 | Q17: 375473.52 | R17: 161640.35 | S17: 450248.45 | T17: 67479.45 | U17: 65023.63 | V17: 9967.56 | W17: 5424.57 | X17: 108596.17 | Y17: 148797.82 | Z17: 70508.49 | AA17: 1155089.8 | AB17: 452682.31 | AC17: 83131.75 | AD17: 88489.68 | AE17: 936678.83 | AF17: 213858.86 | AG17: 467512.07 | AH17: 10213.44 | AI17: 63163.11 | AJ17: 26696.14 | AK17: 13691.19 | AL17: 174010.22 | AM17: 56832 | AN17: 43762.34 | AO17: 28356.36 | AP17: 24998.67 | AQ17: 46090.95 | AR17: 16098.04 | AS17: 704261.59 | AT17: 51596.28 | AU17: 30482.61 | AV17: 124410.1 | AW17: 123832.89 | AX17: 152845.26 | AY17: 381797.18 | AZ17: 62509.87 | BA17: 9615436.9 | BC17: 10 | BD17: 飲料・たばこ・飼料製造業 | BE17: F10
B18: 11 | C18: 繊維工業 | D18: F11 | E18: 百万円 | F18: 26974.24 | G18: 22475.61 | H18: 24119.03 | I18: 19900.41 | J18: 42439.52 | K18: 53175.3 | L18: 50402.41 | M18: 54259.07 | N18: 53640.36 | O18: 64715.96 | P18: 100763.74 | Q18: 25160.19 | R18: 74706.73 | S18: 43186.57 | T18: 79933.03 | U18: 96403.55 | V18: 196094.26 | W18: 238577.51 | X18: 30200.36 | Y18: 18815.43 | Z18: 152131.45 | AA18: 95785.42 | AB18: 456318.96 | AC18: 49611.55 | AD18: 190698.48 | AE18: 109323.74 | AF18: 305368.32 | AG18: 113745.54 | AH18: 72341.62 | AI18: 70982.53 | AJ18: 18231.74 | AK18: 31696.04 | AL18: 279427.01 | AM18: 98293.87 | AN18: 68750.32 | AO18: 33666.47 | AP18: 52090.56 | AQ18: 154708.11 | AR18: 16707.3 | AS18: 47625.41 | AT18: 20787.63 | AU18: 27807.54 | AV18: 29637.93 | AW18: 16189.93 | AX18: 76806.69 | AY18: 15447.52 | AZ18: 2696.39 | BA18: 3922821.4 | BC18: 11 | BD18: 繊維工業 | BE18: F11
B19: 12 | C19: 木材・木製品製造業（家具を除く） | D19: F12 | E19: 百万円 | F19: 139691.38 | G19: 14058.55 | H19: 56515.5 | I19: 56363.23 | J19: 72480.23 | K19: 20782.52 | L19: 49347.86 | M19: 128453.87 | N19: 72383.86 | O19: 64756.88 | P19: 54480.4 | Q19: 64155.24 | R19: 15877.14 | S19: 17954.32 | T19: 29528.94 | U19: 32619.52 | V19: 20593.41 | W19: 23873.69 | X19: 7168.14 | Y19: 34028.19 | Z19: 55672.09 | AA19: 154523.87 | AB19: 131516.64 | AC19: 41406.76 | AD19: 16927.07 | AE19: 44249.14 | AF19: 106258.33 | AG19: 53136.1 | AH19: 42661.42 | AI19: 29831.36 | AJ19: 19319.02 | AK19: 31462.36 | AL19: 63233.98 | AM19: 104566.43 | AN19: 46364.13 | AO19: 33522.11 | AP19: 30282.15 | AQ19: 28544.21 | AR19: 16022.04 | AS19: 60937.13 | AT19: 16280.49 | AU19: 4187.62 | AV19: 35420.92 | AW19: 23135.13 | AX19: 42240.21 | AY19: 15961.63 | AZ19: 527.65 | BA19: 2223302.9 | BC19: 12 | BD19: 木材・木製品製造業（家具を除く） | BE19: F12
B20: 13 | C20: 家具・装備品製造業 | D20: F13 | E20: 百万円 | F20: 37623.11 | G20: 4447.79 | H20: 5216.8 | I20: 22730.03 | J20: 9894.89 | K20: 27944.35 | L20: 39498.9 | M20: 51899.85 | N20: 43197.26 | O20: 34303.14 | P20: 100453.14 | Q20: 68786.55 | R20: 78567.07 | S20: 65870.43 | T20: 34835.71 | U20: 29823.5 | V20: 41973.46 | W20: 14275.99 | X20: 6765.32 | Y20: 19092.87 | Z20: 104661.93 | AA20: 83194.08 | AB20: 162773.3 | AC20: 35101.26 | AD20: 49621.28 | AE20: 21419.03 | AF20: 145067.3 | AG20: 60865.17 | AH20: 25718.87 | AI20: 17424.28 | AJ20: 1972 | AK20: 7676.31 | AL20: 23714.24 | AM20: 42996.64 | AN20: 4410.27 | AO20: 23912.05 | AP20: 15522.34 | AQ20: 6531.68 | AR20: 3748.92 | AS20: 87097.7 | AT20: 31207.13 | AU20: 3915.66 | AV20: 8748.64 | AW20: 11546.77 | AX20: 6423.41 | AY20: 4674.7 | AZ20: 3705.86 | BA20: 1730851 | BC20: 13 | BD20: 家具・装備品製造業 | BE20: F13
B21: 14 | C21: パルプ・紙・紙加工品製造業 | D21: F14 | E21: 百万円 | F21: 397728.71 | G21: 102430.57 | H21: 73544.81 | I21: 158797.4 | J21: 37111.01 | K21: 21191.77 | L21: 153165.2 | M21: 212182.87 | N21: 209386.74 | O21: 77730.9 | P21: 454390.43 | Q21: 106651.85 | R21: 147003.58 | S21: 221073.65 | T21: 202431.91 | U21: 126331.45 | V21: 23840.82 | W21: 60729.65 | X21: 22095.94 | Y21: 79720.74 | Z21: 199293.22 | AA21: 768943.75 | AB21: 396239.38 | AC21: 85451.02 | AD21: 111036.92 | AE21: 117220.41 | AF21: 345679.36 | AG21: 281871.96 | AH21: 55403.23 | AI21: 32603.41 | AJ21: 81180.11 | AK21: 28518.69 | AL21: 78325.54 | AM21: 98088.92 | AN21: 93349.22 | AO21: 97213.69 | AP21: 115764.64 | AQ21: 527368.15 | AR21: 53142.88 | AS21: 77348.09 | AT21: 70748.97 | AU21: 6804.31 | AV21: 84204.8 | AW21: 30962.22 | AX21: 46542.66 | AY21: 38592.37 | AZ21: 5328.46 | BA21: 6814766.4 | BC21: 14 | BD21: パルプ・紙・紙加工品製造業 | BE21: F14
B22: 15 | C22: 印刷・同関連業 | D22: F15 | E22: 百万円 | F22: 120166.97 | G22: 16784.18 | H22: 38766.78 | I22: 106137.79 | J22: 11310.85 | K22: 29292.78 | L22: 42997.83 | M22: 105803.64 | N22: 48232.82 | O22: 105776.13 | P22: 710538.77 | Q22: 101945.88 | R22: 1083919 | S22: 213868.54 | T22: 83828.66 | U22: 33866.19 | V22: 68563.22 | W22: 29985.2 | X22: 21469.27 | Y22: 70340.68 | Z22: 84603.42 | AA22: 152153.84 | AB22: 374352.99 | AC22: 43579.13 | AD22: 81132.68 | AE22: 232836.75 | AF22: 470191.42 | AG22: 139330.49 | AH22: 52872.36 | AI22: 12184.44 | AJ22: 8111.55 | AK22: 9556.06 | AL22: 151706.67 | AM22: 113910.95 | AN22: 32446.71 | AO22: 11823.33 | AP22: 59429.82 | AQ22: 23876.88 | AR22: 10426.14 | AS22: 204968.29 | AT22: 18515.37 | AU22: 12940.07 | AV22: 66027.3 | AW22: 13819.23 | AX22: 14279.1 | AY22: 23752.16 | AZ22: 19230.1 | BA22: 5481652.4 | BC22: 15 | BD22: 印刷・同関連業 | BE22: F15
B23: 16 | C23: 化学工業 | D23: F16 | E23: 百万円 | F23: 190118.5 | G23: 27671.8 | H23: 57846.32 | I23: 114094.17 | J23: 73216.96 | K23: 169638.3 | L23: 415648.18 | M23: 1291956.6 | N23: 542121.21 | O23: 467197.01 | P23: 1698204.2 | Q23: 2675030.8 | R23: 371485.28 | S23: 1722160.4 | T23: 525096.02 | U23: 541069.38 | V23: 100804.44 | W23: 295662.75 | X23: 44526.93 | Y23: 140065.3 | Z23: 290814.41 | AA23: 1575487.9 | AB23: 936775.07 | AC23: 1229545.1 | AD23: 742013.91 | AE23: 162245.94 | AF23: 1978103.6 | AG23: 1704403.6 | AH23: 99775.04 | AI23: 312983.05 | AJ23: 7057.8609 | AK23: 34490.465 | AL23: 1148749.2 | AM23: 378870.79 | AN23: 1483602.9 | AO23: 540780.88 | AP23: 151867.93 | AQ23: 369640.02 | AR23: 6636.05 | AS23: 463365.93 | AT23: 154776.91 | AU23: 10840.87 | AV23: 152719.18 | AW23: 484362.05 | AX23: 127127.16 | AY23: 22945.83 | AZ23: 12006.57 | BA23: 26045603 | BC23: 16 | BD23: 化学工業 | BE23: F16
B24: 17 | C24: 石油製品・石炭製品製造業 | D24: F17 | E24: 百万円 | F24: 1315571.7 | G24: 7068.89 | H24: 10001.46 | I24: 529851.98 | J24: 5363.8 | K24: 6517.65 | L24: 15078.82 | M24: 91696.46 | N24: 14625.76 | O24: 8661.43 | P24: 39003.41 | Q24: 2722897.3 | R24: 21700.44 | S24: 2678610.8 | T24: 20222.69 | U24: 5327.88 | V24: 4934.0662 | W24: 4144.61 | X24: 3641.91 | Y24: 7530.84 | Z24: 11713.68 | AA24: 27931.27 | AB24: 935391.08 | AC24: 662152.3 | AD24: 8437.85 | AE24: 6473.18 | AF24: 1691771.6 | AG24: 156204.87 | AH24: 8615.71 | AI24: 775542.38 | AJ24: 2529.62 | AK24: 2957.54 | AL24: 1357733.8 | AM24: 13665.54 | AN24: 1587628.9 | AO24: 96624.146 | AP24: 770815.83 | AQ24: 604852.56 | AR24: 2228.25 | AS24: 81568.98 | AT24: 3584.71 | AU24: 2423.47 | AV24: 11112.46 | AW24: 580603.57 | AX24: 3965.88 | AY24: 4962.74 | AZ24: 248124.22 | BA24: 17172068 | BC24: 17 | BD24: 石油製品・石炭製品製造業 | BE24: F17
B25: 18 | C25: プラスチック製品製造業（別掲を除く） | D25: F18 | E25: 百万円 | F25: 90389.75 | G25: 18755.61 | H25: 38247.86 | I25: 68978.59 | J25: 28698.53 | K25: 55915.71 | L25: 195238.82 | M25: 779024.37 | N25: 450974.45 | O25: 438274.03 | P25: 635308.16 | Q25: 245800.65 | R25: 133101.82 | S25: 652300.35 | T25: 154384.6 | U25: 189448.54 | V25: 61834.59 | W25: 146571.21 | X25: 91701.94 | Y25: 164888.77 | Z25: 422064.64 | AA25: 574901.57 | AB25: 1456268.4 | AC25: 407693.03 | AD25: 572330.03 | AE25: 124052.51 | AF25: 677912.66 | AG25: 418262.42 | AH25: 135506.37 | AI25: 40315.97 | AJ25: 20075.49 | AK25: 23346.24 | AL25: 268978.12 | AM25: 429323.8 | AN25: 87245.08 | AO25: 54377.64 | AP25: 119725.5 | AQ25: 115891.12 | AR25: 9137.26 | AS25: 215788.95 | AT25: 36497.82 | AU25: 21874.62 | AV25: 111286.88 | AW25: 62299.66 | AX25: 38545.15 | AY25: 14689.38 | AZ25: 7832.54 | BA25: 11106061 | BC25: 18 | BD25: プラスチック製品製造業（別掲を除く） | BE25: F18
B26: 19 | C26: ゴム製品製造業 | D26: F19 | E26: 百万円 | F26: 10547.77 | G26: 2114.9365 | H26: 6033.45 | I26: 69102.04 | J26: 5092.26 | K26: 2006.05 | L26: 164802.19 | M26: 82067.29 | N26: 174169.66 | O26: 47021.08 | P26: 100549.83 | Q26: 30148.75 | R26: 70446.23 | S26: 92646.91 | T26: 12183.88 | U26: 11662.28 | V26: 3860.42 | W26: 1601.81 | X26: 19870.76 | Y26: 14749.49 | Z26: 43757.36 | AA26: 231915.16 | AB26: 420742.07 | AC26: 213231.54 | AD26: 98148.92 | AE26: 10087.01 | AF26: 132280.42 | AG26: 126633.28 | AH26: 53638.33 | AI26: 20237.89 | AJ26: 1641 | AK26: 6484.97 | AL26: 84718.1 | AM26: 104032.68 | AN26: 182674.78 | AO26: 11005.48 | AP26: 15834.7 | AQ26: 3922.24 | AR26: 24.80258 | AS26: 240363.1 | AT26: 53291.59 | AU26: 681.14 | AV26: 73555.04 | AW26: 23902.69 | AX26: 103271.72 | AY26: 733.65087 | AZ26: 247.52422 | BA26: 3177734.3 | BC26: 19 | BD26: ゴム製品製造業 | BE26: F19
B27: 20 | C27: なめし革・同製品・毛皮製造業 | D27: F20 | E27: 百万円 | F27: 6478.67 | G27: 232.69354 | H27: 8219.75 | I27: 1561.89 | J27: 3488.22 | K27: 19945.96 | L27: 9786.04 | M27: 2156.55 | N27: 3417.93 | O27: 2523.29 | P27: 19332.36 | Q27: 8954.62 | R27: 82198.12 | S27: 4164.71 | T27: 3091.38 | U27: 1659.05 | V27: 100.98375 | W27: 324.17 | X27: 3204.14 | Y27: 2552.04 | Z27: 380.68 | AA27: 4498.66 | AB27: 18717.11 | AC27: 0 | AD27: 711.38 | AE27: 5395.7 | AF27: 25057.21 | AG27: 69881.33 | AH27: 5877.92 | AI27: 1522.11 | AJ27: 94.740064 | AK27: 837.34 | AL27: 249.62 | AM27: 1475.22 | AN27: 77.082205 | AO27: 1977.5715 | AP27: 8366.12 | AQ27: 103.08209 | AR27: 2.7288765 | AS27: 2109.65 | AT27: 8864.69 | AU27: 25.370351 | AV27: 1488.1363 | AW27: 2854.17 | AX27: 0 | AY27: 80.719126 | AZ27: 27.233579 | BA27: 344068.14 | BC27: 20 | BD27: なめし革・同製品・毛皮製造業 | BE27: F20
... B39: 32 | C39: その他の製造業 | D39: F32 | E39: 百万円 | F39: 34411.31 | G39: 5919.3 | H39: 35202.41 | I39: 37402.72 | J39: 12874.07 | K39: 153396.8 | L39: 38341.92 | M39: 197167.18 | N39: 69650.31 | O39: 91347.47 | P39: 206177.72 | Q39: 94955.65 | R39: 314357.3 | S39: 100424.01 | T39: 36209.1 | U39: 114949.9 | V39: 30611.41 | W39: 74289.08 | X39: 62899.08 | Y39: 125343.04 | Z39: 42045.93 | AA39: 266237.42 | AB39: 297448.75 | AC39: 82985.98 | AD39: 112876.77 | AE39: 310688.41 | AF39: 195513.94 | AG39: 180710.34 | AH39: 76163.04 | AI39: 20354.21 | AJ39: 2509.81 | AK39: 2550.99 | AL39: 40167.01 | AM39: 46587.87 | AN39: 9011.65 | AO39: 6690.82 | AP39: 13800.94 | AQ39: 11737.68 | AR39: 16574.93 | AS39: 73394.01 | AT39: 48380.17 | AU39: 8825.59 | AV39: 10113.7 | AW39: 6620.34 | AX39: 16972.3 | AY39: 14410.8 | AZ39: 3255.99 | BA39: 3752559.2 | BC39: 32 | BD39: その他の製造業 | BE39: F32
A40: 電気･ガス | C40: 電気・ガス・熱供給・水道業大分類 | D40: G | BB40: 電気･ガス | BD40: 電気・ガス・熱供給・水道業大分類 | BE40: G
A41: ･熱供給･ | B41: 33 | C41: 電気業 | D41: G33 | E41: 人 | F41: 6655.4 | G41: 1671.4574 | H41: 1327.6667 | I41: 5120.8667 | J41: 1293.2 | K41: 1125.6 | L41: 3650.5333 | M41: 4659.2048 | N41: 2541.0667 | O41: 2221.2667 | P41: 4011.8667 | Q41: 5011.7333 | R41: 20247.067 | S41: 7229.4667 | T41: 4076.6667 | U41: 3201.5333 | V41: 1731.5333 | W41: 3729.1333 | X41: 1474.4667 | Y41: 3246.8 | Z41: 2732.6667 | AA41: 4455.8 | AB41: 11068.267 | AC41: 2130.4667 | AD41: 1115.0667 | AE41: 2003.4667 | AF41: 9184.0667 | AG41: 4156.7333 | AH41: 1173.8667 | AI41: 1552.0667 | AJ41: 479.6 | AK41: 1334.2 | AL41: 1705.1333 | AM41: 4697.5333 | AN41: 1502.4 | AO41: 1023 | AP41: 1713.1333 | AQ41: 1724.2 | AR41: 1099.4 | AS41: 5668.1333 | AT41: 1239.4667 | AU41: 1219.4667 | AV41: 1296.9333 | AW41: 1386.4667 | AX41: 1312.6667 | AY41: 2084.2667 | AZ41: 1572.6667 | BA41: =SUM(F41:AZ41) -> 154857.66 | BB41: ･熱供給･ | BC41: 33 | BD41: 電気業 | BE41: G33
A42: 水道業 | B42: 34 | C42: ガス業 | D42: G34 | E42: 人 | F42: 1474.8 | G42: 264.86667 | H42: 365.8 | I42: 163.46667 | J42: 101.53333 | K42: 251.8 | L42: 413.46667 | M42: 478.1867 | N42: 338.2 | O42: 352.53333 | P42: 1576.1333 | Q42: 1955.4667 | R42: 10960.133 | S42: 2387.1333 | T42: 760.46667 | U42: 306.93333 | V42: 28.866667 | W42: 33.466667 | X42: 150.53333 | Y42: 475.33333 | Z42: 297 | AA42: 1152 | AB42: 2878 | AC42: 451.93333 | AD42: 71.066667 | AE42: 592.13333 | AF42: 4653.4667 | AG42: 654.53333 | AH42: 264.2 | AI42: 105 | AJ42: 123.66667 | AK42: 73.266667 | AL42: 344.46667 | AM42: 730.53333 | AN42: 28.5 | AO42: 57.2 | AP42: 199.33333 | AQ42: 404.6 | AR42: 72 | AS42: 1733.0667 | AT42: 165.13333 | AU42: 453.73333 | AV42: 222.2 | AW42: 149.46667 | AX42: 182.66667 | AY42: 409.66667 | AZ42: 134 | BA42: =SUM(F42:AZ42) -> 39441.953 | BB42: 水道業 | BC42: 34 | BD42: ガス業 | BE42: G34
B43: 35 | C43: 熱供給業 | D43: G35 | E43: 人 | F43: 172.06667 | G43: 0 | H43: 132.5 | I43: 9 | J43: 3.9 | K43: 17.333333 | L43: 92.4 | M43: 58.829023 | N43: 13 | O43: 4.8666667 | P43: 6.4 | Q43: 31.4 | R43: 565.13333 | S43: 177.73333 | T43: 0 | U43: 0 | V43: 0 | W43: 0 | X43: 0 | Y43: 6.9333333 | Z43: 0 | AA43: 47.133333 | AB43: 40 | AC43: 164.5 | AD43: 0 | AE43: 8 | AF43: 65.266667 | AG43: 92.333333 | AH43: 8 | AI43: 0.1 | AJ43: 0 | AK43: 0 | AL43: 0 | AM43: 2 | AN43: 0 | AO43: 0 | AP43: 0 | AQ43: 0 | AR43: 2 | AS43: 163.46667 | AT43: 0 | AU43: 24.6 | AV43: 0 | AW43: 7.6 | AX43: 5.5 | AY43: 16 | AZ43: 0 | BA43: =SUM(F43:AZ43) -> 1937.9957 | BC43: 35 | BD43: 熱供給業 | BE43: G35
B44: 36 | C44: 上水道業 | D44: G361 | E44: 人 | F44: 5341767 | G44: 1305283 | H44: 1184561.5 | I44: 2281154 | J44: 954637 | K44: 1129081 | L44: 1735992 | M44: 2747468 | N44: 1883627.5 | O44: 1982771 | P44: 7210535.5 | Q44: 5901081.5 | R44: 13332144 | S44: 9074603.5 | T44: 2313899.5 | U44: 1006443.5 | V44: 1149043 | W44: 771909.5 | X44: 849726.5 | Y44: 2100028 | Z44: 1969523.5 | AA44: 3691412.5 | AB44: 7405520.5 | AC44: 1870912 | AD44: 1413951.5 | AE44: 2622043 | AF44: 8868321.5 | AG44: 5552858 | AH44: 1377534 | AI44: 980637.5 | AJ44: 574151.5 | AK44: 679528 | AL44: 1912854.5 | AM44: 2705696.5 | AN44: 1325842.5 | AO44: 743099.5 | AP44: 977682.5 | AQ44: 1335802 | AR44: 702693.5 | AS44: 4749545 | AT44: 808911 | AU44: 1375682.5 | AV44: 1559883 | AW44: 1075601 | AX44: 1091242 | AY44: 1657777.5 | AZ44: 1409433.5 | BA44: =SUM(F44:AZ44) -> 124693896 | BC44: 36 | BD44: 上水道業 | BE44: G361
B45: 37 | C45: 下水道業 | D45: G363 | E45: 人 | F45: 4915000 | G45: 769000 | H45: 715000 | I45: 1817000 | J45: 654000 | K45: 854000 | L45: 988000 | M45: 1750000 | N45: 1249000 | O45: 1021000 | P45: 5668000 | Q45: 4413000 | R45: 13062000 | S45: 8730000 | T45: 1659000 | U45: 892000 | V45: 940000 | W45: 603000 | X45: 540000 | Y45: 1752000 | Z45: 1518000 | AA45: 2297000 | AB45: 5519000 | AC45: 897000 | AD45: 1239000 | AE45: 2388000 | AF45: 8370000 | AG45: 5205000 | AH45: 1069000 | AI45: 231000 | AJ45: 389000 | AK45: 311000 | AL45: 1223000 | AM45: 2028000 | AN45: 894000 | AO45: 128000 | AP45: 436000 | AQ45: 718000 | AR45: 264000 | AS45: 3992000 | AT45: 461000 | AU45: 845000 | AV45: 1173000 | AW45: 565000 | AX45: 628000 | AY45: 685000 | AZ45: 970000 | BA45: =SUM(F45:AZ45) -> 97434000 | BC45: 37 | BD45: 下水道業 | BE45: G363
A46: 情報通信業 | C46: 情報通信業大分類 | D46: H | BB46: 情報通信業 | BD46: 情報通信業大分類 | BE46: H
B47: 38 | C47: 通信業 | D47: H37 | E47: 人 | F47: 4274.0667 | G47: 1490.1499 | H47: 598.66667 | I47: 6021.8667 | J47: 648.2 | K47: 292.9 | L47: 943.8 | M47: 2483.4111 | N47: 847.8 | O47: 1739.7 | P47: 876.5 | Q47: 1592.8 | R47: 67597 | S47: 3018.2667 | T47: 109.4 | U47: 181.33333 | V47: 1527.2 | W47: 202.46667 | X47: 73.3 | Y47: 780.73333 | Z47: 479.2 | AA47: 1881.6667 | AB47: 9142.2667 | AC47: 1435.3333 | AD47: 808.53333 | AE47: 1548.6 | AF47: 23531.333 | AG47: 3509.6 | AH47: 541.7 | AI47: 196.3 | AJ47: 234.4 | AK47: 358.6 | AL47: 1027 | AM47: 3594.6667 | AN47: 599.3 | AO47: 366.9 | AP47: 1589.2 | AQ47: 3858.9333 | AR47: 676.3 | AS47: 10613.333 | AT47: 372 | AU47: 912.1 | AV47: 1696.4 | AW47: 1055.7 | AX47: 1490.6 | AY47: 1363.5 | AZ47: 2601.0667 | BA47: =SUM(F47:AZ47) -> 170784.09 | BC47: 38 | BD47: 通信業 | BE47: H37
B48: 39 | C48: 放送業 | D48: H38 | E48: 人 | F48: 2214.4667 | G48: 773.32597 | H48: 835.33333 | I48: 1500.7333 | J48: 596.26667 | K48: 746.26667 | L48: 945.2 | M48: 386.10127 | N48: 675.86667 | O48: 398.8 | P48: 1163.5333 | Q48: 1218.1333 | R48: 23049.467 | S48: 1295.8667 | T48: 1008.3333 | U48: 736.06667 | V48: 821.8 | W48: 638.26667 | X48: 778.26667 | Y48: 1270.0667 | Z48: 625.13333 | AA48: 1446.0667 | AB48: 3330.5333 | AC48: 1037 | AD48: 327.73333 | AE48: 555.73333 | AF48: 7437.6 | AG48: 1371.8667 | AH48: 426.26667 | AI48: 512.86667 | AJ48: 481.6 | AK48: 514.66667 | AL48: 1089.2667 | AM48: 1289.2 | AN48: 911.6 | AO48: 631.93333 | AP48: 465.2 | AQ48: 1102.6 | AR48: 702.6 | AS48: 2088.3333 | AT48: 463.6 | AU48: 1259.0667 | AV48: 823.4 | AW48: 984.53333 | AX48: 815.86667 | AY48: 834.33333 | AZ48: 668.73333 | BA48: =SUM(F48:AZ48) -> 73249.494 | BC48: 39 | BD48: 放送業 | BE48: H38
B49: 40 | C49: 情報サービス業 | D49: H39 | E49: 人 | F49: 23146.533 | G49: 2569.9264 | H49: 3013.6 | I49: 15245.8 | J49: 1881.4667 | K49: 2040.7333 | L49: 3997.3333 | M49: 17166.222 | N49: 5498 | O49: 6418.5333 | P49: 14014.667 | Q49: 23183.867 | R49: 541126.53 | S49: 114211.47 | T49: 7863.8667 | U49: 4730.7333 | V49: 6904.2667 | W49: 3080.4 | X49: 2022.5333 | Y49: 8213.5333 | Z49: 3826.2 | AA49: 14355.867 | AB49: 56281.467 | AC49: 3109.6 | AD49: 2156.7333 | AE49: 9499.6667 | AF49: 103976.73 | AG49: 20274.2 | AH49: 765.4 | AI49: 1735.6 | AJ49: 1285.0667 | AK49: 1513.2 | AL49: 7389 | AM49: 13672.867 | AN49: 2429.4667 | AO49: 1657.4 | AP49: 2763.7333 | AQ49: 4341.8 | AR49: 1325.1333 | AS49: 34513.733 | AT49: 1459.4667 | AU49: 2667.2667 | AV49: 4771.5333 | AW49: 3548 | AX49: 2894.9333 | AY49: 3147.8 | AZ49: 6288 | BA49: =SUM(F49:AZ49) -> 1117979.9 | BC49: 40 | BD49: 情報サービス業 | BE49: H39
B50: 41 | C50: インターネット付随サービス業 | D50: H40 | E50: 人 | F50: 1523.7333 | G50: 343.35895 | H50: 150.13333 | I50: 1021.6 | J50: 85.933333 | K50: 69.466667 | L50: 116.13333 | M50: 103.07167 | N50: 190.2 | O50: 233.66667 | P50: 535.06667 | Q50: 1015 | R50: 35260.067 | S50: 2146.1333 | T50: 466.13333 | U50: 108.73333 | V50: 338.8 | W50: 27.933333 | X50: 109.46667 | Y50: 246.53333 | Z50: 193 | AA50: 628.6 | AB50: 2723.9333 | AC50: 210.8 | AD50: 139.6 | AE50: 510.26667 | AF50: 3601.6667 | AG50: 614.53333 | AH50: 83 | AI50: 132.2 | AJ50: 77 | AK50: 43.533333 | AL50: 281.2 | AM50: 271.26667 | AN50: 197.46667 | AO50: 77.733333 | AP50: 154.33333 | AQ50: 56.333333 | AR50: 54.6 | AS50: 2106.9333 | AT50: 41 | AU50: 58.8 | AV50: 204.4 | AW50: 108.26667 | AX50: 180.53333 | AY50: 116.33333 | AZ50: 621.86667 | BA50: =SUM(F50:AZ50) -> 57580.364 | BC50: 41 | BD50: インターネット付随サービス業 | BE50: H40
B51: 42 | C51: 映像・音声・文字情報制作業 | D51: H41 | E51: 人 | F51: 8357.8 | G51: 1354.4689 | H51: 1176.4667 | I51: 2447.7333 | J51: 710 | K51: 751.06667 | L51: 1977.0667 | M51: 1241.5101 | N51: 1176.6 | O51: 1336.8667 | P51: 3241.2667 | Q51: 3485.5333 | R51: 146280.53 | S51: 5631 | T51: 2141.9333 | U51: 1003.7333 | V51: 1524.8667 | W51: 659.66667 | X51: 884.26667 | Y51: 2884.6 | Z51: 1470.4 | AA51: 3818 | AB51: 9717.0667 | AC51: 796.66667 | AD51: 767.2 | AE51: 3849.2667 | AF51: 21116.467 | AG51: 3794 | AH51: 533.13333 | AI51: 736.93333 | AJ51: 470.06667 | AK51: 644.8 | AL51: 2189.5333 | AM51: 2933.6 | AN51: 764.86667 | AO51: 801.93333 | AP51: 947.53333 | AQ51: 1198.9333 | AR51: 683.73333 | AS51: 6585.4667 | AT51: 512.06667 | AU51: 984.73333 | AV51: 1719.6667 | AW51: 985.93333 | AX51: 869.4 | AY51: 1682.0667 | AZ51: 2004.1333 | BA51: =SUM(F51:AZ51) -> 260844.58 | BC51: 42 | BD51: 映像・音声・文字情報制作業 | BE51: H41
A52: 運輸業、郵便業 | C52: 運輸業大分類 | D52: I | BB52: 運輸業、郵便業 | BD52: 運輸業大分類 | BE52: I
B53: 43 | C53: 鉄道業 | D53: I42 | E53: 人 | F53: 10706.067 | G53: 2311.1333 | H53: 5249.5333 | I53: 5883.9333 | J53: 3359.4 | K53: 1720.0667 | L53: 3339.1333 | M53: 3059.9333 | N53: 2296.1333 | O53: 5253.8667 | P53: 12708.067 | Q53: 11302.2 | R53: 60975.267 | S53: 15384.8 | T53: 6582.6 | U53: 2667.8 | V53: 2209.2 | W53: 1668.0667 | X53: 1279.2667 | Y53: 8850.2 | Z53: 3998.1333 | AA53: 7724.4667 | AB53: 12542.467 | AC53: 4150.1333 | AD53: 3991.6 | AE53: 5226.6 | AF53: 27869.8 | AG53: 9081.0667 | AH53: 3383.6667 | AI53: 1844 | AJ53: 1561.1333 | AK53: 193.13333 | AL53: 2783 | AM53: 6887.4667 | AN53: 2284.2667 | AO53: 1039.9333 | AP53: 2839.2667 | AQ53: 1493.2 | AR53: 734.93333 | AS53: 9351.4 | AT53: 529 | AU53: 1011.8 | AV53: 1197.6667 | AW53: 989.33333 | AX53: 501.53333 | AY53: 877.66667 | AZ53: 174.33333 | BA53: =SUM(F53:AZ53) -> 281067.67 | BC53: 43 | BD53: 鉄道業 | BE53: I42
B54: 44 | C54: 道路旅客運送業 | D54: I43 | E54: 人 | F54: 35516.6 | G54: 7621.3794 | H54: 5964.6 | I54: 10363.733 | J54: 4424.4 | K54: 3144.1333 | L54: 7500.2667 | M54: 9996.1906 | N54: 5588.5333 | O54: 4396.1333 | P54: 20828.6 | Q54: 22798.467 | R54: 109336.27 | S54: 37003.667 | T54: 9420.0667 | U54: 3226.8667 | V54: 5156.6 | W54: 2377.9333 | X54: 3443.0667 | Y54: 8564.6 | Z54: 5876.9333 | AA54: 13630.067 | AB54: 23867 | AC54: 5556.1333 | AD54: 3951.8667 | AE54: 16335.133 | AF54: 40327.467 | AG54: 19984.933 | AH54: 4088.6 | AI54: 3432.4 | AJ54: 2200.9333 | AK54: 3278 | AL54: 5881.4 | AM54: 15925.8 | AN54: 5959.3333 | AO54: 2955.9333 | AP54: 3454.7333 | AQ54: 5296 | AR54: 3588 | AS54: 30914.733 | AT54: 2799.5333 | AU54: 8872 | AV54: 7931.7333 | AW54: 5588.4 | AX54: 4806.4667 | AY54: 8317.1333 | AZ54: 12231.533 | BA54: =SUM(F54:AZ54) -> 583724.3 | BC54: 44 | BD54: 道路旅客運送業 | BE54: I43
B55: 45 | C55: 道路貨物運送業 | D55: I44 | E55: 人 | F55: 76437.333 | G55: 17965.605 | H55: 16007.333 | I55: 35784.933 | J55: 10645.2 | K55: 13866.467 | L55: 25745.8 | M55: 48132.893 | N55: 27976.6 | O55: 30930.133 | P55: 120411.13 | Q55: 85355.533 | R55: 161654.73 | S55: 101824.27 | T55: 33037.8 | U55: 15828.933 | V55: 17165.733 | W55: 9892.3333 | X55: 10219 | Y55: 24586.733 | Z55: 22120.533 | AA55: 55907.4 | AB55: 123855.53 | AC55: 28508.4 | AD55: 15363.067 | AE55: 28296 | AF55: 135277.53 | AG55: 60816 | AH55: 10174.933 | AI55: 11267.133 | AJ55: 6782.6 | AK55: 7897.2667 | AL55: 27859.067 | AM55: 46913.267 | AN55: 17956.867 | AO55: 7917.4667 | AP55: 16902.733 | AQ55: 18982.667 | AR55: 7536.2 | AS55: 76290.2 | AT55: 11639.133 | AU55: 12529.467 | AV55: 18977.267 | AW55: 13886.6 | AX55: 13254.867 | AY55: 19465.4 | AZ55: 9521.7333 | BA55: =SUM(F55:AZ55) -> 1709367.8 | BC55: 45 | BD55: 道路貨物運送業 | BE55: I44
B56: 46 | C56: 上記以外の運輸通信業 | E56: 人 | F56: 37308.267 | G56: 5870.8 | H56: 5860.7333 | I56: 14584.667 | J56: 4912.1333 | K56: 4628 | L56: 9589.2 | M56: 23992.467 | N56: 12377.333 | O56: 13044 | P56: 64094 | Q56: 65255.533 | R56: 179590.67 | S56: 76259.8 | T56: 11828.333 | U56: 5851.9333 | V56: 5995.6 | W56: 4928.2667 | X56: 3933.7333 | Y56: 9331.4 | Z56: 9843.2 | AA56: 28953.667 | AB56: 65996.933 | AC56: 15699.867 | AD56: 10762.667 | AE56: 16045.4 | AF56: 92543.6 | AG56: 52108.267 | AH56: 4970.3333 | AI56: 6141.9333 | AJ56: 2227.3333 | AK56: 3379.0667 | AL56: 16175 | AM56: 25281.4 | AN56: 12369.533 | AO56: 4349.6667 | AP56: 6345.4 | AQ56: 13503.2 | AR56: 3932.2667 | AS56: 40564.733 | AT56: 5932.2667 | AU56: 8176.8667 | AV56: 9310.3333 | AW56: 6839.4667 | AX56: 4488.6667 | AY56: 9947.3333 | AZ56: 8233.4 | BA56: =SUM(F56:AZ56) -> 1043358.7 | BC56: 46 | BD56: 上記以外の運輸通信業
A57: 卸売・小売業 | C57: 卸売・小売業大分類 | D57: J | BB57: 卸売・小売業 | BD57: 卸売・小売業大分類 | BE57: J
B58: 47 | C58: 各種商品卸売業 | D58: J49 | E58: 人 | F58: 409 | G58: 74.32968 | H58: 156 | I58: 277.3 | J58: 212 | K58: 57.7 | L58: 345.9 | M58: 197.09956 | N58: 248.46667 | O58: 151.2 | P58: 258.4 | Q58: 401.9 | R58: 31453.933 | S58: 479.4 | T58: 224 | U58: 213.1 | V58: 146.5 | W58: 420.1 | X58: 83 | Y58: 280.3 | Z58: 133.1 | AA58: 489 | AB58: 1983 | AC58: 189.8 | AD58: 83.7 | AE58: 266.8 | AF58: 1487.9 | AG58: 514.1 | AH58: 108.6 | AI58: 62 | AJ58: 41.2 | AK58: 15.5 | AL58: 120.8 | AM58: 263.3 | AN58: 250.5 | AO58: 12.2 | AP58: 180 | AQ58: 104.5 | AR58: 69.133333 | AS58: 499.6 | AT58: 38.5 | AU58: 194.6 | AV58: 106.7 | AW58: 87 | AX58: 42.7 | AY58: 39.1 | AZ58: 156.66667 | BA58: =SUM(F58:AZ58) -> 43629.629 | BC58: 47 | BD58: 各種商品卸売業 | BE58: J49
B59: 48 | C59: 木材・竹材・卸売業 | E59: 人 | F59: 1479.9124 | G59: 457.03513 | H59: 490.95663 | I59: 750.94402 | J59: 439 | K59: 294.87337 | L59: 535.09591 | M59: 970.57269 | N59: 772.08714 | O59: 620.99264 | P59: 2038.1189 | Q59: 1646.9181 | R59: 4836.7301 | S59: 1551.151 | T59: 1240.1941 | U59: 554.68923 | V59: 478.84466 | W59: 304.90572 | X59: 303.10394 | Y59: 895.60451 | Z59: 1030.9319 | AA59: 1468.4549 | AB59: 2477.5559 | AC59: 566.68959 | AD59: 479.41902 | AE59: 694.81097 | AF59: 2739.5146 | AG59: 1325.316 | AH59: 480.52657 | AI59: 401.95867 | AJ59: 154.18609 | AK59: 260.37086 | AL59: 693.12143 | AM59: 991.57731 | AN59: 441.13807 | AO59: 384.85836 | AP59: 361.69387 | AQ59: 547.76066 | AR59: 278.58393 | AS59: 1821.5468 | AT59: 394.60489 | AU59: 355.19421 | AV59: 607.54818 | AW59: 346.05546 | AX59: 555.42314 | AY59: 553.79349 | AZ59: 331.91863 | BA59: =SUM(F59:AZ59) -> 41406.284 | BC59: 48 | BD59: 木材・竹材・卸売業
B60: 49 | C60: 各種商品小売業 | D60: J55 | E60: 人 | F60: 18606.133 | G60: 1524.8885 | H60: 2047.0667 | I60: 6825.1333 | J60: 1891.3333 | K60: 557 | L60: 1659 | M60: 11902.449 | N60: 4268.2 | O60: 4390.4 | P60: 20433.333 | Q60: 24618 | R60: 49352.2 | S60: 23468.6 | T60: 5510.0667 | U60: 1660.4667 | V60: 3692.4667 | W60: 1881.4667 | X60: 3941.0667 | Y60: 6253.2 | Z60: 5653.6667 | AA60: 8585.1333 | AB60: 29043.667 | AC60: 5036.4 | AD60: 7800.2 | AE60: 11753.933 | AF60: 38052.533 | AG60: 17090.267 | AH60: 2513 | AI60: 3385.3333 | AJ60: 1397.4667 | AK60: 2143.6 | AL60: 8048.6 | AM60: 12017.467 | AN60: 3924.5333 | AO60: 712.7 | AP60: 4012.0667 | AQ60: 4753.6 | AR60: 1904.2667 | AS60: 20051.133 | AT60: 3092.8667 | AU60: 3119.3333 | AV60: 4349.8667 | AW60: 2498.6667 | AX60: 1616.1333 | AY60: 8129.8667 | AZ60: 2636 | BA60: =SUM(F60:AZ60) -> 407804.77 | BC60: 49 | BD60: 各種商品小売業 | BE60: J55
B61: 50 | C61: 自動車小売業 | D61: J571 | E61: 人 | F61: 26170.733 | G61: 6320.8021 | H61: 7678.2667 | I61: 11767.8 | J61: 6033.2 | K61: 6578.0667 | L61: 10863.067 | M61: 13779.353 | N61: 11482.533 | O61: 11102.667 | P61: 28028.933 | Q61: 22948.667 | R61: 37281.333 | S61: 28346.467 | T61: 14633.267 | U61: 6186.7333 | V61: 7089.2667 | W61: 5496.8 | X61: 4251.5333 | Y61: 12172.067 | Z61: 12619.067 | AA61: 20059.467 | AB61: 40119.867 | AC61: 9683.0667 | AD61: 8010.9333 | AE61: 10832.467 | AF61: 31958.533 | AG61: 22581.667 | AH61: 5506.0667 | AI61: 5658.8667 | AJ61: 3756.0667 | AK61: 4069.5333 | AL61: 10900 | AM61: 14315.267 | AN61: 7585.7333 | AO61: 4111.6667 | AP61: 5714.6667 | AQ61: 7540.0667 | AR61: 3412.6667 | AS61: 22774.467 | AT61: 3892.6 | AU61: 5985.2667 | AV61: 8277.9333 | AW61: 6259.8 | AX61: 5634.8667 | AY61: 7692.9333 | AZ61: 4991 | BA61: =SUM(F61:AZ61) -> 572156.09 | BC61: 50 | BD61: 自動車小売業 | BE61: J571
B62: 51 | C62: 機械器具小売業 | E62: 人 | F62: 13859.333 | G62: 3339.2667 | H62: 3096.2667 | I62: 5332.5333 | J62: 2817.9333 | K62: 2924.8667 | L62: 4223.6 | M62: 7322.2 | N62: 4252.2 | O62: 5166.0667 | P62: 13988.667 | Q62: 13481.2 | R62: 39977.2 | S62: 20075.333 | T62: 6868.5333 | U62: 2413.1333 | V62: 3209.6 | W62: 2220.9333 | X62: 2280.2 | Y62: 4531.2667 | Z62: 5678.6667 | AA62: 10567 | AB62: 21424.133 | AC62: 5066.5333 | AD62: 3659.5333 | AE62: 7385.1333 | AF62: 26092.267 | AG62: 13601.2 | AH62: 3832.4667 | AI62: 3167.1333 | AJ62: 1618.6 | AK62: 2281.1333 | AL62: 5963.7333 | AM62: 8591.0667 | AN62: 4917.8667 | AO62: 2494.5333 | AP62: 3153.6 | AQ62: 4479.4 | AR62: 2554.1333 | AS62: 13092.333 | AT62: 2063.9333 | AU62: 4396.9333 | AV62: 4681.6 | AW62: 3709.2 | AX62: 3438 | AY62: 5025 | AZ62: 4448.1333 | BA62: =SUM(F62:AZ62) -> 338763.6 | BC62: 51 | BD62: 機械器具小売業
B63: 52 | C63: 家具・建具・畳小売業 | D63: J59 | E63: 人 | F63: 2568 | G63: 493.75547 | H63: 697.33333 | I63: 1548 | J63: 611 | K63: 465.66667 | L63: 323.33333 | M63: 1404.6391 | N63: 936.33333 | O63: 955.66667 | P63: 2193.3333 | Q63: 3042 | R63: 8805.3333 | S63: 3898 | T63: 888 | U63: 689 | V63: 583.33333 | W63: 713.33333 | X63: 505 | Y63: 824.33333 | Z63: 1538.6667 | AA63: 2141.6667 | AB63: 6343.3333 | AC63: 1144 | AD63: 781 | AE63: 2131 | AF63: 6586.6667 | AG63: 3815.3333 | AH63: 872.33333 | AI63: 1137.6667 | AJ63: 472.33333 | AK63: 636.33333 | AL63: 1539.3333 | AM63: 2219.3333 | AN63: 1001.3333 | AO63: 625.33333 | AP63: 636.66667 | AQ63: 1001.6667 | AR63: 403.33333 | AS63: 3783.6667 | AT63: 389.66667 | AU63: 744 | AV63: 987.33333 | AW63: 670 | AX63: 454.66667 | AY63: 723 | AZ63: 774 | BA63: =SUM(F63:AZ63) -> 75699.061 | BC63: 52 | BD63: 家具・建具・畳小売業 | BE63: J59
B64: 53 | C64: じゅう器小売業 | E64: 人 | F64: 4248.6667 | G64: 1009.0561 | H64: 798.66667 | I64: 1635.3333 | J64: 914.26667 | K64: 1261.4 | L64: 1981.4 | M64: 2994.314 | N64: 1918 | O64: 2227.0667 | P64: 5359.4667 | Q64: 4629.7333 | R64: 10823 | S64: 6408.4 | T64: 1877.4667 | U64: 794.93333 | V64: 1535.6 | W64: 423.4 | X64: 868.66667 | Y64: 1849.4667 | Z64: 1554.6 | AA64: 3550.0667 | AB64: 5763.2667 | AC64: 1685.4667 | AD64: 1340 | AE64: 2885.1333 | AF64: 6173.3333 | AG64: 3135.8667 | AH64: 1317.2667 | AI64: 711.06667 | AJ64: 320.86667 | AK64: 210.66667 | AL64: 1356.1333 | AM64: 2861.5333 | AN64: 1558.2 | AO64: 422.33333 | AP64: 839 | AQ64: 1401.4 | AR64: 694.13333 | AS64: 4889.6 | AT64: 1075.7333 | AU64: 1066 | AV64: 1672.8 | AW64: 815.8 | AX64: 686.06667 | AY64: 1108.2667 | AZ64: 1289.2667 | BA64: =SUM(F64:AZ64) -> 103942.17 | BC64: 53 | BD64: じゅう器小売業
B65: 54 | C65: 燃料小売業 | D65: J603 | E65: 人 | F65: 21662.2 | G65: 5753.1589 | H65: 5180.6 | I65: 7197.2667 | J65: 4809.3333 | K65: 4804.5333 | L65: 7788.6667 | M65: 10833.538 | N65: 7110.6667 | O65: 7105.6667 | P65: 16053.067 | Q65: 12769.133 | R65: 17917 | S65: 14662.067 | T65: 8286.9333 | U65: 3788.8667 | V65: 4075 | W65: 3176.4 | X65: 3217.7333 | Y65: 9378.2667 | Z65: 7309.6667 | AA65: 13113 | AB65: 16507.667 | AC65: 7461.8 | AD65: 3907.6 | AE65: 5246.5333 | AF65: 11821.2 | AG65: 11944.8 | AH65: 3408.4 | AI65: 3663.4667 | AJ65: 2013 | AK65: 2988.0667 | AL65: 6855.4 | AM65: 8052.7333 | AN65: 4829.6 | AO65: 2744.4667 | AP65: 3175.2667 | AQ65: 5312.9333 | AR65: 2621.8 | AS65: 13166.8 | AT65: 3104.1333 | AU65: 4467.8 | AV65: 7014.0667 | AW65: 4327.5333 | AX65: 3837.2667 | AY65: 7241.6 | AZ65: 5237.4 | BA65: =SUM(F65:AZ65) -> 346944.1 | BC65: 54 | BD65: 燃料小売業 | BE65: J603
B66: 55 | C66: 上記以外の卸売・小売業 | E66: 人 | F66: 383909.37 | G66: 91079.087 | H66: 82388.682 | I66: 174672.05 | J66: 67873.469 | K66: 76405.472 | L66: 116833.57 | M66: 185828.5 | N66: 125796.65 | O66: 138290.45 | P66: 433395.91 | Q66: 356370.96 | R66: 1758594.9 | S66: 561679.42 | T66: 177135.65 | U66: 77418.029 | V66: 89319.884 | W66: 61205.818 | X66: 56832.783 | Y66: 142141.78 | Z66: 142105.2 | AA66: 265512.89 | AB66: 593248.5 | AC66: 116364.3 | AD66: 84749.785 | AE66: 207237.84 | AF66: 854119.9 | AG66: 369784.58 | AH66: 72661.472 | AI66: 67699.752 | AJ66: 38501.662 | AK66: 47495.347 | AL66: 133255.75 | AM66: 221326.5 | AN66: 93805.153 | AO66: 48876.554 | AP66: 73312.36 | AQ66: 96775.981 | AR66: 53353.558 | AS66: 405316.25 | AT66: 56386.272 | AU66: 93707.047 | AV66: 122594.31 | AW66: 79964.162 | AX66: 78565.679 | AY66: 124363.65 | AZ66: 91379.088 | BA66: =SUM(F66:AZ66) -> 9789636 | BC66: 55 | BD66: 上記以外の卸売・小売業
A67: 不動産業，物品賃貸業 | B67: 56 | C67: 物品賃貸業 | E67: 人 | F67: 14031.133 | G67: 2319.2667 | H67: 3146.7333 | I67: 6074.5333 | J67: 2091.8 | K67: 2294.5333 | L67: 3398.7333 | M67: 4768.8 | N67: 3312.6 | O67: 3381 | P67: 12386.533 | Q67: 12178.467 | R67: 56851.467 | S67: 17517.2 | T67: 4952.1333 | U67: 2630.0667 | V67: 2831.5333 | W67: 1648.0667 | X67: 1534.3333 | Y67: 4808.6667 | Z67: 3259.8 | AA67: 7175.6667 | AB67: 18299.333 | AC67: 2557.5333 | AD67: 3012.7333 | AE67: 5129.6667 | AF67: 23342.4 | AG67: 11059.067 | AH67: 2277.3333 | AI67: 1265.1333 | AJ67: 1167.1333 | AK67: 1438.2 | AL67: 4389.7333 | AM67: 6642.7333 | AN67: 2970.2667 | AO67: 1375.8 | AP67: 2227.8667 | AQ67: 2274.3333 | AR67: 1466.1333 | AS67: 12585.2 | AT67: 1842.0667 | AU67: 2374.7333 | AV67: 3800.4667 | AW67: 2623.7333 | AX67: 2275.3333 | AY67: 4268.0667 | AZ67: 5156.5333 | BA67: =SUM(F67:AZ67) -> 298414.6 | BB67: 不動産業，物品賃貸業 | BC67: 56 | BD67: 物品賃貸業
A68: (L)学術研究，専門・技術サービス業 | B68: 57 | C68: 写真業 | D68: Q808 | E68: 人 | F68: 2037.0667 | G68: 405.46667 | H68: 405.2 | I68: 840.86667 | J68: 416.26667 | K68: 486.6 | L68: 608.06667 | M68: 1018 | N68: 698.86667 | O68: 619.6 | P68: 1884.5333 | Q68: 2292.4 | R68: 7228.0667 | S68: 2256.5333 | T68: 876.53333 | U68: 392.2 | V68: 496.13333 | W68: 328.26667 | X68: 334.8 | Y68: 871.86667 | Z68: 754.13333 | AA68: 1483.7333 | AB68: 2966.7333 | AC68: 566 | AD68: 472.6 | AE68: 987.53333 | AF68: 4490.7333 | AG68: 1920.6 | AH68: 566.73333 | AI68: 264.8 | AJ68: 184.26667 | AK68: 258.2 | AL68: 834.73333 | AM68: 1522.5333 | AN68: 477.2 | AO68: 319.53333 | AP68: 406 | AQ68: 416.33333 | AR68: 195.46667 | AS68: 1921 | AT68: 231.26667 | AU68: 438 | AV68: 579.2 | AW68: 392.73333 | AX68: 300.86667 | AY68: 553.4 | AZ68: 554.13333 | BA68: =SUM(F68:AZ68) -> 48555.8 | BB68: (L)学術研究，専門・技術サービス業 | BC68: 57 | BD68: 写真業 | BE68: Q808
B69: 58 | C69: 学術開発研究機関 | D69: Q81 | E69: 人 | F69: 5326 | G69: 1056.9333 | H69: 203.8 | I69: 2535.6 | J69: 215 | K69: 179.6 | L69: 877.53333 | M69: 25968.133 | N69: 14074.667 | O69: 3320.6 | P69: 14236.667 | Q69: 9668.9333 | R69: 36320.2 | S69: 64114.333 | T69: 1152.8667 | U69: 255 | V69: 340.2 | W69: 593.6 | X69: 963.13333 | Y69: 2105.4667 | Z69: 1094.4 | AA69: 10210.667 | AB69: 7775.4667 | AC69: 1538.3333 | AD69: 1875.8 | AE69: 5582.7333 | AF69: 14966.733 | AG69: 8469.6 | AH69: 924.46667 | AI69: 196.13333 | AJ69: 112.53333 | AK69: 362 | AL69: 841.4 | AM69: 2899.8 | AN69: 510 | AO69: 264.13333 | AP69: 966.73333 | AQ69: 223.8 | AR69: 184.73333 | AS69: 1627.8667 | AT69: 195.06667 | AU69: 1109.9333 | AV69: 548.33333 | AW69: 185 | AX69: 223 | AY69: 1193 | AZ69: 231.06667 | BA69: =SUM(F69:AZ69) -> 247821 | BC69: 58 | BD69: 学術開発研究機関 | BE69: Q81
A70: 宿泊業、飲食サービス業 | C70: 飲食店、宿泊業大分類 | D70: M | BB70: 宿泊業、飲食サービス業 | BD70: 飲食店、宿泊業大分類 | BE70: M
B71: 59 | C71: 一般飲食店 | D71: M70 | E71: 人 | F71: 176389.87 | G71: 34803.2 | H71: 29790.267 | I71: 68575.867 | J71: 27046.6 | K71: 31219.733 | L71: 49168.467 | M71: 85924.467 | N71: 63750.067 | O71: 60633.2 | P71: 211075.67 | Q71: 186149 | R71: 801469.27 | S71: 315667.33 | T71: 69663.933 | U71: 32503.133 | V71: 42196 | W71: 25708.933 | X71: 29911.6 | Y71: 66058.133 | Z71: 72382.8 | AA71: 128346.8 | AB71: 318725.47 | AC71: 59405.133 | AD71: 42281.867 | AE71: 109618.8 | AF71: 399489.53 | AG71: 201199.47 | AH71: 37471 | AI71: 28576.133 | AJ71: 16420.533 | AK71: 19074.333 | AL71: 55564.2 | AM71: 94572.6 | AN71: 40984.467 | AO71: 22430.933 | AP71: 31178.933 | AQ71: 43351.667 | AR71: 24166.733 | AS71: 191682.4 | AT71: 26436.8 | AU71: 49238.267 | AV71: 52995.333 | AW71: 34761 | AX71: 36456.467 | AY71: 51413 | AZ71: 57651.933 | BA71: =SUM(F71:AZ71) -> 4653581.3 | BC71: 59 | BD71: 一般飲食店 | BE71: M70
B72: 60 | C72: 上記以外の飲食店、宿泊業 | E72: 人 | F72: 72465.667 | G72: 13147.808 | H72: 14693.667 | I72: 20597.333 | J72: 12511 | K72: 14816.333 | L72: 20913.333 | M72: 21225.696 | N72: 19927.333 | O72: 18866.333 | P72: 40657.667 | Q72: 50024.667 | R72: 172377 | S72: 72852.333 | T72: 33647.667 | U72: 12606.667 | V72: 19672.333 | W72: 10806.333 | X72: 15749 | Y72: 37722 | Z72: 20709.333 | AA72: 50018 | AB72: 66129.333 | AC72: 19012.333 | AD72: 13739 | AE72: 34695 | AF72: 79807.667 | AG72: 54299 | AH72: 10120.667 | AI72: 11209 | AJ72: 8364.6667 | AK72: 8984 | AL72: 14261 | AM72: 27033.667 | AN72: 15250 | AO72: 7809 | AP72: 8537.6667 | AQ72: 14244.667 | AR72: 9721.6667 | AS72: 48981.667 | AT72: 10308.667 | AU72: 18727 | AV72: 22673.333 | AW72: 17847.667 | AX72: 15944.667 | AY72: 21975.667 | AZ72: 26930 | BA72: =SUM(F72:AZ72) -> 1352614.5 | BC72: 60 | BD72: 上記以外の飲食店、宿泊業
A73: 生活関連サービス業，娯楽業 | B73: 61 | C73: 洗濯業 | D73: Q821 | E73: 人 | F73: 21617.667 | G73: 4972.4464 | H73: 3225.4 | I73: 6772.8667 | J73: 3351.1333 | K73: 3452.4667 | L73: 4513.4 | M73: 8925.2493 | N73: 6573.9333 | O73: 5759.6 | P73: 20428.933 | Q73: 17290 | R73: 41238.067 | S73: 29831.733 | T73: 7250.7333 | U73: 2916.6667 | V73: 3001.6 | W73: 2505.9333 | X73: 2566.2 | Y73: 6066.6 | Z73: 10202.667 | AA73: 11573.8 | AB73: 20083.667 | AC73: 4647.4667 | AD73: 3383.1333 | AE73: 9662.5333 | AF73: 23452.467 | AG73: 14199.733 | AH73: 3887.5333 | AI73: 2436 | AJ73: 1646.9333 | AK73: 1675 | AL73: 4953 | AM73: 10554.6 | AN73: 4020.2667 | AO73: 1715.1333 | AP73: 3368.4 | AQ73: 4238.5333 | AR73: 1739.8 | AS73: 15132.533 | AT73: 3176.2 | AU73: 3939.1333 | AV73: 4788.2 | AW73: 3068 | AX73: 3246.6 | AY73: 6733.9333 | AZ73: 3405.6667 | BA73: =SUM(F73:AZ73) -> 383191.56 | BB73: 生活関連サービス業，娯楽業 | BC73: 61 | BD73: 洗濯業 | BE73: Q821
A74: 医療、福祉 | C74: 医療、福祉大分類 | D74: N | BB74: 医療、福祉 | BD74: 医療、福祉大分類 | BE74: N
B75: 62 | C75: 医療業 | D75: N73 | E75: 床 | F75: 104918 | G75: 21503 | H75: 19786 | I75: 27637 | J75: 16922 | K75: 15852 | L75: 28464 | M75: 34777 | N75: 23730 | O75: 26494 | P75: 66079 | Q75: 59959 | R75: 132070 | S75: 77360 | T75: 30189 | U75: 18413 | V75: 20029 | W75: 12902 | X75: 11837 | Y75: 25593 | Z75: 22843 | AA75: 42009 | AB75: 72581 | AC75: 22163 | AD75: 15331 | AE75: 37175 | AF75: 111486 | AG75: 67231 | AH75: 17084 | AI75: 15872 | AJ75: 9628 | AK75: 11872 | AL75: 32336 | AM75: 44815 | AN75: 29702 | AO75: 17412 | AP75: 17558 | AQ75: 26477 | AR75: 20200 | AS75: 96432 | AT75: 17827 | AU75: 31742 | AV75: 41354 | AW75: 24348 | AX75: 22615 | AY75: 40998 | AZ75: 20248 | BA75: =SUM(F75:AZ75) -> 1703853 | BC75: 62 | BD75: 医療業 | BE75: N73
B76: 63 | C76: 上記以外の医療、福祉 | E76: 人 | F76: 132295.33 | G76: 43708.938 | H76: 37532.533 | I76: 53746.467 | J76: 34776.733 | K76: 31875.533 | L76: 42817.067 | M76: 58080.327 | N76: 37852.133 | O76: 48882.933 | P76: 123518.33 | Q76: 108079.27 | R76: 279285.47 | S76: 204618.47 | T76: 66200.467 | U76: 28153.8 | V76: 30557.533 | W76: 21057.667 | X76: 20134.533 | Y76: 54909 | Z76: 44316.333 | AA76: 84877.067 | AB76: 139056.4 | AC76: 42855.467 | AD76: 33505.667 | AE76: 54761.867 | AF76: 209155.13 | AG76: 131554.33 | AH76: 29849 | AI76: 27044.067 | AJ76: 17686.2 | AK76: 27306 | AL76: 50080.333 | AM76: 71106.4 | AN76: 39100.333 | AO76: 20483.733 | AP76: 23382.6 | AQ76: 39291 | AR76: 19879.933 | AS76: 127550.6 | AT76: 24454.6 | AU76: 44260.933 | AV76: 52426.067 | AW76: 35713.8 | AX76: 37327.067 | AY76: 53137.8 | AZ76: 39359.333 | BA76: =SUM(F76:AZ76) -> 2977604.6 | BC76: 63 | BD76: 上記以外の医療、福祉
A77: サービス業 | C77: サービス業大分類 | D77: Q | BB77: サービス業 | BD77: サービス業大分類 | BE77: Q
B78: 64 | C78: 自動車整備業 | D78: Q86 | E78: 人 | F78: 14869.133 | G78: 4717.7333 | H78: 3705.5333 | I78: 5548.5333 | J78: 3427.3333 | K78: 3343.1333 | L78: 6099.2667 | M78: 9187.9333 | N78: 5388.1333 | O78: 6194.6667 | P78: 13778.267 | Q78: 12697.133 | R78: 16252.8 | S78: 12446.133 | T78: 5810.7333 | U78: 2898.9333 | V78: 2534.6667 | W78: 1771.7333 | X78: 3016.3333 | Y78: 5527.6 | Z78: 4922 | AA78: 8574.8667 | AB78: 16433.267 | AC78: 4015.8 | AD78: 1732.0667 | AE78: 3993.5333 | AF78: 14349 | AG78: 8204.5333 | AH78: 2111.8 | AI78: 2466.6 | AJ78: 1232.9333 | AK78: 1517 | AL78: 4358.9333 | AM78: 5720.9333 | AN78: 2497.0667 | AO78: 2081.7333 | AP78: 2191.6 | AQ78: 3210.7333 | AR78: 1822.8667 | AS78: 11651.2 | AT78: 2860 | AU78: 2704.6667 | AV78: 4685.4667 | AW78: 3156.8 | AX78: 3603.1333 | AY78: 4878.9333 | AZ78: 4904.4 | BA78: =SUM(F78:AZ78) -> 269097.6 | BC78: 64 | BD78: 自動車整備業 | BE78: Q86
B79: 65 | C79: と畜場 | D79: Q932 | E79: 人 | F79: 93.933333 | G79: 91.012557 | H79: 141 | I79: 11.266667 | J79: 0 | K79: 108.06667 | L79: 24.4 | M79: 459.71083 | N79: 85.6 | O79: 82.866667 | P79: 183.5 | Q79: 200.53333 | R79: 41.666667 | S79: 258.53333 | T79: 113.33333 | U79: 68.5 | V79: 17.466667 | W79: 0 | X79: 0 | Y79: 105.4 | Z79: 46 | AA79: 60.466667 | AB79: 148.06667 | AC79: 24 | AD79: 5.8 | AE79: 0 | AF79: 25.2 | AG79: 25.266667 | AH79: 0 | AI79: 6.8 | AJ79: 0 | AK79: 0 | AL79: 26.733333 | AM79: 50.266667 | AN79: 0 | AO79: 5 | AP79: 67.6 | AQ79: 0.86666667 | AR79: 0 | AS79: 123.53333 | AT79: 25.933333 | AU79: 20 | AV79: 12.066667 | AW79: 5.3 | AX79: 157 | AY79: 80.866667 | AZ79: 111.4 | BA79: =SUM(F79:AZ79) -> 3114.9567 | BC79: 65 | BD79: と蓄場 | BE79: Q932
E80: （頭） | F80: 228980 | G80: 30160 | H80: 14203 | I80: 27900 | J80: 3886 | K80: 17887 | L80: 6259 | M80: 28096 | N80: 13694 | O80: 18853 | P80: 43596 | Q80: 26935 | R80: 92993 | S80: 20300 | T80: 2856 | U80: 1792 | V80: 7079 | W80: 0 | X80: 4141 | Y80: 9780 | Z80: 20477 | AA80: 11376 | AB80: 24502 | AC80: 13467 | AD80: 8364 | AE80: 13043 | AF80: 55902 | AG80: 65175 | AH80: 2425 | AI80: 683 | AJ80: 7878 | AK80: 4652 | AL80: 10449 | AM80: 21900 | AN80: 4238 | AO80: 8669 | AP80: 17496 | AQ80: 5448 | AR80: 4466 | AS80: 54290 | AT80: 6912 | AU80: 18361 | AV80: 44066 | AW80: 6598 | AX80: 54583 | AY80: 110478 | AZ80: 4222 | BA80: =SUM(F80:AZ80) -> 1199510
B81: 66 | C81: 上記以外のサービス業 | BC81: 66 | BD81: 上記以外のサービス業
A82: 公 務 | B82: 67 | C82: 公務大分類 | D82: R | E82: 人 | F82: 126658.87 | G82: 32122.443 | H82: 26527.867 | I82: 46395.133 | J82: 23434.533 | K82: 22413 | L82: 36915.533 | M82: 51311.151 | N82: 30733.2 | O82: 34973.733 | P82: 120475.4 | Q82: 123483.53 | R82: 236384.73 | S82: 111001.67 | T82: 47595.867 | U82: 17113.4 | V82: 21744.4 | W82: 16091.267 | X82: 17292.333 | Y82: 37318.8 | Z82: 35039.867 | AA82: 48162.867 | AB82: 101635.27 | AC82: 34487.933 | AD82: 25761.6 | AE82: 48279.2 | AF82: 102751.8 | AG82: 69227.533 | AH82: 27701 | AI82: 21013.333 | AJ82: 14295.467 | AK82: 17189.133 | AL82: 33172.8 | AM82: 41762.533 | AN82: 27290.733 | AO82: 17122.933 | AP82: 16351.267 | AQ82: 26371.733 | AR82: 17788.933 | AS82: 82356.6 | AT82: 19123.133 | AU82: 31513.133 | AV82: 39639.933 | AW82: 24036.933 | AX82: 23838.267 | AY82: 40771.867 | AZ82: 37197.867 | BA82: =SUM(F82:AZ82) -> 2203870.5 | BB82: 公 務 | BC82: 67 | BD82: 公務大分類 | BE82: R
A85: 教育、学習支援業 | B85: 66 | C85: 教育、学習支援業大分類 | D85: O | E85: 人 | F85: 127576.67 | G85: 24472.933 | H85: 28482.8 | I85: 56585.733 | J85: 22603.133 | K85: 22239.467 | L85: 39761.867 | M85: 61243.467 | N85: 43036.733 | O85: 45179.8 | P85: 164169.33 | Q85: 151359.73 | R85: 318018.07 | S85: 232650.67 | T85: 48303.4 | U85: 22046.067 | V85: 28229.733 | W85: 16764.067 | X85: 19291.467 | Y85: 49823.267 | Z85: 49996.267 | AA85: 76494.133 | AB85: 167066.53 | AC85: 45379.8 | AD85: 42988.533 | AE85: 84446.067 | AF85: 186891.53 | AG85: 132487.27 | AH85: 41650.467 | AI85: 26032.733 | AJ85: 14017.333 | AK85: 19070.8 | AL85: 51210.067 | AM85: 65566.467 | AN85: 30085.933 | AO85: 20767.333 | AP85: 25395.2 | AQ85: 26666 | AR85: 18588.267 | AS85: 119443.47 | AT85: 18299.467 | AU85: 37180.933 | AV85: 41176.467 | AW85: 24616.667 | AX85: 30422.667 | AY85: 40339.8 | AZ85: 34932.6 | BA85: =SUM(F85:AZ85) -> 2993051.2 | BB85: 教育、学習支援業 | BC85: 66 | BD85: 教育、学習支援業大分類 | BE85: O
A86: 複合サービス事業 | B86: 67 | C86: 複合サービス事業大分類 | D86: P | E86: 人 | F86: 22848.333 | G86: 2657.0422 | H86: 3826 | I86: 7048 | J86: 5669.3333 | K86: 5130 | L86: 5219 | M86: 4490.4108 | N86: 3740 | O86: 3874.6667 | P86: 10542 | Q86: 8854 | R86: 17282 | S86: 13974 | T86: 7140.3333 | U86: 2866 | V86: 2513.3333 | W86: 1897 | X86: 2978.3333 | Y86: 9852.6667 | Z86: 7659 | AA86: 10307 | AB86: 11007 | AC86: 4471.3333 | AD86: 3960 | AE86: 6209 | AF86: 11574 | AG86: 11284 | AH86: 856 | AI86: 3918 | AJ86: 2881.3333 | AK86: 4969.3333 | AL86: 7167.3333 | AM86: 11881.333 | AN86: 6517 | AO86: 3239.6667 | AP86: 3575 | AQ86: 5827.3333 | AR86: 3318.6667 | AS86: 7611 | AT86: 3356.3333 | AU86: 10085 | AV86: 6638 | AW86: 3209 | AX86: 6334.3333 | AY86: 10018 | AZ86: 4972 | BA86: =SUM(F86:AZ86) -> 315248.45 | BB86: 複合サービス事業 | BC86: 67 | BD86: 複合サービス事業大分類 | BE86: P
B87: 70 | C87: 上記以外のサービス業 | F87: 209891 | G87: 35085.785 | H87: 34953 | I87: 89105.667 | J87: 29894.667 | K87: 29433 | L87: 76462.333 | M87: 82607.41 | N87: 74570.667 | O87: 70159.667 | P87: 200836.67 | Q87: 183491.67 | R87: 892544.67 | S87: 286070.33 | T87: 76086 | U87: 32386.333 | V87: 36226.667 | W87: 22331.333 | X87: 24631.333 | Y87: 55962 | Z87: 61719.333 | AA87: 143806.33 | AB87: 308576.67 | AC87: 64552 | AD87: 41421.333 | AE87: 71865.667 | AF87: 367042 | AG87: 152559.67 | AH87: 26331.667 | AI87: 21450.667 | AJ87: 15646.333 | AK87: 20929.333 | AL87: 62436.667 | AM87: 99876 | AN87: 40474.333 | AO87: 18972.333 | AP87: 31809.333 | AQ87: 42859.333 | AR87: 15538.333 | AS87: 197416.33 | AT87: 25789.333 | AU87: 35736.667 | AV87: 50213.333 | AW87: 32417 | AX87: 35171.667 | AY87: 40116.333 | AZ87: 54623.333 | BA87: =SUM(F87:AZ87) -> 4622081.5 | BC87: 70 | BD87: 上記以外のサービス業

Sheet 表－資・Ⅲ(北海道)
B1: 表－資・Ⅲ 都道府県別・業種別・種類別推計排出量
B2: No. | C2: 1 | D2: 北海道 | F2: 平成24年度 | Y2: (単位：ｔ/年)
B3: 大分類 | C3: 番号 | D3: 産業分類 | E3: コード | F3: 燃え殻 | G3: 汚 泥 | H3: 廃 油 | I3: 廃 酸 | J3: 廃アルカリ | K3: 廃プラス チック類 | L3: 紙くず | M3: 木くず | N3: 繊維くず | O3: 動植物性 残 渣 | P3: 動物系固形不要物 | Q3: ゴムくず | R3: 金属くず | S3: ガラスくず及び 陶磁器くず | T3: 鉱さい | U3: がれき類 | V3: 動物の ふん尿 | W3: 動物の死体 | X3: ばいじん | Y3: 合 計
B4: 農業、 | D4: 農業大分類 | E4: Ａ | F4: 0 | G4: 47 | H4: 6 | I4: 0 | J4: 0 | K4: 20366 | L4: 0 | M4: 14735 | N4: 0 | O4: 0 | P4: 0 | Q4: 0 | R4: 35 | S4: 1 | T4: 0 | U4: 13 | V4: 19906189 | W4: 41480.346 | X4: 0 | Y4: 19982872
B5: 林業 | C5: 1 | D5: 耕種農業 | E5: A011 | K5: 20362 | Y5: 20362
C6: 2 | D6: 畜産農業 | E6: A012 | V6: 19906189 | W6: 41480.346 | Y6: 19947669
C7: 3 | D7: 林業大分類 | E7: A02 | G7: 47 | H7: 6 | K7: 4 | M7: 14735 | R7: 35 | S7: 1 | U7: 13 | Y7: 14841
C8: 4 | D8: 上記以外の農業 | Y8: 0
B9: 漁 業 | D9: 漁業大分類 | E9: B | F9: 0 | G9: 0 | H9: 0 | I9: 0 | J9: 0 | K9: 1076 | L9: 0 | M9: 0 | N9: 0 | O9: 0 | P9: 0 | Q9: 0 | R9: 0 | S9: 0 | T9: 0 | U9: 0 | V9: 0 | W9: 0 | X9: 0 | Y9: 1076
C10: 5 | D10: 漁 業 | E10: B03 | K10: 1076 | Y10: 1076
C11: 6 | D11: 水産養殖業 | E11: B04 | Y11: 0
B12: 鉱 業 | C12: 7 | D12: 鉱業 | E12: C | G12: 69180 | H12: 362 | K12: 77 | Q12: 1 | R12: 147 | Y12: 69767
B13: 建設業 | C13: 8 | D13: 建設業 | E13: D | F13: 17 | G13: 192853 | H13: 1640 | I13: 31 | J13: 246 | K13: 46223 | L13: 11004 | M13: 215769 | N13: 951 | Q13: 34 | R13: 36742 | S13: 43981 | T13: 1696 | U13: 2913169 | X13: 1 | Y13: 3464357
B14: 製造業 | D14: 製造業大分類 | E14: E | F14: 237249 | G14: 6157426 | H14: 24591 | I14: 25110 | J14: 5913 | K14: 63391 | L14: 8604 | M14: 55678 | N14: 39 | O14: 221706 | P14: 2127 | Q14: 289 | R14: 14596 | S14: 185821 | T14: 252035 | U14: 3269 | V14: 0 | W14: 0 | X14: 144741 | Y14: 7402585
C15: 9 | D15: 食料品製造業 | E15: E9 | F15: 14772 | G15: 1028064 | H15: 3102 | I15: 17143 | J15: 204 | K15: 14314 | O15: 204497 | P15: 2127 | R15: 1427 | S15: 613 | U15: 58 | X15: 6541 | Y15: 1292862
C16: 10 | D16: 飲料・たばこ・飼料製造業 | E16: E10 | F16: 7 | G16: 695 | H16: 20 | I16: 193 | K16: 732 | O16: 17209 | R16: 86 | S16: 260 | U16: 8 | Y16: 19210
C17: 11 | D17: 繊維工業 | E17: E11 | K17: 171 | N17: 39 | R17: 2 | Y17: 212
C18: 12 | D18: 木材・木製品製造業 | E18: E12 | F18: 1720 | G18: 5 | H18: 32 | K18: 348 | M18: 40549 | R18: 72 | S18: 5 | U18: 83 | X18: 93 | Y18: 42907
C19: 13 | D19: 家具・装備品製造業 | E19: E13 | F19: 1 | H19: 62 | J19: 18 | K19: 2580 | M19: 5170 | R19: 150 | S19: 81 | U19: 33 | Y19: 8095
C20: 14 | D20: パルプ・紙・紙加工品製造業 | E20: E14 | F20: 153467 | G20: 4896177 | H20: 226 | I20: 8 | J20: 43 | K20: 10313 | L20: 2180 | M20: 9959 | R20: 131 | S20: 39 | U20: 45 | X20: 102742 | Y20: 5175330
C21: 15 | D21: 印刷・同関連業 | E21: E15 | G21: 14 | H21: 511 | I21: 86 | J21: 403 | K21: 4223 | L21: 6424 | Q21: 3 | R21: 405 | S21: 1 | Y21: 12070
C22: 16 | D22: 化学工業 | E22: E16 | F22: 12 | G22: 14422 | H22: 124 | I22: 1362 | J22: 2 | K22: 1652 | R22: 97 | S22: 466 | U22: 47 | Y22: 18184
C23: 17 | D23: 石油製品・石炭製品製造業 | E23: E17 | F23: 304 | G23: 28610 | H23: 3110 | I23: 3187 | J23: 4360 | K23: 514 | R23: 849 | S23: 773 | U23: 350 | X23: 3345 | Y23: 45402
C24: 18 | D24: プラスチック製品製造業 | E24: E18 | F24: 3 | G24: 92 | H24: 98 | I24: 8 | K24: 4907 | R24: 88 | U24: 25 | Y24: 5221
C25: 19 | D25: ゴム製品製造業 | E25: E19 | H25: 1 | K25: 408 | Q25: 271 | R25: 21 | Y25: 701
C26: 20 | D26: なめし革・同製品・毛皮製造業 | E26: E20 | G26: 6202 | K26: 108 | Y26: 6310
C27: 21 | D27: 窯業・土石製品製造業 | E27: E21 | G27: 63168 | H27: 7 | J27: 1 | K27: 818 | R27: 83 | S27: 144945 | U27: 2472 | Y27: 211494
C28: 22 | D28: 鉄鋼業 | E28: E22 | F28: 66957 | G28: 80493 | H28: 13945 | I28: 216 | K28: 14928 | R28: 411 | S28: 36699 | T28: 249069 | U28: 85 | X28: 32014 | Y28: 494817
C29: 23 | D29: 非鉄金属製造業 | E29: E23 | G29: 1 | H29: 5 | J29: 2 | K29: 42 | R29: 1 | T29: 8 | U29: 4 | X29: 4 | Y29: 67
C30: 24 | D30: 金属製品製造業 | E30: E24 | F30: 5 | G30: 2091 | H30: 385 | I30: 1529 | J30: 187 | K30: 2746 | Q30: 11 | R30: 1278 | S30: 1380 | T30: 11 | Y30: 9623
C31: 25 | D31: はん用機械器具製造業 | E31: E25 | F31: 1 | G31: 279 | H31: 104 | J31: 11 | K31: 497 | Q31: 3 | R31: 2336 | S31: 260 | T31: 1 | U31: 59 | X31: 2 | Y31: 3553
C32: 26 | D32: 生産用機械器具製造業 | E32: E26 | Y32: 0
C33: 27 | D33: 業務用機械器具製造業 | E33: E27 | Y33: 0
C34: 28 | D34: 電子部品・デバイス・電子回路製造業 | E34: E28 | G34: 17964 | H34: 558 | I34: 690 | J34: 523 | K34: 2533 | R34: 639 | S34: 230 | T34: 1 | Y34: 23138
C35: 29 | D35: 電気機械器具製造業 | E35: E29 | Y35: 0
C36: 30 | D36: 情報通信機械器具製造業 | E36: E30 | Y36: 0
C37: 31 | D37: 輸送用機械器具製造業 | E37: E31 | G37: 19119 | H37: 2216 | I37: 687 | J37: 157 | K37: 1384 | R37: 6486 | S37: 59 | T37: 2945 | Y37: 33053
C38: 32 | D38: その他の製造業 | E38: E32 | G38: 30 | H38: 85 | I38: 1 | J38: 2 | K38: 173 | Q38: 1 | R38: 34 | S38: 10 | Y38: 336
B39: 電気･ガス | D39: インフラ大分類 | E39: F | F39: 29978 | G39: 4747736.8 | H39: 88 | I39: 13 | J39: 1 | K39: 442 | L39: 0 | M39: 0 | N39: 0 | O39: 0 | P39: 0 | Q39: 2 | R39: 229 | S39: 164 | T39: 0 | U39: 4016 | V39: 0 | W39: 0 | X39: 0 | Y39: 4782669.8
B40: ･熱供給･ | C40: 33 | D40: 電気業 | E40: F33 | F40: 28227 | G40: 5162 | H40: 74 | I40: 1 | J40: 1 | K40: 62 | R40: 17 | S40: 148 | U40: 21 | Y40: 33713
B41: 水道業 | C41: 34 | D41: ガス業 | E41: F34 | G41: 216 | H41: 3 | K41: 64 | Q41: 2 | R41: 112 | S41: 12 | U41: 3201 | Y41: 3610
C42: 35 | D42: 熱供給業 | E42: F35 | F42: 1751 | H42: 8 | R42: 7 | U42: 2 | Y42: 1768
C43: 36 | D43: 上水道業 | E43: F361 | G43: 392632.07 | H43: 3 | I43: 12 | K43: 316 | R43: 93 | S43: 4 | U43: 792 | Y43: 393852.07
C44: 37 | D44: 下水道業 | E44: F363 | G44: 4349726.7 | Y44: 4349726.7
B45: 情報通信業 | D45: 情報大分類 | E45: G | F45: 0 | G45: 0 | H45: 26 | I45: 1 | J45: 22 | K45: 101 | L45: 1059 | M45: 0 | N45: 0 | O45: 0 | P45: 0 | Q45: 0 | R45: 27 | S45: 2 | T45: 0 | U45: 0 | V45: 0 | W45: 0 | X45: 0 | Y45: 1238
C46: 38 | D46: 通信業 | E46: G37 | Y46: 0
C47: 39 | D47: 放送業 | E47: G38 | Y47: 0
C48: 40 | D48: 情報サービス業 | E48: G39 | Y48: 0
C49: 41 | D49: インターネット付随サービス業 | E49: G40 | Y49: 0
C50: 42 | D50: 映像・音声・文字情報制作業 | E50: G41 | H50: 26 | I50: 1 | J50: 22 | K50: 101 | L50: 1059 | R50: 27 | S50: 2 | Y50: 1238
B51: 運輸業 | D51: 運輸大分類 | E51: H | F51: 16 | G51: 132551 | H51: 1768 | I51: 0 | J51: 4 | K51: 7513 | L51: 0 | M51: 8463 | N51: 0 | O51: 0 | P51: 0 | Q51: 0 | R51: 1253 | S51: 250 | T51: 0 | U51: 1687 | V51: 0 | W51: 0 | X51: 0 | Y51: 153505
C52: 43 | D52: 鉄道業 | E52: H42 | F52: 16 | G52: 129970 | H52: 819 | J52: 4 | K52: 433 | M52: 7 | R52: 253 | S52: 30 | U52: 19 | Y52: 131551
C53: 44 | D53: 道路旅客運送業 | E53: H43 | G53: 277 | H53: 307 | K53: 880 | R53: 61 | S53: 25 | Y53: 1550
C54: 45 | D54: 道路貨物運送業 | E54: H44 | G54: 2304 | H54: 642 | K54: 6200 | M54: 8456 | R54: 939 | S54: 195 | U54: 1668 | Y54: 20404
C55: 46 | D55: 上記以外の運輸通信業 | Y55: 0
B56: 卸売・小売業 | D56: 卸・小売大分類 | E56: I | F56: 1 | G56: 9919 | H56: 10840 | I56: 13 | J56: 308 | K56: 29494 | L56: 0 | M56: 0 | N56: 0 | O56: 0 | P56: 0 | Q56: 0 | R56: 15241 | S56: 3757 | T56: 0 | U56: 22 | V56: 0 | W56: 0 | X56: 0 | Y56: 69595
C57: 47 | D57: 各種商品卸売業 | E57: I49 | G57: 73 | H57: 673 | J57: 10 | K57: 4506 | R57: 447 | S57: 111 | Y57: 5820
C58: 48 | D58: 木材・竹材卸売業 | E58: I5311 | Y58: 0
C59: 49 | D59: 各種商品小売業 | E59: I56 | Y59: 0
C60: 50 | D60: 自動車小売業 | E60: I591 | G60: 6065 | H60: 4865 | J60: 124 | K60: 8624 | R60: 7058 | S60: 47 | Y60: 26783
C61: 51 | D61: 機械器具小売業 | E61: I593 | F61: 1 | G61: 1784 | H61: 3508 | I61: 1 | J61: 174 | K61: 6371 | R61: 2817 | S61: 330 | Y61: 14986
C62: 52 | D62: 家具・建具・畳小売業 | E62: I601 | Y62: 0
C63: 53 | D63: じゅう器小売業 | E63: I602 | Y63: 0
C64: 54 | D64: 燃料小売業 | E64: I603 | G64: 1525 | H64: 1791 | K64: 2221 | R64: 3598 | S64: 20 | U64: 22 | Y64: 9177
C65: 55 | D65: 上記以外の卸売・小売業 | G65: 472 | H65: 3 | I65: 12 | K65: 7772 | R65: 1321 | S65: 3249 | Y65: 12829
B66: 不動産業、 | D66: 不動産・物品賃借大分類 | E66: K | F66: 0 | G66: 34.316079 | H66: 15.118247 | I66: 0.0079513933 | J66: 0 | K66: 374.05539 | M66: 67.411913 | Q66: 0 | R66: 45.967305 | S66: 323.22229 | U66: 33.179545 | Y66: 893.27872
B67: 物品賃借業 | C67: 56 | D67: 物品賃借業 | E67: K70 | F67: 0 | G67: 34.316079 | H67: 15.118247 | I67: 0.0079513933 | J67: 0 | K67: 374.05539 | L67: 0 | M67: 67.411913 | N67: 0 | O67: 0 | P67: 0 | Q67: 0 | R67: 45.967305 | S67: 323.22229 | T67: 0 | U67: 33.179545 | V67: 0 | W67: 0 | X67: 0 | Y67: 893.27872
B68: 学術研究、専門 | D68: 学術研究、専門・技術サービス業 | E68: L | F68: 0 | G68: 101 | H68: 35 | I68: 755 | J68: 522 | K68: 630 | L68: 0 | M68: 0 | N68: 0 | O68: 0 | P68: 0 | Q68: 0 | R68: 346 | S68: 138 | T68: 0 | U68: 814 | V68: 0 | W68: 0 | X68: 0 | Y68: 3341
C69: 57 | D69: 学術開発研究機関 | E69: L71 | G69: 101 | H69: 35 | I69: 20 | J69: 11 | K69: 615 | R69: 346 | S69: 138 | U69: 814 | Y69: 2080
C70: 58 | D70: 写真業 | E70: L746 | I70: 735 | J70: 511 | K70: 15 | Y70: 1261
B71: 飲食店、宿泊業 | D71: 飲食店、宿泊業大分類 | E71: Ｍ | F71: 0 | G71: 47693 | H71: 3571 | I71: 0 | J71: 0 | K71: 8511 | L71: 0 | M71: 0 | N71: 0 | O71: 0 | P71: 0 | Q71: 0 | R71: 246 | S71: 393 | T71: 0 | U71: 0 | V71: 0 | W71: 0 | X71: 0 | Y71: 60414
C72: 59 | D72: 一般飲食店 | E72: M76 | G72: 47693 | H72: 3571 | K72: 8511 | R72: 246 | S72: 393 | Y72: 60414
C73: 60 | D73: 上記以外の飲食店、宿泊業 | Y73: 0
B74: 生活関連サービス | D74: 生活関連サービス、娯楽業 | E74: N | F74: 0 | G74: 21662 | H74: 205 | I74: 0 | J74: 0 | K74: 713 | L74: 0 | M74: 0 | N74: 0 | O74: 0 | P74: 0 | Q74: 0 | R74: 16 | S74: 0 | T74: 0 | U74: 0 | V74: 0 | W74: 0 | X74: 0 | Y74: 22596
C75: 61 | D75: 洗濯業 | E75: N781 | G75: 21662 | H75: 205 | K75: 713 | R75: 16 | Y75: 22596
B76: 教育、学習支援業 | C76: 64 | D76: 教育、学習支援業大分類 | E76: O | F76: 0.33646116 | G76: 182.96531 | H76: 30.458041 | I76: 13.676108 | J76: 5.3125151 | K76: 407.56058 | L76: 0 | M76: 15.409952 | N76: 0 | O76: 0 | P76: 0 | Q76: 0.10785705 | R76: 353.27866 | S76: 208.65493 | T76: 0.37665033 | U76: 255.40861 | V76: 0 | W76: 0 | X76: 0 | Y76: 1473.5457
B77: 医療、福祉 | D77: 医療、福祉大分類 | E77: P | F77: 3 | G77: 261 | H77: 44 | I77: 65 | J77: 75 | K77: 12734 | L77: 0 | M77: 0 | N77: 0 | O77: 0 | P77: 0 | Q77: 1 | R77: 866 | S77: 1171 | T77: 0 | U77: 0 | V77: 0 | W77: 0 | X77: 0 | Y77: 15220
C78: 62 | D78: 医療業 | E78: P83 | F78: 3 | G78: 261 | H78: 44 | I78: 65 | J78: 75 | K78: 12734 | Q78: 1 | R78: 866 | S78: 1171 | Y78: 15220
C79: 63 | D79: 上記以外の医療、福祉 | Y79: 0
B80: 複合サービス事業 | C80: 65 | D80: 複合サービス事業大分類 | E80: Q | G80: 131 | H80: 107 | I80: 23 | K80: 1258 | R80: 14 | Y80: 1533
B81: サービス業 | D81: サービス業大分類 | E81: R | F81: 0 | G81: 54555 | H81: 3195 | I81: 24 | J81: 14 | K81: 15505 | L81: 0 | M81: 0 | N81: 0 | O81: 0 | P81: 587 | Q81: 34 | R81: 6998 | S81: 185 | T81: 0 | U81: 0 | V81: 0 | W81: 0 | X81: 0 | Y81: 81097
C82: 66 | D82: 自動車整備業 | E82: R891 | G82: 3354 | H82: 3195 | I82: 24 | J82: 14 | K82: 15505 | Q82: 34 | R82: 6998 | S82: 185 | Y82: 29309
C83: 67 | D83: と蓄場 | E83: R952 | G83: 51201 | P83: 587 | Y83: 51788
C84: 68 | D84: 上記以外のサービス業 | Y84: 0
