Workbook
Name A: #REF!
Name OLE_LINK7: '表－Ⅱ・４'!$E$6
Name RZK_DD: #REF!
Name RZK_DD: #REF!
Name RZK_DD: #REF!
Name RZK_TTL: #REF!
Name RZK_TTL: #REF!
Name RZK_TTL: #REF!
Name san: #REF!
Name san: #REF!
Name デフレータ: [1]デフレータ!#REF!
Name デフレータ: [1]デフレータ!#REF!
Name デフレータ: [1]デフレータ!#REF!
Name デフレータ: [1]デフレータ!#REF!

Sheet 表－Ⅱ・１
A1: 表－Ⅱ・１ 調査対象業種
A3: No. | B3: 大分類 | C3: 産業分類 | D3: コード | E3: No. | F3: 大分類 | G3: 産業分類 | H3: コード
B4: 農業、林業 | C4: 農業、林業大分類 | D4: A | F4: 情報通信業 | G4: 情報通信業大分類 | H4: G
A5: 1 | C5: 耕種農業 | D5: A011 | E5: 38 | G5: 通信業 | H5: G37
A6: 2 | C6: 畜産農業 | D6: A012 | E6: 39 | G6: 放送業 | H6: G38
A7: 3 | C7: 林業 | D7: A02 | E7: 40 | G7: 情報サービス業 | H7: G39
A8: 4 | C8: 上記以外の農業，林業 | E8: 41 | G8: インターネット付随サービス業 | H8: G40
B9: 漁業 | C9: 漁業大分類 | D9: B | E9: 42 | G9: 映像・音声・文字情報制作業 | H9: G41
A10: 5 | C10: 漁業 | D10: B03 | F10: 運輸業、 郵便業 | G10: 運輸業、郵便業大分類 | H10: H
A11: 6 | C11: 水産養殖業 | D11: B04 | E11: 43 | G11: 鉄道業 | H11: H42
A12: 7 | B12: 鉱業 | C12: 鉱業，採石業，砂利採取業 | D12: C | E12: 44 | G12: 道路旅客運送業 | H12: H43
A13: 8 | B13: 建設業 | C13: 建設業 | D13: D | E13: 45 | G13: 道路貨物運送業 | H13: H44
B14: 製造業 | C14: 製造業大分類 | D14: E | E14: 46 | G14: 上記以外の運輸業，郵便業
A15: 9 | C15: 食料品製造業 | D15: E09 | F15: 卸売業、 小売業 | G15: 卸売業、小売業大分類 | H15: I
A16: 10 | C16: 飲料・たばこ・飼料製造業 | D16: E10 | E16: 47 | G16: 各種商品卸売業 | H16: I50
A17: 11 | C17: 繊維工業 | D17: E11 | E17: 48 | G17: 木材、竹材卸売業 | H17: I5311
A18: 12 | C18: 木材・木製品製造業 | D18: E12 | E18: 49 | G18: 各種商品小売業 | H18: I56
A19: 13 | C19: 家具・装備品製造業 | D19: E13 | E19: 50 | G19: 自動車小売業 | H19: I591
A20: 14 | C20: パルプ・紙・紙加工品製造業 | D20: E14 | E20: 51 | G20: 機械器具小売業 | H20: I593
A21: 15 | C21: 印刷・同関連業 | D21: E15 | E21: 52 | G21: 家具・建具・畳小売業 | H21: I601
A22: 16 | C22: 化学工業 | D22: E16 | E22: 53 | G22: じゅう器小売業 | H22: I602
A23: 17 | C23: 石油製品・石炭製品製造業 | D23: E17 | E23: 54 | G23: 燃料小売業 | H23: I605
A24: 18 | C24: プラスチック製品製造業 | D24: E18 | E24: 55 | G24: 上記以外の卸売業，小売業
A25: 19 | C25: ゴム製品製造業 | D25: E19 | F25: 不動産業、 物品賃借業 | G25: 不動産業、物品賃借業大分類 | H25: K
A26: 20 | C26: なめし革・同製品・毛皮製造業 | D26: E20 | E26: 56 | G26: 物品賃貸業 | H26: K70
A27: 21 | C27: 窯業・土石製品製造業 | D27: E21 | F27: 学術研究、 専門・技術サービス業 | G27: 学術研究、専門・技術サービス業大分類 | H27: L
A28: 22 | C28: 鉄鋼業 | D28: E22 | E28: 57 | G28: 学術・開発研究機関 | H28: L71
A29: 23 | C29: 非鉄金属製造業 | D29: E23 | E29: 58 | G29: 写真業 | H29: L746
A30: 24 | C30: 金属製品製造業 | D30: E24 | F30: 宿泊業、 飲食サービス業 | G30: 宿泊業、飲食サービス業大分類 | H30: M
A31: 25 | C31: はん用機械器具製造業 | D31: E25 | E31: 59 | G31: 飲食店 | H31: M76
A32: 26 | C32: 生産用機械器具製造業 | D32: E26 | E32: 60 | G32: 上記以外の宿泊業，飲食サービス業
A33: 27 | C33: 業務用機械器具製造業 | D33: E27 | F33: 生活関連サービス業、娯楽業 | G33: 生活関連サービス業、娯楽業大分類 | H33: N
A34: 28 | C34: 電子部品・デバイス・電子回路製造業 | D34: E28 | E34: 61 | G34: 洗濯業 | H34: N781
A35: 29 | C35: 電気機械器具製造業 | D35: E29 | E35: 62 | F35: 教育，学習支援業大分類 | G35: 教育，学習支援業 | H35: O
A36: 30 | C36: 情報通信機械器具製造業 | D36: E30 | F36: 医療・福祉 | G36: 医療、福祉大分類 | H36: P
A37: 31 | C37: 輸送用機械器具製造業 | D37: E31 | E37: 63 | G37: 医療業 | H37: P83
A38: 32 | C38: その他の製造業 | D38: E32 | E38: 64 | G38: 上記以外の医療，福祉
B39: 電気・ガス・熱供給・水道業 | C39: 電気・ガス・熱供給・水道業大分類 | D39: F | E39: 65 | F39: 複合サービス事業 | G39: 複合サービス事業 | H39: Q
A40: 33 | C40: 電気業 | D40: F33 | F40: サービス業 | G40: サービス業大分類 | H40: R
A41: 34 | C41: ガス業 | D41: F34 | E41: 66 | G41: 自動車整備業 | H41: R891
...

Sheet 表－Ⅱ・２
A1: 表－Ⅱ・２ 調査対象廃棄物
A3: 廃棄物名 | C3: 廃棄物名 | E3: 廃棄物名
A4: 燃え殻 | C4: 木くず | E4: 鉱さい
A5: 汚泥 | C5: 繊維くず | E5: がれき類
A6: 廃油 | C6: 動植物性残さ | F6: うち石綿含有
A7: 廃酸 | C7: 動物系固形不要物 | E7: 動物のふん尿
A8: 廃アルカリ | C8: ゴムくず | E8: 動物の死体
A9: 廃プラスチック類 | C9: 金属くず | E9: ばいじん
B10: うち石綿含有 | C10: ガラスくず、コンクリートくず及び陶磁器くず
A11: 紙くず | D11: うち石綿含有

Sheet 表－Ⅱ・３
A1: 表－Ⅱ・３ 調査票の構成
A3: No. | B3: 調査票名 | C3: 内容 | D3: 枚数
A4: 1 | B4: 実態調査状況票 | C4: 各都道府県で実施した既往の産業廃棄物実態調査の内容及び、今後の調査予定を調査するためのもの | D4: 4枚
A5: 2 | B5: 業種別・種類別産業廃棄物排出量調査票 | C5: 産業廃棄物及び特別管理産業廃棄物の業種別廃棄物種類別の年間排出量を調査するためのもの | D5: 2枚
A6: 3 | B6: 種類別産業廃棄物処理状況調査票 | C6: 産業廃棄物及び特別管理産業廃棄物の中間処理・最終処分・再生利用状況を調査するためのもの | D6: 2枚
A7: 合 計 | D7: 8枚

Sheet 表－Ⅱ・４
A1: 表－Ⅱ・４ 業種ごとの活動量指標の種類及び出典
A3: 業種 | C3: 活動量指標の種類 | D3: 単位 | E3: 出典 | F3: 出典年次
A4: 農業 | B4: 耕種農業 | C4: 施設面積(ハウス面積、ガラス室面積) | D4: ａ | E4: 世界農林業センサス(農業センサス) | F4: 平成22年
B5: 畜産農業 | C5: 家畜数 | D5: 頭羽 | E5: 畜産統計、食鳥流通統計調査 | F5: 平成24年
A6: 林業 | C6: 従業者数 | D6: 人 | E6: 経済センサス | F6: 平成22年
A7: 漁業 | C7: 従業者数 | D7: 人 | E7: 経済センサス | F7: 平成22年
A8: 鉱業 | C8: 従業者数 | D8: 人 | E8: 経済センサス | F8: 平成22年
A9: 建設業 | C9: 元請完成工事高 | D9: 百万円 | E9: 建設工事施工統計調査報告 | F9: 平成24年
A10: 製造業 | C10: 製造品出荷額等 | D10: 百万円 | E10: 工業統計 | F10: 平成24年
A11: 電気･ガス･熱供給･水道業 | C11: 従業者数 | D11: 人 | E11: 経済センサス | F11: 平成22年
B12: 上水道業 | C12: 給水人口 | D12: 人 | E12: 水道統計の経年分析 | F12: 平成24年
B13: 下水道 | C13: 処理区域人口 | D13: 人 | E13: 都道府県別汚水処理人口普及状況 | F13: 平成24年
A14: 情報通信業、運輸業 | C14: 従業者数 | D14: 人 | E14: 経済センサス | F14: 平成22年
A15: 卸売・小売業 飲食店、宿泊業 | C15: 従業者数 | D15: 人 | E15: 経済センサス | F15: 平成22年
A16: 医療、福祉 | C16: 病床数 | D16: 床 | E16: 医療施設動態調査 | F16: 平成24年
A17: 教育，学習支援業 複合ｻｰﾋﾞｽ業、サービス業 | C17: 従業者数 | D17: 人 | E17: 経済センサス | F17: 平成22年
B18: と畜場(動物系固形不要物) | C18: と畜頭数 | D18: 頭 | E18: 畜産物流通統計 | F18: 平成24年
A19: 公務 | C19: 従業者数 | D19: 人 | E19: 経済センサス | F19: 平成22年

Sheet 表－Ⅱ・５
A1: 表－Ⅱ・５ デフレーター
A3: 業種大分類 | B3: デフレーター
B4: 建設業* | C4: 製造業**
A5: 平成12年度 | B5: 99.8 | C5: 99.7
A6: 平成13年度 | B6: 98.1 | C6: 98.4
A7: 平成14年度 | B7: 97.1 | C7: 97
A8: 平成15年度 | B8: 97.7 | C8: 96.1
A9: 平成16年度 | B9: 98.8 | C9: 98
A10: 平成17年度 | B10: 100 | C10: 100.8
A11: 平成18年度 | B11: 102 | C11: 103.3
A12: 平成19年度 | B12: 104.6 | C12: 105.7
A13: 平成20年度 | B13: 107.9 | C13: 107.6
A14: 平成21年度 | B14: 104.3 | C14: 101.3
A15: 平成22年度 | B15: 104.6 | C15: 101.9
A16: 平成23年度 | B16: 106.2 | C16: 103.2
A17: 平成24年度 | B17: 104.7 | C17: 102.1
A18: * 「建設工事費デフレーター（2005年度基準）」（国土交通省総合政策局情報管理部建設調査統計課）
A19: ** 「企業物価指数（2005年基準）」（日本銀行調査統計局）

Sheet 表－Ⅱ・６
A1: 表－Ⅱ・６ 動物のふん尿原単位
A3: 畜 種 | C3: 排せつ物量（㎏／頭羽／日）
C4: ふん | D4: 尿 | E4: 合計
A5: 乳牛 | B5: 搾乳牛 | C5: 45.5 | D5: 13.4 | E5: 58.9
B6: 乾・未経産 | C6: 29.7 | D6: 6.1 | E6: 35.8
B7: 育成牛 | C7: 17.9 | D7: 6.7 | E7: 24.6
A8: 肉牛 | B8: 2歳未満 | C8: 17.8 | D8: 6.5 | E8: 24.3
B9: 2歳以上 | C9: 20 | D9: 6.7 | E9: 26.7
B10: 乳用種 | C10: 18 | D10: 7.2 | E10: 25.2
A11: 豚 | B11: 肥育豚 | C11: 2.1 | D11: 3.8 | E11: 5.9
B12: 繁殖豚 | C12: 3.3 | D12: 7 | E12: 10.3
A13: 採卵鶏 | B13: 成鶏 | C13: 0.136 | D13: － | E13: 0.136
B14: ヒナ | C14: 0.059 | D14: － | E14: 0.059
A15: ブロイラー | C15: 0.13 | D15: － | E15: 0.13
A16: 資料：築城幹典、原田靖生：我が国における家畜排泄物発生の実態と今後の課題、環境
A17: 保全と新しい畜産、農林水産技術情報協会、１５－２９（１９９７）
E18: （農林水産省提供）

Sheet 表－Ⅱ・７
A1: 表－Ⅱ・７ 家畜の体重の設定
A3: 種別 | B3: 区分 | C3: 体重の範囲 | D3: 体重の設定値 (kg)
C4: （kg）
A5: 乳用牛 | B5: 搾乳牛 | C5: 600～700 | D5: 650
B6: 乾乳牛 | C6: 550～650 | D6: 600
B7: 育成牛 | C7: 40～500 | D7: 270
A8: 肉用牛 | B8: 2歳未満 | C8: 200～400 | D8: 300
B9: 2歳以上 | C9: 400～700 | D9: 550
B10: 乳用種 | C10: 250～700 | D10: 475
A11: 豚 | B11: 子豚 | C11: 3～30 | D11: 16.5
B12: 肥育豚 | C12: 30～110 | D12: 70
B13: 繁殖豚 | C13: 150～ 300 | D13: 225
A14: 資料：「堆肥化施設設計マニュアル」（社団法人中央畜産会：平成13年4月20日 二版二刷）（ただし、体重の設定値は体重の範囲より算出）

Sheet 表－Ⅱ・８
A1: 表－Ⅱ・８ 濃縮汚泥量（全国量（ｍ３／年））
A3: No. | B3: 都道府県名 | C3: 平成24年度
A4: 1 | B4: 北海道 | C4: 4349727
A5: 2 | B5: 青森県 | C5: 545603
A6: 3 | B6: 岩手県 | C6: 476155
A7: 4 | B7: 宮城県 | C7: 1117127
A8: 5 | B8: 秋田県 | C8: 333376
A9: 6 | B9: 山形県 | C9: 553219
A10: 7 | B10: 福島県 | C10: 811030
A11: 8 | B11: 茨城県 | C11: 1423653
A12: 9 | B12: 栃木県 | C12: 860653
A13: 10 | B13: 群馬県 | C13: 986063
A14: 11 | B14: 埼玉県 | C14: 4142274
A15: 12 | B15: 千葉県 | C15: 3325815
... A50: 47 | B50: 沖縄県 | C50: 902621
A51: 合計 | C51: 76045849

Sheet 表－Ⅱ・９
A1: 表－Ⅱ・９ 処理状況算出項目（処理区分）
A3: 処 理 区 分 | B3: 調査票Ⅲ処理項目番号との関係
A4: ①直接再生利用量（中間処理せず、再生利用された量） | B4: 自己未処理自己再生利用量（8）
A5: ②直接最終処分量（中間処理せず、最終処分された量） | B5: 自己未処理自己最終処分量（11）＋（5）のうち委託最終処分された量（14ハ）
A6: ③中間処理量（中間処理の対象となった量） | B6: 自己中間処理量（4）＋（5）のうち委託中間処理された量（13イ）
A7: ④減量化量（中間処理により減量した量） （＝③－⑤） | B7: －
A8: ⑤処理残渣量（中間処理後の処理残渣量） （＝⑥＋⑦） | B8: －
A9: ⑥処理後再生利用量（中間処理後に、再生利用された量） | B9: 自己中間処理後再生利用量（9）＋委託中間処理後再生利用量（17）
A10: ⑦処理後最終処分量（中間処理後に、最終処分された量） | B10: 自己中間処理後自己最終処分量（10）＋（6）のうち委託最終処分された量（14ニ）＋委託中間処理後最終処分量（18）

Sheet 表－Ⅱ・１０
A1: 表－Ⅱ・１０ 上水汚泥の処理量（推計排出量と処理量の比率からの算出）
A3: 処理区分 | C3: 処理量 | D3: 処理量の比率
C4: （千ｔ／年） | D4: （％）
A5: 排出量 | C5: 10870 | D5: 100
B6: 有効利用量 | C6: 707 | D6: 6.5
B7: 減量化量 | C7: 9566 | D7: 88
B8: 埋立量 | C8: 598 | D8: 5.5

Sheet 表－Ⅱ・１１
A1: 表－Ⅱ・１１ 下水汚泥の処理量
A3: 処理区分 | C3: 処理実績 | D3: 処理量の比率
C4: (千ｔ／年） | D4: （％）
A5: 排出量 | C5: 76046 | D5: 100
B6: 再生利用量(①) | C6: 1988 | D6: 2.6
B7: 中間処理による減量化(②) | C7: 73650 | D7: 96.9
B8: 減量化(①＋②) | C8: 75639 | D8: 99.5
B9: 最終処分量 | C9: 407 | D9: 0.5
D11: （国土交通省提供資料）

Sheet 表－Ⅲ・１
A1: 表－Ⅲ・１ 都道府県実態調査の実施状況（平成24年度実績値）
A3: №都道府県 | C3: 産業分類 （新/旧） | D3: 調査年度
D4: 平成20年度 | E4: 平成21年度 | F4: 平成22年度 | G4: 平成23年度 | H4: 平成24年度
A5: 1 | B5: 北海道 | C5: 新 | D5: ○※ | H5: ●
A6: 2 | B6: 青森県 | C6: 新 | D6: ●
A7: 3 | B7: 岩手県 | C7: 新 | D7: ○ | E7: ○ | F7: ○ | G7: ○※ | H7: ▲
A8: 4 | B8: 宮城県 | C8: 新 | D8: ○ | E8: ○ | F8: ○ | G8: ○※ | H8: ▲
A9: 5 | B9: 秋田県 | C9: 新 | D9: ○ | E9: ○ | F9: △ | G9: ○※ | H9: ▲
A10: 6 | B10: 山形県 | C10: 新 | D10: ○ | E10: ●
A11: 7 | B11: 福島県 | C11: 新 | D11: ○ | E11: ○ | F11: ○ | G11: ○※ | H11: ▲
A12: 8 | B12: 茨城県 | C12: 新 | D12: ●
A13: 9 | B13: 栃木県 | C13: 新 | D13: ○ | E13: ○ | F13: ○ | G13: ○※ | H13: ●
A14: 10 | B14: 群馬県 | C14: 新 | D14: ○※ | E14: △ | F14: △ | G14: △ | H14: ▲
A15: 11 | B15: 埼玉県 | C15: 新 | D15: ○※ | F15: △ | G15: △ | H15: ▲
A16: 12 | B16: 千葉県 | C16: 新 | D16: ○ | E16: ○ | F16: ○ | G16: ○ | H16: ●
A17: 13 | B17: 東京都 | C17: 新 | D17: △ | E17: △ | F17: △ | G17: △※ | H17: ▲
A18: 14 | B18: 神奈川県 | C18: 新 | D18: ○ | E18: ○※ | F18: ○※ | G18: △ | H18: ▲
A19: 15 | B19: 新潟県 | C19: 新 | D19: ●
A20: 16 | B20: 富山県 | C20: 新 | D20: ○ | E20: ○ | F20: ○ | G20: ○※ | H20: ▲
A21: 17 | B21: 石川県 | C21: 新 | D21: ○ | E21: ○ | F21: ○ | G21: ○※ | H21: ●
A22: 18 | B22: 福井県 | C22: 新 | D22: ●
A23: 19 | B23: 山梨県 | C23: 新 | D23: ○ | E23: ○ | F23: ○ | G23: ○※ | H23: ▲
A24: 20 | B24: 長野県 | C24: 新 | D24: ●
A25: 21 | B25: 岐阜県 | C25: 新 | D25: ●
A26: 22 | B26: 静岡県 | C26: 新 | D26: ○ | E26: ○ | F26: ○※ | H26: ▲
A27: 23 | B27: 愛知県 | C27: 新 | D27: ○ | E27: ○ | F27: ○※ | H27: ▲
A28: 24 | B28: 三重県 | C28: 旧 | D28: ○※ | H28: ▲
A29: 25 | B29: 滋賀県 | C29: 新 | D29: ○ | E29: ○ | F29: ○ | G29: ○※ | H29: ▲
A30: 26 | B30: 京都府 | C30: 旧 | D30: ○ | F30: ●
A31: 27 | B31: 大阪府 | C31: 新 | D31: ○ | F31: ●
A32: 28 | B32: 兵庫県 | C32: 旧 | D32: ●
A33: 29 | B33: 奈良県 | C33: 新 | D33: ○ | F33: ●
A34: 30 | B34: 和歌山県 | C34: 新 | D34: ○ | E34: ○ | F34: ○ | G34: ○※ | H34: ▲
A35: 31 | B35: 鳥取県 | C35: 新 | E35: ○ | F35: ○ | G35: ○※ | H35: ▲
A36: 32 | B36: 島根県 | C36: 新 | D36: ●
A37: 33 | B37: 岡山県 | C37: 新 | D37: ○ | E37: ○ | F37: △ | G37: ○※ | H37: ●
A38: 34 | B38: 広島県 | C38: 旧 | D38: ○※ | E38: △ | F38: △ | G38: △ | H38: ▲
A39: 35 | B39: 山口県 | C39: 旧 | D39: ●
A40: 36 | B40: 徳島県 | C40: 旧 | D40: ●
A41: 37 | B41: 香川県 | C41: 新 | D41: ○ | E41: ○ | F41: ○※ | G41: △ | H41: ▲
...

Sheet 表－Ⅲ・２
A1: 表－Ⅲ・２ 産業廃棄物の業種別排出量（平成24年度実績値）
A3: 業種 | C3: 平成23年度（参考） | E3: 平成24年度 | H3: 旧産業分類 | I3: 新産業分類 | K3: 旧産業分類 | L3: 新産業分類
C4: 排出量（千ｔ） | D4: 割合（%） | E4: 排出量（千ｔ） | F4: 割合（%） | H4: (大分類)農業 | I4: (大分類)農業･林業 | K4: 一般機械器具製造業 | L4: はん用機械器具、生産用機械器具､業務用機械器具､その他の製造業
A5: 農業、林業 | C5: 84709.838 | D5: =C5/C$42*100 -> 22.221538 | E5: 85720.89 | F5: =E5/E$42*100 -> 22.609479 | H5: (大分類)林業 | K5: 精密機械器具製造業
A6: 漁 業 | C6: 15.389306 | D6: =C6/C$42*100 -> 0.0040370053 | E6: 7.1266707 | F6: =E6/E$42*100 -> 0.0018797088 | H6: 繊維工業 | I6: 繊維工業 | K6: その他の製造業
A7: 鉱 業 | C7: 10466.14 | D7: =C7/C$42*100 -> 2.7455339 | E7: 9480.6385 | F7: =E7/E$42*100 -> 2.5005841 | H7: 衣服･その他繊維製品製造業 | K7: 電気機械器具製造業 | L7: 電子部品･デバイス･電子回路､電気機械器具､情報通信機械器具
A8: 建設業 | C8: 75395.176 | D8: =C8/C$42*100 -> 19.778066 | E8: 74123.884 | F8: =E8/E$42*100 -> 19.550688 | K8: 情報通信機械器具製造業
A9: 製造業 | C9: 110897.93 | D9: =C9/C$42*100 -> 29.091338 | E9: 108969.85 | F9: =E9/E$42*100 -> 28.741553 | K9: 電子部品･デバイス製造業
B10: 食料品製造業 | C10: 8625.5962 | D10: =C10/C$42*100 -> 2.2627126 | E10: 8484.3846 | F10: =E10/E$42*100 -> 2.2378152
B11: 飲料・たばこ・飼料製造業 | C11: 2970.3616 | D11: =C11/C$42*100 -> 0.77920115 | E11: 2864.4058 | F11: =E11/E$42*100 -> 0.75550688
B12: 繊維工業 | C12: 625.00714 | D12: =C12/C$42*100 -> 0.16395522 | E12: 604.15097 | F12: =E12/E$42*100 -> 0.159349
B13: 木材・木製品製造業 | C13: 647.75973 | D13: =C13/C$42*100 -> 0.1699238 | E13: 626.19764 | F13: =E13/E$42*100 -> 0.16516397
B14: 家具・装備品製造業 | C14: 217.43077 | D14: =C14/C$42*100 -> 0.057037605 | E14: 329.01437 | F14: =E14/E$42*100 -> 0.086779821
B15: パルプ・紙・紙加工品製造業 | C15: 29895.251 | D15: =C15/C$42*100 -> 7.8422822 | E15: 28996.358 | F15: =E15/E$42*100 -> 7.6479902
B16: 印刷・同関連業 | C16: 557.95829 | D16: =C16/C$42*100 -> 0.14636661 | E16: 1271.9923 | F16: =E16/E$42*100 -> 0.33549678
B17: 化学工業 | C17: 13373.006 | D17: =C17/C$42*100 -> 3.5080785 | E17: 12193.302 | F17: =E17/E$42*100 -> 3.2160679
B18: 石油製品・石炭製品製造業 | C18: 1002.9316 | D18: =C18/C$42*100 -> 0.2630944 | E18: 2166.2775 | F18: =E18/E$42*100 -> 0.5713707
B19: プラスチック製品製造業 | C19: 1090.6491 | D19: =C19/C$42*100 -> 0.28610491 | E19: 992.11947 | F19: =E19/E$42*100 -> 0.26167838
B20: ゴム製品製造業 | C20: 300.93455 | D20: =C20/C$42*100 -> 0.078942763 | E20: 330.34627 | F20: =E20/E$42*100 -> 0.087131117
B21: なめし革・同製品・毛皮製造業 | C21: 56.805366 | D21: =C21/C$42*100 -> 0.014901488 | E21: 84.101361 | F21: =E21/E$42*100 -> 0.022182317
... B28: 輸送用機械器具製造業 | C28: 3083.1075 | D28: =C28/C$42*100 -> 0.80877727 | E28: 2277.3743 | F28: =E28/E$42*100 -> 0.60067326
A29: 電気･ガス・熱供給・水道業 | C29: 95575.886 | D29: =C29/C$42*100 -> 25.071978 | E29: 96473.043 | F29: =E29/E$42*100 -> 25.445433
A30: 情報通信業 | C30: 133.2484 | D30: =C30/C$42*100 -> 0.034954435 | E30: 109.83565 | F30: =E30/E$42*100 -> 0.028969915
A31: 運輸業 | C31: 557.8678 | D31: =C31/C$42*100 -> 0.14634287 | E31: 700.44991 | F31: =E31/E$42*100 -> 0.18474852
A32: 卸売・小売業 | C32: 1462.6884 | D32: =C32/C$42*100 -> 0.38370025 | E32: 1388.7716 | F32: =E32/E$42*100 -> 0.36629812
A33: 不動産業、物品賃貸業 | C33: 116.29214 | D33: =C33/C$42*100 -> 0.030506378 | E33: 101.72673 | F33: =E33/E$42*100 -> 0.026831131
A34: 学術研究、専門・技術サービス業 | C34: 67.409518 | D34: =C34/C$42*100 -> 0.017683226 | E34: 64.645059 | F34: =E34/E$42*100 -> 0.017050582
A35: 飲食店、宿泊業 | C35: 299.03199 | D35: =C35/C$42*100 -> 0.078443673 | E35: 325.88932 | F35: =E35/E$42*100 -> 0.085955566
A36: 生活関連サービス、娯楽業 | C36: 137.27005 | D36: =C36/C$42*100 -> 0.036009414 | E36: 175.12684 | F36: =E36/E$42*100 -> 0.046190917
A37: 教育、学習支援業 | C37: 334.93624 | D37: =C37/C$42*100 -> 0.087862268 | E37: 57.932069 | F37: =E37/E$42*100 -> 0.015279985
A38: 医療、福祉 | C38: 138.17622 | D38: =C38/C$42*100 -> 0.036247125 | E38: 384.34713 | F38: =E38/E$42*100 -> 0.10137422
A39: 複合サービス事業 | C39: 27.378642 | D39: =C39/C$42*100 -> 0.0071821119 | E39: 23.977558 | F39: =E39/E$42*100 -> 0.0063242469
A40: サービス業 | C40: 775.84647 | D40: =C40/C$42*100 -> 0.2035242 | E40: 961.58903 | F40: =E40/E$42*100 -> 0.25362577
... A42: 合 計 | C42: 381206 | D42: =C42/C$42*100 -> 100 | E42: 379136.96 | F42: =E42/E$42*100 -> 100
A43: ※ 各業種の産業廃棄物の排出量は四捨五入して表示しているため、合算した値は合計値と異なる場合がある。
A44: ※ 日本標準産業分類の改訂に伴う、新産業分類で相違する業種区分の対応は以下の通り。

Sheet 表－Ⅲ・３
A1: 表－Ⅲ・３ 産業廃棄物の種類別排出量（平成24年度実績値）
A3: 種類 | B3: 平成23年度（参考） | D3: 平成24年度
B4: 排出量（千ｔ） | C4: 割合（%） | D4: 排出量（千ｔ） | E4: 割合（%）
A5: 燃え殻 | B5: 1835.9379 | C5: =B5/B$24*100 -> 0.48161307 | D5: 1869.0867 | E5: =D5/D$24*100 -> 0.49298458
A6: 汚 泥 | B6: 166131.71 | C6: =B6/B$24*100 -> 43.58056 | D6: 164638.46 | E6: =D6/D$24*100 -> 43.424535
A7: 廃 油 | B7: 3117.9775 | C7: =B7/B$24*100 -> 0.81792457 | D7: 3212.4877 | E7: =D7/D$24*100 -> 0.84731589
A8: 廃 酸 | B8: 2751.883 | C8: =B8/B$24*100 -> 0.72188868 | D8: 2595.0998 | E8: =D8/D$24*100 -> 0.68447555
A9: 廃アルカリ | B9: 1889.274 | C9: =B9/B$24*100 -> 0.49560446 | D9: 1778.2726 | E9: =D9/D$24*100 -> 0.46903173
A10: 廃プラスチック類 | B10: 5709.8648 | C10: =B10/B$24*100 -> 1.4978423 | D10: 5690.8645 | E10: =D10/D$24*100 -> 1.5010049
A11: 紙くず | B11: 1117.9945 | C11: =B11/B$24*100 -> 0.2932783 | D11: 1020.4448 | E11: =D11/D$24*100 -> 0.26914939
A12: 木くず | B12: 6232.8739 | C12: =B12/B$24*100 -> 1.6350409 | D12: 6228.9514 | E12: =D12/D$24*100 -> 1.6429291
A13: 繊維くず | B13: 79.467483 | C13: =B13/B$24*100 -> 0.020846336 | D13: 68.367084 | E13: =D13/D$24*100 -> 0.018032292
A14: 動植物性残さ | B14: 2754.2283 | C14: =B14/B$24*100 -> 0.7225039 | D14: 2571.5358 | E14: =D14/D$24*100 -> 0.67826039
A15: 動物系固形不要物 | B15: 83.715326 | C15: =B15/B$24*100 -> 0.021960653 | D15: 70.255255 | E15: =D15/D$24*100 -> 0.01853031
A16: ゴムくず | B16: 32.174545 | C16: =B16/B$24*100 -> 0.0084401988 | D16: 34.290949 | E16: =D16/D$24*100 -> 0.0090444754
... A24: 合 計 | B24: 381206 | C24: =B24/B$24*100 -> 100 | D24: 379136.96 | E24: =D24/D$24*100 -> 100

Sheet 表－Ⅲ・４
A1: 表－Ⅲ・４ 産業廃棄物の地域別排出量（平成24年度実績値）
A3: 地域別 | B3: 平成23年度（参考） | D3: 平成24年度
B4: 排出量（千ｔ） | C4: 割合（%） | D4: 排出量（千ｔ） | E4: 割合（%）
A5: 北海道 | B5: 35600 | C5: 9.3387826 | D5: 36117.071 | E5: 9.5261278
A6: 東北 | B6: 35823 | C6: 9.3972812 | D6: 37628.753 | E6: 9.9248444
A7: 関東 | B7: 100008 | C7: 26.234634 | D7: 101859.27 | E7: 26.866088
A8: 中部 | B8: 64680 | C8: 16.967204 | D8: 56103.042 | E8: 14.797566
A9: 近畿 | B9: 53829 | C9: 14.120712 | D9: 52981.398 | E9: 13.974211
A10: 中国 | B10: 25360 | C10: 6.652571 | D10: 24953.565 | E10: 6.5816757
A11: 四国 | B11: 13073 | C11: 3.4293794 | D11: 14080.27 | E11: 3.7137688
A12: 九州 | B12: 52834 | C12: 13.859698 | D12: 55413.588 | E12: 14.615718
A13: 合 計 | B13: 381206 | C13: 100 | D13: 379136.96 | E13: 100
A15: 各地域に属する都府県は次のとおり。
A16: 東北地域：青森県、岩手県、宮城県、秋田県、山形県、福島県
A17: 関東地域：茨城県、栃木県、群馬県、埼玉県、千葉県、東京都、神奈川県
A18: 中部地域：新潟県、富山県、石川県、福井県、山梨県、長野県、岐阜県、静岡県、愛知県
A19: 近畿地域：三重県、滋賀県、京都府、大阪府、兵庫県、奈良県、和歌山県
A20: 中国地域：鳥取県、島根県、岡山県、広島県、山口県
A21: 四国地域：徳島県、香川県、愛媛県、高知県
A22: 九州地域：福岡県、佐賀県、長崎県、熊本県、大分県、宮崎県、鹿児島県、沖縄県

Sheet 表-Ⅲ・５
A1: 表－Ⅲ・５ 平成24年度実績値 業種別・種類別排出量推計値一覧表
C3: 全国 | E3: 平成24年度 | X3: (単位：千ｔ/年)
A4: 大分類 | B4: 番号 | C4: 産業分類 | D4: コード | E4: 燃え殻 | F4: 汚 泥 | G4: 廃 油 | H4: 廃 酸 | I4: 廃アルカリ | J4: 廃プラス チック類 | K4: 紙くず | L4: 木くず | M4: 繊維くず | N4: 動植物性 残 渣 | O4: 動物系固形不要物 | P4: ゴムくず | Q4: 金属くず | R4: ガラスくず及び 陶磁器くず | S4: 鉱さい | T4: がれき類 | U4: 動物の ふん尿 | V4: 動物の死体 | W4: ばいじん | X4: 合 計
A5: 農業、 | C5: 農業大分類 | D5: Ａ | E5: 0.25136 | F5: 3.1348226 | G5: 0.032816359 | H5: 0.25111 | I5: 0 | J5: 91.723276 | K5: 0 | L5: 36.338883 | M5: 0 | N5: 0 | O5: 0 | P5: 0.001 | Q5: 0.23042046 | R5: 1.0287343 | S5: 0 | T5: 1.3504331 | U5: 85433.752 | V5: 152.79504 | W5: 0 | X5: 85720.89
A6: 林業 | B6: 1 | C6: 耕種農業 | D6: A011 | E6: 0 | F6: 0 | G6: 0 | H6: 0 | I6: 0 | J6: 88.614109 | K6: 0 | L6: 0 | M6: 0 | N6: 0 | O6: 0 | P6: 0 | Q6: 0.0072631473 | R6: 0.65877407 | S6: 0 | T6: 0 | U6: 0 | V6: 0 | W6: 0 | X6: 89.280146
B7: 2 | C7: 畜産農業 | D7: A012 | E7: 0 | F7: 0 | G7: 0 | H7: 0 | I7: 0 | J7: 3.0801069 | K7: 0 | L7: 0 | M7: 0 | N7: 0 | O7: 0 | P7: 0 | Q7: 0 | R7: 0 | S7: 0 | T7: 0 | U7: 85433.752 | V7: 152.79504 | W7: 0 | X7: 85589.627
B8: 3 | C8: 林業大分類 | D8: A02 | E8: 0 | F8: 3.1347406 | G8: 0.032816359 | H8: 0 | I8: 0 | J8: 0.029060567 | K8: 0 | L8: 36.338883 | M8: 0 | N8: 0 | O8: 0 | P8: 0 | Q8: 0.22315732 | R8: 0.36996023 | S8: 0 | T8: 1.3504331 | U8: 0 | V8: 0 | W8: 0 | X8: 41.479051
B9: 4 | C9: 上記以外の農業 | E9: 0 | F9: 0 | G9: 0 | H9: 0 | I9: 0 | J9: 0 | K9: 0 | L9: 0 | M9: 0 | N9: 0 | O9: 0 | P9: 0 | Q9: 0 | R9: 0 | S9: 0 | T9: 0 | U9: 0 | V9: 0 | W9: 0 | X9: 0
A10: 漁 業 | C10: 漁業大分類 | D10: B | E10: 0 | F10: 0.77985555 | G10: 0.59382427 | H10: 0 | I10: 0 | J10: 4.922339 | K10: 0 | L10: 0.16866784 | M10: 0 | N10: 0 | O10: 0 | P10: 0 | Q10: 0.50268104 | R10: 0.060775329 | S10: 0 | T10: 0.098527633 | U10: 0 | V10: 0 | W10: 0 | X10: 7.1266707
B11: 5 | C11: 漁 業 | D11: B03 | E11: 0 | F11: 0.63105041 | G11: 0.59382427 | H11: 0 | I11: 0 | J11: 4.8534623 | K11: 0 | L11: 0.14050463 | M11: 0 | N11: 0 | O11: 0 | P11: 0 | Q11: 0.14215652 | R11: 0.060775329 | S11: 0 | T11: 0.098527633 | U11: 0 | V11: 0 | W11: 0 | X11: 6.5203011
B12: 6 | C12: 水産養殖業 | D12: B04 | E12: 0 | F12: 0.14880514 | G12: 0 | H12: 0 | I12: 0 | J12: 0.068876717 | K12: 0 | L12: 0.02816321 | M12: 0 | N12: 0 | O12: 0 | P12: 0 | Q12: 0.36052452 | R12: 0 | S12: 0 | T12: 0 | U12: 0 | V12: 0 | W12: 0 | X12: 0.60636958
A13: 鉱 業 | B13: 7 | C13: 鉱業 | D13: C | E13: 0 | F13: 9251.0984 | G13: 13.425808 | H13: 0.0027377678 | I13: 2.6019565e-05 | J13: 4.6562799 | K13: 0 | L13: 4.9405282 | M13: 0 | N13: 0 | O13: 0 | P13: 0.04184941 | Q13: 1.8681593 | R13: 7.5265509 | S13: 124.72074 | T13: 72.357455 | U13: 0 | V13: 0 | W13: 0 | X13: 9480.6385
A14: 建設業 | B14: 8 | C14: 建設業 | D14: D | E14: 27.214608 | F14: 7748.4805 | G14: 97.690782 | H14: 5.1198061 | I14: 33.560389 | J14: 992.83202 | K14: 269.80431 | L14: 4896.1656 | M14: 49.838839 | N14: 0 | O14: 0 | P14: 1.2521717 | Q14: 918.24709 | R14: 1827.3476 | S14: 206.76934 | T14: 57037.868 | U14: 0 | V14: 0 | W14: 11.692784 | X14: 74123.884
A15: 製造業 | C15: 製造業大分類 | D15: E | E15: 853.09085 | F15: 58363.367 | G15: 2598.2372 | H15: 2547.8497 | I15: 1675.613 | J15: 3060.8154 | K15: 729.84169 | L15: 1158.6187 | M15: 18.528245 | N15: 2571.5358 | O15: 56.162306 | P15: 21.766285 | Q15: 5811.0277 | R15: 4018.6435 | S15: 16041.966 | T15: 1378.707 | U15: 0 | V15: 0 | W15: 8064.0807 | X15: 108969.85
B16: 9 | C16: 食料品製造業 | D16: E9 | E16: 23.103827 | F16: 6144.9753 | G16: 81.502298 | H16: 47.730801 | I16: 28.756821 | J16: 258.6689 | K16: 0 | L16: 7.9951275 | M16: 0 | N16: 1781.1643 | O16: 56.162306 | P16: 0.02198011 | Q16: 28.198958 | R16: 10.946869 | S16: 1.0194456 | T16: 0.74224946 | U16: 0 | V16: 0 | W16: 13.395447 | X16: 8484.3846
B17: 10 | C17: 飲料・たばこ・飼料製造業 | D17: E10 | E17: 15.397845 | F17: 1211.9609 | G17: 7.3849975 | H17: 806.12538 | I17: 3.5964595 | J17: 36.907685 | K17: 0 | L17: 3.8559731 | M17: 0 | N17: 741.18462 | O17: 0 | P17: 0.0079704923 | Q17: 9.2727194 | R17: 25.782777 | S17: 2.1167206 | T17: 0.1983034 | U17: 0 | V17: 0 | W17: 0.61341427 | X17: 2864.4058
B18: 11 | C18: 繊維工業 | D18: E11 | E18: 38.801201 | F18: 406.68081 | G18: 15.843078 | H18: 4.9709763 | I18: 3.2750965 | J18: 85.695259 | K18: 0 | L18: 1.9385748 | M18: 18.528245 | N18: 0 | O18: 0 | P18: 0.05149827 | Q18: 5.8026032 | R18: 1.0174698 | S18: 0.065226241 | T18: 0.42859047 | U18: 0 | V18: 0 | W18: 21.052335 | X18: 604.15097
B19: 12 | C19: 木材・木製品製造業 | D19: E12 | E19: 19.02866 | F19: 16.799264 | G19: 2.262705 | H19: 0.073009949 | I19: 0.27974519 | J19: 13.448056 | K19: 0 | L19: 531.00799 | M19: 0 | N19: 0 | O19: 0 | P19: 0.19352541 | Q19: 7.1857821 | R19: 21.009746 | S19: 0.071950956 | T19: 4.7603737 | U19: 0 | V19: 0 | W19: 10.076825 | X19: 626.19764
B20: 13 | C20: 家具・装備品製造業 | D20: E13 | E20: 1.0172964 | F20: 41.580627 | G20: 3.0909182 | H20: 0.54381227 | I20: 1.2876426 | J20: 25.539138 | K20: 0 | L20: 247.49009 | M20: 0 | N20: 0 | O20: 0 | P20: 0 | Q20: 5.4384012 | R20: 2.4683874 | S20: 0.055381444 | T20: 0.48476187 | U20: 0 | V20: 0 | W20: 0.017918439 | X20: 329.01437
B21: 14 | C21: パルプ・紙・紙加工品製造業 | D21: E14 | E21: 339.50242 | F21: 26886.493 | G21: 38.418493 | H21: 3.0143196 | I21: 12.089212 | J21: 393.48476 | K21: 519.90002 | L21: 135.8552 | M21: 0 | N21: 0 | O21: 0 | P21: 0.038961489 | Q21: 34.096681 | R21: 8.2105558 | S21: 0.44167912 | T21: 1.4698374 | U21: 0 | V21: 0 | W21: 623.34277 | X21: 28996.358
B22: 15 | C22: 印刷・同関連業 | D22: E15 | E22: 0.93430055 | F22: 520.12089 | G22: 310.77964 | H22: 4.8217711 | I22: 26.829288 | J22: 120.83923 | K22: 209.94167 | L22: 2.3757149 | M22: 0 | N22: 0 | O22: 0 | P22: 0.021493757 | Q22: 13.08688 | R22: 0.61562806 | S22: 0 | T22: 0.4714728 | U22: 0 | V22: 0 | W22: 61.154326 | X22: 1271.9923
B23: 16 | C23: 化学工業 | D23: E16 | E23: 196.5523 | F23: 9239.755 | G23: 849.21108 | H23: 386.93557 | I23: 706.99723 | J23: 294.26915 | K23: 0 | L23: 12.477944 | M23: 0 | N23: 49.186929 | O23: 0 | P23: 0.045024005 | Q23: 56.912011 | R23: 36.900004 | S23: 37.025818 | T23: 56.997237 | U23: 0 | V23: 0 | W23: 270.03654 | X23: 12193.302
B24: 17 | C24: 石油製品・石炭製品製造業 | D24: E17 | E24: 33.795289 | F24: 1281.9761 | G24: 139.61707 | H24: 83.501246 | I24: 67.051495 | J24: 51.260064 | K24: 0 | L24: 2.0508381 | M24: 0 | N24: 0 | O24: 0 | P24: 0.2151558 | Q24: 9.6786754 | R24: 19.135719 | S24: 2.1916333 | T24: 298.72845 | U24: 0 | V24: 0 | W24: 177.07577 | X24: 2166.2775
B25: 18 | C25: プラスチック製品製造業 | D25: E18 | E25: 3.8125103 | F25: 230.85401 | G25: 45.608104 | H25: 30.480949 | I25: 11.313232 | J25: 630.75025 | K25: 0 | L25: 6.5271383 | M25: 0 | N25: 0 | O25: 0 | P25: 0.083178277 | Q25: 13.890306 | R25: 11.420339 | S25: 1.8156619 | T25: 5.1879887 | U25: 0 | V25: 0 | W25: 0.37579988 | X25: 992.11947
B26: 19 | C26: ゴム製品製造業 | D26: E19 | E26: 1.6848796 | F26: 43.16984 | G26: 15.023775 | H26: 12.977339 | I26: 35.063416 | J26: 180.66451 | K26: 0 | L26: 3.7287189 | M26: 0 | N26: 0 | O26: 0 | P26: 10.930557 | Q26: 17.875874 | R26: 1.9410625 | S26: 0.070486511 | T26: 1.3085941 | U26: 0 | V26: 0 | W26: 5.9072182 | X26: 330.34627
B27: 20 | C27: なめし革・同製品・毛皮製造業 | D27: E20 | E27: 0.51597986 | F27: 46.697043 | G27: 3.294859 | H27: 0.1 | I27: 1.0033647 | J27: 29.77135 | K27: 0 | L27: 0.25163287 | M27: 0 | N27: 0 | O27: 0 | P27: 1.2637501 | Q27: 1.0109973 | R27: 0.043566957 | S27: 0.0041766492 | T27: 0.013395545 | U27: 0 | V27: 0 | W27: 0.13124531 | X27: 84.101361
... B39: 32 | C39: その他の製造業 | D39: E32 | E39: 13.641873 | F39: 103.21399 | G39: 31.681749 | H39: 12.361567 | I39: 19.130984 | J39: 124.78577 | K39: 0 | L39: 9.0346301 | M39: 0 | N39: 0 | O39: 0 | P39: 0.010792493 | Q39: 35.179237 | R39: 41.52683 | S39: 21.321386 | T39: 5.9345149 | U39: 0 | V39: 0 | W39: 172.22158 | X39: 590.04491
A40: 電気･ガス | C40: インフラ大分類 | D40: F | E40: 979.13878 | F40: 88217.189 | G40: 9.722867 | H40: 1.7437256 | I40: 4.7319507 | J40: 15.523629 | K40: 0 | L40: 0.29371916 | M40: 0 | N40: 0 | O40: 0 | P40: 0.025323755 | Q40: 5.7061203 | R40: 16.596711 | S40: 9.694263 | T40: 151.88612 | U40: 0 | V40: 0 | W40: 7060.7908 | X40: 96473.043
A41: ･熱供給･ | B41: 33 | C41: 電気業 | D41: F33 | E41: 973.82565 | F41: 1217.8903 | G41: 6.0721848 | H41: 1.4845641 | I41: 4.593758 | J41: 6.5943509 | K41: 0 | L41: 0.2342107 | M41: 0 | N41: 0 | O41: 0 | P41: 0.020488013 | Q41: 3.552793 | R41: 15.065073 | S41: 9.5196267 | T41: 106.75137 | U41: 0 | V41: 0 | W41: 7049.7574 | X41: 9395.3618
A42: 水道業 | B42: 34 | C42: ガス業 | D42: F34 | E42: 4.1535669e-05 | F42: 0.53967205 | G42: 0.26868941 | H42: 0.0068621493 | I42: 0.045073892 | J42: 0.80644604 | K42: 0 | L42: 0.0084725258 | M42: 0 | N42: 0 | O42: 0 | P42: 0.0027337553 | Q42: 1.5457621 | R42: 0.11063977 | S42: 0 | T42: 6.2443588 | U42: 0 | V42: 0 | W42: 0 | X42: 9.578752
B43: 35 | C43: 熱供給業 | D43: F35 | E43: 3.2481853 | F43: 82.902113 | G43: 0.023945757 | H43: 0 | I43: 0.016159833 | J43: 0.038870388 | K43: 0 | L43: 0.00032997815 | M43: 0 | N43: 0 | O43: 0 | P43: 0 | Q43: 0.014100878 | R43: 0.00074127878 | S43: 0 | T43: 0.20372513 | U43: 0 | V43: 0 | W43: 0.11891139 | X43: 86.567083
B44: 36 | C44: 上水道業 | D44: F361 | E44: 0.60611016 | F44: 10870.008 | G44: 0.016968422 | H44: 0.039043908 | I44: 0.070430004 | J44: 7.7908495 | K44: 0 | L44: 0.0071303208 | M44: 0 | N44: 0 | O44: 0 | P44: 0.0010498161 | Q44: 0.27379067 | R44: 0.28309744 | S44: 0.17043911 | T44: 26.941397 | U44: 0 | V44: 0 | W44: 1.2104621 | X44: 10907.418
B45: 37 | C45: 下水道業 | D45: F363 | E45: 1.4587952 | F45: 76045.849 | G45: 3.3410787 | H45: 0.21325546 | I45: 0.0065290193 | J45: 0.29311254 | K45: 0 | L45: 0.043575631 | M45: 0 | N45: 0 | O45: 0 | P45: 0.0010521705 | Q45: 0.31967363 | R45: 1.1371595 | S45: 0.0041972156 | T45: 11.745269 | U45: 0 | V45: 0 | W45: 9.7039838 | X45: 76074.117
A46: 情報通信業 | C46: 情報大分類 | D46: G | E46: 0 | F46: 1.6934903 | G46: 0.95628446 | H46: 1.2319836 | I46: 3.0832966 | J46: 22.749262 | K46: 20.798791 | L46: 0 | M46: 0 | N46: 0 | O46: 0 | P46: 0 | Q46: 19.448711 | R46: 3.445287 | S46: 0 | T46: 36.428548 | U46: 0 | V46: 0 | W46: 0 | X46: 109.83565
B47: 38 | C47: 通信業 | D47: G37 | E47: 0 | F47: 0 | G47: 0.014316186 | H47: 1.2016711 | I47: 0.067185851 | J47: 7.9612477 | K47: 0 | L47: 0 | M47: 0 | N47: 0 | O47: 0 | P47: 0 | Q47: 15.684078 | R47: 0.54571071 | S47: 0 | T47: 36.428548 | U47: 0 | V47: 0 | W47: 0 | X47: 61.902758
B48: 39 | C48: 放送業 | D48: G38 | E48: 0 | F48: 0.08941064 | G48: 0 | H48: 0 | I48: 0 | J48: 0.36479327 | K48: 0 | L48: 0 | M48: 0 | N48: 0 | O48: 0 | P48: 0 | Q48: 0.12231362 | R48: 0.25414791 | S48: 0 | T48: 0 | U48: 0 | V48: 0 | W48: 0 | X48: 0.83066544
B49: 40 | C49: 情報サービス業 | D49: G39 | E49: 0 | F49: 0.26728085 | G49: 0 | H49: 0 | I49: 0 | J49: 3.4198584 | K49: 0 | L49: 0 | M49: 0 | N49: 0 | O49: 0 | P49: 0 | Q49: 2.0004669 | R49: 1.9141658 | S49: 0 | T49: 0 | U49: 0 | V49: 0 | W49: 0 | X49: 7.601772
B50: 41 | C50: インターネット付随サービス業 | D50: G40 | E50: 0 | F50: 0 | G50: 0.051170894 | H50: 0 | I50: 0.046223705 | J50: 0.06379664 | K50: 0 | L50: 0 | M50: 0 | N50: 0 | O50: 0 | P50: 0 | Q50: 0.0050916195 | R50: 0 | S50: 0 | T50: 0 | U50: 0 | V50: 0 | W50: 0 | X50: 0.16628286
B51: 42 | C51: 映像・音声・文字情報制作業 | D51: G41 | E51: 0 | F51: 1.3367988 | G51: 0.89079738 | H51: 0.030312441 | I51: 2.969887 | J51: 10.939566 | K51: 20.798791 | L51: 0 | M51: 0 | N51: 0 | O51: 0 | P51: 0 | Q51: 1.6367612 | R51: 0.73126261 | S51: 0 | T51: 0 | U51: 0 | V51: 0 | W51: 0 | X51: 39.334177
A52: 運輸業 | C52: 運輸大分類 | D52: H | E52: 1.3272513 | F52: 231.52155 | G52: 47.02875 | H52: 0.91927067 | I52: 2.9309311 | J52: 151.77945 | K52: 0 | L52: 71.556979 | M52: 0 | N52: 0 | O52: 0 | P52: 0.30349365 | Q52: 47.23665 | R52: 12.412922 | S52: 0.9888711 | T52: 132.22375 | U52: 0 | V52: 0 | W52: 0.22004298 | X52: 700.44991
...

Sheet 表－Ⅲ・６
B1: 表－Ⅲ・６ 平成24年度実績値 都道府県別・種類別排出量推計値一覧表
W3: (単位：千ｔ/年)
A4: 大分類 | B4: No. | C4: 都道府県名 | D4: 燃え殻 | E4: 汚 泥 | F4: 廃 油 | G4: 廃 酸 | H4: 廃アルカリ | I4: 廃プラス チック類 | J4: 紙くず | K4: 木くず | L4: 繊維くず | M4: 動植物性 残 渣 | N4: 動物系 固形不要物 | O4: ゴムくず | P4: 金属くず | Q4: ガラスくず 及び 陶磁器くず | R4: 鉱さい | S4: がれき類 | T4: 動物の ふん尿 | U4: 動物の死体 | V4: ばいじん | W4: 合 計
B5: 1 | C5: 北海道 | D5: 267.26723 | E5: 11435.541 | F5: 46.545865 | G5: 26.056751 | H5: 7.1168165 | I5: 210.05058 | J5: 20.667 | K5: 294.78902 | L5: 0.99 | M5: 221.706 | N5: 2.714 | O5: 0.36114431 | P5: 77.326012 | Q5: 236.5151 | R5: 253.73138 | S5: 2923.2823 | T5: 19906.189 | U5: 41.480346 | V5: 144.742 | W5: 36117.071
B6: 2 | C6: 青森県 | D6: 6.6633232 | E6: 1380.7767 | F6: 12.569198 | G6: 3.3700349 | H6: 2.9290599 | I6: 38.250661 | J6: 20.045057 | K6: 77.954828 | L6: 2.1062173 | M6: 52.411536 | N6: 0.52487057 | O6: 0.00018731737 | P6: 20.888831 | Q6: 74.187723 | R6: 33.731067 | S6: 962.27088 | T6: 2274.4701 | U6: 0.98478859 | V6: 29.969596 | W6: 4994.1047
B7: 3 | C7: 岩手県 | D7: 12.840055 | E7: 778.54564 | F7: 13.306018 | G7: 7.017056 | H7: 6.607158 | I7: 52.320535 | J7: 4.258064 | K7: 103.21548 | L7: 0.568843 | M7: 12.686197 | N7: 2.40423 | O7: 0.06074 | P7: 10.417375 | Q7: 54.241814 | R7: 42.61969 | S7: 1350.0655 | T7: 4082.6922 | U7: 3.5235875 | V7: 88.55432 | W7: 6625.9445
B8: 4 | C8: 宮城県 | D8: 17.213401 | E8: 4893.1876 | F8: 20.841022 | G8: 5.0478745 | H8: 9.3342958 | I8: 226.85203 | J8: 16.197068 | K8: 222.2262 | L8: 1.6432926 | M8: 47.681397 | N8: 0 | O8: 8.2000812 | P8: 56.071134 | Q8: 160.38317 | R8: 27.59594 | S8: 2456.4951 | T8: 2037.668 | U8: 2.2399578 | V8: 100.8674 | W8: 10309.745
B9: 5 | C9: 秋田県 | D9: 44.665104 | E9: 941.75464 | F9: 6.9619131 | G9: 2.7693617 | H9: 7.789892 | I9: 18.130161 | J9: 2.5749795 | K9: 152.00792 | L9: 0.68 | M9: 1.617 | N9: 0.224 | O9: 0.25514162 | P9: 7.6756693 | Q9: 13.412346 | R9: 128.78952 | S9: 332.57815 | T9: 1030.1664 | U9: 0.40134754 | V9: 270.42702 | W9: 2962.8806
B10: 6 | C10: 山形県 | D10: 1.6587788 | E10: 1161.7824 | F10: 47.940747 | G10: 11.647341 | H10: 10.40452 | I10: 89.448485 | J10: 8.7517558 | K10: 105.43119 | L10: 0.60586012 | M10: 31.742584 | N10: 1.5195934 | O10: 0.04692061 | P10: 41.00865 | Q10: 52.751997 | R10: 38.284599 | S10: 682.79566 | T10: 1063.6768 | U10: 1.7371423 | V10: 231.92233 | W10: 3583.1574
B11: 7 | C11: 福島県 | D11: 197.00801 | E11: 3525.4903 | F11: 28.173464 | G11: 15.160222 | H11: 54.059559 | I11: 96.780359 | J11: 4.054217 | K11: 127.13594 | L11: 1.163103 | M11: 14.664894 | N11: 0 | O11: 0.00918 | P11: 31.635448 | Q11: 122.36432 | R11: 314.77621 | S11: 2304.4267 | T11: 1296.3672 | U11: 1.2800295 | V11: 1018.3719 | W11: 9152.9211
B12: 8 | C12: 茨城県 | D12: 45.249599 | E12: 3481.6091 | F12: 160.0806 | G12: 38.808989 | H12: 36.068638 | I12: 156.15421 | J12: 73.634624 | K12: 183.40941 | L12: 1.7675632 | M12: 98.000378 | N12: 13.934947 | O12: 1.8501923 | P12: 116.4322 | Q12: 316.86972 | R12: 693.89911 | S12: 1639.4032 | T12: 3011.569 | U12: 4.3030736 | V12: 743.19404 | W12: 10816.239
B13: 9 | C13: 栃木県 | D13: 2.3278085 | E13: 2683.2245 | F13: 52.42424 | G13: 75.323933 | H13: 32.580006 | I13: 124.62389 | J13: 7.42043 | K13: 157.91692 | L13: 0.605116 | M13: 59.51694 | N13: 0.035 | O13: 5.0882838 | P13: 94.518483 | Q13: 178.08113 | R13: 316.21734 | S13: 969.26689 | T13: 2861.4949 | U13: 4.5292638 | V13: 50.00478 | W13: 7675.1998
B14: 10 | C14: 群馬県 | D14: 9.8185908 | E14: 1260.4625 | F14: 27.849464 | G14: 9.9758978 | H14: 9.1203011 | I14: 31.92937 | J14: 1.1547931 | K14: 37.381852 | L14: 0.13706 | M14: 47.53568 | N14: 0 | O14: 0.12711481 | P14: 13.80451 | Q14: 87.70318 | R14: 55.536133 | S14: 244.07322 | T14: 3083.4671 | U14: 5.6988415 | V14: 3.8290555 | W14: 4929.6046
B15: 11 | C15: 埼玉県 | D15: 4.0753328 | E15: 7601.2046 | F15: 90.327613 | G15: 21.661216 | H15: 39.084397 | I15: 303.71397 | J15: 110.82 | K15: 125.63697 | L15: 1.616 | M15: 105.418 | N15: 0 | O15: 1.3111735 | P15: 86.102428 | Q15: 196.62108 | R15: 220.52948 | S15: 1845.5622 | T15: 827.76196 | U15: 2.1603745 | V15: 27.198 | W15: 11610.805
B16: 12 | C16: 千葉県 | D16: 42.251399 | E16: 8333.3249 | F16: 363.47477 | G16: 229.60871 | H16: 270.95608 | I16: 227.42601 | J16: 29.007973 | K16: 340.65522 | L16: 2.4936821 | M16: 303.76204 | N16: 0 | O16: 0.027807114 | P16: 1919.8308 | Q16: 381.09519 | R16: 2591.643 | S16: 2619.7457 | T16: 3143.7045 | U16: 11.128316 | V16: 2464.4966 | W16: 23274.633
... B51: 47 | C51: 沖縄県 | D51: 11.446164 | E51: 1326.877 | F51: 12.283453 | G51: 6.9260057 | H51: 5.1181025 | I51: 51.155637 | J51: 4.8217485 | K51: 43.746054 | L51: 0.52199405 | M51: 6.4936455 | N51: 0.25000108 | O51: 0.16996357 | P51: 28.088597 | Q51: 27.370766 | R51: 38.587646 | S51: 483.68832 | T51: 1540.9398 | U51: 1.5563974 | V51: 95.352695 | W51: 3685.394
B52: 全国 | D52: 1869.0867 | E52: 164638.46 | F52: 3212.4877 | G52: 2595.0998 | H52: 1778.2726 | I52: 5690.8645 | J52: 1020.4448 | K52: 6228.9514 | L52: 68.367084 | M52: 2571.5358 | N52: 70.255255 | O52: 34.290949 | P52: 7267.0759 | Q52: 6082.5083 | R52: 16397.632 | S52: 58887.362 | T52: 85433.752 | U52: 152.79504 | V52: 15137.715 | W52: 379136.96
B53: ※四捨五入により、各項目の合算値と合計値が合致しない項目がある。

Sheet 表-Ⅲ・７
A1: 表－Ⅲ・７ 平成24年度実績値 業種別・種類別全国共通原単位一覧表
C3: 全国 | E3: 平成24年度 | X3: (単位：ｔ/年)
A4: 大分類 | B4: 番号 | C4: 産業分類 | D4: コード | E4: 単位 | F4: 燃え殻 | G4: 汚 泥 | H4: 廃 油 | I4: 廃 酸 | J4: 廃アルカリ | K4: 廃プラス チック類 | L4: 紙くず | M4: 木くず | N4: 繊維くず | O4: 動植物性 残 渣 | P4: 動物系固形不要物 | Q4: ゴムくず | R4: 金属くず | S4: ガラスくず及び 陶磁器くず | T4: 鉱さい | U4: がれき類 | V4: 動物の ふん尿 | W4: 動物の死体 | X4: ばいじん | Y4: 合 計
C5: 農業，林業大分類 | D5: A
B6: 1 | C6: 耕種農業 | D6: A011 | E6: 千a | K6: 10.045848 | Y6: 10.045848
A7: 農業，林業 | B7: 2 | C7: 畜産農業 | D7: A012 | E7: 頭羽 | K7: 1.6462036e-05 | V7: 0.14807829 | W7: 0.00030747652 | Y7: 0.14840757
B8: 3 | C8: 林業 | D8: A02 | E8: 千人 | G8: 1.3123079 | H8: 0.16752866 | K8: 0.11168578 | M8: 411.42248 | R8: 0.97725054 | S8: 0.027921444 | U8: 0.36297877 | Y8: 414.38215
B9: 4 | C9: 上記以外の農業，林業
C10: 漁業大分類 | D10: B
A11: 漁 業 | B11: 5 | C11: 漁業 | D11: B03 | E11: 千人 | H11: 3.4451979 | K11: 85.764547 | M11: 1.0961993 | R11: 3.4451979 | S11: 0.52199968 | U11: 0.31319981 | Y11: 94.586341
B12: 6 | C12: 水産養殖業 | D12: B04 | E12: 千人
A13: 鉱 業 | B13: 7 | C13: 鉱業，採石業，砂利採取業 | D13: C | E13: 千人 | G13: 497155.03 | H13: 88.832047 | I13: 0.00025537885 | K13: 96.975441 | M13: 387.23573 | Q13: 0.76154373 | R13: 57.818657 | S13: 20.555459 | T13: 499.48807 | U13: 39.567792 | Y13: 498346.27
A14: 建設業 | B14: 8 | C14: 建設業 | D14: D | E14: 十億円 | F14: 0.42904251 | G14: 180.68061 | H14: 2.0517804 | I14: 0.15567672 | J14: 0.31744773 | K14: 21.190313 | L14: 4.7347024 | M14: 86.384685 | N14: 0.98395313 | Q14: 0.032992717 | R14: 17.59074 | S14: 36.725687 | T14: 2.2200189 | U14: 1067.9214 | X14: 0.36545336 | Y14: 1439.3187
C15: 製造業大分類 | D15: E
B16: 9 | C16: 食料品製造業 | D16: E09 | E16: 十億円 | F16: 1.1270991 | G16: 189.3758 | H16: 2.013907 | I16: 2.6933773 | J16: 0.50153676 | K16: 6.7529304 | M16: 0.16175654 | O16: 55.924527 | P16: 0.72429967 | Q16: 0.00091129595 | R16: 0.46524067 | S16: 0.20020452 | U16: 0.020688703 | X16: 0.58605604 | Y16: 260.54834
B17: 10 | C17: 飲料・たばこ・飼料製造業 | D17: E10 | E17: 十億円 | F17: 0.021223022 | G17: 94.880241 | H17: 0.7355963 | I17: 47.897313 | J17: 0.064869985 | K17: 2.4244155 | M17: 0.31765407 | O17: 44.745981 | Q17: 0.00054576308 | R17: 1.0576002 | S17: 0.56647041 | T17: 0.0018192103 | U17: 0.023193112 | X17: 0.010424404 | Y17: 192.74735
B18: 11 | C18: 繊維工業 | D18: E11 | E18: 十億円 | F18: 6.6390857 | G18: 96.857193 | H18: 1.8719541 | I18: 0.36863304 | J18: 0.88021818 | K18: 12.726115 | M18: 0.6301494 | N18: 2.575235 | Q18: 0.0045179129 | R18: 0.67708551 | S18: 0.38598913 | U18: 0.043126454 | X18: 1.60756 | Y18: 125.26686
B19: 12 | C19: 木材・木製品製造業 | D19: E12 | E19: 十億円 | F19: 8.2280864 | G19: 0.51712961 | H19: 0.54909544 | I19: 0.013327038 | J19: 0.13898538 | K19: 4.0865749 | M19: 204.6764 | R19: 0.35297427 | S19: 2.4470135 | T19: 0.05055988 | U19: 3.9738692 | X19: 4.1737493 | Y19: 229.20777
B20: 13 | C20: 家具・装備品製造業 | D20: E13 | E20: 十億円 | F20: 0.34379158 | G20: 1.3925372 | H20: 1.4060536 | I20: 0.053344486 | J20: 0.2577579 | K20: 13.574161 | M20: 41.956755 | R20: 0.51532233 | S20: 0.38555398 | U20: 0.04724293 | Y20: 59.93252
B21: 14 | C21: パルプ・紙・紙加工品製造業 | D21: E14 | E21: 十億円 | F21: 64.200595 | G21: 3791.8397 | H21: 6.8822835 | I21: 0.58315972 | J21: 0.34004475 | K21: 26.870144 | L21: 27.904481 | M21: 5.6270761 | Q21: 0.0003171423 | R21: 0.93182638 | S21: 0.23239446 | T21: 0.10173925 | U21: 0.29993467 | X21: 96.906734 | Y21: 4022.7205
B22: 15 | C22: 印刷・同関連業 | D22: E15 | E22: 十億円 | F22: 0.012010319 | G22: 0.97312998 | H22: 1.808133 | I22: 0.2735381 | J22: 1.7129301 | K22: 10.263346 | L22: 9.3039014 | M22: 0.21316146 | Q22: 0.0018846674 | R22: 1.0404186 | S22: 0.0039037799 | U22: 0.0047921451 | Y22: 25.611149
B23: 16 | C23: 化学工業 | D23: E16 | E23: 十億円 | F23: 2.5806365 | G23: 174.75272 | H23: 22.257748 | I23: 4.3172925 | J23: 22.096634 | K23: 9.4499271 | M23: 0.35536236 | O23: 1.5259247 | Q23: 0.00047749367 | R23: 0.41771106 | S23: 0.48024641 | T23: 2.329906 | U23: 0.32220085 | X23: 5.7610703 | Y23: 246.64786
B24: 17 | C24: 石油製品・石炭製品製造業 | D24: E17 | E24: 十億円 | F24: 0.75992127 | G24: 34.988739 | H24: 4.0878874 | I24: 2.8249788 | J24: 4.0604768 | K24: 1.4731477 | M24: 0.049292578 | Q24: 0.00024538075 | R24: 0.13030713 | S24: 0.26870809 | T24: 0.13977675 | U24: 7.3493496 | X24: 8.5188579 | Y24: 64.651689
A25: 製造業 | B25: 18 | C25: プラスチック製品製造業 | D25: E18 | E25: 十億円 | F25: 0.48830138 | G25: 21.465541 | H25: 3.2202659 | I25: 3.254073 | J25: 0.65706045 | K25: 24.007924 | M25: 0.30333988 | Q25: 0.00013712182 | R25: 0.41293901 | S25: 0.66631661 | T25: 0.0013026573 | U25: 0.023305347 | X25: 0.035470672 | Y25: 54.535977
B26: 19 | C26: ゴム製品製造業 | D26: E19 | E26: 十億円 | F26: 0.69028148 | G26: 7.0785413 | H26: 3.1062302 | I26: 0.1113404 | J26: 0.49768689 | K26: 20.736045 | M26: 0.82794303 | Q26: 1.6682028 | R26: 1.4634199 | S26: 0.036931761 | T26: 0.0077302124 | U26: 0.59817955 | X26: 2.6911532 | Y26: 39.513686
B27: 20 | C27: なめし革・同製品・毛皮製造業 | D27: E20 | E27: 十億円 | F27: 0.02504801 | G27: 31.069551 | H27: 0.43975708 | K27: 4.0453564 | U27: 0.020038408 | Y27: 35.599751
B28: 21 | C28: 窯業・土石製品製造業 | D28: E21 | E28: 十億円 | F28: 8.2846598 | G28: 237.90791 | H28: 1.9957964 | I28: 2.9816696 | J28: 1.9637704 | K28: 3.7858116 | M28: 1.3132613 | Q28: 0.0014786791 | R28: 1.1298086 | S28: 294.88947 | T28: 7.2816004 | U28: 56.150961 | X28: 3.5699364 | Y28: 621.25614
B29: 22 | C29: 鉄鋼業 | D29: E22 | E29: 十億円 | F29: 6.8158687 | G29: 110.97898 | H29: 14.967856 | I29: 21.461345 | J29: 9.9083306 | K29: 8.6118517 | M29: 1.7904023 | Q29: 0.031694873 | R29: 264.86782 | S29: 25.987213 | T29: 574.27172 | U29: 26.586288 | X29: 455.27203 | Y29: 1521.5514
B30: 23 | C30: 非鉄金属製造業 | D30: E23 | E30: 十億円 | F30: 0.14400306 | G30: 103.12194 | H30: 3.1658537 | I30: 11.254834 | J30: 7.7780097 | K30: 4.4554505 | M30: 8.8693805 | R30: 1.2926515 | S30: 4.2653991 | T30: 42.030141 | U30: 0.25647372 | X30: 0.46861489 | Y30: 187.10275
B31: 24 | C31: 金属製品製造業 | D31: E24 | E31: 十億円 | F31: 0.40928506 | G31: 31.290863 | H31: 3.9620943 | I31: 8.0492536 | J31: 2.7693857 | K31: 3.1849762 | M31: 1.0812308 | Q31: 0.0019944046 | R31: 15.739512 | S31: 2.7758819 | T31: 13.912464 | U31: 0.11831359 | X31: 1.0957421 | Y31: 84.390996
B32: 25 | C32: はん用機械器具製造業 | D32: E25 | E32: 十億円 | F32: 0.0021819323 | G32: 8.1212691 | H32: 4.5357294 | I32: 0.98254194 | J32: 0.97620342 | K32: 1.3420972 | M32: 0.57324535 | Q32: 0.0025455877 | R32: 2.6546541 | S32: 1.1430301 | T32: 1.0437701 | U32: 0.034216726 | X32: 0.0010909661 | Y32: 21.412576
B33: 26 | C33: 生産用機械器具製造業 | D33: E26 | E33: 十億円 | F33: 0.011608443 | G33: 3.4061827 | H33: 1.2912784 | I33: 0.23662874 | J33: 0.49405327 | K33: 2.3402755 | M33: 0.28080297 | Q33: 0.73095284 | R33: 1.3588762 | S33: 0.87897109 | T33: 2.4436928 | U33: 5.1156849 | X33: 0.036417508 | Y33: 18.625426
B34: 27 | C34: 業務用機械器具製造業 | D34: E27 | E34: 十億円 | F34: 0.0042133336 | G34: 18.727554 | H34: 2.4404458 | I34: 3.0349797 | J34: 2.6553308 | K34: 1.5965447 | M34: 0.19836827 | Q34: 0.013974491 | R34: 0.6825854 | S34: 0.17783543 | T34: 0.004521159 | U34: 0.0086313035 | X34: 6.1652168e-07 | Y34: 29.544986
B35: 28 | C35: 電子部品・デバイス・電子回路製造業 | D35: E28 | E35: 十億円 | F35: 0.01460436 | G35: 24.839599 | H35: 2.5921117 | I35: 6.9994281 | J35: 11.048096 | K35: 3.5015132 | M35: 0.14204513 | Q35: 0.0015198 | R35: 0.74212979 | S35: 0.39971336 | T35: 0.0046227251 | U35: 0.0058349337 | X35: 7.9095317e-05 | Y35: 50.291298
B36: 29 | C36: 電気機械器具製造業 | D36: E29 | E36: 十億円 | F36: 0.0017830104 | G36: 15.991221 | H36: 4.1539505 | I36: 0.95999705 | J36: 2.304146 | K36: 1.9899251 | M36: 0.20892294 | Q36: 0.00010516898 | R36: 1.4597755 | S36: 1.2177356 | T36: 0.10884909 | U36: 0.0035757452 | Y36: 28.399987
B37: 30 | C37: 情報通信機械器具製造業 | D37: E30 | E37: 十億円 | F37: 0.00071583072 | G37: 0.52660362 | H37: 0.21716651 | I37: 0.17104435 | J37: 0.15823636 | K37: 1.3313166 | M37: 0.079022128 | Q37: 1.6106191e-06 | R37: 10.454533 | S37: 0.14664876 | T37: 0.97390815 | U37: 0.004473942 | Y37: 14.063671
B38: 31 | C38: 輸送用機械器具製造業 | D38: E31 | E38: 十億円 | F38: 0.0355692 | G38: 7.565423 | H38: 2.2547203 | I38: 0.38958051 | J38: 0.3863528 | K38: 1.2842987 | M38: 0.1383623 | Q38: 0.0081793107 | R38: 2.0733865 | S38: 0.19773396 | T38: 16.787662 | U38: 0.01181598 | X38: 1.1420122 | Y38: 32.275097
B39: 32 | C39: その他の製造業 | D39: E32 | E39: 十億円 | F39: 5.9999613 | G39: 40.146349 | H39: 11.374171 | I39: 4.595291 | J39: 7.3788837 | K39: 38.345753 | M39: 1.6700372 | Q39: 0.0037998084 | R39: 12.61713 | S39: 14.143339 | T39: 9.5635758 | U39: 0.019883044 | X39: 15.637749 | Y39: 161.49594
C40: 電気・ガス・熱供給・水道業大分類 | D40: F
A41: 電気･ガス | B41: 33 | C41: 電気業 | D41: F33 | E41: 千人 | F41: 5045.729 | G41: 3119.7676 | H41: 19.131352 | I41: 2.4037553 | J41: 7.0966173 | K41: 12.698806 | M41: 1.2843336 | R41: 5.3796746 | S41: 91.032579 | T41: 83.320027 | U41: 325.67074 | X41: 39019.99 | Y41: 47733.505
...

Sheet 表－Ⅲ・８
A1: 表－Ⅲ・８ 平成24年度実績値 各都道府県回答排出量合計値一覧表
C3: 回答都道府県 | E3: 平成24年度 | X3: (単位：千ｔ/年)
A4: 大分類 | B4: 番号 | C4: 産業分類 | D4: コード | E4: 燃え殻 | F4: 汚 泥 | G4: 廃 油 | H4: 廃 酸 | I4: 廃アルカリ | J4: 廃プラス チック類 | K4: 紙くず | L4: 木くず | M4: 繊維くず | N4: 動植物性 残 渣 | O4: 動物系固形不要物 | P4: ゴムくず | Q4: 金属くず | R4: ガラスくず及び 陶磁器くず | S4: 鉱さい | T4: がれき類 | U4: 動物の ふん尿 | V4: 動物の死体 | W4: ばいじん | X4: 合 計
C5: 農業，林業大分類 | D5: A | E5: 0.25136 | F5: 3.112986 | G5: 0.020655 | H5: 0.25111 | I5: 0 | J5: 41.724578 | K5: 0 | L5: 29.495882 | M5: 0 | O5: 0 | P5: 0.001 | Q5: 0.16928715 | R5: 0.1227107 | S5: 0 | T5: 1.3148 | U5: 38363.211 | V5: 65.353803 | W5: 0 | X5: 39431.529
B6: 1 | C6: 耕種農業 | D6: A011 | E6: 0 | F6: 0 | G6: 0 | H6: 0 | I6: 0 | J6: 20.77 | K6: 0 | L6: 0 | M6: 0 | O6: 0 | P6: 0 | Q6: 0 | R6: 0 | S6: 0 | T6: 0 | U6: 0 | V6: 0 | W6: 0 | X6: 20.77
A7: 農業，林業 | B7: 2 | C7: 畜産農業 | D7: A012 | E7: 0 | F7: 0 | G7: 0 | H7: 0 | I7: 0 | J7: 3.079 | K7: 0 | L7: 0 | M7: 0 | O7: 0 | P7: 0 | Q7: 0 | R7: 0 | S7: 0 | T7: 0 | U7: 27696.03 | V7: 57.509303 | W7: 0 | X7: 27756.619
B8: 3 | C8: 林業 | D8: A02 | E8: 0 | F8: 0.047 | G8: 0.006 | H8: 0 | I8: 0 | J8: 0.004 | K8: 0 | L8: 14.735 | M8: 0 | O8: 0 | P8: 0 | Q8: 0.035 | R8: 0.001 | S8: 0 | T8: 0.013 | U8: 0 | V8: 0 | W8: 0 | X8: 14.841
B9: 4 | C9: 上記以外の農業，林業 | E9: 0 | F9: 0 | G9: 0 | H9: 0 | I9: 0 | J9: 0 | K9: 0 | L9: 0 | M9: 0 | O9: 0 | P9: 0 | Q9: 0 | R9: 0 | S9: 0 | T9: 0 | U9: 0 | V9: 0 | W9: 0 | X9: 0
C10: 漁業大分類 | D10: B | E10: 0 | F10: 0.351 | G10: 0.084785751 | H10: 0 | I10: 0 | J10: 1.85471 | K10: 0 | L10: 0.021 | M10: 0 | O10: 0 | P10: 0 | Q10: 0.06921 | R10: 0.055 | S10: 0 | T10: 0.095 | U10: 0 | V10: 0 | W10: 0 | X10: 2.5307058
A11: 漁 業 | B11: 5 | C11: 漁業 | D11: B03 | E11: 0 | F11: 0 | G11: 0.066 | H11: 0 | I11: 0 | J11: 1.643 | K11: 0 | L11: 0.021 | M11: 0 | O11: 0 | P11: 0 | Q11: 0.066 | R11: 0.01 | S11: 0 | T11: 0.006 | U11: 0 | V11: 0 | W11: 0 | X11: 1.812
B12: 6 | C12: 水産養殖業 | D12: B04 | E12: 0 | F12: 0 | G12: 0 | H12: 0 | I12: 0 | J12: 0 | K12: 0 | L12: 0 | M12: 0 | O12: 0 | P12: 0 | Q12: 0 | R12: 0 | S12: 0 | T12: 0 | U12: 0 | V12: 0 | W12: 0 | X12: 0
A13: 鉱 業 | B13: 7 | C13: 鉱業，採石業，砂利採取業 | D13: C | E13: 0 | F13: 7332.6279 | G13: 10.649826 | H13: 3.0180928e-06 | I13: 0 | J13: 1.2460655 | K13: 0 | L13: 4.5763906 | M13: 0 | O13: 0 | P13: 0.009 | Q13: 0.68330667 | R13: 6.1429265 | S13: 5.903 | T13: 27.767616 | U13: 0 | V13: 0 | W13: 0 | X13: 7389.606
A14: 建設業 | B14: 8 | C14: 建設業 | D14: D | E14: 13.710179 | F14: 5845.2323 | G14: 72.925517 | H14: 4.5127149 | I14: 11.343015 | J14: 681.92646 | K14: 153.35616 | L14: 2851.6916 | M14: 31.679456 | O14: 0 | P14: 1.0542919 | Q14: 561.68687 | R14: 1172.9457 | S14: 70.941352 | T14: 35010.798 | U14: 0 | V14: 0 | W14: 11.678169 | X14: 46495.482
C15: 製造業大分類 | D15: E | E15: 491.49089 | F15: 33866.32 | G15: 1545.6409 | H15: 1157.8952 | I15: 1087.8879 | J15: 1646.2063 | K15: 309.49492 | L15: 696.2107 | M15: 7.7380431 | N15: 1351.1218 | O15: 11.579073 | P15: 13.485725 | Q15: 3075.0197 | R15: 2671.3216 | S15: 7593.9467 | T15: 644.14422 | U15: 0 | V15: 0 | W15: 5804.1093 | X15: 62233.748
B16: 9 | C16: 食料品製造業 | D16: E09 | E16: 16.689964 | F16: 2950.757 | G16: 32.756542 | H16: 35.702368 | I16: 7.5585396 | J16: 98.089953 | K16: 0 | L16: 2.3654311 | M16: 0 | N16: 833.63555 | O16: 10.76873 | P16: 0.01354895 | Q16: 7.3058273 | R16: 2.9593174 | S16: 0 | T16: 0.30759514 | U16: 0 | V16: 0 | W16: 8.713354 | X16: 4007.6237
B17: 10 | C17: 飲料・たばこ・飼料製造業 | D17: E10 | E17: 0.091620633 | F17: 571.64632 | G17: 4.0353084 | H17: 263.43559 | I17: 0.45658322 | J17: 13.287936 | K17: 0 | L17: 1.6184497 | M17: 0 | N17: 198.9243 | O17: 0 | P17: 0.003 | Q17: 3.5570729 | R17: 3.1839871 | S17: 0.01 | T17: 0.12749 | U17: 0 | V17: 0 | W17: 0.057301809 | X17: 1060.435
B18: 11 | C18: 繊維工業 | D18: E11 | E18: 8.4688526 | F18: 215.4247 | G18: 3.7848365 | H18: 0.83203229 | I18: 1.0519508 | J18: 29.061466 | K18: 0 | L18: 1.2564137 | M18: 5.8211594 | N18: 0 | O18: 0 | P18: 0.010212463 | Q18: 1.6305099 | R18: 0.83300455 | S18: 0 | T18: 0.097484681 | U18: 0 | V18: 0 | W18: 3.63379 | X18: 271.90641
B19: 12 | C19: 木材・木製品製造業 | D19: E12 | E19: 11.31397 | F19: 0.71107531 | G19: 0.7550297 | H19: 0.018325246 | I19: 0.19111084 | J19: 4.2612152 | K19: 0 | L19: 281.4168 | N19: 0 | O19: 0 | P19: 0 | Q19: 0.48535471 | R19: 3.0827481 | S19: 0.069521996 | T19: 3.22424 | U19: 0 | V19: 0 | W19: 5.7390837 | X19: 311.26848
B20: 13 | C20: 家具・装備品製造業 | D20: E13 | E20: 0.36385506 | F20: 1.4738048 | G20: 1.6881101 | H20: 0.05645764 | I20: 0.2728005 | J20: 14.566341 | K20: 0 | L20: 73.705327 | N20: 0 | O20: 0 | P20: 0 | Q20: 0.54539625 | R20: 1.5080547 | S20: 0 | T20: 0.05 | U20: 0 | V20: 0 | W20: 0.00015304157 | X20: 94.230301
B21: 14 | C21: パルプ・紙・紙加工品製造業 | D21: E14 | E21: 248.83106 | F21: 15551.354 | G21: 29.411211 | H21: 2.3904337 | I21: 1.3915896 | J21: 108.93857 | K21: 114.33043 | L21: 23.158983 | N21: 0 | O21: 0 | P21: 0.0013 | Q21: 3.8176553 | R21: 0.95160959 | S21: 0.41704 | T21: 1.1044641 | U21: 0 | V21: 0 | W21: 359.524 | X21: 16445.622
B22: 15 | C22: 印刷・同関連業 | D22: E15 | E22: 0.045112518 | F22: 5.2552189 | G22: 273.29161 | H22: 1.1265472 | I22: 6.4041168 | J22: 38.106062 | K22: 37.945881 | L22: 1.1730557 | N22: 0 | O22: 0 | P22: 0.0070790874 | Q22: 3.907965 | R22: 0.11466317 | S22: 0 | T22: 0.018 | U22: 0 | V22: 0 | W22: 0 | X22: 367.39531
B23: 16 | C23: 化学工業 | D23: E16 | E23: 37.349297 | F23: 2712.4569 | G23: 317.89553 | H23: 59.743905 | I23: 301.67598 | J23: 148.65014 | L23: 5.1312808 | N23: 18.513549 | O23: 0 | P23: 0.00754 | Q23: 6.6660986 | R23: 7.2540479 | S23: 36.791046 | T23: 5.0796044 | U23: 0 | V23: 0 | W23: 52.255534 | X23: 3709.4704
B24: 17 | C24: 石油製品・石炭製品製造業 | D24: E17 | E24: 22.048441 | F24: 990.84287 | G24: 85.711501 | H24: 60.176946 | I24: 55.0615 | J24: 25.313058 | L24: 0.52146722 | N24: 0 | O24: 0 | P24: 0.00299 | Q24: 1.9009113 | R24: 4.540396 | S24: 1.7032 | T24: 71.448892 | U24: 0 | V24: 0 | W24: 80.885056 | X24: 1400.1572
A25: 製造業 | B25: 18 | C25: プラスチック製品製造業 | D25: E18 | E25: 3.5610772 | F25: 177.47169 | G25: 23.193509 | H25: 23.686657 | I25: 7.6718009 | J25: 173.61904 | L25: 2.1751927 | N25: 0 | O25: 0 | P25: 0.001 | Q25: 3.0104756 | R25: 5.0566041 | S25: 0.0095 | T25: 2.2699609 | U25: 0 | V25: 0 | W25: 0.30949837 | X25: 422.036
B26: 19 | C26: ゴム製品製造業 | D26: E19 | E26: 1.48636 | F26: 21.886286 | G26: 8.3555414 | H26: 8.2517456 | I26: 31.539653 | J26: 51.200532 | L26: 1.535982 | N26: 0 | O26: 0 | P26: 3.5920853 | Q26: 3.0770331 | R26: 0.76522393 | S26: 0.016645207 | T26: 1.28804 | U26: 0 | V26: 0 | W26: 5.7948313 | X26: 138.78996
B27: 20 | C27: なめし革・同製品・毛皮製造業 | D27: E20 | E27: 0.505 | F27: 10.802 | G27: 1.8877828 | H27: 0.1 | I27: 1 | J27: 19.607521 | L27: 0 | N27: 0 | O27: 0 | P27: 0 | Q27: 0.7 | R27: 0 | S27: 0 | T27: 0.004 | U27: 0 | V27: 0 | W27: 0 | X27: 34.606303
B28: 21 | C28: 窯業・土石製品製造業 | D28: E21 | E28: 33.590602 | F28: 843.94008 | G28: 7.9331694 | H28: 11.463048 | I28: 7.714811 | J28: 14.42148 | L28: 4.0453683 | N28: 0 | O28: 0 | P28: 0.006 | Q28: 4.5093966 | R28: 1084.424 | S28: 18.045372 | T28: 170.77368 | U28: 0 | V28: 0 | W28: 14.437424 | X28: 2215.3045
B29: 22 | C29: 鉄鋼業 | D29: E22 | E29: 70.439919 | F29: 1247.4824 | G29: 138.37393 | H29: 223.22684 | I29: 111.61154 | J29: 93.344959 | L29: 18.165576 | N29: 0 | O29: 0 | P29: 0.343 | Q29: 2392.1049 | R29: 523.52955 | S29: 5247.2593 | T29: 258.85007 | U29: 0 | V29: 0 | W29: 4388.988 | X29: 14713.72
B30: 23 | C30: 非鉄金属製造業 | D30: E23 | E30: 0.70656 | F30: 505.66181 | G30: 16.232359 | H30: 55.13295 | I30: 37.898601 | J30: 22.254947 | L30: 43.38517 | N30: 0 | O30: 0 | P30: 0 | Q30: 6.3424753 | R30: 20.118797 | S30: 230.57335 | T30: 1.2114043 | U30: 0 | V30: 0 | W30: 4.3098643 | X30: 943.82829
B31: 24 | C31: 金属製品製造業 | D31: E24 | E31: 3.0656717 | F31: 699.58662 | G31: 30.740692 | H31: 47.430834 | I31: 24.678266 | J31: 26.894057 | L31: 7.4436529 | N31: 0 | O31: 0 | P31: 0.014938708 | Q31: 117.32341 | R31: 17.936714 | S31: 66.12366 | T31: 0.88620536 | U31: 0 | V31: 0 | W31: 4.5584475 | X31: 1046.6832
B32: 25 | C32: はん用機械器具製造業 | D32: E25 | E32: 0.012 | F32: 76.964645 | G32: 27.545207 | H32: 5.6125281 | I32: 4.8352381 | J32: 10.162019 | L32: 2.2733345 | N32: 0 | O32: 0 | P32: 0.014 | Q32: 22.572644 | R32: 9.4648469 | S32: 5.7404351 | T32: 0.58818215 | U32: 0 | V32: 0 | W32: 0.006 | X32: 165.79108
B33: 26 | C33: 生産用機械器具製造業 | D33: E26 | E33: 0.10277585 | F33: 168.35679 | G33: 28.63239 | H33: 19.595003 | I33: 81.474122 | J33: 22.831151 | L33: 2.2281013 | N33: 0 | O33: 0 | P33: 6.4715227 | Q33: 21.73087 | R33: 12.878359 | S33: 20.795341 | T33: 45.291939 | U33: 0 | V33: 0 | W33: 0.32242399 | X33: 430.71078
B34: 27 | C34: 業務用機械器具製造業 | D34: E27 | E34: 0.020502119 | F34: 93.628447 | G34: 12.575231 | H34: 8.6630445 | I34: 17.604453 | J34: 12.950827 | L34: 0.95726177 | N34: 0 | O34: 0 | P34: 0.068 | Q34: 3.4944666 | R34: 0.96534879 | S34: 0.122 | T34: 0.142 | U34: 0 | V34: 0 | W34: 3e-06 | X34: 151.19158
B35: 28 | C35: 電子部品・デバイス・電子回路製造業 | D35: E28 | E35: 0.11531275 | F35: 196.1279 | G35: 20.966733 | H35: 54.302683 | I35: 82.8236 | J35: 30.483793 | L35: 0.92796649 | N35: 0 | O35: 0 | P35: 0.012 | Q35: 5.8592903 | R35: 3.156047 | S35: 0.0365 | T35: 0.046071328 | U35: 0 | V35: 0 | W35: 0.00062451888 | X35: 394.85852
B36: 29 | C36: 電気機械器具製造業 | D36: E29 | E36: 0.016953768 | F36: 395.14413 | G36: 43.82787 | H36: 14.946114 | I36: 47.61499 | J36: 20.823218 | L36: 1.8355454 | N36: 0 | O36: 0 | P36: 0.001 | Q36: 13.693286 | R36: 12.868848 | S36: 1.0349924 | T36: 0.134 | U36: 0 | V36: 0 | W36: 0 | X36: 551.94095
B37: 30 | C37: 情報通信機械器具製造業 | D37: E30 | E37: 0.004 | F37: 158.74262 | G37: 12.513508 | H37: 1.555781 | I37: 1.4842111 | J37: 15.639281 | L37: 0.4415688 | N37: 0 | O37: 0 | P37: 9e-06 | Q37: 59.919027 | R37: 1.5194606 | S37: 47.242114 | T37: 0.025 | U37: 0 | V37: 0 | W37: 0 | X37: 299.08658
... B39: 32 | C39: その他の製造業 | D39: E32 | E39: 13.17101 | F39: 86.817392 | G39: 24.784832 | H39: 9.8528025 | I39: 16.148066 | J39: 85.642666 | L39: 3.3966864 | N39: 0 | O39: 0 | P39: 0.0083412729 | Q39: 27.788243 | R39: 31.028359 | S39: 20.964094 | T39: 0.043646909 | U39: 0 | V39: 0 | W39: 34.327713 | X39: 353.97385
C40: 電気・ガス・熱供給・水道業大分類 | D40: F | E40: 489.86035 | F40: 47359.671 | G40: 3.9021721 | H40: 0.47433018 | I40: 2.7825218 | J40: 10.379875 | L40: 0.17256016 | N40: 0 | O40: 0 | P40: 0.004818 | Q40: 1.6904297 | R40: 10.393991 | S40: 9.3756469 | T40: 97.415465 | U40: 0 | V40: 0 | W40: 3205.9404 | X40: 52107.849
A41: 電気･ガス | B41: 33 | C41: 電気業 | D41: F33 | E41: 411.97684 | F41: 274.35783 | G41: 1.6074134 | H41: 0.23739375 | I41: 0.68285861 | J41: 1.2422391 | L41: 0.10946019 | N41: 0 | O41: 0 | P41: 0 | Q41: 0.53129415 | R41: 8.9887741 | S41: 8.2286469 | T41: 32.163091 | U41: 0 | V41: 0 | W41: 3003.401 | X41: 3743.5268
A42: ･熱供給･ | B42: 34 | C42: ガス業 | D42: F34 | E42: 0 | F42: 0.38661393 | G42: 0.241542 | H42: 4e-05 | I42: 0.044979 | J42: 0.59827674 | L42: 0.00595 | N42: 0 | O42: 0 | P42: 0.002728 | Q42: 0.74403315 | R42: 0.051890648 | S42: 0 | T42: 3.5711701 | U42: 0 | V42: 0 | W42: 0 | X42: 5.6472236
...

Sheet 表－Ⅲ・９
A1: 表－Ⅲ・９ 業種別・種類別活動量指標合計（有回答）一覧（平成24年度実績）
C3: 全国 | E3: 平成24年度
A4: 大分類 | B4: 番号 | C4: 産業分類 | D4: コード | E4: 単位 | F4: 燃え殻 | G4: 汚 泥 | H4: 廃 油 | I4: 廃 酸 | J4: 廃アルカリ | K4: 廃プラス チック類 | L4: 紙くず | M4: 木くず | N4: 繊維くず | O4: 動植物性 残 渣 | P4: 動物系固形不要物 | Q4: ゴムくず | R4: 金属くず | S4: ガラスくず及び 陶磁器くず | T4: 鉱さい | U4: がれき類 | V4: 動物の ふん尿 | W4: 動物の死体 | X4: ばいじん | Y4: 合 計
C5: 農業，林業大分類 | D5: A | Y5: 0
B6: 1 | C6: 耕種農業 | D6: A011 | E6: 千a | K6: 309.42488 | Y6: 309.42488
A7: 農業，林業 | B7: 2 | C7: 畜産農業 | D7: A012 | E7: 頭羽 | K7: 4692904.7 | V7: 35041807 | W7: 33811855 | Y7: 73546566
B8: 3 | C8: 林業 | D8: A02 | E8: 千人 | G8: 6.0925333 | H8: 6.0925333 | K8: 6.0925333 | M8: 6.0925333 | Y8: 24.370133
B9: 4 | C9: 上記以外の農業，林業 | Y9: 0
C10: 漁業大分類 | D10: B | Y10: 0
A11: 漁 業 | B11: 5 | C11: 漁業 | D11: B03 | E11: 千人 | H11: 1.4438 | K11: 7.2486 | M11: 1.4438 | R11: 1.4438 | S11: 1.4438 | U11: 1.4438 | Y11: 14.4676
B12: 6 | C12: 水産養殖業 | D12: B04 | E12: 千人 | Y12: 0
A13: 鉱 業 | B13: 7 | C13: 鉱業，採石業，砂利採取業 | D13: C | E13: 千人 | G13: 9.3926 | H13: 7.8418 | I13: 1.0735333 | K13: 8.9040667 | M13: 1.1277333 | Q13: 3.2739333 | R13: 5.8176 | S13: 2.2049333 | T13: 0.76906667 | U13: 2.8441333 | Y13: 43.2494
A14: 建設業 | B14: 8 | C14: 建設業 | D14: D | E14: 十億円 | F14: 21098.103 | G14: 31224.289 | H14: 31224.289 | I14: 18059.501 | J14: 20191.609 | K14: 31224.289 | L14: 31224.289 | M14: 31224.289 | N14: 31224.289 | Q14: 12642.368 | R14: 31224.289 | S14: 31224.289 | T14: 21990.605 | U14: 31224.289 | X14: 8644.596 | Y14: 383645.38
C15: 製造業大分類 | D15: E | Y15: 0
B16: 9 | C16: 食料品製造業 | D16: E09 | E16: 十億円 | F16: 8768.208 | G16: 9771.3718 | H16: 9771.3718 | I16: 9291.7521 | J16: 9415.0116 | K16: 9771.3718 | M16: 5338.0379 | O16: 9771.3718 | P16: 3118.7894 | Q16: 729.13782 | R16: 9771.3718 | S16: 9383.0934 | U16: 4012.3095 | X16: 5967.6421 | Y16: 104880.84
B17: 10 | C17: 飲料・たばこ・飼料製造業 | D17: E10 | E17: 十億円 | F17: 1569.1285 | G17: 3646.955 | H17: 3929.2578 | I17: 3371.7023 | J17: 1304.073 | K17: 4099.6373 | M17: 2404.3254 | O17: 4099.6373 | Q17: 65.02363 | R17: 3931.1183 | S17: 4099.6373 | T17: 9.96756 | U17: 840.16219 | X17: 473.93076 | Y17: 33844.556
B18: 11 | C18: 繊維工業 | D18: E11 | E18: 十億円 | F18: 1172.2738 | G18: 1753.6182 | H18: 1666.8269 | I18: 971.81129 | J18: 975.04924 | K18: 1753.0018 | M18: 1126.4668 | N18: 1299.8221 | Q18: 272.90095 | R18: 1367.6654 | S18: 1583.8757 | U18: 435.03425 | X18: 833.60583 | Y18: 15211.952
B19: 12 | C19: 木材・木製品製造業 | D19: E12 | E19: 十億円 | F19: 782.16729 | G19: 595.59508 | H19: 684.94189 | I19: 32.61952 | J19: 269.69639 | K19: 1015.3596 | M19: 1045.191 | R19: 785.0873 | S19: 937.11127 | T19: 88.98275 | U19: 500.21526 | X19: 383.198 | Y19: 7120.1654
B20: 13 | C20: 家具・装備品製造業 | D20: E13 | E20: 十億円 | F20: 305.81375 | G20: 149.44836 | H20: 359.38695 | I20: 147.34883 | J20: 162.62966 | K20: 536.74322 | M20: 547.74409 | R20: 485.32366 | S20: 518.45292 | U20: 103.31081 | X20: 35.10126 | Y20: 3351.3035
B21: 14 | C21: パルプ・紙・紙加工品製造業 | D21: E14 | E21: 十億円 | F21: 2519.7202 | G21: 2583.4863 | H21: 2546.3753 | I21: 2121.1237 | J21: 2467.2067 | K21: 2979.7257 | L21: 2894.2747 | M21: 2910.0113 | Q21: 237.36837 | R21: 2824.5603 | S21: 2744.9855 | T21: 247.75499 | U21: 1596.4031 | X21: 2548.3417 | Y21: 31221.338
B22: 15 | C22: 印刷・同関連業 | D22: E15 | E22: 十億円 | F22: 123.41515 | G22: 948.37686 | H22: 872.01532 | I22: 1387.2113 | J22: 1354.943 | K22: 1393.7098 | L22: 1344.8454 | M22: 921.14542 | Q22: 226.30476 | R22: 888.1465 | S22: 724.50183 | U22: 11.31085 | Y22: 10195.926
B23: 16 | C23: 化学工業 | D23: E16 | E23: 十億円 | F23: 9339.4227 | G23: 9752.39 | H23: 10988.993 | I23: 10981.935 | J23: 10981.935 | K23: 10988.993 | M23: 6339.9288 | O23: 6157.1543 | Q23: 1890.7631 | R23: 10988.993 | S23: 9759.4479 | T23: 4349.0587 | U23: 6361.2356 | X23: 7732.8707 | Y23: 116613.12
B24: 17 | C24: 石油製品・石炭製品製造業 | D24: E17 | E24: 十億円 | F24: 7046.3046 | G24: 7448.7731 | H24: 7453.7071 | I24: 7836.1017 | J24: 8365.9537 | K24: 8400.5976 | M24: 5565.887 | Q24: 8.43785 | R24: 8367.8165 | S24: 8384.2213 | T24: 1363.0976 | U24: 6902.6293 | X24: 8299.1405 | Y24: 85442.668
A25: 製造業 | B25: 18 | C25: プラスチック製品製造業 | D25: E18 | E25: 十億円 | F25: 2216.001 | G25: 4816.5279 | H25: 4838.6715 | I25: 4490.5685 | J25: 4659.1917 | K25: 4876.9193 | M25: 2981.7649 | Q25: 189.44854 | R25: 4449.1508 | S25: 4635.605 | T25: 843.87969 | U25: 1309.8338 | X25: 1249.0012 | Y25: 41556.564
B26: 19 | C26: ゴム製品製造業 | D26: E19 | E26: 十億円 | F26: 261.18257 | G26: 1644.926 | H26: 1663.1483 | I26: 1345.3191 | J26: 1516.1547 | K26: 1722.4876 | M26: 1104.1065 | Q26: 669.7664 | R26: 1540.9069 | S26: 1527.817 | T26: 103.27172 | U26: 339.65208 | X26: 563.86567 | Y26: 14002.605
B27: 20 | C27: なめし革・同製品・毛皮製造業 | D27: E20 | E27: 十億円 | F27: 3.41793 | G27: 6.47867 | H27: 4.97982 | K27: 34.67469 | U27: 3.41793 | Y27: 52.96904
B28: 21 | C28: 窯業・土石製品製造業 | D28: E21 | E28: 十億円 | F28: 2258.7221 | G28: 2749.4912 | H28: 2738.8311 | I28: 2444.442 | J28: 2476.6258 | K28: 2749.4912 | M28: 1756.4506 | Q28: 81.62951 | R28: 2715.0149 | S28: 2749.4912 | T28: 2204.3952 | U28: 2472.5049 | X28: 2119.4502 | Y28: 29516.54
B29: 22 | C29: 鉄鋼業 | D29: E22 | E29: 十億円 | F29: 5482.3459 | G29: 7950.9157 | H29: 7989.7553 | I29: 7974.3399 | J29: 7387.6286 | K29: 7989.7553 | M29: 6113.8314 | Q29: 1254.6547 | R29: 7960.07 | S29: 7989.7553 | T29: 7998.9095 | U29: 7238.8599 | X29: 7386.084 | Y29: 90716.905
B30: 23 | C30: 非鉄金属製造業 | D30: E23 | E30: 十億円 | F30: 1483.5805 | G30: 2916.652 | H30: 2970.5255 | I30: 2490.9496 | J30: 2504.6671 | K30: 2986.2688 | M30: 1819.7744 | R30: 2033.537 | S30: 2855.5996 | T30: 2914.2334 | U30: 2110.5309 | X30: 2528.4791 | Y30: 29614.798
B31: 24 | C31: 金属製品製造業 | D31: E24 | E31: 十億円 | F31: 2492.1261 | G31: 5146.9202 | H31: 5146.9202 | I31: 5146.9202 | J31: 5146.9202 | K31: 5146.9202 | M31: 3586.9674 | Q31: 766.65083 | R31: 5146.9202 | S31: 5146.9202 | T31: 4756.2749 | U31: 1945.5694 | X31: 3776.6907 | Y31: 53352.721
