Workbook

Sheet 表1
B1: 表１ 行政事件訴訟の県市別係属状況
G2: （平成27年4月1日現在）
B3: 県市名 | C3: 件数 | E3: 教育職員数 | G3: 請求内容（件数）
C4: （件） | E4: （人）
B5: 北海道 | C5: 3 | D5: 1 | E5: 77 | F5: 75 | G5: 懲戒処分取消請求(1)、損害賠償等請求(2)
B6: 青森県 | C6: =[1]請求件数!AA6 -> 0 | E6: =[1]関係教職員数!AA6 -> 0
B7: 岩手県 | C7: 1 | D7: 1 | E7: 1 | F7: 1 | G7: その他(1)
B8: 宮城県 | C8: 1 | D8: 1 | E8: 1 | F8: 1 | G8: 損害賠償等請求(1)
B9: 秋田県 | C9: 2 | D9: 1 | E9: 2 | F9: 1 | G9: 懲戒処分取消請求(1)、分限処分取消請求(1)
B10: 山形県 | C10: =[1]請求件数!AA10 -> 0 | E10: =[1]関係教職員数!AA10 -> 0
B11: 福島県 | C11: 1 | D11: 1 | E11: 1 | F11: 1 | G11: 懲戒処分取消請求(1)
B12: 茨城県 | C12: =[1]請求件数!AA12 -> 0 | E12: =[1]関係教職員数!AA12 -> 0
B13: 栃木県 | C13: =[1]請求件数!AA13 -> 0 | E13: =[1]関係教職員数!AA13 -> 0
B14: 群馬県 | C14: =[1]請求件数!AA14 -> 0 | E14: =[1]関係教職員数!AA14 -> 0
B15: 埼玉県 | C15: 7 | D15: 5 | E15: 8 | F15: 3 | G15: 分限処分取消請求(2)、損害賠償等請求(5)
B16: 千葉県 | C16: 1 | E16: =[1]関係教職員数!AA16 -> 1 | G16: 損害賠償等請求(1)
B17: 東京都 | C17: 31 | D17: 20 | E17: 120 | F17: 68 | G17: 懲戒処分取消請求(7)、分限処分取消請求(3)、損害賠償等請求(11)、その他(10)
B18: 神奈川県 | C18: 3 | D18: 2 | E18: 3 | F18: 2 | G18: 懲戒処分取消請求(2)、損害賠償等請求(1)
B19: 新潟県 | C19: =[1]請求件数!AA19 -> 0 | E19: =[1]関係教職員数!AA19 -> 0
B20: 富山県 | C20: =[1]請求件数!AA20 -> 0 | E20: =[1]関係教職員数!AA20 -> 0
B21: 石川県 | C21: =[1]請求件数!AA21 -> 0 | E21: =[1]関係教職員数!AA21 -> 0
B22: 福井県
B23: 山梨県 | C23: =[1]請求件数!AA23 -> 0 | E23: =[1]関係教職員数!AA23 -> 0
B24: 長野県 | C24: 1 | D24: 1 | E24: 1 | F24: 1 | G24: 損害賠償等請求(1)
B25: 岐阜県 | C25: =[1]請求件数!AA25 -> 0 | E25: =[1]関係教職員数!AA25 -> 0
B26: 静岡県 | C26: 1 | D26: 1 | E26: 1 | F26: 1 | G26: 懲戒処分取消請求(1)
B27: 愛知県 | C27: 1 | E27: 1 | G27: 損害賠償等請求(1)
B28: 三重県 | C28: 1 | D28: 1 | E28: 4 | F28: 4 | G28: 損害賠償等請求(1)
B29: 滋賀県 | C29: 1 | D29: 1 | E29: 1 | F29: 1 | G29: その他(1)
B30: 京都府
B31: 大阪府 | C31: 6 | D31: 3 | E31: 8 | F31: 5 | G31: 懲戒処分取消請求(4)、損害賠償等請求(2)
B32: 兵庫県 | C32: 7 | D32: 5 | E32: 9 | F32: 5 | G32: 懲戒処分取消請求(1)、分限処分取消請求(1)、損害賠償等請求(5)
B33: 奈良県 | C33: =[1]請求件数!AA33 -> 0 | E33: =[1]関係教職員数!AA33 -> 0
B34: 和歌山県 | C34: =[1]請求件数!AA34 -> 1 | E34: =[1]関係教職員数!AA34 -> 1 | G34: 懲戒処分取消請求(1)
B35: 鳥取県 | C35: =[1]請求件数!AA35 -> 0 | E35: =[1]関係教職員数!AA35 -> 0
B36: 島根県 | C36: =[1]請求件数!AA36 -> 0 | E36: =[1]関係教職員数!AA36 -> 0
B37: 岡山県 | C37: 1 | D37: 1 | E37: 1 | F37: 1 | G37: 懲戒処分取消請求(1)
B38: 広島県 | C38: 7 | D38: 6 | E38: 7 | F38: 6 | G38: 懲戒処分取消請求(2)、損害賠償等請求(3)、その他(2)
B39: 山口県 | C39: 1 | D39: 1 | E39: 1 | F39: 1 | G39: 懲戒処分取消請求(1)
B40: 徳島県 | C40: 1 | E40: 1 | G40: 懲戒処分取消請求(1)
...
