Workbook

Sheet 公表書式
A1: 平成２６年度大学・短期大学・高等専門学校及び専修学校卒業者の 就職状況調査（４月１日現在）について
A4: 平成２７年４月１日現在 文部科学省・厚生労働省調査
A5: 調査校は、大学６２校、短大２０校、高専１０校、専修学校２０校の計１１２校である。
A6: なお、就職率とは、就職希望者に対する現時点での就職者の割合である。
A7: また、（ ）内は前年度同期調査からの増減値（▲は減少）である。
A9: ［全体］
A10: 区 分 | C10: 就職希望率 | G10: 就職率 | K10: ＜参 考＞
K11: 前年度卒業学生の就職率 （H26.4.1現在）
A13: 大 学 | C13: {=ROUND(SUM(IF(([1]個別data!B4:B115=1),[1]個別data!Q4:Q115))/SUM(IF(([1]個別data!B4:B115=1),[1]個別data!K4:K115)),3)} -> 0.727 | D13: ( | E13: {=100*(C13-(ROUND(SUM(IF(([1]個別data!B4:B115=1),[1]個別data!AV4:AV115))/SUM(IF(([1]個別data!B4:B115=1),[1]個別data!AP4:AP115)),3)))} -> 1.2 | F13: ) | G13: {=ROUND(SUM(IF(([1]個別data!B4:B115=1),[1]個別data!AH4:AH115))/SUM(IF(([1]個別data!B4:B115=1),[1]個別data!Q4:Q115)),3)} -> 0.967 | H13: ( | I13: {=100*(G13-(ROUND((SUM(IF(([1]個別data!B4:B115=1),[1]個別data!BM4:BM115))/SUM(IF(([1]個別data!B4:B115=1),[1]個別data!AV4:AV115))),3)))} -> 2.3 | J13: ) | K13: 0.944
A14: う ち | B14: 国 公 立 | C14: {=ROUND(SUM(IF(([1]個別data!B4:B115=1)*([1]個別data!C4:C115<=2),[1]個別data!Q4:Q115))/SUM(IF(([1]個別data!B4:B115=1)*([1]個別data!C4:C115<=2),[1]個別data!K4:K115)),3)} -> 0.543 | D14: ( | E14: {=100*(C14-(ROUND(SUM(IF(([1]個別data!B4:B115=1)*([1]個別data!C4:C115<=2),[1]個別data!AV4:AV115))/SUM(IF(([1]個別data!B4:B115=1)*([1]個別data!C4:C115<=2),[1]個別data!AP4:AP115)),3)))} -> 1.2 | F14: ) | G14: {=ROUND(SUM(IF(([1]個別data!B4:B115=1)*([1]個別data!C4:C115<=2),[1]個別data!AH4:AH115))/SUM(IF(([1]個別data!B4:B115=1)*([1]個別data!C4:C115<=2),[1]個別data!Q4:Q115)),3)} -> 0.977 | H14: ( | I14: {=100*(G14-(ROUND(SUM(IF(([1]個別data!B4:B115=1)*([1]個別data!C4:C115<=2),[1]個別data!BM4:BM115))/SUM(IF(([1]個別data!B4:B115=1)*([1]個別data!C4:C115<=2),[1]個別data!AV4:AV115)),3)))} -> 1 | J14: ) | K14: 0.967
B15: 私 立 | C15: {=ROUND(SUM(IF(([1]個別data!B4:B115=1)*([1]個別data!C4:C115=3),[1]個別data!Q4:Q115))/SUM(IF(([1]個別data!B4:B115=1)*([1]個別data!C4:C115=3),[1]個別data!K4:K115)),3)} -> 0.819 | D15: ( | E15: {=100*(C15-(ROUND(SUM(IF(([1]個別data!B4:B115=1)*([1]個別data!C4:C115=3),[1]個別data!AV4:AV115))/SUM(IF(([1]個別data!B4:B115=1)*([1]個別data!C4:C115=3),[1]個別data!AP4:AP115)),3)))} -> 1.3 | F15: ) | G15: {=ROUND(SUM(IF(([1]個別data!B4:B115=1)*([1]個別data!C4:C115=3),[1]個別data!AH4:AH115))/SUM(IF(([1]個別data!B4:B115=1)*([1]個別data!C4:C115=3),[1]個別data!Q4:Q115)),3)} -> 0.963 | H15: ( | I15: {=100*(G15-(ROUND(SUM(IF(([1]個別data!B4:B115=1)*([1]個別data!C4:C115=3),[1]個別data!BM4:BM115))/SUM(IF(([1]個別data!B4:B115=1)*([1]個別data!C4:C115=3),[1]個別data!AV4:AV115)),3)))} -> 2.6 | J15: ) | K15: 0.937
A16: 短 期 大 学 | C16: {=ROUND(SUM(IF(([1]個別data!B4:B115=2),[1]個別data!Q4:Q115))/SUM(IF(([1]個別data!B4:B115=2),[1]個別data!K4:K115)),3)} -> 0.788 | D16: ( | E16: {=100*(C16-(ROUND(SUM(IF(([1]個別data!B4:B115=2),[1]個別data!AV4:AV115))/SUM(IF(([1]個別data!B4:B115=2),[1]個別data!AP4:AP115)),3)))} -> -0.2 | F16: ) | G16: {=ROUND(SUM(IF(([1]個別data!B4:B115=2),[1]個別data!AH4:AH115))/SUM(IF(([1]個別data!B4:B115=2),[1]個別data!Q4:Q115)),3)} -> 0.956 | H16: ( | I16: {=100*(G16-(ROUND(SUM(IF(([1]個別data!B4:B115=2),[1]個別data!BM4:BM115))/SUM(IF(([1]個別data!B4:B115=2),[1]個別data!AV4:AV115)),3)))} -> 1.4 | J16: ) | K16: 0.942
A17: 高 等 専 門 学 校 | C17: {=ROUND(SUM(IF(([1]個別data!B4:B115=3),[1]個別data!Q4:Q115))/SUM(IF(([1]個別data!B4:B115=3),[1]個別data!K4:K115)),3)} -> 0.563 | D17: ( | E17: {=100*(C17-(ROUND(SUM(IF(([1]個別data!B4:B115=3),[1]個別data!AV4:AV115))/SUM(IF(([1]個別data!B4:B115=3),[1]個別data!AP4:AP115)),3)))} -> -1.5 | F17: ) | G17: {=ROUND(SUM(IF(([1]個別data!B4:B115=3),[1]個別data!AH4:AH115))/SUM(IF(([1]個別data!B4:B115=3),[1]個別data!Q4:Q115)),3)} -> 1 | H17: ( | I17: {=100*(G17-(ROUND(SUM(IF(([1]個別data!B4:B115=3),[1]個別data!BM4:BM115))/SUM(IF(([1]個別data!B4:B115=3),[1]個別data!AV4:AV115)),3)))} -> 0 | J17: ) | K17: 1
A18: 計 | C18: {=ROUND(SUM(IF(([1]個別data!B4:B115<=3),[1]個別data!Q4:Q115))/SUM(IF(([1]個別data!B4:B115<=3),[1]個別data!K4:K115)),3)} -> 0.721 | D18: ( | E18: {=100*(C18-(ROUND(SUM(IF(([1]個別data!B4:B115<=3),[1]個別data!AV4:AV115))/SUM(IF(([1]個別data!B4:B115<=3),[1]個別data!AP4:AP115)),3)))} -> 0.9 | F18: ) | G18: {=ROUND(SUM(IF(([1]個別data!B4:B115<=3),[1]個別data!AH4:AH115))/SUM(IF(([1]個別data!B4:B115<=3),[1]個別data!Q4:Q115)),3)} -> 0.967 | H18: ( | I18: {=100*(G18-(ROUND(SUM(IF(([1]個別data!B4:B115<=3),[1]個別data!BM4:BM115))/SUM(IF(([1]個別data!B4:B115<=3),[1]個別data!AV4:AV115)),3)))} -> 2 | J18: ) | K18: 0.947
A20: 専修学校（専門課程） | C20: {=ROUND(SUM(IF(([1]個別data!B4:B115=4),[1]個別data!Q4:Q115))/SUM(IF(([1]個別data!B4:B115=4),[1]個別data!K4:K115)),3)} -> 0.913 | D20: ( | E20: {=100*(C20-(ROUND(SUM(IF(([1]個別data!B4:B115=4),[1]個別data!AV4:AV115))/SUM(IF(([1]個別data!B4:B115=4),[1]個別data!AP4:AP115)),3)))} -> 2.5 | F20: ) | G20: {=ROUND(SUM(IF(([1]個別data!B4:B115=4),[1]個別data!AH4:AH115))/SUM(IF(([1]個別data!B4:B115=4),[1]個別data!Q4:Q115)),3)} -> 0.947 | H20: ( | I20: {=100*(G20-(ROUND(SUM(IF(([1]個別data!B4:B115=4),[1]個別data!BM4:BM115))/SUM(IF(([1]個別data!B4:B115=4),[1]個別data!AV4:AV115)),3)))} -> 1.7 | J20: ) | K20: 0.93
A21: 専修学校（専門課程） を含めた総計 | C21: {=ROUND(SUM([1]個別data!Q4:Q115)/SUM([1]個別data!K4:K115),3)} -> 0.739 | D21: ( | E21: {=100*(C21-(ROUND(SUM([1]個別data!AV4:AV115)/SUM([1]個別data!AP4:AP115),3)))} -> 1.1 | F21: ) | G21: {=ROUND(SUM([1]個別data!AH4:AH115)/SUM([1]個別data!Q4:Q115),3)} -> 0.965 | H21: ( | I21: {=100*(G21-(ROUND(SUM([1]個別data!BM4:BM115)/SUM([1]個別data!AV4:AV115),3)))} -> 2 | J21: ) | K21: 0.945
A22: ［男子］
A23: 区 分 | C23: 就職希望率 | G23: 就職率 | K23: ＜参 考＞
K24: 前年度卒業学生の就職率 （H26.4.1現在）
A26: 大 学 | C26: {=ROUND(SUM(IF(([1]個別data!B4:B115=1),[1]個別data!O4:O115))/SUM(IF(([1]個別data!B4:B115=1),[1]個別data!I4:I115)),3)} -> 0.664 | D26: ( | E26: {=100*(C26-(ROUND(SUM(IF(([1]個別data!B4:B115=1),[1]個別data!AT4:AT115))/SUM(IF(([1]個別data!B4:B115=1),[1]個別data!AN4:AN115)),3)))} -> 1.8 | F26: ) | G26: {=ROUND(SUM(IF(([1]個別data!B4:B115=1),[1]個別data!AD4:AD115))/SUM(IF(([1]個別data!B4:B115=1),[1]個別data!O4:O115)),3)} -> 0.965 | H26: ( | I26: {=100*(G26-(ROUND(SUM(IF(([1]個別data!B4:B115=1),[1]個別data!BI4:BI115))/SUM(IF(([1]個別data!B4:B115=1),[1]個別data!AT4:AT115)),3)))} -> 2.7 | J26: ) | K26: 0.938
A27: う ち | B27: 国 公 立 | C27: {=ROUND(SUM(IF(([1]個別data!B4:B115=1)*([1]個別data!C4:C115<=2),[1]個別data!O4:O115))/SUM(IF(([1]個別data!B4:B115=1)*([1]個別data!C4:C115<=2),[1]個別data!I4:I115)),3)} -> 0.463 | D27: ( | E27: {=100*(C27-(ROUND(SUM(IF(([1]個別data!B4:B115=1)*([1]個別data!C4:C115<=2),[1]個別data!AT4:AT115))/SUM(IF(([1]個別data!B4:B115=1)*([1]個別data!C4:C115<=2),[1]個別data!AN4:AN115)),3)))} -> 3 | F27: ) | G27: {=ROUND(SUM(IF(([1]個別data!B4:B115=1)*([1]個別data!C4:C115<=2),[1]個別data!AD4:AD115))/SUM(IF(([1]個別data!B4:B115=1)*([1]個別data!C4:C115<=2),[1]個別data!O4:O115)),3)} -> 0.971 | H27: ( | I27: {=100*(G27-(ROUND(SUM(IF(([1]個別data!B4:B115=1)*([1]個別data!C4:C115<=2),[1]個別data!BI4:BI115))/SUM(IF(([1]個別data!B4:B115=1)*([1]個別data!C4:C115<=2),[1]個別data!AT4:AT115)),3)))} -> 1.2 | J27: ) | K27: 0.959
B28: 私 立 | C28: {=ROUND(SUM(IF(([1]個別data!B4:B115=1)*([1]個別data!C4:C115=3),[1]個別data!O4:O115))/SUM(IF(([1]個別data!B4:B115=1)*([1]個別data!C4:C115=3),[1]個別data!I4:I115)),3)} -> 0.772 | D28: ( | E28: {=100*(C28-(ROUND(SUM(IF(([1]個別data!B4:B115=1)*([1]個別data!C4:C115=3),[1]個別data!AT4:AT115))/SUM(IF(([1]個別data!B4:B115=1)*([1]個別data!C4:C115=3),[1]個別data!AN4:AN115)),3)))} -> 1.1 | F28: ) | G28: {=ROUND(SUM(IF(([1]個別data!B4:B115=1)*([1]個別data!C4:C115=3),[1]個別data!AD4:AD115))/SUM(IF(([1]個別data!B4:B115=1)*([1]個別data!C4:C115=3),[1]個別data!O4:O115)),3)} -> 0.963 | H28: ( | I28: {=100*(G28-(ROUND(SUM(IF(([1]個別data!B4:B115=1)*([1]個別data!C4:C115=3),[1]個別data!BI4:BI115))/SUM(IF(([1]個別data!B4:B115=1)*([1]個別data!C4:C115=3),[1]個別data!AT4:AT115)),3)))} -> 3.2 | J28: ) | K28: 0.931
A29: 高 等 専 門 学 校 | C29: {=ROUND(SUM(IF(([1]個別data!B4:B115=3),[1]個別data!O4:O115))/SUM(IF(([1]個別data!B4:B115=3),[1]個別data!I4:I115)),3)} -> 0.563 | D29: ( | E29: {=100*(C29-(ROUND(SUM(IF(([1]個別data!B4:B115=3),[1]個別data!AT4:AT115))/SUM(IF(([1]個別data!B4:B115=3),[1]個別data!AN4:AN115)),3)))} -> -1.5 | F29: ) | G29: {=ROUND(SUM(IF(([1]個別data!B4:B115=3),[1]個別data!AD4:AD115))/SUM(IF(([1]個別data!B4:B115=3),[1]個別data!O4:O115)),3)} -> 1 | H29: ( | I29: {=100*(G29-(ROUND(SUM(IF(([1]個別data!B4:B115=3),[1]個別data!BI4:BI115))/SUM(IF(([1]個別data!B4:B115=3),[1]個別data!AT4:AT115)),3)))} -> 0 | J29: ) | K29: 1
A30: 計 | C30: {=ROUND(SUM(IF(([1]個別data!B4:B115<=3),[1]個別data!O4:O115))/SUM(IF(([1]個別data!B4:B115<=3),[1]個別data!I4:I115)),3)} -> 0.651 | D30: ( | E30: {=100*(C30-(ROUND(SUM(IF(([1]個別data!B4:B115<=3),[1]個別data!AT4:AT115))/SUM(IF(([1]個別data!B4:B115<=3),[1]個別data!AN4:AN115)),3)))} -> 1.3 | F30: ) | G30: {=ROUND(SUM(IF(([1]個別data!B4:B115<=3),[1]個別data!AD4:AD115))/SUM(IF(([1]個別data!B4:B115<=3),[1]個別data!O4:O115)),3)} -> 0.969 | H30: ( | I30: {=100*(G30-(ROUND(SUM(IF(([1]個別data!B4:B115<=3),[1]個別data!BI4:BI115))/SUM(IF(([1]個別data!B4:B115<=3),[1]個別data!AT4:AT115)),3)))} -> 2.4 | J30: ) | K30: 0.945
A32: 専修学校（専門課程） | C32: {=ROUND(SUM(IF(([1]個別data!B4:B115=4),[1]個別data!O4:O115))/SUM(IF(([1]個別data!B4:B115=4),[1]個別data!I4:I115)),3)} -> 0.904 | D32: ( | E32: {=100*(C32-(ROUND(SUM(IF(([1]個別data!B4:B115=4),[1]個別data!AT4:AT115))/SUM(IF(([1]個別data!B4:B115=4),[1]個別data!AN4:AN115)),3)))} -> 2.5 | F32: ) | G32: {=ROUND(SUM(IF(([1]個別data!B4:B115=4),[1]個別data!AD4:AD115))/SUM(IF(([1]個別data!B4:B115=4),[1]個別data!O4:O115)),3)} -> 0.955 | H32: ( | I32: {=100*(G32-(ROUND(SUM(IF(([1]個別data!B4:B115=4),[1]個別data!BI4:BI115))/SUM(IF(([1]個別data!B4:B115=4),[1]個別data!AT4:AT115)),3)))} -> 4 | J32: ) | K32: 0.915
A33: 専修学校（専門課程） を含めた総計 | C33: {=ROUND(SUM([1]個別data!O4:O115)/SUM([1]個別data!I4:I115),3)} -> 0.671 | D33: ( | E33: {=100*(C33-(ROUND(SUM([1]個別data!AT4:AT115)/SUM([1]個別data!AN4:AN115),3)))} -> 1.4 | F33: ) | G33: {=ROUND(SUM([1]個別data!AD4:AD115)/SUM([1]個別data!O4:O115),3)} -> 0.967 | H33: ( | I33: {=100*(G33-(ROUND(SUM([1]個別data!BI4:BI115)/SUM([1]個別data!AT4:AT115),3)))} -> 2.6 | J33: ) | K33: 0.941
A34: ［女子］
A35: 区 分 | C35: 就職希望率 | G35: 就職率 | K35: ＜参 考＞
K36: 前年度卒業学生の就職率 （H26.4.1現在）
A38: 大 学 | C38: {=ROUND(SUM(IF(([1]個別data!B4:B115=1),[1]個別data!P4:P115))/SUM(IF(([1]個別data!B4:B115=1),[1]個別data!J4:J115)),3)} -> 0.816 | D38: ( | E38: {=100*(C38-(ROUND(SUM(IF(([1]個別data!B4:B115=1),[1]個別data!AU4:AU115))/SUM(IF(([1]個別data!B4:B115=1),[1]個別data!AO4:AO115)),3)))} -> 0.6 | F38: ) | G38: {=ROUND(SUM(IF(([1]個別data!B4:B115=1),[1]個別data!AF4:AF115))/SUM(IF(([1]個別data!B4:B115=1),[1]個別data!P4:P115)),3)} -> 0.969 | H38: ( | I38: {=100*(G38-(ROUND(SUM(IF(([1]個別data!B4:B115=1),[1]個別data!BK4:BK115))/SUM(IF(([1]個別data!B4:B115=1),[1]個別data!AU4:AU115)),3)))} -> 1.7 | J38: ) | K38: 0.952
A39: う ち | B39: 国 公 立 | C39: {=ROUND(SUM(IF(([1]個別data!B4:B115=1)*([1]個別data!C4:C115<=2),[1]個別data!P4:P115))/SUM(IF(([1]個別data!B4:B115=1)*([1]個別data!C4:C115<=2),[1]個別data!J4:J115)),3)} -> 0.67 | D39: ( | E39: {=100*(C39-(ROUND(SUM(IF(([1]個別data!B4:B115=1)*([1]個別data!C4:C115<=2),[1]個別data!AU4:AU115))/SUM(IF(([1]個別data!B4:B115=1)*([1]個別data!C4:C115<=2),[1]個別data!AO4:AO115)),3)))} -> -1.6 | F39: ) | G39: {=ROUND(SUM(IF(([1]個別data!B4:B115=1)*([1]個別data!C4:C115<=2),[1]個別data!AF4:AF115))/SUM(IF(([1]個別data!B4:B115=1)*([1]個別data!C4:C115<=2),[1]個別data!P4:P115)),3)} -> 0.983 | H39: ( | I39: {=100*(G39-(ROUND(SUM(IF(([1]個別data!B4:B115=1)*([1]個別data!C4:C115<=2),[1]個別data!BK4:BK115))/SUM(IF(([1]個別data!B4:B115=1)*([1]個別data!C4:C115<=2),[1]個別data!AU4:AU115)),3)))} -> 0.9 | J39: ) | K39: 0.974
B40: 私 立 | C40: {=ROUND(SUM(IF(([1]個別data!B4:B115=1)*([1]個別data!C4:C115=3),[1]個別data!P4:P115))/SUM(IF(([1]個別data!B4:B115=1)*([1]個別data!C4:C115=3),[1]個別data!J4:J115)),3)} -> 0.881 | D40: ( | E40: {=100*(C40-(ROUND(SUM(IF(([1]個別data!B4:B115=1)*([1]個別data!C4:C115=3),[1]個別data!AU4:AU115))/SUM(IF(([1]個別data!B4:B115=1)*([1]個別data!C4:C115=3),[1]個別data!AO4:AO115)),3)))} -> 1.6 | F40: ) | G40: {=ROUND(SUM(IF(([1]個別data!B4:B115=1)*([1]個別data!C4:C115=3),[1]個別data!AF4:AF115))/SUM(IF(([1]個別data!B4:B115=1)*([1]個別data!C4:C115=3),[1]個別data!P4:P115)),3)} -> 0.964 | H40: ( | I40: {=100*(G40-(ROUND(SUM(IF(([1]個別data!B4:B115=1)*([1]個別data!C4:C115=3),[1]個別data!BK4:BK115))/SUM(IF(([1]個別data!B4:B115=1)*([1]個別data!C4:C115=3),[1]個別data!AU4:AU115)),3)))} -> 2 | J40: ) | K40: 0.944
A41: 短 期 大 学 | C41: {=ROUND(SUM(IF(([1]個別data!B4:B115=2),[1]個別data!P4:P115))/SUM(IF(([1]個別data!B4:B115=2),[1]個別data!J4:J115)),3)} -> 0.788 | D41: ( | E41: {=100*(C41-(ROUND(SUM(IF(([1]個別data!B4:B115=2),[1]個別data!AU4:AU115))/SUM(IF(([1]個別data!B4:B115=2),[1]個別data!AO4:AO115)),3)))} -> -0.2 | F41: ) | G41: {=ROUND(SUM(IF(([1]個別data!B4:B115=2),[1]個別data!AF4:AF115))/SUM(IF(([1]個別data!B4:B115=2),[1]個別data!P4:P115)),3)} -> 0.956 | H41: ( | I41: {=100*(G41-(ROUND(SUM(IF(([1]個別data!B4:B115=2),[1]個別data!BK4:BK115))/SUM(IF(([1]個別data!B4:B115=2),[1]個別data!AU4:AU115)),3)))} -> 1.4 | J41: ) | K41: 0.942
A42: 計 | C42: {=ROUND(SUM(IF(([1]個別data!B4:B115<=3),[1]個別data!P4:P115))/SUM(IF(([1]個別data!B4:B115<=3),[1]個別data!J4:J115)),3)} -> 0.81 | D42: ( | E42: {=100*(C42-(ROUND(SUM(IF(([1]個別data!B4:B115<=3),[1]個別data!AU4:AU115))/SUM(IF(([1]個別data!B4:B115<=3),[1]個別data!AO4:AO115)),3)))} -> 0.4 | F42: ) | G42: {=ROUND(SUM(IF(([1]個別data!B4:B115<=3),[1]個別data!AF4:AF115))/SUM(IF(([1]個別data!B4:B115<=3),[1]個別data!P4:P115)),3)} -> 0.966 | H42: ( | I42: {=100*(G42-(ROUND(SUM(IF(([1]個別data!B4:B115<=3),[1]個別data!BK4:BK115))/SUM(IF(([1]個別data!B4:B115<=3),[1]個別data!AU4:AU115)),3)))} -> 1.6 | J42: ) | K42: 0.95
A44: 専修学校（専門課程） | C44: {=ROUND(SUM(IF(([1]個別data!B4:B115=4),[1]個別data!P4:P115))/SUM(IF(([1]個別data!B4:B115=4),[1]個別data!J4:J115)),3)} -> 0.921 | D44: ( | E44: {=100*(C44-(ROUND(SUM(IF(([1]個別data!B4:B115=4),[1]個別data!AU4:AU115))/SUM(IF(([1]個別data!B4:B115=4),[1]個別data!AO4:AO115)),3)))} -> 2.5 | F44: ) | G44: {=ROUND(SUM(IF(([1]個別data!B4:B115=4),[1]個別data!AF4:AF115))/SUM(IF(([1]個別data!B4:B115=4),[1]個別data!P4:P115)),3)} -> 0.94 | H44: ( | I44: {=100*(G44-(ROUND(SUM(IF(([1]個別data!B4:B115=4),[1]個別data!BK4:BK115))/SUM(IF(([1]個別data!B4:B115=4),[1]個別data!AU4:AU115)),3)))} -> -0.4 | J44: ) | K44: 0.944
A45: 専修学校（専門課程） を含めた総計 | C45: {=ROUND(SUM([1]個別data!P4:P115)/SUM([1]個別data!J4:J115),3)} -> 0.822 | D45: ( | E45: {=100*(C45-(ROUND(SUM([1]個別data!AU4:AU115)/SUM([1]個別data!AO4:AO115),3)))} -> 0.7 | F45: ) | G45: {=ROUND(SUM([1]個別data!AF4:AF115)/SUM([1]個別data!P4:P115),3)} -> 0.963 | H45: ( | I45: {=100*(G45-(ROUND(SUM([1]個別data!BK4:BK115)/SUM([1]個別data!AU4:AU115),3)))} -> 1.4 | J45: ) | K45: 0.949
A46: ［大学 文理別就職率］
A47: 区 分 | C47: 文 系 | I47: 理 系
A48: 大 学 | C48: {=ROUND(SUM(IF(([1]個別data!B4:B115=1),[1]個別data!V4:V115))/SUM(IF(([1]個別data!B4:B115=1),[1]個別data!V4:W115)),3)} -> 0.965 | F48: ( | G48: {=100*(C48-(ROUND(SUM(IF(([1]個別data!B4:B115=1),[1]個別data!BA4:BA115))/SUM(IF(([1]個別data!B4:B115=1),[1]個別data!BA4:BB115)),3)))} -> 2.5 | H48: ) | I48: {=ROUND(SUM(IF(([1]個別data!B4:B115=1),[1]個別data!AB4:AB115))/SUM(IF(([1]個別data!B4:B115=1),[1]個別data!AB4:AC115)),3)} -> 0.972 | L48: ( | M48: {=100*(I48-(ROUND(SUM(IF(([1]個別data!B4:B115=1),[1]個別data!BG4:BG115))/SUM(IF(([1]個別data!B4:B115=1),[1]個別data!BG4:BH115)),3)))} -> 0.8 | N48: )
A49: う ち | B49: 国 公 立 | C49: {=ROUND(SUM(IF(([1]個別data!B4:B115=1)*([1]個別data!C4:C115<=2),[1]個別data!V4:V115))/SUM(IF(([1]個別data!B4:B115=1)*([1]個別data!C4:C115<=2),[1]個別data!V4:W115)),3)} -> 0.983 | F49: ( | G49: {=100*(C49-(ROUND(SUM(IF(([1]個別data!B4:B115=1)*([1]個別data!C4:C115<=2),[1]個別data!BA4:BA115))/SUM(IF(([1]個別data!B4:B115=1)*([1]個別data!C4:C115<=2),[1]個別data!BA4:BB115)),3)))} -> 1.4 | H49: ) | I49: {=ROUND(SUM(IF(([1]個別data!B4:B115=1)*([1]個別data!C4:C115<=2),[1]個別data!AB4:AB115))/SUM(IF(([1]個別data!B4:B115=1)*([1]個別data!C4:C115<=2),[1]個別data!AB4:AC115)),3)} -> 0.962 | L49: ( | M49: {=100*(I49-(ROUND(SUM(IF(([1]個別data!B4:B115=1)*([1]個別data!C4:C115<=2),[1]個別data!BG4:BG115))/SUM(IF(([1]個別data!B4:B115=1)*([1]個別data!C4:C115<=2),[1]個別data!BG4:BH115)),3)))} -> 0.1 | N49: )
B50: 私 立 | C50: {=ROUND(SUM(IF(([1]個別data!B4:B115=1)*([1]個別data!C4:C115=3),[1]個別data!V4:V115))/SUM(IF(([1]個別data!B4:B115=1)*([1]個別data!C4:C115=3),[1]個別data!V4:W115)),3)} -> 0.961 | F50: ( | G50: {=100*(C50-(ROUND(SUM(IF(([1]個別data!B4:B115=1)*([1]個別data!C4:C115=3),[1]個別data!BA4:BA115))/SUM(IF(([1]個別data!B4:B115=1)*([1]個別data!C4:C115=3),[1]個別data!BA4:BB115)),3)))} -> 2.9 | H50: ) | I50: {=ROUND(SUM(IF(([1]個別data!B4:B115=1)*([1]個別data!C4:C115=3),[1]個別data!AB4:AB115))/SUM(IF(([1]個別data!B4:B115=1)*([1]個別data!C4:C115=3),[1]個別data!AB4:AC115)),3)} -> 0.979 | L50: ( | M50: {=100*(I50-(ROUND(SUM(IF(([1]個別data!B4:B115=1)*([1]個別data!C4:C115=3),[1]個別data!BG4:BG115))/SUM(IF(([1]個別data!B4:B115=1)*([1]個別data!C4:C115=3),[1]個別data!BG4:BH115)),3)))} -> 1.4 | N50: )
A52: ［大学 地域別就職状況］
A53: 地 域 | C53: 就 職 率 | G53: 地 域 | K53: 就 職 率
A54: 北海道・東北地区 | C54: {=ROUND(SUM(IF(([1]個別data!B4:B115=1)*([1]個別data!D4:D115=1),[1]個別data!AH4:AH115))/SUM(IF(([1]個別data!B4:B115=1)*([1]個別data!D4:D115=1),[1]個別data!Q4:Q115)),3)} -> 0.953 | D54: ( | E54: {=100*(C54-(ROUND(SUM(IF(([1]個別data!B4:B115=1)*([1]個別data!D4:D115=1),[1]個別data!BM4:BM115))/SUM(IF(([1]個別data!B4:B115=1)*([1]個別data!D4:D115=1),[1]個別data!AV4:AV115)),3)))} -> 2.5 | F54: ) | G54: 近 畿 地 区 | K54: {=ROUND(SUM(IF(([1]個別data!B4:B115=1)*([1]個別data!D4:D115=4),[1]個別data!AH4:AH115))/SUM(IF(([1]個別data!B4:B115=1)*([1]個別data!D4:D115=4),[1]個別data!Q4:Q115)),3)} -> 0.971 | L54: ( | M54: {=100*(K54-(ROUND(SUM(IF(([1]個別data!B4:B115=1)*([1]個別data!D4:D115=4),[1]個別data!BM4:BM115))/SUM(IF(([1]個別data!B4:B115=1)*([1]個別data!D4:D115=4),[1]個別data!AV4:AV115)),3)))} -> 3.3 | N54: )
A55: 関 東 地 区 | C55: {=ROUND(SUM(IF(([1]個別data!B4:B115=1)*([1]個別data!D4:D115=2),[1]個別data!AH4:AH115))/SUM(IF(([1]個別data!B4:B115=1)*([1]個別data!D4:D115=2),[1]個別data!Q4:Q115)),3)} -> 0.969 | D55: ( | E55: {=100*(C55-(ROUND(SUM(IF(([1]個別data!B4:B115=1)*([1]個別data!D4:D115=2),[1]個別data!BM4:BM115))/SUM(IF(([1]個別data!B4:B115=1)*([1]個別data!D4:D115=2),[1]個別data!AV4:AV115)),3)))} -> 0.5 | F55: ) | G55: 中 国・四 国 地 区 | K55: {=ROUND(SUM(IF(([1]個別data!B4:B115=1)*([1]個別data!D4:D115=5),[1]個別data!AH4:AH115))/SUM(IF(([1]個別data!B4:B115=1)*([1]個別data!D4:D115=5),[1]個別data!Q4:Q115)),3)} -> 0.973 | L55: ( | M55: {=100*(K55-(ROUND(SUM(IF(([1]個別data!B4:B115=1)*([1]個別data!D4:D115=5),[1]個別data!BM4:BM115))/SUM(IF(([1]個別data!B4:B115=1)*([1]個別data!D4:D115=5),[1]個別data!AV4:AV115)),3)))} -> 4.5 | N55: )
A56: 中 部 地 区 | C56: {=ROUND(SUM(IF(([1]個別data!B4:B115=1)*([1]個別data!D4:D115=3),[1]個別data!AH4:AH115))/SUM(IF(([1]個別data!B4:B115=1)*([1]個別data!D4:D115=3),[1]個別data!Q4:Q115)),3)} -> 0.973 | D56: ( | E56: {=100*(C56-(ROUND(SUM(IF(([1]個別data!B4:B115=1)*([1]個別data!D4:D115=3),[1]個別data!BM4:BM115))/SUM(IF(([1]個別data!B4:B115=1)*([1]個別data!D4:D115=3),[1]個別data!AV4:AV115)),3)))} -> 1.9 | F56: ) | G56: 九 州 地 区 | K56: {=ROUND(SUM(IF(([1]個別data!B4:B115=1)*([1]個別data!D4:D115=6),[1]個別data!AH4:AH115))/SUM(IF(([1]個別data!B4:B115=1)*([1]個別data!D4:D115=6),[1]個別data!Q4:Q115)),3)} -> 0.947 | L56: ( | M56: {=100*(K56-(ROUND(SUM(IF(([1]個別data!B4:B115=1)*([1]個別data!D4:D115=6),[1]個別data!BM4:BM115))/SUM(IF(([1]個別data!B4:B115=1)*([1]個別data!D4:D115=6),[1]個別data!AV4:AV115)),3)))} -> 3.9 | N56: )

Sheet Sheet2

Sheet Sheet3
