Workbook

Sheet 就職率
A2: 大学、短期大学及び高等専門学校卒業予定者の４月１日現在の就職状況調査の推移
A4: ○就職率
A6: 【全体】
A7: 区 分 | C7: 平成９年４月 | G7: 平成１０年４月 | K7: 平成１１年４月 | O7: 平成１２年４月 | S7: 平成１３年４月 | W7: 平成１４年４月 | AA7: 平成１５年４月 | AE7: 平成１６年４月 | AI7: 平成１７年４月 | AM7: 平成１８年４月 | AQ7: 平成１９年４月 | AU7: 平成２０年４月 | AY7: 平成２１年４月 | BC7: 平成２２年４月 | BG7: 平成２３年４月 | BK7: 平成２４年４月 | BO7: 平成２５年４月 | BS7: 平成２６年４月 | BW7: 平成２７年４月 | CA7: 最低値 | CC7: 最高値
A8: 大 学 | C8: 0.945 | G8: 0.933 | H8: （ | I8: -1.2 | J8: ） | K8: 0.92 | L8: （ | M8: -1.3 | N8: ） | O8: 0.911 | P8: （ | Q8: -0.9 | R8: ） | S8: 0.919 | T8: （ | U8: 0.8 | V8: ） | W8: 0.921 | X8: （ | Y8: 0.2 | Z8: ） | AA8: 0.928 | AB8: （ | AC8: 0.7 | AD8: ） | AE8: 0.931 | AF8: （ | AG8: 0.3 | AH8: ） | AI8: 0.935 | AJ8: （ | AK8: 0.4 | AL8: ） | AM8: 0.953 | AN8: （ | AO8: 1.8 | AP8: ） | AQ8: 0.963 | AR8: （ | AS8: 1 | AT8: ） | AU8: 0.969 | AV8: （ | AW8: 0.6 | AX8: ） | AY8: 0.957 | AZ8: （ | BA8: -1.2 | BB8: ） | BC8: 0.918 | BD8: （ | BE8: -3.9 | BF8: ） | BG8: 0.91 | BH8: （ | BI8: -0.8 | BJ8: ） | BK8: 0.936 | BL8: （ | BM8: 2.6 | BN8: ） | BO8: 0.939 | BP8: （ | BQ8: 0.3 | BR8: ） | BS8: 0.944 | BT8: （ | BU8: 0.5 | BV8: ） | BW8: =[1]公表書式!G13 -> 0.967 | BX8: （ | BY8: =[1]公表書式!I13 -> 2.3 | BZ8: ） | CA8: =MIN(C8,G8,K8,O8,S8,W8,AA8,AE8,AI8,AM8,AQ8,AU8,AY8,BC8,BG8,BK8,BO8,BS8,BW8) -> 0.91 | CB8: =MIN(BE8,BA8,AW8,AS8,AO8,AK8,AG8,AC8,Y8,U8,Q8,M8,I8,E8,BI8,BM8,BQ8,BU8,BY8) -> -3.9 | CC8: =MAX(C8,G8,K8,O8,S8,W8,AA8,AE8,AI8,AM8,AQ8,AU8,AY8,BC8,BG8,BK8,BO8,BS8,BW8) -> 0.969 | CD8: =MAX(E8,I8,M8,Q8,U8,Y8,AC8,AG8,AK8,AO8,AS8,AW8,BA8,BE8,BI8,BM8,BQ8,BU8,BY8) -> 2.6
A9: うち | B9: 国公立 | C9: 0.92 | G9: 0.907 | H9: （ | I9: -1.3 | J9: ） | K9: 0.924 | L9: （ | M9: 1.7 | N9: ） | O9: 0.936 | P9: （ | Q9: 1.2 | R9: ） | S9: 0.931 | T9: （ | U9: -0.5 | V9: ） | W9: 0.929 | X9: （ | Y9: -0.2 | Z9: ） | AA9: 0.948 | AB9: （ | AC9: 1.9 | AD9: ） | AE9: 0.943 | AF9: （ | AG9: -0.5 | AH9: ） | AI9: 0.94 | AJ9: （ | AK9: -0.3 | AL9: ） | AM9: 0.944 | AN9: （ | AO9: 0.4 | AP9: ） | AQ9: 0.964 | AR9: （ | AS9: 2 | AT9: ） | AU9: 0.975 | AV9: （ | AW9: 1.1 | AX9: ） | AY9: 0.966 | AZ9: （ | BA9: -0.9 | BB9: ） | BC9: 0.945 | BD9: （ | BE9: -2.1 | BF9: ） | BG9: 0.935 | BH9: （ | BI9: -1 | BJ9: ） | BK9: 0.954 | BL9: （ | BM9: 1.9 | BN9: ） | BO9: 0.953 | BP9: （ | BQ9: -0.1 | BR9: ） | BS9: 0.967 | BT9: （ | BU9: 1.4 | BV9: ） | BW9: =[1]公表書式!G14 -> 0.977 | BX9: （ | BY9: =[1]公表書式!I14 -> 1 | BZ9: ） | CA9: =MIN(C9,G9,K9,O9,S9,W9,AA9,AE9,AI9,AM9,AQ9,AU9,AY9,BC9,BG9,BK9,BO9,BS9,BW9) -> 0.907 | CB9: =MIN(BE9,BA9,AW9,AS9,AO9,AK9,AG9,AC9,Y9,U9,Q9,M9,I9,E9,BI9,BM9,BQ9,BU9,BY9) -> -2.1 | CC9: =MAX(C9,G9,K9,O9,S9,W9,AA9,AE9,AI9,AM9,AQ9,AU9,AY9,BC9,BG9,BK9,BO9,BS9,BW9) -> 0.977 | CD9: =MAX(E9,I9,M9,Q9,U9,Y9,AC9,AG9,AK9,AO9,AS9,AW9,BA9,BE9,BI9,BM9,BQ9,BU9,BY9) -> 2
B10: 私 立 | C10: 0.954 | G10: 0.942 | H10: （ | I10: -1.2 | J10: ） | K10: 0.918 | L10: （ | M10: -2.4 | N10: ） | O10: 0.903 | P10: （ | Q10: -1.5 | R10: ） | S10: 0.915 | T10: （ | U10: 1.2 | V10: ） | W10: 0.918 | X10: （ | Y10: 0.3 | Z10: ） | AA10: 0.922 | AB10: （ | AC10: 0.4 | AD10: ） | AE10: 0.927 | AF10: （ | AG10: 0.5 | AH10: ） | AI10: 0.934 | AJ10: （ | AK10: 0.7 | AL10: ） | AM10: 0.955 | AN10: （ | AO10: 2.1 | AP10: ） | AQ10: 0.963 | AR10: （ | AS10: 0.8 | AT10: ） | AU10: 0.967 | AV10: （ | AW10: 0.4 | AX10: ） | AY10: 0.954 | AZ10: （ | BA10: -1.3 | BB10: ） | BC10: 0.908 | BD10: （ | BE10: -4.6 | BF10: ） | BG10: 0.901 | BH10: （ | BI10: -0.7 | BJ10: ） | BK10: 0.929 | BL10: （ | BM10: 2.8 | BN10: ） | BO10: 0.934 | BP10: （ | BQ10: 0.5 | BR10: ） | BS10: 0.937 | BT10: （ | BU10: 0.3 | BV10: ） | BW10: =[1]公表書式!G15 -> 0.963 | BX10: （ | BY10: =[1]公表書式!I15 -> 2.6 | BZ10: ） | CA10: =MIN(C10,G10,K10,O10,S10,W10,AA10,AE10,AI10,AM10,AQ10,AU10,AY10,BC10,BG10,BK10,BO10,BS10,BW10) -> 0.901 | CB10: =MIN(BE10,BA10,AW10,AS10,AO10,AK10,AG10,AC10,Y10,U10,Q10,M10,I10,E10,BI10,BM10,BQ10,BU10,BY10) -> -4.6 | CC10: =MAX(C10,G10,K10,O10,S10,W10,AA10,AE10,AI10,AM10,AQ10,AU10,AY10,BC10,BG10,BK10,BO10,BS10,BW10) -> 0.967 | CD10: =MAX(E10,I10,M10,Q10,U10,Y10,AC10,AG10,AK10,AO10,AS10,AW10,BA10,BE10,BI10,BM10,BQ10,BU10,BY10) -> 2.8
A11: 短期大学 | C11: 0.905 | G11: 0.866 | H11: （ | I11: -3.9 | J11: ） | K11: 0.884 | L11: （ | M11: 1.8 | N11: ） | O11: 0.84 | P11: （ | Q11: -4.4 | R11: ） | S11: 0.868 | T11: （ | U11: 2.8 | V11: ） | W11: 0.902 | X11: （ | Y11: 3.4 | Z11: ） | AA11: 0.896 | AB11: （ | AC11: -0.6 | AD11: ） | AE11: 0.895 | AF11: （ | AG11: -0.1 | AH11: ） | AI11: 0.89 | AJ11: （ | AK11: -0.5 | AL11: ） | AM11: 0.908 | AN11: （ | AO11: 1.8 | AP11: ） | AQ11: 0.943 | AR11: （ | AS11: 3.5 | AT11: ） | AU11: 0.946 | AV11: （ | AW11: 0.3 | AX11: ） | AY11: 0.945 | AZ11: （ | BA11: -0.1 | BB11: ） | BC11: 0.884 | BD11: （ | BE11: -6.1 | BF11: ） | BG11: 0.841 | BH11: （ | BI11: -4.3 | BJ11: ） | BK11: 0.895 | BL11: （ | BM11: 5.4 | BN11: ） | BO11: 0.947 | BP11: （ | BQ11: 5.2 | BR11: ） | BS11: 0.942 | BT11: （ | BU11: -0.5 | BV11: ） | BW11: =[1]公表書式!G16 -> 0.956 | BX11: （ | BY11: =[1]公表書式!I16 -> 1.4 | BZ11: ） | CA11: =MIN(C11,G11,K11,O11,S11,W11,AA11,AE11,AI11,AM11,AQ11,AU11,AY11,BC11,BG11,BK11,BO11,BS11,BW11) -> 0.84 | CB11: =MIN(BE11,BA11,AW11,AS11,AO11,AK11,AG11,AC11,Y11,U11,Q11,M11,I11,E11,BI11,BM11,BQ11,BU11,BY11) -> -6.1 | CC11: =MAX(C11,G11,K11,O11,S11,W11,AA11,AE11,AI11,AM11,AQ11,AU11,AY11,BC11,BG11,BK11,BO11,BS11,BW11) -> 0.956 | CD11: =MAX(E11,I11,M11,Q11,U11,Y11,AC11,AG11,AK11,AO11,AS11,AW11,BA11,BE11,BI11,BM11,BQ11,BU11,BY11) -> 5.4
A12: 高等専門学校 | C12: 1 | G12: 1 | H12: （ | I12: 0 | J12: ） | K12: 1 | L12: （ | M12: 0 | N12: ） | O12: 1 | P12: （ | Q12: 0 | R12: ） | S12: 1 | T12: （ | U12: 0 | V12: ） | W12: 0.983 | X12: （ | Y12: -1.7 | Z12: ） | AA12: 0.957 | AB12: （ | AC12: -2.6 | AD12: ） | AE12: 1 | AF12: （ | AG12: 4.3 | AH12: ） | AI12: 0.985 | AJ12: （ | AK12: -1.5 | AL12: ） | AM12: 0.967 | AN12: （ | AO12: -1.8 | AP12: ） | AQ12: 0.988 | AR12: （ | AS12: 2.1 | AT12: ） | AU12: 0.996 | AV12: （ | AW12: 0.8 | AX12: ） | AY12: 1 | AZ12: （ | BA12: 0.4 | BB12: ） | BC12: 0.995 | BD12: （ | BE12: -0.5 | BF12: ） | BG12: 0.987 | BH12: （ | BI12: -0.8 | BJ12: ） | BK12: 1 | BL12: （ | BM12: 1.3 | BN12: ） | BO12: 1 | BP12: （ | BQ12: 0 | BR12: ） | BS12: 1 | BT12: （ | BU12: 0 | BV12: ） | BW12: =[1]公表書式!G17 -> 1 | BX12: （ | BY12: =[1]公表書式!I17 -> 0 | BZ12: ） | CA12: =MIN(C12,G12,K12,O12,S12,W12,AA12,AE12,AI12,AM12,AQ12,AU12,AY12,BC12,BG12,BK12,BO12,BS12,BW12) -> 0.957 | CB12: =MIN(BE12,BA12,AW12,AS12,AO12,AK12,AG12,AC12,Y12,U12,Q12,M12,I12,E12,BI12,BM12,BQ12,BU12,BY12) -> -2.6 | CC12: =MAX(C12,G12,K12,O12,S12,W12,AA12,AE12,AI12,AM12,AQ12,AU12,AY12,BC12,BG12,BK12,BO12,BS12,BW12) -> 1 | CD12: =MAX(E12,I12,M12,Q12,U12,Y12,AC12,AG12,AK12,AO12,AS12,AW12,BA12,BE12,BI12,BM12,BQ12,BU12,BY12) -> 4.3
A13: 総 計 | C13: 0.942 | G13: 0.928 | H13: （ | I13: -1.4 | J13: ） | K13: 0.918 | L13: （ | M13: -1 | N13: ） | O13: 0.905 | P13: （ | Q13: -1.3 | R13: ） | S13: 0.915 | T13: （ | U13: 1 | V13: ） | W13: 0.92 | X13: （ | Y13: 0.5 | Z13: ） | AA13: 0.925 | AB13: （ | AC13: 0.5 | AD13: ） | AE13: 0.928 | AF13: （ | AG13: 0.3 | AH13: ） | AI13: 0.931 | AJ13: （ | AK13: 0.3 | AL13: ） | AM13: 0.948 | AN13: （ | AO13: 1.7 | AP13: ） | AQ13: 0.963 | AR13: （ | AS13: 1.5 | AT13: ） | AU13: 0.968 | AV13: （ | AW13: 0.5 | AX13: ） | AY13: 0.958 | AZ13: （ | BA13: -1 | BB13: ） | BC13: 0.919 | BD13: （ | BE13: -3.9 | BF13: ） | BG13: 0.907 | BH13: （ | BI13: -1.2 | BJ13: ） | BK13: 0.936 | BL13: （ | BM13: 2.9 | BN13: ） | BO13: 0.943 | BP13: （ | BQ13: 0.7 | BR13: ） | BS13: 0.947 | BT13: （ | BU13: 0.4 | BV13: ） | BW13: =[1]公表書式!G18 -> 0.967 | BX13: （ | BY13: =[1]公表書式!I18 -> 2 | BZ13: ） | CA13: =MIN(C13,G13,K13,O13,S13,W13,AA13,AE13,AI13,AM13,AQ13,AU13,AY13,BC13,BG13,BK13,BO13,BS13,BW13) -> 0.905 | CB13: =MIN(BE13,BA13,AW13,AS13,AO13,AK13,AG13,AC13,Y13,U13,Q13,M13,I13,E13,BI13,BM13,BQ13,BU13,BY13) -> -3.9 | CC13: =MAX(C13,G13,K13,O13,S13,W13,AA13,AE13,AI13,AM13,AQ13,AU13,AY13,BC13,BG13,BK13,BO13,BS13,BW13) -> 0.968 | CD13: =MAX(E13,I13,M13,Q13,U13,Y13,AC13,AG13,AK13,AO13,AS13,AW13,BA13,BE13,BI13,BM13,BQ13,BU13,BY13) -> 2.9
A15: 【男子】
A16: 区 分 | C16: 平成９年４月 | G16: 平成１０年４月 | K16: 平成１１年４月 | O16: 平成１２年４月 | S16: 平成１３年４月 | W16: 平成１４年４月 | AA16: 平成１５年４月 | AE16: 平成１６年４月 | AI16: 平成１７年４月 | AM16: 平成１８年４月 | AQ16: 平成１９年４月 | AU16: 平成２０年４月 | AY16: 平成２１年４月 | BC16: 平成２２年４月 | BG16: 平成２３年４月 | BK16: 平成２４年４月 | BO16: 平成２５年４月 | BS16: 平成２６年４月 | BW16: 平成２７年４月
A17: 大 学 | C17: 0.956 | G17: 0.946 | H17: （ | I17: -1 | J17: ） | K17: 0.932 | L17: （ | M17: -1.4 | N17: ） | O17: 0.919 | P17: （ | Q17: -1.3 | R17: ） | S17: 0.923 | T17: （ | U17: 0.4 | V17: ） | W17: 0.925 | X17: （ | Y17: 0.2 | Z17: ） | AA17: 0.932 | AB17: （ | AC17: 0.7 | AD17: ） | AE17: 0.93 | AF17: （ | AG17: -0.2 | AH17: ） | AI17: 0.933 | AJ17: （ | AK17: 0.3 | AL17: ） | AM17: 0.955 | AN17: （ | AO17: 2.2 | AP17: ） | AQ17: 0.966 | AR17: （ | AS17: 1.1 | AT17: ） | AU17: 0.966 | AV17: （ | AW17: 0 | AX17: ） | AY17: 0.959 | AZ17: （ | BA17: -0.7 | BB17: ） | BC17: 0.92 | BD17: （ | BE17: -3.9 | BF17: ） | BG17: 0.911 | BH17: （ | BI17: -0.9 | BJ17: ） | BK17: 0.945 | BL17: （ | BM17: 3.4 | BN17: ） | BO17: 0.932 | BP17: （ | BQ17: -1.3 | BR17: ） | BS17: 0.938 | BT17: （ | BU17: 0.6 | BV17: ） | BW17: =[1]公表書式!G26 -> 0.965 | BX17: （ | BY17: =[1]公表書式!I26 -> 2.7 | BZ17: ） | CA17: =MIN(C17,G17,K17,O17,S17,W17,AA17,AE17,AI17,AM17,AQ17,AU17,AY17,BC17,BG17,BK17,BO17,BS17,BW17) -> 0.911 | CB17: =MIN(BE17,BA17,AW17,AS17,AO17,AK17,AG17,AC17,Y17,U17,Q17,M17,I17,E17,BI17,BM17,BQ17,BU17,BY17) -> -3.9 | CC17: =MAX(C17,G17,K17,O17,S17,W17,AA17,AE17,AI17,AM17,AQ17,AU17,AY17,BC17,BG17,BK17,BO17,BS17,BW17) -> 0.966 | CD17: =MAX(E17,I17,M17,Q17,U17,Y17,AC17,AG17,AK17,AO17,AS17,AW17,BA17,BE17,BI17,BM17,BQ17,BU17,BY17) -> 3.4
A18: うち | B18: 国公立 | C18: 0.935 | G18: 0.926 | H18: （ | I18: -0.9 | J18: ） | K18: 0.945 | L18: （ | M18: 1.9 | N18: ） | O18: 0.947 | P18: （ | Q18: 0.2 | R18: ） | S18: 0.93 | T18: （ | U18: -1.7 | V18: ） | W18: 0.925 | X18: （ | Y18: -0.5 | Z18: ） | AA18: 0.943 | AB18: （ | AC18: 1.8 | AD18: ） | AE18: 0.937 | AF18: （ | AG18: -0.6 | AH18: ） | AI18: 0.915 | AJ18: （ | AK18: -2.2 | AL18: ） | AM18: 0.953 | AN18: （ | AO18: 3.8 | AP18: ） | AQ18: 0.965 | AR18: （ | AS18: 1.2 | AT18: ） | AU18: 0.97 | AV18: （ | AW18: 0.5 | AX18: ） | AY18: 0.966 | AZ18: （ | BA18: -0.4 | BB18: ） | BC18: 0.941 | BD18: （ | BE18: -2.5 | BF18: ） | BG18: 0.925 | BH18: （ | BI18: -1.6 | BJ18: ） | BK18: 0.96 | BL18: （ | BM18: 3.5 | BN18: ） | BO18: 0.945 | BP18: （ | BQ18: -1.5 | BR18: ） | BS18: 0.959 | BT18: （ | BU18: 1.4 | BV18: ） | BW18: =[1]公表書式!G27 -> 0.971 | BX18: （ | BY18: =[1]公表書式!I27 -> 1.2 | BZ18: ） | CA18: =MIN(C18,G18,K18,O18,S18,W18,AA18,AE18,AI18,AM18,AQ18,AU18,AY18,BC18,BG18,BK18,BO18,BS18,BW18) -> 0.915 | CB18: =MIN(BE18,BA18,AW18,AS18,AO18,AK18,AG18,AC18,Y18,U18,Q18,M18,I18,E18,BI18,BM18,BQ18,BU18,BY18) -> -2.5 | CC18: =MAX(C18,G18,K18,O18,S18,W18,AA18,AE18,AI18,AM18,AQ18,AU18,AY18,BC18,BG18,BK18,BO18,BS18,BW18) -> 0.971 | CD18: =MAX(E18,I18,M18,Q18,U18,Y18,AC18,AG18,AK18,AO18,AS18,AW18,BA18,BE18,BI18,BM18,BQ18,BU18,BY18) -> 3.8
B19: 私 立 | C19: 0.963 | G19: 0.954 | H19: （ | I19: -0.9 | J19: ） | K19: 0.928 | L19: （ | M19: -2.6 | N19: ） | O19: 0.91 | P19: （ | Q19: -1.8 | R19: ） | S19: 0.921 | T19: （ | U19: 1.1 | V19: ） | W19: 0.925 | X19: （ | Y19: 0.4 | Z19: ） | AA19: 0.929 | AB19: （ | AC19: 0.4 | AD19: ） | AE19: 0.928 | AF19: （ | AG19: -0.1 | AH19: ） | AI19: 0.937 | AJ19: （ | AK19: 0.9 | AL19: ） | AM19: 0.956 | AN19: （ | AO19: 1.9 | AP19: ） | AQ19: 0.966 | AR19: （ | AS19: 1 | AT19: ） | AU19: 0.965 | AV19: （ | AW19: -0.1 | AX19: ） | AY19: 0.957 | AZ19: （ | BA19: -0.8 | BB19: ） | BC19: 0.914 | BD19: （ | BE19: -4.3 | BF19: ） | BG19: 0.906 | BH19: （ | BI19: -0.8 | BJ19: ） | BK19: 0.939 | BL19: （ | BM19: 3.3 | BN19: ） | BO19: 0.928 | BP19: （ | BQ19: -1.1 | BR19: ） | BS19: 0.931 | BT19: （ | BU19: 0.3 | BV19: ） | BW19: =[1]公表書式!G28 -> 0.963 | BX19: （ | BY19: =[1]公表書式!I28 -> 3.2 | BZ19: ） | CA19: =MIN(C19,G19,K19,O19,S19,W19,AA19,AE19,AI19,AM19,AQ19,AU19,AY19,BC19,BG19,BK19,BO19,BS19,BW19) -> 0.906 | CB19: =MIN(BE19,BA19,AW19,AS19,AO19,AK19,AG19,AC19,Y19,U19,Q19,M19,I19,E19,BI19,BM19,BQ19,BU19,BY19) -> -4.3 | CC19: =MAX(C19,G19,K19,O19,S19,W19,AA19,AE19,AI19,AM19,AQ19,AU19,AY19,BC19,BG19,BK19,BO19,BS19,BW19) -> 0.966 | CD19: =MAX(E19,I19,M19,Q19,U19,Y19,AC19,AG19,AK19,AO19,AS19,AW19,BA19,BE19,BI19,BM19,BQ19,BU19,BY19) -> 3.3
A20: 高等専門学校 | C20: 1 | G20: 1 | H20: （ | I20: 0 | J20: ） | K20: 1 | L20: （ | M20: 0 | N20: ） | O20: 1 | P20: （ | Q20: 0 | R20: ） | S20: 1 | T20: （ | U20: 0 | V20: ） | W20: 0.983 | X20: （ | Y20: -1.7 | Z20: ） | AA20: 0.957 | AB20: （ | AC20: -2.6 | AD20: ） | AE20: 1 | AF20: （ | AG20: 4.3 | AH20: ） | AI20: 0.985 | AJ20: （ | AK20: -1.5 | AL20: ） | AM20: 0.967 | AN20: （ | AO20: -1.8 | AP20: ） | AQ20: 0.988 | AR20: （ | AS20: 2.1 | AT20: ） | AU20: 0.996 | AV20: （ | AW20: 0.8 | AX20: ） | AY20: 1 | AZ20: （ | BA20: 0.4 | BB20: ） | BC20: 0.995 | BD20: （ | BE20: -0.5 | BF20: ） | BG20: 0.987 | BH20: （ | BI20: -0.8 | BJ20: ） | BK20: 1 | BL20: （ | BM20: 1.3 | BN20: ） | BO20: 1 | BP20: （ | BQ20: 0 | BR20: ） | BS20: 1 | BT20: （ | BU20: 0 | BV20: ） | BW20: =[1]公表書式!G29 -> 1 | BX20: （ | BY20: =[1]公表書式!I29 -> 0 | BZ20: ） | CA20: =MIN(C20,G20,K20,O20,S20,W20,AA20,AE20,AI20,AM20,AQ20,AU20,AY20,BC20,BG20,BK20,BO20,BS20,BW20) -> 0.957 | CB20: =MIN(BE20,BA20,AW20,AS20,AO20,AK20,AG20,AC20,Y20,U20,Q20,M20,I20,E20,BI20,BM20,BQ20,BU20,BY20) -> -2.6 | CC20: =MAX(C20,G20,K20,O20,S20,W20,AA20,AE20,AI20,AM20,AQ20,AU20,AY20,BC20,BG20,BK20,BO20,BS20,BW20) -> 1 | CD20: =MAX(E20,I20,M20,Q20,U20,Y20,AC20,AG20,AK20,AO20,AS20,AW20,BA20,BE20,BI20,BM20,BQ20,BU20,BY20) -> 4.3
A21: 総 計 | C21: 0.957 | G21: 0.948 | H21: （ | I21: -0.9 | J21: ） | K21: 0.935 | L21: （ | M21: -1.3 | N21: ） | O21: 0.922 | P21: （ | Q21: -1.3 | R21: ） | S21: 0.926 | T21: （ | U21: 0.4 | V21: ） | W21: 0.926 | X21: （ | Y21: 0 | Z21: ） | AA21: 0.933 | AB21: （ | AC21: 0.7 | AD21: ） | AE21: 0.932 | AF21: （ | AG21: -0.1 | AH21: ） | AI21: 0.935 | AJ21: （ | AK21: 0.3 | AL21: ） | AM21: 0.956 | AN21: （ | AO21: 2.1 | AP21: ） | AQ21: 0.969 | AR21: （ | AS21: 1.3 | AT21: ） | AU21: 0.969 | AV21: （ | AW21: 0 | AX21: ） | AY21: 0.963 | AZ21: （ | BA21: -0.6 | BB21: ） | BC21: 0.929 | BD21: （ | BE21: -3.4 | BF21: ） | BG21: 0.92 | BH21: （ | BI21: -0.9 | BJ21: ） | BK21: 0.952 | BL21: （ | BM21: 3.2 | BN21: ） | BO21: 0.94 | BP21: （ | BQ21: -1.2 | BR21: ） | BS21: 0.945 | BT21: （ | BU21: 0.5 | BV21: ） | BW21: =[1]公表書式!G30 -> 0.969 | BX21: （ | BY21: =[1]公表書式!I30 -> 2.4 | BZ21: ） | CA21: =MIN(C21,G21,K21,O21,S21,W21,AA21,AE21,AI21,AM21,AQ21,AU21,AY21,BC21,BG21,BK21,BO21,BS21,BW21) -> 0.92 | CB21: =MIN(BE21,BA21,AW21,AS21,AO21,AK21,AG21,AC21,Y21,U21,Q21,M21,I21,E21,BI21,BM21,BQ21,BU21,BY21) -> -3.4 | CC21: =MAX(C21,G21,K21,O21,S21,W21,AA21,AE21,AI21,AM21,AQ21,AU21,AY21,BC21,BG21,BK21,BO21,BS21,BW21) -> 0.969 | CD21: =MAX(E21,I21,M21,Q21,U21,Y21,AC21,AG21,AK21,AO21,AS21,AW21,BA21,BE21,BI21,BM21,BQ21,BU21,BY21) -> 3.2
A23: 【女子】
A24: 区 分 | C24: 平成９年４月 | G24: 平成１０年４月 | K24: 平成１１年４月 | O24: 平成１２年４月 | S24: 平成１３年４月 | W24: 平成１４年４月 | AA24: 平成１５年４月 | AE24: 平成１６年４月 | AI24: 平成１７年４月 | AM24: 平成１８年４月 | AQ24: 平成１９年４月 | AU24: 平成２０年４月 | AY24: 平成２１年４月 | BC24: 平成２２年４月 | BG24: 平成２３年４月 | BK24: 平成２４年４月 | BO24: 平成２５年４月 | BS24: 平成２６年４月 | BW24: 平成２７年４月
A25: 大 学 | C25: 0.922 | G25: 0.905 | H25: （ | I25: -1.7 | J25: ） | K25: 0.892 | L25: （ | M25: -1.3 | N25: ） | O25: 0.895 | P25: （ | Q25: 0.3 | R25: ） | S25: 0.912 | T25: （ | U25: 1.7 | V25: ） | W25: 0.915 | X25: （ | Y25: 0.3 | Z25: ） | AA25: 0.922 | AB25: （ | AC25: 0.7 | AD25: ） | AE25: 0.932 | AF25: （ | AG25: 1 | AH25: ） | AI25: 0.938 | AJ25: （ | AK25: 0.6 | AL25: ） | AM25: 0.95 | AN25: （ | AO25: 1.2 | AP25: ） | AQ25: 0.96 | AR25: （ | AS25: 1 | AT25: ） | AU25: 0.973 | AV25: （ | AW25: 1.3 | AX25: ） | AY25: 0.954 | AZ25: （ | BA25: -1.9 | BB25: ） | BC25: 0.915 | BD25: （ | BE25: -3.9 | BF25: ） | BG25: 0.909 | BH25: （ | BI25: -0.6 | BJ25: ） | BK25: 0.926 | BL25: （ | BM25: 1.7 | BN25: ） | BO25: 0.947 | BP25: （ | BQ25: 2.1 | BR25: ） | BS25: 0.952 | BT25: （ | BU25: 0.5 | BV25: ） | BW25: =[1]公表書式!G38 -> 0.969 | BX25: （ | BY25: =[1]公表書式!I38 -> 1.7 | BZ25: ） | CA25: =MIN(C25,G25,K25,O25,S25,W25,AA25,AE25,AI25,AM25,AQ25,AU25,AY25,BC25,BG25,BK25,BO25,BS25,BW25) -> 0.892 | CB25: =MIN(BE25,BA25,AW25,AS25,AO25,AK25,AG25,AC25,Y25,U25,Q25,M25,I25,E25,BI25,BM25,BQ25,BU25,BY25) -> -3.9 | CC25: =MAX(C25,G25,K25,O25,S25,W25,AA25,AE25,AI25,AM25,AQ25,AU25,AY25,BC25,BG25,BK25,BO25,BS25,BW25) -> 0.973 | CD25: =MAX(E25,I25,M25,Q25,U25,Y25,AC25,AG25,AK25,AO25,AS25,AW25,BA25,BE25,BI25,BM25,BQ25,BU25,BY25) -> 2.1
A26: うち | B26: 国公立 | C26: 0.887 | G26: 0.866 | H26: （ | I26: -2.1 | J26: ） | K26: 0.882 | L26: （ | M26: 1.6 | N26: ） | O26: 0.915 | P26: （ | Q26: 3.3 | R26: ） | S26: 0.934 | T26: （ | U26: 1.9 | V26: ） | W26: 0.936 | X26: （ | Y26: 0.2 | Z26: ） | AA26: 0.954 | AB26: （ | AC26: 1.8 | AD26: ） | AE26: 0.95 | AF26: （ | AG26: -0.4 | AH26: ） | AI26: 0.969 | AJ26: （ | AK26: 1.9 | AL26: ） | AM26: 0.935 | AN26: （ | AO26: -3.4 | AP26: ） | AQ26: 0.964 | AR26: （ | AS26: 2.9 | AT26: ） | AU26: 0.98 | AV26: （ | AW26: 1.6 | AX26: ） | AY26: 0.965 | AZ26: （ | BA26: -1.5 | BB26: ） | BC26: 0.949 | BD26: （ | BE26: -1.6 | BF26: ） | BG26: 0.946 | BH26: （ | BI26: -0.3 | BJ26: ） | BK26: 0.948 | BL26: （ | BM26: 0.2 | BN26: ） | BO26: 0.96 | BP26: （ | BQ26: 1.2 | BR26: ） | BS26: 0.974 | BT26: （ | BU26: 1.4 | BV26: ） | BW26: =[1]公表書式!G39 -> 0.983 | BX26: （ | BY26: =[1]公表書式!I39 -> 0.9 | BZ26: ） | CA26: =MIN(C26,G26,K26,O26,S26,W26,AA26,AE26,AI26,AM26,AQ26,AU26,AY26,BC26,BG26,BK26,BO26,BS26,BW26) -> 0.866 | CB26: =MIN(BE26,BA26,AW26,AS26,AO26,AK26,AG26,AC26,Y26,U26,Q26,M26,I26,E26,BI26,BM26,BQ26,BU26,BY26) -> -3.4 | CC26: =MAX(C26,G26,K26,O26,S26,W26,AA26,AE26,AI26,AM26,AQ26,AU26,AY26,BC26,BG26,BK26,BO26,BS26,BW26) -> 0.983 | CD26: =MAX(E26,I26,M26,Q26,U26,Y26,AC26,AG26,AK26,AO26,AS26,AW26,BA26,BE26,BI26,BM26,BQ26,BU26,BY26) -> 3.3
B27: 私 立 | C27: 0.935 | G27: 0.919 | H27: （ | I27: -1.6 | J27: ） | K27: 0.896 | L27: （ | M27: -2.3 | N27: ） | O27: 0.888 | P27: （ | Q27: -0.8 | R27: ） | S27: 0.905 | T27: （ | U27: 1.7 | V27: ） | W27: 0.908 | X27: （ | Y27: 0.3 | Z27: ） | AA27: 0.912 | AB27: （ | AC27: 0.4 | AD27: ） | AE27: 0.927 | AF27: （ | AG27: 1.5 | AH27: ） | AI27: 0.929 | AJ27: （ | AK27: 0.2 | AL27: ） | AM27: 0.955 | AN27: （ | AO27: 2.6 | AP27: ） | AQ27: 0.959 | AR27: （ | AS27: 0.4 | AT27: ） | AU27: 0.97 | AV27: （ | AW27: 1.1 | AX27: ） | AY27: 0.951 | AZ27: （ | BA27: -1.9 | BB27: ） | BC27: 0.902 | BD27: （ | BE27: -4.9 | BF27: ） | BG27: 0.896 | BH27: （ | BI27: -0.6 | BJ27: ） | BK27: 0.917 | BL27: （ | BM27: 2.1 | BN27: ） | BO27: 0.942 | BP27: （ | BQ27: 2.5 | BR27: ） | BS27: 0.944 | BT27: （ | BU27: 0.2 | BV27: ） | BW27: =[1]公表書式!G40 -> 0.964 | BX27: （ | BY27: =[1]公表書式!I40 -> 2 | BZ27: ） | CA27: =MIN(C27,G27,K27,O27,S27,W27,AA27,AE27,AI27,AM27,AQ27,AU27,AY27,BC27,BG27,BK27,BO27,BS27,BW27) -> 0.888 | CB27: =MIN(BE27,BA27,AW27,AS27,AO27,AK27,AG27,AC27,Y27,U27,Q27,M27,I27,E27,BI27,BM27,BQ27,BU27,BY27) -> -4.9 | CC27: =MAX(C27,G27,K27,O27,S27,W27,AA27,AE27,AI27,AM27,AQ27,AU27,AY27,BC27,BG27,BK27,BO27,BS27,BW27) -> 0.97 | CD27: =MAX(E27,I27,M27,Q27,U27,Y27,AC27,AG27,AK27,AO27,AS27,AW27,BA27,BE27,BI27,BM27,BQ27,BU27,BY27) -> 2.6
A28: 短期大学 | C28: 0.905 | G28: 0.866 | H28: （ | I28: -3.9 | J28: ） | K28: 0.884 | L28: （ | M28: 1.8 | N28: ） | O28: 0.84 | P28: （ | Q28: -4.4 | R28: ） | S28: 0.868 | T28: （ | U28: 2.8 | V28: ） | W28: 0.902 | X28: （ | Y28: 3.4 | Z28: ） | AA28: 0.896 | AB28: （ | AC28: -0.6 | AD28: ） | AE28: 0.895 | AF28: （ | AG28: -0.1 | AH28: ） | AI28: 0.89 | AJ28: （ | AK28: -0.5 | AL28: ） | AM28: 0.908 | AN28: （ | AO28: 1.8 | AP28: ） | AQ28: 0.943 | AR28: （ | AS28: 3.5 | AT28: ） | AU28: 0.946 | AV28: （ | AW28: 0.3 | AX28: ） | AY28: 0.945 | AZ28: （ | BA28: -0.1 | BB28: ） | BC28: 0.884 | BD28: （ | BE28: -6.1 | BF28: ） | BG28: 0.841 | BH28: （ | BI28: -4.3 | BJ28: ） | BK28: 0.895 | BL28: （ | BM28: 5.4 | BN28: ） | BO28: 0.947 | BP28: （ | BQ28: 5.2 | BR28: ） | BS28: 0.942 | BT28: （ | BU28: -0.5 | BV28: ） | BW28: =[1]公表書式!G41 -> 0.956 | BX28: （ | BY28: =[1]公表書式!I41 -> 1.4 | BZ28: ） | CA28: =MIN(C28,G28,K28,O28,S28,W28,AA28,AE28,AI28,AM28,AQ28,AU28,AY28,BC28,BG28,BK28,BO28,BS28,BW28) -> 0.84 | CB28: =MIN(BE28,BA28,AW28,AS28,AO28,AK28,AG28,AC28,Y28,U28,Q28,M28,I28,E28,BI28,BM28,BQ28,BU28,BY28) -> -6.1 | CC28: =MAX(C28,G28,K28,O28,S28,W28,AA28,AE28,AI28,AM28,AQ28,AU28,AY28,BC28,BG28,BK28,BO28,BS28,BW28) -> 0.956 | CD28: =MAX(E28,I28,M28,Q28,U28,Y28,AC28,AG28,AK28,AO28,AS28,AW28,BA28,BE28,BI28,BM28,BQ28,BU28,BY28) -> 5.4
A29: 総 計 | C29: 0.917 | G29: 0.895 | H29: （ | I29: -2.2 | J29: ） | K29: 0.89 | L29: （ | M29: -0.5 | N29: ） | O29: 0.879 | P29: （ | Q29: -1.1 | R29: ） | S29: 0.901 | T29: （ | U29: 2.2 | V29: ） | W29: 0.912 | X29: （ | Y29: 1.1 | Z29: ） | AA29: 0.916 | AB29: （ | AC29: 0.4 | AD29: ） | AE29: 0.924 | AF29: （ | AG29: 0.8 | AH29: ） | AI29: 0.927 | AJ29: （ | AK29: 0.3 | AL29: ） | AM29: 0.941 | AN29: （ | AO29: 1.4 | AP29: ） | AQ29: 0.957 | AR29: （ | AS29: 1.6 | AT29: ） | AU29: 0.967 | AV29: （ | AW29: 1 | AX29: ） | AY29: 0.953 | AZ29: （ | BA29: -1.4 | BB29: ） | BC29: 0.909 | BD29: （ | BE29: -4.4 | BF29: ） | BG29: 0.895 | BH29: （ | BI29: -1.4 | BJ29: ） | BK29: 0.919 | BL29: （ | BM29: 2.4 | BN29: ） | BO29: 0.947 | BP29: （ | BQ29: 2.8 | BR29: ） | BS29: 0.95 | BT29: （ | BU29: 0.3 | BV29: ） | BW29: =[1]公表書式!G42 -> 0.966 | BX29: （ | BY29: =[1]公表書式!I42 -> 1.6 | BZ29: ） | CA29: =MIN(C29,G29,K29,O29,S29,W29,AA29,AE29,AI29,AM29,AQ29,AU29,AY29,BC29,BG29,BK29,BO29,BS29,BW29) -> 0.879 | CB29: =MIN(BE29,BA29,AW29,AS29,AO29,AK29,AG29,AC29,Y29,U29,Q29,M29,I29,E29,BI29,BM29,BQ29,BU29,BY29) -> -4.4 | CC29: =MAX(C29,G29,K29,O29,S29,W29,AA29,AE29,AI29,AM29,AQ29,AU29,AY29,BC29,BG29,BK29,BO29,BS29,BW29) -> 0.967 | CD29: =MAX(E29,I29,M29,Q29,U29,Y29,AC29,AG29,AK29,AO29,AS29,AW29,BA29,BE29,BI29,BM29,BQ29,BU29,BY29) -> 2.8
A32: （注）１．（ ）内は、前年度同期の調査からの増減値である（▲は減少）。
A33: ２．平成８年度から、文部科学省・厚生労働省調査を実施。
A34: ３．数字に下線が引かれているものは、統計開始以来最も低い値を示し、斜体は最も高い値を示す。
BE47: :

Sheet Sheet2

Sheet Sheet3
