Workbook

Sheet 就職希望率
A2: ○就職希望率
A4: 【全体】
A5: 区 分 | C5: 平成９年４月 | G5: 平成１０年４月 | K5: 平成１１年４月 | O5: 平成１２年４月 | S5: 平成１３年４月 | W5: 平成１４年４月 | AA5: 平成１５年４月 | AE5: 平成１６年４月 | AI5: 平成１７年４月 | AM5: 平成１８年４月 | AQ5: 平成１９年４月 | AU5: 平成２０年４月 | AY5: 平成２１年４月 | BC5: 平成２２年４月 | BG5: 平成２３年４月 | BK5: 平成２４年４月 | BO5: 平成２５年４月 | BS5: 平成２６年４月 | BW5: 平成２７年４月 | CA5: 最低値 | CC5: 最高値
A6: 大 学 | C6: 0.724 | G6: 0.724 | H6: （ | I6: 0 | J6: ） | K6: 0.683 | L6: （ | M6: -4.1 | N6: ） | O6: 0.627 | P6: （ | Q6: -5.6 | R6: ） | S6: 0.643 | T6: （ | U6: 1.6 | V6: ） | W6: 0.645 | X6: （ | Y6: 0.2 | Z6: ） | AA6: 0.655 | AB6: （ | AC6: 1 | AD6: ） | AE6: 0.635 | AF6: （ | AG6: -2 | AH6: ） | AI6: 0.663 | AJ6: （ | AK6: 2.8 | AL6: ） | AM6: 0.683 | AN6: （ | AO6: 2 | AP6: ） | AQ6: 0.692 | AR6: （ | AS6: 0.9 | AT6: ） | AU6: 0.712 | AV6: （ | AW6: 2 | AX6: ） | AY6: 0.704 | AZ6: （ | BA6: -0.8 | BB6: ） | BC6: 0.668 | BD6: （ | BE6: -3.6 | BF6: ） | BG6: 0.665 | BH6: （ | BI6: -0.3 | BJ6: ） | BK6: 0.689 | BL6: （ | BM6: 2.4 | BN6: ） | BO6: 0.703 | BP6: （ | BQ6: 1.4 | BR6: ） | BS6: 0.715 | BT6: （ | BU6: 1.2 | BV6: ） | BW6: =[1]公表書式!C13 -> 0.727 | BX6: （ | BY6: =[1]公表書式!E13 -> 1.2 | BZ6: ） | CA6: =MIN(C6,G6,K6,O6,S6,W6,AA6,AE6,AI6,AM6,AQ6,AU6,AY6,BC6,BG6,BK6,BO6,BS6,BW6) -> 0.627 | CB6: =MIN(BE6,BA6,AW6,AS6,AO6,AK6,AG6,AC6,Y6,U6,Q6,M6,I6,E6,BI6,BM6,BQ6,BU6,BY6) -> -5.6 | CC6: =MAX(C6,G6,K6,O6,S6,W6,AA6,AE6,AI6,AM6,AQ6,AU6,AY6,BC6,BG6,BK6,BO6,BS6,BW6) -> 0.727 | CD6: =MAX(E6,I6,M6,Q6,U6,Y6,AC6,AG6,AK6,AO6,AS6,AW6,BA6,BE6,BI6,BM6,BQ6,BU6,BY6) -> 2.8
A7: うち | B7: 国公立 | C7: 0.56 | G7: 0.554 | H7: （ | I7: -0.6 | J7: ） | K7: 0.492 | L7: （ | M7: -6.2 | N7: ） | O7: 0.45 | P7: （ | Q7: -4.2 | R7: ） | S7: 0.475 | T7: （ | U7: 2.5 | V7: ） | W7: 0.471 | X7: （ | Y7: -0.4 | Z7: ） | AA7: 0.462 | AB7: （ | AC7: -0.9 | AD7: ） | AE7: 0.445 | AF7: （ | AG7: -1.7 | AH7: ） | AI7: 0.448 | AJ7: （ | AK7: 0.3 | AL7: ） | AM7: 0.474 | AN7: （ | AO7: 2.6 | AP7: ） | AQ7: 0.497 | AR7: （ | AS7: 2.3 | AT7: ） | AU7: 0.528 | AV7: （ | AW7: 3.1 | AX7: ） | AY7: 0.514 | AZ7: （ | BA7: -1.4 | BB7: ） | BC7: 0.528 | BD7: （ | BE7: 1.4 | BF7: ） | BG7: 0.498 | BH7: （ | BI7: -3 | BJ7: ） | BK7: 0.542 | BL7: （ | BM7: 4.4 | BN7: ） | BO7: 0.534 | BP7: （ | BQ7: -0.8 | BR7: ） | BS7: 0.531 | BT7: （ | BU7: -0.3 | BV7: ） | BW7: =[1]公表書式!C14 -> 0.543 | BX7: （ | BY7: =[1]公表書式!E14 -> 1.2 | BZ7: ） | CA7: =MIN(C7,G7,K7,O7,S7,W7,AA7,AE7,AI7,AM7,AQ7,AU7,AY7,BC7,BG7,BK7,BO7,BS7,BW7) -> 0.445 | CB7: =MIN(BE7,BA7,AW7,AS7,AO7,AK7,AG7,AC7,Y7,U7,Q7,M7,I7,E7,BI7,BM7,BQ7,BU7,BY7) -> -6.2 | CC7: =MAX(C7,G7,K7,O7,S7,W7,AA7,AE7,AI7,AM7,AQ7,AU7,AY7,BC7,BG7,BK7,BO7,BS7,BW7) -> 0.56 | CD7: =MAX(E7,I7,M7,Q7,U7,Y7,AC7,AG7,AK7,AO7,AS7,AW7,BA7,BE7,BI7,BM7,BQ7,BU7,BY7) -> 4.4
B8: 私 立 | C8: 0.807 | G8: 0.812 | H8: （ | I8: 0.5 | J8: ） | K8: 0.781 | L8: （ | M8: -3.1 | N8: ） | O8: 0.717 | P8: （ | Q8: -6.4 | R8: ） | S8: 0.722 | T8: （ | U8: 0.5 | V8: ） | W8: 0.728 | X8: （ | Y8: 0.6 | Z8: ） | AA8: 0.747 | AB8: （ | AC8: 1.9 | AD8: ） | AE8: 0.725 | AF8: （ | AG8: -2.2 | AH8: ） | AI8: 0.765 | AJ8: （ | AK8: 4 | AL8: ） | AM8: 0.784 | AN8: （ | AO8: 1.9 | AP8: ） | AQ8: 0.788 | AR8: （ | AS8: 0.4 | AT8: ） | AU8: 0.803 | AV8: （ | AW8: 1.5 | AX8: ） | AY8: 0.797 | AZ8: （ | BA8: -0.6 | BB8: ） | BC8: 0.737 | BD8: （ | BE8: -6 | BF8: ） | BG8: 0.747 | BH8: （ | BI8: 1 | BJ8: ） | BK8: 0.762 | BL8: （ | BM8: 1.5 | BN8: ） | BO8: 0.787 | BP8: （ | BQ8: 2.5 | BR8: ） | BS8: 0.806 | BT8: （ | BU8: 1.9 | BV8: ） | BW8: =[1]公表書式!C15 -> 0.819 | BX8: （ | BY8: =[1]公表書式!E15 -> 1.3 | BZ8: ） | CA8: =MIN(C8,G8,K8,O8,S8,W8,AA8,AE8,AI8,AM8,AQ8,AU8,AY8,BC8,BG8,BK8,BO8,BS8,BW8) -> 0.717 | CB8: =MIN(BE8,BA8,AW8,AS8,AO8,AK8,AG8,AC8,Y8,U8,Q8,M8,I8,E8,BI8,BM8,BQ8,BU8,BY8) -> -6.4 | CC8: =MAX(C8,G8,K8,O8,S8,W8,AA8,AE8,AI8,AM8,AQ8,AU8,AY8,BC8,BG8,BK8,BO8,BS8,BW8) -> 0.819 | CD8: =MAX(E8,I8,M8,Q8,U8,Y8,AC8,AG8,AK8,AO8,AS8,AW8,BA8,BE8,BI8,BM8,BQ8,BU8,BY8) -> 4
A9: 短期大学 | C9: 0.808 | G9: 0.763 | H9: （ | I9: -4.5 | J9: ） | K9: 0.713 | L9: （ | M9: -5 | N9: ） | O9: 0.721 | P9: （ | Q9: 0.8 | R9: ） | S9: 0.727 | T9: （ | U9: 0.6 | V9: ） | W9: 0.723 | X9: （ | Y9: -0.4 | Z9: ） | AA9: 0.742 | AB9: （ | AC9: 1.9 | AD9: ） | AE9: 0.744 | AF9: （ | AG9: 0.2 | AH9: ） | AI9: 0.767 | AJ9: （ | AK9: 2.3 | AL9: ） | AM9: 0.752 | AN9: （ | AO9: -1.5 | AP9: ） | AQ9: 0.744 | AR9: （ | AS9: -0.8 | AT9: ） | AU9: 0.785 | AV9: （ | AW9: 4.1 | AX9: ） | AY9: 0.775 | AZ9: （ | BA9: -1 | BB9: ） | BC9: 0.713 | BD9: （ | BE9: -6.2 | BF9: ） | BG9: 0.748 | BH9: （ | BI9: 3.5 | BJ9: ） | BK9: 0.748 | BL9: （ | BM9: 0 | BN9: ） | BO9: 0.8 | BP9: （ | BQ9: 5.2 | BR9: ） | BS9: 0.79 | BT9: （ | BU9: -1 | BV9: ） | BW9: =[1]公表書式!C16 -> 0.788 | BX9: （ | BY9: =[1]公表書式!E16 -> -0.2 | BZ9: ） | CA9: =MIN(C9,G9,K9,O9,S9,W9,AA9,AE9,AI9,AM9,AQ9,AU9,AY9,BC9,BG9,BK9,BO9,BS9,BW9) -> 0.713 | CB9: =MIN(BE9,BA9,AW9,AS9,AO9,AK9,AG9,AC9,Y9,U9,Q9,M9,I9,E9,BI9,BM9,BQ9,BU9,BY9) -> -6.2 | CC9: =MAX(C9,G9,K9,O9,S9,W9,AA9,AE9,AI9,AM9,AQ9,AU9,AY9,BC9,BG9,BK9,BO9,BS9,BW9) -> 0.808 | CD9: =MAX(E9,I9,M9,Q9,U9,Y9,AC9,AG9,AK9,AO9,AS9,AW9,BA9,BE9,BI9,BM9,BQ9,BU9,BY9) -> 5.2
A10: 高等専門学校 | C10: 0.633 | G10: 0.608 | H10: （ | I10: -2.5 | J10: ） | K10: 0.6 | L10: （ | M10: -0.8 | N10: ） | O10: 0.617 | P10: （ | Q10: 1.7 | R10: ） | S10: 0.533 | T10: （ | U10: -8.4 | V10: ） | W10: 0.5 | X10: （ | Y10: -3.3 | Z10: ） | AA10: 0.575 | AB10: （ | AC10: 7.5 | AD10: ） | AE10: 0.483 | AF10: （ | AG10: -9.2 | AH10: ） | AI10: 0.567 | AJ10: （ | AK10: 8.4 | AL10: ） | AM10: 0.5 | AN10: （ | AO10: -6.7 | AP10: ） | AQ10: 0.635 | AR10: （ | AS10: 13.5 | AT10: ） | AU10: 0.57 | AV10: （ | AW10: -6.5 | AX10: ） | AY10: 0.525 | AZ10: （ | BA10: -4.5 | BB10: ） | BC10: 0.55 | BD10: （ | BE10: 2.5 | BF10: ） | BG10: 0.563 | BH10: （ | BI10: 1.3 | BJ10: ） | BK10: 0.628 | BL10: （ | BM10: 6.5 | BN10: ） | BO10: 0.608 | BP10: （ | BQ10: -2 | BR10: ） | BS10: 0.578 | BT10: （ | BU10: -3 | BV10: ） | BW10: =[1]公表書式!C17 -> 0.563 | BX10: （ | BY10: =[1]公表書式!E17 -> -1.5 | BZ10: ） | CA10: =MIN(C10,G10,K10,O10,S10,W10,AA10,AE10,AI10,AM10,AQ10,AU10,AY10,BC10,BG10,BK10,BO10,BS10,BW10) -> 0.483 | CB10: =MIN(BE10,BA10,AW10,AS10,AO10,AK10,AG10,AC10,Y10,U10,Q10,M10,I10,E10,BI10,BM10,BQ10,BU10,BY10) -> -9.2 | CC10: =MAX(C10,G10,K10,O10,S10,W10,AA10,AE10,AI10,AM10,AQ10,AU10,AY10,BC10,BG10,BK10,BO10,BS10,BW10) -> 0.635 | CD10: =MAX(E10,I10,M10,Q10,U10,Y10,AC10,AG10,AK10,AO10,AS10,AW10,BA10,BE10,BI10,BM10,BQ10,BU10,BY10) -> 13.5
A11: 総 計 | C11: 0.73 | G11: 0.726 | H11: （ | I11: -0.4 | J11: ） | K11: 0.684 | L11: （ | M11: -4.2 | N11: ） | O11: 0.636 | P11: （ | Q11: -4.8 | R11: ） | S11: 0.648 | T11: （ | U11: 1.2 | V11: ） | W11: 0.65 | X11: （ | Y11: 0.2 | Z11: ） | AA11: 0.662 | AB11: （ | AC11: 1.2 | AD11: ） | AE11: 0.642 | AF11: （ | AG11: -2 | AH11: ） | AI11: 0.671 | AJ11: （ | AK11: 2.9 | AL11: ） | AM11: 0.686 | AN11: （ | AO11: 1.5 | AP11: ） | AQ11: 0.693 | AR11: （ | AS11: 0.7 | AT11: ） | AU11: 0.709 | AV11: （ | AW11: 1.6 | AX11: ） | AY11: 0.698 | AZ11: （ | BA11: -1.1 | BB11: ） | BC11: 0.664 | BD11: （ | BE11: -3.4 | BF11: ） | BG11: 0.665 | BH11: （ | BI11: 0.1 | BJ11: ） | BK11: 0.69 | BL11: （ | BM11: 2.5 | BN11: ） | BO11: 0.705 | BP11: （ | BQ11: 1.5 | BR11: ） | BS11: 0.712 | BT11: （ | BU11: 0.7 | BV11: ） | BW11: =[1]公表書式!C18 -> 0.721 | BX11: （ | BY11: =[1]公表書式!E18 -> 0.9 | BZ11: ） | CA11: =MIN(C11,G11,K11,O11,S11,W11,AA11,AE11,AI11,AM11,AQ11,AU11,AY11,BC11,BG11,BK11,BO11,BS11,BW11) -> 0.636 | CB11: =MIN(BE11,BA11,AW11,AS11,AO11,AK11,AG11,AC11,Y11,U11,Q11,M11,I11,E11,BI11,BM11,BQ11,BU11,BY11) -> -4.8 | CC11: =MAX(C11,G11,K11,O11,S11,W11,AA11,AE11,AI11,AM11,AQ11,AU11,AY11,BC11,BG11,BK11,BO11,BS11,BW11) -> 0.73 | CD11: =MAX(E11,I11,M11,Q11,U11,Y11,AC11,AG11,AK11,AO11,AS11,AW11,BA11,BE11,BI11,BM11,BQ11,BU11,BY11) -> 2.9
A14: 【男子】
A15: 区 分 | C15: 平成９年４月 | G15: 平成１０年４月 | K15: 平成１１年４月 | O15: 平成１２年４月 | S15: 平成１３年４月 | W15: 平成１４年４月 | AA15: 平成１５年４月 | AE15: 平成１６年４月 | AI15: 平成１７年４月 | AM15: 平成１８年４月 | AQ15: 平成１９年４月 | AU15: 平成２０年４月 | AY15: 平成２１年４月 | BC15: 平成２２年４月 | BG15: 平成２３年４月 | BK15: 平成２４年４月 | BO15: 平成２５年４月 | BS15: 平成２６年４月 | BW15: 平成２７年４月
A16: 大 学 | C16: 0.709 | G16: 0.707 | H16: （ | I16: -0.2 | J16: ） | K16: 0.661 | L16: （ | M16: -4.6 | N16: ） | O16: 0.604 | P16: （ | Q16: -5.7 | R16: ） | S16: 0.609 | T16: （ | U16: 0.5 | V16: ） | W16: 0.608 | X16: （ | Y16: -0.1 | Z16: ） | AA16: 0.62 | AB16: （ | AC16: 1.2 | AD16: ） | AE16: 0.585 | AF16: （ | AG16: -3.5 | AH16: ） | AI16: 0.619 | AJ16: （ | AK16: 3.4 | AL16: ） | AM16: 0.634 | AN16: （ | AO16: 1.5 | AP16: ） | AQ16: 0.633 | AR16: （ | AS16: -0.1 | AT16: ） | AU16: 0.657 | AV16: （ | AW16: 2.4 | AX16: ） | AY16: 0.648 | AZ16: （ | BA16: -0.9 | BB16: ） | BC16: 0.607 | BD16: （ | BE16: -4.1 | BF16: ） | BG16: 0.602 | BH16: （ | BI16: -0.5 | BJ16: ） | BK16: 0.618 | BL16: （ | BM16: 1.6 | BN16: ） | BO16: 0.636 | BP16: （ | BQ16: 1.8 | BR16: ） | BS16: 0.646 | BT16: （ | BU16: 1 | BV16: ） | BW16: =[1]公表書式!C26 -> 0.664 | BX16: （ | BY16: =[1]公表書式!E26 -> 1.8 | BZ16: ） | CA16: =MIN(C16,G16,K16,O16,S16,W16,AA16,AE16,AI16,AM16,AQ16,AU16,AY16,BC16,BG16,BK16,BO16,BS16,BW16) -> 0.585 | CB16: =MIN(BE16,BA16,AW16,AS16,AO16,AK16,AG16,AC16,Y16,U16,Q16,M16,I16,E16,BI16,BM16,BQ16,BU16,BY16) -> -5.7 | CC16: =MAX(C16,G16,K16,O16,S16,W16,AA16,AE16,AI16,AM16,AQ16,AU16,AY16,BC16,BG16,BK16,BO16,BS16,BW16) -> 0.709 | CD16: =MAX(E16,I16,M16,Q16,U16,Y16,AC16,AG16,AK16,AO16,AS16,AW16,BA16,BE16,BI16,BM16,BQ16,BU16,BY16) -> 3.4
A17: うち | B17: 国公立 | C17: 0.52 | G17: 0.524 | H17: （ | I17: 0.4 | J17: ） | K17: 0.453 | L17: （ | M17: -7.1 | N17: ） | O17: 0.41 | P17: （ | Q17: -4.3 | R17: ） | S17: 0.426 | T17: （ | U17: 1.6 | V17: ） | W17: 0.424 | X17: （ | Y17: -0.2 | Z17: ） | AA17: 0.407 | AB17: （ | AC17: -1.7 | AD17: ） | AE17: 0.389 | AF17: （ | AG17: -1.8 | AH17: ） | AI17: 0.382 | AJ17: （ | AK17: -0.7 | AL17: ） | AM17: 0.392 | AN17: （ | AO17: 1 | AP17: ） | AQ17: 0.412 | AR17: （ | AS17: 2 | AT17: ） | AU17: 0.448 | AV17: （ | AW17: 3.6 | AX17: ） | AY17: 0.425 | AZ17: （ | BA17: -2.3 | BB17: ） | BC17: 0.436 | BD17: （ | BE17: 1.1 | BF17: ） | BG17: 0.428 | BH17: （ | BI17: -0.8 | BJ17: ） | BK17: 0.443 | BL17: （ | BM17: 1.5 | BN17: ） | BO17: 0.434 | BP17: （ | BQ17: -0.9 | BR17: ） | BS17: 0.433 | BT17: （ | BU17: -0.1 | BV17: ） | BW17: =[1]公表書式!C27 -> 0.463 | BX17: （ | BY17: =[1]公表書式!E27 -> 3 | BZ17: ） | CA17: =MIN(C17,G17,K17,O17,S17,W17,AA17,AE17,AI17,AM17,AQ17,AU17,AY17,BC17,BG17,BK17,BO17,BS17,BW17) -> 0.382 | CB17: =MIN(BE17,BA17,AW17,AS17,AO17,AK17,AG17,AC17,Y17,U17,Q17,M17,I17,E17,BI17,BM17,BQ17,BU17,BY17) -> -7.1 | CC17: =MAX(C17,G17,K17,O17,S17,W17,AA17,AE17,AI17,AM17,AQ17,AU17,AY17,BC17,BG17,BK17,BO17,BS17,BW17) -> 0.524 | CD17: =MAX(E17,I17,M17,Q17,U17,Y17,AC17,AG17,AK17,AO17,AS17,AW17,BA17,BE17,BI17,BM17,BQ17,BU17,BY17) -> 3.6
B18: 私 立 | C18: 0.812 | G18: 0.806 | H18: （ | I18: -0.6 | J18: ） | K18: 0.775 | L18: （ | M18: -3.1 | N18: ） | O18: 0.708 | P18: （ | Q18: -6.7 | R18: ） | S18: 0.703 | T18: （ | U18: -0.5 | V18: ） | W18: 0.703 | X18: （ | Y18: 0 | Z18: ） | AA18: 0.727 | AB18: （ | AC18: 2.4 | AD18: ） | AE18: 0.685 | AF18: （ | AG18: -4.2 | AH18: ） | AI18: 0.739 | AJ18: （ | AK18: 5.4 | AL18: ） | AM18: 0.759 | AN18: （ | AO18: 2 | AP18: ） | AQ18: 0.751 | AR18: （ | AS18: -0.8 | AT18: ） | AU18: 0.768 | AV18: （ | AW18: 1.7 | AX18: ） | AY18: 0.768 | AZ18: （ | BA18: 0 | BB18: ） | BC18: 0.698 | BD18: （ | BE18: -7 | BF18: ） | BG18: 0.695 | BH18: （ | BI18: -0.3 | BJ18: ） | BK18: 0.711 | BL18: （ | BM18: 1.6 | BN18: ） | BO18: 0.744 | BP18: （ | BQ18: 3.3 | BR18: ） | BS18: 0.761 | BT18: （ | BU18: 1.7 | BV18: ） | BW18: =[1]公表書式!C28 -> 0.772 | BX18: （ | BY18: =[1]公表書式!E28 -> 1.1 | BZ18: ） | CA18: =MIN(C18,G18,K18,O18,S18,W18,AA18,AE18,AI18,AM18,AQ18,AU18,AY18,BC18,BG18,BK18,BO18,BS18,BW18) -> 0.685 | CB18: =MIN(BE18,BA18,AW18,AS18,AO18,AK18,AG18,AC18,Y18,U18,Q18,M18,I18,E18,BI18,BM18,BQ18,BU18,BY18) -> -7 | CC18: =MAX(C18,G18,K18,O18,S18,W18,AA18,AE18,AI18,AM18,AQ18,AU18,AY18,BC18,BG18,BK18,BO18,BS18,BW18) -> 0.812 | CD18: =MAX(E18,I18,M18,Q18,U18,Y18,AC18,AG18,AK18,AO18,AS18,AW18,BA18,BE18,BI18,BM18,BQ18,BU18,BY18) -> 5.4
A19: 高等専門学校 | C19: 0.633 | G19: 0.608 | H19: （ | I19: -2.5 | J19: ） | K19: 0.6 | L19: （ | M19: -0.8 | N19: ） | O19: 0.617 | P19: （ | Q19: 1.7 | R19: ） | S19: 0.533 | T19: （ | U19: -8.4 | V19: ） | W19: 0.5 | X19: （ | Y19: -3.3 | Z19: ） | AA19: 0.575 | AB19: （ | AC19: 7.5 | AD19: ） | AE19: 0.483 | AF19: （ | AG19: -9.2 | AH19: ） | AI19: 0.567 | AJ19: （ | AK19: 8.4 | AL19: ） | AM19: 0.5 | AN19: （ | AO19: -6.7 | AP19: ） | AQ19: 0.635 | AR19: （ | AS19: 13.5 | AT19: ） | AU19: 0.57 | AV19: （ | AW19: -6.5 | AX19: ） | AY19: 0.525 | AZ19: （ | BA19: -4.5 | BB19: ） | BC19: 0.55 | BD19: （ | BE19: 2.5 | BF19: ） | BG19: 0.563 | BH19: （ | BI19: 1.3 | BJ19: ） | BK19: 0.628 | BL19: （ | BM19: 6.5 | BN19: ） | BO19: 0.608 | BP19: （ | BQ19: -2 | BR19: ） | BS19: 0.578 | BT19: （ | BU19: -3 | BV19: ） | BW19: =[1]公表書式!C29 -> 0.563 | BX19: （ | BY19: =[1]公表書式!E29 -> -1.5 | BZ19: ） | CA19: =MIN(C19,G19,K19,O19,S19,W19,AA19,AE19,AI19,AM19,AQ19,AU19,AY19,BC19,BG19,BK19,BO19,BS19,BW19) -> 0.483 | CB19: =MIN(BE19,BA19,AW19,AS19,AO19,AK19,AG19,AC19,Y19,U19,Q19,M19,I19,E19,BI19,BM19,BQ19,BU19,BY19) -> -9.2 | CC19: =MAX(C19,G19,K19,O19,S19,W19,AA19,AE19,AI19,AM19,AQ19,AU19,AY19,BC19,BG19,BK19,BO19,BS19,BW19) -> 0.635 | CD19: =MAX(E19,I19,M19,Q19,U19,Y19,AC19,AG19,AK19,AO19,AS19,AW19,BA19,BE19,BI19,BM19,BQ19,BU19,BY19) -> 13.5
A20: 総 計 | C20: 0.706 | G20: 0.703 | H20: （ | I20: -0.3 | J20: ） | K20: 0.659 | L20: （ | M20: -4.4 | N20: ） | O20: 0.604 | P20: （ | Q20: -5.5 | R20: ） | S20: 0.606 | T20: （ | U20: 0.2 | V20: ） | W20: 0.604 | X20: （ | Y20: -0.2 | Z20: ） | AA20: 0.618 | AB20: （ | AC20: 1.4 | AD20: ） | AE20: 0.581 | AF20: （ | AG20: -3.7 | AH20: ） | AI20: 0.616 | AJ20: （ | AK20: 3.5 | AL20: ） | AM20: 0.628 | AN20: （ | AO20: 1.2 | AP20: ） | AQ20: 0.633 | AR20: （ | AS20: 0.5 | AT20: ） | AU20: 0.646 | AV20: （ | AW20: 1.3 | AX20: ） | AY20: 0.633 | AZ20: （ | BA20: -1.3 | BB20: ） | BC20: 0.6 | BD20: （ | BE20: -3.3 | BF20: ） | BG20: 0.597 | BH20: （ | BI20: -0.3 | BJ20: ） | BK20: 0.619 | BL20: （ | BM20: 2.2 | BN20: ） | BO20: 0.632 | BP20: （ | BQ20: 1.3 | BR20: ） | BS20: 0.638 | BT20: （ | BU20: 0.6 | BV20: ） | BW20: =[1]公表書式!C30 -> 0.651 | BX20: （ | BY20: =[1]公表書式!E30 -> 1.3 | BZ20: ） | CA20: =MIN(C20,G20,K20,O20,S20,W20,AA20,AE20,AI20,AM20,AQ20,AU20,AY20,BC20,BG20,BK20,BO20,BS20,BW20) -> 0.581 | CB20: =MIN(BE20,BA20,AW20,AS20,AO20,AK20,AG20,AC20,Y20,U20,Q20,M20,I20,E20,BI20,BM20,BQ20,BU20,BY20) -> -5.5 | CC20: =MAX(C20,G20,K20,O20,S20,W20,AA20,AE20,AI20,AM20,AQ20,AU20,AY20,BC20,BG20,BK20,BO20,BS20,BW20) -> 0.706 | CD20: =MAX(E20,I20,M20,Q20,U20,Y20,AC20,AG20,AK20,AO20,AS20,AW20,BA20,BE20,BI20,BM20,BQ20,BU20,BY20) -> 3.5
A23: 【女子】
A24: 区 分 | C24: 平成９年４月 | G24: 平成１０年４月 | K24: 平成１１年４月 | O24: 平成１２年４月 | S24: 平成１３年４月 | W24: 平成１４年４月 | AA24: 平成１５年４月 | AE24: 平成１６年４月 | AI24: 平成１７年４月 | AM24: 平成１８年４月 | AQ24: 平成１９年４月 | AU24: 平成２０年４月 | AY24: 平成２１年４月 | BC24: 平成２２年４月 | BG24: 平成２３年４月 | BK24: 平成２４年４月 | BO24: 平成２５年４月 | BS24: 平成２６年４月 | BW24: 平成２７年４月
A25: 大 学 | C25: 0.758 | G25: 0.767 | H25: （ | I25: 0.9 | J25: ） | K25: 0.734 | L25: （ | M25: -3.3 | N25: ） | O25: 0.683 | P25: （ | Q25: -5.1 | R25: ） | S25: 0.706 | T25: （ | U25: 2.3 | V25: ） | W25: 0.716 | X25: （ | Y25: 1 | Z25: ） | AA25: 0.711 | AB25: （ | AC25: -0.5 | AD25: ） | AE25: 0.71 | AF25: （ | AG25: -0.1 | AH25: ） | AI25: 0.726 | AJ25: （ | AK25: 1.6 | AL25: ） | AM25: 0.753 | AN25: （ | AO25: 2.7 | AP25: ） | AQ25: 0.774 | AR25: （ | AS25: 2.1 | AT25: ） | AU25: 0.789 | AV25: （ | AW25: 1.5 | AX25: ） | AY25: 0.781 | AZ25: （ | BA25: -0.8 | BB25: ） | BC25: 0.753 | BD25: （ | BE25: -2.8 | BF25: ） | BG25: 0.753 | BH25: （ | BI25: 0 | BJ25: ） | BK25: 0.788 | BL25: （ | BM25: 3.5 | BN25: ） | BO25: 0.797 | BP25: （ | BQ25: 0.9 | BR25: ） | BS25: 0.81 | BT25: （ | BU25: 1.3 | BV25: ） | BW25: =[1]公表書式!C38 -> 0.816 | BX25: （ | BY25: =[1]公表書式!E38 -> 0.6 | BZ25: ） | CA25: =MIN(C25,G25,K25,O25,S25,W25,AA25,AE25,AI25,AM25,AQ25,AU25,AY25,BC25,BG25,BK25,BO25,BS25,BW25) -> 0.683 | CB25: =MIN(BE25,BA25,AW25,AS25,AO25,AK25,AG25,AC25,Y25,U25,Q25,M25,I25,E25,BI25,BM25,BQ25,BU25,BY25) -> -5.1 | CC25: =MAX(C25,G25,K25,O25,S25,W25,AA25,AE25,AI25,AM25,AQ25,AU25,AY25,BC25,BG25,BK25,BO25,BS25,BW25) -> 0.816 | CD25: =MAX(E25,I25,M25,Q25,U25,Y25,AC25,AG25,AK25,AO25,AS25,AW25,BA25,BE25,BI25,BM25,BQ25,BU25,BY25) -> 3.5
A26: うち | B26: 国公立 | C26: 0.67 | G26: 0.634 | H26: （ | I26: -3.6 | J26: ） | K26: 0.599 | L26: （ | M26: -3.5 | N26: ） | O26: 0.559 | P26: （ | Q26: -4 | R26: ） | S26: 0.584 | T26: （ | U26: 2.5 | V26: ） | W26: 0.575 | X26: （ | Y26: -0.9 | Z26: ） | AA26: 0.558 | AB26: （ | AC26: -1.7 | AD26: ） | AE26: 0.541 | AF26: （ | AG26: -1.7 | AH26: ） | AI26: 0.553 | AJ26: （ | AK26: 1.2 | AL26: ） | AM26: 0.602 | AN26: （ | AO26: 4.9 | AP26: ） | AQ26: 0.632 | AR26: （ | AS26: 3 | AT26: ） | AU26: 0.655 | AV26: （ | AW26: 2.3 | AX26: ） | AY26: 0.655 | AZ26: （ | BA26: 0 | BB26: ） | BC26: 0.673 | BD26: （ | BE26: 1.8 | BF26: ） | BG26: 0.609 | BH26: （ | BI26: -6.4 | BJ26: ） | BK26: 0.698 | BL26: （ | BM26: 8.9 | BN26: ） | BO26: 0.691 | BP26: （ | BQ26: -0.7 | BR26: ） | BS26: 0.686 | BT26: （ | BU26: -0.5 | BV26: ） | BW26: =[1]公表書式!C39 -> 0.67 | BX26: （ | BY26: =[1]公表書式!E39 -> -1.6 | BZ26: ） | CA26: =MIN(C26,G26,K26,O26,S26,W26,AA26,AE26,AI26,AM26,AQ26,AU26,AY26,BC26,BG26,BK26,BO26,BS26,BW26) -> 0.541 | CB26: =MIN(BE26,BA26,AW26,AS26,AO26,AK26,AG26,AC26,Y26,U26,Q26,M26,I26,E26,BI26,BM26,BQ26,BU26,BY26) -> -6.4 | CC26: =MAX(C26,G26,K26,O26,S26,W26,AA26,AE26,AI26,AM26,AQ26,AU26,AY26,BC26,BG26,BK26,BO26,BS26,BW26) -> 0.698 | CD26: =MAX(E26,I26,M26,Q26,U26,Y26,AC26,AG26,AK26,AO26,AS26,AW26,BA26,BE26,BI26,BM26,BQ26,BU26,BY26) -> 8.9
B27: 私 立 | C27: 0.797 | G27: 0.824 | H27: （ | I27: 2.7 | J27: ） | K27: 0.794 | L27: （ | M27: -3 | N27: ） | O27: 0.737 | P27: （ | Q27: -5.7 | R27: ） | S27: 0.756 | T27: （ | U27: 1.9 | V27: ） | W27: 0.773 | X27: （ | Y27: 1.7 | Z27: ） | AA27: 0.776 | AB27: （ | AC27: 0.3 | AD27: ） | AE27: 0.781 | AF27: （ | AG27: 0.5 | AH27: ） | AI27: 0.8 | AJ27: （ | AK27: 1.9 | AL27: ） | AM27: 0.818 | AN27: （ | AO27: 1.8 | AP27: ） | AQ27: 0.837 | AR27: （ | AS27: 1.9 | AT27: ） | AU27: 0.849 | AV27: （ | AW27: 1.2 | AX27: ） | AY27: 0.836 | AZ27: （ | BA27: -1.3 | BB27: ） | BC27: 0.789 | BD27: （ | BE27: -4.7 | BF27: ） | BG27: 0.816 | BH27: （ | BI27: 2.7 | BJ27: ） | BK27: 0.828 | BL27: （ | BM27: 1.2 | BN27: ） | BO27: 0.844 | BP27: （ | BQ27: 1.6 | BR27: ） | BS27: 0.865 | BT27: （ | BU27: 2.1 | BV27: ） | BW27: =[1]公表書式!C40 -> 0.881 | BX27: （ | BY27: =[1]公表書式!E40 -> 1.6 | BZ27: ） | CA27: =MIN(C27,G27,K27,O27,S27,W27,AA27,AE27,AI27,AM27,AQ27,AU27,AY27,BC27,BG27,BK27,BO27,BS27,BW27) -> 0.737 | CB27: =MIN(BE27,BA27,AW27,AS27,AO27,AK27,AG27,AC27,Y27,U27,Q27,M27,I27,E27,BI27,BM27,BQ27,BU27,BY27) -> -5.7 | CC27: =MAX(C27,G27,K27,O27,S27,W27,AA27,AE27,AI27,AM27,AQ27,AU27,AY27,BC27,BG27,BK27,BO27,BS27,BW27) -> 0.881 | CD27: =MAX(E27,I27,M27,Q27,U27,Y27,AC27,AG27,AK27,AO27,AS27,AW27,BA27,BE27,BI27,BM27,BQ27,BU27,BY27) -> 2.7
A28: 短期大学 | C28: 0.808 | G28: 0.763 | H28: （ | I28: -4.5 | J28: ） | K28: 0.713 | L28: （ | M28: -5 | N28: ） | O28: 0.721 | P28: （ | Q28: 0.8 | R28: ） | S28: 0.727 | T28: （ | U28: 0.6 | V28: ） | W28: 0.723 | X28: （ | Y28: -0.4 | Z28: ） | AA28: 0.742 | AB28: （ | AC28: 1.9 | AD28: ） | AE28: 0.744 | AF28: （ | AG28: 0.2 | AH28: ） | AI28: 0.767 | AJ28: （ | AK28: 2.3 | AL28: ） | AM28: 0.752 | AN28: （ | AO28: -1.5 | AP28: ） | AQ28: 0.744 | AR28: （ | AS28: -0.8 | AT28: ） | AU28: 0.785 | AV28: （ | AW28: 4.1 | AX28: ） | AY28: 0.775 | AZ28: （ | BA28: -1 | BB28: ） | BC28: 0.713 | BD28: （ | BE28: -6.2 | BF28: ） | BG28: 0.748 | BH28: （ | BI28: 3.5 | BJ28: ） | BK28: 0.748 | BL28: （ | BM28: 0 | BN28: ） | BO28: 0.8 | BP28: （ | BQ28: 5.2 | BR28: ） | BS28: 0.79 | BT28: （ | BU28: -1 | BV28: ） | BW28: =[1]公表書式!C41 -> 0.788 | BX28: （ | BY28: =[1]公表書式!E41 -> -0.2 | BZ28: ） | CA28: =MIN(C28,G28,K28,O28,S28,W28,AA28,AE28,AI28,AM28,AQ28,AU28,AY28,BC28,BG28,BK28,BO28,BS28,BW28) -> 0.713 | CB28: =MIN(BE28,BA28,AW28,AS28,AO28,AK28,AG28,AC28,Y28,U28,Q28,M28,I28,E28,BI28,BM28,BQ28,BU28,BY28) -> -6.2 | CC28: =MAX(C28,G28,K28,O28,S28,W28,AA28,AE28,AI28,AM28,AQ28,AU28,AY28,BC28,BG28,BK28,BO28,BS28,BW28) -> 0.808 | CD28: =MAX(E28,I28,M28,Q28,U28,Y28,AC28,AG28,AK28,AO28,AS28,AW28,BA28,BE28,BI28,BM28,BQ28,BU28,BY28) -> 5.2
A29: 総 計 | C29: 0.772 | G29: 0.766 | H29: （ | I29: -0.6 | J29: ） | K29: 0.729 | L29: （ | M29: -3.7 | N29: ） | O29: 0.694 | P29: （ | Q29: -3.5 | R29: ） | S29: 0.711 | T29: （ | U29: 1.7 | V29: ） | W29: 0.718 | X29: （ | Y29: 0.7 | Z29: ） | AA29: 0.718 | AB29: （ | AC29: 0 | AD29: ） | AE29: 0.717 | AF29: （ | AG29: -0.1 | AH29: ） | AI29: 0.735 | AJ29: （ | AK29: 1.8 | AL29: ） | AM29: 0.753 | AN29: （ | AO29: 1.8 | AP29: ） | AQ29: 0.768 | AR29: （ | AS29: 1.5 | AT29: ） | AU29: 0.788 | AV29: （ | AW29: 2 | AX29: ） | AY29: 0.78 | AZ29: （ | BA29: -0.8 | BB29: ） | BC29: 0.745 | BD29: （ | BE29: -3.5 | BF29: ） | BG29: 0.752 | BH29: （ | BI29: 0.7 | BJ29: ） | BK29: 0.78 | BL29: （ | BM29: 2.8 | BN29: ） | BO29: 0.798 | BP29: （ | BQ29: 1.8 | BR29: ） | BS29: 0.806 | BT29: （ | BU29: 0.8 | BV29: ） | BW29: =[1]公表書式!C42 -> 0.81 | BX29: （ | BY29: =[1]公表書式!E42 -> 0.4 | BZ29: ） | CA29: =MIN(C29,G29,K29,O29,S29,W29,AA29,AE29,AI29,AM29,AQ29,AU29,AY29,BC29,BG29,BK29,BO29,BS29,BW29) -> 0.694 | CB29: =MIN(BE29,BA29,AW29,AS29,AO29,AK29,AG29,AC29,Y29,U29,Q29,M29,I29,E29,BI29,BM29,BQ29,BU29,BY29) -> -3.7 | CC29: =MAX(C29,G29,K29,O29,S29,W29,AA29,AE29,AI29,AM29,AQ29,AU29,AY29,BC29,BG29,BK29,BO29,BS29,BW29) -> 0.81 | CD29: =MAX(E29,I29,M29,Q29,U29,Y29,AC29,AG29,AK29,AO29,AS29,AW29,BA29,BE29,BI29,BM29,BQ29,BU29,BY29) -> 2.8
A32: （注）１．（ ）内は、前年度同期の調査からの増減値である（▲は減少）。
A33: ２．平成８年度から、文部科学省・厚生労働省調査を実施。
A34: ３．数字に下線が引かれているものは、統計開始以来最も低い値を示し、斜体は最も高い値を示す。

Sheet Sheet2

Sheet Sheet3
