Workbook
Name _: #REF!
Name _: #REF!
Name ＿月数４: '[1]（４）町村議会'!$G$1:$G$164,'[1]（４）町村議会'!$N$1:$N$164,'[1]（４）町村議会'!$U$1:$U$164,'[1]（４）町村議会'!$AB$1:$AB$164,'[1]（４）町村議会'!$AI$1:$AI$164
Name 愛知４: '[1]（４）町村議会'!#REF!
Name 愛知４: '[1]（４）町村議会'!#REF!
Name 愛媛: #REF!
Name 愛媛: #REF!
Name 愛媛４: '[1]（４）町村議会'!#REF!
Name 愛媛４: '[1]（４）町村議会'!#REF!
Name 茨城４: '[1]（４）町村議会'!#REF!
Name 茨城４: '[1]（４）町村議会'!#REF!
Name 岡山４: '[1]（４）町村議会'!#REF!
Name 岡山４: '[1]（４）町村議会'!#REF!
Name 沖縄４: '[1]（４）町村議会'!#REF!
Name 沖縄４: '[1]（４）町村議会'!#REF!
Name 岩手４: '[1]（４）町村議会'!#REF!
Name 岩手４: '[1]（４）町村議会'!#REF!
Name 岐阜４: '[1]（４）町村議会'!#REF!
Name 岐阜４: '[1]（４）町村議会'!#REF!
Name 宮崎４: '[1]（４）町村議会'!#REF!
Name 宮崎４: '[1]（４）町村議会'!#REF!
Name 宮城４: '[1]（４）町村議会'!#REF!
Name 宮城４: '[1]（４）町村議会'!#REF!
Name 京都３: '[1]（３）町村長'!#REF!
Name 京都３: '[1]（３）町村長'!#REF!
Name 京都４: '[1]（４）町村議会'!#REF!
Name 京都４: '[1]（４）町村議会'!#REF!
Name 熊本４: '[1]（４）町村議会'!#REF!
Name 熊本４: '[1]（４）町村議会'!#REF!
Name 群馬４: '[1]（４）町村議会'!#REF!
Name 群馬４: '[1]（４）町村議会'!#REF!
Name 月数４: '[1]（４）町村議会'!#REF!,'[1]（４）町村議会'!#REF!,'[1]（４）町村議会'!#REF!,'[1]（４）町村議会'!#REF!,'[1]（４）町村議会'!#REF!
Name 月数４: '[1]（４）町村議会'!#REF!,'[1]（４）町村議会'!#REF!,'[1]（４）町村議会'!#REF!,'[1]（４）町村議会'!#REF!,'[1]（４）町村議会'!#REF!
Name 広島４: '[1]（４）町村議会'!#REF!
Name 広島４: '[1]（４）町村議会'!#REF!
Name 香川４: '[1]（４）町村議会'!#REF!
Name 香川４: '[1]（４）町村議会'!#REF!
Name 高知４: '[1]（４）町村議会'!#REF!
Name 高知４: '[1]（４）町村議会'!#REF!
Name 佐賀４: '[1]（４）町村議会'!#REF!
Name 佐賀４: '[1]（４）町村議会'!#REF!
Name 埼玉４: '[1]（４）町村議会'!#REF!
Name 埼玉４: '[1]（４）町村議会'!#REF!
Name 三重４: '[1]（４）町村議会'!#REF!
Name 三重４: '[1]（４）町村議会'!#REF!
Name 山形４: '[1]（４）町村議会'!#REF!
Name 山形４: '[1]（４）町村議会'!#REF!
Name 山口４: '[1]（４）町村議会'!#REF!
Name 山口４: '[1]（４）町村議会'!#REF!
Name 山梨３: '[1]（３）町村長'!#REF!
Name 山梨３: '[1]（３）町村長'!#REF!
Name 山梨４: '[1]（４）町村議会'!#REF!
Name 山梨４: '[1]（４）町村議会'!#REF!
Name 滋賀４: '[1]（４）町村議会'!#REF!
Name 滋賀４: '[1]（４）町村議会'!#REF!
Name 鹿児島４: '[1]（４）町村議会'!#REF!
Name 鹿児島４: '[1]（４）町村議会'!#REF!
Name 秋田４: '[1]（４）町村議会'!#REF!
Name 秋田４: '[1]（４）町村議会'!#REF!
Name 新潟４: '[1]（４）町村議会'!#REF!

Sheet 総括表
A1: ３ 平成２７年中における地方公共団体の議会の議員及び長の選挙執行件数調
M2: （平成２７年１２月３１日現在）
A3: 選挙の種類 | D3: 団体数 | E3: 計 | F3: 月 別 執 行 件 数
F4: １月 | G4: ２月 | H4: ３月 | I4: ４月 | J4: ５月 | K4: ６月 | L4: ７月 | M4: ８月 | N4: ９月 | O4: １０月 | P4: １１月 | Q4: １２月
A5: 都 道 府 県 | C5: 知事 | D5: 47 | E5: =SUM(F5:Q5) -> 0
E6: =SUM(F6:Q6) -> 18 | F6: 1 | G6: 1 | I6: 10 | K6: 1 | L6: 1 | M6: 1 | N6: 1 | P6: 2
C8: 議会議員 | E8: =SUM(F8:Q8) -> 1 | L8: 1 | Q8: 0
E9: =SUM(F9:Q9) -> 42 | I9: 40 | N9: 1 | P9: 1
A11: 市 区 町 村 | B11: 市 区 | C11: 長 | E11: =SUM(F11:Q11) -> 1 | I11: 1
E12: =SUM(F12:Q12) -> 199 | F12: 10 | G12: 16 | H12: 1 | I12: 101 | J12: 5 | K12: 4 | L12: 10 | M12: 8 | N12: 8 | O12: 11 | P12: 17 | Q12: 8
D13: 813 | E13: =SUM(F13:Q13) -> 13 | H13: 1 | I13: 11 | J13: 1
C14: 議会議員 | D14: 《23》 | E14: =SUM(F14:Q14) -> 28 | F14: 3 | G14: 2 | I14: 9 | L14: 1 | M14: 1 | N14: 1 | O14: 5 | P14: 3 | Q14: 3
E15: =SUM(F15:Q15) -> 416 | F15: 8 | G15: 9 | I15: 326 | J15: 5 | K15: 4 | L15: 18 | M15: 12 | N15: 13 | O15: 10 | P15: 7 | Q15: 4
E16: =SUM(F16:Q16) -> 22 | I16: 21 | J16: 1
B17: 町 村 | C17: 長 | D17: 928 | E17: =SUM(F17:Q17) -> 0
E18: =SUM(F18:Q18) -> 244 | F18: 16 | G18: 23 | I18: 122 | J18: 1 | K18: 9 | L18: 5 | M18: 24 | N18: 7 | O18: 17 | P18: 16 | Q18: 4
C20: 議会議員 | E20: =SUM(F20:Q20) -> 34 | F20: 1 | G20: 6 | I20: 9 | K20: 2 | L20: 1 | M20: 2 | N20: 1 | O20: 4 | P20: 6 | Q20: 2
E21: =SUM(F21:Q21) -> 527 | F21: 6 | G21: 21 | I21: 371 | J21: 1 | K21: 15 | L21: 15 | M21: 30 | N21: 25 | O21: 16 | P21: 17 | Q21: 10
A23: 合 計 | E23: =SUM(E5,E8,E11,E14,E17,E20) -> 64 | F23: =SUM(F5,F8,F11,F14,F17,F20) -> 4 | G23: =SUM(G5,G8,G11,G14,G17,G20) -> 8 | H23: =SUM(H5,H8,H11,H14,H17,H20) -> 0 | I23: =SUM(I5,I8,I11,I14,I17,I20) -> 19 | J23: =SUM(J5,J8,J11,J14,J17,J20) -> 0 | K23: =SUM(K5,K8,K11,K14,K17,K20) -> 2 | L23: =SUM(L5,L8,L11,L14,L17,L20) -> 3 | ... Q23: =SUM(Q5,Q8,Q11,Q14,Q17,Q20) -> 5
D24: =SUM(D5,D13,D17) -> 1788 | E24: =SUM(E6,E9,E12,E15,E18,E21) -> 1446 | F24: =SUM(F6,F9,F12,F15,F18,F21) -> 41 | G24: =SUM(G6,G9,G12,G15,G18,G21) -> 70 | H24: =SUM(H6,H9,H12,H15,H18,H21) -> 1 | I24: =SUM(I6,I9,I12,I15,I18,I21) -> 970 | J24: =SUM(J6,J9,J12,J15,J18,J21) -> 12 | K24: =SUM(K6,K9,K12,K15,K18,K21) -> 33 | L24: =SUM(L6,L9,L12,L15,L18,L21) -> 49 | ... Q24: =SUM(Q6,Q9,Q12,Q15,Q18,Q21) -> 26
D25: 《23》 | E25: =SUM(E13,E16) -> 35 | F25: =SUM(F13,F16) -> 0 | G25: =SUM(G13,G16) -> 0 | H25: =SUM(H13,H16) -> 1 | I25: =SUM(I13,I16) -> 32 | J25: =SUM(J13,J16) -> 2 | K25: =SUM(K13,K16) -> 0 | L25: =SUM(L13,L16) -> 0 | ... Q25: =SUM(Q13,Q16) -> 0
A27: （注） １ 「月別執行件数」欄の数値は、一般選挙の件数。ただし、欄中（ ）書は、補欠選挙及び再選挙の件数であり外書とした。
A28: ２ 「団体数」及び「月別執行件数」の欄中《 》書は、特別区の数であり、一般選挙の件数の内書とした。

Sheet 種類別
B1: 種類別執行件数
B2: 区 分 | C2: 都道府県知事 | E2: 都道府県議会議員 | G2: 市区長 | I2: 市区議会議員 | K2: 町村長 | M2: 町村議会議員 | O2: 合計
C3: 一般選挙 | D3: 再選挙 | E3: 一般選挙 | F3: 補欠等 | G3: 一般選挙 | H3: 再選挙 | I3: 一般選挙 | J3: 補欠等 | K3: 一般選挙 | L3: 再選挙 | M3: 一般選挙 | N3: 補欠等 | O3: 一般選挙 | P3: 補欠等
B4: 北海道 | C4: 1 | E4: 1 | G4: 17 | I4: 30 | J4: 2 | K4: 49 | M4: 117 | N4: 1 | O4: =SUM(M4,K4,I4,C4,E4,G4) -> 215 | P4: =SUM(N4,L4,J4,H4,F4,D4) -> 3
B5: 青森県 | C5: 1 | E5: 1 | G5: 1 | I5: 7 | K5: 7 | M5: 19 | N5: 2 | O5: =SUM(M5,K5,I5,C5,E5,G5) -> 36 | P5: =SUM(N5,L5,J5,H5,F5,D5) -> 2
B6: 岩手県 | C6: 1 | E6: 1 | G6: 4 | I6: 6 | K6: 6 | M6: 14 | N6: 1 | O6: =SUM(M6,K6,I6,C6,E6,G6) -> 32 | P6: =SUM(N6,L6,J6,H6,F6,D6) -> 1
B7: 宮城県 | G7: 1 | I7: 4 | K7: 11 | M7: 13 | N7: 1 | O7: =SUM(M7,K7,I7,C7,E7,G7) -> 29 | P7: =SUM(N7,L7,J7,H7,F7,D7) -> 1
B8: 秋田県 | E8: 1 | G8: 1 | I8: 2 | K8: 3 | M8: 2 | N8: 1 | O8: =SUM(M8,K8,I8,C8,E8,G8) -> 9 | P8: =SUM(N8,L8,J8,H8,F8,D8) -> 1
B9: 山形県 | E9: 1 | G9: 5 | I9: 10 | J9: 1 | K9: 6 | M9: 19 | O9: =SUM(M9,K9,I9,C9,E9,G9) -> 41 | P9: =SUM(N9,L9,J9,H9,F9,D9) -> 1
B10: 福島県 | E10: 1 | G10: 3 | I10: 8 | K10: 16 | M10: 25 | N10: 2 | O10: =SUM(M10,K10,I10,C10,E10,G10) -> 53 | P10: =SUM(N10,L10,J10,H10,F10,D10) -> 2
B11: 茨城県 | F11: 1 | G11: 9 | I11: 18 | J11: 2 | K11: 4 | M11: 6 | N11: 2 | O11: =SUM(M11,K11,I11,C11,E11,G11) -> 37 | P11: =SUM(N11,L11,J11,H11,F11,D11) -> 5
B12: 栃木県 | E12: 1 | G12: 1 | I12: 7 | J12: 0 | K12: 2 | M12: 7 | O12: =SUM(M12,K12,I12,C12,E12,G12) -> 18 | P12: =SUM(N12,L12,J12,H12,F12,D12) -> 0
B13: 群馬県 | C13: 1 | E13: 1 | G13: 3 | I13: 9 | K13: 7 | M13: 16 | N13: 2 | O13: =SUM(M13,K13,I13,C13,E13,G13) -> 37 | P13: =SUM(N13,L13,J13,H13,F13,D13) -> 2
B14: 埼玉県 | C14: 1 | E14: 1 | G14: 7 | I14: 25 | K14: 3 | M14: 16 | O14: =SUM(M14,K14,I14,C14,E14,G14) -> 53 | P14: =SUM(N14,L14,J14,H14,F14,D14) -> 0
B15: 千葉県 | E15: 1 | G15: 9 | I15: 23 | J15: 2 | K15: 2 | M15: 12 | O15: =SUM(M15,K15,I15,C15,E15,G15) -> 47 | P15: =SUM(N15,L15,J15,H15,F15,D15) -> 2
B16: 東京都 | G16: 23 | I16: 42 | J16: 3 | K16: 6 | M16: 9 | O16: =SUM(M16,K16,I16,C16,E16,G16) -> 80 | P16: =SUM(N16,L16,J16,H16,F16,D16) -> 3
B17: 神奈川県 | C17: 1 | E17: 1 | G17: 7 | I17: 16 | K17: 5 | M17: 7 | N17: 2 | O17: =SUM(M17,K17,I17,C17,E17,G17) -> 37 | P17: =SUM(N17,L17,J17,H17,F17,D17) -> 2
B18: 新潟県 | E18: 1 | G18: 3 | I18: 8 | J18: 1 | K18: 1 | M18: 8 | O18: =SUM(M18,K18,I18,C18,E18,G18) -> 21 | P18: =SUM(N18,L18,J18,H18,F18,D18) -> 1
B19: 富山県 | E19: 1 | M19: 1 | O19: =SUM(M19,K19,I19,C19,E19,G19) -> 2 | P19: =SUM(N19,L19,J19,H19,F19,D19) -> 0
B20: 石川県 | E20: 1 | G20: 1 | I20: 5 | K20: 1 | M20: 5 | O20: =SUM(M20,K20,I20,C20,E20,G20) -> 13 | P20: =SUM(N20,L20,J20,H20,F20,D20) -> 0
B21: 福井県 | C21: 1 | E21: 1 | G21: 3 | I21: 6 | J21: 1 | K21: 1 | M21: 3 | N21: 1 | O21: =SUM(M21,K21,I21,C21,E21,G21) -> 15 | P21: =SUM(N21,L21,J21,H21,F21,D21) -> 2
B22: 山梨県 | C22: 1 | E22: 1 | G22: 4 | I22: 7 | J22: 1 | K22: 4 | M22: 6 | N22: 1 | O22: =SUM(M22,K22,I22,C22,E22,G22) -> 23 | P22: =SUM(N22,L22,J22,H22,F22,D22) -> 2
B23: 長野県 | E23: 1 | G23: 3 | I23: 10 | K23: 16 | M23: 28 | N23: 2 | O23: =SUM(M23,K23,I23,C23,E23,G23) -> 58 | P23: =SUM(N23,L23,J23,H23,F23,D23) -> 2
B24: 岐阜県 | E24: 1 | G24: 6 | I24: 11 | J24: 2 | K24: 8 | M24: 15 | N24: 1 | O24: =SUM(M24,K24,I24,C24,E24,G24) -> 41 | P24: =SUM(N24,L24,J24,H24,F24,D24) -> 3
B25: 静岡県 | E25: 1 | G25: 3 | I25: 10 | K25: 3 | M25: 7 | O25: =SUM(M25,K25,I25,C25,E25,G25) -> 24 | P25: =SUM(N25,L25,J25,H25,F25,D25) -> 0
B26: 愛知県 | C26: 1 | E26: 1 | G26: 14 | I26: 28 | J26: 1 | K26: 4 | M26: 14 | O26: =SUM(M26,K26,I26,C26,E26,G26) -> 62 | P26: =SUM(N26,L26,J26,H26,F26,D26) -> 1
B27: 三重県 | C27: 1 | E27: 1 | G27: 4 | I27: 3 | J27: 1 | K27: 4 | M27: 4 | N27: 1 | O27: =SUM(M27,K27,I27,C27,E27,G27) -> 17 | P27: =SUM(N27,L27,J27,H27,F27,D27) -> 2
B28: 滋賀県 | E28: 1 | G28: 1 | I28: 6 | J28: 1 | K28: 1 | M28: 3 | N28: 1 | O28: =SUM(M28,K28,I28,C28,E28,G28) -> 12 | P28: =SUM(N28,L28,J28,H28,F28,D28) -> 2
B29: 京都府 | G29: 3 | I29: 2 | J29: 1 | K29: 3 | N29: 1 | O29: =SUM(M29,K29,I29,C29,E29,G29) -> 8 | P29: =SUM(N29,L29,J29,H29,F29,D29) -> 2
B30: 大阪府 | C30: 1 | E30: 1 | G30: 14 | I30: 21 | J30: 2 | K30: 1 | M30: 4 | O30: =SUM(M30,K30,I30,C30,E30,G30) -> 42 | P30: =SUM(N30,L30,J30,H30,F30,D30) -> 2
B31: 兵庫県 | E31: 1 | G31: 8 | I31: 11 | J31: 1 | K31: 2 | M31: 5 | N31: 1 | O31: =SUM(M31,K31,I31,C31,E31,G31) -> 27 | P31: =SUM(N31,L31,J31,H31,F31,D31) -> 2
B32: 奈良県 | C32: 1 | E32: 1 | G32: 4 | H32: 1 | I32: 5 | J32: 1 | K32: 6 | M32: 18 | N32: 2 | O32: =SUM(M32,K32,I32,C32,E32,G32) -> 35 | P32: =SUM(N32,L32,J32,H32,F32,D32) -> 4
B33: 和歌山県 | E33: 1 | I33: 5 | K33: 3 | M33: 11 | O33: =SUM(M33,K33,I33,C33,E33,G33) -> 20 | P33: =SUM(N33,L33,J33,H33,F33,D33) -> 0
B34: 鳥取県 | C34: 1 | E34: 1 | K34: 1 | M34: 3 | O34: =SUM(M34,K34,I34,C34,E34,G34) -> 6 | P34: =SUM(N34,L34,J34,H34,F34,D34) -> 0
B35: 島根県 | C35: 1 | E35: 1 | I35: 1 | K35: 1 | M35: 2 | O35: =SUM(M35,K35,I35,C35,E35,G35) -> 6 | P35: =SUM(N35,L35,J35,H35,F35,D35) -> 0
B36: 岡山県 | E36: 1 | G36: 1 | I36: 3 | K36: 4 | M36: 5 | N36: 1 | O36: =SUM(M36,K36,I36,C36,E36,G36) -> 14 | P36: =SUM(N36,L36,J36,H36,F36,D36) -> 1
B37: 広島県 | E37: 1 | G37: 4 | I37: 5 | J37: 1 | K37: 2 | M37: 2 | N37: 2 | O37: =SUM(M37,K37,I37,C37,E37,G37) -> 14 | P37: =SUM(N37,L37,J37,H37,F37,D37) -> 3
B38: 山口県 | E38: 1 | G38: 2 | I38: 2 | J38: 2 | K38: 1 | M38: 2 | N38: 1 | O38: =SUM(M38,K38,I38,C38,E38,G38) -> 8 | P38: =SUM(N38,L38,J38,H38,F38,D38) -> 3
B39: 徳島県 | C39: 1 | E39: 1 | G39: 1 | I39: 2 | J39: 1 | K39: 5 | M39: 10 | N39: 1 | O39: =SUM(M39,K39,I39,C39,E39,G39) -> 20 | P39: =SUM(N39,L39,J39,H39,F39,D39) -> 2
B40: 香川県 | E40: 1 | G40: 2 | I40: 5 | K40: 1 | M40: 6 | O40: =SUM(M40,K40,I40,C40,E40,G40) -> 15 | P40: =SUM(N40,L40,J40,H40,F40,D40) -> 0
...

Sheet 月別
B1: 月別執行件数
B2: 区 分 | C2: 団体数 | D2: １月 | F2: ２月 | H2: ３月 | J2: ４月 | L2: ５月 | N2: ６月 | P2: ７月 | R2: ８月 | T2: ９月 | V2: １０月 | X2: １１月 | Z2: １２月 | AB2: 合計
D3: 一般選挙 | E3: 補欠等 | F3: 一般選挙 | G3: 補欠等 | H3: 一般選挙 | I3: 補欠等 | J3: 一般選挙 | K3: 補欠等 | L3: 一般選挙 | M3: 補欠等 | N3: 一般選挙 | O3: 補欠等 | P3: 一般選挙 | Q3: 補欠等 | R3: 一般選挙 | S3: 補欠等 | T3: 一般選挙 | U3: 補欠等 | V3: 一般選挙 | W3: 補欠等 | X3: 一般選挙 | Y3: 補欠等 | Z3: 一般選挙 | AA3: 補欠等 | AB3: 一般選挙 | AC3: 補欠等
B4: 北海道 | C4: 180 | D4: 3 | F4: 8 | G4: 1 | J4: 179 | K4: 1 | L4: 2 | N4: 4 | P4: 1 | R4: 6 | T4: 3 | U4: 1 | V4: 8 | X4: 1 | AB4: =SUM(D4,F4,H4,J4,L4,N4,P4,R4,T4,V4,X4,Z4) -> 215 | AC4: =SUM(E4,G4,I4,K4,M4,O4,Q4,S4,U4,W4,Y4,AA4) -> 3
B5: 青森県 | C5: 41 | D5: 1 | F5: 1 | J5: 22 | K5: 1 | N5: 3 | P5: 1 | T5: 2 | V5: 5 | Z5: 1 | AA5: 1 | AB5: =SUM(D5,F5,H5,J5,L5,N5,P5,R5,T5,V5,X5,Z5) -> 36 | AC5: =SUM(E5,G5,I5,K5,M5,O5,Q5,S5,U5,W5,Y5,AA5) -> 2
B6: 岩手県 | C6: 34 | D6: 1 | F6: 1 | J6: 5 | N6: 5 | P6: 5 | R6: 6 | T6: 6 | X6: 2 | Y6: 1 | Z6: 1 | AB6: =SUM(D6,F6,H6,J6,L6,N6,P6,R6,T6,V6,X6,Z6) -> 32 | AC6: =SUM(E6,G6,I6,K6,M6,O6,Q6,S6,U6,W6,Y6,AA6) -> 1
B7: 宮城県 | C7: 36 | F7: 1 | G7: 1 | J7: 2 | P7: 1 | R7: 16 | T7: 1 | V7: 5 | X7: 1 | Z7: 2 | AB7: =SUM(D7,F7,H7,J7,L7,N7,P7,R7,T7,V7,X7,Z7) -> 29 | AC7: =SUM(E7,G7,I7,K7,M7,O7,Q7,S7,U7,W7,Y7,AA7) -> 1
B8: 秋田県 | C8: 26 | F8: 1 | G8: 1 | J8: 7 | R8: 1 | AB8: =SUM(D8,F8,H8,J8,L8,N8,P8,R8,T8,V8,X8,Z8) -> 9 | AC8: =SUM(E8,G8,I8,K8,M8,O8,Q8,S8,U8,W8,Y8,AA8) -> 1
B9: 山形県 | C9: 36 | D9: 2 | F9: 2 | J9: 18 | K9: 1 | N9: 1 | P9: 3 | R9: 4 | T9: 6 | V9: 1 | X9: 4 | AB9: =SUM(D9,F9,H9,J9,L9,N9,P9,R9,T9,V9,X9,Z9) -> 41 | AC9: =SUM(E9,G9,I9,K9,M9,O9,Q9,S9,U9,W9,Y9,AA9) -> 1
B10: 福島県 | C10: 60 | D10: 1 | J10: 10 | N10: 7 | O10: 1 | P10: 7 | R10: 7 | T10: 6 | V10: 2 | W10: 1 | X10: 11 | Z10: 2 | AB10: =SUM(D10,F10,H10,J10,L10,N10,P10,R10,T10,V10,X10,Z10) -> 53 | AC10: =SUM(E10,G10,I10,K10,M10,O10,Q10,S10,U10,W10,Y10,AA10) -> 2
B11: 茨城県 | C11: 45 | D11: 2 | E11: 1 | F11: 2 | G11: 1 | J11: 20 | K11: 2 | L11: 1 | N11: 1 | Q11: 1 | R11: 2 | T11: 1 | V11: 3 | X11: 4 | Z11: 1 | AB11: =SUM(D11,F11,H11,J11,L11,N11,P11,R11,T11,V11,X11,Z11) -> 37 | AC11: =SUM(E11,G11,I11,K11,M11,O11,Q11,S11,U11,W11,Y11,AA11) -> 5
B12: 栃木県 | C12: 26 | F12: 1 | J12: 13 | T12: 1 | X12: 1 | Z12: 2 | AB12: =SUM(D12,F12,H12,J12,L12,N12,P12,R12,T12,V12,X12,Z12) -> 18 | AC12: =SUM(E12,G12,I12,K12,M12,O12,Q12,S12,U12,W12,Y12,AA12) -> 0
B13: 群馬県 | C13: 36 | F13: 1 | J13: 31 | K13: 2 | P13: 2 | T13: 2 | X13: 1 | AB13: =SUM(D13,F13,H13,J13,L13,N13,P13,R13,T13,V13,X13,Z13) -> 37 | AC13: =SUM(E13,G13,I13,K13,M13,O13,Q13,S13,U13,W13,Y13,AA13) -> 2
B14: 埼玉県 | C14: 64 | D14: 2 | F14: 1 | J14: 37 | L14: 2 | P14: 2 | R14: 3 | V14: 3 | X14: 1 | Z14: 2 | AB14: =SUM(D14,F14,H14,J14,L14,N14,P14,R14,T14,V14,X14,Z14) -> 53 | AC14: =SUM(E14,G14,I14,K14,M14,O14,Q14,S14,U14,W14,Y14,AA14) -> 0
B15: 千葉県 | C15: 55 | D15: 1 | E15: 1 | J15: 28 | N15: 2 | P15: 3 | R15: 5 | T15: 2 | V15: 1 | W15: 1 | X15: 4 | Z15: 1 | AB15: =SUM(D15,F15,H15,J15,L15,N15,P15,R15,T15,V15,X15,Z15) -> 47 | AC15: =SUM(E15,G15,I15,K15,M15,O15,Q15,S15,U15,W15,Y15,AA15) -> 2
B16: 東京都 | C16: 63 | F16: 1 | H16: 1 | J16: 66 | L16: 2 | P16: 1 | R16: 2 | S16: 1 | T16: 1 | V16: 3 | W16: 1 | X16: 2 | Z16: 1 | AA16: 1 | AB16: =SUM(D16,F16,H16,J16,L16,N16,P16,R16,T16,V16,X16,Z16) -> 80 | AC16: =SUM(E16,G16,I16,K16,M16,O16,Q16,S16,U16,W16,Y16,AA16) -> 3
B17: 神奈川県 | C17: 34 | F17: 2 | J17: 26 | K17: 1 | N17: 1 | P17: 1 | R17: 2 | S17: 1 | T17: 1 | V17: 1 | X17: 2 | Z17: 1 | AB17: =SUM(D17,F17,H17,J17,L17,N17,P17,R17,T17,V17,X17,Z17) -> 37 | AC17: =SUM(E17,G17,I17,K17,M17,O17,Q17,S17,U17,W17,Y17,AA17) -> 2
B18: 新潟県 | C18: 31 | D18: 1 | J18: 13 | N18: 1 | P18: 2 | R18: 1 | V18: 2 | X18: 1 | AA18: 1 | AB18: =SUM(D18,F18,H18,J18,L18,N18,P18,R18,T18,V18,X18,Z18) -> 21 | AC18: =SUM(E18,G18,I18,K18,M18,O18,Q18,S18,U18,W18,Y18,AA18) -> 1
B19: 富山県 | C19: 16 | J19: 2 | AB19: =SUM(D19,F19,H19,J19,L19,N19,P19,R19,T19,V19,X19,Z19) -> 2 | AC19: =SUM(E19,G19,I19,K19,M19,O19,Q19,S19,U19,W19,Y19,AA19) -> 0
B20: 石川県 | C20: 20 | J20: 13 | AB20: =SUM(D20,F20,H20,J20,L20,N20,P20,R20,T20,V20,X20,Z20) -> 13 | AC20: =SUM(E20,G20,I20,K20,M20,O20,Q20,S20,U20,W20,Y20,AA20) -> 0
B21: 福井県 | C21: 18 | F21: 2 | G21: 1 | J21: 10 | K21: 1 | P21: 1 | R21: 1 | Z21: 1 | AB21: =SUM(D21,F21,H21,J21,L21,N21,P21,R21,T21,V21,X21,Z21) -> 15 | AC21: =SUM(E21,G21,I21,K21,M21,O21,Q21,S21,U21,W21,Y21,AA21) -> 2
B22: 山梨県 | C22: 28 | D22: 4 | F22: 1 | J22: 13 | K22: 1 | P22: 2 | R22: 1 | V22: 1 | X22: 1 | Y22: 1 | AB22: =SUM(D22,F22,H22,J22,L22,N22,P22,R22,T22,V22,X22,Z22) -> 23 | AC22: =SUM(E22,G22,I22,K22,M22,O22,Q22,S22,U22,W22,Y22,AA22) -> 2
B23: 長野県 | C23: 78 | D23: 2 | F23: 5 | J23: 44 | P23: 1 | T23: 3 | X23: 3 | Y23: 2 | AB23: =SUM(D23,F23,H23,J23,L23,N23,P23,R23,T23,V23,X23,Z23) -> 58 | AC23: =SUM(E23,G23,I23,K23,M23,O23,Q23,S23,U23,W23,Y23,AA23) -> 2
B24: 岐阜県 | C24: 43 | F24: 2 | G24: 1 | J24: 26 | K24: 2 | L24: 2 | N24: 2 | P24: 4 | R24: 2 | T24: 2 | V24: 1 | AB24: =SUM(D24,F24,H24,J24,L24,N24,P24,R24,T24,V24,X24,Z24) -> 41 | AC24: =SUM(E24,G24,I24,K24,M24,O24,Q24,S24,U24,W24,Y24,AA24) -> 3
B25: 静岡県 | C25: 36 | F25: 1 | J25: 21 | P25: 1 | T25: 1 | AB25: =SUM(D25,F25,H25,J25,L25,N25,P25,R25,T25,V25,X25,Z25) -> 24 | AC25: =SUM(E25,G25,I25,K25,M25,O25,Q25,S25,U25,W25,Y25,AA25) -> 0
B26: 愛知県 | C26: 55 | F26: 7 | J26: 45 | P26: 3 | R26: 2 | T26: 1 | V26: 3 | X26: 1 | AA26: 1 | AB26: =SUM(D26,F26,H26,J26,L26,N26,P26,R26,T26,V26,X26,Z26) -> 62 | AC26: =SUM(E26,G26,I26,K26,M26,O26,Q26,S26,U26,W26,Y26,AA26) -> 1
B27: 三重県 | C27: 30 | F27: 2 | G27: 1 | J27: 11 | N27: 2 | V27: 1 | W27: 1 | X27: 1 | AB27: =SUM(D27,F27,H27,J27,L27,N27,P27,R27,T27,V27,X27,Z27) -> 17 | AC27: =SUM(E27,G27,I27,K27,M27,O27,Q27,S27,U27,W27,Y27,AA27) -> 2
B28: 滋賀県 | C28: 20 | F28: 1 | G28: 1 | J28: 7 | K28: 1 | T28: 2 | V28: 2 | AB28: =SUM(D28,F28,H28,J28,L28,N28,P28,R28,T28,V28,X28,Z28) -> 12 | AC28: =SUM(E28,G28,I28,K28,M28,O28,Q28,S28,U28,W28,Y28,AA28) -> 2
B29: 京都府 | C29: 27 | D29: 2 | E29: 1 | F29: 1 | N29: 1 | P29: 1 | R29: 1 | V29: 1 | W29: 1 | X29: 1 | AB29: =SUM(D29,F29,H29,J29,L29,N29,P29,R29,T29,V29,X29,Z29) -> 8 | AC29: =SUM(E29,G29,I29,K29,M29,O29,Q29,S29,U29,W29,Y29,AA29) -> 2
B30: 大阪府 | C30: 44 | J30: 33 | K30: 1 | R30: 2 | T30: 3 | X30: 3 | Y30: 1 | Z30: 1 | AB30: =SUM(D30,F30,H30,J30,L30,N30,P30,R30,T30,V30,X30,Z30) -> 42 | AC30: =SUM(E30,G30,I30,K30,M30,O30,Q30,S30,U30,W30,Y30,AA30) -> 2
B31: 兵庫県 | C31: 42 | D31: 1 | F31: 2 | J31: 16 | L31: 2 | P31: 1 | Q31: 1 | R31: 2 | T31: 2 | Z31: 1 | AA31: 1 | AB31: =SUM(D31,F31,H31,J31,L31,N31,P31,R31,T31,V31,X31,Z31) -> 27 | AC31: =SUM(E31,G31,I31,K31,M31,O31,Q31,S31,U31,W31,Y31,AA31) -> 2
B32: 奈良県 | C32: 40 | D32: 1 | J32: 30 | K32: 1 | V32: 2 | W32: 2 | X32: 2 | Y32: 1 | AB32: =SUM(D32,F32,H32,J32,L32,N32,P32,R32,T32,V32,X32,Z32) -> 35 | AC32: =SUM(E32,G32,I32,K32,M32,O32,Q32,S32,U32,W32,Y32,AA32) -> 4
B33: 和歌山県 | C33: 31 | D33: 1 | F33: 4 | J33: 10 | N33: 1 | T33: 3 | Z33: 1 | AB33: =SUM(D33,F33,H33,J33,L33,N33,P33,R33,T33,V33,X33,Z33) -> 20 | AC33: =SUM(E33,G33,I33,K33,M33,O33,Q33,S33,U33,W33,Y33,AA33) -> 0
B34: 鳥取県 | C34: 20 | J34: 6 | AB34: =SUM(D34,F34,H34,J34,L34,N34,P34,R34,T34,V34,X34,Z34) -> 6 | AC34: =SUM(E34,G34,I34,K34,M34,O34,Q34,S34,U34,W34,Y34,AA34) -> 0
B35: 島根県 | C35: 20 | D35: 1 | J35: 4 | R35: 1 | AB35: =SUM(D35,F35,H35,J35,L35,N35,P35,R35,T35,V35,X35,Z35) -> 6 | AC35: =SUM(E35,G35,I35,K35,M35,O35,Q35,S35,U35,W35,Y35,AA35) -> 0
B36: 岡山県 | C36: 28 | F36: 3 | J36: 7 | R36: 3 | S36: 1 | V36: 1 | AB36: =SUM(D36,F36,H36,J36,L36,N36,P36,R36,T36,V36,X36,Z36) -> 14 | AC36: =SUM(E36,G36,I36,K36,M36,O36,Q36,S36,U36,W36,Y36,AA36) -> 1
B37: 広島県 | C37: 24 | J37: 11 | K37: 1 | R37: 1 | V37: 1 | W37: 1 | X37: 1 | Y37: 1 | AB37: =SUM(D37,F37,H37,J37,L37,N37,P37,R37,T37,V37,X37,Z37) -> 14 | AC37: =SUM(E37,G37,I37,K37,M37,O37,Q37,S37,U37,W37,Y37,AA37) -> 3
B38: 山口県 | C38: 20 | D38: 1 | J38: 5 | K38: 1 | T38: 1 | U38: 1 | X38: 1 | Y38: 1 | AB38: =SUM(D38,F38,H38,J38,L38,N38,P38,R38,T38,V38,X38,Z38) -> 8 | AC38: =SUM(E38,G38,I38,K38,M38,O38,Q38,S38,U38,W38,Y38,AA38) -> 3
B39: 徳島県 | C39: 25 | J39: 12 | K39: 1 | N39: 1 | R39: 1 | T39: 1 | V39: 1 | X39: 2 | Y39: 1 | Z39: 2 | AB39: =SUM(D39,F39,H39,J39,L39,N39,P39,R39,T39,V39,X39,Z39) -> 20 | AC39: =SUM(E39,G39,I39,K39,M39,O39,Q39,S39,U39,W39,Y39,AA39) -> 2
B40: 香川県 | C40: 18 | F40: 2 | J40: 12 | P40: 1 | AB40: =SUM(D40,F40,H40,J40,L40,N40,P40,R40,T40,V40,X40,Z40) -> 15 | AC40: =SUM(E40,G40,I40,K40,M40,O40,Q40,S40,U40,W40,Y40,AA40) -> 0
...

Sheet 無投票・平日投票・翌日開票
A1: 無投票及び平日投票、翌日開票の状況
A2: 区 分 | B2: 無投票の状況 | Q2: 平日投票の状況 | X2: 翌日開票の状況
B3: 都道府県 | F3: 市 区 | J3: 町 村 | N3: 合 計 | Q3: 都道府県 | S3: 市 区 | U3: 町 村 | W3: 計 | X3: 都道府県 | Z3: 市 区 | AB3: 町 村 | AD3: 計
B4: 知事 | D4: 議会議員 | F4: 長 | H4: 議会議員 | J4: 長 | L4: 議会議員 | Q4: 知事 | R4: 議会議員 | S4: 長 | T4: 議会議員 | U4: 長 | V4: 議会議員 | X4: 知事 | Y4: 議会議員 | Z4: 長 | AA4: 議会議員 | AB4: 長 | AC4: 議会議員
B5: 一般選挙 | C5: 再選挙 | D5: 一般選挙 | E5: 補欠等 | F5: 一般選挙 | G5: 再選挙 | H5: 一般選挙 | I5: 補欠等 | J5: 一般選挙 | K5: 再選挙 | L5: 一般選挙 | M5: 補欠等 | N5: 一般選挙 | O5: 補欠等 | P5: 計
A6: 北海道 | F6: 10 | H6: 5 | J6: 27 | L6: 35 | M6: 1 | N6: =SUM(B6,D6,F6,H6,J6,L6) -> 77 | O6: =SUM(C6,E6,G6,I6,K6,M6) -> 1 | P6: =SUM(N6:O6) -> 78 | V6: 2 | W6: =SUM(Q6:V6) -> 2 | AD6: =SUM(X6:AC6) -> 0
A7: 青森県 | J7: 3 | L7: 1 | N7: =SUM(B7,D7,F7,H7,J7,L7) -> 4 | O7: =SUM(C7,E7,G7,I7,K7,M7) -> 0 | P7: =SUM(N7:O7) -> 4 | W7: =SUM(Q7:V7) -> 0 | AD7: =SUM(X7:AC7) -> 0
A8: 岩手県 | B8: 1 | F8: 2 | J8: 3 | L8: 4 | N8: =SUM(B8,D8,F8,H8,J8,L8) -> 10 | O8: =SUM(C8,E8,G8,I8,K8,M8) -> 0 | P8: =SUM(N8:O8) -> 10 | W8: =SUM(Q8:V8) -> 0 | AD8: =SUM(X8:AC8) -> 0
A9: 宮城県 | J9: 3 | L9: 1 | N9: =SUM(B9,D9,F9,H9,J9,L9) -> 4 | O9: =SUM(C9,E9,G9,I9,K9,M9) -> 0 | P9: =SUM(N9:O9) -> 4 | W9: =SUM(Q9:V9) -> 0 | AD9: =SUM(X9:AC9) -> 0
A10: 秋田県 | J10: 1 | L10: 1 | M10: 1 | N10: =SUM(B10,D10,F10,H10,J10,L10) -> 2 | O10: =SUM(C10,E10,G10,I10,K10,M10) -> 1 | P10: =SUM(N10:O10) -> 3 | W10: =SUM(Q10:V10) -> 0 | AD10: =SUM(X10:AC10) -> 0
A11: 山形県 | F11: 1 | J11: 4 | L11: 5 | N11: =SUM(B11,D11,F11,H11,J11,L11) -> 10 | O11: =SUM(C11,E11,G11,I11,K11,M11) -> 0 | P11: =SUM(N11:O11) -> 10 | V11: 1 | W11: =SUM(Q11:V11) -> 1 | AD11: =SUM(X11:AC11) -> 0
A12: 福島県 | D12: 1 | F12: 1 | H12: 1 | J12: 7 | L12: 4 | M12: 1 | N12: =SUM(B12,D12,F12,H12,J12,L12) -> 14 | O12: =SUM(C12,E12,G12,I12,K12,M12) -> 1 | P12: =SUM(N12:O12) -> 15 | W12: =SUM(Q12:V12) -> 0 | AD12: =SUM(X12:AC12) -> 0
A13: 茨城県 | F13: 1 | H13: 2 | J13: 3 | L13: 2 | M13: 1 | N13: =SUM(B13,D13,F13,H13,J13,L13) -> 8 | O13: =SUM(C13,E13,G13,I13,K13,M13) -> 1 | P13: =SUM(N13:O13) -> 9 | W13: =SUM(Q13:V13) -> 0 | AD13: =SUM(X13:AC13) -> 0
A14: 栃木県 | H14: 1 | L14: 1 | N14: =SUM(B14,D14,F14,H14,J14,L14) -> 2 | O14: =SUM(C14,E14,G14,I14,K14,M14) -> 0 | P14: =SUM(N14:O14) -> 2 | W14: =SUM(Q14:V14) -> 0 | AD14: =SUM(X14:AC14) -> 0
A15: 群馬県 | F15: 1 | J15: 3 | L15: 2 | M15: 1 | N15: =SUM(B15,D15,F15,H15,J15,L15) -> 6 | O15: =SUM(C15,E15,G15,I15,K15,M15) -> 1 | P15: =SUM(N15:O15) -> 7 | W15: =SUM(Q15:V15) -> 0 | AD15: =SUM(X15:AC15) -> 0
A16: 埼玉県 | F16: 2 | L16: 5 | N16: =SUM(B16,D16,F16,H16,J16,L16) -> 7 | O16: =SUM(C16,E16,G16,I16,K16,M16) -> 0 | P16: =SUM(N16:O16) -> 7 | W16: =SUM(Q16:V16) -> 0 | AD16: =SUM(X16:AC16) -> 0
A17: 千葉県 | F17: 1 | I17: 1 | J17: 1 | L17: 2 | N17: =SUM(B17,D17,F17,H17,J17,L17) -> 4 | O17: =SUM(C17,E17,G17,I17,K17,M17) -> 1 | P17: =SUM(N17:O17) -> 5 | W17: =SUM(Q17:V17) -> 0 | AD17: =SUM(X17:AC17) -> 0
A18: 東京都 | J18: 2 | L18: 2 | N18: =SUM(B18,D18,F18,H18,J18,L18) -> 4 | O18: =SUM(C18,E18,G18,I18,K18,M18) -> 0 | P18: =SUM(N18:O18) -> 4 | W18: =SUM(Q18:V18) -> 0 | Z18: 3 | AA18: 6 | AD18: =SUM(X18:AC18) -> 9
A19: 神奈川県 | J19: 2 | L19: 1 | N19: =SUM(B19,D19,F19,H19,J19,L19) -> 3 | O19: =SUM(C19,E19,G19,I19,K19,M19) -> 0 | P19: =SUM(N19:O19) -> 3 | W19: =SUM(Q19:V19) -> 0 | AD19: =SUM(X19:AC19) -> 0
A20: 新潟県 | L20: 3 | N20: =SUM(B20,D20,F20,H20,J20,L20) -> 3 | O20: =SUM(C20,E20,G20,I20,K20,M20) -> 0 | P20: =SUM(N20:O20) -> 3 | W20: =SUM(Q20:V20) -> 0 | AD20: =SUM(X20:AC20) -> 0
A21: 富山県 | L21: 1 | N21: =SUM(B21,D21,F21,H21,J21,L21) -> 1 | O21: =SUM(C21,E21,G21,I21,K21,M21) -> 0 | P21: =SUM(N21:O21) -> 1 | W21: =SUM(Q21:V21) -> 0 | AD21: =SUM(X21:AC21) -> 0
A22: 石川県 | F22: 1 | J22: 1 | L22: 1 | N22: =SUM(B22,D22,F22,H22,J22,L22) -> 3 | O22: =SUM(C22,E22,G22,I22,K22,M22) -> 0 | P22: =SUM(N22:O22) -> 3 | W22: =SUM(Q22:V22) -> 0 | AD22: =SUM(X22:AC22) -> 0
A23: 福井県 | H23: 1 | L23: 1 | N23: =SUM(B23,D23,F23,H23,J23,L23) -> 2 | O23: =SUM(C23,E23,G23,I23,K23,M23) -> 0 | P23: =SUM(N23:O23) -> 2 | W23: =SUM(Q23:V23) -> 0 | AD23: =SUM(X23:AC23) -> 0
A24: 山梨県 | I24: 1 | J24: 2 | L24: 4 | M24: 1 | N24: =SUM(B24,D24,F24,H24,J24,L24) -> 6 | O24: =SUM(C24,E24,G24,I24,K24,M24) -> 2 | P24: =SUM(N24:O24) -> 8 | W24: =SUM(Q24:V24) -> 0 | AD24: =SUM(X24:AC24) -> 0
A25: 長野県 | F25: 2 | H25: 1 | J25: 7 | L25: 10 | N25: =SUM(B25,D25,F25,H25,J25,L25) -> 20 | O25: =SUM(C25,E25,G25,I25,K25,M25) -> 0 | P25: =SUM(N25:O25) -> 20 | W25: =SUM(Q25:V25) -> 0 | AD25: =SUM(X25:AC25) -> 0
A26: 岐阜県 | F26: 3 | J26: 5 | L26: 2 | N26: =SUM(B26,D26,F26,H26,J26,L26) -> 10 | O26: =SUM(C26,E26,G26,I26,K26,M26) -> 0 | P26: =SUM(N26:O26) -> 10 | W26: =SUM(Q26:V26) -> 0 | AD26: =SUM(X26:AC26) -> 0
A27: 静岡県 | J27: 1 | N27: =SUM(B27,D27,F27,H27,J27,L27) -> 1 | O27: =SUM(C27,E27,G27,I27,K27,M27) -> 0 | P27: =SUM(N27:O27) -> 1 | W27: =SUM(Q27:V27) -> 0 | AD27: =SUM(X27:AC27) -> 0
A28: 愛知県 | F28: 3 | H28: 1 | J28: 1 | L28: 3 | N28: =SUM(B28,D28,F28,H28,J28,L28) -> 8 | O28: =SUM(C28,E28,G28,I28,K28,M28) -> 0 | P28: =SUM(N28:O28) -> 8 | W28: =SUM(Q28:V28) -> 0 | AD28: =SUM(X28:AC28) -> 0
A29: 三重県 | F29: 1 | J29: 2 | M29: 1 | N29: =SUM(B29,D29,F29,H29,J29,L29) -> 3 | O29: =SUM(C29,E29,G29,I29,K29,M29) -> 1 | P29: =SUM(N29:O29) -> 4 | W29: =SUM(Q29:V29) -> 0 | AD29: =SUM(X29:AC29) -> 0
A30: 滋賀県 | F30: 1 | I30: 1 | L30: 1 | N30: =SUM(B30,D30,F30,H30,J30,L30) -> 2 | O30: =SUM(C30,E30,G30,I30,K30,M30) -> 1 | P30: =SUM(N30:O30) -> 3 | W30: =SUM(Q30:V30) -> 0 | AD30: =SUM(X30:AC30) -> 0
A31: 京都府 | J31: 1 | N31: =SUM(B31,D31,F31,H31,J31,L31) -> 1 | O31: =SUM(C31,E31,G31,I31,K31,M31) -> 0 | P31: =SUM(N31:O31) -> 1 | W31: =SUM(Q31:V31) -> 0 | AD31: =SUM(X31:AC31) -> 0
A32: 大阪府 | F32: 3 | H32: 1 | N32: =SUM(B32,D32,F32,H32,J32,L32) -> 4 | O32: =SUM(C32,E32,G32,I32,K32,M32) -> 0 | P32: =SUM(N32:O32) -> 4 | W32: =SUM(Q32:V32) -> 0 | AD32: =SUM(X32:AC32) -> 0
A33: 兵庫県 | F33: 2 | N33: =SUM(B33,D33,F33,H33,J33,L33) -> 2 | O33: =SUM(C33,E33,G33,I33,K33,M33) -> 0 | P33: =SUM(N33:O33) -> 2 | W33: =SUM(Q33:V33) -> 0 | AD33: =SUM(X33:AC33) -> 0
A34: 奈良県 | F34: 3 | J34: 4 | L34: 2 | M34: 1 | N34: =SUM(B34,D34,F34,H34,J34,L34) -> 9 | O34: =SUM(C34,E34,G34,I34,K34,M34) -> 1 | P34: =SUM(N34:O34) -> 10 | W34: =SUM(Q34:V34) -> 0 | AD34: =SUM(X34:AC34) -> 0
A35: 和歌山県 | J35: 1 | L35: 1 | N35: =SUM(B35,D35,F35,H35,J35,L35) -> 2 | O35: =SUM(C35,E35,G35,I35,K35,M35) -> 0 | P35: =SUM(N35:O35) -> 2 | W35: =SUM(Q35:V35) -> 0 | AD35: =SUM(X35:AC35) -> 0
A36: 鳥取県 | J36: 1 | L36: 2 | N36: =SUM(B36,D36,F36,H36,J36,L36) -> 3 | O36: =SUM(C36,E36,G36,I36,K36,M36) -> 0 | P36: =SUM(N36:O36) -> 3 | W36: =SUM(Q36:V36) -> 0 | AD36: =SUM(X36:AC36) -> 0
A37: 島根県 | D37: 1 | J37: 1 | L37: 2 | N37: =SUM(B37,D37,F37,H37,J37,L37) -> 4 | O37: =SUM(C37,E37,G37,I37,K37,M37) -> 0 | P37: =SUM(N37:O37) -> 4 | W37: =SUM(Q37:V37) -> 0 | AD37: =SUM(X37:AC37) -> 0
A38: 岡山県 | J38: 2 | N38: =SUM(B38,D38,F38,H38,J38,L38) -> 2 | O38: =SUM(C38,E38,G38,I38,K38,M38) -> 0 | P38: =SUM(N38:O38) -> 2 | W38: =SUM(Q38:V38) -> 0 | AD38: =SUM(X38:AC38) -> 0
A39: 広島県 | F39: 1 | L39: 1 | N39: =SUM(B39,D39,F39,H39,J39,L39) -> 2 | O39: =SUM(C39,E39,G39,I39,K39,M39) -> 0 | P39: =SUM(N39:O39) -> 2 | W39: =SUM(Q39:V39) -> 0 | AD39: =SUM(X39:AC39) -> 0
A40: 山口県 | F40: 1 | J40: 1 | N40: =SUM(B40,D40,F40,H40,J40,L40) -> 2 | O40: =SUM(C40,E40,G40,I40,K40,M40) -> 0 | P40: =SUM(N40:O40) -> 2 | W40: =SUM(Q40:V40) -> 0 | AD40: =SUM(X40:AC40) -> 0
...

Sheet 団体数
A1: H27.12.31現在 団体数
A2: 都道府県 | B2: 都道府県数 | C2: 市区数 | D2: 町数 | E2: 村数 | F2: 合計
A3: 北海道 | B3: 1 | C3: 35 | D3: 129 | E3: 15 | F3: =SUM(B3:E3) -> 180
A4: 青森県 | B4: 1 | C4: 10 | D4: 22 | E4: 8 | F4: =SUM(B4:E4) -> 41
A5: 岩手県 | B5: 1 | C5: 14 | D5: 15 | E5: 4 | F5: =SUM(B5:E5) -> 34
A6: 宮城県 | B6: 1 | C6: 13 | D6: 21 | E6: 1 | F6: =SUM(B6:E6) -> 36
A7: 秋田県 | B7: 1 | C7: 13 | D7: 9 | E7: 3 | F7: =SUM(B7:E7) -> 26
A8: 山形県 | B8: 1 | C8: 13 | D8: 19 | E8: 3 | F8: =SUM(B8:E8) -> 36
A9: 福島県 | B9: 1 | C9: 13 | D9: 31 | E9: 15 | F9: =SUM(B9:E9) -> 60
A10: 茨城県 | B10: 1 | C10: 32 | D10: 10 | E10: 2 | F10: =SUM(B10:E10) -> 45
A11: 栃木県 | B11: 1 | C11: 14 | D11: 11 | F11: =SUM(B11:E11) -> 26
A12: 群馬県 | B12: 1 | C12: 12 | D12: 15 | E12: 8 | F12: =SUM(B12:E12) -> 36
A13: 埼玉県 | B13: 1 | C13: 40 | D13: 22 | E13: 1 | F13: =SUM(B13:E13) -> 64
A14: 千葉県 | B14: 1 | C14: 37 | D14: 16 | E14: 1 | F14: =SUM(B14:E14) -> 55
A15: 東京都 | B15: 1 | C15: 49 | D15: 5 | E15: 8 | F15: =SUM(B15:E15) -> 63
A16: 神奈川県 | B16: 1 | C16: 19 | D16: 13 | E16: 1 | F16: =SUM(B16:E16) -> 34
A17: 新潟県 | B17: 1 | C17: 20 | D17: 6 | E17: 4 | F17: =SUM(B17:E17) -> 31
A18: 富山県 | B18: 1 | C18: 10 | D18: 4 | E18: 1 | F18: =SUM(B18:E18) -> 16
A19: 石川県 | B19: 1 | C19: 11 | D19: 8 | F19: =SUM(B19:E19) -> 20
A20: 福井県 | B20: 1 | C20: 9 | D20: 8 | F20: =SUM(B20:E20) -> 18
A21: 山梨県 | B21: 1 | C21: 13 | D21: 8 | E21: 6 | F21: =SUM(B21:E21) -> 28
A22: 長野県 | B22: 1 | C22: 19 | D22: 23 | E22: 35 | F22: =SUM(B22:E22) -> 78
A23: 岐阜県 | B23: 1 | C23: 21 | D23: 19 | E23: 2 | F23: =SUM(B23:E23) -> 43
A24: 静岡県 | B24: 1 | C24: 23 | D24: 12 | F24: =SUM(B24:E24) -> 36
A25: 愛知県 | B25: 1 | C25: 38 | D25: 14 | E25: 2 | F25: =SUM(B25:E25) -> 55
A26: 三重県 | B26: 1 | C26: 14 | D26: 15 | F26: =SUM(B26:E26) -> 30
A27: 滋賀県 | B27: 1 | C27: 13 | D27: 6 | F27: =SUM(B27:E27) -> 20
A28: 京都府 | B28: 1 | C28: 15 | D28: 10 | E28: 1 | F28: =SUM(B28:E28) -> 27
A29: 大阪府 | B29: 1 | C29: 33 | D29: 9 | E29: 1 | F29: =SUM(B29:E29) -> 44
A30: 兵庫県 | B30: 1 | C30: 29 | D30: 12 | F30: =SUM(B30:E30) -> 42
A31: 奈良県 | B31: 1 | C31: 12 | D31: 15 | E31: 12 | F31: =SUM(B31:E31) -> 40
A32: 和歌山県 | B32: 1 | C32: 9 | D32: 20 | E32: 1 | F32: =SUM(B32:E32) -> 31
A33: 鳥取県 | B33: 1 | C33: 4 | D33: 14 | E33: 1 | F33: =SUM(B33:E33) -> 20
A34: 島根県 | B34: 1 | C34: 8 | D34: 10 | E34: 1 | F34: =SUM(B34:E34) -> 20
A35: 岡山県 | B35: 1 | C35: 15 | D35: 10 | E35: 2 | F35: =SUM(B35:E35) -> 28
A36: 広島県 | B36: 1 | C36: 14 | D36: 9 | F36: =SUM(B36:E36) -> 24
A37: 山口県 | B37: 1 | C37: 13 | D37: 6 | F37: =SUM(B37:E37) -> 20
A38: 徳島県 | B38: 1 | C38: 8 | D38: 15 | E38: 1 | F38: =SUM(B38:E38) -> 25
A39: 香川県 | B39: 1 | C39: 8 | D39: 9 | F39: =SUM(B39:E39) -> 18
A40: 愛媛県 | B40: 1 | C40: 11 | D40: 9 | F40: =SUM(B40:E40) -> 21
...

Sheet ☆全国計
A1: 第８号様式
A4: 地 方 公 共 団 体 の 議 会 の 議 員 及 び 長 の 選 挙 執 行 件 数 等 調
DN7: 都道府県名 全国計
DN10: 平成２７年１月１日～１２月３１日
B13: 選挙の種類 | M13: 月 別 選 挙 執 行 件 数
M14: １ 月 | AQ14: ２ 月 | BU14: ３ 月 | CY14: ４ 月 | EC14: ５ 月
M15: 一般選挙 | W15: 補欠等 | AG15: 平日投票 | AL15: 翌日開票 | AQ15: 一般選挙 | BA15: 補欠等 | BK15: 平日投票 | BP15: 翌日開票 | BU15: 一般選挙 | CE15: 補欠等 | CO15: 平日投票 | CT15: 翌日開票 | CY15: 一般選挙 | DI15: 補欠等 | DS15: 平日投票 | DX15: 翌日開票 | EC15: 一般選挙 | EM15: 補欠等 | EW15: 平日投票 | FB15: 翌日開票
R16: うち無投票 | AB16: うち無投票 | AV16: うち無投票 | BF16: うち無投票 | BZ16: うち無投票 | CJ16: うち無投票 | DD16: うち無投票 | DN16: うち無投票 | EH16: うち無投票 | ER16: うち無投票
B17: 都道府県知事 | M17: =SUM('01北:47沖'!M17) -> 1 | R17: =SUM('01北:47沖'!R17) -> 0 | W17: =SUM('01北:47沖'!W17) -> 0 | AB17: =SUM('01北:47沖'!AB17) -> 0 | AG17: =SUM('01北:47沖'!AG17) -> 0 | AL17: =SUM('01北:47沖'!AL17) -> 0 | AQ17: =SUM('01北:47沖'!AQ17) -> 1 | AV17: =SUM('01北:47沖'!AV17) -> 0 | BA17: =SUM('01北:47沖'!BA17) -> 0 | BF17: =SUM('01北:47沖'!BF17) -> 0 | BK17: =SUM('01北:47沖'!BK17) -> 0 | BP17: =SUM('01北:47沖'!BP17) -> 0 | BU17: =SUM('01北:47沖'!BU17) -> 0 | BZ17: =SUM('01北:47沖'!BZ17) -> 0 | CE17: =SUM('01北:47沖'!CE17) -> 0 | CJ17: =SUM('01北:47沖'!CJ17) -> 0 | CO17: =SUM('01北:47沖'!CO17) -> 0 | CT17: =SUM('01北:47沖'!CT17) -> 0 | CY17: =SUM('01北:47沖'!CY17) -> 10 | DD17: =SUM('01北:47沖'!DD17) -> 0 | DI17: =SUM('01北:47沖'!DI17) -> 0 | DN17: =SUM('01北:47沖'!DN17) -> 0 | DS17: =SUM('01北:47沖'!DS17) -> 0 | DX17: =SUM('01北:47沖'!DX17) -> 0 | EC17: =SUM('01北:47沖'!EC17) -> 0 | EH17: =SUM('01北:47沖'!EH17) -> 0 | EM17: =SUM('01北:47沖'!EM17) -> 0 | ER17: =SUM('01北:47沖'!ER17) -> 0 | EW17: =SUM('01北:47沖'!EW17) -> 0 | FB17: =SUM('01北:47沖'!FB17) -> 0
B18: 都道府県議会議員 | M18: =SUM('01北:47沖'!M18) -> 0 | R18: =SUM('01北:47沖'!R18) -> 0 | W18: =SUM('01北:47沖'!W18) -> 0 | AB18: =SUM('01北:47沖'!AB18) -> 0 | AG18: =SUM('01北:47沖'!AG18) -> 0 | AL18: =SUM('01北:47沖'!AL18) -> 0 | AQ18: =SUM('01北:47沖'!AQ18) -> 0 | AV18: =SUM('01北:47沖'!AV18) -> 0 | BA18: =SUM('01北:47沖'!BA18) -> 0 | BF18: =SUM('01北:47沖'!BF18) -> 0 | BK18: =SUM('01北:47沖'!BK18) -> 0 | BP18: =SUM('01北:47沖'!BP18) -> 0 | BU18: =SUM('01北:47沖'!BU18) -> 0 | BZ18: =SUM('01北:47沖'!BZ18) -> 0 | CE18: =SUM('01北:47沖'!CE18) -> 0 | CJ18: =SUM('01北:47沖'!CJ18) -> 0 | CO18: =SUM('01北:47沖'!CO18) -> 0 | CT18: =SUM('01北:47沖'!CT18) -> 0 | CY18: 40 | DD18: 1 | DI18: =SUM('01北:47沖'!DI18) -> 0 | DN18: =SUM('01北:47沖'!DN18) -> 0 | DS18: =SUM('01北:47沖'!DS18) -> 0 | DX18: =SUM('01北:47沖'!DX18) -> 0 | EC18: =SUM('01北:47沖'!EC18) -> 0 | EH18: =SUM('01北:47沖'!EH18) -> 0 | EM18: =SUM('01北:47沖'!EM18) -> 0 | ER18: =SUM('01北:47沖'!ER18) -> 0 | EW18: =SUM('01北:47沖'!EW18) -> 0 | FB18: =SUM('01北:47沖'!FB18) -> 0
B19: 市長 | M19: =SUM('01北:47沖'!M19) -> 10 | R19: =SUM('01北:47沖'!R19) -> 1 | W19: =SUM('01北:47沖'!W19) -> 0 | AB19: =SUM('01北:47沖'!AB19) -> 0 | AG19: =SUM('01北:47沖'!AG19) -> 0 | AL19: =SUM('01北:47沖'!AL19) -> 0 | AQ19: =SUM('01北:47沖'!AQ19) -> 16 | AV19: =SUM('01北:47沖'!AV19) -> 4 | BA19: =SUM('01北:47沖'!BA19) -> 0 | BF19: =SUM('01北:47沖'!BF19) -> 0 | BK19: =SUM('01北:47沖'!BK19) -> 0 | BP19: =SUM('01北:47沖'!BP19) -> 0 | BU19: =SUM('01北:47沖'!BU19) -> 0 | BZ19: =SUM('01北:47沖'!BZ19) -> 0 | CE19: =SUM('01北:47沖'!CE19) -> 0 | CJ19: =SUM('01北:47沖'!CJ19) -> 0 | CO19: =SUM('01北:47沖'!CO19) -> 0 | CT19: =SUM('01北:47沖'!CT19) -> 0 | CY19: =SUM('01北:47沖'!CY19) -> 90 | DD19: =SUM('01北:47沖'!DD19) -> 27 | DI19: =SUM('01北:47沖'!DI19) -> 1 | DN19: =SUM('01北:47沖'!DN19) -> 0 | DS19: =SUM('01北:47沖'!DS19) -> 0 | DX19: =SUM('01北:47沖'!DX19) -> 0 | EC19: =SUM('01北:47沖'!EC19) -> 4 | EH19: =SUM('01北:47沖'!EH19) -> 2 | EM19: =SUM('01北:47沖'!EM19) -> 0 | ER19: =SUM('01北:47沖'!ER19) -> 0 | EW19: =SUM('01北:47沖'!EW19) -> 0 | FB19: =SUM('01北:47沖'!FB19) -> 0
B20: 市議会議員 | M20: =SUM('01北:47沖'!M20) -> 8 | R20: =SUM('01北:47沖'!R20) -> 0 | W20: =SUM('01北:47沖'!W20) -> 3 | AB20: =SUM('01北:47沖'!AB20) -> 1 | AG20: =SUM('01北:47沖'!AG20) -> 0 | AL20: =SUM('01北:47沖'!AL20) -> 0 | AQ20: =SUM('01北:47沖'!AQ20) -> 9 | AV20: =SUM('01北:47沖'!AV20) -> 1 | BA20: =SUM('01北:47沖'!BA20) -> 2 | BF20: =SUM('01北:47沖'!BF20) -> 1 | BK20: =SUM('01北:47沖'!BK20) -> 0 | BP20: =SUM('01北:47沖'!BP20) -> 0 | BU20: =SUM('01北:47沖'!BU20) -> 0 | BZ20: =SUM('01北:47沖'!BZ20) -> 0 | CE20: =SUM('01北:47沖'!CE20) -> 0 | CJ20: =SUM('01北:47沖'!CJ20) -> 0 | CO20: =SUM('01北:47沖'!CO20) -> 0 | CT20: =SUM('01北:47沖'!CT20) -> 0 | CY20: =SUM('01北:47沖'!CY20) -> 305 | DD20: =SUM('01北:47沖'!DD20) -> 12 | DI20: =SUM('01北:47沖'!DI20) -> 9 | DN20: =SUM('01北:47沖'!DN20) -> 1 | DS20: =SUM('01北:47沖'!DS20) -> 0 | DX20: =SUM('01北:47沖'!DX20) -> 0 | EC20: =SUM('01北:47沖'!EC20) -> 4 | EH20: =SUM('01北:47沖'!EH20) -> 0 | EM20: =SUM('01北:47沖'!EM20) -> 0 | ER20: =SUM('01北:47沖'!ER20) -> 0 | EW20: =SUM('01北:47沖'!EW20) -> 0 | FB20: =SUM('01北:47沖'!FB20) -> 0
B21: 特別区長 | M21: =SUM('01北:47沖'!M21) -> 0 | R21: =SUM('01北:47沖'!R21) -> 0 | W21: =SUM('01北:47沖'!W21) -> 0 | AB21: =SUM('01北:47沖'!AB21) -> 0 | AG21: =SUM('01北:47沖'!AG21) -> 0 | AL21: =SUM('01北:47沖'!AL21) -> 0 | AQ21: =SUM('01北:47沖'!AQ21) -> 0 | AV21: =SUM('01北:47沖'!AV21) -> 0 | BA21: =SUM('01北:47沖'!BA21) -> 0 | BF21: =SUM('01北:47沖'!BF21) -> 0 | BK21: =SUM('01北:47沖'!BK21) -> 0 | BP21: =SUM('01北:47沖'!BP21) -> 0 | BU21: =SUM('01北:47沖'!BU21) -> 1 | BZ21: =SUM('01北:47沖'!BZ21) -> 0 | CE21: =SUM('01北:47沖'!CE21) -> 0 | CJ21: =SUM('01北:47沖'!CJ21) -> 0 | CO21: =SUM('01北:47沖'!CO21) -> 0 | CT21: =SUM('01北:47沖'!CT21) -> 0 | CY21: =SUM('01北:47沖'!CY21) -> 11 | DD21: =SUM('01北:47沖'!DD21) -> 0 | DI21: =SUM('01北:47沖'!DI21) -> 0 | DN21: =SUM('01北:47沖'!DN21) -> 0 | DS21: =SUM('01北:47沖'!DS21) -> 0 | DX21: =SUM('01北:47沖'!DX21) -> 3 | EC21: =SUM('01北:47沖'!EC21) -> 1 | EH21: =SUM('01北:47沖'!EH21) -> 0 | EM21: =SUM('01北:47沖'!EM21) -> 0 | ER21: =SUM('01北:47沖'!ER21) -> 0 | EW21: =SUM('01北:47沖'!EW21) -> 0 | FB21: =SUM('01北:47沖'!FB21) -> 0
B22: 特別区議会議員 | M22: =SUM('01北:47沖'!M22) -> 0 | R22: =SUM('01北:47沖'!R22) -> 0 | W22: =SUM('01北:47沖'!W22) -> 0 | AB22: =SUM('01北:47沖'!AB22) -> 0 | AG22: =SUM('01北:47沖'!AG22) -> 0 | AL22: =SUM('01北:47沖'!AL22) -> 0 | AQ22: =SUM('01北:47沖'!AQ22) -> 0 | AV22: =SUM('01北:47沖'!AV22) -> 0 | BA22: =SUM('01北:47沖'!BA22) -> 0 | BF22: =SUM('01北:47沖'!BF22) -> 0 | BK22: =SUM('01北:47沖'!BK22) -> 0 | BP22: =SUM('01北:47沖'!BP22) -> 0 | BU22: =SUM('01北:47沖'!BU22) -> 0 | BZ22: =SUM('01北:47沖'!BZ22) -> 0 | CE22: =SUM('01北:47沖'!CE22) -> 0 | CJ22: =SUM('01北:47沖'!CJ22) -> 0 | CO22: =SUM('01北:47沖'!CO22) -> 0 | CT22: =SUM('01北:47沖'!CT22) -> 0 | CY22: =SUM('01北:47沖'!CY22) -> 21 | DD22: =SUM('01北:47沖'!DD22) -> 0 | DI22: =SUM('01北:47沖'!DI22) -> 0 | DN22: =SUM('01北:47沖'!DN22) -> 0 | DS22: =SUM('01北:47沖'!DS22) -> 0 | DX22: =SUM('01北:47沖'!DX22) -> 6 | EC22: =SUM('01北:47沖'!EC22) -> 1 | EH22: =SUM('01北:47沖'!EH22) -> 0 | EM22: =SUM('01北:47沖'!EM22) -> 0 | ER22: =SUM('01北:47沖'!ER22) -> 0 | EW22: =SUM('01北:47沖'!EW22) -> 0 | FB22: =SUM('01北:47沖'!FB22) -> 0
B23: 町村長 | M23: =SUM('01北:47沖'!M23) -> 16 | R23: =SUM('01北:47沖'!R23) -> 5 | W23: =SUM('01北:47沖'!W23) -> 0 | AB23: =SUM('01北:47沖'!AB23) -> 0 | AG23: =SUM('01北:47沖'!AG23) -> 0 | AL23: =SUM('01北:47沖'!AL23) -> 0 | AQ23: =SUM('01北:47沖'!AQ23) -> 23 | AV23: =SUM('01北:47沖'!AV23) -> 13 | BA23: =SUM('01北:47沖'!BA23) -> 0 | BF23: =SUM('01北:47沖'!BF23) -> 0 | BK23: =SUM('01北:47沖'!BK23) -> 0 | BP23: =SUM('01北:47沖'!BP23) -> 0 | BU23: =SUM('01北:47沖'!BU23) -> 0 | BZ23: =SUM('01北:47沖'!BZ23) -> 0 | CE23: =SUM('01北:47沖'!CE23) -> 0 | CJ23: =SUM('01北:47沖'!CJ23) -> 0 | CO23: =SUM('01北:47沖'!CO23) -> 0 | CT23: =SUM('01北:47沖'!CT23) -> 0 | CY23: =SUM('01北:47沖'!CY23) -> 122 | DD23: =SUM('01北:47沖'!DD23) -> 53 | DI23: =SUM('01北:47沖'!DI23) -> 0 | DN23: =SUM('01北:47沖'!DN23) -> 0 | DS23: =SUM('01北:47沖'!DS23) -> 0 | DX23: =SUM('01北:47沖'!DX23) -> 0 | EC23: =SUM('01北:47沖'!EC23) -> 1 | EH23: =SUM('01北:47沖'!EH23) -> 1 | EM23: =SUM('01北:47沖'!EM23) -> 0 | ER23: =SUM('01北:47沖'!ER23) -> 0 | EW23: =SUM('01北:47沖'!EW23) -> 0 | FB23: =SUM('01北:47沖'!FB23) -> 0
B24: 町村議会議員 | M24: =SUM('01北:47沖'!M24) -> 6 | R24: =SUM('01北:47沖'!R24) -> 1 | W24: =SUM('01北:47沖'!W24) -> 1 | AB24: =SUM('01北:47沖'!AB24) -> 1 | AG24: =SUM('01北:47沖'!AG24) -> 0 | AL24: =SUM('01北:47沖'!AL24) -> 0 | AQ24: =SUM('01北:47沖'!AQ24) -> 21 | AV24: =SUM('01北:47沖'!AV24) -> 4 | BA24: =SUM('01北:47沖'!BA24) -> 6 | BF24: =SUM('01北:47沖'!BF24) -> 3 | BK24: =SUM('01北:47沖'!BK24) -> 0 | BP24: =SUM('01北:47沖'!BP24) -> 0 | BU24: =SUM('01北:47沖'!BU24) -> 0 | BZ24: =SUM('01北:47沖'!BZ24) -> 0 | CE24: =SUM('01北:47沖'!CE24) -> 0 | CJ24: =SUM('01北:47沖'!CJ24) -> 0 | CO24: =SUM('01北:47沖'!CO24) -> 0 | CT24: =SUM('01北:47沖'!CT24) -> 0 | CY24: =SUM('01北:47沖'!CY24) -> 371 | DD24: =SUM('01北:47沖'!DD24) -> 89 | DI24: =SUM('01北:47沖'!DI24) -> 9 | DN24: =SUM('01北:47沖'!DN24) -> 2 | DS24: =SUM('01北:47沖'!DS24) -> 0 | DX24: =SUM('01北:47沖'!DX24) -> 0 | EC24: =SUM('01北:47沖'!EC24) -> 1 | EH24: =SUM('01北:47沖'!EH24) -> 0 | EM24: =SUM('01北:47沖'!EM24) -> 0 | ER24: =SUM('01北:47沖'!ER24) -> 0 | EW24: =SUM('01北:47沖'!EW24) -> 0 | FB24: =SUM('01北:47沖'!FB24) -> 0
B25: 合計 | M25: =SUM(M17:Q24) -> 41 | R25: =SUM(R17:V24) -> 7 | W25: =SUM(W17:AA24) -> 4 | AB25: =SUM(AB17:AF24) -> 2 | AG25: =SUM(AG17:AK24) -> 0 | AL25: =SUM(AL17:AP24) -> 0 | AQ25: =SUM(AQ17:AU24) -> 70 | AV25: =SUM(AV17:AZ24) -> 22 | BA25: =SUM(BA17:BE24) -> 8 | BF25: =SUM(BF17:BJ24) -> 4 | BK25: =SUM(BK17:BO24) -> 0 | BP25: =SUM(BP17:BT24) -> 0 | BU25: =SUM(BU17:BY24) -> 1 | BZ25: =SUM(BZ17:CD24) -> 0 | CE25: =SUM(CE17:CI24) -> 0 | CJ25: =SUM(CJ17:CN24) -> 0 | CO25: =SUM(CO17:CS24) -> 0 | CT25: =SUM(CT17:CX24) -> 0 | CY25: =SUM(CY17:DC24) -> 970 | DD25: =SUM(DD17:DH24) -> 182 | DI25: =SUM(DI17:DM24) -> 19 | DN25: =SUM(DN17:DR24) -> 3 | DS25: =SUM(DS17:DW24) -> 0 | DX25: =SUM(DX17:EB24) -> 9 | EC25: =SUM(EC17:EG24) -> 12 | EH25: =SUM(EH17:EL24) -> 3 | EM25: =SUM(EM17:EQ24) -> 0 | ER25: =SUM(ER17:EV24) -> 0 | EW25: =SUM(EW17:FA24) -> 0 | FB25: =SUM(FB17:FF24) -> 0
B27: 選挙の種類 | M27: 月 別 選 挙 執 行 件 数
M28: ６ 月 | AQ28: ７ 月 | BU28: ８ 月 | CY28: ９ 月 | EC28: １０ 月
M29: 一般選挙 | W29: 補欠等 | AG29: 平日投票 | AL29: 翌日開票 | AQ29: 一般選挙 | BA29: 補欠等 | BK29: 平日投票 | BP29: 翌日開票 | BU29: 一般選挙 | CE29: 補欠等 | CO29: 平日投票 | CT29: 翌日開票 | CY29: 一般選挙 | DI29: 補欠等 | DS29: 平日投票 | DX29: 翌日開票 | EC29: 一般選挙 | EM29: 補欠等 | EW29: 平日投票 | FB29: 翌日開票
R30: うち無投票 | AB30: うち無投票 | AV30: うち無投票 | BF30: うち無投票 | BZ30: うち無投票 | CJ30: うち無投票 | DD30: うち無投票 | DN30: うち無投票 | EH30: うち無投票 | ER30: うち無投票
B31: 都道府県知事 | M31: =SUM('01北:47沖'!M31) -> 1 | R31: =SUM('01北:47沖'!R31) -> 0 | W31: =SUM('01北:47沖'!W31) -> 0 | AB31: =SUM('01北:47沖'!AB31) -> 0 | AG31: =SUM('01北:47沖'!AG31) -> 0 | AL31: =SUM('01北:47沖'!AL31) -> 0 | AQ31: =SUM('01北:47沖'!AQ31) -> 1 | AV31: =SUM('01北:47沖'!AV31) -> 0 | BA31: =SUM('01北:47沖'!BA31) -> 0 | BF31: =SUM('01北:47沖'!BF31) -> 0 | BK31: =SUM('01北:47沖'!BK31) -> 0 | BP31: =SUM('01北:47沖'!BP31) -> 0 | BU31: =SUM('01北:47沖'!BU31) -> 1 | BZ31: =SUM('01北:47沖'!BZ31) -> 0 | CE31: =SUM('01北:47沖'!CE31) -> 0 | CJ31: =SUM('01北:47沖'!CJ31) -> 0 | CO31: =SUM('01北:47沖'!CO31) -> 0 | CT31: =SUM('01北:47沖'!CT31) -> 0 | CY31: =SUM('01北:47沖'!CY31) -> 1 | DD31: =SUM('01北:47沖'!DD31) -> 1 | DI31: =SUM('01北:47沖'!DI31) -> 0 | DN31: =SUM('01北:47沖'!DN31) -> 0 | DS31: =SUM('01北:47沖'!DS31) -> 0 | DX31: =SUM('01北:47沖'!DX31) -> 0 | EC31: =SUM('01北:47沖'!EC31) -> 0 | EH31: =SUM('01北:47沖'!EH31) -> 0 | EM31: =SUM('01北:47沖'!EM31) -> 0 | ER31: =SUM('01北:47沖'!ER31) -> 0 | EW31: =SUM('01北:47沖'!EW31) -> 0 | FB31: =SUM('01北:47沖'!FB31) -> 0
B32: 都道府県議会議員 | M32: =SUM('01北:47沖'!M32) -> 0 | R32: =SUM('01北:47沖'!R32) -> 0 | W32: =SUM('01北:47沖'!W32) -> 0 | AB32: =SUM('01北:47沖'!AB32) -> 0 | AG32: =SUM('01北:47沖'!AG32) -> 0 | AL32: =SUM('01北:47沖'!AL32) -> 0 | AQ32: =SUM('01北:47沖'!AQ32) -> 0 | AV32: =SUM('01北:47沖'!AV32) -> 0 | BA32: =SUM('01北:47沖'!BA32) -> 1 | BF32: =SUM('01北:47沖'!BF32) -> 0 | BK32: =SUM('01北:47沖'!BK32) -> 0 | BP32: =SUM('01北:47沖'!BP32) -> 0 | BU32: =SUM('01北:47沖'!BU32) -> 0 | BZ32: =SUM('01北:47沖'!BZ32) -> 0 | CE32: =SUM('01北:47沖'!CE32) -> 0 | CJ32: =SUM('01北:47沖'!CJ32) -> 0 | CO32: =SUM('01北:47沖'!CO32) -> 0 | CT32: =SUM('01北:47沖'!CT32) -> 0 | CY32: =SUM('01北:47沖'!CY32) -> 1 | DD32: =SUM('01北:47沖'!DD32) -> 0 | DI32: =SUM('01北:47沖'!DI32) -> 0 | DN32: =SUM('01北:47沖'!DN32) -> 0 | DS32: =SUM('01北:47沖'!DS32) -> 0 | DX32: =SUM('01北:47沖'!DX32) -> 0 | EC32: =SUM('01北:47沖'!EC32) -> 0 | EH32: =SUM('01北:47沖'!EH32) -> 0 | EM32: =SUM('01北:47沖'!EM32) -> 0 | ER32: =SUM('01北:47沖'!ER32) -> 0 | EW32: =SUM('01北:47沖'!EW32) -> 0 | FB32: =SUM('01北:47沖'!FB32) -> 0
B33: 市長 | M33: =SUM('01北:47沖'!M33) -> 4 | R33: =SUM('01北:47沖'!R33) -> 1 | W33: =SUM('01北:47沖'!W33) -> 0 | AB33: =SUM('01北:47沖'!AB33) -> 0 | AG33: =SUM('01北:47沖'!AG33) -> 0 | AL33: =SUM('01北:47沖'!AL33) -> 0 | AQ33: =SUM('01北:47沖'!AQ33) -> 10 | AV33: =SUM('01北:47沖'!AV33) -> 3 | BA33: =SUM('01北:47沖'!BA33) -> 0 | BF33: =SUM('01北:47沖'!BF33) -> 0 | BK33: =SUM('01北:47沖'!BK33) -> 0 | BP33: =SUM('01北:47沖'!BP33) -> 0 | BU33: =SUM('01北:47沖'!BU33) -> 8 | BZ33: =SUM('01北:47沖'!BZ33) -> 0 | CE33: =SUM('01北:47沖'!CE33) -> 0 | CJ33: =SUM('01北:47沖'!CJ33) -> 0 | CO33: =SUM('01北:47沖'!CO33) -> 0 | CT33: =SUM('01北:47沖'!CT33) -> 0 | CY33: =SUM('01北:47沖'!CY33) -> 8 | DD33: =SUM('01北:47沖'!DD33) -> 2 | DI33: =SUM('01北:47沖'!DI33) -> 0 | DN33: =SUM('01北:47沖'!DN33) -> 0 | DS33: =SUM('01北:47沖'!DS33) -> 0 | DX33: =SUM('01北:47沖'!DX33) -> 0 | EC33: =SUM('01北:47沖'!EC33) -> 11 | EH33: =SUM('01北:47沖'!EH33) -> 2 | EM33: =SUM('01北:47沖'!EM33) -> 0 | ER33: =SUM('01北:47沖'!ER33) -> 0 | EW33: =SUM('01北:47沖'!EW33) -> 0 | FB33: =SUM('01北:47沖'!FB33) -> 0
B34: 市議会議員 | M34: =SUM('01北:47沖'!M34) -> 4 | R34: =SUM('01北:47沖'!R34) -> 0 | W34: =SUM('01北:47沖'!W34) -> 0 | AB34: =SUM('01北:47沖'!AB34) -> 0 | AG34: =SUM('01北:47沖'!AG34) -> 0 | AL34: =SUM('01北:47沖'!AL34) -> 0 | AQ34: =SUM('01北:47沖'!AQ34) -> 18 | AV34: =SUM('01北:47沖'!AV34) -> 0 | BA34: =SUM('01北:47沖'!BA34) -> 1 | BF34: =SUM('01北:47沖'!BF34) -> 0 | BK34: =SUM('01北:47沖'!BK34) -> 0 | BP34: =SUM('01北:47沖'!BP34) -> 0 | BU34: =SUM('01北:47沖'!BU34) -> 12 | BZ34: =SUM('01北:47沖'!BZ34) -> 0 | CE34: =SUM('01北:47沖'!CE34) -> 1 | CJ34: =SUM('01北:47沖'!CJ34) -> 0 | CO34: =SUM('01北:47沖'!CO34) -> 0 | CT34: =SUM('01北:47沖'!CT34) -> 0 | CY34: =SUM('01北:47沖'!CY34) -> 13 | DD34: =SUM('01北:47沖'!DD34) -> 0 | DI34: =SUM('01北:47沖'!DI34) -> 1 | DN34: =SUM('01北:47沖'!DN34) -> 0 | DS34: =SUM('01北:47沖'!DS34) -> 0 | DX34: =SUM('01北:47沖'!DX34) -> 0 | EC34: =SUM('01北:47沖'!EC34) -> 10 | EH34: =SUM('01北:47沖'!EH34) -> 0 | EM34: =SUM('01北:47沖'!EM34) -> 5 | ER34: =SUM('01北:47沖'!ER34) -> 0 | EW34: =SUM('01北:47沖'!EW34) -> 0 | FB34: =SUM('01北:47沖'!FB34) -> 0
B35: 特別区長 | M35: =SUM('01北:47沖'!M35) -> 0 | R35: =SUM('01北:47沖'!R35) -> 0 | W35: =SUM('01北:47沖'!W35) -> 0 | AB35: =SUM('01北:47沖'!AB35) -> 0 | AG35: =SUM('01北:47沖'!AG35) -> 0 | AL35: =SUM('01北:47沖'!AL35) -> 0 | AQ35: =SUM('01北:47沖'!AQ35) -> 0 | AV35: =SUM('01北:47沖'!AV35) -> 0 | BA35: =SUM('01北:47沖'!BA35) -> 0 | BF35: =SUM('01北:47沖'!BF35) -> 0 | BK35: =SUM('01北:47沖'!BK35) -> 0 | BP35: =SUM('01北:47沖'!BP35) -> 0 | BU35: =SUM('01北:47沖'!BU35) -> 0 | BZ35: =SUM('01北:47沖'!BZ35) -> 0 | CE35: =SUM('01北:47沖'!CE35) -> 0 | CJ35: =SUM('01北:47沖'!CJ35) -> 0 | CO35: =SUM('01北:47沖'!CO35) -> 0 | CT35: =SUM('01北:47沖'!CT35) -> 0 | CY35: =SUM('01北:47沖'!CY35) -> 0 | DD35: =SUM('01北:47沖'!DD35) -> 0 | DI35: =SUM('01北:47沖'!DI35) -> 0 | DN35: =SUM('01北:47沖'!DN35) -> 0 | DS35: =SUM('01北:47沖'!DS35) -> 0 | DX35: =SUM('01北:47沖'!DX35) -> 0 | EC35: =SUM('01北:47沖'!EC35) -> 0 | EH35: =SUM('01北:47沖'!EH35) -> 0 | EM35: =SUM('01北:47沖'!EM35) -> 0 | ER35: =SUM('01北:47沖'!ER35) -> 0 | EW35: =SUM('01北:47沖'!EW35) -> 0 | FB35: =SUM('01北:47沖'!FB35) -> 0
B36: 特別区議会議員 | M36: =SUM('01北:47沖'!M36) -> 0 | R36: =SUM('01北:47沖'!R36) -> 0 | W36: =SUM('01北:47沖'!W36) -> 0 | AB36: =SUM('01北:47沖'!AB36) -> 0 | AG36: =SUM('01北:47沖'!AG36) -> 0 | AL36: =SUM('01北:47沖'!AL36) -> 0 | AQ36: =SUM('01北:47沖'!AQ36) -> 0 | AV36: =SUM('01北:47沖'!AV36) -> 0 | BA36: =SUM('01北:47沖'!BA36) -> 0 | BF36: =SUM('01北:47沖'!BF36) -> 0 | BK36: =SUM('01北:47沖'!BK36) -> 0 | BP36: =SUM('01北:47沖'!BP36) -> 0 | BU36: =SUM('01北:47沖'!BU36) -> 0 | BZ36: =SUM('01北:47沖'!BZ36) -> 0 | CE36: =SUM('01北:47沖'!CE36) -> 0 | CJ36: =SUM('01北:47沖'!CJ36) -> 0 | CO36: =SUM('01北:47沖'!CO36) -> 0 | CT36: =SUM('01北:47沖'!CT36) -> 0 | CY36: =SUM('01北:47沖'!CY36) -> 0 | DD36: =SUM('01北:47沖'!DD36) -> 0 | DI36: =SUM('01北:47沖'!DI36) -> 0 | DN36: =SUM('01北:47沖'!DN36) -> 0 | DS36: =SUM('01北:47沖'!DS36) -> 0 | DX36: =SUM('01北:47沖'!DX36) -> 0 | EC36: =SUM('01北:47沖'!EC36) -> 0 | EH36: =SUM('01北:47沖'!EH36) -> 0 | EM36: =SUM('01北:47沖'!EM36) -> 0 | ER36: =SUM('01北:47沖'!ER36) -> 0 | EW36: =SUM('01北:47沖'!EW36) -> 0 | FB36: =SUM('01北:47沖'!FB36) -> 0
B37: 町村長 | M37: =SUM('01北:47沖'!M37) -> 9 | R37: =SUM('01北:47沖'!R37) -> 2 | W37: =SUM('01北:47沖'!W37) -> 0 | AB37: =SUM('01北:47沖'!AB37) -> 0 | AG37: =SUM('01北:47沖'!AG37) -> 0 | AL37: =SUM('01北:47沖'!AL37) -> 0 | AQ37: =SUM('01北:47沖'!AQ37) -> 5 | AV37: =SUM('01北:47沖'!AV37) -> 1 | BA37: =SUM('01北:47沖'!BA37) -> 0 | BF37: =SUM('01北:47沖'!BF37) -> 0 | BK37: =SUM('01北:47沖'!BK37) -> 0 | BP37: =SUM('01北:47沖'!BP37) -> 0 | BU37: =SUM('01北:47沖'!BU37) -> 24 | BZ37: =SUM('01北:47沖'!BZ37) -> 11 | CE37: =SUM('01北:47沖'!CE37) -> 0 | CJ37: =SUM('01北:47沖'!CJ37) -> 0 | CO37: =SUM('01北:47沖'!CO37) -> 0 | CT37: =SUM('01北:47沖'!CT37) -> 0 | CY37: =SUM('01北:47沖'!CY37) -> 7 | DD37: =SUM('01北:47沖'!DD37) -> 4 | DI37: =SUM('01北:47沖'!DI37) -> 0 | DN37: =SUM('01北:47沖'!DN37) -> 0 | DS37: =SUM('01北:47沖'!DS37) -> 0 | DX37: =SUM('01北:47沖'!DX37) -> 0 | EC37: =SUM('01北:47沖'!EC37) -> 17 | EH37: =SUM('01北:47沖'!EH37) -> 12 | EM37: =SUM('01北:47沖'!EM37) -> 0 | ER37: =SUM('01北:47沖'!ER37) -> 0 | EW37: =SUM('01北:47沖'!EW37) -> 0 | FB37: =SUM('01北:47沖'!FB37) -> 0
B38: 町村議会議員 | M38: =SUM('01北:47沖'!M38) -> 15 | R38: =SUM('01北:47沖'!R38) -> 2 | W38: =SUM('01北:47沖'!W38) -> 2 | AB38: =SUM('01北:47沖'!AB38) -> 1 | AG38: =SUM('01北:47沖'!AG38) -> 0 | AL38: =SUM('01北:47沖'!AL38) -> 0 | AQ38: =SUM('01北:47沖'!AQ38) -> 15 | AV38: =SUM('01北:47沖'!AV38) -> 2 | BA38: =SUM('01北:47沖'!BA38) -> 1 | BF38: =SUM('01北:47沖'!BF38) -> 0 | BK38: =SUM('01北:47沖'!BK38) -> 1 | BP38: =SUM('01北:47沖'!BP38) -> 0 | BU38: =SUM('01北:47沖'!BU38) -> 30 | BZ38: =SUM('01北:47沖'!BZ38) -> 4 | CE38: =SUM('01北:47沖'!CE38) -> 2 | CJ38: =SUM('01北:47沖'!CJ38) -> 0 | CO38: =SUM('01北:47沖'!CO38) -> 0 | CT38: =SUM('01北:47沖'!CT38) -> 0 | CY38: =SUM('01北:47沖'!CY38) -> 25 | DD38: =SUM('01北:47沖'!DD38) -> 4 | DI38: =SUM('01北:47沖'!DI38) -> 1 | DN38: =SUM('01北:47沖'!DN38) -> 0 | DS38: =SUM('01北:47沖'!DS38) -> 0 | DX38: =SUM('01北:47沖'!DX38) -> 0 | EC38: =SUM('01北:47沖'!EC38) -> 16 | EH38: =SUM('01北:47沖'!EH38) -> 5 | EM38: =SUM('01北:47沖'!EM38) -> 4 | ER38: =SUM('01北:47沖'!ER38) -> 1 | EW38: =SUM('01北:47沖'!EW38) -> 2 | FB38: =SUM('01北:47沖'!FB38) -> 0
B39: 合計 | M39: =SUM(M31:Q38) -> 33 | R39: =SUM(R31:V38) -> 5 | W39: =SUM(W31:AA38) -> 2 | AB39: =SUM(AB31:AF38) -> 1 | AG39: =SUM(AG31:AK38) -> 0 | AL39: =SUM(AL31:AP38) -> 0 | AQ39: =SUM(AQ31:AU38) -> 49 | AV39: =SUM(AV31:AZ38) -> 6 | BA39: =SUM(BA31:BE38) -> 3 | BF39: =SUM(BF31:BJ38) -> 0 | BK39: =SUM(BK31:BO38) -> 1 | BP39: =SUM(BP31:BT38) -> 0 | BU39: =SUM(BU31:BY38) -> 75 | BZ39: =SUM(BZ31:CD38) -> 15 | CE39: =SUM(CE31:CI38) -> 3 | CJ39: =SUM(CJ31:CN38) -> 0 | CO39: =SUM(CO31:CS38) -> 0 | CT39: =SUM(CT31:CX38) -> 0 | CY39: =SUM(CY31:DC38) -> 55 | DD39: =SUM(DD31:DH38) -> 11 | DI39: =SUM(DI31:DM38) -> 2 | DN39: =SUM(DN31:DR38) -> 0 | DS39: =SUM(DS31:DW38) -> 0 | DX39: =SUM(DX31:EB38) -> 0 | EC39: =SUM(EC31:EG38) -> 54 | EH39: =SUM(EH31:EL38) -> 19 | EM39: =SUM(EM31:EQ38) -> 9 | ER39: =SUM(ER31:EV38) -> 1 | EW39: =SUM(EW31:FA38) -> 2 | FB39: =SUM(FB31:FF38) -> 0
B41: 選挙の種類 | M41: 月 別 選 挙 執 行 件 数 | DB41: ※市区町村数については、１２月３１日現在で記載すること
M42: １１ 月 | AQ42: １２ 月 | BU42: 計 | DB42: 都道府県内 市区数
M43: 一般選挙 | W43: 補欠等 | AG43: 平日投票 | AL43: 翌日開票 | AQ43: 一般選挙 | BA43: 補欠等 | BK43: 平日投票 | BP43: 翌日開票 | BU43: 一般選挙 | CE43: 補欠等 | CO43: 平日投票 | CT43: 翌日開票
R44: うち無投票 | AB44: うち無投票 | AV44: うち無投票 | BF44: うち無投票 | BZ44: うち無投票 | CJ44: うち無投票
B45: 都道府県知事 | M45: =SUM('01北:47沖'!M45) -> 2 | R45: =SUM('01北:47沖'!R45) -> 1 | W45: =SUM('01北:47沖'!W45) -> 0 | AB45: =SUM('01北:47沖'!AB45) -> 0 | AG45: =SUM('01北:47沖'!AG45) -> 0 | AL45: =SUM('01北:47沖'!AL45) -> 0 | AQ45: =SUM('01北:47沖'!AQ45) -> 0 | AV45: =SUM('01北:47沖'!AV45) -> 0 | BA45: =SUM('01北:47沖'!BA45) -> 0 | BF45: =SUM('01北:47沖'!BF45) -> 0 | BK45: =SUM('01北:47沖'!BK45) -> 0 | BP45: =SUM('01北:47沖'!BP45) -> 0 | BU45: =SUM(M17,AQ17,BU17,CY17,EC17,M31,AQ31,BU31,CY31,EC31,M45,AQ45) -> 18 | BZ45: =SUM(R17,AV17,BZ17,DD17,EH17,R31,AV31,BZ31,DD31,EH31,R45,AV45) -> 2 | CE45: =SUM(W17,BA17,CE17,DI17,EM17,W31,BA31,CE31,DI31,EM31,W45,BA45) -> 0 | CJ45: =SUM(AB17,BF17,CJ17,DN17,ER17,AB31,BF31,CJ31,DN31,ER31,AB45,BF45) -> 0 | CO45: =SUM(AG17,BK17,CO17,DS17,EW17,AG31,BK31,CO31,DS31,EW31,AG45,BK45) -> 0 | CT45: =SUM(AL17,BP17,CT17,DX17,FB17,AL31,BP31,CT31,DX31,FB31,AL45,BP45) -> 0
B46: 都道府県議会議員 | M46: =SUM('01北:47沖'!M46) -> 1 | R46: =SUM('01北:47沖'!R46) -> 1 | W46: =SUM('01北:47沖'!W46) -> 0 | AB46: =SUM('01北:47沖'!AB46) -> 0 | AG46: =SUM('01北:47沖'!AG46) -> 0 | AL46: =SUM('01北:47沖'!AL46) -> 0 | AQ46: =SUM('01北:47沖'!AQ46) -> 0 | AV46: =SUM('01北:47沖'!AV46) -> 0 | BA46: =SUM('01北:47沖'!BA46) -> 0 | BF46: =SUM('01北:47沖'!BF46) -> 0 | BK46: =SUM('01北:47沖'!BK46) -> 0 | BP46: =SUM('01北:47沖'!BP46) -> 0 | BU46: =SUM(M18,AQ18,BU18,CY18,EC18,M32,AQ32,BU32,CY32,EC32,M46,AQ46) -> 42 | BZ46: =SUM(R18,AV18,BZ18,DD18,EH18,R32,AV32,BZ32,DD32,EH32,R46,AV46) -> 2 | CE46: =SUM(W18,BA18,CE18,DI18,EM18,W32,BA32,CE32,DI32,EM32,W46,BA46) -> 1 | CJ46: =SUM(AB18,BF18,CJ18,DN18,ER18,AB32,BF32,CJ32,DN32,ER32,AB46,BF46) -> 0 | CO46: =SUM(AG18,BK18,CO18,DS18,EW18,AG32,BK32,CO32,DS32,EW32,AG46,BK46) -> 0 | CT46: =SUM(AL18,BP18,CT18,DX18,FB18,AL32,BP32,CT32,DX32,FB32,AL46,BP46) -> 0 | DB46: 都道府県内 町数
B47: 市長 | M47: =SUM('01北:47沖'!M47) -> 17 | R47: =SUM('01北:47沖'!R47) -> 4 | W47: =SUM('01北:47沖'!W47) -> 0 | AB47: =SUM('01北:47沖'!AB47) -> 0 | AG47: =SUM('01北:47沖'!AG47) -> 0 | AL47: =SUM('01北:47沖'!AL47) -> 0 | AQ47: =SUM('01北:47沖'!AQ47) -> 8 | AV47: =SUM('01北:47沖'!AV47) -> 1 | BA47: =SUM('01北:47沖'!BA47) -> 0 | BF47: =SUM('01北:47沖'!BF47) -> 0 | BK47: =SUM('01北:47沖'!BK47) -> 0 | BP47: =SUM('01北:47沖'!BP47) -> 0 | BU47: =SUM(M19,AQ19,BU19,CY19,EC19,M33,AQ33,BU33,CY33,EC33,M47,AQ47) -> 186 | BZ47: =SUM(R19,AV19,BZ19,DD19,EH19,R33,AV33,BZ33,DD33,EH33,R47,AV47) -> 47 | CE47: =SUM(W19,BA19,CE19,DI19,EM19,W33,BA33,CE33,DI33,EM33,W47,BA47) -> 1 | CJ47: =SUM(AB19,BF19,CJ19,DN19,ER19,AB33,BF33,CJ33,DN33,ER33,AB47,BF47) -> 0 | CO47: =SUM(AG19,BK19,CO19,DS19,EW19,AG33,BK33,CO33,DS33,EW33,AG47,BK47) -> 0 | CT47: =SUM(AL19,BP19,CT19,DX19,FB19,AL33,BP33,CT33,DX33,FB33,AL47,BP47) -> 0
B48: 市議会議員 | M48: =SUM('01北:47沖'!M48) -> 7 | R48: =SUM('01北:47沖'!R48) -> 1 | W48: =SUM('01北:47沖'!W48) -> 3 | AB48: =SUM('01北:47沖'!AB48) -> 0 | AG48: =SUM('01北:47沖'!AG48) -> 0 | AL48: =SUM('01北:47沖'!AL48) -> 0 | AQ48: =SUM('01北:47沖'!AQ48) -> 4 | AV48: =SUM('01北:47沖'!AV48) -> 1 | BA48: =SUM('01北:47沖'!BA48) -> 3 | BF48: =SUM('01北:47沖'!BF48) -> 0 | BK48: =SUM('01北:47沖'!BK48) -> 0 | BP48: =SUM('01北:47沖'!BP48) -> 0 | BU48: =SUM(M20,AQ20,BU20,CY20,EC20,M34,AQ34,BU34,CY34,EC34,M48,AQ48) -> 394 | BZ48: =SUM(R20,AV20,BZ20,DD20,EH20,R34,AV34,BZ34,DD34,EH34,R48,AV48) -> 15 | CE48: =SUM(W20,BA20,CE20,DI20,EM20,W34,BA34,CE34,DI34,EM34,W48,BA48) -> 28 | CJ48: =SUM(AB20,BF20,CJ20,DN20,ER20,AB34,BF34,CJ34,DN34,ER34,AB48,BF48) -> 3 | CO48: =SUM(AG20,BK20,CO20,DS20,EW20,AG34,BK34,CO34,DS34,EW34,AG48,BK48) -> 0 | CT48: =SUM(AL20,BP20,CT20,DX20,FB20,AL34,BP34,CT34,DX34,FB34,AL48,BP48) -> 0
B49: 特別区長 | M49: =SUM('01北:47沖'!M49) -> 0 | R49: =SUM('01北:47沖'!R49) -> 0 | W49: =SUM('01北:47沖'!W49) -> 0 | AB49: =SUM('01北:47沖'!AB49) -> 0 | AG49: =SUM('01北:47沖'!AG49) -> 0 | AL49: =SUM('01北:47沖'!AL49) -> 0 | AQ49: =SUM('01北:47沖'!AQ49) -> 0 | AV49: =SUM('01北:47沖'!AV49) -> 0 | BA49: =SUM('01北:47沖'!BA49) -> 0 | BF49: =SUM('01北:47沖'!BF49) -> 0 | BK49: =SUM('01北:47沖'!BK49) -> 0 | BP49: =SUM('01北:47沖'!BP49) -> 0 | BU49: =SUM(M21,AQ21,BU21,CY21,EC21,M35,AQ35,BU35,CY35,EC35,M49,AQ49) -> 13 | BZ49: =SUM(R21,AV21,BZ21,DD21,EH21,R35,AV35,BZ35,DD35,EH35,R49,AV49) -> 0 | CE49: =SUM(W21,BA21,CE21,DI21,EM21,W35,BA35,CE35,DI35,EM35,W49,BA49) -> 0 | CJ49: =SUM(AB21,BF21,CJ21,DN21,ER21,AB35,BF35,CJ35,DN35,ER35,AB49,BF49) -> 0 | CO49: =SUM(AG21,BK21,CO21,DS21,EW21,AG35,BK35,CO35,DS35,EW35,AG49,BK49) -> 0 | CT49: =SUM(AL21,BP21,CT21,DX21,FB21,AL35,BP35,CT35,DX35,FB35,AL49,BP49) -> 3 | DB49: 都道府県内 村数
B50: 特別区議会議員 | M50: =SUM('01北:47沖'!M50) -> 0 | R50: =SUM('01北:47沖'!R50) -> 0 | W50: =SUM('01北:47沖'!W50) -> 0 | AB50: =SUM('01北:47沖'!AB50) -> 0 | AG50: =SUM('01北:47沖'!AG50) -> 0 | AL50: =SUM('01北:47沖'!AL50) -> 0 | AQ50: =SUM('01北:47沖'!AQ50) -> 0 | AV50: =SUM('01北:47沖'!AV50) -> 0 | BA50: =SUM('01北:47沖'!BA50) -> 0 | BF50: =SUM('01北:47沖'!BF50) -> 0 | BK50: =SUM('01北:47沖'!BK50) -> 0 | BP50: =SUM('01北:47沖'!BP50) -> 0 | BU50: =SUM(M22,AQ22,BU22,CY22,EC22,M36,AQ36,BU36,CY36,EC36,M50,AQ50) -> 22 | BZ50: =SUM(R22,AV22,BZ22,DD22,EH22,R36,AV36,BZ36,DD36,EH36,R50,AV50) -> 0 | CE50: =SUM(W22,BA22,CE22,DI22,EM22,W36,BA36,CE36,DI36,EM36,W50,BA50) -> 0 | CJ50: =SUM(AB22,BF22,CJ22,DN22,ER22,AB36,BF36,CJ36,DN36,ER36,AB50,BF50) -> 0 | CO50: =SUM(AG22,BK22,CO22,DS22,EW22,AG36,BK36,CO36,DS36,EW36,AG50,BK50) -> 0 | CT50: =SUM(AL22,BP22,CT22,DX22,FB22,AL36,BP36,CT36,DX36,FB36,AL50,BP50) -> 6
...

Sheet 01北
A1: 第８号様式
A4: 地 方 公 共 団 体 の 議 会 の 議 員 及 び 長 の 選 挙 執 行 件 数 等 調
DN7: 都道府県名 北海道
DN10: 平成２７年１月１日～１２月３１日
B13: 選挙の種類 | M13: 月 別 選 挙 執 行 件 数
M14: １ 月 | AQ14: ２ 月 | BU14: ３ 月 | CY14: ４ 月 | EC14: ５ 月
M15: 一般選挙 | W15: 補欠等 | AG15: 平日投票 | AL15: 翌日開票 | AQ15: 一般選挙 | BA15: 補欠等 | BK15: 平日投票 | BP15: 翌日開票 | BU15: 一般選挙 | CE15: 補欠等 | CO15: 平日投票 | CT15: 翌日開票 | CY15: 一般選挙 | DI15: 補欠等 | DS15: 平日投票 | DX15: 翌日開票 | EC15: 一般選挙 | EM15: 補欠等 | EW15: 平日投票 | FB15: 翌日開票
R16: うち無投票 | AB16: うち無投票 | AV16: うち無投票 | BF16: うち無投票 | BZ16: うち無投票 | CJ16: うち無投票 | DD16: うち無投票 | DN16: うち無投票 | EH16: うち無投票 | ER16: うち無投票
B17: 都道府県知事 | CY17: 1
B18: 都道府県議会議員 | CY18: 1
B19: 市長 | M19: 0 | R19: 0 | W19: 0 | AB19: 0 | AG19: 0 | AL19: 0 | AQ19: 0 | AV19: 0 | BA19: 0 | BF19: 0 | BK19: 0 | BP19: 0 | BU19: 0 | BZ19: 0 | CE19: 0 | CJ19: 0 | CO19: 0 | CT19: 0 | CY19: 14 | DD19: 8 | DI19: 0 | DN19: 0 | DS19: 0 | DX19: 0 | EC19: 1 | EH19: 1 | EM19: 0 | ER19: 0 | EW19: 0 | FB19: 0
B20: 市議会議員 | M20: 0 | R20: 0 | W20: 0 | AB20: 0 | AG20: 0 | AL20: 0 | AQ20: 0 | AV20: 0 | BA20: 0 | BF20: 0 | BK20: 0 | BP20: 0 | BU20: 0 | BZ20: 0 | CE20: 0 | CJ20: 0 | CO20: 0 | CT20: 0 | CY20: 27 | DD20: 5 | DI20: 1 | DN20: 0 | DS20: 0 | DX20: 0 | EC20: 1 | EH20: 0 | EM20: 0 | ER20: 0 | EW20: 0 | FB20: 0
B21: 特別区長
B22: 特別区議会議員
B23: 町村長 | M23: 2 | R23: 0 | W23: 0 | AB23: 0 | AG23: 0 | AL23: 0 | AQ23: 4 | AV23: 3 | BA23: 0 | BF23: 0 | BK23: 0 | BP23: 0 | BU23: 0 | BZ23: 0 | CE23: 0 | CJ23: 0 | CO23: 0 | CT23: 0 | CY23: 36 | DD23: 18 | DI23: 0 | DN23: 0 | DS23: 0 | DX23: 0 | EC23: 0 | EH23: 0 | EM23: 0 | ER23: 0 | EW23: 0 | FB23: 0
B24: 町村議会議員 | M24: 1 | R24: 0 | W24: 0 | AB24: 0 | AG24: 0 | AL24: 0 | AQ24: 4 | AV24: 1 | BA24: 1 | BF24: 1 | BK24: 0 | BP24: 0 | BU24: 0 | BZ24: 0 | CE24: 0 | CJ24: 0 | CO24: 0 | CT24: 0 | CY24: 100 | DD24: 32 | DI24: 0 | DN24: 0 | DS24: 0 | DX24: 0 | EC24: 0 | EH24: 0 | EM24: 0 | ER24: 0 | EW24: 0 | FB24: 0
B25: 合計 | M25: =SUM(M17:Q24) -> 3 | R25: =SUM(R17:V24) -> 0 | W25: =SUM(W17:AA24) -> 0 | AB25: =SUM(AB17:AF24) -> 0 | AG25: =SUM(AG17:AK24) -> 0 | AL25: =SUM(AL17:AP24) -> 0 | AQ25: =SUM(AQ17:AU24) -> 8 | AV25: =SUM(AV17:AZ24) -> 4 | BA25: =SUM(BA17:BE24) -> 1 | BF25: =SUM(BF17:BJ24) -> 1 | BK25: =SUM(BK17:BO24) -> 0 | BP25: =SUM(BP17:BT24) -> 0 | BU25: =SUM(BU17:BY24) -> 0 | BZ25: =SUM(BZ17:CD24) -> 0 | CE25: =SUM(CE17:CI24) -> 0 | CJ25: =SUM(CJ17:CN24) -> 0 | CO25: =SUM(CO17:CS24) -> 0 | CT25: =SUM(CT17:CX24) -> 0 | CY25: =SUM(CY17:DC24) -> 179 | DD25: =SUM(DD17:DH24) -> 63 | DI25: =SUM(DI17:DM24) -> 1 | DN25: =SUM(DN17:DR24) -> 0 | DS25: =SUM(DS17:DW24) -> 0 | DX25: =SUM(DX17:EB24) -> 0 | EC25: =SUM(EC17:EG24) -> 2 | EH25: =SUM(EH17:EL24) -> 1 | EM25: =SUM(EM17:EQ24) -> 0 | ER25: =SUM(ER17:EV24) -> 0 | EW25: =SUM(EW17:FA24) -> 0 | FB25: =SUM(FB17:FF24) -> 0
B27: 選挙の種類 | M27: 月 別 選 挙 執 行 件 数
M28: ６ 月 | AQ28: ７ 月 | BU28: ８ 月 | CY28: ９ 月 | EC28: １０ 月
M29: 一般選挙 | W29: 補欠等 | AG29: 平日投票 | AL29: 翌日開票 | AQ29: 一般選挙 | BA29: 補欠等 | BK29: 平日投票 | BP29: 翌日開票 | BU29: 一般選挙 | CE29: 補欠等 | CO29: 平日投票 | CT29: 翌日開票 | CY29: 一般選挙 | DI29: 補欠等 | DS29: 平日投票 | DX29: 翌日開票 | EC29: 一般選挙 | EM29: 補欠等 | EW29: 平日投票 | FB29: 翌日開票
R30: うち無投票 | AB30: うち無投票 | AV30: うち無投票 | BF30: うち無投票 | BZ30: うち無投票 | CJ30: うち無投票 | DD30: うち無投票 | DN30: うち無投票 | EH30: うち無投票 | ER30: うち無投票
B31: 都道府県知事
B32: 都道府県議会議員
B33: 市長 | M33: 1 | R33: 1 | W33: 0 | AB33: 0 | AG33: 0 | AL33: 0 | AQ33: 0 | AV33: 0 | BA33: 0 | BF33: 0 | BK33: 0 | BP33: 0 | BU33: 0 | BZ33: 0 | CE33: 0 | CJ33: 0 | CO33: 0 | CT33: 0 | CY33: 1 | DD33: 0 | DI33: 0 | DN33: 0 | DS33: 0 | DX33: 0 | EC33: 0 | EH33: 0 | EM33: 0 | ER33: 0 | EW33: 0 | FB33: 0
B34: 市議会議員 | M34: 2 | R34: 0 | W34: 0 | AB34: 0 | AG34: 0 | AL34: 0 | AQ34: 0 | AV34: 0 | BA34: 0 | BF34: 0 | BK34: 0 | BP34: 0 | BU34: 0 | BZ34: 0 | CE34: 0 | CJ34: 0 | CO34: 0 | CT34: 0 | CY34: 0 | DD34: 0 | DI34: 1 | DN34: 0 | DS34: 0 | DX34: 0 | EC34: 0 | EH34: 0 | EM34: 0 | ER34: 0 | EW34: 0 | FB34: 0
B35: 特別区長
B36: 特別区議会議員
B37: 町村長 | M37: 0 | R37: 0 | W37: 0 | AB37: 0 | AG37: 0 | AL37: 0 | AQ37: 0 | AV37: 0 | BA37: 0 | BF37: 0 | BK37: 0 | BP37: 0 | BU37: 2 | BZ37: 1 | CE37: 0 | CJ37: 0 | CO37: 0 | CT37: 0 | CY37: 1 | DD37: 1 | DI37: 0 | DN37: 0 | DS37: 0 | DX37: 0 | EC37: 4 | EH37: 4 | EM37: 0 | ER37: 0 | EW37: 0 | FB37: 0
B38: 町村議会議員 | M38: 1 | R38: 0 | W38: 0 | AB38: 0 | AG38: 0 | AL38: 0 | AQ38: 1 | AV38: 0 | BA38: 0 | BF38: 0 | BK38: 0 | BP38: 0 | BU38: 4 | BZ38: 0 | CE38: 0 | CJ38: 0 | CO38: 0 | CT38: 0 | CY38: 1 | DD38: 1 | DI38: 0 | DN38: 0 | DS38: 0 | DX38: 0 | EC38: 4 | EH38: 0 | EM38: 0 | ER38: 0 | EW38: 2 | FB38: 0
B39: 合計 | M39: =SUM(M31:Q38) -> 4 | R39: =SUM(R31:V38) -> 1 | W39: =SUM(W31:AA38) -> 0 | AB39: =SUM(AB31:AF38) -> 0 | AG39: =SUM(AG31:AK38) -> 0 | AL39: =SUM(AL31:AP38) -> 0 | AQ39: =SUM(AQ31:AU38) -> 1 | AV39: =SUM(AV31:AZ38) -> 0 | BA39: =SUM(BA31:BE38) -> 0 | BF39: =SUM(BF31:BJ38) -> 0 | BK39: =SUM(BK31:BO38) -> 0 | BP39: =SUM(BP31:BT38) -> 0 | BU39: =SUM(BU31:BY38) -> 6 | BZ39: =SUM(BZ31:CD38) -> 1 | CE39: =SUM(CE31:CI38) -> 0 | CJ39: =SUM(CJ31:CN38) -> 0 | CO39: =SUM(CO31:CS38) -> 0 | CT39: =SUM(CT31:CX38) -> 0 | CY39: =SUM(CY31:DC38) -> 3 | DD39: =SUM(DD31:DH38) -> 2 | DI39: =SUM(DI31:DM38) -> 1 | DN39: =SUM(DN31:DR38) -> 0 | DS39: =SUM(DS31:DW38) -> 0 | DX39: =SUM(DX31:EB38) -> 0 | EC39: =SUM(EC31:EG38) -> 8 | EH39: =SUM(EH31:EL38) -> 4 | EM39: =SUM(EM31:EQ38) -> 0 | ER39: =SUM(ER31:EV38) -> 0 | EW39: =SUM(EW31:FA38) -> 2 | FB39: =SUM(FB31:FF38) -> 0
B41: 選挙の種類 | M41: 月 別 選 挙 執 行 件 数 | DB41: ※市区町村数については、１２月３１日現在で記載すること
M42: １１ 月 | AQ42: １２ 月 | BU42: 計 | DB42: 都道府県内 市区数 35
M43: 一般選挙 | W43: 補欠等 | AG43: 平日投票 | AL43: 翌日開票 | AQ43: 一般選挙 | BA43: 補欠等 | BK43: 平日投票 | BP43: 翌日開票 | BU43: 一般選挙 | CE43: 補欠等 | CO43: 平日投票 | CT43: 翌日開票
R44: うち無投票 | AB44: うち無投票 | AV44: うち無投票 | BF44: うち無投票 | BZ44: うち無投票 | CJ44: うち無投票
