Workbook
Name _: #REF!
Name ＿月数４: '[1]（４）町村議会'!$G$1:$G$164,'[1]（４）町村議会'!$N$1:$N$164,'[1]（４）町村議会'!$U$1:$U$164,'[1]（４）町村議会'!$AB$1:$AB$164,'[1]（４）町村議会'!$AI$1:$AI$164
Name 愛知４: '[1]（４）町村議会'!#REF!
Name 愛媛: #REF!
Name 愛媛４: '[1]（４）町村議会'!#REF!
Name 茨城４: '[1]（４）町村議会'!#REF!
Name 岡山４: '[1]（４）町村議会'!#REF!
Name 沖縄４: '[1]（４）町村議会'!#REF!
Name 岩手４: '[1]（４）町村議会'!#REF!
Name 岐阜４: '[1]（４）町村議会'!#REF!
Name 宮崎４: '[1]（４）町村議会'!#REF!
Name 宮城４: '[1]（４）町村議会'!#REF!
Name 京都３: '[1]（３）町村長'!#REF!
Name 京都４: '[1]（４）町村議会'!#REF!
Name 熊本４: '[1]（４）町村議会'!#REF!
Name 群馬４: '[1]（４）町村議会'!#REF!
Name 月数４: '[1]（４）町村議会'!#REF!,'[1]（４）町村議会'!#REF!,'[1]（４）町村議会'!#REF!,'[1]（４）町村議会'!#REF!,'[1]（４）町村議会'!#REF!
Name 広島４: '[1]（４）町村議会'!#REF!
Name 香川４: '[1]（４）町村議会'!#REF!
Name 高知４: '[1]（４）町村議会'!#REF!
Name 佐賀４: '[1]（４）町村議会'!#REF!
Name 埼玉４: '[1]（４）町村議会'!#REF!
Name 三重４: '[1]（４）町村議会'!#REF!
Name 山形４: '[1]（４）町村議会'!#REF!
Name 山口４: '[1]（４）町村議会'!#REF!
Name 山梨３: '[1]（３）町村長'!#REF!
Name 山梨４: '[1]（４）町村議会'!#REF!
Name 滋賀４: '[1]（４）町村議会'!#REF!
Name 鹿児島４: '[1]（４）町村議会'!#REF!
Name 秋田４: '[1]（４）町村議会'!#REF!
Name 新潟４: '[1]（４）町村議会'!#REF!
Name 神奈川４: '[1]（４）町村議会'!#REF!
Name 青森４: '[1]（４）町村議会'!#REF!
Name 静岡４: '[1]（４）町村議会'!#REF!
Name 石川４: '[1]（４）町村議会'!#REF!
Name 千葉４: '[1]（４）町村議会'!#REF!
Name 大阪４: '[1]（４）町村議会'!#REF!
Name 大分４: '[1]（４）町村議会'!#REF!
Name 長崎４: '[1]（４）町村議会'!#REF!
Name 長野４: '[1]（４）町村議会'!#REF!
Name 鳥取４: '[1]（４）町村議会'!#REF!
Name 島根４: '[1]（４）町村議会'!#REF!
Name 東京４: '[1]（４）町村議会'!#REF!
Name 徳島４: '[1]（４）町村議会'!#REF!
Name 栃木４: '[1]（４）町村議会'!#REF!
Name 奈良４: '[1]（４）町村議会'!#REF!
Name 富山４: '[1]（４）町村議会'!#REF!
Name 福井４: '[1]（４）町村議会'!#REF!
Name 福岡４: '[1]（４）町村議会'!#REF!
Name 福島４: '[1]（４）町村議会'!#REF!
Name 兵庫: #REF!
Name 兵庫４: '[1]（４）町村議会'!#REF!
Name 北海道４: '[1]（４）町村議会'!#REF!
Name 北海道５: #REF!,#REF!,#REF!,#REF!,#REF!
Name 和歌山４: '[1]（４）町村議会'!#REF!

Sheet 連（知事・政令市）
A1: ２ 地方公共団体の長の連続就任回数調
A3: (1)知事及び政令指定都市長の連続就任回数調
A4: （平成２８年１２月３１日現在）
A5: 区分 | E5: 知事名 | G5: 任期満了年月日 | J5: 就任回数 | L5: 指定都市名 | O5: 市長名 | Q5: 任期満了年月日 | T5: 就任回数 | V5: 連続就任回数
A6: 都道府県
B7: 北海道 | E7: 高橋はるみ | G7: 31 | H7: 4 | I7: 22 | J7: 4 | L7: 札幌市 | O7: 秋元克広 | Q7: 31 | R7: 5 | S7: 1 | T7: 1
B8: 青森県 | E8: 三村申吾 | G8: 31 | H8: 6 | I8: 28 | J8: 4 | V8: 都道府県知事
B9: 岩手県 | E9: 達増拓也 | G9: 31 | H9: 9 | I9: 10 | J9: 3
B10: 宮城県 | E10: 村井嘉浩 | G10: 29 | H10: 11 | I10: 20 | J10: 3 | L10: 仙台市 | O10: 奥山恵美子 | Q10: 29 | R10: 8 | S10: 21 | T10: 2 | V10: １回 | W10: =COUNTIF(J7:J58,"1") -> 9
B11: 秋田県 | E11: 佐竹敬久 | G11: 29 | H11: 4 | I11: 19 | J11: 2
B12: 山形県 | E12: 吉村美栄子 | G12: 29 | H12: 2 | I12: 13 | J12: 2 | V12: ２回 | W12: =COUNTIF(J7:J58,"2") -> 16
B13: 福島県 | E13: 内堀雅雄 | G13: 30 | H13: 11 | I13: 11 | J13: 1
B14: 茨城県 | E14: 橋本 昌 | G14: 29 | H14: 9 | I14: 25 | J14: 6 | V14: ３回 | W14: =COUNTIF(J7:J58,"3") -> 10
B15: 栃木県 | E15: 福田富一 | G15: 32 | H15: 12 | I15: 8 | J15: 4
B16: 群馬県 | E16: 大澤正明 | G16: 31 | H16: 7 | I16: 27 | J16: 3 | V16: ４回 | W16: =COUNTIF(J7:J58,"4") -> 10
B17: 埼玉県 | E17: 上田清司 | G17: 31 | H17: 8 | I17: 30 | J17: 4 | L17: さいたま市 | O17: 清水勇人 | Q17: 29 | R17: 5 | S17: 26 | T17: 2
B18: 千葉県 | E18: 森田健作 | G18: 29 | H18: 4 | I18: 4 | J18: 2 | L18: 千葉市 | O18: 熊谷俊人 | Q18: 29 | R18: 6 | S18: 13 | T18: 2 | V18: ５回 | W18: =COUNTIF(J7:J58,"5") -> 0
B19: 東京都 | E19: 小池百合子 | G19: 32 | H19: 7 | I19: 30 | J19: 1
G20: 31 | H20: 4 | I20: 22 | J20: 2 | L20: 横浜市 | O20: 林 文子 | Q20: 29 | R20: 8 | S20: 29 | T20: 2 | V20: ６回 | W20: =COUNTIF(J7:J58,"6") -> 2
B21: 神奈川県 | E21: 黒岩祐治 | L21: 川崎市 | O21: 福田紀彦 | Q21: 29 | R21: 11 | S21: 18 | T21: 1
L22: 相模原市 | O22: 加山俊夫 | Q22: 31 | R22: 4 | S22: 21 | T22: 3
B23: 新潟県 | E23: 米山隆一 | G23: 32 | H23: 10 | I23: 24 | J23: 1 | L23: 新潟市 | O23: 篠田 昭 | Q23: 30 | R23: 11 | S23: 17 | T23: 3
B24: 富山県 | E24: 石井隆一 | G24: 32 | H24: 11 | I24: 8 | J24: 4
B25: 石川県 | E25: 谷本正憲 | G25: 30 | H25: 3 | I25: 26 | J25: 6 | V25: 指定都市市長
B26: 福井県 | E26: 西川一誠 | G26: 31 | H26: 4 | I26: 22 | J26: 4
B27: 山梨県 | E27: 後藤斎 | G27: 31 | H27: 2 | I27: 16 | J27: 1 | V27: １回 | W27: =COUNTIF(T7:T58,"1") -> 6
B28: 長野県 | E28: 阿部守一 | G28: 30 | H28: 8 | I28: 31 | J28: 2
B29: 岐阜県 | E29: 古田 肇 | G29: 29 | H29: 2 | I29: 5 | J29: 3 | V29: ２回 | W29: =COUNTIF(T7:T58,"2") -> 8
B30: 静岡県 | E30: 川勝平太 | G30: 29 | H30: 7 | I30: 4 | J30: 2 | L30: 静岡市 | O30: 田辺信宏 | Q30: 31 | R30: 4 | S30: 12 | T30: 2
L31: 浜松市 | O31: 鈴木康友 | Q31: 31 | R31: 4 | S31: 30 | T31: 3 | V31: ３回 | W31: =COUNTIF(T7:T58,"3") -> 6
B32: 愛知県 | E32: 大村秀章 | G32: 31 | H32: 2 | I32: 14 | J32: 2 | L32: 名古屋市 | O32: 河村たかし | Q32: 29 | R32: 4 | S32: 27 | T32: 3
B33: 三重県 | E33: 鈴木英敬 | G33: 31 | H33: 4 | I33: 20 | J33: 2 | V33: ４回 | W33: =COUNTIF(T7:T58,"4") -> 0
B34: 滋賀県 | E34: 三日月大造 | G34: 30 | H34: 7 | I34: 19 | J34: 1
B35: 京都府 | E35: 山田啓二 | G35: 30 | H35: 4 | I35: 15 | J35: 4 | L35: 京都市 | O35: 門川大作 | Q35: 32 | R35: 2 | S35: 24 | T35: 3 | V35: ５回 | W35: =COUNTIF(T7:T58,"5") -> 0
B36: 大阪府 | E36: 松井一郎 | G36: 31 | H36: 11 | I36: 26 | J36: 2 | L36: 大阪市 | O36: 吉村 洋文 | Q36: 31 | R36: 12 | S36: 18 | T36: 1
L37: 堺市 | O37: 竹山修身 | Q37: 29 | R37: 10 | S37: 7 | T37: 2 | V37: ６回 | W37: =COUNTIF(T7:T58,"6") -> 0
B38: 兵庫県 | E38: 井戸敏三 | G38: 29 | H38: 7 | I38: 31 | J38: 4 | L38: 神戸市 | O38: 久元喜造 | Q38: 29 | R38: 11 | S38: 19 | T38: 1
B39: 奈良県 | E39: 荒井正吾 | G39: 31 | H39: 5 | I39: 2 | J39: 3
B40: 和歌山県 | E40: 仁坂吉伸 | G40: 30 | H40: 12 | I40: 16 | J40: 3
B41: 鳥取県 | E41: 平井伸治 | G41: 31 | H41: 4 | I41: 12 | J41: 3
...

Sheet 連（市区）
B1: （２）市区長の連続就任回数調 （平成２２年１２月３１日現在） | M1: （平成２８年１２月３１日現在）
B2: 区 分 | C2: 団体数 | D2: １回 | E2: ２回 | F2: ３回 | G2: ４回 | H2: ５回 | I2: ６回 | J2: ７回 | K2: ８回 | L2: ９回 | M2: １０回 | N2: 備 考
B3: 北海道 | C3: 35 | D3: 6 | E3: 15 | F3: 11 | G3: 1 | H3: 2 | I3: - | J3: - | K3: - | L3: - | M3: -
B4: 青森県 | C4: 10 | D4: 4 | E4: 2 | F4: 4 | G4: - | H4: - | I4: - | J4: - | K4: - | L4: - | M4: -
B5: 岩手県 | C5: 14 | D5: 3 | E5: 6 | F5: 4 | G5: 1 | H5: - | I5: - | J5: - | K5: - | L5: - | M5: -
B6: 宮城県 | C6: 14 | D6: 4 | E6: 3 | F6: 6 | G6: 1 | H6: - | I6: - | J6: - | K6: - | L6: - | M6: -
B7: 秋田県 | C7: 13 | D7: 2 | E7: 6 | F7: 5 | G7: - | H7: - | I7: - | J7: - | K7: - | L7: - | M7: -
B8: 山形県 | C8: 13 | D8: 5 | E8: 3 | F8: 4 | G8: - | H8: 1 | I8: - | J8: - | K8: - | L8: - | M8: -
B9: 福島県 | C9: 13 | D9: 4 | E9: 4 | F9: 4 | G9: 1 | H9: - | I9: - | J9: - | K9: - | L9: - | M9: -
B10: 茨城県 | C10: 32 | D10: 14 | E10: 8 | F10: 7 | G10: 3 | H10: - | I10: - | J10: - | K10: - | L10: - | M10: -
B11: 栃木県 | C11: 14 | D11: 3 | E11: 4 | F11: 5 | G11: 1 | H11: 1 | I11: - | J11: - | K11: - | L11: - | M11: -
B12: 群馬県 | C12: 12 | D12: 3 | E12: 4 | F12: 5 | G12: - | H12: - | I12: - | J12: - | K12: - | L12: - | M12: -
B13: 埼玉県 | C13: 40 | D13: 10 | E13: 16 | F13: 12 | G13: 1 | H13: 1 | I13: - | J13: - | K13: - | L13: - | M13: -
B14: 千葉県 | C14: 37 | D14: 8 | E14: 13 | F14: 11 | G14: 3 | H14: 2 | I14: - | J14: - | K14: - | L14: - | M14: -
B15: 東京都 | C15: 49 | D15: 14 | E15: 11 | F15: 12 | G15: 9 | H15: 2 | I15: - | J15: - | K15: 1 | L15: - | M15: -
B16: 神奈川県 | C16: 19 | D16: 2 | E16: 7 | F16: 8 | G16: 2 | H16: - | I16: - | J16: - | K16: - | L16: - | M16: -
B17: 新潟県 | C17: 20 | D17: 7 | E17: 6 | F17: 4 | G17: 2 | H17: - | I17: 1 | J17: - | K17: - | L17: - | M17: -
B18: 富山県 | C18: 10 | D18: 2 | E18: 4 | F18: 4 | G18: - | H18: - | I18: - | J18: - | K18: - | L18: - | M18: -
B19: 石川県 | C19: 11 | D19: 2 | E19: 3 | F19: 5 | G19: 1 | H19: - | I19: - | J19: - | K19: - | L19: - | M19: -
B20: 福井県 | C20: 9 | D20: 1 | E20: - | F20: 6 | G20: 1 | H20: 1 | I20: - | J20: - | K20: - | L20: - | M20: -
B21: 山梨県 | C21: 13 | D21: 7 | E21: 1 | F21: 5 | G21: - | H21: - | I21: - | J21: - | K21: - | L21: - | M21: -
B22: 長野県 | C22: 19 | D22: 3 | E22: 6 | F22: 6 | G22: 4 | H22: - | I22: - | J22: - | K22: - | L22: - | M22: -
B23: 岐阜県 | C23: 21 | D23: 6 | E23: 7 | F23: 5 | G23: 2 | H23: - | I23: - | J23: - | K23: - | L23: - | M23: - | N23: 市長不在（美濃加茂市）
B24: 静岡県 | C24: 23 | D24: 8 | E24: 7 | F24: 8 | G24: - | H24: - | I24: - | J24: - | K24: - | L24: - | M24: -
B25: 愛知県 | C25: 38 | D25: 12 | E25: 11 | F25: 13 | G25: 2 | H25: - | I25: - | J25: - | K25: - | L25: - | M25: -
B26: 三重県 | C26: 14 | D26: 3 | E26: 7 | F26: 2 | G26: 2 | H26: - | I26: - | J26: - | K26: - | L26: - | M26: -
B27: 滋賀県 | C27: 13 | D27: 5 | E27: 5 | F27: 2 | G27: 1 | H27: - | I27: - | J27: - | K27: - | L27: - | M27: -
B28: 京都府 | C28: 15 | D28: 6 | E28: 4 | F28: 5 | G28: - | H28: - | I28: - | J28: - | K28: - | L28: - | M28: -
B29: 大阪府 | C29: 33 | D29: 16 | E29: 8 | F29: 5 | G29: 3 | H29: 1 | I29: - | J29: - | K29: - | L29: - | M29: -
B30: 兵庫県 | C30: 29 | D30: 9 | E30: 7 | F30: 9 | G30: 2 | H30: 2 | I30: - | J30: - | K30: - | L30: - | M30: -
B31: 奈良県 | C31: 12 | D31: 3 | E31: 5 | F31: 2 | G31: 2 | H31: - | I31: - | J31: - | K31: - | L31: - | M31: -
B32: 和歌山県 | C32: 9 | D32: 2 | E32: 1 | F32: 4 | G32: - | H32: - | I32: 1 | J32: 1 | K32: - | L32: - | M32: -
B33: 鳥取県 | C33: 4 | D33: 1 | E33: 1 | F33: 1 | G33: 1 | H33: - | I33: - | J33: - | K33: - | L33: - | M33: -
B34: 島根県 | C34: 8 | D34: 2 | E34: 2 | F34: 3 | G34: 1 | H34: - | I34: - | J34: - | K34: - | L34: - | M34: -
B35: 岡山県 | C35: 15 | D35: 7 | E35: 3 | F35: 5 | G35: - | H35: - | I35: - | J35: - | K35: - | L35: - | M35: -
B36: 広島県 | C36: 14 | D36: 6 | E36: 2 | F36: 6 | G36: - | H36: - | I36: - | J36: - | K36: - | L36: - | M36: -
B37: 山口県 | C37: 13 | D37: 2 | E37: 5 | F37: 5 | G37: - | H37: 1 | I37: - | J37: - | K37: - | L37: - | M37: -
B38: 徳島県 | C38: 8 | D38: 4 | E38: 2 | F38: - | G38: 2 | H38: - | I38: - | J38: - | K38: - | L38: - | M38: -
B39: 香川県 | C39: 8 | D39: 1 | E39: 2 | F39: 5 | G39: - | H39: - | I39: - | J39: - | K39: - | L39: - | M39: -
B40: 愛媛県 | C40: 11 | D40: 5 | E40: 5 | F40: 1 | G40: - | H40: - | I40: - | J40: - | K40: - | L40: - | M40: -
...

Sheet 連（町村）
B1: （３）町村長の連続就任回数調 | M1: （平成２８年１２月３１日現在）
B2: 区 分 | C2: 団体数 | D2: １回 | E2: ２回 | F2: ３回 | G2: ４回 | H2: ５回 | I2: ６回 | J2: ７回 | K2: ８回 | L2: ９回 | M2: １０回 | N2: 備 考
B3: 北海道 | C3: 144 | D3: 39 | E3: 30 | F3: 44 | G3: 16 | H3: 12 | I3: 1 | J3: - | K3: 1 | L3: 1 | M3: -
B4: 青森県 | C4: 30 | D4: 8 | E4: 9 | F4: 8 | G4: 2 | H4: 2 | I4: - | J4: 1 | K4: - | L4: - | M4: -
B5: 岩手県 | C5: 19 | D5: 5 | E5: 5 | F5: 4 | G5: 2 | H5: 2 | I5: - | J5: - | K5: 1 | L5: - | M5: -
B6: 宮城県 | C6: 21 | D6: 9 | E6: 6 | F6: 2 | G6: 2 | H6: 2 | I6: - | J6: - | K6: - | L6: - | M6: -
B7: 秋田県 | C7: 12 | D7: 3 | E7: 3 | F7: 4 | G7: 1 | H7: 1 | I7: - | J7: - | K7: - | L7: - | M7: -
B8: 山形県 | C8: 22 | D8: 3 | E8: 3 | F8: 9 | G8: 6 | H8: 1 | I8: - | J8: - | K8: - | L8: - | M8: -
B9: 福島県 | C9: 46 | D9: 13 | E9: 11 | F9: 11 | G9: 10 | H9: - | I9: 1 | J9: - | K9: - | L9: - | M9: -
B10: 茨城県 | C10: 12 | D10: 5 | E10: 2 | F10: 3 | G10: - | H10: 1 | I10: 1 | J10: - | K10: - | L10: - | M10: -
B11: 栃木県 | C11: 11 | D11: 3 | E11: 5 | F11: 2 | G11: 1 | H11: - | I11: - | J11: - | K11: - | L11: - | M11: -
B12: 群馬県 | C12: 23 | D12: 12 | E12: 5 | F12: 5 | G12: 1 | H12: - | I12: - | J12: - | K12: - | L12: - | M12: -
B13: 埼玉県 | C13: 23 | D13: 8 | E13: 6 | F13: 6 | G13: 3 | H13: - | I13: - | J13: - | K13: - | L13: - | M13: -
B14: 千葉県 | C14: 17 | D14: 4 | E14: 5 | F14: 3 | G14: 1 | H14: 1 | I14: 3 | J14: - | K14: - | L14: - | M14: -
B15: 東京都 | C15: 13 | D15: 4 | E15: 3 | F15: 1 | G15: 5 | H15: - | I15: - | J15: - | K15: - | L15: - | M15: -
B16: 神奈川県 | C16: 14 | D16: 4 | E16: 6 | F16: 2 | G16: - | H16: 2 | I16: - | J16: - | K16: - | L16: - | M16: -
B17: 新潟県 | C17: 10 | D17: 2 | E17: 1 | F17: 2 | G17: 1 | H17: 2 | I17: 1 | J17: - | K17: 1 | L17: - | M17: -
B18: 富山県 | C18: 5 | D18: 2 | E18: - | F18: 2 | G18: - | H18: 1 | I18: - | J18: - | K18: - | L18: - | M18: -
B19: 石川県 | C19: 8 | D19: 1 | E19: 4 | F19: 3 | G19: - | H19: - | I19: - | J19: - | K19: - | L19: - | M19: -
B20: 福井県 | C20: 8 | D20: 3 | E20: 2 | F20: 1 | G20: - | H20: 2 | I20: - | J20: - | K20: - | L20: - | M20: -
B21: 山梨県 | C21: 14 | D21: 4 | E21: 5 | F21: 3 | G21: 1 | H21: - | I21: - | J21: - | K21: - | L21: - | M21: 1
B22: 長野県 | C22: 58 | D22: 27 | E22: 13 | F22: 14 | G22: 2 | H22: - | I22: 1 | J22: - | K22: 1 | L22: - | M22: -
B23: 岐阜県 | C23: 21 | D23: 5 | E23: 7 | F23: 5 | G23: 3 | H23: 1 | I23: - | J23: - | K23: - | L23: - | M23: -
B24: 静岡県 | C24: 12 | D24: 3 | E24: 5 | F24: 3 | G24: 1 | H24: - | I24: - | J24: - | K24: - | L24: - | M24: -
B25: 愛知県 | C25: 16 | D25: 6 | E25: 5 | F25: 3 | G25: 1 | H25: 1 | I25: - | J25: - | K25: - | L25: - | M25: -
B26: 三重県 | C26: 15 | D26: 3 | E26: 6 | F26: 6 | G26: - | H26: - | I26: - | J26: - | K26: - | L26: - | M26: -
B27: 滋賀県 | C27: 6 | D27: 2 | E27: 1 | F27: 2 | G27: 1 | H27: - | I27: - | J27: - | K27: - | L27: - | M27: -
B28: 京都府 | C28: 11 | D28: 4 | E28: 2 | F28: 2 | G28: 2 | H28: - | I28: 1 | J28: - | K28: - | L28: - | M28: -
B29: 大阪府 | C29: 10 | D29: 4 | E29: 1 | F29: 3 | G29: 2 | H29: - | I29: - | J29: - | K29: - | L29: - | M29: -
B30: 兵庫県 | C30: 12 | D30: 5 | E30: 3 | F30: 4 | G30: - | H30: - | I30: - | J30: - | K30: - | L30: - | M30: -
B31: 奈良県 | C31: 27 | D31: 12 | E31: 8 | F31: 4 | G31: 1 | H31: - | I31: - | J31: 1 | K31: 1 | L31: - | M31: -
B32: 和歌山県 | C32: 21 | D32: 6 | E32: 7 | F32: 6 | G32: 1 | H32: 1 | I32: - | J32: - | K32: - | L32: - | M32: -
B33: 鳥取県 | C33: 15 | D33: 3 | E33: 4 | F33: 5 | G33: 1 | H33: 2 | I33: - | J33: - | K33: - | L33: - | M33: -
B34: 島根県 | C34: 11 | D34: 3 | E34: 4 | F34: 2 | G34: 2 | H34: - | I34: - | J34: - | K34: - | L34: - | M34: -
B35: 岡山県 | C35: 12 | D35: 4 | E35: 5 | F35: 3 | G35: - | H35: - | I35: - | J35: - | K35: - | L35: - | M35: -
B36: 広島県 | C36: 9 | D36: 4 | E36: 2 | F36: 2 | G36: - | H36: - | I36: 1 | J36: - | K36: - | L36: - | M36: -
B37: 山口県 | C37: 6 | D37: 1 | E37: - | F37: 3 | G37: 1 | H37: 1 | I37: - | J37: - | K37: - | L37: - | M37: -
B38: 徳島県 | C38: 16 | D38: 5 | E38: 4 | F38: 4 | G38: 2 | H38: 1 | I38: - | J38: - | K38: - | L38: - | M38: -
B39: 香川県 | C39: 9 | D39: 2 | E39: 5 | F39: 2 | G39: - | H39: - | I39: - | J39: - | K39: - | L39: - | M39: -
B40: 愛媛県 | C40: 9 | D40: 7 | E40: 1 | F40: 1 | G40: - | H40: - | I40: - | J40: - | K40: - | L40: - | M40: -
...

Sheet 市区長
A1: 市区長の連続就任回数（４回以上）
A2: ※ （ ）内は任期満了年月日である。
A4: 連続就任回数
A5: ４回 | G5: ５回
A6: 北海道 | B6: 千歳市 | C6: ( | D6: =(VLOOKUP(B6,H28.11.1任期満了日!S:U,3,FALSE)) -> 31.04.26 | E6: ) | G6: 北海道 | H6: 伊達市 | I6: ( | J6: =(VLOOKUP(H6,H28.11.1任期満了日!S:U,3,FALSE)) -> 31.04.30 | K6: )
A7: 岩手県 | B7: 盛岡市 | C7: ( | D7: =(VLOOKUP(B7,H28.11.1任期満了日!S:U,3,FALSE)) -> 31.09.01 | E7: ) | H7: 石狩市 | I7: ( | J7: =(VLOOKUP(H7,H28.11.1任期満了日!S:U,3,FALSE)) -> 31.06.26 | K7: )
A8: 宮城県 | B8: 塩竈市 | C8: ( | D8: =(VLOOKUP(B8,H28.11.1任期満了日!S:U,3,FALSE)) -> 31.09.10 | E8: ) | G8: 山形県 | H8: 東根市 | I8: ( | J8: =(VLOOKUP(H8,H28.11.1任期満了日!S:U,3,FALSE)) -> 30.09.04 | K8: )
A9: 福島県 | B9: 相馬市 | C9: ( | D9: =(VLOOKUP(B9,H28.11.1任期満了日!S:U,3,FALSE)) -> 30.01.18 | E9: ) | G9: 栃木県 | H9: 小山市 | I9: ( | J9: =(VLOOKUP(H9,H28.11.1任期満了日!S:U,3,FALSE)) -> 32.07.30 | K9: )
A10: 茨城県 | B10: 土浦市 | C10: ( | D10: =(VLOOKUP(B10,H28.11.1任期満了日!S:U,3,FALSE)) -> 31.11.21 | E10: ) | G10: 埼玉県 | H10: 戸田市 | I10: ( | J10: =(VLOOKUP(H10,H28.11.1任期満了日!S:U,3,FALSE)) -> 30.03.30 | K10: )
B11: ひたちなか市 | C11: ( | D11: =(VLOOKUP(B11,H28.11.1任期満了日!S:U,3,FALSE)) -> 30.11.26 | E11: ) | G11: 千葉県 | H11: 東金市 | I11: ( | J11: =(VLOOKUP(H11,H28.11.1任期満了日!S:U,3,FALSE)) -> 30.04.24 | K11: )
B12: 鉾田市 | C12: ( | D12: =(VLOOKUP(B12,H28.11.1任期満了日!S:U,3,FALSE)) -> 29.11.12 | E12: ) | H12: 浦安市 | I12: ( | J12: =(VLOOKUP(H12,H28.11.1任期満了日!S:U,3,FALSE)) -> 30.11.07 | K12: )
A13: 栃木県 | B13: 宇都宮市 | C13: ( | D13: 32.11.27 | E13: ) | G13: 東京都 | H13: 豊島区 | I13: ( | J13: =(VLOOKUP(H13,H28.11.1任期満了日!S:U,3,FALSE)) -> 31.04.26 | K13: )
A14: 埼玉県 | B14: 鴻巣市 | C14: ( | D14: =(VLOOKUP(B14,H28.11.1任期満了日!S:U,3,FALSE)) -> 30.07.31 | E14: ) | H14: 江戸川区 | I14: ( | J14: =(VLOOKUP(H14,H28.11.1任期満了日!S:U,3,FALSE)) -> 31.04.26 | K14: )
A15: 千葉県 | B15: 流山市 | C15: ( | D15: =(VLOOKUP(B15,H28.11.1任期満了日!S:U,3,FALSE)) -> 31.05.05 | E15: ) | G15: 福井県 | H15: 勝山市 | I15: ( | J15: 32.12.25 | K15: )
B16: 鎌ケ谷市 | C16: ( | D16: =(VLOOKUP(B16,H28.11.1任期満了日!S:U,3,FALSE)) -> 30.07.27 | E16: ) | G16: 大阪府 | H16: 高石市 | I16: ( | J16: =(VLOOKUP(H16,H28.11.1任期満了日!S:U,3,FALSE)) -> 31.04.26 | K16: )
B17: 富里市 | C17: ( | D17: =(VLOOKUP(B17,H28.11.1任期満了日!S:U,3,FALSE)) -> 31.08.24 | E17: ) | G17: 兵庫県 | H17: 相生市 | I17: ( | J17: =(VLOOKUP(H17,H28.11.1任期満了日!S:U,3,FALSE)) -> 32.06.13 | K17: )
A18: 東京都 | B18: 千代田区 | C18: ( | D18: =(VLOOKUP(B18,H28.11.1任期満了日!S:U,3,FALSE)) -> 29.02.07 | E18: ) | H18: 小野市 | I18: ( | J18: =(VLOOKUP(H18,H28.11.1任期満了日!S:U,3,FALSE)) -> 31.02.06 | K18: )
B19: 港区 | C19: ( | D19: =(VLOOKUP(B19,H28.11.1任期満了日!S:U,3,FALSE)) -> 32.06.27 | E19: ) | G19: 山口県 | H19: 防府市 | I19: ( | J19: =(VLOOKUP(H19,H28.11.1任期満了日!S:U,3,FALSE)) -> 30.06.20 | K19: )
B20: 目黒区 | C20: ( | D20: =(VLOOKUP(B20,H28.11.1任期満了日!S:U,3,FALSE)) -> 32.04.24 | E20: ) | G20: 福岡県 | H20: 春日市 | I20: ( | J20: =(VLOOKUP(H20,H28.11.1任期満了日!S:U,3,FALSE)) -> 31.04.30 | K20: )
B21: 中野区 | C21: ( | D21: =(VLOOKUP(B21,H28.11.1任期満了日!S:U,3,FALSE)) -> 30.06.14 | E21: ) | G21: 佐賀県 | H21: 多久市 | I21: ( | J21: =(VLOOKUP(H21,H28.11.1任期満了日!S:U,3,FALSE)) -> 29.09.16 | K21: )
B22: 北区 | C22: ( | D22: =(VLOOKUP(B22,H28.11.1任期満了日!S:U,3,FALSE)) -> 31.04.26 | E22: )
B23: 荒川区 | C23: ( | D23: 32.11.13 | E23: ) | G23: ６回
B24: 三鷹市 | C24: ( | D24: =(VLOOKUP(B24,H28.11.1任期満了日!S:U,3,FALSE)) -> 31.04.29 | E24: ) | G24: 新潟県 | H24: 加茂市 | I24: ( | J24: =(VLOOKUP(H24,H28.11.1任期満了日!S:U,3,FALSE)) -> 31.05.09 | K24: )
B25: 調布市 | C25: ( | D25: =(VLOOKUP(B25,H28.11.1任期満了日!S:U,3,FALSE)) -> 30.07.21 | E25: ) | G25: 和歌山県 | H25: 岩出市 | I25: ( | J25: =(VLOOKUP(H25,H28.11.1任期満了日!S:U,3,FALSE)) -> 32.10.18 | K25: )
B26: 羽村市 | C26: ( | D26: =(VLOOKUP(B26,H28.11.1任期満了日!S:U,3,FALSE)) -> 29.04.25 | E26: )
A27: 神奈川県 | B27: 茅ヶ崎市 | C27: ( | D27: =(VLOOKUP(B27,H28.11.1任期満了日!S:U,3,FALSE)) -> 31.04.27 | E27: ) | G27: ７回
B28: 海老名市 | C28: ( | D28: =(VLOOKUP(B28,H28.11.1任期満了日!S:U,3,FALSE)) -> 31.12.23 | E28: ) | G28: 和歌山県 | H28: 御坊市 | I28: ( | J28: =(VLOOKUP(H28,H28.11.1任期満了日!S:U,3,FALSE)) -> 32.06.10 | K28: )
A29: 新潟県 | B29: 見附市 | C29: ( | D29: =(VLOOKUP(B29,H28.11.1任期満了日!S:U,3,FALSE)) -> 30.11.06 | E29: )
B30: 妙高市 | C30: ( | D30: =(VLOOKUP(B30,H28.11.1任期満了日!S:U,3,FALSE)) -> 30.11.24 | E30: ) | G30: ８回
A31: 石川県 | B31: かほく市 | C31: ( | D31: =(VLOOKUP(B31,H28.11.1任期満了日!S:U,3,FALSE)) -> 32.04.10 | E31: ) | G31: 東京都 | H31: 中央区 | I31: ( | J31: =(VLOOKUP(H31,H28.11.1任期満了日!S:U,3,FALSE)) -> 31.04.26 | K31: )
A32: 福井県 | B32: 鯖江市 | C32: ( | D32: =(VLOOKUP(B32,H28.11.1任期満了日!S:U,3,FALSE)) -> 32.10.16 | E32: )
A33: 長野県 | B33: 松本市 | C33: ( | D33: =(VLOOKUP(B33,H28.11.1任期満了日!S:U,3,FALSE)) -> 32.03.27 | E33: )
B34: 飯田市 | C34: ( | D34: =(VLOOKUP(B34,H28.11.1任期満了日!S:U,3,FALSE)) -> 32.10.27 | E34: )
B35: 須坂市 | C35: ( | D35: =(VLOOKUP(B35,H28.11.1任期満了日!S:U,3,FALSE)) -> 32.01.23 | E35: )
B36: 塩尻市 | C36: ( | D36: =(VLOOKUP(B36,H28.11.1任期満了日!S:U,3,FALSE)) -> 30.09.30 | E36: )
A37: 岐阜県 | B37: 岐阜市 | C37: ( | D37: =(VLOOKUP(B37,H28.11.1任期満了日!S:U,3,FALSE)) -> 30.02.23 | E37: )
B38: 大垣市 | C38: ( | D38: =(VLOOKUP(B38,H28.11.1任期満了日!S:U,3,FALSE)) -> 29.04.21 | E38: )
A39: 愛知県 | B39: 安城市 | C39: ( | D39: =(VLOOKUP(B39,H28.11.1任期満了日!S:U,3,FALSE)) -> 31.02.14 | E39: )
B40: 東海市 | C40: ( | D40: =(VLOOKUP(B40,H28.11.1任期満了日!S:U,3,FALSE)) -> 29.05.16 | E40: )
A41: 三重県 | B41: 名張市 | C41: ( | D41: =(VLOOKUP(B41,H28.11.1任期満了日!S:U,3,FALSE)) -> 30.04.24 | E41: )
...

Sheet 町村長
A1: 町村長の連続就任回数（４回以上）
A2: ※ （ ）内は任期満了年月日である。
A4: 連続就任回数
A5: ４回 | G5: 長野県 | H5: 下諏訪町 | I5: ( | J5: 32.12.04 | K5: ) | L5: ５回 | R5: 高知県 | S5: 馬路村 | T5: ( | U5: =(VLOOKUP(S5,H28.11.1任期満了日!S:U,3,FALSE)) -> 30.04.21 | V5: )
A6: 北海道 | B6: 寿都町 | C6: ( | D6: =(VLOOKUP(B6,H28.11.1任期満了日!S:U,3,FALSE)) -> 29.11.17 | E6: ) | H6: 松川村 | I6: ( | J6: =(VLOOKUP(H6,H28.11.1任期満了日!S:U,3,FALSE)) -> 32.03.06 | K6: ) | L6: 北海道 | M6: 京極町 | N6: ( | O6: =(VLOOKUP(M6,H28.11.1任期満了日!S:U,3,FALSE)) -> 31.04.30 | P6: ) | R6: 熊本県 | S6: 津奈木町 | T6: ( | U6: =(VLOOKUP(S6,H28.11.1任期満了日!S:U,3,FALSE)) -> 29.07.24 | V6: )
B7: 真狩村 | C7: ( | D7: 32.11.26 | E7: ) | G7: 岐阜県 | H7: 垂井町 | I7: ( | J7: =(VLOOKUP(H7,H28.11.1任期満了日!S:U,3,FALSE)) -> 31.04.26 | K7: ) | M7: 共和町 | N7: ( | O7: =(VLOOKUP(M7,H28.11.1任期満了日!S:U,3,FALSE)) -> 29.05.24 | P7: )
B8: 喜茂別町 | C8: ( | D8: =(VLOOKUP(B8,H28.11.1任期満了日!S:U,3,FALSE)) -> 32.07.21 | E8: ) | H8: 池田町 | I8: ( | J8: 31.02.09 | K8: ) | M8: 木古内町 | N8: ( | O8: =(VLOOKUP(M8,H28.11.1任期満了日!S:U,3,FALSE)) -> 32.04.25 | P8: ) | R8: ７回
B9: 岩内町 | C9: ( | D9: =(VLOOKUP(B9,H28.11.1任期満了日!S:U,3,FALSE)) -> 31.10.08 | E9: ) | H9: 川辺町 | I9: ( | J9: =(VLOOKUP(H9,H28.11.1任期満了日!S:U,3,FALSE)) -> 29.05.19 | K9: ) | M9: 当麻町 | N9: ( | O9: =(VLOOKUP(M9,H28.11.1任期満了日!S:U,3,FALSE)) -> 32.02.01 | P9: ) | R9: 青森県 | S9: 六戸町 | T9: ( | U9: =(VLOOKUP(S9,H28.11.1任期満了日!S:U,3,FALSE)) -> 32.01.27 | V9: )
B10: 神恵内村 | C10: ( | D10: =(VLOOKUP(B10,H28.11.1任期満了日!S:U,3,FALSE)) -> 30.03.16 | E10: ) | G10: 静岡県 | H10: 吉田町 | I10: ( | J10: =(VLOOKUP(H10,H28.11.1任期満了日!S:U,3,FALSE)) -> 31.04.29 | K10: ) | M10: 美瑛町 | N10: ( | O10: =(VLOOKUP(M10,H28.11.1任期満了日!S:U,3,FALSE)) -> 31.04.30 | P10: ) | R10: 奈良県 | S10: 河合町 | T10: ( | U10: =(VLOOKUP(S10,H28.11.1任期満了日!S:U,3,FALSE)) -> 31.04.30 | V10: )
B11: 古平町 | C11: ( | D11: =(VLOOKUP(B11,H28.11.1任期満了日!S:U,3,FALSE)) -> 29.05.19 | E11: ) | G11: 愛知県 | H11: 阿久比町 | I11: ( | J11: =(VLOOKUP(H11,H28.11.1任期満了日!S:U,3,FALSE)) -> 30.12.17 | K11: ) | M11: 南富良野町 | N11: ( | O11: =(VLOOKUP(M11,H28.11.1任期満了日!S:U,3,FALSE)) -> 32.04.29 | P11: ) | R11: 熊本県 | S11: 苓北町 | T11: ( | U11: =(VLOOKUP(S11,H28.11.1任期満了日!S:U,3,FALSE)) -> 31.01.29 | V11: )
B12: 上ノ国町 | C12: ( | D12: =(VLOOKUP(B12,H28.11.1任期満了日!S:U,3,FALSE)) -> 30.06.04 | E12: ) | G12: 滋賀県 | H12: 日野町 | I12: ( | J12: =(VLOOKUP(H12,H28.11.1任期満了日!S:U,3,FALSE)) -> 32.07.10 | K12: ) | M12: 置戸町 | N12: ( | O12: =(VLOOKUP(M12,H28.11.1任期満了日!S:U,3,FALSE)) -> 32.06.09 | P12: ) | R12: 宮崎県 | S12: 綾町 | T12: ( | U12: =(VLOOKUP(S12,H28.11.1任期満了日!S:U,3,FALSE)) -> 30.07.10 | V12: )
B13: 今金町 | C13: ( | D13: =(VLOOKUP(B13,H28.11.1任期満了日!S:U,3,FALSE)) -> 31.04.30 | E13: ) | G13: 京都府 | H13: 和束町 | I13: ( | J13: =(VLOOKUP(H13,H28.11.1任期満了日!S:U,3,FALSE)) -> 29.04.21 | K13: ) | M13: 士幌町 | N13: ( | O13: =(VLOOKUP(M13,H28.11.1任期満了日!S:U,3,FALSE)) -> 30.12.04 | P13: )
B14: 東川町 | C14: ( | D14: =(VLOOKUP(B14,H28.11.1任期満了日!S:U,3,FALSE)) -> 31.03.30 | E14: ) | H14: 精華町 | I14: ( | J14: =(VLOOKUP(H14,H28.11.1任期満了日!S:U,3,FALSE)) -> 31.10.23 | K14: ) | M14: 鹿追町 | N14: ( | O14: =(VLOOKUP(M14,H28.11.1任期満了日!S:U,3,FALSE)) -> 31.04.30 | P14: ) | R14: ８回
B15: 苫前町 | C15: ( | D15: =(VLOOKUP(B15,H28.11.1任期満了日!S:U,3,FALSE)) -> 31.04.30 | E15: ) | G15: 大阪府 | H15: 忠岡町 | I15: ( | J15: =(VLOOKUP(H15,H28.11.1任期満了日!S:U,3,FALSE)) -> 32.10.23 | K15: ) | M15: 池田町 | N15: ( | O15: =(VLOOKUP(M15,H28.11.1任期満了日!S:U,3,FALSE)) -> 32.10.30 | P15: ) | R15: 北海道 | S15: 奈井江町 | T15: ( | U15: =(VLOOKUP(S15,H28.11.1任期満了日!S:U,3,FALSE)) -> 30.12.06 | V15: )
B16: 豊富町 | C16: ( | D16: =(VLOOKUP(B16,H28.11.1任期満了日!S:U,3,FALSE)) -> 31.04.30 | E16: ) | H16: 千早赤阪村 | I16: ( | J16: =(VLOOKUP(H16,H28.11.1任期満了日!S:U,3,FALSE)) -> 32.07.15 | K16: ) | M16: 本別町 | N16: ( | O16: =(VLOOKUP(M16,H28.11.1任期満了日!S:U,3,FALSE)) -> 29.09.22 | P16: ) | R16: 岩手県 | S16: 一戸町 | T16: ( | U16: =(VLOOKUP(S16,H28.11.1任期満了日!S:U,3,FALSE)) -> 29.11.17 | V16: )
B17: 興部町 | C17: ( | D17: =(VLOOKUP(B17,H28.11.1任期満了日!S:U,3,FALSE)) -> 31.04.30 | E17: ) | G17: 奈良県 | H17: 十津川村 | I17: ( | J17: =(VLOOKUP(H17,H28.11.1任期満了日!S:U,3,FALSE)) -> 29.04.24 | K17: ) | M17: 弟子屈町 | N17: ( | O17: 32.12.23 | P17: ) | R17: 新潟県 | S17: 出雲崎町 | T17: ( | U17: =(VLOOKUP(S17,H28.11.1任期満了日!S:U,3,FALSE)) -> 32.02.03 | V17: )
B18: 上士幌町 | C18: ( | D18: =(VLOOKUP(B18,H28.11.1任期満了日!S:U,3,FALSE)) -> 29.03.24 | E18: ) | G18: 和歌山県 | H18: 太地町 | I18: ( | J18: =(VLOOKUP(H18,H28.11.1任期満了日!S:U,3,FALSE)) -> 32.08.07 | K18: ) | L18: 青森県 | M18: 東通村 | N18: ( | O18: =(VLOOKUP(M18,H28.11.1任期満了日!S:U,3,FALSE)) -> 29.04.12 | P18: ) | R18: 長野県 | S18: 川上村 | T18: ( | U18: =(VLOOKUP(S18,H28.11.1任期満了日!S:U,3,FALSE)) -> 32.02.26 | V18: )
B19: 清水町 | C19: ( | D19: =(VLOOKUP(B19,H28.11.1任期満了日!S:U,3,FALSE)) -> 29.02.27 | E19: ) | G19: 鳥取県 | H19: 日吉津村 | I19: ( | J19: =(VLOOKUP(H19,H28.11.1任期満了日!S:U,3,FALSE)) -> 31.04.26 | K19: ) | M19: 五戸町 | N19: ( | O19: =(VLOOKUP(M19,H28.11.1任期満了日!S:U,3,FALSE)) -> 31.06.26 | P19: ) | R19: 奈良県 | S19: 斑鳩町 | T19: ( | U19: =(VLOOKUP(S19,H28.11.1任期満了日!S:U,3,FALSE)) -> 29.11.10 | V19: )
B20: 足寄町 | C20: ( | D20: =(VLOOKUP(B20,H28.11.1任期満了日!S:U,3,FALSE)) -> 31.04.30 | E20: ) | G20: 島根県 | H20: 邑南町 | I20: ( | J20: =(VLOOKUP(H20,H28.11.1任期満了日!S:U,3,FALSE)) -> 32.10.30 | K20: ) | L20: 岩手県 | M20: 岩手町 | N20: ( | O20: =(VLOOKUP(M20,H28.11.1任期満了日!S:U,3,FALSE)) -> 30.05.31 | P20: ) | R20: 熊本県 | S20: 嘉島町 | T20: ( | U20: =(VLOOKUP(S20,H28.11.1任期満了日!S:U,3,FALSE)) -> 31.02.10 | V20: )
B21: 厚岸町 | C21: ( | D21: =(VLOOKUP(B21,H28.11.1任期満了日!S:U,3,FALSE)) -> 29.07.12 | E21: ) | H21: 海士町 | I21: ( | J21: =(VLOOKUP(H21,H28.11.1任期満了日!S:U,3,FALSE)) -> 30.05.30 | K21: ) | M21: 岩泉町 | N21: ( | O21: =(VLOOKUP(M21,H28.11.1任期満了日!S:U,3,FALSE)) -> 31.12.25 | P21: )
A22: 青森県 | B22: 田舎館村 | C22: ( | D22: 32.11.17 | E22: ) | G22: 山口県 | H22: 上関町 | I22: ( | J22: =(VLOOKUP(H22,H28.11.1任期満了日!S:U,3,FALSE)) -> 31.10.04 | K22: ) | L22: 宮城県 | M22: 利府町 | N22: ( | O22: =(VLOOKUP(M22,H28.11.1任期満了日!S:U,3,FALSE)) -> 30.03.01 | P22: ) | R22: ９回
B23: 横浜町 | C23: ( | D23: 32.12.11 | E23: ) | G23: 徳島県 | H23: 神山町 | I23: ( | J23: =(VLOOKUP(H23,H28.11.1任期満了日!S:U,3,FALSE)) -> 31.04.29 | K23: ) | M23: 大和町 | N23: ( | O23: =(VLOOKUP(M23,H28.11.1任期満了日!S:U,3,FALSE)) -> 31.10.08 | P23: ) | R23: 北海道 | S23: 乙部町 | T23: ( | U23: =(VLOOKUP(S23,H28.11.1任期満了日!S:U,3,FALSE)) -> 31.04.30 | V23: )
A24: 岩手県 | B24: 住田町 | C24: ( | D24: =(VLOOKUP(B24,H28.11.1任期満了日!S:U,3,FALSE)) -> 29.08.04 | E24: ) | H24: 藍住町 | I24: ( | J24: =(VLOOKUP(H24,H28.11.1任期満了日!S:U,3,FALSE)) -> 29.12.02 | K24: ) | L24: 秋田県 | M24: 東成瀬村 | N24: ( | O24: =(VLOOKUP(M24,H28.11.1任期満了日!S:U,3,FALSE)) -> 30.05.31 | P24: ) | R24: 大分県 | S24: 姫島村 | T24: ( | U24: 32.11.25 | V24: )
B25: 軽米町 | C25: ( | D25: =(VLOOKUP(B25,H28.11.1任期満了日!S:U,3,FALSE)) -> 31.02.01 | E25: ) | G25: 高知県 | H25: 奈半利町 | I25: ( | J25: =(VLOOKUP(H25,H28.11.1任期満了日!S:U,3,FALSE)) -> 30.06.28 | K25: ) | L25: 山形県 | M25: 山辺町 | N25: ( | O25: =(VLOOKUP(M25,H28.11.1任期満了日!S:U,3,FALSE)) -> 30.11.05 | P25: )
A26: 宮城県 | B26: 蔵王町 | C26: ( | D26: =(VLOOKUP(B26,H28.11.1任期満了日!S:U,3,FALSE)) -> 32.10.05 | E26: ) | H26: 本山町 | I26: ( | J26: =(VLOOKUP(H26,H28.11.1任期満了日!S:U,3,FALSE)) -> 29.12.15 | K26: ) | L26: 茨城県 | M26: 八千代町 | N26: ( | O26: =(VLOOKUP(M26,H28.11.1任期満了日!S:U,3,FALSE)) -> 31.02.08 | P26: ) | R26: １０回
B27: 柴田町 | C27: ( | D27: =(VLOOKUP(B27,H28.11.1任期満了日!S:U,3,FALSE)) -> 30.07.22 | E27: ) | H27: 大豊町 | I27: ( | J27: 32.12.18 | K27: ) | L27: 千葉県 | M27: 芝山町 | N27: ( | O27: =(VLOOKUP(M27,H28.11.1任期満了日!S:U,3,FALSE)) -> 29.12.06 | P27: ) | R27: 山梨県 | S27: 早川町 | T27: ( | U27: 32.11.15 | V27: )
A28: 秋田県 | B28: 美郷町 | C28: ( | D28: 32.11.27 | E28: ) | G28: 福岡県 | H28: 篠栗町 | I28: ( | J28: 32.11.29 | K28: ) | L28: 神奈川県 | M28: 大井町 | N28: ( | O28: =(VLOOKUP(M28,H28.11.1任期満了日!S:U,3,FALSE)) -> 30.12.21 | P28: )
A29: 山形県 | B29: 河北町 | C29: ( | D29: =(VLOOKUP(B29,H28.11.1任期満了日!S:U,3,FALSE)) -> 31.02.04 | E29: ) | H29: 須恵町 | I29: ( | J29: =(VLOOKUP(H29,H28.11.1任期満了日!S:U,3,FALSE)) -> 30.04.30 | K29: ) | M29: 箱根町 | N29: ( | O29: 32.11.14 | P29: )
B30: 朝日町 | C30: ( | D30: 32.12.07 | E30: ) | H30: 香春町 | I30: ( | J30: =(VLOOKUP(H30,H28.11.1任期満了日!S:U,3,FALSE)) -> 30.02.23 | K30: ) | L30: 新潟県 | M30: 田上町 | N30: ( | O30: =(VLOOKUP(M30,H28.11.1任期満了日!S:U,3,FALSE)) -> 30.06.21 | P30: )
B31: 最上町 | C31: ( | D31: =(VLOOKUP(B31,H28.11.1任期満了日!S:U,3,FALSE)) -> 30.10.04 | E31: ) | G31: 熊本県 | H31: 玉東町 | I31: ( | J31: =(VLOOKUP(H31,H28.11.1任期満了日!S:U,3,FALSE)) -> 29.01.27 | K31: ) | M31: 刈羽村 | N31: ( | O31: 32.12.14 | P31: )
B32: 戸沢村 | C32: ( | D32: =(VLOOKUP(B32,H28.11.1任期満了日!S:U,3,FALSE)) -> 31.03.01 | E32: ) | H32: 芦北町 | I32: ( | J32: =(VLOOKUP(H32,H28.11.1任期満了日!S:U,3,FALSE)) -> 29.01.22 | K32: ) | L32: 富山県 | M32: 上市町 | N32: ( | O32: =(VLOOKUP(M32,H28.11.1任期満了日!S:U,3,FALSE)) -> 29.10.16 | P32: )
B33: 川西町 | C33: ( | D33: =(VLOOKUP(B33,H28.11.1任期満了日!S:U,3,FALSE)) -> 32.04.28 | E33: ) | G33: 鹿児島県 | H33: 大崎町 | I33: ( | J33: =(VLOOKUP(H33,H28.11.1任期満了日!S:U,3,FALSE)) -> 29.12.20 | K33: ) | L33: 福井県 | M33: 池田町 | N33: ( | O33: =(VLOOKUP(M33,H28.11.1任期満了日!S:U,3,FALSE)) -> 32.10.30 | P33: )
B34: 三川町 | C34: ( | D34: =(VLOOKUP(B34,H28.11.1任期満了日!S:U,3,FALSE)) -> 31.02.09 | E34: ) | H34: 伊仙町 | I34: ( | J34: =(VLOOKUP(H34,H28.11.1任期満了日!S:U,3,FALSE)) -> 29.10.30 | K34: ) | M34: 美浜町 | N34: ( | O34: =(VLOOKUP(M34,H28.11.1任期満了日!S:U,3,FALSE)) -> 31.03.06 | P34: )
A35: 福島県 | B35: 川俣町 | C35: ( | D35: =(VLOOKUP(B35,H28.11.1任期満了日!S:U,3,FALSE)) -> 30.11.28 | E35: ) | G35: 沖縄県 | H35: 北中城村 | I35: ( | J35: 32.12.21 | K35: ) | L35: 岐阜県 | M35: 笠松町 | N35: ( | O35: =(VLOOKUP(M35,H28.11.1任期満了日!S:U,3,FALSE)) -> 31.06.28 | P35: )
B36: 磐梯町 | C36: ( | D36: =(VLOOKUP(B36,H28.11.1任期満了日!S:U,3,FALSE)) -> 31.06.25 | E36: ) | H36: 伊是名村 | I36: ( | J36: =(VLOOKUP(H36,H28.11.1任期満了日!S:U,3,FALSE)) -> 30.09.20 | K36: ) | L36: 愛知県 | M36: 飛島村 | N36: ( | O36: =(VLOOKUP(M36,H28.11.1任期満了日!S:U,3,FALSE)) -> 32.04.09 | P36: )
B37: 柳津町 | C37: ( | D37: =(VLOOKUP(B37,H28.11.1任期満了日!S:U,3,FALSE)) -> 31.06.25 | E37: ) | L37: 和歌山県 | M37: 上富田町 | N37: ( | O37: =(VLOOKUP(M37,H28.11.1任期満了日!S:U,3,FALSE)) -> 30.02.04 | P37: )
B38: 西郷村 | C38: ( | D38: =(VLOOKUP(B38,H28.11.1任期満了日!S:U,3,FALSE)) -> 30.03.27 | E38: ) | L38: 鳥取県 | M38: 岩美町 | N38: ( | O38: =(VLOOKUP(M38,H28.11.1任期満了日!S:U,3,FALSE)) -> 29.12.06 | P38: )
B39: 矢吹町 | C39: ( | D39: =(VLOOKUP(B39,H28.11.1任期満了日!S:U,3,FALSE)) -> 32.01.10 | E39: ) | M39: 三朝町 | N39: ( | O39: =(VLOOKUP(M39,H28.11.1任期満了日!S:U,3,FALSE)) -> 29.11.14 | P39: )
B40: 鮫川村 | C40: ( | D40: =(VLOOKUP(B40,H28.11.1任期満了日!S:U,3,FALSE)) -> 31.08.30 | E40: ) | L40: 山口県 | M40: 平生町 | N40: ( | O40: =(VLOOKUP(M40,H28.11.1任期満了日!S:U,3,FALSE)) -> 30.12.10 | P40: )
B41: 古殿町 | C41: ( | D41: =(VLOOKUP(B41,H28.11.1任期満了日!S:U,3,FALSE)) -> 31.04.30 | E41: ) | L41: 徳島県 | M41: 松茂町 | N41: ( | O41: =(VLOOKUP(M41,H28.11.1任期満了日!S:U,3,FALSE)) -> 29.08.20 | P41: )
...

Sheet 赤色タブのみ印刷！（ここから後ろは編集データ）

Sheet とりまとめ
B1: 市区 | C1: 1 | D1: 2 | E1: 3 | F1: 4 | G1: 5 | H1: 6 | I1: 7 | J1: 8 | K1: 9 | L1: 10 | M1: 町村 | N1: 1 | O1: 2 | P1: 3 | Q1: 4 | R1: 5 | S1: 6 | T1: 7 | U1: 8 | V1: 9 | W1: 10
C2: １回 | D2: ２回 | E2: ３回 | F2: ４回 | G2: ５回 | H2: ６回 | I2: ７回 | J2: ８回 | K2: ９回 | L2: １０回 | N2: １回 | O2: ２回 | P2: ３回 | Q2: ４回 | R2: ５回 | S2: ６回 | T2: ７回 | U2: ８回 | V2: ９回 | W2: １０回
A3: 1 | B3: 北海道 | C3: =COUNTIFS(元データ!$AO:$AO,C$1,元データ!$A:$A,$A3,元データ!$BC:$BC,$B$1) -> 6 | D3: =COUNTIFS(元データ!$AO:$AO,D$1,元データ!$A:$A,$A3,元データ!$BC:$BC,$B$1) -> 15 | E3: =COUNTIFS(元データ!$AO:$AO,E$1,元データ!$A:$A,$A3,元データ!$BC:$BC,$B$1) -> 11 | F3: =COUNTIFS(元データ!$AO:$AO,F$1,元データ!$A:$A,$A3,元データ!$BC:$BC,$B$1) -> 1 | G3: =COUNTIFS(元データ!$AO:$AO,G$1,元データ!$A:$A,$A3,元データ!$BC:$BC,$B$1) -> 2 | H3: =COUNTIFS(元データ!$AO:$AO,H$1,元データ!$A:$A,$A3,元データ!$BC:$BC,$B$1) -> 0 | I3: =COUNTIFS(元データ!$AO:$AO,I$1,元データ!$A:$A,$A3,元データ!$BC:$BC,$B$1) -> 0 | J3: =COUNTIFS(元データ!$AO:$AO,J$1,元データ!$A:$A,$A3,元データ!$BC:$BC,$B$1) -> 0 | ... L3: =COUNTIFS(元データ!$AO:$AO,L$1,元データ!$A:$A,$A3,元データ!$BC:$BC,$B$1) -> 0 | N3: =COUNTIFS(元データ!$AO:$AO,N$1,元データ!$A:$A,$A3,元データ!$BC:$BC,$M$1) -> 39 | O3: =COUNTIFS(元データ!$AO:$AO,O$1,元データ!$A:$A,$A3,元データ!$BC:$BC,$M$1) -> 30 | P3: =COUNTIFS(元データ!$AO:$AO,P$1,元データ!$A:$A,$A3,元データ!$BC:$BC,$M$1) -> 43 | Q3: =COUNTIFS(元データ!$AO:$AO,Q$1,元データ!$A:$A,$A3,元データ!$BC:$BC,$M$1) -> 17 | R3: =COUNTIFS(元データ!$AO:$AO,R$1,元データ!$A:$A,$A3,元データ!$BC:$BC,$M$1) -> 12 | S3: =COUNTIFS(元データ!$AO:$AO,S$1,元データ!$A:$A,$A3,元データ!$BC:$BC,$M$1) -> 1 | T3: =COUNTIFS(元データ!$AO:$AO,T$1,元データ!$A:$A,$A3,元データ!$BC:$BC,$M$1) -> 0 | U3: =COUNTIFS(元データ!$AO:$AO,U$1,元データ!$A:$A,$A3,元データ!$BC:$BC,$M$1) -> 1 | ... W3: =COUNTIFS(元データ!$AO:$AO,W$1,元データ!$A:$A,$A3,元データ!$BC:$BC,$M$1) -> 0
A4: 2 | B4: 青森県 | C4: =COUNTIFS(元データ!$AO:$AO,C$1,元データ!$A:$A,$A4,元データ!$BC:$BC,$B$1) -> 4 | D4: =COUNTIFS(元データ!$AO:$AO,D$1,元データ!$A:$A,$A4,元データ!$BC:$BC,$B$1) -> 2 | E4: =COUNTIFS(元データ!$AO:$AO,E$1,元データ!$A:$A,$A4,元データ!$BC:$BC,$B$1) -> 4 | F4: =COUNTIFS(元データ!$AO:$AO,F$1,元データ!$A:$A,$A4,元データ!$BC:$BC,$B$1) -> 0 | G4: =COUNTIFS(元データ!$AO:$AO,G$1,元データ!$A:$A,$A4,元データ!$BC:$BC,$B$1) -> 0 | H4: =COUNTIFS(元データ!$AO:$AO,H$1,元データ!$A:$A,$A4,元データ!$BC:$BC,$B$1) -> 0 | I4: =COUNTIFS(元データ!$AO:$AO,I$1,元データ!$A:$A,$A4,元データ!$BC:$BC,$B$1) -> 0 | J4: =COUNTIFS(元データ!$AO:$AO,J$1,元データ!$A:$A,$A4,元データ!$BC:$BC,$B$1) -> 0 | ... L4: =COUNTIFS(元データ!$AO:$AO,L$1,元データ!$A:$A,$A4,元データ!$BC:$BC,$B$1) -> 0 | N4: =COUNTIFS(元データ!$AO:$AO,N$1,元データ!$A:$A,$A4,元データ!$BC:$BC,$M$1) -> 8 | O4: =COUNTIFS(元データ!$AO:$AO,O$1,元データ!$A:$A,$A4,元データ!$BC:$BC,$M$1) -> 9 | P4: =COUNTIFS(元データ!$AO:$AO,P$1,元データ!$A:$A,$A4,元データ!$BC:$BC,$M$1) -> 8 | Q4: =COUNTIFS(元データ!$AO:$AO,Q$1,元データ!$A:$A,$A4,元データ!$BC:$BC,$M$1) -> 2 | R4: =COUNTIFS(元データ!$AO:$AO,R$1,元データ!$A:$A,$A4,元データ!$BC:$BC,$M$1) -> 2 | S4: =COUNTIFS(元データ!$AO:$AO,S$1,元データ!$A:$A,$A4,元データ!$BC:$BC,$M$1) -> 0 | T4: =COUNTIFS(元データ!$AO:$AO,T$1,元データ!$A:$A,$A4,元データ!$BC:$BC,$M$1) -> 1 | U4: =COUNTIFS(元データ!$AO:$AO,U$1,元データ!$A:$A,$A4,元データ!$BC:$BC,$M$1) -> 0 | ... W4: =COUNTIFS(元データ!$AO:$AO,W$1,元データ!$A:$A,$A4,元データ!$BC:$BC,$M$1) -> 0
A5: 3 | B5: 岩手県 | C5: =COUNTIFS(元データ!$AO:$AO,C$1,元データ!$A:$A,$A5,元データ!$BC:$BC,$B$1) -> 3 | D5: =COUNTIFS(元データ!$AO:$AO,D$1,元データ!$A:$A,$A5,元データ!$BC:$BC,$B$1) -> 6 | E5: =COUNTIFS(元データ!$AO:$AO,E$1,元データ!$A:$A,$A5,元データ!$BC:$BC,$B$1) -> 4 | F5: =COUNTIFS(元データ!$AO:$AO,F$1,元データ!$A:$A,$A5,元データ!$BC:$BC,$B$1) -> 1 | G5: =COUNTIFS(元データ!$AO:$AO,G$1,元データ!$A:$A,$A5,元データ!$BC:$BC,$B$1) -> 0 | H5: =COUNTIFS(元データ!$AO:$AO,H$1,元データ!$A:$A,$A5,元データ!$BC:$BC,$B$1) -> 0 | I5: =COUNTIFS(元データ!$AO:$AO,I$1,元データ!$A:$A,$A5,元データ!$BC:$BC,$B$1) -> 0 | J5: =COUNTIFS(元データ!$AO:$AO,J$1,元データ!$A:$A,$A5,元データ!$BC:$BC,$B$1) -> 0 | ... L5: =COUNTIFS(元データ!$AO:$AO,L$1,元データ!$A:$A,$A5,元データ!$BC:$BC,$B$1) -> 0 | N5: =COUNTIFS(元データ!$AO:$AO,N$1,元データ!$A:$A,$A5,元データ!$BC:$BC,$M$1) -> 5 | O5: =COUNTIFS(元データ!$AO:$AO,O$1,元データ!$A:$A,$A5,元データ!$BC:$BC,$M$1) -> 5 | P5: =COUNTIFS(元データ!$AO:$AO,P$1,元データ!$A:$A,$A5,元データ!$BC:$BC,$M$1) -> 4 | Q5: =COUNTIFS(元データ!$AO:$AO,Q$1,元データ!$A:$A,$A5,元データ!$BC:$BC,$M$1) -> 2 | R5: =COUNTIFS(元データ!$AO:$AO,R$1,元データ!$A:$A,$A5,元データ!$BC:$BC,$M$1) -> 2 | S5: =COUNTIFS(元データ!$AO:$AO,S$1,元データ!$A:$A,$A5,元データ!$BC:$BC,$M$1) -> 0 | T5: =COUNTIFS(元データ!$AO:$AO,T$1,元データ!$A:$A,$A5,元データ!$BC:$BC,$M$1) -> 0 | U5: =COUNTIFS(元データ!$AO:$AO,U$1,元データ!$A:$A,$A5,元データ!$BC:$BC,$M$1) -> 1 | ... W5: =COUNTIFS(元データ!$AO:$AO,W$1,元データ!$A:$A,$A5,元データ!$BC:$BC,$M$1) -> 0
A6: 4 | B6: 宮城県 | C6: =COUNTIFS(元データ!$AO:$AO,C$1,元データ!$A:$A,$A6,元データ!$BC:$BC,$B$1) -> 4 | D6: =COUNTIFS(元データ!$AO:$AO,D$1,元データ!$A:$A,$A6,元データ!$BC:$BC,$B$1) -> 3 | E6: =COUNTIFS(元データ!$AO:$AO,E$1,元データ!$A:$A,$A6,元データ!$BC:$BC,$B$1) -> 6 | F6: =COUNTIFS(元データ!$AO:$AO,F$1,元データ!$A:$A,$A6,元データ!$BC:$BC,$B$1) -> 1 | G6: =COUNTIFS(元データ!$AO:$AO,G$1,元データ!$A:$A,$A6,元データ!$BC:$BC,$B$1) -> 0 | H6: =COUNTIFS(元データ!$AO:$AO,H$1,元データ!$A:$A,$A6,元データ!$BC:$BC,$B$1) -> 0 | I6: =COUNTIFS(元データ!$AO:$AO,I$1,元データ!$A:$A,$A6,元データ!$BC:$BC,$B$1) -> 0 | J6: =COUNTIFS(元データ!$AO:$AO,J$1,元データ!$A:$A,$A6,元データ!$BC:$BC,$B$1) -> 0 | ... L6: =COUNTIFS(元データ!$AO:$AO,L$1,元データ!$A:$A,$A6,元データ!$BC:$BC,$B$1) -> 0 | N6: =COUNTIFS(元データ!$AO:$AO,N$1,元データ!$A:$A,$A6,元データ!$BC:$BC,$M$1) -> 9 | O6: =COUNTIFS(元データ!$AO:$AO,O$1,元データ!$A:$A,$A6,元データ!$BC:$BC,$M$1) -> 6 | P6: =COUNTIFS(元データ!$AO:$AO,P$1,元データ!$A:$A,$A6,元データ!$BC:$BC,$M$1) -> 2 | Q6: =COUNTIFS(元データ!$AO:$AO,Q$1,元データ!$A:$A,$A6,元データ!$BC:$BC,$M$1) -> 2 | R6: =COUNTIFS(元データ!$AO:$AO,R$1,元データ!$A:$A,$A6,元データ!$BC:$BC,$M$1) -> 2 | S6: =COUNTIFS(元データ!$AO:$AO,S$1,元データ!$A:$A,$A6,元データ!$BC:$BC,$M$1) -> 0 | T6: =COUNTIFS(元データ!$AO:$AO,T$1,元データ!$A:$A,$A6,元データ!$BC:$BC,$M$1) -> 0 | U6: =COUNTIFS(元データ!$AO:$AO,U$1,元データ!$A:$A,$A6,元データ!$BC:$BC,$M$1) -> 0 | ... W6: =COUNTIFS(元データ!$AO:$AO,W$1,元データ!$A:$A,$A6,元データ!$BC:$BC,$M$1) -> 0
A7: 5 | B7: 秋田県 | C7: =COUNTIFS(元データ!$AO:$AO,C$1,元データ!$A:$A,$A7,元データ!$BC:$BC,$B$1) -> 2 | D7: =COUNTIFS(元データ!$AO:$AO,D$1,元データ!$A:$A,$A7,元データ!$BC:$BC,$B$1) -> 6 | E7: =COUNTIFS(元データ!$AO:$AO,E$1,元データ!$A:$A,$A7,元データ!$BC:$BC,$B$1) -> 5 | F7: =COUNTIFS(元データ!$AO:$AO,F$1,元データ!$A:$A,$A7,元データ!$BC:$BC,$B$1) -> 0 | G7: =COUNTIFS(元データ!$AO:$AO,G$1,元データ!$A:$A,$A7,元データ!$BC:$BC,$B$1) -> 0 | H7: =COUNTIFS(元データ!$AO:$AO,H$1,元データ!$A:$A,$A7,元データ!$BC:$BC,$B$1) -> 0 | I7: =COUNTIFS(元データ!$AO:$AO,I$1,元データ!$A:$A,$A7,元データ!$BC:$BC,$B$1) -> 0 | J7: =COUNTIFS(元データ!$AO:$AO,J$1,元データ!$A:$A,$A7,元データ!$BC:$BC,$B$1) -> 0 | ... L7: =COUNTIFS(元データ!$AO:$AO,L$1,元データ!$A:$A,$A7,元データ!$BC:$BC,$B$1) -> 0 | N7: =COUNTIFS(元データ!$AO:$AO,N$1,元データ!$A:$A,$A7,元データ!$BC:$BC,$M$1) -> 3 | O7: =COUNTIFS(元データ!$AO:$AO,O$1,元データ!$A:$A,$A7,元データ!$BC:$BC,$M$1) -> 3 | P7: =COUNTIFS(元データ!$AO:$AO,P$1,元データ!$A:$A,$A7,元データ!$BC:$BC,$M$1) -> 4 | Q7: =COUNTIFS(元データ!$AO:$AO,Q$1,元データ!$A:$A,$A7,元データ!$BC:$BC,$M$1) -> 1 | R7: =COUNTIFS(元データ!$AO:$AO,R$1,元データ!$A:$A,$A7,元データ!$BC:$BC,$M$1) -> 1 | S7: =COUNTIFS(元データ!$AO:$AO,S$1,元データ!$A:$A,$A7,元データ!$BC:$BC,$M$1) -> 0 | T7: =COUNTIFS(元データ!$AO:$AO,T$1,元データ!$A:$A,$A7,元データ!$BC:$BC,$M$1) -> 0 | U7: =COUNTIFS(元データ!$AO:$AO,U$1,元データ!$A:$A,$A7,元データ!$BC:$BC,$M$1) -> 0 | ... W7: =COUNTIFS(元データ!$AO:$AO,W$1,元データ!$A:$A,$A7,元データ!$BC:$BC,$M$1) -> 0
A8: 6 | B8: 山形県 | C8: =COUNTIFS(元データ!$AO:$AO,C$1,元データ!$A:$A,$A8,元データ!$BC:$BC,$B$1) -> 5 | D8: =COUNTIFS(元データ!$AO:$AO,D$1,元データ!$A:$A,$A8,元データ!$BC:$BC,$B$1) -> 3 | E8: =COUNTIFS(元データ!$AO:$AO,E$1,元データ!$A:$A,$A8,元データ!$BC:$BC,$B$1) -> 4 | F8: =COUNTIFS(元データ!$AO:$AO,F$1,元データ!$A:$A,$A8,元データ!$BC:$BC,$B$1) -> 0 | G8: =COUNTIFS(元データ!$AO:$AO,G$1,元データ!$A:$A,$A8,元データ!$BC:$BC,$B$1) -> 1 | H8: =COUNTIFS(元データ!$AO:$AO,H$1,元データ!$A:$A,$A8,元データ!$BC:$BC,$B$1) -> 0 | I8: =COUNTIFS(元データ!$AO:$AO,I$1,元データ!$A:$A,$A8,元データ!$BC:$BC,$B$1) -> 0 | J8: =COUNTIFS(元データ!$AO:$AO,J$1,元データ!$A:$A,$A8,元データ!$BC:$BC,$B$1) -> 0 | ... L8: =COUNTIFS(元データ!$AO:$AO,L$1,元データ!$A:$A,$A8,元データ!$BC:$BC,$B$1) -> 0 | N8: =COUNTIFS(元データ!$AO:$AO,N$1,元データ!$A:$A,$A8,元データ!$BC:$BC,$M$1) -> 3 | O8: =COUNTIFS(元データ!$AO:$AO,O$1,元データ!$A:$A,$A8,元データ!$BC:$BC,$M$1) -> 3 | P8: =COUNTIFS(元データ!$AO:$AO,P$1,元データ!$A:$A,$A8,元データ!$BC:$BC,$M$1) -> 9 | Q8: =COUNTIFS(元データ!$AO:$AO,Q$1,元データ!$A:$A,$A8,元データ!$BC:$BC,$M$1) -> 6 | R8: =COUNTIFS(元データ!$AO:$AO,R$1,元データ!$A:$A,$A8,元データ!$BC:$BC,$M$1) -> 1 | S8: =COUNTIFS(元データ!$AO:$AO,S$1,元データ!$A:$A,$A8,元データ!$BC:$BC,$M$1) -> 0 | T8: =COUNTIFS(元データ!$AO:$AO,T$1,元データ!$A:$A,$A8,元データ!$BC:$BC,$M$1) -> 0 | U8: =COUNTIFS(元データ!$AO:$AO,U$1,元データ!$A:$A,$A8,元データ!$BC:$BC,$M$1) -> 0 | ... W8: =COUNTIFS(元データ!$AO:$AO,W$1,元データ!$A:$A,$A8,元データ!$BC:$BC,$M$1) -> 0
A9: 7 | B9: 福島県 | C9: =COUNTIFS(元データ!$AO:$AO,C$1,元データ!$A:$A,$A9,元データ!$BC:$BC,$B$1) -> 4 | D9: =COUNTIFS(元データ!$AO:$AO,D$1,元データ!$A:$A,$A9,元データ!$BC:$BC,$B$1) -> 4 | E9: =COUNTIFS(元データ!$AO:$AO,E$1,元データ!$A:$A,$A9,元データ!$BC:$BC,$B$1) -> 4 | F9: =COUNTIFS(元データ!$AO:$AO,F$1,元データ!$A:$A,$A9,元データ!$BC:$BC,$B$1) -> 1 | G9: =COUNTIFS(元データ!$AO:$AO,G$1,元データ!$A:$A,$A9,元データ!$BC:$BC,$B$1) -> 0 | H9: =COUNTIFS(元データ!$AO:$AO,H$1,元データ!$A:$A,$A9,元データ!$BC:$BC,$B$1) -> 0 | I9: =COUNTIFS(元データ!$AO:$AO,I$1,元データ!$A:$A,$A9,元データ!$BC:$BC,$B$1) -> 0 | J9: =COUNTIFS(元データ!$AO:$AO,J$1,元データ!$A:$A,$A9,元データ!$BC:$BC,$B$1) -> 0 | ... L9: =COUNTIFS(元データ!$AO:$AO,L$1,元データ!$A:$A,$A9,元データ!$BC:$BC,$B$1) -> 0 | N9: =COUNTIFS(元データ!$AO:$AO,N$1,元データ!$A:$A,$A9,元データ!$BC:$BC,$M$1) -> 13 | O9: =COUNTIFS(元データ!$AO:$AO,O$1,元データ!$A:$A,$A9,元データ!$BC:$BC,$M$1) -> 11 | P9: =COUNTIFS(元データ!$AO:$AO,P$1,元データ!$A:$A,$A9,元データ!$BC:$BC,$M$1) -> 11 | Q9: =COUNTIFS(元データ!$AO:$AO,Q$1,元データ!$A:$A,$A9,元データ!$BC:$BC,$M$1) -> 10 | R9: =COUNTIFS(元データ!$AO:$AO,R$1,元データ!$A:$A,$A9,元データ!$BC:$BC,$M$1) -> 0 | S9: =COUNTIFS(元データ!$AO:$AO,S$1,元データ!$A:$A,$A9,元データ!$BC:$BC,$M$1) -> 1 | T9: =COUNTIFS(元データ!$AO:$AO,T$1,元データ!$A:$A,$A9,元データ!$BC:$BC,$M$1) -> 0 | U9: =COUNTIFS(元データ!$AO:$AO,U$1,元データ!$A:$A,$A9,元データ!$BC:$BC,$M$1) -> 0 | ... W9: =COUNTIFS(元データ!$AO:$AO,W$1,元データ!$A:$A,$A9,元データ!$BC:$BC,$M$1) -> 0
A10: 8 | B10: 茨城県 | C10: =COUNTIFS(元データ!$AO:$AO,C$1,元データ!$A:$A,$A10,元データ!$BC:$BC,$B$1) -> 14 | D10: =COUNTIFS(元データ!$AO:$AO,D$1,元データ!$A:$A,$A10,元データ!$BC:$BC,$B$1) -> 8 | E10: =COUNTIFS(元データ!$AO:$AO,E$1,元データ!$A:$A,$A10,元データ!$BC:$BC,$B$1) -> 7 | F10: =COUNTIFS(元データ!$AO:$AO,F$1,元データ!$A:$A,$A10,元データ!$BC:$BC,$B$1) -> 3 | G10: =COUNTIFS(元データ!$AO:$AO,G$1,元データ!$A:$A,$A10,元データ!$BC:$BC,$B$1) -> 0 | H10: =COUNTIFS(元データ!$AO:$AO,H$1,元データ!$A:$A,$A10,元データ!$BC:$BC,$B$1) -> 0 | I10: =COUNTIFS(元データ!$AO:$AO,I$1,元データ!$A:$A,$A10,元データ!$BC:$BC,$B$1) -> 0 | J10: =COUNTIFS(元データ!$AO:$AO,J$1,元データ!$A:$A,$A10,元データ!$BC:$BC,$B$1) -> 0 | ... L10: =COUNTIFS(元データ!$AO:$AO,L$1,元データ!$A:$A,$A10,元データ!$BC:$BC,$B$1) -> 0 | N10: =COUNTIFS(元データ!$AO:$AO,N$1,元データ!$A:$A,$A10,元データ!$BC:$BC,$M$1) -> 5 | O10: =COUNTIFS(元データ!$AO:$AO,O$1,元データ!$A:$A,$A10,元データ!$BC:$BC,$M$1) -> 2 | P10: =COUNTIFS(元データ!$AO:$AO,P$1,元データ!$A:$A,$A10,元データ!$BC:$BC,$M$1) -> 3 | Q10: =COUNTIFS(元データ!$AO:$AO,Q$1,元データ!$A:$A,$A10,元データ!$BC:$BC,$M$1) -> 0 | R10: =COUNTIFS(元データ!$AO:$AO,R$1,元データ!$A:$A,$A10,元データ!$BC:$BC,$M$1) -> 1 | S10: =COUNTIFS(元データ!$AO:$AO,S$1,元データ!$A:$A,$A10,元データ!$BC:$BC,$M$1) -> 1 | T10: =COUNTIFS(元データ!$AO:$AO,T$1,元データ!$A:$A,$A10,元データ!$BC:$BC,$M$1) -> 0 | U10: =COUNTIFS(元データ!$AO:$AO,U$1,元データ!$A:$A,$A10,元データ!$BC:$BC,$M$1) -> 0 | ... W10: =COUNTIFS(元データ!$AO:$AO,W$1,元データ!$A:$A,$A10,元データ!$BC:$BC,$M$1) -> 0
A11: 9 | B11: 栃木県 | C11: =COUNTIFS(元データ!$AO:$AO,C$1,元データ!$A:$A,$A11,元データ!$BC:$BC,$B$1) -> 3 | D11: =COUNTIFS(元データ!$AO:$AO,D$1,元データ!$A:$A,$A11,元データ!$BC:$BC,$B$1) -> 4 | E11: =COUNTIFS(元データ!$AO:$AO,E$1,元データ!$A:$A,$A11,元データ!$BC:$BC,$B$1) -> 5 | F11: =COUNTIFS(元データ!$AO:$AO,F$1,元データ!$A:$A,$A11,元データ!$BC:$BC,$B$1) -> 1 | G11: =COUNTIFS(元データ!$AO:$AO,G$1,元データ!$A:$A,$A11,元データ!$BC:$BC,$B$1) -> 1 | H11: =COUNTIFS(元データ!$AO:$AO,H$1,元データ!$A:$A,$A11,元データ!$BC:$BC,$B$1) -> 0 | I11: =COUNTIFS(元データ!$AO:$AO,I$1,元データ!$A:$A,$A11,元データ!$BC:$BC,$B$1) -> 0 | J11: =COUNTIFS(元データ!$AO:$AO,J$1,元データ!$A:$A,$A11,元データ!$BC:$BC,$B$1) -> 0 | ... L11: =COUNTIFS(元データ!$AO:$AO,L$1,元データ!$A:$A,$A11,元データ!$BC:$BC,$B$1) -> 0 | N11: =COUNTIFS(元データ!$AO:$AO,N$1,元データ!$A:$A,$A11,元データ!$BC:$BC,$M$1) -> 3 | O11: =COUNTIFS(元データ!$AO:$AO,O$1,元データ!$A:$A,$A11,元データ!$BC:$BC,$M$1) -> 5 | P11: =COUNTIFS(元データ!$AO:$AO,P$1,元データ!$A:$A,$A11,元データ!$BC:$BC,$M$1) -> 2 | Q11: =COUNTIFS(元データ!$AO:$AO,Q$1,元データ!$A:$A,$A11,元データ!$BC:$BC,$M$1) -> 1 | R11: =COUNTIFS(元データ!$AO:$AO,R$1,元データ!$A:$A,$A11,元データ!$BC:$BC,$M$1) -> 0 | S11: =COUNTIFS(元データ!$AO:$AO,S$1,元データ!$A:$A,$A11,元データ!$BC:$BC,$M$1) -> 0 | T11: =COUNTIFS(元データ!$AO:$AO,T$1,元データ!$A:$A,$A11,元データ!$BC:$BC,$M$1) -> 0 | U11: =COUNTIFS(元データ!$AO:$AO,U$1,元データ!$A:$A,$A11,元データ!$BC:$BC,$M$1) -> 0 | ... W11: =COUNTIFS(元データ!$AO:$AO,W$1,元データ!$A:$A,$A11,元データ!$BC:$BC,$M$1) -> 0
A12: 10 | B12: 群馬県 | C12: =COUNTIFS(元データ!$AO:$AO,C$1,元データ!$A:$A,$A12,元データ!$BC:$BC,$B$1) -> 3 | D12: =COUNTIFS(元データ!$AO:$AO,D$1,元データ!$A:$A,$A12,元データ!$BC:$BC,$B$1) -> 4 | E12: =COUNTIFS(元データ!$AO:$AO,E$1,元データ!$A:$A,$A12,元データ!$BC:$BC,$B$1) -> 5 | F12: =COUNTIFS(元データ!$AO:$AO,F$1,元データ!$A:$A,$A12,元データ!$BC:$BC,$B$1) -> 0 | G12: =COUNTIFS(元データ!$AO:$AO,G$1,元データ!$A:$A,$A12,元データ!$BC:$BC,$B$1) -> 0 | H12: =COUNTIFS(元データ!$AO:$AO,H$1,元データ!$A:$A,$A12,元データ!$BC:$BC,$B$1) -> 0 | I12: =COUNTIFS(元データ!$AO:$AO,I$1,元データ!$A:$A,$A12,元データ!$BC:$BC,$B$1) -> 0 | J12: =COUNTIFS(元データ!$AO:$AO,J$1,元データ!$A:$A,$A12,元データ!$BC:$BC,$B$1) -> 0 | ... L12: =COUNTIFS(元データ!$AO:$AO,L$1,元データ!$A:$A,$A12,元データ!$BC:$BC,$B$1) -> 0 | N12: =COUNTIFS(元データ!$AO:$AO,N$1,元データ!$A:$A,$A12,元データ!$BC:$BC,$M$1) -> 12 | O12: =COUNTIFS(元データ!$AO:$AO,O$1,元データ!$A:$A,$A12,元データ!$BC:$BC,$M$1) -> 5 | P12: =COUNTIFS(元データ!$AO:$AO,P$1,元データ!$A:$A,$A12,元データ!$BC:$BC,$M$1) -> 5 | Q12: =COUNTIFS(元データ!$AO:$AO,Q$1,元データ!$A:$A,$A12,元データ!$BC:$BC,$M$1) -> 1 | R12: =COUNTIFS(元データ!$AO:$AO,R$1,元データ!$A:$A,$A12,元データ!$BC:$BC,$M$1) -> 0 | S12: =COUNTIFS(元データ!$AO:$AO,S$1,元データ!$A:$A,$A12,元データ!$BC:$BC,$M$1) -> 0 | T12: =COUNTIFS(元データ!$AO:$AO,T$1,元データ!$A:$A,$A12,元データ!$BC:$BC,$M$1) -> 0 | U12: =COUNTIFS(元データ!$AO:$AO,U$1,元データ!$A:$A,$A12,元データ!$BC:$BC,$M$1) -> 0 | ... W12: =COUNTIFS(元データ!$AO:$AO,W$1,元データ!$A:$A,$A12,元データ!$BC:$BC,$M$1) -> 0
A13: 11 | B13: 埼玉県 | C13: =COUNTIFS(元データ!$AO:$AO,C$1,元データ!$A:$A,$A13,元データ!$BC:$BC,$B$1) -> 10 | D13: =COUNTIFS(元データ!$AO:$AO,D$1,元データ!$A:$A,$A13,元データ!$BC:$BC,$B$1) -> 16 | E13: =COUNTIFS(元データ!$AO:$AO,E$1,元データ!$A:$A,$A13,元データ!$BC:$BC,$B$1) -> 12 | F13: =COUNTIFS(元データ!$AO:$AO,F$1,元データ!$A:$A,$A13,元データ!$BC:$BC,$B$1) -> 1 | G13: =COUNTIFS(元データ!$AO:$AO,G$1,元データ!$A:$A,$A13,元データ!$BC:$BC,$B$1) -> 1 | H13: =COUNTIFS(元データ!$AO:$AO,H$1,元データ!$A:$A,$A13,元データ!$BC:$BC,$B$1) -> 0 | I13: =COUNTIFS(元データ!$AO:$AO,I$1,元データ!$A:$A,$A13,元データ!$BC:$BC,$B$1) -> 0 | J13: =COUNTIFS(元データ!$AO:$AO,J$1,元データ!$A:$A,$A13,元データ!$BC:$BC,$B$1) -> 0 | ... L13: =COUNTIFS(元データ!$AO:$AO,L$1,元データ!$A:$A,$A13,元データ!$BC:$BC,$B$1) -> 0 | N13: =COUNTIFS(元データ!$AO:$AO,N$1,元データ!$A:$A,$A13,元データ!$BC:$BC,$M$1) -> 8 | O13: =COUNTIFS(元データ!$AO:$AO,O$1,元データ!$A:$A,$A13,元データ!$BC:$BC,$M$1) -> 6 | P13: =COUNTIFS(元データ!$AO:$AO,P$1,元データ!$A:$A,$A13,元データ!$BC:$BC,$M$1) -> 6 | Q13: =COUNTIFS(元データ!$AO:$AO,Q$1,元データ!$A:$A,$A13,元データ!$BC:$BC,$M$1) -> 3 | R13: =COUNTIFS(元データ!$AO:$AO,R$1,元データ!$A:$A,$A13,元データ!$BC:$BC,$M$1) -> 0 | S13: =COUNTIFS(元データ!$AO:$AO,S$1,元データ!$A:$A,$A13,元データ!$BC:$BC,$M$1) -> 0 | T13: =COUNTIFS(元データ!$AO:$AO,T$1,元データ!$A:$A,$A13,元データ!$BC:$BC,$M$1) -> 0 | U13: =COUNTIFS(元データ!$AO:$AO,U$1,元データ!$A:$A,$A13,元データ!$BC:$BC,$M$1) -> 0 | ... W13: =COUNTIFS(元データ!$AO:$AO,W$1,元データ!$A:$A,$A13,元データ!$BC:$BC,$M$1) -> 0
A14: 12 | B14: 千葉県 | C14: =COUNTIFS(元データ!$AO:$AO,C$1,元データ!$A:$A,$A14,元データ!$BC:$BC,$B$1) -> 8 | D14: =COUNTIFS(元データ!$AO:$AO,D$1,元データ!$A:$A,$A14,元データ!$BC:$BC,$B$1) -> 13 | E14: =COUNTIFS(元データ!$AO:$AO,E$1,元データ!$A:$A,$A14,元データ!$BC:$BC,$B$1) -> 11 | F14: =COUNTIFS(元データ!$AO:$AO,F$1,元データ!$A:$A,$A14,元データ!$BC:$BC,$B$1) -> 3 | G14: =COUNTIFS(元データ!$AO:$AO,G$1,元データ!$A:$A,$A14,元データ!$BC:$BC,$B$1) -> 2 | H14: =COUNTIFS(元データ!$AO:$AO,H$1,元データ!$A:$A,$A14,元データ!$BC:$BC,$B$1) -> 0 | I14: =COUNTIFS(元データ!$AO:$AO,I$1,元データ!$A:$A,$A14,元データ!$BC:$BC,$B$1) -> 0 | J14: =COUNTIFS(元データ!$AO:$AO,J$1,元データ!$A:$A,$A14,元データ!$BC:$BC,$B$1) -> 0 | ... L14: =COUNTIFS(元データ!$AO:$AO,L$1,元データ!$A:$A,$A14,元データ!$BC:$BC,$B$1) -> 0 | N14: =COUNTIFS(元データ!$AO:$AO,N$1,元データ!$A:$A,$A14,元データ!$BC:$BC,$M$1) -> 4 | O14: =COUNTIFS(元データ!$AO:$AO,O$1,元データ!$A:$A,$A14,元データ!$BC:$BC,$M$1) -> 5 | P14: =COUNTIFS(元データ!$AO:$AO,P$1,元データ!$A:$A,$A14,元データ!$BC:$BC,$M$1) -> 3 | Q14: =COUNTIFS(元データ!$AO:$AO,Q$1,元データ!$A:$A,$A14,元データ!$BC:$BC,$M$1) -> 1 | R14: =COUNTIFS(元データ!$AO:$AO,R$1,元データ!$A:$A,$A14,元データ!$BC:$BC,$M$1) -> 1 | S14: =COUNTIFS(元データ!$AO:$AO,S$1,元データ!$A:$A,$A14,元データ!$BC:$BC,$M$1) -> 3 | T14: =COUNTIFS(元データ!$AO:$AO,T$1,元データ!$A:$A,$A14,元データ!$BC:$BC,$M$1) -> 0 | U14: =COUNTIFS(元データ!$AO:$AO,U$1,元データ!$A:$A,$A14,元データ!$BC:$BC,$M$1) -> 0 | ... W14: =COUNTIFS(元データ!$AO:$AO,W$1,元データ!$A:$A,$A14,元データ!$BC:$BC,$M$1) -> 0
... A49: 47 | B49: 沖縄県 | C49: =COUNTIFS(元データ!$AO:$AO,C$1,元データ!$A:$A,$A49,元データ!$BC:$BC,$B$1) -> 4 | D49: =COUNTIFS(元データ!$AO:$AO,D$1,元データ!$A:$A,$A49,元データ!$BC:$BC,$B$1) -> 6 | E49: =COUNTIFS(元データ!$AO:$AO,E$1,元データ!$A:$A,$A49,元データ!$BC:$BC,$B$1) -> 1 | F49: =COUNTIFS(元データ!$AO:$AO,F$1,元データ!$A:$A,$A49,元データ!$BC:$BC,$B$1) -> 0 | G49: =COUNTIFS(元データ!$AO:$AO,G$1,元データ!$A:$A,$A49,元データ!$BC:$BC,$B$1) -> 0 | H49: =COUNTIFS(元データ!$AO:$AO,H$1,元データ!$A:$A,$A49,元データ!$BC:$BC,$B$1) -> 0 | I49: =COUNTIFS(元データ!$AO:$AO,I$1,元データ!$A:$A,$A49,元データ!$BC:$BC,$B$1) -> 0 | J49: =COUNTIFS(元データ!$AO:$AO,J$1,元データ!$A:$A,$A49,元データ!$BC:$BC,$B$1) -> 0 | ... L49: =COUNTIFS(元データ!$AO:$AO,L$1,元データ!$A:$A,$A49,元データ!$BC:$BC,$B$1) -> 0 | N49: =COUNTIFS(元データ!$AO:$AO,N$1,元データ!$A:$A,$A49,元データ!$BC:$BC,$M$1) -> 9 | O49: =COUNTIFS(元データ!$AO:$AO,O$1,元データ!$A:$A,$A49,元データ!$BC:$BC,$M$1) -> 7 | P49: =COUNTIFS(元データ!$AO:$AO,P$1,元データ!$A:$A,$A49,元データ!$BC:$BC,$M$1) -> 10 | Q49: =COUNTIFS(元データ!$AO:$AO,Q$1,元データ!$A:$A,$A49,元データ!$BC:$BC,$M$1) -> 2 | R49: =COUNTIFS(元データ!$AO:$AO,R$1,元データ!$A:$A,$A49,元データ!$BC:$BC,$M$1) -> 2 | S49: =COUNTIFS(元データ!$AO:$AO,S$1,元データ!$A:$A,$A49,元データ!$BC:$BC,$M$1) -> 0 | T49: =COUNTIFS(元データ!$AO:$AO,T$1,元データ!$A:$A,$A49,元データ!$BC:$BC,$M$1) -> 0 | U49: =COUNTIFS(元データ!$AO:$AO,U$1,元データ!$A:$A,$A49,元データ!$BC:$BC,$M$1) -> 0 | ... W49: =COUNTIFS(元データ!$AO:$AO,W$1,元データ!$A:$A,$A49,元データ!$BC:$BC,$M$1) -> 0
B50: 合計 | C50: =SUM(C3:C49) -> 244 | D50: =SUM(D3:D49) -> 250 | E50: =SUM(E3:E49) -> 246 | F50: =SUM(F3:F49) -> 52 | G50: =SUM(G3:G49) -> 16 | H50: =SUM(H3:H49) -> 2 | I50: =SUM(I3:I49) -> 1 | J50: =SUM(J3:J49) -> 1 | ... L50: =SUM(L3:L49) -> 0 | N50: =SUM(N3:N49) -> 297 | O50: =SUM(O3:O49) -> 242 | P50: =SUM(P3:P49) -> 236 | Q50: =SUM(Q3:Q49) -> 85 | R50: =SUM(R3:R49) -> 42 | S50: =SUM(S3:S49) -> 12 | T50: =SUM(T3:T49) -> 4 | U50: =SUM(U3:U49) -> 6 | ... W50: =SUM(W3:W49) -> 1

Sheet 元データ
B2: （２）都道府県知事、市区町村長
B4: 番号 | C4: 都道府県・ 市区町村名 | N4: 都道府県知事・ 市区町村長名 | W4: 任期満了年月日 | AO4: 連続就任回数 | AP4: 党派名 | AW4: 男女の別
W6: 年 | AC6: 月 | AI6: 日
A7: 1 | B7: 都道府県 | C7: 北海道 | N7: 高橋はるみ | AO7: 4 | AP7: 無所属 | AW7: 女 | BB7: =RIGHT(C7,1) -> 道 | BC7: =IF(OR(BB7="市",BB7="区"),"市区",IF(OR(BB7="町",BB7="村"),"町村","都道府県")) -> 都道府県
A8: 1 | B8: 1 | C8: 札幌市 | N8: 秋元克広 | AO8: 1 | AP8: 無所属 | AW8: 男 | BB8: =RIGHT(C8,1) -> 市 | BC8: =IF(OR(BB8="市",BB8="区"),"市区",IF(OR(BB8="町",BB8="村"),"町村","都道府県")) -> 市区
A9: 1 | B9: 2 | C9: 函館市 | N9: 工藤壽樹 | AO9: 2 | AP9: 無所属 | AW9: 男 | BB9: =RIGHT(C9,1) -> 市 | BC9: =IF(OR(BB9="市",BB9="区"),"市区",IF(OR(BB9="町",BB9="村"),"町村","都道府県")) -> 市区
A10: 1 | B10: 3 | C10: 小樽市 | N10: 森井秀明 | AO10: 1 | AP10: 無所属 | AW10: 男 | BB10: =RIGHT(C10,1) -> 市 | BC10: =IF(OR(BB10="市",BB10="区"),"市区",IF(OR(BB10="町",BB10="村"),"町村","都道府県")) -> 市区
A11: 1 | B11: 4 | C11: 旭川市 | N11: 西川将人 | AO11: 3 | AP11: 無所属 | AW11: 男 | BB11: =RIGHT(C11,1) -> 市 | BC11: =IF(OR(BB11="市",BB11="区"),"市区",IF(OR(BB11="町",BB11="村"),"町村","都道府県")) -> 市区
A12: 1 | B12: 5 | C12: 室蘭市 | N12: 青山剛 | AO12: 2 | AP12: 無所属 | AW12: 男 | BB12: =RIGHT(C12,1) -> 市 | BC12: =IF(OR(BB12="市",BB12="区"),"市区",IF(OR(BB12="町",BB12="村"),"町村","都道府県")) -> 市区
A13: 1 | B13: 6 | C13: 釧路市 | N13: 蝦名大也 | AO13: 3 | AP13: 無所属 | AW13: 男 | BB13: =RIGHT(C13,1) -> 市 | BC13: =IF(OR(BB13="市",BB13="区"),"市区",IF(OR(BB13="町",BB13="村"),"町村","都道府県")) -> 市区
A14: 1 | B14: 7 | C14: 帯広市 | N14: 米沢則寿 | AO14: 2 | AP14: 無所属 | AW14: 男 | BB14: =RIGHT(C14,1) -> 市 | BC14: =IF(OR(BB14="市",BB14="区"),"市区",IF(OR(BB14="町",BB14="村"),"町村","都道府県")) -> 市区
A15: 1 | B15: 8 | C15: 北見市 | N15: 辻直孝 | AO15: 1 | AP15: 無所属 | AW15: 男 | BB15: =RIGHT(C15,1) -> 市 | BC15: =IF(OR(BB15="市",BB15="区"),"市区",IF(OR(BB15="町",BB15="村"),"町村","都道府県")) -> 市区
A16: 1 | B16: 9 | C16: 夕張市 | N16: 鈴木直道 | AO16: 2 | AP16: 無所属 | AW16: 男 | BB16: =RIGHT(C16,1) -> 市 | BC16: =IF(OR(BB16="市",BB16="区"),"市区",IF(OR(BB16="町",BB16="村"),"町村","都道府県")) -> 市区
A17: 1 | B17: 10 | C17: 岩見沢市 | N17: 松野哲 | AO17: 2 | AP17: 無所属 | AW17: 男 | BB17: =RIGHT(C17,1) -> 市 | BC17: =IF(OR(BB17="市",BB17="区"),"市区",IF(OR(BB17="町",BB17="村"),"町村","都道府県")) -> 市区
A18: 1 | B18: 11 | C18: 網走市 | N18: 水谷洋一 | AO18: 2 | AP18: 無所属 | AW18: 男 | BB18: =RIGHT(C18,1) -> 市 | BC18: =IF(OR(BB18="市",BB18="区"),"市区",IF(OR(BB18="町",BB18="村"),"町村","都道府県")) -> 市区
A19: 1 | B19: 12 | C19: 留萌市 | N19: 高橋定敏 | AO19: 3 | AP19: 無所属 | AW19: 男 | BB19: =RIGHT(C19,1) -> 市 | BC19: =IF(OR(BB19="市",BB19="区"),"市区",IF(OR(BB19="町",BB19="村"),"町村","都道府県")) -> 市区
... A186: 1 | B186: 179 | C186: 羅臼町 | N186: 湊屋稔 | AO186: 1 | AP186: 無所属 | AW186: 男 | BB186: =RIGHT(C186,1) -> 町 | BC186: =IF(OR(BB186="市",BB186="区"),"市区",IF(OR(BB186="町",BB186="村"),"町村","都道府県")) -> 町村
A187: 2 | B187: 都道府県 | C187: 青森県 | N187: 三村申吾 | AO187: 4 | AP187: 無所属 | AW187: 男 | BB187: =RIGHT(C187,1) -> 県 | BC187: =IF(OR(BB187="市",BB187="区"),"市区",IF(OR(BB187="町",BB187="村"),"町村","都道府県")) -> 都道府県
A188: 2 | B188: 1 | C188: 青森市 | N188: 小野寺晃彦 | AO188: 1 | AP188: 無所属 | AW188: 男 | BB188: =RIGHT(C188,1) -> 市 | BC188: =IF(OR(BB188="市",BB188="区"),"市区",IF(OR(BB188="町",BB188="村"),"町村","都道府県")) -> 市区
A189: 2 | B189: 2 | C189: 弘前市 | N189: ●西憲之 ●は葛のヒが兦 | AO189: 2 | AP189: 無所属 | AW189: 男 | BB189: =RIGHT(C189,1) -> 市 | BC189: =IF(OR(BB189="市",BB189="区"),"市区",IF(OR(BB189="町",BB189="村"),"町村","都道府県")) -> 市区
A190: 2 | B190: 3 | C190: 八戸市 | N190: 小林眞 | AO190: 3 | AP190: 無所属 | AW190: 男 | BB190: =RIGHT(C190,1) -> 市 | BC190: =IF(OR(BB190="市",BB190="区"),"市区",IF(OR(BB190="町",BB190="村"),"町村","都道府県")) -> 市区
A191: 2 | B191: 4 | C191: 黒石市 | N191: 髙樋憲 | AO191: 1 | AP191: 無所属 | AW191: 男 | BB191: =RIGHT(C191,1) -> 市 | BC191: =IF(OR(BB191="市",BB191="区"),"市区",IF(OR(BB191="町",BB191="村"),"町村","都道府県")) -> 市区
A192: 2 | B192: 5 | C192: 五所川原市 | N192: 平山誠敏 | AO192: 3 | AP192: 無所属 | AW192: 男 | BB192: =RIGHT(C192,1) -> 市 | BC192: =IF(OR(BB192="市",BB192="区"),"市区",IF(OR(BB192="町",BB192="村"),"町村","都道府県")) -> 市区
A193: 2 | B193: 6 | C193: 十和田市 | N193: 小山田久 | AO193: 2 | AP193: 無所属 | AW193: 男 | BB193: =RIGHT(C193,1) -> 市 | BC193: =IF(OR(BB193="市",BB193="区"),"市区",IF(OR(BB193="町",BB193="村"),"町村","都道府県")) -> 市区
A194: 2 | B194: 7 | C194: 三沢市 | N194: 種市一正 | AO194: 3 | AP194: 無所属 | AW194: 男 | BB194: =RIGHT(C194,1) -> 市 | BC194: =IF(OR(BB194="市",BB194="区"),"市区",IF(OR(BB194="町",BB194="村"),"町村","都道府県")) -> 市区
A195: 2 | B195: 8 | C195: むつ市 | N195: 宮下宗一郎 | AO195: 1 | AP195: 無所属 | AW195: 男 | BB195: =RIGHT(C195,1) -> 市 | BC195: =IF(OR(BB195="市",BB195="区"),"市区",IF(OR(BB195="町",BB195="村"),"町村","都道府県")) -> 市区
A196: 2 | B196: 9 | C196: つがる市 | N196: 福島弘芳 | AO196: 3 | AP196: 無所属 | AW196: 男 | BB196: =RIGHT(C196,1) -> 市 | BC196: =IF(OR(BB196="市",BB196="区"),"市区",IF(OR(BB196="町",BB196="村"),"町村","都道府県")) -> 市区
A197: 2 | B197: 10 | C197: 平川市 | N197: 長尾忠行 | AO197: 1 | AP197: 無所属 | AW197: 男 | BB197: =RIGHT(C197,1) -> 市 | BC197: =IF(OR(BB197="市",BB197="区"),"市区",IF(OR(BB197="町",BB197="村"),"町村","都道府県")) -> 市区
A198: 2 | B198: 11 | C198: 平内町 | N198: 船橋茂久 | AO198: 2 | AP198: 無所属 | AW198: 男 | BB198: =RIGHT(C198,1) -> 町 | BC198: =IF(OR(BB198="市",BB198="区"),"市区",IF(OR(BB198="町",BB198="村"),"町村","都道府県")) -> 町村
A199: 2 | B199: 12 | C199: 今別町 | N199: 阿部義治 | AO199: 1 | AP199: 無所属 | AW199: 男 | BB199: =RIGHT(C199,1) -> 町 | BC199: =IF(OR(BB199="市",BB199="区"),"市区",IF(OR(BB199="町",BB199="村"),"町村","都道府県")) -> 町村
... A227: 2 | B227: 40 | C227: 新郷村 | N227: 須藤良美 | AO227: 3 | AP227: 無所属 | AW227: 男 | BB227: =RIGHT(C227,1) -> 村 | BC227: =IF(OR(BB227="市",BB227="区"),"市区",IF(OR(BB227="町",BB227="村"),"町村","都道府県")) -> 町村
A228: 3 | B228: 都道府県 | C228: 岩手県 | N228: 達増拓也 | AO228: 3 | AP228: 無所属 | AW228: 男 | BB228: =RIGHT(C228,1) -> 県 | BC228: =IF(OR(BB228="市",BB228="区"),"市区",IF(OR(BB228="町",BB228="村"),"町村","都道府県")) -> 都道府県
A229: 3 | B229: 1 | C229: 盛岡市 | N229: 谷藤裕明 | AO229: 4 | AP229: 無所属 | AW229: 男 | BB229: =RIGHT(C229,1) -> 市 | BC229: =IF(OR(BB229="市",BB229="区"),"市区",IF(OR(BB229="町",BB229="村"),"町村","都道府県")) -> 市区
A230: 3 | B230: 2 | C230: 宮古市 | N230: 山本正徳 | AO230: 2 | AP230: 無所属 | AW230: 男 | BB230: =RIGHT(C230,1) -> 市 | BC230: =IF(OR(BB230="市",BB230="区"),"市区",IF(OR(BB230="町",BB230="村"),"町村","都道府県")) -> 市区
A231: 3 | B231: 3 | C231: 大船渡市 | N231: 戸田公明 | AO231: 2 | AP231: 無所属 | AW231: 男 | BB231: =RIGHT(C231,1) -> 市 | BC231: =IF(OR(BB231="市",BB231="区"),"市区",IF(OR(BB231="町",BB231="村"),"町村","都道府県")) -> 市区
A232: 3 | B232: 4 | C232: 花巻市 | N232: 上田東一 | AO232: 1 | AP232: 無所属 | AW232: 男 | BB232: =RIGHT(C232,1) -> 市 | BC232: =IF(OR(BB232="市",BB232="区"),"市区",IF(OR(BB232="町",BB232="村"),"町村","都道府県")) -> 市区
A233: 3 | B233: 5 | C233: 北上市 | N233: 髙橋敏彦 | AO233: 2 | AP233: 無所属 | AW233: 男 | BB233: =RIGHT(C233,1) -> 市 | BC233: =IF(OR(BB233="市",BB233="区"),"市区",IF(OR(BB233="町",BB233="村"),"町村","都道府県")) -> 市区
A234: 3 | B234: 6 | C234: 久慈市 | N234: 遠藤譲一 | AO234: 1 | AP234: 無所属 | AW234: 男 | BB234: =RIGHT(C234,1) -> 市 | BC234: =IF(OR(BB234="市",BB234="区"),"市区",IF(OR(BB234="町",BB234="村"),"町村","都道府県")) -> 市区
A235: 3 | B235: 7 | C235: 遠野市 | N235: 本田敏秋 | AO235: 3 | AP235: 無所属 | AW235: 男 | BB235: =RIGHT(C235,1) -> 市 | BC235: =IF(OR(BB235="市",BB235="区"),"市区",IF(OR(BB235="町",BB235="村"),"町村","都道府県")) -> 市区
A236: 3 | B236: 8 | C236: 一関市 | N236: 勝部修 | AO236: 2 | AP236: 無所属 | AW236: 男 | BB236: =RIGHT(C236,1) -> 市 | BC236: =IF(OR(BB236="市",BB236="区"),"市区",IF(OR(BB236="町",BB236="村"),"町村","都道府県")) -> 市区
...

Sheet H28.11.1任期満了日
R1: 起算日 | S1: 終了日
R2: 29.01.01 | S2: 29.12.31
A3: 都道府県名 | C3: 都道府県・ | D3: 都道府県知事・ | F3: 任期満了年月日 | L3: 任期満了年月日 | S3: 団体名 | T3: 首長 | V3: 対象なら1 | X3: 対象なら1 | Y3: 該当なら1
C4: 市区町村名 | D4: 市区町村長名 | F4: 年 | H4: 月 | J4: 日 | L4: 年 | N4: 月 | P4: 日
A5: 北海道 | C5: 北海道 | D5: 高橋はるみ | F5: 3 | G5: 1 | H5: 0 | I5: 4 | J5: 2 | K5: 2 | L5: 3 | M5: 1 | N5: 0 | O5: 4 | P5: 2 | Q5: 9 | R5: =A5 -> 北海道 | S5: =C5 -> 北海道 | T5: =D5&E5 -> 高橋はるみ | U5: =F5&G5&"."&H5&I5&"."&J5&K5 -> 31.04.22 | V5: =IF(AND(U5>=$R$2,U5<=$S$2),1,0) -> 0 | W5: =L5&M5&"."&N5&O5&"."&P5&Q5 -> 31.04.29 | X5: =IF(AND(W5>=$R$2,W5<=$S$2),1,0) -> 0 | Y5: =IF(OR(V5=1,X5=1),1,0) -> 0
A6: 北海道 | C6: 札幌市 | D6: 秋元克広 | F6: 3 | G6: 1 | H6: 0 | I6: 5 | J6: 0 | K6: 1 | L6: 3 | M6: 1 | N6: 0 | O6: 5 | P6: 0 | Q6: 1 | R6: =A6 -> 北海道 | S6: =C6 -> 札幌市 | T6: =D6&E6 -> 秋元克広 | U6: =F6&G6&"."&H6&I6&"."&J6&K6 -> 31.05.01 | V6: =IF(AND(U6>=$R$2,U6<=$S$2),1,0) -> 0 | W6: =L6&M6&"."&N6&O6&"."&P6&Q6 -> 31.05.01 | X6: =IF(AND(W6>=$R$2,W6<=$S$2),1,0) -> 0 | Y6: =IF(OR(V6=1,X6=1),1,0) -> 0
A7: 北海道 | C7: 函館市 | D7: 工藤壽樹 | F7: 3 | G7: 1 | H7: 0 | I7: 4 | J7: 2 | K7: 6 | L7: 3 | M7: 1 | N7: 0 | O7: 5 | P7: 0 | Q7: 1 | R7: =A7 -> 北海道 | S7: =C7 -> 函館市 | T7: =D7&E7 -> 工藤壽樹 | U7: =F7&G7&"."&H7&I7&"."&J7&K7 -> 31.04.26 | V7: =IF(AND(U7>=$R$2,U7<=$S$2),1,0) -> 0 | W7: =L7&M7&"."&N7&O7&"."&P7&Q7 -> 31.05.01 | X7: =IF(AND(W7>=$R$2,W7<=$S$2),1,0) -> 0 | Y7: =IF(OR(V7=1,X7=1),1,0) -> 0
A8: 北海道 | C8: 小樽市 | D8: 森井秀明 | F8: 3 | G8: 1 | H8: 0 | I8: 4 | J8: 2 | K8: 9 | L8: 3 | M8: 1 | N8: 0 | O8: 4 | P8: 3 | Q8: 0 | R8: =A8 -> 北海道 | S8: =C8 -> 小樽市 | T8: =D8&E8 -> 森井秀明 | U8: =F8&G8&"."&H8&I8&"."&J8&K8 -> 31.04.29 | V8: =IF(AND(U8>=$R$2,U8<=$S$2),1,0) -> 0 | W8: =L8&M8&"."&N8&O8&"."&P8&Q8 -> 31.04.30 | X8: =IF(AND(W8>=$R$2,W8<=$S$2),1,0) -> 0 | Y8: =IF(OR(V8=1,X8=1),1,0) -> 0
A9: 北海道 | C9: 旭川市 | D9: 西川将人 | F9: 3 | G9: 0 | H9: 1 | I9: 1 | J9: 1 | K9: 6 | L9: 3 | M9: 1 | N9: 0 | O9: 5 | P9: 0 | Q9: 1 | R9: =A9 -> 北海道 | S9: =C9 -> 旭川市 | T9: =D9&E9 -> 西川将人 | U9: =F9&G9&"."&H9&I9&"."&J9&K9 -> 30.11.16 | V9: =IF(AND(U9>=$R$2,U9<=$S$2),1,0) -> 0 | W9: =L9&M9&"."&N9&O9&"."&P9&Q9 -> 31.05.01 | X9: =IF(AND(W9>=$R$2,W9<=$S$2),1,0) -> 0 | Y9: =IF(OR(V9=1,X9=1),1,0) -> 0
A10: 北海道 | C10: 室蘭市 | D10: 青山剛 | F10: 3 | G10: 1 | H10: 0 | I10: 4 | J10: 3 | K10: 0 | L10: 3 | M10: 1 | N10: 0 | O10: 4 | P10: 3 | Q10: 0 | R10: =A10 -> 北海道 | S10: =C10 -> 室蘭市 | T10: =D10&E10 -> 青山剛 | U10: =F10&G10&"."&H10&I10&"."&J10&K10 -> 31.04.30 | V10: =IF(AND(U10>=$R$2,U10<=$S$2),1,0) -> 0 | W10: =L10&M10&"."&N10&O10&"."&P10&Q10 -> 31.04.30 | X10: =IF(AND(W10>=$R$2,W10<=$S$2),1,0) -> 0 | Y10: =IF(OR(V10=1,X10=1),1,0) -> 0
A11: 北海道 | C11: 釧路市 | D11: 蝦名大也 | F11: 3 | G11: 2 | H11: 1 | I11: 1 | J11: 0 | K11: 1 | L11: 3 | M11: 1 | N11: 0 | O11: 4 | P11: 3 | Q11: 0 | R11: =A11 -> 北海道 | S11: =C11 -> 釧路市 | T11: =D11&E11 -> 蝦名大也 | U11: =F11&G11&"."&H11&I11&"."&J11&K11 -> 32.11.01 | V11: =IF(AND(U11>=$R$2,U11<=$S$2),1,0) -> 0 | W11: =L11&M11&"."&N11&O11&"."&P11&Q11 -> 31.04.30 | X11: =IF(AND(W11>=$R$2,W11<=$S$2),1,0) -> 0 | Y11: =IF(OR(V11=1,X11=1),1,0) -> 0
A12: 北海道 | C12: 帯広市 | D12: 米沢則寿 | F12: 3 | G12: 0 | H12: 0 | I12: 4 | J12: 2 | K12: 0 | L12: 3 | M12: 1 | N12: 0 | O12: 4 | P12: 3 | Q12: 0 | R12: =A12 -> 北海道 | S12: =C12 -> 帯広市 | T12: =D12&E12 -> 米沢則寿 | U12: =F12&G12&"."&H12&I12&"."&J12&K12 -> 30.04.20 | V12: =IF(AND(U12>=$R$2,U12<=$S$2),1,0) -> 0 | W12: =L12&M12&"."&N12&O12&"."&P12&Q12 -> 31.04.30 | X12: =IF(AND(W12>=$R$2,W12<=$S$2),1,0) -> 0 | Y12: =IF(OR(V12=1,X12=1),1,0) -> 0
A13: 北海道 | C13: 北見市 | D13: 辻直孝 | F13: 3 | G13: 1 | H13: 0 | I13: 9 | J13: 2 | K13: 6 | L13: 3 | M13: 0 | N13: 0 | O13: 4 | P13: 0 | Q13: 8 | R13: =A13 -> 北海道 | S13: =C13 -> 北見市 | T13: =D13&E13 -> 辻直孝 | U13: =F13&G13&"."&H13&I13&"."&J13&K13 -> 31.09.26 | V13: =IF(AND(U13>=$R$2,U13<=$S$2),1,0) -> 0 | W13: =L13&M13&"."&N13&O13&"."&P13&Q13 -> 30.04.08 | X13: =IF(AND(W13>=$R$2,W13<=$S$2),1,0) -> 0 | Y13: =IF(OR(V13=1,X13=1),1,0) -> 0
A14: 北海道 | C14: 夕張市 | D14: 鈴木直道 | F14: 3 | G14: 1 | H14: 0 | I14: 4 | J14: 2 | K14: 5 | L14: 3 | M14: 1 | N14: 0 | O14: 4 | P14: 3 | Q14: 0 | R14: =A14 -> 北海道 | S14: =C14 -> 夕張市 | T14: =D14&E14 -> 鈴木直道 | U14: =F14&G14&"."&H14&I14&"."&J14&K14 -> 31.04.25 | V14: =IF(AND(U14>=$R$2,U14<=$S$2),1,0) -> 0 | W14: =L14&M14&"."&N14&O14&"."&P14&Q14 -> 31.04.30 | X14: =IF(AND(W14>=$R$2,W14<=$S$2),1,0) -> 0 | Y14: =IF(OR(V14=1,X14=1),1,0) -> 0
