Workbook
Name _: #REF!
Name ＿月数４: '[1]（４）町村議会'!$G$1:$G$164,'[1]（４）町村議会'!$N$1:$N$164,'[1]（４）町村議会'!$U$1:$U$164,'[1]（４）町村議会'!$AB$1:$AB$164,'[1]（４）町村議会'!$AI$1:$AI$164
Name 愛知４: '[1]（４）町村議会'!#REF!
Name 愛媛: #REF!
Name 愛媛４: '[1]（４）町村議会'!#REF!
Name 茨城４: '[1]（４）町村議会'!#REF!
Name 岡山４: '[1]（４）町村議会'!#REF!
Name 沖縄４: '[1]（４）町村議会'!#REF!
Name 岩手４: '[1]（４）町村議会'!#REF!
Name 岐阜４: '[1]（４）町村議会'!#REF!
Name 宮崎４: '[1]（４）町村議会'!#REF!
Name 宮城４: '[1]（４）町村議会'!#REF!
Name 京都３: '[1]（３）町村長'!#REF!
Name 京都４: '[1]（４）町村議会'!#REF!
Name 熊本４: '[1]（４）町村議会'!#REF!
Name 群馬４: '[1]（４）町村議会'!#REF!
Name 月数４: '[1]（４）町村議会'!#REF!,'[1]（４）町村議会'!#REF!,'[1]（４）町村議会'!#REF!,'[1]（４）町村議会'!#REF!,'[1]（４）町村議会'!#REF!
Name 広島４: '[1]（４）町村議会'!#REF!
Name 香川４: '[1]（４）町村議会'!#REF!
Name 高知４: '[1]（４）町村議会'!#REF!
Name 佐賀４: '[1]（４）町村議会'!#REF!
Name 埼玉４: '[1]（４）町村議会'!#REF!
Name 三重４: '[1]（４）町村議会'!#REF!
Name 山形４: '[1]（４）町村議会'!#REF!
Name 山口４: '[1]（４）町村議会'!#REF!
Name 山梨３: '[1]（３）町村長'!#REF!
Name 山梨４: '[1]（４）町村議会'!#REF!
Name 滋賀４: '[1]（４）町村議会'!#REF!
Name 鹿児島４: '[1]（４）町村議会'!#REF!
Name 秋田４: '[1]（４）町村議会'!#REF!
Name 新潟４: '[1]（４）町村議会'!#REF!
Name 神奈川４: '[1]（４）町村議会'!#REF!
Name 青森４: '[1]（４）町村議会'!#REF!
Name 静岡４: '[1]（４）町村議会'!#REF!
Name 石川４: '[1]（４）町村議会'!#REF!
Name 千葉４: '[1]（４）町村議会'!#REF!
Name 大阪４: '[1]（４）町村議会'!#REF!
Name 大分４: '[1]（４）町村議会'!#REF!
Name 長崎４: '[1]（４）町村議会'!#REF!
Name 長野４: '[1]（４）町村議会'!#REF!
Name 鳥取４: '[1]（４）町村議会'!#REF!
Name 島根４: '[1]（４）町村議会'!#REF!
Name 東京４: '[1]（４）町村議会'!#REF!
Name 徳島４: '[1]（４）町村議会'!#REF!
Name 栃木４: '[1]（４）町村議会'!#REF!
Name 奈良４: '[1]（４）町村議会'!#REF!
Name 富山４: '[1]（４）町村議会'!#REF!
Name 福井４: '[1]（４）町村議会'!#REF!
Name 福岡４: '[1]（４）町村議会'!#REF!
Name 福島４: '[1]（４）町村議会'!#REF!
Name 兵庫: #REF!
Name 兵庫４: '[1]（４）町村議会'!#REF!
Name 北海道４: '[1]（４）町村議会'!#REF!
Name 北海道５: #REF!,#REF!,#REF!,#REF!,#REF!
Name 和歌山４: '[1]（４）町村議会'!#REF!

Sheet 連（知事・政令市）
A1: ２ 地方公共団体の長の連続就任回数調
A3: (1)知事及び政令指定都市長の連続就任回数調
A4: （平成２８年１２月３１日現在）
A5: 区分 | E5: 知事名 | G5: 任期満了年月日 | J5: 就任回数 | L5: 指定都市名 | O5: 市長名 | Q5: 任期満了年月日 | T5: 就任回数 | V5: 連続就任回数
A6: 都道府県
B7: 北海道 | E7: 高橋はるみ | G7: 31 | H7: 4 | I7: 22 | J7: 4 | L7: 札幌市 | O7: 秋元克広 | Q7: 31 | R7: 5 | S7: 1 | T7: 1
B8: 青森県 | E8: 三村申吾 | G8: 31 | H8: 6 | I8: 28 | J8: 4 | V8: 都道府県知事
B9: 岩手県 | E9: 達増拓也 | G9: 31 | H9: 9 | I9: 10 | J9: 3
B10: 宮城県 | E10: 村井嘉浩 | G10: 29 | H10: 11 | I10: 20 | J10: 3 | L10: 仙台市 | O10: 奥山恵美子 | Q10: 29 | R10: 8 | S10: 21 | T10: 2 | V10: １回 | W10: =COUNTIF(J7:J58,"1") -> 9
B11: 秋田県 | E11: 佐竹敬久 | G11: 29 | H11: 4 | I11: 19 | J11: 2
B12: 山形県 | E12: 吉村美栄子 | G12: 29 | H12: 2 | I12: 13 | J12: 2 | V12: ２回 | W12: =COUNTIF(J7:J58,"2") -> 16
B13: 福島県 | E13: 内堀雅雄 | G13: 30 | H13: 11 | I13: 11 | J13: 1
B14: 茨城県 | E14: 橋本 昌 | G14: 29 | H14: 9 | I14: 25 | J14: 6 | V14: ３回 | W14: =COUNTIF(J7:J58,"3") -> 10
B15: 栃木県 | E15: 福田富一 | G15: 32 | H15: 12 | I15: 8 | J15: 4
B16: 群馬県 | E16: 大澤正明 | G16: 31 | H16: 7 | I16: 27 | J16: 3 | V16: ４回 | W16: =COUNTIF(J7:J58,"4") -> 10
B17: 埼玉県 | E17: 上田清司 | G17: 31 | H17: 8 | I17: 30 | J17: 4 | L17: さいたま市 | O17: 清水勇人 | Q17: 29 | R17: 5 | S17: 26 | T17: 2
B18: 千葉県 | E18: 森田健作 | G18: 29 | H18: 4 | I18: 4 | J18: 2 | L18: 千葉市 | O18: 熊谷俊人 | Q18: 29 | R18: 6 | S18: 13 | T18: 2 | V18: ５回 | W18: =COUNTIF(J7:J58,"5") -> 0
B19: 東京都 | E19: 小池百合子 | G19: 32 | H19: 7 | I19: 30 | J19: 1
G20: 31 | H20: 4 | I20: 22 | J20: 2 | L20: 横浜市 | O20: 林 文子 | Q20: 29 | R20: 8 | S20: 29 | T20: 2 | V20: ６回 | W20: =COUNTIF(J7:J58,"6") -> 2
B21: 神奈川県 | E21: 黒岩祐治 | L21: 川崎市 | O21: 福田紀彦 | Q21: 29 | R21: 11 | S21: 18 | T21: 1
L22: 相模原市 | O22: 加山俊夫 | Q22: 31 | R22: 4 | S22: 21 | T22: 3
B23: 新潟県 | E23: 米山隆一 | G23: 32 | H23: 10 | I23: 24 | J23: 1 | L23: 新潟市 | O23: 篠田 昭 | Q23: 30 | R23: 11 | S23: 17 | T23: 3
B24: 富山県 | E24: 石井隆一 | G24: 32 | H24: 11 | I24: 8 | J24: 4
B25: 石川県 | E25: 谷本正憲 | G25: 30 | H25: 3 | I25: 26 | J25: 6 | V25: 指定都市市長
B26: 福井県 | E26: 西川一誠 | G26: 31 | H26: 4 | I26: 22 | J26: 4
B27: 山梨県 | E27: 後藤斎 | G27: 31 | H27: 2 | I27: 16 | J27: 1 | V27: １回 | W27: =COUNTIF(T7:T58,"1") -> 6
B28: 長野県 | E28: 阿部守一 | G28: 30 | H28: 8 | I28: 31 | J28: 2
B29: 岐阜県 | E29: 古田 肇 | G29: 29 | H29: 2 | I29: 5 | J29: 3 | V29: ２回 | W29: =COUNTIF(T7:T58,"2") -> 8
B30: 静岡県 | E30: 川勝平太 | G30: 29 | H30: 7 | I30: 4 | J30: 2 | L30: 静岡市 | O30: 田辺信宏 | Q30: 31 | R30: 4 | S30: 12 | T30: 2
L31: 浜松市 | O31: 鈴木康友 | Q31: 31 | R31: 4 | S31: 30 | T31: 3 | V31: ３回 | W31: =COUNTIF(T7:T58,"3") -> 6
B32: 愛知県 | E32: 大村秀章 | G32: 31 | H32: 2 | I32: 14 | J32: 2 | L32: 名古屋市 | O32: 河村たかし | Q32: 29 | R32: 4 | S32: 27 | T32: 3
B33: 三重県 | E33: 鈴木英敬 | G33: 31 | H33: 4 | I33: 20 | J33: 2 | V33: ４回 | W33: =COUNTIF(T7:T58,"4") -> 0
B34: 滋賀県 | E34: 三日月大造 | G34: 30 | H34: 7 | I34: 19 | J34: 1
B35: 京都府 | E35: 山田啓二 | G35: 30 | H35: 4 | I35: 15 | J35: 4 | L35: 京都市 | O35: 門川大作 | Q35: 32 | R35: 2 | S35: 24 | T35: 3 | V35: ５回 | W35: =COUNTIF(T7:T58,"5") -> 0
B36: 大阪府 | E36: 松井一郎 | G36: 31 | H36: 11 | I36: 26 | J36: 2 | L36: 大阪市 | O36: 吉村 洋文 | Q36: 31 | R36: 12 | S36: 18 | T36: 1
L37: 堺市 | O37: 竹山修身 | Q37: 29 | R37: 10 | S37: 7 | T37: 2 | V37: ６回 | W37: =COUNTIF(T7:T58,"6") -> 0
B38: 兵庫県 | E38: 井戸敏三 | G38: 29 | H38: 7 | I38: 31 | J38: 4 | L38: 神戸市 | O38: 久元喜造 | Q38: 29 | R38: 11 | S38: 19 | T38: 1
B39: 奈良県 | E39: 荒井正吾 | G39: 31 | H39: 5 | I39: 2 | J39: 3
B40: 和歌山県 | E40: 仁坂吉伸 | G40: 30 | H40: 12 | I40: 16 | J40: 3
B41: 鳥取県 | E41: 平井伸治 | G41: 31 | H41: 4 | I41: 12 | J41: 3
B42: 島根県 | E42: 溝口善兵衛 | G42: 31 | H42: 4 | I42: 29 | J42: 3
B43: 岡山県 | E43: 伊原木隆太 | G43: 32 | H43: 11 | I43: 11 | J43: 2 | L43: 岡山市 | O43: 大森雅夫 | Q43: 29 | R43: 10 | S43: 8 | T43: 1
B44: 広島県 | E44: 湯﨑英彦 | G44: 29 | H44: 11 | I44: 28 | J44: 2 | L44: 広島市 | O44: 松井一實 | Q44: 31 | R44: 4 | S44: 11 | T44: 2
B45: 山口県 | E45: 村岡嗣政 | G45: 30 | H45: 2 | I45: 22 | J45: 1
B46: 徳島県 | E46: 飯泉嘉門 | G46: 31 | H46: 5 | I46: 17 | J46: 4
B47: 香川県 | E47: 浜田恵造 | G47: 30 | H47: 9 | I47: 4 | J47: 2
B48: 愛媛県 | E48: 中村時広 | G48: 30 | H48: 11 | I48: 30 | J48: 2
B49: 高知県 | E49: 尾﨑正直 | G49: 31 | H49: 12 | I49: 6 | J49: 3
B50: 福岡県 | E50: 小川 洋 | G50: 31 | H50: 4 | I50: 22 | J50: 2 | L50: 北九州市 | O50: 北橋健治 | Q50: 31 | R50: 2 | S50: 19 | T50: 3
L51: 福岡市 | O51: 髙島宗一郎 | Q51: 30 | R51: 12 | S51: 6 | T51: 2
B52: 佐賀県 | E52: 山口祥義 | G52: 31 | H52: 1 | I52: 10 | J52: 1
B53: 長崎県 | E53: 中村法道 | G53: 30 | H53: 3 | I53: 1 | J53: 2
B54: 熊本県 | E54: 蒲島郁夫 | G54: 32 | H54: 4 | I54: 15 | J54: 3 | L54: 熊本市 | O54: 大西一史 | Q54: 30 | R54: 12 | S54: 2 | T54: 1
B55: 大分県 | E55: 広瀬勝貞 | G55: 31 | H55: 4 | I55: 27 | J55: 4
B56: 宮崎県 | E56: 河野俊嗣 | G56: 31 | H56: 1 | I56: 20 | J56: 2
B57: 鹿児島県 | E57: 三反園訓 | G57: 32 | H57: 7 | I57: 27 | J57: 1
B58: 沖縄県 | E58: 翁長雄志 | G58: 30 | H58: 12 | I58: 9 | J58: 1
A60: ※ 政令指定都市の市長については、政令指定都市となったとき以降の連続就任回数とする。 （１）「相模原市」は、平成１９年３月１１日に編入合併を行い、平成２２年４月１日に政令指定都市となった。 市長の加山俊夫氏は、平成１９年４月２２日に相模原市長に就任した。 （２）「新潟市」は、平成１７年１０月１０日に編入合併を行い、平成１９年４月１日に政令指定都市となった。 市長の篠田昭氏は、旧新潟市長に１期就任した後、平成１８年１１月１８日に新潟市長に就任した。 （３）「浜松市」は、平成１７年７月１日に編入合併を行い、平成１９年４月１日に政令指定都市となった。市長 の鈴木康友氏は、平成１９年５月１日に浜松市長に就任した。

Sheet 連（市区）
B1: （２）市区長の連続就任回数調 （平成２２年１２月３１日現在） | M1: （平成２８年１２月３１日現在）
B2: 区 分 | C2: 団体数 | D2: １回 | E2: ２回 | F2: ３回 | G2: ４回 | H2: ５回 | I2: ６回 | J2: ７回 | K2: ８回 | L2: ９回 | M2: １０回 | N2: 備 考
B3: 北海道 | C3: 35 | D3: 6 | E3: 15 | F3: 11 | G3: 1 | H3: 2 | I3: - | J3: - | K3: - | L3: - | M3: -
B4: 青森県 | C4: 10 | D4: 4 | E4: 2 | F4: 4 | G4: - | H4: - | I4: - | J4: - | K4: - | L4: - | M4: -
B5: 岩手県 | C5: 14 | D5: 3 | E5: 6 | F5: 4 | G5: 1 | H5: - | I5: - | J5: - | K5: - | L5: - | M5: -
B6: 宮城県 | C6: 14 | D6: 4 | E6: 3 | F6: 6 | G6: 1 | H6: - | I6: - | J6: - | K6: - | L6: - | M6: -
B7: 秋田県 | C7: 13 | D7: 2 | E7: 6 | F7: 5 | G7: - | H7: - | I7: - | J7: - | K7: - | L7: - | M7: -
B8: 山形県 | C8: 13 | D8: 5 | E8: 3 | F8: 4 | G8: - | H8: 1 | I8: - | J8: - | K8: - | L8: - | M8: -
B9: 福島県 | C9: 13 | D9: 4 | E9: 4 | F9: 4 | G9: 1 | H9: - | I9: - | J9: - | K9: - | L9: - | M9: -
B10: 茨城県 | C10: 32 | D10: 14 | E10: 8 | F10: 7 | G10: 3 | H10: - | I10: - | J10: - | K10: - | L10: - | M10: -
B11: 栃木県 | C11: 14 | D11: 3 | E11: 4 | F11: 5 | G11: 1 | H11: 1 | I11: - | J11: - | K11: - | L11: - | M11: -
B12: 群馬県 | C12: 12 | D12: 3 | E12: 4 | F12: 5 | G12: - | H12: - | I12: - | J12: - | K12: - | L12: - | M12: -
B13: 埼玉県 | C13: 40 | D13: 10 | E13: 16 | F13: 12 | G13: 1 | H13: 1 | I13: - | J13: - | K13: - | L13: - | M13: -
B14: 千葉県 | C14: 37 | D14: 8 | E14: 13 | F14: 11 | G14: 3 | H14: 2 | I14: - | J14: - | K14: - | L14: - | M14: -
B15: 東京都 | C15: 49 | D15: 14 | E15: 11 | F15: 12 | G15: 9 | H15: 2 | I15: - | J15: - | K15: 1 | L15: - | M15: -
B16: 神奈川県 | C16: 19 | D16: 2 | E16: 7 | F16: 8 | G16: 2 | H16: - | I16: - | J16: - | K16: - | L16: - | M16: -
B17: 新潟県 | C17: 20 | D17: 7 | E17: 6 | F17: 4 | G17: 2 | H17: - | I17: 1 | J17: - | K17: - | L17: - | M17: -
B18: 富山県 | C18: 10 | D18: 2 | E18: 4 | F18: 4 | G18: - | H18: - | I18: - | J18: - | K18: - | L18: - | M18: -
B19: 石川県 | C19: 11 | D19: 2 | E19: 3 | F19: 5 | G19: 1 | H19: - | I19: - | J19: - | K19: - | L19: - | M19: -
B20: 福井県 | C20: 9 | D20: 1 | E20: - | F20: 6 | G20: 1 | H20: 1 | I20: - | J20: - | K20: - | L20: - | M20: -
B21: 山梨県 | C21: 13 | D21: 7 | E21: 1 | F21: 5 | G21: - | H21: - | I21: - | J21: - | K21: - | L21: - | M21: -
B22: 長野県 | C22: 19 | D22: 3 | E22: 6 | F22: 6 | G22: 4 | H22: - | I22: - | J22: - | K22: - | L22: - | M22: -
B23: 岐阜県 | C23: 21 | D23: 6 | E23: 7 | F23: 5 | G23: 2 | H23: - | I23: - | J23: - | K23: - | L23: - | M23: - | N23: 市長不在（美濃加茂市）
B24: 静岡県 | C24: 23 | D24: 8 | E24: 7 | F24: 8 | G24: - | H24: - | I24: - | J24: - | K24: - | L24: - | M24: -
B25: 愛知県 | C25: 38 | D25: 12 | E25: 11 | F25: 13 | G25: 2 | H25: - | I25: - | J25: - | K25: - | L25: - | M25: -
B26: 三重県 | C26: 14 | D26: 3 | E26: 7 | F26: 2 | G26: 2 | H26: - | I26: - | J26: - | K26: - | L26: - | M26: -
B27: 滋賀県 | C27: 13 | D27: 5 | E27: 5 | F27: 2 | G27: 1 | H27: - | I27: - | J27: - | K27: - | L27: - | M27: -
B28: 京都府 | C28: 15 | D28: 6 | E28: 4 | F28: 5 | G28: - | H28: - | I28: - | J28: - | K28: - | L28: - | M28: -
B29: 大阪府 | C29: 33 | D29: 16 | E29: 8 | F29: 5 | G29: 3 | H29: 1 | I29: - | J29: - | K29: - | L29: - | M29: -
B30: 兵庫県 | C30: 29 | D30: 9 | E30: 7 | F30: 9 | G30: 2 | H30: 2 | I30: - | J30: - | K30: - | L30: - | M30: -
B31: 奈良県 | C31: 12 | D31: 3 | E31: 5 | F31: 2 | G31: 2 | H31: - | I31: - | J31: - | K31: - | L31: - | M31: -
B32: 和歌山県 | C32: 9 | D32: 2 | E32: 1 | F32: 4 | G32: - | H32: - | I32: 1 | J32: 1 | K32: - | L32: - | M32: -
B33: 鳥取県 | C33: 4 | D33: 1 | E33: 1 | F33: 1 | G33: 1 | H33: - | I33: - | J33: - | K33: - | L33: - | M33: -
B34: 島根県 | C34: 8 | D34: 2 | E34: 2 | F34: 3 | G34: 1 | H34: - | I34: - | J34: - | K34: - | L34: - | M34: -
B35: 岡山県 | C35: 15 | D35: 7 | E35: 3 | F35: 5 | G35: - | H35: - | I35: - | J35: - | K35: - | L35: - | M35: -
B36: 広島県 | C36: 14 | D36: 6 | E36: 2 | F36: 6 | G36: - | H36: - | I36: - | J36: - | K36: - | L36: - | M36: -
B37: 山口県 | C37: 13 | D37: 2 | E37: 5 | F37: 5 | G37: - | H37: 1 | I37: - | J37: - | K37: - | L37: - | M37: -
B38: 徳島県 | C38: 8 | D38: 4 | E38: 2 | F38: - | G38: 2 | H38: - | I38: - | J38: - | K38: - | L38: - | M38: -
B39: 香川県 | C39: 8 | D39: 1 | E39: 2 | F39: 5 | G39: - | H39: - | I39: - | J39: - | K39: - | L39: - | M39: -
B40: 愛媛県 | C40: 11 | D40: 5 | E40: 5 | F40: 1 | G40: - | H40: - | I40: - | J40: - | K40: - | L40: - | M40: -
B41: 高知県 | C41: 11 | D41: 5 | E41: 3 | F41: 2 | G41: 1 | H41: - | I41: - | J41: - | K41: - | L41: - | M41: -
B42: 福岡県 | C42: 28 | D42: 10 | E42: 8 | F42: 9 | G42: - | H42: 1 | I42: - | J42: - | K42: - | L42: - | M42: -
B43: 佐賀県 | C43: 10 | D43: 1 | E43: 1 | F43: 6 | G43: 1 | H43: 1 | I43: - | J43: - | K43: - | L43: - | M43: -
B44: 長崎県 | C44: 13 | D44: 4 | E44: 5 | F44: 4 | G44: - | H44: - | I44: - | J44: - | K44: - | L44: - | M44: -
B45: 熊本県 | C45: 14 | D45: 8 | E45: 3 | F45: 2 | G45: - | H45: - | I45: - | J45: - | K45: - | L45: - | M45: - | N45: 市長不在（荒尾市）
B46: 大分県 | C46: 14 | D46: 5 | E46: 6 | F46: 3 | G46: - | H46: - | I46: - | J46: - | K46: - | L46: - | M46: -
B47: 宮崎県 | C47: 9 | D47: 2 | E47: 5 | F47: 2 | G47: - | H47: - | I47: - | J47: - | K47: - | L47: - | M47: -
B48: 鹿児島県 | C48: 19 | D48: 3 | E48: 7 | F48: 8 | G48: 1 | H48: - | I48: - | J48: - | K48: - | L48: - | M48: -
B49: 沖縄県 | C49: 11 | D49: 4 | E49: 6 | F49: 1 | G49: - | H49: - | I49: - | J49: - | K49: - | L49: - | M49: -
B50: 合 計 | C50: =SUM(C3:C49) -> 814 | D50: =SUM(D3:D49) -> 244 | E50: =SUM(E3:E49) -> 250 | F50: =SUM(F3:F49) -> 246 | G50: =SUM(G3:G49) -> 52 | H50: =SUM(H3:H49) -> 16 | I50: =SUM(I3:I49) -> 2 | J50: =SUM(J3:J49) -> 1 | ... M50: =SUM(M3:M49) -> 0 | N50: （欠員２）

Sheet 連（町村）
B1: （３）町村長の連続就任回数調 | M1: （平成２８年１２月３１日現在）
B2: 区 分 | C2: 団体数 | D2: １回 | E2: ２回 | F2: ３回 | G2: ４回 | H2: ５回 | I2: ６回 | J2: ７回 | K2: ８回 | L2: ９回 | M2: １０回 | N2: 備 考
B3: 北海道 | C3: 144 | D3: 39 | E3: 30 | F3: 44 | G3: 16 | H3: 12 | I3: 1 | J3: - | K3: 1 | L3: 1 | M3: -
B4: 青森県 | C4: 30 | D4: 8 | E4: 9 | F4: 8 | G4: 2 | H4: 2 | I4: - | J4: 1 | K4: - | L4: - | M4: -
B5: 岩手県 | C5: 19 | D5: 5 | E5: 5 | F5: 4 | G5: 2 | H5: 2 | I5: - | J5: - | K5: 1 | L5: - | M5: -
B6: 宮城県 | C6: 21 | D6: 9 | E6: 6 | F6: 2 | G6: 2 | H6: 2 | I6: - | J6: - | K6: - | L6: - | M6: -
B7: 秋田県 | C7: 12 | D7: 3 | E7: 3 | F7: 4 | G7: 1 | H7: 1 | I7: - | J7: - | K7: - | L7: - | M7: -
B8: 山形県 | C8: 22 | D8: 3 | E8: 3 | F8: 9 | G8: 6 | H8: 1 | I8: - | J8: - | K8: - | L8: - | M8: -
B9: 福島県 | C9: 46 | D9: 13 | E9: 11 | F9: 11 | G9: 10 | H9: - | I9: 1 | J9: - | K9: - | L9: - | M9: -
B10: 茨城県 | C10: 12 | D10: 5 | E10: 2 | F10: 3 | G10: - | H10: 1 | I10: 1 | J10: - | K10: - | L10: - | M10: -
B11: 栃木県 | C11: 11 | D11: 3 | E11: 5 | F11: 2 | G11: 1 | H11: - | I11: - | J11: - | K11: - | L11: - | M11: -
B12: 群馬県 | C12: 23 | D12: 12 | E12: 5 | F12: 5 | G12: 1 | H12: - | I12: - | J12: - | K12: - | L12: - | M12: -
B13: 埼玉県 | C13: 23 | D13: 8 | E13: 6 | F13: 6 | G13: 3 | H13: - | I13: - | J13: - | K13: - | L13: - | M13: -
B14: 千葉県 | C14: 17 | D14: 4 | E14: 5 | F14: 3 | G14: 1 | H14: 1 | I14: 3 | J14: - | K14: - | L14: - | M14: -
B15: 東京都 | C15: 13 | D15: 4 | E15: 3 | F15: 1 | G15: 5 | H15: - | I15: - | J15: - | K15: - | L15: - | M15: -
B16: 神奈川県 | C16: 14 | D16: 4 | E16: 6 | F16: 2 | G16: - | H16: 2 | I16: - | J16: - | K16: - | L16: - | M16: -
B17: 新潟県 | C17: 10 | D17: 2 | E17: 1 | F17: 2 | G17: 1 | H17: 2 | I17: 1 | J17: - | K17: 1 | L17: - | M17: -
B18: 富山県 | C18: 5 | D18: 2 | E18: - | F18: 2 | G18: - | H18: 1 | I18: - | J18: - | K18: - | L18: - | M18: -
B19: 石川県 | C19: 8 | D19: 1 | E19: 4 | F19: 3 | G19: - | H19: - | I19: - | J19: - | K19: - | L19: - | M19: -
B20: 福井県 | C20: 8 | D20: 3 | E20: 2 | F20: 1 | G20: - | H20: 2 | I20: - | J20: - | K20: - | L20: - | M20: -
B21: 山梨県 | C21: 14 | D21: 4 | E21: 5 | F21: 3 | G21: 1 | H21: - | I21: - | J21: - | K21: - | L21: - | M21: 1
B22: 長野県 | C22: 58 | D22: 27 | E22: 13 | F22: 14 | G22: 2 | H22: - | I22: 1 | J22: - | K22: 1 | L22: - | M22: -
B23: 岐阜県 | C23: 21 | D23: 5 | E23: 7 | F23: 5 | G23: 3 | H23: 1 | I23: - | J23: - | K23: - | L23: - | M23: -
B24: 静岡県 | C24: 12 | D24: 3 | E24: 5 | F24: 3 | G24: 1 | H24: - | I24: - | J24: - | K24: - | L24: - | M24: -
B25: 愛知県 | C25: 16 | D25: 6 | E25: 5 | F25: 3 | G25: 1 | H25: 1 | I25: - | J25: - | K25: - | L25: - | M25: -
B26: 三重県 | C26: 15 | D26: 3 | E26: 6 | F26: 6 | G26: - | H26: - | I26: - | J26: - | K26: - | L26: - | M26: -
B27: 滋賀県 | C27: 6 | D27: 2 | E27: 1 | F27: 2 | G27: 1 | H27: - | I27: - | J27: - | K27: - | L27: - | M27: -
B28: 京都府 | C28: 11 | D28: 4 | E28: 2 | F28: 2 | G28: 2 | H28: - | I28: 1 | J28: - | K28: - | L28: - | M28: -
B29: 大阪府 | C29: 10 | D29: 4 | E29: 1 | F29: 3 | G29: 2 | H29: - | I29: - | J29: - | K29: - | L29: - | M29: -
B30: 兵庫県 | C30: 12 | D30: 5 | E30: 3 | F30: 4 | G30: - | H30: - | I30: - | J30: - | K30: - | L30: - | M30: -
B31: 奈良県 | C31: 27 | D31: 12 | E31: 8 | F31: 4 | G31: 1 | H31: - | I31: - | J31: 1 | K31: 1 | L31: - | M31: -
B32: 和歌山県 | C32: 21 | D32: 6 | E32: 7 | F32: 6 | G32: 1 | H32: 1 | I32: - | J32: - | K32: - | L32: - | M32: -
B33: 鳥取県 | C33: 15 | D33: 3 | E33: 4 | F33: 5 | G33: 1 | H33: 2 | I33: - | J33: - | K33: - | L33: - | M33: -
B34: 島根県 | C34: 11 | D34: 3 | E34: 4 | F34: 2 | G34: 2 | H34: - | I34: - | J34: - | K34: - | L34: - | M34: -
B35: 岡山県 | C35: 12 | D35: 4 | E35: 5 | F35: 3 | G35: - | H35: - | I35: - | J35: - | K35: - | L35: - | M35: -
B36: 広島県 | C36: 9 | D36: 4 | E36: 2 | F36: 2 | G36: - | H36: - | I36: 1 | J36: - | K36: - | L36: - | M36: -
B37: 山口県 | C37: 6 | D37: 1 | E37: - | F37: 3 | G37: 1 | H37: 1 | I37: - | J37: - | K37: - | L37: - | M37: -
B38: 徳島県 | C38: 16 | D38: 5 | E38: 4 | F38: 4 | G38: 2 | H38: 1 | I38: - | J38: - | K38: - | L38: - | M38: -
B39: 香川県 | C39: 9 | D39: 2 | E39: 5 | F39: 2 | G39: - | H39: - | I39: - | J39: - | K39: - | L39: - | M39: -
B40: 愛媛県 | C40: 9 | D40: 7 | E40: 1 | F40: 1 | G40: - | H40: - | I40: - | J40: - | K40: - | L40: - | M40: -
B41: 高知県 | C41: 23 | D41: 10 | E41: 6 | F41: 3 | G41: 3 | H41: - | I41: 1 | J41: - | K41: - | L41: - | M41: -
B42: 福岡県 | C42: 32 | D42: 10 | E42: 8 | F42: 11 | G42: 3 | H42: - | I42: - | J42: - | K42: - | L42: - | M42: -
B43: 佐賀県 | C43: 10 | D43: 6 | E43: 1 | F43: 3 | G43: - | H43: - | I43: - | J43: - | K43: - | L43: - | M43: -
B44: 長崎県 | C44: 8 | D44: - | E44: 7 | F44: - | G44: - | H44: 1 | I44: - | J44: - | K44: - | L44: - | M44: -
B45: 熊本県 | C45: 31 | D45: 9 | E45: 6 | F45: 11 | G45: 2 | H45: - | I45: 1 | J45: 1 | K45: 1 | L45: - | M45: -
B46: 大分県 | C46: 4 | D46: 2 | E46: 1 | F46: - | G46: - | H46: - | I46: - | J46: - | K46: - | L46: 1 | M46: -
B47: 宮崎県 | C47: 17 | D47: 6 | E47: 3 | F47: 5 | G47: - | H47: 2 | I47: - | J47: 1 | K47: - | L47: - | M47: -
B48: 鹿児島県 | C48: 24 | D48: 7 | E48: 9 | F48: 5 | G48: 2 | H48: 1 | I48: - | J48: - | K48: - | L48: - | M48: -
B49: 沖縄県 | C49: 30 | D49: 9 | E49: 7 | F49: 10 | G49: 2 | H49: 2 | I49: - | J49: - | K49: - | L49: - | M49: -
B50: 合 計 | C50: =SUM(C3:C49) -> 927 | D50: =SUM(D3:D49) -> 297 | E50: =SUM(E3:E49) -> 242 | F50: =SUM(F3:F49) -> 237 | G50: =SUM(G3:G49) -> 84 | H50: =SUM(H3:H49) -> 42 | I50: =SUM(I3:I49) -> 12 | J50: =SUM(J3:J49) -> 4 | ... M50: =SUM(M3:M49) -> 1

Sheet 市区長
A1: 市区長の連続就任回数（４回以上）
A2: ※ （ ）内は任期満了年月日である。
A4: 連続就任回数
A5: ４回 | G5: ５回
A6: 北海道 | B6: 千歳市 | C6: ( | D6: =(VLOOKUP(B6,H28.11.1任期満了日!S:U,3,FALSE)) -> 31.04.26 | E6: ) | G6: 北海道 | H6: 伊達市 | I6: ( | J6: =(VLOOKUP(H6,H28.11.1任期満了日!S:U,3,FALSE)) -> 31.04.30 | K6: )
A7: 岩手県 | B7: 盛岡市 | C7: ( | D7: =(VLOOKUP(B7,H28.11.1任期満了日!S:U,3,FALSE)) -> 31.09.01 | E7: ) | H7: 石狩市 | I7: ( | J7: =(VLOOKUP(H7,H28.11.1任期満了日!S:U,3,FALSE)) -> 31.06.26 | K7: )
A8: 宮城県 | B8: 塩竈市 | C8: ( | D8: =(VLOOKUP(B8,H28.11.1任期満了日!S:U,3,FALSE)) -> 31.09.10 | E8: ) | G8: 山形県 | H8: 東根市 | I8: ( | J8: =(VLOOKUP(H8,H28.11.1任期満了日!S:U,3,FALSE)) -> 30.09.04 | K8: )
A9: 福島県 | B9: 相馬市 | C9: ( | D9: =(VLOOKUP(B9,H28.11.1任期満了日!S:U,3,FALSE)) -> 30.01.18 | E9: ) | G9: 栃木県 | H9: 小山市 | I9: ( | J9: =(VLOOKUP(H9,H28.11.1任期満了日!S:U,3,FALSE)) -> 32.07.30 | K9: )
A10: 茨城県 | B10: 土浦市 | C10: ( | D10: =(VLOOKUP(B10,H28.11.1任期満了日!S:U,3,FALSE)) -> 31.11.21 | E10: ) | G10: 埼玉県 | H10: 戸田市 | I10: ( | J10: =(VLOOKUP(H10,H28.11.1任期満了日!S:U,3,FALSE)) -> 30.03.30 | K10: )
B11: ひたちなか市 | C11: ( | D11: =(VLOOKUP(B11,H28.11.1任期満了日!S:U,3,FALSE)) -> 30.11.26 | E11: ) | G11: 千葉県 | H11: 東金市 | I11: ( | J11: =(VLOOKUP(H11,H28.11.1任期満了日!S:U,3,FALSE)) -> 30.04.24 | K11: )
B12: 鉾田市 | C12: ( | D12: =(VLOOKUP(B12,H28.11.1任期満了日!S:U,3,FALSE)) -> 29.11.12 | E12: ) | H12: 浦安市 | I12: ( | J12: =(VLOOKUP(H12,H28.11.1任期満了日!S:U,3,FALSE)) -> 30.11.07 | K12: )
A13: 栃木県 | B13: 宇都宮市 | C13: ( | D13: 32.11.27 | E13: ) | G13: 東京都 | H13: 豊島区 | I13: ( | J13: =(VLOOKUP(H13,H28.11.1任期満了日!S:U,3,FALSE)) -> 31.04.26 | K13: )
A14: 埼玉県 | B14: 鴻巣市 | C14: ( | D14: =(VLOOKUP(B14,H28.11.1任期満了日!S:U,3,FALSE)) -> 30.07.31 | E14: ) | H14: 江戸川区 | I14: ( | J14: =(VLOOKUP(H14,H28.11.1任期満了日!S:U,3,FALSE)) -> 31.04.26 | K14: )
A15: 千葉県 | B15: 流山市 | C15: ( | D15: =(VLOOKUP(B15,H28.11.1任期満了日!S:U,3,FALSE)) -> 31.05.05 | E15: ) | G15: 福井県 | H15: 勝山市 | I15: ( | J15: 32.12.25 | K15: )
B16: 鎌ケ谷市 | C16: ( | D16: =(VLOOKUP(B16,H28.11.1任期満了日!S:U,3,FALSE)) -> 30.07.27 | E16: ) | G16: 大阪府 | H16: 高石市 | I16: ( | J16: =(VLOOKUP(H16,H28.11.1任期満了日!S:U,3,FALSE)) -> 31.04.26 | K16: )
B17: 富里市 | C17: ( | D17: =(VLOOKUP(B17,H28.11.1任期満了日!S:U,3,FALSE)) -> 31.08.24 | E17: ) | G17: 兵庫県 | H17: 相生市 | I17: ( | J17: =(VLOOKUP(H17,H28.11.1任期満了日!S:U,3,FALSE)) -> 32.06.13 | K17: )
A18: 東京都 | B18: 千代田区 | C18: ( | D18: =(VLOOKUP(B18,H28.11.1任期満了日!S:U,3,FALSE)) -> 29.02.07 | E18: ) | H18: 小野市 | I18: ( | J18: =(VLOOKUP(H18,H28.11.1任期満了日!S:U,3,FALSE)) -> 31.02.06 | K18: )
B19: 港区 | C19: ( | D19: =(VLOOKUP(B19,H28.11.1任期満了日!S:U,3,FALSE)) -> 32.06.27 | E19: ) | G19: 山口県 | H19: 防府市 | I19: ( | J19: =(VLOOKUP(H19,H28.11.1任期満了日!S:U,3,FALSE)) -> 30.06.20 | K19: )
B20: 目黒区 | C20: ( | D20: =(VLOOKUP(B20,H28.11.1任期満了日!S:U,3,FALSE)) -> 32.04.24 | E20: ) | G20: 福岡県 | H20: 春日市 | I20: ( | J20: =(VLOOKUP(H20,H28.11.1任期満了日!S:U,3,FALSE)) -> 31.04.30 | K20: )
B21: 中野区 | C21: ( | D21: =(VLOOKUP(B21,H28.11.1任期満了日!S:U,3,FALSE)) -> 30.06.14 | E21: ) | G21: 佐賀県 | H21: 多久市 | I21: ( | J21: =(VLOOKUP(H21,H28.11.1任期満了日!S:U,3,FALSE)) -> 29.09.16 | K21: )
B22: 北区 | C22: ( | D22: =(VLOOKUP(B22,H28.11.1任期満了日!S:U,3,FALSE)) -> 31.04.26 | E22: )
B23: 荒川区 | C23: ( | D23: 32.11.13 | E23: ) | G23: ６回
B24: 三鷹市 | C24: ( | D24: =(VLOOKUP(B24,H28.11.1任期満了日!S:U,3,FALSE)) -> 31.04.29 | E24: ) | G24: 新潟県 | H24: 加茂市 | I24: ( | J24: =(VLOOKUP(H24,H28.11.1任期満了日!S:U,3,FALSE)) -> 31.05.09 | K24: )
B25: 調布市 | C25: ( | D25: =(VLOOKUP(B25,H28.11.1任期満了日!S:U,3,FALSE)) -> 30.07.21 | E25: ) | G25: 和歌山県 | H25: 岩出市 | I25: ( | J25: =(VLOOKUP(H25,H28.11.1任期満了日!S:U,3,FALSE)) -> 32.10.18 | K25: )
B26: 羽村市 | C26: ( | D26: =(VLOOKUP(B26,H28.11.1任期満了日!S:U,3,FALSE)) -> 29.04.25 | E26: )
A27: 神奈川県 | B27: 茅ヶ崎市 | C27: ( | D27: =(VLOOKUP(B27,H28.11.1任期満了日!S:U,3,FALSE)) -> 31.04.27 | E27: ) | G27: ７回
B28: 海老名市 | C28: ( | D28: =(VLOOKUP(B28,H28.11.1任期満了日!S:U,3,FALSE)) -> 31.12.23 | E28: ) | G28: 和歌山県 | H28: 御坊市 | I28: ( | J28: =(VLOOKUP(H28,H28.11.1任期満了日!S:U,3,FALSE)) -> 32.06.10 | K28: )
A29: 新潟県 | B29: 見附市 | C29: ( | D29: =(VLOOKUP(B29,H28.11.1任期満了日!S:U,3,FALSE)) -> 30.11.06 | E29: )
B30: 妙高市 | C30: ( | D30: =(VLOOKUP(B30,H28.11.1任期満了日!S:U,3,FALSE)) -> 30.11.24 | E30: ) | G30: ８回
A31: 石川県 | B31: かほく市 | C31: ( | D31: =(VLOOKUP(B31,H28.11.1任期満了日!S:U,3,FALSE)) -> 32.04.10 | E31: ) | G31: 東京都 | H31: 中央区 | I31: ( | J31: =(VLOOKUP(H31,H28.11.1任期満了日!S:U,3,FALSE)) -> 31.04.26 | K31: )
A32: 福井県 | B32: 鯖江市 | C32: ( | D32: =(VLOOKUP(B32,H28.11.1任期満了日!S:U,3,FALSE)) -> 32.10.16 | E32: )
A33: 長野県 | B33: 松本市 | C33: ( | D33: =(VLOOKUP(B33,H28.11.1任期満了日!S:U,3,FALSE)) -> 32.03.27 | E33: )
B34: 飯田市 | C34: ( | D34: =(VLOOKUP(B34,H28.11.1任期満了日!S:U,3,FALSE)) -> 32.10.27 | E34: )
B35: 須坂市 | C35: ( | D35: =(VLOOKUP(B35,H28.11.1任期満了日!S:U,3,FALSE)) -> 32.01.23 | E35: )
B36: 塩尻市 | C36: ( | D36: =(VLOOKUP(B36,H28.11.1任期満了日!S:U,3,FALSE)) -> 30.09.30 | E36: )
A37: 岐阜県 | B37: 岐阜市 | C37: ( | D37: =(VLOOKUP(B37,H28.11.1任期満了日!S:U,3,FALSE)) -> 30.02.23 | E37: )
B38: 大垣市 | C38: ( | D38: =(VLOOKUP(B38,H28.11.1任期満了日!S:U,3,FALSE)) -> 29.04.21 | E38: )
A39: 愛知県 | B39: 安城市 | C39: ( | D39: =(VLOOKUP(B39,H28.11.1任期満了日!S:U,3,FALSE)) -> 31.02.14 | E39: )
B40: 東海市 | C40: ( | D40: =(VLOOKUP(B40,H28.11.1任期満了日!S:U,3,FALSE)) -> 29.05.16 | E40: )
A41: 三重県 | B41: 名張市 | C41: ( | D41: =(VLOOKUP(B41,H28.11.1任期満了日!S:U,3,FALSE)) -> 30.04.24 | E41: )
B42: いなべ市 | C42: ( | D42: =(VLOOKUP(B42,H28.11.1任期満了日!S:U,3,FALSE)) -> 31.12.20 | E42: )
A43: 滋賀県 | B43: 湖南市 | C43: ( | D43: =(VLOOKUP(B43,H28.11.1任期満了日!S:U,3,FALSE)) -> 32.11.06 | E43: )
A44: 大阪府 | B44: 富田林市 | C44: ( | D44: =(VLOOKUP(B44,H28.11.1任期満了日!S:U,3,FALSE)) -> 31.04.30 | E44: )
B45: 羽曳野市 | C45: ( | D45: =(VLOOKUP(B45,H28.11.1任期満了日!S:U,3,FALSE)) -> 32.07.24 | E45: )
B46: 摂津市 | C46: ( | D46: =(VLOOKUP(B46,H28.11.1任期満了日!S:U,3,FALSE)) -> 32.10.11 | E46: )
A47: 兵庫県 | B47: 姫路市 | C47: ( | D47: =(VLOOKUP(B47,H28.11.1任期満了日!S:U,3,FALSE)) -> 31.04.29 | E47: )
B48: 芦屋市 | C48: ( | D48: =(VLOOKUP(B48,H28.11.1任期満了日!S:U,3,FALSE)) -> 31.06.10 | E48: )
A49: 奈良県 | B49: 大和高田市 | C49: ( | D49: =(VLOOKUP(B49,H28.11.1任期満了日!S:U,3,FALSE)) -> 31.04.26 | E49: )
B50: 大和郡山市 | C50: ( | D50: =(VLOOKUP(B50,H28.11.1任期満了日!S:U,3,FALSE)) -> 29.07.06 | E50: )
A51: 鳥取県 | B51: 境港市 | C51: ( | D51: =(VLOOKUP(B51,H28.11.1任期満了日!S:U,3,FALSE)) -> 32.07.24 | E51: )
A52: 島根県 | B52: 雲南市 | C52: ( | D52: 32.11.27 | E52: )
A53: 徳島県 | B53: 阿南市 | C53: ( | D53: =(VLOOKUP(B53,H28.11.1任期満了日!S:U,3,FALSE)) -> 31.12.06 | E53: )
B54: 吉野川市 | C54: ( | D54: =(VLOOKUP(B54,H28.11.1任期満了日!S:U,3,FALSE)) -> 32.11.13 | E54: )
A55: 高知県 | B55: 高知市 | C55: ( | D55: =(VLOOKUP(B55,H28.11.1任期満了日!S:U,3,FALSE)) -> 31.11.29 | E55: )
A56: 佐賀県 | B56: 伊万里市 | C56: ( | D56: =(VLOOKUP(B56,H28.11.1任期満了日!S:U,3,FALSE)) -> 30.04.26 | E56: )
A57: 鹿児島県 | B57: 鹿児島市 | C57: ( | D57: 32.12.22 | E57: )

Sheet 町村長
A1: 町村長の連続就任回数（４回以上）
A2: ※ （ ）内は任期満了年月日である。
A4: 連続就任回数
A5: ４回 | G5: 長野県 | H5: 下諏訪町 | I5: ( | J5: 32.12.04 | K5: ) | L5: ５回 | R5: 高知県 | S5: 馬路村 | T5: ( | U5: =(VLOOKUP(S5,H28.11.1任期満了日!S:U,3,FALSE)) -> 30.04.21 | V5: )
A6: 北海道 | B6: 寿都町 | C6: ( | D6: =(VLOOKUP(B6,H28.11.1任期満了日!S:U,3,FALSE)) -> 29.11.17 | E6: ) | H6: 松川村 | I6: ( | J6: =(VLOOKUP(H6,H28.11.1任期満了日!S:U,3,FALSE)) -> 32.03.06 | K6: ) | L6: 北海道 | M6: 京極町 | N6: ( | O6: =(VLOOKUP(M6,H28.11.1任期満了日!S:U,3,FALSE)) -> 31.04.30 | P6: ) | R6: 熊本県 | S6: 津奈木町 | T6: ( | U6: =(VLOOKUP(S6,H28.11.1任期満了日!S:U,3,FALSE)) -> 29.07.24 | V6: )
B7: 真狩村 | C7: ( | D7: 32.11.26 | E7: ) | G7: 岐阜県 | H7: 垂井町 | I7: ( | J7: =(VLOOKUP(H7,H28.11.1任期満了日!S:U,3,FALSE)) -> 31.04.26 | K7: ) | M7: 共和町 | N7: ( | O7: =(VLOOKUP(M7,H28.11.1任期満了日!S:U,3,FALSE)) -> 29.05.24 | P7: )
B8: 喜茂別町 | C8: ( | D8: =(VLOOKUP(B8,H28.11.1任期満了日!S:U,3,FALSE)) -> 32.07.21 | E8: ) | H8: 池田町 | I8: ( | J8: 31.02.09 | K8: ) | M8: 木古内町 | N8: ( | O8: =(VLOOKUP(M8,H28.11.1任期満了日!S:U,3,FALSE)) -> 32.04.25 | P8: ) | R8: ７回
B9: 岩内町 | C9: ( | D9: =(VLOOKUP(B9,H28.11.1任期満了日!S:U,3,FALSE)) -> 31.10.08 | E9: ) | H9: 川辺町 | I9: ( | J9: =(VLOOKUP(H9,H28.11.1任期満了日!S:U,3,FALSE)) -> 29.05.19 | K9: ) | M9: 当麻町 | N9: ( | O9: =(VLOOKUP(M9,H28.11.1任期満了日!S:U,3,FALSE)) -> 32.02.01 | P9: ) | R9: 青森県 | S9: 六戸町 | T9: ( | U9: =(VLOOKUP(S9,H28.11.1任期満了日!S:U,3,FALSE)) -> 32.01.27 | V9: )
B10: 神恵内村 | C10: ( | D10: =(VLOOKUP(B10,H28.11.1任期満了日!S:U,3,FALSE)) -> 30.03.16 | E10: ) | G10: 静岡県 | H10: 吉田町 | I10: ( | J10: =(VLOOKUP(H10,H28.11.1任期満了日!S:U,3,FALSE)) -> 31.04.29 | K10: ) | M10: 美瑛町 | N10: ( | O10: =(VLOOKUP(M10,H28.11.1任期満了日!S:U,3,FALSE)) -> 31.04.30 | P10: ) | R10: 奈良県 | S10: 河合町 | T10: ( | U10: =(VLOOKUP(S10,H28.11.1任期満了日!S:U,3,FALSE)) -> 31.04.30 | V10: )
B11: 古平町 | C11: ( | D11: =(VLOOKUP(B11,H28.11.1任期満了日!S:U,3,FALSE)) -> 29.05.19 | E11: ) | G11: 愛知県 | H11: 阿久比町 | I11: ( | J11: =(VLOOKUP(H11,H28.11.1任期満了日!S:U,3,FALSE)) -> 30.12.17 | K11: ) | M11: 南富良野町 | N11: ( | O11: =(VLOOKUP(M11,H28.11.1任期満了日!S:U,3,FALSE)) -> 32.04.29 | P11: ) | R11: 熊本県 | S11: 苓北町 | T11: ( | U11: =(VLOOKUP(S11,H28.11.1任期満了日!S:U,3,FALSE)) -> 31.01.29 | V11: )
B12: 上ノ国町 | C12: ( | D12: =(VLOOKUP(B12,H28.11.1任期満了日!S:U,3,FALSE)) -> 30.06.04 | E12: ) | G12: 滋賀県 | H12: 日野町 | I12: ( | J12: =(VLOOKUP(H12,H28.11.1任期満了日!S:U,3,FALSE)) -> 32.07.10 | K12: ) | M12: 置戸町 | N12: ( | O12: =(VLOOKUP(M12,H28.11.1任期満了日!S:U,3,FALSE)) -> 32.06.09 | P12: ) | R12: 宮崎県 | S12: 綾町 | T12: ( | U12: =(VLOOKUP(S12,H28.11.1任期満了日!S:U,3,FALSE)) -> 30.07.10 | V12: )
B13: 今金町 | C13: ( | D13: =(VLOOKUP(B13,H28.11.1任期満了日!S:U,3,FALSE)) -> 31.04.30 | E13: ) | G13: 京都府 | H13: 和束町 | I13: ( | J13: =(VLOOKUP(H13,H28.11.1任期満了日!S:U,3,FALSE)) -> 29.04.21 | K13: ) | M13: 士幌町 | N13: ( | O13: =(VLOOKUP(M13,H28.11.1任期満了日!S:U,3,FALSE)) -> 30.12.04 | P13: )
B14: 東川町 | C14: ( | D14: =(VLOOKUP(B14,H28.11.1任期満了日!S:U,3,FALSE)) -> 31.03.30 | E14: ) | H14: 精華町 | I14: ( | J14: =(VLOOKUP(H14,H28.11.1任期満了日!S:U,3,FALSE)) -> 31.10.23 | K14: ) | M14: 鹿追町 | N14: ( | O14: =(VLOOKUP(M14,H28.11.1任期満了日!S:U,3,FALSE)) -> 31.04.30 | P14: ) | R14: ８回
B15: 苫前町 | C15: ( | D15: =(VLOOKUP(B15,H28.11.1任期満了日!S:U,3,FALSE)) -> 31.04.30 | E15: ) | G15: 大阪府 | H15: 忠岡町 | I15: ( | J15: =(VLOOKUP(H15,H28.11.1任期満了日!S:U,3,FALSE)) -> 32.10.23 | K15: ) | M15: 池田町 | N15: ( | O15: =(VLOOKUP(M15,H28.11.1任期満了日!S:U,3,FALSE)) -> 32.10.30 | P15: ) | R15: 北海道 | S15: 奈井江町 | T15: ( | U15: =(VLOOKUP(S15,H28.11.1任期満了日!S:U,3,FALSE)) -> 30.12.06 | V15: )
B16: 豊富町 | C16: ( | D16: =(VLOOKUP(B16,H28.11.1任期満了日!S:U,3,FALSE)) -> 31.04.30 | E16: ) | H16: 千早赤阪村 | I16: ( | J16: =(VLOOKUP(H16,H28.11.1任期満了日!S:U,3,FALSE)) -> 32.07.15 | K16: ) | M16: 本別町 | N16: ( | O16: =(VLOOKUP(M16,H28.11.1任期満了日!S:U,3,FALSE)) -> 29.09.22 | P16: ) | R16: 岩手県 | S16: 一戸町 | T16: ( | U16: =(VLOOKUP(S16,H28.11.1任期満了日!S:U,3,FALSE)) -> 29.11.17 | V16: )
B17: 興部町 | C17: ( | D17: =(VLOOKUP(B17,H28.11.1任期満了日!S:U,3,FALSE)) -> 31.04.30 | E17: ) | G17: 奈良県 | H17: 十津川村 | I17: ( | J17: =(VLOOKUP(H17,H28.11.1任期満了日!S:U,3,FALSE)) -> 29.04.24 | K17: ) | M17: 弟子屈町 | N17: ( | O17: 32.12.23 | P17: ) | R17: 新潟県 | S17: 出雲崎町 | T17: ( | U17: =(VLOOKUP(S17,H28.11.1任期満了日!S:U,3,FALSE)) -> 32.02.03 | V17: )
B18: 上士幌町 | C18: ( | D18: =(VLOOKUP(B18,H28.11.1任期満了日!S:U,3,FALSE)) -> 29.03.24 | E18: ) | G18: 和歌山県 | H18: 太地町 | I18: ( | J18: =(VLOOKUP(H18,H28.11.1任期満了日!S:U,3,FALSE)) -> 32.08.07 | K18: ) | L18: 青森県 | M18: 東通村 | N18: ( | O18: =(VLOOKUP(M18,H28.11.1任期満了日!S:U,3,FALSE)) -> 29.04.12 | P18: ) | R18: 長野県 | S18: 川上村 | T18: ( | U18: =(VLOOKUP(S18,H28.11.1任期満了日!S:U,3,FALSE)) -> 32.02.26 | V18: )
B19: 清水町 | C19: ( | D19: =(VLOOKUP(B19,H28.11.1任期満了日!S:U,3,FALSE)) -> 29.02.27 | E19: ) | G19: 鳥取県 | H19: 日吉津村 | I19: ( | J19: =(VLOOKUP(H19,H28.11.1任期満了日!S:U,3,FALSE)) -> 31.04.26 | K19: ) | M19: 五戸町 | N19: ( | O19: =(VLOOKUP(M19,H28.11.1任期満了日!S:U,3,FALSE)) -> 31.06.26 | P19: ) | R19: 奈良県 | S19: 斑鳩町 | T19: ( | U19: =(VLOOKUP(S19,H28.11.1任期満了日!S:U,3,FALSE)) -> 29.11.10 | V19: )
B20: 足寄町 | C20: ( | D20: =(VLOOKUP(B20,H28.11.1任期満了日!S:U,3,FALSE)) -> 31.04.30 | E20: ) | G20: 島根県 | H20: 邑南町 | I20: ( | J20: =(VLOOKUP(H20,H28.11.1任期満了日!S:U,3,FALSE)) -> 32.10.30 | K20: ) | L20: 岩手県 | M20: 岩手町 | N20: ( | O20: =(VLOOKUP(M20,H28.11.1任期満了日!S:U,3,FALSE)) -> 30.05.31 | P20: ) | R20: 熊本県 | S20: 嘉島町 | T20: ( | U20: =(VLOOKUP(S20,H28.11.1任期満了日!S:U,3,FALSE)) -> 31.02.10 | V20: )
B21: 厚岸町 | C21: ( | D21: =(VLOOKUP(B21,H28.11.1任期満了日!S:U,3,FALSE)) -> 29.07.12 | E21: ) | H21: 海士町 | I21: ( | J21: =(VLOOKUP(H21,H28.11.1任期満了日!S:U,3,FALSE)) -> 30.05.30 | K21: ) | M21: 岩泉町 | N21: ( | O21: =(VLOOKUP(M21,H28.11.1任期満了日!S:U,3,FALSE)) -> 31.12.25 | P21: )
A22: 青森県 | B22: 田舎館村 | C22: ( | D22: 32.11.17 | E22: ) | G22: 山口県 | H22: 上関町 | I22: ( | J22: =(VLOOKUP(H22,H28.11.1任期満了日!S:U,3,FALSE)) -> 31.10.04 | K22: ) | L22: 宮城県 | M22: 利府町 | N22: ( | O22: =(VLOOKUP(M22,H28.11.1任期満了日!S:U,3,FALSE)) -> 30.03.01 | P22: ) | R22: ９回
B23: 横浜町 | C23: ( | D23: 32.12.11 | E23: ) | G23: 徳島県 | H23: 神山町 | I23: ( | J23: =(VLOOKUP(H23,H28.11.1任期満了日!S:U,3,FALSE)) -> 31.04.29 | K23: ) | M23: 大和町 | N23: ( | O23: =(VLOOKUP(M23,H28.11.1任期満了日!S:U,3,FALSE)) -> 31.10.08 | P23: ) | R23: 北海道 | S23: 乙部町 | T23: ( | U23: =(VLOOKUP(S23,H28.11.1任期満了日!S:U,3,FALSE)) -> 31.04.30 | V23: )
A24: 岩手県 | B24: 住田町 | C24: ( | D24: =(VLOOKUP(B24,H28.11.1任期満了日!S:U,3,FALSE)) -> 29.08.04 | E24: ) | H24: 藍住町 | I24: ( | J24: =(VLOOKUP(H24,H28.11.1任期満了日!S:U,3,FALSE)) -> 29.12.02 | K24: ) | L24: 秋田県 | M24: 東成瀬村 | N24: ( | O24: =(VLOOKUP(M24,H28.11.1任期満了日!S:U,3,FALSE)) -> 30.05.31 | P24: ) | R24: 大分県 | S24: 姫島村 | T24: ( | U24: 32.11.25 | V24: )
B25: 軽米町 | C25: ( | D25: =(VLOOKUP(B25,H28.11.1任期満了日!S:U,3,FALSE)) -> 31.02.01 | E25: ) | G25: 高知県 | H25: 奈半利町 | I25: ( | J25: =(VLOOKUP(H25,H28.11.1任期満了日!S:U,3,FALSE)) -> 30.06.28 | K25: ) | L25: 山形県 | M25: 山辺町 | N25: ( | O25: =(VLOOKUP(M25,H28.11.1任期満了日!S:U,3,FALSE)) -> 30.11.05 | P25: )
A26: 宮城県 | B26: 蔵王町 | C26: ( | D26: =(VLOOKUP(B26,H28.11.1任期満了日!S:U,3,FALSE)) -> 32.10.05 | E26: ) | H26: 本山町 | I26: ( | J26: =(VLOOKUP(H26,H28.11.1任期満了日!S:U,3,FALSE)) -> 29.12.15 | K26: ) | L26: 茨城県 | M26: 八千代町 | N26: ( | O26: =(VLOOKUP(M26,H28.11.1任期満了日!S:U,3,FALSE)) -> 31.02.08 | P26: ) | R26: １０回
B27: 柴田町 | C27: ( | D27: =(VLOOKUP(B27,H28.11.1任期満了日!S:U,3,FALSE)) -> 30.07.22 | E27: ) | H27: 大豊町 | I27: ( | J27: 32.12.18 | K27: ) | L27: 千葉県 | M27: 芝山町 | N27: ( | O27: =(VLOOKUP(M27,H28.11.1任期満了日!S:U,3,FALSE)) -> 29.12.06 | P27: ) | R27: 山梨県 | S27: 早川町 | T27: ( | U27: 32.11.15 | V27: )
A28: 秋田県 | B28: 美郷町 | C28: ( | D28: 32.11.27 | E28: ) | G28: 福岡県 | H28: 篠栗町 | I28: ( | J28: 32.11.29 | K28: ) | L28: 神奈川県 | M28: 大井町 | N28: ( | O28: =(VLOOKUP(M28,H28.11.1任期満了日!S:U,3,FALSE)) -> 30.12.21 | P28: )
A29: 山形県 | B29: 河北町 | C29: ( | D29: =(VLOOKUP(B29,H28.11.1任期満了日!S:U,3,FALSE)) -> 31.02.04 | E29: ) | H29: 須恵町 | I29: ( | J29: =(VLOOKUP(H29,H28.11.1任期満了日!S:U,3,FALSE)) -> 30.04.30 | K29: ) | M29: 箱根町 | N29: ( | O29: 32.11.14 | P29: )
B30: 朝日町 | C30: ( | D30: 32.12.07 | E30: ) | H30: 香春町 | I30: ( | J30: =(VLOOKUP(H30,H28.11.1任期満了日!S:U,3,FALSE)) -> 30.02.23 | K30: ) | L30: 新潟県 | M30: 田上町 | N30: ( | O30: =(VLOOKUP(M30,H28.11.1任期満了日!S:U,3,FALSE)) -> 30.06.21 | P30: )
B31: 最上町 | C31: ( | D31: =(VLOOKUP(B31,H28.11.1任期満了日!S:U,3,FALSE)) -> 30.10.04 | E31: ) | G31: 熊本県 | H31: 玉東町 | I31: ( | J31: =(VLOOKUP(H31,H28.11.1任期満了日!S:U,3,FALSE)) -> 29.01.27 | K31: ) | M31: 刈羽村 | N31: ( | O31: 32.12.14 | P31: )
B32: 戸沢村 | C32: ( | D32: =(VLOOKUP(B32,H28.11.1任期満了日!S:U,3,FALSE)) -> 31.03.01 | E32: ) | H32: 芦北町 | I32: ( | J32: =(VLOOKUP(H32,H28.11.1任期満了日!S:U,3,FALSE)) -> 29.01.22 | K32: ) | L32: 富山県 | M32: 上市町 | N32: ( | O32: =(VLOOKUP(M32,H28.11.1任期満了日!S:U,3,FALSE)) -> 29.10.16 | P32: )
B33: 川西町 | C33: ( | D33: =(VLOOKUP(B33,H28.11.1任期満了日!S:U,3,FALSE)) -> 32.04.28 | E33: ) | G33: 鹿児島県 | H33: 大崎町 | I33: ( | J33: =(VLOOKUP(H33,H28.11.1任期満了日!S:U,3,FALSE)) -> 29.12.20 | K33: ) | L33: 福井県 | M33: 池田町 | N33: ( | O33: =(VLOOKUP(M33,H28.11.1任期満了日!S:U,3,FALSE)) -> 32.10.30 | P33: )
B34: 三川町 | C34: ( | D34: =(VLOOKUP(B34,H28.11.1任期満了日!S:U,3,FALSE)) -> 31.02.09 | E34: ) | H34: 伊仙町 | I34: ( | J34: =(VLOOKUP(H34,H28.11.1任期満了日!S:U,3,FALSE)) -> 29.10.30 | K34: ) | M34: 美浜町 | N34: ( | O34: =(VLOOKUP(M34,H28.11.1任期満了日!S:U,3,FALSE)) -> 31.03.06 | P34: )
A35: 福島県 | B35: 川俣町 | C35: ( | D35: =(VLOOKUP(B35,H28.11.1任期満了日!S:U,3,FALSE)) -> 30.11.28 | E35: ) | G35: 沖縄県 | H35: 北中城村 | I35: ( | J35: 32.12.21 | K35: ) | L35: 岐阜県 | M35: 笠松町 | N35: ( | O35: =(VLOOKUP(M35,H28.11.1任期満了日!S:U,3,FALSE)) -> 31.06.28 | P35: )
B36: 磐梯町 | C36: ( | D36: =(VLOOKUP(B36,H28.11.1任期満了日!S:U,3,FALSE)) -> 31.06.25 | E36: ) | H36: 伊是名村 | I36: ( | J36: =(VLOOKUP(H36,H28.11.1任期満了日!S:U,3,FALSE)) -> 30.09.20 | K36: ) | L36: 愛知県 | M36: 飛島村 | N36: ( | O36: =(VLOOKUP(M36,H28.11.1任期満了日!S:U,3,FALSE)) -> 32.04.09 | P36: )
B37: 柳津町 | C37: ( | D37: =(VLOOKUP(B37,H28.11.1任期満了日!S:U,3,FALSE)) -> 31.06.25 | E37: ) | L37: 和歌山県 | M37: 上富田町 | N37: ( | O37: =(VLOOKUP(M37,H28.11.1任期満了日!S:U,3,FALSE)) -> 30.02.04 | P37: )
B38: 西郷村 | C38: ( | D38: =(VLOOKUP(B38,H28.11.1任期満了日!S:U,3,FALSE)) -> 30.03.27 | E38: ) | L38: 鳥取県 | M38: 岩美町 | N38: ( | O38: =(VLOOKUP(M38,H28.11.1任期満了日!S:U,3,FALSE)) -> 29.12.06 | P38: )
B39: 矢吹町 | C39: ( | D39: =(VLOOKUP(B39,H28.11.1任期満了日!S:U,3,FALSE)) -> 32.01.10 | E39: ) | M39: 三朝町 | N39: ( | O39: =(VLOOKUP(M39,H28.11.1任期満了日!S:U,3,FALSE)) -> 29.11.14 | P39: )
B40: 鮫川村 | C40: ( | D40: =(VLOOKUP(B40,H28.11.1任期満了日!S:U,3,FALSE)) -> 31.08.30 | E40: ) | L40: 山口県 | M40: 平生町 | N40: ( | O40: =(VLOOKUP(M40,H28.11.1任期満了日!S:U,3,FALSE)) -> 30.12.10 | P40: )
B41: 古殿町 | C41: ( | D41: =(VLOOKUP(B41,H28.11.1任期満了日!S:U,3,FALSE)) -> 31.04.30 | E41: ) | L41: 徳島県 | M41: 松茂町 | N41: ( | O41: =(VLOOKUP(M41,H28.11.1任期満了日!S:U,3,FALSE)) -> 29.08.20 | P41: )
B42: 三春町 | C42: ( | D42: =(VLOOKUP(B42,H28.11.1任期満了日!S:U,3,FALSE)) -> 31.09.20 | E42: ) | L42: 長崎県 | M42: 波佐見町 | N42: ( | O42: =(VLOOKUP(M42,H28.11.1任期満了日!S:U,3,FALSE)) -> 30.09.21 | P42: )
B43: 川内村 | C43: ( | D43: =(VLOOKUP(B43,H28.11.1任期満了日!S:U,3,FALSE)) -> 32.04.24 | E43: ) | L43: 宮崎県 | M43: 西米良村 | N43: ( | O43: =(VLOOKUP(M43,H28.11.1任期満了日!S:U,3,FALSE)) -> 30.04.04 | P43: )
B44: 新地町 | C44: ( | D44: =(VLOOKUP(B44,H28.11.1任期満了日!S:U,3,FALSE)) -> 30.09.25 | E44: ) | M44: 椎葉村 | N44: ( | O44: =(VLOOKUP(M44,H28.11.1任期満了日!S:U,3,FALSE)) -> 29.07.05 | P44: )
A45: 栃木県 | B45: 茂木町 | C45: ( | D45: =(VLOOKUP(B45,H28.11.1任期満了日!S:U,3,FALSE)) -> 30.07.18 | E45: ) | L45: 鹿児島県 | M45: 知名町 | N45: ( | O45: =(VLOOKUP(M45,H28.11.1任期満了日!S:U,3,FALSE)) -> 29.12.20 | P45: )
A46: 群馬県 | B46: 甘楽町 | C46: ( | D46: =(VLOOKUP(B46,H28.11.1任期満了日!S:U,3,FALSE)) -> 32.07.22 | E46: ) | L46: 沖縄県 | M46: 南風原町 | N46: ( | O46: =(VLOOKUP(M46,H28.11.1任期満了日!S:U,3,FALSE)) -> 30.05.08 | P46: )
A47: 埼玉県 | B47: 滑川町 | C47: ( | D47: =(VLOOKUP(B47,H28.11.1任期満了日!S:U,3,FALSE)) -> 30.10.03 | E47: ) | M47: 北大東村 | N47: ( | O47: =(VLOOKUP(M47,H28.11.1任期満了日!S:U,3,FALSE)) -> 31.12.03 | P47: )
B48: 嵐山町 | C48: ( | D48: =(VLOOKUP(B48,H28.11.1任期満了日!S:U,3,FALSE)) -> 32.09.08 | E48: )
B49: 上里町 | C49: ( | D49: =(VLOOKUP(B49,H28.11.1任期満了日!S:U,3,FALSE)) -> 30.05.10 | E49: ) | L49: ６回
A50: 千葉県 | B50: 神崎町 | C50: ( | D50: =(VLOOKUP(B50,H28.11.1任期満了日!S:U,3,FALSE)) -> 32.05.22 | E50: ) | L50: 北海道 | M50: 白糠町 | N50: ( | O50: =(VLOOKUP(M50,H28.11.1任期満了日!S:U,3,FALSE)) -> 32.06.10 | P50: )
A51: 東京都 | B51: 瑞穂町 | C51: ( | D51: =(VLOOKUP(B51,H28.11.1任期満了日!S:U,3,FALSE)) -> 29.05.15 | E51: ) | L51: 福島県 | M51: 飯舘村 | N51: ( | O51: =(VLOOKUP(M51,H28.11.1任期満了日!S:U,3,FALSE)) -> 32.10.26 | P51: )
B52: 檜原村 | C52: ( | D52: =(VLOOKUP(B52,H28.11.1任期満了日!S:U,3,FALSE)) -> 31.04.30 | E52: ) | L52: 茨城県 | M52: 大洗町 | N52: ( | O52: =(VLOOKUP(M52,H28.11.1任期満了日!S:U,3,FALSE)) -> 32.09.21 | P52: )
B53: 奥多摩町 | C53: ( | D53: =(VLOOKUP(B53,H28.11.1任期満了日!S:U,3,FALSE)) -> 32.05.23 | E53: ) | L53: 千葉県 | M53: 東庄町 | N53: ( | O53: =(VLOOKUP(M53,H28.11.1任期満了日!S:U,3,FALSE)) -> 31.01.20 | P53: )
B54: 青ヶ島村 | C54: ( | D54: =(VLOOKUP(B54,H28.11.1任期満了日!S:U,3,FALSE)) -> 29.09.30 | E54: ) | M54: 白子町 | N54: ( | O54: =(VLOOKUP(M54,H28.11.1任期満了日!S:U,3,FALSE)) -> 29.06.18 | P54: )
B55: 小笠原村 | C55: ( | D55: =(VLOOKUP(B55,H28.11.1任期満了日!S:U,3,FALSE)) -> 31.07.26 | E55: ) | M55: 鋸南町 | N55: ( | O55: =(VLOOKUP(M55,H28.11.1任期満了日!S:U,3,FALSE)) -> 31.04.26 | P55: )
A56: 新潟県 | B56: 関川村 | C56: ( | D56: =(VLOOKUP(B56,H28.11.1任期満了日!S:U,3,FALSE)) -> 29.12.23 | E56: ) | L56: 新潟県 | M56: 聖籠町 | N56: ( | O56: =(VLOOKUP(M56,H28.11.1任期満了日!S:U,3,FALSE)) -> 30.09.04 | P56: )
A57: 山梨県 | B57: 市川三郷町 | C57: ( | D57: =(VLOOKUP(B57,H28.11.1任期満了日!S:U,3,FALSE)) -> 29.11.12 | E57: ) | L57: 長野県 | M57: 泰阜村 | N57: ( | O57: =(VLOOKUP(M57,H28.11.1任期満了日!S:U,3,FALSE)) -> 30.08.12 | P57: )
L58: 京都府 | M58: 井手町 | N58: ( | O58: =(VLOOKUP(M58,H28.11.1任期満了日!S:U,3,FALSE)) -> 31.08.26 | P58: )
L59: 広島県 | M59: 坂町 | N59: ( | O59: =(VLOOKUP(M59,H28.11.1任期満了日!S:U,3,FALSE)) -> 29.02.07 | P59: )

Sheet 赤色タブのみ印刷！（ここから後ろは編集データ）

Sheet とりまとめ
B1: 市区 | C1: 1 | D1: 2 | E1: 3 | F1: 4 | G1: 5 | H1: 6 | I1: 7 | J1: 8 | K1: 9 | L1: 10 | M1: 町村 | N1: 1 | O1: 2 | P1: 3 | Q1: 4 | R1: 5 | S1: 6 | T1: 7 | U1: 8 | V1: 9 | W1: 10
C2: １回 | D2: ２回 | E2: ３回 | F2: ４回 | G2: ５回 | H2: ６回 | I2: ７回 | J2: ８回 | K2: ９回 | L2: １０回 | N2: １回 | O2: ２回 | P2: ３回 | Q2: ４回 | R2: ５回 | S2: ６回 | T2: ７回 | U2: ８回 | V2: ９回 | W2: １０回
A3: 1 | B3: 北海道 | C3: =COUNTIFS(元データ!$AO:$AO,C$1,元データ!$A:$A,$A3,元データ!$BC:$BC,$B$1) -> 6 | D3: =COUNTIFS(元データ!$AO:$AO,D$1,元データ!$A:$A,$A3,元データ!$BC:$BC,$B$1) -> 15 | E3: =COUNTIFS(元データ!$AO:$AO,E$1,元データ!$A:$A,$A3,元データ!$BC:$BC,$B$1) -> 11 | F3: =COUNTIFS(元データ!$AO:$AO,F$1,元データ!$A:$A,$A3,元データ!$BC:$BC,$B$1) -> 1 | G3: =COUNTIFS(元データ!$AO:$AO,G$1,元データ!$A:$A,$A3,元データ!$BC:$BC,$B$1) -> 2 | H3: =COUNTIFS(元データ!$AO:$AO,H$1,元データ!$A:$A,$A3,元データ!$BC:$BC,$B$1) -> 0 | I3: =COUNTIFS(元データ!$AO:$AO,I$1,元データ!$A:$A,$A3,元データ!$BC:$BC,$B$1) -> 0 | J3: =COUNTIFS(元データ!$AO:$AO,J$1,元データ!$A:$A,$A3,元データ!$BC:$BC,$B$1) -> 0 | ... L3: =COUNTIFS(元データ!$AO:$AO,L$1,元データ!$A:$A,$A3,元データ!$BC:$BC,$B$1) -> 0 | N3: =COUNTIFS(元データ!$AO:$AO,N$1,元データ!$A:$A,$A3,元データ!$BC:$BC,$M$1) -> 39 | O3: =COUNTIFS(元データ!$AO:$AO,O$1,元データ!$A:$A,$A3,元データ!$BC:$BC,$M$1) -> 30 | P3: =COUNTIFS(元データ!$AO:$AO,P$1,元データ!$A:$A,$A3,元データ!$BC:$BC,$M$1) -> 43 | Q3: =COUNTIFS(元データ!$AO:$AO,Q$1,元データ!$A:$A,$A3,元データ!$BC:$BC,$M$1) -> 17 | R3: =COUNTIFS(元データ!$AO:$AO,R$1,元データ!$A:$A,$A3,元データ!$BC:$BC,$M$1) -> 12 | S3: =COUNTIFS(元データ!$AO:$AO,S$1,元データ!$A:$A,$A3,元データ!$BC:$BC,$M$1) -> 1 | T3: =COUNTIFS(元データ!$AO:$AO,T$1,元データ!$A:$A,$A3,元データ!$BC:$BC,$M$1) -> 0 | U3: =COUNTIFS(元データ!$AO:$AO,U$1,元データ!$A:$A,$A3,元データ!$BC:$BC,$M$1) -> 1 | ... W3: =COUNTIFS(元データ!$AO:$AO,W$1,元データ!$A:$A,$A3,元データ!$BC:$BC,$M$1) -> 0
A4: 2 | B4: 青森県 | C4: =COUNTIFS(元データ!$AO:$AO,C$1,元データ!$A:$A,$A4,元データ!$BC:$BC,$B$1) -> 4 | D4: =COUNTIFS(元データ!$AO:$AO,D$1,元データ!$A:$A,$A4,元データ!$BC:$BC,$B$1) -> 2 | E4: =COUNTIFS(元データ!$AO:$AO,E$1,元データ!$A:$A,$A4,元データ!$BC:$BC,$B$1) -> 4 | F4: =COUNTIFS(元データ!$AO:$AO,F$1,元データ!$A:$A,$A4,元データ!$BC:$BC,$B$1) -> 0 | G4: =COUNTIFS(元データ!$AO:$AO,G$1,元データ!$A:$A,$A4,元データ!$BC:$BC,$B$1) -> 0 | H4: =COUNTIFS(元データ!$AO:$AO,H$1,元データ!$A:$A,$A4,元データ!$BC:$BC,$B$1) -> 0 | I4: =COUNTIFS(元データ!$AO:$AO,I$1,元データ!$A:$A,$A4,元データ!$BC:$BC,$B$1) -> 0 | J4: =COUNTIFS(元データ!$AO:$AO,J$1,元データ!$A:$A,$A4,元データ!$BC:$BC,$B$1) -> 0 | ... L4: =COUNTIFS(元データ!$AO:$AO,L$1,元データ!$A:$A,$A4,元データ!$BC:$BC,$B$1) -> 0 | N4: =COUNTIFS(元データ!$AO:$AO,N$1,元データ!$A:$A,$A4,元データ!$BC:$BC,$M$1) -> 8 | O4: =COUNTIFS(元データ!$AO:$AO,O$1,元データ!$A:$A,$A4,元データ!$BC:$BC,$M$1) -> 9 | P4: =COUNTIFS(元データ!$AO:$AO,P$1,元データ!$A:$A,$A4,元データ!$BC:$BC,$M$1) -> 8 | Q4: =COUNTIFS(元データ!$AO:$AO,Q$1,元データ!$A:$A,$A4,元データ!$BC:$BC,$M$1) -> 2 | R4: =COUNTIFS(元データ!$AO:$AO,R$1,元データ!$A:$A,$A4,元データ!$BC:$BC,$M$1) -> 2 | S4: =COUNTIFS(元データ!$AO:$AO,S$1,元データ!$A:$A,$A4,元データ!$BC:$BC,$M$1) -> 0 | T4: =COUNTIFS(元データ!$AO:$AO,T$1,元データ!$A:$A,$A4,元データ!$BC:$BC,$M$1) -> 1 | U4: =COUNTIFS(元データ!$AO:$AO,U$1,元データ!$A:$A,$A4,元データ!$BC:$BC,$M$1) -> 0 | ... W4: =COUNTIFS(元データ!$AO:$AO,W$1,元データ!$A:$A,$A4,元データ!$BC:$BC,$M$1) -> 0
A5: 3 | B5: 岩手県 | C5: =COUNTIFS(元データ!$AO:$AO,C$1,元データ!$A:$A,$A5,元データ!$BC:$BC,$B$1) -> 3 | D5: =COUNTIFS(元データ!$AO:$AO,D$1,元データ!$A:$A,$A5,元データ!$BC:$BC,$B$1) -> 6 | E5: =COUNTIFS(元データ!$AO:$AO,E$1,元データ!$A:$A,$A5,元データ!$BC:$BC,$B$1) -> 4 | F5: =COUNTIFS(元データ!$AO:$AO,F$1,元データ!$A:$A,$A5,元データ!$BC:$BC,$B$1) -> 1 | G5: =COUNTIFS(元データ!$AO:$AO,G$1,元データ!$A:$A,$A5,元データ!$BC:$BC,$B$1) -> 0 | H5: =COUNTIFS(元データ!$AO:$AO,H$1,元データ!$A:$A,$A5,元データ!$BC:$BC,$B$1) -> 0 | I5: =COUNTIFS(元データ!$AO:$AO,I$1,元データ!$A:$A,$A5,元データ!$BC:$BC,$B$1) -> 0 | J5: =COUNTIFS(元データ!$AO:$AO,J$1,元データ!$A:$A,$A5,元データ!$BC:$BC,$B$1) -> 0 | ... L5: =COUNTIFS(元データ!$AO:$AO,L$1,元データ!$A:$A,$A5,元データ!$BC:$BC,$B$1) -> 0 | N5: =COUNTIFS(元データ!$AO:$AO,N$1,元データ!$A:$A,$A5,元データ!$BC:$BC,$M$1) -> 5 | O5: =COUNTIFS(元データ!$AO:$AO,O$1,元データ!$A:$A,$A5,元データ!$BC:$BC,$M$1) -> 5 | P5: =COUNTIFS(元データ!$AO:$AO,P$1,元データ!$A:$A,$A5,元データ!$BC:$BC,$M$1) -> 4 | Q5: =COUNTIFS(元データ!$AO:$AO,Q$1,元データ!$A:$A,$A5,元データ!$BC:$BC,$M$1) -> 2 | R5: =COUNTIFS(元データ!$AO:$AO,R$1,元データ!$A:$A,$A5,元データ!$BC:$BC,$M$1) -> 2 | S5: =COUNTIFS(元データ!$AO:$AO,S$1,元データ!$A:$A,$A5,元データ!$BC:$BC,$M$1) -> 0 | T5: =COUNTIFS(元データ!$AO:$AO,T$1,元データ!$A:$A,$A5,元データ!$BC:$BC,$M$1) -> 0 | U5: =COUNTIFS(元データ!$AO:$AO,U$1,元データ!$A:$A,$A5,元データ!$BC:$BC,$M$1) -> 1 | ... W5: =COUNTIFS(元データ!$AO:$AO,W$1,元データ!$A:$A,$A5,元データ!$BC:$BC,$M$1) -> 0
A6: 4 | B6: 宮城県 | C6: =COUNTIFS(元データ!$AO:$AO,C$1,元データ!$A:$A,$A6,元データ!$BC:$BC,$B$1) -> 4 | D6: =COUNTIFS(元データ!$AO:$AO,D$1,元データ!$A:$A,$A6,元データ!$BC:$BC,$B$1) -> 3 | E6: =COUNTIFS(元データ!$AO:$AO,E$1,元データ!$A:$A,$A6,元データ!$BC:$BC,$B$1) -> 6 | F6: =COUNTIFS(元データ!$AO:$AO,F$1,元データ!$A:$A,$A6,元データ!$BC:$BC,$B$1) -> 1 | G6: =COUNTIFS(元データ!$AO:$AO,G$1,元データ!$A:$A,$A6,元データ!$BC:$BC,$B$1) -> 0 | H6: =COUNTIFS(元データ!$AO:$AO,H$1,元データ!$A:$A,$A6,元データ!$BC:$BC,$B$1) -> 0 | I6: =COUNTIFS(元データ!$AO:$AO,I$1,元データ!$A:$A,$A6,元データ!$BC:$BC,$B$1) -> 0 | J6: =COUNTIFS(元データ!$AO:$AO,J$1,元データ!$A:$A,$A6,元データ!$BC:$BC,$B$1) -> 0 | ... L6: =COUNTIFS(元データ!$AO:$AO,L$1,元データ!$A:$A,$A6,元データ!$BC:$BC,$B$1) -> 0 | N6: =COUNTIFS(元データ!$AO:$AO,N$1,元データ!$A:$A,$A6,元データ!$BC:$BC,$M$1) -> 9 | O6: =COUNTIFS(元データ!$AO:$AO,O$1,元データ!$A:$A,$A6,元データ!$BC:$BC,$M$1) -> 6 | P6: =COUNTIFS(元データ!$AO:$AO,P$1,元データ!$A:$A,$A6,元データ!$BC:$BC,$M$1) -> 2 | Q6: =COUNTIFS(元データ!$AO:$AO,Q$1,元データ!$A:$A,$A6,元データ!$BC:$BC,$M$1) -> 2 | R6: =COUNTIFS(元データ!$AO:$AO,R$1,元データ!$A:$A,$A6,元データ!$BC:$BC,$M$1) -> 2 | S6: =COUNTIFS(元データ!$AO:$AO,S$1,元データ!$A:$A,$A6,元データ!$BC:$BC,$M$1) -> 0 | T6: =COUNTIFS(元データ!$AO:$AO,T$1,元データ!$A:$A,$A6,元データ!$BC:$BC,$M$1) -> 0 | U6: =COUNTIFS(元データ!$AO:$AO,U$1,元データ!$A:$A,$A6,元データ!$BC:$BC,$M$1) -> 0 | ... W6: =COUNTIFS(元データ!$AO:$AO,W$1,元データ!$A:$A,$A6,元データ!$BC:$BC,$M$1) -> 0
A7: 5 | B7: 秋田県 | C7: =COUNTIFS(元データ!$AO:$AO,C$1,元データ!$A:$A,$A7,元データ!$BC:$BC,$B$1) -> 2 | D7: =COUNTIFS(元データ!$AO:$AO,D$1,元データ!$A:$A,$A7,元データ!$BC:$BC,$B$1) -> 6 | E7: =COUNTIFS(元データ!$AO:$AO,E$1,元データ!$A:$A,$A7,元データ!$BC:$BC,$B$1) -> 5 | F7: =COUNTIFS(元データ!$AO:$AO,F$1,元データ!$A:$A,$A7,元データ!$BC:$BC,$B$1) -> 0 | G7: =COUNTIFS(元データ!$AO:$AO,G$1,元データ!$A:$A,$A7,元データ!$BC:$BC,$B$1) -> 0 | H7: =COUNTIFS(元データ!$AO:$AO,H$1,元データ!$A:$A,$A7,元データ!$BC:$BC,$B$1) -> 0 | I7: =COUNTIFS(元データ!$AO:$AO,I$1,元データ!$A:$A,$A7,元データ!$BC:$BC,$B$1) -> 0 | J7: =COUNTIFS(元データ!$AO:$AO,J$1,元データ!$A:$A,$A7,元データ!$BC:$BC,$B$1) -> 0 | ... L7: =COUNTIFS(元データ!$AO:$AO,L$1,元データ!$A:$A,$A7,元データ!$BC:$BC,$B$1) -> 0 | N7: =COUNTIFS(元データ!$AO:$AO,N$1,元データ!$A:$A,$A7,元データ!$BC:$BC,$M$1) -> 3 | O7: =COUNTIFS(元データ!$AO:$AO,O$1,元データ!$A:$A,$A7,元データ!$BC:$BC,$M$1) -> 3 | P7: =COUNTIFS(元データ!$AO:$AO,P$1,元データ!$A:$A,$A7,元データ!$BC:$BC,$M$1) -> 4 | Q7: =COUNTIFS(元データ!$AO:$AO,Q$1,元データ!$A:$A,$A7,元データ!$BC:$BC,$M$1) -> 1 | R7: =COUNTIFS(元データ!$AO:$AO,R$1,元データ!$A:$A,$A7,元データ!$BC:$BC,$M$1) -> 1 | S7: =COUNTIFS(元データ!$AO:$AO,S$1,元データ!$A:$A,$A7,元データ!$BC:$BC,$M$1) -> 0 | T7: =COUNTIFS(元データ!$AO:$AO,T$1,元データ!$A:$A,$A7,元データ!$BC:$BC,$M$1) -> 0 | U7: =COUNTIFS(元データ!$AO:$AO,U$1,元データ!$A:$A,$A7,元データ!$BC:$BC,$M$1) -> 0 | ... W7: =COUNTIFS(元データ!$AO:$AO,W$1,元データ!$A:$A,$A7,元データ!$BC:$BC,$M$1) -> 0
A8: 6 | B8: 山形県 | C8: =COUNTIFS(元データ!$AO:$AO,C$1,元データ!$A:$A,$A8,元データ!$BC:$BC,$B$1) -> 5 | D8: =COUNTIFS(元データ!$AO:$AO,D$1,元データ!$A:$A,$A8,元データ!$BC:$BC,$B$1) -> 3 | E8: =COUNTIFS(元データ!$AO:$AO,E$1,元データ!$A:$A,$A8,元データ!$BC:$BC,$B$1) -> 4 | F8: =COUNTIFS(元データ!$AO:$AO,F$1,元データ!$A:$A,$A8,元データ!$BC:$BC,$B$1) -> 0 | G8: =COUNTIFS(元データ!$AO:$AO,G$1,元データ!$A:$A,$A8,元データ!$BC:$BC,$B$1) -> 1 | H8: =COUNTIFS(元データ!$AO:$AO,H$1,元データ!$A:$A,$A8,元データ!$BC:$BC,$B$1) -> 0 | I8: =COUNTIFS(元データ!$AO:$AO,I$1,元データ!$A:$A,$A8,元データ!$BC:$BC,$B$1) -> 0 | J8: =COUNTIFS(元データ!$AO:$AO,J$1,元データ!$A:$A,$A8,元データ!$BC:$BC,$B$1) -> 0 | ... L8: =COUNTIFS(元データ!$AO:$AO,L$1,元データ!$A:$A,$A8,元データ!$BC:$BC,$B$1) -> 0 | N8: =COUNTIFS(元データ!$AO:$AO,N$1,元データ!$A:$A,$A8,元データ!$BC:$BC,$M$1) -> 3 | O8: =COUNTIFS(元データ!$AO:$AO,O$1,元データ!$A:$A,$A8,元データ!$BC:$BC,$M$1) -> 3 | P8: =COUNTIFS(元データ!$AO:$AO,P$1,元データ!$A:$A,$A8,元データ!$BC:$BC,$M$1) -> 9 | Q8: =COUNTIFS(元データ!$AO:$AO,Q$1,元データ!$A:$A,$A8,元データ!$BC:$BC,$M$1) -> 6 | R8: =COUNTIFS(元データ!$AO:$AO,R$1,元データ!$A:$A,$A8,元データ!$BC:$BC,$M$1) -> 1 | S8: =COUNTIFS(元データ!$AO:$AO,S$1,元データ!$A:$A,$A8,元データ!$BC:$BC,$M$1) -> 0 | T8: =COUNTIFS(元データ!$AO:$AO,T$1,元データ!$A:$A,$A8,元データ!$BC:$BC,$M$1) -> 0 | U8: =COUNTIFS(元データ!$AO:$AO,U$1,元データ!$A:$A,$A8,元データ!$BC:$BC,$M$1) -> 0 | ... W8: =COUNTIFS(元データ!$AO:$AO,W$1,元データ!$A:$A,$A8,元データ!$BC:$BC,$M$1) -> 0
A9: 7 | B9: 福島県 | C9: =COUNTIFS(元データ!$AO:$AO,C$1,元データ!$A:$A,$A9,元データ!$BC:$BC,$B$1) -> 4 | D9: =COUNTIFS(元データ!$AO:$AO,D$1,元データ!$A:$A,$A9,元データ!$BC:$BC,$B$1) -> 4 | E9: =COUNTIFS(元データ!$AO:$AO,E$1,元データ!$A:$A,$A9,元データ!$BC:$BC,$B$1) -> 4 | F9: =COUNTIFS(元データ!$AO:$AO,F$1,元データ!$A:$A,$A9,元データ!$BC:$BC,$B$1) -> 1 | G9: =COUNTIFS(元データ!$AO:$AO,G$1,元データ!$A:$A,$A9,元データ!$BC:$BC,$B$1) -> 0 | H9: =COUNTIFS(元データ!$AO:$AO,H$1,元データ!$A:$A,$A9,元データ!$BC:$BC,$B$1) -> 0 | I9: =COUNTIFS(元データ!$AO:$AO,I$1,元データ!$A:$A,$A9,元データ!$BC:$BC,$B$1) -> 0 | J9: =COUNTIFS(元データ!$AO:$AO,J$1,元データ!$A:$A,$A9,元データ!$BC:$BC,$B$1) -> 0 | ... L9: =COUNTIFS(元データ!$AO:$AO,L$1,元データ!$A:$A,$A9,元データ!$BC:$BC,$B$1) -> 0 | N9: =COUNTIFS(元データ!$AO:$AO,N$1,元データ!$A:$A,$A9,元データ!$BC:$BC,$M$1) -> 13 | O9: =COUNTIFS(元データ!$AO:$AO,O$1,元データ!$A:$A,$A9,元データ!$BC:$BC,$M$1) -> 11 | P9: =COUNTIFS(元データ!$AO:$AO,P$1,元データ!$A:$A,$A9,元データ!$BC:$BC,$M$1) -> 11 | Q9: =COUNTIFS(元データ!$AO:$AO,Q$1,元データ!$A:$A,$A9,元データ!$BC:$BC,$M$1) -> 10 | R9: =COUNTIFS(元データ!$AO:$AO,R$1,元データ!$A:$A,$A9,元データ!$BC:$BC,$M$1) -> 0 | S9: =COUNTIFS(元データ!$AO:$AO,S$1,元データ!$A:$A,$A9,元データ!$BC:$BC,$M$1) -> 1 | T9: =COUNTIFS(元データ!$AO:$AO,T$1,元データ!$A:$A,$A9,元データ!$BC:$BC,$M$1) -> 0 | U9: =COUNTIFS(元データ!$AO:$AO,U$1,元データ!$A:$A,$A9,元データ!$BC:$BC,$M$1) -> 0 | ... W9: =COUNTIFS(元データ!$AO:$AO,W$1,元データ!$A:$A,$A9,元データ!$BC:$BC,$M$1) -> 0
A10: 8 | B10: 茨城県 | C10: =COUNTIFS(元データ!$AO:$AO,C$1,元データ!$A:$A,$A10,元データ!$BC:$BC,$B$1) -> 14 | D10: =COUNTIFS(元データ!$AO:$AO,D$1,元データ!$A:$A,$A10,元データ!$BC:$BC,$B$1) -> 8 | E10: =COUNTIFS(元データ!$AO:$AO,E$1,元データ!$A:$A,$A10,元データ!$BC:$BC,$B$1) -> 7 | F10: =COUNTIFS(元データ!$AO:$AO,F$1,元データ!$A:$A,$A10,元データ!$BC:$BC,$B$1) -> 3 | G10: =COUNTIFS(元データ!$AO:$AO,G$1,元データ!$A:$A,$A10,元データ!$BC:$BC,$B$1) -> 0 | H10: =COUNTIFS(元データ!$AO:$AO,H$1,元データ!$A:$A,$A10,元データ!$BC:$BC,$B$1) -> 0 | I10: =COUNTIFS(元データ!$AO:$AO,I$1,元データ!$A:$A,$A10,元データ!$BC:$BC,$B$1) -> 0 | J10: =COUNTIFS(元データ!$AO:$AO,J$1,元データ!$A:$A,$A10,元データ!$BC:$BC,$B$1) -> 0 | ... L10: =COUNTIFS(元データ!$AO:$AO,L$1,元データ!$A:$A,$A10,元データ!$BC:$BC,$B$1) -> 0 | N10: =COUNTIFS(元データ!$AO:$AO,N$1,元データ!$A:$A,$A10,元データ!$BC:$BC,$M$1) -> 5 | O10: =COUNTIFS(元データ!$AO:$AO,O$1,元データ!$A:$A,$A10,元データ!$BC:$BC,$M$1) -> 2 | P10: =COUNTIFS(元データ!$AO:$AO,P$1,元データ!$A:$A,$A10,元データ!$BC:$BC,$M$1) -> 3 | Q10: =COUNTIFS(元データ!$AO:$AO,Q$1,元データ!$A:$A,$A10,元データ!$BC:$BC,$M$1) -> 0 | R10: =COUNTIFS(元データ!$AO:$AO,R$1,元データ!$A:$A,$A10,元データ!$BC:$BC,$M$1) -> 1 | S10: =COUNTIFS(元データ!$AO:$AO,S$1,元データ!$A:$A,$A10,元データ!$BC:$BC,$M$1) -> 1 | T10: =COUNTIFS(元データ!$AO:$AO,T$1,元データ!$A:$A,$A10,元データ!$BC:$BC,$M$1) -> 0 | U10: =COUNTIFS(元データ!$AO:$AO,U$1,元データ!$A:$A,$A10,元データ!$BC:$BC,$M$1) -> 0 | ... W10: =COUNTIFS(元データ!$AO:$AO,W$1,元データ!$A:$A,$A10,元データ!$BC:$BC,$M$1) -> 0
A11: 9 | B11: 栃木県 | C11: =COUNTIFS(元データ!$AO:$AO,C$1,元データ!$A:$A,$A11,元データ!$BC:$BC,$B$1) -> 3 | D11: =COUNTIFS(元データ!$AO:$AO,D$1,元データ!$A:$A,$A11,元データ!$BC:$BC,$B$1) -> 4 | E11: =COUNTIFS(元データ!$AO:$AO,E$1,元データ!$A:$A,$A11,元データ!$BC:$BC,$B$1) -> 5 | F11: =COUNTIFS(元データ!$AO:$AO,F$1,元データ!$A:$A,$A11,元データ!$BC:$BC,$B$1) -> 1 | G11: =COUNTIFS(元データ!$AO:$AO,G$1,元データ!$A:$A,$A11,元データ!$BC:$BC,$B$1) -> 1 | H11: =COUNTIFS(元データ!$AO:$AO,H$1,元データ!$A:$A,$A11,元データ!$BC:$BC,$B$1) -> 0 | I11: =COUNTIFS(元データ!$AO:$AO,I$1,元データ!$A:$A,$A11,元データ!$BC:$BC,$B$1) -> 0 | J11: =COUNTIFS(元データ!$AO:$AO,J$1,元データ!$A:$A,$A11,元データ!$BC:$BC,$B$1) -> 0 | ... L11: =COUNTIFS(元データ!$AO:$AO,L$1,元データ!$A:$A,$A11,元データ!$BC:$BC,$B$1) -> 0 | N11: =COUNTIFS(元データ!$AO:$AO,N$1,元データ!$A:$A,$A11,元データ!$BC:$BC,$M$1) -> 3 | O11: =COUNTIFS(元データ!$AO:$AO,O$1,元データ!$A:$A,$A11,元データ!$BC:$BC,$M$1) -> 5 | P11: =COUNTIFS(元データ!$AO:$AO,P$1,元データ!$A:$A,$A11,元データ!$BC:$BC,$M$1) -> 2 | Q11: =COUNTIFS(元データ!$AO:$AO,Q$1,元データ!$A:$A,$A11,元データ!$BC:$BC,$M$1) -> 1 | R11: =COUNTIFS(元データ!$AO:$AO,R$1,元データ!$A:$A,$A11,元データ!$BC:$BC,$M$1) -> 0 | S11: =COUNTIFS(元データ!$AO:$AO,S$1,元データ!$A:$A,$A11,元データ!$BC:$BC,$M$1) -> 0 | T11: =COUNTIFS(元データ!$AO:$AO,T$1,元データ!$A:$A,$A11,元データ!$BC:$BC,$M$1) -> 0 | U11: =COUNTIFS(元データ!$AO:$AO,U$1,元データ!$A:$A,$A11,元データ!$BC:$BC,$M$1) -> 0 | ... W11: =COUNTIFS(元データ!$AO:$AO,W$1,元データ!$A:$A,$A11,元データ!$BC:$BC,$M$1) -> 0
A12: 10 | B12: 群馬県 | C12: =COUNTIFS(元データ!$AO:$AO,C$1,元データ!$A:$A,$A12,元データ!$BC:$BC,$B$1) -> 3 | D12: =COUNTIFS(元データ!$AO:$AO,D$1,元データ!$A:$A,$A12,元データ!$BC:$BC,$B$1) -> 4 | E12: =COUNTIFS(元データ!$AO:$AO,E$1,元データ!$A:$A,$A12,元データ!$BC:$BC,$B$1) -> 5 | F12: =COUNTIFS(元データ!$AO:$AO,F$1,元データ!$A:$A,$A12,元データ!$BC:$BC,$B$1) -> 0 | G12: =COUNTIFS(元データ!$AO:$AO,G$1,元データ!$A:$A,$A12,元データ!$BC:$BC,$B$1) -> 0 | H12: =COUNTIFS(元データ!$AO:$AO,H$1,元データ!$A:$A,$A12,元データ!$BC:$BC,$B$1) -> 0 | I12: =COUNTIFS(元データ!$AO:$AO,I$1,元データ!$A:$A,$A12,元データ!$BC:$BC,$B$1) -> 0 | J12: =COUNTIFS(元データ!$AO:$AO,J$1,元データ!$A:$A,$A12,元データ!$BC:$BC,$B$1) -> 0 | ... L12: =COUNTIFS(元データ!$AO:$AO,L$1,元データ!$A:$A,$A12,元データ!$BC:$BC,$B$1) -> 0 | N12: =COUNTIFS(元データ!$AO:$AO,N$1,元データ!$A:$A,$A12,元データ!$BC:$BC,$M$1) -> 12 | O12: =COUNTIFS(元データ!$AO:$AO,O$1,元データ!$A:$A,$A12,元データ!$BC:$BC,$M$1) -> 5 | P12: =COUNTIFS(元データ!$AO:$AO,P$1,元データ!$A:$A,$A12,元データ!$BC:$BC,$M$1) -> 5 | Q12: =COUNTIFS(元データ!$AO:$AO,Q$1,元データ!$A:$A,$A12,元データ!$BC:$BC,$M$1) -> 1 | R12: =COUNTIFS(元データ!$AO:$AO,R$1,元データ!$A:$A,$A12,元データ!$BC:$BC,$M$1) -> 0 | S12: =COUNTIFS(元データ!$AO:$AO,S$1,元データ!$A:$A,$A12,元データ!$BC:$BC,$M$1) -> 0 | T12: =COUNTIFS(元データ!$AO:$AO,T$1,元データ!$A:$A,$A12,元データ!$BC:$BC,$M$1) -> 0 | U12: =COUNTIFS(元データ!$AO:$AO,U$1,元データ!$A:$A,$A12,元データ!$BC:$BC,$M$1) -> 0 | ... W12: =COUNTIFS(元データ!$AO:$AO,W$1,元データ!$A:$A,$A12,元データ!$BC:$BC,$M$1) -> 0
A13: 11 | B13: 埼玉県 | C13: =COUNTIFS(元データ!$AO:$AO,C$1,元データ!$A:$A,$A13,元データ!$BC:$BC,$B$1) -> 10 | D13: =COUNTIFS(元データ!$AO:$AO,D$1,元データ!$A:$A,$A13,元データ!$BC:$BC,$B$1) -> 16 | E13: =COUNTIFS(元データ!$AO:$AO,E$1,元データ!$A:$A,$A13,元データ!$BC:$BC,$B$1) -> 12 | F13: =COUNTIFS(元データ!$AO:$AO,F$1,元データ!$A:$A,$A13,元データ!$BC:$BC,$B$1) -> 1 | G13: =COUNTIFS(元データ!$AO:$AO,G$1,元データ!$A:$A,$A13,元データ!$BC:$BC,$B$1) -> 1 | H13: =COUNTIFS(元データ!$AO:$AO,H$1,元データ!$A:$A,$A13,元データ!$BC:$BC,$B$1) -> 0 | I13: =COUNTIFS(元データ!$AO:$AO,I$1,元データ!$A:$A,$A13,元データ!$BC:$BC,$B$1) -> 0 | J13: =COUNTIFS(元データ!$AO:$AO,J$1,元データ!$A:$A,$A13,元データ!$BC:$BC,$B$1) -> 0 | ... L13: =COUNTIFS(元データ!$AO:$AO,L$1,元データ!$A:$A,$A13,元データ!$BC:$BC,$B$1) -> 0 | N13: =COUNTIFS(元データ!$AO:$AO,N$1,元データ!$A:$A,$A13,元データ!$BC:$BC,$M$1) -> 8 | O13: =COUNTIFS(元データ!$AO:$AO,O$1,元データ!$A:$A,$A13,元データ!$BC:$BC,$M$1) -> 6 | P13: =COUNTIFS(元データ!$AO:$AO,P$1,元データ!$A:$A,$A13,元データ!$BC:$BC,$M$1) -> 6 | Q13: =COUNTIFS(元データ!$AO:$AO,Q$1,元データ!$A:$A,$A13,元データ!$BC:$BC,$M$1) -> 3 | R13: =COUNTIFS(元データ!$AO:$AO,R$1,元データ!$A:$A,$A13,元データ!$BC:$BC,$M$1) -> 0 | S13: =COUNTIFS(元データ!$AO:$AO,S$1,元データ!$A:$A,$A13,元データ!$BC:$BC,$M$1) -> 0 | T13: =COUNTIFS(元データ!$AO:$AO,T$1,元データ!$A:$A,$A13,元データ!$BC:$BC,$M$1) -> 0 | U13: =COUNTIFS(元データ!$AO:$AO,U$1,元データ!$A:$A,$A13,元データ!$BC:$BC,$M$1) -> 0 | ... W13: =COUNTIFS(元データ!$AO:$AO,W$1,元データ!$A:$A,$A13,元データ!$BC:$BC,$M$1) -> 0
A14: 12 | B14: 千葉県 | C14: =COUNTIFS(元データ!$AO:$AO,C$1,元データ!$A:$A,$A14,元データ!$BC:$BC,$B$1) -> 8 | D14: =COUNTIFS(元データ!$AO:$AO,D$1,元データ!$A:$A,$A14,元データ!$BC:$BC,$B$1) -> 13 | E14: =COUNTIFS(元データ!$AO:$AO,E$1,元データ!$A:$A,$A14,元データ!$BC:$BC,$B$1) -> 11 | F14: =COUNTIFS(元データ!$AO:$AO,F$1,元データ!$A:$A,$A14,元データ!$BC:$BC,$B$1) -> 3 | G14: =COUNTIFS(元データ!$AO:$AO,G$1,元データ!$A:$A,$A14,元データ!$BC:$BC,$B$1) -> 2 | H14: =COUNTIFS(元データ!$AO:$AO,H$1,元データ!$A:$A,$A14,元データ!$BC:$BC,$B$1) -> 0 | I14: =COUNTIFS(元データ!$AO:$AO,I$1,元データ!$A:$A,$A14,元データ!$BC:$BC,$B$1) -> 0 | J14: =COUNTIFS(元データ!$AO:$AO,J$1,元データ!$A:$A,$A14,元データ!$BC:$BC,$B$1) -> 0 | ... L14: =COUNTIFS(元データ!$AO:$AO,L$1,元データ!$A:$A,$A14,元データ!$BC:$BC,$B$1) -> 0 | N14: =COUNTIFS(元データ!$AO:$AO,N$1,元データ!$A:$A,$A14,元データ!$BC:$BC,$M$1) -> 4 | O14: =COUNTIFS(元データ!$AO:$AO,O$1,元データ!$A:$A,$A14,元データ!$BC:$BC,$M$1) -> 5 | P14: =COUNTIFS(元データ!$AO:$AO,P$1,元データ!$A:$A,$A14,元データ!$BC:$BC,$M$1) -> 3 | Q14: =COUNTIFS(元データ!$AO:$AO,Q$1,元データ!$A:$A,$A14,元データ!$BC:$BC,$M$1) -> 1 | R14: =COUNTIFS(元データ!$AO:$AO,R$1,元データ!$A:$A,$A14,元データ!$BC:$BC,$M$1) -> 1 | S14: =COUNTIFS(元データ!$AO:$AO,S$1,元データ!$A:$A,$A14,元データ!$BC:$BC,$M$1) -> 3 | T14: =COUNTIFS(元データ!$AO:$AO,T$1,元データ!$A:$A,$A14,元データ!$BC:$BC,$M$1) -> 0 | U14: =COUNTIFS(元データ!$AO:$AO,U$1,元データ!$A:$A,$A14,元データ!$BC:$BC,$M$1) -> 0 | ... W14: =COUNTIFS(元データ!$AO:$AO,W$1,元データ!$A:$A,$A14,元データ!$BC:$BC,$M$1) -> 0
... A49: 47 | B49: 沖縄県 | C49: =COUNTIFS(元データ!$AO:$AO,C$1,元データ!$A:$A,$A49,元データ!$BC:$BC,$B$1) -> 4 | D49: =COUNTIFS(元データ!$AO:$AO,D$1,元データ!$A:$A,$A49,元データ!$BC:$BC,$B$1) -> 6 | E49: =COUNTIFS(元データ!$AO:$AO,E$1,元データ!$A:$A,$A49,元データ!$BC:$BC,$B$1) -> 1 | F49: =COUNTIFS(元データ!$AO:$AO,F$1,元データ!$A:$A,$A49,元データ!$BC:$BC,$B$1) -> 0 | G49: =COUNTIFS(元データ!$AO:$AO,G$1,元データ!$A:$A,$A49,元データ!$BC:$BC,$B$1) -> 0 | H49: =COUNTIFS(元データ!$AO:$AO,H$1,元データ!$A:$A,$A49,元データ!$BC:$BC,$B$1) -> 0 | I49: =COUNTIFS(元データ!$AO:$AO,I$1,元データ!$A:$A,$A49,元データ!$BC:$BC,$B$1) -> 0 | J49: =COUNTIFS(元データ!$AO:$AO,J$1,元データ!$A:$A,$A49,元データ!$BC:$BC,$B$1) -> 0 | ... L49: =COUNTIFS(元データ!$AO:$AO,L$1,元データ!$A:$A,$A49,元データ!$BC:$BC,$B$1) -> 0 | N49: =COUNTIFS(元データ!$AO:$AO,N$1,元データ!$A:$A,$A49,元データ!$BC:$BC,$M$1) -> 9 | O49: =COUNTIFS(元データ!$AO:$AO,O$1,元データ!$A:$A,$A49,元データ!$BC:$BC,$M$1) -> 7 | P49: =COUNTIFS(元データ!$AO:$AO,P$1,元データ!$A:$A,$A49,元データ!$BC:$BC,$M$1) -> 10 | Q49: =COUNTIFS(元データ!$AO:$AO,Q$1,元データ!$A:$A,$A49,元データ!$BC:$BC,$M$1) -> 2 | R49: =COUNTIFS(元データ!$AO:$AO,R$1,元データ!$A:$A,$A49,元データ!$BC:$BC,$M$1) -> 2 | S49: =COUNTIFS(元データ!$AO:$AO,S$1,元データ!$A:$A,$A49,元データ!$BC:$BC,$M$1) -> 0 | T49: =COUNTIFS(元データ!$AO:$AO,T$1,元データ!$A:$A,$A49,元データ!$BC:$BC,$M$1) -> 0 | U49: =COUNTIFS(元データ!$AO:$AO,U$1,元データ!$A:$A,$A49,元データ!$BC:$BC,$M$1) -> 0 | ... W49: =COUNTIFS(元データ!$AO:$AO,W$1,元データ!$A:$A,$A49,元データ!$BC:$BC,$M$1) -> 0
B50: 合計 | C50: =SUM(C3:C49) -> 244 | D50: =SUM(D3:D49) -> 250 | E50: =SUM(E3:E49) -> 246 | F50: =SUM(F3:F49) -> 52 | G50: =SUM(G3:G49) -> 16 | H50: =SUM(H3:H49) -> 2 | I50: =SUM(I3:I49) -> 1 | J50: =SUM(J3:J49) -> 1 | ... L50: =SUM(L3:L49) -> 0 | N50: =SUM(N3:N49) -> 297 | O50: =SUM(O3:O49) -> 242 | P50: =SUM(P3:P49) -> 236 | Q50: =SUM(Q3:Q49) -> 85 | R50: =SUM(R3:R49) -> 42 | S50: =SUM(S3:S49) -> 12 | T50: =SUM(T3:T49) -> 4 | U50: =SUM(U3:U49) -> 6 | ... W50: =SUM(W3:W49) -> 1

Sheet 元データ
B2: （２）都道府県知事、市区町村長
B4: 番号 | C4: 都道府県・ 市区町村名 | N4: 都道府県知事・ 市区町村長名 | W4: 任期満了年月日 | AO4: 連続就任回数 | AP4: 党派名 | AW4: 男女の別
W6: 年 | AC6: 月 | AI6: 日
A7: 1 | B7: 都道府県 | C7: 北海道 | N7: 高橋はるみ | AO7: 4 | AP7: 無所属 | AW7: 女 | BB7: =RIGHT(C7,1) -> 道 | BC7: =IF(OR(BB7="市",BB7="区"),"市区",IF(OR(BB7="町",BB7="村"),"町村","都道府県")) -> 都道府県
A8: 1 | B8: 1 | C8: 札幌市 | N8: 秋元克広 | AO8: 1 | AP8: 無所属 | AW8: 男 | BB8: =RIGHT(C8,1) -> 市 | BC8: =IF(OR(BB8="市",BB8="区"),"市区",IF(OR(BB8="町",BB8="村"),"町村","都道府県")) -> 市区
A9: 1 | B9: 2 | C9: 函館市 | N9: 工藤壽樹 | AO9: 2 | AP9: 無所属 | AW9: 男 | BB9: =RIGHT(C9,1) -> 市 | BC9: =IF(OR(BB9="市",BB9="区"),"市区",IF(OR(BB9="町",BB9="村"),"町村","都道府県")) -> 市区
A10: 1 | B10: 3 | C10: 小樽市 | N10: 森井秀明 | AO10: 1 | AP10: 無所属 | AW10: 男 | BB10: =RIGHT(C10,1) -> 市 | BC10: =IF(OR(BB10="市",BB10="区"),"市区",IF(OR(BB10="町",BB10="村"),"町村","都道府県")) -> 市区
A11: 1 | B11: 4 | C11: 旭川市 | N11: 西川将人 | AO11: 3 | AP11: 無所属 | AW11: 男 | BB11: =RIGHT(C11,1) -> 市 | BC11: =IF(OR(BB11="市",BB11="区"),"市区",IF(OR(BB11="町",BB11="村"),"町村","都道府県")) -> 市区
A12: 1 | B12: 5 | C12: 室蘭市 | N12: 青山剛 | AO12: 2 | AP12: 無所属 | AW12: 男 | BB12: =RIGHT(C12,1) -> 市 | BC12: =IF(OR(BB12="市",BB12="区"),"市区",IF(OR(BB12="町",BB12="村"),"町村","都道府県")) -> 市区
A13: 1 | B13: 6 | C13: 釧路市 | N13: 蝦名大也 | AO13: 3 | AP13: 無所属 | AW13: 男 | BB13: =RIGHT(C13,1) -> 市 | BC13: =IF(OR(BB13="市",BB13="区"),"市区",IF(OR(BB13="町",BB13="村"),"町村","都道府県")) -> 市区
A14: 1 | B14: 7 | C14: 帯広市 | N14: 米沢則寿 | AO14: 2 | AP14: 無所属 | AW14: 男 | BB14: =RIGHT(C14,1) -> 市 | BC14: =IF(OR(BB14="市",BB14="区"),"市区",IF(OR(BB14="町",BB14="村"),"町村","都道府県")) -> 市区
A15: 1 | B15: 8 | C15: 北見市 | N15: 辻直孝 | AO15: 1 | AP15: 無所属 | AW15: 男 | BB15: =RIGHT(C15,1) -> 市 | BC15: =IF(OR(BB15="市",BB15="区"),"市区",IF(OR(BB15="町",BB15="村"),"町村","都道府県")) -> 市区
A16: 1 | B16: 9 | C16: 夕張市 | N16: 鈴木直道 | AO16: 2 | AP16: 無所属 | AW16: 男 | BB16: =RIGHT(C16,1) -> 市 | BC16: =IF(OR(BB16="市",BB16="区"),"市区",IF(OR(BB16="町",BB16="村"),"町村","都道府県")) -> 市区
A17: 1 | B17: 10 | C17: 岩見沢市 | N17: 松野哲 | AO17: 2 | AP17: 無所属 | AW17: 男 | BB17: =RIGHT(C17,1) -> 市 | BC17: =IF(OR(BB17="市",BB17="区"),"市区",IF(OR(BB17="町",BB17="村"),"町村","都道府県")) -> 市区
A18: 1 | B18: 11 | C18: 網走市 | N18: 水谷洋一 | AO18: 2 | AP18: 無所属 | AW18: 男 | BB18: =RIGHT(C18,1) -> 市 | BC18: =IF(OR(BB18="市",BB18="区"),"市区",IF(OR(BB18="町",BB18="村"),"町村","都道府県")) -> 市区
A19: 1 | B19: 12 | C19: 留萌市 | N19: 高橋定敏 | AO19: 3 | AP19: 無所属 | AW19: 男 | BB19: =RIGHT(C19,1) -> 市 | BC19: =IF(OR(BB19="市",BB19="区"),"市区",IF(OR(BB19="町",BB19="村"),"町村","都道府県")) -> 市区
... A186: 1 | B186: 179 | C186: 羅臼町 | N186: 湊屋稔 | AO186: 1 | AP186: 無所属 | AW186: 男 | BB186: =RIGHT(C186,1) -> 町 | BC186: =IF(OR(BB186="市",BB186="区"),"市区",IF(OR(BB186="町",BB186="村"),"町村","都道府県")) -> 町村
A187: 2 | B187: 都道府県 | C187: 青森県 | N187: 三村申吾 | AO187: 4 | AP187: 無所属 | AW187: 男 | BB187: =RIGHT(C187,1) -> 県 | BC187: =IF(OR(BB187="市",BB187="区"),"市区",IF(OR(BB187="町",BB187="村"),"町村","都道府県")) -> 都道府県
A188: 2 | B188: 1 | C188: 青森市 | N188: 小野寺晃彦 | AO188: 1 | AP188: 無所属 | AW188: 男 | BB188: =RIGHT(C188,1) -> 市 | BC188: =IF(OR(BB188="市",BB188="区"),"市区",IF(OR(BB188="町",BB188="村"),"町村","都道府県")) -> 市区
A189: 2 | B189: 2 | C189: 弘前市 | N189: ●西憲之 ●は葛のヒが兦 | AO189: 2 | AP189: 無所属 | AW189: 男 | BB189: =RIGHT(C189,1) -> 市 | BC189: =IF(OR(BB189="市",BB189="区"),"市区",IF(OR(BB189="町",BB189="村"),"町村","都道府県")) -> 市区
A190: 2 | B190: 3 | C190: 八戸市 | N190: 小林眞 | AO190: 3 | AP190: 無所属 | AW190: 男 | BB190: =RIGHT(C190,1) -> 市 | BC190: =IF(OR(BB190="市",BB190="区"),"市区",IF(OR(BB190="町",BB190="村"),"町村","都道府県")) -> 市区
A191: 2 | B191: 4 | C191: 黒石市 | N191: 髙樋憲 | AO191: 1 | AP191: 無所属 | AW191: 男 | BB191: =RIGHT(C191,1) -> 市 | BC191: =IF(OR(BB191="市",BB191="区"),"市区",IF(OR(BB191="町",BB191="村"),"町村","都道府県")) -> 市区
A192: 2 | B192: 5 | C192: 五所川原市 | N192: 平山誠敏 | AO192: 3 | AP192: 無所属 | AW192: 男 | BB192: =RIGHT(C192,1) -> 市 | BC192: =IF(OR(BB192="市",BB192="区"),"市区",IF(OR(BB192="町",BB192="村"),"町村","都道府県")) -> 市区
A193: 2 | B193: 6 | C193: 十和田市 | N193: 小山田久 | AO193: 2 | AP193: 無所属 | AW193: 男 | BB193: =RIGHT(C193,1) -> 市 | BC193: =IF(OR(BB193="市",BB193="区"),"市区",IF(OR(BB193="町",BB193="村"),"町村","都道府県")) -> 市区
A194: 2 | B194: 7 | C194: 三沢市 | N194: 種市一正 | AO194: 3 | AP194: 無所属 | AW194: 男 | BB194: =RIGHT(C194,1) -> 市 | BC194: =IF(OR(BB194="市",BB194="区"),"市区",IF(OR(BB194="町",BB194="村"),"町村","都道府県")) -> 市区
A195: 2 | B195: 8 | C195: むつ市 | N195: 宮下宗一郎 | AO195: 1 | AP195: 無所属 | AW195: 男 | BB195: =RIGHT(C195,1) -> 市 | BC195: =IF(OR(BB195="市",BB195="区"),"市区",IF(OR(BB195="町",BB195="村"),"町村","都道府県")) -> 市区
A196: 2 | B196: 9 | C196: つがる市 | N196: 福島弘芳 | AO196: 3 | AP196: 無所属 | AW196: 男 | BB196: =RIGHT(C196,1) -> 市 | BC196: =IF(OR(BB196="市",BB196="区"),"市区",IF(OR(BB196="町",BB196="村"),"町村","都道府県")) -> 市区
A197: 2 | B197: 10 | C197: 平川市 | N197: 長尾忠行 | AO197: 1 | AP197: 無所属 | AW197: 男 | BB197: =RIGHT(C197,1) -> 市 | BC197: =IF(OR(BB197="市",BB197="区"),"市区",IF(OR(BB197="町",BB197="村"),"町村","都道府県")) -> 市区
A198: 2 | B198: 11 | C198: 平内町 | N198: 船橋茂久 | AO198: 2 | AP198: 無所属 | AW198: 男 | BB198: =RIGHT(C198,1) -> 町 | BC198: =IF(OR(BB198="市",BB198="区"),"市区",IF(OR(BB198="町",BB198="村"),"町村","都道府県")) -> 町村
A199: 2 | B199: 12 | C199: 今別町 | N199: 阿部義治 | AO199: 1 | AP199: 無所属 | AW199: 男 | BB199: =RIGHT(C199,1) -> 町 | BC199: =IF(OR(BB199="市",BB199="区"),"市区",IF(OR(BB199="町",BB199="村"),"町村","都道府県")) -> 町村
... A227: 2 | B227: 40 | C227: 新郷村 | N227: 須藤良美 | AO227: 3 | AP227: 無所属 | AW227: 男 | BB227: =RIGHT(C227,1) -> 村 | BC227: =IF(OR(BB227="市",BB227="区"),"市区",IF(OR(BB227="町",BB227="村"),"町村","都道府県")) -> 町村
A228: 3 | B228: 都道府県 | C228: 岩手県 | N228: 達増拓也 | AO228: 3 | AP228: 無所属 | AW228: 男 | BB228: =RIGHT(C228,1) -> 県 | BC228: =IF(OR(BB228="市",BB228="区"),"市区",IF(OR(BB228="町",BB228="村"),"町村","都道府県")) -> 都道府県
A229: 3 | B229: 1 | C229: 盛岡市 | N229: 谷藤裕明 | AO229: 4 | AP229: 無所属 | AW229: 男 | BB229: =RIGHT(C229,1) -> 市 | BC229: =IF(OR(BB229="市",BB229="区"),"市区",IF(OR(BB229="町",BB229="村"),"町村","都道府県")) -> 市区
A230: 3 | B230: 2 | C230: 宮古市 | N230: 山本正徳 | AO230: 2 | AP230: 無所属 | AW230: 男 | BB230: =RIGHT(C230,1) -> 市 | BC230: =IF(OR(BB230="市",BB230="区"),"市区",IF(OR(BB230="町",BB230="村"),"町村","都道府県")) -> 市区
A231: 3 | B231: 3 | C231: 大船渡市 | N231: 戸田公明 | AO231: 2 | AP231: 無所属 | AW231: 男 | BB231: =RIGHT(C231,1) -> 市 | BC231: =IF(OR(BB231="市",BB231="区"),"市区",IF(OR(BB231="町",BB231="村"),"町村","都道府県")) -> 市区
A232: 3 | B232: 4 | C232: 花巻市 | N232: 上田東一 | AO232: 1 | AP232: 無所属 | AW232: 男 | BB232: =RIGHT(C232,1) -> 市 | BC232: =IF(OR(BB232="市",BB232="区"),"市区",IF(OR(BB232="町",BB232="村"),"町村","都道府県")) -> 市区
A233: 3 | B233: 5 | C233: 北上市 | N233: 髙橋敏彦 | AO233: 2 | AP233: 無所属 | AW233: 男 | BB233: =RIGHT(C233,1) -> 市 | BC233: =IF(OR(BB233="市",BB233="区"),"市区",IF(OR(BB233="町",BB233="村"),"町村","都道府県")) -> 市区
A234: 3 | B234: 6 | C234: 久慈市 | N234: 遠藤譲一 | AO234: 1 | AP234: 無所属 | AW234: 男 | BB234: =RIGHT(C234,1) -> 市 | BC234: =IF(OR(BB234="市",BB234="区"),"市区",IF(OR(BB234="町",BB234="村"),"町村","都道府県")) -> 市区
A235: 3 | B235: 7 | C235: 遠野市 | N235: 本田敏秋 | AO235: 3 | AP235: 無所属 | AW235: 男 | BB235: =RIGHT(C235,1) -> 市 | BC235: =IF(OR(BB235="市",BB235="区"),"市区",IF(OR(BB235="町",BB235="村"),"町村","都道府県")) -> 市区
A236: 3 | B236: 8 | C236: 一関市 | N236: 勝部修 | AO236: 2 | AP236: 無所属 | AW236: 男 | BB236: =RIGHT(C236,1) -> 市 | BC236: =IF(OR(BB236="市",BB236="区"),"市区",IF(OR(BB236="町",BB236="村"),"町村","都道府県")) -> 市区
A237: 3 | B237: 9 | C237: 陸前高田市 | N237: 戸羽太 | AO237: 2 | AP237: 無所属 | AW237: 男 | BB237: =RIGHT(C237,1) -> 市 | BC237: =IF(OR(BB237="市",BB237="区"),"市区",IF(OR(BB237="町",BB237="村"),"町村","都道府県")) -> 市区
A238: 3 | B238: 10 | C238: 釜石市 | N238: 野田武則 | AO238: 3 | AP238: 無所属 | AW238: 男 | BB238: =RIGHT(C238,1) -> 市 | BC238: =IF(OR(BB238="市",BB238="区"),"市区",IF(OR(BB238="町",BB238="村"),"町村","都道府県")) -> 市区
A239: 3 | B239: 11 | C239: 二戸市 | N239: 藤原淳 | AO239: 1 | AP239: 無所属 | AW239: 男 | BB239: =RIGHT(C239,1) -> 市 | BC239: =IF(OR(BB239="市",BB239="区"),"市区",IF(OR(BB239="町",BB239="村"),"町村","都道府県")) -> 市区
A240: 3 | B240: 12 | C240: 八幡平市 | N240: 田村正彦 | AO240: 3 | AP240: 無所属 | AW240: 男 | BB240: =RIGHT(C240,1) -> 市 | BC240: =IF(OR(BB240="市",BB240="区"),"市区",IF(OR(BB240="町",BB240="村"),"町村","都道府県")) -> 市区
... A261: 3 | B261: 33 | C261: 九戸村 | N261: 五枚橋久夫 | AO261: 2 | AP261: 無所属 | AW261: 男 | BB261: =RIGHT(C261,1) -> 村 | BC261: =IF(OR(BB261="市",BB261="区"),"市区",IF(OR(BB261="町",BB261="村"),"町村","都道府県")) -> 町村
A262: 4 | B262: 都道府県 | C262: 宮城県 | N262: 村井嘉浩 | AO262: 3 | AP262: 無所属 | AW262: 男 | BB262: =RIGHT(C262,1) -> 県 | BC262: =IF(OR(BB262="市",BB262="区"),"市区",IF(OR(BB262="町",BB262="村"),"町村","都道府県")) -> 都道府県
A263: 4 | B263: 1 | C263: 仙台市 | N263: 奥山恵美子 | AO263: 2 | AP263: 無所属 | AW263: 女 | BB263: =RIGHT(C263,1) -> 市 | BC263: =IF(OR(BB263="市",BB263="区"),"市区",IF(OR(BB263="町",BB263="村"),"町村","都道府県")) -> 市区
A264: 4 | B264: 2 | C264: 石巻市 | N264: 亀山紘 | AO264: 2 | AP264: 無所属 | AW264: 男 | BB264: =RIGHT(C264,1) -> 市 | BC264: =IF(OR(BB264="市",BB264="区"),"市区",IF(OR(BB264="町",BB264="村"),"町村","都道府県")) -> 市区
A265: 4 | B265: 3 | C265: 塩竈市 | N265: 佐藤昭 | AO265: 4 | AP265: 無所属 | AW265: 男 | BB265: =RIGHT(C265,1) -> 市 | BC265: =IF(OR(BB265="市",BB265="区"),"市区",IF(OR(BB265="町",BB265="村"),"町村","都道府県")) -> 市区
A266: 4 | B266: 4 | C266: 気仙沼市 | N266: 菅原茂 | AO266: 2 | AP266: 無所属 | AW266: 男 | BB266: =RIGHT(C266,1) -> 市 | BC266: =IF(OR(BB266="市",BB266="区"),"市区",IF(OR(BB266="町",BB266="村"),"町村","都道府県")) -> 市区
A267: 4 | B267: 5 | C267: 白石市 | N267: 山田裕一 | AO267: 1 | AP267: 無所属 | AW267: 男 | BB267: =RIGHT(C267,1) -> 市 | BC267: =IF(OR(BB267="市",BB267="区"),"市区",IF(OR(BB267="町",BB267="村"),"町村","都道府県")) -> 市区
A268: 4 | B268: 6 | C268: 名取市 | N268: 山田司郎 | AO268: 1 | AP268: 無所属 | AW268: 男 | BB268: =RIGHT(C268,1) -> 市 | BC268: =IF(OR(BB268="市",BB268="区"),"市区",IF(OR(BB268="町",BB268="村"),"町村","都道府県")) -> 市区
A269: 4 | B269: 7 | C269: 角田市 | N269: 大友喜助 | AO269: 3 | AP269: 無所属 | AW269: 男 | BB269: =RIGHT(C269,1) -> 市 | BC269: =IF(OR(BB269="市",BB269="区"),"市区",IF(OR(BB269="町",BB269="村"),"町村","都道府県")) -> 市区
A270: 4 | B270: 8 | C270: 多賀城市 | N270: 菊地健次郎 | AO270: 3 | AP270: 無所属 | AW270: 男 | BB270: =RIGHT(C270,1) -> 市 | BC270: =IF(OR(BB270="市",BB270="区"),"市区",IF(OR(BB270="町",BB270="村"),"町村","都道府県")) -> 市区
A271: 4 | B271: 9 | C271: 岩沼市 | N271: 菊地啓夫 | AO271: 1 | AP271: 無所属 | AW271: 男 | BB271: =RIGHT(C271,1) -> 市 | BC271: =IF(OR(BB271="市",BB271="区"),"市区",IF(OR(BB271="町",BB271="村"),"町村","都道府県")) -> 市区
A272: 4 | B272: 10 | C272: 登米市 | N272: 布施孝尚 | AO272: 3 | AP272: 無所属 | AW272: 男 | BB272: =RIGHT(C272,1) -> 市 | BC272: =IF(OR(BB272="市",BB272="区"),"市区",IF(OR(BB272="町",BB272="村"),"町村","都道府県")) -> 市区
A273: 4 | B273: 11 | C273: 栗原市 | N273: 佐藤勇 | AO273: 3 | AP273: 無所属 | AW273: 男 | BB273: =RIGHT(C273,1) -> 市 | BC273: =IF(OR(BB273="市",BB273="区"),"市区",IF(OR(BB273="町",BB273="村"),"町村","都道府県")) -> 市区
A274: 4 | B274: 12 | C274: 東松島市 | N274: 阿部秀保 | AO274: 3 | AP274: 無所属 | AW274: 男 | BB274: =RIGHT(C274,1) -> 市 | BC274: =IF(OR(BB274="市",BB274="区"),"市区",IF(OR(BB274="町",BB274="村"),"町村","都道府県")) -> 市区
... A297: 4 | B297: 35 | C297: 南三陸町 | N297: 佐藤仁 | AO297: 3 | AP297: 無所属 | AW297: 男 | BB297: =RIGHT(C297,1) -> 町 | BC297: =IF(OR(BB297="市",BB297="区"),"市区",IF(OR(BB297="町",BB297="村"),"町村","都道府県")) -> 町村
A298: 5 | B298: 都道府県 | C298: 秋田県 | N298: 佐竹敬久 | AO298: 2 | AP298: 無所属 | AW298: 男 | BB298: =RIGHT(C298,1) -> 県 | BC298: =IF(OR(BB298="市",BB298="区"),"市区",IF(OR(BB298="町",BB298="村"),"町村","都道府県")) -> 都道府県
A299: 5 | B299: 1 | C299: 秋田市 | N299: 穂積志 | AO299: 2 | AP299: 無所属 | AW299: 男 | BB299: =RIGHT(C299,1) -> 市 | BC299: =IF(OR(BB299="市",BB299="区"),"市区",IF(OR(BB299="町",BB299="村"),"町村","都道府県")) -> 市区
A300: 5 | B300: 2 | C300: 能代市 | N300: 齊藤滋宣 | AO300: 3 | AP300: 無所属 | AW300: 男 | BB300: =RIGHT(C300,1) -> 市 | BC300: =IF(OR(BB300="市",BB300="区"),"市区",IF(OR(BB300="町",BB300="村"),"町村","都道府県")) -> 市区
A301: 5 | B301: 3 | C301: 横手市 | N301: 髙橋大 | AO301: 1 | AP301: 無所属 | AW301: 男 | BB301: =RIGHT(C301,1) -> 市 | BC301: =IF(OR(BB301="市",BB301="区"),"市区",IF(OR(BB301="町",BB301="村"),"町村","都道府県")) -> 市区
A302: 5 | B302: 4 | C302: 大館市 | N302: 福原淳嗣 | AO302: 1 | AP302: 無所属 | AW302: 男 | BB302: =RIGHT(C302,1) -> 市 | BC302: =IF(OR(BB302="市",BB302="区"),"市区",IF(OR(BB302="町",BB302="村"),"町村","都道府県")) -> 市区
A303: 5 | B303: 5 | C303: 男鹿市 | N303: 渡部幸男 | AO303: 2 | AP303: 無所属 | AW303: 男 | BB303: =RIGHT(C303,1) -> 市 | BC303: =IF(OR(BB303="市",BB303="区"),"市区",IF(OR(BB303="町",BB303="村"),"町村","都道府県")) -> 市区
A304: 5 | B304: 6 | C304: 湯沢市 | N304: 齊藤光喜 | AO304: 2 | AP304: 無所属 | AW304: 男 | BB304: =RIGHT(C304,1) -> 市 | BC304: =IF(OR(BB304="市",BB304="区"),"市区",IF(OR(BB304="町",BB304="村"),"町村","都道府県")) -> 市区
A305: 5 | B305: 7 | C305: 鹿角市 | N305: 児玉一 | AO305: 3 | AP305: 無所属 | AW305: 男 | BB305: =RIGHT(C305,1) -> 市 | BC305: =IF(OR(BB305="市",BB305="区"),"市区",IF(OR(BB305="町",BB305="村"),"町村","都道府県")) -> 市区
A306: 5 | B306: 8 | C306: 由利本荘市 | N306: 長谷部誠 | AO306: 2 | AP306: 無所属 | AW306: 男 | BB306: =RIGHT(C306,1) -> 市 | BC306: =IF(OR(BB306="市",BB306="区"),"市区",IF(OR(BB306="町",BB306="村"),"町村","都道府県")) -> 市区
A307: 5 | B307: 9 | C307: 潟上市 | N307: 石川光男 | AO307: 3 | AP307: 無所属 | AW307: 男 | BB307: =RIGHT(C307,1) -> 市 | BC307: =IF(OR(BB307="市",BB307="区"),"市区",IF(OR(BB307="町",BB307="村"),"町村","都道府県")) -> 市区
A308: 5 | B308: 10 | C308: 大仙市 | N308: 栗林次美 | AO308: 3 | AP308: 無所属 | AW308: 男 | BB308: =RIGHT(C308,1) -> 市 | BC308: =IF(OR(BB308="市",BB308="区"),"市区",IF(OR(BB308="町",BB308="村"),"町村","都道府県")) -> 市区
A309: 5 | B309: 11 | C309: 北秋田市 | N309: 津谷永光 | AO309: 2 | AP309: 無所属 | AW309: 男 | BB309: =RIGHT(C309,1) -> 市 | BC309: =IF(OR(BB309="市",BB309="区"),"市区",IF(OR(BB309="町",BB309="村"),"町村","都道府県")) -> 市区
A310: 5 | B310: 12 | C310: にかほ市 | N310: 槙山忠長 | AO310: 3 | AP310: 無所属 | AW310: 男 | BB310: =RIGHT(C310,1) -> 市 | BC310: =IF(OR(BB310="市",BB310="区"),"市区",IF(OR(BB310="町",BB310="村"),"町村","都道府県")) -> 市区
... A323: 5 | B323: 25 | C323: 東成瀬村 | N323: 佐々木哲男 | AO323: 5 | AP323: 無所属 | AW323: 男 | BB323: =RIGHT(C323,1) -> 村 | BC323: =IF(OR(BB323="市",BB323="区"),"市区",IF(OR(BB323="町",BB323="村"),"町村","都道府県")) -> 町村
A324: 6 | B324: 都道府県 | C324: 山形県 | N324: 吉村美栄子 | AO324: 2 | AP324: 無所属 | AW324: 女 | BB324: =RIGHT(C324,1) -> 県 | BC324: =IF(OR(BB324="市",BB324="区"),"市区",IF(OR(BB324="町",BB324="村"),"町村","都道府県")) -> 都道府県
A325: 6 | B325: 1 | C325: 山形市 | N325: 佐藤孝弘 | AO325: 1 | AP325: 無所属 | AW325: 男 | BB325: =RIGHT(C325,1) -> 市 | BC325: =IF(OR(BB325="市",BB325="区"),"市区",IF(OR(BB325="町",BB325="村"),"町村","都道府県")) -> 市区
A326: 6 | B326: 2 | C326: 米沢市 | N326: 中川勝 | AO326: 1 | AP326: 無所属 | AW326: 男 | BB326: =RIGHT(C326,1) -> 市 | BC326: =IF(OR(BB326="市",BB326="区"),"市区",IF(OR(BB326="町",BB326="村"),"町村","都道府県")) -> 市区
A327: 6 | B327: 3 | C327: 鶴岡市 | N327: 榎本政規 | AO327: 2 | AP327: 無所属 | AW327: 男 | BB327: =RIGHT(C327,1) -> 市 | BC327: =IF(OR(BB327="市",BB327="区"),"市区",IF(OR(BB327="町",BB327="村"),"町村","都道府県")) -> 市区
A328: 6 | B328: 4 | C328: 酒田市 | N328: 丸山至 | AO328: 1 | AP328: 無所属 | AW328: 男 | BB328: =RIGHT(C328,1) -> 市 | BC328: =IF(OR(BB328="市",BB328="区"),"市区",IF(OR(BB328="町",BB328="村"),"町村","都道府県")) -> 市区
A329: 6 | B329: 5 | C329: 新庄市 | N329: 山尾順紀 | AO329: 3 | AP329: 無所属 | AW329: 男 | BB329: =RIGHT(C329,1) -> 市 | BC329: =IF(OR(BB329="市",BB329="区"),"市区",IF(OR(BB329="町",BB329="村"),"町村","都道府県")) -> 市区
A330: 6 | B330: 6 | C330: 寒河江市 | N330: 佐藤洋樹 | AO330: 2 | AP330: 無所属 | AW330: 男 | BB330: =RIGHT(C330,1) -> 市 | BC330: =IF(OR(BB330="市",BB330="区"),"市区",IF(OR(BB330="町",BB330="村"),"町村","都道府県")) -> 市区
A331: 6 | B331: 7 | C331: 上山市 | N331: 横戸長兵衛 | AO331: 3 | AP331: 無所属 | AW331: 男 | BB331: =RIGHT(C331,1) -> 市 | BC331: =IF(OR(BB331="市",BB331="区"),"市区",IF(OR(BB331="町",BB331="村"),"町村","都道府県")) -> 市区
A332: 6 | B332: 8 | C332: 村山市 | N332: 志布隆夫 | AO332: 1 | AP332: 無所属 | AW332: 男 | BB332: =RIGHT(C332,1) -> 市 | BC332: =IF(OR(BB332="市",BB332="区"),"市区",IF(OR(BB332="町",BB332="村"),"町村","都道府県")) -> 市区
A333: 6 | B333: 9 | C333: 長井市 | N333: 内谷重治 | AO333: 3 | AP333: 無所属 | AW333: 男 | BB333: =RIGHT(C333,1) -> 市 | BC333: =IF(OR(BB333="市",BB333="区"),"市区",IF(OR(BB333="町",BB333="村"),"町村","都道府県")) -> 市区
A334: 6 | B334: 10 | C334: 天童市 | N334: 山本信治 | AO334: 3 | AP334: 無所属 | AW334: 男 | BB334: =RIGHT(C334,1) -> 市 | BC334: =IF(OR(BB334="市",BB334="区"),"市区",IF(OR(BB334="町",BB334="村"),"町村","都道府県")) -> 市区
A335: 6 | B335: 11 | C335: 東根市 | N335: 土田正剛 | AO335: 5 | AP335: 無所属 | AW335: 男 | BB335: =RIGHT(C335,1) -> 市 | BC335: =IF(OR(BB335="市",BB335="区"),"市区",IF(OR(BB335="町",BB335="村"),"町村","都道府県")) -> 市区
A336: 6 | B336: 12 | C336: 尾花沢市 | N336: 加藤國洋 | AO336: 2 | AP336: 無所属 | AW336: 男 | BB336: =RIGHT(C336,1) -> 市 | BC336: =IF(OR(BB336="市",BB336="区"),"市区",IF(OR(BB336="町",BB336="村"),"町村","都道府県")) -> 市区
... A359: 6 | B359: 35 | C359: 遊佐町 | N359: 時田博機 | AO359: 2 | AP359: 無所属 | AW359: 男 | BB359: =RIGHT(C359,1) -> 町 | BC359: =IF(OR(BB359="市",BB359="区"),"市区",IF(OR(BB359="町",BB359="村"),"町村","都道府県")) -> 町村
A360: 7 | B360: 都道府県 | C360: 福島県 | N360: 内堀雅雄 | AO360: 1 | AP360: 無所属 | AW360: 男 | BB360: =RIGHT(C360,1) -> 県 | BC360: =IF(OR(BB360="市",BB360="区"),"市区",IF(OR(BB360="町",BB360="村"),"町村","都道府県")) -> 都道府県
A361: 7 | B361: 1 | C361: 福島市 | N361: 小林香 | AO361: 1 | AP361: 無所属 | AW361: 男 | BB361: =RIGHT(C361,1) -> 市 | BC361: =IF(OR(BB361="市",BB361="区"),"市区",IF(OR(BB361="町",BB361="村"),"町村","都道府県")) -> 市区
A362: 7 | B362: 2 | C362: 会津若松市 | N362: 室井照平 | AO362: 2 | AP362: 無所属 | AW362: 男 | BB362: =RIGHT(C362,1) -> 市 | BC362: =IF(OR(BB362="市",BB362="区"),"市区",IF(OR(BB362="町",BB362="村"),"町村","都道府県")) -> 市区
A363: 7 | B363: 3 | C363: 郡山市 | N363: 品川萬里 | AO363: 1 | AP363: 無所属 | AW363: 男 | BB363: =RIGHT(C363,1) -> 市 | BC363: =IF(OR(BB363="市",BB363="区"),"市区",IF(OR(BB363="町",BB363="村"),"町村","都道府県")) -> 市区
A364: 7 | B364: 4 | C364: いわき市 | N364: 清水敏男 | AO364: 1 | AP364: 無所属 | AW364: 男 | BB364: =RIGHT(C364,1) -> 市 | BC364: =IF(OR(BB364="市",BB364="区"),"市区",IF(OR(BB364="町",BB364="村"),"町村","都道府県")) -> 市区
A365: 7 | B365: 5 | C365: 白河市 | N365: 鈴木和夫 | AO365: 3 | AP365: 無所属 | AW365: 男 | BB365: =RIGHT(C365,1) -> 市 | BC365: =IF(OR(BB365="市",BB365="区"),"市区",IF(OR(BB365="町",BB365="村"),"町村","都道府県")) -> 市区
A366: 7 | B366: 6 | C366: 須賀川市 | N366: 橋本克也 | AO366: 3 | AP366: 無所属 | AW366: 男 | BB366: =RIGHT(C366,1) -> 市 | BC366: =IF(OR(BB366="市",BB366="区"),"市区",IF(OR(BB366="町",BB366="村"),"町村","都道府県")) -> 市区
A367: 7 | B367: 7 | C367: 喜多方市 | N367: 山口信也 | AO367: 2 | AP367: 無所属 | AW367: 男 | BB367: =RIGHT(C367,1) -> 市 | BC367: =IF(OR(BB367="市",BB367="区"),"市区",IF(OR(BB367="町",BB367="村"),"町村","都道府県")) -> 市区
A368: 7 | B368: 8 | C368: 相馬市 | N368: 立谷秀清 | AO368: 4 | AP368: 無所属 | AW368: 男 | BB368: =RIGHT(C368,1) -> 市 | BC368: =IF(OR(BB368="市",BB368="区"),"市区",IF(OR(BB368="町",BB368="村"),"町村","都道府県")) -> 市区
A369: 7 | B369: 9 | C369: 二本松市 | N369: 新野洋 | AO369: 1 | AP369: 無所属 | AW369: 男 | BB369: =RIGHT(C369,1) -> 市 | BC369: =IF(OR(BB369="市",BB369="区"),"市区",IF(OR(BB369="町",BB369="村"),"町村","都道府県")) -> 市区
A370: 7 | B370: 10 | C370: 田村市 | N370: 冨塚宥暻 | AO370: 3 | AP370: 無所属 | AW370: 男 | BB370: =RIGHT(C370,1) -> 市 | BC370: =IF(OR(BB370="市",BB370="区"),"市区",IF(OR(BB370="町",BB370="村"),"町村","都道府県")) -> 市区
A371: 7 | B371: 11 | C371: 南相馬市 | N371: 桜井勝延 | AO371: 2 | AP371: 無所属 | AW371: 男 | BB371: =RIGHT(C371,1) -> 市 | BC371: =IF(OR(BB371="市",BB371="区"),"市区",IF(OR(BB371="町",BB371="村"),"町村","都道府県")) -> 市区
A372: 7 | B372: 12 | C372: 伊達市 | N372: 仁志田昇司 | AO372: 3 | AP372: 無所属 | AW372: 男 | BB372: =RIGHT(C372,1) -> 市 | BC372: =IF(OR(BB372="市",BB372="区"),"市区",IF(OR(BB372="町",BB372="村"),"町村","都道府県")) -> 市区
...

Sheet H28.11.1任期満了日
R1: 起算日 | S1: 終了日
R2: 29.01.01 | S2: 29.12.31
A3: 都道府県名 | C3: 都道府県・ | D3: 都道府県知事・ | F3: 任期満了年月日 | L3: 任期満了年月日 | S3: 団体名 | T3: 首長 | V3: 対象なら1 | X3: 対象なら1 | Y3: 該当なら1
C4: 市区町村名 | D4: 市区町村長名 | F4: 年 | H4: 月 | J4: 日 | L4: 年 | N4: 月 | P4: 日
A5: 北海道 | C5: 北海道 | D5: 高橋はるみ | F5: 3 | G5: 1 | H5: 0 | I5: 4 | J5: 2 | K5: 2 | L5: 3 | M5: 1 | N5: 0 | O5: 4 | P5: 2 | Q5: 9 | R5: =A5 -> 北海道 | S5: =C5 -> 北海道 | T5: =D5&E5 -> 高橋はるみ | U5: =F5&G5&"."&H5&I5&"."&J5&K5 -> 31.04.22 | V5: =IF(AND(U5>=$R$2,U5<=$S$2),1,0) -> 0 | W5: =L5&M5&"."&N5&O5&"."&P5&Q5 -> 31.04.29 | X5: =IF(AND(W5>=$R$2,W5<=$S$2),1,0) -> 0 | Y5: =IF(OR(V5=1,X5=1),1,0) -> 0
A6: 北海道 | C6: 札幌市 | D6: 秋元克広 | F6: 3 | G6: 1 | H6: 0 | I6: 5 | J6: 0 | K6: 1 | L6: 3 | M6: 1 | N6: 0 | O6: 5 | P6: 0 | Q6: 1 | R6: =A6 -> 北海道 | S6: =C6 -> 札幌市 | T6: =D6&E6 -> 秋元克広 | U6: =F6&G6&"."&H6&I6&"."&J6&K6 -> 31.05.01 | V6: =IF(AND(U6>=$R$2,U6<=$S$2),1,0) -> 0 | W6: =L6&M6&"."&N6&O6&"."&P6&Q6 -> 31.05.01 | X6: =IF(AND(W6>=$R$2,W6<=$S$2),1,0) -> 0 | Y6: =IF(OR(V6=1,X6=1),1,0) -> 0
A7: 北海道 | C7: 函館市 | D7: 工藤壽樹 | F7: 3 | G7: 1 | H7: 0 | I7: 4 | J7: 2 | K7: 6 | L7: 3 | M7: 1 | N7: 0 | O7: 5 | P7: 0 | Q7: 1 | R7: =A7 -> 北海道 | S7: =C7 -> 函館市 | T7: =D7&E7 -> 工藤壽樹 | U7: =F7&G7&"."&H7&I7&"."&J7&K7 -> 31.04.26 | V7: =IF(AND(U7>=$R$2,U7<=$S$2),1,0) -> 0 | W7: =L7&M7&"."&N7&O7&"."&P7&Q7 -> 31.05.01 | X7: =IF(AND(W7>=$R$2,W7<=$S$2),1,0) -> 0 | Y7: =IF(OR(V7=1,X7=1),1,0) -> 0
A8: 北海道 | C8: 小樽市 | D8: 森井秀明 | F8: 3 | G8: 1 | H8: 0 | I8: 4 | J8: 2 | K8: 9 | L8: 3 | M8: 1 | N8: 0 | O8: 4 | P8: 3 | Q8: 0 | R8: =A8 -> 北海道 | S8: =C8 -> 小樽市 | T8: =D8&E8 -> 森井秀明 | U8: =F8&G8&"."&H8&I8&"."&J8&K8 -> 31.04.29 | V8: =IF(AND(U8>=$R$2,U8<=$S$2),1,0) -> 0 | W8: =L8&M8&"."&N8&O8&"."&P8&Q8 -> 31.04.30 | X8: =IF(AND(W8>=$R$2,W8<=$S$2),1,0) -> 0 | Y8: =IF(OR(V8=1,X8=1),1,0) -> 0
A9: 北海道 | C9: 旭川市 | D9: 西川将人 | F9: 3 | G9: 0 | H9: 1 | I9: 1 | J9: 1 | K9: 6 | L9: 3 | M9: 1 | N9: 0 | O9: 5 | P9: 0 | Q9: 1 | R9: =A9 -> 北海道 | S9: =C9 -> 旭川市 | T9: =D9&E9 -> 西川将人 | U9: =F9&G9&"."&H9&I9&"."&J9&K9 -> 30.11.16 | V9: =IF(AND(U9>=$R$2,U9<=$S$2),1,0) -> 0 | W9: =L9&M9&"."&N9&O9&"."&P9&Q9 -> 31.05.01 | X9: =IF(AND(W9>=$R$2,W9<=$S$2),1,0) -> 0 | Y9: =IF(OR(V9=1,X9=1),1,0) -> 0
A10: 北海道 | C10: 室蘭市 | D10: 青山剛 | F10: 3 | G10: 1 | H10: 0 | I10: 4 | J10: 3 | K10: 0 | L10: 3 | M10: 1 | N10: 0 | O10: 4 | P10: 3 | Q10: 0 | R10: =A10 -> 北海道 | S10: =C10 -> 室蘭市 | T10: =D10&E10 -> 青山剛 | U10: =F10&G10&"."&H10&I10&"."&J10&K10 -> 31.04.30 | V10: =IF(AND(U10>=$R$2,U10<=$S$2),1,0) -> 0 | W10: =L10&M10&"."&N10&O10&"."&P10&Q10 -> 31.04.30 | X10: =IF(AND(W10>=$R$2,W10<=$S$2),1,0) -> 0 | Y10: =IF(OR(V10=1,X10=1),1,0) -> 0
A11: 北海道 | C11: 釧路市 | D11: 蝦名大也 | F11: 3 | G11: 2 | H11: 1 | I11: 1 | J11: 0 | K11: 1 | L11: 3 | M11: 1 | N11: 0 | O11: 4 | P11: 3 | Q11: 0 | R11: =A11 -> 北海道 | S11: =C11 -> 釧路市 | T11: =D11&E11 -> 蝦名大也 | U11: =F11&G11&"."&H11&I11&"."&J11&K11 -> 32.11.01 | V11: =IF(AND(U11>=$R$2,U11<=$S$2),1,0) -> 0 | W11: =L11&M11&"."&N11&O11&"."&P11&Q11 -> 31.04.30 | X11: =IF(AND(W11>=$R$2,W11<=$S$2),1,0) -> 0 | Y11: =IF(OR(V11=1,X11=1),1,0) -> 0
A12: 北海道 | C12: 帯広市 | D12: 米沢則寿 | F12: 3 | G12: 0 | H12: 0 | I12: 4 | J12: 2 | K12: 0 | L12: 3 | M12: 1 | N12: 0 | O12: 4 | P12: 3 | Q12: 0 | R12: =A12 -> 北海道 | S12: =C12 -> 帯広市 | T12: =D12&E12 -> 米沢則寿 | U12: =F12&G12&"."&H12&I12&"."&J12&K12 -> 30.04.20 | V12: =IF(AND(U12>=$R$2,U12<=$S$2),1,0) -> 0 | W12: =L12&M12&"."&N12&O12&"."&P12&Q12 -> 31.04.30 | X12: =IF(AND(W12>=$R$2,W12<=$S$2),1,0) -> 0 | Y12: =IF(OR(V12=1,X12=1),1,0) -> 0
A13: 北海道 | C13: 北見市 | D13: 辻直孝 | F13: 3 | G13: 1 | H13: 0 | I13: 9 | J13: 2 | K13: 6 | L13: 3 | M13: 0 | N13: 0 | O13: 4 | P13: 0 | Q13: 8 | R13: =A13 -> 北海道 | S13: =C13 -> 北見市 | T13: =D13&E13 -> 辻直孝 | U13: =F13&G13&"."&H13&I13&"."&J13&K13 -> 31.09.26 | V13: =IF(AND(U13>=$R$2,U13<=$S$2),1,0) -> 0 | W13: =L13&M13&"."&N13&O13&"."&P13&Q13 -> 30.04.08 | X13: =IF(AND(W13>=$R$2,W13<=$S$2),1,0) -> 0 | Y13: =IF(OR(V13=1,X13=1),1,0) -> 0
A14: 北海道 | C14: 夕張市 | D14: 鈴木直道 | F14: 3 | G14: 1 | H14: 0 | I14: 4 | J14: 2 | K14: 5 | L14: 3 | M14: 1 | N14: 0 | O14: 4 | P14: 3 | Q14: 0 | R14: =A14 -> 北海道 | S14: =C14 -> 夕張市 | T14: =D14&E14 -> 鈴木直道 | U14: =F14&G14&"."&H14&I14&"."&J14&K14 -> 31.04.25 | V14: =IF(AND(U14>=$R$2,U14<=$S$2),1,0) -> 0 | W14: =L14&M14&"."&N14&O14&"."&P14&Q14 -> 31.04.30 | X14: =IF(AND(W14>=$R$2,W14<=$S$2),1,0) -> 0 | Y14: =IF(OR(V14=1,X14=1),1,0) -> 0
A15: 北海道 | C15: 岩見沢市 | D15: 松野哲 | F15: 3 | G15: 2 | H15: 0 | I15: 9 | J15: 0 | K15: 8 | L15: 3 | M15: 1 | N15: 0 | O15: 4 | P15: 3 | Q15: 0 | R15: =A15 -> 北海道 | S15: =C15 -> 岩見沢市 | T15: =D15&E15 -> 松野哲 | U15: =F15&G15&"."&H15&I15&"."&J15&K15 -> 32.09.08 | V15: =IF(AND(U15>=$R$2,U15<=$S$2),1,0) -> 0 | W15: =L15&M15&"."&N15&O15&"."&P15&Q15 -> 31.04.30 | X15: =IF(AND(W15>=$R$2,W15<=$S$2),1,0) -> 0 | Y15: =IF(OR(V15=1,X15=1),1,0) -> 0
A16: 北海道 | C16: 網走市 | D16: 水谷洋一 | F16: 3 | G16: 0 | H16: 1 | I16: 1 | J16: 3 | K16: 0 | L16: 3 | M16: 1 | N16: 0 | O16: 4 | P16: 3 | Q16: 0 | R16: =A16 -> 北海道 | S16: =C16 -> 網走市 | T16: =D16&E16 -> 水谷洋一 | U16: =F16&G16&"."&H16&I16&"."&J16&K16 -> 30.11.30 | V16: =IF(AND(U16>=$R$2,U16<=$S$2),1,0) -> 0 | W16: =L16&M16&"."&N16&O16&"."&P16&Q16 -> 31.04.30 | X16: =IF(AND(W16>=$R$2,W16<=$S$2),1,0) -> 0 | Y16: =IF(OR(V16=1,X16=1),1,0) -> 0
... A185: 青森県 | C185: 青森県 | D185: 三村申吾 | F185: 3 | G185: 1 | H185: 0 | I185: 6 | J185: 2 | K185: 8 | L185: 3 | M185: 1 | N185: 0 | O185: 4 | P185: 2 | Q185: 9 | R185: =A185 -> 青森県 | S185: =C185 -> 青森県 | T185: =D185&E185 -> 三村申吾 | U185: =F185&G185&"."&H185&I185&"."&J185&K185 -> 31.06.28 | V185: =IF(AND(U185>=$R$2,U185<=$S$2),1,0) -> 0 | W185: =L185&M185&"."&N185&O185&"."&P185&Q185 -> 31.04.29 | X185: =IF(AND(W185>=$R$2,W185<=$S$2),1,0) -> 0 | Y185: =IF(OR(V185=1,X185=1),1,0) -> 0
A186: 青森県 | C186: 青森市 | H186: 0 | J186: 0 | L186: 3 | M186: 0 | N186: 1 | O186: 1 | P186: 2 | Q186: 5 | R186: =A186 -> 青森県 | S186: =C186 -> 青森市 | T186: =D186&E186 | U186: =F186&G186&"."&H186&I186&"."&J186&K186 -> .0.0 | V186: =IF(AND(U186>=$R$2,U186<=$S$2),1,0) -> 0 | W186: =L186&M186&"."&N186&O186&"."&P186&Q186 -> 30.11.25 | X186: =IF(AND(W186>=$R$2,W186<=$S$2),1,0) -> 0 | Y186: =IF(OR(V186=1,X186=1),1,0) -> 0
A187: 青森県 | C187: 弘前市 | D187: 葛西憲之 | F187: 3 | G187: 0 | H187: 0 | I187: 4 | J187: 1 | K187: 5 | L187: 3 | M187: 1 | N187: 0 | O187: 4 | P187: 3 | Q187: 0 | R187: =A187 -> 青森県 | S187: =C187 -> 弘前市 | T187: =D187&E187 -> 葛西憲之 | U187: =F187&G187&"."&H187&I187&"."&J187&K187 -> 30.04.15 | V187: =IF(AND(U187>=$R$2,U187<=$S$2),1,0) -> 0 | W187: =L187&M187&"."&N187&O187&"."&P187&Q187 -> 31.04.30 | X187: =IF(AND(W187>=$R$2,W187<=$S$2),1,0) -> 0 | Y187: =IF(OR(V187=1,X187=1),1,0) -> 0
A188: 青森県 | C188: 八戸市 | D188: 小林眞 | F188: 2 | G188: 9 | H188: 1 | I188: 1 | J188: 1 | K188: 6 | L188: 3 | M188: 1 | N188: 0 | O188: 5 | P188: 0 | Q188: 1 | R188: =A188 -> 青森県 | S188: =C188 -> 八戸市 | T188: =D188&E188 -> 小林眞 | U188: =F188&G188&"."&H188&I188&"."&J188&K188 -> 29.11.16 | V188: =IF(AND(U188>=$R$2,U188<=$S$2),1,0) -> 1 | W188: =L188&M188&"."&N188&O188&"."&P188&Q188 -> 31.05.01 | X188: =IF(AND(W188>=$R$2,W188<=$S$2),1,0) -> 0 | Y188: =IF(OR(V188=1,X188=1),1,0) -> 1
A189: 青森県 | C189: 黒石市 | D189: 髙樋憲 | F189: 3 | G189: 0 | H189: 0 | I189: 7 | J189: 1 | K189: 7 | L189: 3 | M189: 1 | N189: 0 | O189: 4 | P189: 3 | Q189: 0 | R189: =A189 -> 青森県 | S189: =C189 -> 黒石市 | T189: =D189&E189 -> 髙樋憲 | U189: =F189&G189&"."&H189&I189&"."&J189&K189 -> 30.07.17 | V189: =IF(AND(U189>=$R$2,U189<=$S$2),1,0) -> 0 | W189: =L189&M189&"."&N189&O189&"."&P189&Q189 -> 31.04.30 | X189: =IF(AND(W189>=$R$2,W189<=$S$2),1,0) -> 0 | Y189: =IF(OR(V189=1,X189=1),1,0) -> 0
A190: 青森県 | C190: 五所川原市 | D190: 平山誠敏 | F190: 3 | G190: 0 | H190: 0 | I190: 7 | J190: 0 | K190: 8 | L190: 3 | M190: 1 | N190: 0 | O190: 2 | P190: 1 | Q190: 5 | R190: =A190 -> 青森県 | S190: =C190 -> 五所川原市 | T190: =D190&E190 -> 平山誠敏 | U190: =F190&G190&"."&H190&I190&"."&J190&K190 -> 30.07.08 | V190: =IF(AND(U190>=$R$2,U190<=$S$2),1,0) -> 0 | W190: =L190&M190&"."&N190&O190&"."&P190&Q190 -> 31.02.15 | X190: =IF(AND(W190>=$R$2,W190<=$S$2),1,0) -> 0 | Y190: =IF(OR(V190=1,X190=1),1,0) -> 0
A191: 青森県 | C191: 十和田市 | D191: 小山田久 | F191: 2 | G191: 9 | H191: 0 | I191: 1 | J191: 2 | K191: 9 | L191: 3 | M191: 0 | N191: 1 | O191: 2 | P191: 3 | Q191: 1 | R191: =A191 -> 青森県 | S191: =C191 -> 十和田市 | T191: =D191&E191 -> 小山田久 | U191: =F191&G191&"."&H191&I191&"."&J191&K191 -> 29.01.29 | V191: =IF(AND(U191>=$R$2,U191<=$S$2),1,0) -> 1 | W191: =L191&M191&"."&N191&O191&"."&P191&Q191 -> 30.12.31 | X191: =IF(AND(W191>=$R$2,W191<=$S$2),1,0) -> 0 | Y191: =IF(OR(V191=1,X191=1),1,0) -> 1
A192: 青森県 | C192: 三沢市 | D192: 種市一正 | F192: 3 | G192: 1 | H192: 0 | I192: 6 | J192: 1 | K192: 6 | L192: 3 | M192: 2 | N192: 0 | O192: 3 | P192: 1 | Q192: 9 | R192: =A192 -> 青森県 | S192: =C192 -> 三沢市 | T192: =D192&E192 -> 種市一正 | U192: =F192&G192&"."&H192&I192&"."&J192&K192 -> 31.06.16 | V192: =IF(AND(U192>=$R$2,U192<=$S$2),1,0) -> 0 | W192: =L192&M192&"."&N192&O192&"."&P192&Q192 -> 32.03.19 | X192: =IF(AND(W192>=$R$2,W192<=$S$2),1,0) -> 0 | Y192: =IF(OR(V192=1,X192=1),1,0) -> 0
A193: 青森県 | C193: むつ市 | D193: 宮下宗一郎 | F193: 3 | G193: 0 | H193: 0 | I193: 6 | J193: 2 | K193: 8 | L193: 3 | M193: 1 | N193: 1 | O193: 0 | P193: 1 | Q193: 5 | R193: =A193 -> 青森県 | S193: =C193 -> むつ市 | T193: =D193&E193 -> 宮下宗一郎 | U193: =F193&G193&"."&H193&I193&"."&J193&K193 -> 30.06.28 | V193: =IF(AND(U193>=$R$2,U193<=$S$2),1,0) -> 0 | W193: =L193&M193&"."&N193&O193&"."&P193&Q193 -> 31.10.15 | X193: =IF(AND(W193>=$R$2,W193<=$S$2),1,0) -> 0 | Y193: =IF(OR(V193=1,X193=1),1,0) -> 0
A194: 青森県 | C194: つがる市 | D194: 福島弘芳 | F194: 2 | G194: 9 | H194: 0 | I194: 3 | J194: 1 | K194: 2 | L194: 3 | M194: 1 | N194: 0 | O194: 2 | P194: 1 | Q194: 0 | R194: =A194 -> 青森県 | S194: =C194 -> つがる市 | T194: =D194&E194 -> 福島弘芳 | U194: =F194&G194&"."&H194&I194&"."&J194&K194 -> 29.03.12 | V194: =IF(AND(U194>=$R$2,U194<=$S$2),1,0) -> 1 | W194: =L194&M194&"."&N194&O194&"."&P194&Q194 -> 31.02.10 | X194: =IF(AND(W194>=$R$2,W194<=$S$2),1,0) -> 0 | Y194: =IF(OR(V194=1,X194=1),1,0) -> 1
A195: 青森県 | C195: 平川市 | D195: 長尾忠行 | F195: 3 | G195: 0 | H195: 0 | I195: 2 | J195: 0 | K195: 4 | L195: 3 | M195: 1 | N195: 0 | O195: 7 | P195: 3 | Q195: 1 | R195: =A195 -> 青森県 | S195: =C195 -> 平川市 | T195: =D195&E195 -> 長尾忠行 | U195: =F195&G195&"."&H195&I195&"."&J195&K195 -> 30.02.04 | V195: =IF(AND(U195>=$R$2,U195<=$S$2),1,0) -> 0 | W195: =L195&M195&"."&N195&O195&"."&P195&Q195 -> 31.07.31 | X195: =IF(AND(W195>=$R$2,W195<=$S$2),1,0) -> 0 | Y195: =IF(OR(V195=1,X195=1),1,0) -> 0
A196: 青森県 | C196: 平内町 | D196: 船橋茂久 | F196: 3 | G196: 1 | H196: 1 | I196: 1 | J196: 1 | K196: 4 | L196: 3 | M196: 2 | N196: 0 | O196: 3 | P196: 3 | Q196: 0 | R196: =A196 -> 青森県 | S196: =C196 -> 平内町 | T196: =D196&E196 -> 船橋茂久 | U196: =F196&G196&"."&H196&I196&"."&J196&K196 -> 31.11.14 | V196: =IF(AND(U196>=$R$2,U196<=$S$2),1,0) -> 0 | W196: =L196&M196&"."&N196&O196&"."&P196&Q196 -> 32.03.30 | X196: =IF(AND(W196>=$R$2,W196<=$S$2),1,0) -> 0 | Y196: =IF(OR(V196=1,X196=1),1,0) -> 0
A197: 青森県 | C197: 今別町 | D197: 阿部義治 | F197: 2 | G197: 9 | H197: 1 | I197: 0 | J197: 1 | K197: 2 | L197: 3 | M197: 2 | N197: 0 | O197: 3 | P197: 3 | Q197: 0 | R197: =A197 -> 青森県 | S197: =C197 -> 今別町 | T197: =D197&E197 -> 阿部義治 | U197: =F197&G197&"."&H197&I197&"."&J197&K197 -> 29.10.12 | V197: =IF(AND(U197>=$R$2,U197<=$S$2),1,0) -> 1 | W197: =L197&M197&"."&N197&O197&"."&P197&Q197 -> 32.03.30 | X197: =IF(AND(W197>=$R$2,W197<=$S$2),1,0) -> 0 | Y197: =IF(OR(V197=1,X197=1),1,0) -> 1
A198: 青森県 | C198: 蓬田村 | D198: 久慈修一 | F198: 2 | G198: 9 | H198: 1 | I198: 1 | J198: 0 | K198: 8 | L198: 3 | M198: 1 | N198: 0 | O198: 4 | P198: 2 | Q198: 9 | R198: =A198 -> 青森県 | S198: =C198 -> 蓬田村 | T198: =D198&E198 -> 久慈修一 | U198: =F198&G198&"."&H198&I198&"."&J198&K198 -> 29.11.08 | V198: =IF(AND(U198>=$R$2,U198<=$S$2),1,0) -> 1 | W198: =L198&M198&"."&N198&O198&"."&P198&Q198 -> 31.04.29 | X198: =IF(AND(W198>=$R$2,W198<=$S$2),1,0) -> 0 | Y198: =IF(OR(V198=1,X198=1),1,0) -> 1
... A225: 青森県 | C225: 新郷村 | D225: 須藤良美 | F225: 2 | G225: 9 | H225: 0 | I225: 5 | J225: 2 | K225: 8 | L225: 3 | M225: 2 | N225: 0 | O225: 7 | P225: 2 | Q225: 8 | R225: =A225 -> 青森県 | S225: =C225 -> 新郷村 | T225: =D225&E225 -> 須藤良美 | U225: =F225&G225&"."&H225&I225&"."&J225&K225 -> 29.05.28 | V225: =IF(AND(U225>=$R$2,U225<=$S$2),1,0) -> 1 | W225: =L225&M225&"."&N225&O225&"."&P225&Q225 -> 32.07.28 | X225: =IF(AND(W225>=$R$2,W225<=$S$2),1,0) -> 0 | Y225: =IF(OR(V225=1,X225=1),1,0) -> 1
A226: 岩手県 | B226: 0 | C226: 岩手県 | D226: 達増拓也 | F226: 3 | G226: 1 | H226: 0 | I226: 9 | J226: 1 | K226: 0 | L226: 3 | M226: 1 | N226: 0 | O226: 9 | P226: 1 | Q226: 0 | R226: =A226 -> 岩手県 | S226: =C226 -> 岩手県 | T226: =D226&E226 -> 達増拓也 | U226: =F226&G226&"."&H226&I226&"."&J226&K226 -> 31.09.10 | V226: =IF(AND(U226>=$R$2,U226<=$S$2),1,0) -> 0 | W226: =L226&M226&"."&N226&O226&"."&P226&Q226 -> 31.09.10 | X226: =IF(AND(W226>=$R$2,W226<=$S$2),1,0) -> 0 | Y226: =IF(OR(V226=1,X226=1),1,0) -> 0
A227: 岩手県 | B227: 1 | C227: 盛岡市 | D227: 谷藤裕明 | F227: 3 | G227: 1 | H227: 0 | I227: 9 | J227: 0 | K227: 1 | L227: 3 | M227: 1 | N227: 0 | O227: 8 | P227: 2 | Q227: 7 | R227: =A227 -> 岩手県 | S227: =C227 -> 盛岡市 | T227: =D227&E227 -> 谷藤裕明 | U227: =F227&G227&"."&H227&I227&"."&J227&K227 -> 31.09.01 | V227: =IF(AND(U227>=$R$2,U227<=$S$2),1,0) -> 0 | W227: =L227&M227&"."&N227&O227&"."&P227&Q227 -> 31.08.27 | X227: =IF(AND(W227>=$R$2,W227<=$S$2),1,0) -> 0 | Y227: =IF(OR(V227=1,X227=1),1,0) -> 0
A228: 岩手県 | B228: 2 | C228: 宮古市 | D228: 山本正徳 | F228: 2 | G228: 9 | H228: 0 | I228: 7 | J228: 0 | K228: 2 | L228: 3 | M228: 0 | N228: 0 | O228: 4 | P228: 3 | Q228: 0 | R228: =A228 -> 岩手県 | S228: =C228 -> 宮古市 | T228: =D228&E228 -> 山本正徳 | U228: =F228&G228&"."&H228&I228&"."&J228&K228 -> 29.07.02 | V228: =IF(AND(U228>=$R$2,U228<=$S$2),1,0) -> 1 | W228: =L228&M228&"."&N228&O228&"."&P228&Q228 -> 30.04.30 | X228: =IF(AND(W228>=$R$2,W228<=$S$2),1,0) -> 0 | Y228: =IF(OR(V228=1,X228=1),1,0) -> 1
A229: 岩手県 | B229: 3 | C229: 大船渡市 | D229: 戸田公明 | F229: 3 | G229: 0 | H229: 1 | I229: 2 | J229: 0 | K229: 2 | L229: 3 | M229: 2 | N229: 0 | O229: 5 | P229: 0 | Q229: 8 | R229: =A229 -> 岩手県 | S229: =C229 -> 大船渡市 | T229: =D229&E229 -> 戸田公明 | U229: =F229&G229&"."&H229&I229&"."&J229&K229 -> 30.12.02 | V229: =IF(AND(U229>=$R$2,U229<=$S$2),1,0) -> 0 | W229: =L229&M229&"."&N229&O229&"."&P229&Q229 -> 32.05.08 | X229: =IF(AND(W229>=$R$2,W229<=$S$2),1,0) -> 0 | Y229: =IF(OR(V229=1,X229=1),1,0) -> 0
A230: 岩手県 | B230: 4 | C230: 花巻市 | D230: 上田東一 | F230: 3 | G230: 0 | H230: 0 | I230: 2 | J230: 0 | K230: 4 | L230: 3 | M230: 0 | N230: 0 | O230: 7 | P230: 3 | Q230: 1 | R230: =A230 -> 岩手県 | S230: =C230 -> 花巻市 | T230: =D230&E230 -> 上田東一 | U230: =F230&G230&"."&H230&I230&"."&J230&K230 -> 30.02.04 | V230: =IF(AND(U230>=$R$2,U230<=$S$2),1,0) -> 0 | W230: =L230&M230&"."&N230&O230&"."&P230&Q230 -> 30.07.31 | X230: =IF(AND(W230>=$R$2,W230<=$S$2),1,0) -> 0 | Y230: =IF(OR(V230=1,X230=1),1,0) -> 0
A231: 岩手県 | B231: 5 | C231: 北上市 | D231: 髙橋敏彦 | F231: 3 | G231: 1 | H231: 0 | I231: 4 | J231: 2 | K231: 6 | L231: 3 | M231: 2 | N231: 0 | O231: 3 | P231: 3 | Q231: 1 | R231: =A231 -> 岩手県 | S231: =C231 -> 北上市 | T231: =D231&E231 -> 髙橋敏彦 | U231: =F231&G231&"."&H231&I231&"."&J231&K231 -> 31.04.26 | V231: =IF(AND(U231>=$R$2,U231<=$S$2),1,0) -> 0 | W231: =L231&M231&"."&N231&O231&"."&P231&Q231 -> 32.03.31 | X231: =IF(AND(W231>=$R$2,W231<=$S$2),1,0) -> 0 | Y231: =IF(OR(V231=1,X231=1),1,0) -> 0
A232: 岩手県 | B232: 6 | C232: 久慈市 | D232: 遠藤譲一 | F232: 3 | G232: 0 | H232: 0 | I232: 3 | J232: 2 | K232: 5 | L232: 3 | M232: 1 | N232: 0 | O232: 8 | P232: 0 | Q232: 6 | R232: =A232 -> 岩手県 | S232: =C232 -> 久慈市 | T232: =D232&E232 -> 遠藤譲一 | U232: =F232&G232&"."&H232&I232&"."&J232&K232 -> 30.03.25 | V232: =IF(AND(U232>=$R$2,U232<=$S$2),1,0) -> 0 | W232: =L232&M232&"."&N232&O232&"."&P232&Q232 -> 31.08.06 | X232: =IF(AND(W232>=$R$2,W232<=$S$2),1,0) -> 0 | Y232: =IF(OR(V232=1,X232=1),1,0) -> 0
A233: 岩手県 | B233: 7 | C233: 遠野市 | D233: 本田敏秋 | F233: 2 | G233: 9 | H233: 1 | I233: 0 | J233: 2 | K233: 2 | L233: 3 | M233: 0 | N233: 1 | O233: 0 | P233: 3 | Q233: 1 | R233: =A233 -> 岩手県 | S233: =C233 -> 遠野市 | T233: =D233&E233 -> 本田敏秋 | U233: =F233&G233&"."&H233&I233&"."&J233&K233 -> 29.10.22 | V233: =IF(AND(U233>=$R$2,U233<=$S$2),1,0) -> 1 | W233: =L233&M233&"."&N233&O233&"."&P233&Q233 -> 30.10.31 | X233: =IF(AND(W233>=$R$2,W233<=$S$2),1,0) -> 0 | Y233: =IF(OR(V233=1,X233=1),1,0) -> 1
A234: 岩手県 | B234: 8 | C234: 一関市 | D234: 勝部修 | F234: 2 | G234: 9 | H234: 1 | I234: 0 | J234: 0 | K234: 8 | L234: 2 | M234: 9 | N234: 1 | O234: 0 | P234: 0 | Q234: 8 | R234: =A234 -> 岩手県 | S234: =C234 -> 一関市 | T234: =D234&E234 -> 勝部修 | U234: =F234&G234&"."&H234&I234&"."&J234&K234 -> 29.10.08 | V234: =IF(AND(U234>=$R$2,U234<=$S$2),1,0) -> 1 | W234: =L234&M234&"."&N234&O234&"."&P234&Q234 -> 29.10.08 | X234: =IF(AND(W234>=$R$2,W234<=$S$2),1,0) -> 1 | Y234: =IF(OR(V234=1,X234=1),1,0) -> 1
A235: 岩手県 | B235: 9 | C235: 陸前高田市 | D235: 戸羽太 | F235: 3 | G235: 1 | H235: 0 | I235: 2 | J235: 1 | K235: 2 | L235: 3 | M235: 1 | N235: 0 | O235: 9 | P235: 1 | Q235: 0 | R235: =A235 -> 岩手県 | S235: =C235 -> 陸前高田市 | T235: =D235&E235 -> 戸羽太 | U235: =F235&G235&"."&H235&I235&"."&J235&K235 -> 31.02.12 | V235: =IF(AND(U235>=$R$2,U235<=$S$2),1,0) -> 0 | W235: =L235&M235&"."&N235&O235&"."&P235&Q235 -> 31.09.10 | X235: =IF(AND(W235>=$R$2,W235<=$S$2),1,0) -> 0 | Y235: =IF(OR(V235=1,X235=1),1,0) -> 0
A236: 岩手県 | B236: 10 | C236: 釜石市 | D236: 野田武則 | F236: 3 | G236: 1 | H236: 1 | I236: 1 | J236: 1 | K236: 7 | L236: 3 | M236: 1 | N236: 0 | O236: 9 | P236: 1 | Q236: 0 | R236: =A236 -> 岩手県 | S236: =C236 -> 釜石市 | T236: =D236&E236 -> 野田武則 | U236: =F236&G236&"."&H236&I236&"."&J236&K236 -> 31.11.17 | V236: =IF(AND(U236>=$R$2,U236<=$S$2),1,0) -> 0 | W236: =L236&M236&"."&N236&O236&"."&P236&Q236 -> 31.09.10 | X236: =IF(AND(W236>=$R$2,W236<=$S$2),1,0) -> 0 | Y236: =IF(OR(V236=1,X236=1),1,0) -> 0
A237: 岩手県 | B237: 11 | C237: 二戸市 | D237: 藤原淳 | F237: 3 | G237: 0 | H237: 0 | I237: 1 | J237: 2 | K237: 5 | L237: 3 | M237: 1 | N237: 0 | O237: 7 | P237: 3 | Q237: 0 | R237: =A237 -> 岩手県 | S237: =C237 -> 二戸市 | T237: =D237&E237 -> 藤原淳 | U237: =F237&G237&"."&H237&I237&"."&J237&K237 -> 30.01.25 | V237: =IF(AND(U237>=$R$2,U237<=$S$2),1,0) -> 0 | W237: =L237&M237&"."&N237&O237&"."&P237&Q237 -> 31.07.30 | X237: =IF(AND(W237>=$R$2,W237<=$S$2),1,0) -> 0 | Y237: =IF(OR(V237=1,X237=1),1,0) -> 0
A238: 岩手県 | B238: 12 | C238: 八幡平市 | D238: 田村正彦 | F238: 2 | G238: 9 | H238: 1 | I238: 0 | J238: 0 | K238: 1 | L238: 3 | M238: 0 | N238: 0 | O238: 4 | P238: 3 | Q238: 0 | R238: =A238 -> 岩手県 | S238: =C238 -> 八幡平市 | T238: =D238&E238 -> 田村正彦 | U238: =F238&G238&"."&H238&I238&"."&J238&K238 -> 29.10.01 | V238: =IF(AND(U238>=$R$2,U238<=$S$2),1,0) -> 1 | W238: =L238&M238&"."&N238&O238&"."&P238&Q238 -> 30.04.30 | X238: =IF(AND(W238>=$R$2,W238<=$S$2),1,0) -> 0 | Y238: =IF(OR(V238=1,X238=1),1,0) -> 1
A239: 岩手県 | B239: 13 | C239: 奥州市 | D239: 小沢昌記 | F239: 3 | G239: 0 | H239: 0 | I239: 3 | J239: 1 | K239: 8 | L239: 3 | M239: 0 | N239: 0 | O239: 3 | P239: 1 | Q239: 8 | R239: =A239 -> 岩手県 | S239: =C239 -> 奥州市 | T239: =D239&E239 -> 小沢昌記 | U239: =F239&G239&"."&H239&I239&"."&J239&K239 -> 30.03.18 | V239: =IF(AND(U239>=$R$2,U239<=$S$2),1,0) -> 0 | W239: =L239&M239&"."&N239&O239&"."&P239&Q239 -> 30.03.18 | X239: =IF(AND(W239>=$R$2,W239<=$S$2),1,0) -> 0 | Y239: =IF(OR(V239=1,X239=1),1,0) -> 0
A240: 岩手県 | B240: 14 | C240: 滝沢市 | D240: 柳村典秀 | F240: 3 | G240: 0 | H240: 1 | I240: 1 | J240: 1 | K240: 9 | L240: 3 | M240: 1 | N240: 0 | O240: 7 | P240: 3 | Q240: 0 | R240: =A240 -> 岩手県 | S240: =C240 -> 滝沢市 | T240: =D240&E240 -> 柳村典秀 | U240: =F240&G240&"."&H240&I240&"."&J240&K240 -> 30.11.19 | V240: =IF(AND(U240>=$R$2,U240<=$S$2),1,0) -> 0 | W240: =L240&M240&"."&N240&O240&"."&P240&Q240 -> 31.07.30 | X240: =IF(AND(W240>=$R$2,W240<=$S$2),1,0) -> 0 | Y240: =IF(OR(V240=1,X240=1),1,0) -> 0
A241: 岩手県 | B241: 15 | C241: 雫石町 | D241: 深谷 | E241: 政光 | F241: 3 | G241: 0 | H241: 1 | I241: 1 | J241: 0 | K241: 9 | L241: 3 | M241: 1 | N241: 0 | O241: 7 | P241: 3 | Q241: 0 | R241: =A241 -> 岩手県 | S241: =C241 -> 雫石町 | T241: =D241&E241 -> 深谷政光 | U241: =F241&G241&"."&H241&I241&"."&J241&K241 -> 30.11.09 | V241: =IF(AND(U241>=$R$2,U241<=$S$2),1,0) -> 0 | W241: =L241&M241&"."&N241&O241&"."&P241&Q241 -> 31.07.30 | X241: =IF(AND(W241>=$R$2,W241<=$S$2),1,0) -> 0 | Y241: =IF(OR(V241=1,X241=1),1,0) -> 0
A242: 岩手県 | B242: 16 | C242: 葛巻町 | D242: 鈴木重男 | F242: 3 | G242: 1 | H242: 0 | I242: 8 | J242: 2 | K242: 7 | L242: 3 | M242: 2 | N242: 0 | O242: 1 | P242: 1 | Q242: 9 | R242: =A242 -> 岩手県 | S242: =C242 -> 葛巻町 | T242: =D242&E242 -> 鈴木重男 | U242: =F242&G242&"."&H242&I242&"."&J242&K242 -> 31.08.27 | V242: =IF(AND(U242>=$R$2,U242<=$S$2),1,0) -> 0 | W242: =L242&M242&"."&N242&O242&"."&P242&Q242 -> 32.01.19 | X242: =IF(AND(W242>=$R$2,W242<=$S$2),1,0) -> 0 | Y242: =IF(OR(V242=1,X242=1),1,0) -> 0
A243: 岩手県 | B243: 17 | C243: 岩手町 | D243: 民部田幾夫 | F243: 3 | G243: 0 | H243: 0 | I243: 5 | J243: 3 | K243: 1 | L243: 3 | M243: 2 | N243: 0 | O243: 7 | P243: 2 | Q243: 0 | R243: =A243 -> 岩手県 | S243: =C243 -> 岩手町 | T243: =D243&E243 -> 民部田幾夫 | U243: =F243&G243&"."&H243&I243&"."&J243&K243 -> 30.05.31 | V243: =IF(AND(U243>=$R$2,U243<=$S$2),1,0) -> 0 | W243: =L243&M243&"."&N243&O243&"."&P243&Q243 -> 32.07.20 | X243: =IF(AND(W243>=$R$2,W243<=$S$2),1,0) -> 0 | Y243: =IF(OR(V243=1,X243=1),1,0) -> 0
A244: 岩手県 | B244: 18 | C244: 紫波町 | D244: 熊谷泉 | F244: 3 | G244: 0 | H244: 0 | I244: 2 | J244: 0 | K244: 7 | L244: 3 | M244: 1 | N244: 0 | O244: 7 | P244: 1 | Q244: 6 | R244: =A244 -> 岩手県 | S244: =C244 -> 紫波町 | T244: =D244&E244 -> 熊谷泉 | U244: =F244&G244&"."&H244&I244&"."&J244&K244 -> 30.02.07 | V244: =IF(AND(U244>=$R$2,U244<=$S$2),1,0) -> 0 | W244: =L244&M244&"."&N244&O244&"."&P244&Q244 -> 31.07.16 | X244: =IF(AND(W244>=$R$2,W244<=$S$2),1,0) -> 0 | Y244: =IF(OR(V244=1,X244=1),1,0) -> 0
A245: 岩手県 | B245: 19 | C245: 矢巾町 | D245: 高橋 | E245: 昌造 | F245: 3 | G245: 1 | H245: 0 | I245: 4 | J245: 2 | K245: 9 | L245: 3 | M245: 1 | N245: 0 | O245: 4 | P245: 2 | Q245: 9 | R245: =A245 -> 岩手県 | S245: =C245 -> 矢巾町 | T245: =D245&E245 -> 高橋昌造 | U245: =F245&G245&"."&H245&I245&"."&J245&K245 -> 31.04.29 | V245: =IF(AND(U245>=$R$2,U245<=$S$2),1,0) -> 0 | W245: =L245&M245&"."&N245&O245&"."&P245&Q245 -> 31.04.29 | X245: =IF(AND(W245>=$R$2,W245<=$S$2),1,0) -> 0 | Y245: =IF(OR(V245=1,X245=1),1,0) -> 0
A246: 岩手県 | B246: 20 | C246: 西和賀町 | D246: 細井洋行 | F246: 2 | G246: 9 | H246: 1 | I246: 1 | J246: 1 | K246: 9 | L246: 3 | M246: 1 | N246: 0 | O246: 4 | P246: 3 | Q246: 0 | R246: =A246 -> 岩手県 | S246: =C246 -> 西和賀町 | T246: =D246&E246 -> 細井洋行 | U246: =F246&G246&"."&H246&I246&"."&J246&K246 -> 29.11.19 | V246: =IF(AND(U246>=$R$2,U246<=$S$2),1,0) -> 1 | W246: =L246&M246&"."&N246&O246&"."&P246&Q246 -> 31.04.30 | X246: =IF(AND(W246>=$R$2,W246<=$S$2),1,0) -> 0 | Y246: =IF(OR(V246=1,X246=1),1,0) -> 1
A247: 岩手県 | B247: 21 | C247: 金ケ崎町 | D247: 髙橋由一 | F247: 3 | G247: 0 | H247: 0 | I247: 3 | J247: 1 | K247: 8 | L247: 3 | M247: 2 | N247: 0 | O247: 2 | P247: 2 | Q247: 9 | R247: =A247 -> 岩手県 | S247: =C247 -> 金ケ崎町 | T247: =D247&E247 -> 髙橋由一 | U247: =F247&G247&"."&H247&I247&"."&J247&K247 -> 30.03.18 | V247: =IF(AND(U247>=$R$2,U247<=$S$2),1,0) -> 0 | W247: =L247&M247&"."&N247&O247&"."&P247&Q247 -> 32.02.29 | X247: =IF(AND(W247>=$R$2,W247<=$S$2),1,0) -> 0 | Y247: =IF(OR(V247=1,X247=1),1,0) -> 0
A248: 岩手県 | B248: 22 | C248: 平泉町 | D248: 青木幸保 | F248: 3 | G248: 0 | H248: 0 | I248: 8 | J248: 2 | K248: 6 | L248: 3 | M248: 2 | N248: 0 | O248: 4 | P248: 1 | Q248: 4 | R248: =A248 -> 岩手県 | S248: =C248 -> 平泉町 | T248: =D248&E248 -> 青木幸保 | U248: =F248&G248&"."&H248&I248&"."&J248&K248 -> 30.08.26 | V248: =IF(AND(U248>=$R$2,U248<=$S$2),1,0) -> 0 | W248: =L248&M248&"."&N248&O248&"."&P248&Q248 -> 32.04.14 | X248: =IF(AND(W248>=$R$2,W248<=$S$2),1,0) -> 0 | Y248: =IF(OR(V248=1,X248=1),1,0) -> 0
A249: 岩手県 | B249: 23 | C249: 住田町 | D249: 多田欣一 | F249: 2 | G249: 9 | H249: 0 | I249: 8 | J249: 0 | K249: 4 | L249: 3 | M249: 1 | N249: 0 | O249: 9 | P249: 3 | Q249: 0 | R249: =A249 -> 岩手県 | S249: =C249 -> 住田町 | T249: =D249&E249 -> 多田欣一 | U249: =F249&G249&"."&H249&I249&"."&J249&K249 -> 29.08.04 | V249: =IF(AND(U249>=$R$2,U249<=$S$2),1,0) -> 1 | W249: =L249&M249&"."&N249&O249&"."&P249&Q249 -> 31.09.30 | X249: =IF(AND(W249>=$R$2,W249<=$S$2),1,0) -> 0 | Y249: =IF(OR(V249=1,X249=1),1,0) -> 1
A250: 岩手県 | B250: 24 | C250: 大槌町 | D250: 平野公三 | F250: 3 | G250: 1 | H250: 0 | I250: 8 | J250: 2 | K250: 7 | L250: 3 | M250: 1 | N250: 0 | O250: 8 | P250: 3 | Q250: 1 | R250: =A250 -> 岩手県 | S250: =C250 -> 大槌町 | T250: =D250&E250 -> 平野公三 | U250: =F250&G250&"."&H250&I250&"."&J250&K250 -> 31.08.27 | V250: =IF(AND(U250>=$R$2,U250<=$S$2),1,0) -> 0 | W250: =L250&M250&"."&N250&O250&"."&P250&Q250 -> 31.08.31 | X250: =IF(AND(W250>=$R$2,W250<=$S$2),1,0) -> 0 | Y250: =IF(OR(V250=1,X250=1),1,0) -> 0
A251: 岩手県 | B251: 25 | C251: 山田町 | D251: 佐藤信逸 | F251: 3 | G251: 2 | H251: 0 | I251: 7 | J251: 1 | K251: 4 | L251: 3 | M251: 1 | N251: 0 | O251: 9 | P251: 1 | Q251: 0 | R251: =A251 -> 岩手県 | S251: =C251 -> 山田町 | T251: =D251&E251 -> 佐藤信逸 | U251: =F251&G251&"."&H251&I251&"."&J251&K251 -> 32.07.14 | V251: =IF(AND(U251>=$R$2,U251<=$S$2),1,0) -> 0 | W251: =L251&M251&"."&N251&O251&"."&P251&Q251 -> 31.09.10 | X251: =IF(AND(W251>=$R$2,W251<=$S$2),1,0) -> 0 | Y251: =IF(OR(V251=1,X251=1),1,0) -> 0
A252: 岩手県 | B252: 26 | C252: 岩泉町 | D252: 伊達勝身 | F252: 3 | G252: 1 | H252: 1 | I252: 2 | J252: 2 | K252: 5 | L252: 2 | M252: 9 | N252: 0 | O252: 4 | P252: 3 | Q252: 0 | R252: =A252 -> 岩手県 | S252: =C252 -> 岩泉町 | T252: =D252&E252 -> 伊達勝身 | U252: =F252&G252&"."&H252&I252&"."&J252&K252 -> 31.12.25 | V252: =IF(AND(U252>=$R$2,U252<=$S$2),1,0) -> 0 | W252: =L252&M252&"."&N252&O252&"."&P252&Q252 -> 29.04.30 | X252: =IF(AND(W252>=$R$2,W252<=$S$2),1,0) -> 1 | Y252: =IF(OR(V252=1,X252=1),1,0) -> 1
A253: 岩手県 | B253: 27 | C253: 軽米町 | D253: 山本賢一 | F253: 3 | G253: 1 | H253: 0 | I253: 2 | J253: 0 | K253: 1 | L253: 3 | M253: 1 | N253: 0 | O253: 4 | P253: 3 | Q253: 0 | R253: =A253 -> 岩手県 | S253: =C253 -> 軽米町 | T253: =D253&E253 -> 山本賢一 | U253: =F253&G253&"."&H253&I253&"."&J253&K253 -> 31.02.01 | V253: =IF(AND(U253>=$R$2,U253<=$S$2),1,0) -> 0 | W253: =L253&M253&"."&N253&O253&"."&P253&Q253 -> 31.04.30 | X253: =IF(AND(W253>=$R$2,W253<=$S$2),1,0) -> 0 | Y253: =IF(OR(V253=1,X253=1),1,0) -> 0
A254: 岩手県 | B254: 28 | C254: 洋野町 | D254: 水上 | E254: 信宏 | F254: 3 | G254: 0 | H254: 0 | I254: 1 | J254: 2 | K254: 8 | L254: 3 | M254: 1 | N254: 0 | O254: 6 | P254: 1 | Q254: 8 | R254: =A254 -> 岩手県 | S254: =C254 -> 洋野町 | T254: =D254&E254 -> 水上信宏 | U254: =F254&G254&"."&H254&I254&"."&J254&K254 -> 30.01.28 | V254: =IF(AND(U254>=$R$2,U254<=$S$2),1,0) -> 0 | W254: =L254&M254&"."&N254&O254&"."&P254&Q254 -> 31.06.18 | X254: =IF(AND(W254>=$R$2,W254<=$S$2),1,0) -> 0 | Y254: =IF(OR(V254=1,X254=1),1,0) -> 0
A255: 岩手県 | B255: 29 | C255: 一戸町 | D255: 稲葉 | E255: 暉 | F255: 2 | G255: 9 | H255: 1 | I255: 1 | J255: 1 | K255: 7 | L255: 2 | M255: 9 | N255: 1 | O255: 2 | P255: 0 | Q255: 6 | R255: =A255 -> 岩手県 | S255: =C255 -> 一戸町 | T255: =D255&E255 -> 稲葉暉 | U255: =F255&G255&"."&H255&I255&"."&J255&K255 -> 29.11.17 | V255: =IF(AND(U255>=$R$2,U255<=$S$2),1,0) -> 1 | W255: =L255&M255&"."&N255&O255&"."&P255&Q255 -> 29.12.06 | X255: =IF(AND(W255>=$R$2,W255<=$S$2),1,0) -> 1 | Y255: =IF(OR(V255=1,X255=1),1,0) -> 1
A256: 岩手県 | B256: 30 | C256: 田野畑村 | D256: 石原弘 | F256: 2 | G256: 9 | H256: 0 | I256: 8 | J256: 2 | K256: 0 | L256: 3 | M256: 1 | N256: 0 | O256: 8 | P256: 2 | Q256: 7 | R256: =A256 -> 岩手県 | S256: =C256 -> 田野畑村 | T256: =D256&E256 -> 石原弘 | U256: =F256&G256&"."&H256&I256&"."&J256&K256 -> 29.08.20 | V256: =IF(AND(U256>=$R$2,U256<=$S$2),1,0) -> 1 | W256: =L256&M256&"."&N256&O256&"."&P256&Q256 -> 31.08.27 | X256: =IF(AND(W256>=$R$2,W256<=$S$2),1,0) -> 0 | Y256: =IF(OR(V256=1,X256=1),1,0) -> 1
A257: 岩手県 | B257: 31 | C257: 普代村 | D257: 柾屋伸夫 | F257: 3 | G257: 1 | H257: 0 | I257: 6 | J257: 2 | K257: 5 | L257: 3 | M257: 1 | N257: 0 | O257: 6 | P257: 2 | Q257: 5 | R257: =A257 -> 岩手県 | S257: =C257 -> 普代村 | T257: =D257&E257 -> 柾屋伸夫 | U257: =F257&G257&"."&H257&I257&"."&J257&K257 -> 31.06.25 | V257: =IF(AND(U257>=$R$2,U257<=$S$2),1,0) -> 0 | W257: =L257&M257&"."&N257&O257&"."&P257&Q257 -> 31.06.25 | X257: =IF(AND(W257>=$R$2,W257<=$S$2),1,0) -> 0 | Y257: =IF(OR(V257=1,X257=1),1,0) -> 0
A258: 岩手県 | B258: 32 | C258: 野田村 | D258: 小田祐士 | F258: 2 | G258: 9 | H258: 0 | I258: 2 | J258: 2 | K258: 6 | L258: 3 | M258: 1 | N258: 0 | O258: 8 | P258: 0 | Q258: 6 | R258: =A258 -> 岩手県 | S258: =C258 -> 野田村 | T258: =D258&E258 -> 小田祐士 | U258: =F258&G258&"."&H258&I258&"."&J258&K258 -> 29.02.26 | V258: =IF(AND(U258>=$R$2,U258<=$S$2),1,0) -> 1 | W258: =L258&M258&"."&N258&O258&"."&P258&Q258 -> 31.08.06 | X258: =IF(AND(W258>=$R$2,W258<=$S$2),1,0) -> 0 | Y258: =IF(OR(V258=1,X258=1),1,0) -> 1
A259: 岩手県 | B259: 33 | C259: 九戸村 | D259: 五枚橋久夫 | F259: 3 | G259: 2 | H259: 0 | I259: 4 | J259: 1 | K259: 9 | L259: 3 | M259: 1 | N259: 0 | O259: 6 | P259: 3 | Q259: 0 | R259: =A259 -> 岩手県 | S259: =C259 -> 九戸村 | T259: =D259&E259 -> 五枚橋久夫 | U259: =F259&G259&"."&H259&I259&"."&J259&K259 -> 32.04.19 | V259: =IF(AND(U259>=$R$2,U259<=$S$2),1,0) -> 0 | W259: =L259&M259&"."&N259&O259&"."&P259&Q259 -> 31.06.30 | X259: =IF(AND(W259>=$R$2,W259<=$S$2),1,0) -> 0 | Y259: =IF(OR(V259=1,X259=1),1,0) -> 0
A260: 宮城県 | C260: 宮城県 | D260: 村井 | E260: 嘉浩 | F260: 2 | G260: 9 | H260: 1 | I260: 1 | J260: 2 | K260: 0 | L260: 3 | M260: 1 | N260: 1 | O260: 1 | P260: 1 | Q260: 2 | R260: =A260 -> 宮城県 | S260: =C260 -> 宮城県 | T260: =D260&E260 -> 村井嘉浩 | U260: =F260&G260&"."&H260&I260&"."&J260&K260 -> 29.11.20 | V260: =IF(AND(U260>=$R$2,U260<=$S$2),1,0) -> 1 | W260: =L260&M260&"."&N260&O260&"."&P260&Q260 -> 31.11.12 | X260: =IF(AND(W260>=$R$2,W260<=$S$2),1,0) -> 0 | Y260: =IF(OR(V260=1,X260=1),1,0) -> 1
A261: 宮城県 | C261: 仙台市 | D261: 奥山 | E261: 恵美子 | F261: 2 | G261: 9 | H261: 0 | I261: 8 | J261: 2 | K261: 1 | L261: 3 | M261: 1 | N261: 0 | O261: 8 | P261: 2 | Q261: 7 | R261: =A261 -> 宮城県 | S261: =C261 -> 仙台市 | T261: =D261&E261 -> 奥山恵美子 | U261: =F261&G261&"."&H261&I261&"."&J261&K261 -> 29.08.21 | V261: =IF(AND(U261>=$R$2,U261<=$S$2),1,0) -> 1 | W261: =L261&M261&"."&N261&O261&"."&P261&Q261 -> 31.08.27 | X261: =IF(AND(W261>=$R$2,W261<=$S$2),1,0) -> 0 | Y261: =IF(OR(V261=1,X261=1),1,0) -> 1
A262: 宮城県 | C262: 石巻市 | D262: 亀山 | E262: 紘 | F262: 2 | G262: 9 | H262: 0 | I262: 4 | J262: 2 | K262: 8 | L262: 3 | M262: 0 | N262: 0 | O262: 5 | P262: 2 | Q262: 7 | R262: =A262 -> 宮城県 | S262: =C262 -> 石巻市 | T262: =D262&E262 -> 亀山紘 | U262: =F262&G262&"."&H262&I262&"."&J262&K262 -> 29.04.28 | V262: =IF(AND(U262>=$R$2,U262<=$S$2),1,0) -> 1 | W262: =L262&M262&"."&N262&O262&"."&P262&Q262 -> 30.05.27 | X262: =IF(AND(W262>=$R$2,W262<=$S$2),1,0) -> 0 | Y262: =IF(OR(V262=1,X262=1),1,0) -> 1
A263: 宮城県 | C263: 塩竈市 | D263: 佐藤 | E263: 昭 | F263: 3 | G263: 1 | H263: 0 | I263: 9 | J263: 1 | K263: 0 | L263: 3 | M263: 1 | N263: 0 | O263: 9 | P263: 1 | Q263: 0 | R263: =A263 -> 宮城県 | S263: =C263 -> 塩竈市 | T263: =D263&E263 -> 佐藤昭 | U263: =F263&G263&"."&H263&I263&"."&J263&K263 -> 31.09.10 | V263: =IF(AND(U263>=$R$2,U263<=$S$2),1,0) -> 0 | W263: =L263&M263&"."&N263&O263&"."&P263&Q263 -> 31.09.10 | X263: =IF(AND(W263>=$R$2,W263<=$S$2),1,0) -> 0 | Y263: =IF(OR(V263=1,X263=1),1,0) -> 0
A264: 宮城県 | C264: 気仙沼市 | D264: 菅原 | E264: 茂 | F264: 3 | G264: 0 | H264: 0 | I264: 4 | J264: 2 | K264: 9 | L264: 3 | M264: 0 | N264: 0 | O264: 4 | P264: 2 | Q264: 9 | R264: =A264 -> 宮城県 | S264: =C264 -> 気仙沼市 | T264: =D264&E264 -> 菅原茂 | U264: =F264&G264&"."&H264&I264&"."&J264&K264 -> 30.04.29 | V264: =IF(AND(U264>=$R$2,U264<=$S$2),1,0) -> 0 | W264: =L264&M264&"."&N264&O264&"."&P264&Q264 -> 30.04.29 | X264: =IF(AND(W264>=$R$2,W264<=$S$2),1,0) -> 0 | Y264: =IF(OR(V264=1,X264=1),1,0) -> 0
A265: 宮城県 | C265: 白石市 | D265: 風間 | E265: 康静 | F265: 2 | G265: 8 | H265: 1 | I265: 1 | J265: 1 | K265: 3 | L265: 3 | M265: 1 | N265: 0 | O265: 7 | P265: 3 | Q265: 0 | R265: =A265 -> 宮城県 | S265: =C265 -> 白石市 | T265: =D265&E265 -> 風間康静 | U265: =F265&G265&"."&H265&I265&"."&J265&K265 -> 28.11.13 | V265: =IF(AND(U265>=$R$2,U265<=$S$2),1,0) -> 0 | W265: =L265&M265&"."&N265&O265&"."&P265&Q265 -> 31.07.30 | X265: =IF(AND(W265>=$R$2,W265<=$S$2),1,0) -> 0 | Y265: =IF(OR(V265=1,X265=1),1,0) -> 0
A266: 宮城県 | C266: 名取市 | D266: 山田 | E266: 司郎 | F266: 3 | G266: 2 | H266: 0 | I266: 7 | J266: 2 | K266: 4 | L266: 3 | M266: 2 | N266: 0 | O266: 1 | P266: 3 | Q266: 1 | R266: =A266 -> 宮城県 | S266: =C266 -> 名取市 | T266: =D266&E266 -> 山田司郎 | U266: =F266&G266&"."&H266&I266&"."&J266&K266 -> 32.07.24 | V266: =IF(AND(U266>=$R$2,U266<=$S$2),1,0) -> 0 | W266: =L266&M266&"."&N266&O266&"."&P266&Q266 -> 32.01.31 | X266: =IF(AND(W266>=$R$2,W266<=$S$2),1,0) -> 0 | Y266: =IF(OR(V266=1,X266=1),1,0) -> 0
A267: 宮城県 | C267: 角田市 | D267: 大友 | E267: 喜助 | F267: 3 | G267: 2 | H267: 0 | I267: 8 | J267: 0 | K267: 9 | L267: 3 | M267: 1 | N267: 0 | O267: 9 | P267: 3 | Q267: 0 | R267: =A267 -> 宮城県 | S267: =C267 -> 角田市 | T267: =D267&E267 -> 大友喜助 | U267: =F267&G267&"."&H267&I267&"."&J267&K267 -> 32.08.09 | V267: =IF(AND(U267>=$R$2,U267<=$S$2),1,0) -> 0 | W267: =L267&M267&"."&N267&O267&"."&P267&Q267 -> 31.09.30 | X267: =IF(AND(W267>=$R$2,W267<=$S$2),1,0) -> 0 | Y267: =IF(OR(V267=1,X267=1),1,0) -> 0
A268: 宮城県 | C268: 多賀城市 | D268: 菊地 | E268: 健次郎 | F268: 3 | G268: 0 | H268: 0 | I268: 8 | J268: 2 | K268: 7 | L268: 3 | M268: 1 | N268: 0 | O268: 9 | P268: 1 | Q268: 0 | R268: =A268 -> 宮城県 | S268: =C268 -> 多賀城市 | T268: =D268&E268 -> 菊地健次郎 | U268: =F268&G268&"."&H268&I268&"."&J268&K268 -> 30.08.27 | V268: =IF(AND(U268>=$R$2,U268<=$S$2),1,0) -> 0 | W268: =L268&M268&"."&N268&O268&"."&P268&Q268 -> 31.09.10 | X268: =IF(AND(W268>=$R$2,W268<=$S$2),1,0) -> 0 | Y268: =IF(OR(V268=1,X268=1),1,0) -> 0
A269: 宮城県 | C269: 岩沼市 | D269: 菊地 | E269: 啓夫 | F269: 3 | G269: 0 | H269: 0 | I269: 6 | J269: 2 | K269: 2 | L269: 3 | M269: 2 | N269: 0 | O269: 1 | P269: 1 | Q269: 1 | R269: =A269 -> 宮城県 | S269: =C269 -> 岩沼市 | T269: =D269&E269 -> 菊地啓夫 | U269: =F269&G269&"."&H269&I269&"."&J269&K269 -> 30.06.22 | V269: =IF(AND(U269>=$R$2,U269<=$S$2),1,0) -> 0 | W269: =L269&M269&"."&N269&O269&"."&P269&Q269 -> 32.01.11 | X269: =IF(AND(W269>=$R$2,W269<=$S$2),1,0) -> 0 | Y269: =IF(OR(V269=1,X269=1),1,0) -> 0
A270: 宮城県 | C270: 登米市 | D270: 布施 | E270: 孝尚 | F270: 2 | G270: 9 | H270: 0 | I270: 4 | J270: 2 | K270: 8 | L270: 2 | M270: 9 | N270: 0 | O270: 4 | P270: 2 | Q270: 8 | R270: =A270 -> 宮城県 | S270: =C270 -> 登米市 | T270: =D270&E270 -> 布施孝尚 | U270: =F270&G270&"."&H270&I270&"."&J270&K270 -> 29.04.28 | V270: =IF(AND(U270>=$R$2,U270<=$S$2),1,0) -> 1 | W270: =L270&M270&"."&N270&O270&"."&P270&Q270 -> 29.04.28 | X270: =IF(AND(W270>=$R$2,W270<=$S$2),1,0) -> 1 | Y270: =IF(OR(V270=1,X270=1),1,0) -> 1
A271: 宮城県 | C271: 栗原市 | D271: 佐藤 | E271: 勇 | F271: 2 | G271: 9 | H271: 0 | I271: 4 | J271: 3 | K271: 0 | L271: 2 | M271: 9 | N271: 0 | O271: 4 | P271: 3 | Q271: 0 | R271: =A271 -> 宮城県 | S271: =C271 -> 栗原市 | T271: =D271&E271 -> 佐藤勇 | U271: =F271&G271&"."&H271&I271&"."&J271&K271 -> 29.04.30 | V271: =IF(AND(U271>=$R$2,U271<=$S$2),1,0) -> 1 | W271: =L271&M271&"."&N271&O271&"."&P271&Q271 -> 29.04.30 | X271: =IF(AND(W271>=$R$2,W271<=$S$2),1,0) -> 1 | Y271: =IF(OR(V271=1,X271=1),1,0) -> 1
... A295: 宮城県 | C295: 南三陸町 | D295: 佐藤 | E295: 仁 | F295: 2 | G295: 9 | H295: 1 | I295: 1 | J295: 0 | K295: 5 | L295: 2 | M295: 9 | N295: 1 | O295: 1 | P295: 0 | Q295: 5 | R295: =A295 -> 宮城県 | S295: =C295 -> 南三陸町 | T295: =D295&E295 -> 佐藤仁 | U295: =F295&G295&"."&H295&I295&"."&J295&K295 -> 29.11.05 | V295: =IF(AND(U295>=$R$2,U295<=$S$2),1,0) -> 1 | W295: =L295&M295&"."&N295&O295&"."&P295&Q295 -> 29.11.05 | X295: =IF(AND(W295>=$R$2,W295<=$S$2),1,0) -> 1 | Y295: =IF(OR(V295=1,X295=1),1,0) -> 1
A296: 秋田県 | C296: 秋田県 | D296: 佐竹敬久 | F296: 2 | G296: 9 | H296: 0 | I296: 4 | J296: 1 | K296: 9 | L296: 3 | M296: 1 | N296: 0 | O296: 4 | P296: 2 | Q296: 9 | R296: =A296 -> 秋田県 | S296: =C296 -> 秋田県 | T296: =D296&E296 -> 佐竹敬久 | U296: =F296&G296&"."&H296&I296&"."&J296&K296 -> 29.04.19 | V296: =IF(AND(U296>=$R$2,U296<=$S$2),1,0) -> 1 | W296: =L296&M296&"."&N296&O296&"."&P296&Q296 -> 31.04.29 | X296: =IF(AND(W296>=$R$2,W296<=$S$2),1,0) -> 0 | Y296: =IF(OR(V296=1,X296=1),1,0) -> 1
A297: 秋田県 | C297: 秋田市 | D297: 穂積志 | F297: 2 | G297: 9 | H297: 0 | I297: 4 | J297: 1 | K297: 1 | L297: 3 | M297: 1 | N297: 0 | O297: 5 | P297: 0 | Q297: 1 | R297: =A297 -> 秋田県 | S297: =C297 -> 秋田市 | T297: =D297&E297 -> 穂積志 | U297: =F297&G297&"."&H297&I297&"."&J297&K297 -> 29.04.11 | V297: =IF(AND(U297>=$R$2,U297<=$S$2),1,0) -> 1 | W297: =L297&M297&"."&N297&O297&"."&P297&Q297 -> 31.05.01 | X297: =IF(AND(W297>=$R$2,W297<=$S$2),1,0) -> 0 | Y297: =IF(OR(V297=1,X297=1),1,0) -> 1
A298: 秋田県 | C298: 能代市 | D298: 齊藤滋宣 | F298: 3 | G298: 0 | H298: 0 | I298: 4 | J298: 2 | K298: 2 | L298: 3 | M298: 0 | N298: 0 | O298: 4 | P298: 2 | Q298: 2 | R298: =A298 -> 秋田県 | S298: =C298 -> 能代市 | T298: =D298&E298 -> 齊藤滋宣 | U298: =F298&G298&"."&H298&I298&"."&J298&K298 -> 30.04.22 | V298: =IF(AND(U298>=$R$2,U298<=$S$2),1,0) -> 0 | W298: =L298&M298&"."&N298&O298&"."&P298&Q298 -> 30.04.22 | X298: =IF(AND(W298>=$R$2,W298<=$S$2),1,0) -> 0 | Y298: =IF(OR(V298=1,X298=1),1,0) -> 0
A299: 秋田県 | C299: 横手市 | D299: 髙橋大 | F299: 2 | G299: 9 | H299: 1 | I299: 0 | J299: 2 | K299: 2 | L299: 2 | M299: 9 | N299: 1 | O299: 0 | P299: 2 | Q299: 2 | R299: =A299 -> 秋田県 | S299: =C299 -> 横手市 | T299: =D299&E299 -> 髙橋大 | U299: =F299&G299&"."&H299&I299&"."&J299&K299 -> 29.10.22 | V299: =IF(AND(U299>=$R$2,U299<=$S$2),1,0) -> 1 | W299: =L299&M299&"."&N299&O299&"."&P299&Q299 -> 29.10.22 | X299: =IF(AND(W299>=$R$2,W299<=$S$2),1,0) -> 1 | Y299: =IF(OR(V299=1,X299=1),1,0) -> 1
A300: 秋田県 | C300: 大館市 | D300: 福原淳嗣 | F300: 3 | G300: 1 | H300: 0 | I300: 4 | J300: 3 | K300: 0 | L300: 3 | M300: 1 | N300: 0 | O300: 4 | P300: 3 | Q300: 0 | R300: =A300 -> 秋田県 | S300: =C300 -> 大館市 | T300: =D300&E300 -> 福原淳嗣 | U300: =F300&G300&"."&H300&I300&"."&J300&K300 -> 31.04.30 | V300: =IF(AND(U300>=$R$2,U300<=$S$2),1,0) -> 0 | W300: =L300&M300&"."&N300&O300&"."&P300&Q300 -> 31.04.30 | X300: =IF(AND(W300>=$R$2,W300<=$S$2),1,0) -> 0 | Y300: =IF(OR(V300=1,X300=1),1,0) -> 0
A301: 秋田県 | C301: 男鹿市 | D301: 渡部幸男 | F301: 2 | G301: 9 | H301: 0 | I301: 4 | J301: 1 | K301: 1 | L301: 3 | M301: 0 | N301: 0 | O301: 4 | P301: 2 | Q301: 1 | R301: =A301 -> 秋田県 | S301: =C301 -> 男鹿市 | T301: =D301&E301 -> 渡部幸男 | U301: =F301&G301&"."&H301&I301&"."&J301&K301 -> 29.04.11 | V301: =IF(AND(U301>=$R$2,U301<=$S$2),1,0) -> 1 | W301: =L301&M301&"."&N301&O301&"."&P301&Q301 -> 30.04.21 | X301: =IF(AND(W301>=$R$2,W301<=$S$2),1,0) -> 0 | Y301: =IF(OR(V301=1,X301=1),1,0) -> 1
A302: 秋田県 | C302: 湯沢市 | D302: 齊藤光喜 | F302: 2 | G302: 9 | H302: 0 | I302: 4 | J302: 1 | K302: 6 | L302: 2 | M302: 9 | N302: 1 | O302: 0 | P302: 3 | Q302: 1 | R302: =A302 -> 秋田県 | S302: =C302 -> 湯沢市 | T302: =D302&E302 -> 齊藤光喜 | U302: =F302&G302&"."&H302&I302&"."&J302&K302 -> 29.04.16 | V302: =IF(AND(U302>=$R$2,U302<=$S$2),1,0) -> 1 | W302: =L302&M302&"."&N302&O302&"."&P302&Q302 -> 29.10.31 | X302: =IF(AND(W302>=$R$2,W302<=$S$2),1,0) -> 1 | Y302: =IF(OR(V302=1,X302=1),1,0) -> 1
A303: 秋田県 | C303: 鹿角市 | D303: 児玉一 | F303: 2 | G303: 9 | H303: 0 | I303: 7 | J303: 0 | K303: 2 | L303: 2 | M303: 9 | N303: 0 | O303: 3 | P303: 3 | Q303: 1 | R303: =A303 -> 秋田県 | S303: =C303 -> 鹿角市 | T303: =D303&E303 -> 児玉一 | U303: =F303&G303&"."&H303&I303&"."&J303&K303 -> 29.07.02 | V303: =IF(AND(U303>=$R$2,U303<=$S$2),1,0) -> 1 | W303: =L303&M303&"."&N303&O303&"."&P303&Q303 -> 29.03.31 | X303: =IF(AND(W303>=$R$2,W303<=$S$2),1,0) -> 1 | Y303: =IF(OR(V303=1,X303=1),1,0) -> 1
A304: 秋田県 | C304: 由利本荘市 | D304: 長谷部誠 | F304: 2 | G304: 9 | H304: 0 | I304: 4 | J304: 1 | K304: 6 | L304: 2 | M304: 9 | N304: 1 | O304: 0 | P304: 3 | Q304: 1 | R304: =A304 -> 秋田県 | S304: =C304 -> 由利本荘市 | T304: =D304&E304 -> 長谷部誠 | U304: =F304&G304&"."&H304&I304&"."&J304&K304 -> 29.04.16 | V304: =IF(AND(U304>=$R$2,U304<=$S$2),1,0) -> 1 | W304: =L304&M304&"."&N304&O304&"."&P304&Q304 -> 29.10.31 | X304: =IF(AND(W304>=$R$2,W304<=$S$2),1,0) -> 1 | Y304: =IF(OR(V304=1,X304=1),1,0) -> 1
A305: 秋田県 | C305: 潟上市 | D305: 石川光男 | F305: 2 | G305: 9 | H305: 0 | I305: 4 | J305: 1 | K305: 6 | L305: 3 | M305: 0 | N305: 0 | O305: 2 | P305: 2 | Q305: 1 | R305: =A305 -> 秋田県 | S305: =C305 -> 潟上市 | T305: =D305&E305 -> 石川光男 | U305: =F305&G305&"."&H305&I305&"."&J305&K305 -> 29.04.16 | V305: =IF(AND(U305>=$R$2,U305<=$S$2),1,0) -> 1 | W305: =L305&M305&"."&N305&O305&"."&P305&Q305 -> 30.02.21 | X305: =IF(AND(W305>=$R$2,W305<=$S$2),1,0) -> 0 | Y305: =IF(OR(V305=1,X305=1),1,0) -> 1
A306: 秋田県 | C306: 大仙市 | D306: 栗林次美 | F306: 2 | G306: 9 | H306: 0 | I306: 4 | J306: 1 | K306: 6 | L306: 2 | M306: 9 | N306: 0 | O306: 9 | P306: 3 | Q306: 0 | R306: =A306 -> 秋田県 | S306: =C306 -> 大仙市 | T306: =D306&E306 -> 栗林次美 | U306: =F306&G306&"."&H306&I306&"."&J306&K306 -> 29.04.16 | V306: =IF(AND(U306>=$R$2,U306<=$S$2),1,0) -> 1 | W306: =L306&M306&"."&N306&O306&"."&P306&Q306 -> 29.09.30 | X306: =IF(AND(W306>=$R$2,W306<=$S$2),1,0) -> 1 | Y306: =IF(OR(V306=1,X306=1),1,0) -> 1
A307: 秋田県 | C307: 北秋田市 | D307: 津谷永光 | F307: 2 | G307: 9 | H307: 0 | I307: 4 | J307: 1 | K307: 6 | L307: 3 | M307: 0 | N307: 0 | O307: 3 | P307: 3 | Q307: 1 | R307: =A307 -> 秋田県 | S307: =C307 -> 北秋田市 | T307: =D307&E307 -> 津谷永光 | U307: =F307&G307&"."&H307&I307&"."&J307&K307 -> 29.04.16 | V307: =IF(AND(U307>=$R$2,U307<=$S$2),1,0) -> 1 | W307: =L307&M307&"."&N307&O307&"."&P307&Q307 -> 30.03.31 | X307: =IF(AND(W307>=$R$2,W307<=$S$2),1,0) -> 0 | Y307: =IF(OR(V307=1,X307=1),1,0) -> 1
... A357: 山形県 | C357: 遊佐町 | D357: 時田博機 | F357: 2 | G357: 9 | H357: 0 | I357: 3 | J357: 1 | K357: 8 | L357: 3 | M357: 1 | N357: 0 | O357: 6 | P357: 3 | Q357: 0 | R357: =A357 -> 山形県 | S357: =C357 -> 遊佐町 | T357: =D357&E357 -> 時田博機 | U357: =F357&G357&"."&H357&I357&"."&J357&K357 -> 29.03.18 | V357: =IF(AND(U357>=$R$2,U357<=$S$2),1,0) -> 1 | W357: =L357&M357&"."&N357&O357&"."&P357&Q357 -> 31.06.30 | X357: =IF(AND(W357>=$R$2,W357<=$S$2),1,0) -> 0 | Y357: =IF(OR(V357=1,X357=1),1,0) -> 1
A358: 福島県 | C358: 福島県 | D358: 内堀 | E358: 雅雄 | F358: 3 | G358: 0 | H358: 1 | I358: 1 | J358: 1 | K358: 1 | L358: 3 | M358: 1 | N358: 1 | O358: 1 | P358: 1 | Q358: 9 | R358: =A358 -> 福島県 | S358: =C358 -> 福島県 | T358: =D358&E358 -> 内堀雅雄 | U358: =F358&G358&"."&H358&I358&"."&J358&K358 -> 30.11.11 | V358: =IF(AND(U358>=$R$2,U358<=$S$2),1,0) -> 0 | W358: =L358&M358&"."&N358&O358&"."&P358&Q358 -> 31.11.19 | X358: =IF(AND(W358>=$R$2,W358<=$S$2),1,0) -> 0 | Y358: =IF(OR(V358=1,X358=1),1,0) -> 0
A359: 福島県 | C359: 福島市 | D359: 小林 | E359: 香 | F359: 2 | G359: 9 | H359: 1 | I359: 2 | J359: 0 | K359: 7 | L359: 3 | M359: 1 | N359: 0 | O359: 7 | P359: 3 | Q359: 0 | R359: =A359 -> 福島県 | S359: =C359 -> 福島市 | T359: =D359&E359 -> 小林香 | U359: =F359&G359&"."&H359&I359&"."&J359&K359 -> 29.12.07 | V359: =IF(AND(U359>=$R$2,U359<=$S$2),1,0) -> 1 | W359: =L359&M359&"."&N359&O359&"."&P359&Q359 -> 31.07.30 | X359: =IF(AND(W359>=$R$2,W359<=$S$2),1,0) -> 0 | Y359: =IF(OR(V359=1,X359=1),1,0) -> 1
A360: 福島県 | C360: 会津若松市 | D360: 室井照平 | F360: 3 | G360: 1 | H360: 0 | I360: 8 | J360: 0 | K360: 6 | L360: 3 | M360: 1 | N360: 0 | O360: 8 | P360: 0 | Q360: 6 | R360: =A360 -> 福島県 | S360: =C360 -> 会津若松市 | T360: =D360&E360 -> 室井照平 | U360: =F360&G360&"."&H360&I360&"."&J360&K360 -> 31.08.06 | V360: =IF(AND(U360>=$R$2,U360<=$S$2),1,0) -> 0 | W360: =L360&M360&"."&N360&O360&"."&P360&Q360 -> 31.08.06 | X360: =IF(AND(W360>=$R$2,W360<=$S$2),1,0) -> 0 | Y360: =IF(OR(V360=1,X360=1),1,0) -> 0
A361: 福島県 | C361: 郡山市 | D361: 品川萬里 | F361: 2 | G361: 9 | H361: 0 | I361: 4 | J361: 2 | K361: 6 | L361: 3 | M361: 1 | N361: 0 | O361: 9 | P361: 0 | Q361: 3 | R361: =A361 -> 福島県 | S361: =C361 -> 郡山市 | T361: =D361&E361 -> 品川萬里 | U361: =F361&G361&"."&H361&I361&"."&J361&K361 -> 29.04.26 | V361: =IF(AND(U361>=$R$2,U361<=$S$2),1,0) -> 1 | W361: =L361&M361&"."&N361&O361&"."&P361&Q361 -> 31.09.03 | X361: =IF(AND(W361>=$R$2,W361<=$S$2),1,0) -> 0 | Y361: =IF(OR(V361=1,X361=1),1,0) -> 1
A362: 福島県 | C362: いわき市 | D362: 清水敏男 | F362: 2 | G362: 9 | H362: 0 | I362: 9 | J362: 2 | K362: 7 | L362: 3 | M362: 2 | N362: 0 | O362: 9 | P362: 3 | Q362: 0 | R362: =A362 -> 福島県 | S362: =C362 -> いわき市 | T362: =D362&E362 -> 清水敏男 | U362: =F362&G362&"."&H362&I362&"."&J362&K362 -> 29.09.27 | V362: =IF(AND(U362>=$R$2,U362<=$S$2),1,0) -> 1 | W362: =L362&M362&"."&N362&O362&"."&P362&Q362 -> 32.09.30 | X362: =IF(AND(W362>=$R$2,W362<=$S$2),1,0) -> 0 | Y362: =IF(OR(V362=1,X362=1),1,0) -> 1
A363: 福島県 | C363: 白河市 | D363: 鈴木和夫 | F363: 3 | G363: 1 | H363: 0 | I363: 7 | J363: 2 | K363: 8 | L363: 3 | M363: 1 | N363: 0 | O363: 7 | P363: 0 | Q363: 9 | R363: =A363 -> 福島県 | S363: =C363 -> 白河市 | T363: =D363&E363 -> 鈴木和夫 | U363: =F363&G363&"."&H363&I363&"."&J363&K363 -> 31.07.28 | V363: =IF(AND(U363>=$R$2,U363<=$S$2),1,0) -> 0 | W363: =L363&M363&"."&N363&O363&"."&P363&Q363 -> 31.07.09 | X363: =IF(AND(W363>=$R$2,W363<=$S$2),1,0) -> 0 | Y363: =IF(OR(V363=1,X363=1),1,0) -> 0
A364: 福島県 | C364: 須賀川市 | D364: 橋本克也 | F364: 3 | G364: 2 | H364: 0 | I364: 8 | J364: 1 | K364: 0 | L364: 3 | M364: 1 | N364: 0 | O364: 9 | P364: 0 | Q364: 3 | R364: =A364 -> 福島県 | S364: =C364 -> 須賀川市 | T364: =D364&E364 -> 橋本克也 | U364: =F364&G364&"."&H364&I364&"."&J364&K364 -> 32.08.10 | V364: =IF(AND(U364>=$R$2,U364<=$S$2),1,0) -> 0 | W364: =L364&M364&"."&N364&O364&"."&P364&Q364 -> 31.09.03 | X364: =IF(AND(W364>=$R$2,W364<=$S$2),1,0) -> 0 | Y364: =IF(OR(V364=1,X364=1),1,0) -> 0
A365: 福島県 | C365: 喜多方市 | D365: 山口信也 | F365: 3 | G365: 0 | H365: 0 | I365: 2 | J365: 1 | K365: 1 | L365: 3 | M365: 1 | N365: 0 | O365: 4 | P365: 2 | Q365: 9 | R365: =A365 -> 福島県 | S365: =C365 -> 喜多方市 | T365: =D365&E365 -> 山口信也 | U365: =F365&G365&"."&H365&I365&"."&J365&K365 -> 30.02.11 | V365: =IF(AND(U365>=$R$2,U365<=$S$2),1,0) -> 0 | W365: =L365&M365&"."&N365&O365&"."&P365&Q365 -> 31.04.29 | X365: =IF(AND(W365>=$R$2,W365<=$S$2),1,0) -> 0 | Y365: =IF(OR(V365=1,X365=1),1,0) -> 0
A366: 福島県 | C366: 相馬市 | D366: 立谷秀清 | F366: 3 | G366: 0 | H366: 0 | I366: 1 | J366: 1 | K366: 8 | L366: 3 | M366: 1 | N366: 1 | O366: 1 | P366: 1 | Q366: 9 | R366: =A366 -> 福島県 | S366: =C366 -> 相馬市 | T366: =D366&E366 -> 立谷秀清 | U366: =F366&G366&"."&H366&I366&"."&J366&K366 -> 30.01.18 | V366: =IF(AND(U366>=$R$2,U366<=$S$2),1,0) -> 0 | W366: =L366&M366&"."&N366&O366&"."&P366&Q366 -> 31.11.19 | X366: =IF(AND(W366>=$R$2,W366<=$S$2),1,0) -> 0 | Y366: =IF(OR(V366=1,X366=1),1,0) -> 0
...
