Workbook

Sheet 非木造_データ
N2: 192 | O2: 58 | P2: 11 | Q2: 25 | R2: 9 | S2: 4 | T2: 148 | U2: 40 | V2: 21 | W2: 88 | X2: 44 | Y2: 12 | Z2: 131 | AA2: 36 | AB2: 23 | AC2: 59 | AD2: 18 | AE2: 11 | AF2: 56 | AG2: 24 | AH2: 15 | AI2: 40 | AJ2: 14 | AK2: 11 | AL2: 10 | AM2: 10 | AN2: 2 | AO2: 32 | AP2: 9 | AQ2: 2 | AR2: 136 | AS2: 74 | AT2: 32 | AU2: 917 | AV2: 336 | AW2: 144
N3: 居住専用住宅 | Q3: 居住産業併用住宅 | T3: 事務所 | W3: 店舗 | Z3: 工場・作業場 | AC3: 倉庫 | AF3: 学校の校舎 | AI3: 病院・診療所 | AL3: 体育館 | AO3: ホテル・旅館 | AR3: その他 | AU3: 合計
N4: 1 | O4: 1 | P4: 1 | Q4: 2 | R4: 2 | S4: 2 | T4: 3 | U4: 3 | V4: 3 | W4: 4 | X4: 4 | Y4: 4 | Z4: 5 | AA4: 5 | AB4: 5 | AC4: 6 | AD4: 6 | AE4: 6 | AF4: 7 | AG4: 7 | AH4: 7 | AI4: 8 | AJ4: 8 | AK4: 8 | AL4: 9 | AM4: 9 | AN4: 9 | AO4: 10 | AP4: 10 | AQ4: 10 | AR4: 11 | AS4: 11 | AT4: 11
N5: 1 | O5: 2 | P5: 3 | Q5: 1 | R5: 2 | S5: 3 | T5: 1 | U5: 2 | V5: 3 | W5: 1 | X5: 2 | Y5: 3 | Z5: 1 | AA5: 2 | AB5: 3 | AC5: 1 | AD5: 2 | AE5: 3 | AF5: 1 | AG5: 2 | AH5: 3 | AI5: 1 | AJ5: 2 | AK5: 3 | AL5: 1 | AM5: 2 | AN5: 3 | AO5: 1 | AP5: 2 | AQ5: 3 | AR5: 1 | AS5: 2 | AT5: 3
N6: 11 | O6: 12 | P6: 13 | Q6: 21 | R6: 22 | S6: 23 | T6: 31 | U6: 32 | V6: 33 | W6: 41 | X6: 42 | Y6: 43 | Z6: 51 | AA6: 52 | AB6: 53 | AC6: 61 | AD6: 62 | AE6: 63 | AF6: 71 | AG6: 72 | AH6: 73 | AI6: 81 | AJ6: 82 | AK6: 83 | AL6: 91 | AM6: 92 | AN6: 93 | AO6: 101 | AP6: 102 | AQ6: 103 | AR6: 111 | AS6: 112 | AT6: 113
I7: ８．工事費（消費税を除く） | J7: （１） 建築工事費 | M7: 千円 | N7: 151964627 | O7: 36599963 | P7: 0 | Q7: 55104342 | R7: 8445206 | S7: 0 | T7: 2.3708826e+08 | U7: 71456609 | V7: 0 | W7: 37993879 | X7: 13463638 | Y7: 0 | Z7: 76696803 | AA7: 13815169 | AB7: 0 | AC7: 80001622 | AD7: 8039339 | AE7: 0 | AF7: 45763067 | AG7: 22112692 | AH7: 0 | AI7: 22398889 | AJ7: 5361242 | AK7: 0 | AL7: 2428228 | AM7: 2017236 | AN7: 0 | AO7: 32281634 | AP7: 6371603 | AQ7: 0 | AR7: 71322773 | AS7: 64645447 | AT7: 0 | AU7: 8.1304412e+08 | AV7: 252328144 | AW7: 0
J8: （２） 設備工事費 | M8: 千円 | N8: 46720805 | O8: 0 | P8: 856993 | Q8: 20362737 | R8: 0 | S8: 22155 | T8: 1.2640335e+08 | U8: 0 | V8: 14401492 | W8: 17878893 | X8: 0 | Y8: 4073089 | Z8: 37870399 | AA8: 0 | AB8: 11724352 | AC8: 19104364 | AD8: 0 | AE8: 7499748 | AF8: 19830369 | AG8: 0 | AH8: 5638558 | AI8: 12750052 | AJ8: 0 | AK8: 2695566 | AL8: 504700 | AM8: 0 | AN8: 24500 | AO8: 16784300 | AP8: 0 | AQ8: 796860 | AR8: 41085841 | AS8: 0 | AT8: 13370085 | AU8: 3.5929581e+08 | AV8: 0 | AW8: 61103398
J9: （３） 解体・撤去費 | M9: 千円 | N9: 1735337 | O9: 185711 | P9: 7660 | Q9: 149242 | R9: 132309 | S9: 0 | T9: 5618380 | U9: 1151668 | V9: 106247 | W9: 481555 | X9: 369301 | Y9: 0 | Z9: 984925 | AA9: 246948 | AB9: 13500 | AC9: 708904 | AD9: 79171 | AE9: 0 | AF9: 2116206 | AG9: 3242027 | AH9: 0 | AI9: 321489 | AJ9: 85888 | AK9: 38000 | AL9: 37177 | AM9: 90427 | AN9: 0 | AO9: 417637 | AP9: 119673 | AQ9: 0 | AR9: 570822 | AS9: 523280 | AT9: 13621 | AU9: 13141674 | AV9: 6226403 | AW9: 179028
J10: （４） 屋外施設費 | M10: 千円 | N10: 8533927 | O10: 1529933 | P10: 238 | Q10: 1254544 | R10: 379244 | S10: 0 | T10: 11391069 | U10: 2642485 | V10: 14076 | W10: 4437551 | X10: 1697421 | Y10: 89468 | Z10: 5408073 | AA10: 1054353 | AB10: 18724 | AC10: 6153167 | AD10: 686040 | AE10: 0 | AF10: 4012859 | AG10: 740946 | AH10: 14940 | AI10: 1620748.9 | AJ10: 247421 | AK10: 0 | AL10: 71830 | AM10: 941256 | AN10: 0 | AO10: 1079836.6 | AP10: 134851 | AQ10: 0 | AR10: 3910649.4 | AS10: 4775766 | AT10: 168278 | AU10: 47874255 | AV10: 14829716 | AW10: 305724
J11: （５） 共通（総合）仮設費 | M11: 千円 | N11: 8953478 | O11: 2261893 | P11: 27479 | Q11: 3336473 | R11: 467347 | S11: 0 | T11: 13577323 | U11: 1996626 | V11: 800392.49 | W11: 1956933 | X11: 653636 | Y11: 133303.9 | Z11: 4441716 | AA11: 651988 | AB11: 388015 | AC11: 4785292 | AD11: 318117 | AE11: 119718 | AF11: 3391610 | AG11: 3991099 | AH11: 188344.5 | AI11: 1243653 | AJ11: 224130 | AK11: 182970 | AL11: 111207 | AM11: 179088 | AN11: 948 | AO11: 2188330.4 | AP11: 398784 | AQ11: 79500 | AR11: 4347233.9 | AS11: 6095037 | AT11: 270643.54 | AU11: 48333249 | AV11: 17237745 | AW11: 2191314.4
J12: （６） 現場管理費 | M12: 千円 | N12: 16084744 | O12: 3565194 | P12: 88807 | Q12: 4470084 | R12: 795586 | S12: 1548 | T12: 25637634 | U12: 7790815 | V12: 1521414.9 | W12: 3495648 | X12: 1107092 | Y12: 306998.76 | Z12: 8136987 | AA12: 1067275 | AB12: 731658 | AC12: 6472897 | AD12: 511972 | AE12: 474383 | AF12: 5736253 | AG12: 6029133 | AH12: 634767.97 | AI12: 2068488 | AJ12: 338730 | AK12: 149997 | AL12: 289931 | AM12: 226697 | AN12: 4315 | AO12: 3040247.1 | AP12: 818735 | AQ12: 168892 | AR12: 7583430 | AS12: 10676823 | AT12: 937625.78 | AU12: 83016343 | AV12: 32928052 | AW12: 5020407.4
J13: （７） 工事原価 （（１）～（６）の計） | M13: 千円 | N13: 233992918 | O13: 44142694 | P13: 981177 | Q13: 84677422 | R13: 10219692 | S13: 23703 | T13: 4.1971601e+08 | U13: 85038203 | V13: 16843622 | W13: 66244459 | X13: 17291088 | Y13: 4602859.7 | Z13: 133538903 | AA13: 16835733 | AB13: 12876249 | AC13: 117226246 | AD13: 9634639 | AE13: 8093849 | AF13: 80850364 | AG13: 36115897 | AH13: 6476610.5 | AI13: 40403320 | AJ13: 6257411 | AK13: 3066533 | AL13: 3443073 | AM13: 3454704 | AN13: 29763 | AO13: 55791985 | AP13: 7843646 | AQ13: 1045252 | AR13: 1.2882075e+08 | AS13: 86716353 | AT13: 14760254 | AU13: 1.3647054e+09 | AV13: 323550060 | AW13: 68799872
J14: （８） 一般管理費等 | M14: 千円 | N14: 14406117 | O14: 3237667 | P14: 82084 | Q14: 4783916 | R14: 868248 | S14: 2065 | T14: 25873016 | U14: 4162217 | V14: 866791.51 | W14: 4190098 | X14: 1077328 | Y14: 491883.57 | Z14: 7177336 | AA14: 1253867 | AB14: 1016304 | AC14: 7016502 | AD14: 444280 | AE14: 1162170 | AF14: 4971708 | AG14: 7929926 | AH14: 214827.57 | AI14: 2055091.1 | AJ14: 381312 | AK14: 174662 | AL14: 196451 | AM14: 549402 | AN14: 2795 | AO14: 2760403 | AP14: 546226 | AQ14: 17748 | AR14: 7872682.6 | AS14: 1655813 | AT14: 1677984.4 | AU14: 81303321 | AV14: 22106286 | AW14: 5709315
J15: （９） 工事価格 | M15: 千円 | N15: 248399035 | O15: 47380361 | P15: 1063261 | Q15: 89461338 | R15: 11087940 | S15: 25768 | T15: 4.4558903e+08 | U15: 89200420 | V15: 17710414 | W15: 70434557 | X15: 18368416 | Y15: 5094743.2 | Z15: 140716239 | AA15: 18089600 | AB15: 13892553 | AC15: 124242748 | AD15: 10078919 | AE15: 9256019 | AF15: 85822072 | AG15: 44045823 | AH15: 6691438 | AI15: 42458411 | AJ15: 6638723 | AK15: 3241195 | AL15: 3639524 | AM15: 4004106 | AN15: 32558 | AO15: 58552388 | AP15: 8389872 | AQ15: 1063000 | AR15: 136693432 | AS15: 88372166 | AT15: 16438238 | AU15: 1.4460088e+09 | AV15: 345656346 | AW15: 74509187
I16: ８－１．建築工事費 | J16: 1．直接仮設 | N16: 6935614 | O16: 1562229 | P16: 0 | Q16: 1475318.8 | R16: 306802 | S16: 0 | T16: 8736670.5 | U16: 7291174 | V16: 0 | W16: 1929971 | X16: 676823 | Y16: 0 | Z16: 3607743 | AA16: 727920 | AB16: 0 | AC16: 3423063 | AD16: 422275 | AE16: 0 | AF16: 2157143.1 | AG16: 1802803 | AH16: 0 | AI16: 811056 | AJ16: 217014 | AK16: 0 | AL16: 161425 | AM16: 181522 | AN16: 0 | AO16: 1221269.1 | AP16: 267188 | AQ16: 0 | AR16: 2992914.7 | AS16: 2290953 | AT16: 0 | AU16: 33452188 | AV16: 15746703 | AW16: 0
J17: 2．土工 | K17: 計 | N17: 6592377 | O17: 1768811 | P17: 0 | Q17: 3718374.3 | R17: 278892 | S17: 0 | T17: 12324982 | U17: 2258258 | V17: 0 | W17: 1582356 | X17: 446140 | Y17: 0 | Z17: 2714155 | AA17: 423184 | AB17: 0 | AC17: 2414668 | AD17: 759281 | AE17: 0 | AF17: 1997058.2 | AG17: 315807 | AH17: 0 | AI17: 791572.08 | AJ17: 143340 | AK17: 0 | AL17: 55196 | AM17: 60397 | AN17: 0 | AO17: 1098671.2 | AP17: 256677 | AQ17: 0 | AR17: 2933545.3 | AS17: 6020969 | AT17: 0 | AU17: 36222956 | AV17: 12731756 | AW17: 0
L18: ①建設発生土の処理 | M18: 千円 | N18: 1892783 | O18: 363753.7 | P18: 0 | Q18: 1136970 | R18: 83531 | S18: 0 | T18: 2473100 | U18: 865036 | V18: 0 | W18: 314279.52 | X18: 93672.38 | Y18: 0 | Z18: 549852 | AA18: 107066.1 | AB18: 0 | AC18: 602765.22 | AD18: 257896 | AE18: 0 | AF18: 752361.78 | AG18: 107907 | AH18: 0 | AI18: 335513.8 | AJ18: 42280 | AK18: 0 | AL18: 21049 | AM18: 15714 | AN18: 0 | AO18: 360894.7 | AP18: 53619 | AQ18: 0 | AR18: 766514.78 | AS18: 3213170.1 | AT18: 0 | AU18: 9206083.8 | AV18: 5203645.3 | AW18: 0
L19: ②山留め | M19: 千円 | N19: 2766383.6 | O19: 632913.97 | P19: 0 | Q19: 1311298 | R19: 107616 | S19: 0 | T19: 5256456.1 | U19: 574606 | V19: 0 | W19: 328854.84 | X19: 117590.94 | Y19: 0 | Z19: 658419 | AA19: 88702 | AB19: 0 | AC19: 220929.04 | AD19: 8515 | AE19: 0 | AF19: 611675.56 | AG19: 72036 | AH19: 0 | AI19: 218261 | AJ19: 53637 | AK19: 0 | AL19: 7896 | AM19: 8654 | AN19: 0 | AO19: 380876.6 | AP19: 144741 | AQ19: 0 | AR19: 741015.8 | AS19: 1672731.1 | AT19: 0 | AU19: 12502066 | AV19: 3481743 | AW19: 0
L20: ③乗入れ構台 | M20: 千円 | N20: 289561.9 | O20: 48987 | P20: 0 | Q20: 292287 | R20: 0 | S20: 0 | T20: 767469.35 | U20: 441277 | V20: 0 | W20: 91687.16 | X20: 7275.57 | Y20: 0 | Z20: 45911 | AA20: 450 | AB20: 0 | AC20: 22778.41 | AD20: 200 | AE20: 0 | AF20: 110741.24 | AG20: 0 | AH20: 0 | AI20: 3865 | AJ20: 0 | AK20: 0 | AL20: 0 | AM20: 0 | AN20: 0 | AO20: 38960 | AP20: 13100 | AQ20: 0 | AR20: 6490.49 | AS20: 136326.4 | AT20: 0 | AU20: 1669751.5 | AV20: 647615.97 | AW20: 0
L21: ④根切り・床付け | M21: 千円 | N21: 798964.96 | O21: 514456.16 | P21: 0 | Q21: 308660.39 | R21: 45452 | S21: 0 | T21: 865806.74 | U21: 264415 | V21: 0 | W21: 256009.07 | X21: 83929.96 | Y21: 0 | Z21: 627467.8 | AA21: 73214 | AB21: 0 | AC21: 414434.52 | AD21: 371084 | AE21: 0 | AF21: 219705.63 | AG21: 64412 | AH21: 0 | AI21: 118296.73 | AJ21: 26899 | AK21: 0 | AL21: 6863 | AM21: 11577 | AN21: 0 | AO21: 134377.45 | AP21: 14630 | AQ21: 0 | AR21: 357059.23 | AS21: 262903.64 | AT21: 0 | AU21: 4107645.5 | AV21: 1732972.8 | AW21: 0
L22: ⑤上記以外の土工 | M22: 千円 | N22: 844683.5 | O22: 208700.17 | P22: 0 | Q22: 669158.92 | R22: 42293 | S22: 0 | T22: 2962150.3 | U22: 112924 | V22: 0 | W22: 591525.41 | X22: 143671.15 | Y22: 0 | Z22: 832505.2 | AA22: 153751.9 | AB22: 0 | AC22: 1153760.8 | AD22: 121586 | AE22: 0 | AF22: 302574.02 | AG22: 71452 | AH22: 0 | AI22: 115635.55 | AJ22: 20524 | AK22: 0 | AL22: 19388 | AM22: 24452 | AN22: 0 | AO22: 183562.5 | AP22: 30587 | AQ22: 0 | AR22: 1062465 | AS22: 735837.74 | AT22: 0 | AU22: 8737409.2 | AV22: 1665779 | AW22: 0
J23: 3．地業 | K23: 計 | N23: 9614728 | O23: 1977191 | P23: 0 | Q23: 1432848.9 | R23: 475097 | S23: 0 | T23: 6819877.4 | U23: 1071240 | V23: 0 | W23: 1829081 | X23: 546040 | Y23: 0 | Z23: 5942774 | AA23: 1019580 | AB23: 0 | AC23: 5168658 | AD23: 276555 | AE23: 0 | AF23: 2027641.6 | AG23: 606059 | AH23: 0 | AI23: 1120661.1 | AJ23: 244236 | AK23: 0 | AL23: 117631 | AM23: 145320 | AN23: 0 | AO23: 1603168 | AP23: 177625 | AQ23: 0 | AR23: 3951912.2 | AS23: 1688705 | AT23: 0 | AU23: 39628981 | AV23: 8227648 | AW23: 0
L24: ①既製コンクリート杭 | M24: 千円 | N24: 2266641.8 | O24: 578504 | P24: 0 | Q24: 386746 | R24: 224811 | S24: 0 | T24: 1608562.7 | U24: 206655.4 | V24: 0 | W24: 1159403.1 | X24: 236134.6 | Y24: 0 | Z24: 3543324.4 | AA24: 661087 | AB24: 0 | AC24: 4025092.5 | AD24: 234880 | AE24: 0 | AF24: 1239770.1 | AG24: 428868 | AH24: 0 | AI24: 837170 | AJ24: 198545 | AK24: 0 | AL24: 92944 | AM24: 68794 | AN24: 0 | AO24: 416743.6 | AP24: 33083 | AQ24: 0 | AR24: 2121551.1 | AS24: 701221.6 | AT24: 0 | AU24: 17697949 | AV24: 3572583.6 | AW24: 0
L25: ②場所打ちコンクリート杭 | M25: 千円 | N25: 6376608.4 | O25: 1227213 | P25: 0 | Q25: 907313.7 | R25: 174761 | S25: 0 | T25: 4535645.1 | U25: 347071.2 | V25: 0 | W25: 120636.4 | X25: 50613.8 | Y25: 0 | Z25: 294342 | AA25: 0 | AB25: 0 | AC25: 166283.6 | AD25: 703 | AE25: 0 | AF25: 418827.77 | AG25: 97278 | AH25: 0 | AI25: 81502 | AJ25: 0 | AK25: 0 | AL25: 0 | AM25: 34748 | AN25: 0 | AO25: 927786.48 | AP25: 111095 | AQ25: 0 | AR25: 621397.92 | AS25: 395907 | AT25: 0 | AU25: 14450343 | AV25: 2439390 | AW25: 0
L26: ③鋼杭 | M26: 千円 | N26: 349682.32 | O26: 75000 | P26: 0 | Q26: 23410 | R26: 9803 | S26: 0 | T26: 102248 | U26: 18592 | V26: 0 | W26: 14023.92 | X26: 17881.4 | Y26: 0 | Z26: 303063 | AA26: 54409 | AB26: 0 | AC26: 56849.48 | AD26: 0 | AE26: 0 | AF26: 29843.32 | AG26: 46244 | AH26: 0 | AI26: 17930 | AJ26: 0 | AK26: 0 | AL26: 0 | AM26: 0 | AN26: 0 | AO26: 58700 | AP26: 3050 | AQ26: 0 | AR26: 444795.12 | AS26: 14556 | AT26: 0 | AU26: 1400545.2 | AV26: 239535.4 | AW26: 0
L27: ④地盤改良 | M27: 千円 | N27: 391514.7 | O27: 38186.145 | P27: 0 | Q27: 101170.4 | R27: 33662 | S27: 0 | T27: 237372.15 | U27: 477165.4 | V27: 0 | W27: 428470.2 | X27: 204809.8 | Y27: 0 | Z27: 1302106 | AA27: 276586 | AB27: 0 | AC27: 718553.8 | AD27: 23424 | AE27: 0 | AF27: 115552.45 | AG27: 18418 | AH27: 0 | AI27: 132039.15 | AJ27: 35928 | AK27: 0 | AL27: 14260 | AM27: 34926 | AN27: 0 | AO27: 115374.5 | AP27: 13595 | AQ27: 0 | AR27: 540160.17 | AS27: 179404 | AT27: 0 | AU27: 4096573.5 | AV27: 1336104.3 | AW27: 0
L28: ⑤上記以外の地業 | M28: 千円 | N28: 230280.82 | O28: 58287.855 | P28: 0 | Q28: 14208.76 | R28: 32060 | S28: 0 | T28: 336049.41 | U28: 21756 | V28: 0 | W28: 106547.4 | X28: 36600.4 | Y28: 0 | Z28: 499938.6 | AA28: 27498 | AB28: 0 | AC28: 201878.6 | AD28: 17548 | AE28: 0 | AF28: 223647.95 | AG28: 15251 | AH28: 0 | AI28: 52020 | AJ28: 9763 | AK28: 0 | AL28: 10427 | AM28: 6852 | AN28: 0 | AO28: 84563.4 | AP28: 16802 | AQ28: 0 | AR28: 224007.91 | AS28: 397616.4 | AT28: 0 | AU28: 1983569.8 | AV28: 640034.66 | AW28: 0
J29: 4．鉄筋 | M29: 千円 | N29: 18167315 | O29: 4649688 | P29: 0 | Q29: 4044598 | R29: 1144194 | S29: 0 | T29: 8796038.9 | U29: 4841345 | V29: 0 | W29: 1593346 | X29: 572061 | Y29: 0 | Z29: 4139627 | AA29: 730286 | AB29: 0 | AC29: 5448514 | AD29: 757964 | AE29: 0 | AF29: 3544289.5 | AG29: 949958 | AH29: 0 | AI29: 1747539.2 | AJ29: 347196 | AK29: 0 | AL29: 124727 | AM29: 123249 | AN29: 0 | AO29: 1606018.6 | AP29: 368822 | AQ29: 0 | AR29: 4189813.3 | AS29: 3730348 | AT29: 0 | AU29: 53401826 | AV29: 18215111 | AW29: 0
J30: 5．コンクリート | M30: 千円 | N30: 14090727 | O30: 3674231 | P30: 0 | Q30: 3961696.6 | R30: 799500 | S30: 0 | T30: 9777711.6 | U30: 4757199 | V30: 0 | W30: 2034254 | X30: 757555 | Y30: 0 | Z30: 4905283 | AA30: 869698 | AB30: 0 | AC30: 6088470 | AD30: 755790 | AE30: 0 | AF30: 3123128.5 | AG30: 814782 | AH30: 0 | AI30: 1627241.1 | AJ30: 356398 | AK30: 0 | AL30: 141858 | AM30: 143168 | AN30: 0 | AO30: 1535917.6 | AP30: 385219 | AQ30: 0 | AR30: 4555948.6 | AS30: 4032970 | AT30: 0 | AU30: 51842236 | AV30: 17346510 | AW30: 0
J31: 6．型枠 | K31: 計 | N31: 16721069 | O31: 4622004 | P31: 0 | Q31: 2614299.9 | R31: 1102905 | S31: 0 | T31: 7269181 | U31: 3570057 | V31: 0 | W31: 1133839 | X31: 403358 | Y31: 0 | Z31: 2711734 | AA31: 483452 | AB31: 0 | AC31: 3766800 | AD31: 684374 | AE31: 0 | AF31: 3415756.9 | AG31: 1084449 | AH31: 0 | AI31: 2128057.3 | AJ31: 334549 | AK31: 0 | AL31: 133644 | AM31: 173925 | AN31: 0 | AO31: 1700081.5 | AP31: 391982 | AQ31: 0 | AR31: 4673442.7 | AS31: 3246496 | AT31: 0 | AU31: 46267905 | AV31: 16097551 | AW31: 0
L32: ①型枠用合板 | M32: 千円 | N32: 15776732 | O32: 4416417 | P32: 0 | Q32: 2336588.2 | R32: 1091347 | S32: 0 | T32: 5583317.1 | U32: 3344768.6 | V32: 0 | W32: 1017264.6 | X32: 367085.25 | Y32: 0 | Z32: 2401157 | AA32: 441882.12 | AB32: 0 | AC32: 2562613.7 | AD32: 460198 | AE32: 0 | AF32: 3078773.9 | AG32: 1028390 | AH32: 0 | AI32: 1990321.6 | AJ32: 294876 | AK32: 0 | AL32: 108362 | AM32: 151945 | AN32: 0 | AO32: 1533771 | AP32: 355380 | AQ32: 0 | AR32: 4050354.6 | AS32: 2386106.6 | AT32: 0 | AU32: 40439255 | AV32: 14338396 | AW32: 0
L33: ②フラットデッキ型枠 | M33: 千円 | N33: 25281.44 | O33: 30057 | P33: 0 | Q33: 218531 | R33: 0 | S33: 0 | T33: 1248183.3 | U33: 36845 | V33: 0 | W33: 70606.15 | X33: 22594.25 | Y33: 0 | Z33: 107881 | AA33: 1536 | AB33: 0 | AC33: 545074.1 | AD33: 167433 | AE33: 0 | AF33: 159911.81 | AG33: 29915 | AH33: 0 | AI33: 53077.5 | AJ33: 36137 | AK33: 0 | AL33: 1450 | AM33: 0 | AN33: 0 | AO33: 72488 | AP33: 22218 | AQ33: 0 | AR33: 320644.6 | AS33: 664684.1 | AT33: 0 | AU33: 2823128.9 | AV33: 1011419.3 | AW33: 0
L34: ③上記以外の型枠 | M34: 千円 | N34: 919055.72 | O34: 175530 | P34: 0 | Q34: 59180.75 | R34: 11558 | S34: 0 | T34: 437680.54 | U34: 188443.4 | V34: 0 | W34: 45968.3 | X34: 13678.5 | Y34: 0 | Z34: 202696 | AA34: 40033.88 | AB34: 0 | AC34: 659112.2 | AD34: 56743 | AE34: 0 | AF34: 177071.22 | AG34: 26144 | AH34: 0 | AI34: 84658.19 | AJ34: 3536 | AK34: 0 | AL34: 23832 | AM34: 21980 | AN34: 0 | AO34: 93822.5 | AP34: 14384 | AQ34: 0 | AR34: 302443.45 | AS34: 195705.34 | AT34: 0 | AU34: 3005520.9 | AV34: 747736.12 | AW34: 0
J35: 7．鉄骨 | K35: 計 | N35: 3317487 | O35: 309125 | P35: 0 | Q35: 2891902.8 | R35: 189460 | S35: 0 | T35: 67586012 | U35: 12511309 | V35: 0 | W35: 10856205 | X35: 3829220 | Y35: 0 | Z35: 24697974 | AA35: 4170559 | AB35: 0 | AC35: 32002430 | AD35: 2438876 | AE35: 0 | AF35: 8112343.7 | AG35: 1301900 | AH35: 0 | AI35: 2370936.8 | AJ35: 849913 | AK35: 0 | AL35: 506922 | AM35: 207503 | AN35: 0 | AO35: 5723100.6 | AP35: 784959 | AQ35: 0 | AR35: 15647601 | AS35: 19710527 | AT35: 0 | AU35: 1.7371291e+08 | AV35: 46303351 | AW35: 0
L36: ①鋼材（材料） | M36: 千円 | N36: 1085049.6 | O36: 112504.33 | P36: 0 | Q36: 1117993.8 | R36: 39334 | S36: 0 | T36: 19750021 | U36: 3945793.5 | V36: 0 | W36: 4434900.1 | X36: 950976.96 | Y36: 0 | Z36: 8951139.6 | AA36: 1489128.9 | AB36: 0 | AC36: 11593847 | AD36: 876394 | AE36: 0 | AF36: 3499207.7 | AG36: 573057 | AH36: 0 | AI36: 818318 | AJ36: 300883 | AK36: 0 | AL36: 159384 | AM36: 66196.072 | AN36: 0 | AO36: 2363196.7 | AP36: 298372 | AQ36: 0 | AR36: 6055844.9 | AS36: 6726778.1 | AT36: 0 | AU36: 59828903 | AV36: 15379418 | AW36: 0
L37: ②工場加工組立 | M37: 千円 | N37: 636660.25 | O37: 68441 | P37: 0 | Q37: 829437.56 | R37: 19801 | S37: 0 | T37: 22822969 | U37: 4342775 | V37: 0 | W37: 2378963.3 | X37: 1714902 | Y37: 0 | Z37: 6067968.4 | AA37: 961795.6 | AB37: 0 | AC37: 7013307.5 | AD37: 472567 | AE37: 0 | AF37: 1842378.8 | AG37: 279979 | AH37: 0 | AI37: 523928.6 | AJ37: 204593 | AK37: 0 | AL37: 181048 | AM37: 60408.08 | AN37: 0 | AO37: 1080849.9 | AP37: 181430 | AQ37: 0 | AR37: 3218498 | AS37: 5088107.5 | AT37: 0 | AU37: 46596009 | AV37: 13394799 | AW37: 0
L38: ③現場加工 （建方・溶接・塗装） | M38: 千円 | N38: 285267.17 | O38: 49927.672 | P38: 0 | Q38: 201850.41 | R38: 9360 | S38: 0 | T38: 5310738.3 | U38: 1089326.5 | V38: 0 | W38: 803649.2 | X38: 216134.74 | Y38: 0 | Z38: 2334021.4 | AA38: 390730.04 | AB38: 0 | AC38: 2489399.3 | AD38: 347031 | AE38: 0 | AF38: 658931.84 | AG38: 122820 | AH38: 0 | AI38: 171397 | AJ38: 74834 | AK38: 0 | AL38: 41217 | AM38: 28961.104 | AN38: 0 | AO38: 471216.17 | AP38: 71532 | AQ38: 0 | AR38: 1429188.7 | AS38: 1465299.1 | AT38: 0 | AU38: 14196876 | AV38: 3865956.2 | AW38: 0
L39: ④鉄骨運搬 | M39: 千円 | N39: 58886.39 | O39: 4177 | P39: 0 | Q39: 66400.58 | R39: 2732 | S39: 0 | T39: 979351.92 | U39: 101585 | V39: 0 | W39: 324241.88 | X39: 67629.58 | Y39: 0 | Z39: 685282.7 | AA39: 78730.46 | AB39: 0 | AC39: 1141888.1 | AD39: 72958 | AE39: 0 | AF39: 233531.38 | AG39: 22519 | AH39: 0 | AI39: 49289.4 | AJ39: 16694 | AK39: 0 | AL39: 21009 | AM39: 4279.584 | AN39: 0 | AO39: 117155.27 | AP39: 12676 | AQ39: 0 | AR39: 415400.61 | AS39: 365764.7 | AT39: 0 | AU39: 4092437.2 | AV39: 749745.32 | AW39: 0
L40: ⑤高力ボルト類 | M40: 千円 | N40: 30852.13 | O40: 4953 | P40: 0 | Q40: 43522.87 | R40: 1229 | S40: 0 | T40: 502451.64 | U40: 41786 | V40: 0 | W40: 201498.48 | X40: 51087.54 | Y40: 0 | Z40: 303545.5 | AA40: 99879.15 | AB40: 0 | AC40: 585669.5 | AD40: 25520 | AE40: 0 | AF40: 86416.66 | AG40: 12690 | AH40: 0 | AI40: 42766.6 | AJ40: 17369 | AK40: 0 | AL40: 6619 | AM40: 4083.16 | AN40: 0 | AO40: 71329 | AP40: 15000 | AQ40: 0 | AR40: 304738.14 | AS40: 157988.9 | AT40: 0 | AU40: 2179409.5 | AV40: 431585.75 | AW40: 0
L41: ⑥鉄骨足場 | M41: 千円 | N41: 47634.26 | O41: 10674 | P41: 0 | Q41: 64119.1 | R41: 3409 | S41: 0 | T41: 1032456.7 | U41: 111521 | V41: 0 | W41: 165470.18 | X41: 19679.08 | Y41: 0 | Z41: 327478.4 | AA41: 25632.06 | AB41: 0 | AC41: 570801.4 | AD41: 15543 | AE41: 0 | AF41: 109514.78 | AG41: 40666 | AH41: 0 | AI41: 82264.847 | AJ41: 29217 | AK41: 0 | AL41: 9157 | AM41: 1946 | AN41: 0 | AO41: 124755.46 | AP41: 13382 | AQ41: 0 | AR41: 294910.18 | AS41: 156974.8 | AT41: 0 | AU41: 2828562.3 | AV41: 428643.94 | AW41: 0
L42: ⑦耐火被覆板 | M42: 千円 | N42: 30706.13 | O42: 2054 | P42: 0 | Q42: 32341.182 | R42: 0 | S42: 0 | T42: 357812.64 | U42: 339740.5 | V42: 0 | W42: 12971.7 | X42: 10627.54 | Y42: 0 | Z42: 143409 | AA42: 0 | AB42: 0 | AC42: 741226.9 | AD42: 40833 | AE42: 0 | AF42: 91952.66 | AG42: 9388 | AH42: 0 | AI42: 9427 | AJ42: 0 | AK42: 0 | AL42: 7562 | AM42: 0 | AN42: 0 | AO42: 39403.97 | AP42: 15900 | AQ42: 0 | AR42: 211519.21 | AS42: 27432.9 | AT42: 0 | AU42: 1678332.4 | AV42: 445975.94 | AW42: 0
L43: ⑧耐火被覆吹付 | M43: 千円 | N43: 76981.26 | O43: 11934 | P43: 0 | Q43: 85950.662 | R43: 15921 | S43: 0 | T43: 2327802.5 | U43: 434898.5 | V43: 0 | W43: 365076.79 | X43: 84647.08 | Y43: 0 | Z43: 217784 | AA43: 31388.22 | AB43: 0 | AC43: 771939.8 | AD43: 31523 | AE43: 0 | AF43: 205765.26 | AG43: 52593 | AH43: 0 | AI43: 53478 | AJ43: 38515 | AK43: 0 | AL43: 0 | AM43: 0 | AN43: 0 | AO43: 231532.32 | AP43: 25570 | AQ43: 0 | AR43: 253900.34 | AS43: 459275.66 | AT43: 0 | AU43: 4590210.9 | AV43: 1186265.5 | AW43: 0
L44: ⑨上記以外の鉄骨 | M44: 千円 | N44: 1065449.9 | O44: 44460 | P44: 0 | Q44: 450286.62 | R44: 97674 | S44: 0 | T44: 14502409 | U44: 2103883 | V44: 0 | W44: 2169433.4 | X44: 713535.46 | Y44: 0 | Z44: 5667345 | AA44: 1093274.5 | AB44: 0 | AC44: 7094350.4 | AD44: 556507 | AE44: 0 | AF44: 1384644.7 | AG44: 188188 | AH44: 0 | AI44: 620067.36 | AJ44: 167808 | AK44: 0 | AL44: 80926 | AM44: 41629 | AN44: 0 | AO44: 1223661.9 | AP44: 151097 | AQ44: 0 | AR44: 3463600.6 | AS44: 5262905.4 | AT44: 0 | AU44: 37722174 | AV44: 10420961 | AW44: 0
J45: 8．既製コンクリート | K45: 計 | N45: 5421578 | O45: 586227 | P45: 0 | Q45: 11649982 | R45: 194440 | S45: 0 | T45: 9217766.6 | U45: 4746276 | V45: 0 | W45: 1376427 | X45: 469628 | Y45: 0 | Z45: 1830902 | AA45: 344877 | AB45: 0 | AC45: 3951948 | AD45: 136280 | AE45: 0 | AF45: 1021029.4 | AG45: 809562 | AH45: 0 | AI45: 351468.88 | AJ45: 171531 | AK45: 0 | AL45: 81525 | AM45: 23442 | AN45: 0 | AO45: 1962821.1 | AP45: 264982 | AQ45: 0 | AR45: 1584570.8 | AS45: 738905 | AT45: 0 | AU45: 38450019 | AV45: 8486150 | AW45: 0
L46: ①躯体PC板 | M46: 千円 | N46: 4177731.8 | O46: 293634 | P46: 0 | Q46: 9885349.7 | R46: 0 | S46: 0 | T46: 2481169.8 | U46: 4053100 | V46: 0 | W46: 85911.54 | X46: 1207 | Y46: 0 | Z46: 87373 | AA46: 40488.1 | AB46: 0 | AC46: 1964375.9 | AD46: 0 | AE46: 0 | AF46: 112328.34 | AG46: 534240 | AH46: 0 | AI46: 0 | AJ46: 0 | AK46: 0 | AL46: 0 | AM46: 0 | AN46: 0 | AO46: 11004 | AP46: 11110 | AQ46: 0 | AR46: 235301.64 | AS46: 420.6 | AT46: 0 | AU46: 19040546 | AV46: 4934199.7 | AW46: 0
L47: ②コンクリートブロック | M47: 千円 | N47: 40569.64 | O47: 9502 | P47: 0 | Q47: 6370.67 | R47: 452 | S47: 0 | T47: 18218.524 | U47: 622 | V47: 0 | W47: 6894.81 | X47: 6969.5 | Y47: 0 | Z47: 4645 | AA47: 21478.9 | AB47: 0 | AC47: 51096.35 | AD47: 0 | AE47: 0 | AF47: 8363.51 | AG47: 1858 | AH47: 0 | AI47: 12328.5 | AJ47: 3488 | AK47: 0 | AL47: 0 | AM47: 762 | AN47: 0 | AO47: 42281 | AP47: 15090 | AQ47: 0 | AR47: 28595.82 | AS47: 6710.9 | AT47: 0 | AU47: 219363.82 | AV47: 66933.3 | AW47: 0
L48: ③押出成形ｾﾒﾝﾄ板 ・穴あきPC板 | M48: 千円 | N48: 326850.2 | O48: 6486 | P48: 0 | Q48: 414319.33 | R48: 37572 | S48: 0 | T48: 4341940.8 | U48: 290299 | V48: 0 | W48: 227005.3 | X48: 120613.5 | Y48: 0 | Z48: 197508 | AA48: 41836 | AB48: 0 | AC48: 165974.5 | AD48: 75000 | AE48: 0 | AF48: 632583.75 | AG48: 189504 | AH48: 0 | AI48: 121295.38 | AJ48: 141457 | AK48: 0 | AL48: 74725 | AM48: 22680 | AN48: 0 | AO48: 1051188.9 | AP48: 212017 | AQ48: 0 | AR48: 564737.03 | AS48: 249774 | AT48: 0 | AU48: 8118128.2 | AV48: 1387238.5 | AW48: 0
L49: ④ＡＬＣパネル | M49: 千円 | N49: 851440.84 | O49: 247453 | P49: 0 | Q49: 1343642.7 | R49: 152016 | S49: 0 | T49: 1796755.5 | U49: 379076 | V49: 0 | W49: 961416.11 | X49: 307165.5 | Y49: 0 | Z49: 1170843 | AA49: 239321 | AB49: 0 | AC49: 1751972.9 | AD49: 60200 | AE49: 0 | AF49: 222494.81 | AG49: 30960 | AH49: 0 | AI49: 209531 | AJ49: 26586 | AK49: 0 | AL49: 6800 | AM49: 0 | AN49: 0 | AO49: 412169.22 | AP49: 12886 | AQ49: 0 | AR49: 709803.54 | AS49: 440872.9 | AT49: 0 | AU49: 9436869.6 | AV49: 1896536.4 | AW49: 0
L50: ⑤上記以外の既製ｺﾝｸﾘｰﾄ | M50: 千円 | N50: 24985.56 | O50: 29152 | P50: 0 | Q50: 300 | R50: 4400 | S50: 0 | T50: 579681.92 | U50: 23179 | V50: 0 | W50: 95199.24 | X50: 33672.5 | Y50: 0 | Z50: 370533 | AA50: 1753 | AB50: 0 | AC50: 18528.4 | AD50: 1080 | AE50: 0 | AF50: 45259.04 | AG50: 53000 | AH50: 0 | AI50: 8314 | AJ50: 0 | AK50: 0 | AL50: 0 | AM50: 0 | AN50: 0 | AO50: 446178 | AP50: 13879 | AQ50: 0 | AR50: 46132.79 | AS50: 41126.6 | AT50: 0 | AU50: 1635111.9 | AV50: 201242.1 | AW50: 0
J51: 9．防水 | K51: 計 | N51: 3116363 | O51: 841796 | P51: 0 | Q51: 778310.46 | R51: 202873 | S51: 0 | T51: 2561399.4 | U51: 843470 | V51: 0 | W51: 722147 | X51: 274253 | Y51: 0 | Z51: 1023878 | AA51: 153082 | AB51: 0 | AC51: 465654 | AD51: 82637 | AE51: 0 | AF51: 767843.23 | AG51: 277218 | AH51: 0 | AI51: 522582.14 | AJ51: 154705 | AK51: 0 | AL51: 58482 | AM51: 35099 | AN51: 0 | AO51: 424119.88 | AP51: 90472 | AQ51: 0 | AR51: 1412909.8 | AS51: 629316 | AT51: 0 | AU51: 11853689 | AV51: 3584921 | AW51: 0
L52: ①アスファルト防水 | M52: 千円 | N52: 832475.63 | O52: 205433 | P52: 0 | Q52: 235167.56 | R52: 86057 | S52: 0 | T52: 803027.61 | U52: 293542.1 | V52: 0 | W52: 183767.6 | X52: 84776.2 | Y52: 0 | Z52: 404952 | AA52: 23556.96 | AB52: 0 | AC52: 52736.35 | AD52: 64300 | AE52: 0 | AF52: 287134.09 | AG52: 91353 | AH52: 0 | AI52: 197984.92 | AJ52: 24199 | AK52: 0 | AL52: 2505 | AM52: 4995 | AN52: 0 | AO52: 154247.38 | AP52: 38632 | AQ52: 0 | AR52: 548243.56 | AS52: 243786.05 | AT52: 0 | AU52: 3702241.7 | AV52: 1160630.3 | AW52: 0
L53: ②シート防水 | M53: 千円 | N53: 147839.81 | O53: 16463.59 | P53: 0 | Q53: 19537.774 | R53: 4537 | S53: 0 | T53: 312001.51 | U53: 51278 | V53: 0 | W53: 191688.2 | X53: 61278.28 | Y53: 0 | Z53: 179303.4 | AA53: 14295 | AB53: 0 | AC53: 38286.45 | AD53: 560 | AE53: 0 | AF53: 53692.8 | AG53: 38099 | AH53: 0 | AI53: 63960 | AJ53: 70299 | AK53: 0 | AL53: 33265 | AM53: 16596 | AN53: 0 | AO53: 33988.14 | AP53: 3075 | AQ53: 0 | AR53: 150092.19 | AS53: 72608.75 | AT53: 0 | AU53: 1223655.3 | AV53: 349089.62 | AW53: 0
L54: ③モルタル防水 | M54: 千円 | N54: 90290.71 | O54: 8822.8651 | P54: 0 | Q54: 2700 | R54: 3329 | S54: 0 | T54: 1804.25 | U54: 969 | V54: 0 | W54: 201.2 | X54: 430.48 | Y54: 0 | Z54: 1163 | AA54: 0 | AB54: 0 | AC54: 1761.95 | AD54: 0 | AE54: 0 | AF54: 1185.8 | AG54: 167 | AH54: 0 | AI54: 246 | AJ54: 0 | AK54: 0 | AL54: 0 | AM54: 0 | AN54: 0 | AO54: 200 | AP54: 0 | AQ54: 0 | AR54: 5599.8 | AS54: 684.4 | AT54: 0 | AU54: 105152.71 | AV54: 14402.745 | AW54: 0
L55: ④塗膜防水 | M55: 千円 | N55: 945166.42 | O55: 254459 | P55: 0 | Q55: 254668.44 | R55: 44562 | S55: 0 | T55: 588181.11 | U55: 134158 | V55: 0 | W55: 165128.4 | X55: 56589.76 | Y55: 0 | Z55: 85284 | AA55: 37666.5 | AB55: 0 | AC55: 176394.9 | AD55: 1529 | AE55: 0 | AF55: 223151.34 | AG55: 53784 | AH55: 0 | AI55: 91730.625 | AJ55: 18459 | AK55: 0 | AL55: 1759 | AM55: 5358 | AN55: 0 | AO55: 84772.5 | AP55: 14631 | AQ55: 0 | AR55: 357734.8 | AS55: 121319.85 | AT55: 0 | AU55: 2973971.5 | AV55: 742516.11 | AW55: 0
L56: ⑤伸縮目地 | M56: 千円 | N56: 32407.62 | O56: 8682 | P56: 0 | Q56: 13668.292 | R56: 8954 | S56: 0 | T56: 90656.887 | U56: 52323 | V56: 0 | W56: 7462.4 | X56: 1955.92 | Y56: 0 | Z56: 19648 | AA56: 777.86 | AB56: 0 | AC56: 13493.9 | AD56: 1940 | AE56: 0 | AF56: 29280.833 | AG56: 5036 | AH56: 0 | AI56: 11634.258 | AJ56: 1050 | AK56: 0 | AL56: 0 | AM56: 960 | AN56: 0 | AO56: 14880.26 | AP56: 390 | AQ56: 0 | AR56: 21478.6 | AS56: 21087.8 | AT56: 0 | AU56: 254611.05 | AV56: 103156.58 | AW56: 0
L57: ⑥シーリング | M57: 千円 | N57: 956580.55 | O57: 306255.55 | P57: 0 | Q57: 215388.39 | R57: 45851 | S57: 0 | T57: 595756.51 | U57: 298452.6 | V57: 0 | W57: 103238 | X57: 33518.28 | Y57: 0 | Z57: 218080 | AA57: 48121.68 | AB57: 0 | AC57: 152865.75 | AD57: 11651 | AE57: 0 | AF57: 144356.33 | AG57: 53431 | AH57: 0 | AI57: 99806.34 | AJ57: 24184 | AK57: 0 | AL57: 10104 | AM57: 7049 | AN57: 0 | AO57: 120861.75 | AP57: 23272 | AQ57: 0 | AR57: 223638.01 | AS57: 97367.5 | AT57: 0 | AU57: 2840675.6 | AV57: 949153.61 | AW57: 0
L58: ⑦上記以外の防水 | M58: 千円 | N58: 111602.26 | O58: 41680 | P58: 0 | Q58: 37180 | R58: 9583 | S58: 0 | T58: 169971.5 | U58: 12747.3 | V58: 0 | W58: 70661.2 | X58: 35704.08 | Y58: 0 | Z58: 115447.6 | AA58: 28664 | AB58: 0 | AC58: 30114.7 | AD58: 2657 | AE58: 0 | AF58: 29042.04 | AG58: 35348 | AH58: 0 | AI58: 57220 | AJ58: 16514 | AK58: 0 | AL58: 10849 | AM58: 141 | AN58: 0 | AO58: 15169.84 | AP58: 10472 | AQ58: 0 | AR58: 106122.79 | AS58: 72461.65 | AT58: 0 | AU58: 753380.93 | AV58: 265972.03 | AW58: 0
J59: 10．石 | M59: 千円 | N59: 1215049 | O59: 256749 | P59: 0 | Q59: 358830.67 | R59: 31294 | S59: 0 | T59: 3912210 | U59: 1634976 | V59: 0 | W59: 159633 | X59: 44482 | Y59: 0 | Z59: 14673 | AA59: 14054 | AB59: 0 | AC59: 25241 | AD59: 0 | AE59: 0 | AF59: 154934.11 | AG59: 18332 | AH59: 0 | AI59: 149116 | AJ59: 18832 | AK59: 0 | AL59: 280 | AM59: 927 | AN59: 0 | AO59: 506289.39 | AP59: 80365 | AQ59: 0 | AR59: 308703 | AS59: 274633 | AT59: 0 | AU59: 6804959.1 | AV59: 2374644 | AW59: 0
J60: 11．タイル | M60: 千円 | N60: 3960589 | O60: 962320 | P60: 0 | Q60: 531989.05 | R60: 109233 | S60: 0 | T60: 913418.9 | U60: 125014 | V60: 0 | W60: 683320 | X60: 300557 | Y60: 0 | Z60: 120287 | AA60: 37654 | AB60: 0 | AC60: 55452 | AD60: 5950 | AE60: 0 | AF60: 501396.1 | AG60: 199157 | AH60: 0 | AI60: 315930.84 | AJ60: 72325 | AK60: 0 | AL60: 11107 | AM60: 12247 | AN60: 0 | AO60: 435373.21 | AP60: 109049 | AQ60: 0 | AR60: 853358.49 | AS60: 321383 | AT60: 0 | AU60: 8382221.6 | AV60: 2254889 | AW60: 0
J61: 12．木工 | M61: 千円 | N61: 5923341 | O61: 1515343 | P61: 0 | Q61: 789200.33 | R61: 158456 | S61: 0 | T61: 994361.47 | U61: 43538 | V61: 0 | W61: 322694 | X61: 149565 | Y61: 0 | Z61: 102600 | AA61: 21622 | AB61: 0 | AC61: 51038 | AD61: 79359 | AE61: 0 | AF61: 627813.2 | AG61: 351719 | AH61: 0 | AI61: 279421.31 | AJ61: 44547 | AK61: 0 | AL61: 60131 | AM61: 75203 | AN61: 0 | AO61: 548498.08 | AP61: 162674 | AQ61: 0 | AR61: 1371551.2 | AS61: 541801 | AT61: 0 | AU61: 11070650 | AV61: 3143827 | AW61: 0
J62: 13．屋根及びとい | K62: 計 | N62: 789613 | O62: 165925 | P62: 0 | Q62: 230857.47 | R62: 38929 | S62: 0 | T62: 1063085.2 | U62: 656236 | V62: 0 | W62: 1130746 | X62: 448100 | Y62: 0 | Z62: 3577357 | AA62: 687064 | AB62: 0 | AC62: 2759377 | AD62: 340715 | AE62: 0 | AF62: 344577.81 | AG62: 125062 | AH62: 0 | AI62: 244794.81 | AJ62: 54671 | AK62: 0 | AL62: 98282 | AM62: 102804 | AN62: 0 | AO62: 195531.5 | AP62: 15810 | AQ62: 0 | AR62: 1261502.5 | AS62: 367457 | AT62: 0 | AU62: 11695724 | AV62: 3002773 | AW62: 0
L63: ①金属板 | M63: 千円 | N63: 157339.04 | O63: 57057.994 | P63: 0 | Q63: 69351.81 | R63: 10490 | S63: 0 | T63: 427837.93 | U63: 279272.5 | V63: 0 | W63: 944682.8 | X63: 325199.56 | Y63: 0 | Z63: 2757952.1 | AA63: 507587.6 | AB63: 0 | AC63: 2212541.1 | AD63: 256021 | AE63: 0 | AF63: 200749.96 | AG63: 56302 | AH63: 0 | AI63: 133827.14 | AJ63: 36082 | AK63: 0 | AL63: 90646 | AM63: 85352 | AN63: 0 | AO63: 62407.282 | AP63: 900 | AQ63: 0 | AR63: 747815.68 | AS63: 238458.8 | AT63: 0 | AU63: 7805150.8 | AV63: 1852723.5 | AW63: 0
L64: ②瓦 | M64: 千円 | N64: 5490.53 | O64: 6873 | P64: 0 | Q64: 0 | R64: 0 | S64: 0 | T64: 1028.87 | U64: 0 | V64: 0 | W64: 116.35 | X64: 7000.61 | Y64: 0 | Z64: 2451.8 | AA64: 1037.85 | AB64: 0 | AC64: 5444.31 | AD64: 0 | AE64: 0 | AF64: 3810.22 | AG64: 0 | AH64: 0 | AI64: 3700 | AJ64: 0 | AK64: 0 | AL64: 0 | AM64: 0 | AN64: 0 | AO64: 38400 | AP64: 232 | AQ64: 0 | AR64: 21732.6 | AS64: 814.6 | AT64: 0 | AU64: 82174.68 | AV64: 15958.06 | AW64: 0
L65: ③ルーフドレイン | M65: 千円 | N65: 84493.34 | O65: 15644.046 | P65: 0 | Q65: 17291.79 | R65: 5091 | S65: 0 | T65: 27639.64 | U65: 5263 | V65: 0 | W65: 7120.7 | X65: 5288.9 | Y65: 0 | Z65: 32550.6 | AA65: 1543.95 | AB65: 0 | AC65: 10916.62 | AD65: 4340 | AE65: 0 | AF65: 7803.05 | AG65: 4982 | AH65: 0 | AI65: 8621.85 | AJ65: 4991 | AK65: 0 | AL65: 637 | AM65: 259 | AN65: 0 | AO65: 8225.49 | AP65: 2753 | AQ65: 0 | AR65: 15675.3 | AS65: 5684.2 | AT65: 0 | AU65: 220975.38 | AV65: 55840.096 | AW65: 0
L66: ④とい | M66: 千円 | N66: 498845.2 | O66: 84232.96 | P66: 0 | Q66: 143906.87 | R66: 22691 | S66: 0 | T66: 470094.45 | U66: 327317 | V66: 0 | W66: 108386.6 | X66: 38991.2 | Y66: 0 | Z66: 286784.5 | AA66: 62855.45 | AB66: 0 | AC66: 219192.96 | AD66: 14517 | AE66: 0 | AF66: 101361.72 | AG66: 44248 | AH66: 0 | AI66: 59027.2 | AJ66: 7024 | AK66: 0 | AL66: 5799 | AM66: 9904 | AN66: 0 | AO66: 74201.728 | AP66: 11789 | AQ66: 0 | AR66: 158440.54 | AS66: 95597.6 | AT66: 0 | AU66: 2126040.8 | AV66: 719167.21 | AW66: 0
L67: ⑤上記以外の屋根及びとい | M67: 千円 | N67: 43444.89 | O67: 2117 | P67: 0 | Q67: 307 | R67: 657 | S67: 0 | T67: 136484.31 | U67: 44383.5 | V67: 0 | W67: 70439.55 | X67: 71619.73 | Y67: 0 | Z67: 497618 | AA67: 114039.15 | AB67: 0 | AC67: 311282.03 | AD67: 65837 | AE67: 0 | AF67: 30852.86 | AG67: 19530 | AH67: 0 | AI67: 39618.62 | AJ67: 6574 | AK67: 0 | AL67: 1200 | AM67: 7289 | AN67: 0 | AO67: 12297 | AP67: 136 | AQ67: 0 | AR67: 317838.4 | AS67: 26901.8 | AT67: 0 | AU67: 1461382.7 | AV67: 359084.18 | AW67: 0
J68: 14．金属 | M68: 千円 | N68: 6908203 | O68: 1712451 | P68: 0 | Q68: 2932430.1 | R68: 639298 | S68: 0 | T68: 20506990 | U68: 4770514 | V68: 0 | W68: 2612005 | X68: 1005107 | Y68: 0 | Z68: 4246513 | AA68: 989468 | AB68: 0 | AC68: 3380171 | AD68: 197010 | AE68: 0 | AF68: 3630403.1 | AG68: 803537 | AH68: 0 | AI68: 1631223 | AJ68: 396287 | AK68: 0 | AL68: 166220 | AM68: 93927 | AN68: 0 | AO68: 2024770.9 | AP68: 619437 | AQ68: 0 | AR68: 5046732 | AS68: 3270986 | AT68: 0 | AU68: 53085661 | AV68: 14498022 | AW68: 0
J69: 15．左官 | M69: 千円 | N69: 4426758 | O69: 1220042 | P69: 0 | Q69: 707550.84 | R69: 269013 | S69: 0 | T69: 1754842.3 | U69: 829566 | V69: 0 | W69: 482877 | X69: 211080 | Y69: 0 | Z69: 895776 | AA69: 215323 | AB69: 0 | AC69: 1109822 | AD69: 114426 | AE69: 0 | AF69: 755052.58 | AG69: 1271509 | AH69: 0 | AI69: 498107.57 | AJ69: 77273 | AK69: 0 | AL69: 30989 | AM69: 36190 | AN69: 0 | AO69: 404784.45 | AP69: 139341 | AQ69: 0 | AR69: 1320359.5 | AS69: 601779 | AT69: 0 | AU69: 12386919 | AV69: 4985542 | AW69: 0
J70: 16．建具 | K70: 計 | N70: 13606963 | O70: 3282912 | P70: 0 | Q70: 4908460.3 | R70: 861559 | S70: 0 | T70: 19914940 | U70: 5993992 | V70: 0 | W70: 3138183 | X70: 1331239 | Y70: 0 | Z70: 5151520 | AA70: 1136598 | AB70: 0 | AC70: 3606245 | AD70: 256439 | AE70: 0 | AF70: 4696243.3 | AG70: 3264980 | AH70: 0 | AI70: 2730424.3 | AJ70: 646592 | AK70: 0 | AL70: 177245 | AM70: 134810 | AN70: 0 | AO70: 2721899.1 | AP70: 546086 | AQ70: 0 | AR70: 5630751.3 | AS70: 8486812 | AT70: 0 | AU70: 66282875 | AV70: 25942019 | AW70: 0
L71: ①アルミニウム製建具 | M71: 千円 | N71: 3698987.7 | O71: 988850.09 | P71: 0 | Q71: 1760671.4 | R71: 255526 | S71: 0 | T71: 5216250.2 | U71: 1491576.8 | V71: 0 | W71: 914994 | X71: 481811.13 | Y71: 0 | Z71: 1737895.6 | AA71: 517425.98 | AB71: 0 | AC71: 500505.1 | AD71: 76234 | AE71: 0 | AF71: 1784825.4 | AG71: 515220 | AH71: 0 | AI71: 803165.3 | AJ71: 229886 | AK71: 0 | AL71: 92378 | AM71: 66521 | AN71: 0 | AO71: 570036.8 | AP71: 133993 | AQ71: 0 | AR71: 1693358 | AS71: 4236969.9 | AT71: 0 | AU71: 18773068 | AV71: 8994013.9 | AW71: 0
L72: ②鋼製建具 | M72: 千円 | N72: 2937839.4 | O72: 831152.54 | P72: 0 | Q72: 1152171.8 | R72: 278769 | S72: 0 | T72: 5339390.6 | U72: 1023162 | V72: 0 | W72: 522632 | X72: 183519.53 | Y72: 0 | Z72: 1069248 | AA72: 154045.14 | AB72: 0 | AC72: 436035.96 | AD72: 33543 | AE72: 0 | AF72: 1197236.2 | AG72: 2311570 | AH72: 0 | AI72: 856373.6 | AJ72: 262633 | AK72: 0 | AL72: 31204 | AM72: 20145 | AN72: 0 | AO72: 922309.28 | AP72: 209230 | AQ72: 0 | AR72: 1317468.6 | AS72: 1062425.3 | AT72: 0 | AU72: 15781909 | AV72: 6370194.5 | AW72: 0
L73: ③ステンレス製建具 | M73: 千円 | N73: 566946.75 | O73: 117168 | P73: 0 | Q73: 156736.74 | R73: 28920 | S73: 0 | T73: 1929677 | U73: 420067 | V73: 0 | W73: 84913 | X73: 79253.26 | Y73: 0 | Z73: 99195 | AA73: 24477.58 | AB73: 0 | AC73: 88184 | AD73: 1950 | AE73: 0 | AF73: 117929.4 | AG73: 23691 | AH73: 0 | AI73: 111783.5 | AJ73: 24775 | AK73: 0 | AL73: 0 | AM73: 5800 | AN73: 0 | AO73: 200075.6 | AP73: 39370 | AQ73: 0 | AR73: 111731.3 | AS73: 284538.4 | AT73: 0 | AU73: 3467172.3 | AV73: 1050010.2 | AW73: 0
L74: ④シャッター | M74: 千円 | N74: 170930 | O74: 37336 | P74: 0 | Q74: 98932.3 | R74: 4649 | S74: 0 | T74: 1125540.8 | U74: 361585 | V74: 0 | W74: 781119 | X74: 193369.98 | Y74: 0 | Z74: 1193005.9 | AA74: 208058.74 | AB74: 0 | AC74: 1900810.5 | AD74: 75347 | AE74: 0 | AF74: 209433.3 | AG74: 63439 | AH74: 0 | AI74: 75162 | AJ74: 4314 | AK74: 0 | AL74: 950 | AM74: 3420 | AN74: 0 | AO74: 46649 | AP74: 7118 | AQ74: 0 | AR74: 280411 | AS74: 336985.12 | AT74: 0 | AU74: 5882943.8 | AV74: 1295621.8 | AW74: 0
L75: ⑤自動扉開閉装置 | M75: 千円 | N75: 202906.95 | O75: 32957 | P75: 0 | Q75: 29478 | R75: 12671 | S75: 0 | T75: 298750 | U75: 270884.6 | V75: 0 | W75: 64324 | X75: 23470.32 | Y75: 0 | Z75: 110869 | AA75: 8151.58 | AB75: 0 | AC75: 27387 | AD75: 14050 | AE75: 0 | AF75: 37361 | AG75: 13429 | AH75: 0 | AI75: 48153 | AJ75: 16905 | AK75: 0 | AL75: 290 | AM75: 650 | AN75: 0 | AO75: 69433.2 | AP75: 8015 | AQ75: 0 | AR75: 78146 | AS75: 37008.52 | AT75: 0 | AU75: 967098.15 | AV75: 438192.02 | AW75: 0
L76: ⑥上記以外の金属製建具 | M76: 千円 | N76: 887009.35 | O76: 77887 | P76: 0 | Q76: 212196.9 | R76: 21160 | S76: 0 | T76: 862237 | U76: 431606.6 | V76: 0 | W76: 189288 | X76: 139289.89 | Y76: 0 | Z76: 439674 | AA76: 84657.28 | AB76: 0 | AC76: 447287 | AD76: 30920 | AE76: 0 | AF76: 388713 | AG76: 75594 | AH76: 0 | AI76: 268304 | AJ76: 17821 | AK76: 0 | AL76: 240 | AM76: 821 | AN76: 0 | AO76: 263202 | AP76: 20980 | AQ76: 0 | AR76: 378337 | AS76: 109607.2 | AT76: 0 | AU76: 4336488.2 | AV76: 1010344 | AW76: 0
L77: ⑦木製建具 | M77: 千円 | N77: 2946227.5 | O77: 676196.46 | P77: 0 | Q77: 674745.2 | R77: 157396 | S77: 0 | T77: 215074.3 | U77: 19130 | V77: 0 | W77: 96820 | X77: 38774.46 | Y77: 0 | Z77: 89700.3 | AA77: 35790.1 | AB77: 0 | AC77: 42417 | AD77: 2102 | AE77: 0 | AF77: 154816 | AG77: 54145 | AH77: 0 | AI77: 202992.5 | AJ77: 15492 | AK77: 0 | AL77: 10368 | AM77: 13999 | AN77: 0 | AO77: 196208.9 | AP77: 56590 | AQ77: 0 | AR77: 717625 | AS77: 266079.52 | AT77: 0 | AU77: 5346994.8 | AV77: 1335694.5 | AW77: 0
L78: ⑧板ガラス | M78: 千円 | N78: 450143.8 | O78: 125982.91 | P78: 0 | Q78: 186670.51 | R78: 56203 | S78: 0 | T78: 1030653.9 | U78: 697632 | V78: 0 | W78: 278427 | X78: 117903.65 | Y78: 0 | Z78: 213806.9 | AA78: 38459.2 | AB78: 0 | AC78: 66622 | AD78: 16113 | AE78: 0 | AF78: 210280.02 | AG78: 44401 | AH78: 0 | AI78: 92311.182 | AJ78: 17795 | AK78: 0 | AL78: 5922 | AM78: 3840 | AN78: 0 | AO78: 104308.59 | AP78: 13468 | AQ78: 0 | AR78: 351556.34 | AS78: 291194.72 | AT78: 0 | AU78: 2990702.3 | AV78: 1422992.5 | AW78: 0
L79: ⑨複層ガラス | M79: 千円 | N79: 1159641.5 | O79: 263459 | P79: 0 | Q79: 490455.25 | R79: 36171 | S79: 0 | T79: 2344789 | U79: 820069 | V79: 0 | W79: 87899 | X79: 38641.27 | Y79: 0 | Z79: 145199 | AA79: 52134.28 | AB79: 0 | AC79: 56650 | AD79: 4364 | AE79: 0 | AF79: 385056.69 | AG79: 84999 | AH79: 0 | AI79: 141341.34 | AJ79: 42759 | AK79: 0 | AL79: 30947 | AM79: 14813 | AN79: 0 | AO79: 278924.19 | AP79: 49359 | AQ79: 0 | AR79: 394477.85 | AS79: 1792991.3 | AT79: 0 | AU79: 5515380.8 | AV79: 3199759.8 | AW79: 0
L80: ⑩上記以外のガラス | M80: 千円 | N80: 586330 | O80: 131923 | P80: 0 | Q80: 146402.19 | R80: 10094 | S80: 0 | T80: 1552577.6 | U80: 458279 | V80: 0 | W80: 117767 | X80: 35205.51 | Y80: 0 | Z80: 52926.3 | AA80: 13398.12 | AB80: 0 | AC80: 40346.48 | AD80: 1816 | AE80: 0 | AF80: 210592.27 | AG80: 78492 | AH80: 0 | AI80: 130837.92 | AJ80: 14212 | AK80: 0 | AL80: 4946 | AM80: 4801 | AN80: 0 | AO80: 70751.581 | AP80: 7963 | AQ80: 0 | AR80: 307640.22 | AS80: 69012.04 | AT80: 0 | AU80: 3221117.6 | AV80: 825195.67 | AW80: 0
J81: 17．カーテンウォール | K81: 計 | N81: 44435 | O81: 0 | P81: 0 | Q81: 52010 | R81: 0 | S81: 0 | T81: 17144537 | U81: 2969632 | V81: 0 | W81: 233684 | X81: 48225 | Y81: 0 | Z81: 185132 | AA81: 0 | AB81: 0 | AC81: 119841 | AD81: 0 | AE81: 0 | AF81: 546998.4 | AG81: 79834 | AH81: 0 | AI81: 72467 | AJ81: 23246 | AK81: 0 | AL81: 3555 | AM81: 1681 | AN81: 0 | AO81: 257285 | AP81: 26700 | AQ81: 0 | AR81: 620116.82 | AS81: 71209 | AT81: 0 | AU81: 19280062 | AV81: 3220527 | AW81: 0
L82: ①メタルカーテンウォール | M82: 千円 | N82: 44435 | O82: 0 | P82: 0 | Q82: 52010 | R82: 0 | S82: 0 | T82: 16162141 | U82: 2643074.2 | V82: 0 | W82: 233684 | X82: 48225 | Y82: 0 | Z82: 178879 | AA82: 0 | AB82: 0 | AC82: 119841 | AD82: 0 | AE82: 0 | AF82: 283522 | AG82: 79834 | AH82: 0 | AI82: 72467 | AJ82: 23246 | AK82: 0 | AL82: 3555 | AM82: 1681 | AN82: 0 | AO82: 257285 | AP82: 26700 | AQ82: 0 | AR82: 407789 | AS82: 71209 | AT82: 0 | AU82: 17815608 | AV82: 2893969.2 | AW82: 0
L83: ②ＰＣカーテンウォール | M83: 千円 | N83: 0 | O83: 0 | P83: 0 | Q83: 0 | R83: 0 | S83: 0 | T83: 982396 | U83: 326557.8 | V83: 0 | W83: 0 | X83: 0 | Y83: 0 | Z83: 6253 | AA83: 0 | AB83: 0 | AC83: 0 | AD83: 0 | AE83: 0 | AF83: 263476.4 | AG83: 0 | AH83: 0 | AI83: 0 | AJ83: 0 | AK83: 0 | AL83: 0 | AM83: 0 | AN83: 0 | AO83: 0 | AP83: 0 | AQ83: 0 | AR83: 212327.82 | AS83: 0 | AT83: 0 | AU83: 1464453.2 | AV83: 326557.8 | AW83: 0
J84: 18．塗装 | M84: 千円 | N84: 1601414 | O84: 510977 | P84: 0 | Q84: 567390.14 | R84: 117365 | S84: 0 | T84: 1850967 | U84: 552281 | V84: 0 | W84: 642796 | X84: 238430 | Y84: 0 | Z84: 1243242 | AA84: 271634 | AB84: 0 | AC84: 715183 | AD84: 120751 | AE84: 0 | AF84: 771910.49 | AG84: 579974 | AH84: 0 | AI84: 277848.69 | AJ84: 64217 | AK84: 0 | AL84: 55578 | AM84: 37227 | AN84: 0 | AO84: 283586.93 | AP84: 71663 | AQ84: 0 | AR84: 891177.38 | AS84: 418779 | AT84: 0 | AU84: 8901093.6 | AV84: 2983298 | AW84: 0
J85: 19．内外装 | K85: 計 | N85: 11846837 | O85: 3202706 | P85: 0 | Q85: 4990183.3 | R85: 807030 | S85: 0 | T85: 17533544 | U85: 4885671 | V85: 0 | W85: 3545318 | X85: 932073 | Y85: 0 | Z85: 5226055 | AA85: 894472 | AB85: 0 | AC85: 2455894 | AD85: 293250 | AE85: 0 | AF85: 3851681.7 | AG85: 3946028 | AH85: 0 | AI85: 2802580.7 | AJ85: 614929 | AK85: 0 | AL85: 296134 | AM85: 197108 | AN85: 0 | AO85: 3053718 | AP85: 862811 | AQ85: 0 | AR85: 6356667.2 | AS85: 3822839 | AT85: 0 | AU85: 61958613 | AV85: 20458917 | AW85: 0
L86: ①フローリング | M86: 千円 | N86: 2233600.4 | O86: 709651 | P86: 0 | Q86: 1065438 | R86: 60504 | S86: 0 | T86: 234679.34 | U86: 356797.9 | V86: 0 | W86: 85802.55 | X86: 159983.25 | Y86: 0 | Z86: 5638 | AA86: 113.5 | AB86: 0 | AC86: 8957.08 | AD86: 0 | AE86: 0 | AF86: 257032.03 | AG86: 137294 | AH86: 0 | AI86: 20453.4 | AJ86: 794 | AK86: 0 | AL86: 26832 | AM86: 45881 | AN86: 0 | AO86: 86692 | AP86: 12048 | AQ86: 0 | AR86: 187299.52 | AS86: 62012.3 | AT86: 0 | AU86: 4212424.4 | AV86: 1545078.9 | AW86: 0
L87: ②ビニル床タイル | M87: 千円 | N87: 142701.97 | O87: 7113 | P87: 0 | Q87: 34805.913 | R87: 17698 | S87: 0 | T87: 337971.34 | U87: 298629.9 | V87: 0 | W87: 279576.95 | X87: 82214.75 | Y87: 0 | Z87: 73655 | AA87: 5360.91 | AB87: 0 | AC87: 26163.32 | AD87: 3806 | AE87: 0 | AF87: 203794.93 | AG87: 33030 | AH87: 0 | AI87: 65288.378 | AJ87: 21030 | AK87: 0 | AL87: 4639 | AM87: 3666 | AN87: 0 | AO87: 56260.91 | AP87: 1175 | AQ87: 0 | AR87: 145157.02 | AS87: 155186.7 | AT87: 0 | AU87: 1370014.7 | AV87: 628910.26 | AW87: 0
L88: ③ビニル床シート | M88: 千円 | N88: 683738.45 | O88: 182537.16 | P88: 0 | Q88: 167358.8 | R88: 75710 | S88: 0 | T88: 330969.26 | U88: 57735 | V88: 0 | W88: 133563.25 | X88: 30010.95 | Y88: 0 | Z88: 269250.5 | AA88: 25159.11 | AB88: 0 | AC88: 65297.7 | AD88: 8244 | AE88: 0 | AF88: 294060.33 | AG88: 550370 | AH88: 0 | AI88: 272583.25 | AJ88: 86085 | AK88: 0 | AL88: 49639 | AM88: 5575 | AN88: 0 | AO88: 19201.14 | AP88: 12758 | AQ88: 0 | AR88: 517655.38 | AS88: 180573.5 | AT88: 0 | AU88: 2803317.1 | AV88: 1214757.7 | AW88: 0
L89: ④カーペット | M89: 千円 | N89: 122590.96 | O89: 16792 | P89: 0 | Q89: 86122.186 | R89: 9832 | S89: 0 | T89: 1533370.1 | U89: 532673.6 | V89: 0 | W89: 217766.6 | X89: 21647.4 | Y89: 0 | Z89: 85765 | AA89: 56125.73 | AB89: 0 | AC89: 60972.76 | AD89: 3871 | AE89: 0 | AF89: 204843.83 | AG89: 36506 | AH89: 0 | AI89: 35105.36 | AJ89: 11625 | AK89: 0 | AL89: 9 | AM89: 3062 | AN89: 0 | AO89: 348024.9 | AP89: 73917 | AQ89: 0 | AR89: 170377.62 | AS89: 224786.6 | AT89: 0 | AU89: 2864948.3 | AV89: 990838.33 | AW89: 0
L90: ⑤畳 | M90: 千円 | N90: 99125.5 | O90: 26231.978 | P90: 0 | Q90: 6555 | R90: 4921 | S90: 0 | T90: 3808.3 | U90: 818 | V90: 0 | W90: 2061 | X90: 1282 | Y90: 0 | Z90: 2583 | AA90: 158 | AB90: 0 | AC90: 632 | AD90: 132 | AE90: 0 | AF90: 3702.54 | AG90: 1259 | AH90: 0 | AI90: 2747.5 | AJ90: 860 | AK90: 0 | AL90: 1989 | AM90: 0 | AN90: 0 | AO90: 7097 | AP90: 67384 | AQ90: 0 | AR90: 18242.4 | AS90: 14939 | AT90: 0 | AU90: 148543.24 | AV90: 117984.98 | AW90: 0
L91: ⑥合成樹脂塗床 | M91: 千円 | N91: 30496.48 | O91: 2715.2479 | P91: 0 | Q91: 32833.03 | R91: 4628 | S91: 0 | T91: 225598.68 | U91: 139917 | V91: 0 | W91: 53753.3 | X91: 14511.1 | Y91: 0 | Z91: 507909 | AA91: 87725.6 | AB91: 0 | AC91: 126323.88 | AD91: 3994 | AE91: 0 | AF91: 36509.535 | AG91: 5936 | AH91: 0 | AI91: 11430.14 | AJ91: 1863 | AK91: 0 | AL91: 540 | AM91: 1317 | AN91: 0 | AO91: 11710.86 | AP91: 1005 | AQ91: 0 | AR91: 79827.802 | AS91: 53977.8 | AT91: 0 | AU91: 1116932.7 | AV91: 317589.75 | AW91: 0
L92: ⑦フリーアクセスフロア | M92: 千円 | N92: 680219.93 | O92: 161587 | P92: 0 | Q92: 381292.51 | R92: 23386 | S92: 0 | T92: 3045056 | U92: 687697 | V92: 0 | W92: 73570.55 | X92: 15340 | Y92: 0 | Z92: 347508 | AA92: 71083.39 | AB92: 0 | AC92: 93970.08 | AD92: 4729 | AE92: 0 | AF92: 303534.79 | AG92: 105176 | AH92: 0 | AI92: 57291.58 | AJ92: 13464 | AK92: 0 | AL92: 11820 | AM92: 12358 | AN92: 0 | AO92: 47944.11 | AP92: 46106 | AQ92: 0 | AR92: 529577.83 | AS92: 347074.3 | AT92: 0 | AU92: 5571785.4 | AV92: 1488000.7 | AW92: 0
L93: ⑧化粧合板 | M93: 千円 | N93: 61952.48 | O93: 13648.381 | P93: 0 | Q93: 31177 | R93: 6154 | S93: 0 | T93: 222224.72 | U93: 34181 | V93: 0 | W93: 67873.3 | X93: 18041.45 | Y93: 0 | Z93: 43503 | AA93: 7161.31 | AB93: 0 | AC93: 29310.88 | AD93: 1732 | AE93: 0 | AF93: 168091.08 | AG93: 37844 | AH93: 0 | AI93: 78459 | AJ93: 28074 | AK93: 0 | AL93: 69557 | AM93: 15093 | AN93: 0 | AO93: 6510 | AP93: 2660 | AQ93: 0 | AR93: 133219.21 | AS93: 205916.8 | AT93: 0 | AU93: 911877.67 | AV93: 370505.94 | AW93: 0
L94: ⑨石こうボード | M94: 千円 | N94: 2299756.3 | O94: 729907.88 | P94: 0 | Q94: 1188224 | R94: 209905 | S94: 0 | T94: 2872643.4 | U94: 783985 | V94: 0 | W94: 776261.65 | X94: 222923.8 | Y94: 0 | Z94: 957135.9 | AA94: 164211.15 | AB94: 0 | AC94: 472763.24 | AD94: 66092 | AE94: 0 | AF94: 777622.86 | AG94: 707413 | AH94: 0 | AI94: 629688.26 | AJ94: 252125 | AK94: 0 | AL94: 20277 | AM94: 15326 | AN94: 0 | AO94: 957916.88 | AP94: 253403 | AQ94: 0 | AR94: 1178591.5 | AS94: 546996.9 | AT94: 0 | AU94: 12130881 | AV94: 3952288.7 | AW94: 0
L95: ⑩ケイ酸カルシウム板 | M95: 千円 | N95: 202926.47 | O95: 33745.31 | P95: 0 | Q95: 71553.5 | R95: 21618 | S95: 0 | T95: 546066.06 | U95: 167000 | V95: 0 | W95: 120943.95 | X95: 30295.6 | Y95: 0 | Z95: 244830 | AA95: 19225.21 | AB95: 0 | AC95: 71824.82 | AD95: 15716 | AE95: 0 | AF95: 95628.697 | AG95: 150498 | AH95: 0 | AI95: 173592.12 | AJ95: 28868 | AK95: 0 | AL95: 2130 | AM95: 4436 | AN95: 0 | AO95: 57784.43 | AP95: 8671 | AQ95: 0 | AR95: 260007.68 | AS95: 40055.7 | AT95: 0 | AU95: 1847287.7 | AV95: 520128.82 | AW95: 0
L96: ⑪木毛セメント板 | M96: 千円 | N96: 3335 | O96: 0 | P96: 0 | Q96: 0 | R96: 0 | S96: 0 | T96: 34387 | U96: 0 | V96: 0 | W96: 5000 | X96: 1920 | Y96: 0 | Z96: 1334 | AA96: 0 | AB96: 0 | AC96: 250 | AD96: 690 | AE96: 0 | AF96: 1600 | AG96: 3204 | AH96: 0 | AI96: 4649 | AJ96: 100 | AK96: 0 | AL96: 0 | AM96: 547 | AN96: 0 | AO96: 775 | AP96: 0 | AQ96: 0 | AR96: 263 | AS96: 3108 | AT96: 0 | AU96: 51593 | AV96: 9569 | AW96: 0
L97: ⑫壁紙・ビニルクロス張り | M97: 千円 | N97: 1984376.9 | O97: 536135.66 | P97: 0 | Q97: 515621.8 | R97: 115556 | S97: 0 | T97: 921448.12 | U97: 57465 | V97: 0 | W97: 203764.85 | X97: 32145.6 | Y97: 0 | Z97: 176312.7 | AA97: 21414.01 | AB97: 0 | AC97: 72439.96 | AD97: 3956 | AE97: 0 | AF97: 87295.084 | AG97: 117591 | AH97: 0 | AI97: 271678.22 | AJ97: 45527 | AK97: 0 | AL97: 3589 | AM97: 229 | AN97: 0 | AO97: 402239.09 | AP97: 107872 | AQ97: 0 | AR97: 519128.76 | AS97: 188213.1 | AT97: 0 | AU97: 5157894.5 | AV97: 1226104.4 | AW97: 0
... L104: ⑲上記以外の内外装 | M104: 千円 | N104: 2077274.3 | O104: 513281.98 | P104: 0 | Q104: 988386.68 | R104: 162538 | S104: 0 | T104: 3840708.1 | U104: 744928.6 | V104: 0 | W104: 1171414.9 | X104: 178176.05 | Y104: 0 | Z104: 1645229.2 | AA104: 348703.14 | AB104: 0 | AC104: 1093025.6 | AD104: 151867 | AE104: 0 | AF104: 761403.47 | AG104: 1851846 | AH104: 0 | AI104: 746456.65 | AJ104: 63812 | AK104: 0 | AL104: 81206 | AM104: 71613 | AN104: 0 | AO104: 778709.57 | AP104: 210820 | AQ104: 0 | AR104: 1862053.6 | AS104: 1225852.7 | AT104: 0 | AU104: 15045868 | AV104: 5523438.5 | AW104: 0
J105: 20．ユニット | K105: 計 | N105: 11817788 | O105: 2927250 | P105: 0 | Q105: 5727007.7 | R105: 677875 | S105: 0 | T105: 11093670 | U105: 2141789 | V105: 0 | W105: 703415 | X105: 265572 | Y105: 0 | Z105: 1687064 | AA105: 151866 | AB105: 0 | AC105: 883174 | AD105: 85090 | AE105: 0 | AF105: 2242602.4 | AG105: 826926 | AH105: 0 | AI105: 1442608.9 | AJ105: 279608 | AK105: 0 | AL105: 77428 | AM105: 67832 | AN105: 0 | AO105: 4199998.4 | AP105: 683887 | AQ105: 0 | AR105: 3393332 | AS105: 3012065 | AT105: 0 | AU105: 43268088 | AV105: 11119760 | AW105: 0
L106: ①間仕切りユニット | M106: 千円 | N106: 22615 | O106: 48028 | P106: 0 | Q106: 387066.9 | R106: 22637 | S106: 0 | T106: 2111517.5 | U106: 199543 | V106: 0 | W106: 71059 | X106: 58016.31 | Y106: 0 | Z106: 650877 | AA106: 20554.52 | AB106: 0 | AC106: 102381.88 | AD106: 900 | AE106: 0 | AF106: 427813.4 | AG106: 117675 | AH106: 0 | AI106: 80471 | AJ106: 25253 | AK106: 0 | AL106: 1351 | AM106: 4537 | AN106: 0 | AO106: 48608.8 | AP106: 0 | AQ106: 0 | AR106: 290229.64 | AS106: 135134.1 | AT106: 0 | AU106: 4193991.1 | AV106: 632277.93 | AW106: 0
L107: ②収納ユニット | M107: 千円 | N107: 1192487.3 | O107: 305166 | P107: 0 | Q107: 817367.94 | R107: 84272 | S107: 0 | T107: 128886.19 | U107: 11135 | V107: 0 | W107: 7852 | X107: 9216.88 | Y107: 0 | Z107: 18563 | AA107: 251 | AB107: 0 | AC107: 27844 | AD107: 0 | AE107: 0 | AF107: 74852 | AG107: 77355 | AH107: 0 | AI107: 38785 | AJ107: 2530 | AK107: 0 | AL107: 4000 | AM107: 2720 | AN107: 0 | AO107: 206713 | AP107: 80 | AQ107: 0 | AR107: 109466.27 | AS107: 35797.6 | AT107: 0 | AU107: 2626816.7 | AV107: 528523.48 | AW107: 0
...

Sheet 非木造_合計
A2: 表1-1 平成27年建築工事費投入調査集計表（非木造_合計）
A4: （単位：千円） | E4: =非木造_データ!AU2 -> 917 | F4: =非木造_データ!AV2 -> 336 | G4: =非木造_データ!AW2 -> 144 | L4: =E4 -> 917 | M4: =F4 -> 336 | N4: =G4 -> 144
E5: 建築工事・ 設備工事 一貫受注 | F5: 建築工事 のみ受注 | G5: 設備工事 のみ受注 | L5: 建築工事・ 設備工事 一貫受注 | M5: 建築工事 のみ受注 | N5: 設備工事 のみ受注
A6: 工事費内訳 | B6: 1.建築工事費 | E6: =非木造_データ!AU7 -> 8.1304412e+08 | F6: =非木造_データ!AV7 -> 252328144 | G6: =非木造_データ!AW7 -> 0 | I6: 建築工事費科目別内訳(続き） | J6: 17.カーテンウォール | L6: =非木造_データ!AU81 -> 19280062 | M6: =非木造_データ!AV81 -> 3220527 | N6: =非木造_データ!AW81 -> 0
B7: 2.設備工事費 | E7: =非木造_データ!AU8 -> 3.5929581e+08 | F7: =非木造_データ!AV8 -> 0 | G7: =非木造_データ!AW8 -> 61103398 | K7: メタルカーテンウォール | L7: =非木造_データ!AU82 -> 17815608 | M7: =非木造_データ!AV82 -> 2893969.2 | N7: =非木造_データ!AW82 -> 0
B8: 3.解体・撤去費 | E8: =非木造_データ!AU9 -> 13141674 | F8: =非木造_データ!AV9 -> 6226403 | G8: =非木造_データ!AW9 -> 179028 | K8: ＰＣカーテンウォール | L8: =非木造_データ!AU83 -> 1464453.2 | M8: =非木造_データ!AV83 -> 326557.8 | N8: =非木造_データ!AW83 -> 0
B9: 4.屋外施設費 | E9: =非木造_データ!AU10 -> 47874255 | F9: =非木造_データ!AV10 -> 14829716 | G9: =非木造_データ!AW10 -> 305724 | J9: 18.塗装 | L9: =非木造_データ!AU84 -> 8901093.6 | M9: =非木造_データ!AV84 -> 2983298 | N9: =非木造_データ!AW84 -> 0
B10: 5.共通（総合）仮設費 | E10: =非木造_データ!AU11 -> 48333249 | F10: =非木造_データ!AV11 -> 17237745 | G10: =非木造_データ!AW11 -> 2191314.4 | J10: 19.内外装 | L10: =非木造_データ!AU85 -> 61958613 | M10: =非木造_データ!AV85 -> 20458917 | N10: =非木造_データ!AW85 -> 0
B11: 6.現場管理費 | E11: =非木造_データ!AU12 -> 83016343 | F11: =非木造_データ!AV12 -> 32928052 | G11: =非木造_データ!AW12 -> 5020407.4 | K11: フローリング | L11: =非木造_データ!AU86 -> 4212424.4 | M11: =非木造_データ!AV86 -> 1545078.9 | N11: =非木造_データ!AW86 -> 0
B12: 7.工事原価 | E12: =非木造_データ!AU13 -> 1.3647054e+09 | F12: =非木造_データ!AV13 -> 323550060 | G12: =非木造_データ!AW13 -> 68799872 | K12: ビニル床タイル | L12: =非木造_データ!AU87 -> 1370014.7 | M12: =非木造_データ!AV87 -> 628910.26 | N12: =非木造_データ!AW87 -> 0
B13: 8.一般管理費等 | E13: =非木造_データ!AU14 -> 81303321 | F13: =非木造_データ!AV14 -> 22106286 | G13: =非木造_データ!AW14 -> 5709315 | K13: ビニル床シート | L13: =非木造_データ!AU88 -> 2803317.1 | M13: =非木造_データ!AV88 -> 1214757.7 | N13: =非木造_データ!AW88 -> 0
A14: 9.工事価格 | E14: =非木造_データ!AU15 -> 1.4460088e+09 | F14: =非木造_データ!AV15 -> 345656346 | G14: =非木造_データ!AW15 -> 74509187 | K14: カーペット | L14: =非木造_データ!AU89 -> 2864948.3 | M14: =非木造_データ!AV89 -> 990838.33 | N14: =非木造_データ!AW89 -> 0
K15: 畳 | L15: =非木造_データ!AU90 -> 148543.24 | M15: =非木造_データ!AV90 -> 117984.98 | N15: =非木造_データ!AW90 -> 0
A16: 建築工事費科目別内訳 | B16: 1.直接仮設 | E16: =非木造_データ!AU16 -> 33452188 | F16: =非木造_データ!AV16 -> 15746703 | G16: =非木造_データ!AW16 -> 0 | K16: 合成樹脂塗床 | L16: =非木造_データ!AU91 -> 1116932.7 | M16: =非木造_データ!AV91 -> 317589.75 | N16: =非木造_データ!AW91 -> 0
B17: 2.土工 | E17: =非木造_データ!AU17 -> 36222956 | F17: =非木造_データ!AV17 -> 12731756 | G17: =非木造_データ!AW17 -> 0 | K17: フリーアクセスフロア | L17: =非木造_データ!AU92 -> 5571785.4 | M17: =非木造_データ!AV92 -> 1488000.7 | N17: =非木造_データ!AW92 -> 0
C18: 建設発生土の処理 | E18: =非木造_データ!AU18 -> 9206083.8 | F18: =非木造_データ!AV18 -> 5203645.3 | G18: =非木造_データ!AW18 -> 0 | K18: 化粧合板 | L18: =非木造_データ!AU93 -> 911877.67 | M18: =非木造_データ!AV93 -> 370505.94 | N18: =非木造_データ!AW93 -> 0
C19: 山留め | E19: =非木造_データ!AU19 -> 12502066 | F19: =非木造_データ!AV19 -> 3481743 | G19: =非木造_データ!AW19 -> 0 | K19: 石こうボード | L19: =非木造_データ!AU94 -> 12130881 | M19: =非木造_データ!AV94 -> 3952288.7 | N19: =非木造_データ!AW94 -> 0
C20: 乗入れ構台 | E20: =非木造_データ!AU20 -> 1669751.5 | F20: =非木造_データ!AV20 -> 647615.97 | G20: =非木造_データ!AW20 -> 0 | K20: ケイ酸カルシウム板 | L20: =非木造_データ!AU95 -> 1847287.7 | M20: =非木造_データ!AV95 -> 520128.82 | N20: =非木造_データ!AW95 -> 0
C21: 根切り・床付け | E21: =非木造_データ!AU21 -> 4107645.5 | F21: =非木造_データ!AV21 -> 1732972.8 | G21: =非木造_データ!AW21 -> 0 | K21: 木毛セメント板 | L21: =非木造_データ!AU96 -> 51593 | M21: =非木造_データ!AV96 -> 9569 | N21: =非木造_データ!AW96 -> 0
C22: 上記以外の土工 | E22: =非木造_データ!AU22 -> 8737409.2 | F22: =非木造_データ!AV22 -> 1665779 | G22: =非木造_データ!AW22 -> 0 | K22: 壁紙・ビニルクロス張り | L22: =非木造_データ!AU97 -> 5157894.5 | M22: =非木造_データ!AV97 -> 1226104.4 | N22: =非木造_データ!AW97 -> 0
B23: 3.地業 | E23: =非木造_データ!AU23 -> 39628981 | F23: =非木造_データ!AV23 -> 8227648 | G23: =非木造_データ!AW23 -> 0 | K23: ロックウール吸音板 | L23: =非木造_データ!AU98 -> 1111451.1 | M23: =非木造_データ!AV98 -> 313655.91 | N23: =非木造_データ!AW98 -> 0
C24: 既製コンクリート杭 | E24: =非木造_データ!AU24 -> 17697949 | F24: =非木造_データ!AV24 -> 3572583.6 | G24: =非木造_データ!AW24 -> 0 | K24: 断熱材（グラスウール） | L24: =非木造_データ!AU99 -> 2336108.2 | M24: =非木造_データ!AV99 -> 488043.63 | N24: =非木造_データ!AW99 -> 0
C25: 場所打ちコンクリート杭 | E25: =非木造_データ!AU25 -> 14450343 | F25: =非木造_データ!AV25 -> 2439390 | G25: =非木造_データ!AW25 -> 0 | K25: 合成樹脂発泡材打込み | L25: =非木造_データ!AU100 -> 1522166.7 | M25: =非木造_データ!AV100 -> 559778 | N25: =非木造_データ!AW100 -> 0
C26: 鋼杭 | E26: =非木造_データ!AU26 -> 1400545.2 | F26: =非木造_データ!AV26 -> 239535.4 | G26: =非木造_データ!AW26 -> 0 | K26: システム天井 | L26: =非木造_データ!AU101 -> 2057278.1 | M26: =非木造_データ!AV101 -> 744737.15 | N26: =非木造_データ!AW101 -> 0
C27: 地盤改良 | E27: =非木造_データ!AU27 -> 4096573.5 | F27: =非木造_データ!AV27 -> 1336104.3 | G27: =非木造_データ!AW27 -> 0 | K27: 幅木・廻り縁 | L27: =非木造_データ!AU102 -> 1235589.3 | M27: =非木造_データ!AV102 -> 270689.41 | N27: =非木造_データ!AW102 -> 0
C28: 上記以外の地業 | E28: =非木造_データ!AU28 -> 1983569.8 | F28: =非木造_データ!AV28 -> 640034.66 | G28: =非木造_データ!AW28 -> 0 | K28: 合成樹脂製品 | L28: =非木造_データ!AU103 -> 462651.47 | M28: =非木造_データ!AV103 -> 176816.9 | N28: =非木造_データ!AW103 -> 0
B29: 4.鉄筋 | E29: =非木造_データ!AU29 -> 53401826 | F29: =非木造_データ!AV29 -> 18215111 | G29: =非木造_データ!AW29 -> 0 | K29: 上記以外の内外装 | L29: =非木造_データ!AU104 -> 15045868 | M29: =非木造_データ!AV104 -> 5523438.5 | N29: =非木造_データ!AW104 -> 0
B30: 5.コンクリート | E30: =非木造_データ!AU30 -> 51842236 | F30: =非木造_データ!AV30 -> 17346510 | G30: =非木造_データ!AW30 -> 0 | J30: 20.ユニット | L30: =非木造_データ!AU105 -> 43268088 | M30: =非木造_データ!AV105 -> 11119760 | N30: =非木造_データ!AW105 -> 0
B31: 6.型枠 | E31: =非木造_データ!AU31 -> 46267905 | F31: =非木造_データ!AV31 -> 16097551 | G31: =非木造_データ!AW31 -> 0 | K31: 間仕切ユニット | L31: =非木造_データ!AU106 -> 4193991.1 | M31: =非木造_データ!AV106 -> 632277.93 | N31: =非木造_データ!AW106 -> 0
C32: 型枠用合板 | E32: =非木造_データ!AU32 -> 40439255 | F32: =非木造_データ!AV32 -> 14338396 | G32: =非木造_データ!AW32 -> 0 | K32: 収納ユニット | L32: =非木造_データ!AU107 -> 2626816.7 | M32: =非木造_データ!AV107 -> 528523.48 | N32: =非木造_データ!AW107 -> 0
C33: フラットデッキ型枠 | E33: =非木造_データ!AU33 -> 2823128.9 | F33: =非木造_データ!AV33 -> 1011419.3 | G33: =非木造_データ!AW33 -> 0 | K33: 造作家具 | L33: =非木造_データ!AU108 -> 5469964.6 | M33: =非木造_データ!AV108 -> 2011687.1 | N33: =非木造_データ!AW108 -> 0
C34: 上記以外の型枠 | E34: =非木造_データ!AU34 -> 3005520.9 | F34: =非木造_データ!AV34 -> 747736.12 | G34: =非木造_データ!AW34 -> 0 | K34: キッチンユニット・吊戸棚 | L34: =非木造_データ!AU109 -> 6428986.2 | M34: =非木造_データ!AV109 -> 1350234.4 | N34: =非木造_データ!AW109 -> 0
B35: 7.鉄骨 | E35: =非木造_データ!AU35 -> 1.7371291e+08 | F35: =非木造_データ!AV35 -> 46303351 | G35: =非木造_データ!AW35 -> 0 | K35: 浴槽・ユニットバス | L35: =非木造_データ!AU110 -> 6818318.3 | M35: =非木造_データ!AV110 -> 1519529.7 | N35: =非木造_データ!AW110 -> 0
C36: 鋼材（材料） | E36: =非木造_データ!AU36 -> 59828903 | F36: =非木造_データ!AV36 -> 15379418 | G36: =非木造_データ!AW36 -> 0 | K36: 洗面台・防水パン | L36: =非木造_データ!AU111 -> 3195062.8 | M36: =非木造_データ!AV111 -> 569179.11 | N36: =非木造_データ!AW111 -> 0
C37: 工場加工組立 | E37: =非木造_データ!AU37 -> 46596009 | F37: =非木造_データ!AV37 -> 13394799 | G37: =非木造_データ!AW37 -> 0 | K37: ブラインド・カーテン | L37: =非木造_データ!AU112 -> 2133684.8 | M37: =非木造_データ!AV112 -> 656510.44 | N37: =非木造_データ!AW112 -> 0
C38: 現場加工（建方・溶接・塗装） | E38: =非木造_データ!AU38 -> 14196876 | F38: =非木造_データ!AV38 -> 3865956.2 | G38: =非木造_データ!AW38 -> 0 | K38: 上記以外のユニット | L38: =非木造_データ!AU113 -> 12401264 | M38: =非木造_データ!AV113 -> 3851817.9 | N38: =非木造_データ!AW113 -> 0
C39: 鉄骨運搬 | E39: =非木造_データ!AU39 -> 4092437.2 | F39: =非木造_データ!AV39 -> 749745.32 | G39: =非木造_データ!AW39 -> 0 | J39: 21.その他 | L39: =非木造_データ!AU114 -> 25094539 | M39: =非木造_データ!AV114 -> 11604225 | N39: =非木造_データ!AW114 -> 0
C40: 高力ボルト類 | E40: =非木造_データ!AU40 -> 2179409.5 | F40: =非木造_データ!AV40 -> 431585.75 | G40: =非木造_データ!AW40 -> 0 | I40: 建築工事費合計 | L40: =非木造_データ!AU115 -> 8.1304412e+08 | M40: =非木造_データ!AV115 -> 252328144 | N40: =非木造_データ!AW115 -> 0
C41: 鉄骨足場 | E41: =非木造_データ!AU41 -> 2828562.3 | F41: =非木造_データ!AV41 -> 428643.94 | G41: =非木造_データ!AW41 -> 0
C42: 耐火被覆板 | E42: =非木造_データ!AU42 -> 1678332.4 | F42: =非木造_データ!AV42 -> 445975.94 | G42: =非木造_データ!AW42 -> 0 | I42: 設備工事費科目別内訳 | J42: 1.電気 | L42: =非木造_データ!AU116 -> 1.4220624e+08 | M42: =非木造_データ!AV116 -> 0 | N42: =非木造_データ!AW116 -> 31840673
C43: 耐火被覆吹付 | E43: =非木造_データ!AU43 -> 4590210.9 | F43: =非木造_データ!AV43 -> 1186265.5 | G43: =非木造_データ!AW43 -> 0 | K43: 受変電・電力引込 | L43: =非木造_データ!AU117 -> 20902570 | M43: =非木造_データ!AV117 -> 0 | N43: =非木造_データ!AW117 -> 6521797.8
C44: 上記以外の鉄骨 | E44: =非木造_データ!AU44 -> 37722174 | F44: =非木造_データ!AV44 -> 10420961 | G44: =非木造_データ!AW44 -> 0 | K44: 幹線・動力 | L44: =非木造_データ!AU118 -> 27766318 | M44: =非木造_データ!AV118 -> 0 | N44: =非木造_データ!AW118 -> 7093570
B45: 8.既製コンクリート | E45: =非木造_データ!AU45 -> 38450019 | F45: =非木造_データ!AV45 -> 8486150 | G45: =非木造_データ!AW45 -> 0 | K45: 電灯コンセント | L45: =非木造_データ!AU119 -> 20221718 | M45: =非木造_データ!AV119 -> 0 | N45: =非木造_データ!AW119 -> 3725622.6
C46: 躯体ＰＣ板 | E46: =非木造_データ!AU46 -> 19040546 | F46: =非木造_データ!AV46 -> 4934199.7 | G46: =非木造_データ!AW46 -> 0 | K46: 照明器具 | L46: =非木造_データ!AU120 -> 16034878 | M46: =非木造_データ!AV120 -> 0 | N46: =非木造_データ!AW120 -> 1565313.8
C47: コンクリートブロック | E47: =非木造_データ!AU47 -> 219363.82 | F47: =非木造_データ!AV47 -> 66933.3 | G47: =非木造_データ!AW47 -> 0 | K47: 電話・電話配管・IT設備 | L47: =非木造_データ!AU121 -> 6875192.2 | M47: =非木造_データ!AV121 -> 0 | N47: =非木造_データ!AW121 -> 2727901.2
C48: 押出成形ｾﾒﾝﾄ板・穴あきPC板 | E48: =非木造_データ!AU48 -> 8118128.2 | F48: =非木造_データ!AV48 -> 1387238.5 | G48: =非木造_データ!AW48 -> 0 | K48: テレビ共聴 | L48: =非木造_データ!AU122 -> 2314334 | M48: =非木造_データ!AV122 -> 0 | N48: =非木造_データ!AW122 -> 159053.4
C49: ＡＬＣパネル | E49: =非木造_データ!AU49 -> 9436869.6 | F49: =非木造_データ!AV49 -> 1896536.4 | G49: =非木造_データ!AW49 -> 0 | K49: インターホン・拡声 | L49: =非木造_データ!AU123 -> 4095133.3 | M49: =非木造_データ!AV123 -> 0 | N49: =非木造_データ!AW123 -> 564832.8
C50: 上記以外の既製ｺﾝｸﾘｰﾄ | E50: =非木造_データ!AU50 -> 1635111.9 | F50: =非木造_データ!AV50 -> 201242.1 | G50: =非木造_データ!AW50 -> 0 | K50: 防災 | L50: =非木造_データ!AU124 -> 8074801.1 | M50: =非木造_データ!AV124 -> 0 | N50: =非木造_データ!AW124 -> 1238521.8
B51: 9.防水 | E51: =非木造_データ!AU51 -> 11853689 | F51: =非木造_データ!AV51 -> 3584921 | G51: =非木造_データ!AW51 -> 0 | K51: 避雷針 | L51: =非木造_データ!AU125 -> 788807.34 | M51: =非木造_データ!AV125 -> 0 | N51: =非木造_データ!AW125 -> 166738
C52: アスファルト防水 | E52: =非木造_データ!AU52 -> 3702241.7 | F52: =非木造_データ!AV52 -> 1160630.3 | G52: =非木造_データ!AW52 -> 0 | K52: 蓄電池 | L52: =非木造_データ!AU126 -> 1780810.6 | M52: =非木造_データ!AV126 -> 0 | N52: =非木造_データ!AW126 -> 213780.8
C53: シート防水 | E53: =非木造_データ!AU53 -> 1223655.3 | F53: =非木造_データ!AV53 -> 349089.62 | G53: =非木造_データ!AW53 -> 0 | K53: 屋外施設の電気設備（外灯、門灯） | L53: =非木造_データ!AU127 -> 1891663.2 | M53: =非木造_データ!AV127 -> 0 | N53: =非木造_データ!AW127 -> 366979
C54: モルタル防水 | E54: =非木造_データ!AU54 -> 105152.71 | F54: =非木造_データ!AV54 -> 14402.745 | G54: =非木造_データ!AW54 -> 0 | K54: 上記以外の電気設備 | L54: =非木造_データ!AU128 -> 21941737 | M54: =非木造_データ!AV128 -> 0 | N54: =非木造_データ!AW128 -> 5661960.2
C55: 塗膜防水 | E55: =非木造_データ!AU55 -> 2973971.5 | F55: =非木造_データ!AV55 -> 742516.11 | G55: =非木造_データ!AW55 -> 0 | J55: 2.空調 | L55: =非木造_データ!AU129 -> 98393882 | M55: =非木造_データ!AV129 -> 0 | N55: =非木造_データ!AW129 -> 12228218
C56: 伸縮目地 | E56: =非木造_データ!AU56 -> 254611.05 | F56: =非木造_データ!AV56 -> 103156.58 | G56: =非木造_データ!AW56 -> 0 | K56: 空調機器 | L56: =非木造_データ!AU130 -> 32775543 | M56: =非木造_データ!AV130 -> 0 | N56: =非木造_データ!AW130 -> 4023532
C57: シーリング | E57: =非木造_データ!AU57 -> 2840675.6 | F57: =非木造_データ!AV57 -> 949153.61 | G57: =非木造_データ!AW57 -> 0 | K57: ダクト | L57: =非木造_データ!AU131 -> 14278097 | M57: =非木造_データ!AV131 -> 0 | N57: =非木造_データ!AW131 -> 1675157.4
C58: 上記以外の防水 | E58: =非木造_データ!AU58 -> 753380.93 | F58: =非木造_データ!AV58 -> 265972.03 | G58: =非木造_データ!AW58 -> 0 | K58: 空調配管 | L58: =非木造_データ!AU132 -> 15690219 | M58: =非木造_データ!AV132 -> 0 | N58: =非木造_データ!AW132 -> 2299932.8
B59: 10.石 | E59: =非木造_データ!AU59 -> 6804959.1 | F59: =非木造_データ!AV59 -> 2374644 | G59: =非木造_データ!AW59 -> 0 | K59: 自動制御 | L59: =非木造_データ!AU133 -> 10308941 | M59: =非木造_データ!AV133 -> 0 | N59: =非木造_データ!AW133 -> 1490961.7
B60: 11.タイル | E60: =非木造_データ!AU60 -> 8382221.6 | F60: =非木造_データ!AV60 -> 2254889 | G60: =非木造_データ!AW60 -> 0 | K60: 換気 | L60: =非木造_データ!AU134 -> 14842451 | M60: =非木造_データ!AV134 -> 0 | N60: =非木造_データ!AW134 -> 1500510
B61: 12.木工 | E61: =非木造_データ!AU61 -> 11070650 | F61: =非木造_データ!AV61 -> 3143827 | G61: =非木造_データ!AW61 -> 0 | K61: 床暖房 | L61: =非木造_データ!AU135 -> 1582433.7 | M61: =非木造_データ!AV135 -> 0 | N61: =非木造_データ!AW135 -> 56856
B62: 13.屋根及びとい | E62: =非木造_データ!AU62 -> 11695724 | F62: =非木造_データ!AV62 -> 3002773 | G62: =非木造_データ!AW62 -> 0 | K62: 上記以外の空調設備 | L62: =非木造_データ!AU136 -> 8041912.9 | M62: =非木造_データ!AV136 -> 0 | N62: =非木造_データ!AW136 -> 1164695
C63: 金属板 | E63: =非木造_データ!AU63 -> 7805150.8 | F63: =非木造_データ!AV63 -> 1852723.5 | G63: =非木造_データ!AW63 -> 0 | J63: 3.衛生 | L63: =非木造_データ!AU137 -> 77765051 | M63: =非木造_データ!AV137 -> 0 | N63: =非木造_データ!AW137 -> 4725744
C64: 瓦 | E64: =非木造_データ!AU64 -> 82174.68 | F64: =非木造_データ!AV64 -> 15958.06 | G64: =非木造_データ!AW64 -> 0 | K64: 給水 | L64: =非木造_データ!AU138 -> 12920546 | M64: =非木造_データ!AV138 -> 0 | N64: =非木造_データ!AW138 -> 701593
C65: ルーフドレイン | E65: =非木造_データ!AU65 -> 220975.38 | F65: =非木造_データ!AV65 -> 55840.096 | G65: =非木造_データ!AW65 -> 0 | K65: 給湯 | L65: =非木造_データ!AU139 -> 5469488.8 | M65: =非木造_データ!AV139 -> 0 | N65: =非木造_データ!AW139 -> 240014
C66: とい | E66: =非木造_データ!AU66 -> 2126040.8 | F66: =非木造_データ!AV66 -> 719167.21 | G66: =非木造_データ!AW66 -> 0 | K66: 排水通気 | L66: =非木造_データ!AU140 -> 16936360 | M66: =非木造_データ!AV140 -> 0 | N66: =非木造_データ!AW140 -> 903964
C67: 上記以外の屋根及びとい | E67: =非木造_データ!AU67 -> 1461382.7 | F67: =非木造_データ!AV67 -> 359084.18 | G67: =非木造_データ!AW67 -> 0 | K67: 衛生器具 | L67: =非木造_データ!AU141 -> 8101823.9 | M67: =非木造_データ!AV141 -> 0 | N67: =非木造_データ!AW141 -> 423945
B68: 14.金属 | E68: =非木造_データ!AU68 -> 53085661 | F68: =非木造_データ!AV68 -> 14498022 | G68: =非木造_データ!AW68 -> 0 | K68: 消火 | L68: =非木造_データ!AU142 -> 16552908 | M68: =非木造_データ!AV142 -> 0 | N68: =非木造_データ!AW142 -> 1269070
B69: 15.左官 | E69: =非木造_データ!AU69 -> 12386919 | F69: =非木造_データ!AV69 -> 4985542 | G69: =非木造_データ!AW69 -> 0 | K69: ガス | L69: =非木造_データ!AU143 -> 5649723.1 | M69: =非木造_データ!AV143 -> 0 | N69: =非木造_データ!AW143 -> 276603
B70: 16.建具 | E70: =非木造_データ!AU70 -> 66282875 | F70: =非木造_データ!AV70 -> 25942019 | G70: =非木造_データ!AW70 -> 0 | K70: 厨房機器 | L70: =非木造_データ!AU144 -> 669242.66 | M70: =非木造_データ!AV144 -> 0 | N70: =非木造_データ!AW144 -> 136440
C71: 金属製建具 | D71: アルミニウム製建具 | E71: =非木造_データ!AU71 -> 18773068 | F71: =非木造_データ!AV71 -> 8994013.9 | G71: =非木造_データ!AW71 -> 0 | K71: 浄化槽 | L71: =非木造_データ!AU145 -> 1821539.3 | M71: =非木造_データ!AV145 -> 0 | N71: =非木造_データ!AW145 -> 33876
D72: 鋼製建具 | E72: =非木造_データ!AU72 -> 15781909 | F72: =非木造_データ!AV72 -> 6370194.5 | G72: =非木造_データ!AW72 -> 0 | K72: 貯水槽 | L72: =非木造_データ!AU146 -> 396983.46 | M72: =非木造_データ!AV146 -> 0 | N72: =非木造_データ!AW146 -> 10690
D73: ステンレス製建具 | E73: =非木造_データ!AU73 -> 3467172.3 | F73: =非木造_データ!AV73 -> 1050010.2 | G73: =非木造_データ!AW73 -> 0 | K73: 上記以外の衛生設備 | L73: =非木造_データ!AU147 -> 6728737.9 | M73: =非木造_データ!AV147 -> 0 | N73: =非木造_データ!AW147 -> 688104
D74: シャッター | E74: =非木造_データ!AU74 -> 5882943.8 | F74: =非木造_データ!AV74 -> 1295621.8 | G74: =非木造_データ!AW74 -> 0 | J74: 4.昇降機 | L74: =非木造_データ!AU148 -> 21498428 | M74: =非木造_データ!AV148 -> 0 | N74: =非木造_データ!AW148 -> 2906115
D75: 自動扉開閉装置 | E75: =非木造_データ!AU75 -> 967098.15 | F75: =非木造_データ!AV75 -> 438192.02 | G75: =非木造_データ!AW75 -> 0 | J75: 5.機械式駐車場 | L75: =非木造_データ!AU149 -> 7251934 | M75: =非木造_データ!AV149 -> 0 | N75: =非木造_データ!AW149 -> 129121
D76: 上記以外の金属製建具 | E76: =非木造_データ!AU76 -> 4336488.2 | F76: =非木造_データ!AV76 -> 1010344 | G76: =非木造_データ!AW76 -> 0 | J76: 6.上記以外の設備 | L76: =非木造_データ!AU150 -> 12180276 | M76: =非木造_データ!AV150 -> 0 | N76: =非木造_データ!AW150 -> 9273527
C77: 木製建具 | E77: =非木造_データ!AU77 -> 5346994.8 | F77: =非木造_データ!AV77 -> 1335694.5 | G77: =非木造_データ!AW77 -> 0 | I77: 設備工事費合計 | L77: =非木造_データ!AU151 -> 3.5929581e+08 | M77: =非木造_データ!AV151 -> 0 | N77: =非木造_データ!AW151 -> 61103398
C78: ガラス | D78: 板ガラス | E78: =非木造_データ!AU78 -> 2990702.3 | F78: =非木造_データ!AV78 -> 1422992.5 | G78: =非木造_データ!AW78 -> 0
D79: 複層ガラス | E79: =非木造_データ!AU79 -> 5515380.8 | F79: =非木造_データ!AV79 -> 3199759.8 | G79: =非木造_データ!AW79 -> 0
D80: 上記以外のガラス | E80: =非木造_データ!AU80 -> 3221117.6 | F80: =非木造_データ!AV80 -> 825195.67 | G80: =非木造_データ!AW80 -> 0

Sheet 非木造_合計 (比率) 
A2: =非木造_合計!A2:N2 -> 表1-1 平成27年建築工事費投入調査集計表（非木造_合計）
A4: （単位：％） | E4: =非木造_合計!E4 -> 917 | F4: =非木造_合計!F4 -> 336 | G4: =非木造_合計!G4 -> 144 | L4: =非木造_合計!L4 -> 917 | M4: =非木造_合計!M4 -> 336 | N4: =非木造_合計!N4 -> 144
E5: 建築工事・ 設備工事 一貫受注 | F5: 建築工事 のみ受注 | G5: 設備工事 のみ受注 | L5: 建築工事・ 設備工事 一貫受注 | M5: 建築工事 のみ受注 | N5: 設備工事 のみ受注
A6: 工事費内訳 | B6: 1.建築工事費 | E6: =IF(非木造_合計!E$14>0,非木造_合計!E6/非木造_合計!E$14*100,0) -> 56.226777 | F6: =IF(非木造_合計!F$14>0,非木造_合計!F6/非木造_合計!F$14*100,0) -> 72.999714 | G6: =IF(非木造_合計!G$14>0,非木造_合計!G6/非木造_合計!G$14*100,0) -> 0 | I6: 建築工事費科目別内訳(続き） | J6: 17.カーテンウォール | L6: =IF(非木造_合計!L$40>0,非木造_合計!L6/非木造_合計!L$40*100,0) -> 2.3713426 | M6: =IF(非木造_合計!M$40>0,非木造_合計!M6/非木造_合計!M$40*100,0) -> 1.2763249 | N6: =IF(非木造_合計!N$40>0,非木造_合計!N6/非木造_合計!N$40*100,0) -> 0
B7: 2.設備工事費 | E7: =IF(非木造_合計!E$14>0,非木造_合計!E7/非木造_合計!E$14*100,0) -> 24.847416 | F7: =IF(非木造_合計!F$14>0,非木造_合計!F7/非木造_合計!F$14*100,0) -> 0 | G7: =IF(非木造_合計!G$14>0,非木造_合計!G7/非木造_合計!G$14*100,0) -> 82.007871 | K7: メタルカーテンウォール | L7: =IF(非木造_合計!L$40>0,非木造_合計!L7/非木造_合計!L$40*100,0) -> 2.1912228 | M7: =IF(非木造_合計!M$40>0,非木造_合計!M7/非木造_合計!M$40*100,0) -> 1.146907 | N7: =IF(非木造_合計!N$40>0,非木造_合計!N7/非木造_合計!N$40*100,0) -> 0
B8: 3.解体・撤去費 | E8: =IF(非木造_合計!E$14>0,非木造_合計!E8/非木造_合計!E$14*100,0) -> 0.90882395 | F8: =IF(非木造_合計!F$14>0,非木造_合計!F8/非木造_合計!F$14*100,0) -> 1.8013276 | G8: =IF(非木造_合計!G$14>0,非木造_合計!G8/非木造_合計!G$14*100,0) -> 0.24027641 | K8: ＰＣカーテンウォール | L8: =IF(非木造_合計!L$40>0,非木造_合計!L8/非木造_合計!L$40*100,0) -> 0.18011977 | M8: =IF(非木造_合計!M$40>0,非木造_合計!M8/非木造_合計!M$40*100,0) -> 0.12941791 | N8: =IF(非木造_合計!N$40>0,非木造_合計!N8/非木造_合計!N$40*100,0) -> 0
B9: 4.屋外施設費 | E9: =IF(非木造_合計!E$14>0,非木造_合計!E9/非木造_合計!E$14*100,0) -> 3.3107859 | F9: =IF(非木造_合計!F$14>0,非木造_合計!F9/非木造_合計!F$14*100,0) -> 4.2903063 | G9: =IF(非木造_合計!G$14>0,非木造_合計!G9/非木造_合計!G$14*100,0) -> 0.41031719 | J9: 18.塗装 | L9: =IF(非木造_合計!L$40>0,非木造_合計!L9/非木造_合計!L$40*100,0) -> 1.094786 | M9: =IF(非木造_合計!M$40>0,非木造_合計!M9/非木造_合計!M$40*100,0) -> 1.1823089 | N9: =IF(非木造_合計!N$40>0,非木造_合計!N9/非木造_合計!N$40*100,0) -> 0
B10: 5.共通（総合）仮設費 | E10: =IF(非木造_合計!E$14>0,非木造_合計!E10/非木造_合計!E$14*100,0) -> 3.3425281 | F10: =IF(非木造_合計!F$14>0,非木造_合計!F10/非木造_合計!F$14*100,0) -> 4.9869604 | G10: =IF(非木造_合計!G$14>0,非木造_合計!G10/非木造_合計!G$14*100,0) -> 2.940999 | J10: 19.内外装 | L10: =IF(非木造_合計!L$40>0,非木造_合計!L10/非木造_合計!L$40*100,0) -> 7.620572 | M10: =IF(非木造_合計!M$40>0,非木造_合計!M10/非木造_合計!M$40*100,0) -> 8.1080599 | N10: =IF(非木造_合計!N$40>0,非木造_合計!N10/非木造_合計!N$40*100,0) -> 0
B11: 6.現場管理費 | E11: =IF(非木造_合計!E$14>0,非木造_合計!E11/非木造_合計!E$14*100,0) -> 5.7410677 | F11: =IF(非木造_合計!F$14>0,非木造_合計!F11/非木造_合計!F$14*100,0) -> 9.5262397 | G11: =IF(非木造_合計!G$14>0,非木造_合計!G11/非木造_合計!G$14*100,0) -> 6.737971 | K11: フローリング | L11: =IF(非木造_合計!L$40>0,非木造_合計!L11/非木造_合計!L$40*100,0) -> 0.51810526 | M11: =IF(非木造_合計!M$40>0,非木造_合計!M11/非木造_合計!M$40*100,0) -> 0.61232922 | N11: =IF(非木造_合計!N$40>0,非木造_合計!N11/非木造_合計!N$40*100,0) -> 0
B12: 7.工事原価 | E12: =IF(非木造_合計!E$14>0,非木造_合計!E12/非木造_合計!E$14*100,0) -> 94.377398 | F12: =IF(非木造_合計!F$14>0,非木造_合計!F12/非木造_合計!F$14*100,0) -> 93.604548 | G12: =IF(非木造_合計!G$14>0,非木造_合計!G12/非木造_合計!G$14*100,0) -> 92.337435 | K12: ビニル床タイル | L12: =IF(非木造_合計!L$40>0,非木造_合計!L12/非木造_合計!L$40*100,0) -> 0.16850435 | M12: =IF(非木造_合計!M$40>0,非木造_合計!M12/非木造_合計!M$40*100,0) -> 0.24924301 | N12: =IF(非木造_合計!N$40>0,非木造_合計!N12/非木造_合計!N$40*100,0) -> 0
B13: 8.一般管理費等 | E13: =IF(非木造_合計!E$14>0,非木造_合計!E13/非木造_合計!E$14*100,0) -> 5.6226022 | F13: =IF(非木造_合計!F$14>0,非木造_合計!F13/非木造_合計!F$14*100,0) -> 6.3954521 | G13: =IF(非木造_合計!G$14>0,非木造_合計!G13/非木造_合計!G$14*100,0) -> 7.6625652 | K13: ビニル床シート | L13: =IF(非木造_合計!L$40>0,非木造_合計!L13/非木造_合計!L$40*100,0) -> 0.34479274 | M13: =IF(非木造_合計!M$40>0,非木造_合計!M13/非木造_合計!M$40*100,0) -> 0.48141983 | N13: =IF(非木造_合計!N$40>0,非木造_合計!N13/非木造_合計!N$40*100,0) -> 0
A14: 9.工事価格 | E14: =IF(非木造_合計!E$14>0,非木造_合計!E14/非木造_合計!E$14*100,0) -> 100 | F14: =IF(非木造_合計!F$14>0,非木造_合計!F14/非木造_合計!F$14*100,0) -> 100 | G14: =IF(非木造_合計!G$14>0,非木造_合計!G14/非木造_合計!G$14*100,0) -> 100 | K14: カーペット | L14: =IF(非木造_合計!L$40>0,非木造_合計!L14/非木造_合計!L$40*100,0) -> 0.35237305 | M14: =IF(非木造_合計!M$40>0,非木造_合計!M14/非木造_合計!M$40*100,0) -> 0.39267848 | N14: =IF(非木造_合計!N$40>0,非木造_合計!N14/非木造_合計!N$40*100,0) -> 0
K15: 畳 | L15: =IF(非木造_合計!L$40>0,非木造_合計!L15/非木造_合計!L$40*100,0) -> 0.01827001 | M15: =IF(非木造_合計!M$40>0,非木造_合計!M15/非木造_合計!M$40*100,0) -> 0.046758549 | N15: =IF(非木造_合計!N$40>0,非木造_合計!N15/非木造_合計!N$40*100,0) -> 0
A16: 建築工事費科目別内訳 | B16: 1.直接仮設 | E16: =IF(非木造_合計!L$40>0,非木造_合計!E16/非木造_合計!L$40*100,0) -> 4.114437 | F16: =IF(非木造_合計!M$40>0,非木造_合計!F16/非木造_合計!M$40*100,0) -> 6.2405655 | G16: =IF(非木造_合計!N$40>0,非木造_合計!G16/非木造_合計!N$40*100,0) -> 0 | K16: 合成樹脂塗床 | L16: =IF(非木造_合計!L$40>0,非木造_合計!L16/非木造_合計!L$40*100,0) -> 0.13737664 | M16: =IF(非木造_合計!M$40>0,非木造_合計!M16/非木造_合計!M$40*100,0) -> 0.12586378 | N16: =IF(非木造_合計!N$40>0,非木造_合計!N16/非木造_合計!N$40*100,0) -> 0
B17: 2.土工 | E17: =IF(非木造_合計!L$40>0,非木造_合計!E17/非木造_合計!L$40*100,0) -> 4.4552263 | F17: =IF(非木造_合計!M$40>0,非木造_合計!F17/非木造_合計!M$40*100,0) -> 5.0457138 | G17: =IF(非木造_合計!N$40>0,非木造_合計!G17/非木造_合計!N$40*100,0) -> 0 | K17: フリーアクセスフロア | L17: =IF(非木造_合計!L$40>0,非木造_合計!L17/非木造_合計!L$40*100,0) -> 0.68529926 | M17: =IF(非木造_合計!M$40>0,非木造_合計!M17/非木造_合計!M$40*100,0) -> 0.58970857 | N17: =IF(非木造_合計!N$40>0,非木造_合計!N17/非木造_合計!N$40*100,0) -> 0
C18: 建設発生土の処理 | E18: =IF(非木造_合計!L$40>0,非木造_合計!E18/非木造_合計!L$40*100,0) -> 1.1322982 | F18: =IF(非木造_合計!M$40>0,非木造_合計!F18/非木造_合計!M$40*100,0) -> 2.0622532 | G18: =IF(非木造_合計!N$40>0,非木造_合計!G18/非木造_合計!N$40*100,0) -> 0 | K18: 化粧合板 | L18: =IF(非木造_合計!L$40>0,非木造_合計!L18/非木造_合計!L$40*100,0) -> 0.11215599 | M18: =IF(非木造_合計!M$40>0,非木造_合計!M18/非木造_合計!M$40*100,0) -> 0.14683496 | N18: =IF(非木造_合計!N$40>0,非木造_合計!N18/非木造_合計!N$40*100,0) -> 0
C19: 山留め | E19: =IF(非木造_合計!L$40>0,非木造_合計!E19/非木造_合計!L$40*100,0) -> 1.537686 | F19: =IF(非木造_合計!M$40>0,非木造_合計!F19/非木造_合計!M$40*100,0) -> 1.3798473 | G19: =IF(非木造_合計!N$40>0,非木造_合計!G19/非木造_合計!N$40*100,0) -> 0 | K19: 石こうボード | L19: =IF(非木造_合計!L$40>0,非木造_合計!L19/非木造_合計!L$40*100,0) -> 1.4920323 | M19: =IF(非木造_合計!M$40>0,非木造_合計!M19/非木造_合計!M$40*100,0) -> 1.5663289 | N19: =IF(非木造_合計!N$40>0,非木造_合計!N19/非木造_合計!N$40*100,0) -> 0
C20: 乗入れ構台 | E20: =IF(非木造_合計!L$40>0,非木造_合計!E20/非木造_合計!L$40*100,0) -> 0.20537035 | F20: =IF(非木造_合計!M$40>0,非木造_合計!F20/非木造_合計!M$40*100,0) -> 0.25665626 | G20: =IF(非木造_合計!N$40>0,非木造_合計!G20/非木造_合計!N$40*100,0) -> 0 | K20: ケイ酸カルシウム板 | L20: =IF(非木造_合計!L$40>0,非木造_合計!L20/非木造_合計!L$40*100,0) -> 0.22720633 | M20: =IF(非木造_合計!M$40>0,非木造_合計!M20/非木造_合計!M$40*100,0) -> 0.20613191 | N20: =IF(非木造_合計!N$40>0,非木造_合計!N20/非木造_合計!N$40*100,0) -> 0
C21: 根切り・床付け | E21: =IF(非木造_合計!L$40>0,非木造_合計!E21/非木造_合計!L$40*100,0) -> 0.50521803 | F21: =IF(非木造_合計!M$40>0,非木造_合計!F21/非木造_合計!M$40*100,0) -> 0.68679329 | G21: =IF(非木造_合計!N$40>0,非木造_合計!G21/非木造_合計!N$40*100,0) -> 0 | K21: 木毛セメント板 | L21: =IF(非木造_合計!L$40>0,非木造_合計!L21/非木造_合計!L$40*100,0) -> 0.0063456581 | M21: =IF(非木造_合計!M$40>0,非木造_合計!M21/非木造_合計!M$40*100,0) -> 0.0037922841 | N21: =IF(非木造_合計!N$40>0,非木造_合計!N21/非木造_合計!N$40*100,0) -> 0
C22: 上記以外の土工 | E22: =IF(非木造_合計!L$40>0,非木造_合計!E22/非木造_合計!L$40*100,0) -> 1.0746538 | F22: =IF(非木造_合計!M$40>0,非木造_合計!F22/非木造_合計!M$40*100,0) -> 0.66016376 | G22: =IF(非木造_合計!N$40>0,非木造_合計!G22/非木造_合計!N$40*100,0) -> 0 | K22: 壁紙・ビニルクロス張り | L22: =IF(非木造_合計!L$40>0,非木造_合計!L22/非木造_合計!L$40*100,0) -> 0.63439294 | M22: =IF(非木造_合計!M$40>0,非木造_合計!M22/非木造_合計!M$40*100,0) -> 0.48591661 | N22: =IF(非木造_合計!N$40>0,非木造_合計!N22/非木造_合計!N$40*100,0) -> 0
B23: 3.地業 | E23: =IF(非木造_合計!L$40>0,非木造_合計!E23/非木造_合計!L$40*100,0) -> 4.8741489 | F23: =IF(非木造_合計!M$40>0,非木造_合計!F23/非木造_合計!M$40*100,0) -> 3.2606937 | G23: =IF(非木造_合計!N$40>0,非木造_合計!G23/非木造_合計!N$40*100,0) -> 0 | K23: ロックウール吸音板 | L23: =IF(非木造_合計!L$40>0,非木造_合計!L23/非木造_合計!L$40*100,0) -> 0.13670243 | M23: =IF(非木造_合計!M$40>0,非木造_合計!M23/非木造_合計!M$40*100,0) -> 0.12430477 | N23: =IF(非木造_合計!N$40>0,非木造_合計!N23/非木造_合計!N$40*100,0) -> 0
C24: 既製コンクリート杭 | E24: =IF(非木造_合計!L$40>0,非木造_合計!E24/非木造_合計!L$40*100,0) -> 2.1767514 | F24: =IF(非木造_合計!M$40>0,非木造_合計!F24/非木造_合計!M$40*100,0) -> 1.4158482 | G24: =IF(非木造_合計!N$40>0,非木造_合計!G24/非木造_合計!N$40*100,0) -> 0 | K24: 断熱材（グラスウール） | L24: =IF(非木造_合計!L$40>0,非木造_合計!L24/非木造_合計!L$40*100,0) -> 0.28732859 | M24: =IF(非木造_合計!M$40>0,非木造_合計!M24/非木造_合計!M$40*100,0) -> 0.19341625 | N24: =IF(非木造_合計!N$40>0,非木造_合計!N24/非木造_合計!N$40*100,0) -> 0
C25: 場所打ちコンクリート杭 | E25: =IF(非木造_合計!L$40>0,非木造_合計!E25/非木造_合計!L$40*100,0) -> 1.7773136 | F25: =IF(非木造_合計!M$40>0,非木造_合計!F25/非木造_合計!M$40*100,0) -> 0.96675304 | G25: =IF(非木造_合計!N$40>0,非木造_合計!G25/非木造_合計!N$40*100,0) -> 0 | K25: 合成樹脂発泡材打込み | L25: =IF(非木造_合計!L$40>0,非木造_合計!L25/非木造_合計!L$40*100,0) -> 0.18721821 | M25: =IF(非木造_合計!M$40>0,非木造_合計!M25/非木造_合計!M$40*100,0) -> 0.22184525 | N25: =IF(非木造_合計!N$40>0,非木造_合計!N25/非木造_合計!N$40*100,0) -> 0
C26: 鋼杭 | E26: =IF(非木造_合計!L$40>0,非木造_合計!E26/非木造_合計!L$40*100,0) -> 0.17225943 | F26: =IF(非木造_合計!M$40>0,非木造_合計!F26/非木造_合計!M$40*100,0) -> 0.094930116 | G26: =IF(非木造_合計!N$40>0,非木造_合計!G26/非木造_合計!N$40*100,0) -> 0 | K26: システム天井 | L26: =IF(非木造_合計!L$40>0,非木造_合計!L26/非木造_合計!L$40*100,0) -> 0.25303401 | M26: =IF(非木造_合計!M$40>0,非木造_合計!M26/非木造_合計!M$40*100,0) -> 0.29514629 | N26: =IF(非木造_合計!N$40>0,非木造_合計!N26/非木造_合計!N$40*100,0) -> 0
C27: 地盤改良 | E27: =IF(非木造_合計!L$40>0,非木造_合計!E27/非木造_合計!L$40*100,0) -> 0.50385624 | F27: =IF(非木造_合計!M$40>0,非木造_合計!F27/非木造_合計!M$40*100,0) -> 0.52951063 | G27: =IF(非木造_合計!N$40>0,非木造_合計!G27/非木造_合計!N$40*100,0) -> 0 | K27: 幅木・廻り縁 | L27: =IF(非木造_合計!L$40>0,非木造_合計!L27/非木造_合計!L$40*100,0) -> 0.15197076 | M27: =IF(非木造_合計!M$40>0,非木造_合計!M27/非木造_合計!M$40*100,0) -> 0.10727674 | N27: =IF(非木造_合計!N$40>0,非木造_合計!N27/非木造_合計!N$40*100,0) -> 0
C28: 上記以外の地業 | E28: =IF(非木造_合計!L$40>0,非木造_合計!E28/非木造_合計!L$40*100,0) -> 0.24396829 | F28: =IF(非木造_合計!M$40>0,非木造_合計!F28/非木造_合計!M$40*100,0) -> 0.25365171 | G28: =IF(非木造_合計!N$40>0,非木造_合計!G28/非木造_合計!N$40*100,0) -> 0 | K28: 合成樹脂製品 | L28: =IF(非木造_合計!L$40>0,非木造_合計!L28/非木造_合計!L$40*100,0) -> 0.056903612 | M28: =IF(非木造_合計!M$40>0,非木造_合計!M28/非木造_合計!M$40*100,0) -> 0.070074189 | N28: =IF(非木造_合計!N$40>0,非木造_合計!N28/非木造_合計!N$40*100,0) -> 0
B29: 4.鉄筋 | E29: =IF(非木造_合計!L$40>0,非木造_合計!E29/非木造_合計!L$40*100,0) -> 6.5681339 | F29: =IF(非木造_合計!M$40>0,非木造_合計!F29/非木造_合計!M$40*100,0) -> 7.2188186 | G29: =IF(非木造_合計!N$40>0,非木造_合計!G29/非木造_合計!N$40*100,0) -> 0 | K29: 上記以外の内外装 | L29: =IF(非木造_合計!L$40>0,非木造_合計!L29/非木造_合計!L$40*100,0) -> 1.8505599 | M29: =IF(非木造_合計!M$40>0,非木造_合計!M29/非木造_合計!M$40*100,0) -> 2.1889903 | N29: =IF(非木造_合計!N$40>0,非木造_合計!N29/非木造_合計!N$40*100,0) -> 0
B30: 5.コンクリート | E30: =IF(非木造_合計!L$40>0,非木造_合計!E30/非木造_合計!L$40*100,0) -> 6.3763128 | F30: =IF(非木造_合計!M$40>0,非木造_合計!F30/非木造_合計!M$40*100,0) -> 6.8745839 | G30: =IF(非木造_合計!N$40>0,非木造_合計!G30/非木造_合計!N$40*100,0) -> 0 | J30: 20.ユニット | L30: =IF(非木造_合計!L$40>0,非木造_合計!L30/非木造_合計!L$40*100,0) -> 5.3217393 | M30: =IF(非木造_合計!M$40>0,非木造_合計!M30/非木造_合計!M$40*100,0) -> 4.4068647 | N30: =IF(非木造_合計!N$40>0,非木造_合計!N30/非木造_合計!N$40*100,0) -> 0
B31: 6.型枠 | E31: =IF(非木造_合計!L$40>0,非木造_合計!E31/非木造_合計!L$40*100,0) -> 5.6907004 | F31: =IF(非木造_合計!M$40>0,非木造_合計!F31/非木造_合計!M$40*100,0) -> 6.3796098 | G31: =IF(非木造_合計!N$40>0,非木造_合計!G31/非木造_合計!N$40*100,0) -> 0 | K31: 間仕切ユニット | L31: =IF(非木造_合計!L$40>0,非木造_合計!L31/非木造_合計!L$40*100,0) -> 0.51583807 | M31: =IF(非木造_合計!M$40>0,非木造_合計!M31/非木造_合計!M$40*100,0) -> 0.25057765 | N31: =IF(非木造_合計!N$40>0,非木造_合計!N31/非木造_合計!N$40*100,0) -> 0
C32: 型枠用合板 | E32: =IF(非木造_合計!L$40>0,非木造_合計!E32/非木造_合計!L$40*100,0) -> 4.9738082 | F32: =IF(非木造_合計!M$40>0,非木造_合計!F32/非木造_合計!M$40*100,0) -> 5.6824401 | G32: =IF(非木造_合計!N$40>0,非木造_合計!G32/非木造_合計!N$40*100,0) -> 0 | K32: 収納ユニット | L32: =IF(非木造_合計!L$40>0,非木造_合計!L32/非木造_合計!L$40*100,0) -> 0.32308415 | M32: =IF(非木造_合計!M$40>0,非木造_合計!M32/非木造_合計!M$40*100,0) -> 0.20945879 | N32: =IF(非木造_合計!N$40>0,非木造_合計!N32/非木造_合計!N$40*100,0) -> 0
C33: フラットデッキ型枠 | E33: =IF(非木造_合計!L$40>0,非木造_合計!E33/非木造_合計!L$40*100,0) -> 0.34722948 | F33: =IF(非木造_合計!M$40>0,非木造_合計!F33/非木造_合計!M$40*100,0) -> 0.40083493 | G33: =IF(非木造_合計!N$40>0,非木造_合計!G33/非木造_合計!N$40*100,0) -> 0 | K33: 造作家具 | L33: =IF(非木造_合計!L$40>0,非木造_合計!L33/非木造_合計!L$40*100,0) -> 0.67277587 | M33: =IF(非木造_合計!M$40>0,非木造_合計!M33/非木造_合計!M$40*100,0) -> 0.79725039 | N33: =IF(非木造_合計!N$40>0,非木造_合計!N33/非木造_合計!N$40*100,0) -> 0
C34: 上記以外の型枠 | E34: =IF(非木造_合計!L$40>0,非木造_合計!E34/非木造_合計!L$40*100,0) -> 0.3696627 | F34: =IF(非木造_合計!M$40>0,非木造_合計!F34/非木造_合計!M$40*100,0) -> 0.29633481 | G34: =IF(非木造_合計!N$40>0,非木造_合計!G34/非木造_合計!N$40*100,0) -> 0 | K34: キッチンユニット・吊戸棚 | L34: =IF(非木造_合計!L$40>0,非木造_合計!L34/非木造_合計!L$40*100,0) -> 0.79073029 | M34: =IF(非木造_合計!M$40>0,非木造_合計!M34/非木造_合計!M$40*100,0) -> 0.53511049 | N34: =IF(非木造_合計!N$40>0,非木造_合計!N34/非木造_合計!N$40*100,0) -> 0
B35: 7.鉄骨 | E35: =IF(非木造_合計!L$40>0,非木造_合計!E35/非木造_合計!L$40*100,0) -> 21.365743 | F35: =IF(非木造_合計!M$40>0,非木造_合計!F35/非木造_合計!M$40*100,0) -> 18.35045 | G35: =IF(非木造_合計!N$40>0,非木造_合計!G35/非木造_合計!N$40*100,0) -> 0 | K35: 浴槽・ユニットバス | L35: =IF(非木造_合計!L$40>0,非木造_合計!L35/非木造_合計!L$40*100,0) -> 0.83861602 | M35: =IF(非木造_合計!M$40>0,非木造_合計!M35/非木造_合計!M$40*100,0) -> 0.6022038 | N35: =IF(非木造_合計!N$40>0,非木造_合計!N35/非木造_合計!N$40*100,0) -> 0
C36: 鋼材（材料） | E36: =IF(非木造_合計!L$40>0,非木造_合計!E36/非木造_合計!L$40*100,0) -> 7.3586293 | F36: =IF(非木造_合計!M$40>0,非木造_合計!F36/非木造_合計!M$40*100,0) -> 6.0950069 | G36: =IF(非木造_合計!N$40>0,非木造_合計!G36/非木造_合計!N$40*100,0) -> 0 | K36: 洗面台・防水パン | L36: =IF(非木造_合計!L$40>0,非木造_合計!L36/非木造_合計!L$40*100,0) -> 0.39297533 | M36: =IF(非木造_合計!M$40>0,非木造_合計!M36/非木造_合計!M$40*100,0) -> 0.225571 | N36: =IF(非木造_合計!N$40>0,非木造_合計!N36/非木造_合計!N$40*100,0) -> 0
C37: 工場加工組立 | E37: =IF(非木造_合計!L$40>0,非木造_合計!E37/非木造_合計!L$40*100,0) -> 5.7310554 | F37: =IF(非木造_合計!M$40>0,非木造_合計!F37/非木造_合計!M$40*100,0) -> 5.308484 | G37: =IF(非木造_合計!N$40>0,非木造_合計!G37/非木造_合計!N$40*100,0) -> 0 | K37: ブラインド・カーテン | L37: =IF(非木造_合計!L$40>0,非木造_合計!L37/非木造_合計!L$40*100,0) -> 0.26243162 | M37: =IF(非木造_合計!M$40>0,非木造_合計!M37/非木造_合計!M$40*100,0) -> 0.26018122 | N37: =IF(非木造_合計!N$40>0,非木造_合計!N37/非木造_合計!N$40*100,0) -> 0
C38: 現場加工（建方・溶接・塗装） | E38: =IF(非木造_合計!L$40>0,非木造_合計!E38/非木造_合計!L$40*100,0) -> 1.7461385 | F38: =IF(非木造_合計!M$40>0,非木造_合計!F38/非木造_合計!M$40*100,0) -> 1.5321145 | G38: =IF(非木造_合計!N$40>0,非木造_合計!G38/非木造_合計!N$40*100,0) -> 0 | K38: 上記以外のユニット | L38: =IF(非木造_合計!L$40>0,非木造_合計!L38/非木造_合計!L$40*100,0) -> 1.5252879 | M38: =IF(非木造_合計!M$40>0,非木造_合計!M38/非木造_合計!M$40*100,0) -> 1.5265114 | N38: =IF(非木造_合計!N$40>0,非木造_合計!N38/非木造_合計!N$40*100,0) -> 0
C39: 鉄骨運搬 | E39: =IF(非木造_合計!L$40>0,非木造_合計!E39/非木造_合計!L$40*100,0) -> 0.5033475 | F39: =IF(非木造_合計!M$40>0,非木造_合計!F39/非木造_合計!M$40*100,0) -> 0.29713107 | G39: =IF(非木造_合計!N$40>0,非木造_合計!G39/非木造_合計!N$40*100,0) -> 0 | J39: 21.その他 | L39: =IF(非木造_合計!L$40>0,非木造_合計!L39/非木造_合計!L$40*100,0) -> 3.0864917 | M39: =IF(非木造_合計!M$40>0,非木造_合計!M39/非木造_合計!M$40*100,0) -> 4.5988627 | N39: =IF(非木造_合計!N$40>0,非木造_合計!N39/非木造_合計!N$40*100,0) -> 0
C40: 高力ボルト類 | E40: =IF(非木造_合計!L$40>0,非木造_合計!E40/非木造_合計!L$40*100,0) -> 0.2680555 | F40: =IF(非木造_合計!M$40>0,非木造_合計!F40/非木造_合計!M$40*100,0) -> 0.17104146 | G40: =IF(非木造_合計!N$40>0,非木造_合計!G40/非木造_合計!N$40*100,0) -> 0 | I40: 建築工事費合計 | L40: =IF(非木造_合計!L$40>0,非木造_合計!L40/非木造_合計!L$40*100,0) -> 100 | M40: =IF(非木造_合計!M$40>0,非木造_合計!M40/非木造_合計!M$40*100,0) -> 100 | N40: =IF(非木造_合計!N$40>0,非木造_合計!N40/非木造_合計!N$40*100,0) -> 0
C41: 鉄骨足場 | E41: =IF(非木造_合計!L$40>0,非木造_合計!E41/非木造_合計!L$40*100,0) -> 0.34789776 | F41: =IF(非木造_合計!M$40>0,非木造_合計!F41/非木造_合計!M$40*100,0) -> 0.1698756 | G41: =IF(非木造_合計!N$40>0,非木造_合計!G41/非木造_合計!N$40*100,0) -> 0
C42: 耐火被覆板 | E42: =IF(非木造_合計!L$40>0,非木造_合計!E42/非木造_合計!L$40*100,0) -> 0.20642575 | F42: =IF(非木造_合計!M$40>0,非木造_合計!F42/非木造_合計!M$40*100,0) -> 0.17674443 | G42: =IF(非木造_合計!N$40>0,非木造_合計!G42/非木造_合計!N$40*100,0) -> 0 | I42: 設備工事費科目別内訳 | J42: 1.電気 | L42: =IF(非木造_合計!L$77>0,非木造_合計!L42/非木造_合計!L$77*100,0) -> 39.579153 | M42: =IF(非木造_合計!M$77>0,非木造_合計!M42/非木造_合計!M$77*100,0) -> 0 | N42: =IF(非木造_合計!N$77>0,非木造_合計!N42/非木造_合計!N$77*100,0) -> 52.109497
C43: 耐火被覆吹付 | E43: =IF(非木造_合計!L$40>0,非木造_合計!E43/非木造_合計!L$40*100,0) -> 0.56457095 | F43: =IF(非木造_合計!M$40>0,非木造_合計!F43/非木造_合計!M$40*100,0) -> 0.47012808 | G43: =IF(非木造_合計!N$40>0,非木造_合計!G43/非木造_合計!N$40*100,0) -> 0 | K43: 受変電・電力引込 | L43: =IF(非木造_合計!L$77>0,非木造_合計!L43/非木造_合計!L$77*100,0) -> 5.8176494 | M43: =IF(非木造_合計!M$77>0,非木造_合計!M43/非木造_合計!M$77*100,0) -> 0 | N43: =IF(非木造_合計!N$77>0,非木造_合計!N43/非木造_合計!N$77*100,0) -> 10.67338
C44: 上記以外の鉄骨 | E44: =IF(非木造_合計!L$40>0,非木造_合計!E44/非木造_合計!L$40*100,0) -> 4.6396221 | F44: =IF(非木造_合計!M$40>0,非木造_合計!F44/非木造_合計!M$40*100,0) -> 4.1299243 | G44: =IF(非木造_合計!N$40>0,非木造_合計!G44/非木造_合計!N$40*100,0) -> 0 | K44: 幹線・動力 | L44: =IF(非木造_合計!L$77>0,非木造_合計!L44/非木造_合計!L$77*100,0) -> 7.7279827 | M44: =IF(非木造_合計!M$77>0,非木造_合計!M44/非木造_合計!M$77*100,0) -> 0 | N44: =IF(非木造_合計!N$77>0,非木造_合計!N44/非木造_合計!N$77*100,0) -> 11.609125
B45: 8.既製コンクリート | E45: =IF(非木造_合計!L$40>0,非木造_合計!E45/非木造_合計!L$40*100,0) -> 4.729143 | F45: =IF(非木造_合計!M$40>0,非木造_合計!F45/非木造_合計!M$40*100,0) -> 3.3631405 | G45: =IF(非木造_合計!N$40>0,非木造_合計!G45/非木造_合計!N$40*100,0) -> 0 | K45: 電灯コンセント | L45: =IF(非木造_合計!L$77>0,非木造_合計!L45/非木造_合計!L$77*100,0) -> 5.6281532 | M45: =IF(非木造_合計!M$77>0,非木造_合計!M45/非木造_合計!M$77*100,0) -> 0 | N45: =IF(非木造_合計!N$77>0,非木造_合計!N45/非木造_合計!N$77*100,0) -> 6.0972429
C46: 躯体ＰＣ板 | E46: =IF(非木造_合計!L$40>0,非木造_合計!E46/非木造_合計!L$40*100,0) -> 2.3418835 | F46: =IF(非木造_合計!M$40>0,非木造_合計!F46/非木造_合計!M$40*100,0) -> 1.9554694 | G46: =IF(非木造_合計!N$40>0,非木造_合計!G46/非木造_合計!N$40*100,0) -> 0 | K46: 照明器具 | L46: =IF(非木造_合計!L$77>0,非木造_合計!L46/非木造_合計!L$77*100,0) -> 4.4628626 | M46: =IF(非木造_合計!M$77>0,非木造_合計!M46/非木造_合計!M$77*100,0) -> 0 | N46: =IF(非木造_合計!N$77>0,非木造_合計!N46/非木造_合計!N$77*100,0) -> 2.5617459
C47: コンクリートブロック | E47: =IF(非木造_合計!L$40>0,非木造_合計!E47/非木造_合計!L$40*100,0) -> 0.026980556 | F47: =IF(非木造_合計!M$40>0,非木造_合計!F47/非木造_合計!M$40*100,0) -> 0.026526292 | G47: =IF(非木造_合計!N$40>0,非木造_合計!G47/非木造_合計!N$40*100,0) -> 0 | K47: 電話・電話配管・IT設備 | L47: =IF(非木造_合計!L$77>0,非木造_合計!L47/非木造_合計!L$77*100,0) -> 1.9135186 | M47: =IF(非木造_合計!M$77>0,非木造_合計!M47/非木造_合計!M$77*100,0) -> 0 | N47: =IF(非木造_合計!N$77>0,非木造_合計!N47/非木造_合計!N$77*100,0) -> 4.4644018
C48: 押出成形ｾﾒﾝﾄ板・穴あきPC板 | E48: =IF(非木造_合計!L$40>0,非木造_合計!E48/非木造_合計!L$40*100,0) -> 0.99848556 | F48: =IF(非木造_合計!M$40>0,非木造_合計!F48/非木造_合計!M$40*100,0) -> 0.54977557 | G48: =IF(非木造_合計!N$40>0,非木造_合計!G48/非木造_合計!N$40*100,0) -> 0 | K48: テレビ共聴 | L48: =IF(非木造_合計!L$77>0,非木造_合計!L48/非木造_合計!L$77*100,0) -> 0.64413053 | M48: =IF(非木造_合計!M$77>0,非木造_合計!M48/非木造_合計!M$77*100,0) -> 0 | N48: =IF(非木造_合計!N$77>0,非木造_合計!N48/非木造_合計!N$77*100,0) -> 0.26030205
C49: ＡＬＣパネル | E49: =IF(非木造_合計!L$40>0,非木造_合計!E49/非木造_合計!L$40*100,0) -> 1.1606836 | F49: =IF(非木造_合計!M$40>0,非木造_合計!F49/非木造_合計!M$40*100,0) -> 0.75161509 | G49: =IF(非木造_合計!N$40>0,非木造_合計!G49/非木造_合計!N$40*100,0) -> 0 | K49: インターホン・拡声 | L49: =IF(非木造_合計!L$77>0,非木造_合計!L49/非木造_合計!L$77*100,0) -> 1.1397665 | M49: =IF(非木造_合計!M$77>0,非木造_合計!M49/非木造_合計!M$77*100,0) -> 0 | N49: =IF(非木造_合計!N$77>0,非木造_合計!N49/非木造_合計!N$77*100,0) -> 0.92438852
C50: 上記以外の既製ｺﾝｸﾘｰﾄ | E50: =IF(非木造_合計!L$40>0,非木造_合計!E50/非木造_合計!L$40*100,0) -> 0.20110987 | F50: =IF(非木造_合計!M$40>0,非木造_合計!F50/非木造_合計!M$40*100,0) -> 0.079754124 | G50: =IF(非木造_合計!N$40>0,非木造_合計!G50/非木造_合計!N$40*100,0) -> 0 | K50: 防災 | L50: =IF(非木造_合計!L$77>0,非木造_合計!L50/非木造_合計!L$77*100,0) -> 2.2473964 | M50: =IF(非木造_合計!M$77>0,非木造_合計!M50/非木造_合計!M$77*100,0) -> 0 | N50: =IF(非木造_合計!N$77>0,非木造_合計!N50/非木造_合計!N$77*100,0) -> 2.0269279
B51: 9.防水 | E51: =IF(非木造_合計!L$40>0,非木造_合計!E51/非木造_合計!L$40*100,0) -> 1.4579392 | F51: =IF(非木造_合計!M$40>0,非木造_合計!F51/非木造_合計!M$40*100,0) -> 1.4207377 | G51: =IF(非木造_合計!N$40>0,非木造_合計!G51/非木造_合計!N$40*100,0) -> 0 | K51: 避雷針 | L51: =IF(非木造_合計!L$77>0,非木造_合計!L51/非木造_合計!L$77*100,0) -> 0.2195426 | M51: =IF(非木造_合計!M$77>0,非木造_合計!M51/非木造_合計!M$77*100,0) -> 0 | N51: =IF(非木造_合計!N$77>0,非木造_合計!N51/非木造_合計!N$77*100,0) -> 0.27287844
C52: アスファルト防水 | E52: =IF(非木造_合計!L$40>0,非木造_合計!E52/非木造_合計!L$40*100,0) -> 0.45535557 | F52: =IF(非木造_合計!M$40>0,非木造_合計!F52/非木造_合計!M$40*100,0) -> 0.45996863 | G52: =IF(非木造_合計!N$40>0,非木造_合計!G52/非木造_合計!N$40*100,0) -> 0 | K52: 蓄電池 | L52: =IF(非木造_合計!L$77>0,非木造_合計!L52/非木造_合計!L$77*100,0) -> 0.49563914 | M52: =IF(非木造_合計!M$77>0,非木造_合計!M52/非木造_合計!M$77*100,0) -> 0 | N52: =IF(非木造_合計!N$77>0,非木造_合計!N52/非木造_合計!N$77*100,0) -> 0.34986728
C53: シート防水 | E53: =IF(非木造_合計!L$40>0,非木造_合計!E53/非木造_合計!L$40*100,0) -> 0.15050294 | F53: =IF(非木造_合計!M$40>0,非木造_合計!F53/非木造_合計!M$40*100,0) -> 0.13834748 | G53: =IF(非木造_合計!N$40>0,非木造_合計!G53/非木造_合計!N$40*100,0) -> 0 | K53: 屋外施設の電気設備（外灯、門灯） | L53: =IF(非木造_合計!L$77>0,非木造_合計!L53/非木造_合計!L$77*100,0) -> 0.52649188 | M53: =IF(非木造_合計!M$77>0,非木造_合計!M53/非木造_合計!M$77*100,0) -> 0 | N53: =IF(非木造_合計!N$77>0,非木造_合計!N53/非木造_合計!N$77*100,0) -> 0.60058689
C54: モルタル防水 | E54: =IF(非木造_合計!L$40>0,非木造_合計!E54/非木造_合計!L$40*100,0) -> 0.012933211 | F54: =IF(非木造_合計!M$40>0,非木造_合計!F54/非木造_合計!M$40*100,0) -> 0.0057079424 | G54: =IF(非木造_合計!N$40>0,非木造_合計!G54/非木造_合計!N$40*100,0) -> 0 | K54: 上記以外の電気設備 | L54: =IF(非木造_合計!L$77>0,非木造_合計!L54/非木造_合計!L$77*100,0) -> 6.1068725 | M54: =IF(非木造_合計!M$77>0,非木造_合計!M54/非木造_合計!M$77*100,0) -> 0 | N54: =IF(非木造_合計!N$77>0,非木造_合計!N54/非木造_合計!N$77*100,0) -> 9.2661953
C55: 塗膜防水 | E55: =IF(非木造_合計!L$40>0,非木造_合計!E55/非木造_合計!L$40*100,0) -> 0.36578231 | F55: =IF(非木造_合計!M$40>0,非木造_合計!F55/非木造_合計!M$40*100,0) -> 0.29426607 | G55: =IF(非木造_合計!N$40>0,非木造_合計!G55/非木造_合計!N$40*100,0) -> 0 | J55: 2.空調 | L55: =IF(非木造_合計!L$77>0,非木造_合計!L55/非木造_合計!L$77*100,0) -> 27.385202 | M55: =IF(非木造_合計!M$77>0,非木造_合計!M55/非木造_合計!M$77*100,0) -> 0 | N55: =IF(非木造_合計!N$77>0,非木造_合計!N55/非木造_合計!N$77*100,0) -> 20.012337
C56: 伸縮目地 | E56: =IF(非木造_合計!L$40>0,非木造_合計!E56/非木造_合計!L$40*100,0) -> 0.031315773 | F56: =IF(非木造_合計!M$40>0,非木造_合計!F56/非木造_合計!M$40*100,0) -> 0.040881916 | G56: =IF(非木造_合計!N$40>0,非木造_合計!G56/非木造_合計!N$40*100,0) -> 0 | K56: 空調機器 | L56: =IF(非木造_合計!L$77>0,非木造_合計!L56/非木造_合計!L$77*100,0) -> 9.1221614 | M56: =IF(非木造_合計!M$77>0,非木造_合計!M56/非木造_合計!M$77*100,0) -> 0 | N56: =IF(非木造_合計!N$77>0,非木造_合計!N56/非木造_合計!N$77*100,0) -> 6.5847925
C57: シーリング | E57: =IF(非木造_合計!L$40>0,非木造_合計!E57/非木造_合計!L$40*100,0) -> 0.34938764 | F57: =IF(非木造_合計!M$40>0,非木造_合計!F57/非木造_合計!M$40*100,0) -> 0.37615844 | G57: =IF(非木造_合計!N$40>0,非木造_合計!G57/非木造_合計!N$40*100,0) -> 0 | K57: ダクト | L57: =IF(非木造_合計!L$77>0,非木造_合計!L57/非木造_合計!L$77*100,0) -> 3.9739114 | M57: =IF(非木造_合計!M$77>0,非木造_合計!M57/非木造_合計!M$77*100,0) -> 0 | N57: =IF(非木造_合計!N$77>0,非木造_合計!N57/非木造_合計!N$77*100,0) -> 2.7415126
C58: 上記以外の防水 | E58: =IF(非木造_合計!L$40>0,非木造_合計!E58/非木造_合計!L$40*100,0) -> 0.092661753 | F58: =IF(非木造_合計!M$40>0,非木造_合計!F58/非木造_合計!M$40*100,0) -> 0.1054072 | G58: =IF(非木造_合計!N$40>0,非木造_合計!G58/非木造_合計!N$40*100,0) -> 0 | K58: 空調配管 | L58: =IF(非木造_合計!L$77>0,非木造_合計!L58/非木造_合計!L$77*100,0) -> 4.3669364 | M58: =IF(非木造_合計!M$77>0,非木造_合計!M58/非木造_合計!M$77*100,0) -> 0 | N58: =IF(非木造_合計!N$77>0,非木造_合計!N58/非木造_合計!N$77*100,0) -> 3.7640015
B59: 10.石 | E59: =IF(非木造_合計!L$40>0,非木造_合計!E59/非木造_合計!L$40*100,0) -> 0.83697292 | F59: =IF(非木造_合計!M$40>0,非木造_合計!F59/非木造_合計!M$40*100,0) -> 0.94109359 | G59: =IF(非木造_合計!N$40>0,非木造_合計!G59/非木造_合計!N$40*100,0) -> 0 | K59: 自動制御 | L59: =IF(非木造_合計!L$77>0,非木造_合計!L59/非木造_合計!L$77*100,0) -> 2.8692072 | M59: =IF(非木造_合計!M$77>0,非木造_合計!M59/非木造_合計!M$77*100,0) -> 0 | N59: =IF(非木造_合計!N$77>0,非木造_合計!N59/非木造_合計!N$77*100,0) -> 2.4400635
B60: 11.タイル | E60: =IF(非木造_合計!L$40>0,非木造_合計!E60/非木造_合計!L$40*100,0) -> 1.0309676 | F60: =IF(非木造_合計!M$40>0,非木造_合計!F60/非木造_合計!M$40*100,0) -> 0.89363357 | G60: =IF(非木造_合計!N$40>0,非木造_合計!G60/非木造_合計!N$40*100,0) -> 0 | K60: 換気 | L60: =IF(非木造_合計!L$77>0,非木造_合計!L60/非木造_合計!L$77*100,0) -> 4.1309837 | M60: =IF(非木造_合計!M$77>0,非木造_合計!M60/非木造_合計!M$77*100,0) -> 0 | N60: =IF(非木造_合計!N$77>0,非木造_合計!N60/非木造_合計!N$77*100,0) -> 2.4556899
B61: 12.木工 | E61: =IF(非木造_合計!L$40>0,非木造_合計!E61/非木造_合計!L$40*100,0) -> 1.3616296 | F61: =IF(非木造_合計!M$40>0,非木造_合計!F61/非木造_合計!M$40*100,0) -> 1.245928 | G61: =IF(非木造_合計!N$40>0,非木造_合計!G61/非木造_合計!N$40*100,0) -> 0 | K61: 床暖房 | L61: =IF(非木造_合計!L$77>0,非木造_合計!L61/非木造_合計!L$77*100,0) -> 0.44042643 | M61: =IF(非木造_合計!M$77>0,非木造_合計!M61/非木造_合計!M$77*100,0) -> 0 | N61: =IF(非木造_合計!N$77>0,非木造_合計!N61/非木造_合計!N$77*100,0) -> 0.093048835
B62: 13.屋根及びとい | E62: =IF(非木造_合計!L$40>0,非木造_合計!E62/非木造_合計!L$40*100,0) -> 1.4385104 | F62: =IF(非木造_合計!M$40>0,非木造_合計!F62/非木造_合計!M$40*100,0) -> 1.190027 | G62: =IF(非木造_合計!N$40>0,非木造_合計!G62/非木造_合計!N$40*100,0) -> 0 | K62: 上記以外の空調設備 | L62: =IF(非木造_合計!L$77>0,非木造_合計!L62/非木造_合計!L$77*100,0) -> 2.2382429 | M62: =IF(非木造_合計!M$77>0,非木造_合計!M62/非木造_合計!M$77*100,0) -> 0 | N62: =IF(非木造_合計!N$77>0,非木造_合計!N62/非木造_合計!N$77*100,0) -> 1.9061051
C63: 金属板 | E63: =IF(非木造_合計!L$40>0,非木造_合計!E63/非木造_合計!L$40*100,0) -> 0.95999105 | F63: =IF(非木造_合計!M$40>0,非木造_合計!F63/非木造_合計!M$40*100,0) -> 0.73425161 | G63: =IF(非木造_合計!N$40>0,非木造_合計!G63/非木造_合計!N$40*100,0) -> 0 | J63: 3.衛生 | L63: =IF(非木造_合計!L$77>0,非木造_合計!L63/非木造_合計!L$77*100,0) -> 21.64374 | M63: =IF(非木造_合計!M$77>0,非木造_合計!M63/非木造_合計!M$77*100,0) -> 0 | N63: =IF(非木造_合計!N$77>0,非木造_合計!N63/非木造_合計!N$77*100,0) -> 7.7340117
C64: 瓦 | E64: =IF(非木造_合計!L$40>0,非木造_合計!E64/非木造_合計!L$40*100,0) -> 0.010107038 | F64: =IF(非木造_合計!M$40>0,非木造_合計!F64/非木造_合計!M$40*100,0) -> 0.0063243282 | G64: =IF(非木造_合計!N$40>0,非木造_合計!G64/非木造_合計!N$40*100,0) -> 0 | K64: 給水 | L64: =IF(非木造_合計!L$77>0,非木造_合計!L64/非木造_合計!L$77*100,0) -> 3.5960749 | M64: =IF(非木造_合計!M$77>0,非木造_合計!M64/非木造_合計!M$77*100,0) -> 0 | N64: =IF(非木造_合計!N$77>0,非木造_合計!N64/非木造_合計!N$77*100,0) -> 1.1482062
C65: ルーフドレイン | E65: =IF(非木造_合計!L$40>0,非木造_合計!E65/非木造_合計!L$40*100,0) -> 0.027178769 | F65: =IF(非木造_合計!M$40>0,非木造_合計!F65/非木造_合計!M$40*100,0) -> 0.022129951 | G65: =IF(非木造_合計!N$40>0,非木造_合計!G65/非木造_合計!N$40*100,0) -> 0 | K65: 給湯 | L65: =IF(非木造_合計!L$77>0,非木造_合計!L65/非木造_合計!L$77*100,0) -> 1.5222802 | M65: =IF(非木造_合計!M$77>0,非木造_合計!M65/非木造_合計!M$77*100,0) -> 0 | N65: =IF(非木造_合計!N$77>0,非木造_合計!N65/非木造_合計!N$77*100,0) -> 0.39279976
C66: とい | E66: =IF(非木造_合計!L$40>0,非木造_合計!E66/非木造_合計!L$40*100,0) -> 0.26149144 | F66: =IF(非木造_合計!M$40>0,非木造_合計!F66/非木造_合計!M$40*100,0) -> 0.28501268 | G66: =IF(非木造_合計!N$40>0,非木造_合計!G66/非木造_合計!N$40*100,0) -> 0 | K66: 排水通気 | L66: =IF(非木造_合計!L$77>0,非木造_合計!L66/非木造_合計!L$77*100,0) -> 4.7137649 | M66: =IF(非木造_合計!M$77>0,非木造_合計!M66/非木造_合計!M$77*100,0) -> 0 | N66: =IF(非木造_合計!N$77>0,非木造_合計!N66/非木造_合計!N$77*100,0) -> 1.4794005
C67: 上記以外の屋根及びとい | E67: =IF(非木造_合計!L$40>0,非木造_合計!E67/非木造_合計!L$40*100,0) -> 0.17974211 | F67: =IF(非木造_合計!M$40>0,非木造_合計!F67/非木造_合計!M$40*100,0) -> 0.14230841 | G67: =IF(非木造_合計!N$40>0,非木造_合計!G67/非木造_合計!N$40*100,0) -> 0 | K67: 衛生器具 | L67: =IF(非木造_合計!L$77>0,非木造_合計!L67/非木造_合計!L$77*100,0) -> 2.2549175 | M67: =IF(非木造_合計!M$77>0,非木造_合計!M67/非木造_合計!M$77*100,0) -> 0 | N67: =IF(非木造_合計!N$77>0,非木造_合計!N67/非木造_合計!N$77*100,0) -> 0.69381575
B68: 14.金属 | E68: =IF(非木造_合計!L$40>0,非木造_合計!E68/非木造_合計!L$40*100,0) -> 6.5292473 | F68: =IF(非木造_合計!M$40>0,非木造_合計!F68/非木造_合計!M$40*100,0) -> 5.7457015 | G68: =IF(非木造_合計!N$40>0,非木造_合計!G68/非木造_合計!N$40*100,0) -> 0 | K68: 消火 | L68: =IF(非木造_合計!L$77>0,非木造_合計!L68/非木造_合計!L$77*100,0) -> 4.6070419 | M68: =IF(非木造_合計!M$77>0,非木造_合計!M68/非木造_合計!M$77*100,0) -> 0 | N68: =IF(非木造_合計!N$77>0,非木造_合計!N68/非木造_合計!N$77*100,0) -> 2.0769221
B69: 15.左官 | E69: =IF(非木造_合計!L$40>0,非木造_合計!E69/非木造_合計!L$40*100,0) -> 1.5235236 | F69: =IF(非木造_合計!M$40>0,非木造_合計!F69/非木造_合計!M$40*100,0) -> 1.9758169 | G69: =IF(非木造_合計!N$40>0,非木造_合計!G69/非木造_合計!N$40*100,0) -> 0 | K69: ガス | L69: =IF(非木造_合計!L$77>0,非木造_合計!L69/非木造_合計!L$77*100,0) -> 1.5724434 | M69: =IF(非木造_合計!M$77>0,非木造_合計!M69/非木造_合計!M$77*100,0) -> 0 | N69: =IF(非木造_合計!N$77>0,非木造_合計!N69/非木造_合計!N$77*100,0) -> 0.45268022
B70: 16.建具 | E70: =IF(非木造_合計!L$40>0,非木造_合計!E70/非木造_合計!L$40*100,0) -> 8.1524327 | F70: =IF(非木造_合計!M$40>0,非木造_合計!F70/非木造_合計!M$40*100,0) -> 10.281064 | G70: =IF(非木造_合計!N$40>0,非木造_合計!G70/非木造_合計!N$40*100,0) -> 0 | K70: 厨房機器 | L70: =IF(非木造_合計!L$77>0,非木造_合計!L70/非木造_合計!L$77*100,0) -> 0.18626509 | M70: =IF(非木造_合計!M$77>0,非木造_合計!M70/非木造_合計!M$77*100,0) -> 0 | N70: =IF(非木造_合計!N$77>0,非木造_合計!N70/非木造_合計!N$77*100,0) -> 0.22329364
C71: 金属製建具 | D71: アルミニウム製建具 | E71: =IF(非木造_合計!L$40>0,非木造_合計!E71/非木造_合計!L$40*100,0) -> 2.3089851 | F71: =IF(非木造_合計!M$40>0,非木造_合計!F71/非木造_合計!M$40*100,0) -> 3.5644117 | G71: =IF(非木造_合計!N$40>0,非木造_合計!G71/非木造_合計!N$40*100,0) -> 0 | K71: 浄化槽 | L71: =IF(非木造_合計!L$77>0,非木造_合計!L71/非木造_合計!L$77*100,0) -> 0.50697483 | M71: =IF(非木造_合計!M$77>0,非木造_合計!M71/非木造_合計!M$77*100,0) -> 0 | N71: =IF(非木造_合計!N$77>0,非木造_合計!N71/非木造_合計!N$77*100,0) -> 0.055440452
D72: 鋼製建具 | E72: =IF(非木造_合計!L$40>0,非木造_合計!E72/非木造_合計!L$40*100,0) -> 1.9410889 | F72: =IF(非木造_合計!M$40>0,非木造_合計!F72/非木造_合計!M$40*100,0) -> 2.5245676 | G72: =IF(非木造_合計!N$40>0,非木造_合計!G72/非木造_合計!N$40*100,0) -> 0 | K72: 貯水槽 | L72: =IF(非木造_合計!L$77>0,非木造_合計!L72/非木造_合計!L$77*100,0) -> 0.11048931 | M72: =IF(非木造_合計!M$77>0,非木造_合計!M72/非木造_合計!M$77*100,0) -> 0 | N72: =IF(非木造_合計!N$77>0,非木造_合計!N72/非木造_合計!N$77*100,0) -> 0.017494935
D73: ステンレス製建具 | E73: =IF(非木造_合計!L$40>0,非木造_合計!E73/非木造_合計!L$40*100,0) -> 0.42644331 | F73: =IF(非木造_合計!M$40>0,非木造_合計!F73/非木造_合計!M$40*100,0) -> 0.41612886 | G73: =IF(非木造_合計!N$40>0,非木造_合計!G73/非木造_合計!N$40*100,0) -> 0 | K73: 上記以外の衛生設備 | L73: =IF(非木造_合計!L$77>0,非木造_合計!L73/非木造_合計!L$77*100,0) -> 1.8727571 | M73: =IF(非木造_合計!M$77>0,非木造_合計!M73/非木造_合計!M$77*100,0) -> 0 | N73: =IF(非木造_合計!N$77>0,非木造_合計!N73/非木造_合計!N$77*100,0) -> 1.1261305
D74: シャッター | E74: =IF(非木造_合計!L$40>0,非木造_合計!E74/非木造_合計!L$40*100,0) -> 0.72357005 | F74: =IF(非木造_合計!M$40>0,非木造_合計!F74/非木造_合計!M$40*100,0) -> 0.51346704 | G74: =IF(非木造_合計!N$40>0,非木造_合計!G74/非木造_合計!N$40*100,0) -> 0 | J74: 4.昇降機 | L74: =IF(非木造_合計!L$77>0,非木造_合計!L74/非木造_合計!L$77*100,0) -> 5.9834898 | M74: =IF(非木造_合計!M$77>0,非木造_合計!M74/非木造_合計!M$77*100,0) -> 0 | N74: =IF(非木造_合計!N$77>0,非木造_合計!N74/非木造_合計!N$77*100,0) -> 4.7560612
D75: 自動扉開閉装置 | E75: =IF(非木造_合計!L$40>0,非木造_合計!E75/非木造_合計!L$40*100,0) -> 0.11894781 | F75: =IF(非木造_合計!M$40>0,非木造_合計!F75/非木造_合計!M$40*100,0) -> 0.17365959 | G75: =IF(非木造_合計!N$40>0,非木造_合計!G75/非木造_合計!N$40*100,0) -> 0 | J75: 5.機械式駐車場 | L75: =IF(非木造_合計!L$77>0,非木造_合計!L75/非木造_合計!L$77*100,0) -> 2.0183742 | M75: =IF(非木造_合計!M$77>0,非木造_合計!M75/非木造_合計!M$77*100,0) -> 0 | N75: =IF(非木造_合計!N$77>0,非木造_合計!N75/非木造_合計!N$77*100,0) -> 0.21131558
D76: 上記以外の金属製建具 | E76: =IF(非木造_合計!L$40>0,非木造_合計!E76/非木造_合計!L$40*100,0) -> 0.53336444 | F76: =IF(非木造_合計!M$40>0,非木造_合計!F76/非木造_合計!M$40*100,0) -> 0.40040875 | G76: =IF(非木造_合計!N$40>0,非木造_合計!G76/非木造_合計!N$40*100,0) -> 0 | J76: 6.上記以外の設備 | L76: =IF(非木造_合計!L$77>0,非木造_合計!L76/非木造_合計!L$77*100,0) -> 3.3900412 | M76: =IF(非木造_合計!M$77>0,非木造_合計!M76/非木造_合計!M$77*100,0) -> 0 | N76: =IF(非木造_合計!N$77>0,非木造_合計!N76/非木造_合計!N$77*100,0) -> 15.176778
C77: 木製建具 | E77: =IF(非木造_合計!L$40>0,非木造_合計!E77/非木造_合計!L$40*100,0) -> 0.65765124 | F77: =IF(非木造_合計!M$40>0,非木造_合計!F77/非木造_合計!M$40*100,0) -> 0.52934822 | G77: =IF(非木造_合計!N$40>0,非木造_合計!G77/非木造_合計!N$40*100,0) -> 0 | I77: 設備工事費合計 | L77: =IF(非木造_合計!L$77>0,非木造_合計!L77/非木造_合計!L$77*100,0) -> 100 | M77: =IF(非木造_合計!M$77>0,非木造_合計!M77/非木造_合計!M$77*100,0) -> 0 | N77: =IF(非木造_合計!N$77>0,非木造_合計!N77/非木造_合計!N$77*100,0) -> 100
C78: ガラス | D78: 板ガラス | E78: =IF(非木造_合計!L$40>0,非木造_合計!E78/非木造_合計!L$40*100,0) -> 0.3678401 | F78: =IF(非木造_合計!M$40>0,非木造_合計!F78/非木造_合計!M$40*100,0) -> 0.56394521 | G78: =IF(非木造_合計!N$40>0,非木造_合計!G78/非木造_合計!N$40*100,0) -> 0
D79: 複層ガラス | E79: =IF(非木造_合計!L$40>0,非木造_合計!E79/非木造_合計!L$40*100,0) -> 0.67836181 | F79: =IF(非木造_合計!M$40>0,非木造_合計!F79/非木造_合計!M$40*100,0) -> 1.2680947 | G79: =IF(非木造_合計!N$40>0,非木造_合計!G79/非木造_合計!N$40*100,0) -> 0
D80: 上記以外のガラス | E80: =IF(非木造_合計!L$40>0,非木造_合計!E80/非木造_合計!L$40*100,0) -> 0.39617992 | F80: =IF(非木造_合計!M$40>0,非木造_合計!F80/非木造_合計!M$40*100,0) -> 0.32703275 | G80: =IF(非木造_合計!N$40>0,非木造_合計!G80/非木造_合計!N$40*100,0) -> 0

Sheet 非木造_居住専用
A2: 表1-1 平成27年建築工事費投入調査集計表（非木造_居住専用住宅）
A4: （単位：千円） | E4: =非木造_データ!N2 -> 192 | F4: =非木造_データ!O2 -> 58 | G4: =非木造_データ!P2 -> 11 | L4: =E4 -> 192 | M4: =F4 -> 58 | N4: =G4 -> 11
E5: 建築工事・ 設備工事 一貫受注 | F5: 建築工事 のみ受注 | G5: 設備工事 のみ受注 | L5: 建築工事・ 設備工事 一貫受注 | M5: 建築工事 のみ受注 | N5: 設備工事 のみ受注
A6: 工事費内訳 | B6: 1.建築工事費 | E6: =非木造_データ!N7 -> 151964627 | F6: =非木造_データ!O7 -> 36599963 | G6: =非木造_データ!P7 -> 0 | I6: 建築工事費科目別内訳(続き） | J6: 17.カーテンウォール | L6: =非木造_データ!N81 -> 44435 | M6: =非木造_データ!O81 -> 0 | N6: =非木造_データ!P81 -> 0
B7: 2.設備工事費 | E7: =非木造_データ!N8 -> 46720805 | F7: =非木造_データ!O8 -> 0 | G7: =非木造_データ!P8 -> 856993 | K7: メタルカーテンウォール | L7: =非木造_データ!N82 -> 44435 | M7: =非木造_データ!O82 -> 0 | N7: =非木造_データ!P82 -> 0
B8: 3.解体・撤去費 | E8: =非木造_データ!N9 -> 1735337 | F8: =非木造_データ!O9 -> 185711 | G8: =非木造_データ!P9 -> 7660 | K8: ＰＣカーテンウォール | L8: =非木造_データ!N83 -> 0 | M8: =非木造_データ!O83 -> 0 | N8: =非木造_データ!P83 -> 0
B9: 4.屋外施設費 | E9: =非木造_データ!N10 -> 8533927 | F9: =非木造_データ!O10 -> 1529933 | G9: =非木造_データ!P10 -> 238 | J9: 18.塗装 | L9: =非木造_データ!N84 -> 1601414 | M9: =非木造_データ!O84 -> 510977 | N9: =非木造_データ!P84 -> 0
B10: 5.共通（総合）仮設費 | E10: =非木造_データ!N11 -> 8953478 | F10: =非木造_データ!O11 -> 2261893 | G10: =非木造_データ!P11 -> 27479 | J10: 19.内外装 | L10: =非木造_データ!N85 -> 11846837 | M10: =非木造_データ!O85 -> 3202706 | N10: =非木造_データ!P85 -> 0
B11: 6.現場管理費 | E11: =非木造_データ!N12 -> 16084744 | F11: =非木造_データ!O12 -> 3565194 | G11: =非木造_データ!P12 -> 88807 | K11: フローリング | L11: =非木造_データ!N86 -> 2233600.4 | M11: =非木造_データ!O86 -> 709651 | N11: =非木造_データ!P86 -> 0
B12: 7.工事原価 | E12: =非木造_データ!N13 -> 233992918 | F12: =非木造_データ!O13 -> 44142694 | G12: =非木造_データ!P13 -> 981177 | K12: ビニル床タイル | L12: =非木造_データ!N87 -> 142701.97 | M12: =非木造_データ!O87 -> 7113 | N12: =非木造_データ!P87 -> 0
B13: 8.一般管理費等 | E13: =非木造_データ!N14 -> 14406117 | F13: =非木造_データ!O14 -> 3237667 | G13: =非木造_データ!P14 -> 82084 | K13: ビニル床シート | L13: =非木造_データ!N88 -> 683738.45 | M13: =非木造_データ!O88 -> 182537.16 | N13: =非木造_データ!P88 -> 0
A14: 9.工事価格 | E14: =非木造_データ!N15 -> 248399035 | F14: =非木造_データ!O15 -> 47380361 | G14: =非木造_データ!P15 -> 1063261 | K14: カーペット | L14: =非木造_データ!N89 -> 122590.96 | M14: =非木造_データ!O89 -> 16792 | N14: =非木造_データ!P89 -> 0
K15: 畳 | L15: =非木造_データ!N90 -> 99125.5 | M15: =非木造_データ!O90 -> 26231.978 | N15: =非木造_データ!P90 -> 0
A16: 建築工事費科目別内訳 | B16: 1.直接仮設 | E16: =非木造_データ!N16 -> 6935614 | F16: =非木造_データ!O16 -> 1562229 | G16: =非木造_データ!P16 -> 0 | K16: 合成樹脂塗床 | L16: =非木造_データ!N91 -> 30496.48 | M16: =非木造_データ!O91 -> 2715.2479 | N16: =非木造_データ!P91 -> 0
B17: 2.土工 | E17: =非木造_データ!N17 -> 6592377 | F17: =非木造_データ!O17 -> 1768811 | G17: =非木造_データ!P17 -> 0 | K17: フリーアクセスフロア | L17: =非木造_データ!N92 -> 680219.93 | M17: =非木造_データ!O92 -> 161587 | N17: =非木造_データ!P92 -> 0
C18: 建設発生土の処理 | E18: =非木造_データ!N18 -> 1892783 | F18: =非木造_データ!O18 -> 363753.7 | G18: =非木造_データ!P18 -> 0 | K18: 化粧合板 | L18: =非木造_データ!N93 -> 61952.48 | M18: =非木造_データ!O93 -> 13648.381 | N18: =非木造_データ!P93 -> 0
C19: 山留め | E19: =非木造_データ!N19 -> 2766383.6 | F19: =非木造_データ!O19 -> 632913.97 | G19: =非木造_データ!P19 -> 0 | K19: 石こうボード | L19: =非木造_データ!N94 -> 2299756.3 | M19: =非木造_データ!O94 -> 729907.88 | N19: =非木造_データ!P94 -> 0
C20: 乗入れ構台 | E20: =非木造_データ!N20 -> 289561.9 | F20: =非木造_データ!O20 -> 48987 | G20: =非木造_データ!P20 -> 0 | K20: ケイ酸カルシウム板 | L20: =非木造_データ!N95 -> 202926.47 | M20: =非木造_データ!O95 -> 33745.31 | N20: =非木造_データ!P95 -> 0
C21: 根切り・床付け | E21: =非木造_データ!N21 -> 798964.96 | F21: =非木造_データ!O21 -> 514456.16 | G21: =非木造_データ!P21 -> 0 | K21: 木毛セメント板 | L21: =非木造_データ!N96 -> 3335 | M21: =非木造_データ!O96 -> 0 | N21: =非木造_データ!P96 -> 0
C22: 上記以外の土工 | E22: =非木造_データ!N22 -> 844683.5 | F22: =非木造_データ!O22 -> 208700.17 | G22: =非木造_データ!P22 -> 0 | K22: 壁紙・ビニルクロス張り | L22: =非木造_データ!N97 -> 1984376.9 | M22: =非木造_データ!O97 -> 536135.66 | N22: =非木造_データ!P97 -> 0
B23: 3.地業 | E23: =非木造_データ!N23 -> 9614728 | F23: =非木造_データ!O23 -> 1977191 | G23: =非木造_データ!P23 -> 0 | K23: ロックウール吸音板 | L23: =非木造_データ!N98 -> 45844.98 | M23: =非木造_データ!O98 -> 2448 | N23: =非木造_データ!P98 -> 0
C24: 既製コンクリート杭 | E24: =非木造_データ!N24 -> 2266641.8 | F24: =非木造_データ!O24 -> 578504 | G24: =非木造_データ!P24 -> 0 | K24: 断熱材（グラスウール） | L24: =非木造_データ!N99 -> 432024.96 | M24: =非木造_データ!O99 -> 95531.406 | N24: =非木造_データ!P99 -> 0
C25: 場所打ちコンクリート杭 | E25: =非木造_データ!N25 -> 6376608.4 | F25: =非木造_データ!O25 -> 1227213 | G25: =非木造_データ!P25 -> 0 | K25: 合成樹脂発泡材打込み | L25: =非木造_データ!N100 -> 339299.47 | M25: =非木造_データ!O100 -> 114216 | N25: =非木造_データ!P100 -> 0
C26: 鋼杭 | E26: =非木造_データ!N26 -> 349682.32 | F26: =非木造_データ!O26 -> 75000 | G26: =非木造_データ!P26 -> 0 | K26: システム天井 | L26: =非木造_データ!N101 -> 16035.98 | M26: =非木造_データ!O101 -> 1105 | N26: =非木造_データ!P101 -> 0
C27: 地盤改良 | E27: =非木造_データ!N27 -> 391514.7 | F27: =非木造_データ!O27 -> 38186.145 | G27: =非木造_データ!P27 -> 0 | K27: 幅木・廻り縁 | L27: =非木造_データ!N102 -> 282089.48 | M27: =非木造_データ!O102 -> 43574 | N27: =非木造_データ!P102 -> 0
C28: 上記以外の地業 | E28: =非木造_データ!N28 -> 230280.82 | F28: =非木造_データ!O28 -> 58287.855 | G28: =非木造_データ!P28 -> 0 | K28: 合成樹脂製品 | L28: =非木造_データ!N103 -> 109446.99 | M28: =非木造_データ!O103 -> 12485 | N28: =非木造_データ!P103 -> 0
B29: 4.鉄筋 | E29: =非木造_データ!N29 -> 18167315 | F29: =非木造_データ!O29 -> 4649688 | G29: =非木造_データ!P29 -> 0 | K29: 上記以外の内外装 | L29: =非木造_データ!N104 -> 2077274.3 | M29: =非木造_データ!O104 -> 513281.98 | N29: =非木造_データ!P104 -> 0
B30: 5.コンクリート | E30: =非木造_データ!N30 -> 14090727 | F30: =非木造_データ!O30 -> 3674231 | G30: =非木造_データ!P30 -> 0 | J30: 20.ユニット | L30: =非木造_データ!N105 -> 11817788 | M30: =非木造_データ!O105 -> 2927250 | N30: =非木造_データ!P105 -> 0
B31: 6.型枠 | E31: =非木造_データ!N31 -> 16721069 | F31: =非木造_データ!O31 -> 4622004 | G31: =非木造_データ!P31 -> 0 | K31: 間仕切ユニット | L31: =非木造_データ!N106 -> 22615 | M31: =非木造_データ!O106 -> 48028 | N31: =非木造_データ!P106 -> 0
C32: 型枠用合板 | E32: =非木造_データ!N32 -> 15776732 | F32: =非木造_データ!O32 -> 4416417 | G32: =非木造_データ!P32 -> 0 | K32: 収納ユニット | L32: =非木造_データ!N107 -> 1192487.3 | M32: =非木造_データ!O107 -> 305166 | N32: =非木造_データ!P107 -> 0
C33: フラットデッキ型枠 | E33: =非木造_データ!N33 -> 25281.44 | F33: =非木造_データ!O33 -> 30057 | G33: =非木造_データ!P33 -> 0 | K33: 造作家具 | L33: =非木造_データ!N108 -> 1028924.6 | M33: =非木造_データ!O108 -> 233598 | N33: =非木造_データ!P108 -> 0
C34: 上記以外の型枠 | E34: =非木造_データ!N34 -> 919055.72 | F34: =非木造_データ!O34 -> 175530 | G34: =非木造_データ!P34 -> 0 | K34: キッチンユニット・吊戸棚 | L34: =非木造_データ!N109 -> 3843629.5 | M34: =非木造_データ!O109 -> 944014.43 | N34: =非木造_データ!P109 -> 0
B35: 7.鉄骨 | E35: =非木造_データ!N35 -> 3317487 | F35: =非木造_データ!O35 -> 309125 | G35: =非木造_データ!P35 -> 0 | K35: 浴槽・ユニットバス | L35: =非木造_データ!N110 -> 2956466 | M35: =非木造_データ!O110 -> 700546.7 | N35: =非木造_データ!P110 -> 0
C36: 鋼材（材料） | E36: =非木造_データ!N36 -> 1085049.6 | F36: =非木造_データ!O36 -> 112504.33 | G36: =非木造_データ!P36 -> 0 | K36: 洗面台・防水パン | L36: =非木造_データ!N111 -> 1440622.9 | M36: =非木造_データ!O111 -> 326238 | N36: =非木造_データ!P111 -> 0
C37: 工場加工組立 | E37: =非木造_データ!N37 -> 636660.25 | F37: =非木造_データ!O37 -> 68441 | G37: =非木造_データ!P37 -> 0 | K37: ブラインド・カーテン | L37: =非木造_データ!N112 -> 37708.08 | M37: =非木造_データ!O112 -> 26136 | N37: =非木造_データ!P112 -> 0
C38: 現場加工（建方・溶接・塗装） | E38: =非木造_データ!N38 -> 285267.17 | F38: =非木造_データ!O38 -> 49927.672 | G38: =非木造_データ!P38 -> 0 | K38: 上記以外のユニット | L38: =非木造_データ!N113 -> 1295334.6 | M38: =非木造_データ!O113 -> 343522.88 | N38: =非木造_データ!P113 -> 0
C39: 鉄骨運搬 | E39: =非木造_データ!N39 -> 58886.39 | F39: =非木造_データ!O39 -> 4177 | G39: =非木造_データ!P39 -> 0 | J39: 21.その他 | L39: =非木造_データ!N114 -> 5846379 | M39: =非木造_データ!O114 -> 851986 | N39: =非木造_データ!P114 -> 0
C40: 高力ボルト類 | E40: =非木造_データ!N40 -> 30852.13 | F40: =非木造_データ!O40 -> 4953 | G40: =非木造_データ!P40 -> 0 | I40: 建築工事費合計 | L40: =非木造_データ!N115 -> 151964627 | M40: =非木造_データ!O115 -> 36599963 | N40: =非木造_データ!P115 -> 0
C41: 鉄骨足場 | E41: =非木造_データ!N41 -> 47634.26 | F41: =非木造_データ!O41 -> 10674 | G41: =非木造_データ!P41 -> 0
C42: 耐火被覆板 | E42: =非木造_データ!N42 -> 30706.13 | F42: =非木造_データ!O42 -> 2054 | G42: =非木造_データ!P42 -> 0 | I42: 設備工事費科目別内訳 | J42: 1.電気 | L42: =非木造_データ!N116 -> 16436642 | M42: =非木造_データ!O116 -> 0 | N42: =非木造_データ!P116 -> 730581
C43: 耐火被覆吹付 | E43: =非木造_データ!N43 -> 76981.26 | F43: =非木造_データ!O43 -> 11934 | G43: =非木造_データ!P43 -> 0 | K43: 受変電・電力引込 | L43: =非木造_データ!N117 -> 1051028.7 | M43: =非木造_データ!O117 -> 0 | N43: =非木造_データ!P117 -> 16689
C44: 上記以外の鉄骨 | E44: =非木造_データ!N44 -> 1065449.9 | F44: =非木造_データ!O44 -> 44460 | G44: =非木造_データ!P44 -> 0 | K44: 幹線・動力 | L44: =非木造_データ!N118 -> 2748810.7 | M44: =非木造_データ!O118 -> 0 | N44: =非木造_データ!P118 -> 115986
B45: 8.既製コンクリート | E45: =非木造_データ!N45 -> 5421578 | F45: =非木造_データ!O45 -> 586227 | G45: =非木造_データ!P45 -> 0 | K45: 電灯コンセント | L45: =非木造_データ!N119 -> 3928669.9 | M45: =非木造_データ!O119 -> 0 | N45: =非木造_データ!P119 -> 260133
C46: 躯体ＰＣ板 | E46: =非木造_データ!N46 -> 4177731.8 | F46: =非木造_データ!O46 -> 293634 | G46: =非木造_データ!P46 -> 0 | K46: 照明器具 | L46: =非木造_データ!N120 -> 1441024 | M46: =非木造_データ!O120 -> 0 | N46: =非木造_データ!P120 -> 28574
C47: コンクリートブロック | E47: =非木造_データ!N47 -> 40569.64 | F47: =非木造_データ!O47 -> 9502 | G47: =非木造_データ!P47 -> 0 | K47: 電話・電話配管・IT設備 | L47: =非木造_データ!N121 -> 1397612.6 | M47: =非木造_データ!O121 -> 0 | N47: =非木造_データ!P121 -> 69684
C48: 押出成形ｾﾒﾝﾄ板・穴あきPC板 | E48: =非木造_データ!N48 -> 326850.2 | F48: =非木造_データ!O48 -> 6486 | G48: =非木造_データ!P48 -> 0 | K48: テレビ共聴 | L48: =非木造_データ!N122 -> 826049.22 | M48: =非木造_データ!O122 -> 0 | N48: =非木造_データ!P122 -> 23273
C49: ＡＬＣパネル | E49: =非木造_データ!N49 -> 851440.84 | F49: =非木造_データ!O49 -> 247453 | G49: =非木造_データ!P49 -> 0 | K49: インターホン・拡声 | L49: =非木造_データ!N123 -> 1501567.2 | M49: =非木造_データ!O123 -> 0 | N49: =非木造_データ!P123 -> 40349
C50: 上記以外の既製ｺﾝｸﾘｰﾄ | E50: =非木造_データ!N50 -> 24985.56 | F50: =非木造_データ!O50 -> 29152 | G50: =非木造_データ!P50 -> 0 | K50: 防災 | L50: =非木造_データ!N124 -> 1242718.2 | M50: =非木造_データ!O124 -> 0 | N50: =非木造_データ!P124 -> 16084
B51: 9.防水 | E51: =非木造_データ!N51 -> 3116363 | F51: =非木造_データ!O51 -> 841796 | G51: =非木造_データ!P51 -> 0 | K51: 避雷針 | L51: =非木造_データ!N125 -> 178208.74 | M51: =非木造_データ!O125 -> 0 | N51: =非木造_データ!P125 -> 2233
C52: アスファルト防水 | E52: =非木造_データ!N52 -> 832475.63 | F52: =非木造_データ!O52 -> 205433 | G52: =非木造_データ!P52 -> 0 | K52: 蓄電池 | L52: =非木造_データ!N126 -> 139509.58 | M52: =非木造_データ!O126 -> 0 | N52: =非木造_データ!P126 -> 0
C53: シート防水 | E53: =非木造_データ!N53 -> 147839.81 | F53: =非木造_データ!O53 -> 16463.59 | G53: =非木造_データ!P53 -> 0 | K53: 屋外施設の電気設備（外灯、門灯） | L53: =非木造_データ!N127 -> 220007.32 | M53: =非木造_データ!O127 -> 0 | N53: =非木造_データ!P127 -> 10045
C54: モルタル防水 | E54: =非木造_データ!N54 -> 90290.71 | F54: =非木造_データ!O54 -> 8822.8651 | G54: =非木造_データ!P54 -> 0 | K54: 上記以外の電気設備 | L54: =非木造_データ!N128 -> 1037973.9 | M54: =非木造_データ!O128 -> 0 | N54: =非木造_データ!P128 -> 6199
C55: 塗膜防水 | E55: =非木造_データ!N55 -> 945166.42 | F55: =非木造_データ!O55 -> 254459 | G55: =非木造_データ!P55 -> 0 | J55: 2.空調 | L55: =非木造_データ!N129 -> 6530712 | M55: =非木造_データ!O129 -> 0 | N55: =非木造_データ!P129 -> 5020
C56: 伸縮目地 | E56: =非木造_データ!N56 -> 32407.62 | F56: =非木造_データ!O56 -> 8682 | G56: =非木造_データ!P56 -> 0 | K56: 空調機器 | L56: =非木造_データ!N130 -> 1428228.3 | M56: =非木造_データ!O130 -> 0 | N56: =非木造_データ!P130 -> 180
C57: シーリング | E57: =非木造_データ!N57 -> 956580.55 | F57: =非木造_データ!O57 -> 306255.55 | G57: =非木造_データ!P57 -> 0 | K57: ダクト | L57: =非木造_データ!N131 -> 555158.31 | M57: =非木造_データ!O131 -> 0 | N57: =非木造_データ!P131 -> 0
C58: 上記以外の防水 | E58: =非木造_データ!N58 -> 111602.26 | F58: =非木造_データ!O58 -> 41680 | G58: =非木造_データ!P58 -> 0 | K58: 空調配管 | L58: =非木造_データ!N132 -> 573953.92 | M58: =非木造_データ!O132 -> 0 | N58: =非木造_データ!P132 -> 0
B59: 10.石 | E59: =非木造_データ!N59 -> 1215049 | F59: =非木造_データ!O59 -> 256749 | G59: =非木造_データ!P59 -> 0 | K59: 自動制御 | L59: =非木造_データ!N133 -> 246611.83 | M59: =非木造_データ!O133 -> 0 | N59: =非木造_データ!P133 -> 0
B60: 11.タイル | E60: =非木造_データ!N60 -> 3960589 | F60: =非木造_データ!O60 -> 962320 | G60: =非木造_データ!P60 -> 0 | K60: 換気 | L60: =非木造_データ!N134 -> 2138708.9 | M60: =非木造_データ!O134 -> 0 | N60: =非木造_データ!P134 -> 4640
B61: 12.木工 | E61: =非木造_データ!N61 -> 5923341 | F61: =非木造_データ!O61 -> 1515343 | G61: =非木造_データ!P61 -> 0 | K61: 床暖房 | L61: =非木造_データ!N135 -> 999306.74 | M61: =非木造_データ!O135 -> 0 | N61: =非木造_データ!P135 -> 0
B62: 13.屋根及びとい | E62: =非木造_データ!N62 -> 789613 | F62: =非木造_データ!O62 -> 165925 | G62: =非木造_データ!P62 -> 0 | K62: 上記以外の空調設備 | L62: =非木造_データ!N136 -> 357967.96 | M62: =非木造_データ!O136 -> 0 | N62: =非木造_データ!P136 -> 0
C63: 金属板 | E63: =非木造_データ!N63 -> 157339.04 | F63: =非木造_データ!O63 -> 57057.994 | G63: =非木造_データ!P63 -> 0 | J63: 3.衛生 | L63: =非木造_データ!N137 -> 18327068 | M63: =非木造_データ!O137 -> 0 | N63: =非木造_データ!P137 -> 88418
C64: 瓦 | E64: =非木造_データ!N64 -> 5490.53 | F64: =非木造_データ!O64 -> 6873 | G64: =非木造_データ!P64 -> 0 | K64: 給水 | L64: =非木造_データ!N138 -> 3497737.3 | M64: =非木造_データ!O138 -> 0 | N64: =非木造_データ!P138 -> 27230
C65: ルーフドレイン | E65: =非木造_データ!N65 -> 84493.34 | F65: =非木造_データ!O65 -> 15644.046 | G65: =非木造_データ!P65 -> 0 | K65: 給湯 | L65: =非木造_データ!N139 -> 1497085 | M65: =非木造_データ!O139 -> 0 | N65: =非木造_データ!P139 -> 9029
C66: とい | E66: =非木造_データ!N66 -> 498845.2 | F66: =非木造_データ!O66 -> 84232.96 | G66: =非木造_データ!P66 -> 0 | K66: 排水通気 | L66: =非木造_データ!N140 -> 4460064.5 | M66: =非木造_データ!O140 -> 0 | N66: =非木造_データ!P140 -> 14858
C67: 上記以外の屋根及びとい | E67: =非木造_データ!N67 -> 43444.89 | F67: =非木造_データ!O67 -> 2117 | G67: =非木造_データ!P67 -> 0 | K67: 衛生器具 | L67: =非木造_データ!N141 -> 1958021.8 | M67: =非木造_データ!O141 -> 0 | N67: =非木造_データ!P141 -> 10937
B68: 14.金属 | E68: =非木造_データ!N68 -> 6908203 | F68: =非木造_データ!O68 -> 1712451 | G68: =非木造_データ!P68 -> 0 | K68: 消火 | L68: =非木造_データ!N142 -> 1785053.5 | M68: =非木造_データ!O142 -> 0 | N68: =非木造_データ!P142 -> 0
B69: 15.左官 | E69: =非木造_データ!N69 -> 4426758 | F69: =非木造_データ!O69 -> 1220042 | G69: =非木造_データ!P69 -> 0 | K69: ガス | L69: =非木造_データ!N143 -> 2719313 | M69: =非木造_データ!O143 -> 0 | N69: =非木造_データ!P143 -> 4680
B70: 16.建具 | E70: =非木造_データ!N70 -> 13606963 | F70: =非木造_データ!O70 -> 3282912 | G70: =非木造_データ!P70 -> 0 | K70: 厨房機器 | L70: =非木造_データ!N144 -> 66034.05 | M70: =非木造_データ!O144 -> 0 | N70: =非木造_データ!P144 -> 0
C71: 金属製建具 | D71: アルミニウム製建具 | E71: =非木造_データ!N71 -> 3698987.7 | F71: =非木造_データ!O71 -> 988850.09 | G71: =非木造_データ!P71 -> 0 | K71: 浄化槽 | L71: =非木造_データ!N145 -> 62406.1 | M71: =非木造_データ!O145 -> 0 | N71: =非木造_データ!P145 -> 3000
D72: 鋼製建具 | E72: =非木造_データ!N72 -> 2937839.4 | F72: =非木造_データ!O72 -> 831152.54 | G72: =非木造_データ!P72 -> 0 | K72: 貯水槽 | L72: =非木造_データ!N146 -> 36280.05 | M72: =非木造_データ!O146 -> 0 | N72: =非木造_データ!P146 -> 0
D73: ステンレス製建具 | E73: =非木造_データ!N73 -> 566946.75 | F73: =非木造_データ!O73 -> 117168 | G73: =非木造_データ!P73 -> 0 | K73: 上記以外の衛生設備 | L73: =非木造_データ!N147 -> 1348371.7 | M73: =非木造_データ!O147 -> 0 | N73: =非木造_データ!P147 -> 18684
D74: シャッター | E74: =非木造_データ!N74 -> 170930 | F74: =非木造_データ!O74 -> 37336 | G74: =非木造_データ!P74 -> 0 | J74: 4.昇降機 | L74: =非木造_データ!N148 -> 2202962 | M74: =非木造_データ!O148 -> 0 | N74: =非木造_データ!P148 -> 32974
D75: 自動扉開閉装置 | E75: =非木造_データ!N75 -> 202906.95 | F75: =非木造_データ!O75 -> 32957 | G75: =非木造_データ!P75 -> 0 | J75: 5.機械式駐車場 | L75: =非木造_データ!N149 -> 2399448 | M75: =非木造_データ!O149 -> 0 | N75: =非木造_データ!P149 -> 0
D76: 上記以外の金属製建具 | E76: =非木造_データ!N76 -> 887009.35 | F76: =非木造_データ!O76 -> 77887 | G76: =非木造_データ!P76 -> 0 | J76: 6.上記以外の設備 | L76: =非木造_データ!N150 -> 823973 | M76: =非木造_データ!O150 -> 0 | N76: =非木造_データ!P150 -> 0
C77: 木製建具 | E77: =非木造_データ!N77 -> 2946227.5 | F77: =非木造_データ!O77 -> 676196.46 | G77: =非木造_データ!P77 -> 0 | I77: 設備工事費合計 | L77: =非木造_データ!N151 -> 46720805 | M77: =非木造_データ!O151 -> 0 | N77: =非木造_データ!P151 -> 856993
C78: ガラス | D78: 板ガラス | E78: =非木造_データ!N78 -> 450143.8 | F78: =非木造_データ!O78 -> 125982.91 | G78: =非木造_データ!P78 -> 0
D79: 複層ガラス | E79: =非木造_データ!N79 -> 1159641.5 | F79: =非木造_データ!O79 -> 263459 | G79: =非木造_データ!P79 -> 0
D80: 上記以外のガラス | E80: =非木造_データ!N80 -> 586330 | F80: =非木造_データ!O80 -> 131923 | G80: =非木造_データ!P80 -> 0

Sheet 非木造_居住専用 (比率)
A2: =非木造_居住専用!A2:N2 -> 表1-1 平成27年建築工事費投入調査集計表（非木造_居住専用住宅）
A4: （単位：％） | E4: =非木造_居住専用!E4 -> 192 | F4: =非木造_居住専用!F4 -> 58 | G4: =非木造_居住専用!G4 -> 11 | L4: =非木造_居住専用!L4 -> 192 | M4: =非木造_居住専用!M4 -> 58 | N4: =非木造_居住専用!N4 -> 11
E5: 建築工事・ 設備工事 一貫受注 | F5: 建築工事 のみ受注 | G5: 設備工事 のみ受注 | L5: 建築工事・ 設備工事 一貫受注 | M5: 建築工事 のみ受注 | N5: 設備工事 のみ受注
A6: 工事費内訳 | B6: 1.建築工事費 | E6: =IF(非木造_居住専用!E$14>0,非木造_居住専用!E6/非木造_居住専用!E$14*100,0) -> 61.177624 | F6: =IF(非木造_居住専用!F$14>0,非木造_居住専用!F6/非木造_居住専用!F$14*100,0) -> 77.247117 | G6: =IF(非木造_居住専用!G$14>0,非木造_居住専用!G6/非木造_居住専用!G$14*100,0) -> 0 | I6: 建築工事費科目別内訳(続き） | J6: 17.カーテンウォール | L6: =IF(非木造_居住専用!L$40>0,非木造_居住専用!L6/非木造_居住専用!L$40*100,0) -> 0.029240357 | M6: =IF(非木造_居住専用!M$40>0,非木造_居住専用!M6/非木造_居住専用!M$40*100,0) -> 0 | N6: =IF(非木造_居住専用!N$40>0,非木造_居住専用!N6/非木造_居住専用!N$40*100,0) -> 0
B7: 2.設備工事費 | E7: =IF(非木造_居住専用!E$14>0,非木造_居住専用!E7/非木造_居住専用!E$14*100,0) -> 18.808771 | F7: =IF(非木造_居住専用!F$14>0,非木造_居住専用!F7/非木造_居住専用!F$14*100,0) -> 0 | G7: =IF(非木造_居住専用!G$14>0,非木造_居住専用!G7/非木造_居住専用!G$14*100,0) -> 80.600436 | K7: メタルカーテンウォール | L7: =IF(非木造_居住専用!L$40>0,非木造_居住専用!L7/非木造_居住専用!L$40*100,0) -> 0.029240357 | M7: =IF(非木造_居住専用!M$40>0,非木造_居住専用!M7/非木造_居住専用!M$40*100,0) -> 0 | N7: =IF(非木造_居住専用!N$40>0,非木造_居住専用!N7/非木造_居住専用!N$40*100,0) -> 0
B8: 3.解体・撤去費 | E8: =IF(非木造_居住専用!E$14>0,非木造_居住専用!E8/非木造_居住専用!E$14*100,0) -> 0.69860859 | F8: =IF(非木造_居住専用!F$14>0,非木造_居住専用!F8/非木造_居住専用!F$14*100,0) -> 0.39195776 | G8: =IF(非木造_居住専用!G$14>0,非木造_居住専用!G8/非木造_居住専用!G$14*100,0) -> 0.72042518 | K8: ＰＣカーテンウォール | L8: =IF(非木造_居住専用!L$40>0,非木造_居住専用!L8/非木造_居住専用!L$40*100,0) -> 0 | M8: =IF(非木造_居住専用!M$40>0,非木造_居住専用!M8/非木造_居住専用!M$40*100,0) -> 0 | N8: =IF(非木造_居住専用!N$40>0,非木造_居住専用!N8/非木造_居住専用!N$40*100,0) -> 0
B9: 4.屋外施設費 | E9: =IF(非木造_居住専用!E$14>0,非木造_居住専用!E9/非木造_居住専用!E$14*100,0) -> 3.4355717 | F9: =IF(非木造_居住専用!F$14>0,非木造_居住専用!F9/非木造_居住専用!F$14*100,0) -> 3.2290446 | G9: =IF(非木造_居住専用!G$14>0,非木造_居住専用!G9/非木造_居住専用!G$14*100,0) -> 0.022383968 | J9: 18.塗装 | L9: =IF(非木造_居住専用!L$40>0,非木造_居住専用!L9/非木造_居住専用!L$40*100,0) -> 1.0538071 | M9: =IF(非木造_居住専用!M$40>0,非木造_居住専用!M9/非木造_居住専用!M$40*100,0) -> 1.3961134 | N9: =IF(非木造_居住専用!N$40>0,非木造_居住専用!N9/非木造_居住専用!N$40*100,0) -> 0
B10: 5.共通（総合）仮設費 | E10: =IF(非木造_居住専用!E$14>0,非木造_居住専用!E10/非木造_居住専用!E$14*100,0) -> 3.6044737 | F10: =IF(非木造_居住専用!F$14>0,非木造_居住専用!F10/非木造_居住専用!F$14*100,0) -> 4.7739041 | G10: =IF(非木造_居住専用!G$14>0,非木造_居住専用!G10/非木造_居住専用!G$14*100,0) -> 2.5844078 | J10: 19.内外装 | L10: =IF(非木造_居住専用!L$40>0,非木造_居住専用!L10/非木造_居住専用!L$40*100,0) -> 7.7957859 | M10: =IF(非木造_居住専用!M$40>0,非木造_居住専用!M10/非木造_居住専用!M$40*100,0) -> 8.7505717 | N10: =IF(非木造_居住専用!N$40>0,非木造_居住専用!N10/非木造_居住専用!N$40*100,0) -> 0
B11: 6.現場管理費 | E11: =IF(非木造_居住専用!E$14>0,非木造_居住専用!E11/非木造_居住専用!E$14*100,0) -> 6.4753649 | F11: =IF(非木造_居住専用!F$14>0,非木造_居住専用!F11/非木造_居住専用!F$14*100,0) -> 7.524624 | G11: =IF(非木造_居住専用!G$14>0,非木造_居住専用!G11/非木造_居住専用!G$14*100,0) -> 8.3523237 | K11: フローリング | L11: =IF(非木造_居住専用!L$40>0,非木造_居住専用!L11/非木造_居住専用!L$40*100,0) -> 1.469816 | M11: =IF(非木造_居住専用!M$40>0,非木造_居住専用!M11/非木造_居住専用!M$40*100,0) -> 1.9389391 | N11: =IF(非木造_居住専用!N$40>0,非木造_居住専用!N11/非木造_居住専用!N$40*100,0) -> 0
B12: 7.工事原価 | E12: =IF(非木造_居住専用!E$14>0,非木造_居住専用!E12/非木造_居住専用!E$14*100,0) -> 94.200413 | F12: =IF(非木造_居住専用!F$14>0,非木造_居住専用!F12/非木造_居住専用!F$14*100,0) -> 93.166648 | G12: =IF(非木造_居住専用!G$14>0,非木造_居住専用!G12/非木造_居住専用!G$14*100,0) -> 92.279976 | K12: ビニル床タイル | L12: =IF(非木造_居住専用!L$40>0,非木造_居住専用!L12/非木造_居住専用!L$40*100,0) -> 0.093904728 | M12: =IF(非木造_居住専用!M$40>0,非木造_居住専用!M12/非木造_居住専用!M$40*100,0) -> 0.019434446 | N12: =IF(非木造_居住専用!N$40>0,非木造_居住専用!N12/非木造_居住専用!N$40*100,0) -> 0
B13: 8.一般管理費等 | E13: =IF(非木造_居住専用!E$14>0,非木造_居住専用!E13/非木造_居住専用!E$14*100,0) -> 5.7995865 | F13: =IF(非木造_居住専用!F$14>0,非木造_居住専用!F13/非木造_居住専用!F$14*100,0) -> 6.8333523 | G13: =IF(非木造_居住専用!G$14>0,非木造_居住専用!G13/非木造_居住専用!G$14*100,0) -> 7.7200236 | K13: ビニル床シート | L13: =IF(非木造_居住専用!L$40>0,非木造_居住専用!L13/非木造_居住専用!L$40*100,0) -> 0.44993263 | M13: =IF(非木造_居住専用!M$40>0,非木造_居住専用!M13/非木造_居住専用!M$40*100,0) -> 0.49873591 | N13: =IF(非木造_居住専用!N$40>0,非木造_居住専用!N13/非木造_居住専用!N$40*100,0) -> 0
A14: 9.工事価格 | E14: =IF(非木造_居住専用!E$14>0,非木造_居住専用!E14/非木造_居住専用!E$14*100,0) -> 100 | F14: =IF(非木造_居住専用!F$14>0,非木造_居住専用!F14/非木造_居住専用!F$14*100,0) -> 100 | G14: =IF(非木造_居住専用!G$14>0,非木造_居住専用!G14/非木造_居住専用!G$14*100,0) -> 100 | K14: カーペット | L14: =IF(非木造_居住専用!L$40>0,非木造_居住専用!L14/非木造_居住専用!L$40*100,0) -> 0.080670721 | M14: =IF(非木造_居住専用!M$40>0,非木造_居住専用!M14/非木造_居住専用!M$40*100,0) -> 0.045879828 | N14: =IF(非木造_居住専用!N$40>0,非木造_居住専用!N14/非木造_居住専用!N$40*100,0) -> 0
K15: 畳 | L15: =IF(非木造_居住専用!L$40>0,非木造_居住専用!L15/非木造_居住専用!L$40*100,0) -> 0.065229325 | M15: =IF(非木造_居住専用!M$40>0,非木造_居住専用!M15/非木造_居住専用!M$40*100,0) -> 0.071672144 | N15: =IF(非木造_居住専用!N$40>0,非木造_居住専用!N15/非木造_居住専用!N$40*100,0) -> 0
A16: 建築工事費科目別内訳 | B16: 1.直接仮設 | E16: =IF(非木造_居住専用!L$40>0,非木造_居住専用!E16/非木造_居住専用!L$40*100,0) -> 4.5639661 | F16: =IF(非木造_居住専用!M$40>0,非木造_居住専用!F16/非木造_居住専用!M$40*100,0) -> 4.2683896 | G16: =IF(非木造_居住専用!N$40>0,非木造_居住専用!G16/非木造_居住専用!N$40*100,0) -> 0 | K16: 合成樹脂塗床 | L16: =IF(非木造_居住専用!L$40>0,非木造_居住専用!L16/非木造_居住専用!L$40*100,0) -> 0.020068144 | M16: =IF(非木造_居住専用!M$40>0,非木造_居住専用!M16/非木造_居住専用!M$40*100,0) -> 0.0074187177 | N16: =IF(非木造_居住専用!N$40>0,非木造_居住専用!N16/非木造_居住専用!N$40*100,0) -> 0
B17: 2.土工 | E17: =IF(非木造_居住専用!L$40>0,非木造_居住専用!E17/非木造_居住専用!L$40*100,0) -> 4.3380997 | F17: =IF(非木造_居住専用!M$40>0,非木造_居住専用!F17/非木造_居住専用!M$40*100,0) -> 4.8328218 | G17: =IF(非木造_居住専用!N$40>0,非木造_居住専用!G17/非木造_居住専用!N$40*100,0) -> 0 | K17: フリーアクセスフロア | L17: =IF(非木造_居住専用!L$40>0,非木造_居住専用!L17/非木造_居住専用!L$40*100,0) -> 0.44761728 | M17: =IF(非木造_居住専用!M$40>0,非木造_居住専用!M17/非木造_居住専用!M$40*100,0) -> 0.44149498 | N17: =IF(非木造_居住専用!N$40>0,非木造_居住専用!N17/非木造_居住専用!N$40*100,0) -> 0
C18: 建設発生土の処理 | E18: =IF(非木造_居住専用!L$40>0,非木造_居住専用!E18/非木造_居住専用!L$40*100,0) -> 1.2455418 | F18: =IF(非木造_居住専用!M$40>0,非木造_居住専用!F18/非木造_居住専用!M$40*100,0) -> 0.99386357 | G18: =IF(非木造_居住専用!N$40>0,非木造_居住専用!G18/非木造_居住専用!N$40*100,0) -> 0 | K18: 化粧合板 | L18: =IF(非木造_居住専用!L$40>0,非木造_居住専用!L18/非木造_居住専用!L$40*100,0) -> 0.040767698 | M18: =IF(非木造_居住専用!M$40>0,非木造_居住専用!M18/非木造_居住専用!M$40*100,0) -> 0.037290696 | N18: =IF(非木造_居住専用!N$40>0,非木造_居住専用!N18/非木造_居住専用!N$40*100,0) -> 0
C19: 山留め | E19: =IF(非木造_居住専用!L$40>0,非木造_居住専用!E19/非木造_居住専用!L$40*100,0) -> 1.8204129 | F19: =IF(非木造_居住専用!M$40>0,非木造_居住専用!F19/非木造_居住専用!M$40*100,0) -> 1.7292749 | G19: =IF(非木造_居住専用!N$40>0,非木造_居住専用!G19/非木造_居住専用!N$40*100,0) -> 0 | K19: 石こうボード | L19: =IF(非木造_居住専用!L$40>0,非木造_居住専用!L19/非木造_居住専用!L$40*100,0) -> 1.5133497 | M19: =IF(非木造_居住専用!M$40>0,非木造_居住専用!M19/非木造_居住専用!M$40*100,0) -> 1.9942858 | N19: =IF(非木造_居住専用!N$40>0,非木造_居住専用!N19/非木造_居住専用!N$40*100,0) -> 0
C20: 乗入れ構台 | E20: =IF(非木造_居住専用!L$40>0,非木造_居住専用!E20/非木造_居住専用!L$40*100,0) -> 0.19054559 | F20: =IF(非木造_居住専用!M$40>0,非木造_居住専用!F20/非木造_居住専用!M$40*100,0) -> 0.1338444 | G20: =IF(非木造_居住専用!N$40>0,非木造_居住専用!G20/非木造_居住専用!N$40*100,0) -> 0 | K20: ケイ酸カルシウム板 | L20: =IF(非木造_居住専用!L$40>0,非木造_居住専用!L20/非木造_居住専用!L$40*100,0) -> 0.13353533 | M20: =IF(非木造_居住専用!M$40>0,非木造_居住専用!M20/非木造_居住専用!M$40*100,0) -> 0.092200394 | N20: =IF(非木造_居住専用!N$40>0,非木造_居住専用!N20/非木造_居住専用!N$40*100,0) -> 0
C21: 根切り・床付け | E21: =IF(非木造_居住専用!L$40>0,非木造_居住専用!E21/非木造_居住専用!L$40*100,0) -> 0.52575719 | F21: =IF(非木造_居住専用!M$40>0,非木造_居住専用!F21/非木造_居住専用!M$40*100,0) -> 1.4056193 | G21: =IF(非木造_居住専用!N$40>0,非木造_居住専用!G21/非木造_居住専用!N$40*100,0) -> 0 | K21: 木毛セメント板 | L21: =IF(非木造_居住専用!L$40>0,非木造_居住専用!L21/非木造_居住専用!L$40*100,0) -> 0.0021945897 | M21: =IF(非木造_居住専用!M$40>0,非木造_居住専用!M21/非木造_居住専用!M$40*100,0) -> 0 | N21: =IF(非木造_居住専用!N$40>0,非木造_居住専用!N21/非木造_居住専用!N$40*100,0) -> 0
C22: 上記以外の土工 | E22: =IF(非木造_居住専用!L$40>0,非木造_居住専用!E22/非木造_居住専用!L$40*100,0) -> 0.55584218 | F22: =IF(非木造_居住専用!M$40>0,非木造_居住専用!F22/非木造_居住専用!M$40*100,0) -> 0.57021963 | G22: =IF(非木造_居住専用!N$40>0,非木造_居住専用!G22/非木造_居住専用!N$40*100,0) -> 0 | K22: 壁紙・ビニルクロス張り | L22: =IF(非木造_居住専用!L$40>0,非木造_居住専用!L22/非木造_居住専用!L$40*100,0) -> 1.305815 | M22: =IF(非木造_居住専用!M$40>0,非木造_居住専用!M22/非木造_居住専用!M$40*100,0) -> 1.464853 | N22: =IF(非木造_居住専用!N$40>0,非木造_居住専用!N22/非木造_居住専用!N$40*100,0) -> 0
B23: 3.地業 | E23: =IF(非木造_居住専用!L$40>0,非木造_居住専用!E23/非木造_居住専用!L$40*100,0) -> 6.3269513 | F23: =IF(非木造_居住専用!M$40>0,非木造_居住専用!F23/非木造_居住専用!M$40*100,0) -> 5.4021667 | G23: =IF(非木造_居住専用!N$40>0,非木造_居住専用!G23/非木造_居住専用!N$40*100,0) -> 0 | K23: ロックウール吸音板 | L23: =IF(非木造_居住専用!L$40>0,非木造_居住専用!L23/非木造_居住専用!L$40*100,0) -> 0.030168192 | M23: =IF(非木造_居住専用!M$40>0,非木造_居住専用!M23/非木造_居住専用!M$40*100,0) -> 0.0066885314 | N23: =IF(非木造_居住専用!N$40>0,非木造_居住専用!N23/非木造_居住専用!N$40*100,0) -> 0
C24: 既製コンクリート杭 | E24: =IF(非木造_居住専用!L$40>0,非木造_居住専用!E24/非木造_居住専用!L$40*100,0) -> 1.4915588 | F24: =IF(非木造_居住専用!M$40>0,非木造_居住専用!F24/非木造_居住専用!M$40*100,0) -> 1.5806136 | G24: =IF(非木造_居住専用!N$40>0,非木造_居住専用!G24/非木造_居住専用!N$40*100,0) -> 0 | K24: 断熱材（グラスウール） | L24: =IF(非木造_居住専用!L$40>0,非木造_居住専用!L24/非木造_居住専用!L$40*100,0) -> 0.28429311 | M24: =IF(非木造_居住専用!M$40>0,非木造_居住専用!M24/非木造_居住専用!M$40*100,0) -> 0.26101503 | N24: =IF(非木造_居住専用!N$40>0,非木造_居住専用!N24/非木造_居住専用!N$40*100,0) -> 0
C25: 場所打ちコンクリート杭 | E25: =IF(非木造_居住専用!L$40>0,非木造_居住専用!E25/非木造_居住専用!L$40*100,0) -> 4.1961136 | F25: =IF(非木造_居住専用!M$40>0,非木造_居住専用!F25/非木造_居住専用!M$40*100,0) -> 3.3530444 | G25: =IF(非木造_居住専用!N$40>0,非木造_居住専用!G25/非木造_居住専用!N$40*100,0) -> 0 | K25: 合成樹脂発泡材打込み | L25: =IF(非木造_居住専用!L$40>0,非木造_居住専用!L25/非木造_居住専用!L$40*100,0) -> 0.2232753 | M25: =IF(非木造_居住専用!M$40>0,非木造_居住専用!M25/非木造_居住専用!M$40*100,0) -> 0.31206589 | N25: =IF(非木造_居住専用!N$40>0,非木造_居住専用!N25/非木造_居住専用!N$40*100,0) -> 0
C26: 鋼杭 | E26: =IF(非木造_居住専用!L$40>0,非木造_居住専用!E26/非木造_居住専用!L$40*100,0) -> 0.23010771 | F26: =IF(非木造_居住専用!M$40>0,非木造_居住専用!F26/非木造_居住専用!M$40*100,0) -> 0.20491824 | G26: =IF(非木造_居住専用!N$40>0,非木造_居住専用!G26/非木造_居住専用!N$40*100,0) -> 0 | K26: システム天井 | L26: =IF(非木造_居住専用!L$40>0,非木造_居住専用!L26/非木造_居住専用!L$40*100,0) -> 0.010552443 | M26: =IF(非木造_居住専用!M$40>0,非木造_居住専用!M26/非木造_居住専用!M$40*100,0) -> 0.0030191287 | N26: =IF(非木造_居住専用!N$40>0,非木造_居住専用!N26/非木造_居住専用!N$40*100,0) -> 0
C27: 地盤改良 | E27: =IF(非木造_居住専用!L$40>0,非木造_居住専用!E27/非木造_居住専用!L$40*100,0) -> 0.25763542 | F27: =IF(非木造_居住専用!M$40>0,非木造_居住専用!F27/非木造_居住専用!M$40*100,0) -> 0.10433383 | G27: =IF(非木造_居住専用!N$40>0,非木造_居住専用!G27/非木造_居住専用!N$40*100,0) -> 0 | K27: 幅木・廻り縁 | L27: =IF(非木造_居住専用!L$40>0,非木造_居住専用!L27/非木造_居住専用!L$40*100,0) -> 0.18562838 | M27: =IF(非木造_居住専用!M$40>0,非木造_居住専用!M27/非木造_居住専用!M$40*100,0) -> 0.11905477 | N27: =IF(非木造_居住専用!N$40>0,非木造_居住専用!N27/非木造_居住専用!N$40*100,0) -> 0
C28: 上記以外の地業 | E28: =IF(非木造_居住専用!L$40>0,非木造_居住専用!E28/非木造_居住専用!L$40*100,0) -> 0.1515358 | F28: =IF(非木造_居住専用!M$40>0,非木造_居住専用!F28/非木造_居住専用!M$40*100,0) -> 0.1592566 | G28: =IF(非木造_居住専用!N$40>0,非木造_居住専用!G28/非木造_居住専用!N$40*100,0) -> 0 | K28: 合成樹脂製品 | L28: =IF(非木造_居住専用!L$40>0,非木造_居住専用!L28/非木造_居住専用!L$40*100,0) -> 0.072021359 | M28: =IF(非木造_居住専用!M$40>0,非木造_居住専用!M28/非木造_居住専用!M$40*100,0) -> 0.034112056 | N28: =IF(非木造_居住専用!N$40>0,非木造_居住専用!N28/非木造_居住専用!N$40*100,0) -> 0
B29: 4.鉄筋 | E29: =IF(非木造_居住専用!L$40>0,非木造_居住専用!E29/非木造_居住専用!L$40*100,0) -> 11.954963 | F29: =IF(非木造_居住専用!M$40>0,非木造_居住専用!F29/非木造_居住専用!M$40*100,0) -> 12.704078 | G29: =IF(非木造_居住専用!N$40>0,非木造_居住専用!G29/非木造_居住専用!N$40*100,0) -> 0 | K29: 上記以外の内外装 | L29: =IF(非木造_居住専用!L$40>0,非木造_居住専用!L29/非木造_居住専用!L$40*100,0) -> 1.3669459 | M29: =IF(非木造_居住専用!M$40>0,非木造_居住専用!M29/非木造_居住専用!M$40*100,0) -> 1.4024112 | N29: =IF(非木造_居住専用!N$40>0,非木造_居住専用!N29/非木造_居住専用!N$40*100,0) -> 0
B30: 5.コンクリート | E30: =IF(非木造_居住専用!L$40>0,非木造_居住専用!E30/非木造_居住専用!L$40*100,0) -> 9.272373 | F30: =IF(非木造_居住専用!M$40>0,非木造_居住専用!F30/非木造_居住専用!M$40*100,0) -> 10.038893 | G30: =IF(非木造_居住専用!N$40>0,非木造_居住専用!G30/非木造_居住専用!N$40*100,0) -> 0 | J30: 20.ユニット | L30: =IF(非木造_居住専用!L$40>0,非木造_居住専用!L30/非木造_居住専用!L$40*100,0) -> 7.7766703 | M30: =IF(非木造_居住専用!M$40>0,非木造_居住専用!M30/非木造_居住専用!M$40*100,0) -> 7.9979589 | N30: =IF(非木造_居住専用!N$40>0,非木造_居住専用!N30/非木造_居住専用!N$40*100,0) -> 0
B31: 6.型枠 | E31: =IF(非木造_居住専用!L$40>0,非木造_居住専用!E31/非木造_居住専用!L$40*100,0) -> 11.003264 | F31: =IF(非木造_居住専用!M$40>0,非木造_居住専用!F31/非木造_居住専用!M$40*100,0) -> 12.628439 | G31: =IF(非木造_居住専用!N$40>0,非木造_居住専用!G31/非木造_居住専用!N$40*100,0) -> 0 | K31: 間仕切ユニット | L31: =IF(非木造_居住専用!L$40>0,非木造_居住専用!L31/非木造_居住専用!L$40*100,0) -> 0.014881753 | M31: =IF(非木造_居住専用!M$40>0,非木造_居住専用!M31/非木造_居住専用!M$40*100,0) -> 0.13122418 | N31: =IF(非木造_居住専用!N$40>0,非木造_居住専用!N31/非木造_居住専用!N$40*100,0) -> 0
C32: 型枠用合板 | E32: =IF(非木造_居住専用!L$40>0,非木造_居住専用!E32/非木造_居住専用!L$40*100,0) -> 10.381845 | F32: =IF(非木造_居住専用!M$40>0,非木造_居住専用!F32/非木造_居住専用!M$40*100,0) -> 12.066725 | G32: =IF(非木造_居住専用!N$40>0,非木造_居住専用!G32/非木造_居住専用!N$40*100,0) -> 0 | K32: 収納ユニット | L32: =IF(非木造_居住専用!L$40>0,非木造_居住専用!L32/非木造_居住専用!L$40*100,0) -> 0.78471372 | M32: =IF(非木造_居住専用!M$40>0,非木造_居住専用!M32/非木造_居住専用!M$40*100,0) -> 0.83378773 | N32: =IF(非木造_居住専用!N$40>0,非木造_居住専用!N32/非木造_居住専用!N$40*100,0) -> 0
C33: フラットデッキ型枠 | E33: =IF(非木造_居住専用!L$40>0,非木造_居住専用!E33/非木造_居住専用!L$40*100,0) -> 0.016636398 | F33: =IF(非木造_居住専用!M$40>0,非木造_居住専用!F33/非木造_居住専用!M$40*100,0) -> 0.082123034 | G33: =IF(非木造_居住専用!N$40>0,非木造_居住専用!G33/非木造_居住専用!N$40*100,0) -> 0 | K33: 造作家具 | L33: =IF(非木造_居住専用!L$40>0,非木造_居住専用!L33/非木造_居住専用!L$40*100,0) -> 0.67708167 | M33: =IF(非木造_居住専用!M$40>0,非木造_居住専用!M33/非木造_居住専用!M$40*100,0) -> 0.63824655 | N33: =IF(非木造_居住専用!N$40>0,非木造_居住専用!N33/非木造_居住専用!N$40*100,0) -> 0
C34: 上記以外の型枠 | E34: =IF(非木造_居住専用!L$40>0,非木造_居住専用!E34/非木造_居住専用!L$40*100,0) -> 0.60478266 | F34: =IF(非木造_居住専用!M$40>0,非木造_居住専用!F34/非木造_居住専用!M$40*100,0) -> 0.47959065 | G34: =IF(非木造_居住専用!N$40>0,非木造_居住専用!G34/非木造_居住専用!N$40*100,0) -> 0 | K34: キッチンユニット・吊戸棚 | L34: =IF(非木造_居住専用!L$40>0,非木造_居住専用!L34/非木造_居住専用!L$40*100,0) -> 2.5292922 | M34: =IF(非木造_居住専用!M$40>0,非木造_居住専用!M34/非木造_居住専用!M$40*100,0) -> 2.579277 | N34: =IF(非木造_居住専用!N$40>0,非木造_居住専用!N34/非木造_居住専用!N$40*100,0) -> 0
B35: 7.鉄骨 | E35: =IF(非木造_居住専用!L$40>0,非木造_居住専用!E35/非木造_居住専用!L$40*100,0) -> 2.1830653 | F35: =IF(非木造_居住専用!M$40>0,非木造_居住専用!F35/非木造_居住専用!M$40*100,0) -> 0.84460468 | G35: =IF(非木造_居住専用!N$40>0,非木造_居住専用!G35/非木造_居住専用!N$40*100,0) -> 0 | K35: 浴槽・ユニットバス | L35: =IF(非木造_居住専用!L$40>0,非木造_居住専用!L35/非木造_居住専用!L$40*100,0) -> 1.9454962 | M35: =IF(非木造_居住専用!M$40>0,非木造_居住専用!M35/非木造_居住専用!M$40*100,0) -> 1.9140639 | N35: =IF(非木造_居住専用!N$40>0,非木造_居住専用!N35/非木造_居住専用!N$40*100,0) -> 0
C36: 鋼材（材料） | E36: =IF(非木造_居住専用!L$40>0,非木造_居住専用!E36/非木造_居住専用!L$40*100,0) -> 0.71401455 | F36: =IF(非木造_居住専用!M$40>0,非木造_居住専用!F36/非木造_居住専用!M$40*100,0) -> 0.30738918 | G36: =IF(非木造_居住専用!N$40>0,非木造_居住専用!G36/非木造_居住専用!N$40*100,0) -> 0 | K36: 洗面台・防水パン | L36: =IF(非木造_居住専用!L$40>0,非木造_居住専用!L36/非木造_居住専用!L$40*100,0) -> 0.94799883 | M36: =IF(非木造_居住専用!M$40>0,非木造_居住専用!M36/非木造_居住専用!M$40*100,0) -> 0.89136156 | N36: =IF(非木造_居住専用!N$40>0,非木造_居住専用!N36/非木造_居住専用!N$40*100,0) -> 0
C37: 工場加工組立 | E37: =IF(非木造_居住専用!L$40>0,非木造_居住専用!E37/非木造_居住専用!L$40*100,0) -> 0.41895293 | F37: =IF(非木造_居住専用!M$40>0,非木造_居住専用!F37/非木造_居住専用!M$40*100,0) -> 0.18699746 | G37: =IF(非木造_居住専用!N$40>0,非木造_居住専用!G37/非木造_居住専用!N$40*100,0) -> 0 | K37: ブラインド・カーテン | L37: =IF(非木造_居住専用!L$40>0,非木造_居住専用!L37/非木造_居住専用!L$40*100,0) -> 0.024813722 | M37: =IF(非木造_居住専用!M$40>0,非木造_居住専用!M37/非木造_居住専用!M$40*100,0) -> 0.071409908 | N37: =IF(非木造_居住専用!N$40>0,非木造_居住専用!N37/非木造_居住専用!N$40*100,0) -> 0
C38: 現場加工（建方・溶接・塗装） | E38: =IF(非木造_居住専用!L$40>0,非木造_居住専用!E38/非木造_居住専用!L$40*100,0) -> 0.18771946 | F38: =IF(非木造_居住専用!M$40>0,非木造_居住専用!F38/非木造_居住専用!M$40*100,0) -> 0.13641454 | G38: =IF(非木造_居住専用!N$40>0,非木造_居住専用!G38/非木造_居住専用!N$40*100,0) -> 0 | K38: 上記以外のユニット | L38: =IF(非木造_居住専用!L$40>0,非木造_居住専用!L38/非木造_居住専用!L$40*100,0) -> 0.85239221 | M38: =IF(非木造_居住専用!M$40>0,非木造_居住専用!M38/非木造_居住専用!M$40*100,0) -> 0.93858804 | N38: =IF(非木造_居住専用!N$40>0,非木造_居住専用!N38/非木造_居住専用!N$40*100,0) -> 0
C39: 鉄骨運搬 | E39: =IF(非木造_居住専用!L$40>0,非木造_居住専用!E39/非木造_居住専用!L$40*100,0) -> 0.038750064 | F39: =IF(非木造_居住専用!M$40>0,非木造_居住専用!F39/非木造_居住専用!M$40*100,0) -> 0.01141258 | G39: =IF(非木造_居住専用!N$40>0,非木造_居住専用!G39/非木造_居住専用!N$40*100,0) -> 0 | J39: 21.その他 | L39: =IF(非木造_居住専用!L$40>0,非木造_居住専用!L39/非木造_居住専用!L$40*100,0) -> 3.8471973 | M39: =IF(非木造_居住専用!M$40>0,非木造_居住専用!M39/非木造_居住専用!M$40*100,0) -> 2.327833 | N39: =IF(非木造_居住専用!N$40>0,非木造_居住専用!N39/非木造_居住専用!N$40*100,0) -> 0
C40: 高力ボルト類 | E40: =IF(非木造_居住専用!L$40>0,非木造_居住専用!E40/非木造_居住専用!L$40*100,0) -> 0.020302179 | F40: =IF(非木造_居住専用!M$40>0,非木造_居住専用!F40/非木造_居住専用!M$40*100,0) -> 0.013532801 | G40: =IF(非木造_居住専用!N$40>0,非木造_居住専用!G40/非木造_居住専用!N$40*100,0) -> 0 | I40: 建築工事費合計 | L40: =IF(非木造_居住専用!L$40>0,非木造_居住専用!L40/非木造_居住専用!L$40*100,0) -> 100 | M40: =IF(非木造_居住専用!M$40>0,非木造_居住専用!M40/非木造_居住専用!M$40*100,0) -> 100 | N40: =IF(非木造_居住専用!N$40>0,非木造_居住専用!N40/非木造_居住専用!N$40*100,0) -> 0
C41: 鉄骨足場 | E41: =IF(非木造_居住専用!L$40>0,非木造_居住専用!E41/非木造_居住専用!L$40*100,0) -> 0.031345624 | F41: =IF(非木造_居住専用!M$40>0,非木造_居住専用!F41/非木造_居住専用!M$40*100,0) -> 0.029163964 | G41: =IF(非木造_居住専用!N$40>0,非木造_居住専用!G41/非木造_居住専用!N$40*100,0) -> 0
C42: 耐火被覆板 | E42: =IF(非木造_居住専用!L$40>0,非木造_居住専用!E42/非木造_居住専用!L$40*100,0) -> 0.020206104 | F42: =IF(非木造_居住専用!M$40>0,非木造_居住専用!F42/非木造_居住専用!M$40*100,0) -> 0.0056120275 | G42: =IF(非木造_居住専用!N$40>0,非木造_居住専用!G42/非木造_居住専用!N$40*100,0) -> 0 | I42: 設備工事費科目別内訳 | J42: 1.電気 | L42: =IF(非木造_居住専用!L$77>0,非木造_居住専用!L42/非木造_居住専用!L$77*100,0) -> 35.180562 | M42: =IF(非木造_居住専用!M$77>0,非木造_居住専用!M42/非木造_居住専用!M$77*100,0) -> 0 | N42: =IF(非木造_居住専用!N$77>0,非木造_居住専用!N42/非木造_居住専用!N$77*100,0) -> 85.249354
C43: 耐火被覆吹付 | E43: =IF(非木造_居住専用!L$40>0,非木造_居住専用!E43/非木造_居住専用!L$40*100,0) -> 0.050657355 | F43: =IF(非木造_居住専用!M$40>0,非木造_居住専用!F43/非木造_居住専用!M$40*100,0) -> 0.03260659 | G43: =IF(非木造_居住専用!N$40>0,非木造_居住専用!G43/非木造_居住専用!N$40*100,0) -> 0 | K43: 受変電・電力引込 | L43: =IF(非木造_居住専用!L$77>0,非木造_居住専用!L43/非木造_居住専用!L$77*100,0) -> 2.2495945 | M43: =IF(非木造_居住専用!M$77>0,非木造_居住専用!M43/非木造_居住専用!M$77*100,0) -> 0 | N43: =IF(非木造_居住専用!N$77>0,非木造_居住専用!N43/非木造_居住専用!N$77*100,0) -> 1.9473905
C44: 上記以外の鉄骨 | E44: =IF(非木造_居住専用!L$40>0,非木造_居住専用!E44/非木造_居住専用!L$40*100,0) -> 0.70111702 | F44: =IF(非木造_居住専用!M$40>0,非木造_居住専用!F44/非木造_居住専用!M$40*100,0) -> 0.12147553 | G44: =IF(非木造_居住専用!N$40>0,非木造_居住専用!G44/非木造_居住専用!N$40*100,0) -> 0 | K44: 幹線・動力 | L44: =IF(非木造_居住専用!L$77>0,非木造_居住専用!L44/非木造_居住専用!L$77*100,0) -> 5.8834832 | M44: =IF(非木造_居住専用!M$77>0,非木造_居住専用!M44/非木造_居住専用!M$77*100,0) -> 0 | N44: =IF(非木造_居住専用!N$77>0,非木造_居住専用!N44/非木造_居住専用!N$77*100,0) -> 13.534066
B45: 8.既製コンクリート | E45: =IF(非木造_居住専用!L$40>0,非木造_居住専用!E45/非木造_居住専用!L$40*100,0) -> 3.5676579 | F45: =IF(非木造_居住専用!M$40>0,非木造_居住専用!F45/非木造_居住専用!M$40*100,0) -> 1.6017147 | G45: =IF(非木造_居住専用!N$40>0,非木造_居住専用!G45/非木造_居住専用!N$40*100,0) -> 0 | K45: 電灯コンセント | L45: =IF(非木造_居住専用!L$77>0,非木造_居住専用!L45/非木造_居住専用!L$77*100,0) -> 8.4088232 | M45: =IF(非木造_居住専用!M$77>0,非木造_居住専用!M45/非木造_居住専用!M$77*100,0) -> 0 | N45: =IF(非木造_居住専用!N$77>0,非木造_居住専用!N45/非木造_居住専用!N$77*100,0) -> 30.354157
C46: 躯体ＰＣ板 | E46: =IF(非木造_居住専用!L$40>0,非木造_居住専用!E46/非木造_居住専用!L$40*100,0) -> 2.7491475 | F46: =IF(非木造_居住専用!M$40>0,非木造_居住専用!F46/非木造_居住専用!M$40*100,0) -> 0.8022795 | G46: =IF(非木造_居住専用!N$40>0,非木造_居住専用!G46/非木造_居住専用!N$40*100,0) -> 0 | K46: 照明器具 | L46: =IF(非木造_居住専用!L$77>0,非木造_居住専用!L46/非木造_居住専用!L$77*100,0) -> 3.0843305 | M46: =IF(非木造_居住専用!M$77>0,非木造_居住専用!M46/非木造_居住専用!M$77*100,0) -> 0 | N46: =IF(非木造_居住専用!N$77>0,非木造_居住専用!N46/非木造_居住専用!N$77*100,0) -> 3.3342163
C47: コンクリートブロック | E47: =IF(非木造_居住専用!L$40>0,非木造_居住専用!E47/非木造_居住専用!L$40*100,0) -> 0.026696765 | F47: =IF(非木造_居住専用!M$40>0,非木造_居住専用!F47/非木造_居住専用!M$40*100,0) -> 0.025961775 | G47: =IF(非木造_居住専用!N$40>0,非木造_居住専用!G47/非木造_居住専用!N$40*100,0) -> 0 | K47: 電話・電話配管・IT設備 | L47: =IF(非木造_居住専用!L$77>0,非木造_居住専用!L47/非木造_居住専用!L$77*100,0) -> 2.9914138 | M47: =IF(非木造_居住専用!M$77>0,非木造_居住専用!M47/非木造_居住専用!M$77*100,0) -> 0 | N47: =IF(非木造_居住専用!N$77>0,非木造_居住専用!N47/非木造_居住専用!N$77*100,0) -> 8.1312216
C48: 押出成形ｾﾒﾝﾄ板・穴あきPC板 | E48: =IF(非木造_居住専用!L$40>0,非木造_居住専用!E48/非木造_居住専用!L$40*100,0) -> 0.21508308 | F48: =IF(非木造_居住専用!M$40>0,非木造_居住専用!F48/非木造_居住専用!M$40*100,0) -> 0.017721329 | G48: =IF(非木造_居住専用!N$40>0,非木造_居住専用!G48/非木造_居住専用!N$40*100,0) -> 0 | K48: テレビ共聴 | L48: =IF(非木造_居住専用!L$77>0,非木造_居住専用!L48/非木造_居住専用!L$77*100,0) -> 1.7680543 | M48: =IF(非木造_居住専用!M$77>0,非木造_居住専用!M48/非木造_居住専用!M$77*100,0) -> 0 | N48: =IF(非木造_居住専用!N$77>0,非木造_居住専用!N48/非木造_居住専用!N$77*100,0) -> 2.7156581
C49: ＡＬＣパネル | E49: =IF(非木造_居住専用!L$40>0,非木造_居住専用!E49/非木造_居住専用!L$40*100,0) -> 0.56028884 | F49: =IF(非木造_居住専用!M$40>0,非木造_居住専用!F49/非木造_居住専用!M$40*100,0) -> 0.67610178 | G49: =IF(非木造_居住専用!N$40>0,非木造_居住専用!G49/非木造_居住専用!N$40*100,0) -> 0 | K49: インターホン・拡声 | L49: =IF(非木造_居住専用!L$77>0,非木造_居住専用!L49/非木造_居住専用!L$77*100,0) -> 3.2139155 | M49: =IF(非木造_居住専用!M$77>0,非木造_居住専用!M49/非木造_居住専用!M$77*100,0) -> 0 | N49: =IF(非木造_居住専用!N$77>0,非木造_居住専用!N49/非木造_居住専用!N$77*100,0) -> 4.7082065
C50: 上記以外の既製ｺﾝｸﾘｰﾄ | E50: =IF(非木造_居住専用!L$40>0,非木造_居住専用!E50/非木造_居住専用!L$40*100,0) -> 0.016441695 | F50: =IF(非木造_居住専用!M$40>0,非木造_居住専用!F50/非木造_居住専用!M$40*100,0) -> 0.079650354 | G50: =IF(非木造_居住専用!N$40>0,非木造_居住専用!G50/非木造_居住専用!N$40*100,0) -> 0 | K50: 防災 | L50: =IF(非木造_居住専用!L$77>0,非木造_居住専用!L50/非木造_居住専用!L$77*100,0) -> 2.6598819 | M50: =IF(非木造_居住専用!M$77>0,非木造_居住専用!M50/非木造_居住専用!M$77*100,0) -> 0 | N50: =IF(非木造_居住専用!N$77>0,非木造_居住専用!N50/非木造_居住専用!N$77*100,0) -> 1.8767948
B51: 9.防水 | E51: =IF(非木造_居住専用!L$40>0,非木造_居住専用!E51/非木造_居住専用!L$40*100,0) -> 2.0507161 | F51: =IF(非木造_居住専用!M$40>0,非木造_居住専用!F51/非木造_居住専用!M$40*100,0) -> 2.2999914 | G51: =IF(非木造_居住専用!N$40>0,非木造_居住専用!G51/非木造_居住専用!N$40*100,0) -> 0 | K51: 避雷針 | L51: =IF(非木造_居住専用!L$77>0,非木造_居住専用!L51/非木造_居住専用!L$77*100,0) -> 0.38143337 | M51: =IF(非木造_居住専用!M$77>0,非木造_居住専用!M51/非木造_居住専用!M$77*100,0) -> 0 | N51: =IF(非木造_居住専用!N$77>0,非木造_居住専用!N51/非木造_居住専用!N$77*100,0) -> 0.26056222
C52: アスファルト防水 | E52: =IF(非木造_居住専用!L$40>0,非木造_居住専用!E52/非木造_居住専用!L$40*100,0) -> 0.54780882 | F52: =IF(非木造_居住専用!M$40>0,非木造_居住専用!F52/非木造_居住専用!M$40*100,0) -> 0.56129292 | G52: =IF(非木造_居住専用!N$40>0,非木造_居住専用!G52/非木造_居住専用!N$40*100,0) -> 0 | K52: 蓄電池 | L52: =IF(非木造_居住専用!L$77>0,非木造_居住専用!L52/非木造_居住専用!L$77*100,0) -> 0.29860269 | M52: =IF(非木造_居住専用!M$77>0,非木造_居住専用!M52/非木造_居住専用!M$77*100,0) -> 0 | N52: =IF(非木造_居住専用!N$77>0,非木造_居住専用!N52/非木造_居住専用!N$77*100,0) -> 0
C53: シート防水 | E53: =IF(非木造_居住専用!L$40>0,非木造_居住専用!E53/非木造_居住専用!L$40*100,0) -> 0.097285673 | F53: =IF(非木造_居住専用!M$40>0,非木造_居住専用!F53/非木造_居住専用!M$40*100,0) -> 0.044982531 | G53: =IF(非木造_居住専用!N$40>0,非木造_居住専用!G53/非木造_居住専用!N$40*100,0) -> 0 | K53: 屋外施設の電気設備（外灯、門灯） | L53: =IF(非木造_居住専用!L$77>0,非木造_居住専用!L53/非木造_居住専用!L$77*100,0) -> 0.47089797 | M53: =IF(非木造_居住専用!M$77>0,非木造_居住専用!M53/非木造_居住専用!M$77*100,0) -> 0 | N53: =IF(非木造_居住専用!N$77>0,非木造_居住専用!N53/非木造_居住専用!N$77*100,0) -> 1.1721216
C54: モルタル防水 | E54: =IF(非木造_居住専用!L$40>0,非木造_居住専用!E54/非木造_居住専用!L$40*100,0) -> 0.05941561 | F54: =IF(非木造_居住専用!M$40>0,非木造_居住専用!F54/非木造_居住専用!M$40*100,0) -> 0.024106213 | G54: =IF(非木造_居住専用!N$40>0,非木造_居住専用!G54/非木造_居住専用!N$40*100,0) -> 0 | K54: 上記以外の電気設備 | L54: =IF(非木造_居住専用!L$77>0,非木造_居住専用!L54/非木造_居住専用!L$77*100,0) -> 2.2216523 | M54: =IF(非木造_居住専用!M$77>0,非木造_居住専用!M54/非木造_居住専用!M$77*100,0) -> 0 | N54: =IF(非木造_居住専用!N$77>0,非木造_居住専用!N54/非木造_居住専用!N$77*100,0) -> 0.72334313
C55: 塗膜防水 | E55: =IF(非木造_居住専用!L$40>0,非木造_居住専用!E55/非木造_居住専用!L$40*100,0) -> 0.62196475 | F55: =IF(非木造_居住専用!M$40>0,非木造_居住専用!F55/非木造_居住専用!M$40*100,0) -> 0.69524387 | G55: =IF(非木造_居住専用!N$40>0,非木造_居住専用!G55/非木造_居住専用!N$40*100,0) -> 0 | J55: 2.空調 | L55: =IF(非木造_居住専用!L$77>0,非木造_居住専用!L55/非木造_居住専用!L$77*100,0) -> 13.978167 | M55: =IF(非木造_居住専用!M$77>0,非木造_居住専用!M55/非木造_居住専用!M$77*100,0) -> 0 | N55: =IF(非木造_居住専用!N$77>0,非木造_居住専用!N55/非木造_居住専用!N$77*100,0) -> 0.58576908
C56: 伸縮目地 | E56: =IF(非木造_居住専用!L$40>0,非木造_居住専用!E56/非木造_居住専用!L$40*100,0) -> 0.021325766 | F56: =IF(非木造_居住専用!M$40>0,非木造_居住専用!F56/非木造_居住専用!M$40*100,0) -> 0.023721335 | G56: =IF(非木造_居住専用!N$40>0,非木造_居住専用!G56/非木造_居住専用!N$40*100,0) -> 0 | K56: 空調機器 | L56: =IF(非木造_居住専用!L$77>0,非木造_居住専用!L56/非木造_居住専用!L$77*100,0) -> 3.0569429 | M56: =IF(非木造_居住専用!M$77>0,非木造_居住専用!M56/非木造_居住専用!M$77*100,0) -> 0 | N56: =IF(非木造_居住専用!N$77>0,非木造_居住専用!N56/非木造_居住専用!N$77*100,0) -> 0.021003672
C57: シーリング | E57: =IF(非木造_居住専用!L$40>0,非木造_居住専用!E57/非木造_居住専用!L$40*100,0) -> 0.6294758 | F57: =IF(非木造_居住専用!M$40>0,非木造_居住専用!F57/非木造_居住専用!M$40*100,0) -> 0.83676463 | G57: =IF(非木造_居住専用!N$40>0,非木造_居住専用!G57/非木造_居住専用!N$40*100,0) -> 0 | K57: ダクト | L57: =IF(非木造_居住専用!L$77>0,非木造_居住専用!L57/非木造_居住専用!L$77*100,0) -> 1.1882465 | M57: =IF(非木造_居住専用!M$77>0,非木造_居住専用!M57/非木造_居住専用!M$77*100,0) -> 0 | N57: =IF(非木造_居住専用!N$77>0,非木造_居住専用!N57/非木造_居住専用!N$77*100,0) -> 0
C58: 上記以外の防水 | E58: =IF(非木造_居住専用!L$40>0,非木造_居住専用!E58/非木造_居住専用!L$40*100,0) -> 0.07343963 | F58: =IF(非木造_居住専用!M$40>0,非木造_居住専用!F58/非木造_居住専用!M$40*100,0) -> 0.1138799 | G58: =IF(非木造_居住専用!N$40>0,非木造_居住専用!G58/非木造_居住専用!N$40*100,0) -> 0 | K58: 空調配管 | L58: =IF(非木造_居住専用!L$77>0,非木造_居住専用!L58/非木造_居住専用!L$77*100,0) -> 1.2284761 | M58: =IF(非木造_居住専用!M$77>0,非木造_居住専用!M58/非木造_居住専用!M$77*100,0) -> 0 | N58: =IF(非木造_居住専用!N$77>0,非木造_居住専用!N58/非木造_居住専用!N$77*100,0) -> 0
B59: 10.石 | E59: =IF(非木造_居住専用!L$40>0,非木造_居住専用!E59/非木造_居住専用!L$40*100,0) -> 0.79956041 | F59: =IF(非木造_居住専用!M$40>0,非木造_居住専用!F59/非木造_居住専用!M$40*100,0) -> 0.70150071 | G59: =IF(非木造_居住専用!N$40>0,非木造_居住専用!G59/非木造_居住専用!N$40*100,0) -> 0 | K59: 自動制御 | L59: =IF(非木造_居住専用!L$77>0,非木造_居住専用!L59/非木造_居住専用!L$77*100,0) -> 0.52784157 | M59: =IF(非木造_居住専用!M$77>0,非木造_居住専用!M59/非木造_居住専用!M$77*100,0) -> 0 | N59: =IF(非木造_居住専用!N$77>0,非木造_居住専用!N59/非木造_居住専用!N$77*100,0) -> 0
B60: 11.タイル | E60: =IF(非木造_居住専用!L$40>0,非木造_居住専用!E60/非木造_居住専用!L$40*100,0) -> 2.6062572 | F60: =IF(非木造_居住専用!M$40>0,非木造_居住専用!F60/非木造_居住専用!M$40*100,0) -> 2.6292923 | G60: =IF(非木造_居住専用!N$40>0,非木造_居住専用!G60/非木造_居住専用!N$40*100,0) -> 0 | K60: 換気 | L60: =IF(非木造_居住専用!L$77>0,非木造_居住専用!L60/非木造_居住専用!L$77*100,0) -> 4.5776371 | M60: =IF(非木造_居住専用!M$77>0,非木造_居住専用!M60/非木造_居住専用!M$77*100,0) -> 0 | N60: =IF(非木造_居住専用!N$77>0,非木造_居住専用!N60/非木造_居住専用!N$77*100,0) -> 0.54142799
B61: 12.木工 | E61: =IF(非木造_居住専用!L$40>0,非木造_居住専用!E61/非木造_居住専用!L$40*100,0) -> 3.897842 | F61: =IF(非木造_居住専用!M$40>0,非木造_居住専用!F61/非木造_居住専用!M$40*100,0) -> 4.1402856 | G61: =IF(非木造_居住専用!N$40>0,非木造_居住専用!G61/非木造_居住専用!N$40*100,0) -> 0 | K61: 床暖房 | L61: =IF(非木造_居住専用!L$77>0,非木造_居住専用!L61/非木造_居住専用!L$77*100,0) -> 2.1388902 | M61: =IF(非木造_居住専用!M$77>0,非木造_居住専用!M61/非木造_居住専用!M$77*100,0) -> 0 | N61: =IF(非木造_居住専用!N$77>0,非木造_居住専用!N61/非木造_居住専用!N$77*100,0) -> 0
B62: 13.屋根及びとい | E62: =IF(非木造_居住専用!L$40>0,非木造_居住専用!E62/非木造_居住専用!L$40*100,0) -> 0.51960316 | F62: =IF(非木造_居住専用!M$40>0,非木造_居住専用!F62/非木造_居住専用!M$40*100,0) -> 0.45334745 | G62: =IF(非木造_居住専用!N$40>0,非木造_居住専用!G62/非木造_居住専用!N$40*100,0) -> 0 | K62: 上記以外の空調設備 | L62: =IF(非木造_居住専用!L$77>0,非木造_居住専用!L62/非木造_居住専用!L$77*100,0) -> 0.76618534 | M62: =IF(非木造_居住専用!M$77>0,非木造_居住専用!M62/非木造_居住専用!M$77*100,0) -> 0 | N62: =IF(非木造_居住専用!N$77>0,非木造_居住専用!N62/非木造_居住専用!N$77*100,0) -> 0
C63: 金属板 | E63: =IF(非木造_居住専用!L$40>0,非木造_居住専用!E63/非木造_居住専用!L$40*100,0) -> 0.10353662 | F63: =IF(非木造_居住専用!M$40>0,非木造_居住専用!F63/非木造_居住専用!M$40*100,0) -> 0.15589632 | G63: =IF(非木造_居住専用!N$40>0,非木造_居住専用!G63/非木造_居住専用!N$40*100,0) -> 0 | J63: 3.衛生 | L63: =IF(非木造_居住専用!L$77>0,非木造_居住専用!L63/非木造_居住専用!L$77*100,0) -> 39.226781 | M63: =IF(非木造_居住専用!M$77>0,非木造_居住専用!M63/非木造_居住専用!M$77*100,0) -> 0 | N63: =IF(非木造_居住専用!N$77>0,非木造_居住専用!N63/非木造_居住専用!N$77*100,0) -> 10.317237
C64: 瓦 | E64: =IF(非木造_居住専用!L$40>0,非木造_居住専用!E64/非木造_居住専用!L$40*100,0) -> 0.0036130316 | F64: =IF(非木造_居住専用!M$40>0,非木造_居住専用!F64/非木造_居住専用!M$40*100,0) -> 0.018778708 | G64: =IF(非木造_居住専用!N$40>0,非木造_居住専用!G64/非木造_居住専用!N$40*100,0) -> 0 | K64: 給水 | L64: =IF(非木造_居住専用!L$77>0,非木造_居住専用!L64/非木造_居住専用!L$77*100,0) -> 7.4864663 | M64: =IF(非木造_居住専用!M$77>0,非木造_居住専用!M64/非木造_居住専用!M$77*100,0) -> 0 | N64: =IF(非木造_居住専用!N$77>0,非木造_居住専用!N64/非木造_居住専用!N$77*100,0) -> 3.1773888
C65: ルーフドレイン | E65: =IF(非木造_居住専用!L$40>0,非木造_居住専用!E65/非木造_居住専用!L$40*100,0) -> 0.055600663 | F65: =IF(非木造_居住専用!M$40>0,非木造_居住専用!F65/非木造_居住専用!M$40*100,0) -> 0.042743338 | G65: =IF(非木造_居住専用!N$40>0,非木造_居住専用!G65/非木造_居住専用!N$40*100,0) -> 0 | K65: 給湯 | L65: =IF(非木造_居住専用!L$77>0,非木造_居住専用!L65/非木造_居住専用!L$77*100,0) -> 3.2043219 | M65: =IF(非木造_居住専用!M$77>0,非木造_居住専用!M65/非木造_居住専用!M$77*100,0) -> 0 | N65: =IF(非木造_居住専用!N$77>0,非木造_居住専用!N65/非木造_居住専用!N$77*100,0) -> 1.0535675
C66: とい | E66: =IF(非木造_居住専用!L$40>0,非木造_居住専用!E66/非木造_居住専用!L$40*100,0) -> 0.32826402 | F66: =IF(非木造_居住専用!M$40>0,非木造_居住専用!F66/非木造_居住専用!M$40*100,0) -> 0.23014493 | G66: =IF(非木造_居住専用!N$40>0,非木造_居住専用!G66/非木造_居住専用!N$40*100,0) -> 0 | K66: 排水通気 | L66: =IF(非木造_居住専用!L$77>0,非木造_居住専用!L66/非木造_居住専用!L$77*100,0) -> 9.5462064 | M66: =IF(非木造_居住専用!M$77>0,非木造_居住専用!M66/非木造_居住専用!M$77*100,0) -> 0 | N66: =IF(非木造_居住専用!N$77>0,非木造_居住専用!N66/非木造_居住専用!N$77*100,0) -> 1.7337364
C67: 上記以外の屋根及びとい | E67: =IF(非木造_居住専用!L$40>0,非木造_居住専用!E67/非木造_居住専用!L$40*100,0) -> 0.028588818 | F67: =IF(非木造_居住専用!M$40>0,非木造_居住専用!F67/非木造_居住専用!M$40*100,0) -> 0.0057841589 | G67: =IF(非木造_居住専用!N$40>0,非木造_居住専用!G67/非木造_居住専用!N$40*100,0) -> 0 | K67: 衛生器具 | L67: =IF(非木造_居住専用!L$77>0,非木造_居住専用!L67/非木造_居住専用!L$77*100,0) -> 4.1908991 | M67: =IF(非木造_居住専用!M$77>0,非木造_居住専用!M67/非木造_居住専用!M$77*100,0) -> 0 | N67: =IF(非木造_居住専用!N$77>0,非木造_居住専用!N67/非木造_居住専用!N$77*100,0) -> 1.2762065
B68: 14.金属 | E68: =IF(非木造_居住専用!L$40>0,非木造_居住専用!E68/非木造_居住専用!L$40*100,0) -> 4.5459283 | F68: =IF(非木造_居住専用!M$40>0,非木造_居住専用!F68/非木造_居住専用!M$40*100,0) -> 4.6788326 | G68: =IF(非木造_居住専用!N$40>0,非木造_居住専用!G68/非木造_居住専用!N$40*100,0) -> 0 | K68: 消火 | L68: =IF(非木造_居住専用!L$77>0,非木造_居住専用!L68/非木造_居住専用!L$77*100,0) -> 3.8206822 | M68: =IF(非木造_居住専用!M$77>0,非木造_居住専用!M68/非木造_居住専用!M$77*100,0) -> 0 | N68: =IF(非木造_居住専用!N$77>0,非木造_居住専用!N68/非木造_居住専用!N$77*100,0) -> 0
B69: 15.左官 | E69: =IF(非木造_居住専用!L$40>0,非木造_居住専用!E69/非木造_居住専用!L$40*100,0) -> 2.9130187 | F69: =IF(非木造_居住専用!M$40>0,非木造_居住専用!F69/非木造_居住専用!M$40*100,0) -> 3.3334515 | G69: =IF(非木造_居住専用!N$40>0,非木造_居住専用!G69/非木造_居住専用!N$40*100,0) -> 0 | K69: ガス | L69: =IF(非木造_居住専用!L$77>0,非木造_居住専用!L69/非木造_居住専用!L$77*100,0) -> 5.8203471 | M69: =IF(非木造_居住専用!M$77>0,非木造_居住専用!M69/非木造_居住専用!M$77*100,0) -> 0 | N69: =IF(非木造_居住専用!N$77>0,非木造_居住専用!N69/非木造_居住専用!N$77*100,0) -> 0.54609548
B70: 16.建具 | E70: =IF(非木造_居住専用!L$40>0,非木造_居住専用!E70/非木造_居住専用!L$40*100,0) -> 8.9540331 | F70: =IF(非木造_居住専用!M$40>0,非木造_居住専用!F70/非木造_居住専用!M$40*100,0) -> 8.969714 | G70: =IF(非木造_居住専用!N$40>0,非木造_居住専用!G70/非木造_居住専用!N$40*100,0) -> 0 | K70: 厨房機器 | L70: =IF(非木造_居住専用!L$77>0,非木造_居住専用!L70/非木造_居住専用!L$77*100,0) -> 0.14133757 | M70: =IF(非木造_居住専用!M$77>0,非木造_居住専用!M70/非木造_居住専用!M$77*100,0) -> 0 | N70: =IF(非木造_居住専用!N$77>0,非木造_居住専用!N70/非木造_居住専用!N$77*100,0) -> 0
C71: 金属製建具 | D71: アルミニウム製建具 | E71: =IF(非木造_居住専用!L$40>0,非木造_居住専用!E71/非木造_居住専用!L$40*100,0) -> 2.434111 | F71: =IF(非木造_居住専用!M$40>0,非木造_居住専用!F71/非木造_居住専用!M$40*100,0) -> 2.7017789 | G71: =IF(非木造_居住専用!N$40>0,非木造_居住専用!G71/非木造_居住専用!N$40*100,0) -> 0 | K71: 浄化槽 | L71: =IF(非木造_居住専用!L$77>0,非木造_居住専用!L71/非木造_居住専用!L$77*100,0) -> 0.1335724 | M71: =IF(非木造_居住専用!M$77>0,非木造_居住専用!M71/非木造_居住専用!M$77*100,0) -> 0 | N71: =IF(非木造_居住専用!N$77>0,非木造_居住専用!N71/非木造_居住専用!N$77*100,0) -> 0.3500612
D72: 鋼製建具 | E72: =IF(非木造_居住専用!L$40>0,非木造_居住専用!E72/非木造_居住専用!L$40*100,0) -> 1.933239 | F72: =IF(非木造_居住専用!M$40>0,非木造_居住専用!F72/非木造_居住専用!M$40*100,0) -> 2.2709109 | G72: =IF(非木造_居住専用!N$40>0,非木造_居住専用!G72/非木造_居住専用!N$40*100,0) -> 0 | K72: 貯水槽 | L72: =IF(非木造_居住専用!L$77>0,非木造_居住専用!L72/非木造_居住専用!L$77*100,0) -> 0.077652879 | M72: =IF(非木造_居住専用!M$77>0,非木造_居住専用!M72/非木造_居住専用!M$77*100,0) -> 0 | N72: =IF(非木造_居住専用!N$77>0,非木造_居住専用!N72/非木造_居住専用!N$77*100,0) -> 0
D73: ステンレス製建具 | E73: =IF(非木造_居住専用!L$40>0,非木造_居住専用!E73/非木造_居住専用!L$40*100,0) -> 0.3730781 | F73: =IF(非木造_居住専用!M$40>0,非木造_居住専用!F73/非木造_居住専用!M$40*100,0) -> 0.32013147 | G73: =IF(非木造_居住専用!N$40>0,非木造_居住専用!G73/非木造_居住専用!N$40*100,0) -> 0 | K73: 上記以外の衛生設備 | L73: =IF(非木造_居住専用!L$77>0,非木造_居住専用!L73/非木造_居住専用!L$77*100,0) -> 2.8860198 | M73: =IF(非木造_居住専用!M$77>0,非木造_居住専用!M73/非木造_居住専用!M$77*100,0) -> 0 | N73: =IF(非木造_居住専用!N$77>0,非木造_居住専用!N73/非木造_居住専用!N$77*100,0) -> 2.1801812
D74: シャッター | E74: =IF(非木造_居住専用!L$40>0,非木造_居住専用!E74/非木造_居住専用!L$40*100,0) -> 0.11248012 | F74: =IF(非木造_居住専用!M$40>0,非木造_居住専用!F74/非木造_居住専用!M$40*100,0) -> 0.10201103 | G74: =IF(非木造_居住専用!N$40>0,非木造_居住専用!G74/非木造_居住専用!N$40*100,0) -> 0 | J74: 4.昇降機 | L74: =IF(非木造_居住専用!L$77>0,非木造_居住専用!L74/非木造_居住専用!L$77*100,0) -> 4.7151628 | M74: =IF(非木造_居住専用!M$77>0,非木造_居住専用!M74/非木造_居住専用!M$77*100,0) -> 0 | N74: =IF(非木造_居住専用!N$77>0,非木造_居住専用!N74/非木造_居住専用!N$77*100,0) -> 3.8476394
D75: 自動扉開閉装置 | E75: =IF(非木造_居住専用!L$40>0,非木造_居住専用!E75/非木造_居住専用!L$40*100,0) -> 0.13352249 | F75: =IF(非木造_居住専用!M$40>0,非木造_居住専用!F75/非木造_居住専用!M$40*100,0) -> 0.090046539 | G75: =IF(非木造_居住専用!N$40>0,非木造_居住専用!G75/非木造_居住専用!N$40*100,0) -> 0 | J75: 5.機械式駐車場 | L75: =IF(非木造_居住専用!L$77>0,非木造_居住専用!L75/非木造_居住専用!L$77*100,0) -> 5.1357163 | M75: =IF(非木造_居住専用!M$77>0,非木造_居住専用!M75/非木造_居住専用!M$77*100,0) -> 0 | N75: =IF(非木造_居住専用!N$77>0,非木造_居住専用!N75/非木造_居住専用!N$77*100,0) -> 0
D76: 上記以外の金属製建具 | E76: =IF(非木造_居住専用!L$40>0,非木造_居住専用!E76/非木造_居住専用!L$40*100,0) -> 0.58369462 | F76: =IF(非木造_居住専用!M$40>0,非木造_居住専用!F76/非木造_居住専用!M$40*100,0) -> 0.21280623 | G76: =IF(非木造_居住専用!N$40>0,非木造_居住専用!G76/非木造_居住専用!N$40*100,0) -> 0 | J76: 6.上記以外の設備 | L76: =IF(非木造_居住専用!L$77>0,非木造_居住専用!L76/非木造_居住専用!L$77*100,0) -> 1.7636105 | M76: =IF(非木造_居住専用!M$77>0,非木造_居住専用!M76/非木造_居住専用!M$77*100,0) -> 0 | N76: =IF(非木造_居住専用!N$77>0,非木造_居住専用!N76/非木造_居住専用!N$77*100,0) -> 0
C77: 木製建具 | E77: =IF(非木造_居住専用!L$40>0,非木造_居住専用!E77/非木造_居住専用!L$40*100,0) -> 1.9387588 | F77: =IF(非木造_居住専用!M$40>0,非木造_居住専用!F77/非木造_居住専用!M$40*100,0) -> 1.8475332 | G77: =IF(非木造_居住専用!N$40>0,非木造_居住専用!G77/非木造_居住専用!N$40*100,0) -> 0 | I77: 設備工事費合計 | L77: =IF(非木造_居住専用!L$77>0,非木造_居住専用!L77/非木造_居住専用!L$77*100,0) -> 100 | M77: =IF(非木造_居住専用!M$77>0,非木造_居住専用!M77/非木造_居住専用!M$77*100,0) -> 0 | N77: =IF(非木造_居住専用!N$77>0,非木造_居住専用!N77/非木造_居住専用!N$77*100,0) -> 100
C78: ガラス | D78: 板ガラス | E78: =IF(非木造_居住専用!L$40>0,非木造_居住専用!E78/非木造_居住専用!L$40*100,0) -> 0.29621617 | F78: =IF(非木造_居住専用!M$40>0,非木造_居住専用!F78/非木造_居住専用!M$40*100,0) -> 0.34421596 | G78: =IF(非木造_居住専用!N$40>0,非木造_居住専用!G78/非木造_居住専用!N$40*100,0) -> 0
D79: 複層ガラス | E79: =IF(非木造_居住専用!L$40>0,非木造_居住専用!E79/非木造_居住専用!L$40*100,0) -> 0.76309963 | F79: =IF(非木造_居住専用!M$40>0,非木造_居住専用!F79/非木造_居住専用!M$40*100,0) -> 0.71983406 | G79: =IF(非木造_居住専用!N$40>0,非木造_居住専用!G79/非木造_居住専用!N$40*100,0) -> 0
D80: 上記以外のガラス | E80: =IF(非木造_居住専用!L$40>0,非木造_居住専用!E80/非木造_居住専用!L$40*100,0) -> 0.38583321 | F80: =IF(非木造_居住専用!M$40>0,非木造_居住専用!F80/非木造_居住専用!M$40*100,0) -> 0.36044572 | G80: =IF(非木造_居住専用!N$40>0,非木造_居住専用!G80/非木造_居住専用!N$40*100,0) -> 0

Sheet 非木造_居住産業併用
A2: 表1-1 平成27年建築工事費投入調査集計表（非木造_居住産業併用住宅）
A4: （単位：千円） | E4: =非木造_データ!Q2 -> 25 | F4: =非木造_データ!R2 -> 9 | G4: =非木造_データ!S2 -> 4 | L4: =E4 -> 25 | M4: =F4 -> 9 | N4: =G4 -> 4
E5: 建築工事・ 設備工事 一貫受注 | F5: 建築工事 のみ受注 | G5: 設備工事 のみ受注 | L5: 建築工事・ 設備工事 一貫受注 | M5: 建築工事 のみ受注 | N5: 設備工事 のみ受注
A6: 工事費内訳 | B6: 1.建築工事費 | E6: =非木造_データ!Q7 -> 55104342 | F6: =非木造_データ!R7 -> 8445206 | G6: =非木造_データ!S7 -> 0 | I6: 建築工事費科目別内訳(続き） | J6: 17.カーテンウォール | L6: =非木造_データ!Q81 -> 52010 | M6: =非木造_データ!R81 -> 0 | N6: =非木造_データ!S81 -> 0
B7: 2.設備工事費 | E7: =非木造_データ!Q8 -> 20362737 | F7: =非木造_データ!R8 -> 0 | G7: =非木造_データ!S8 -> 22155 | K7: メタルカーテンウォール | L7: =非木造_データ!Q82 -> 52010 | M7: =非木造_データ!R82 -> 0 | N7: =非木造_データ!S82 -> 0
B8: 3.解体・撤去費 | E8: =非木造_データ!Q9 -> 149242 | F8: =非木造_データ!R9 -> 132309 | G8: =非木造_データ!S9 -> 0 | K8: ＰＣカーテンウォール | L8: =非木造_データ!Q83 -> 0 | M8: =非木造_データ!R83 -> 0 | N8: =非木造_データ!S83 -> 0
B9: 4.屋外施設費 | E9: =非木造_データ!Q10 -> 1254544 | F9: =非木造_データ!R10 -> 379244 | G9: =非木造_データ!S10 -> 0 | J9: 18.塗装 | L9: =非木造_データ!Q84 -> 567390.14 | M9: =非木造_データ!R84 -> 117365 | N9: =非木造_データ!S84 -> 0
B10: 5.共通（総合）仮設費 | E10: =非木造_データ!Q11 -> 3336473 | F10: =非木造_データ!R11 -> 467347 | G10: =非木造_データ!S11 -> 0 | J10: 19.内外装 | L10: =非木造_データ!Q85 -> 4990183.3 | M10: =非木造_データ!R85 -> 807030 | N10: =非木造_データ!S85 -> 0
B11: 6.現場管理費 | E11: =非木造_データ!Q12 -> 4470084 | F11: =非木造_データ!R12 -> 795586 | G11: =非木造_データ!S12 -> 1548 | K11: フローリング | L11: =非木造_データ!Q86 -> 1065438 | M11: =非木造_データ!R86 -> 60504 | N11: =非木造_データ!S86 -> 0
B12: 7.工事原価 | E12: =非木造_データ!Q13 -> 84677422 | F12: =非木造_データ!R13 -> 10219692 | G12: =非木造_データ!S13 -> 23703 | K12: ビニル床タイル | L12: =非木造_データ!Q87 -> 34805.913 | M12: =非木造_データ!R87 -> 17698 | N12: =非木造_データ!S87 -> 0
B13: 8.一般管理費等 | E13: =非木造_データ!Q14 -> 4783916 | F13: =非木造_データ!R14 -> 868248 | G13: =非木造_データ!S14 -> 2065 | K13: ビニル床シート | L13: =非木造_データ!Q88 -> 167358.8 | M13: =非木造_データ!R88 -> 75710 | N13: =非木造_データ!S88 -> 0
A14: 9.工事価格 | E14: =非木造_データ!Q15 -> 89461338 | F14: =非木造_データ!R15 -> 11087940 | G14: =非木造_データ!S15 -> 25768 | K14: カーペット | L14: =非木造_データ!Q89 -> 86122.186 | M14: =非木造_データ!R89 -> 9832 | N14: =非木造_データ!S89 -> 0
K15: 畳 | L15: =非木造_データ!Q90 -> 6555 | M15: =非木造_データ!R90 -> 4921 | N15: =非木造_データ!S90 -> 0
A16: 建築工事費科目別内訳 | B16: 1.直接仮設 | E16: =非木造_データ!Q16 -> 1475318.8 | F16: =非木造_データ!R16 -> 306802 | G16: =非木造_データ!S16 -> 0 | K16: 合成樹脂塗床 | L16: =非木造_データ!Q91 -> 32833.03 | M16: =非木造_データ!R91 -> 4628 | N16: =非木造_データ!S91 -> 0
B17: 2.土工 | E17: =非木造_データ!Q17 -> 3718374.3 | F17: =非木造_データ!R17 -> 278892 | G17: =非木造_データ!S17 -> 0 | K17: フリーアクセスフロア | L17: =非木造_データ!Q92 -> 381292.51 | M17: =非木造_データ!R92 -> 23386 | N17: =非木造_データ!S92 -> 0
C18: 建設発生土の処理 | E18: =非木造_データ!Q18 -> 1136970 | F18: =非木造_データ!R18 -> 83531 | G18: =非木造_データ!S18 -> 0 | K18: 化粧合板 | L18: =非木造_データ!Q93 -> 31177 | M18: =非木造_データ!R93 -> 6154 | N18: =非木造_データ!S93 -> 0
C19: 山留め | E19: =非木造_データ!Q19 -> 1311298 | F19: =非木造_データ!R19 -> 107616 | G19: =非木造_データ!S19 -> 0 | K19: 石こうボード | L19: =非木造_データ!Q94 -> 1188224 | M19: =非木造_データ!R94 -> 209905 | N19: =非木造_データ!S94 -> 0
C20: 乗入れ構台 | E20: =非木造_データ!Q20 -> 292287 | F20: =非木造_データ!R20 -> 0 | G20: =非木造_データ!S20 -> 0 | K20: ケイ酸カルシウム板 | L20: =非木造_データ!Q95 -> 71553.5 | M20: =非木造_データ!R95 -> 21618 | N20: =非木造_データ!S95 -> 0
C21: 根切り・床付け | E21: =非木造_データ!Q21 -> 308660.39 | F21: =非木造_データ!R21 -> 45452 | G21: =非木造_データ!S21 -> 0 | K21: 木毛セメント板 | L21: =非木造_データ!Q96 -> 0 | M21: =非木造_データ!R96 -> 0 | N21: =非木造_データ!S96 -> 0
C22: 上記以外の土工 | E22: =非木造_データ!Q22 -> 669158.92 | F22: =非木造_データ!R22 -> 42293 | G22: =非木造_データ!S22 -> 0 | K22: 壁紙・ビニルクロス張り | L22: =非木造_データ!Q97 -> 515621.8 | M22: =非木造_データ!R97 -> 115556 | N22: =非木造_データ!S97 -> 0
B23: 3.地業 | E23: =非木造_データ!Q23 -> 1432848.9 | F23: =非木造_データ!R23 -> 475097 | G23: =非木造_データ!S23 -> 0 | K23: ロックウール吸音板 | L23: =非木造_データ!Q98 -> 11043.52 | M23: =非木造_データ!R98 -> 11207 | N23: =非木造_データ!S98 -> 0
C24: 既製コンクリート杭 | E24: =非木造_データ!Q24 -> 386746 | F24: =非木造_データ!R24 -> 224811 | G24: =非木造_データ!S24 -> 0 | K24: 断熱材（グラスウール） | L24: =非木造_データ!Q99 -> 144145.45 | M24: =非木造_データ!R99 -> 31761 | N24: =非木造_データ!S99 -> 0
C25: 場所打ちコンクリート杭 | E25: =非木造_データ!Q25 -> 907313.7 | F25: =非木造_データ!R25 -> 174761 | G25: =非木造_データ!S25 -> 0 | K25: 合成樹脂発泡材打込み | L25: =非木造_データ!Q100 -> 130107 | M25: =非木造_データ!R100 -> 25588 | N25: =非木造_データ!S100 -> 0
C26: 鋼杭 | E26: =非木造_データ!Q26 -> 23410 | F26: =非木造_データ!R26 -> 9803 | G26: =非木造_データ!S26 -> 0 | K26: システム天井 | L26: =非木造_データ!Q101 -> 17890 | M26: =非木造_データ!R101 -> 1302 | N26: =非木造_データ!S101 -> 0
C27: 地盤改良 | E27: =非木造_データ!Q27 -> 101170.4 | F27: =非木造_データ!R27 -> 33662 | G27: =非木造_データ!S27 -> 0 | K27: 幅木・廻り縁 | L27: =非木造_データ!Q102 -> 74980.922 | M27: =非木造_データ!R102 -> 20422 | N27: =非木造_データ!S102 -> 0
C28: 上記以外の地業 | E28: =非木造_データ!Q28 -> 14208.76 | F28: =非木造_データ!R28 -> 32060 | G28: =非木造_データ!S28 -> 0 | K28: 合成樹脂製品 | L28: =非木造_データ!Q103 -> 42647.998 | M28: =非木造_データ!R103 -> 4300 | N28: =非木造_データ!S103 -> 0
B29: 4.鉄筋 | E29: =非木造_データ!Q29 -> 4044598 | F29: =非木造_データ!R29 -> 1144194 | G29: =非木造_データ!S29 -> 0 | K29: 上記以外の内外装 | L29: =非木造_データ!Q104 -> 988386.68 | M29: =非木造_データ!R104 -> 162538 | N29: =非木造_データ!S104 -> 0
B30: 5.コンクリート | E30: =非木造_データ!Q30 -> 3961696.6 | F30: =非木造_データ!R30 -> 799500 | G30: =非木造_データ!S30 -> 0 | J30: 20.ユニット | L30: =非木造_データ!Q105 -> 5727007.7 | M30: =非木造_データ!R105 -> 677875 | N30: =非木造_データ!S105 -> 0
B31: 6.型枠 | E31: =非木造_データ!Q31 -> 2614299.9 | F31: =非木造_データ!R31 -> 1102905 | G31: =非木造_データ!S31 -> 0 | K31: 間仕切ユニット | L31: =非木造_データ!Q106 -> 387066.9 | M31: =非木造_データ!R106 -> 22637 | N31: =非木造_データ!S106 -> 0
C32: 型枠用合板 | E32: =非木造_データ!Q32 -> 2336588.2 | F32: =非木造_データ!R32 -> 1091347 | G32: =非木造_データ!S32 -> 0 | K32: 収納ユニット | L32: =非木造_データ!Q107 -> 817367.94 | M32: =非木造_データ!R107 -> 84272 | N32: =非木造_データ!S107 -> 0
C33: フラットデッキ型枠 | E33: =非木造_データ!Q33 -> 218531 | F33: =非木造_データ!R33 -> 0 | G33: =非木造_データ!S33 -> 0 | K33: 造作家具 | L33: =非木造_データ!Q108 -> 213733.33 | M33: =非木造_データ!R108 -> 74169 | N33: =非木造_データ!S108 -> 0
C34: 上記以外の型枠 | E34: =非木造_データ!Q34 -> 59180.75 | F34: =非木造_データ!R34 -> 11558 | G34: =非木造_データ!S34 -> 0 | K34: キッチンユニット・吊戸棚 | L34: =非木造_データ!Q109 -> 1588562.4 | M34: =非木造_データ!R109 -> 141512 | N34: =非木造_データ!S109 -> 0
B35: 7.鉄骨 | E35: =非木造_データ!Q35 -> 2891902.8 | F35: =非木造_データ!R35 -> 189460 | G35: =非木造_データ!S35 -> 0 | K35: 浴槽・ユニットバス | L35: =非木造_データ!Q110 -> 940174.34 | M35: =非木造_データ!R110 -> 166660 | N35: =非木造_データ!S110 -> 0
C36: 鋼材（材料） | E36: =非木造_データ!Q36 -> 1117993.8 | F36: =非木造_データ!R36 -> 39334 | G36: =非木造_データ!S36 -> 0 | K36: 洗面台・防水パン | L36: =非木造_データ!Q111 -> 454043.72 | M36: =非木造_データ!R111 -> 49270 | N36: =非木造_データ!S111 -> 0
C37: 工場加工組立 | E37: =非木造_データ!Q37 -> 829437.56 | F37: =非木造_データ!R37 -> 19801 | G37: =非木造_データ!S37 -> 0 | K37: ブラインド・カーテン | L37: =非木造_データ!Q112 -> 20659.03 | M37: =非木造_データ!R112 -> 205 | N37: =非木造_データ!S112 -> 0
C38: 現場加工（建方・溶接・塗装） | E38: =非木造_データ!Q38 -> 201850.41 | F38: =非木造_データ!R38 -> 9360 | G38: =非木造_データ!S38 -> 0 | K38: 上記以外のユニット | L38: =非木造_データ!Q113 -> 1305400 | M38: =非木造_データ!R113 -> 139150 | N38: =非木造_データ!S113 -> 0
C39: 鉄骨運搬 | E39: =非木造_データ!Q39 -> 66400.58 | F39: =非木造_データ!R39 -> 2732 | G39: =非木造_データ!S39 -> 0 | J39: 21.その他 | L39: =非木造_データ!Q114 -> 741099.74 | M39: =非木造_データ!R114 -> 40991 | N39: =非木造_データ!S114 -> 0
C40: 高力ボルト類 | E40: =非木造_データ!Q40 -> 43522.87 | F40: =非木造_データ!R40 -> 1229 | G40: =非木造_データ!S40 -> 0 | I40: 建築工事費合計 | L40: =非木造_データ!Q115 -> 55104342 | M40: =非木造_データ!R115 -> 8445206 | N40: =非木造_データ!S115 -> 0
C41: 鉄骨足場 | E41: =非木造_データ!Q41 -> 64119.1 | F41: =非木造_データ!R41 -> 3409 | G41: =非木造_データ!S41 -> 0
C42: 耐火被覆板 | E42: =非木造_データ!Q42 -> 32341.182 | F42: =非木造_データ!R42 -> 0 | G42: =非木造_データ!S42 -> 0 | I42: 設備工事費科目別内訳 | J42: 1.電気 | L42: =非木造_データ!Q116 -> 6911160 | M42: =非木造_データ!R116 -> 0 | N42: =非木造_データ!S116 -> 12096
C43: 耐火被覆吹付 | E43: =非木造_データ!Q43 -> 85950.662 | F43: =非木造_データ!R43 -> 15921 | G43: =非木造_データ!S43 -> 0 | K43: 受変電・電力引込 | L43: =非木造_データ!Q117 -> 482769 | M43: =非木造_データ!R117 -> 0 | N43: =非木造_データ!S117 -> 180
C44: 上記以外の鉄骨 | E44: =非木造_データ!Q44 -> 450286.62 | F44: =非木造_データ!R44 -> 97674 | G44: =非木造_データ!S44 -> 0 | K44: 幹線・動力 | L44: =非木造_データ!Q118 -> 1141746 | M44: =非木造_データ!R118 -> 0 | N44: =非木造_データ!S118 -> 353
B45: 8.既製コンクリート | E45: =非木造_データ!Q45 -> 11649982 | F45: =非木造_データ!R45 -> 194440 | G45: =非木造_データ!S45 -> 0 | K45: 電灯コンセント | L45: =非木造_データ!Q119 -> 1471923 | M45: =非木造_データ!R119 -> 0 | N45: =非木造_データ!S119 -> 5126
C46: 躯体ＰＣ板 | E46: =非木造_データ!Q46 -> 9885349.7 | F46: =非木造_データ!R46 -> 0 | G46: =非木造_データ!S46 -> 0 | K46: 照明器具 | L46: =非木造_データ!Q120 -> 682772 | M46: =非木造_データ!R120 -> 0 | N46: =非木造_データ!S120 -> 558
C47: コンクリートブロック | E47: =非木造_データ!Q47 -> 6370.67 | F47: =非木造_データ!R47 -> 452 | G47: =非木造_データ!S47 -> 0 | K47: 電話・電話配管・IT設備 | L47: =非木造_データ!Q121 -> 625628 | M47: =非木造_データ!R121 -> 0 | N47: =非木造_データ!S121 -> 92
C48: 押出成形ｾﾒﾝﾄ板・穴あきPC板 | E48: =非木造_データ!Q48 -> 414319.33 | F48: =非木造_データ!R48 -> 37572 | G48: =非木造_データ!S48 -> 0 | K48: テレビ共聴 | L48: =非木造_データ!Q122 -> 349522 | M48: =非木造_データ!R122 -> 0 | N48: =非木造_データ!S122 -> 338
C49: ＡＬＣパネル | E49: =非木造_データ!Q49 -> 1343642.7 | F49: =非木造_データ!R49 -> 152016 | G49: =非木造_データ!S49 -> 0 | K49: インターホン・拡声 | L49: =非木造_データ!Q123 -> 346792 | M49: =非木造_データ!R123 -> 0 | N49: =非木造_データ!S123 -> 0
C50: 上記以外の既製ｺﾝｸﾘｰﾄ | E50: =非木造_データ!Q50 -> 300 | F50: =非木造_データ!R50 -> 4400 | G50: =非木造_データ!S50 -> 0 | K50: 防災 | L50: =非木造_データ!Q124 -> 790601 | M50: =非木造_データ!R124 -> 0 | N50: =非木造_データ!S124 -> 4861
B51: 9.防水 | E51: =非木造_データ!Q51 -> 778310.46 | F51: =非木造_データ!R51 -> 202873 | G51: =非木造_データ!S51 -> 0 | K51: 避雷針 | L51: =非木造_データ!Q125 -> 39609 | M51: =非木造_データ!R125 -> 0 | N51: =非木造_データ!S125 -> 0
C52: アスファルト防水 | E52: =非木造_データ!Q52 -> 235167.56 | F52: =非木造_データ!R52 -> 86057 | G52: =非木造_データ!S52 -> 0 | K52: 蓄電池 | L52: =非木造_データ!Q126 -> 57066 | M52: =非木造_データ!R126 -> 0 | N52: =非木造_データ!S126 -> 0
C53: シート防水 | E53: =非木造_データ!Q53 -> 19537.774 | F53: =非木造_データ!R53 -> 4537 | G53: =非木造_データ!S53 -> 0 | K53: 屋外施設の電気設備（外灯、門灯） | L53: =非木造_データ!Q127 -> 67403 | M53: =非木造_データ!R127 -> 0 | N53: =非木造_データ!S127 -> 588
C54: モルタル防水 | E54: =非木造_データ!Q54 -> 2700 | F54: =非木造_データ!R54 -> 3329 | G54: =非木造_データ!S54 -> 0 | K54: 上記以外の電気設備 | L54: =非木造_データ!Q128 -> 844511 | M54: =非木造_データ!R128 -> 0 | N54: =非木造_データ!S128 -> 0
C55: 塗膜防水 | E55: =非木造_データ!Q55 -> 254668.44 | F55: =非木造_データ!R55 -> 44562 | G55: =非木造_データ!S55 -> 0 | J55: 2.空調 | L55: =非木造_データ!Q129 -> 3170831 | M55: =非木造_データ!R129 -> 0 | N55: =非木造_データ!S129 -> 5176
C56: 伸縮目地 | E56: =非木造_データ!Q56 -> 13668.292 | F56: =非木造_データ!R56 -> 8954 | G56: =非木造_データ!S56 -> 0 | K56: 空調機器 | L56: =非木造_データ!Q130 -> 893638 | M56: =非木造_データ!R130 -> 0 | N56: =非木造_データ!S130 -> 3534
C57: シーリング | E57: =非木造_データ!Q57 -> 215388.39 | F57: =非木造_データ!R57 -> 45851 | G57: =非木造_データ!S57 -> 0 | K57: ダクト | L57: =非木造_データ!Q131 -> 90130 | M57: =非木造_データ!R131 -> 0 | N57: =非木造_データ!S131 -> 787
C58: 上記以外の防水 | E58: =非木造_データ!Q58 -> 37180 | F58: =非木造_データ!R58 -> 9583 | G58: =非木造_データ!S58 -> 0 | K58: 空調配管 | L58: =非木造_データ!Q132 -> 523983 | M58: =非木造_データ!R132 -> 0 | N58: =非木造_データ!S132 -> 544
B59: 10.石 | E59: =非木造_データ!Q59 -> 358830.67 | F59: =非木造_データ!R59 -> 31294 | G59: =非木造_データ!S59 -> 0 | K59: 自動制御 | L59: =非木造_データ!Q133 -> 76311 | M59: =非木造_データ!R133 -> 0 | N59: =非木造_データ!S133 -> 0
B60: 11.タイル | E60: =非木造_データ!Q60 -> 531989.05 | F60: =非木造_データ!R60 -> 109233 | G60: =非木造_データ!S60 -> 0 | K60: 換気 | L60: =非木造_データ!Q134 -> 1115527 | M60: =非木造_データ!R134 -> 0 | N60: =非木造_データ!S134 -> 311
B61: 12.木工 | E61: =非木造_データ!Q61 -> 789200.33 | F61: =非木造_データ!R61 -> 158456 | G61: =非木造_データ!S61 -> 0 | K61: 床暖房 | L61: =非木造_データ!Q135 -> 253116 | M61: =非木造_データ!R135 -> 0 | N61: =非木造_データ!S135 -> 0
B62: 13.屋根及びとい | E62: =非木造_データ!Q62 -> 230857.47 | F62: =非木造_データ!R62 -> 38929 | G62: =非木造_データ!S62 -> 0 | K62: 上記以外の空調設備 | L62: =非木造_データ!Q136 -> 208877 | M62: =非木造_データ!R136 -> 0 | N62: =非木造_データ!S136 -> 0
C63: 金属板 | E63: =非木造_データ!Q63 -> 69351.81 | F63: =非木造_データ!R63 -> 10490 | G63: =非木造_データ!S63 -> 0 | J63: 3.衛生 | L63: =非木造_データ!Q137 -> 7799743 | M63: =非木造_データ!R137 -> 0 | N63: =非木造_データ!S137 -> 4883
C64: 瓦 | E64: =非木造_データ!Q64 -> 0 | F64: =非木造_データ!R64 -> 0 | G64: =非木造_データ!S64 -> 0 | K64: 給水 | L64: =非木造_データ!Q138 -> 853147 | M64: =非木造_データ!R138 -> 0 | N64: =非木造_データ!S138 -> 454
C65: ルーフドレイン | E65: =非木造_データ!Q65 -> 17291.79 | F65: =非木造_データ!R65 -> 5091 | G65: =非木造_データ!S65 -> 0 | K65: 給湯 | L65: =非木造_データ!Q139 -> 690750 | M65: =非木造_データ!R139 -> 0 | N65: =非木造_データ!S139 -> 982
C66: とい | E66: =非木造_データ!Q66 -> 143906.87 | F66: =非木造_データ!R66 -> 22691 | G66: =非木造_データ!S66 -> 0 | K66: 排水通気 | L66: =非木造_データ!Q140 -> 1930576 | M66: =非木造_データ!R140 -> 0 | N66: =非木造_データ!S140 -> 954
C67: 上記以外の屋根及びとい | E67: =非木造_データ!Q67 -> 307 | F67: =非木造_データ!R67 -> 657 | G67: =非木造_データ!S67 -> 0 | K67: 衛生器具 | L67: =非木造_データ!Q141 -> 527527 | M67: =非木造_データ!R141 -> 0 | N67: =非木造_データ!S141 -> 2493
B68: 14.金属 | E68: =非木造_データ!Q68 -> 2932430.1 | F68: =非木造_データ!R68 -> 639298 | G68: =非木造_データ!S68 -> 0 | K68: 消火 | L68: =非木造_データ!Q142 -> 1873194 | M68: =非木造_データ!R142 -> 0 | N68: =非木造_データ!S142 -> 0
B69: 15.左官 | E69: =非木造_データ!Q69 -> 707550.84 | F69: =非木造_データ!R69 -> 269013 | G69: =非木造_データ!S69 -> 0 | K69: ガス | L69: =非木造_データ!Q143 -> 628520 | M69: =非木造_データ!R143 -> 0 | N69: =非木造_データ!S143 -> 0
B70: 16.建具 | E70: =非木造_データ!Q70 -> 4908460.3 | F70: =非木造_データ!R70 -> 861559 | G70: =非木造_データ!S70 -> 0 | K70: 厨房機器 | L70: =非木造_データ!Q144 -> 84608 | M70: =非木造_データ!R144 -> 0 | N70: =非木造_データ!S144 -> 0
C71: 金属製建具 | D71: アルミニウム製建具 | E71: =非木造_データ!Q71 -> 1760671.4 | F71: =非木造_データ!R71 -> 255526 | G71: =非木造_データ!S71 -> 0 | K71: 浄化槽 | L71: =非木造_データ!Q145 -> 28263 | M71: =非木造_データ!R145 -> 0 | N71: =非木造_データ!S145 -> 0
D72: 鋼製建具 | E72: =非木造_データ!Q72 -> 1152171.8 | F72: =非木造_データ!R72 -> 278769 | G72: =非木造_データ!S72 -> 0 | K72: 貯水槽 | L72: =非木造_データ!Q146 -> 17475 | M72: =非木造_データ!R146 -> 0 | N72: =非木造_データ!S146 -> 0
D73: ステンレス製建具 | E73: =非木造_データ!Q73 -> 156736.74 | F73: =非木造_データ!R73 -> 28920 | G73: =非木造_データ!S73 -> 0 | K73: 上記以外の衛生設備 | L73: =非木造_データ!Q147 -> 971267 | M73: =非木造_データ!R147 -> 0 | N73: =非木造_データ!S147 -> 0
D74: シャッター | E74: =非木造_データ!Q74 -> 98932.3 | F74: =非木造_データ!R74 -> 4649 | G74: =非木造_データ!S74 -> 0 | J74: 4.昇降機 | L74: =非木造_データ!Q148 -> 1432858 | M74: =非木造_データ!R148 -> 0 | N74: =非木造_データ!S148 -> 0
D75: 自動扉開閉装置 | E75: =非木造_データ!Q75 -> 29478 | F75: =非木造_データ!R75 -> 12671 | G75: =非木造_データ!S75 -> 0 | J75: 5.機械式駐車場 | L75: =非木造_データ!Q149 -> 1029645 | M75: =非木造_データ!R149 -> 0 | N75: =非木造_データ!S149 -> 0
D76: 上記以外の金属製建具 | E76: =非木造_データ!Q76 -> 212196.9 | F76: =非木造_データ!R76 -> 21160 | G76: =非木造_データ!S76 -> 0 | J76: 6.上記以外の設備 | L76: =非木造_データ!Q150 -> 18500 | M76: =非木造_データ!R150 -> 0 | N76: =非木造_データ!S150 -> 0
C77: 木製建具 | E77: =非木造_データ!Q77 -> 674745.2 | F77: =非木造_データ!R77 -> 157396 | G77: =非木造_データ!S77 -> 0 | I77: 設備工事費合計 | L77: =非木造_データ!Q151 -> 20362737 | M77: =非木造_データ!R151 -> 0 | N77: =非木造_データ!S151 -> 22155
C78: ガラス | D78: 板ガラス | E78: =非木造_データ!Q78 -> 186670.51 | F78: =非木造_データ!R78 -> 56203 | G78: =非木造_データ!S78 -> 0
D79: 複層ガラス | E79: =非木造_データ!Q79 -> 490455.25 | F79: =非木造_データ!R79 -> 36171 | G79: =非木造_データ!S79 -> 0
D80: 上記以外のガラス | E80: =非木造_データ!Q80 -> 146402.19 | F80: =非木造_データ!R80 -> 10094 | G80: =非木造_データ!S80 -> 0

Sheet 非木造_居住産業併用 (比率)
A2: =非木造_居住産業併用!A2:N2 -> 表1-1 平成27年建築工事費投入調査集計表（非木造_居住産業併用住宅）
A4: （単位：％） | E4: =非木造_居住産業併用!E4 -> 25 | F4: =非木造_居住産業併用!F4 -> 9 | G4: =非木造_居住産業併用!G4 -> 4 | L4: =非木造_居住産業併用!L4 -> 25 | M4: =非木造_居住産業併用!M4 -> 9 | N4: =非木造_居住産業併用!N4 -> 4
E5: 建築工事・ 設備工事 一貫受注 | F5: 建築工事 のみ受注 | G5: 設備工事 のみ受注 | L5: 建築工事・ 設備工事 一貫受注 | M5: 建築工事 のみ受注 | N5: 設備工事 のみ受注
A6: 工事費内訳 | B6: 1.建築工事費 | E6: =IF(非木造_居住産業併用!E$14>0,非木造_居住産業併用!E6/非木造_居住産業併用!E$14*100,0) -> 61.595705 | F6: =IF(非木造_居住産業併用!F$14>0,非木造_居住産業併用!F6/非木造_居住産業併用!F$14*100,0) -> 76.16569 | G6: =IF(非木造_居住産業併用!G$14>0,非木造_居住産業併用!G6/非木造_居住産業併用!G$14*100,0) -> 0 | I6: 建築工事費科目別内訳(続き） | J6: 17.カーテンウォール | L6: =IF(非木造_居住産業併用!L$40>0,非木造_居住産業併用!L6/非木造_居住産業併用!L$40*100,0) -> 0.094384577 | M6: =IF(非木造_居住産業併用!M$40>0,非木造_居住産業併用!M6/非木造_居住産業併用!M$40*100,0) -> 0 | N6: =IF(非木造_居住産業併用!N$40>0,非木造_居住産業併用!N6/非木造_居住産業併用!N$40*100,0) -> 0
B7: 2.設備工事費 | E7: =IF(非木造_居住産業併用!E$14>0,非木造_居住産業併用!E7/非木造_居住産業併用!E$14*100,0) -> 22.761494 | F7: =IF(非木造_居住産業併用!F$14>0,非木造_居住産業併用!F7/非木造_居住産業併用!F$14*100,0) -> 0 | G7: =IF(非木造_居住産業併用!G$14>0,非木造_居住産業併用!G7/非木造_居住産業併用!G$14*100,0) -> 85.978733 | K7: メタルカーテンウォール | L7: =IF(非木造_居住産業併用!L$40>0,非木造_居住産業併用!L7/非木造_居住産業併用!L$40*100,0) -> 0.094384577 | M7: =IF(非木造_居住産業併用!M$40>0,非木造_居住産業併用!M7/非木造_居住産業併用!M$40*100,0) -> 0 | N7: =IF(非木造_居住産業併用!N$40>0,非木造_居住産業併用!N7/非木造_居住産業併用!N$40*100,0) -> 0
B8: 3.解体・撤去費 | E8: =IF(非木造_居住産業併用!E$14>0,非木造_居住産業併用!E8/非木造_居住産業併用!E$14*100,0) -> 0.1668229 | F8: =IF(非木造_居住産業併用!F$14>0,非木造_居住産業併用!F8/非木造_居住産業併用!F$14*100,0) -> 1.1932694 | G8: =IF(非木造_居住産業併用!G$14>0,非木造_居住産業併用!G8/非木造_居住産業併用!G$14*100,0) -> 0 | K8: ＰＣカーテンウォール | L8: =IF(非木造_居住産業併用!L$40>0,非木造_居住産業併用!L8/非木造_居住産業併用!L$40*100,0) -> 0 | M8: =IF(非木造_居住産業併用!M$40>0,非木造_居住産業併用!M8/非木造_居住産業併用!M$40*100,0) -> 0 | N8: =IF(非木造_居住産業併用!N$40>0,非木造_居住産業併用!N8/非木造_居住産業併用!N$40*100,0) -> 0
B9: 4.屋外施設費 | E9: =IF(非木造_居住産業併用!E$14>0,非木造_居住産業併用!E9/非木造_居住産業併用!E$14*100,0) -> 1.4023309 | F9: =IF(非木造_居住産業併用!F$14>0,非木造_居住産業併用!F9/非木造_居住産業併用!F$14*100,0) -> 3.4203288 | G9: =IF(非木造_居住産業併用!G$14>0,非木造_居住産業併用!G9/非木造_居住産業併用!G$14*100,0) -> 0 | J9: 18.塗装 | L9: =IF(非木造_居住産業併用!L$40>0,非木造_居住産業併用!L9/非木造_居住産業併用!L$40*100,0) -> 1.029665 | M9: =IF(非木造_居住産業併用!M$40>0,非木造_居住産業併用!M9/非木造_居住産業併用!M$40*100,0) -> 1.3897234 | N9: =IF(非木造_居住産業併用!N$40>0,非木造_居住産業併用!N9/非木造_居住産業併用!N$40*100,0) -> 0
B10: 5.共通（総合）仮設費 | E10: =IF(非木造_居住産業併用!E$14>0,非木造_居住産業併用!E10/非木造_居住産業併用!E$14*100,0) -> 3.7295139 | F10: =IF(非木造_居住産業併用!F$14>0,非木造_居住産業併用!F10/非木造_居住産業併用!F$14*100,0) -> 4.2149128 | G10: =IF(非木造_居住産業併用!G$14>0,非木造_居住産業併用!G10/非木造_居住産業併用!G$14*100,0) -> 0 | J10: 19.内外装 | L10: =IF(非木造_居住産業併用!L$40>0,非木造_居住産業併用!L10/非木造_居住産業併用!L$40*100,0) -> 9.0558805 | M10: =IF(非木造_居住産業併用!M$40>0,非木造_居住産業併用!M10/非木造_居住産業併用!M$40*100,0) -> 9.5560724 | N10: =IF(非木造_居住産業併用!N$40>0,非木造_居住産業併用!N10/非木造_居住産業併用!N$40*100,0) -> 0
B11: 6.現場管理費 | E11: =IF(非木造_居住産業併用!E$14>0,非木造_居住産業併用!E11/非木造_居住産業併用!E$14*100,0) -> 4.9966657 | F11: =IF(非木造_居住産業併用!F$14>0,非木造_居住産業併用!F11/非木造_居住産業併用!F$14*100,0) -> 7.1752372 | G11: =IF(非木造_居住産業併用!G$14>0,非木造_居住産業併用!G11/非木造_居住産業併用!G$14*100,0) -> 6.0074511 | K11: フローリング | L11: =IF(非木造_居住産業併用!L$40>0,非木造_居住産業併用!L11/非木造_居住産業併用!L$40*100,0) -> 1.933492 | M11: =IF(非木造_居住産業併用!M$40>0,非木造_居住産業併用!M11/非木造_居住産業併用!M$40*100,0) -> 0.71643013 | N11: =IF(非木造_居住産業併用!N$40>0,非木造_居住産業併用!N11/非木造_居住産業併用!N$40*100,0) -> 0
B12: 7.工事原価 | E12: =IF(非木造_居住産業併用!E$14>0,非木造_居住産業併用!E12/非木造_居住産業併用!E$14*100,0) -> 94.652532 | F12: =IF(非木造_居住産業併用!F$14>0,非木造_居住産業併用!F12/非木造_居住産業併用!F$14*100,0) -> 92.169438 | G12: =IF(非木造_居住産業併用!G$14>0,非木造_居住産業併用!G12/非木造_居住産業併用!G$14*100,0) -> 91.986184 | K12: ビニル床タイル | L12: =IF(非木造_居住産業併用!L$40>0,非木造_居住産業併用!L12/非木造_居住産業併用!L$40*100,0) -> 0.063163649 | M12: =IF(非木造_居住産業併用!M$40>0,非木造_居住産業併用!M12/非木造_居住産業併用!M$40*100,0) -> 0.20956268 | N12: =IF(非木造_居住産業併用!N$40>0,非木造_居住産業併用!N12/非木造_居住産業併用!N$40*100,0) -> 0
B13: 8.一般管理費等 | E13: =IF(非木造_居住産業併用!E$14>0,非木造_居住産業併用!E13/非木造_居住産業併用!E$14*100,0) -> 5.3474675 | F13: =IF(非木造_居住産業併用!F$14>0,非木造_居住産業併用!F13/非木造_居住産業併用!F$14*100,0) -> 7.8305619 | G13: =IF(非木造_居住産業併用!G$14>0,非木造_居住産業併用!G13/非木造_居住産業併用!G$14*100,0) -> 8.0138156 | K13: ビニル床シート | L13: =IF(非木造_居住産業併用!L$40>0,非木造_居住産業併用!L13/非木造_居住産業併用!L$40*100,0) -> 0.30371256 | M13: =IF(非木造_居住産業併用!M$40>0,非木造_居住産業併用!M13/非木造_居住産業併用!M$40*100,0) -> 0.89648494 | N13: =IF(非木造_居住産業併用!N$40>0,非木造_居住産業併用!N13/非木造_居住産業併用!N$40*100,0) -> 0
A14: 9.工事価格 | E14: =IF(非木造_居住産業併用!E$14>0,非木造_居住産業併用!E14/非木造_居住産業併用!E$14*100,0) -> 100 | F14: =IF(非木造_居住産業併用!F$14>0,非木造_居住産業併用!F14/非木造_居住産業併用!F$14*100,0) -> 100 | G14: =IF(非木造_居住産業併用!G$14>0,非木造_居住産業併用!G14/非木造_居住産業併用!G$14*100,0) -> 100 | K14: カーペット | L14: =IF(非木造_居住産業併用!L$40>0,非木造_居住産業併用!L14/非木造_居住産業併用!L$40*100,0) -> 0.15628929 | M14: =IF(非木造_居住産業併用!M$40>0,非木造_居住産業併用!M14/非木造_居住産業併用!M$40*100,0) -> 0.11642108 | N14: =IF(非木造_居住産業併用!N$40>0,非木造_居住産業併用!N14/非木造_居住産業併用!N$40*100,0) -> 0
K15: 畳 | L15: =IF(非木造_居住産業併用!L$40>0,非木造_居住産業併用!L15/非木造_居住産業併用!L$40*100,0) -> 0.011895614 | M15: =IF(非木造_居住産業併用!M$40>0,非木造_居住産業併用!M15/非木造_居住産業併用!M$40*100,0) -> 0.058269745 | N15: =IF(非木造_居住産業併用!N$40>0,非木造_居住産業併用!N15/非木造_居住産業併用!N$40*100,0) -> 0
A16: 建築工事費科目別内訳 | B16: 1.直接仮設 | E16: =IF(非木造_居住産業併用!L$40>0,非木造_居住産業併用!E16/非木造_居住産業併用!L$40*100,0) -> 2.6773186 | F16: =IF(非木造_居住産業併用!M$40>0,非木造_居住産業併用!F16/非木造_居住産業併用!M$40*100,0) -> 3.632854 | G16: =IF(非木造_居住産業併用!N$40>0,非木造_居住産業併用!G16/非木造_居住産業併用!N$40*100,0) -> 0 | K16: 合成樹脂塗床 | L16: =IF(非木造_居住産業併用!L$40>0,非木造_居住産業併用!L16/非木造_居住産業併用!L$40*100,0) -> 0.059583381 | M16: =IF(非木造_居住産業併用!M$40>0,非木造_居住産業併用!M16/非木造_居住産業併用!M$40*100,0) -> 0.054800321 | N16: =IF(非木造_居住産業併用!N$40>0,非木造_居住産業併用!N16/非木造_居住産業併用!N$40*100,0) -> 0
B17: 2.土工 | E17: =IF(非木造_居住産業併用!L$40>0,非木造_居住産業併用!E17/非木造_居住産業併用!L$40*100,0) -> 6.747879 | F17: =IF(非木造_居住産業併用!M$40>0,非木造_居住産業併用!F17/非木造_居住産業併用!M$40*100,0) -> 3.3023706 | G17: =IF(非木造_居住産業併用!N$40>0,非木造_居住産業併用!G17/非木造_居住産業併用!N$40*100,0) -> 0 | K17: フリーアクセスフロア | L17: =IF(非木造_居住産業併用!L$40>0,非木造_居住産業併用!L17/非木造_居住産業併用!L$40*100,0) -> 0.6919464 | M17: =IF(非木造_居住産業併用!M$40>0,非木造_居住産業併用!M17/非木造_居住産業併用!M$40*100,0) -> 0.2769145 | N17: =IF(非木造_居住産業併用!N$40>0,非木造_居住産業併用!N17/非木造_居住産業併用!N$40*100,0) -> 0
C18: 建設発生土の処理 | E18: =IF(非木造_居住産業併用!L$40>0,非木造_居住産業併用!E18/非木造_居住産業併用!L$40*100,0) -> 2.0633038 | F18: =IF(非木造_居住産業併用!M$40>0,非木造_居住産業併用!F18/非木造_居住産業併用!M$40*100,0) -> 0.98909369 | G18: =IF(非木造_居住産業併用!N$40>0,非木造_居住産業併用!G18/非木造_居住産業併用!N$40*100,0) -> 0 | K18: 化粧合板 | L18: =IF(非木造_居住産業併用!L$40>0,非木造_居住産業併用!L18/非木造_居住産業併用!L$40*100,0) -> 0.056578119 | M18: =IF(非木造_居住産業併用!M$40>0,非木造_居住産業併用!M18/非木造_居住産業併用!M$40*100,0) -> 0.072869744 | N18: =IF(非木造_居住産業併用!N$40>0,非木造_居住産業併用!N18/非木造_居住産業併用!N$40*100,0) -> 0
C19: 山留め | E19: =IF(非木造_居住産業併用!L$40>0,非木造_居住産業併用!E19/非木造_居住産業併用!L$40*100,0) -> 2.3796637 | F19: =IF(非木造_居住産業併用!M$40>0,非木造_居住産業併用!F19/非木造_居住産業併用!M$40*100,0) -> 1.2742851 | G19: =IF(非木造_居住産業併用!N$40>0,非木造_居住産業併用!G19/非木造_居住産業併用!N$40*100,0) -> 0 | K19: 石こうボード | L19: =IF(非木造_居住産業併用!L$40>0,非木造_居住産業併用!L19/非木造_居住産業併用!L$40*100,0) -> 2.1563164 | M19: =IF(非木造_居住産業併用!M$40>0,非木造_居住産業併用!M19/非木造_居住産業併用!M$40*100,0) -> 2.485493 | N19: =IF(非木造_居住産業併用!N$40>0,非木造_居住産業併用!N19/非木造_居住産業併用!N$40*100,0) -> 0
C20: 乗入れ構台 | E20: =IF(非木造_居住産業併用!L$40>0,非木造_居住産業併用!E20/非木造_居住産業併用!L$40*100,0) -> 0.53042463 | F20: =IF(非木造_居住産業併用!M$40>0,非木造_居住産業併用!F20/非木造_居住産業併用!M$40*100,0) -> 0 | G20: =IF(非木造_居住産業併用!N$40>0,非木造_居住産業併用!G20/非木造_居住産業併用!N$40*100,0) -> 0 | K20: ケイ酸カルシウム板 | L20: =IF(非木造_居住産業併用!L$40>0,非木造_居住産業併用!L20/非木造_居住産業併用!L$40*100,0) -> 0.12985093 | M20: =IF(非木造_居住産業併用!M$40>0,非木造_居住産業併用!M20/非木造_居住産業併用!M$40*100,0) -> 0.25597955 | N20: =IF(非木造_居住産業併用!N$40>0,非木造_居住産業併用!N20/非木造_居住産業併用!N$40*100,0) -> 0
C21: 根切り・床付け | E21: =IF(非木造_居住産業併用!L$40>0,非木造_居住産業併用!E21/非木造_居住産業併用!L$40*100,0) -> 0.56013806 | F21: =IF(非木造_居住産業併用!M$40>0,非木造_居住産業併用!F21/非木造_居住産業併用!M$40*100,0) -> 0.53819883 | G21: =IF(非木造_居住産業併用!N$40>0,非木造_居住産業併用!G21/非木造_居住産業併用!N$40*100,0) -> 0 | K21: 木毛セメント板 | L21: =IF(非木造_居住産業併用!L$40>0,非木造_居住産業併用!L21/非木造_居住産業併用!L$40*100,0) -> 0 | M21: =IF(非木造_居住産業併用!M$40>0,非木造_居住産業併用!M21/非木造_居住産業併用!M$40*100,0) -> 0 | N21: =IF(非木造_居住産業併用!N$40>0,非木造_居住産業併用!N21/非木造_居住産業併用!N$40*100,0) -> 0
C22: 上記以外の土工 | E22: =IF(非木造_居住産業併用!L$40>0,非木造_居住産業併用!E22/非木造_居住産業併用!L$40*100,0) -> 1.2143488 | F22: =IF(非木造_居住産業併用!M$40>0,非木造_居住産業併用!F22/非木造_居住産業併用!M$40*100,0) -> 0.50079299 | G22: =IF(非木造_居住産業併用!N$40>0,非木造_居住産業併用!G22/非木造_居住産業併用!N$40*100,0) -> 0 | K22: 壁紙・ビニルクロス張り | L22: =IF(非木造_居住産業併用!L$40>0,非木造_居住産業併用!L22/非木造_居住産業併用!L$40*100,0) -> 0.93571901 | M22: =IF(非木造_居住産業併用!M$40>0,非木造_居住産業併用!M22/非木造_居住産業併用!M$40*100,0) -> 1.3683029 | N22: =IF(非木造_居住産業併用!N$40>0,非木造_居住産業併用!N22/非木造_居住産業併用!N$40*100,0) -> 0
B23: 3.地業 | E23: =IF(非木造_居住産業併用!L$40>0,非木造_居住産業併用!E23/非木造_居住産業併用!L$40*100,0) -> 2.6002468 | F23: =IF(非木造_居住産業併用!M$40>0,非木造_居住産業併用!F23/非木造_居住産業併用!M$40*100,0) -> 5.6256413 | G23: =IF(非木造_居住産業併用!N$40>0,非木造_居住産業併用!G23/非木造_居住産業併用!N$40*100,0) -> 0 | K23: ロックウール吸音板 | L23: =IF(非木造_居住産業併用!L$40>0,非木造_居住産業併用!L23/非木造_居住産業併用!L$40*100,0) -> 0.020041107 | M23: =IF(非木造_居住産業併用!M$40>0,非木造_居住産業併用!M23/非木造_居住産業併用!M$40*100,0) -> 0.13270251 | N23: =IF(非木造_居住産業併用!N$40>0,非木造_居住産業併用!N23/非木造_居住産業併用!N$40*100,0) -> 0
C24: 既製コンクリート杭 | E24: =IF(非木造_居住産業併用!L$40>0,非木造_居住産業併用!E24/非木造_居住産業併用!L$40*100,0) -> 0.70184306 | F24: =IF(非木造_居住産業併用!M$40>0,非木造_居住産業併用!F24/非木造_居住産業併用!M$40*100,0) -> 2.6619955 | G24: =IF(非木造_居住産業併用!N$40>0,非木造_居住産業併用!G24/非木造_居住産業併用!N$40*100,0) -> 0 | K24: 断熱材（グラスウール） | L24: =IF(非木造_居住産業併用!L$40>0,非木造_居住産業併用!L24/非木造_居住産業併用!L$40*100,0) -> 0.26158638 | M24: =IF(非木造_居住産業併用!M$40>0,非木造_居住産業併用!M24/非木造_居住産業併用!M$40*100,0) -> 0.37608319 | N24: =IF(非木造_居住産業併用!N$40>0,非木造_居住産業併用!N24/非木造_居住産業併用!N$40*100,0) -> 0
C25: 場所打ちコンクリート杭 | E25: =IF(非木造_居住産業併用!L$40>0,非木造_居住産業併用!E25/非木造_居住産業併用!L$40*100,0) -> 1.6465376 | F25: =IF(非木造_居住産業併用!M$40>0,非木造_居住産業併用!F25/非木造_居住産業併用!M$40*100,0) -> 2.0693515 | G25: =IF(非木造_居住産業併用!N$40>0,非木造_居住産業併用!G25/非木造_居住産業併用!N$40*100,0) -> 0 | K25: 合成樹脂発泡材打込み | L25: =IF(非木造_居住産業併用!L$40>0,非木造_居住産業併用!L25/非木造_居住産業併用!L$40*100,0) -> 0.23611025 | M25: =IF(非木造_居住産業併用!M$40>0,非木造_居住産業併用!M25/非木造_居住産業併用!M$40*100,0) -> 0.30298846 | N25: =IF(非木造_居住産業併用!N$40>0,非木造_居住産業併用!N25/非木造_居住産業併用!N$40*100,0) -> 0
C26: 鋼杭 | E26: =IF(非木造_居住産業併用!L$40>0,非木造_居住産業併用!E26/非木造_居住産業併用!L$40*100,0) -> 0.042483041 | F26: =IF(非木造_居住産業併用!M$40>0,非木造_居住産業併用!F26/非木造_居住産業併用!M$40*100,0) -> 0.11607769 | G26: =IF(非木造_居住産業併用!N$40>0,非木造_居住産業併用!G26/非木造_居住産業併用!N$40*100,0) -> 0 | K26: システム天井 | L26: =IF(非木造_居住産業併用!L$40>0,非木造_居住産業併用!L26/非木造_居住産業併用!L$40*100,0) -> 0.032465681 | M26: =IF(非木造_居住産業併用!M$40>0,非木造_居住産業併用!M26/非木造_居住産業併用!M$40*100,0) -> 0.015417031 | N26: =IF(非木造_居住産業併用!N$40>0,非木造_居住産業併用!N26/非木造_居住産業併用!N$40*100,0) -> 0
C27: 地盤改良 | E27: =IF(非木造_居住産業併用!L$40>0,非木造_居住産業併用!E27/非木造_居住産業併用!L$40*100,0) -> 0.18359787 | F27: =IF(非木造_居住産業併用!M$40>0,非木造_居住産業併用!F27/非木造_居住産業併用!M$40*100,0) -> 0.398593 | G27: =IF(非木造_居住産業併用!N$40>0,非木造_居住産業併用!G27/非木造_居住産業併用!N$40*100,0) -> 0 | K27: 幅木・廻り縁 | L27: =IF(非木造_居住産業併用!L$40>0,非木造_居住産業併用!L27/非木造_居住産業併用!L$40*100,0) -> 0.13607081 | M27: =IF(非木造_居住産業併用!M$40>0,非木造_居住産業併用!M27/非木造_居住産業併用!M$40*100,0) -> 0.24181767 | N27: =IF(非木造_居住産業併用!N$40>0,非木造_居住産業併用!N27/非木造_居住産業併用!N$40*100,0) -> 0
C28: 上記以外の地業 | E28: =IF(非木造_居住産業併用!L$40>0,非木造_居住産業併用!E28/非木造_居住産業併用!L$40*100,0) -> 0.025785191 | F28: =IF(非木造_居住産業併用!M$40>0,非木造_居住産業併用!F28/非木造_居住産業併用!M$40*100,0) -> 0.37962366 | G28: =IF(非木造_居住産業併用!N$40>0,非木造_居住産業併用!G28/非木造_居住産業併用!N$40*100,0) -> 0 | K28: 合成樹脂製品 | L28: =IF(非木造_居住産業併用!L$40>0,非木造_居住産業併用!L28/非木造_居住産業併用!L$40*100,0) -> 0.077394987 | M28: =IF(非木造_居住産業併用!M$40>0,非木造_居住産業併用!M28/非木造_居住産業併用!M$40*100,0) -> 0.050916461 | N28: =IF(非木造_居住産業併用!N$40>0,非木造_居住産業併用!N28/非木造_居住産業併用!N$40*100,0) -> 0
B29: 4.鉄筋 | E29: =IF(非木造_居住産業併用!L$40>0,非木造_居住産業併用!E29/非木造_居住産業併用!L$40*100,0) -> 7.3398899 | F29: =IF(非木造_居住産業併用!M$40>0,非木造_居住産業併用!F29/非木造_居住産業併用!M$40*100,0) -> 13.548444 | G29: =IF(非木造_居住産業併用!N$40>0,非木造_居住産業併用!G29/非木造_居住産業併用!N$40*100,0) -> 0 | K29: 上記以外の内外装 | L29: =IF(非木造_居住産業併用!L$40>0,非木造_居住産業併用!L29/非木造_居住産業併用!L$40*100,0) -> 1.7936639 | M29: =IF(非木造_居住産業併用!M$40>0,非木造_居住産業併用!M29/非木造_居住産業併用!M$40*100,0) -> 1.9246185 | N29: =IF(非木造_居住産業併用!N$40>0,非木造_居住産業併用!N29/非木造_居住産業併用!N$40*100,0) -> 0
B30: 5.コンクリート | E30: =IF(非木造_居住産業併用!L$40>0,非木造_居住産業併用!E30/非木造_居住産業併用!L$40*100,0) -> 7.1894454 | F30: =IF(非木造_居住産業併用!M$40>0,非木造_居住産業併用!F30/非木造_居住産業併用!M$40*100,0) -> 9.4669094 | G30: =IF(非木造_居住産業併用!N$40>0,非木造_居住産業併用!G30/非木造_居住産業併用!N$40*100,0) -> 0 | J30: 20.ユニット | L30: =IF(非木造_居住産業併用!L$40>0,非木造_居住産業併用!L30/非木造_居住産業併用!L$40*100,0) -> 10.393024 | M30: =IF(非木造_居住産業併用!M$40>0,非木造_居住産業併用!M30/非木造_居住産業併用!M$40*100,0) -> 8.0267432 | N30: =IF(非木造_居住産業併用!N$40>0,非木造_居住産業併用!N30/非木造_居住産業併用!N$40*100,0) -> 0
B31: 6.型枠 | E31: =IF(非木造_居住産業併用!L$40>0,非木造_居住産業併用!E31/非木造_居住産業併用!L$40*100,0) -> 4.7442721 | F31: =IF(非木造_居住産業併用!M$40>0,非木造_居住産業併用!F31/非木造_居住産業併用!M$40*100,0) -> 13.059539 | G31: =IF(非木造_居住産業併用!N$40>0,非木造_居住産業併用!G31/非木造_居住産業併用!N$40*100,0) -> 0 | K31: 間仕切ユニット | L31: =IF(非木造_居住産業併用!L$40>0,非木造_居住産業併用!L31/非木造_居住産業併用!L$40*100,0) -> 0.70242541 | M31: =IF(非木造_居住産業併用!M$40>0,非木造_居住産業併用!M31/非木造_居住産業併用!M$40*100,0) -> 0.26804556 | N31: =IF(非木造_居住産業併用!N$40>0,非木造_居住産業併用!N31/非木造_居住産業併用!N$40*100,0) -> 0
C32: 型枠用合板 | E32: =IF(非木造_居住産業併用!L$40>0,非木造_居住産業併用!E32/非木造_居住産業併用!L$40*100,0) -> 4.2402978 | F32: =IF(非木造_居住産業併用!M$40>0,非木造_居住産業併用!F32/非木造_居住産業併用!M$40*100,0) -> 12.922681 | G32: =IF(非木造_居住産業併用!N$40>0,非木造_居住産業併用!G32/非木造_居住産業併用!N$40*100,0) -> 0 | K32: 収納ユニット | L32: =IF(非木造_居住産業併用!L$40>0,非木造_居住産業併用!L32/非木造_居住産業併用!L$40*100,0) -> 1.4833095 | M32: =IF(非木造_居住産業併用!M$40>0,非木造_居住産業併用!M32/非木造_居住産業併用!M$40*100,0) -> 0.9978679 | N32: =IF(非木造_居住産業併用!N$40>0,非木造_居住産業併用!N32/非木造_居住産業併用!N$40*100,0) -> 0
C33: フラットデッキ型枠 | E33: =IF(非木造_居住産業併用!L$40>0,非木造_居住産業併用!E33/非木造_居住産業併用!L$40*100,0) -> 0.39657674 | F33: =IF(非木造_居住産業併用!M$40>0,非木造_居住産業併用!F33/非木造_居住産業併用!M$40*100,0) -> 0 | G33: =IF(非木造_居住産業併用!N$40>0,非木造_居住産業併用!G33/非木造_居住産業併用!N$40*100,0) -> 0 | K33: 造作家具 | L33: =IF(非木造_居住産業併用!L$40>0,非木造_居住産業併用!L33/非木造_居住産業併用!L$40*100,0) -> 0.38787022 | M33: =IF(非木造_居住産業併用!M$40>0,非木造_居住産業併用!M33/非木造_居住産業併用!M$40*100,0) -> 0.8782379 | N33: =IF(非木造_居住産業併用!N$40>0,非木造_居住産業併用!N33/非木造_居住産業併用!N$40*100,0) -> 0
C34: 上記以外の型枠 | E34: =IF(非木造_居住産業併用!L$40>0,非木造_居住産業併用!E34/非木造_居住産業併用!L$40*100,0) -> 0.10739762 | F34: =IF(非木造_居住産業併用!M$40>0,非木造_居住産業併用!F34/非木造_居住産業併用!M$40*100,0) -> 0.13685871 | G34: =IF(非木造_居住産業併用!N$40>0,非木造_居住産業併用!G34/非木造_居住産業併用!N$40*100,0) -> 0 | K34: キッチンユニット・吊戸棚 | L34: =IF(非木造_居住産業併用!L$40>0,非木造_居住産業併用!L34/非木造_居住産業併用!L$40*100,0) -> 2.8828262 | M34: =IF(非木造_居住産業併用!M$40>0,非木造_居住産業併用!M34/非木造_居住産業併用!M$40*100,0) -> 1.6756489 | N34: =IF(非木造_居住産業併用!N$40>0,非木造_居住産業併用!N34/非木造_居住産業併用!N$40*100,0) -> 0
B35: 7.鉄骨 | E35: =IF(非木造_居住産業併用!L$40>0,非木造_居住産業併用!E35/非木造_居住産業併用!L$40*100,0) -> 5.2480489 | F35: =IF(非木造_居住産業併用!M$40>0,非木造_居住産業併用!F35/非木造_居住産業併用!M$40*100,0) -> 2.2434029 | G35: =IF(非木造_居住産業併用!N$40>0,非木造_居住産業併用!G35/非木造_居住産業併用!N$40*100,0) -> 0 | K35: 浴槽・ユニットバス | L35: =IF(非木造_居住産業併用!L$40>0,非木造_居住産業併用!L35/非木造_居住産業併用!L$40*100,0) -> 1.7061711 | M35: =IF(非木造_居住産業併用!M$40>0,非木造_居住産業併用!M35/非木造_居住産業併用!M$40*100,0) -> 1.9734273 | N35: =IF(非木造_居住産業併用!N$40>0,非木造_居住産業併用!N35/非木造_居住産業併用!N$40*100,0) -> 0
C36: 鋼材（材料） | E36: =IF(非木造_居住産業併用!L$40>0,非木造_居住産業併用!E36/非木造_居住産業併用!L$40*100,0) -> 2.0288671 | F36: =IF(非木造_居住産業併用!M$40>0,非木造_居住産業併用!F36/非木造_居住産業併用!M$40*100,0) -> 0.46575536 | G36: =IF(非木造_居住産業併用!N$40>0,非木造_居住産業併用!G36/非木造_居住産業併用!N$40*100,0) -> 0 | K36: 洗面台・防水パン | L36: =IF(非木造_居住産業併用!L$40>0,非木造_居住産業併用!L36/非木造_居住産業併用!L$40*100,0) -> 0.82397086 | M36: =IF(非木造_居住産業併用!M$40>0,非木造_居住産業併用!M36/非木造_居住産業併用!M$40*100,0) -> 0.58340791 | N36: =IF(非木造_居住産業併用!N$40>0,非木造_居住産業併用!N36/非木造_居住産業併用!N$40*100,0) -> 0
C37: 工場加工組立 | E37: =IF(非木造_居住産業併用!L$40>0,非木造_居住産業併用!E37/非木造_居住産業併用!L$40*100,0) -> 1.5052127 | F37: =IF(非木造_居住産業併用!M$40>0,非木造_居住産業併用!F37/非木造_居住産業併用!M$40*100,0) -> 0.23446438 | G37: =IF(非木造_居住産業併用!N$40>0,非木造_居住産業併用!G37/非木造_居住産業併用!N$40*100,0) -> 0 | K37: ブラインド・カーテン | L37: =IF(非木造_居住産業併用!L$40>0,非木造_居住産業併用!L37/非木造_居住産業併用!L$40*100,0) -> 0.037490748 | M37: =IF(非木造_居住産業併用!M$40>0,非木造_居住産業併用!M37/非木造_居住産業併用!M$40*100,0) -> 0.0024274127 | N37: =IF(非木造_居住産業併用!N$40>0,非木造_居住産業併用!N37/非木造_居住産業併用!N$40*100,0) -> 0
C38: 現場加工（建方・溶接・塗装） | E38: =IF(非木造_居住産業併用!L$40>0,非木造_居住産業併用!E38/非木造_居住産業併用!L$40*100,0) -> 0.36630582 | F38: =IF(非木造_居住産業併用!M$40>0,非木造_居住産業併用!F38/非木造_居住産業併用!M$40*100,0) -> 0.11083211 | G38: =IF(非木造_居住産業併用!N$40>0,非木造_居住産業併用!G38/非木造_居住産業併用!N$40*100,0) -> 0 | K38: 上記以外のユニット | L38: =IF(非木造_居住産業併用!L$40>0,非木造_居住産業併用!L38/非木造_居住産業併用!L$40*100,0) -> 2.3689603 | M38: =IF(非木造_居住産業併用!M$40>0,非木造_居住産業併用!M38/非木造_居住産業併用!M$40*100,0) -> 1.6476804 | N38: =IF(非木造_居住産業併用!N$40>0,非木造_居住産業併用!N38/非木造_居住産業併用!N$40*100,0) -> 0
C39: 鉄骨運搬 | E39: =IF(非木造_居住産業併用!L$40>0,非木造_居住産業併用!E39/非木造_居住産業併用!L$40*100,0) -> 0.12049972 | F39: =IF(非木造_居住産業併用!M$40>0,非木造_居住産業併用!F39/非木造_居住産業併用!M$40*100,0) -> 0.032349714 | G39: =IF(非木造_居住産業併用!N$40>0,非木造_居住産業併用!G39/非木造_居住産業併用!N$40*100,0) -> 0 | J39: 21.その他 | L39: =IF(非木造_居住産業併用!L$40>0,非木造_居住産業併用!L39/非木造_居住産業併用!L$40*100,0) -> 1.3449026 | M39: =IF(非木造_居住産業併用!M$40>0,非木造_居住産業併用!M39/非木造_居住産業併用!M$40*100,0) -> 0.48537596 | N39: =IF(非木造_居住産業併用!N$40>0,非木造_居住産業併用!N39/非木造_居住産業併用!N$40*100,0) -> 0
C40: 高力ボルト類 | E40: =IF(非木造_居住産業併用!L$40>0,非木造_居住産業併用!E40/非木造_居住産業併用!L$40*100,0) -> 0.078982651 | F40: =IF(非木造_居住産業併用!M$40>0,非木造_居住産業併用!F40/非木造_居住産業併用!M$40*100,0) -> 0.014552635 | G40: =IF(非木造_居住産業併用!N$40>0,非木造_居住産業併用!G40/非木造_居住産業併用!N$40*100,0) -> 0 | I40: 建築工事費合計 | L40: =IF(非木造_居住産業併用!L$40>0,非木造_居住産業併用!L40/非木造_居住産業併用!L$40*100,0) -> 100 | M40: =IF(非木造_居住産業併用!M$40>0,非木造_居住産業併用!M40/非木造_居住産業併用!M$40*100,0) -> 100 | N40: =IF(非木造_居住産業併用!N$40>0,非木造_居住産業併用!N40/非木造_居住産業併用!N$40*100,0) -> 0
C41: 鉄骨足場 | E41: =IF(非木造_居住産業併用!L$40>0,非木造_居住産業併用!E41/非木造_居住産業併用!L$40*100,0) -> 0.11635943 | F41: =IF(非木造_居住産業併用!M$40>0,非木造_居住産業併用!F41/非木造_居住産業併用!M$40*100,0) -> 0.040366096 | G41: =IF(非木造_居住産業併用!N$40>0,非木造_居住産業併用!G41/非木造_居住産業併用!N$40*100,0) -> 0
C42: 耐火被覆板 | E42: =IF(非木造_居住産業併用!L$40>0,非木造_居住産業併用!E42/非木造_居住産業併用!L$40*100,0) -> 0.058690805 | F42: =IF(非木造_居住産業併用!M$40>0,非木造_居住産業併用!F42/非木造_居住産業併用!M$40*100,0) -> 0 | G42: =IF(非木造_居住産業併用!N$40>0,非木造_居住産業併用!G42/非木造_居住産業併用!N$40*100,0) -> 0 | I42: 設備工事費科目別内訳 | J42: 1.電気 | L42: =IF(非木造_居住産業併用!L$77>0,非木造_居住産業併用!L42/非木造_居住産業併用!L$77*100,0) -> 33.940231 | M42: =IF(非木造_居住産業併用!M$77>0,非木造_居住産業併用!M42/非木造_居住産業併用!M$77*100,0) -> 0 | N42: =IF(非木造_居住産業併用!N$77>0,非木造_居住産業併用!N42/非木造_居住産業併用!N$77*100,0) -> 54.597156
C43: 耐火被覆吹付 | E43: =IF(非木造_居住産業併用!L$40>0,非木造_居住産業併用!E43/非木造_居住産業併用!L$40*100,0) -> 0.15597802 | F43: =IF(非木造_居住産業併用!M$40>0,非木造_居住産業併用!F43/非木造_居住産業併用!M$40*100,0) -> 0.18852116 | G43: =IF(非木造_居住産業併用!N$40>0,非木造_居住産業併用!G43/非木造_居住産業併用!N$40*100,0) -> 0 | K43: 受変電・電力引込 | L43: =IF(非木造_居住産業併用!L$77>0,非木造_居住産業併用!L43/非木造_居住産業併用!L$77*100,0) -> 2.3708453 | M43: =IF(非木造_居住産業併用!M$77>0,非木造_居住産業併用!M43/非木造_居住産業併用!M$77*100,0) -> 0 | N43: =IF(非木造_居住産業併用!N$77>0,非木造_居住産業併用!N43/非木造_居住産業併用!N$77*100,0) -> 0.81245768
C44: 上記以外の鉄骨 | E44: =IF(非木造_居住産業併用!L$40>0,非木造_居住産業併用!E44/非木造_居住産業併用!L$40*100,0) -> 0.8171527 | F44: =IF(非木造_居住産業併用!M$40>0,非木造_居住産業併用!F44/非木造_居住産業併用!M$40*100,0) -> 1.1565615 | G44: =IF(非木造_居住産業併用!N$40>0,非木造_居住産業併用!G44/非木造_居住産業併用!N$40*100,0) -> 0 | K44: 幹線・動力 | L44: =IF(非木造_居住産業併用!L$77>0,非木造_居住産業併用!L44/非木造_居住産業併用!L$77*100,0) -> 5.607036 | M44: =IF(非木造_居住産業併用!M$77>0,非木造_居住産業併用!M44/非木造_居住産業併用!M$77*100,0) -> 0 | N44: =IF(非木造_居住産業併用!N$77>0,非木造_居住産業併用!N44/非木造_居住産業併用!N$77*100,0) -> 1.5933198
B45: 8.既製コンクリート | E45: =IF(非木造_居住産業併用!L$40>0,非木造_居住産業併用!E45/非木造_居住産業併用!L$40*100,0) -> 21.141678 | F45: =IF(非木造_居住産業併用!M$40>0,非木造_居住産業併用!F45/非木造_居住産業併用!M$40*100,0) -> 2.3023713 | G45: =IF(非木造_居住産業併用!N$40>0,非木造_居住産業併用!G45/非木造_居住産業併用!N$40*100,0) -> 0 | K45: 電灯コンセント | L45: =IF(非木造_居住産業併用!L$77>0,非木造_居住産業併用!L45/非木造_居住産業併用!L$77*100,0) -> 7.2285126 | M45: =IF(非木造_居住産業併用!M$77>0,非木造_居住産業併用!M45/非木造_居住産業併用!M$77*100,0) -> 0 | N45: =IF(非木造_居住産業併用!N$77>0,非木造_居住産業併用!N45/非木造_居住産業併用!N$77*100,0) -> 23.136989
C46: 躯体ＰＣ板 | E46: =IF(非木造_居住産業併用!L$40>0,非木造_居住産業併用!E46/非木造_居住産業併用!L$40*100,0) -> 17.93933 | F46: =IF(非木造_居住産業併用!M$40>0,非木造_居住産業併用!F46/非木造_居住産業併用!M$40*100,0) -> 0 | G46: =IF(非木造_居住産業併用!N$40>0,非木造_居住産業併用!G46/非木造_居住産業併用!N$40*100,0) -> 0 | K46: 照明器具 | L46: =IF(非木造_居住産業併用!L$77>0,非木造_居住産業併用!L46/非木造_居住産業併用!L$77*100,0) -> 3.3530463 | M46: =IF(非木造_居住産業併用!M$77>0,非木造_居住産業併用!M46/非木造_居住産業併用!M$77*100,0) -> 0 | N46: =IF(非木造_居住産業併用!N$77>0,非木造_居住産業併用!N46/非木造_居住産業併用!N$77*100,0) -> 2.5186188
C47: コンクリートブロック | E47: =IF(非木造_居住産業併用!L$40>0,非木造_居住産業併用!E47/非木造_居住産業併用!L$40*100,0) -> 0.011561104 | F47: =IF(非木造_居住産業併用!M$40>0,非木造_居住産業併用!F47/非木造_居住産業併用!M$40*100,0) -> 0.0053521489 | G47: =IF(非木造_居住産業併用!N$40>0,非木造_居住産業併用!G47/非木造_居住産業併用!N$40*100,0) -> 0 | K47: 電話・電話配管・IT設備 | L47: =IF(非木造_居住産業併用!L$77>0,非木造_居住産業併用!L47/非木造_居住産業併用!L$77*100,0) -> 3.0724161 | M47: =IF(非木造_居住産業併用!M$77>0,非木造_居住産業併用!M47/非木造_居住産業併用!M$77*100,0) -> 0 | N47: =IF(非木造_居住産業併用!N$77>0,非木造_居住産業併用!N47/非木造_居住産業併用!N$77*100,0) -> 0.41525615
C48: 押出成形ｾﾒﾝﾄ板・穴あきPC板 | E48: =IF(非木造_居住産業併用!L$40>0,非木造_居住産業併用!E48/非木造_居住産業併用!L$40*100,0) -> 0.75188147 | F48: =IF(非木造_居住産業併用!M$40>0,非木造_居住産業併用!F48/非木造_居住産業併用!M$40*100,0) -> 0.44489146 | G48: =IF(非木造_居住産業併用!N$40>0,非木造_居住産業併用!G48/非木造_居住産業併用!N$40*100,0) -> 0 | K48: テレビ共聴 | L48: =IF(非木造_居住産業併用!L$77>0,非木造_居住産業併用!L48/非木造_居住産業併用!L$77*100,0) -> 1.7164785 | M48: =IF(非木造_居住産業併用!M$77>0,非木造_居住産業併用!M48/非木造_居住産業併用!M$77*100,0) -> 0 | N48: =IF(非木造_居住産業併用!N$77>0,非木造_居住産業併用!N48/非木造_居住産業併用!N$77*100,0) -> 1.525615
C49: ＡＬＣパネル | E49: =IF(非木造_居住産業併用!L$40>0,非木造_居住産業併用!E49/非木造_居住産業併用!L$40*100,0) -> 2.4383608 | F49: =IF(非木造_居住産業併用!M$40>0,非木造_居住産業併用!F49/非木造_居住産業併用!M$40*100,0) -> 1.8000271 | G49: =IF(非木造_居住産業併用!N$40>0,非木造_居住産業併用!G49/非木造_居住産業併用!N$40*100,0) -> 0 | K49: インターホン・拡声 | L49: =IF(非木造_居住産業併用!L$77>0,非木造_居住産業併用!L49/非木造_居住産業併用!L$77*100,0) -> 1.7030716 | M49: =IF(非木造_居住産業併用!M$77>0,非木造_居住産業併用!M49/非木造_居住産業併用!M$77*100,0) -> 0 | N49: =IF(非木造_居住産業併用!N$77>0,非木造_居住産業併用!N49/非木造_居住産業併用!N$77*100,0) -> 0
C50: 上記以外の既製ｺﾝｸﾘｰﾄ | E50: =IF(非木造_居住産業併用!L$40>0,非木造_居住産業併用!E50/非木造_居住産業併用!L$40*100,0) -> 0.00054442171 | F50: =IF(非木造_居住産業併用!M$40>0,非木造_居住産業併用!F50/非木造_居住産業併用!M$40*100,0) -> 0.052100565 | G50: =IF(非木造_居住産業併用!N$40>0,非木造_居住産業併用!G50/非木造_居住産業併用!N$40*100,0) -> 0 | K50: 防災 | L50: =IF(非木造_居住産業併用!L$77>0,非木造_居住産業併用!L50/非木造_居住産業併用!L$77*100,0) -> 3.8825871 | M50: =IF(非木造_居住産業併用!M$77>0,非木造_居住産業併用!M50/非木造_居住産業併用!M$77*100,0) -> 0 | N50: =IF(非木造_居住産業併用!N$77>0,非木造_居住産業併用!N50/非木造_居住産業併用!N$77*100,0) -> 21.940871
B51: 9.防水 | E51: =IF(非木造_居住産業併用!L$40>0,非木造_居住産業併用!E51/非木造_居住産業併用!L$40*100,0) -> 1.4124304 | F51: =IF(非木造_居住産業併用!M$40>0,非木造_居住産業併用!F51/非木造_居住産業併用!M$40*100,0) -> 2.4022268 | G51: =IF(非木造_居住産業併用!N$40>0,非木造_居住産業併用!G51/非木造_居住産業併用!N$40*100,0) -> 0 | K51: 避雷針 | L51: =IF(非木造_居住産業併用!L$77>0,非木造_居住産業併用!L51/非木造_居住産業併用!L$77*100,0) -> 0.19451707 | M51: =IF(非木造_居住産業併用!M$77>0,非木造_居住産業併用!M51/非木造_居住産業併用!M$77*100,0) -> 0 | N51: =IF(非木造_居住産業併用!N$77>0,非木造_居住産業併用!N51/非木造_居住産業併用!N$77*100,0) -> 0
C52: アスファルト防水 | E52: =IF(非木造_居住産業併用!L$40>0,非木造_居住産業併用!E52/非木造_居住産業併用!L$40*100,0) -> 0.42676775 | F52: =IF(非木造_居住産業併用!M$40>0,非木造_居住産業併用!F52/非木造_居住産業併用!M$40*100,0) -> 1.0190042 | G52: =IF(非木造_居住産業併用!N$40>0,非木造_居住産業併用!G52/非木造_居住産業併用!N$40*100,0) -> 0 | K52: 蓄電池 | L52: =IF(非木造_居住産業併用!L$77>0,非木造_居住産業併用!L52/非木造_居住産業併用!L$77*100,0) -> 0.2802472 | M52: =IF(非木造_居住産業併用!M$77>0,非木造_居住産業併用!M52/非木造_居住産業併用!M$77*100,0) -> 0 | N52: =IF(非木造_居住産業併用!N$77>0,非木造_居住産業併用!N52/非木造_居住産業併用!N$77*100,0) -> 0
C53: シート防水 | E53: =IF(非木造_居住産業併用!L$40>0,非木造_居住産業併用!E53/非木造_居住産業併用!L$40*100,0) -> 0.035455961 | F53: =IF(非木造_居住産業併用!M$40>0,非木造_居住産業併用!F53/非木造_居住産業併用!M$40*100,0) -> 0.053722787 | G53: =IF(非木造_居住産業併用!N$40>0,非木造_居住産業併用!G53/非木造_居住産業併用!N$40*100,0) -> 0 | K53: 屋外施設の電気設備（外灯、門灯） | L53: =IF(非木造_居住産業併用!L$77>0,非木造_居住産業併用!L53/非木造_居住産業併用!L$77*100,0) -> 0.33101149 | M53: =IF(非木造_居住産業併用!M$77>0,非木造_居住産業併用!M53/非木造_居住産業併用!M$77*100,0) -> 0 | N53: =IF(非木造_居住産業併用!N$77>0,非木造_居住産業併用!N53/非木造_居住産業併用!N$77*100,0) -> 2.6540284
C54: モルタル防水 | E54: =IF(非木造_居住産業併用!L$40>0,非木造_居住産業併用!E54/非木造_居住産業併用!L$40*100,0) -> 0.0048997954 | F54: =IF(非木造_居住産業併用!M$40>0,非木造_居住産業併用!F54/非木造_居住産業併用!M$40*100,0) -> 0.039418813 | G54: =IF(非木造_居住産業併用!N$40>0,非木造_居住産業併用!G54/非木造_居住産業併用!N$40*100,0) -> 0 | K54: 上記以外の電気設備 | L54: =IF(非木造_居住産業併用!L$77>0,非木造_居住産業併用!L54/非木造_居住産業併用!L$77*100,0) -> 4.1473354 | M54: =IF(非木造_居住産業併用!M$77>0,非木造_居住産業併用!M54/非木造_居住産業併用!M$77*100,0) -> 0 | N54: =IF(非木造_居住産業併用!N$77>0,非木造_居住産業併用!N54/非木造_居住産業併用!N$77*100,0) -> 0
C55: 塗膜防水 | E55: =IF(非木造_居住産業併用!L$40>0,非木造_居住産業併用!E55/非木造_居住産業併用!L$40*100,0) -> 0.46215676 | F55: =IF(非木造_居住産業併用!M$40>0,非木造_居住産業併用!F55/非木造_居住産業併用!M$40*100,0) -> 0.52766031 | G55: =IF(非木造_居住産業併用!N$40>0,非木造_居住産業併用!G55/非木造_居住産業併用!N$40*100,0) -> 0 | J55: 2.空調 | L55: =IF(非木造_居住産業併用!L$77>0,非木造_居住産業併用!L55/非木造_居住産業併用!L$77*100,0) -> 15.571733 | M55: =IF(非木造_居住産業併用!M$77>0,非木造_居住産業併用!M55/非木造_居住産業併用!M$77*100,0) -> 0 | N55: =IF(非木造_居住産業併用!N$77>0,非木造_居住産業併用!N55/非木造_居住産業併用!N$77*100,0) -> 23.362672
C56: 伸縮目地 | E56: =IF(非木造_居住産業併用!L$40>0,非木造_居住産業併用!E56/非木造_居住産業併用!L$40*100,0) -> 0.024804383 | F56: =IF(非木造_居住産業併用!M$40>0,非木造_居住産業併用!F56/非木造_居住産業併用!M$40*100,0) -> 0.10602465 | G56: =IF(非木造_居住産業併用!N$40>0,非木造_居住産業併用!G56/非木造_居住産業併用!N$40*100,0) -> 0 | K56: 空調機器 | L56: =IF(非木造_居住産業併用!L$77>0,非木造_居住産業併用!L56/非木造_居住産業併用!L$77*100,0) -> 4.3885947 | M56: =IF(非木造_居住産業併用!M$77>0,非木造_居住産業併用!M56/非木造_居住産業併用!M$77*100,0) -> 0 | N56: =IF(非木造_居住産業併用!N$77>0,非木造_居住産業併用!N56/非木造_居住産業併用!N$77*100,0) -> 15.951253
C57: シーリング | E57: =IF(非木造_居住産業併用!L$40>0,非木造_居住産業併用!E57/非木造_居住産業併用!L$40*100,0) -> 0.39087372 | F57: =IF(非木造_居住産業併用!M$40>0,非木造_居住産業併用!F57/非木造_居住産業併用!M$40*100,0) -> 0.54292341 | G57: =IF(非木造_居住産業併用!N$40>0,非木造_居住産業併用!G57/非木造_居住産業併用!N$40*100,0) -> 0 | K57: ダクト | L57: =IF(非木造_居住産業併用!L$77>0,非木造_居住産業併用!L57/非木造_居住産業併用!L$77*100,0) -> 0.44262223 | M57: =IF(非木造_居住産業併用!M$77>0,非木造_居住産業併用!M57/非木造_居住産業併用!M$77*100,0) -> 0 | N57: =IF(非木造_居住産業併用!N$77>0,非木造_居住産業併用!N57/非木造_居住産業併用!N$77*100,0) -> 3.5522455
C58: 上記以外の防水 | E58: =IF(非木造_居住産業併用!L$40>0,非木造_居住産業併用!E58/非木造_居住産業併用!L$40*100,0) -> 0.067471997 | F58: =IF(非木造_居住産業併用!M$40>0,非木造_居住産業併用!F58/非木造_居住産業併用!M$40*100,0) -> 0.11347266 | G58: =IF(非木造_居住産業併用!N$40>0,非木造_居住産業併用!G58/非木造_居住産業併用!N$40*100,0) -> 0 | K58: 空調配管 | L58: =IF(非木造_居住産業併用!L$77>0,非木造_居住産業併用!L58/非木造_居住産業併用!L$77*100,0) -> 2.5732445 | M58: =IF(非木造_居住産業併用!M$77>0,非木造_居住産業併用!M58/非木造_居住産業併用!M$77*100,0) -> 0 | N58: =IF(非木造_居住産業併用!N$77>0,非木造_居住産業併用!N58/非木造_居住産業併用!N$77*100,0) -> 2.4554277
B59: 10.石 | E59: =IF(非木造_居住産業併用!L$40>0,非木造_居住産業併用!E59/非木造_居住産業併用!L$40*100,0) -> 0.65118403 | F59: =IF(非木造_居住産業併用!M$40>0,非木造_居住産業併用!F59/非木造_居住産業併用!M$40*100,0) -> 0.37055342 | G59: =IF(非木造_居住産業併用!N$40>0,非木造_居住産業併用!G59/非木造_居住産業併用!N$40*100,0) -> 0 | K59: 自動制御 | L59: =IF(非木造_居住産業併用!L$77>0,非木造_居住産業併用!L59/非木造_居住産業併用!L$77*100,0) -> 0.37475807 | M59: =IF(非木造_居住産業併用!M$77>0,非木造_居住産業併用!M59/非木造_居住産業併用!M$77*100,0) -> 0 | N59: =IF(非木造_居住産業併用!N$77>0,非木造_居住産業併用!N59/非木造_居住産業併用!N$77*100,0) -> 0
B60: 11.タイル | E60: =IF(非木造_居住産業併用!L$40>0,非木造_居住産業併用!E60/非木造_居住産業併用!L$40*100,0) -> 0.96542129 | F60: =IF(非木造_居住産業併用!M$40>0,非木造_居住産業併用!F60/非木造_居住産業併用!M$40*100,0) -> 1.293432 | G60: =IF(非木造_居住産業併用!N$40>0,非木造_居住産業併用!G60/非木造_居住産業併用!N$40*100,0) -> 0 | K60: 換気 | L60: =IF(非木造_居住産業併用!L$77>0,非木造_居住産業併用!L60/非木造_居住産業併用!L$77*100,0) -> 5.4782763 | M60: =IF(非木造_居住産業併用!M$77>0,非木造_居住産業併用!M60/非木造_居住産業併用!M$77*100,0) -> 0 | N60: =IF(非木造_居住産業併用!N$77>0,非木造_居住産業併用!N60/非木造_居住産業併用!N$77*100,0) -> 1.4037463
B61: 12.木工 | E61: =IF(非木造_居住産業併用!L$40>0,非木造_居住産業併用!E61/非木造_居住産業併用!L$40*100,0) -> 1.4321926 | F61: =IF(非木造_居住産業併用!M$40>0,非木造_居住産業併用!F61/非木造_居住産業併用!M$40*100,0) -> 1.8762834 | G61: =IF(非木造_居住産業併用!N$40>0,非木造_居住産業併用!G61/非木造_居住産業併用!N$40*100,0) -> 0 | K61: 床暖房 | L61: =IF(非木造_居住産業併用!L$77>0,非木造_居住産業併用!L61/非木造_居住産業併用!L$77*100,0) -> 1.2430353 | M61: =IF(非木造_居住産業併用!M$77>0,非木造_居住産業併用!M61/非木造_居住産業併用!M$77*100,0) -> 0 | N61: =IF(非木造_居住産業併用!N$77>0,非木造_居住産業併用!N61/非木造_居住産業併用!N$77*100,0) -> 0
B62: 13.屋根及びとい | E62: =IF(非木造_居住産業併用!L$40>0,非木造_居住産業併用!E62/非木造_居住産業併用!L$40*100,0) -> 0.41894607 | F62: =IF(非木造_居住産業併用!M$40>0,非木造_居住産業併用!F62/非木造_居住産業併用!M$40*100,0) -> 0.46095974 | G62: =IF(非木造_居住産業併用!N$40>0,非木造_居住産業併用!G62/非木造_居住産業併用!N$40*100,0) -> 0 | K62: 上記以外の空調設備 | L62: =IF(非木造_居住産業併用!L$77>0,非木造_居住産業併用!L62/非木造_居住産業併用!L$77*100,0) -> 1.0257806 | M62: =IF(非木造_居住産業併用!M$77>0,非木造_居住産業併用!M62/非木造_居住産業併用!M$77*100,0) -> 0 | N62: =IF(非木造_居住産業併用!N$77>0,非木造_居住産業併用!N62/非木造_居住産業併用!N$77*100,0) -> 0
C63: 金属板 | E63: =IF(非木造_居住産業併用!L$40>0,非木造_居住産業併用!E63/非木造_居住産業併用!L$40*100,0) -> 0.12585544 | F63: =IF(非木造_居住産業併用!M$40>0,非木造_居住産業併用!F63/非木造_居住産業併用!M$40*100,0) -> 0.12421248 | G63: =IF(非木造_居住産業併用!N$40>0,非木造_居住産業併用!G63/非木造_居住産業併用!N$40*100,0) -> 0 | J63: 3.衛生 | L63: =IF(非木造_居住産業併用!L$77>0,非木造_居住産業併用!L63/非木造_居住産業併用!L$77*100,0) -> 38.304001 | M63: =IF(非木造_居住産業併用!M$77>0,非木造_居住産業併用!M63/非木造_居住産業併用!M$77*100,0) -> 0 | N63: =IF(非木造_居住産業併用!N$77>0,非木造_居住産業併用!N63/非木造_居住産業併用!N$77*100,0) -> 22.040172
C64: 瓦 | E64: =IF(非木造_居住産業併用!L$40>0,非木造_居住産業併用!E64/非木造_居住産業併用!L$40*100,0) -> 0 | F64: =IF(非木造_居住産業併用!M$40>0,非木造_居住産業併用!F64/非木造_居住産業併用!M$40*100,0) -> 0 | G64: =IF(非木造_居住産業併用!N$40>0,非木造_居住産業併用!G64/非木造_居住産業併用!N$40*100,0) -> 0 | K64: 給水 | L64: =IF(非木造_居住産業併用!L$77>0,非木造_居住産業併用!L64/非木造_居住産業併用!L$77*100,0) -> 4.1897462 | M64: =IF(非木造_居住産業併用!M$77>0,非木造_居住産業併用!M64/非木造_居住産業併用!M$77*100,0) -> 0 | N64: =IF(非木造_居住産業併用!N$77>0,非木造_居住産業併用!N64/非木造_居住産業併用!N$77*100,0) -> 2.0491988
C65: ルーフドレイン | E65: =IF(非木造_居住産業併用!L$40>0,非木造_居住産業併用!E65/非木造_居住産業併用!L$40*100,0) -> 0.031380086 | F65: =IF(非木造_居住産業併用!M$40>0,非木造_居住産業併用!F65/非木造_居住産業併用!M$40*100,0) -> 0.060282721 | G65: =IF(非木造_居住産業併用!N$40>0,非木造_居住産業併用!G65/非木造_居住産業併用!N$40*100,0) -> 0 | K65: 給湯 | L65: =IF(非木造_居住産業併用!L$77>0,非木造_居住産業併用!L65/非木造_居住産業併用!L$77*100,0) -> 3.3922257 | M65: =IF(非木造_居住産業併用!M$77>0,非木造_居住産業併用!M65/非木造_居住産業併用!M$77*100,0) -> 0 | N65: =IF(非木造_居住産業併用!N$77>0,非木造_居住産業併用!N65/非木造_居住産業併用!N$77*100,0) -> 4.432408
C66: とい | E66: =IF(非木造_居住産業併用!L$40>0,非木造_居住産業併用!E66/非木造_居住産業併用!L$40*100,0) -> 0.26115342 | F66: =IF(非木造_居住産業併用!M$40>0,非木造_居住産業併用!F66/非木造_居住産業併用!M$40*100,0) -> 0.26868498 | G66: =IF(非木造_居住産業併用!N$40>0,非木造_居住産業併用!G66/非木造_居住産業併用!N$40*100,0) -> 0 | K66: 排水通気 | L66: =IF(非木造_居住産業併用!L$77>0,非木造_居住産業併用!L66/非木造_居住産業併用!L$77*100,0) -> 9.4809259 | M66: =IF(非木造_居住産業併用!M$77>0,非木造_居住産業併用!M66/非木造_居住産業併用!M$77*100,0) -> 0 | N66: =IF(非木造_居住産業併用!N$77>0,非木造_居住産業併用!N66/非木造_居住産業併用!N$77*100,0) -> 4.3060257
C67: 上記以外の屋根及びとい | E67: =IF(非木造_居住産業併用!L$40>0,非木造_居住産業併用!E67/非木造_居住産業併用!L$40*100,0) -> 0.00055712488 | F67: =IF(非木造_居住産業併用!M$40>0,非木造_居住産業併用!F67/非木造_居住産業併用!M$40*100,0) -> 0.0077795616 | G67: =IF(非木造_居住産業併用!N$40>0,非木造_居住産業併用!G67/非木造_居住産業併用!N$40*100,0) -> 0 | K67: 衛生器具 | L67: =IF(非木造_居住産業併用!L$77>0,非木造_居住産業併用!L67/非木造_居住産業併用!L$77*100,0) -> 2.5906488 | M67: =IF(非木造_居住産業併用!M$77>0,非木造_居住産業併用!M67/非木造_居住産業併用!M$77*100,0) -> 0 | N67: =IF(非木造_居住産業併用!N$77>0,非木造_居住産業併用!N67/非木造_居住産業併用!N$77*100,0) -> 11.252539
B68: 14.金属 | E68: =IF(非木造_居住産業併用!L$40>0,非木造_居住産業併用!E68/非木造_居住産業併用!L$40*100,0) -> 5.3215954 | F68: =IF(非木造_居住産業併用!M$40>0,非木造_居住産業併用!F68/非木造_居住産業併用!M$40*100,0) -> 7.5699515 | G68: =IF(非木造_居住産業併用!N$40>0,非木造_居住産業併用!G68/非木造_居住産業併用!N$40*100,0) -> 0 | K68: 消火 | L68: =IF(非木造_居住産業併用!L$77>0,非木造_居住産業併用!L68/非木造_居住産業併用!L$77*100,0) -> 9.1991268 | M68: =IF(非木造_居住産業併用!M$77>0,非木造_居住産業併用!M68/非木造_居住産業併用!M$77*100,0) -> 0 | N68: =IF(非木造_居住産業併用!N$77>0,非木造_居住産業併用!N68/非木造_居住産業併用!N$77*100,0) -> 0
B69: 15.左官 | E69: =IF(非木造_居住産業併用!L$40>0,非木造_居住産業併用!E69/非木造_居住産業併用!L$40*100,0) -> 1.2840201 | F69: =IF(非木造_居住産業併用!M$40>0,非木造_居住産業併用!F69/非木造_居住産業併用!M$40*100,0) -> 3.185393 | G69: =IF(非木造_居住産業併用!N$40>0,非木造_居住産業併用!G69/非木造_居住産業併用!N$40*100,0) -> 0 | K69: ガス | L69: =IF(非木造_居住産業併用!L$77>0,非木造_居住産業併用!L69/非木造_居住産業併用!L$77*100,0) -> 3.0866185 | M69: =IF(非木造_居住産業併用!M$77>0,非木造_居住産業併用!M69/非木造_居住産業併用!M$77*100,0) -> 0 | N69: =IF(非木造_居住産業併用!N$77>0,非木造_居住産業併用!N69/非木造_居住産業併用!N$77*100,0) -> 0
B70: 16.建具 | E70: =IF(非木造_居住産業併用!L$40>0,非木造_居住産業併用!E70/非木造_居住産業併用!L$40*100,0) -> 8.9075745 | F70: =IF(非木造_居住産業併用!M$40>0,非木造_居住産業併用!F70/非木造_居住産業併用!M$40*100,0) -> 10.201752 | G70: =IF(非木造_居住産業併用!N$40>0,非木造_居住産業併用!G70/非木造_居住産業併用!N$40*100,0) -> 0 | K70: 厨房機器 | L70: =IF(非木造_居住産業併用!L$77>0,非木造_居住産業併用!L70/非木造_居住産業併用!L$77*100,0) -> 0.41550407 | M70: =IF(非木造_居住産業併用!M$77>0,非木造_居住産業併用!M70/非木造_居住産業併用!M$77*100,0) -> 0 | N70: =IF(非木造_居住産業併用!N$77>0,非木造_居住産業併用!N70/非木造_居住産業併用!N$77*100,0) -> 0
C71: 金属製建具 | D71: アルミニウム製建具 | E71: =IF(非木造_居住産業併用!L$40>0,非木造_居住産業併用!E71/非木造_居住産業併用!L$40*100,0) -> 3.1951591 | F71: =IF(非木造_居住産業併用!M$40>0,非木造_居住産業併用!F71/非木造_居住産業併用!M$40*100,0) -> 3.0256929 | G71: =IF(非木造_居住産業併用!N$40>0,非木造_居住産業併用!G71/非木造_居住産業併用!N$40*100,0) -> 0 | K71: 浄化槽 | L71: =IF(非木造_居住産業併用!L$77>0,非木造_居住産業併用!L71/非木造_居住産業併用!L$77*100,0) -> 0.13879765 | M71: =IF(非木造_居住産業併用!M$77>0,非木造_居住産業併用!M71/非木造_居住産業併用!M$77*100,0) -> 0 | N71: =IF(非木造_居住産業併用!N$77>0,非木造_居住産業併用!N71/非木造_居住産業併用!N$77*100,0) -> 0
D72: 鋼製建具 | E72: =IF(非木造_居住産業併用!L$40>0,非木造_居住産業併用!E72/非木造_居住産業併用!L$40*100,0) -> 2.0908911 | F72: =IF(非木造_居住産業併用!M$40>0,非木造_居住産業併用!F72/非木造_居住産業併用!M$40*100,0) -> 3.3009142 | G72: =IF(非木造_居住産業併用!N$40>0,非木造_居住産業併用!G72/非木造_居住産業併用!N$40*100,0) -> 0 | K72: 貯水槽 | L72: =IF(非木造_居住産業併用!L$77>0,非木造_居住産業併用!L72/非木造_居住産業併用!L$77*100,0) -> 0.085818522 | M72: =IF(非木造_居住産業併用!M$77>0,非木造_居住産業併用!M72/非木造_居住産業併用!M$77*100,0) -> 0 | N72: =IF(非木造_居住産業併用!N$77>0,非木造_居住産業併用!N72/非木造_居住産業併用!N$77*100,0) -> 0
D73: ステンレス製建具 | E73: =IF(非木造_居住産業併用!L$40>0,非木造_居住産業併用!E73/非木造_居住産業併用!L$40*100,0) -> 0.28443628 | F73: =IF(非木造_居住産業併用!M$40>0,非木造_居住産業併用!F73/非木造_居住産業併用!M$40*100,0) -> 0.3424428 | G73: =IF(非木造_居住産業併用!N$40>0,非木造_居住産業併用!G73/非木造_居住産業併用!N$40*100,0) -> 0 | K73: 上記以外の衛生設備 | L73: =IF(非木造_居住産業併用!L$77>0,非木造_居住産業併用!L73/非木造_居住産業併用!L$77*100,0) -> 4.7698254 | M73: =IF(非木造_居住産業併用!M$77>0,非木造_居住産業併用!M73/非木造_居住産業併用!M$77*100,0) -> 0 | N73: =IF(非木造_居住産業併用!N$77>0,非木造_居住産業併用!N73/非木造_居住産業併用!N$77*100,0) -> 0
D74: シャッター | E74: =IF(非木造_居住産業併用!L$40>0,非木造_居住産業併用!E74/非木造_居住産業併用!L$40*100,0) -> 0.17953631 | F74: =IF(非木造_居住産業併用!M$40>0,非木造_居住産業併用!F74/非木造_居住産業併用!M$40*100,0) -> 0.055048983 | G74: =IF(非木造_居住産業併用!N$40>0,非木造_居住産業併用!G74/非木造_居住産業併用!N$40*100,0) -> 0 | J74: 4.昇降機 | L74: =IF(非木造_居住産業併用!L$77>0,非木造_居住産業併用!L74/非木造_居住産業併用!L$77*100,0) -> 7.036667 | M74: =IF(非木造_居住産業併用!M$77>0,非木造_居住産業併用!M74/非木造_居住産業併用!M$77*100,0) -> 0 | N74: =IF(非木造_居住産業併用!N$77>0,非木造_居住産業併用!N74/非木造_居住産業併用!N$77*100,0) -> 0
D75: 自動扉開閉装置 | E75: =IF(非木造_居住産業併用!L$40>0,非木造_居住産業併用!E75/非木造_居住産業併用!L$40*100,0) -> 0.053494877 | F75: =IF(非木造_居住産業併用!M$40>0,非木造_居住産業併用!F75/非木造_居住産業併用!M$40*100,0) -> 0.15003778 | G75: =IF(非木造_居住産業併用!N$40>0,非木造_居住産業併用!G75/非木造_居住産業併用!N$40*100,0) -> 0 | J75: 5.機械式駐車場 | L75: =IF(非木造_居住産業併用!L$77>0,非木造_居住産業併用!L75/非木造_居住産業併用!L$77*100,0) -> 5.0565157 | M75: =IF(非木造_居住産業併用!M$77>0,非木造_居住産業併用!M75/非木造_居住産業併用!M$77*100,0) -> 0 | N75: =IF(非木造_居住産業併用!N$77>0,非木造_居住産業併用!N75/非木造_居住産業併用!N$77*100,0) -> 0
D76: 上記以外の金属製建具 | E76: =IF(非木造_居住産業併用!L$40>0,非木造_居住産業併用!E76/非木造_居住産業併用!L$40*100,0) -> 0.385082 | F76: =IF(非木造_居住産業併用!M$40>0,非木造_居住産業併用!F76/非木造_居住産業併用!M$40*100,0) -> 0.25055635 | G76: =IF(非木造_居住産業併用!N$40>0,非木造_居住産業併用!G76/非木造_居住産業併用!N$40*100,0) -> 0 | J76: 6.上記以外の設備 | L76: =IF(非木造_居住産業併用!L$77>0,非木造_居住産業併用!L76/非木造_居住産業併用!L$77*100,0) -> 0.090852227 | M76: =IF(非木造_居住産業併用!M$77>0,非木造_居住産業併用!M76/非木造_居住産業併用!M$77*100,0) -> 0 | N76: =IF(非木造_居住産業併用!N$77>0,非木造_居住産業併用!N76/非木造_居住産業併用!N$77*100,0) -> 0
C77: 木製建具 | E77: =IF(非木造_居住産業併用!L$40>0,非木造_居住産業併用!E77/非木造_居住産業併用!L$40*100,0) -> 1.2244865 | F77: =IF(非木造_居住産業併用!M$40>0,非木造_居住産業併用!F77/非木造_居住産業併用!M$40*100,0) -> 1.8637319 | G77: =IF(非木造_居住産業併用!N$40>0,非木造_居住産業併用!G77/非木造_居住産業併用!N$40*100,0) -> 0 | I77: 設備工事費合計 | L77: =IF(非木造_居住産業併用!L$77>0,非木造_居住産業併用!L77/非木造_居住産業併用!L$77*100,0) -> 100 | M77: =IF(非木造_居住産業併用!M$77>0,非木造_居住産業併用!M77/非木造_居住産業併用!M$77*100,0) -> 0 | N77: =IF(非木造_居住産業併用!N$77>0,非木造_居住産業併用!N77/非木造_居住産業併用!N$77*100,0) -> 100
C78: ガラス | D78: 板ガラス | E78: =IF(非木造_居住産業併用!L$40>0,非木造_居住産業併用!E78/非木造_居住産業併用!L$40*100,0) -> 0.33875827 | F78: =IF(非木造_居住産業併用!M$40>0,非木造_居住産業併用!F78/非木造_居住産業併用!M$40*100,0) -> 0.66550182 | G78: =IF(非木造_居住産業併用!N$40>0,非木造_居住産業併用!G78/非木造_居住産業併用!N$40*100,0) -> 0
D79: 複層ガラス | E79: =IF(非木造_居住産業併用!L$40>0,非木造_居住産業併用!E79/非木造_居住産業併用!L$40*100,0) -> 0.89004828 | F79: =IF(非木造_居住産業併用!M$40>0,非木造_居住産業併用!F79/非木造_居住産業併用!M$40*100,0) -> 0.42830216 | G79: =IF(非木造_居住産業併用!N$40>0,非木造_居住産業併用!G79/非木造_居住産業併用!N$40*100,0) -> 0
D80: 上記以外のガラス | E80: =IF(非木造_居住産業併用!L$40>0,非木造_居住産業併用!E80/非木造_居住産業併用!L$40*100,0) -> 0.26568176 | F80: =IF(非木造_居住産業併用!M$40>0,非木造_居住産業併用!F80/非木造_居住産業併用!M$40*100,0) -> 0.11952343 | G80: =IF(非木造_居住産業併用!N$40>0,非木造_居住産業併用!G80/非木造_居住産業併用!N$40*100,0) -> 0

Sheet 非木造_事務所
A2: 表1-1 平成27年建築工事費投入調査集計表（非木造_事務所）
A4: （単位：千円） | E4: =非木造_データ!T2 -> 148 | F4: =非木造_データ!U2 -> 40 | G4: =非木造_データ!V2 -> 21 | L4: =E4 -> 148 | M4: =F4 -> 40 | N4: =G4 -> 21
E5: 建築工事・ 設備工事 一貫受注 | F5: 建築工事 のみ受注 | G5: 設備工事 のみ受注 | L5: 建築工事・ 設備工事 一貫受注 | M5: 建築工事 のみ受注 | N5: 設備工事 のみ受注
A6: 工事費内訳 | B6: 1.建築工事費 | E6: =非木造_データ!T7 -> 2.3708826e+08 | F6: =非木造_データ!U7 -> 71456609 | G6: =非木造_データ!V7 -> 0 | I6: 建築工事費科目別内訳(続き） | J6: 17.カーテンウォール | L6: =非木造_データ!T81 -> 17144537 | M6: =非木造_データ!U81 -> 2969632 | N6: =非木造_データ!V81 -> 0
B7: 2.設備工事費 | E7: =非木造_データ!T8 -> 1.2640335e+08 | F7: =非木造_データ!U8 -> 0 | G7: =非木造_データ!V8 -> 14401492 | K7: メタルカーテンウォール | L7: =非木造_データ!T82 -> 16162141 | M7: =非木造_データ!U82 -> 2643074.2 | N7: =非木造_データ!V82 -> 0
B8: 3.解体・撤去費 | E8: =非木造_データ!T9 -> 5618380 | F8: =非木造_データ!U9 -> 1151668 | G8: =非木造_データ!V9 -> 106247 | K8: ＰＣカーテンウォール | L8: =非木造_データ!T83 -> 982396 | M8: =非木造_データ!U83 -> 326557.8 | N8: =非木造_データ!V83 -> 0
B9: 4.屋外施設費 | E9: =非木造_データ!T10 -> 11391069 | F9: =非木造_データ!U10 -> 2642485 | G9: =非木造_データ!V10 -> 14076 | J9: 18.塗装 | L9: =非木造_データ!T84 -> 1850967 | M9: =非木造_データ!U84 -> 552281 | N9: =非木造_データ!V84 -> 0
B10: 5.共通（総合）仮設費 | E10: =非木造_データ!T11 -> 13577323 | F10: =非木造_データ!U11 -> 1996626 | G10: =非木造_データ!V11 -> 800392.49 | J10: 19.内外装 | L10: =非木造_データ!T85 -> 17533544 | M10: =非木造_データ!U85 -> 4885671 | N10: =非木造_データ!V85 -> 0
B11: 6.現場管理費 | E11: =非木造_データ!T12 -> 25637634 | F11: =非木造_データ!U12 -> 7790815 | G11: =非木造_データ!V12 -> 1521414.9 | K11: フローリング | L11: =非木造_データ!T86 -> 234679.34 | M11: =非木造_データ!U86 -> 356797.9 | N11: =非木造_データ!V86 -> 0
B12: 7.工事原価 | E12: =非木造_データ!T13 -> 4.1971601e+08 | F12: =非木造_データ!U13 -> 85038203 | G12: =非木造_データ!V13 -> 16843622 | K12: ビニル床タイル | L12: =非木造_データ!T87 -> 337971.34 | M12: =非木造_データ!U87 -> 298629.9 | N12: =非木造_データ!V87 -> 0
B13: 8.一般管理費等 | E13: =非木造_データ!T14 -> 25873016 | F13: =非木造_データ!U14 -> 4162217 | G13: =非木造_データ!V14 -> 866791.51 | K13: ビニル床シート | L13: =非木造_データ!T88 -> 330969.26 | M13: =非木造_データ!U88 -> 57735 | N13: =非木造_データ!V88 -> 0
A14: 9.工事価格 | E14: =非木造_データ!T15 -> 4.4558903e+08 | F14: =非木造_データ!U15 -> 89200420 | G14: =非木造_データ!V15 -> 17710414 | K14: カーペット | L14: =非木造_データ!T89 -> 1533370.1 | M14: =非木造_データ!U89 -> 532673.6 | N14: =非木造_データ!V89 -> 0
K15: 畳 | L15: =非木造_データ!T90 -> 3808.3 | M15: =非木造_データ!U90 -> 818 | N15: =非木造_データ!V90 -> 0
A16: 建築工事費科目別内訳 | B16: 1.直接仮設 | E16: =非木造_データ!T16 -> 8736670.5 | F16: =非木造_データ!U16 -> 7291174 | G16: =非木造_データ!V16 -> 0 | K16: 合成樹脂塗床 | L16: =非木造_データ!T91 -> 225598.68 | M16: =非木造_データ!U91 -> 139917 | N16: =非木造_データ!V91 -> 0
B17: 2.土工 | E17: =非木造_データ!T17 -> 12324982 | F17: =非木造_データ!U17 -> 2258258 | G17: =非木造_データ!V17 -> 0 | K17: フリーアクセスフロア | L17: =非木造_データ!T92 -> 3045056 | M17: =非木造_データ!U92 -> 687697 | N17: =非木造_データ!V92 -> 0
C18: 建設発生土の処理 | E18: =非木造_データ!T18 -> 2473100 | F18: =非木造_データ!U18 -> 865036 | G18: =非木造_データ!V18 -> 0 | K18: 化粧合板 | L18: =非木造_データ!T93 -> 222224.72 | M18: =非木造_データ!U93 -> 34181 | N18: =非木造_データ!V93 -> 0
C19: 山留め | E19: =非木造_データ!T19 -> 5256456.1 | F19: =非木造_データ!U19 -> 574606 | G19: =非木造_データ!V19 -> 0 | K19: 石こうボード | L19: =非木造_データ!T94 -> 2872643.4 | M19: =非木造_データ!U94 -> 783985 | N19: =非木造_データ!V94 -> 0
C20: 乗入れ構台 | E20: =非木造_データ!T20 -> 767469.35 | F20: =非木造_データ!U20 -> 441277 | G20: =非木造_データ!V20 -> 0 | K20: ケイ酸カルシウム板 | L20: =非木造_データ!T95 -> 546066.06 | M20: =非木造_データ!U95 -> 167000 | N20: =非木造_データ!V95 -> 0
C21: 根切り・床付け | E21: =非木造_データ!T21 -> 865806.74 | F21: =非木造_データ!U21 -> 264415 | G21: =非木造_データ!V21 -> 0 | K21: 木毛セメント板 | L21: =非木造_データ!T96 -> 34387 | M21: =非木造_データ!U96 -> 0 | N21: =非木造_データ!V96 -> 0
C22: 上記以外の土工 | E22: =非木造_データ!T22 -> 2962150.3 | F22: =非木造_データ!U22 -> 112924 | G22: =非木造_データ!V22 -> 0 | K22: 壁紙・ビニルクロス張り | L22: =非木造_データ!T97 -> 921448.12 | M22: =非木造_データ!U97 -> 57465 | N22: =非木造_データ!V97 -> 0
