Workbook

Sheet 非木造_データ
N2: 192 | O2: 58 | P2: 11 | Q2: 25 | R2: 9 | S2: 4 | T2: 148 | U2: 40 | V2: 21 | W2: 88 | X2: 44 | Y2: 12 | Z2: 131 | AA2: 36 | AB2: 23 | AC2: 59 | AD2: 18 | AE2: 11 | AF2: 56 | AG2: 24 | AH2: 15 | AI2: 40 | AJ2: 14 | AK2: 11 | AL2: 10 | AM2: 10 | AN2: 2 | AO2: 32 | AP2: 9 | AQ2: 2 | AR2: 136 | AS2: 74 | AT2: 32 | AU2: 917 | AV2: 336 | AW2: 144
N3: 居住専用住宅 | Q3: 居住産業併用住宅 | T3: 事務所 | W3: 店舗 | Z3: 工場・作業場 | AC3: 倉庫 | AF3: 学校の校舎 | AI3: 病院・診療所 | AL3: 体育館 | AO3: ホテル・旅館 | AR3: その他 | AU3: 合計
N4: 1 | O4: 1 | P4: 1 | Q4: 2 | R4: 2 | S4: 2 | T4: 3 | U4: 3 | V4: 3 | W4: 4 | X4: 4 | Y4: 4 | Z4: 5 | AA4: 5 | AB4: 5 | AC4: 6 | AD4: 6 | AE4: 6 | AF4: 7 | AG4: 7 | AH4: 7 | AI4: 8 | AJ4: 8 | AK4: 8 | AL4: 9 | AM4: 9 | AN4: 9 | AO4: 10 | AP4: 10 | AQ4: 10 | AR4: 11 | AS4: 11 | AT4: 11
N5: 1 | O5: 2 | P5: 3 | Q5: 1 | R5: 2 | S5: 3 | T5: 1 | U5: 2 | V5: 3 | W5: 1 | X5: 2 | Y5: 3 | Z5: 1 | AA5: 2 | AB5: 3 | AC5: 1 | AD5: 2 | AE5: 3 | AF5: 1 | AG5: 2 | AH5: 3 | AI5: 1 | AJ5: 2 | AK5: 3 | AL5: 1 | AM5: 2 | AN5: 3 | AO5: 1 | AP5: 2 | AQ5: 3 | AR5: 1 | AS5: 2 | AT5: 3
N6: 11 | O6: 12 | P6: 13 | Q6: 21 | R6: 22 | S6: 23 | T6: 31 | U6: 32 | V6: 33 | W6: 41 | X6: 42 | Y6: 43 | Z6: 51 | AA6: 52 | AB6: 53 | AC6: 61 | AD6: 62 | AE6: 63 | AF6: 71 | AG6: 72 | AH6: 73 | AI6: 81 | AJ6: 82 | AK6: 83 | AL6: 91 | AM6: 92 | AN6: 93 | AO6: 101 | AP6: 102 | AQ6: 103 | AR6: 111 | AS6: 112 | AT6: 113
I7: ８．工事費（消費税を除く） | J7: （１） 建築工事費 | M7: 千円 | N7: 151964627 | O7: 36599963 | P7: 0 | Q7: 55104342 | R7: 8445206 | S7: 0 | T7: 2.3708826e+08 | U7: 71456609 | V7: 0 | W7: 37993879 | X7: 13463638 | Y7: 0 | Z7: 76696803 | AA7: 13815169 | AB7: 0 | AC7: 80001622 | AD7: 8039339 | AE7: 0 | AF7: 45763067 | AG7: 22112692 | AH7: 0 | AI7: 22398889 | AJ7: 5361242 | AK7: 0 | AL7: 2428228 | AM7: 2017236 | AN7: 0 | AO7: 32281634 | AP7: 6371603 | AQ7: 0 | AR7: 71322773 | AS7: 64645447 | AT7: 0 | AU7: 8.1304412e+08 | AV7: 252328144 | AW7: 0
J8: （２） 設備工事費 | M8: 千円 | N8: 46720805 | O8: 0 | P8: 856993 | Q8: 20362737 | R8: 0 | S8: 22155 | T8: 1.2640335e+08 | U8: 0 | V8: 14401492 | W8: 17878893 | X8: 0 | Y8: 4073089 | Z8: 37870399 | AA8: 0 | AB8: 11724352 | AC8: 19104364 | AD8: 0 | AE8: 7499748 | AF8: 19830369 | AG8: 0 | AH8: 5638558 | AI8: 12750052 | AJ8: 0 | AK8: 2695566 | AL8: 504700 | AM8: 0 | AN8: 24500 | AO8: 16784300 | AP8: 0 | AQ8: 796860 | AR8: 41085841 | AS8: 0 | AT8: 13370085 | AU8: 3.5929581e+08 | AV8: 0 | AW8: 61103398
J9: （３） 解体・撤去費 | M9: 千円 | N9: 1735337 | O9: 185711 | P9: 7660 | Q9: 149242 | R9: 132309 | S9: 0 | T9: 5618380 | U9: 1151668 | V9: 106247 | W9: 481555 | X9: 369301 | Y9: 0 | Z9: 984925 | AA9: 246948 | AB9: 13500 | AC9: 708904 | AD9: 79171 | AE9: 0 | AF9: 2116206 | AG9: 3242027 | AH9: 0 | AI9: 321489 | AJ9: 85888 | AK9: 38000 | AL9: 37177 | AM9: 90427 | AN9: 0 | AO9: 417637 | AP9: 119673 | AQ9: 0 | AR9: 570822 | AS9: 523280 | AT9: 13621 | AU9: 13141674 | AV9: 6226403 | AW9: 179028
J10: （４） 屋外施設費 | M10: 千円 | N10: 8533927 | O10: 1529933 | P10: 238 | Q10: 1254544 | R10: 379244 | S10: 0 | T10: 11391069 | U10: 2642485 | V10: 14076 | W10: 4437551 | X10: 1697421 | Y10: 89468 | Z10: 5408073 | AA10: 1054353 | AB10: 18724 | AC10: 6153167 | AD10: 686040 | AE10: 0 | AF10: 4012859 | AG10: 740946 | AH10: 14940 | AI10: 1620748.9 | AJ10: 247421 | AK10: 0 | AL10: 71830 | AM10: 941256 | AN10: 0 | AO10: 1079836.6 | AP10: 134851 | AQ10: 0 | AR10: 3910649.4 | AS10: 4775766 | AT10: 168278 | AU10: 47874255 | AV10: 14829716 | AW10: 305724
J11: （５） 共通（総合）仮設費 | M11: 千円 | N11: 8953478 | O11: 2261893 | P11: 27479 | Q11: 3336473 | R11: 467347 | S11: 0 | T11: 13577323 | U11: 1996626 | V11: 800392.49 | W11: 1956933 | X11: 653636 | Y11: 133303.9 | Z11: 4441716 | AA11: 651988 | AB11: 388015 | AC11: 4785292 | AD11: 318117 | AE11: 119718 | AF11: 3391610 | AG11: 3991099 | AH11: 188344.5 | AI11: 1243653 | AJ11: 224130 | AK11: 182970 | AL11: 111207 | AM11: 179088 | AN11: 948 | AO11: 2188330.4 | AP11: 398784 | AQ11: 79500 | AR11: 4347233.9 | AS11: 6095037 | AT11: 270643.54 | AU11: 48333249 | AV11: 17237745 | AW11: 2191314.4
J12: （６） 現場管理費 | M12: 千円 | N12: 16084744 | O12: 3565194 | P12: 88807 | Q12: 4470084 | R12: 795586 | S12: 1548 | T12: 25637634 | U12: 7790815 | V12: 1521414.9 | W12: 3495648 | X12: 1107092 | Y12: 306998.76 | Z12: 8136987 | AA12: 1067275 | AB12: 731658 | AC12: 6472897 | AD12: 511972 | AE12: 474383 | AF12: 5736253 | AG12: 6029133 | AH12: 634767.97 | AI12: 2068488 | AJ12: 338730 | AK12: 149997 | AL12: 289931 | AM12: 226697 | AN12: 4315 | AO12: 3040247.1 | AP12: 818735 | AQ12: 168892 | AR12: 7583430 | AS12: 10676823 | AT12: 937625.78 | AU12: 83016343 | AV12: 32928052 | AW12: 5020407.4
J13: （７） 工事原価 （（１）～（６）の計） | M13: 千円 | N13: 233992918 | O13: 44142694 | P13: 981177 | Q13: 84677422 | R13: 10219692 | S13: 23703 | T13: 4.1971601e+08 | U13: 85038203 | V13: 16843622 | W13: 66244459 | X13: 17291088 | Y13: 4602859.7 | Z13: 133538903 | AA13: 16835733 | AB13: 12876249 | AC13: 117226246 | AD13: 9634639 | AE13: 8093849 | AF13: 80850364 | AG13: 36115897 | AH13: 6476610.5 | AI13: 40403320 | AJ13: 6257411 | AK13: 3066533 | AL13: 3443073 | AM13: 3454704 | AN13: 29763 | AO13: 55791985 | AP13: 7843646 | AQ13: 1045252 | AR13: 1.2882075e+08 | AS13: 86716353 | AT13: 14760254 | AU13: 1.3647054e+09 | AV13: 323550060 | AW13: 68799872
J14: （８） 一般管理費等 | M14: 千円 | N14: 14406117 | O14: 3237667 | P14: 82084 | Q14: 4783916 | R14: 868248 | S14: 2065 | T14: 25873016 | U14: 4162217 | V14: 866791.51 | W14: 4190098 | X14: 1077328 | Y14: 491883.57 | Z14: 7177336 | AA14: 1253867 | AB14: 1016304 | AC14: 7016502 | AD14: 444280 | AE14: 1162170 | AF14: 4971708 | AG14: 7929926 | AH14: 214827.57 | AI14: 2055091.1 | AJ14: 381312 | AK14: 174662 | AL14: 196451 | AM14: 549402 | AN14: 2795 | AO14: 2760403 | AP14: 546226 | AQ14: 17748 | AR14: 7872682.6 | AS14: 1655813 | AT14: 1677984.4 | AU14: 81303321 | AV14: 22106286 | AW14: 5709315
J15: （９） 工事価格 | M15: 千円 | N15: 248399035 | O15: 47380361 | P15: 1063261 | Q15: 89461338 | R15: 11087940 | S15: 25768 | T15: 4.4558903e+08 | U15: 89200420 | V15: 17710414 | W15: 70434557 | X15: 18368416 | Y15: 5094743.2 | Z15: 140716239 | AA15: 18089600 | AB15: 13892553 | AC15: 124242748 | AD15: 10078919 | AE15: 9256019 | AF15: 85822072 | AG15: 44045823 | AH15: 6691438 | AI15: 42458411 | AJ15: 6638723 | AK15: 3241195 | AL15: 3639524 | AM15: 4004106 | AN15: 32558 | AO15: 58552388 | AP15: 8389872 | AQ15: 1063000 | AR15: 136693432 | AS15: 88372166 | AT15: 16438238 | AU15: 1.4460088e+09 | AV15: 345656346 | AW15: 74509187
I16: ８－１．建築工事費 | J16: 1．直接仮設 | N16: 6935614 | O16: 1562229 | P16: 0 | Q16: 1475318.8 | R16: 306802 | S16: 0 | T16: 8736670.5 | U16: 7291174 | V16: 0 | W16: 1929971 | X16: 676823 | Y16: 0 | Z16: 3607743 | AA16: 727920 | AB16: 0 | AC16: 3423063 | AD16: 422275 | AE16: 0 | AF16: 2157143.1 | AG16: 1802803 | AH16: 0 | AI16: 811056 | AJ16: 217014 | AK16: 0 | AL16: 161425 | AM16: 181522 | AN16: 0 | AO16: 1221269.1 | AP16: 267188 | AQ16: 0 | AR16: 2992914.7 | AS16: 2290953 | AT16: 0 | AU16: 33452188 | AV16: 15746703 | AW16: 0
J17: 2．土工 | K17: 計 | N17: 6592377 | O17: 1768811 | P17: 0 | Q17: 3718374.3 | R17: 278892 | S17: 0 | T17: 12324982 | U17: 2258258 | V17: 0 | W17: 1582356 | X17: 446140 | Y17: 0 | Z17: 2714155 | AA17: 423184 | AB17: 0 | AC17: 2414668 | AD17: 759281 | AE17: 0 | AF17: 1997058.2 | AG17: 315807 | AH17: 0 | AI17: 791572.08 | AJ17: 143340 | AK17: 0 | AL17: 55196 | AM17: 60397 | AN17: 0 | AO17: 1098671.2 | AP17: 256677 | AQ17: 0 | AR17: 2933545.3 | AS17: 6020969 | AT17: 0 | AU17: 36222956 | AV17: 12731756 | AW17: 0
L18: ①建設発生土の処理 | M18: 千円 | N18: 1892783 | O18: 363753.7 | P18: 0 | Q18: 1136970 | R18: 83531 | S18: 0 | T18: 2473100 | U18: 865036 | V18: 0 | W18: 314279.52 | X18: 93672.38 | Y18: 0 | Z18: 549852 | AA18: 107066.1 | AB18: 0 | AC18: 602765.22 | AD18: 257896 | AE18: 0 | AF18: 752361.78 | AG18: 107907 | AH18: 0 | AI18: 335513.8 | AJ18: 42280 | AK18: 0 | AL18: 21049 | AM18: 15714 | AN18: 0 | AO18: 360894.7 | AP18: 53619 | AQ18: 0 | AR18: 766514.78 | AS18: 3213170.1 | AT18: 0 | AU18: 9206083.8 | AV18: 5203645.3 | AW18: 0
L19: ②山留め | M19: 千円 | N19: 2766383.6 | O19: 632913.97 | P19: 0 | Q19: 1311298 | R19: 107616 | S19: 0 | T19: 5256456.1 | U19: 574606 | V19: 0 | W19: 328854.84 | X19: 117590.94 | Y19: 0 | Z19: 658419 | AA19: 88702 | AB19: 0 | AC19: 220929.04 | AD19: 8515 | AE19: 0 | AF19: 611675.56 | AG19: 72036 | AH19: 0 | AI19: 218261 | AJ19: 53637 | AK19: 0 | AL19: 7896 | AM19: 8654 | AN19: 0 | AO19: 380876.6 | AP19: 144741 | AQ19: 0 | AR19: 741015.8 | AS19: 1672731.1 | AT19: 0 | AU19: 12502066 | AV19: 3481743 | AW19: 0
L20: ③乗入れ構台 | M20: 千円 | N20: 289561.9 | O20: 48987 | P20: 0 | Q20: 292287 | R20: 0 | S20: 0 | T20: 767469.35 | U20: 441277 | V20: 0 | W20: 91687.16 | X20: 7275.57 | Y20: 0 | Z20: 45911 | AA20: 450 | AB20: 0 | AC20: 22778.41 | AD20: 200 | AE20: 0 | AF20: 110741.24 | AG20: 0 | AH20: 0 | AI20: 3865 | AJ20: 0 | AK20: 0 | AL20: 0 | AM20: 0 | AN20: 0 | AO20: 38960 | AP20: 13100 | AQ20: 0 | AR20: 6490.49 | AS20: 136326.4 | AT20: 0 | AU20: 1669751.5 | AV20: 647615.97 | AW20: 0
L21: ④根切り・床付け | M21: 千円 | N21: 798964.96 | O21: 514456.16 | P21: 0 | Q21: 308660.39 | R21: 45452 | S21: 0 | T21: 865806.74 | U21: 264415 | V21: 0 | W21: 256009.07 | X21: 83929.96 | Y21: 0 | Z21: 627467.8 | AA21: 73214 | AB21: 0 | AC21: 414434.52 | AD21: 371084 | AE21: 0 | AF21: 219705.63 | AG21: 64412 | AH21: 0 | AI21: 118296.73 | AJ21: 26899 | AK21: 0 | AL21: 6863 | AM21: 11577 | AN21: 0 | AO21: 134377.45 | AP21: 14630 | AQ21: 0 | AR21: 357059.23 | AS21: 262903.64 | AT21: 0 | AU21: 4107645.5 | AV21: 1732972.8 | AW21: 0
L22: ⑤上記以外の土工 | M22: 千円 | N22: 844683.5 | O22: 208700.17 | P22: 0 | Q22: 669158.92 | R22: 42293 | S22: 0 | T22: 2962150.3 | U22: 112924 | V22: 0 | W22: 591525.41 | X22: 143671.15 | Y22: 0 | Z22: 832505.2 | AA22: 153751.9 | AB22: 0 | AC22: 1153760.8 | AD22: 121586 | AE22: 0 | AF22: 302574.02 | AG22: 71452 | AH22: 0 | AI22: 115635.55 | AJ22: 20524 | AK22: 0 | AL22: 19388 | AM22: 24452 | AN22: 0 | AO22: 183562.5 | AP22: 30587 | AQ22: 0 | AR22: 1062465 | AS22: 735837.74 | AT22: 0 | AU22: 8737409.2 | AV22: 1665779 | AW22: 0
J23: 3．地業 | K23: 計 | N23: 9614728 | O23: 1977191 | P23: 0 | Q23: 1432848.9 | R23: 475097 | S23: 0 | T23: 6819877.4 | U23: 1071240 | V23: 0 | W23: 1829081 | X23: 546040 | Y23: 0 | Z23: 5942774 | AA23: 1019580 | AB23: 0 | AC23: 5168658 | AD23: 276555 | AE23: 0 | AF23: 2027641.6 | AG23: 606059 | AH23: 0 | AI23: 1120661.1 | AJ23: 244236 | AK23: 0 | AL23: 117631 | AM23: 145320 | AN23: 0 | AO23: 1603168 | AP23: 177625 | AQ23: 0 | AR23: 3951912.2 | AS23: 1688705 | AT23: 0 | AU23: 39628981 | AV23: 8227648 | AW23: 0
L24: ①既製コンクリート杭 | M24: 千円 | N24: 2266641.8 | O24: 578504 | P24: 0 | Q24: 386746 | R24: 224811 | S24: 0 | T24: 1608562.7 | U24: 206655.4 | V24: 0 | W24: 1159403.1 | X24: 236134.6 | Y24: 0 | Z24: 3543324.4 | AA24: 661087 | AB24: 0 | AC24: 4025092.5 | AD24: 234880 | AE24: 0 | AF24: 1239770.1 | AG24: 428868 | AH24: 0 | AI24: 837170 | AJ24: 198545 | AK24: 0 | AL24: 92944 | AM24: 68794 | AN24: 0 | AO24: 416743.6 | AP24: 33083 | AQ24: 0 | AR24: 2121551.1 | AS24: 701221.6 | AT24: 0 | AU24: 17697949 | AV24: 3572583.6 | AW24: 0
L25: ②場所打ちコンクリート杭 | M25: 千円 | N25: 6376608.4 | O25: 1227213 | P25: 0 | Q25: 907313.7 | R25: 174761 | S25: 0 | T25: 4535645.1 | U25: 347071.2 | V25: 0 | W25: 120636.4 | X25: 50613.8 | Y25: 0 | Z25: 294342 | AA25: 0 | AB25: 0 | AC25: 166283.6 | AD25: 703 | AE25: 0 | AF25: 418827.77 | AG25: 97278 | AH25: 0 | AI25: 81502 | AJ25: 0 | AK25: 0 | AL25: 0 | AM25: 34748 | AN25: 0 | AO25: 927786.48 | AP25: 111095 | AQ25: 0 | AR25: 621397.92 | AS25: 395907 | AT25: 0 | AU25: 14450343 | AV25: 2439390 | AW25: 0
L26: ③鋼杭 | M26: 千円 | N26: 349682.32 | O26: 75000 | P26: 0 | Q26: 23410 | R26: 9803 | S26: 0 | T26: 102248 | U26: 18592 | V26: 0 | W26: 14023.92 | X26: 17881.4 | Y26: 0 | Z26: 303063 | AA26: 54409 | AB26: 0 | AC26: 56849.48 | AD26: 0 | AE26: 0 | AF26: 29843.32 | AG26: 46244 | AH26: 0 | AI26: 17930 | AJ26: 0 | AK26: 0 | AL26: 0 | AM26: 0 | AN26: 0 | AO26: 58700 | AP26: 3050 | AQ26: 0 | AR26: 444795.12 | AS26: 14556 | AT26: 0 | AU26: 1400545.2 | AV26: 239535.4 | AW26: 0
L27: ④地盤改良 | M27: 千円 | N27: 391514.7 | O27: 38186.145 | P27: 0 | Q27: 101170.4 | R27: 33662 | S27: 0 | T27: 237372.15 | U27: 477165.4 | V27: 0 | W27: 428470.2 | X27: 204809.8 | Y27: 0 | Z27: 1302106 | AA27: 276586 | AB27: 0 | AC27: 718553.8 | AD27: 23424 | AE27: 0 | AF27: 115552.45 | AG27: 18418 | AH27: 0 | AI27: 132039.15 | AJ27: 35928 | AK27: 0 | AL27: 14260 | AM27: 34926 | AN27: 0 | AO27: 115374.5 | AP27: 13595 | AQ27: 0 | AR27: 540160.17 | AS27: 179404 | AT27: 0 | AU27: 4096573.5 | AV27: 1336104.3 | AW27: 0
L28: ⑤上記以外の地業 | M28: 千円 | N28: 230280.82 | O28: 58287.855 | P28: 0 | Q28: 14208.76 | R28: 32060 | S28: 0 | T28: 336049.41 | U28: 21756 | V28: 0 | W28: 106547.4 | X28: 36600.4 | Y28: 0 | Z28: 499938.6 | AA28: 27498 | AB28: 0 | AC28: 201878.6 | AD28: 17548 | AE28: 0 | AF28: 223647.95 | AG28: 15251 | AH28: 0 | AI28: 52020 | AJ28: 9763 | AK28: 0 | AL28: 10427 | AM28: 6852 | AN28: 0 | AO28: 84563.4 | AP28: 16802 | AQ28: 0 | AR28: 224007.91 | AS28: 397616.4 | AT28: 0 | AU28: 1983569.8 | AV28: 640034.66 | AW28: 0
J29: 4．鉄筋 | M29: 千円 | N29: 18167315 | O29: 4649688 | P29: 0 | Q29: 4044598 | R29: 1144194 | S29: 0 | T29: 8796038.9 | U29: 4841345 | V29: 0 | W29: 1593346 | X29: 572061 | Y29: 0 | Z29: 4139627 | AA29: 730286 | AB29: 0 | AC29: 5448514 | AD29: 757964 | AE29: 0 | AF29: 3544289.5 | AG29: 949958 | AH29: 0 | AI29: 1747539.2 | AJ29: 347196 | AK29: 0 | AL29: 124727 | AM29: 123249 | AN29: 0 | AO29: 1606018.6 | AP29: 368822 | AQ29: 0 | AR29: 4189813.3 | AS29: 3730348 | AT29: 0 | AU29: 53401826 | AV29: 18215111 | AW29: 0
J30: 5．コンクリート | M30: 千円 | N30: 14090727 | O30: 3674231 | P30: 0 | Q30: 3961696.6 | R30: 799500 | S30: 0 | T30: 9777711.6 | U30: 4757199 | V30: 0 | W30: 2034254 | X30: 757555 | Y30: 0 | Z30: 4905283 | AA30: 869698 | AB30: 0 | AC30: 6088470 | AD30: 755790 | AE30: 0 | AF30: 3123128.5 | AG30: 814782 | AH30: 0 | AI30: 1627241.1 | AJ30: 356398 | AK30: 0 | AL30: 141858 | AM30: 143168 | AN30: 0 | AO30: 1535917.6 | AP30: 385219 | AQ30: 0 | AR30: 4555948.6 | AS30: 4032970 | AT30: 0 | AU30: 51842236 | AV30: 17346510 | AW30: 0
J31: 6．型枠 | K31: 計 | N31: 16721069 | O31: 4622004 | P31: 0 | Q31: 2614299.9 | R31: 1102905 | S31: 0 | T31: 7269181 | U31: 3570057 | V31: 0 | W31: 1133839 | X31: 403358 | Y31: 0 | Z31: 2711734 | AA31: 483452 | AB31: 0 | AC31: 3766800 | AD31: 684374 | AE31: 0 | AF31: 3415756.9 | AG31: 1084449 | AH31: 0 | AI31: 2128057.3 | AJ31: 334549 | AK31: 0 | AL31: 133644 | AM31: 173925 | AN31: 0 | AO31: 1700081.5 | AP31: 391982 | AQ31: 0 | AR31: 4673442.7 | AS31: 3246496 | AT31: 0 | AU31: 46267905 | AV31: 16097551 | AW31: 0
L32: ①型枠用合板 | M32: 千円 | N32: 15776732 | O32: 4416417 | P32: 0 | Q32: 2336588.2 | R32: 1091347 | S32: 0 | T32: 5583317.1 | U32: 3344768.6 | V32: 0 | W32: 1017264.6 | X32: 367085.25 | Y32: 0 | Z32: 2401157 | AA32: 441882.12 | AB32: 0 | AC32: 2562613.7 | AD32: 460198 | AE32: 0 | AF32: 3078773.9 | AG32: 1028390 | AH32: 0 | AI32: 1990321.6 | AJ32: 294876 | AK32: 0 | AL32: 108362 | AM32: 151945 | AN32: 0 | AO32: 1533771 | AP32: 355380 | AQ32: 0 | AR32: 4050354.6 | AS32: 2386106.6 | AT32: 0 | AU32: 40439255 | AV32: 14338396 | AW32: 0
L33: ②フラットデッキ型枠 | M33: 千円 | N33: 25281.44 | O33: 30057 | P33: 0 | Q33: 218531 | R33: 0 | S33: 0 | T33: 1248183.3 | U33: 36845 | V33: 0 | W33: 70606.15 | X33: 22594.25 | Y33: 0 | Z33: 107881 | AA33: 1536 | AB33: 0 | AC33: 545074.1 | AD33: 167433 | AE33: 0 | AF33: 159911.81 | AG33: 29915 | AH33: 0 | AI33: 53077.5 | AJ33: 36137 | AK33: 0 | AL33: 1450 | AM33: 0 | AN33: 0 | AO33: 72488 | AP33: 22218 | AQ33: 0 | AR33: 320644.6 | AS33: 664684.1 | AT33: 0 | AU33: 2823128.9 | AV33: 1011419.3 | AW33: 0
L34: ③上記以外の型枠 | M34: 千円 | N34: 919055.72 | O34: 175530 | P34: 0 | Q34: 59180.75 | R34: 11558 | S34: 0 | T34: 437680.54 | U34: 188443.4 | V34: 0 | W34: 45968.3 | X34: 13678.5 | Y34: 0 | Z34: 202696 | AA34: 40033.88 | AB34: 0 | AC34: 659112.2 | AD34: 56743 | AE34: 0 | AF34: 177071.22 | AG34: 26144 | AH34: 0 | AI34: 84658.19 | AJ34: 3536 | AK34: 0 | AL34: 23832 | AM34: 21980 | AN34: 0 | AO34: 93822.5 | AP34: 14384 | AQ34: 0 | AR34: 302443.45 | AS34: 195705.34 | AT34: 0 | AU34: 3005520.9 | AV34: 747736.12 | AW34: 0
J35: 7．鉄骨 | K35: 計 | N35: 3317487 | O35: 309125 | P35: 0 | Q35: 2891902.8 | R35: 189460 | S35: 0 | T35: 67586012 | U35: 12511309 | V35: 0 | W35: 10856205 | X35: 3829220 | Y35: 0 | Z35: 24697974 | AA35: 4170559 | AB35: 0 | AC35: 32002430 | AD35: 2438876 | AE35: 0 | AF35: 8112343.7 | AG35: 1301900 | AH35: 0 | AI35: 2370936.8 | AJ35: 849913 | AK35: 0 | AL35: 506922 | AM35: 207503 | AN35: 0 | AO35: 5723100.6 | AP35: 784959 | AQ35: 0 | AR35: 15647601 | AS35: 19710527 | AT35: 0 | AU35: 1.7371291e+08 | AV35: 46303351 | AW35: 0
L36: ①鋼材（材料） | M36: 千円 | N36: 1085049.6 | O36: 112504.33 | P36: 0 | Q36: 1117993.8 | R36: 39334 | S36: 0 | T36: 19750021 | U36: 3945793.5 | V36: 0 | W36: 4434900.1 | X36: 950976.96 | Y36: 0 | Z36: 8951139.6 | AA36: 1489128.9 | AB36: 0 | AC36: 11593847 | AD36: 876394 | AE36: 0 | AF36: 3499207.7 | AG36: 573057 | AH36: 0 | AI36: 818318 | AJ36: 300883 | AK36: 0 | AL36: 159384 | AM36: 66196.072 | AN36: 0 | AO36: 2363196.7 | AP36: 298372 | AQ36: 0 | AR36: 6055844.9 | AS36: 6726778.1 | AT36: 0 | AU36: 59828903 | AV36: 15379418 | AW36: 0
L37: ②工場加工組立 | M37: 千円 | N37: 636660.25 | O37: 68441 | P37: 0 | Q37: 829437.56 | R37: 19801 | S37: 0 | T37: 22822969 | U37: 4342775 | V37: 0 | W37: 2378963.3 | X37: 1714902 | Y37: 0 | Z37: 6067968.4 | AA37: 961795.6 | AB37: 0 | AC37: 7013307.5 | AD37: 472567 | AE37: 0 | AF37: 1842378.8 | AG37: 279979 | AH37: 0 | AI37: 523928.6 | AJ37: 204593 | AK37: 0 | AL37: 181048 | AM37: 60408.08 | AN37: 0 | AO37: 1080849.9 | AP37: 181430 | AQ37: 0 | AR37: 3218498 | AS37: 5088107.5 | AT37: 0 | AU37: 46596009 | AV37: 13394799 | AW37: 0
L38: ③現場加工 （建方・溶接・塗装） | M38: 千円 | N38: 285267.17 | O38: 49927.672 | P38: 0 | Q38: 201850.41 | R38: 9360 | S38: 0 | T38: 5310738.3 | U38: 1089326.5 | V38: 0 | W38: 803649.2 | X38: 216134.74 | Y38: 0 | Z38: 2334021.4 | AA38: 390730.04 | AB38: 0 | AC38: 2489399.3 | AD38: 347031 | AE38: 0 | AF38: 658931.84 | AG38: 122820 | AH38: 0 | AI38: 171397 | AJ38: 74834 | AK38: 0 | AL38: 41217 | AM38: 28961.104 | AN38: 0 | AO38: 471216.17 | AP38: 71532 | AQ38: 0 | AR38: 1429188.7 | AS38: 1465299.1 | AT38: 0 | AU38: 14196876 | AV38: 3865956.2 | AW38: 0
L39: ④鉄骨運搬 | M39: 千円 | N39: 58886.39 | O39: 4177 | P39: 0 | Q39: 66400.58 | R39: 2732 | S39: 0 | T39: 979351.92 | U39: 101585 | V39: 0 | W39: 324241.88 | X39: 67629.58 | Y39: 0 | Z39: 685282.7 | AA39: 78730.46 | AB39: 0 | AC39: 1141888.1 | AD39: 72958 | AE39: 0 | AF39: 233531.38 | AG39: 22519 | AH39: 0 | AI39: 49289.4 | AJ39: 16694 | AK39: 0 | AL39: 21009 | AM39: 4279.584 | AN39: 0 | AO39: 117155.27 | AP39: 12676 | AQ39: 0 | AR39: 415400.61 | AS39: 365764.7 | AT39: 0 | AU39: 4092437.2 | AV39: 749745.32 | AW39: 0
L40: ⑤高力ボルト類 | M40: 千円 | N40: 30852.13 | O40: 4953 | P40: 0 | Q40: 43522.87 | R40: 1229 | S40: 0 | T40: 502451.64 | U40: 41786 | V40: 0 | W40: 201498.48 | X40: 51087.54 | Y40: 0 | Z40: 303545.5 | AA40: 99879.15 | AB40: 0 | AC40: 585669.5 | AD40: 25520 | AE40: 0 | AF40: 86416.66 | AG40: 12690 | AH40: 0 | AI40: 42766.6 | AJ40: 17369 | AK40: 0 | AL40: 6619 | AM40: 4083.16 | AN40: 0 | AO40: 71329 | AP40: 15000 | AQ40: 0 | AR40: 304738.14 | AS40: 157988.9 | AT40: 0 | AU40: 2179409.5 | AV40: 431585.75 | AW40: 0
L41: ⑥鉄骨足場 | M41: 千円 | N41: 47634.26 | O41: 10674 | P41: 0 | Q41: 64119.1 | R41: 3409 | S41: 0 | T41: 1032456.7 | U41: 111521 | V41: 0 | W41: 165470.18 | X41: 19679.08 | Y41: 0 | Z41: 327478.4 | AA41: 25632.06 | AB41: 0 | AC41: 570801.4 | AD41: 15543 | AE41: 0 | AF41: 109514.78 | AG41: 40666 | AH41: 0 | AI41: 82264.847 | AJ41: 29217 | AK41: 0 | AL41: 9157 | AM41: 1946 | AN41: 0 | AO41: 124755.46 | AP41: 13382 | AQ41: 0 | AR41: 294910.18 | AS41: 156974.8 | AT41: 0 | AU41: 2828562.3 | AV41: 428643.94 | AW41: 0
...

Sheet 非木造_合計
A2: 表1-1 平成27年建築工事費投入調査集計表（非木造_合計）
A4: （単位：千円） | E4: =非木造_データ!AU2 -> 917 | F4: =非木造_データ!AV2 -> 336 | G4: =非木造_データ!AW2 -> 144 | L4: =E4 -> 917 | M4: =F4 -> 336 | N4: =G4 -> 144
E5: 建築工事・ 設備工事 一貫受注 | F5: 建築工事 のみ受注 | G5: 設備工事 のみ受注 | L5: 建築工事・ 設備工事 一貫受注 | M5: 建築工事 のみ受注 | N5: 設備工事 のみ受注
A6: 工事費内訳 | B6: 1.建築工事費 | E6: =非木造_データ!AU7 -> 8.1304412e+08 | F6: =非木造_データ!AV7 -> 252328144 | G6: =非木造_データ!AW7 -> 0 | I6: 建築工事費科目別内訳(続き） | J6: 17.カーテンウォール | L6: =非木造_データ!AU81 -> 19280062 | M6: =非木造_データ!AV81 -> 3220527 | N6: =非木造_データ!AW81 -> 0
B7: 2.設備工事費 | E7: =非木造_データ!AU8 -> 3.5929581e+08 | F7: =非木造_データ!AV8 -> 0 | G7: =非木造_データ!AW8 -> 61103398 | K7: メタルカーテンウォール | L7: =非木造_データ!AU82 -> 17815608 | M7: =非木造_データ!AV82 -> 2893969.2 | N7: =非木造_データ!AW82 -> 0
B8: 3.解体・撤去費 | E8: =非木造_データ!AU9 -> 13141674 | F8: =非木造_データ!AV9 -> 6226403 | G8: =非木造_データ!AW9 -> 179028 | K8: ＰＣカーテンウォール | L8: =非木造_データ!AU83 -> 1464453.2 | M8: =非木造_データ!AV83 -> 326557.8 | N8: =非木造_データ!AW83 -> 0
B9: 4.屋外施設費 | E9: =非木造_データ!AU10 -> 47874255 | F9: =非木造_データ!AV10 -> 14829716 | G9: =非木造_データ!AW10 -> 305724 | J9: 18.塗装 | L9: =非木造_データ!AU84 -> 8901093.6 | M9: =非木造_データ!AV84 -> 2983298 | N9: =非木造_データ!AW84 -> 0
B10: 5.共通（総合）仮設費 | E10: =非木造_データ!AU11 -> 48333249 | F10: =非木造_データ!AV11 -> 17237745 | G10: =非木造_データ!AW11 -> 2191314.4 | J10: 19.内外装 | L10: =非木造_データ!AU85 -> 61958613 | M10: =非木造_データ!AV85 -> 20458917 | N10: =非木造_データ!AW85 -> 0
B11: 6.現場管理費 | E11: =非木造_データ!AU12 -> 83016343 | F11: =非木造_データ!AV12 -> 32928052 | G11: =非木造_データ!AW12 -> 5020407.4 | K11: フローリング | L11: =非木造_データ!AU86 -> 4212424.4 | M11: =非木造_データ!AV86 -> 1545078.9 | N11: =非木造_データ!AW86 -> 0
B12: 7.工事原価 | E12: =非木造_データ!AU13 -> 1.3647054e+09 | F12: =非木造_データ!AV13 -> 323550060 | G12: =非木造_データ!AW13 -> 68799872 | K12: ビニル床タイル | L12: =非木造_データ!AU87 -> 1370014.7 | M12: =非木造_データ!AV87 -> 628910.26 | N12: =非木造_データ!AW87 -> 0
B13: 8.一般管理費等 | E13: =非木造_データ!AU14 -> 81303321 | F13: =非木造_データ!AV14 -> 22106286 | G13: =非木造_データ!AW14 -> 5709315 | K13: ビニル床シート | L13: =非木造_データ!AU88 -> 2803317.1 | M13: =非木造_データ!AV88 -> 1214757.7 | N13: =非木造_データ!AW88 -> 0
A14: 9.工事価格 | E14: =非木造_データ!AU15 -> 1.4460088e+09 | F14: =非木造_データ!AV15 -> 345656346 | G14: =非木造_データ!AW15 -> 74509187 | K14: カーペット | L14: =非木造_データ!AU89 -> 2864948.3 | M14: =非木造_データ!AV89 -> 990838.33 | N14: =非木造_データ!AW89 -> 0
K15: 畳 | L15: =非木造_データ!AU90 -> 148543.24 | M15: =非木造_データ!AV90 -> 117984.98 | N15: =非木造_データ!AW90 -> 0
A16: 建築工事費科目別内訳 | B16: 1.直接仮設 | E16: =非木造_データ!AU16 -> 33452188 | F16: =非木造_データ!AV16 -> 15746703 | G16: =非木造_データ!AW16 -> 0 | K16: 合成樹脂塗床 | L16: =非木造_データ!AU91 -> 1116932.7 | M16: =非木造_データ!AV91 -> 317589.75 | N16: =非木造_データ!AW91 -> 0
B17: 2.土工 | E17: =非木造_データ!AU17 -> 36222956 | F17: =非木造_データ!AV17 -> 12731756 | G17: =非木造_データ!AW17 -> 0 | K17: フリーアクセスフロア | L17: =非木造_データ!AU92 -> 5571785.4 | M17: =非木造_データ!AV92 -> 1488000.7 | N17: =非木造_データ!AW92 -> 0
C18: 建設発生土の処理 | E18: =非木造_データ!AU18 -> 9206083.8 | F18: =非木造_データ!AV18 -> 5203645.3 | G18: =非木造_データ!AW18 -> 0 | K18: 化粧合板 | L18: =非木造_データ!AU93 -> 911877.67 | M18: =非木造_データ!AV93 -> 370505.94 | N18: =非木造_データ!AW93 -> 0
C19: 山留め | E19: =非木造_データ!AU19 -> 12502066 | F19: =非木造_データ!AV19 -> 3481743 | G19: =非木造_データ!AW19 -> 0 | K19: 石こうボード | L19: =非木造_データ!AU94 -> 12130881 | M19: =非木造_データ!AV94 -> 3952288.7 | N19: =非木造_データ!AW94 -> 0
C20: 乗入れ構台 | E20: =非木造_データ!AU20 -> 1669751.5 | F20: =非木造_データ!AV20 -> 647615.97 | G20: =非木造_データ!AW20 -> 0 | K20: ケイ酸カルシウム板 | L20: =非木造_データ!AU95 -> 1847287.7 | M20: =非木造_データ!AV95 -> 520128.82 | N20: =非木造_データ!AW95 -> 0
C21: 根切り・床付け | E21: =非木造_データ!AU21 -> 4107645.5 | F21: =非木造_データ!AV21 -> 1732972.8 | G21: =非木造_データ!AW21 -> 0 | K21: 木毛セメント板 | L21: =非木造_データ!AU96 -> 51593 | M21: =非木造_データ!AV96 -> 9569 | N21: =非木造_データ!AW96 -> 0
C22: 上記以外の土工 | E22: =非木造_データ!AU22 -> 8737409.2 | F22: =非木造_データ!AV22 -> 1665779 | G22: =非木造_データ!AW22 -> 0 | K22: 壁紙・ビニルクロス張り | L22: =非木造_データ!AU97 -> 5157894.5 | M22: =非木造_データ!AV97 -> 1226104.4 | N22: =非木造_データ!AW97 -> 0
B23: 3.地業 | E23: =非木造_データ!AU23 -> 39628981 | F23: =非木造_データ!AV23 -> 8227648 | G23: =非木造_データ!AW23 -> 0 | K23: ロックウール吸音板 | L23: =非木造_データ!AU98 -> 1111451.1 | M23: =非木造_データ!AV98 -> 313655.91 | N23: =非木造_データ!AW98 -> 0
C24: 既製コンクリート杭 | E24: =非木造_データ!AU24 -> 17697949 | F24: =非木造_データ!AV24 -> 3572583.6 | G24: =非木造_データ!AW24 -> 0 | K24: 断熱材（グラスウール） | L24: =非木造_データ!AU99 -> 2336108.2 | M24: =非木造_データ!AV99 -> 488043.63 | N24: =非木造_データ!AW99 -> 0
C25: 場所打ちコンクリート杭 | E25: =非木造_データ!AU25 -> 14450343 | F25: =非木造_データ!AV25 -> 2439390 | G25: =非木造_データ!AW25 -> 0 | K25: 合成樹脂発泡材打込み | L25: =非木造_データ!AU100 -> 1522166.7 | M25: =非木造_データ!AV100 -> 559778 | N25: =非木造_データ!AW100 -> 0
C26: 鋼杭 | E26: =非木造_データ!AU26 -> 1400545.2 | F26: =非木造_データ!AV26 -> 239535.4 | G26: =非木造_データ!AW26 -> 0 | K26: システム天井 | L26: =非木造_データ!AU101 -> 2057278.1 | M26: =非木造_データ!AV101 -> 744737.15 | N26: =非木造_データ!AW101 -> 0
C27: 地盤改良 | E27: =非木造_データ!AU27 -> 4096573.5 | F27: =非木造_データ!AV27 -> 1336104.3 | G27: =非木造_データ!AW27 -> 0 | K27: 幅木・廻り縁 | L27: =非木造_データ!AU102 -> 1235589.3 | M27: =非木造_データ!AV102 -> 270689.41 | N27: =非木造_データ!AW102 -> 0
C28: 上記以外の地業 | E28: =非木造_データ!AU28 -> 1983569.8 | F28: =非木造_データ!AV28 -> 640034.66 | G28: =非木造_データ!AW28 -> 0 | K28: 合成樹脂製品 | L28: =非木造_データ!AU103 -> 462651.47 | M28: =非木造_データ!AV103 -> 176816.9 | N28: =非木造_データ!AW103 -> 0
B29: 4.鉄筋 | E29: =非木造_データ!AU29 -> 53401826 | F29: =非木造_データ!AV29 -> 18215111 | G29: =非木造_データ!AW29 -> 0 | K29: 上記以外の内外装 | L29: =非木造_データ!AU104 -> 15045868 | M29: =非木造_データ!AV104 -> 5523438.5 | N29: =非木造_データ!AW104 -> 0
B30: 5.コンクリート | E30: =非木造_データ!AU30 -> 51842236 | F30: =非木造_データ!AV30 -> 17346510 | G30: =非木造_データ!AW30 -> 0 | J30: 20.ユニット | L30: =非木造_データ!AU105 -> 43268088 | M30: =非木造_データ!AV105 -> 11119760 | N30: =非木造_データ!AW105 -> 0
B31: 6.型枠 | E31: =非木造_データ!AU31 -> 46267905 | F31: =非木造_データ!AV31 -> 16097551 | G31: =非木造_データ!AW31 -> 0 | K31: 間仕切ユニット | L31: =非木造_データ!AU106 -> 4193991.1 | M31: =非木造_データ!AV106 -> 632277.93 | N31: =非木造_データ!AW106 -> 0
C32: 型枠用合板 | E32: =非木造_データ!AU32 -> 40439255 | F32: =非木造_データ!AV32 -> 14338396 | G32: =非木造_データ!AW32 -> 0 | K32: 収納ユニット | L32: =非木造_データ!AU107 -> 2626816.7 | M32: =非木造_データ!AV107 -> 528523.48 | N32: =非木造_データ!AW107 -> 0
C33: フラットデッキ型枠 | E33: =非木造_データ!AU33 -> 2823128.9 | F33: =非木造_データ!AV33 -> 1011419.3 | G33: =非木造_データ!AW33 -> 0 | K33: 造作家具 | L33: =非木造_データ!AU108 -> 5469964.6 | M33: =非木造_データ!AV108 -> 2011687.1 | N33: =非木造_データ!AW108 -> 0
C34: 上記以外の型枠 | E34: =非木造_データ!AU34 -> 3005520.9 | F34: =非木造_データ!AV34 -> 747736.12 | G34: =非木造_データ!AW34 -> 0 | K34: キッチンユニット・吊戸棚 | L34: =非木造_データ!AU109 -> 6428986.2 | M34: =非木造_データ!AV109 -> 1350234.4 | N34: =非木造_データ!AW109 -> 0
B35: 7.鉄骨 | E35: =非木造_データ!AU35 -> 1.7371291e+08 | F35: =非木造_データ!AV35 -> 46303351 | G35: =非木造_データ!AW35 -> 0 | K35: 浴槽・ユニットバス | L35: =非木造_データ!AU110 -> 6818318.3 | M35: =非木造_データ!AV110 -> 1519529.7 | N35: =非木造_データ!AW110 -> 0
C36: 鋼材（材料） | E36: =非木造_データ!AU36 -> 59828903 | F36: =非木造_データ!AV36 -> 15379418 | G36: =非木造_データ!AW36 -> 0 | K36: 洗面台・防水パン | L36: =非木造_データ!AU111 -> 3195062.8 | M36: =非木造_データ!AV111 -> 569179.11 | N36: =非木造_データ!AW111 -> 0
C37: 工場加工組立 | E37: =非木造_データ!AU37 -> 46596009 | F37: =非木造_データ!AV37 -> 13394799 | G37: =非木造_データ!AW37 -> 0 | K37: ブラインド・カーテン | L37: =非木造_データ!AU112 -> 2133684.8 | M37: =非木造_データ!AV112 -> 656510.44 | N37: =非木造_データ!AW112 -> 0
C38: 現場加工（建方・溶接・塗装） | E38: =非木造_データ!AU38 -> 14196876 | F38: =非木造_データ!AV38 -> 3865956.2 | G38: =非木造_データ!AW38 -> 0 | K38: 上記以外のユニット | L38: =非木造_データ!AU113 -> 12401264 | M38: =非木造_データ!AV113 -> 3851817.9 | N38: =非木造_データ!AW113 -> 0
C39: 鉄骨運搬 | E39: =非木造_データ!AU39 -> 4092437.2 | F39: =非木造_データ!AV39 -> 749745.32 | G39: =非木造_データ!AW39 -> 0 | J39: 21.その他 | L39: =非木造_データ!AU114 -> 25094539 | M39: =非木造_データ!AV114 -> 11604225 | N39: =非木造_データ!AW114 -> 0
C40: 高力ボルト類 | E40: =非木造_データ!AU40 -> 2179409.5 | F40: =非木造_データ!AV40 -> 431585.75 | G40: =非木造_データ!AW40 -> 0 | I40: 建築工事費合計 | L40: =非木造_データ!AU115 -> 8.1304412e+08 | M40: =非木造_データ!AV115 -> 252328144 | N40: =非木造_データ!AW115 -> 0
C41: 鉄骨足場 | E41: =非木造_データ!AU41 -> 2828562.3 | F41: =非木造_データ!AV41 -> 428643.94 | G41: =非木造_データ!AW41 -> 0
C42: 耐火被覆板 | E42: =非木造_データ!AU42 -> 1678332.4 | F42: =非木造_データ!AV42 -> 445975.94 | G42: =非木造_データ!AW42 -> 0 | I42: 設備工事費科目別内訳 | J42: 1.電気 | L42: =非木造_データ!AU116 -> 1.4220624e+08 | M42: =非木造_データ!AV116 -> 0 | N42: =非木造_データ!AW116 -> 31840673
...

Sheet 非木造_合計 (比率) 
A2: =非木造_合計!A2:N2 -> 表1-1 平成27年建築工事費投入調査集計表（非木造_合計）
A4: （単位：％） | E4: =非木造_合計!E4 -> 917 | F4: =非木造_合計!F4 -> 336 | G4: =非木造_合計!G4 -> 144 | L4: =非木造_合計!L4 -> 917 | M4: =非木造_合計!M4 -> 336 | N4: =非木造_合計!N4 -> 144
E5: 建築工事・ 設備工事 一貫受注 | F5: 建築工事 のみ受注 | G5: 設備工事 のみ受注 | L5: 建築工事・ 設備工事 一貫受注 | M5: 建築工事 のみ受注 | N5: 設備工事 のみ受注
A6: 工事費内訳 | B6: 1.建築工事費 | E6: =IF(非木造_合計!E$14>0,非木造_合計!E6/非木造_合計!E$14*100,0) -> 56.226777 | F6: =IF(非木造_合計!F$14>0,非木造_合計!F6/非木造_合計!F$14*100,0) -> 72.999714 | G6: =IF(非木造_合計!G$14>0,非木造_合計!G6/非木造_合計!G$14*100,0) -> 0 | I6: 建築工事費科目別内訳(続き） | J6: 17.カーテンウォール | L6: =IF(非木造_合計!L$40>0,非木造_合計!L6/非木造_合計!L$40*100,0) -> 2.3713426 | M6: =IF(非木造_合計!M$40>0,非木造_合計!M6/非木造_合計!M$40*100,0) -> 1.2763249 | N6: =IF(非木造_合計!N$40>0,非木造_合計!N6/非木造_合計!N$40*100,0) -> 0
B7: 2.設備工事費 | E7: =IF(非木造_合計!E$14>0,非木造_合計!E7/非木造_合計!E$14*100,0) -> 24.847416 | F7: =IF(非木造_合計!F$14>0,非木造_合計!F7/非木造_合計!F$14*100,0) -> 0 | G7: =IF(非木造_合計!G$14>0,非木造_合計!G7/非木造_合計!G$14*100,0) -> 82.007871 | K7: メタルカーテンウォール | L7: =IF(非木造_合計!L$40>0,非木造_合計!L7/非木造_合計!L$40*100,0) -> 2.1912228 | M7: =IF(非木造_合計!M$40>0,非木造_合計!M7/非木造_合計!M$40*100,0) -> 1.146907 | N7: =IF(非木造_合計!N$40>0,非木造_合計!N7/非木造_合計!N$40*100,0) -> 0
B8: 3.解体・撤去費 | E8: =IF(非木造_合計!E$14>0,非木造_合計!E8/非木造_合計!E$14*100,0) -> 0.90882395 | F8: =IF(非木造_合計!F$14>0,非木造_合計!F8/非木造_合計!F$14*100,0) -> 1.8013276 | G8: =IF(非木造_合計!G$14>0,非木造_合計!G8/非木造_合計!G$14*100,0) -> 0.24027641 | K8: ＰＣカーテンウォール | L8: =IF(非木造_合計!L$40>0,非木造_合計!L8/非木造_合計!L$40*100,0) -> 0.18011977 | M8: =IF(非木造_合計!M$40>0,非木造_合計!M8/非木造_合計!M$40*100,0) -> 0.12941791 | N8: =IF(非木造_合計!N$40>0,非木造_合計!N8/非木造_合計!N$40*100,0) -> 0
B9: 4.屋外施設費 | E9: =IF(非木造_合計!E$14>0,非木造_合計!E9/非木造_合計!E$14*100,0) -> 3.3107859 | F9: =IF(非木造_合計!F$14>0,非木造_合計!F9/非木造_合計!F$14*100,0) -> 4.2903063 | G9: =IF(非木造_合計!G$14>0,非木造_合計!G9/非木造_合計!G$14*100,0) -> 0.41031719 | J9: 18.塗装 | L9: =IF(非木造_合計!L$40>0,非木造_合計!L9/非木造_合計!L$40*100,0) -> 1.094786 | M9: =IF(非木造_合計!M$40>0,非木造_合計!M9/非木造_合計!M$40*100,0) -> 1.1823089 | N9: =IF(非木造_合計!N$40>0,非木造_合計!N9/非木造_合計!N$40*100,0) -> 0
B10: 5.共通（総合）仮設費 | E10: =IF(非木造_合計!E$14>0,非木造_合計!E10/非木造_合計!E$14*100,0) -> 3.3425281 | F10: =IF(非木造_合計!F$14>0,非木造_合計!F10/非木造_合計!F$14*100,0) -> 4.9869604 | G10: =IF(非木造_合計!G$14>0,非木造_合計!G10/非木造_合計!G$14*100,0) -> 2.940999 | J10: 19.内外装 | L10: =IF(非木造_合計!L$40>0,非木造_合計!L10/非木造_合計!L$40*100,0) -> 7.620572 | M10: =IF(非木造_合計!M$40>0,非木造_合計!M10/非木造_合計!M$40*100,0) -> 8.1080599 | N10: =IF(非木造_合計!N$40>0,非木造_合計!N10/非木造_合計!N$40*100,0) -> 0
B11: 6.現場管理費 | E11: =IF(非木造_合計!E$14>0,非木造_合計!E11/非木造_合計!E$14*100,0) -> 5.7410677 | F11: =IF(非木造_合計!F$14>0,非木造_合計!F11/非木造_合計!F$14*100,0) -> 9.5262397 | G11: =IF(非木造_合計!G$14>0,非木造_合計!G11/非木造_合計!G$14*100,0) -> 6.737971 | K11: フローリング | L11: =IF(非木造_合計!L$40>0,非木造_合計!L11/非木造_合計!L$40*100,0) -> 0.51810526 | M11: =IF(非木造_合計!M$40>0,非木造_合計!M11/非木造_合計!M$40*100,0) -> 0.61232922 | N11: =IF(非木造_合計!N$40>0,非木造_合計!N11/非木造_合計!N$40*100,0) -> 0
B12: 7.工事原価 | E12: =IF(非木造_合計!E$14>0,非木造_合計!E12/非木造_合計!E$14*100,0) -> 94.377398 | F12: =IF(非木造_合計!F$14>0,非木造_合計!F12/非木造_合計!F$14*100,0) -> 93.604548 | G12: =IF(非木造_合計!G$14>0,非木造_合計!G12/非木造_合計!G$14*100,0) -> 92.337435 | K12: ビニル床タイル | L12: =IF(非木造_合計!L$40>0,非木造_合計!L12/非木造_合計!L$40*100,0) -> 0.16850435 | M12: =IF(非木造_合計!M$40>0,非木造_合計!M12/非木造_合計!M$40*100,0) -> 0.24924301 | N12: =IF(非木造_合計!N$40>0,非木造_合計!N12/非木造_合計!N$40*100,0) -> 0
B13: 8.一般管理費等 | E13: =IF(非木造_合計!E$14>0,非木造_合計!E13/非木造_合計!E$14*100,0) -> 5.6226022 | F13: =IF(非木造_合計!F$14>0,非木造_合計!F13/非木造_合計!F$14*100,0) -> 6.3954521 | G13: =IF(非木造_合計!G$14>0,非木造_合計!G13/非木造_合計!G$14*100,0) -> 7.6625652 | K13: ビニル床シート | L13: =IF(非木造_合計!L$40>0,非木造_合計!L13/非木造_合計!L$40*100,0) -> 0.34479274 | M13: =IF(非木造_合計!M$40>0,非木造_合計!M13/非木造_合計!M$40*100,0) -> 0.48141983 | N13: =IF(非木造_合計!N$40>0,非木造_合計!N13/非木造_合計!N$40*100,0) -> 0
A14: 9.工事価格 | E14: =IF(非木造_合計!E$14>0,非木造_合計!E14/非木造_合計!E$14*100,0) -> 100 | F14: =IF(非木造_合計!F$14>0,非木造_合計!F14/非木造_合計!F$14*100,0) -> 100 | G14: =IF(非木造_合計!G$14>0,非木造_合計!G14/非木造_合計!G$14*100,0) -> 100 | K14: カーペット | L14: =IF(非木造_合計!L$40>0,非木造_合計!L14/非木造_合計!L$40*100,0) -> 0.35237305 | M14: =IF(非木造_合計!M$40>0,非木造_合計!M14/非木造_合計!M$40*100,0) -> 0.39267848 | N14: =IF(非木造_合計!N$40>0,非木造_合計!N14/非木造_合計!N$40*100,0) -> 0
K15: 畳 | L15: =IF(非木造_合計!L$40>0,非木造_合計!L15/非木造_合計!L$40*100,0) -> 0.01827001 | M15: =IF(非木造_合計!M$40>0,非木造_合計!M15/非木造_合計!M$40*100,0) -> 0.046758549 | N15: =IF(非木造_合計!N$40>0,非木造_合計!N15/非木造_合計!N$40*100,0) -> 0
A16: 建築工事費科目別内訳 | B16: 1.直接仮設 | E16: =IF(非木造_合計!L$40>0,非木造_合計!E16/非木造_合計!L$40*100,0) -> 4.114437 | F16: =IF(非木造_合計!M$40>0,非木造_合計!F16/非木造_合計!M$40*100,0) -> 6.2405655 | G16: =IF(非木造_合計!N$40>0,非木造_合計!G16/非木造_合計!N$40*100,0) -> 0 | K16: 合成樹脂塗床 | L16: =IF(非木造_合計!L$40>0,非木造_合計!L16/非木造_合計!L$40*100,0) -> 0.13737664 | M16: =IF(非木造_合計!M$40>0,非木造_合計!M16/非木造_合計!M$40*100,0) -> 0.12586378 | N16: =IF(非木造_合計!N$40>0,非木造_合計!N16/非木造_合計!N$40*100,0) -> 0
B17: 2.土工 | E17: =IF(非木造_合計!L$40>0,非木造_合計!E17/非木造_合計!L$40*100,0) -> 4.4552263 | F17: =IF(非木造_合計!M$40>0,非木造_合計!F17/非木造_合計!M$40*100,0) -> 5.0457138 | G17: =IF(非木造_合計!N$40>0,非木造_合計!G17/非木造_合計!N$40*100,0) -> 0 | K17: フリーアクセスフロア | L17: =IF(非木造_合計!L$40>0,非木造_合計!L17/非木造_合計!L$40*100,0) -> 0.68529926 | M17: =IF(非木造_合計!M$40>0,非木造_合計!M17/非木造_合計!M$40*100,0) -> 0.58970857 | N17: =IF(非木造_合計!N$40>0,非木造_合計!N17/非木造_合計!N$40*100,0) -> 0
C18: 建設発生土の処理 | E18: =IF(非木造_合計!L$40>0,非木造_合計!E18/非木造_合計!L$40*100,0) -> 1.1322982 | F18: =IF(非木造_合計!M$40>0,非木造_合計!F18/非木造_合計!M$40*100,0) -> 2.0622532 | G18: =IF(非木造_合計!N$40>0,非木造_合計!G18/非木造_合計!N$40*100,0) -> 0 | K18: 化粧合板 | L18: =IF(非木造_合計!L$40>0,非木造_合計!L18/非木造_合計!L$40*100,0) -> 0.11215599 | M18: =IF(非木造_合計!M$40>0,非木造_合計!M18/非木造_合計!M$40*100,0) -> 0.14683496 | N18: =IF(非木造_合計!N$40>0,非木造_合計!N18/非木造_合計!N$40*100,0) -> 0
C19: 山留め | E19: =IF(非木造_合計!L$40>0,非木造_合計!E19/非木造_合計!L$40*100,0) -> 1.537686 | F19: =IF(非木造_合計!M$40>0,非木造_合計!F19/非木造_合計!M$40*100,0) -> 1.3798473 | G19: =IF(非木造_合計!N$40>0,非木造_合計!G19/非木造_合計!N$40*100,0) -> 0 | K19: 石こうボード | L19: =IF(非木造_合計!L$40>0,非木造_合計!L19/非木造_合計!L$40*100,0) -> 1.4920323 | M19: =IF(非木造_合計!M$40>0,非木造_合計!M19/非木造_合計!M$40*100,0) -> 1.5663289 | N19: =IF(非木造_合計!N$40>0,非木造_合計!N19/非木造_合計!N$40*100,0) -> 0
C20: 乗入れ構台 | E20: =IF(非木造_合計!L$40>0,非木造_合計!E20/非木造_合計!L$40*100,0) -> 0.20537035 | F20: =IF(非木造_合計!M$40>0,非木造_合計!F20/非木造_合計!M$40*100,0) -> 0.25665626 | G20: =IF(非木造_合計!N$40>0,非木造_合計!G20/非木造_合計!N$40*100,0) -> 0 | K20: ケイ酸カルシウム板 | L20: =IF(非木造_合計!L$40>0,非木造_合計!L20/非木造_合計!L$40*100,0) -> 0.22720633 | M20: =IF(非木造_合計!M$40>0,非木造_合計!M20/非木造_合計!M$40*100,0) -> 0.20613191 | N20: =IF(非木造_合計!N$40>0,非木造_合計!N20/非木造_合計!N$40*100,0) -> 0
C21: 根切り・床付け | E21: =IF(非木造_合計!L$40>0,非木造_合計!E21/非木造_合計!L$40*100,0) -> 0.50521803 | F21: =IF(非木造_合計!M$40>0,非木造_合計!F21/非木造_合計!M$40*100,0) -> 0.68679329 | G21: =IF(非木造_合計!N$40>0,非木造_合計!G21/非木造_合計!N$40*100,0) -> 0 | K21: 木毛セメント板 | L21: =IF(非木造_合計!L$40>0,非木造_合計!L21/非木造_合計!L$40*100,0) -> 0.0063456581 | M21: =IF(非木造_合計!M$40>0,非木造_合計!M21/非木造_合計!M$40*100,0) -> 0.0037922841 | N21: =IF(非木造_合計!N$40>0,非木造_合計!N21/非木造_合計!N$40*100,0) -> 0
C22: 上記以外の土工 | E22: =IF(非木造_合計!L$40>0,非木造_合計!E22/非木造_合計!L$40*100,0) -> 1.0746538 | F22: =IF(非木造_合計!M$40>0,非木造_合計!F22/非木造_合計!M$40*100,0) -> 0.66016376 | G22: =IF(非木造_合計!N$40>0,非木造_合計!G22/非木造_合計!N$40*100,0) -> 0 | K22: 壁紙・ビニルクロス張り | L22: =IF(非木造_合計!L$40>0,非木造_合計!L22/非木造_合計!L$40*100,0) -> 0.63439294 | M22: =IF(非木造_合計!M$40>0,非木造_合計!M22/非木造_合計!M$40*100,0) -> 0.48591661 | N22: =IF(非木造_合計!N$40>0,非木造_合計!N22/非木造_合計!N$40*100,0) -> 0
B23: 3.地業 | E23: =IF(非木造_合計!L$40>0,非木造_合計!E23/非木造_合計!L$40*100,0) -> 4.8741489 | F23: =IF(非木造_合計!M$40>0,非木造_合計!F23/非木造_合計!M$40*100,0) -> 3.2606937 | G23: =IF(非木造_合計!N$40>0,非木造_合計!G23/非木造_合計!N$40*100,0) -> 0 | K23: ロックウール吸音板 | L23: =IF(非木造_合計!L$40>0,非木造_合計!L23/非木造_合計!L$40*100,0) -> 0.13670243 | M23: =IF(非木造_合計!M$40>0,非木造_合計!M23/非木造_合計!M$40*100,0) -> 0.12430477 | N23: =IF(非木造_合計!N$40>0,非木造_合計!N23/非木造_合計!N$40*100,0) -> 0
C24: 既製コンクリート杭 | E24: =IF(非木造_合計!L$40>0,非木造_合計!E24/非木造_合計!L$40*100,0) -> 2.1767514 | F24: =IF(非木造_合計!M$40>0,非木造_合計!F24/非木造_合計!M$40*100,0) -> 1.4158482 | G24: =IF(非木造_合計!N$40>0,非木造_合計!G24/非木造_合計!N$40*100,0) -> 0 | K24: 断熱材（グラスウール） | L24: =IF(非木造_合計!L$40>0,非木造_合計!L24/非木造_合計!L$40*100,0) -> 0.28732859 | M24: =IF(非木造_合計!M$40>0,非木造_合計!M24/非木造_合計!M$40*100,0) -> 0.19341625 | N24: =IF(非木造_合計!N$40>0,非木造_合計!N24/非木造_合計!N$40*100,0) -> 0
C25: 場所打ちコンクリート杭 | E25: =IF(非木造_合計!L$40>0,非木造_合計!E25/非木造_合計!L$40*100,0) -> 1.7773136 | F25: =IF(非木造_合計!M$40>0,非木造_合計!F25/非木造_合計!M$40*100,0) -> 0.96675304 | G25: =IF(非木造_合計!N$40>0,非木造_合計!G25/非木造_合計!N$40*100,0) -> 0 | K25: 合成樹脂発泡材打込み | L25: =IF(非木造_合計!L$40>0,非木造_合計!L25/非木造_合計!L$40*100,0) -> 0.18721821 | M25: =IF(非木造_合計!M$40>0,非木造_合計!M25/非木造_合計!M$40*100,0) -> 0.22184525 | N25: =IF(非木造_合計!N$40>0,非木造_合計!N25/非木造_合計!N$40*100,0) -> 0
C26: 鋼杭 | E26: =IF(非木造_合計!L$40>0,非木造_合計!E26/非木造_合計!L$40*100,0) -> 0.17225943 | F26: =IF(非木造_合計!M$40>0,非木造_合計!F26/非木造_合計!M$40*100,0) -> 0.094930116 | G26: =IF(非木造_合計!N$40>0,非木造_合計!G26/非木造_合計!N$40*100,0) -> 0 | K26: システム天井 | L26: =IF(非木造_合計!L$40>0,非木造_合計!L26/非木造_合計!L$40*100,0) -> 0.25303401 | M26: =IF(非木造_合計!M$40>0,非木造_合計!M26/非木造_合計!M$40*100,0) -> 0.29514629 | N26: =IF(非木造_合計!N$40>0,非木造_合計!N26/非木造_合計!N$40*100,0) -> 0
C27: 地盤改良 | E27: =IF(非木造_合計!L$40>0,非木造_合計!E27/非木造_合計!L$40*100,0) -> 0.50385624 | F27: =IF(非木造_合計!M$40>0,非木造_合計!F27/非木造_合計!M$40*100,0) -> 0.52951063 | G27: =IF(非木造_合計!N$40>0,非木造_合計!G27/非木造_合計!N$40*100,0) -> 0 | K27: 幅木・廻り縁 | L27: =IF(非木造_合計!L$40>0,非木造_合計!L27/非木造_合計!L$40*100,0) -> 0.15197076 | M27: =IF(非木造_合計!M$40>0,非木造_合計!M27/非木造_合計!M$40*100,0) -> 0.10727674 | N27: =IF(非木造_合計!N$40>0,非木造_合計!N27/非木造_合計!N$40*100,0) -> 0
C28: 上記以外の地業 | E28: =IF(非木造_合計!L$40>0,非木造_合計!E28/非木造_合計!L$40*100,0) -> 0.24396829 | F28: =IF(非木造_合計!M$40>0,非木造_合計!F28/非木造_合計!M$40*100,0) -> 0.25365171 | G28: =IF(非木造_合計!N$40>0,非木造_合計!G28/非木造_合計!N$40*100,0) -> 0 | K28: 合成樹脂製品 | L28: =IF(非木造_合計!L$40>0,非木造_合計!L28/非木造_合計!L$40*100,0) -> 0.056903612 | M28: =IF(非木造_合計!M$40>0,非木造_合計!M28/非木造_合計!M$40*100,0) -> 0.070074189 | N28: =IF(非木造_合計!N$40>0,非木造_合計!N28/非木造_合計!N$40*100,0) -> 0
B29: 4.鉄筋 | E29: =IF(非木造_合計!L$40>0,非木造_合計!E29/非木造_合計!L$40*100,0) -> 6.5681339 | F29: =IF(非木造_合計!M$40>0,非木造_合計!F29/非木造_合計!M$40*100,0) -> 7.2188186 | G29: =IF(非木造_合計!N$40>0,非木造_合計!G29/非木造_合計!N$40*100,0) -> 0 | K29: 上記以外の内外装 | L29: =IF(非木造_合計!L$40>0,非木造_合計!L29/非木造_合計!L$40*100,0) -> 1.8505599 | M29: =IF(非木造_合計!M$40>0,非木造_合計!M29/非木造_合計!M$40*100,0) -> 2.1889903 | N29: =IF(非木造_合計!N$40>0,非木造_合計!N29/非木造_合計!N$40*100,0) -> 0
B30: 5.コンクリート | E30: =IF(非木造_合計!L$40>0,非木造_合計!E30/非木造_合計!L$40*100,0) -> 6.3763128 | F30: =IF(非木造_合計!M$40>0,非木造_合計!F30/非木造_合計!M$40*100,0) -> 6.8745839 | G30: =IF(非木造_合計!N$40>0,非木造_合計!G30/非木造_合計!N$40*100,0) -> 0 | J30: 20.ユニット | L30: =IF(非木造_合計!L$40>0,非木造_合計!L30/非木造_合計!L$40*100,0) -> 5.3217393 | M30: =IF(非木造_合計!M$40>0,非木造_合計!M30/非木造_合計!M$40*100,0) -> 4.4068647 | N30: =IF(非木造_合計!N$40>0,非木造_合計!N30/非木造_合計!N$40*100,0) -> 0
B31: 6.型枠 | E31: =IF(非木造_合計!L$40>0,非木造_合計!E31/非木造_合計!L$40*100,0) -> 5.6907004 | F31: =IF(非木造_合計!M$40>0,非木造_合計!F31/非木造_合計!M$40*100,0) -> 6.3796098 | G31: =IF(非木造_合計!N$40>0,非木造_合計!G31/非木造_合計!N$40*100,0) -> 0 | K31: 間仕切ユニット | L31: =IF(非木造_合計!L$40>0,非木造_合計!L31/非木造_合計!L$40*100,0) -> 0.51583807 | M31: =IF(非木造_合計!M$40>0,非木造_合計!M31/非木造_合計!M$40*100,0) -> 0.25057765 | N31: =IF(非木造_合計!N$40>0,非木造_合計!N31/非木造_合計!N$40*100,0) -> 0
C32: 型枠用合板 | E32: =IF(非木造_合計!L$40>0,非木造_合計!E32/非木造_合計!L$40*100,0) -> 4.9738082 | F32: =IF(非木造_合計!M$40>0,非木造_合計!F32/非木造_合計!M$40*100,0) -> 5.6824401 | G32: =IF(非木造_合計!N$40>0,非木造_合計!G32/非木造_合計!N$40*100,0) -> 0 | K32: 収納ユニット | L32: =IF(非木造_合計!L$40>0,非木造_合計!L32/非木造_合計!L$40*100,0) -> 0.32308415 | M32: =IF(非木造_合計!M$40>0,非木造_合計!M32/非木造_合計!M$40*100,0) -> 0.20945879 | N32: =IF(非木造_合計!N$40>0,非木造_合計!N32/非木造_合計!N$40*100,0) -> 0
C33: フラットデッキ型枠 | E33: =IF(非木造_合計!L$40>0,非木造_合計!E33/非木造_合計!L$40*100,0) -> 0.34722948 | F33: =IF(非木造_合計!M$40>0,非木造_合計!F33/非木造_合計!M$40*100,0) -> 0.40083493 | G33: =IF(非木造_合計!N$40>0,非木造_合計!G33/非木造_合計!N$40*100,0) -> 0 | K33: 造作家具 | L33: =IF(非木造_合計!L$40>0,非木造_合計!L33/非木造_合計!L$40*100,0) -> 0.67277587 | M33: =IF(非木造_合計!M$40>0,非木造_合計!M33/非木造_合計!M$40*100,0) -> 0.79725039 | N33: =IF(非木造_合計!N$40>0,非木造_合計!N33/非木造_合計!N$40*100,0) -> 0
C34: 上記以外の型枠 | E34: =IF(非木造_合計!L$40>0,非木造_合計!E34/非木造_合計!L$40*100,0) -> 0.3696627 | F34: =IF(非木造_合計!M$40>0,非木造_合計!F34/非木造_合計!M$40*100,0) -> 0.29633481 | G34: =IF(非木造_合計!N$40>0,非木造_合計!G34/非木造_合計!N$40*100,0) -> 0 | K34: キッチンユニット・吊戸棚 | L34: =IF(非木造_合計!L$40>0,非木造_合計!L34/非木造_合計!L$40*100,0) -> 0.79073029 | M34: =IF(非木造_合計!M$40>0,非木造_合計!M34/非木造_合計!M$40*100,0) -> 0.53511049 | N34: =IF(非木造_合計!N$40>0,非木造_合計!N34/非木造_合計!N$40*100,0) -> 0
B35: 7.鉄骨 | E35: =IF(非木造_合計!L$40>0,非木造_合計!E35/非木造_合計!L$40*100,0) -> 21.365743 | F35: =IF(非木造_合計!M$40>0,非木造_合計!F35/非木造_合計!M$40*100,0) -> 18.35045 | G35: =IF(非木造_合計!N$40>0,非木造_合計!G35/非木造_合計!N$40*100,0) -> 0 | K35: 浴槽・ユニットバス | L35: =IF(非木造_合計!L$40>0,非木造_合計!L35/非木造_合計!L$40*100,0) -> 0.83861602 | M35: =IF(非木造_合計!M$40>0,非木造_合計!M35/非木造_合計!M$40*100,0) -> 0.6022038 | N35: =IF(非木造_合計!N$40>0,非木造_合計!N35/非木造_合計!N$40*100,0) -> 0
C36: 鋼材（材料） | E36: =IF(非木造_合計!L$40>0,非木造_合計!E36/非木造_合計!L$40*100,0) -> 7.3586293 | F36: =IF(非木造_合計!M$40>0,非木造_合計!F36/非木造_合計!M$40*100,0) -> 6.0950069 | G36: =IF(非木造_合計!N$40>0,非木造_合計!G36/非木造_合計!N$40*100,0) -> 0 | K36: 洗面台・防水パン | L36: =IF(非木造_合計!L$40>0,非木造_合計!L36/非木造_合計!L$40*100,0) -> 0.39297533 | M36: =IF(非木造_合計!M$40>0,非木造_合計!M36/非木造_合計!M$40*100,0) -> 0.225571 | N36: =IF(非木造_合計!N$40>0,非木造_合計!N36/非木造_合計!N$40*100,0) -> 0
C37: 工場加工組立 | E37: =IF(非木造_合計!L$40>0,非木造_合計!E37/非木造_合計!L$40*100,0) -> 5.7310554 | F37: =IF(非木造_合計!M$40>0,非木造_合計!F37/非木造_合計!M$40*100,0) -> 5.308484 | G37: =IF(非木造_合計!N$40>0,非木造_合計!G37/非木造_合計!N$40*100,0) -> 0 | K37: ブラインド・カーテン | L37: =IF(非木造_合計!L$40>0,非木造_合計!L37/非木造_合計!L$40*100,0) -> 0.26243162 | M37: =IF(非木造_合計!M$40>0,非木造_合計!M37/非木造_合計!M$40*100,0) -> 0.26018122 | N37: =IF(非木造_合計!N$40>0,非木造_合計!N37/非木造_合計!N$40*100,0) -> 0
C38: 現場加工（建方・溶接・塗装） | E38: =IF(非木造_合計!L$40>0,非木造_合計!E38/非木造_合計!L$40*100,0) -> 1.7461385 | F38: =IF(非木造_合計!M$40>0,非木造_合計!F38/非木造_合計!M$40*100,0) -> 1.5321145 | G38: =IF(非木造_合計!N$40>0,非木造_合計!G38/非木造_合計!N$40*100,0) -> 0 | K38: 上記以外のユニット | L38: =IF(非木造_合計!L$40>0,非木造_合計!L38/非木造_合計!L$40*100,0) -> 1.5252879 | M38: =IF(非木造_合計!M$40>0,非木造_合計!M38/非木造_合計!M$40*100,0) -> 1.5265114 | N38: =IF(非木造_合計!N$40>0,非木造_合計!N38/非木造_合計!N$40*100,0) -> 0
C39: 鉄骨運搬 | E39: =IF(非木造_合計!L$40>0,非木造_合計!E39/非木造_合計!L$40*100,0) -> 0.5033475 | F39: =IF(非木造_合計!M$40>0,非木造_合計!F39/非木造_合計!M$40*100,0) -> 0.29713107 | G39: =IF(非木造_合計!N$40>0,非木造_合計!G39/非木造_合計!N$40*100,0) -> 0 | J39: 21.その他 | L39: =IF(非木造_合計!L$40>0,非木造_合計!L39/非木造_合計!L$40*100,0) -> 3.0864917 | M39: =IF(非木造_合計!M$40>0,非木造_合計!M39/非木造_合計!M$40*100,0) -> 4.5988627 | N39: =IF(非木造_合計!N$40>0,非木造_合計!N39/非木造_合計!N$40*100,0) -> 0
C40: 高力ボルト類 | E40: =IF(非木造_合計!L$40>0,非木造_合計!E40/非木造_合計!L$40*100,0) -> 0.2680555 | F40: =IF(非木造_合計!M$40>0,非木造_合計!F40/非木造_合計!M$40*100,0) -> 0.17104146 | G40: =IF(非木造_合計!N$40>0,非木造_合計!G40/非木造_合計!N$40*100,0) -> 0 | I40: 建築工事費合計 | L40: =IF(非木造_合計!L$40>0,非木造_合計!L40/非木造_合計!L$40*100,0) -> 100 | M40: =IF(非木造_合計!M$40>0,非木造_合計!M40/非木造_合計!M$40*100,0) -> 100 | N40: =IF(非木造_合計!N$40>0,非木造_合計!N40/非木造_合計!N$40*100,0) -> 0
C41: 鉄骨足場 | E41: =IF(非木造_合計!L$40>0,非木造_合計!E41/非木造_合計!L$40*100,0) -> 0.34789776 | F41: =IF(非木造_合計!M$40>0,非木造_合計!F41/非木造_合計!M$40*100,0) -> 0.1698756 | G41: =IF(非木造_合計!N$40>0,非木造_合計!G41/非木造_合計!N$40*100,0) -> 0
C42: 耐火被覆板 | E42: =IF(非木造_合計!L$40>0,非木造_合計!E42/非木造_合計!L$40*100,0) -> 0.20642575 | F42: =IF(非木造_合計!M$40>0,非木造_合計!F42/非木造_合計!M$40*100,0) -> 0.17674443 | G42: =IF(非木造_合計!N$40>0,非木造_合計!G42/非木造_合計!N$40*100,0) -> 0 | I42: 設備工事費科目別内訳 | J42: 1.電気 | L42: =IF(非木造_合計!L$77>0,非木造_合計!L42/非木造_合計!L$77*100,0) -> 39.579153 | M42: =IF(非木造_合計!M$77>0,非木造_合計!M42/非木造_合計!M$77*100,0) -> 0 | N42: =IF(非木造_合計!N$77>0,非木造_合計!N42/非木造_合計!N$77*100,0) -> 52.109497
...

Sheet 非木造_居住専用
A2: 表1-1 平成27年建築工事費投入調査集計表（非木造_居住専用住宅）
A4: （単位：千円） | E4: =非木造_データ!N2 -> 192 | F4: =非木造_データ!O2 -> 58 | G4: =非木造_データ!P2 -> 11 | L4: =E4 -> 192 | M4: =F4 -> 58 | N4: =G4 -> 11
E5: 建築工事・ 設備工事 一貫受注 | F5: 建築工事 のみ受注 | G5: 設備工事 のみ受注 | L5: 建築工事・ 設備工事 一貫受注 | M5: 建築工事 のみ受注 | N5: 設備工事 のみ受注
A6: 工事費内訳 | B6: 1.建築工事費 | E6: =非木造_データ!N7 -> 151964627 | F6: =非木造_データ!O7 -> 36599963 | G6: =非木造_データ!P7 -> 0 | I6: 建築工事費科目別内訳(続き） | J6: 17.カーテンウォール | L6: =非木造_データ!N81 -> 44435 | M6: =非木造_データ!O81 -> 0 | N6: =非木造_データ!P81 -> 0
B7: 2.設備工事費 | E7: =非木造_データ!N8 -> 46720805 | F7: =非木造_データ!O8 -> 0 | G7: =非木造_データ!P8 -> 856993 | K7: メタルカーテンウォール | L7: =非木造_データ!N82 -> 44435 | M7: =非木造_データ!O82 -> 0 | N7: =非木造_データ!P82 -> 0
B8: 3.解体・撤去費 | E8: =非木造_データ!N9 -> 1735337 | F8: =非木造_データ!O9 -> 185711 | G8: =非木造_データ!P9 -> 7660 | K8: ＰＣカーテンウォール | L8: =非木造_データ!N83 -> 0 | M8: =非木造_データ!O83 -> 0 | N8: =非木造_データ!P83 -> 0
B9: 4.屋外施設費 | E9: =非木造_データ!N10 -> 8533927 | F9: =非木造_データ!O10 -> 1529933 | G9: =非木造_データ!P10 -> 238 | J9: 18.塗装 | L9: =非木造_データ!N84 -> 1601414 | M9: =非木造_データ!O84 -> 510977 | N9: =非木造_データ!P84 -> 0
B10: 5.共通（総合）仮設費 | E10: =非木造_データ!N11 -> 8953478 | F10: =非木造_データ!O11 -> 2261893 | G10: =非木造_データ!P11 -> 27479 | J10: 19.内外装 | L10: =非木造_データ!N85 -> 11846837 | M10: =非木造_データ!O85 -> 3202706 | N10: =非木造_データ!P85 -> 0
B11: 6.現場管理費 | E11: =非木造_データ!N12 -> 16084744 | F11: =非木造_データ!O12 -> 3565194 | G11: =非木造_データ!P12 -> 88807 | K11: フローリング | L11: =非木造_データ!N86 -> 2233600.4 | M11: =非木造_データ!O86 -> 709651 | N11: =非木造_データ!P86 -> 0
B12: 7.工事原価 | E12: =非木造_データ!N13 -> 233992918 | F12: =非木造_データ!O13 -> 44142694 | G12: =非木造_データ!P13 -> 981177 | K12: ビニル床タイル | L12: =非木造_データ!N87 -> 142701.97 | M12: =非木造_データ!O87 -> 7113 | N12: =非木造_データ!P87 -> 0
B13: 8.一般管理費等 | E13: =非木造_データ!N14 -> 14406117 | F13: =非木造_データ!O14 -> 3237667 | G13: =非木造_データ!P14 -> 82084 | K13: ビニル床シート | L13: =非木造_データ!N88 -> 683738.45 | M13: =非木造_データ!O88 -> 182537.16 | N13: =非木造_データ!P88 -> 0
A14: 9.工事価格 | E14: =非木造_データ!N15 -> 248399035 | F14: =非木造_データ!O15 -> 47380361 | G14: =非木造_データ!P15 -> 1063261 | K14: カーペット | L14: =非木造_データ!N89 -> 122590.96 | M14: =非木造_データ!O89 -> 16792 | N14: =非木造_データ!P89 -> 0
K15: 畳 | L15: =非木造_データ!N90 -> 99125.5 | M15: =非木造_データ!O90 -> 26231.978 | N15: =非木造_データ!P90 -> 0
A16: 建築工事費科目別内訳 | B16: 1.直接仮設 | E16: =非木造_データ!N16 -> 6935614 | F16: =非木造_データ!O16 -> 1562229 | G16: =非木造_データ!P16 -> 0 | K16: 合成樹脂塗床 | L16: =非木造_データ!N91 -> 30496.48 | M16: =非木造_データ!O91 -> 2715.2479 | N16: =非木造_データ!P91 -> 0
B17: 2.土工 | E17: =非木造_データ!N17 -> 6592377 | F17: =非木造_データ!O17 -> 1768811 | G17: =非木造_データ!P17 -> 0 | K17: フリーアクセスフロア | L17: =非木造_データ!N92 -> 680219.93 | M17: =非木造_データ!O92 -> 161587 | N17: =非木造_データ!P92 -> 0
C18: 建設発生土の処理 | E18: =非木造_データ!N18 -> 1892783 | F18: =非木造_データ!O18 -> 363753.7 | G18: =非木造_データ!P18 -> 0 | K18: 化粧合板 | L18: =非木造_データ!N93 -> 61952.48 | M18: =非木造_データ!O93 -> 13648.381 | N18: =非木造_データ!P93 -> 0
C19: 山留め | E19: =非木造_データ!N19 -> 2766383.6 | F19: =非木造_データ!O19 -> 632913.97 | G19: =非木造_データ!P19 -> 0 | K19: 石こうボード | L19: =非木造_データ!N94 -> 2299756.3 | M19: =非木造_データ!O94 -> 729907.88 | N19: =非木造_データ!P94 -> 0
C20: 乗入れ構台 | E20: =非木造_データ!N20 -> 289561.9 | F20: =非木造_データ!O20 -> 48987 | G20: =非木造_データ!P20 -> 0 | K20: ケイ酸カルシウム板 | L20: =非木造_データ!N95 -> 202926.47 | M20: =非木造_データ!O95 -> 33745.31 | N20: =非木造_データ!P95 -> 0
C21: 根切り・床付け | E21: =非木造_データ!N21 -> 798964.96 | F21: =非木造_データ!O21 -> 514456.16 | G21: =非木造_データ!P21 -> 0 | K21: 木毛セメント板 | L21: =非木造_データ!N96 -> 3335 | M21: =非木造_データ!O96 -> 0 | N21: =非木造_データ!P96 -> 0
C22: 上記以外の土工 | E22: =非木造_データ!N22 -> 844683.5 | F22: =非木造_データ!O22 -> 208700.17 | G22: =非木造_データ!P22 -> 0 | K22: 壁紙・ビニルクロス張り | L22: =非木造_データ!N97 -> 1984376.9 | M22: =非木造_データ!O97 -> 536135.66 | N22: =非木造_データ!P97 -> 0
B23: 3.地業 | E23: =非木造_データ!N23 -> 9614728 | F23: =非木造_データ!O23 -> 1977191 | G23: =非木造_データ!P23 -> 0 | K23: ロックウール吸音板 | L23: =非木造_データ!N98 -> 45844.98 | M23: =非木造_データ!O98 -> 2448 | N23: =非木造_データ!P98 -> 0
C24: 既製コンクリート杭 | E24: =非木造_データ!N24 -> 2266641.8 | F24: =非木造_データ!O24 -> 578504 | G24: =非木造_データ!P24 -> 0 | K24: 断熱材（グラスウール） | L24: =非木造_データ!N99 -> 432024.96 | M24: =非木造_データ!O99 -> 95531.406 | N24: =非木造_データ!P99 -> 0
C25: 場所打ちコンクリート杭 | E25: =非木造_データ!N25 -> 6376608.4 | F25: =非木造_データ!O25 -> 1227213 | G25: =非木造_データ!P25 -> 0 | K25: 合成樹脂発泡材打込み | L25: =非木造_データ!N100 -> 339299.47 | M25: =非木造_データ!O100 -> 114216 | N25: =非木造_データ!P100 -> 0
C26: 鋼杭 | E26: =非木造_データ!N26 -> 349682.32 | F26: =非木造_データ!O26 -> 75000 | G26: =非木造_データ!P26 -> 0 | K26: システム天井 | L26: =非木造_データ!N101 -> 16035.98 | M26: =非木造_データ!O101 -> 1105 | N26: =非木造_データ!P101 -> 0
C27: 地盤改良 | E27: =非木造_データ!N27 -> 391514.7 | F27: =非木造_データ!O27 -> 38186.145 | G27: =非木造_データ!P27 -> 0 | K27: 幅木・廻り縁 | L27: =非木造_データ!N102 -> 282089.48 | M27: =非木造_データ!O102 -> 43574 | N27: =非木造_データ!P102 -> 0
C28: 上記以外の地業 | E28: =非木造_データ!N28 -> 230280.82 | F28: =非木造_データ!O28 -> 58287.855 | G28: =非木造_データ!P28 -> 0 | K28: 合成樹脂製品 | L28: =非木造_データ!N103 -> 109446.99 | M28: =非木造_データ!O103 -> 12485 | N28: =非木造_データ!P103 -> 0
B29: 4.鉄筋 | E29: =非木造_データ!N29 -> 18167315 | F29: =非木造_データ!O29 -> 4649688 | G29: =非木造_データ!P29 -> 0 | K29: 上記以外の内外装 | L29: =非木造_データ!N104 -> 2077274.3 | M29: =非木造_データ!O104 -> 513281.98 | N29: =非木造_データ!P104 -> 0
B30: 5.コンクリート | E30: =非木造_データ!N30 -> 14090727 | F30: =非木造_データ!O30 -> 3674231 | G30: =非木造_データ!P30 -> 0 | J30: 20.ユニット | L30: =非木造_データ!N105 -> 11817788 | M30: =非木造_データ!O105 -> 2927250 | N30: =非木造_データ!P105 -> 0
B31: 6.型枠 | E31: =非木造_データ!N31 -> 16721069 | F31: =非木造_データ!O31 -> 4622004 | G31: =非木造_データ!P31 -> 0 | K31: 間仕切ユニット | L31: =非木造_データ!N106 -> 22615 | M31: =非木造_データ!O106 -> 48028 | N31: =非木造_データ!P106 -> 0
C32: 型枠用合板 | E32: =非木造_データ!N32 -> 15776732 | F32: =非木造_データ!O32 -> 4416417 | G32: =非木造_データ!P32 -> 0 | K32: 収納ユニット | L32: =非木造_データ!N107 -> 1192487.3 | M32: =非木造_データ!O107 -> 305166 | N32: =非木造_データ!P107 -> 0
C33: フラットデッキ型枠 | E33: =非木造_データ!N33 -> 25281.44 | F33: =非木造_データ!O33 -> 30057 | G33: =非木造_データ!P33 -> 0 | K33: 造作家具 | L33: =非木造_データ!N108 -> 1028924.6 | M33: =非木造_データ!O108 -> 233598 | N33: =非木造_データ!P108 -> 0
C34: 上記以外の型枠 | E34: =非木造_データ!N34 -> 919055.72 | F34: =非木造_データ!O34 -> 175530 | G34: =非木造_データ!P34 -> 0 | K34: キッチンユニット・吊戸棚 | L34: =非木造_データ!N109 -> 3843629.5 | M34: =非木造_データ!O109 -> 944014.43 | N34: =非木造_データ!P109 -> 0
B35: 7.鉄骨 | E35: =非木造_データ!N35 -> 3317487 | F35: =非木造_データ!O35 -> 309125 | G35: =非木造_データ!P35 -> 0 | K35: 浴槽・ユニットバス | L35: =非木造_データ!N110 -> 2956466 | M35: =非木造_データ!O110 -> 700546.7 | N35: =非木造_データ!P110 -> 0
C36: 鋼材（材料） | E36: =非木造_データ!N36 -> 1085049.6 | F36: =非木造_データ!O36 -> 112504.33 | G36: =非木造_データ!P36 -> 0 | K36: 洗面台・防水パン | L36: =非木造_データ!N111 -> 1440622.9 | M36: =非木造_データ!O111 -> 326238 | N36: =非木造_データ!P111 -> 0
C37: 工場加工組立 | E37: =非木造_データ!N37 -> 636660.25 | F37: =非木造_データ!O37 -> 68441 | G37: =非木造_データ!P37 -> 0 | K37: ブラインド・カーテン | L37: =非木造_データ!N112 -> 37708.08 | M37: =非木造_データ!O112 -> 26136 | N37: =非木造_データ!P112 -> 0
C38: 現場加工（建方・溶接・塗装） | E38: =非木造_データ!N38 -> 285267.17 | F38: =非木造_データ!O38 -> 49927.672 | G38: =非木造_データ!P38 -> 0 | K38: 上記以外のユニット | L38: =非木造_データ!N113 -> 1295334.6 | M38: =非木造_データ!O113 -> 343522.88 | N38: =非木造_データ!P113 -> 0
C39: 鉄骨運搬 | E39: =非木造_データ!N39 -> 58886.39 | F39: =非木造_データ!O39 -> 4177 | G39: =非木造_データ!P39 -> 0 | J39: 21.その他 | L39: =非木造_データ!N114 -> 5846379 | M39: =非木造_データ!O114 -> 851986 | N39: =非木造_データ!P114 -> 0
C40: 高力ボルト類 | E40: =非木造_データ!N40 -> 30852.13 | F40: =非木造_データ!O40 -> 4953 | G40: =非木造_データ!P40 -> 0 | I40: 建築工事費合計 | L40: =非木造_データ!N115 -> 151964627 | M40: =非木造_データ!O115 -> 36599963 | N40: =非木造_データ!P115 -> 0
C41: 鉄骨足場 | E41: =非木造_データ!N41 -> 47634.26 | F41: =非木造_データ!O41 -> 10674 | G41: =非木造_データ!P41 -> 0
C42: 耐火被覆板 | E42: =非木造_データ!N42 -> 30706.13 | F42: =非木造_データ!O42 -> 2054 | G42: =非木造_データ!P42 -> 0 | I42: 設備工事費科目別内訳 | J42: 1.電気 | L42: =非木造_データ!N116 -> 16436642 | M42: =非木造_データ!O116 -> 0 | N42: =非木造_データ!P116 -> 730581
...

Sheet 非木造_居住専用 (比率)
A2: =非木造_居住専用!A2:N2 -> 表1-1 平成27年建築工事費投入調査集計表（非木造_居住専用住宅）
A4: （単位：％） | E4: =非木造_居住専用!E4 -> 192 | F4: =非木造_居住専用!F4 -> 58 | G4: =非木造_居住専用!G4 -> 11 | L4: =非木造_居住専用!L4 -> 192 | M4: =非木造_居住専用!M4 -> 58 | N4: =非木造_居住専用!N4 -> 11
E5: 建築工事・ 設備工事 一貫受注 | F5: 建築工事 のみ受注 | G5: 設備工事 のみ受注 | L5: 建築工事・ 設備工事 一貫受注 | M5: 建築工事 のみ受注 | N5: 設備工事 のみ受注
A6: 工事費内訳 | B6: 1.建築工事費 | E6: =IF(非木造_居住専用!E$14>0,非木造_居住専用!E6/非木造_居住専用!E$14*100,0) -> 61.177624 | F6: =IF(非木造_居住専用!F$14>0,非木造_居住専用!F6/非木造_居住専用!F$14*100,0) -> 77.247117 | G6: =IF(非木造_居住専用!G$14>0,非木造_居住専用!G6/非木造_居住専用!G$14*100,0) -> 0 | I6: 建築工事費科目別内訳(続き） | J6: 17.カーテンウォール | L6: =IF(非木造_居住専用!L$40>0,非木造_居住専用!L6/非木造_居住専用!L$40*100,0) -> 0.029240357 | M6: =IF(非木造_居住専用!M$40>0,非木造_居住専用!M6/非木造_居住専用!M$40*100,0) -> 0 | N6: =IF(非木造_居住専用!N$40>0,非木造_居住専用!N6/非木造_居住専用!N$40*100,0) -> 0
B7: 2.設備工事費 | E7: =IF(非木造_居住専用!E$14>0,非木造_居住専用!E7/非木造_居住専用!E$14*100,0) -> 18.808771 | F7: =IF(非木造_居住専用!F$14>0,非木造_居住専用!F7/非木造_居住専用!F$14*100,0) -> 0 | G7: =IF(非木造_居住専用!G$14>0,非木造_居住専用!G7/非木造_居住専用!G$14*100,0) -> 80.600436 | K7: メタルカーテンウォール | L7: =IF(非木造_居住専用!L$40>0,非木造_居住専用!L7/非木造_居住専用!L$40*100,0) -> 0.029240357 | M7: =IF(非木造_居住専用!M$40>0,非木造_居住専用!M7/非木造_居住専用!M$40*100,0) -> 0 | N7: =IF(非木造_居住専用!N$40>0,非木造_居住専用!N7/非木造_居住専用!N$40*100,0) -> 0
B8: 3.解体・撤去費 | E8: =IF(非木造_居住専用!E$14>0,非木造_居住専用!E8/非木造_居住専用!E$14*100,0) -> 0.69860859 | F8: =IF(非木造_居住専用!F$14>0,非木造_居住専用!F8/非木造_居住専用!F$14*100,0) -> 0.39195776 | G8: =IF(非木造_居住専用!G$14>0,非木造_居住専用!G8/非木造_居住専用!G$14*100,0) -> 0.72042518 | K8: ＰＣカーテンウォール | L8: =IF(非木造_居住専用!L$40>0,非木造_居住専用!L8/非木造_居住専用!L$40*100,0) -> 0 | M8: =IF(非木造_居住専用!M$40>0,非木造_居住専用!M8/非木造_居住専用!M$40*100,0) -> 0 | N8: =IF(非木造_居住専用!N$40>0,非木造_居住専用!N8/非木造_居住専用!N$40*100,0) -> 0
B9: 4.屋外施設費 | E9: =IF(非木造_居住専用!E$14>0,非木造_居住専用!E9/非木造_居住専用!E$14*100,0) -> 3.4355717 | F9: =IF(非木造_居住専用!F$14>0,非木造_居住専用!F9/非木造_居住専用!F$14*100,0) -> 3.2290446 | G9: =IF(非木造_居住専用!G$14>0,非木造_居住専用!G9/非木造_居住専用!G$14*100,0) -> 0.022383968 | J9: 18.塗装 | L9: =IF(非木造_居住専用!L$40>0,非木造_居住専用!L9/非木造_居住専用!L$40*100,0) -> 1.0538071 | M9: =IF(非木造_居住専用!M$40>0,非木造_居住専用!M9/非木造_居住専用!M$40*100,0) -> 1.3961134 | N9: =IF(非木造_居住専用!N$40>0,非木造_居住専用!N9/非木造_居住専用!N$40*100,0) -> 0
B10: 5.共通（総合）仮設費 | E10: =IF(非木造_居住専用!E$14>0,非木造_居住専用!E10/非木造_居住専用!E$14*100,0) -> 3.6044737 | F10: =IF(非木造_居住専用!F$14>0,非木造_居住専用!F10/非木造_居住専用!F$14*100,0) -> 4.7739041 | G10: =IF(非木造_居住専用!G$14>0,非木造_居住専用!G10/非木造_居住専用!G$14*100,0) -> 2.5844078 | J10: 19.内外装 | L10: =IF(非木造_居住専用!L$40>0,非木造_居住専用!L10/非木造_居住専用!L$40*100,0) -> 7.7957859 | M10: =IF(非木造_居住専用!M$40>0,非木造_居住専用!M10/非木造_居住専用!M$40*100,0) -> 8.7505717 | N10: =IF(非木造_居住専用!N$40>0,非木造_居住専用!N10/非木造_居住専用!N$40*100,0) -> 0
B11: 6.現場管理費 | E11: =IF(非木造_居住専用!E$14>0,非木造_居住専用!E11/非木造_居住専用!E$14*100,0) -> 6.4753649 | F11: =IF(非木造_居住専用!F$14>0,非木造_居住専用!F11/非木造_居住専用!F$14*100,0) -> 7.524624 | G11: =IF(非木造_居住専用!G$14>0,非木造_居住専用!G11/非木造_居住専用!G$14*100,0) -> 8.3523237 | K11: フローリング | L11: =IF(非木造_居住専用!L$40>0,非木造_居住専用!L11/非木造_居住専用!L$40*100,0) -> 1.469816 | M11: =IF(非木造_居住専用!M$40>0,非木造_居住専用!M11/非木造_居住専用!M$40*100,0) -> 1.9389391 | N11: =IF(非木造_居住専用!N$40>0,非木造_居住専用!N11/非木造_居住専用!N$40*100,0) -> 0
B12: 7.工事原価 | E12: =IF(非木造_居住専用!E$14>0,非木造_居住専用!E12/非木造_居住専用!E$14*100,0) -> 94.200413 | F12: =IF(非木造_居住専用!F$14>0,非木造_居住専用!F12/非木造_居住専用!F$14*100,0) -> 93.166648 | G12: =IF(非木造_居住専用!G$14>0,非木造_居住専用!G12/非木造_居住専用!G$14*100,0) -> 92.279976 | K12: ビニル床タイル | L12: =IF(非木造_居住専用!L$40>0,非木造_居住専用!L12/非木造_居住専用!L$40*100,0) -> 0.093904728 | M12: =IF(非木造_居住専用!M$40>0,非木造_居住専用!M12/非木造_居住専用!M$40*100,0) -> 0.019434446 | N12: =IF(非木造_居住専用!N$40>0,非木造_居住専用!N12/非木造_居住専用!N$40*100,0) -> 0
B13: 8.一般管理費等 | E13: =IF(非木造_居住専用!E$14>0,非木造_居住専用!E13/非木造_居住専用!E$14*100,0) -> 5.7995865 | F13: =IF(非木造_居住専用!F$14>0,非木造_居住専用!F13/非木造_居住専用!F$14*100,0) -> 6.8333523 | G13: =IF(非木造_居住専用!G$14>0,非木造_居住専用!G13/非木造_居住専用!G$14*100,0) -> 7.7200236 | K13: ビニル床シート | L13: =IF(非木造_居住専用!L$40>0,非木造_居住専用!L13/非木造_居住専用!L$40*100,0) -> 0.44993263 | M13: =IF(非木造_居住専用!M$40>0,非木造_居住専用!M13/非木造_居住専用!M$40*100,0) -> 0.49873591 | N13: =IF(非木造_居住専用!N$40>0,非木造_居住専用!N13/非木造_居住専用!N$40*100,0) -> 0
A14: 9.工事価格 | E14: =IF(非木造_居住専用!E$14>0,非木造_居住専用!E14/非木造_居住専用!E$14*100,0) -> 100 | F14: =IF(非木造_居住専用!F$14>0,非木造_居住専用!F14/非木造_居住専用!F$14*100,0) -> 100 | G14: =IF(非木造_居住専用!G$14>0,非木造_居住専用!G14/非木造_居住専用!G$14*100,0) -> 100 | K14: カーペット | L14: =IF(非木造_居住専用!L$40>0,非木造_居住専用!L14/非木造_居住専用!L$40*100,0) -> 0.080670721 | M14: =IF(非木造_居住専用!M$40>0,非木造_居住専用!M14/非木造_居住専用!M$40*100,0) -> 0.045879828 | N14: =IF(非木造_居住専用!N$40>0,非木造_居住専用!N14/非木造_居住専用!N$40*100,0) -> 0
K15: 畳 | L15: =IF(非木造_居住専用!L$40>0,非木造_居住専用!L15/非木造_居住専用!L$40*100,0) -> 0.065229325 | M15: =IF(非木造_居住専用!M$40>0,非木造_居住専用!M15/非木造_居住専用!M$40*100,0) -> 0.071672144 | N15: =IF(非木造_居住専用!N$40>0,非木造_居住専用!N15/非木造_居住専用!N$40*100,0) -> 0
A16: 建築工事費科目別内訳 | B16: 1.直接仮設 | E16: =IF(非木造_居住専用!L$40>0,非木造_居住専用!E16/非木造_居住専用!L$40*100,0) -> 4.5639661 | F16: =IF(非木造_居住専用!M$40>0,非木造_居住専用!F16/非木造_居住専用!M$40*100,0) -> 4.2683896 | G16: =IF(非木造_居住専用!N$40>0,非木造_居住専用!G16/非木造_居住専用!N$40*100,0) -> 0 | K16: 合成樹脂塗床 | L16: =IF(非木造_居住専用!L$40>0,非木造_居住専用!L16/非木造_居住専用!L$40*100,0) -> 0.020068144 | M16: =IF(非木造_居住専用!M$40>0,非木造_居住専用!M16/非木造_居住専用!M$40*100,0) -> 0.0074187177 | N16: =IF(非木造_居住専用!N$40>0,非木造_居住専用!N16/非木造_居住専用!N$40*100,0) -> 0
B17: 2.土工 | E17: =IF(非木造_居住専用!L$40>0,非木造_居住専用!E17/非木造_居住専用!L$40*100,0) -> 4.3380997 | F17: =IF(非木造_居住専用!M$40>0,非木造_居住専用!F17/非木造_居住専用!M$40*100,0) -> 4.8328218 | G17: =IF(非木造_居住専用!N$40>0,非木造_居住専用!G17/非木造_居住専用!N$40*100,0) -> 0 | K17: フリーアクセスフロア | L17: =IF(非木造_居住専用!L$40>0,非木造_居住専用!L17/非木造_居住専用!L$40*100,0) -> 0.44761728 | M17: =IF(非木造_居住専用!M$40>0,非木造_居住専用!M17/非木造_居住専用!M$40*100,0) -> 0.44149498 | N17: =IF(非木造_居住専用!N$40>0,非木造_居住専用!N17/非木造_居住専用!N$40*100,0) -> 0
C18: 建設発生土の処理 | E18: =IF(非木造_居住専用!L$40>0,非木造_居住専用!E18/非木造_居住専用!L$40*100,0) -> 1.2455418 | F18: =IF(非木造_居住専用!M$40>0,非木造_居住専用!F18/非木造_居住専用!M$40*100,0) -> 0.99386357 | G18: =IF(非木造_居住専用!N$40>0,非木造_居住専用!G18/非木造_居住専用!N$40*100,0) -> 0 | K18: 化粧合板 | L18: =IF(非木造_居住専用!L$40>0,非木造_居住専用!L18/非木造_居住専用!L$40*100,0) -> 0.040767698 | M18: =IF(非木造_居住専用!M$40>0,非木造_居住専用!M18/非木造_居住専用!M$40*100,0) -> 0.037290696 | N18: =IF(非木造_居住専用!N$40>0,非木造_居住専用!N18/非木造_居住専用!N$40*100,0) -> 0
C19: 山留め | E19: =IF(非木造_居住専用!L$40>0,非木造_居住専用!E19/非木造_居住専用!L$40*100,0) -> 1.8204129 | F19: =IF(非木造_居住専用!M$40>0,非木造_居住専用!F19/非木造_居住専用!M$40*100,0) -> 1.7292749 | G19: =IF(非木造_居住専用!N$40>0,非木造_居住専用!G19/非木造_居住専用!N$40*100,0) -> 0 | K19: 石こうボード | L19: =IF(非木造_居住専用!L$40>0,非木造_居住専用!L19/非木造_居住専用!L$40*100,0) -> 1.5133497 | M19: =IF(非木造_居住専用!M$40>0,非木造_居住専用!M19/非木造_居住専用!M$40*100,0) -> 1.9942858 | N19: =IF(非木造_居住専用!N$40>0,非木造_居住専用!N19/非木造_居住専用!N$40*100,0) -> 0
C20: 乗入れ構台 | E20: =IF(非木造_居住専用!L$40>0,非木造_居住専用!E20/非木造_居住専用!L$40*100,0) -> 0.19054559 | F20: =IF(非木造_居住専用!M$40>0,非木造_居住専用!F20/非木造_居住専用!M$40*100,0) -> 0.1338444 | G20: =IF(非木造_居住専用!N$40>0,非木造_居住専用!G20/非木造_居住専用!N$40*100,0) -> 0 | K20: ケイ酸カルシウム板 | L20: =IF(非木造_居住専用!L$40>0,非木造_居住専用!L20/非木造_居住専用!L$40*100,0) -> 0.13353533 | M20: =IF(非木造_居住専用!M$40>0,非木造_居住専用!M20/非木造_居住専用!M$40*100,0) -> 0.092200394 | N20: =IF(非木造_居住専用!N$40>0,非木造_居住専用!N20/非木造_居住専用!N$40*100,0) -> 0
C21: 根切り・床付け | E21: =IF(非木造_居住専用!L$40>0,非木造_居住専用!E21/非木造_居住専用!L$40*100,0) -> 0.52575719 | F21: =IF(非木造_居住専用!M$40>0,非木造_居住専用!F21/非木造_居住専用!M$40*100,0) -> 1.4056193 | G21: =IF(非木造_居住専用!N$40>0,非木造_居住専用!G21/非木造_居住専用!N$40*100,0) -> 0 | K21: 木毛セメント板 | L21: =IF(非木造_居住専用!L$40>0,非木造_居住専用!L21/非木造_居住専用!L$40*100,0) -> 0.0021945897 | M21: =IF(非木造_居住専用!M$40>0,非木造_居住専用!M21/非木造_居住専用!M$40*100,0) -> 0 | N21: =IF(非木造_居住専用!N$40>0,非木造_居住専用!N21/非木造_居住専用!N$40*100,0) -> 0
C22: 上記以外の土工 | E22: =IF(非木造_居住専用!L$40>0,非木造_居住専用!E22/非木造_居住専用!L$40*100,0) -> 0.55584218 | F22: =IF(非木造_居住専用!M$40>0,非木造_居住専用!F22/非木造_居住専用!M$40*100,0) -> 0.57021963 | G22: =IF(非木造_居住専用!N$40>0,非木造_居住専用!G22/非木造_居住専用!N$40*100,0) -> 0 | K22: 壁紙・ビニルクロス張り | L22: =IF(非木造_居住専用!L$40>0,非木造_居住専用!L22/非木造_居住専用!L$40*100,0) -> 1.305815 | M22: =IF(非木造_居住専用!M$40>0,非木造_居住専用!M22/非木造_居住専用!M$40*100,0) -> 1.464853 | N22: =IF(非木造_居住専用!N$40>0,非木造_居住専用!N22/非木造_居住専用!N$40*100,0) -> 0
B23: 3.地業 | E23: =IF(非木造_居住専用!L$40>0,非木造_居住専用!E23/非木造_居住専用!L$40*100,0) -> 6.3269513 | F23: =IF(非木造_居住専用!M$40>0,非木造_居住専用!F23/非木造_居住専用!M$40*100,0) -> 5.4021667 | G23: =IF(非木造_居住専用!N$40>0,非木造_居住専用!G23/非木造_居住専用!N$40*100,0) -> 0 | K23: ロックウール吸音板 | L23: =IF(非木造_居住専用!L$40>0,非木造_居住専用!L23/非木造_居住専用!L$40*100,0) -> 0.030168192 | M23: =IF(非木造_居住専用!M$40>0,非木造_居住専用!M23/非木造_居住専用!M$40*100,0) -> 0.0066885314 | N23: =IF(非木造_居住専用!N$40>0,非木造_居住専用!N23/非木造_居住専用!N$40*100,0) -> 0
