Workbook

Sheet 木造_データ
I4: 71 | J4: 4 | K4: 0 | L4: 1 | M4: 0 | N4: 0 | O4: 1 | P4: 1 | Q4: 0 | R4: 1 | S4: 0 | T4: 0 | U4: 0 | V4: 0 | W4: 0 | X4: 1 | Y4: 0 | Z4: 0 | AA4: 2 | AB4: 0 | AC4: 0 | AD4: 1 | AE4: 0 | AF4: 0 | AG4: 0 | AH4: 0 | AI4: 0 | AJ4: 0 | AK4: 0 | AL4: 0 | AM4: 2 | AN4: 2 | AO4: 0 | AP4: 80 | AQ4: 7 | AR4: 0
I5: 居住専用住宅 | L5: 居住産業併用住宅 | O5: 事務所 | R5: 店舗 | U5: 工場・作業場 | X5: 倉庫 | AA5: 学校の校舎 | AD5: 病院・診療所 | AG5: 体育館 | AJ5: ホテル・旅館 | AM5: その他 | AP5: 合計
I6: 1 | J6: 1 | K6: 1 | L6: 2 | M6: 2 | N6: 2 | O6: 3 | P6: 3 | Q6: 3 | R6: 4 | S6: 4 | T6: 4 | U6: 5 | V6: 5 | W6: 5 | X6: 6 | Y6: 6 | Z6: 6 | AA6: 7 | AB6: 7 | AC6: 7 | AD6: 8 | AE6: 8 | AF6: 8 | AG6: 9 | AH6: 9 | AI6: 9 | AJ6: 10 | AK6: 10 | AL6: 10 | AM6: 11 | AN6: 11 | AO6: 11
I7: 1 | J7: 2 | K7: 3 | L7: 1 | M7: 2 | N7: 3 | O7: 1 | P7: 2 | Q7: 3 | R7: 1 | S7: 2 | T7: 3 | U7: 1 | V7: 2 | W7: 3 | X7: 1 | Y7: 2 | Z7: 3 | AA7: 1 | AB7: 2 | AC7: 3 | AD7: 1 | AE7: 2 | AF7: 3 | AG7: 1 | AH7: 2 | AI7: 3 | AJ7: 1 | AK7: 2 | AL7: 3 | AM7: 1 | AN7: 2 | AO7: 3
I8: 11 | J8: 12 | K8: 13 | L8: 21 | M8: 22 | N8: 23 | O8: 31 | P8: 32 | Q8: 33 | R8: 41 | S8: 42 | T8: 43 | U8: 51 | V8: 52 | W8: 53 | X8: 61 | Y8: 62 | Z8: 63 | AA8: 71 | AB8: 72 | AC8: 73 | AD8: 81 | AE8: 82 | AF8: 83 | AG8: 91 | AH8: 92 | AI8: 93 | AJ8: 101 | AK8: 102 | AL8: 103 | AM8: 111 | AN8: 112 | AO8: 113
D9: ８．工事費（消費税を除く） | E9: （１） 建築工事費 | H9: 千円 | I9: 1174254 | J9: 56827 | K9: 0 | L9: 36000 | M9: 0 | N9: 0 | O9: 12748 | P9: 7900 | Q9: 0 | R9: 4273 | S9: 0 | T9: 0 | U9: 0 | V9: 0 | W9: 0 | X9: 3000 | Y9: 0 | Z9: 0 | AA9: 102577 | AB9: 0 | AC9: 0 | AD9: 36485 | AE9: 0 | AF9: 0 | AG9: 0 | AH9: 0 | AI9: 0 | AJ9: 0 | AK9: 0 | AL9: 0 | AM9: 71289 | AN9: 258727 | AO9: 0 | AP9: 1440626 | AQ9: 323454 | AR9: 0
E10: （２） 設備工事費 | H10: 千円 | I10: 178906 | J10: 0 | K10: 0 | L10: 1500 | M10: 0 | N10: 0 | O10: 7196 | P10: 0 | Q10: 0 | R10: 0 | S10: 0 | T10: 0 | U10: 0 | V10: 0 | W10: 0 | X10: 0 | Y10: 0 | Z10: 0 | AA10: 35324 | AB10: 0 | AC10: 0 | AD10: 0 | AE10: 0 | AF10: 0 | AG10: 0 | AH10: 0 | AI10: 0 | AJ10: 0 | AK10: 0 | AL10: 0 | AM10: 22185 | AN10: 0 | AO10: 0 | AP10: 245111 | AQ10: 0 | AR10: 0
E11: （３） 解体・撤去費 | H11: 千円 | I11: 30322 | J11: 1250 | K11: 0 | L11: 0 | M11: 0 | N11: 0 | O11: 0 | P11: 400 | Q11: 0 | R11: 300 | S11: 0 | T11: 0 | U11: 0 | V11: 0 | W11: 0 | X11: 0 | Y11: 0 | Z11: 0 | AA11: 1600 | AB11: 0 | AC11: 0 | AD11: 0 | AE11: 0 | AF11: 0 | AG11: 0 | AH11: 0 | AI11: 0 | AJ11: 0 | AK11: 0 | AL11: 0 | AM11: 0 | AN11: 13800 | AO11: 0 | AP11: 32222 | AQ11: 15450 | AR11: 0
E12: （４） 屋外施設費 | H12: 千円 | I12: 38834 | J12: 1950 | K12: 0 | L12: 1500 | M12: 0 | N12: 0 | O12: 762 | P12: 0 | Q12: 0 | R12: 0 | S12: 0 | T12: 0 | U12: 0 | V12: 0 | W12: 0 | X12: 0 | Y12: 0 | Z12: 0 | AA12: 6350 | AB12: 0 | AC12: 0 | AD12: 2000 | AE12: 0 | AF12: 0 | AG12: 0 | AH12: 0 | AI12: 0 | AJ12: 0 | AK12: 0 | AL12: 0 | AM12: 6344 | AN12: 386 | AO12: 0 | AP12: 55790 | AQ12: 2336 | AR12: 0
E13: （５） 現場管理費 | H13: 千円 | I13: 62236 | J13: 1470 | K13: 0 | L13: 400 | M13: 0 | N13: 0 | O13: 599 | P13: 1350 | Q13: 0 | R13: 350 | S13: 0 | T13: 0 | U13: 0 | V13: 0 | W13: 0 | X13: 300 | Y13: 0 | Z13: 0 | AA13: 8447 | AB13: 0 | AC13: 0 | AD13: 4750 | AE13: 0 | AF13: 0 | AG13: 0 | AH13: 0 | AI13: 0 | AJ13: 0 | AK13: 0 | AL13: 0 | AM13: 8131 | AN13: 22909 | AO13: 0 | AP13: 85213 | AQ13: 25729 | AR13: 0
E14: （６） 工事原価 （（１）～（５）の計） | H14: 千円 | I14: 1484552 | J14: 61497 | K14: 0 | L14: 39400 | M14: 0 | N14: 0 | O14: 21305 | P14: 9650 | Q14: 0 | R14: 4923 | S14: 0 | T14: 0 | U14: 0 | V14: 0 | W14: 0 | X14: 3300 | Y14: 0 | Z14: 0 | AA14: 154298 | AB14: 0 | AC14: 0 | AD14: 43235 | AE14: 0 | AF14: 0 | AG14: 0 | AH14: 0 | AI14: 0 | AJ14: 0 | AK14: 0 | AL14: 0 | AM14: 107949 | AN14: 295822 | AO14: 0 | AP14: 1858962 | AQ14: 366969 | AR14: 0
E15: （７） 一般管理費等 | H15: 千円 | I15: 82947 | J15: 7550 | K15: 0 | L15: 600 | M15: 0 | N15: 0 | O15: 3695 | P15: 770 | Q15: 0 | R15: 1100 | S15: 0 | T15: 0 | U15: 0 | V15: 0 | W15: 0 | X15: 200 | Y15: 0 | Z15: 0 | AA15: 18382 | AB15: 0 | AC15: 0 | AD15: 13065 | AE15: 0 | AF15: 0 | AG15: 0 | AH15: 0 | AI15: 0 | AJ15: 0 | AK15: 0 | AL15: 0 | AM15: 7154 | AN15: 6100 | AO15: 0 | AP15: 127143 | AQ15: 14420 | AR15: 0
E16: （８） 工事価格 | H16: 千円 | I16: 1567499 | J16: 69047 | K16: 0 | L16: 40000 | M16: 0 | N16: 0 | O16: 25000 | P16: 10420 | Q16: 0 | R16: 6023 | S16: 0 | T16: 0 | U16: 0 | V16: 0 | W16: 0 | X16: 3500 | Y16: 0 | Z16: 0 | AA16: 172680 | AB16: 0 | AC16: 0 | AD16: 56300 | AE16: 0 | AF16: 0 | AG16: 0 | AH16: 0 | AI16: 0 | AJ16: 0 | AK16: 0 | AL16: 0 | AM16: 115103 | AN16: 301922 | AO16: 0 | AP16: 1986105 | AQ16: 381389 | AR16: 0
D17: ８－１．建築工事費 | E17: 1．仮設 | I17: 44939 | J17: 3178 | K17: 0 | L17: 500 | M17: 0 | N17: 0 | O17: 300 | P17: 440 | Q17: 0 | R17: 450 | S17: 0 | T17: 0 | U17: 0 | V17: 0 | W17: 0 | X17: 150 | Y17: 0 | Z17: 0 | AA17: 4050 | AB17: 0 | AC17: 0 | AD17: 1260 | AE17: 0 | AF17: 0 | AG17: 0 | AH17: 0 | AI17: 0 | AJ17: 0 | AK17: 0 | AL17: 0 | AM17: 3891 | AN17: 15940 | AO17: 0 | AP17: 55540 | AQ17: 19558 | AR17: 0
E18: 2．基礎 | I18: 111651 | J18: 5655 | K18: 0 | L18: 2500 | M18: 0 | N18: 0 | O18: 1658 | P18: 1180 | Q18: 0 | R18: 0 | S18: 0 | T18: 0 | U18: 0 | V18: 0 | W18: 0 | X18: 700 | Y18: 0 | Z18: 0 | AA18: 19210 | AB18: 0 | AC18: 0 | AD18: 4300 | AE18: 0 | AF18: 0 | AG18: 0 | AH18: 0 | AI18: 0 | AJ18: 0 | AK18: 0 | AL18: 0 | AM18: 7805 | AN18: 163778 | AO18: 0 | AP18: 147824 | AQ18: 170613 | AR18: 0
E19: 3．木工 | F19: 計 | I19: 419550 | J19: 18266 | K19: 0 | L19: 11000 | M19: 0 | N19: 0 | O19: 3956 | P19: 2030 | Q19: 0 | R19: 3225 | S19: 0 | T19: 0 | U19: 0 | V19: 0 | W19: 0 | X19: 900 | Y19: 0 | Z19: 0 | AA19: 28836 | AB19: 0 | AC19: 0 | AD19: 13150 | AE19: 0 | AF19: 0 | AG19: 0 | AH19: 0 | AI19: 0 | AJ19: 0 | AK19: 0 | AL19: 0 | AM19: 24755 | AN19: 17951 | AO19: 0 | AP19: 505372 | AQ19: 38247 | AR19: 0
G20: ①構造材 | H20: 千円 | I20: 129195.09 | J20: 5139 | K20: 0 | L20: 4000 | M20: 0 | N20: 0 | O20: 1187 | P20: 714 | Q20: 0 | R20: 300 | S20: 0 | T20: 0 | U20: 0 | V20: 0 | W20: 0 | X20: 400 | Y20: 0 | Z20: 0 | AA20: 8840 | AB20: 0 | AC20: 0 | AD20: 3000 | AE20: 0 | AF20: 0 | AG20: 0 | AH20: 0 | AI20: 0 | AJ20: 0 | AK20: 0 | AL20: 0 | AM20: 11143 | AN20: 4236 | AO20: 0 | AP20: 158065.09 | AQ20: 10089 | AR20: 0
G21: ②造作材 | H21: 千円 | I21: 37646.39 | J21: 2250 | K21: 0 | L21: 1500 | M21: 0 | N21: 0 | O21: 198 | P21: 160 | Q21: 0 | R21: 800 | S21: 0 | T21: 0 | U21: 0 | V21: 0 | W21: 0 | X21: 0 | Y21: 0 | Z21: 0 | AA21: 2460 | AB21: 0 | AC21: 0 | AD21: 885 | AE21: 0 | AF21: 0 | AG21: 0 | AH21: 0 | AI21: 0 | AJ21: 0 | AK21: 0 | AL21: 0 | AM21: 947 | AN21: 2321 | AO21: 0 | AP21: 44436.39 | AQ21: 4731 | AR21: 0
G22: ③板材 | H22: 千円 | I22: 20880.01 | J22: 599 | K22: 0 | L22: 500 | M22: 0 | N22: 0 | O22: 198 | P22: 150 | Q22: 0 | R22: 200 | S22: 0 | T22: 0 | U22: 0 | V22: 0 | W22: 0 | X22: 50 | Y22: 0 | Z22: 0 | AA22: 1857 | AB22: 0 | AC22: 0 | AD22: 135 | AE22: 0 | AF22: 0 | AG22: 0 | AH22: 0 | AI22: 0 | AJ22: 0 | AK22: 0 | AL22: 0 | AM22: 113 | AN22: 1484 | AO22: 0 | AP22: 23933.01 | AQ22: 2233 | AR22: 0
G23: ④合版 | H23: 千円 | I23: 19067.6 | J23: 1650 | K23: 0 | L23: 500 | M23: 0 | N23: 0 | O23: 0 | P23: 150 | Q23: 0 | R23: 360 | S23: 0 | T23: 0 | U23: 0 | V23: 0 | W23: 0 | X23: 100 | Y23: 0 | Z23: 0 | AA23: 445 | AB23: 0 | AC23: 0 | AD23: 30 | AE23: 0 | AF23: 0 | AG23: 0 | AH23: 0 | AI23: 0 | AJ23: 0 | AK23: 0 | AL23: 0 | AM23: 1934 | AN23: 723 | AO23: 0 | AP23: 22436.6 | AQ23: 2523 | AR23: 0
G24: ⑤釘・金物 | H24: 千円 | I24: 13147.11 | J24: 1449 | K24: 0 | L24: 300 | M24: 0 | N24: 0 | O24: 0 | P24: 50 | Q24: 0 | R24: 65 | S24: 0 | T24: 0 | U24: 0 | V24: 0 | W24: 0 | X24: 50 | Y24: 0 | Z24: 0 | AA24: 850 | AB24: 0 | AC24: 0 | AD24: 100 | AE24: 0 | AF24: 0 | AG24: 0 | AH24: 0 | AI24: 0 | AJ24: 0 | AK24: 0 | AL24: 0 | AM24: 1124 | AN24: 399 | AO24: 0 | AP24: 15636.11 | AQ24: 1898 | AR24: 0
G25: ⑥大工手間（施工費） | H25: 千円 | I25: 178930.9 | J25: 7029 | K25: 0 | L25: 4000 | M25: 0 | N25: 0 | O25: 2373 | P25: 760 | Q25: 0 | R25: 1500 | S25: 0 | T25: 0 | U25: 0 | V25: 0 | W25: 0 | X25: 300 | Y25: 0 | Z25: 0 | AA25: 10440 | AB25: 0 | AC25: 0 | AD25: 9000 | AE25: 0 | AF25: 0 | AG25: 0 | AH25: 0 | AI25: 0 | AJ25: 0 | AK25: 0 | AL25: 0 | AM25: 9484 | AN25: 6720 | AO25: 0 | AP25: 216027.9 | AQ25: 14509 | AR25: 0
G26: ⑦上記以外の木工 | H26: 千円 | I26: 20682.9 | J26: 150 | K26: 0 | L26: 200 | M26: 0 | N26: 0 | O26: 0 | P26: 46 | Q26: 0 | R26: 0 | S26: 0 | T26: 0 | U26: 0 | V26: 0 | W26: 0 | X26: 0 | Y26: 0 | Z26: 0 | AA26: 3944 | AB26: 0 | AC26: 0 | AD26: 0 | AE26: 0 | AF26: 0 | AG26: 0 | AH26: 0 | AI26: 0 | AJ26: 0 | AK26: 0 | AL26: 0 | AM26: 10 | AN26: 2068 | AO26: 0 | AP26: 24836.9 | AQ26: 2264 | AR26: 0
E27: 4．屋根 | F27: 計 | I27: 67946 | J27: 4053 | K27: 0 | L27: 1500 | M27: 0 | N27: 0 | O27: 949 | P27: 610 | Q27: 0 | R27: 65 | S27: 0 | T27: 0 | U27: 0 | V27: 0 | W27: 0 | X27: 800 | Y27: 0 | Z27: 0 | AA27: 6353 | AB27: 0 | AC27: 0 | AD27: 2000 | AE27: 0 | AF27: 0 | AG27: 0 | AH27: 0 | AI27: 0 | AJ27: 0 | AK27: 0 | AL27: 0 | AM27: 4027 | AN27: 0 | AO27: 0 | AP27: 83640 | AQ27: 4663 | AR27: 0
G28: ①瓦 | H28: 千円 | I28: 15835 | J28: 655 | K28: 0 | L28: 0 | M28: 0 | N28: 0 | O28: 0 | P28: 0 | Q28: 0 | R28: 30 | S28: 0 | T28: 0 | U28: 0 | V28: 0 | W28: 0 | X28: 800 | Y28: 0 | Z28: 0 | AA28: 0 | AB28: 0 | AC28: 0 | AD28: 0 | AE28: 0 | AF28: 0 | AG28: 0 | AH28: 0 | AI28: 0 | AJ28: 0 | AK28: 0 | AL28: 0 | AM28: 0 | AN28: 0 | AO28: 0 | AP28: 16665 | AQ28: 655 | AR28: 0
G29: ②セメント瓦 | H29: 千円 | I29: 604 | J29: 0 | K29: 0 | L29: 0 | M29: 0 | N29: 0 | O29: 0 | P29: 0 | Q29: 0 | R29: 0 | S29: 0 | T29: 0 | U29: 0 | V29: 0 | W29: 0 | X29: 0 | Y29: 0 | Z29: 0 | AA29: 0 | AB29: 0 | AC29: 0 | AD29: 0 | AE29: 0 | AF29: 0 | AG29: 0 | AH29: 0 | AI29: 0 | AJ29: 0 | AK29: 0 | AL29: 0 | AM29: 0 | AN29: 0 | AO29: 0 | AP29: 604 | AQ29: 0 | AR29: 0
G30: ③金属板葺き | H30: 千円 | I30: 33618 | J30: 2123 | K30: 0 | L30: 1200 | M30: 0 | N30: 0 | O30: 921 | P30: 610 | Q30: 0 | R30: 0 | S30: 0 | T30: 0 | U30: 0 | V30: 0 | W30: 0 | X30: 0 | Y30: 0 | Z30: 0 | AA30: 5950 | AB30: 0 | AC30: 0 | AD30: 1760 | AE30: 0 | AF30: 0 | AG30: 0 | AH30: 0 | AI30: 0 | AJ30: 0 | AK30: 0 | AL30: 0 | AM30: 916 | AN30: 0 | AO30: 0 | AP30: 44365 | AQ30: 2733 | AR30: 0
G31: ④化粧スレート | H31: 千円 | I31: 3123.9 | J31: 840 | K31: 0 | L31: 0 | M31: 0 | N31: 0 | O31: 0 | P31: 0 | Q31: 0 | R31: 0 | S31: 0 | T31: 0 | U31: 0 | V31: 0 | W31: 0 | X31: 0 | Y31: 0 | Z31: 0 | AA31: 0 | AB31: 0 | AC31: 0 | AD31: 0 | AE31: 0 | AF31: 0 | AG31: 0 | AH31: 0 | AI31: 0 | AJ31: 0 | AK31: 0 | AL31: 0 | AM31: 2289 | AN31: 0 | AO31: 0 | AP31: 5412.9 | AQ31: 840 | AR31: 0
G32: ⑤雨どい | H32: 千円 | I32: 10460.1 | J32: 435 | K32: 0 | L32: 200 | M32: 0 | N32: 0 | O32: 28 | P32: 0 | Q32: 0 | R32: 0 | S32: 0 | T32: 0 | U32: 0 | V32: 0 | W32: 0 | X32: 0 | Y32: 0 | Z32: 0 | AA32: 403 | AB32: 0 | AC32: 0 | AD32: 240 | AE32: 0 | AF32: 0 | AG32: 0 | AH32: 0 | AI32: 0 | AJ32: 0 | AK32: 0 | AL32: 0 | AM32: 822 | AN32: 0 | AO32: 0 | AP32: 12153.1 | AQ32: 435 | AR32: 0
G33: ⑥上記以外の屋根 | H33: 千円 | I33: 4305 | J33: 0 | K33: 0 | L33: 100 | M33: 0 | N33: 0 | O33: 0 | P33: 0 | Q33: 0 | R33: 35 | S33: 0 | T33: 0 | U33: 0 | V33: 0 | W33: 0 | X33: 0 | Y33: 0 | Z33: 0 | AA33: 0 | AB33: 0 | AC33: 0 | AD33: 0 | AE33: 0 | AF33: 0 | AG33: 0 | AH33: 0 | AI33: 0 | AJ33: 0 | AK33: 0 | AL33: 0 | AM33: 0 | AN33: 0 | AO33: 0 | AP33: 4440 | AQ33: 0 | AR33: 0
E34: 5．金属製建具 | F34: 計 | I34: 84739 | J34: 5530 | K34: 0 | L34: 2000 | M34: 0 | N34: 0 | O34: 2840 | P34: 560 | Q34: 0 | R34: 0 | S34: 0 | T34: 0 | U34: 0 | V34: 0 | W34: 0 | X34: 250 | Y34: 0 | Z34: 0 | AA34: 12012 | AB34: 0 | AC34: 0 | AD34: 3340 | AE34: 0 | AF34: 0 | AG34: 0 | AH34: 0 | AI34: 0 | AJ34: 0 | AK34: 0 | AL34: 0 | AM34: 4760 | AN34: 4201 | AO34: 0 | AP34: 109941 | AQ34: 10291 | AR34: 0
G35: ①アルミニウム製建具 | H35: 千円 | I35: 54383.3 | J35: 3040 | K35: 0 | L35: 1800 | M35: 0 | N35: 0 | O35: 2840 | P35: 210 | Q35: 0 | R35: 0 | S35: 0 | T35: 0 | U35: 0 | V35: 0 | W35: 0 | X35: 100 | Y35: 0 | Z35: 0 | AA35: 7552 | AB35: 0 | AC35: 0 | AD35: 2790 | AE35: 0 | AF35: 0 | AG35: 0 | AH35: 0 | AI35: 0 | AJ35: 0 | AK35: 0 | AL35: 0 | AM35: 4335 | AN35: 1601 | AO35: 0 | AP35: 73800.3 | AQ35: 4851 | AR35: 0
G36: ②鋼製建具 | H36: 千円 | I36: 9438 | J36: 350 | K36: 0 | L36: 200 | M36: 0 | N36: 0 | O36: 0 | P36: 0 | Q36: 0 | R36: 0 | S36: 0 | T36: 0 | U36: 0 | V36: 0 | W36: 0 | X36: 0 | Y36: 0 | Z36: 0 | AA36: 3200 | AB36: 0 | AC36: 0 | AD36: 500 | AE36: 0 | AF36: 0 | AG36: 0 | AH36: 0 | AI36: 0 | AJ36: 0 | AK36: 0 | AL36: 0 | AM36: 0 | AN36: 2600 | AO36: 0 | AP36: 13338 | AQ36: 2950 | AR36: 0
G37: ③ステンレス製建具 | H37: 千円 | I37: 1617 | J37: 0 | K37: 0 | L37: 0 | M37: 0 | N37: 0 | O37: 0 | P37: 0 | Q37: 0 | R37: 0 | S37: 0 | T37: 0 | U37: 0 | V37: 0 | W37: 0 | X37: 0 | Y37: 0 | Z37: 0 | AA37: 0 | AB37: 0 | AC37: 0 | AD37: 0 | AE37: 0 | AF37: 0 | AG37: 0 | AH37: 0 | AI37: 0 | AJ37: 0 | AK37: 0 | AL37: 0 | AM37: 0 | AN37: 0 | AO37: 0 | AP37: 1617 | AQ37: 0 | AR37: 0
G38: ④金属製玄関ドア | H38: 千円 | I38: 8887.8 | J38: 810 | K38: 0 | L38: 0 | M38: 0 | N38: 0 | O38: 0 | P38: 0 | Q38: 0 | R38: 0 | S38: 0 | T38: 0 | U38: 0 | V38: 0 | W38: 0 | X38: 0 | Y38: 0 | Z38: 0 | AA38: 780 | AB38: 0 | AC38: 0 | AD38: 0 | AE38: 0 | AF38: 0 | AG38: 0 | AH38: 0 | AI38: 0 | AJ38: 0 | AK38: 0 | AL38: 0 | AM38: 425 | AN38: 0 | AO38: 0 | AP38: 10092.8 | AQ38: 810 | AR38: 0
G39: ⑤雨戸・シャッター | H39: 千円 | I39: 1647.95 | J39: 790 | K39: 0 | L39: 0 | M39: 0 | N39: 0 | O39: 0 | P39: 0 | Q39: 0 | R39: 0 | S39: 0 | T39: 0 | U39: 0 | V39: 0 | W39: 0 | X39: 150 | Y39: 0 | Z39: 0 | AA39: 0 | AB39: 0 | AC39: 0 | AD39: 0 | AE39: 0 | AF39: 0 | AG39: 0 | AH39: 0 | AI39: 0 | AJ39: 0 | AK39: 0 | AL39: 0 | AM39: 0 | AN39: 0 | AO39: 0 | AP39: 1797.95 | AQ39: 790 | AR39: 0
G40: ⑥上記以外の金属建具 | H40: 千円 | I40: 8764.95 | J40: 540 | K40: 0 | L40: 0 | M40: 0 | N40: 0 | O40: 0 | P40: 350 | Q40: 0 | R40: 0 | S40: 0 | T40: 0 | U40: 0 | V40: 0 | W40: 0 | X40: 0 | Y40: 0 | Z40: 0 | AA40: 480 | AB40: 0 | AC40: 0 | AD40: 50 | AE40: 0 | AF40: 0 | AG40: 0 | AH40: 0 | AI40: 0 | AJ40: 0 | AK40: 0 | AL40: 0 | AM40: 0 | AN40: 0 | AO40: 0 | AP40: 9294.95 | AQ40: 890 | AR40: 0
E41: 6．木製建具 | F41: 計 | I41: 53464 | J41: 1324 | K41: 0 | L41: 800 | M41: 0 | N41: 0 | O41: 376 | P41: 540 | Q41: 0 | R41: 283 | S41: 0 | T41: 0 | U41: 0 | V41: 0 | W41: 0 | X41: 0 | Y41: 0 | Z41: 0 | AA41: 7022 | AB41: 0 | AC41: 0 | AD41: 2020 | AE41: 0 | AF41: 0 | AG41: 0 | AH41: 0 | AI41: 0 | AJ41: 0 | AK41: 0 | AL41: 0 | AM41: 2367 | AN41: 1941 | AO41: 0 | AP41: 66332 | AQ41: 3805 | AR41: 0
G42: ①木製ドア | H42: 千円 | I42: 34498.08 | J42: 714 | K42: 0 | L42: 800 | M42: 0 | N42: 0 | O42: 376 | P42: 440 | Q42: 0 | R42: 50 | S42: 0 | T42: 0 | U42: 0 | V42: 0 | W42: 0 | X42: 0 | Y42: 0 | Z42: 0 | AA42: 5822 | AB42: 0 | AC42: 0 | AD42: 1500 | AE42: 0 | AF42: 0 | AG42: 0 | AH42: 0 | AI42: 0 | AJ42: 0 | AK42: 0 | AL42: 0 | AM42: 1357 | AN42: 1050 | AO42: 0 | AP42: 44403.08 | AQ42: 2204 | AR42: 0
G43: ②木製玄関ドア | H43: 千円 | I43: 1453 | J43: 0 | K43: 0 | L43: 0 | M43: 0 | N43: 0 | O43: 0 | P43: 0 | Q43: 0 | R43: 185 | S43: 0 | T43: 0 | U43: 0 | V43: 0 | W43: 0 | X43: 0 | Y43: 0 | Z43: 0 | AA43: 0 | AB43: 0 | AC43: 0 | AD43: 0 | AE43: 0 | AF43: 0 | AG43: 0 | AH43: 0 | AI43: 0 | AJ43: 0 | AK43: 0 | AL43: 0 | AM43: 404 | AN43: 0 | AO43: 0 | AP43: 2042 | AQ43: 0 | AR43: 0
G44: ③ふすま | H44: 千円 | I44: 3206 | J44: 0 | K44: 0 | L44: 0 | M44: 0 | N44: 0 | O44: 0 | P44: 0 | Q44: 0 | R44: 30 | S44: 0 | T44: 0 | U44: 0 | V44: 0 | W44: 0 | X44: 0 | Y44: 0 | Z44: 0 | AA44: 0 | AB44: 0 | AC44: 0 | AD44: 0 | AE44: 0 | AF44: 0 | AG44: 0 | AH44: 0 | AI44: 0 | AJ44: 0 | AK44: 0 | AL44: 0 | AM44: 0 | AN44: 0 | AO44: 0 | AP44: 3236 | AQ44: 0 | AR44: 0
G45: ④障子 | H45: 千円 | I45: 2285 | J45: 60 | K45: 0 | L45: 0 | M45: 0 | N45: 0 | O45: 0 | P45: 0 | Q45: 0 | R45: 13 | S45: 0 | T45: 0 | U45: 0 | V45: 0 | W45: 0 | X45: 0 | Y45: 0 | Z45: 0 | AA45: 0 | AB45: 0 | AC45: 0 | AD45: 0 | AE45: 0 | AF45: 0 | AG45: 0 | AH45: 0 | AI45: 0 | AJ45: 0 | AK45: 0 | AL45: 0 | AM45: 0 | AN45: 0 | AO45: 0 | AP45: 2298 | AQ45: 60 | AR45: 0
G46: ⑤木製建具金物 | H46: 千円 | I46: 1657 | J46: 450 | K46: 0 | L46: 0 | M46: 0 | N46: 0 | O46: 0 | P46: 100 | Q46: 0 | R46: 5 | S46: 0 | T46: 0 | U46: 0 | V46: 0 | W46: 0 | X46: 0 | Y46: 0 | Z46: 0 | AA46: 200 | AB46: 0 | AC46: 0 | AD46: 0 | AE46: 0 | AF46: 0 | AG46: 0 | AH46: 0 | AI46: 0 | AJ46: 0 | AK46: 0 | AL46: 0 | AM46: 404 | AN46: 0 | AO46: 0 | AP46: 2266 | AQ46: 550 | AR46: 0
G47: ⑥上記以外の木製建具 | H47: 千円 | I47: 10364.92 | J47: 100 | K47: 0 | L47: 0 | M47: 0 | N47: 0 | O47: 0 | P47: 0 | Q47: 0 | R47: 0 | S47: 0 | T47: 0 | U47: 0 | V47: 0 | W47: 0 | X47: 0 | Y47: 0 | Z47: 0 | AA47: 1000 | AB47: 0 | AC47: 0 | AD47: 520 | AE47: 0 | AF47: 0 | AG47: 0 | AH47: 0 | AI47: 0 | AJ47: 0 | AK47: 0 | AL47: 0 | AM47: 202 | AN47: 891 | AO47: 0 | AP47: 12086.92 | AQ47: 991 | AR47: 0
E48: 7．ガラス | I48: 4381 | J48: 180 | K48: 0 | L48: 100 | M48: 0 | N48: 0 | O48: 0 | P48: 70 | Q48: 0 | R48: 0 | S48: 0 | T48: 0 | U48: 0 | V48: 0 | W48: 0 | X48: 0 | Y48: 0 | Z48: 0 | AA48: 1850 | AB48: 0 | AC48: 0 | AD48: 550 | AE48: 0 | AF48: 0 | AG48: 0 | AH48: 0 | AI48: 0 | AJ48: 0 | AK48: 0 | AL48: 0 | AM48: 816 | AN48: 0 | AO48: 0 | AP48: 7697 | AQ48: 250 | AR48: 0
E49: 8．防水 | I49: 7239 | J49: 145 | K49: 0 | L49: 300 | M49: 0 | N49: 0 | O49: 0 | P49: 110 | Q49: 0 | R49: 0 | S49: 0 | T49: 0 | U49: 0 | V49: 0 | W49: 0 | X49: 0 | Y49: 0 | Z49: 0 | AA49: 365 | AB49: 0 | AC49: 0 | AD49: 115 | AE49: 0 | AF49: 0 | AG49: 0 | AH49: 0 | AI49: 0 | AJ49: 0 | AK49: 0 | AL49: 0 | AM49: 995 | AN49: 30150 | AO49: 0 | AP49: 9014 | AQ49: 30405 | AR49: 0
E50: 9．石 | I50: 201 | J50: 120 | K50: 0 | L50: 0 | M50: 0 | N50: 0 | O50: 0 | P50: 0 | Q50: 0 | R50: 0 | S50: 0 | T50: 0 | U50: 0 | V50: 0 | W50: 0 | X50: 0 | Y50: 0 | Z50: 0 | AA50: 120 | AB50: 0 | AC50: 0 | AD50: 0 | AE50: 0 | AF50: 0 | AG50: 0 | AH50: 0 | AI50: 0 | AJ50: 0 | AK50: 0 | AL50: 0 | AM50: 0 | AN50: 0 | AO50: 0 | AP50: 321 | AQ50: 120 | AR50: 0
E51: 10．タイル | I51: 8968 | J51: 506 | K51: 0 | L51: 300 | M51: 0 | N51: 0 | O51: 177 | P51: 150 | Q51: 0 | R51: 0 | S51: 0 | T51: 0 | U51: 0 | V51: 0 | W51: 0 | X51: 0 | Y51: 0 | Z51: 0 | AA51: 717 | AB51: 0 | AC51: 0 | AD51: 1900 | AE51: 0 | AF51: 0 | AG51: 0 | AH51: 0 | AI51: 0 | AJ51: 0 | AK51: 0 | AL51: 0 | AM51: 1623 | AN51: 0 | AO51: 0 | AP51: 13685 | AQ51: 656 | AR51: 0
E52: 11．金属 | I52: 2275 | J52: 80 | K52: 0 | L52: 200 | M52: 0 | N52: 0 | O52: 0 | P52: 300 | Q52: 0 | R52: 0 | S52: 0 | T52: 0 | U52: 0 | V52: 0 | W52: 0 | X52: 0 | Y52: 0 | Z52: 0 | AA52: 940 | AB52: 0 | AC52: 0 | AD52: 630 | AE52: 0 | AF52: 0 | AG52: 0 | AH52: 0 | AI52: 0 | AJ52: 0 | AK52: 0 | AL52: 0 | AM52: 1082 | AN52: 5664 | AO52: 0 | AP52: 5127 | AQ52: 6044 | AR52: 0
E53: 12．左官 | I53: 13543 | J53: 535 | K53: 0 | L53: 300 | M53: 0 | N53: 0 | O53: 145 | P53: 200 | Q53: 0 | R53: 45 | S53: 0 | T53: 0 | U53: 0 | V53: 0 | W53: 0 | X53: 0 | Y53: 0 | Z53: 0 | AA53: 828 | AB53: 0 | AC53: 0 | AD53: 90 | AE53: 0 | AF53: 0 | AG53: 0 | AH53: 0 | AI53: 0 | AJ53: 0 | AK53: 0 | AL53: 0 | AM53: 1237 | AN53: 3850 | AO53: 0 | AP53: 16188 | AQ53: 4585 | AR53: 0
E54: 13．塗装 | I54: 13003 | J54: 437 | K54: 0 | L54: 500 | M54: 0 | N54: 0 | O54: 95 | P54: 0 | Q54: 0 | R54: 180 | S54: 0 | T54: 0 | U54: 0 | V54: 0 | W54: 0 | X54: 0 | Y54: 0 | Z54: 0 | AA54: 1590 | AB54: 0 | AC54: 0 | AD54: 260 | AE54: 0 | AF54: 0 | AG54: 0 | AH54: 0 | AI54: 0 | AJ54: 0 | AK54: 0 | AL54: 0 | AM54: 960 | AN54: 160 | AO54: 0 | AP54: 16588 | AQ54: 597 | AR54: 0
E55: 14．内外装 | F55: 計 | I55: 205412 | J55: 7954 | K55: 0 | L55: 2500 | M55: 0 | N55: 0 | O55: 2003 | P55: 1530 | Q55: 0 | R55: 25 | S55: 0 | T55: 0 | U55: 0 | V55: 0 | W55: 0 | X55: 200 | Y55: 0 | Z55: 0 | AA55: 12020 | AB55: 0 | AC55: 0 | AD55: 4060 | AE55: 0 | AF55: 0 | AG55: 0 | AH55: 0 | AI55: 0 | AJ55: 0 | AK55: 0 | AL55: 0 | AM55: 8978 | AN55: 5990 | AO55: 0 | AP55: 235198 | AQ55: 15474 | AR55: 0
G56: ①畳 | H56: 千円 | I56: 5061 | J56: 120 | K56: 0 | L56: 400 | M56: 0 | N56: 0 | O56: 40 | P56: 0 | Q56: 0 | R56: 25 | S56: 0 | T56: 0 | U56: 0 | V56: 0 | W56: 0 | X56: 0 | Y56: 0 | Z56: 0 | AA56: 336 | AB56: 0 | AC56: 0 | AD56: 0 | AE56: 0 | AF56: 0 | AG56: 0 | AH56: 0 | AI56: 0 | AJ56: 0 | AK56: 0 | AL56: 0 | AM56: 200 | AN56: 0 | AO56: 0 | AP56: 6062 | AQ56: 120 | AR56: 0
G57: ②カーペット | H57: 千円 | I57: 33 | J57: 0 | K57: 0 | L57: 0 | M57: 0 | N57: 0 | O57: 0 | P57: 250 | Q57: 0 | R57: 0 | S57: 0 | T57: 0 | U57: 0 | V57: 0 | W57: 0 | X57: 0 | Y57: 0 | Z57: 0 | AA57: 38 | AB57: 0 | AC57: 0 | AD57: 0 | AE57: 0 | AF57: 0 | AG57: 0 | AH57: 0 | AI57: 0 | AJ57: 0 | AK57: 0 | AL57: 0 | AM57: 0 | AN57: 0 | AO57: 0 | AP57: 71 | AQ57: 250 | AR57: 0
G58: ③フローリング | H58: 千円 | I58: 24029 | J58: 295 | K58: 0 | L58: 0 | M58: 0 | N58: 0 | O58: 0 | P58: 120 | Q58: 0 | R58: 0 | S58: 0 | T58: 0 | U58: 0 | V58: 0 | W58: 0 | X58: 0 | Y58: 0 | Z58: 0 | AA58: 3118 | AB58: 0 | AC58: 0 | AD58: 0 | AE58: 0 | AF58: 0 | AG58: 0 | AH58: 0 | AI58: 0 | AJ58: 0 | AK58: 0 | AL58: 0 | AM58: 0 | AN58: 0 | AO58: 0 | AP58: 27147 | AQ58: 415 | AR58: 0
G59: ④ビニル床タイル | H59: 千円 | I59: 134 | J59: 0 | K59: 0 | L59: 0 | M59: 0 | N59: 0 | O59: 0 | P59: 0 | Q59: 0 | R59: 0 | S59: 0 | T59: 0 | U59: 0 | V59: 0 | W59: 0 | X59: 0 | Y59: 0 | Z59: 0 | AA59: 0 | AB59: 0 | AC59: 0 | AD59: 0 | AE59: 0 | AF59: 0 | AG59: 0 | AH59: 0 | AI59: 0 | AJ59: 0 | AK59: 0 | AL59: 0 | AM59: 0 | AN59: 0 | AO59: 0 | AP59: 134 | AQ59: 0 | AR59: 0
G60: ⑤ビニル床シート | H60: 千円 | I60: 564 | J60: 38 | K60: 0 | L60: 0 | M60: 0 | N60: 0 | O60: 401 | P60: 16 | Q60: 0 | R60: 0 | S60: 0 | T60: 0 | U60: 0 | V60: 0 | W60: 0 | X60: 0 | Y60: 0 | Z60: 0 | AA60: 58 | AB60: 0 | AC60: 0 | AD60: 860 | AE60: 0 | AF60: 0 | AG60: 0 | AH60: 0 | AI60: 0 | AJ60: 0 | AK60: 0 | AL60: 0 | AM60: 1198 | AN60: 0 | AO60: 0 | AP60: 3081 | AQ60: 54 | AR60: 0
G61: ⑥化粧合板 | H61: 千円 | I61: 1345 | J61: 80 | K61: 0 | L61: 0 | M61: 0 | N61: 0 | O61: 0 | P61: 0 | Q61: 0 | R61: 0 | S61: 0 | T61: 0 | U61: 0 | V61: 0 | W61: 0 | X61: 0 | Y61: 0 | Z61: 0 | AA61: 150 | AB61: 0 | AC61: 0 | AD61: 0 | AE61: 0 | AF61: 0 | AG61: 0 | AH61: 0 | AI61: 0 | AJ61: 0 | AK61: 0 | AL61: 0 | AM61: 70 | AN61: 0 | AO61: 0 | AP61: 1565 | AQ61: 80 | AR61: 0
G62: ⑦石こうボード | H62: 千円 | I62: 8960 | J62: 135 | K62: 0 | L62: 300 | M62: 0 | N62: 0 | O62: 200 | P62: 216 | Q62: 0 | R62: 0 | S62: 0 | T62: 0 | U62: 0 | V62: 0 | W62: 0 | X62: 0 | Y62: 0 | Z62: 0 | AA62: 383 | AB62: 0 | AC62: 0 | AD62: 0 | AE62: 0 | AF62: 0 | AG62: 0 | AH62: 0 | AI62: 0 | AJ62: 0 | AK62: 0 | AL62: 0 | AM62: 543 | AN62: 0 | AO62: 0 | AP62: 10386 | AQ62: 351 | AR62: 0
G63: ⑧ケイ酸カルシウム板 | H63: 千円 | I63: 2308 | J63: 135 | K63: 0 | L63: 0 | M63: 0 | N63: 0 | O63: 40 | P63: 42 | Q63: 0 | R63: 0 | S63: 0 | T63: 0 | U63: 0 | V63: 0 | W63: 0 | X63: 0 | Y63: 0 | Z63: 0 | AA63: 80 | AB63: 0 | AC63: 0 | AD63: 0 | AE63: 0 | AF63: 0 | AG63: 0 | AH63: 0 | AI63: 0 | AJ63: 0 | AK63: 0 | AL63: 0 | AM63: 0 | AN63: 0 | AO63: 0 | AP63: 2428 | AQ63: 177 | AR63: 0
G64: ⑨木毛セメント板 | H64: 千円 | I64: 18 | J64: 40 | K64: 0 | L64: 0 | M64: 0 | N64: 0 | O64: 0 | P64: 0 | Q64: 0 | R64: 0 | S64: 0 | T64: 0 | U64: 0 | V64: 0 | W64: 0 | X64: 0 | Y64: 0 | Z64: 0 | AA64: 0 | AB64: 0 | AC64: 0 | AD64: 0 | AE64: 0 | AF64: 0 | AG64: 0 | AH64: 0 | AI64: 0 | AJ64: 0 | AK64: 0 | AL64: 0 | AM64: 0 | AN64: 0 | AO64: 0 | AP64: 18 | AQ64: 40 | AR64: 0
G65: ⑩壁紙・ビニルクロス張り | H65: 千円 | I65: 34879 | J65: 1469 | K65: 0 | L65: 0 | M65: 0 | N65: 0 | O65: 120 | P65: 113 | Q65: 0 | R65: 0 | S65: 0 | T65: 0 | U65: 0 | V65: 0 | W65: 0 | X65: 0 | Y65: 0 | Z65: 0 | AA65: 0 | AB65: 0 | AC65: 0 | AD65: 1300 | AE65: 0 | AF65: 0 | AG65: 0 | AH65: 0 | AI65: 0 | AJ65: 0 | AK65: 0 | AL65: 0 | AM65: 1254 | AN65: 1140 | AO65: 0 | AP65: 37553 | AQ65: 2722 | AR65: 0
G66: ⑪ロックウール吸音板 | H66: 千円 | I66: 1054 | J66: 0 | K66: 0 | L66: 0 | M66: 0 | N66: 0 | O66: 0 | P66: 0 | Q66: 0 | R66: 0 | S66: 0 | T66: 0 | U66: 0 | V66: 0 | W66: 0 | X66: 0 | Y66: 0 | Z66: 0 | AA66: 1328 | AB66: 0 | AC66: 0 | AD66: 0 | AE66: 0 | AF66: 0 | AG66: 0 | AH66: 0 | AI66: 0 | AJ66: 0 | AK66: 0 | AL66: 0 | AM66: 0 | AN66: 0 | AO66: 0 | AP66: 2382 | AQ66: 0 | AR66: 0
G67: ⑫サイディング（窯業系） | H67: 千円 | I67: 36674 | J67: 3138 | K67: 0 | L67: 1500 | M67: 0 | N67: 0 | O67: 0 | P67: 530 | Q67: 0 | R67: 0 | S67: 0 | T67: 0 | U67: 0 | V67: 0 | W67: 0 | X67: 200 | Y67: 0 | Z67: 0 | AA67: 5400 | AB67: 0 | AC67: 0 | AD67: 0 | AE67: 0 | AF67: 0 | AG67: 0 | AH67: 0 | AI67: 0 | AJ67: 0 | AK67: 0 | AL67: 0 | AM67: 4475 | AN67: 0 | AO67: 0 | AP67: 48249 | AQ67: 3668 | AR67: 0
... G73: ⑱上記以外の内外装 | H73: 千円 | I73: 14831 | J73: 766 | K73: 0 | L73: 0 | M73: 0 | N73: 0 | O73: 0 | P73: 94 | Q73: 0 | R73: 0 | S73: 0 | T73: 0 | U73: 0 | V73: 0 | W73: 0 | X73: 0 | Y73: 0 | Z73: 0 | AA73: 165 | AB73: 0 | AC73: 0 | AD73: 0 | AE73: 0 | AF73: 0 | AG73: 0 | AH73: 0 | AI73: 0 | AJ73: 0 | AK73: 0 | AL73: 0 | AM73: 0 | AN73: 4850 | AO73: 0 | AP73: 14996 | AQ73: 5710 | AR73: 0
E74: 15．仕上ユニット | F74: 計 | I74: 112754 | J74: 3285 | K74: 0 | L74: 3600 | M74: 0 | N74: 0 | O74: 247 | P74: 180 | Q74: 0 | R74: 0 | S74: 0 | T74: 0 | U74: 0 | V74: 0 | W74: 0 | X74: 0 | Y74: 0 | Z74: 0 | AA74: 6664 | AB74: 0 | AC74: 0 | AD74: 2810 | AE74: 0 | AF74: 0 | AG74: 0 | AH74: 0 | AI74: 0 | AJ74: 0 | AK74: 0 | AL74: 0 | AM74: 6793 | AN74: 2302 | AO74: 0 | AP74: 132868 | AQ74: 5767 | AR74: 0
G75: ①収納ユニット | H75: 千円 | I75: 4039 | J75: 245 | K75: 0 | L75: 500 | M75: 0 | N75: 0 | O75: 37 | P75: 0 | Q75: 0 | R75: 0 | S75: 0 | T75: 0 | U75: 0 | V75: 0 | W75: 0 | X75: 0 | Y75: 0 | Z75: 0 | AA75: 914 | AB75: 0 | AC75: 0 | AD75: 0 | AE75: 0 | AF75: 0 | AG75: 0 | AH75: 0 | AI75: 0 | AJ75: 0 | AK75: 0 | AL75: 0 | AM75: 195 | AN75: 0 | AO75: 0 | AP75: 5685 | AQ75: 245 | AR75: 0
G76: ②造作家具 | H76: 千円 | I76: 4600.04 | J76: 0 | K76: 0 | L76: 0 | M76: 0 | N76: 0 | O76: 74 | P76: 0 | Q76: 0 | R76: 0 | S76: 0 | T76: 0 | U76: 0 | V76: 0 | W76: 0 | X76: 0 | Y76: 0 | Z76: 0 | AA76: 2362 | AB76: 0 | AC76: 0 | AD76: 1500 | AE76: 0 | AF76: 0 | AG76: 0 | AH76: 0 | AI76: 0 | AJ76: 0 | AK76: 0 | AL76: 0 | AM76: 474 | AN76: 987 | AO76: 0 | AP76: 9010.04 | AQ76: 987 | AR76: 0
G77: ③下足入れ | H77: 千円 | I77: 3170.28 | J77: 66 | K77: 0 | L77: 100 | M77: 0 | N77: 0 | O77: 12 | P77: 0 | Q77: 0 | R77: 0 | S77: 0 | T77: 0 | U77: 0 | V77: 0 | W77: 0 | X77: 0 | Y77: 0 | Z77: 0 | AA77: 1069 | AB77: 0 | AC77: 0 | AD77: 0 | AE77: 0 | AF77: 0 | AG77: 0 | AH77: 0 | AI77: 0 | AJ77: 0 | AK77: 0 | AL77: 0 | AM77: 311 | AN77: 0 | AO77: 0 | AP77: 4662.28 | AQ77: 66 | AR77: 0
G78: ④キッチンユニット | H78: 千円 | I78: 43462.56 | J78: 1220 | K78: 0 | L78: 1000 | M78: 0 | N78: 0 | O78: 62 | P78: 0 | Q78: 0 | R78: 0 | S78: 0 | T78: 0 | U78: 0 | V78: 0 | W78: 0 | X78: 0 | Y78: 0 | Z78: 0 | AA78: 732 | AB78: 0 | AC78: 0 | AD78: 800 | AE78: 0 | AF78: 0 | AG78: 0 | AH78: 0 | AI78: 0 | AJ78: 0 | AK78: 0 | AL78: 0 | AM78: 3977 | AN78: 0 | AO78: 0 | AP78: 50033.56 | AQ78: 1220 | AR78: 0
G79: ⑤ユニットバス | H79: 千円 | I79: 35498.64 | J79: 1566 | K79: 0 | L79: 1000 | M79: 0 | N79: 0 | O79: 0 | P79: 0 | Q79: 0 | R79: 0 | S79: 0 | T79: 0 | U79: 0 | V79: 0 | W79: 0 | X79: 0 | Y79: 0 | Z79: 0 | AA79: 396 | AB79: 0 | AC79: 0 | AD79: 0 | AE79: 0 | AF79: 0 | AG79: 0 | AH79: 0 | AI79: 0 | AJ79: 0 | AK79: 0 | AL79: 0 | AM79: 0 | AN79: 0 | AO79: 0 | AP79: 36894.64 | AQ79: 1566 | AR79: 0
G80: ⑥浴槽 | H80: 千円 | I80: 1480.16 | J80: 0 | K80: 0 | L80: 0 | M80: 0 | N80: 0 | O80: 0 | P80: 0 | Q80: 0 | R80: 0 | S80: 0 | T80: 0 | U80: 0 | V80: 0 | W80: 0 | X80: 0 | Y80: 0 | Z80: 0 | AA80: 0 | AB80: 0 | AC80: 0 | AD80: 0 | AE80: 0 | AF80: 0 | AG80: 0 | AH80: 0 | AI80: 0 | AJ80: 0 | AK80: 0 | AL80: 0 | AM80: 1428 | AN80: 0 | AO80: 0 | AP80: 2908.16 | AQ80: 0 | AR80: 0
G81: ⑦洗面化粧台 | H81: 千円 | I81: 7767.48 | J81: 68 | K81: 0 | L81: 150 | M81: 0 | N81: 0 | O81: 0 | P81: 0 | Q81: 0 | R81: 0 | S81: 0 | T81: 0 | U81: 0 | V81: 0 | W81: 0 | X81: 0 | Y81: 0 | Z81: 0 | AA81: 92 | AB81: 0 | AC81: 0 | AD81: 0 | AE81: 0 | AF81: 0 | AG81: 0 | AH81: 0 | AI81: 0 | AJ81: 0 | AK81: 0 | AL81: 0 | AM81: 308 | AN81: 0 | AO81: 0 | AP81: 8317.48 | AQ81: 68 | AR81: 0
G82: ⑧ベランダユニット | H82: 千円 | I82: 580 | J82: 0 | K82: 0 | L82: 0 | M82: 0 | N82: 0 | O82: 0 | P82: 0 | Q82: 0 | R82: 0 | S82: 0 | T82: 0 | U82: 0 | V82: 0 | W82: 0 | X82: 0 | Y82: 0 | Z82: 0 | AA82: 0 | AB82: 0 | AC82: 0 | AD82: 0 | AE82: 0 | AF82: 0 | AG82: 0 | AH82: 0 | AI82: 0 | AJ82: 0 | AK82: 0 | AL82: 0 | AM82: 0 | AN82: 0 | AO82: 0 | AP82: 580 | AQ82: 0 | AR82: 0
G83: ⑨天井収納ハシゴ | H83: 千円 | I83: 252 | J83: 0 | K83: 0 | L83: 150 | M83: 0 | N83: 0 | O83: 0 | P83: 0 | Q83: 0 | R83: 0 | S83: 0 | T83: 0 | U83: 0 | V83: 0 | W83: 0 | X83: 0 | Y83: 0 | Z83: 0 | AA83: 0 | AB83: 0 | AC83: 0 | AD83: 0 | AE83: 0 | AF83: 0 | AG83: 0 | AH83: 0 | AI83: 0 | AJ83: 0 | AK83: 0 | AL83: 0 | AM83: 0 | AN83: 0 | AO83: 0 | AP83: 402 | AQ83: 0 | AR83: 0
G84: ⑩床下収納庫 | H84: 千円 | I84: 457.28 | J84: 20 | K84: 0 | L84: 0 | M84: 0 | N84: 0 | O84: 0 | P84: 0 | Q84: 0 | R84: 0 | S84: 0 | T84: 0 | U84: 0 | V84: 0 | W84: 0 | X84: 0 | Y84: 0 | Z84: 0 | AA84: 0 | AB84: 0 | AC84: 0 | AD84: 0 | AE84: 0 | AF84: 0 | AG84: 0 | AH84: 0 | AI84: 0 | AJ84: 0 | AK84: 0 | AL84: 0 | AM84: 58 | AN84: 0 | AO84: 0 | AP84: 515.28 | AQ84: 20 | AR84: 0
G85: ⑪ブラインド・カーテン | H85: 千円 | I85: 4026.6 | J85: 0 | K85: 0 | L85: 0 | M85: 0 | N85: 0 | O85: 17 | P85: 88 | Q85: 0 | R85: 0 | S85: 0 | T85: 0 | U85: 0 | V85: 0 | W85: 0 | X85: 0 | Y85: 0 | Z85: 0 | AA85: 530 | AB85: 0 | AC85: 0 | AD85: 410 | AE85: 0 | AF85: 0 | AG85: 0 | AH85: 0 | AI85: 0 | AJ85: 0 | AK85: 0 | AL85: 0 | AM85: 0 | AN85: 0 | AO85: 0 | AP85: 4983.6 | AQ85: 88 | AR85: 0
G86: ⑫カーテンレール | H86: 千円 | I86: 1023.92 | J86: 100 | K86: 0 | L86: 200 | M86: 0 | N86: 0 | O86: 8 | P86: 0 | Q86: 0 | R86: 0 | S86: 0 | T86: 0 | U86: 0 | V86: 0 | W86: 0 | X86: 0 | Y86: 0 | Z86: 0 | AA86: 269 | AB86: 0 | AC86: 0 | AD86: 100 | AE86: 0 | AF86: 0 | AG86: 0 | AH86: 0 | AI86: 0 | AJ86: 0 | AK86: 0 | AL86: 0 | AM86: 42 | AN86: 0 | AO86: 0 | AP86: 1642.92 | AQ86: 100 | AR86: 0
G87: ⑬上記以外のユニット | H87: 千円 | I87: 6396.04 | J87: 0 | K87: 0 | L87: 500 | M87: 0 | N87: 0 | O87: 37 | P87: 92 | Q87: 0 | R87: 0 | S87: 0 | T87: 0 | U87: 0 | V87: 0 | W87: 0 | X87: 0 | Y87: 0 | Z87: 0 | AA87: 300 | AB87: 0 | AC87: 0 | AD87: 0 | AE87: 0 | AF87: 0 | AG87: 0 | AH87: 0 | AI87: 0 | AJ87: 0 | AK87: 0 | AL87: 0 | AM87: 0 | AN87: 1315 | AO87: 0 | AP87: 7233.04 | AQ87: 1407 | AR87: 0
E88: 16．その他 | H88: 千円 | I88: 24189 | J88: 5579 | K88: 0 | L88: 9900 | M88: 0 | N88: 0 | O88: 2 | P88: 0 | Q88: 0 | R88: 0 | S88: 0 | T88: 0 | U88: 0 | V88: 0 | W88: 0 | X88: 0 | Y88: 0 | Z88: 0 | AA88: 0 | AB88: 0 | AC88: 0 | AD88: 0 | AE88: 0 | AF88: 0 | AG88: 0 | AH88: 0 | AI88: 0 | AJ88: 0 | AK88: 0 | AL88: 0 | AM88: 1200 | AN88: 6800 | AO88: 0 | AP88: 35291 | AQ88: 12379 | AR88: 0
E89: 建築工事費合計 | H89: 千円 | I89: 1174254 | J89: 56827 | K89: 0 | L89: 36000 | M89: 0 | N89: 0 | O89: 12748 | P89: 7900 | Q89: 0 | R89: 4273 | S89: 0 | T89: 0 | U89: 0 | V89: 0 | W89: 0 | X89: 3000 | Y89: 0 | Z89: 0 | AA89: 102577 | AB89: 0 | AC89: 0 | AD89: 36485 | AE89: 0 | AF89: 0 | AG89: 0 | AH89: 0 | AI89: 0 | AJ89: 0 | AK89: 0 | AL89: 0 | AM89: 71289 | AN89: 258727 | AO89: 0 | AP89: 1440626 | AQ89: 323454 | AR89: 0
D90: ８－２．設備工事費 | E90: 1．電気 | F90: 計 | I90: 62171 | J90: 0 | K90: 0 | L90: 600 | M90: 0 | N90: 0 | O90: 2283 | P90: 0 | Q90: 0 | R90: 0 | S90: 0 | T90: 0 | U90: 0 | V90: 0 | W90: 0 | X90: 0 | Y90: 0 | Z90: 0 | AA90: 15211 | AB90: 0 | AC90: 0 | AD90: 0 | AE90: 0 | AF90: 0 | AG90: 0 | AH90: 0 | AI90: 0 | AJ90: 0 | AK90: 0 | AL90: 0 | AM90: 6788 | AN90: 0 | AO90: 0 | AP90: 87053 | AQ90: 0 | AR90: 0
G91: ①受変電・電力引込 | H91: 千円 | I91: 4843.7 | J91: 0 | K91: 0 | L91: 100 | M91: 0 | N91: 0 | O91: 228 | P91: 0 | Q91: 0 | R91: 0 | S91: 0 | T91: 0 | U91: 0 | V91: 0 | W91: 0 | X91: 0 | Y91: 0 | Z91: 0 | AA91: 32 | AB91: 0 | AC91: 0 | AD91: 0 | AE91: 0 | AF91: 0 | AG91: 0 | AH91: 0 | AI91: 0 | AJ91: 0 | AK91: 0 | AL91: 0 | AM91: 2520 | AN91: 0 | AO91: 0 | AP91: 7723.7 | AQ91: 0 | AR91: 0
G92: ②幹線・動力 | H92: 千円 | I92: 5620.11 | J92: 0 | K92: 0 | L92: 100 | M92: 0 | N92: 0 | O92: 685 | P92: 0 | Q92: 0 | R92: 0 | S92: 0 | T92: 0 | U92: 0 | V92: 0 | W92: 0 | X92: 0 | Y92: 0 | Z92: 0 | AA92: 4293 | AB92: 0 | AC92: 0 | AD92: 0 | AE92: 0 | AF92: 0 | AG92: 0 | AH92: 0 | AI92: 0 | AJ92: 0 | AK92: 0 | AL92: 0 | AM92: 0 | AN92: 0 | AO92: 0 | AP92: 10698.11 | AQ92: 0 | AR92: 0
G93: ③電灯コンセント | H93: 千円 | I93: 16076.22 | J93: 0 | K93: 0 | L93: 100 | M93: 0 | N93: 0 | O93: 457 | P93: 0 | Q93: 0 | R93: 0 | S93: 0 | T93: 0 | U93: 0 | V93: 0 | W93: 0 | X93: 0 | Y93: 0 | Z93: 0 | AA93: 2807 | AB93: 0 | AC93: 0 | AD93: 0 | AE93: 0 | AF93: 0 | AG93: 0 | AH93: 0 | AI93: 0 | AJ93: 0 | AK93: 0 | AL93: 0 | AM93: 2136 | AN93: 0 | AO93: 0 | AP93: 21576.22 | AQ93: 0 | AR93: 0
G94: ④照明器具 | H94: 千円 | I94: 13901.28 | J94: 0 | K94: 0 | L94: 200 | M94: 0 | N94: 0 | O94: 457 | P94: 0 | Q94: 0 | R94: 0 | S94: 0 | T94: 0 | U94: 0 | V94: 0 | W94: 0 | X94: 0 | Y94: 0 | Z94: 0 | AA94: 4166 | AB94: 0 | AC94: 0 | AD94: 0 | AE94: 0 | AF94: 0 | AG94: 0 | AH94: 0 | AI94: 0 | AJ94: 0 | AK94: 0 | AL94: 0 | AM94: 977 | AN94: 0 | AO94: 0 | AP94: 19701.28 | AQ94: 0 | AR94: 0
G95: ⑤電話・電話配管・ＩＴ設備 | H95: 千円 | I95: 2221.88 | J95: 0 | K95: 0 | L95: 100 | M95: 0 | N95: 0 | O95: 342 | P95: 0 | Q95: 0 | R95: 0 | S95: 0 | T95: 0 | U95: 0 | V95: 0 | W95: 0 | X95: 0 | Y95: 0 | Z95: 0 | AA95: 876 | AB95: 0 | AC95: 0 | AD95: 0 | AE95: 0 | AF95: 0 | AG95: 0 | AH95: 0 | AI95: 0 | AJ95: 0 | AK95: 0 | AL95: 0 | AM95: 0 | AN95: 0 | AO95: 0 | AP95: 3539.88 | AQ95: 0 | AR95: 0
G96: ⑥テレビ共聴 | H96: 千円 | I96: 2320.88 | J96: 0 | K96: 0 | L96: 0 | M96: 0 | N96: 0 | O96: 0 | P96: 0 | Q96: 0 | R96: 0 | S96: 0 | T96: 0 | U96: 0 | V96: 0 | W96: 0 | X96: 0 | Y96: 0 | Z96: 0 | AA96: 527 | AB96: 0 | AC96: 0 | AD96: 0 | AE96: 0 | AF96: 0 | AG96: 0 | AH96: 0 | AI96: 0 | AJ96: 0 | AK96: 0 | AL96: 0 | AM96: 0 | AN96: 0 | AO96: 0 | AP96: 2847.88 | AQ96: 0 | AR96: 0
G97: ⑦インターホン・拡声 | H97: 千円 | I97: 1338.94 | J97: 0 | K97: 0 | L97: 0 | M97: 0 | N97: 0 | O97: 0 | P97: 0 | Q97: 0 | R97: 0 | S97: 0 | T97: 0 | U97: 0 | V97: 0 | W97: 0 | X97: 0 | Y97: 0 | Z97: 0 | AA97: 391 | AB97: 0 | AC97: 0 | AD97: 0 | AE97: 0 | AF97: 0 | AG97: 0 | AH97: 0 | AI97: 0 | AJ97: 0 | AK97: 0 | AL97: 0 | AM97: 0 | AN97: 0 | AO97: 0 | AP97: 1729.94 | AQ97: 0 | AR97: 0
G98: ⑧防災 | H98: 千円 | I98: 739.88 | J98: 0 | K98: 0 | L98: 0 | M98: 0 | N98: 0 | O98: 0 | P98: 0 | Q98: 0 | R98: 0 | S98: 0 | T98: 0 | U98: 0 | V98: 0 | W98: 0 | X98: 0 | Y98: 0 | Z98: 0 | AA98: 2119 | AB98: 0 | AC98: 0 | AD98: 0 | AE98: 0 | AF98: 0 | AG98: 0 | AH98: 0 | AI98: 0 | AJ98: 0 | AK98: 0 | AL98: 0 | AM98: 666 | AN98: 0 | AO98: 0 | AP98: 3524.88 | AQ98: 0 | AR98: 0
G99: ⑨避雷針 | H99: 千円 | I99: 0 | J99: 0 | K99: 0 | L99: 0 | M99: 0 | N99: 0 | O99: 0 | P99: 0 | Q99: 0 | R99: 0 | S99: 0 | T99: 0 | U99: 0 | V99: 0 | W99: 0 | X99: 0 | Y99: 0 | Z99: 0 | AA99: 0 | AB99: 0 | AC99: 0 | AD99: 0 | AE99: 0 | AF99: 0 | AG99: 0 | AH99: 0 | AI99: 0 | AJ99: 0 | AK99: 0 | AL99: 0 | AM99: 0 | AN99: 0 | AO99: 0 | AP99: 0 | AQ99: 0 | AR99: 0
G100: ⑩蓄電池 | H100: 千円 | I100: 0 | J100: 0 | K100: 0 | L100: 0 | M100: 0 | N100: 0 | O100: 0 | P100: 0 | Q100: 0 | R100: 0 | S100: 0 | T100: 0 | U100: 0 | V100: 0 | W100: 0 | X100: 0 | Y100: 0 | Z100: 0 | AA100: 0 | AB100: 0 | AC100: 0 | AD100: 0 | AE100: 0 | AF100: 0 | AG100: 0 | AH100: 0 | AI100: 0 | AJ100: 0 | AK100: 0 | AL100: 0 | AM100: 0 | AN100: 0 | AO100: 0 | AP100: 0 | AQ100: 0 | AR100: 0
G101: ⑪屋外施設の電気設備 （外灯・門灯） | H101: 千円 | I101: 845.47 | J101: 0 | K101: 0 | L101: 0 | M101: 0 | N101: 0 | O101: 114 | P101: 0 | Q101: 0 | R101: 0 | S101: 0 | T101: 0 | U101: 0 | V101: 0 | W101: 0 | X101: 0 | Y101: 0 | Z101: 0 | AA101: 0 | AB101: 0 | AC101: 0 | AD101: 0 | AE101: 0 | AF101: 0 | AG101: 0 | AH101: 0 | AI101: 0 | AJ101: 0 | AK101: 0 | AL101: 0 | AM101: 0 | AN101: 0 | AO101: 0 | AP101: 959.47 | AQ101: 0 | AR101: 0
G102: ⑫上記以外の電気設備 | H102: 千円 | I102: 9113.64 | J102: 0 | K102: 0 | L102: 0 | M102: 0 | N102: 0 | O102: 0 | P102: 0 | Q102: 0 | R102: 0 | S102: 0 | T102: 0 | U102: 0 | V102: 0 | W102: 0 | X102: 0 | Y102: 0 | Z102: 0 | AA102: 0 | AB102: 0 | AC102: 0 | AD102: 0 | AE102: 0 | AF102: 0 | AG102: 0 | AH102: 0 | AI102: 0 | AJ102: 0 | AK102: 0 | AL102: 0 | AM102: 489 | AN102: 0 | AO102: 0 | AP102: 9602.64 | AQ102: 0 | AR102: 0
E103: 2．空調 | F103: 計 | I103: 30585 | J103: 0 | K103: 0 | L103: 400 | M103: 0 | N103: 0 | O103: 3354 | P103: 0 | Q103: 0 | R103: 0 | S103: 0 | T103: 0 | U103: 0 | V103: 0 | W103: 0 | X103: 0 | Y103: 0 | Z103: 0 | AA103: 7086 | AB103: 0 | AC103: 0 | AD103: 0 | AE103: 0 | AF103: 0 | AG103: 0 | AH103: 0 | AI103: 0 | AJ103: 0 | AK103: 0 | AL103: 0 | AM103: 6084 | AN103: 0 | AO103: 0 | AP103: 47509 | AQ103: 0 | AR103: 0
G104: ①空調機器 | H104: 千円 | I104: 11223.91 | J104: 0 | K104: 0 | L104: 250 | M104: 0 | N104: 0 | O104: 2012 | P104: 0 | Q104: 0 | R104: 0 | S104: 0 | T104: 0 | U104: 0 | V104: 0 | W104: 0 | X104: 0 | Y104: 0 | Z104: 0 | AA104: 2045 | AB104: 0 | AC104: 0 | AD104: 0 | AE104: 0 | AF104: 0 | AG104: 0 | AH104: 0 | AI104: 0 | AJ104: 0 | AK104: 0 | AL104: 0 | AM104: 2620 | AN104: 0 | AO104: 0 | AP104: 18150.91 | AQ104: 0 | AR104: 0
G105: ②ダクト | H105: 千円 | I105: 267.38 | J105: 0 | K105: 0 | L105: 50 | M105: 0 | N105: 0 | O105: 168 | P105: 0 | Q105: 0 | R105: 0 | S105: 0 | T105: 0 | U105: 0 | V105: 0 | W105: 0 | X105: 0 | Y105: 0 | Z105: 0 | AA105: 285 | AB105: 0 | AC105: 0 | AD105: 0 | AE105: 0 | AF105: 0 | AG105: 0 | AH105: 0 | AI105: 0 | AJ105: 0 | AK105: 0 | AL105: 0 | AM105: 0 | AN105: 0 | AO105: 0 | AP105: 770.38 | AQ105: 0 | AR105: 0
G106: ③空調配管 | H106: 千円 | I106: 680.52 | J106: 0 | K106: 0 | L106: 50 | M106: 0 | N106: 0 | O106: 671 | P106: 0 | Q106: 0 | R106: 0 | S106: 0 | T106: 0 | U106: 0 | V106: 0 | W106: 0 | X106: 0 | Y106: 0 | Z106: 0 | AA106: 1093 | AB106: 0 | AC106: 0 | AD106: 0 | AE106: 0 | AF106: 0 | AG106: 0 | AH106: 0 | AI106: 0 | AJ106: 0 | AK106: 0 | AL106: 0 | AM106: 1123 | AN106: 0 | AO106: 0 | AP106: 3617.52 | AQ106: 0 | AR106: 0
G107: ④自動制御 | H107: 千円 | I107: 0 | J107: 0 | K107: 0 | L107: 0 | M107: 0 | N107: 0 | O107: 0 | P107: 0 | Q107: 0 | R107: 0 | S107: 0 | T107: 0 | U107: 0 | V107: 0 | W107: 0 | X107: 0 | Y107: 0 | Z107: 0 | AA107: 0 | AB107: 0 | AC107: 0 | AD107: 0 | AE107: 0 | AF107: 0 | AG107: 0 | AH107: 0 | AI107: 0 | AJ107: 0 | AK107: 0 | AL107: 0 | AM107: 0 | AN107: 0 | AO107: 0 | AP107: 0 | AQ107: 0 | AR107: 0
G108: ⑤換気 | H108: 千円 | I108: 6860.63 | J108: 0 | K108: 0 | L108: 50 | M108: 0 | N108: 0 | O108: 503 | P108: 0 | Q108: 0 | R108: 0 | S108: 0 | T108: 0 | U108: 0 | V108: 0 | W108: 0 | X108: 0 | Y108: 0 | Z108: 0 | AA108: 2913 | AB108: 0 | AC108: 0 | AD108: 0 | AE108: 0 | AF108: 0 | AG108: 0 | AH108: 0 | AI108: 0 | AJ108: 0 | AK108: 0 | AL108: 0 | AM108: 2341 | AN108: 0 | AO108: 0 | AP108: 12667.63 | AQ108: 0 | AR108: 0
...

Sheet 木造_合計
A2: 表1-2 平成27年建築工事費投入調査集計表（木造_合計）
A4: （単位：千円） | D4: =木造_データ!AP4 -> 80 | E4: =木造_データ!AQ4 -> 7 | F4: =木造_データ!AR4 -> 0 | K4: =D4 -> 80 | L4: =E4 -> 7 | M4: =F4 -> 0
D5: 建築工事・ 設備工事 一貫受注 | E5: 建築工事 のみ受注 | F5: 設備工事 のみ受注 | K5: 建築工事・ 設備工事 一貫受注 | L5: 建築工事 のみ受注 | M5: 設備工事 のみ受注
A6: 工事費内訳 | B6: 1.建築工事費 | D6: =木造_データ!AP9 -> 1440626 | E6: =木造_データ!AQ9 -> 323454 | F6: =木造_データ!AR9 -> 0 | H6: 建築工事費科目別内訳 | I6: 1.仮設 | K6: =木造_データ!AP17 -> 55540 | L6: =木造_データ!AQ17 -> 19558 | M6: =木造_データ!AR17 -> 0
B7: 2.設備工事費 | D7: =木造_データ!AP10 -> 245111 | E7: =木造_データ!AQ10 -> 0 | F7: =木造_データ!AR10 -> 0 | I7: 2.基礎 | K7: =木造_データ!AP18 -> 147824 | L7: =木造_データ!AQ18 -> 170613 | M7: =木造_データ!AR18 -> 0
B8: 3.解体・撤去費 | D8: =木造_データ!AP11 -> 32222 | E8: =木造_データ!AQ11 -> 15450 | F8: =木造_データ!AR11 -> 0 | I8: 3.木工 | K8: =木造_データ!AP19 -> 505372 | L8: =木造_データ!AQ19 -> 38247 | M8: =木造_データ!AR19 -> 0
B9: 4.屋外施設費 | D9: =木造_データ!AP12 -> 55790 | E9: =木造_データ!AQ12 -> 2336 | F9: =木造_データ!AR12 -> 0 | J9: 構造材 | K9: =木造_データ!AP20 -> 158065.09 | L9: =木造_データ!AQ20 -> 10089 | M9: =木造_データ!AR20 -> 0
B10: 5.現場管理費 | D10: =木造_データ!AP13 -> 85213 | E10: =木造_データ!AQ13 -> 25729 | F10: =木造_データ!AR13 -> 0 | J10: 造作材 | K10: =木造_データ!AP21 -> 44436.39 | L10: =木造_データ!AQ21 -> 4731 | M10: =木造_データ!AR21 -> 0
B11: 6.工事原価 | D11: =木造_データ!AP14 -> 1858962 | E11: =木造_データ!AQ14 -> 366969 | F11: =木造_データ!AR14 -> 0 | J11: 板材 | K11: =木造_データ!AP22 -> 23933.01 | L11: =木造_データ!AQ22 -> 2233 | M11: =木造_データ!AR22 -> 0
B12: 7.一般管理費等 | D12: =木造_データ!AP15 -> 127143 | E12: =木造_データ!AQ15 -> 14420 | F12: =木造_データ!AR15 -> 0 | J12: 合板 | K12: =木造_データ!AP23 -> 22436.6 | L12: =木造_データ!AQ23 -> 2523 | M12: =木造_データ!AR23 -> 0
A13: 8.工事価格 | D13: =木造_データ!AP16 -> 1986105 | E13: =木造_データ!AQ16 -> 381389 | F13: =木造_データ!AR16 -> 0 | J13: 釘・金物 | K13: =木造_データ!AP24 -> 15636.11 | L13: =木造_データ!AQ24 -> 1898 | M13: =木造_データ!AR24 -> 0
J14: 大工手間（施工費） | K14: =木造_データ!AP25 -> 216027.9 | L14: =木造_データ!AQ25 -> 14509 | M14: =木造_データ!AR25 -> 0
A15: 設備工事費科目別内訳 | B15: 1.電気 | D15: =木造_データ!AP90 -> 87053 | E15: =木造_データ!AQ90 -> 0 | F15: =木造_データ!AR90 -> 0 | J15: 上記以外の木工 | K15: =木造_データ!AP26 -> 24836.9 | L15: =木造_データ!AQ26 -> 2264 | M15: =木造_データ!AR26 -> 0
C16: 受変電・電力引込 | D16: =木造_データ!AP91 -> 7723.7 | E16: =木造_データ!AQ91 -> 0 | F16: =木造_データ!AR91 -> 0 | I16: 4.屋根 | K16: =木造_データ!AP27 -> 83640 | L16: =木造_データ!AQ27 -> 4663 | M16: =木造_データ!AR27 -> 0
C17: 幹線・動力 | D17: =木造_データ!AP92 -> 10698.11 | E17: =木造_データ!AQ92 -> 0 | F17: =木造_データ!AR92 -> 0 | J17: 瓦 | K17: =木造_データ!AP28 -> 16665 | L17: =木造_データ!AQ28 -> 655 | M17: =木造_データ!AR28 -> 0
C18: 電灯コンセント | D18: =木造_データ!AP93 -> 21576.22 | E18: =木造_データ!AQ93 -> 0 | F18: =木造_データ!AR93 -> 0 | J18: セメント瓦 | K18: =木造_データ!AP29 -> 604 | L18: =木造_データ!AQ29 -> 0 | M18: =木造_データ!AR29 -> 0
C19: 照明器具 | D19: =木造_データ!AP94 -> 19701.28 | E19: =木造_データ!AQ94 -> 0 | F19: =木造_データ!AR94 -> 0 | J19: 金属板葺き | K19: =木造_データ!AP30 -> 44365 | L19: =木造_データ!AQ30 -> 2733 | M19: =木造_データ!AR30 -> 0
C20: 電話・電話配管・IT設備 | D20: =木造_データ!AP95 -> 3539.88 | E20: =木造_データ!AQ95 -> 0 | F20: =木造_データ!AR95 -> 0 | J20: 化粧スレート | K20: =木造_データ!AP31 -> 5412.9 | L20: =木造_データ!AQ31 -> 840 | M20: =木造_データ!AR31 -> 0
C21: テレビ共聴 | D21: =木造_データ!AP96 -> 2847.88 | E21: =木造_データ!AQ96 -> 0 | F21: =木造_データ!AR96 -> 0 | J21: 雨どい | K21: =木造_データ!AP32 -> 12153.1 | L21: =木造_データ!AQ32 -> 435 | M21: =木造_データ!AR32 -> 0
C22: インターホン・拡声 | D22: =木造_データ!AP97 -> 1729.94 | E22: =木造_データ!AQ97 -> 0 | F22: =木造_データ!AR97 -> 0 | J22: 上記以外の屋根 | K22: =木造_データ!AP33 -> 4440 | L22: =木造_データ!AQ33 -> 0 | M22: =木造_データ!AR33 -> 0
C23: 防災 | D23: =木造_データ!AP98 -> 3524.88 | E23: =木造_データ!AQ98 -> 0 | F23: =木造_データ!AR98 -> 0 | I23: 5.金属製建具 | K23: =木造_データ!AP34 -> 109941 | L23: =木造_データ!AQ34 -> 10291 | M23: =木造_データ!AR34 -> 0
C24: 避雷針 | D24: =木造_データ!AP99 -> 0 | E24: =木造_データ!AQ99 -> 0 | F24: =木造_データ!AR99 -> 0 | J24: アルミニウム製建具 | K24: =木造_データ!AP35 -> 73800.3 | L24: =木造_データ!AQ35 -> 4851 | M24: =木造_データ!AR35 -> 0
C25: 蓄電池 | D25: =木造_データ!AP100 -> 0 | E25: =木造_データ!AQ100 -> 0 | F25: =木造_データ!AR100 -> 0 | J25: 鋼製建具 | K25: =木造_データ!AP36 -> 13338 | L25: =木造_データ!AQ36 -> 2950 | M25: =木造_データ!AR36 -> 0
C26: 屋外施設の電気設備（外灯、門灯） | D26: =木造_データ!AP101 -> 959.47 | E26: =木造_データ!AQ101 -> 0 | F26: =木造_データ!AR101 -> 0 | J26: ステンレス製建具 | K26: =木造_データ!AP37 -> 1617 | L26: =木造_データ!AQ37 -> 0 | M26: =木造_データ!AR37 -> 0
C27: 上記以外の電気設備 | D27: =木造_データ!AP102 -> 9602.64 | E27: =木造_データ!AQ102 -> 0 | F27: =木造_データ!AR102 -> 0 | J27: 金属製玄関ドア | K27: =木造_データ!AP38 -> 10092.8 | L27: =木造_データ!AQ38 -> 810 | M27: =木造_データ!AR38 -> 0
B28: 2.空調 | D28: =木造_データ!AP103 -> 47509 | E28: =木造_データ!AQ103 -> 0 | F28: =木造_データ!AR103 -> 0 | J28: 雨戸・シャッター | K28: =木造_データ!AP39 -> 1797.95 | L28: =木造_データ!AQ39 -> 790 | M28: =木造_データ!AR39 -> 0
C29: 空調機器 | D29: =木造_データ!AP104 -> 18150.91 | E29: =木造_データ!AQ104 -> 0 | F29: =木造_データ!AR104 -> 0 | J29: 上記以外の金属製建具 | K29: =木造_データ!AP40 -> 9294.95 | L29: =木造_データ!AQ40 -> 890 | M29: =木造_データ!AR40 -> 0
C30: ダクト | D30: =木造_データ!AP105 -> 770.38 | E30: =木造_データ!AQ105 -> 0 | F30: =木造_データ!AR105 -> 0 | I30: 6.木製建具 | K30: =木造_データ!AP41 -> 66332 | L30: =木造_データ!AQ41 -> 3805 | M30: =木造_データ!AR41 -> 0
C31: 空調配管 | D31: =木造_データ!AP106 -> 3617.52 | E31: =木造_データ!AQ106 -> 0 | F31: =木造_データ!AR106 -> 0 | J31: 木製ドア | K31: =木造_データ!AP42 -> 44403.08 | L31: =木造_データ!AQ42 -> 2204 | M31: =木造_データ!AR42 -> 0
C32: 自動制御 | D32: =木造_データ!AP107 -> 0 | E32: =木造_データ!AQ107 -> 0 | F32: =木造_データ!AR107 -> 0 | J32: 木製玄関ドア | K32: =木造_データ!AP43 -> 2042 | L32: =木造_データ!AQ43 -> 0 | M32: =木造_データ!AR43 -> 0
C33: 換気 | D33: =木造_データ!AP108 -> 12667.63 | E33: =木造_データ!AQ108 -> 0 | F33: =木造_データ!AR108 -> 0 | J33: ふすま | K33: =木造_データ!AP44 -> 3236 | L33: =木造_データ!AQ44 -> 0 | M33: =木造_データ!AR44 -> 0
C34: 床暖房 | D34: =木造_データ!AP109 -> 5380.28 | E34: =木造_データ!AQ109 -> 0 | F34: =木造_データ!AR109 -> 0 | J34: 障子 | K34: =木造_データ!AP45 -> 2298 | L34: =木造_データ!AQ45 -> 60 | M34: =木造_データ!AR45 -> 0
C35: パッシブソーラーシステム | D35: =木造_データ!AP110 -> 2416.45 | E35: =木造_データ!AQ110 -> 0 | F35: =木造_データ!AR110 -> 0 | J35: 木製建具金物 | K35: =木造_データ!AP46 -> 2266 | L35: =木造_データ!AQ46 -> 550 | M35: =木造_データ!AR46 -> 0
C36: 上記以外の空調設備 | D36: =木造_データ!AP111 -> 3307.83 | E36: =木造_データ!AQ111 -> 0 | F36: =木造_データ!AR111 -> 0 | J36: 上記以外の木製建具 | K36: =木造_データ!AP47 -> 12086.92 | L36: =木造_データ!AQ47 -> 991 | M36: =木造_データ!AR47 -> 0
B37: 3.衛生 | D37: =木造_データ!AP112 -> 108533 | E37: =木造_データ!AQ112 -> 0 | F37: =木造_データ!AR112 -> 0 | I37: 7.ガラス | K37: =木造_データ!AP48 -> 7697 | L37: =木造_データ!AQ48 -> 250 | M37: =木造_データ!AR48 -> 0
C38: 給水 | D38: =木造_データ!AP113 -> 18367 | E38: =木造_データ!AQ113 -> 0 | F38: =木造_データ!AR113 -> 0 | I38: 8.防水 | K38: =木造_データ!AP49 -> 9014 | L38: =木造_データ!AQ49 -> 30405 | M38: =木造_データ!AR49 -> 0
C39: 給湯 | D39: =木造_データ!AP114 -> 15835 | E39: =木造_データ!AQ114 -> 0 | F39: =木造_データ!AR114 -> 0 | I39: 9.石 | K39: =木造_データ!AP50 -> 321 | L39: =木造_データ!AQ50 -> 120 | M39: =木造_データ!AR50 -> 0
C40: 排水通気 | D40: =木造_データ!AP115 -> 22227 | E40: =木造_データ!AQ115 -> 0 | F40: =木造_データ!AR115 -> 0 | I40: 10.タイル | K40: =木造_データ!AP51 -> 13685 | L40: =木造_データ!AQ51 -> 656 | M40: =木造_データ!AR51 -> 0
C41: 衛生器具 | D41: =木造_データ!AP116 -> 24957 | E41: =木造_データ!AQ116 -> 0 | F41: =木造_データ!AR116 -> 0 | I41: 11.金属 | K41: =木造_データ!AP52 -> 5127 | L41: =木造_データ!AQ52 -> 6044 | M41: =木造_データ!AR52 -> 0
C42: 消火 | D42: =木造_データ!AP117 -> 134 | E42: =木造_データ!AQ117 -> 0 | F42: =木造_データ!AR117 -> 0 | I42: 12.左官 | K42: =木造_データ!AP53 -> 16188 | L42: =木造_データ!AQ53 -> 4585 | M42: =木造_データ!AR53 -> 0
C43: ガス | D43: =木造_データ!AP118 -> 4233 | E43: =木造_データ!AQ118 -> 0 | F43: =木造_データ!AR118 -> 0 | I43: 13.塗装 | K43: =木造_データ!AP54 -> 16588 | L43: =木造_データ!AQ54 -> 597 | M43: =木造_データ!AR54 -> 0
C44: 厨房機器 | D44: =木造_データ!AP119 -> 3919 | E44: =木造_データ!AQ119 -> 0 | F44: =木造_データ!AR119 -> 0 | I44: 14.内外装 | K44: =木造_データ!AP55 -> 235198 | L44: =木造_データ!AQ55 -> 15474 | M44: =木造_データ!AR55 -> 0
C45: 浄化槽 | D45: =木造_データ!AP120 -> 5352 | E45: =木造_データ!AQ120 -> 0 | F45: =木造_データ!AR120 -> 0 | J45: 畳 | K45: =木造_データ!AP56 -> 6062 | L45: =木造_データ!AQ56 -> 120 | M45: =木造_データ!AR56 -> 0
C46: 上記以外の衛生設備 | D46: =木造_データ!AP121 -> 8634 | E46: =木造_データ!AQ121 -> 0 | F46: =木造_データ!AR121 -> 0 | J46: カーペット | K46: =木造_データ!AP57 -> 71 | L46: =木造_データ!AQ57 -> 250 | M46: =木造_データ!AR57 -> 0
B47: 4.昇降機 | D47: =木造_データ!AP122 -> 0 | E47: =木造_データ!AQ122 -> 0 | F47: =木造_データ!AR122 -> 0 | J47: フローリング | K47: =木造_データ!AP58 -> 27147 | L47: =木造_データ!AQ58 -> 415 | M47: =木造_データ!AR58 -> 0
B48: 5.上記以外の設備 | D48: =木造_データ!AP123 -> 2016 | E48: =木造_データ!AQ123 -> 0 | F48: =木造_データ!AR123 -> 0 | J48: ビニル床タイル | K48: =木造_データ!AP59 -> 134 | L48: =木造_データ!AQ59 -> 0 | M48: =木造_データ!AR59 -> 0
A49: 設備工事費合計 | D49: =木造_データ!AP124 -> 245111 | E49: =木造_データ!AQ124 -> 0 | F49: =木造_データ!AR124 -> 0 | J49: ビニル床シート | K49: =木造_データ!AP60 -> 3081 | L49: =木造_データ!AQ60 -> 54 | M49: =木造_データ!AR60 -> 0
J50: 化粧合板 | K50: =木造_データ!AP61 -> 1565 | L50: =木造_データ!AQ61 -> 80 | M50: =木造_データ!AR61 -> 0
J51: 石こうボード | K51: =木造_データ!AP62 -> 10386 | L51: =木造_データ!AQ62 -> 351 | M51: =木造_データ!AR62 -> 0
J52: ケイ酸カルシウム板 | K52: =木造_データ!AP63 -> 2428 | L52: =木造_データ!AQ63 -> 177 | M52: =木造_データ!AR63 -> 0
J53: 木毛セメント板 | K53: =木造_データ!AP64 -> 18 | L53: =木造_データ!AQ64 -> 40 | M53: =木造_データ!AR64 -> 0
J54: 壁紙・ビニルクロス張り | K54: =木造_データ!AP65 -> 37553 | L54: =木造_データ!AQ65 -> 2722 | M54: =木造_データ!AR65 -> 0
J55: ロックウール吸音板 | K55: =木造_データ!AP66 -> 2382 | L55: =木造_データ!AQ66 -> 0 | M55: =木造_データ!AR66 -> 0
J56: サイディング（窒業系） | K56: =木造_データ!AP67 -> 48249 | L56: =木造_データ!AQ67 -> 3668 | M56: =木造_データ!AR67 -> 0
J57: サイディング（金属系） | K57: =木造_データ!AP68 -> 32277 | L57: =木造_データ!AQ68 -> 860 | M57: =木造_データ!AR68 -> 0
J58: サイディング（木質系） | K58: =木造_データ!AP69 -> 2101 | L58: =木造_データ!AQ69 -> 0 | M58: =木造_データ!AR69 -> 0
J59: 幅木・廻り縁 | K59: =木造_データ!AP70 -> 5834 | L59: =木造_データ!AQ70 -> 115 | M59: =木造_データ!AR70 -> 0
J60: 断熱材 | K60: =木造_データ!AP71 -> 37504 | L60: =木造_データ!AQ71 -> 889 | M60: =木造_データ!AR71 -> 0
J61: 合成樹脂製品 | K61: =木造_データ!AP72 -> 3410 | L61: =木造_データ!AQ72 -> 23 | M61: =木造_データ!AR72 -> 0
J62: 上記以外の内外装 | K62: =木造_データ!AP73 -> 14996 | L62: =木造_データ!AQ73 -> 5710 | M62: =木造_データ!AR73 -> 0
I63: 15.仕上ユニット | K63: =木造_データ!AP74 -> 132868 | L63: =木造_データ!AQ74 -> 5767 | M63: =木造_データ!AR74 -> 0
J64: 収納ユニット | K64: =木造_データ!AP75 -> 5685 | L64: =木造_データ!AQ75 -> 245 | M64: =木造_データ!AR75 -> 0
J65: 造作家具 | K65: =木造_データ!AP76 -> 9010.04 | L65: =木造_データ!AQ76 -> 987 | M65: =木造_データ!AR76 -> 0
J66: 下足入れ | K66: =木造_データ!AP77 -> 4662.28 | L66: =木造_データ!AQ77 -> 66 | M66: =木造_データ!AR77 -> 0
J67: キッチンユニット | K67: =木造_データ!AP78 -> 50033.56 | L67: =木造_データ!AQ78 -> 1220 | M67: =木造_データ!AR78 -> 0
J68: ユニットバス | K68: =木造_データ!AP79 -> 36894.64 | L68: =木造_データ!AQ79 -> 1566 | M68: =木造_データ!AR79 -> 0
J69: 浴槽 | K69: =木造_データ!AP80 -> 2908.16 | L69: =木造_データ!AQ80 -> 0 | M69: =木造_データ!AR80 -> 0
J70: 洗面化粧台 | K70: =木造_データ!AP81 -> 8317.48 | L70: =木造_データ!AQ81 -> 68 | M70: =木造_データ!AR81 -> 0
J71: ベランダユニット | K71: =木造_データ!AP82 -> 580 | L71: =木造_データ!AQ82 -> 0 | M71: =木造_データ!AR82 -> 0
J72: 天井収納ハシゴ | K72: =木造_データ!AP83 -> 402 | L72: =木造_データ!AQ83 -> 0 | M72: =木造_データ!AR83 -> 0
J73: 床下収納庫 | K73: =木造_データ!AP84 -> 515.28 | L73: =木造_データ!AQ84 -> 20 | M73: =木造_データ!AR84 -> 0
J74: ブラインド・カーテン | K74: =木造_データ!AP85 -> 4983.6 | L74: =木造_データ!AQ85 -> 88 | M74: =木造_データ!AR85 -> 0
J75: カーテンレール | K75: =木造_データ!AP86 -> 1642.92 | L75: =木造_データ!AQ86 -> 100 | M75: =木造_データ!AR86 -> 0
J76: 上記以外の仕上ユニット | K76: =木造_データ!AP87 -> 7233.04 | L76: =木造_データ!AQ87 -> 1407 | M76: =木造_データ!AR87 -> 0
I77: 16.その他 | K77: =木造_データ!AP88 -> 35291 | L77: =木造_データ!AQ88 -> 12379 | M77: =木造_データ!AR88 -> 0
H78: 建築工事費合計 | K78: =木造_データ!AP89 -> 1440626 | L78: =木造_データ!AQ89 -> 323454 | M78: =木造_データ!AR89 -> 0

Sheet 木造_合計（比率）
A2: =木造_合計!A2:M2 -> 表1-2 平成27年建築工事費投入調査集計表（木造_合計）
A4: （単位：％） | D4: =木造_合計!D4 -> 80 | E4: =木造_合計!E4 -> 7 | F4: =木造_合計!F4 -> 0 | K4: =木造_合計!K4 -> 80 | L4: =木造_合計!L4 -> 7 | M4: =木造_合計!M4 -> 0
D5: 建築工事・ 設備工事 一貫受注 | E5: 建築工事 のみ受注 | F5: 設備工事 のみ受注 | K5: 建築工事・ 設備工事 一貫受注 | L5: 建築工事 のみ受注 | M5: 設備工事 のみ受注
A6: 工事費内訳 | B6: 1.建築工事費 | D6: =IF(木造_合計!D$13>0,木造_合計!D6/木造_合計!D$13*100,0) -> 72.535239 | E6: =IF(木造_合計!E$13>0,木造_合計!E6/木造_合計!E$13*100,0) -> 84.809473 | F6: =IF(木造_合計!F$13>0,木造_合計!F6/木造_合計!F$13*100,0) -> 0 | H6: 建築工事費科目別内訳 | I6: 1.仮設 | K6: =IF(木造_合計!K$78>0,木造_合計!K6/木造_合計!K$78*100,0) -> 3.8552685 | L6: =IF(木造_合計!L$78>0,木造_合計!L6/木造_合計!L$78*100,0) -> 6.0466094 | M6: =IF(木造_合計!M$78>0,木造_合計!M6/木造_合計!M$78*100,0) -> 0
B7: 2.設備工事費 | D7: =IF(木造_合計!D$13>0,木造_合計!D7/木造_合計!D$13*100,0) -> 12.341291 | E7: =IF(木造_合計!E$13>0,木造_合計!E7/木造_合計!E$13*100,0) -> 0 | F7: =IF(木造_合計!F$13>0,木造_合計!F7/木造_合計!F$13*100,0) -> 0 | I7: 2.基礎 | K7: =IF(木造_合計!K$78>0,木造_合計!K7/木造_合計!K$78*100,0) -> 10.261095 | L7: =IF(木造_合計!L$78>0,木造_合計!L7/木造_合計!L$78*100,0) -> 52.747222 | M7: =IF(木造_合計!M$78>0,木造_合計!M7/木造_合計!M$78*100,0) -> 0
B8: 3.解体・撤去費 | D8: =IF(木造_合計!D$13>0,木造_合計!D8/木造_合計!D$13*100,0) -> 1.6223714 | E8: =IF(木造_合計!E$13>0,木造_合計!E8/木造_合計!E$13*100,0) -> 4.0509821 | F8: =IF(木造_合計!F$13>0,木造_合計!F8/木造_合計!F$13*100,0) -> 0 | I8: 3.木工 | K8: =IF(木造_合計!K$78>0,木造_合計!K8/木造_合計!K$78*100,0) -> 35.080028 | L8: =IF(木造_合計!L$78>0,木造_合計!L8/木造_合計!L$78*100,0) -> 11.824556 | M8: =IF(木造_合計!M$78>0,木造_合計!M8/木造_合計!M$78*100,0) -> 0
B9: 4.屋外施設費 | D9: =IF(木造_合計!D$13>0,木造_合計!D9/木造_合計!D$13*100,0) -> 2.8090156 | E9: =IF(木造_合計!E$13>0,木造_合計!E9/木造_合計!E$13*100,0) -> 0.612498 | F9: =IF(木造_合計!F$13>0,木造_合計!F9/木造_合計!F$13*100,0) -> 0 | J9: 構造材 | K9: =IF(木造_合計!K$78>0,木造_合計!K9/木造_合計!K$78*100,0) -> 10.971973 | L9: =IF(木造_合計!L$78>0,木造_合計!L9/木造_合計!L$78*100,0) -> 3.1191452 | M9: =IF(木造_合計!M$78>0,木造_合計!M9/木造_合計!M$78*100,0) -> 0
B10: 5.現場管理費 | D10: =IF(木造_合計!D$13>0,木造_合計!D10/木造_合計!D$13*100,0) -> 4.290458 | E10: =IF(木造_合計!E$13>0,木造_合計!E10/木造_合計!E$13*100,0) -> 6.7461306 | F10: =IF(木造_合計!F$13>0,木造_合計!F10/木造_合計!F$13*100,0) -> 0 | J10: 造作材 | K10: =IF(木造_合計!K$78>0,木造_合計!K10/木造_合計!K$78*100,0) -> 3.0845195 | L10: =IF(木造_合計!L$78>0,木造_合計!L10/木造_合計!L$78*100,0) -> 1.46265 | M10: =IF(木造_合計!M$78>0,木造_合計!M10/木造_合計!M$78*100,0) -> 0
B11: 6.工事原価 | D11: =IF(木造_合計!D$13>0,木造_合計!D11/木造_合計!D$13*100,0) -> 93.598375 | E11: =IF(木造_合計!E$13>0,木造_合計!E11/木造_合計!E$13*100,0) -> 96.219083 | F11: =IF(木造_合計!F$13>0,木造_合計!F11/木造_合計!F$13*100,0) -> 0 | J11: 板材 | K11: =IF(木造_合計!K$78>0,木造_合計!K11/木造_合計!K$78*100,0) -> 1.6612924 | L11: =IF(木造_合計!L$78>0,木造_合計!L11/木造_合計!L$78*100,0) -> 0.69036092 | M11: =IF(木造_合計!M$78>0,木造_合計!M11/木造_合計!M$78*100,0) -> 0
B12: 7.一般管理費等 | D12: =IF(木造_合計!D$13>0,木造_合計!D12/木造_合計!D$13*100,0) -> 6.4016253 | E12: =IF(木造_合計!E$13>0,木造_合計!E12/木造_合計!E$13*100,0) -> 3.7809166 | F12: =IF(木造_合計!F$13>0,木造_合計!F12/木造_合計!F$13*100,0) -> 0 | J12: 合板 | K12: =IF(木造_合計!K$78>0,木造_合計!K12/木造_合計!K$78*100,0) -> 1.5574202 | L12: =IF(木造_合計!L$78>0,木造_合計!L12/木造_合計!L$78*100,0) -> 0.78001818 | M12: =IF(木造_合計!M$78>0,木造_合計!M12/木造_合計!M$78*100,0) -> 0
A13: 8.工事価格 | D13: =IF(木造_合計!D$13>0,木造_合計!D13/木造_合計!D$13*100,0) -> 100 | E13: =IF(木造_合計!E$13>0,木造_合計!E13/木造_合計!E$13*100,0) -> 100 | F13: =IF(木造_合計!F$13>0,木造_合計!F13/木造_合計!F$13*100,0) -> 0 | J13: 釘・金物 | K13: =IF(木造_合計!K$78>0,木造_合計!K13/木造_合計!K$78*100,0) -> 1.0853691 | L13: =IF(木造_合計!L$78>0,木造_合計!L13/木造_合計!L$78*100,0) -> 0.58679132 | M13: =IF(木造_合計!M$78>0,木造_合計!M13/木造_合計!M$78*100,0) -> 0
J14: 大工手間（施工費） | K14: =IF(木造_合計!K$78>0,木造_合計!K14/木造_合計!K$78*100,0) -> 14.995419 | L14: =IF(木造_合計!L$78>0,木造_合計!L14/木造_合計!L$78*100,0) -> 4.4856456 | M14: =IF(木造_合計!M$78>0,木造_合計!M14/木造_合計!M$78*100,0) -> 0
A15: 設備工事費科目別内訳 | B15: 1.電気 | D15: =IF(木造_合計!D$49>0,木造_合計!D15/木造_合計!D$49*100,0) -> 35.515746 | E15: =IF(木造_合計!E$49>0,木造_合計!E15/木造_合計!E$49*100,0) -> 0 | F15: =IF(木造_合計!F$49>0,木造_合計!F15/木造_合計!F$49*100,0) -> 0 | J15: 上記以外の木工 | K15: =IF(木造_合計!K$78>0,木造_合計!K15/木造_合計!K$78*100,0) -> 1.7240352 | L15: =IF(木造_合計!L$78>0,木造_合計!L15/木造_合計!L$78*100,0) -> 0.69994497 | M15: =IF(木造_合計!M$78>0,木造_合計!M15/木造_合計!M$78*100,0) -> 0
C16: 受変電・電力引込 | D16: =IF(木造_合計!D$49>0,木造_合計!D16/木造_合計!D$49*100,0) -> 3.151103 | E16: =IF(木造_合計!E$49>0,木造_合計!E16/木造_合計!E$49*100,0) -> 0 | F16: =IF(木造_合計!F$49>0,木造_合計!F16/木造_合計!F$49*100,0) -> 0 | I16: 4.屋根 | K16: =IF(木造_合計!K$78>0,木造_合計!K16/木造_合計!K$78*100,0) -> 5.8058094 | L16: =IF(木造_合計!L$78>0,木造_合計!L16/木造_合計!L$78*100,0) -> 1.4416269 | M16: =IF(木造_合計!M$78>0,木造_合計!M16/木造_合計!M$78*100,0) -> 0
C17: 幹線・動力 | D17: =IF(木造_合計!D$49>0,木造_合計!D17/木造_合計!D$49*100,0) -> 4.3645981 | E17: =IF(木造_合計!E$49>0,木造_合計!E17/木造_合計!E$49*100,0) -> 0 | F17: =IF(木造_合計!F$49>0,木造_合計!F17/木造_合計!F$49*100,0) -> 0 | J17: 瓦 | K17: =IF(木造_合計!K$78>0,木造_合計!K17/木造_合計!K$78*100,0) -> 1.1567888 | L17: =IF(木造_合計!L$78>0,木造_合計!L17/木造_合計!L$78*100,0) -> 0.20250175 | M17: =IF(木造_合計!M$78>0,木造_合計!M17/木造_合計!M$78*100,0) -> 0
C18: 電灯コンセント | D18: =IF(木造_合計!D$49>0,木造_合計!D18/木造_合計!D$49*100,0) -> 8.8026323 | E18: =IF(木造_合計!E$49>0,木造_合計!E18/木造_合計!E$49*100,0) -> 0 | F18: =IF(木造_合計!F$49>0,木造_合計!F18/木造_合計!F$49*100,0) -> 0 | J18: セメント瓦 | K18: =IF(木造_合計!K$78>0,木造_合計!K18/木造_合計!K$78*100,0) -> 0.041926218 | L18: =IF(木造_合計!L$78>0,木造_合計!L18/木造_合計!L$78*100,0) -> 0 | M18: =IF(木造_合計!M$78>0,木造_合計!M18/木造_合計!M$78*100,0) -> 0
C19: 照明器具 | D19: =IF(木造_合計!D$49>0,木造_合計!D19/木造_合計!D$49*100,0) -> 8.0376972 | E19: =IF(木造_合計!E$49>0,木造_合計!E19/木造_合計!E$49*100,0) -> 0 | F19: =IF(木造_合計!F$49>0,木造_合計!F19/木造_合計!F$49*100,0) -> 0 | J19: 金属板葺き | K19: =IF(木造_合計!K$78>0,木造_合計!K19/木造_合計!K$78*100,0) -> 3.079564 | L19: =IF(木造_合計!L$78>0,木造_合計!L19/木造_合計!L$78*100,0) -> 0.8449424 | M19: =IF(木造_合計!M$78>0,木造_合計!M19/木造_合計!M$78*100,0) -> 0
C20: 電話・電話配管・IT設備 | D20: =IF(木造_合計!D$49>0,木造_合計!D20/木造_合計!D$49*100,0) -> 1.4441947 | E20: =IF(木造_合計!E$49>0,木造_合計!E20/木造_合計!E$49*100,0) -> 0 | F20: =IF(木造_合計!F$49>0,木造_合計!F20/木造_合計!F$49*100,0) -> 0 | J20: 化粧スレート | K20: =IF(木造_合計!K$78>0,木造_合計!K20/木造_合計!K$78*100,0) -> 0.37573249 | L20: =IF(木造_合計!L$78>0,木造_合計!L20/木造_合計!L$78*100,0) -> 0.2596969 | M20: =IF(木造_合計!M$78>0,木造_合計!M20/木造_合計!M$78*100,0) -> 0
C21: テレビ共聴 | D21: =IF(木造_合計!D$49>0,木造_合計!D21/木造_合計!D$49*100,0) -> 1.1618736 | E21: =IF(木造_合計!E$49>0,木造_合計!E21/木造_合計!E$49*100,0) -> 0 | F21: =IF(木造_合計!F$49>0,木造_合計!F21/木造_合計!F$49*100,0) -> 0 | J21: 雨どい | K21: =IF(木造_合計!K$78>0,木造_合計!K21/木造_合計!K$78*100,0) -> 0.84359855 | L21: =IF(木造_合計!L$78>0,木造_合計!L21/木造_合計!L$78*100,0) -> 0.13448589 | M21: =IF(木造_合計!M$78>0,木造_合計!M21/木造_合計!M$78*100,0) -> 0
C22: インターホン・拡声 | D22: =IF(木造_合計!D$49>0,木造_合計!D22/木造_合計!D$49*100,0) -> 0.7057782 | E22: =IF(木造_合計!E$49>0,木造_合計!E22/木造_合計!E$49*100,0) -> 0 | F22: =IF(木造_合計!F$49>0,木造_合計!F22/木造_合計!F$49*100,0) -> 0 | J22: 上記以外の屋根 | K22: =IF(木造_合計!K$78>0,木造_合計!K22/木造_合計!K$78*100,0) -> 0.30819935 | L22: =IF(木造_合計!L$78>0,木造_合計!L22/木造_合計!L$78*100,0) -> 0 | M22: =IF(木造_合計!M$78>0,木造_合計!M22/木造_合計!M$78*100,0) -> 0
C23: 防災 | D23: =IF(木造_合計!D$49>0,木造_合計!D23/木造_合計!D$49*100,0) -> 1.438075 | E23: =IF(木造_合計!E$49>0,木造_合計!E23/木造_合計!E$49*100,0) -> 0 | F23: =IF(木造_合計!F$49>0,木造_合計!F23/木造_合計!F$49*100,0) -> 0 | I23: 5.金属製建具 | K23: =IF(木造_合計!K$78>0,木造_合計!K23/木造_合計!K$78*100,0) -> 7.6314741 | L23: =IF(木造_合計!L$78>0,木造_合計!L23/木造_合計!L$78*100,0) -> 3.1815961 | M23: =IF(木造_合計!M$78>0,木造_合計!M23/木造_合計!M$78*100,0) -> 0
C24: 避雷針 | D24: =IF(木造_合計!D$49>0,木造_合計!D24/木造_合計!D$49*100,0) -> 0 | E24: =IF(木造_合計!E$49>0,木造_合計!E24/木造_合計!E$49*100,0) -> 0 | F24: =IF(木造_合計!F$49>0,木造_合計!F24/木造_合計!F$49*100,0) -> 0 | J24: アルミニウム製建具 | K24: =IF(木造_合計!K$78>0,木造_合計!K24/木造_合計!K$78*100,0) -> 5.1227938 | L24: =IF(木造_合計!L$78>0,木造_合計!L24/木造_合計!L$78*100,0) -> 1.4997496 | M24: =IF(木造_合計!M$78>0,木造_合計!M24/木造_合計!M$78*100,0) -> 0
C25: 蓄電池 | D25: =IF(木造_合計!D$49>0,木造_合計!D25/木造_合計!D$49*100,0) -> 0 | E25: =IF(木造_合計!E$49>0,木造_合計!E25/木造_合計!E$49*100,0) -> 0 | F25: =IF(木造_合計!F$49>0,木造_合計!F25/木造_合計!F$49*100,0) -> 0 | J25: 鋼製建具 | K25: =IF(木造_合計!K$78>0,木造_合計!K25/木造_合計!K$78*100,0) -> 0.92584751 | L25: =IF(木造_合計!L$78>0,木造_合計!L25/木造_合計!L$78*100,0) -> 0.91203077 | M25: =IF(木造_合計!M$78>0,木造_合計!M25/木造_合計!M$78*100,0) -> 0
C26: 屋外施設の電気設備（外灯、門灯） | D26: =IF(木造_合計!D$49>0,木造_合計!D26/木造_合計!D$49*100,0) -> 0.39144306 | E26: =IF(木造_合計!E$49>0,木造_合計!E26/木造_合計!E$49*100,0) -> 0 | F26: =IF(木造_合計!F$49>0,木造_合計!F26/木造_合計!F$49*100,0) -> 0 | J26: ステンレス製建具 | K26: =IF(木造_合計!K$78>0,木造_合計!K26/木造_合計!K$78*100,0) -> 0.11224287 | L26: =IF(木造_合計!L$78>0,木造_合計!L26/木造_合計!L$78*100,0) -> 0 | M26: =IF(木造_合計!M$78>0,木造_合計!M26/木造_合計!M$78*100,0) -> 0
C27: 上記以外の電気設備 | D27: =IF(木造_合計!D$49>0,木造_合計!D27/木造_合計!D$49*100,0) -> 3.91767 | E27: =IF(木造_合計!E$49>0,木造_合計!E27/木造_合計!E$49*100,0) -> 0 | F27: =IF(木造_合計!F$49>0,木造_合計!F27/木造_合計!F$49*100,0) -> 0 | J27: 金属製玄関ドア | K27: =IF(木造_合計!K$78>0,木造_合計!K27/木造_合計!K$78*100,0) -> 0.70058433 | L27: =IF(木造_合計!L$78>0,木造_合計!L27/木造_合計!L$78*100,0) -> 0.25042201 | M27: =IF(木造_合計!M$78>0,木造_合計!M27/木造_合計!M$78*100,0) -> 0
B28: 2.空調 | D28: =IF(木造_合計!D$49>0,木造_合計!D28/木造_合計!D$49*100,0) -> 19.382647 | E28: =IF(木造_合計!E$49>0,木造_合計!E28/木造_合計!E$49*100,0) -> 0 | F28: =IF(木造_合計!F$49>0,木造_合計!F28/木造_合計!F$49*100,0) -> 0 | J28: 雨戸・シャッター | K28: =IF(木造_合計!K$78>0,木造_合計!K28/木造_合計!K$78*100,0) -> 0.12480338 | L28: =IF(木造_合計!L$78>0,木造_合計!L28/木造_合計!L$78*100,0) -> 0.24423875 | M28: =IF(木造_合計!M$78>0,木造_合計!M28/木造_合計!M$78*100,0) -> 0
C29: 空調機器 | D29: =IF(木造_合計!D$49>0,木造_合計!D29/木造_合計!D$49*100,0) -> 7.4051797 | E29: =IF(木造_合計!E$49>0,木造_合計!E29/木造_合計!E$49*100,0) -> 0 | F29: =IF(木造_合計!F$49>0,木造_合計!F29/木造_合計!F$49*100,0) -> 0 | J29: 上記以外の金属製建具 | K29: =IF(木造_合計!K$78>0,木造_合計!K29/木造_合計!K$78*100,0) -> 0.64520216 | L29: =IF(木造_合計!L$78>0,木造_合計!L29/木造_合計!L$78*100,0) -> 0.27515505 | M29: =IF(木造_合計!M$78>0,木造_合計!M29/木造_合計!M$78*100,0) -> 0
C30: ダクト | D30: =IF(木造_合計!D$49>0,木造_合計!D30/木造_合計!D$49*100,0) -> 0.31429842 | E30: =IF(木造_合計!E$49>0,木造_合計!E30/木造_合計!E$49*100,0) -> 0 | F30: =IF(木造_合計!F$49>0,木造_合計!F30/木造_合計!F$49*100,0) -> 0 | I30: 6.木製建具 | K30: =IF(木造_合計!K$78>0,木造_合計!K30/木造_合計!K$78*100,0) -> 4.6043873 | L30: =IF(木造_合計!L$78>0,木造_合計!L30/木造_合計!L$78*100,0) -> 1.1763651 | M30: =IF(木造_合計!M$78>0,木造_合計!M30/木造_合計!M$78*100,0) -> 0
C31: 空調配管 | D31: =IF(木造_合計!D$49>0,木造_合計!D31/木造_合計!D$49*100,0) -> 1.4758701 | E31: =IF(木造_合計!E$49>0,木造_合計!E31/木造_合計!E$49*100,0) -> 0 | F31: =IF(木造_合計!F$49>0,木造_合計!F31/木造_合計!F$49*100,0) -> 0 | J31: 木製ドア | K31: =IF(木造_合計!K$78>0,木造_合計!K31/木造_合計!K$78*100,0) -> 3.0822073 | L31: =IF(木造_合計!L$78>0,木造_合計!L31/木造_合計!L$78*100,0) -> 0.68139519 | M31: =IF(木造_合計!M$78>0,木造_合計!M31/木造_合計!M$78*100,0) -> 0
C32: 自動制御 | D32: =IF(木造_合計!D$49>0,木造_合計!D32/木造_合計!D$49*100,0) -> 0 | E32: =IF(木造_合計!E$49>0,木造_合計!E32/木造_合計!E$49*100,0) -> 0 | F32: =IF(木造_合計!F$49>0,木造_合計!F32/木造_合計!F$49*100,0) -> 0 | J32: 木製玄関ドア | K32: =IF(木造_合計!K$78>0,木造_合計!K32/木造_合計!K$78*100,0) -> 0.14174394 | L32: =IF(木造_合計!L$78>0,木造_合計!L32/木造_合計!L$78*100,0) -> 0 | M32: =IF(木造_合計!M$78>0,木造_合計!M32/木造_合計!M$78*100,0) -> 0
C33: 換気 | D33: =IF(木造_合計!D$49>0,木造_合計!D33/木造_合計!D$49*100,0) -> 5.1681197 | E33: =IF(木造_合計!E$49>0,木造_合計!E33/木造_合計!E$49*100,0) -> 0 | F33: =IF(木造_合計!F$49>0,木造_合計!F33/木造_合計!F$49*100,0) -> 0 | J33: ふすま | K33: =IF(木造_合計!K$78>0,木造_合計!K33/木造_合計!K$78*100,0) -> 0.22462457 | L33: =IF(木造_合計!L$78>0,木造_合計!L33/木造_合計!L$78*100,0) -> 0 | M33: =IF(木造_合計!M$78>0,木造_合計!M33/木造_合計!M$78*100,0) -> 0
C34: 床暖房 | D34: =IF(木造_合計!D$49>0,木造_合計!D34/木造_合計!D$49*100,0) -> 2.1950382 | E34: =IF(木造_合計!E$49>0,木造_合計!E34/木造_合計!E$49*100,0) -> 0 | F34: =IF(木造_合計!F$49>0,木造_合計!F34/木造_合計!F$49*100,0) -> 0 | J34: 障子 | K34: =IF(木造_合計!K$78>0,木造_合計!K34/木造_合計!K$78*100,0) -> 0.15951399 | L34: =IF(木造_合計!L$78>0,木造_合計!L34/木造_合計!L$78*100,0) -> 0.018549778 | M34: =IF(木造_合計!M$78>0,木造_合計!M34/木造_合計!M$78*100,0) -> 0
C35: パッシブソーラーシステム | D35: =IF(木造_合計!D$49>0,木造_合計!D35/木造_合計!D$49*100,0) -> 0.98585947 | E35: =IF(木造_合計!E$49>0,木造_合計!E35/木造_合計!E$49*100,0) -> 0 | F35: =IF(木造_合計!F$49>0,木造_合計!F35/木造_合計!F$49*100,0) -> 0 | J35: 木製建具金物 | K35: =IF(木造_合計!K$78>0,木造_合計!K35/木造_合計!K$78*100,0) -> 0.15729273 | L35: =IF(木造_合計!L$78>0,木造_合計!L35/木造_合計!L$78*100,0) -> 0.17003963 | M35: =IF(木造_合計!M$78>0,木造_合計!M35/木造_合計!M$78*100,0) -> 0
C36: 上記以外の空調設備 | D36: =IF(木造_合計!D$49>0,木造_合計!D36/木造_合計!D$49*100,0) -> 1.3495233 | E36: =IF(木造_合計!E$49>0,木造_合計!E36/木造_合計!E$49*100,0) -> 0 | F36: =IF(木造_合計!F$49>0,木造_合計!F36/木造_合計!F$49*100,0) -> 0 | J36: 上記以外の木製建具 | K36: =IF(木造_合計!K$78>0,木造_合計!K36/木造_合計!K$78*100,0) -> 0.83900471 | L36: =IF(木造_合計!L$78>0,木造_合計!L36/木造_合計!L$78*100,0) -> 0.30638051 | M36: =IF(木造_合計!M$78>0,木造_合計!M36/木造_合計!M$78*100,0) -> 0
B37: 3.衛生 | D37: =IF(木造_合計!D$49>0,木造_合計!D37/木造_合計!D$49*100,0) -> 44.279123 | E37: =IF(木造_合計!E$49>0,木造_合計!E37/木造_合計!E$49*100,0) -> 0 | F37: =IF(木造_合計!F$49>0,木造_合計!F37/木造_合計!F$49*100,0) -> 0 | I37: 7.ガラス | K37: =IF(木造_合計!K$78>0,木造_合計!K37/木造_合計!K$78*100,0) -> 0.53428162 | L37: =IF(木造_合計!L$78>0,木造_合計!L37/木造_合計!L$78*100,0) -> 0.077290743 | M37: =IF(木造_合計!M$78>0,木造_合計!M37/木造_合計!M$78*100,0) -> 0
C38: 給水 | D38: =IF(木造_合計!D$49>0,木造_合計!D38/木造_合計!D$49*100,0) -> 7.4933398 | E38: =IF(木造_合計!E$49>0,木造_合計!E38/木造_合計!E$49*100,0) -> 0 | F38: =IF(木造_合計!F$49>0,木造_合計!F38/木造_合計!F$49*100,0) -> 0 | I38: 8.防水 | K38: =IF(木造_合計!K$78>0,木造_合計!K38/木造_合計!K$78*100,0) -> 0.62570022 | L38: =IF(木造_合計!L$78>0,木造_合計!L38/木造_合計!L$78*100,0) -> 9.4001002 | M38: =IF(木造_合計!M$78>0,木造_合計!M38/木造_合計!M$78*100,0) -> 0
C39: 給湯 | D39: =IF(木造_合計!D$49>0,木造_合計!D39/木造_合計!D$49*100,0) -> 6.4603384 | E39: =IF(木造_合計!E$49>0,木造_合計!E39/木造_合計!E$49*100,0) -> 0 | F39: =IF(木造_合計!F$49>0,木造_合計!F39/木造_合計!F$49*100,0) -> 0 | I39: 9.石 | K39: =IF(木造_合計!K$78>0,木造_合計!K39/木造_合計!K$78*100,0) -> 0.02228198 | L39: =IF(木造_合計!L$78>0,木造_合計!L39/木造_合計!L$78*100,0) -> 0.037099557 | M39: =IF(木造_合計!M$78>0,木造_合計!M39/木造_合計!M$78*100,0) -> 0
C40: 排水通気 | D40: =IF(木造_合計!D$49>0,木造_合計!D40/木造_合計!D$49*100,0) -> 9.0681365 | E40: =IF(木造_合計!E$49>0,木造_合計!E40/木造_合計!E$49*100,0) -> 0 | F40: =IF(木造_合計!F$49>0,木造_合計!F40/木造_合計!F$49*100,0) -> 0 | I40: 10.タイル | K40: =IF(木造_合計!K$78>0,木造_合計!K40/木造_合計!K$78*100,0) -> 0.94993426 | L40: =IF(木造_合計!L$78>0,木造_合計!L40/木造_合計!L$78*100,0) -> 0.20281091 | M40: =IF(木造_合計!M$78>0,木造_合計!M40/木造_合計!M$78*100,0) -> 0
C41: 衛生器具 | D41: =IF(木造_合計!D$49>0,木造_合計!D41/木造_合計!D$49*100,0) -> 10.181918 | E41: =IF(木造_合計!E$49>0,木造_合計!E41/木造_合計!E$49*100,0) -> 0 | F41: =IF(木造_合計!F$49>0,木造_合計!F41/木造_合計!F$49*100,0) -> 0 | I41: 11.金属 | K41: =IF(木造_合計!K$78>0,木造_合計!K41/木造_合計!K$78*100,0) -> 0.35588695 | L41: =IF(木造_合計!L$78>0,木造_合計!L41/木造_合計!L$78*100,0) -> 1.868581 | M41: =IF(木造_合計!M$78>0,木造_合計!M41/木造_合計!M$78*100,0) -> 0
C42: 消火 | D42: =IF(木造_合計!D$49>0,木造_合計!D42/木造_合計!D$49*100,0) -> 0.054669109 | E42: =IF(木造_合計!E$49>0,木造_合計!E42/木造_合計!E$49*100,0) -> 0 | F42: =IF(木造_合計!F$49>0,木造_合計!F42/木造_合計!F$49*100,0) -> 0 | I42: 12.左官 | K42: =IF(木造_合計!K$78>0,木造_合計!K42/木造_合計!K$78*100,0) -> 1.1236782 | L42: =IF(木造_合計!L$78>0,木造_合計!L42/木造_合計!L$78*100,0) -> 1.4175122 | M42: =IF(木造_合計!M$78>0,木造_合計!M42/木造_合計!M$78*100,0) -> 0
C43: ガス | D43: =IF(木造_合計!D$49>0,木造_合計!D43/木造_合計!D$49*100,0) -> 1.7269727 | E43: =IF(木造_合計!E$49>0,木造_合計!E43/木造_合計!E$49*100,0) -> 0 | F43: =IF(木造_合計!F$49>0,木造_合計!F43/木造_合計!F$49*100,0) -> 0 | I43: 13.塗装 | K43: =IF(木造_合計!K$78>0,木造_合計!K43/木造_合計!K$78*100,0) -> 1.1514439 | L43: =IF(木造_合計!L$78>0,木造_合計!L43/木造_合計!L$78*100,0) -> 0.18457029 | M43: =IF(木造_合計!M$78>0,木造_合計!M43/木造_合計!M$78*100,0) -> 0
C44: 厨房機器 | D44: =IF(木造_合計!D$49>0,木造_合計!D44/木造_合計!D$49*100,0) -> 1.5988675 | E44: =IF(木造_合計!E$49>0,木造_合計!E44/木造_合計!E$49*100,0) -> 0 | F44: =IF(木造_合計!F$49>0,木造_合計!F44/木造_合計!F$49*100,0) -> 0 | I44: 14.内外装 | K44: =IF(木造_合計!K$78>0,木造_合計!K44/木造_合計!K$78*100,0) -> 16.326097 | L44: =IF(木造_合計!L$78>0,木造_合計!L44/木造_合計!L$78*100,0) -> 4.7839878 | M44: =IF(木造_合計!M$78>0,木造_合計!M44/木造_合計!M$78*100,0) -> 0
C45: 浄化槽 | D45: =IF(木造_合計!D$49>0,木造_合計!D45/木造_合計!D$49*100,0) -> 2.1835005 | E45: =IF(木造_合計!E$49>0,木造_合計!E45/木造_合計!E$49*100,0) -> 0 | F45: =IF(木造_合計!F$49>0,木造_合計!F45/木造_合計!F$49*100,0) -> 0 | J45: 畳 | K45: =IF(木造_合計!K$78>0,木造_合計!K45/木造_合計!K$78*100,0) -> 0.4207893 | L45: =IF(木造_合計!L$78>0,木造_合計!L45/木造_合計!L$78*100,0) -> 0.037099557 | M45: =IF(木造_合計!M$78>0,木造_合計!M45/木造_合計!M$78*100,0) -> 0
C46: 上記以外の衛生設備 | D46: =IF(木造_合計!D$49>0,木造_合計!D46/木造_合計!D$49*100,0) -> 3.5224857 | E46: =IF(木造_合計!E$49>0,木造_合計!E46/木造_合計!E$49*100,0) -> 0 | F46: =IF(木造_合計!F$49>0,木造_合計!F46/木造_合計!F$49*100,0) -> 0 | J46: カーペット | K46: =IF(木造_合計!K$78>0,木造_合計!K46/木造_合計!K$78*100,0) -> 0.0049284131 | L46: =IF(木造_合計!L$78>0,木造_合計!L46/木造_合計!L$78*100,0) -> 0.077290743 | M46: =IF(木造_合計!M$78>0,木造_合計!M46/木造_合計!M$78*100,0) -> 0
B47: 4.昇降機 | D47: =IF(木造_合計!D$49>0,木造_合計!D47/木造_合計!D$49*100,0) -> 0 | E47: =IF(木造_合計!E$49>0,木造_合計!E47/木造_合計!E$49*100,0) -> 0 | F47: =IF(木造_合計!F$49>0,木造_合計!F47/木造_合計!F$49*100,0) -> 0 | J47: フローリング | K47: =IF(木造_合計!K$78>0,木造_合計!K47/木造_合計!K$78*100,0) -> 1.8843891 | L47: =IF(木造_合計!L$78>0,木造_合計!L47/木造_合計!L$78*100,0) -> 0.12830263 | M47: =IF(木造_合計!M$78>0,木造_合計!M47/木造_合計!M$78*100,0) -> 0
B48: 5.上記以外の設備 | D48: =IF(木造_合計!D$49>0,木造_合計!D48/木造_合計!D$49*100,0) -> 0.82248451 | E48: =IF(木造_合計!E$49>0,木造_合計!E48/木造_合計!E$49*100,0) -> 0 | F48: =IF(木造_合計!F$49>0,木造_合計!F48/木造_合計!F$49*100,0) -> 0 | J48: ビニル床タイル | K48: =IF(木造_合計!K$78>0,木造_合計!K48/木造_合計!K$78*100,0) -> 0.009301512 | L48: =IF(木造_合計!L$78>0,木造_合計!L48/木造_合計!L$78*100,0) -> 0 | M48: =IF(木造_合計!M$78>0,木造_合計!M48/木造_合計!M$78*100,0) -> 0
A49: 設備工事費合計 | D49: =IF(木造_合計!D$49>0,木造_合計!D49/木造_合計!D$49*100,0) -> 100 | E49: =IF(木造_合計!E$49>0,木造_合計!E49/木造_合計!E$49*100,0) -> 0 | F49: =IF(木造_合計!F$49>0,木造_合計!F49/木造_合計!F$49*100,0) -> 0 | J49: ビニル床シート | K49: =IF(木造_合計!K$78>0,木造_合計!K49/木造_合計!K$78*100,0) -> 0.21386536 | L49: =IF(木造_合計!L$78>0,木造_合計!L49/木造_合計!L$78*100,0) -> 0.0166948 | M49: =IF(木造_合計!M$78>0,木造_合計!M49/木造_合計!M$78*100,0) -> 0
J50: 化粧合板 | K50: =IF(木造_合計!K$78>0,木造_合計!K50/木造_合計!K$78*100,0) -> 0.10863333 | L50: =IF(木造_合計!L$78>0,木造_合計!L50/木造_合計!L$78*100,0) -> 0.024733038 | M50: =IF(木造_合計!M$78>0,木造_合計!M50/木造_合計!M$78*100,0) -> 0
J51: 石こうボード | K51: =IF(木造_合計!K$78>0,木造_合計!K51/木造_合計!K$78*100,0) -> 0.72093659 | L51: =IF(木造_合計!L$78>0,木造_合計!L51/木造_合計!L$78*100,0) -> 0.1085162 | M51: =IF(木造_合計!M$78>0,木造_合計!M51/木造_合計!M$78*100,0) -> 0
J52: ケイ酸カルシウム板 | K52: =IF(木造_合計!K$78>0,木造_合計!K52/木造_合計!K$78*100,0) -> 0.16853784 | L52: =IF(木造_合計!L$78>0,木造_合計!L52/木造_合計!L$78*100,0) -> 0.054721846 | M52: =IF(木造_合計!M$78>0,木造_合計!M52/木造_合計!M$78*100,0) -> 0
J53: 木毛セメント板 | K53: =IF(木造_合計!K$78>0,木造_合計!K53/木造_合計!K$78*100,0) -> 0.0012494568 | L53: =IF(木造_合計!L$78>0,木造_合計!L53/木造_合計!L$78*100,0) -> 0.012366519 | M53: =IF(木造_合計!M$78>0,木造_合計!M53/木造_合計!M$78*100,0) -> 0
J54: 壁紙・ビニルクロス張り | K54: =IF(木造_合計!K$78>0,木造_合計!K54/木造_合計!K$78*100,0) -> 2.606714 | L54: =IF(木造_合計!L$78>0,木造_合計!L54/木造_合計!L$78*100,0) -> 0.84154161 | M54: =IF(木造_合計!M$78>0,木造_合計!M54/木造_合計!M$78*100,0) -> 0
J55: ロックウール吸音板 | K55: =IF(木造_合計!K$78>0,木造_合計!K55/木造_合計!K$78*100,0) -> 0.16534479 | L55: =IF(木造_合計!L$78>0,木造_合計!L55/木造_合計!L$78*100,0) -> 0 | M55: =IF(木造_合計!M$78>0,木造_合計!M55/木造_合計!M$78*100,0) -> 0
J56: サイディング（窒業系） | K56: =IF(木造_合計!K$78>0,木造_合計!K56/木造_合計!K$78*100,0) -> 3.349169 | L56: =IF(木造_合計!L$78>0,木造_合計!L56/木造_合計!L$78*100,0) -> 1.1340098 | M56: =IF(木造_合計!M$78>0,木造_合計!M56/木造_合計!M$78*100,0) -> 0
J57: サイディング（金属系） | K57: =IF(木造_合計!K$78>0,木造_合計!K57/木造_合計!K$78*100,0) -> 2.2404843 | L57: =IF(木造_合計!L$78>0,木造_合計!L57/木造_合計!L$78*100,0) -> 0.26588016 | M57: =IF(木造_合計!M$78>0,木造_合計!M57/木造_合計!M$78*100,0) -> 0
J58: サイディング（木質系） | K58: =IF(木造_合計!K$78>0,木造_合計!K58/木造_合計!K$78*100,0) -> 0.14583938 | L58: =IF(木造_合計!L$78>0,木造_合計!L58/木造_合計!L$78*100,0) -> 0 | M58: =IF(木造_合計!M$78>0,木造_合計!M58/木造_合計!M$78*100,0) -> 0
J59: 幅木・廻り縁 | K59: =IF(木造_合計!K$78>0,木造_合計!K59/木造_合計!K$78*100,0) -> 0.40496284 | L59: =IF(木造_合計!L$78>0,木造_合計!L59/木造_合計!L$78*100,0) -> 0.035553742 | M59: =IF(木造_合計!M$78>0,木造_合計!M59/木造_合計!M$78*100,0) -> 0
J60: 断熱材 | K60: =IF(木造_合計!K$78>0,木造_合計!K60/木造_合計!K$78*100,0) -> 2.6033127 | L60: =IF(木造_合計!L$78>0,木造_合計!L60/木造_合計!L$78*100,0) -> 0.27484588 | M60: =IF(木造_合計!M$78>0,木造_合計!M60/木造_合計!M$78*100,0) -> 0
J61: 合成樹脂製品 | K61: =IF(木造_合計!K$78>0,木造_合計!K61/木造_合計!K$78*100,0) -> 0.23670266 | L61: =IF(木造_合計!L$78>0,木造_合計!L61/木造_合計!L$78*100,0) -> 0.0071107484 | M61: =IF(木造_合計!M$78>0,木造_合計!M61/木造_合計!M$78*100,0) -> 0
J62: 上記以外の内外装 | K62: =IF(木造_合計!K$78>0,木造_合計!K62/木造_合計!K$78*100,0) -> 1.0409364 | L62: =IF(木造_合計!L$78>0,木造_合計!L62/木造_合計!L$78*100,0) -> 1.7653206 | M62: =IF(木造_合計!M$78>0,木造_合計!M62/木造_合計!M$78*100,0) -> 0
I63: 15.仕上ユニット | K63: =IF(木造_合計!K$78>0,木造_合計!K63/木造_合計!K$78*100,0) -> 9.222935 | L63: =IF(木造_合計!L$78>0,木造_合計!L63/木造_合計!L$78*100,0) -> 1.7829429 | M63: =IF(木造_合計!M$78>0,木造_合計!M63/木造_合計!M$78*100,0) -> 0
J64: 収納ユニット | K64: =IF(木造_合計!K$78>0,木造_合計!K64/木造_合計!K$78*100,0) -> 0.39462012 | L64: =IF(木造_合計!L$78>0,木造_合計!L64/木造_合計!L$78*100,0) -> 0.075744928 | M64: =IF(木造_合計!M$78>0,木造_合計!M64/木造_合計!M$78*100,0) -> 0
J65: 造作家具 | K65: =IF(木造_合計!K$78>0,木造_合計!K65/木造_合計!K$78*100,0) -> 0.62542534 | L65: =IF(木造_合計!L$78>0,木造_合計!L65/木造_合計!L$78*100,0) -> 0.30514385 | M65: =IF(木造_合計!M$78>0,木造_合計!M65/木造_合計!M$78*100,0) -> 0
J66: 下足入れ | K66: =IF(木造_合計!K$78>0,木造_合計!K66/木造_合計!K$78*100,0) -> 0.32362876 | L66: =IF(木造_合計!L$78>0,木造_合計!L66/木造_合計!L$78*100,0) -> 0.020404756 | M66: =IF(木造_合計!M$78>0,木造_合計!M66/木造_合計!M$78*100,0) -> 0
J67: キッチンユニット | K67: =IF(木造_合計!K$78>0,木造_合計!K67/木造_合計!K$78*100,0) -> 3.473043 | L67: =IF(木造_合計!L$78>0,木造_合計!L67/木造_合計!L$78*100,0) -> 0.37717883 | M67: =IF(木造_合計!M$78>0,木造_合計!M67/木造_合計!M$78*100,0) -> 0
J68: ユニットバス | K68: =IF(木造_合計!K$78>0,木造_合計!K68/木造_合計!K$78*100,0) -> 2.5610144 | L68: =IF(木造_合計!L$78>0,木造_合計!L68/木造_合計!L$78*100,0) -> 0.48414921 | M68: =IF(木造_合計!M$78>0,木造_合計!M68/木造_合計!M$78*100,0) -> 0
J69: 浴槽 | K69: =IF(木造_合計!K$78>0,木造_合計!K69/木造_合計!K$78*100,0) -> 0.2018678 | L69: =IF(木造_合計!L$78>0,木造_合計!L69/木造_合計!L$78*100,0) -> 0 | M69: =IF(木造_合計!M$78>0,木造_合計!M69/木造_合計!M$78*100,0) -> 0
J70: 洗面化粧台 | K70: =IF(木造_合計!K$78>0,木造_合計!K70/木造_合計!K$78*100,0) -> 0.57735179 | L70: =IF(木造_合計!L$78>0,木造_合計!L70/木造_合計!L$78*100,0) -> 0.021023082 | M70: =IF(木造_合計!M$78>0,木造_合計!M70/木造_合計!M$78*100,0) -> 0
J71: ベランダユニット | K71: =IF(木造_合計!K$78>0,木造_合計!K71/木造_合計!K$78*100,0) -> 0.040260276 | L71: =IF(木造_合計!L$78>0,木造_合計!L71/木造_合計!L$78*100,0) -> 0 | M71: =IF(木造_合計!M$78>0,木造_合計!M71/木造_合計!M$78*100,0) -> 0
J72: 天井収納ハシゴ | K72: =IF(木造_合計!K$78>0,木造_合計!K72/木造_合計!K$78*100,0) -> 0.027904536 | L72: =IF(木造_合計!L$78>0,木造_合計!L72/木造_合計!L$78*100,0) -> 0 | M72: =IF(木造_合計!M$78>0,木造_合計!M72/木造_合計!M$78*100,0) -> 0
J73: 床下収納庫 | K73: =IF(木造_合計!K$78>0,木造_合計!K73/木造_合計!K$78*100,0) -> 0.035767784 | L73: =IF(木造_合計!L$78>0,木造_合計!L73/木造_合計!L$78*100,0) -> 0.0061832594 | M73: =IF(木造_合計!M$78>0,木造_合計!M73/木造_合計!M$78*100,0) -> 0
J74: ブラインド・カーテン | K74: =IF(木造_合計!K$78>0,木造_合計!K74/木造_合計!K$78*100,0) -> 0.34593295 | L74: =IF(木造_合計!L$78>0,木造_合計!L74/木造_合計!L$78*100,0) -> 0.027206342 | M74: =IF(木造_合計!M$78>0,木造_合計!M74/木造_合計!M$78*100,0) -> 0
J75: カーテンレール | K75: =IF(木造_合計!K$78>0,木造_合計!K75/木造_合計!K$78*100,0) -> 0.11404209 | L75: =IF(木造_合計!L$78>0,木造_合計!L75/木造_合計!L$78*100,0) -> 0.030916297 | M75: =IF(木造_合計!M$78>0,木造_合計!M75/木造_合計!M$78*100,0) -> 0
J76: 上記以外の仕上ユニット | K76: =IF(木造_合計!K$78>0,木造_合計!K76/木造_合計!K$78*100,0) -> 0.50207618 | L76: =IF(木造_合計!L$78>0,木造_合計!L76/木造_合計!L$78*100,0) -> 0.4349923 | M76: =IF(木造_合計!M$78>0,木造_合計!M76/木造_合計!M$78*100,0) -> 0
I77: 16.その他 | K77: =IF(木造_合計!K$78>0,木造_合計!K77/木造_合計!K$78*100,0) -> 2.449699 | L77: =IF(木造_合計!L$78>0,木造_合計!L77/木造_合計!L$78*100,0) -> 3.8271284 | M77: =IF(木造_合計!M$78>0,木造_合計!M77/木造_合計!M$78*100,0) -> 0
H78: 建築工事費合計 | K78: =IF(木造_合計!K$78>0,木造_合計!K78/木造_合計!K$78*100,0) -> 100 | L78: =IF(木造_合計!L$78>0,木造_合計!L78/木造_合計!L$78*100,0) -> 100 | M78: =IF(木造_合計!M$78>0,木造_合計!M78/木造_合計!M$78*100,0) -> 0

Sheet 木造_居住専用
A2: 表1-2 平成27年建築工事費投入調査集計表（木造_居住専用住宅）
A4: （単位：千円） | D4: =木造_データ!I4 -> 71 | E4: =木造_データ!J4 -> 4 | F4: =木造_データ!K4 -> 0 | K4: =D4 -> 71 | L4: =E4 -> 4 | M4: =F4 -> 0
D5: 建築工事・ 設備工事 一貫受注 | E5: 建築工事 のみ受注 | F5: 設備工事 のみ受注 | K5: 建築工事・ 設備工事 一貫受注 | L5: 建築工事 のみ受注 | M5: 設備工事 のみ受注
A6: 工事費内訳 | B6: 1.建築工事費 | D6: =木造_データ!I9 -> 1174254 | E6: =木造_データ!J9 -> 56827 | F6: =木造_データ!K9 -> 0 | H6: 建築工事費科目別内訳 | I6: 1.仮設 | K6: =木造_データ!I17 -> 44939 | L6: =木造_データ!J17 -> 3178 | M6: =木造_データ!K17 -> 0
B7: 2.設備工事費 | D7: =木造_データ!I10 -> 178906 | E7: =木造_データ!J10 -> 0 | F7: =木造_データ!K10 -> 0 | I7: 2.基礎 | K7: =木造_データ!I18 -> 111651 | L7: =木造_データ!J18 -> 5655 | M7: =木造_データ!K18 -> 0
B8: 3.解体・撤去費 | D8: =木造_データ!I11 -> 30322 | E8: =木造_データ!J11 -> 1250 | F8: =木造_データ!K11 -> 0 | I8: 3.木工 | K8: =木造_データ!I19 -> 419550 | L8: =木造_データ!J19 -> 18266 | M8: =木造_データ!K19 -> 0
B9: 4.屋外施設費 | D9: =木造_データ!I12 -> 38834 | E9: =木造_データ!J12 -> 1950 | F9: =木造_データ!K12 -> 0 | J9: 構造材 | K9: =木造_データ!I20 -> 129195.09 | L9: =木造_データ!J20 -> 5139 | M9: =木造_データ!K20 -> 0
B10: 5.現場管理費 | D10: =木造_データ!I13 -> 62236 | E10: =木造_データ!J13 -> 1470 | F10: =木造_データ!K13 -> 0 | J10: 造作材 | K10: =木造_データ!I21 -> 37646.39 | L10: =木造_データ!J21 -> 2250 | M10: =木造_データ!K21 -> 0
B11: 6.工事原価 | D11: =木造_データ!I14 -> 1484552 | E11: =木造_データ!J14 -> 61497 | F11: =木造_データ!K14 -> 0 | J11: 板材 | K11: =木造_データ!I22 -> 20880.01 | L11: =木造_データ!J22 -> 599 | M11: =木造_データ!K22 -> 0
B12: 7.一般管理費等 | D12: =木造_データ!I15 -> 82947 | E12: =木造_データ!J15 -> 7550 | F12: =木造_データ!K15 -> 0 | J12: 合板 | K12: =木造_データ!I23 -> 19067.6 | L12: =木造_データ!J23 -> 1650 | M12: =木造_データ!K23 -> 0
A13: 8.工事価格 | D13: =木造_データ!I16 -> 1567499 | E13: =木造_データ!J16 -> 69047 | F13: =木造_データ!K16 -> 0 | J13: 釘・金物 | K13: =木造_データ!I24 -> 13147.11 | L13: =木造_データ!J24 -> 1449 | M13: =木造_データ!K24 -> 0
J14: 大工手間（施工費） | K14: =木造_データ!I25 -> 178930.9 | L14: =木造_データ!J25 -> 7029 | M14: =木造_データ!K25 -> 0
A15: 設備工事費科目別内訳 | B15: 1.電気 | D15: =木造_データ!I90 -> 62171 | E15: =木造_データ!J90 -> 0 | F15: =木造_データ!K90 -> 0 | J15: 上記以外の木工 | K15: =木造_データ!I26 -> 20682.9 | L15: =木造_データ!J26 -> 150 | M15: =木造_データ!K26 -> 0
C16: 受変電・電力引込 | D16: =木造_データ!I91 -> 4843.7 | E16: =木造_データ!J91 -> 0 | F16: =木造_データ!K91 -> 0 | I16: 4.屋根 | K16: =木造_データ!I27 -> 67946 | L16: =木造_データ!J27 -> 4053 | M16: =木造_データ!K27 -> 0
C17: 幹線・動力 | D17: =木造_データ!I92 -> 5620.11 | E17: =木造_データ!J92 -> 0 | F17: =木造_データ!K92 -> 0 | J17: 瓦 | K17: =木造_データ!I28 -> 15835 | L17: =木造_データ!J28 -> 655 | M17: =木造_データ!K28 -> 0
C18: 電灯コンセント | D18: =木造_データ!I93 -> 16076.22 | E18: =木造_データ!J93 -> 0 | F18: =木造_データ!K93 -> 0 | J18: セメント瓦 | K18: =木造_データ!I29 -> 604 | L18: =木造_データ!J29 -> 0 | M18: =木造_データ!K29 -> 0
C19: 照明器具 | D19: =木造_データ!I94 -> 13901.28 | E19: =木造_データ!J94 -> 0 | F19: =木造_データ!K94 -> 0 | J19: 金属板葺き | K19: =木造_データ!I30 -> 33618 | L19: =木造_データ!J30 -> 2123 | M19: =木造_データ!K30 -> 0
C20: 電話・電話配管・IT設備 | D20: =木造_データ!I95 -> 2221.88 | E20: =木造_データ!J95 -> 0 | F20: =木造_データ!K95 -> 0 | J20: 化粧スレート | K20: =木造_データ!I31 -> 3123.9 | L20: =木造_データ!J31 -> 840 | M20: =木造_データ!K31 -> 0
C21: テレビ共聴 | D21: =木造_データ!I96 -> 2320.88 | E21: =木造_データ!J96 -> 0 | F21: =木造_データ!K96 -> 0 | J21: 雨どい | K21: =木造_データ!I32 -> 10460.1 | L21: =木造_データ!J32 -> 435 | M21: =木造_データ!K32 -> 0
C22: インターホン・拡声 | D22: =木造_データ!I97 -> 1338.94 | E22: =木造_データ!J97 -> 0 | F22: =木造_データ!K97 -> 0 | J22: 上記以外の屋根 | K22: =木造_データ!I33 -> 4305 | L22: =木造_データ!J33 -> 0 | M22: =木造_データ!K33 -> 0
C23: 防災 | D23: =木造_データ!I98 -> 739.88 | E23: =木造_データ!J98 -> 0 | F23: =木造_データ!K98 -> 0 | I23: 5.金属製建具 | K23: =木造_データ!I34 -> 84739 | L23: =木造_データ!J34 -> 5530 | M23: =木造_データ!K34 -> 0
C24: 避雷針 | D24: =木造_データ!I99 -> 0 | E24: =木造_データ!J99 -> 0 | F24: =木造_データ!K99 -> 0 | J24: アルミニウム製建具 | K24: =木造_データ!I35 -> 54383.3 | L24: =木造_データ!J35 -> 3040 | M24: =木造_データ!K35 -> 0
C25: 蓄電池 | D25: =木造_データ!I100 -> 0 | E25: =木造_データ!J100 -> 0 | F25: =木造_データ!K100 -> 0 | J25: 鋼製建具 | K25: =木造_データ!I36 -> 9438 | L25: =木造_データ!J36 -> 350 | M25: =木造_データ!K36 -> 0
C26: 屋外施設の電気設備（外灯、門灯） | D26: =木造_データ!I101 -> 845.47 | E26: =木造_データ!J101 -> 0 | F26: =木造_データ!K101 -> 0 | J26: ステンレス製建具 | K26: =木造_データ!I37 -> 1617 | L26: =木造_データ!J37 -> 0 | M26: =木造_データ!K37 -> 0
C27: 上記以外の電気設備 | D27: =木造_データ!I102 -> 9113.64 | E27: =木造_データ!J102 -> 0 | F27: =木造_データ!K102 -> 0 | J27: 金属製玄関ドア | K27: =木造_データ!I38 -> 8887.8 | L27: =木造_データ!J38 -> 810 | M27: =木造_データ!K38 -> 0
B28: 2.空調 | D28: =木造_データ!I103 -> 30585 | E28: =木造_データ!J103 -> 0 | F28: =木造_データ!K103 -> 0 | J28: 雨戸・シャッター | K28: =木造_データ!I39 -> 1647.95 | L28: =木造_データ!J39 -> 790 | M28: =木造_データ!K39 -> 0
C29: 空調機器 | D29: =木造_データ!I104 -> 11223.91 | E29: =木造_データ!J104 -> 0 | F29: =木造_データ!K104 -> 0 | J29: 上記以外の金属製建具 | K29: =木造_データ!I40 -> 8764.95 | L29: =木造_データ!J40 -> 540 | M29: =木造_データ!K40 -> 0
C30: ダクト | D30: =木造_データ!I105 -> 267.38 | E30: =木造_データ!J105 -> 0 | F30: =木造_データ!K105 -> 0 | I30: 6.木製建具 | K30: =木造_データ!I41 -> 53464 | L30: =木造_データ!J41 -> 1324 | M30: =木造_データ!K41 -> 0
C31: 空調配管 | D31: =木造_データ!I106 -> 680.52 | E31: =木造_データ!J106 -> 0 | F31: =木造_データ!K106 -> 0 | J31: 木製ドア | K31: =木造_データ!I42 -> 34498.08 | L31: =木造_データ!J42 -> 714 | M31: =木造_データ!K42 -> 0
C32: 自動制御 | D32: =木造_データ!I107 -> 0 | E32: =木造_データ!J107 -> 0 | F32: =木造_データ!K107 -> 0 | J32: 木製玄関ドア | K32: =木造_データ!I43 -> 1453 | L32: =木造_データ!J43 -> 0 | M32: =木造_データ!K43 -> 0
C33: 換気 | D33: =木造_データ!I108 -> 6860.63 | E33: =木造_データ!J108 -> 0 | F33: =木造_データ!K108 -> 0 | J33: ふすま | K33: =木造_データ!I44 -> 3206 | L33: =木造_データ!J44 -> 0 | M33: =木造_データ!K44 -> 0
C34: 床暖房 | D34: =木造_データ!I109 -> 4630.28 | E34: =木造_データ!J109 -> 0 | F34: =木造_データ!K109 -> 0 | J34: 障子 | K34: =木造_データ!I45 -> 2285 | L34: =木造_データ!J45 -> 60 | M34: =木造_データ!K45 -> 0
C35: パッシブソーラーシステム | D35: =木造_データ!I110 -> 2416.45 | E35: =木造_データ!J110 -> 0 | F35: =木造_データ!K110 -> 0 | J35: 木製建具金物 | K35: =木造_データ!I46 -> 1657 | L35: =木造_データ!J46 -> 450 | M35: =木造_データ!K46 -> 0
C36: 上記以外の空調設備 | D36: =木造_データ!I111 -> 3307.83 | E36: =木造_データ!J111 -> 0 | F36: =木造_データ!K111 -> 0 | J36: 上記以外の木製建具 | K36: =木造_データ!I47 -> 10364.92 | L36: =木造_データ!J47 -> 100 | M36: =木造_データ!K47 -> 0
B37: 3.衛生 | D37: =木造_データ!I112 -> 84134 | E37: =木造_データ!J112 -> 0 | F37: =木造_データ!K112 -> 0 | I37: 7.ガラス | K37: =木造_データ!I48 -> 4381 | L37: =木造_データ!J48 -> 180 | M37: =木造_データ!K48 -> 0
C38: 給水 | D38: =木造_データ!I113 -> 15091 | E38: =木造_データ!J113 -> 0 | F38: =木造_データ!K113 -> 0 | I38: 8.防水 | K38: =木造_データ!I49 -> 7239 | L38: =木造_データ!J49 -> 145 | M38: =木造_データ!K49 -> 0
C39: 給湯 | D39: =木造_データ!I114 -> 11944 | E39: =木造_データ!J114 -> 0 | F39: =木造_データ!K114 -> 0 | I39: 9.石 | K39: =木造_データ!I50 -> 201 | L39: =木造_データ!J50 -> 120 | M39: =木造_データ!K50 -> 0
C40: 排水通気 | D40: =木造_データ!I115 -> 15114 | E40: =木造_データ!J115 -> 0 | F40: =木造_データ!K115 -> 0 | I40: 10.タイル | K40: =木造_データ!I51 -> 8968 | L40: =木造_データ!J51 -> 506 | M40: =木造_データ!K51 -> 0
C41: 衛生器具 | D41: =木造_データ!I116 -> 15956 | E41: =木造_データ!J116 -> 0 | F41: =木造_データ!K116 -> 0 | I41: 11.金属 | K41: =木造_データ!I52 -> 2275 | L41: =木造_データ!J52 -> 80 | M41: =木造_データ!K52 -> 0
C42: 消火 | D42: =木造_データ!I117 -> 0 | E42: =木造_データ!J117 -> 0 | F42: =木造_データ!K117 -> 0 | I42: 12.左官 | K42: =木造_データ!I53 -> 13543 | L42: =木造_データ!J53 -> 535 | M42: =木造_データ!K53 -> 0
C43: ガス | D43: =木造_データ!I118 -> 3422 | E43: =木造_データ!J118 -> 0 | F43: =木造_データ!K118 -> 0 | I43: 13.塗装 | K43: =木造_データ!I54 -> 13003 | L43: =木造_データ!J54 -> 437 | M43: =木造_データ!K54 -> 0
C44: 厨房機器 | D44: =木造_データ!I119 -> 3841 | E44: =木造_データ!J119 -> 0 | F44: =木造_データ!K119 -> 0 | I44: 14.内外装 | K44: =木造_データ!I55 -> 205412 | L44: =木造_データ!J55 -> 7954 | M44: =木造_データ!K55 -> 0
C45: 浄化槽 | D45: =木造_データ!I120 -> 5257 | E45: =木造_データ!J120 -> 0 | F45: =木造_データ!K120 -> 0 | J45: 畳 | K45: =木造_データ!I56 -> 5061 | L45: =木造_データ!J56 -> 120 | M45: =木造_データ!K56 -> 0
C46: 上記以外の衛生設備 | D46: =木造_データ!I121 -> 8634 | E46: =木造_データ!J121 -> 0 | F46: =木造_データ!K121 -> 0 | J46: カーペット | K46: =木造_データ!I57 -> 33 | L46: =木造_データ!J57 -> 0 | M46: =木造_データ!K57 -> 0
B47: 4.昇降機 | D47: =木造_データ!I122 -> 0 | E47: =木造_データ!J122 -> 0 | F47: =木造_データ!K122 -> 0 | J47: フローリング | K47: =木造_データ!I58 -> 24029 | L47: =木造_データ!J58 -> 295 | M47: =木造_データ!K58 -> 0
B48: 5.上記以外の設備 | D48: =木造_データ!I123 -> 2016 | E48: =木造_データ!J123 -> 0 | F48: =木造_データ!K123 -> 0 | J48: ビニル床タイル | K48: =木造_データ!I59 -> 134 | L48: =木造_データ!J59 -> 0 | M48: =木造_データ!K59 -> 0
A49: 設備工事費合計 | D49: =木造_データ!I124 -> 178906 | E49: =木造_データ!J124 -> 0 | F49: =木造_データ!K124 -> 0 | J49: ビニル床シート | K49: =木造_データ!I60 -> 564 | L49: =木造_データ!J60 -> 38 | M49: =木造_データ!K60 -> 0
J50: 化粧合板 | K50: =木造_データ!I61 -> 1345 | L50: =木造_データ!J61 -> 80 | M50: =木造_データ!K61 -> 0
J51: 石こうボード | K51: =木造_データ!I62 -> 8960 | L51: =木造_データ!J62 -> 135 | M51: =木造_データ!K62 -> 0
J52: ケイ酸カルシウム板 | K52: =木造_データ!I63 -> 2308 | L52: =木造_データ!J63 -> 135 | M52: =木造_データ!K63 -> 0
J53: 木毛セメント板 | K53: =木造_データ!I64 -> 18 | L53: =木造_データ!J64 -> 40 | M53: =木造_データ!K64 -> 0
J54: 壁紙・ビニルクロス張り | K54: =木造_データ!I65 -> 34879 | L54: =木造_データ!J65 -> 1469 | M54: =木造_データ!K65 -> 0
J55: ロックウール吸音板 | K55: =木造_データ!I66 -> 1054 | L55: =木造_データ!J66 -> 0 | M55: =木造_データ!K66 -> 0
J56: サイディング（窒業系） | K56: =木造_データ!I67 -> 36674 | L56: =木造_データ!J67 -> 3138 | M56: =木造_データ!K67 -> 0
J57: サイディング（金属系） | K57: =木造_データ!I68 -> 29576 | L57: =木造_データ!J68 -> 860 | M57: =木造_データ!K68 -> 0
J58: サイディング（木質系） | K58: =木造_データ!I69 -> 2101 | L58: =木造_データ!J69 -> 0 | M58: =木造_データ!K69 -> 0
J59: 幅木・廻り縁 | K59: =木造_データ!I70 -> 5442 | L59: =木造_データ!J70 -> 100 | M59: =木造_データ!K70 -> 0
J60: 断熱材 | K60: =木造_データ!I71 -> 35214 | L60: =木造_データ!J71 -> 778 | M60: =木造_データ!K71 -> 0
J61: 合成樹脂製品 | K61: =木造_データ!I72 -> 3189 | L61: =木造_データ!J72 -> 0 | M61: =木造_データ!K72 -> 0
J62: 上記以外の内外装 | K62: =木造_データ!I73 -> 14831 | L62: =木造_データ!J73 -> 766 | M62: =木造_データ!K73 -> 0
I63: 15.仕上ユニット | K63: =木造_データ!I74 -> 112754 | L63: =木造_データ!J74 -> 3285 | M63: =木造_データ!K74 -> 0
J64: 収納ユニット | K64: =木造_データ!I75 -> 4039 | L64: =木造_データ!J75 -> 245 | M64: =木造_データ!K75 -> 0
J65: 造作家具 | K65: =木造_データ!I76 -> 4600.04 | L65: =木造_データ!J76 -> 0 | M65: =木造_データ!K76 -> 0
J66: 下足入れ | K66: =木造_データ!I77 -> 3170.28 | L66: =木造_データ!J77 -> 66 | M66: =木造_データ!K77 -> 0
J67: キッチンユニット | K67: =木造_データ!I78 -> 43462.56 | L67: =木造_データ!J78 -> 1220 | M67: =木造_データ!K78 -> 0
J68: ユニットバス | K68: =木造_データ!I79 -> 35498.64 | L68: =木造_データ!J79 -> 1566 | M68: =木造_データ!K79 -> 0
J69: 浴槽 | K69: =木造_データ!I80 -> 1480.16 | L69: =木造_データ!J80 -> 0 | M69: =木造_データ!K80 -> 0
J70: 洗面化粧台 | K70: =木造_データ!I81 -> 7767.48 | L70: =木造_データ!J81 -> 68 | M70: =木造_データ!K81 -> 0
J71: ベランダユニット | K71: =木造_データ!I82 -> 580 | L71: =木造_データ!J82 -> 0 | M71: =木造_データ!K82 -> 0
J72: 天井収納ハシゴ | K72: =木造_データ!I83 -> 252 | L72: =木造_データ!J83 -> 0 | M72: =木造_データ!K83 -> 0
J73: 床下収納庫 | K73: =木造_データ!I84 -> 457.28 | L73: =木造_データ!J84 -> 20 | M73: =木造_データ!K84 -> 0
J74: ブラインド・カーテン | K74: =木造_データ!I85 -> 4026.6 | L74: =木造_データ!J85 -> 0 | M74: =木造_データ!K85 -> 0
J75: カーテンレール | K75: =木造_データ!I86 -> 1023.92 | L75: =木造_データ!J86 -> 100 | M75: =木造_データ!K86 -> 0
J76: 上記以外の仕上ユニット | K76: =木造_データ!I87 -> 6396.04 | L76: =木造_データ!J87 -> 0 | M76: =木造_データ!K87 -> 0
I77: 16.その他 | K77: =木造_データ!I88 -> 24189 | L77: =木造_データ!J88 -> 5579 | M77: =木造_データ!K88 -> 0
H78: 建築工事費合計 | K78: =木造_データ!I89 -> 1174254 | L78: =木造_データ!J89 -> 56827 | M78: =木造_データ!K89 -> 0

Sheet 木造_居住専用（比率）
A2: =木造_居住専用!A2:M2 -> 表1-2 平成27年建築工事費投入調査集計表（木造_居住専用住宅）
A4: （単位：％） | D4: =木造_居住専用!D4 -> 71 | E4: =木造_居住専用!E4 -> 4 | F4: =木造_居住専用!F4 -> 0 | K4: =木造_居住専用!K4 -> 71 | L4: =木造_居住専用!L4 -> 4 | M4: =木造_居住専用!M4 -> 0
D5: 建築工事・設備工事 一貫受注 | E5: 建築工事 のみ受注 | F5: 設備工事 のみ受注 | K5: 建築工事・設備工事 一貫受注 | L5: 建築工事 のみ受注 | M5: 設備工事 のみ受注
A6: 工事費内訳 | B6: 1.建築工事費 | D6: =IF(木造_居住専用!D$13>0,木造_居住専用!D6/木造_居住専用!D$13*100,0) -> 74.912584 | E6: =IF(木造_居住専用!E$13>0,木造_居住専用!E6/木造_居住専用!E$13*100,0) -> 82.30191 | F6: =IF(木造_居住専用!F$13>0,木造_居住専用!F6/木造_居住専用!F$13*100,0) -> 0 | H6: 建築工事費科目別内訳 | I6: 1.仮設 | K6: =IF(木造_居住専用!K$78>0,木造_居住専用!K6/木造_居住専用!K$78*100,0) -> 3.8270255 | L6: =IF(木造_居住専用!L$78>0,木造_居住専用!L6/木造_居住専用!L$78*100,0) -> 5.5924121 | M6: =IF(木造_居住専用!M$78>0,木造_居住専用!M6/木造_居住専用!M$78*100,0) -> 0
B7: 2.設備工事費 | D7: =IF(木造_居住専用!D$13>0,木造_居住専用!D7/木造_居住専用!D$13*100,0) -> 11.413468 | E7: =IF(木造_居住専用!E$13>0,木造_居住専用!E7/木造_居住専用!E$13*100,0) -> 0 | F7: =IF(木造_居住専用!F$13>0,木造_居住専用!F7/木造_居住専用!F$13*100,0) -> 0 | I7: 2.基礎 | K7: =IF(木造_居住専用!K$78>0,木造_居住専用!K7/木造_居住専用!K$78*100,0) -> 9.5082495 | L7: =IF(木造_居住専用!L$78>0,木造_居住専用!L7/木造_居住専用!L$78*100,0) -> 9.9512556 | M7: =IF(木造_居住専用!M$78>0,木造_居住専用!M7/木造_居住専用!M$78*100,0) -> 0
B8: 3.解体・撤去費 | D8: =IF(木造_居住専用!D$13>0,木造_居住専用!D8/木造_居住専用!D$13*100,0) -> 1.9344191 | E8: =IF(木造_居住専用!E$13>0,木造_居住専用!E8/木造_居住専用!E$13*100,0) -> 1.8103611 | F8: =IF(木造_居住専用!F$13>0,木造_居住専用!F8/木造_居住専用!F$13*100,0) -> 0 | I8: 3.木工 | K8: =IF(木造_居住専用!K$78>0,木造_居住専用!K8/木造_居住専用!K$78*100,0) -> 35.729067 | L8: =IF(木造_居住専用!L$78>0,木造_居住専用!L8/木造_居住専用!L$78*100,0) -> 32.143171 | M8: =IF(木造_居住専用!M$78>0,木造_居住専用!M8/木造_居住専用!M$78*100,0) -> 0
B9: 4.屋外施設費 | D9: =IF(木造_居住専用!D$13>0,木造_居住専用!D9/木造_居住専用!D$13*100,0) -> 2.4774497 | E9: =IF(木造_居住専用!E$13>0,木造_居住専用!E9/木造_居住専用!E$13*100,0) -> 2.8241633 | F9: =IF(木造_居住専用!F$13>0,木造_居住専用!F9/木造_居住専用!F$13*100,0) -> 0 | J9: 構造材 | K9: =IF(木造_居住専用!K$78>0,木造_居住専用!K9/木造_居住専用!K$78*100,0) -> 11.002312 | L9: =IF(木造_居住専用!L$78>0,木造_居住専用!L9/木造_居住専用!L$78*100,0) -> 9.0432365 | M9: =IF(木造_居住専用!M$78>0,木造_居住専用!M9/木造_居住専用!M$78*100,0) -> 0
B10: 5.現場管理費 | D10: =IF(木造_居住専用!D$13>0,木造_居住専用!D10/木造_居住専用!D$13*100,0) -> 3.9704013 | E10: =IF(木造_居住専用!E$13>0,木造_居住専用!E10/木造_居住専用!E$13*100,0) -> 2.1289846 | F10: =IF(木造_居住専用!F$13>0,木造_居住専用!F10/木造_居住専用!F$13*100,0) -> 0 | J10: 造作材 | K10: =IF(木造_居住専用!K$78>0,木造_居住専用!K10/木造_居住専用!K$78*100,0) -> 3.2059835 | L10: =IF(木造_居住専用!L$78>0,木造_居住専用!L10/木造_居住専用!L$78*100,0) -> 3.9593855 | M10: =IF(木造_居住専用!M$78>0,木造_居住専用!M10/木造_居住専用!M$78*100,0) -> 0
B11: 6.工事原価 | D11: =IF(木造_居住専用!D$13>0,木造_居住専用!D11/木造_居住専用!D$13*100,0) -> 94.708322 | E11: =IF(木造_居住専用!E$13>0,木造_居住専用!E11/木造_居住専用!E$13*100,0) -> 89.065419 | F11: =IF(木造_居住専用!F$13>0,木造_居住専用!F11/木造_居住専用!F$13*100,0) -> 0 | J11: 板材 | K11: =IF(木造_居住専用!K$78>0,木造_居住専用!K11/木造_居住専用!K$78*100,0) -> 1.7781511 | L11: =IF(木造_居住専用!L$78>0,木造_居住専用!L11/木造_居住専用!L$78*100,0) -> 1.0540764 | M11: =IF(木造_居住専用!M$78>0,木造_居住専用!M11/木造_居住専用!M$78*100,0) -> 0
B12: 7.一般管理費等 | D12: =IF(木造_居住専用!D$13>0,木造_居住専用!D12/木造_居住専用!D$13*100,0) -> 5.291678 | E12: =IF(木造_居住専用!E$13>0,木造_居住専用!E12/木造_居住専用!E$13*100,0) -> 10.934581 | F12: =IF(木造_居住専用!F$13>0,木造_居住専用!F12/木造_居住専用!F$13*100,0) -> 0 | J12: 合板 | K12: =IF(木造_居住専用!K$78>0,木造_居住専用!K12/木造_居住専用!K$78*100,0) -> 1.6238054 | L12: =IF(木造_居住専用!L$78>0,木造_居住専用!L12/木造_居住専用!L$78*100,0) -> 2.9035494 | M12: =IF(木造_居住専用!M$78>0,木造_居住専用!M12/木造_居住専用!M$78*100,0) -> 0
A13: 8.工事価格 | D13: =IF(木造_居住専用!D$13>0,木造_居住専用!D13/木造_居住専用!D$13*100,0) -> 100 | E13: =IF(木造_居住専用!E$13>0,木造_居住専用!E13/木造_居住専用!E$13*100,0) -> 100 | F13: =IF(木造_居住専用!F$13>0,木造_居住専用!F13/木造_居住専用!F$13*100,0) -> 0 | J13: 釘・金物 | K13: =IF(木造_居住専用!K$78>0,木造_居住専用!K13/木造_居住専用!K$78*100,0) -> 1.1196138 | L13: =IF(木造_居住専用!L$78>0,木造_居住専用!L13/木造_居住専用!L$78*100,0) -> 2.5498443 | M13: =IF(木造_居住専用!M$78>0,木造_居住専用!M13/木造_居住専用!M$78*100,0) -> 0
J14: 大工手間（施工費） | K14: =IF(木造_居住専用!K$78>0,木造_居住専用!K14/木造_居住専用!K$78*100,0) -> 15.237836 | L14: =IF(木造_居住専用!L$78>0,木造_居住専用!L14/木造_居住専用!L$78*100,0) -> 12.36912 | M14: =IF(木造_居住専用!M$78>0,木造_居住専用!M14/木造_居住専用!M$78*100,0) -> 0
A15: 設備工事費科目別内訳 | B15: 1.電気 | D15: =IF(木造_居住専用!D$49>0,木造_居住専用!D15/木造_居住専用!D$49*100,0) -> 34.750651 | E15: =IF(木造_居住専用!E$49>0,木造_居住専用!E15/木造_居住専用!E$49*100,0) -> 0 | F15: =IF(木造_居住専用!F$49>0,木造_居住専用!F15/木造_居住専用!F$49*100,0) -> 0 | J15: 上記以外の木工 | K15: =IF(木造_居住専用!K$78>0,木造_居住専用!K15/木造_居住専用!K$78*100,0) -> 1.7613651 | L15: =IF(木造_居住専用!L$78>0,木造_居住専用!L15/木造_居住専用!L$78*100,0) -> 0.26395903 | M15: =IF(木造_居住専用!M$78>0,木造_居住専用!M15/木造_居住専用!M$78*100,0) -> 0
C16: 受変電・電力引込 | D16: =IF(木造_居住専用!D$49>0,木造_居住専用!D16/木造_居住専用!D$49*100,0) -> 2.7073994 | E16: =IF(木造_居住専用!E$49>0,木造_居住専用!E16/木造_居住専用!E$49*100,0) -> 0 | F16: =IF(木造_居住専用!F$49>0,木造_居住専用!F16/木造_居住専用!F$49*100,0) -> 0 | I16: 4.屋根 | K16: =IF(木造_居住専用!K$78>0,木造_居住専用!K16/木造_居住専用!K$78*100,0) -> 5.786312 | L16: =IF(木造_居住専用!L$78>0,木造_居住専用!L16/木造_居住専用!L$78*100,0) -> 7.1321731 | M16: =IF(木造_居住専用!M$78>0,木造_居住専用!M16/木造_居住専用!M$78*100,0) -> 0
C17: 幹線・動力 | D17: =IF(木造_居住専用!D$49>0,木造_居住専用!D17/木造_居住専用!D$49*100,0) -> 3.1413759 | E17: =IF(木造_居住専用!E$49>0,木造_居住専用!E17/木造_居住専用!E$49*100,0) -> 0 | F17: =IF(木造_居住専用!F$49>0,木造_居住専用!F17/木造_居住専用!F$49*100,0) -> 0 | J17: 瓦 | K17: =IF(木造_居住専用!K$78>0,木造_居住専用!K17/木造_居住専用!K$78*100,0) -> 1.3485157 | L17: =IF(木造_居住専用!L$78>0,木造_居住専用!L17/木造_居住専用!L$78*100,0) -> 1.1526211 | M17: =IF(木造_居住専用!M$78>0,木造_居住専用!M17/木造_居住専用!M$78*100,0) -> 0
C18: 電灯コンセント | D18: =IF(木造_居住専用!D$49>0,木造_居住専用!D18/木造_居住専用!D$49*100,0) -> 8.9858473 | E18: =IF(木造_居住専用!E$49>0,木造_居住専用!E18/木造_居住専用!E$49*100,0) -> 0 | F18: =IF(木造_居住専用!F$49>0,木造_居住専用!F18/木造_居住専用!F$49*100,0) -> 0 | J18: セメント瓦 | K18: =IF(木造_居住専用!K$78>0,木造_居住専用!K18/木造_居住専用!K$78*100,0) -> 0.051436912 | L18: =IF(木造_居住専用!L$78>0,木造_居住専用!L18/木造_居住専用!L$78*100,0) -> 0 | M18: =IF(木造_居住専用!M$78>0,木造_居住専用!M18/木造_居住専用!M$78*100,0) -> 0
C19: 照明器具 | D19: =IF(木造_居住専用!D$49>0,木造_居住専用!D19/木造_居住専用!D$49*100,0) -> 7.7701586 | E19: =IF(木造_居住専用!E$49>0,木造_居住専用!E19/木造_居住専用!E$49*100,0) -> 0 | F19: =IF(木造_居住専用!F$49>0,木造_居住専用!F19/木造_居住専用!F$49*100,0) -> 0 | J19: 金属板葺き | K19: =IF(木造_居住専用!K$78>0,木造_居住専用!K19/木造_居住専用!K$78*100,0) -> 2.862924 | L19: =IF(木造_居住専用!L$78>0,木造_居住専用!L19/木造_居住専用!L$78*100,0) -> 3.7359002 | M19: =IF(木造_居住専用!M$78>0,木造_居住専用!M19/木造_居住専用!M$78*100,0) -> 0
C20: 電話・電話配管・IT設備 | D20: =IF(木造_居住専用!D$49>0,木造_居住専用!D20/木造_居住専用!D$49*100,0) -> 1.2419259 | E20: =IF(木造_居住専用!E$49>0,木造_居住専用!E20/木造_居住専用!E$49*100,0) -> 0 | F20: =IF(木造_居住専用!F$49>0,木造_居住専用!F20/木造_居住専用!F$49*100,0) -> 0 | J20: 化粧スレート | K20: =IF(木造_居住専用!K$78>0,木造_居住専用!K20/木造_居住専用!K$78*100,0) -> 0.26603273 | L20: =IF(木造_居住専用!L$78>0,木造_居住専用!L20/木造_居住専用!L$78*100,0) -> 1.4781706 | M20: =IF(木造_居住専用!M$78>0,木造_居住専用!M20/木造_居住専用!M$78*100,0) -> 0
C21: テレビ共聴 | D21: =IF(木造_居住専用!D$49>0,木造_居住専用!D21/木造_居住専用!D$49*100,0) -> 1.2972622 | E21: =IF(木造_居住専用!E$49>0,木造_居住専用!E21/木造_居住専用!E$49*100,0) -> 0 | F21: =IF(木造_居住専用!F$49>0,木造_居住専用!F21/木造_居住専用!F$49*100,0) -> 0 | J21: 雨どい | K21: =IF(木造_居住専用!K$78>0,木造_居住専用!K21/木造_居住専用!K$78*100,0) -> 0.89078683 | L21: =IF(木造_居住専用!L$78>0,木造_居住専用!L21/木造_居住専用!L$78*100,0) -> 0.7654812 | M21: =IF(木造_居住専用!M$78>0,木造_居住専用!M21/木造_居住専用!M$78*100,0) -> 0
C22: インターホン・拡声 | D22: =IF(木造_居住専用!D$49>0,木造_居住専用!D22/木造_居住専用!D$49*100,0) -> 0.74840419 | E22: =IF(木造_居住専用!E$49>0,木造_居住専用!E22/木造_居住専用!E$49*100,0) -> 0 | F22: =IF(木造_居住専用!F$49>0,木造_居住専用!F22/木造_居住専用!F$49*100,0) -> 0 | J22: 上記以外の屋根 | K22: =IF(木造_居住専用!K$78>0,木造_居住専用!K22/木造_居住専用!K$78*100,0) -> 0.36661574 | L22: =IF(木造_居住専用!L$78>0,木造_居住専用!L22/木造_居住専用!L$78*100,0) -> 0 | M22: =IF(木造_居住専用!M$78>0,木造_居住専用!M22/木造_居住専用!M$78*100,0) -> 0
C23: 防災 | D23: =IF(木造_居住専用!D$49>0,木造_居住専用!D23/木造_居住専用!D$49*100,0) -> 0.41355796 | E23: =IF(木造_居住専用!E$49>0,木造_居住専用!E23/木造_居住専用!E$49*100,0) -> 0 | F23: =IF(木造_居住専用!F$49>0,木造_居住専用!F23/木造_居住専用!F$49*100,0) -> 0 | I23: 5.金属製建具 | K23: =IF(木造_居住専用!K$78>0,木造_居住専用!K23/木造_居住専用!K$78*100,0) -> 7.2164114 | L23: =IF(木造_居住専用!L$78>0,木造_居住専用!L23/木造_居住専用!L$78*100,0) -> 9.7312897 | M23: =IF(木造_居住専用!M$78>0,木造_居住専用!M23/木造_居住専用!M$78*100,0) -> 0
C24: 避雷針 | D24: =IF(木造_居住専用!D$49>0,木造_居住専用!D24/木造_居住専用!D$49*100,0) -> 0 | E24: =IF(木造_居住専用!E$49>0,木造_居住専用!E24/木造_居住専用!E$49*100,0) -> 0 | F24: =IF(木造_居住専用!F$49>0,木造_居住専用!F24/木造_居住専用!F$49*100,0) -> 0 | J24: アルミニウム製建具 | K24: =IF(木造_居住専用!K$78>0,木造_居住専用!K24/木造_居住専用!K$78*100,0) -> 4.6313063 | L24: =IF(木造_居住専用!L$78>0,木造_居住専用!L24/木造_居住専用!L$78*100,0) -> 5.3495697 | M24: =IF(木造_居住専用!M$78>0,木造_居住専用!M24/木造_居住専用!M$78*100,0) -> 0
C25: 蓄電池 | D25: =IF(木造_居住専用!D$49>0,木造_居住専用!D25/木造_居住専用!D$49*100,0) -> 0 | E25: =IF(木造_居住専用!E$49>0,木造_居住専用!E25/木造_居住専用!E$49*100,0) -> 0 | F25: =IF(木造_居住専用!F$49>0,木造_居住専用!F25/木造_居住専用!F$49*100,0) -> 0 | J25: 鋼製建具 | K25: =IF(木造_居住専用!K$78>0,木造_居住専用!K25/木造_居住専用!K$78*100,0) -> 0.80374433 | L25: =IF(木造_居住専用!L$78>0,木造_居住専用!L25/木造_居住専用!L$78*100,0) -> 0.61590441 | M25: =IF(木造_居住専用!M$78>0,木造_居住専用!M25/木造_居住専用!M$78*100,0) -> 0
C26: 屋外施設の電気設備（外灯、門灯） | D26: =IF(木造_居住専用!D$49>0,木造_居住専用!D26/木造_居住専用!D$49*100,0) -> 0.47257778 | E26: =IF(木造_居住専用!E$49>0,木造_居住専用!E26/木造_居住専用!E$49*100,0) -> 0 | F26: =IF(木造_居住専用!F$49>0,木造_居住専用!F26/木造_居住専用!F$49*100,0) -> 0 | J26: ステンレス製建具 | K26: =IF(木造_居住専用!K$78>0,木造_居住専用!K26/木造_居住専用!K$78*100,0) -> 0.13770445 | L26: =IF(木造_居住専用!L$78>0,木造_居住専用!L26/木造_居住専用!L$78*100,0) -> 0 | M26: =IF(木造_居住専用!M$78>0,木造_居住専用!M26/木造_居住専用!M$78*100,0) -> 0
C27: 上記以外の電気設備 | D27: =IF(木造_居住専用!D$49>0,木造_居住専用!D27/木造_居住専用!D$49*100,0) -> 5.0940941 | E27: =IF(木造_居住専用!E$49>0,木造_居住専用!E27/木造_居住専用!E$49*100,0) -> 0 | F27: =IF(木造_居住専用!F$49>0,木造_居住専用!F27/木造_居住専用!F$49*100,0) -> 0 | J27: 金属製玄関ドア | K27: =IF(木造_居住専用!K$78>0,木造_居住専用!K27/木造_居住専用!K$78*100,0) -> 0.75688905 | L27: =IF(木造_居住専用!L$78>0,木造_居住専用!L27/木造_居住専用!L$78*100,0) -> 1.4253788 | M27: =IF(木造_居住専用!M$78>0,木造_居住専用!M27/木造_居住専用!M$78*100,0) -> 0
B28: 2.空調 | D28: =IF(木造_居住専用!D$49>0,木造_居住専用!D28/木造_居住専用!D$49*100,0) -> 17.09557 | E28: =IF(木造_居住専用!E$49>0,木造_居住専用!E28/木造_居住専用!E$49*100,0) -> 0 | F28: =IF(木造_居住専用!F$49>0,木造_居住専用!F28/木造_居住専用!F$49*100,0) -> 0 | J28: 雨戸・シャッター | K28: =IF(木造_居住専用!K$78>0,木造_居住専用!K28/木造_居住専用!K$78*100,0) -> 0.14034016 | L28: =IF(木造_居住専用!L$78>0,木造_居住専用!L28/木造_居住専用!L$78*100,0) -> 1.3901842 | M28: =IF(木造_居住専用!M$78>0,木造_居住専用!M28/木造_居住専用!M$78*100,0) -> 0
C29: 空調機器 | D29: =IF(木造_居住専用!D$49>0,木造_居住専用!D29/木造_居住専用!D$49*100,0) -> 6.2736353 | E29: =IF(木造_居住専用!E$49>0,木造_居住専用!E29/木造_居住専用!E$49*100,0) -> 0 | F29: =IF(木造_居住専用!F$49>0,木造_居住専用!F29/木造_居住専用!F$49*100,0) -> 0 | J29: 上記以外の金属製建具 | K29: =IF(木造_居住専用!K$78>0,木造_居住専用!K29/木造_居住専用!K$78*100,0) -> 0.74642709 | L29: =IF(木造_居住専用!L$78>0,木造_居住専用!L29/木造_居住専用!L$78*100,0) -> 0.95025252 | M29: =IF(木造_居住専用!M$78>0,木造_居住専用!M29/木造_居住専用!M$78*100,0) -> 0
C30: ダクト | D30: =IF(木造_居住専用!D$49>0,木造_居住専用!D30/木造_居住専用!D$49*100,0) -> 0.14945279 | E30: =IF(木造_居住専用!E$49>0,木造_居住専用!E30/木造_居住専用!E$49*100,0) -> 0 | F30: =IF(木造_居住専用!F$49>0,木造_居住専用!F30/木造_居住専用!F$49*100,0) -> 0 | I30: 6.木製建具 | K30: =IF(木造_居住専用!K$78>0,木造_居住専用!K30/木造_居住専用!K$78*100,0) -> 4.5530183 | L30: =IF(木造_居住専用!L$78>0,木造_居住専用!L30/木造_居住専用!L$78*100,0) -> 2.3298784 | M30: =IF(木造_居住専用!M$78>0,木造_居住専用!M30/木造_居住専用!M$78*100,0) -> 0
C31: 空調配管 | D31: =IF(木造_居住専用!D$49>0,木造_居住専用!D31/木造_居住専用!D$49*100,0) -> 0.38037852 | E31: =IF(木造_居住専用!E$49>0,木造_居住専用!E31/木造_居住専用!E$49*100,0) -> 0 | F31: =IF(木造_居住専用!F$49>0,木造_居住専用!F31/木造_居住専用!F$49*100,0) -> 0 | J31: 木製ドア | K31: =IF(木造_居住専用!K$78>0,木造_居住専用!K31/木造_居住専用!K$78*100,0) -> 2.937872 | L31: =IF(木造_居住専用!L$78>0,木造_居住専用!L31/木造_居住専用!L$78*100,0) -> 1.256445 | M31: =IF(木造_居住専用!M$78>0,木造_居住専用!M31/木造_居住専用!M$78*100,0) -> 0
C32: 自動制御 | D32: =IF(木造_居住専用!D$49>0,木造_居住専用!D32/木造_居住専用!D$49*100,0) -> 0 | E32: =IF(木造_居住専用!E$49>0,木造_居住専用!E32/木造_居住専用!E$49*100,0) -> 0 | F32: =IF(木造_居住専用!F$49>0,木造_居住専用!F32/木造_居住専用!F$49*100,0) -> 0 | J32: 木製玄関ドア | K32: =IF(木造_居住専用!K$78>0,木造_居住専用!K32/木造_居住専用!K$78*100,0) -> 0.12373814 | L32: =IF(木造_居住専用!L$78>0,木造_居住専用!L32/木造_居住専用!L$78*100,0) -> 0 | M32: =IF(木造_居住専用!M$78>0,木造_居住専用!M32/木造_居住専用!M$78*100,0) -> 0
C33: 換気 | D33: =IF(木造_居住専用!D$49>0,木造_居住専用!D33/木造_居住専用!D$49*100,0) -> 3.834768 | E33: =IF(木造_居住専用!E$49>0,木造_居住専用!E33/木造_居住専用!E$49*100,0) -> 0 | F33: =IF(木造_居住専用!F$49>0,木造_居住専用!F33/木造_居住専用!F$49*100,0) -> 0 | J33: ふすま | K33: =IF(木造_居住専用!K$78>0,木造_居住専用!K33/木造_居住専用!K$78*100,0) -> 0.27302441 | L33: =IF(木造_居住専用!L$78>0,木造_居住専用!L33/木造_居住専用!L$78*100,0) -> 0 | M33: =IF(木造_居住専用!M$78>0,木造_居住専用!M33/木造_居住専用!M$78*100,0) -> 0
C34: 床暖房 | D34: =IF(木造_居住専用!D$49>0,木造_居住専用!D34/木造_居住専用!D$49*100,0) -> 2.5881077 | E34: =IF(木造_居住専用!E$49>0,木造_居住専用!E34/木造_居住専用!E$49*100,0) -> 0 | F34: =IF(木造_居住専用!F$49>0,木造_居住専用!F34/木造_居住専用!F$49*100,0) -> 0 | J34: 障子 | K34: =IF(木造_居住専用!K$78>0,木造_居住専用!K34/木造_居住専用!K$78*100,0) -> 0.19459163 | L34: =IF(木造_居住専用!L$78>0,木造_居住専用!L34/木造_居住専用!L$78*100,0) -> 0.10558361 | M34: =IF(木造_居住専用!M$78>0,木造_居住専用!M34/木造_居住専用!M$78*100,0) -> 0
C35: パッシブソーラーシステム | D35: =IF(木造_居住専用!D$49>0,木造_居住専用!D35/木造_居住専用!D$49*100,0) -> 1.3506814 | E35: =IF(木造_居住専用!E$49>0,木造_居住専用!E35/木造_居住専用!E$49*100,0) -> 0 | F35: =IF(木造_居住専用!F$49>0,木造_居住専用!F35/木造_居住専用!F$49*100,0) -> 0 | J35: 木製建具金物 | K35: =IF(木造_居住専用!K$78>0,木造_居住専用!K35/木造_居住専用!K$78*100,0) -> 0.14111087 | L35: =IF(木造_居住専用!L$78>0,木造_居住専用!L35/木造_居住専用!L$78*100,0) -> 0.7918771 | M35: =IF(木造_居住専用!M$78>0,木造_居住専用!M35/木造_居住専用!M$78*100,0) -> 0
C36: 上記以外の空調設備 | D36: =IF(木造_居住専用!D$49>0,木造_居住専用!D36/木造_居住専用!D$49*100,0) -> 1.8489207 | E36: =IF(木造_居住専用!E$49>0,木造_居住専用!E36/木造_居住専用!E$49*100,0) -> 0 | F36: =IF(木造_居住専用!F$49>0,木造_居住専用!F36/木造_居住専用!F$49*100,0) -> 0 | J36: 上記以外の木製建具 | K36: =IF(木造_居住専用!K$78>0,木造_居住専用!K36/木造_居住専用!K$78*100,0) -> 0.88268126 | L36: =IF(木造_居住専用!L$78>0,木造_居住専用!L36/木造_居住専用!L$78*100,0) -> 0.17597269 | M36: =IF(木造_居住専用!M$78>0,木造_居住専用!M36/木造_居住専用!M$78*100,0) -> 0
B37: 3.衛生 | D37: =IF(木造_居住専用!D$49>0,木造_居住専用!D37/木造_居住専用!D$49*100,0) -> 47.02693 | E37: =IF(木造_居住専用!E$49>0,木造_居住専用!E37/木造_居住専用!E$49*100,0) -> 0 | F37: =IF(木造_居住専用!F$49>0,木造_居住専用!F37/木造_居住専用!F$49*100,0) -> 0 | I37: 7.ガラス | K37: =IF(木造_居住専用!K$78>0,木造_居住専用!K37/木造_居住専用!K$78*100,0) -> 0.37308793 | L37: =IF(木造_居住専用!L$78>0,木造_居住専用!L37/木造_居住専用!L$78*100,0) -> 0.31675084 | M37: =IF(木造_居住専用!M$78>0,木造_居住専用!M37/木造_居住専用!M$78*100,0) -> 0
C38: 給水 | D38: =IF(木造_居住専用!D$49>0,木造_居住専用!D38/木造_居住専用!D$49*100,0) -> 8.4351559 | E38: =IF(木造_居住専用!E$49>0,木造_居住専用!E38/木造_居住専用!E$49*100,0) -> 0 | F38: =IF(木造_居住専用!F$49>0,木造_居住専用!F38/木造_居住専用!F$49*100,0) -> 0 | I38: 8.防水 | K38: =IF(木造_居住専用!K$78>0,木造_居住専用!K38/木造_居住専用!K$78*100,0) -> 0.6164765 | L38: =IF(木造_居住専用!L$78>0,木造_居住専用!L38/木造_居住専用!L$78*100,0) -> 0.2551604 | M38: =IF(木造_居住専用!M$78>0,木造_居住専用!M38/木造_居住専用!M$78*100,0) -> 0
C39: 給湯 | D39: =IF(木造_居住専用!D$49>0,木造_居住専用!D39/木造_居住専用!D$49*100,0) -> 6.6761316 | E39: =IF(木造_居住専用!E$49>0,木造_居住専用!E39/木造_居住専用!E$49*100,0) -> 0 | F39: =IF(木造_居住専用!F$49>0,木造_居住専用!F39/木造_居住専用!F$49*100,0) -> 0 | I39: 9.石 | K39: =IF(木造_居住専用!K$78>0,木造_居住専用!K39/木造_居住専用!K$78*100,0) -> 0.017117251 | L39: =IF(木造_居住専用!L$78>0,木造_居住専用!L39/木造_居住専用!L$78*100,0) -> 0.21116723 | M39: =IF(木造_居住専用!M$78>0,木造_居住専用!M39/木造_居住専用!M$78*100,0) -> 0
C40: 排水通気 | D40: =IF(木造_居住専用!D$49>0,木造_居住専用!D40/木造_居住専用!D$49*100,0) -> 8.4480118 | E40: =IF(木造_居住専用!E$49>0,木造_居住専用!E40/木造_居住専用!E$49*100,0) -> 0 | F40: =IF(木造_居住専用!F$49>0,木造_居住専用!F40/木造_居住専用!F$49*100,0) -> 0 | I40: 10.タイル | K40: =IF(木造_居住専用!K$78>0,木造_居住専用!K40/木造_居住専用!K$78*100,0) -> 0.76371892 | L40: =IF(木造_居住専用!L$78>0,木造_居住専用!L40/木造_居住専用!L$78*100,0) -> 0.89042181 | M40: =IF(木造_居住専用!M$78>0,木造_居住専用!M40/木造_居住専用!M$78*100,0) -> 0
C41: 衛生器具 | D41: =IF(木造_居住専用!D$49>0,木造_居住専用!D41/木造_居住専用!D$49*100,0) -> 8.91865 | E41: =IF(木造_居住専用!E$49>0,木造_居住専用!E41/木造_居住専用!E$49*100,0) -> 0 | F41: =IF(木造_居住専用!F$49>0,木造_居住専用!F41/木造_居住専用!F$49*100,0) -> 0 | I41: 11.金属 | K41: =IF(木造_居住専用!K$78>0,木造_居住専用!K41/木造_居住専用!K$78*100,0) -> 0.19374003 | L41: =IF(木造_居住専用!L$78>0,木造_居住専用!L41/木造_居住専用!L$78*100,0) -> 0.14077815 | M41: =IF(木造_居住専用!M$78>0,木造_居住専用!M41/木造_居住専用!M$78*100,0) -> 0
C42: 消火 | D42: =IF(木造_居住専用!D$49>0,木造_居住専用!D42/木造_居住専用!D$49*100,0) -> 0 | E42: =IF(木造_居住専用!E$49>0,木造_居住専用!E42/木造_居住専用!E$49*100,0) -> 0 | F42: =IF(木造_居住専用!F$49>0,木造_居住専用!F42/木造_居住専用!F$49*100,0) -> 0 | I42: 12.左官 | K42: =IF(木造_居住専用!K$78>0,木造_居住専用!K42/木造_居住専用!K$78*100,0) -> 1.153328 | L42: =IF(木造_居住専用!L$78>0,木造_居住専用!L42/木造_居住専用!L$78*100,0) -> 0.94145389 | M42: =IF(木造_居住専用!M$78>0,木造_居住専用!M42/木造_居住専用!M$78*100,0) -> 0
C43: ガス | D43: =IF(木造_居住専用!D$49>0,木造_居住専用!D43/木造_居住専用!D$49*100,0) -> 1.9127363 | E43: =IF(木造_居住専用!E$49>0,木造_居住専用!E43/木造_居住専用!E$49*100,0) -> 0 | F43: =IF(木造_居住専用!F$49>0,木造_居住専用!F43/木造_居住専用!F$49*100,0) -> 0 | I43: 13.塗装 | K43: =IF(木造_居住専用!K$78>0,木造_居住専用!K43/木造_居住専用!K$78*100,0) -> 1.1073413 | L43: =IF(木造_居住専用!L$78>0,木造_居住専用!L43/木造_居住専用!L$78*100,0) -> 0.76900065 | M43: =IF(木造_居住専用!M$78>0,木造_居住専用!M43/木造_居住専用!M$78*100,0) -> 0
C44: 厨房機器 | D44: =IF(木造_居住専用!D$49>0,木造_居住専用!D44/木造_居住専用!D$49*100,0) -> 2.1469375 | E44: =IF(木造_居住専用!E$49>0,木造_居住専用!E44/木造_居住専用!E$49*100,0) -> 0 | F44: =IF(木造_居住専用!F$49>0,木造_居住専用!F44/木造_居住専用!F$49*100,0) -> 0 | I44: 14.内外装 | K44: =IF(木造_居住専用!K$78>0,木造_居住専用!K44/木造_居住専用!K$78*100,0) -> 17.492979 | L44: =IF(木造_居住専用!L$78>0,木造_居住専用!L44/木造_居住専用!L$78*100,0) -> 13.996868 | M44: =IF(木造_居住専用!M$78>0,木造_居住専用!M44/木造_居住専用!M$78*100,0) -> 0
C45: 浄化槽 | D45: =IF(木造_居住専用!D$49>0,木造_居住専用!D45/木造_居住専用!D$49*100,0) -> 2.9384146 | E45: =IF(木造_居住専用!E$49>0,木造_居住専用!E45/木造_居住専用!E$49*100,0) -> 0 | F45: =IF(木造_居住専用!F$49>0,木造_居住専用!F45/木造_居住専用!F$49*100,0) -> 0 | J45: 畳 | K45: =IF(木造_居住専用!K$78>0,木造_居住専用!K45/木造_居住専用!K$78*100,0) -> 0.43099704 | L45: =IF(木造_居住専用!L$78>0,木造_居住専用!L45/木造_居住専用!L$78*100,0) -> 0.21116723 | M45: =IF(木造_居住専用!M$78>0,木造_居住専用!M45/木造_居住専用!M$78*100,0) -> 0
C46: 上記以外の衛生設備 | D46: =IF(木造_居住専用!D$49>0,木造_居住専用!D46/木造_居住専用!D$49*100,0) -> 4.825998 | E46: =IF(木造_居住専用!E$49>0,木造_居住専用!E46/木造_居住専用!E$49*100,0) -> 0 | F46: =IF(木造_居住専用!F$49>0,木造_居住専用!F46/木造_居住専用!F$49*100,0) -> 0 | J46: カーペット | K46: =IF(木造_居住専用!K$78>0,木造_居住専用!K46/木造_居住専用!K$78*100,0) -> 0.0028102949 | L46: =IF(木造_居住専用!L$78>0,木造_居住専用!L46/木造_居住専用!L$78*100,0) -> 0 | M46: =IF(木造_居住専用!M$78>0,木造_居住専用!M46/木造_居住専用!M$78*100,0) -> 0
B47: 4.昇降機 | D47: =IF(木造_居住専用!D$49>0,木造_居住専用!D47/木造_居住専用!D$49*100,0) -> 0 | E47: =IF(木造_居住専用!E$49>0,木造_居住専用!E47/木造_居住専用!E$49*100,0) -> 0 | F47: =IF(木造_居住専用!F$49>0,木造_居住専用!F47/木造_居住専用!F$49*100,0) -> 0 | J47: フローリング | K47: =IF(木造_居住専用!K$78>0,木造_居住専用!K47/木造_居住専用!K$78*100,0) -> 2.0463205 | L47: =IF(木造_居住専用!L$78>0,木造_居住専用!L47/木造_居住専用!L$78*100,0) -> 0.51911943 | M47: =IF(木造_居住専用!M$78>0,木造_居住専用!M47/木造_居住専用!M$78*100,0) -> 0
B48: 5.上記以外の設備 | D48: =IF(木造_居住専用!D$49>0,木造_居住専用!D48/木造_居住専用!D$49*100,0) -> 1.1268487 | E48: =IF(木造_居住専用!E$49>0,木造_居住専用!E48/木造_居住専用!E$49*100,0) -> 0 | F48: =IF(木造_居住専用!F$49>0,木造_居住専用!F48/木造_居住専用!F$49*100,0) -> 0 | J48: ビニル床タイル | K48: =IF(木造_居住専用!K$78>0,木造_居住専用!K48/木造_居住専用!K$78*100,0) -> 0.0114115 | L48: =IF(木造_居住専用!L$78>0,木造_居住専用!L48/木造_居住専用!L$78*100,0) -> 0 | M48: =IF(木造_居住専用!M$78>0,木造_居住専用!M48/木造_居住専用!M$78*100,0) -> 0
A49: 設備工事費合計 | D49: =IF(木造_居住専用!D$49>0,木造_居住専用!D49/木造_居住専用!D$49*100,0) -> 100 | E49: =IF(木造_居住専用!E$49>0,木造_居住専用!E49/木造_居住専用!E$49*100,0) -> 0 | F49: =IF(木造_居住専用!F$49>0,木造_居住専用!F49/木造_居住専用!F$49*100,0) -> 0 | J49: ビニル床シート | K49: =IF(木造_居住専用!K$78>0,木造_居住専用!K49/木造_居住専用!K$78*100,0) -> 0.048030494 | L49: =IF(木造_居住専用!L$78>0,木造_居住専用!L49/木造_居住専用!L$78*100,0) -> 0.066869622 | M49: =IF(木造_居住専用!M$78>0,木造_居住専用!M49/木造_居住専用!M$78*100,0) -> 0
J50: 化粧合板 | K50: =IF(木造_居住専用!K$78>0,木造_居住専用!K50/木造_居住専用!K$78*100,0) -> 0.11454081 | L50: =IF(木造_居住専用!L$78>0,木造_居住専用!L50/木造_居住専用!L$78*100,0) -> 0.14077815 | M50: =IF(木造_居住専用!M$78>0,木造_居住専用!M50/木造_居住専用!M$78*100,0) -> 0
J51: 石こうボード | K51: =IF(木造_居住専用!K$78>0,木造_居住専用!K51/木造_居住専用!K$78*100,0) -> 0.76303764 | L51: =IF(木造_居住専用!L$78>0,木造_居住専用!L51/木造_居住専用!L$78*100,0) -> 0.23756313 | M51: =IF(木造_居住専用!M$78>0,木造_居住専用!M51/木造_居住専用!M$78*100,0) -> 0
J52: ケイ酸カルシウム板 | K52: =IF(木造_居住専用!K$78>0,木造_居住専用!K52/木造_居住専用!K$78*100,0) -> 0.19655032 | L52: =IF(木造_居住専用!L$78>0,木造_居住専用!L52/木造_居住専用!L$78*100,0) -> 0.23756313 | M52: =IF(木造_居住専用!M$78>0,木造_居住専用!M52/木造_居住専用!M$78*100,0) -> 0
J53: 木毛セメント板 | K53: =IF(木造_居住専用!K$78>0,木造_居住専用!K53/木造_居住専用!K$78*100,0) -> 0.0015328881 | L53: =IF(木造_居住専用!L$78>0,木造_居住専用!L53/木造_居住専用!L$78*100,0) -> 0.070389076 | M53: =IF(木造_居住専用!M$78>0,木造_居住専用!M53/木造_居住専用!M$78*100,0) -> 0
J54: 壁紙・ビニルクロス張り | K54: =IF(木造_居住専用!K$78>0,木造_居住専用!K54/木造_居住専用!K$78*100,0) -> 2.9703114 | L54: =IF(木造_居住専用!L$78>0,木造_居住専用!L54/木造_居住専用!L$78*100,0) -> 2.5850388 | M54: =IF(木造_居住専用!M$78>0,木造_居住専用!M54/木造_居住専用!M$78*100,0) -> 0
J55: ロックウール吸音板 | K55: =IF(木造_居住専用!K$78>0,木造_居住専用!K55/木造_居住専用!K$78*100,0) -> 0.089759115 | L55: =IF(木造_居住専用!L$78>0,木造_居住専用!L55/木造_居住専用!L$78*100,0) -> 0 | M55: =IF(木造_居住専用!M$78>0,木造_居住専用!M55/木造_居住専用!M$78*100,0) -> 0
J56: サイディング（窒業系） | K56: =IF(木造_居住専用!K$78>0,木造_居住専用!K56/木造_居住専用!K$78*100,0) -> 3.1231744 | L56: =IF(木造_居住専用!L$78>0,木造_居住専用!L56/木造_居住専用!L$78*100,0) -> 5.522023 | M56: =IF(木造_居住専用!M$78>0,木造_居住専用!M56/木造_居住専用!M$78*100,0) -> 0
J57: サイディング（金属系） | K57: =IF(木造_居住専用!K$78>0,木造_居住専用!K57/木造_居住専用!K$78*100,0) -> 2.5187055 | L57: =IF(木造_居住専用!L$78>0,木造_居住専用!L57/木造_居住専用!L$78*100,0) -> 1.5133651 | M57: =IF(木造_居住専用!M$78>0,木造_居住専用!M57/木造_居住専用!M$78*100,0) -> 0
J58: サイディング（木質系） | K58: =IF(木造_居住専用!K$78>0,木造_居住専用!K58/木造_居住専用!K$78*100,0) -> 0.17892211 | L58: =IF(木造_居住専用!L$78>0,木造_居住専用!L58/木造_居住専用!L$78*100,0) -> 0 | M58: =IF(木造_居住専用!M$78>0,木造_居住専用!M58/木造_居住専用!M$78*100,0) -> 0
J59: 幅木・廻り縁 | K59: =IF(木造_居住専用!K$78>0,木造_居住専用!K59/木造_居住専用!K$78*100,0) -> 0.46344317 | L59: =IF(木造_居住専用!L$78>0,木造_居住専用!L59/木造_居住専用!L$78*100,0) -> 0.17597269 | M59: =IF(木造_居住専用!M$78>0,木造_居住専用!M59/木造_居住専用!M$78*100,0) -> 0
J60: 断熱材 | K60: =IF(木造_居住専用!K$78>0,木造_居住専用!K60/木造_居住専用!K$78*100,0) -> 2.9988401 | L60: =IF(木造_居住専用!L$78>0,木造_居住専用!L60/木造_居住専用!L$78*100,0) -> 1.3690675 | M60: =IF(木造_居住専用!M$78>0,木造_居住専用!M60/木造_居住専用!M$78*100,0) -> 0
J61: 合成樹脂製品 | K61: =IF(木造_居住専用!K$78>0,木造_居住専用!K61/木造_居住専用!K$78*100,0) -> 0.27157668 | L61: =IF(木造_居住専用!L$78>0,木造_居住専用!L61/木造_居住専用!L$78*100,0) -> 0 | M61: =IF(木造_居住専用!M$78>0,木造_居住専用!M61/木造_居住専用!M$78*100,0) -> 0
J62: 上記以外の内外装 | K62: =IF(木造_居住専用!K$78>0,木造_居住専用!K62/木造_居住専用!K$78*100,0) -> 1.2630146 | L62: =IF(木造_居住専用!L$78>0,木造_居住専用!L62/木造_居住専用!L$78*100,0) -> 1.3479508 | M62: =IF(木造_居住専用!M$78>0,木造_居住専用!M62/木造_居住専用!M$78*100,0) -> 0
I63: 15.仕上ユニット | K63: =IF(木造_居住専用!K$78>0,木造_居住専用!K63/木造_居住専用!K$78*100,0) -> 9.6021815 | L63: =IF(木造_居住専用!L$78>0,木造_居住専用!L63/木造_居住専用!L$78*100,0) -> 5.7807028 | M63: =IF(木造_居住専用!M$78>0,木造_居住専用!M63/木造_居住専用!M$78*100,0) -> 0
J64: 収納ユニット | K64: =IF(木造_居住専用!K$78>0,木造_居住専用!K64/木造_居住専用!K$78*100,0) -> 0.34396306 | L64: =IF(木造_居住専用!L$78>0,木造_居住専用!L64/木造_居住専用!L$78*100,0) -> 0.43113309 | M64: =IF(木造_居住専用!M$78>0,木造_居住専用!M64/木造_居住専用!M$78*100,0) -> 0
J65: 造作家具 | K65: =IF(木造_居住専用!K$78>0,木造_居住専用!K65/木造_居住専用!K$78*100,0) -> 0.39174148 | L65: =IF(木造_居住専用!L$78>0,木造_居住専用!L65/木造_居住専用!L$78*100,0) -> 0 | M65: =IF(木造_居住専用!M$78>0,木造_居住専用!M65/木造_居住専用!M$78*100,0) -> 0
J66: 下足入れ | K66: =IF(木造_居住専用!K$78>0,木造_居住専用!K66/木造_居住専用!K$78*100,0) -> 0.26998247 | L66: =IF(木造_居住専用!L$78>0,木造_居住専用!L66/木造_居住専用!L$78*100,0) -> 0.11614197 | M66: =IF(木造_居住専用!M$78>0,木造_居住専用!M66/木造_居住専用!M$78*100,0) -> 0
J67: キッチンユニット | K67: =IF(木造_居住専用!K$78>0,木造_居住専用!K67/木造_居住専用!K$78*100,0) -> 3.7012912 | L67: =IF(木造_居住専用!L$78>0,木造_居住専用!L67/木造_居住専用!L$78*100,0) -> 2.1468668 | M67: =IF(木造_居住専用!M$78>0,木造_居住専用!M67/木造_居住専用!M$78*100,0) -> 0
J68: ユニットバス | K68: =IF(木造_居住専用!K$78>0,木造_居住専用!K68/木造_居住専用!K$78*100,0) -> 3.0230802 | L68: =IF(木造_居住専用!L$78>0,木造_居住専用!L68/木造_居住専用!L$78*100,0) -> 2.7557323 | M68: =IF(木造_居住専用!M$78>0,木造_居住専用!M68/木造_居住専用!M$78*100,0) -> 0
J69: 浴槽 | K69: =IF(木造_居住専用!K$78>0,木造_居住専用!K69/木造_居住専用!K$78*100,0) -> 0.12605109 | L69: =IF(木造_居住専用!L$78>0,木造_居住専用!L69/木造_居住専用!L$78*100,0) -> 0 | M69: =IF(木造_居住専用!M$78>0,木造_居住専用!M69/木造_居住専用!M$78*100,0) -> 0
J70: 洗面化粧台 | K70: =IF(木造_居住専用!K$78>0,木造_居住専用!K70/木造_居住専用!K$78*100,0) -> 0.6614821 | L70: =IF(木造_居住専用!L$78>0,木造_居住専用!L70/木造_居住専用!L$78*100,0) -> 0.11966143 | M70: =IF(木造_居住専用!M$78>0,木造_居住専用!M70/木造_居住専用!M$78*100,0) -> 0
J71: ベランダユニット | K71: =IF(木造_居住専用!K$78>0,木造_居住専用!K71/木造_居住専用!K$78*100,0) -> 0.049393061 | L71: =IF(木造_居住専用!L$78>0,木造_居住専用!L71/木造_居住専用!L$78*100,0) -> 0 | M71: =IF(木造_居住専用!M$78>0,木造_居住専用!M71/木造_居住専用!M$78*100,0) -> 0
J72: 天井収納ハシゴ | K72: =IF(木造_居住専用!K$78>0,木造_居住専用!K72/木造_居住専用!K$78*100,0) -> 0.021460434 | L72: =IF(木造_居住専用!L$78>0,木造_居住専用!L72/木造_居住専用!L$78*100,0) -> 0 | M72: =IF(木造_居住専用!M$78>0,木造_居住専用!M72/木造_居住専用!M$78*100,0) -> 0
J73: 床下収納庫 | K73: =IF(木造_居住専用!K$78>0,木造_居住専用!K73/木造_居住専用!K$78*100,0) -> 0.038942171 | L73: =IF(木造_居住専用!L$78>0,木造_居住専用!L73/木造_居住専用!L$78*100,0) -> 0.035194538 | M73: =IF(木造_居住専用!M$78>0,木造_居住専用!M73/木造_居住専用!M$78*100,0) -> 0
J74: ブラインド・カーテン | K74: =IF(木造_居住専用!K$78>0,木造_居住専用!K74/木造_居住専用!K$78*100,0) -> 0.34290707 | L74: =IF(木造_居住専用!L$78>0,木造_居住専用!L74/木造_居住専用!L$78*100,0) -> 0 | M74: =IF(木造_居住専用!M$78>0,木造_居住専用!M74/木造_居住専用!M$78*100,0) -> 0
J75: カーテンレール | K75: =IF(木造_居住専用!K$78>0,木造_居住専用!K75/木造_居住専用!K$78*100,0) -> 0.087197489 | L75: =IF(木造_居住専用!L$78>0,木造_居住専用!L75/木造_居住専用!L$78*100,0) -> 0.17597269 | M75: =IF(木造_居住専用!M$78>0,木造_居住専用!M75/木造_居住専用!M$78*100,0) -> 0
J76: 上記以外の仕上ユニット | K76: =IF(木造_居住専用!K$78>0,木造_居住専用!K76/木造_居住専用!K$78*100,0) -> 0.54468965 | L76: =IF(木造_居住専用!L$78>0,木造_居住専用!L76/木造_居住専用!L$78*100,0) -> 0 | M76: =IF(木造_居住専用!M$78>0,木造_居住専用!M76/木造_居住専用!M$78*100,0) -> 0
I77: 16.その他 | K77: =IF(木造_居住専用!K$78>0,木造_居住専用!K77/木造_居住専用!K$78*100,0) -> 2.0599461 | L77: =IF(木造_居住専用!L$78>0,木造_居住専用!L77/木造_居住専用!L$78*100,0) -> 9.8175163 | M77: =IF(木造_居住専用!M$78>0,木造_居住専用!M77/木造_居住専用!M$78*100,0) -> 0
H78: 建築工事費合計 | K78: =IF(木造_居住専用!K$78>0,木造_居住専用!K78/木造_居住専用!K$78*100,0) -> 100 | L78: =IF(木造_居住専用!L$78>0,木造_居住専用!L78/木造_居住専用!L$78*100,0) -> 100 | M78: =IF(木造_居住専用!M$78>0,木造_居住専用!M78/木造_居住専用!M$78*100,0) -> 0

Sheet 木造_居住産業併用
A2: 表1-2 平成27年建築工事費投入調査集計表（木造_居住産業併用住宅）
A4: （単位：千円） | D4: =木造_データ!L4 -> 1 | E4: =木造_データ!M4 -> 0 | F4: =木造_データ!N4 -> 0 | K4: =D4 -> 1 | L4: =E4 -> 0 | M4: =F4 -> 0
D5: 建築工事・ 設備工事 一貫受注 | E5: 建築工事 のみ受注 | F5: 設備工事 のみ受注 | K5: 建築工事・ 設備工事 一貫受注 | L5: 建築工事 のみ受注 | M5: 設備工事 のみ受注
A6: 工事費内訳 | B6: 1.建築工事費 | D6: =木造_データ!L9 -> 36000 | E6: =木造_データ!M9 -> 0 | F6: =木造_データ!N9 -> 0 | H6: 建築工事費科目別内訳 | I6: 1.仮設 | K6: =木造_データ!L17 -> 500 | L6: =木造_データ!M17 -> 0 | M6: =木造_データ!N17 -> 0
B7: 2.設備工事費 | D7: =木造_データ!L10 -> 1500 | E7: =木造_データ!M10 -> 0 | F7: =木造_データ!N10 -> 0 | I7: 2.基礎 | K7: =木造_データ!L18 -> 2500 | L7: =木造_データ!M18 -> 0 | M7: =木造_データ!N18 -> 0
B8: 3.解体・撤去費 | D8: =木造_データ!L11 -> 0 | E8: =木造_データ!M11 -> 0 | F8: =木造_データ!N11 -> 0 | I8: 3.木工 | K8: =木造_データ!L19 -> 11000 | L8: =木造_データ!M19 -> 0 | M8: =木造_データ!N19 -> 0
B9: 4.屋外施設費 | D9: =木造_データ!L12 -> 1500 | E9: =木造_データ!M12 -> 0 | F9: =木造_データ!N12 -> 0 | J9: 構造材 | K9: =木造_データ!L20 -> 4000 | L9: =木造_データ!M20 -> 0 | M9: =木造_データ!N20 -> 0
B10: 5.現場管理費 | D10: =木造_データ!L13 -> 400 | E10: =木造_データ!M13 -> 0 | F10: =木造_データ!N13 -> 0 | J10: 造作材 | K10: =木造_データ!L21 -> 1500 | L10: =木造_データ!M21 -> 0 | M10: =木造_データ!N21 -> 0
B11: 6.工事原価 | D11: =木造_データ!L14 -> 39400 | E11: =木造_データ!M14 -> 0 | F11: =木造_データ!N14 -> 0 | J11: 板材 | K11: =木造_データ!L22 -> 500 | L11: =木造_データ!M22 -> 0 | M11: =木造_データ!N22 -> 0
B12: 7.一般管理費等 | D12: =木造_データ!L15 -> 600 | E12: =木造_データ!M15 -> 0 | F12: =木造_データ!N15 -> 0 | J12: 合板 | K12: =木造_データ!L23 -> 500 | L12: =木造_データ!M23 -> 0 | M12: =木造_データ!N23 -> 0
A13: 8.工事価格 | D13: =木造_データ!L16 -> 40000 | E13: =木造_データ!M16 -> 0 | F13: =木造_データ!N16 -> 0 | J13: 釘・金物 | K13: =木造_データ!L24 -> 300 | L13: =木造_データ!M24 -> 0 | M13: =木造_データ!N24 -> 0
J14: 大工手間（施工費） | K14: =木造_データ!L25 -> 4000 | L14: =木造_データ!M25 -> 0 | M14: =木造_データ!N25 -> 0
A15: 設備工事費科目別内訳 | B15: 1.電気 | D15: =木造_データ!L90 -> 600 | E15: =木造_データ!M90 -> 0 | F15: =木造_データ!N90 -> 0 | J15: 上記以外の木工 | K15: =木造_データ!L26 -> 200 | L15: =木造_データ!M26 -> 0 | M15: =木造_データ!N26 -> 0
C16: 受変電・電力引込 | D16: =木造_データ!L91 -> 100 | E16: =木造_データ!M91 -> 0 | F16: =木造_データ!N91 -> 0 | I16: 4.屋根 | K16: =木造_データ!L27 -> 1500 | L16: =木造_データ!M27 -> 0 | M16: =木造_データ!N27 -> 0
C17: 幹線・動力 | D17: =木造_データ!L92 -> 100 | E17: =木造_データ!M92 -> 0 | F17: =木造_データ!N92 -> 0 | J17: 瓦 | K17: =木造_データ!L28 -> 0 | L17: =木造_データ!M28 -> 0 | M17: =木造_データ!N28 -> 0
C18: 電灯コンセント | D18: =木造_データ!L93 -> 100 | E18: =木造_データ!M93 -> 0 | F18: =木造_データ!N93 -> 0 | J18: セメント瓦 | K18: =木造_データ!L29 -> 0 | L18: =木造_データ!M29 -> 0 | M18: =木造_データ!N29 -> 0
C19: 照明器具 | D19: =木造_データ!L94 -> 200 | E19: =木造_データ!M94 -> 0 | F19: =木造_データ!N94 -> 0 | J19: 金属板葺き | K19: =木造_データ!L30 -> 1200 | L19: =木造_データ!M30 -> 0 | M19: =木造_データ!N30 -> 0
C20: 電話・電話配管・IT設備 | D20: =木造_データ!L95 -> 100 | E20: =木造_データ!M95 -> 0 | F20: =木造_データ!N95 -> 0 | J20: 化粧スレート | K20: =木造_データ!L31 -> 0 | L20: =木造_データ!M31 -> 0 | M20: =木造_データ!N31 -> 0
C21: テレビ共聴 | D21: =木造_データ!L96 -> 0 | E21: =木造_データ!M96 -> 0 | F21: =木造_データ!N96 -> 0 | J21: 雨どい | K21: =木造_データ!L32 -> 200 | L21: =木造_データ!M32 -> 0 | M21: =木造_データ!N32 -> 0
C22: インターホン・拡声 | D22: =木造_データ!L97 -> 0 | E22: =木造_データ!M97 -> 0 | F22: =木造_データ!N97 -> 0 | J22: 上記以外の屋根 | K22: =木造_データ!L33 -> 100 | L22: =木造_データ!M33 -> 0 | M22: =木造_データ!N33 -> 0
C23: 防災 | D23: =木造_データ!L98 -> 0 | E23: =木造_データ!M98 -> 0 | F23: =木造_データ!N98 -> 0 | I23: 5.金属製建具 | K23: =木造_データ!L34 -> 2000 | L23: =木造_データ!M34 -> 0 | M23: =木造_データ!N34 -> 0
C24: 避雷針 | D24: =木造_データ!L99 -> 0 | E24: =木造_データ!M99 -> 0 | F24: =木造_データ!N99 -> 0 | J24: アルミニウム製建具 | K24: =木造_データ!L35 -> 1800 | L24: =木造_データ!M35 -> 0 | M24: =木造_データ!N35 -> 0
C25: 蓄電池 | D25: =木造_データ!L100 -> 0 | E25: =木造_データ!M100 -> 0 | F25: =木造_データ!N100 -> 0 | J25: 鋼製建具 | K25: =木造_データ!L36 -> 200 | L25: =木造_データ!M36 -> 0 | M25: =木造_データ!N36 -> 0
C26: 屋外施設の電気設備（外灯、門灯） | D26: =木造_データ!L101 -> 0 | E26: =木造_データ!M101 -> 0 | F26: =木造_データ!N101 -> 0 | J26: ステンレス製建具 | K26: =木造_データ!L37 -> 0 | L26: =木造_データ!M37 -> 0 | M26: =木造_データ!N37 -> 0
C27: 上記以外の電気設備 | D27: =木造_データ!L102 -> 0 | E27: =木造_データ!M102 -> 0 | F27: =木造_データ!N102 -> 0 | J27: 金属製玄関ドア | K27: =木造_データ!L38 -> 0 | L27: =木造_データ!M38 -> 0 | M27: =木造_データ!N38 -> 0
B28: 2.空調 | D28: =木造_データ!L103 -> 400 | E28: =木造_データ!M103 -> 0 | F28: =木造_データ!N103 -> 0 | J28: 雨戸・シャッター | K28: =木造_データ!L39 -> 0 | L28: =木造_データ!M39 -> 0 | M28: =木造_データ!N39 -> 0
C29: 空調機器 | D29: =木造_データ!L104 -> 250 | E29: =木造_データ!M104 -> 0 | F29: =木造_データ!N104 -> 0 | J29: 上記以外の金属製建具 | K29: =木造_データ!L40 -> 0 | L29: =木造_データ!M40 -> 0 | M29: =木造_データ!N40 -> 0
C30: ダクト | D30: =木造_データ!L105 -> 50 | E30: =木造_データ!M105 -> 0 | F30: =木造_データ!N105 -> 0 | I30: 6.木製建具 | K30: =木造_データ!L41 -> 800 | L30: =木造_データ!M41 -> 0 | M30: =木造_データ!N41 -> 0
C31: 空調配管 | D31: =木造_データ!L106 -> 50 | E31: =木造_データ!M106 -> 0 | F31: =木造_データ!N106 -> 0 | J31: 木製ドア | K31: =木造_データ!L42 -> 800 | L31: =木造_データ!M42 -> 0 | M31: =木造_データ!N42 -> 0
C32: 自動制御 | D32: =木造_データ!L107 -> 0 | E32: =木造_データ!M107 -> 0 | F32: =木造_データ!N107 -> 0 | J32: 木製玄関ドア | K32: =木造_データ!L43 -> 0 | L32: =木造_データ!M43 -> 0 | M32: =木造_データ!N43 -> 0
C33: 換気 | D33: =木造_データ!L108 -> 50 | E33: =木造_データ!M108 -> 0 | F33: =木造_データ!N108 -> 0 | J33: ふすま | K33: =木造_データ!L44 -> 0 | L33: =木造_データ!M44 -> 0 | M33: =木造_データ!N44 -> 0
C34: 床暖房 | D34: =木造_データ!L109 -> 0 | E34: =木造_データ!M109 -> 0 | F34: =木造_データ!N109 -> 0 | J34: 障子 | K34: =木造_データ!L45 -> 0 | L34: =木造_データ!M45 -> 0 | M34: =木造_データ!N45 -> 0
C35: パッシブソーラーシステム | D35: =木造_データ!L110 -> 0 | E35: =木造_データ!M110 -> 0 | F35: =木造_データ!N110 -> 0 | J35: 木製建具金物 | K35: =木造_データ!L46 -> 0 | L35: =木造_データ!M46 -> 0 | M35: =木造_データ!N46 -> 0
C36: 上記以外の空調設備 | D36: =木造_データ!L111 -> 0 | E36: =木造_データ!M111 -> 0 | F36: =木造_データ!N111 -> 0 | J36: 上記以外の木製建具 | K36: =木造_データ!L47 -> 0 | L36: =木造_データ!M47 -> 0 | M36: =木造_データ!N47 -> 0
B37: 3.衛生 | D37: =木造_データ!L112 -> 500 | E37: =木造_データ!M112 -> 0 | F37: =木造_データ!N112 -> 0 | I37: 7.ガラス | K37: =木造_データ!L48 -> 100 | L37: =木造_データ!M48 -> 0 | M37: =木造_データ!N48 -> 0
C38: 給水 | D38: =木造_データ!L113 -> 200 | E38: =木造_データ!M113 -> 0 | F38: =木造_データ!N113 -> 0 | I38: 8.防水 | K38: =木造_データ!L49 -> 300 | L38: =木造_データ!M49 -> 0 | M38: =木造_データ!N49 -> 0
C39: 給湯 | D39: =木造_データ!L114 -> 150 | E39: =木造_データ!M114 -> 0 | F39: =木造_データ!N114 -> 0 | I39: 9.石 | K39: =木造_データ!L50 -> 0 | L39: =木造_データ!M50 -> 0 | M39: =木造_データ!N50 -> 0
C40: 排水通気 | D40: =木造_データ!L115 -> 0 | E40: =木造_データ!M115 -> 0 | F40: =木造_データ!N115 -> 0 | I40: 10.タイル | K40: =木造_データ!L51 -> 300 | L40: =木造_データ!M51 -> 0 | M40: =木造_データ!N51 -> 0
C41: 衛生器具 | D41: =木造_データ!L116 -> 150 | E41: =木造_データ!M116 -> 0 | F41: =木造_データ!N116 -> 0 | I41: 11.金属 | K41: =木造_データ!L52 -> 200 | L41: =木造_データ!M52 -> 0 | M41: =木造_データ!N52 -> 0
C42: 消火 | D42: =木造_データ!L117 -> 0 | E42: =木造_データ!M117 -> 0 | F42: =木造_データ!N117 -> 0 | I42: 12.左官 | K42: =木造_データ!L53 -> 300 | L42: =木造_データ!M53 -> 0 | M42: =木造_データ!N53 -> 0
C43: ガス | D43: =木造_データ!L118 -> 0 | E43: =木造_データ!M118 -> 0 | F43: =木造_データ!N118 -> 0 | I43: 13.塗装 | K43: =木造_データ!L54 -> 500 | L43: =木造_データ!M54 -> 0 | M43: =木造_データ!N54 -> 0
C44: 厨房機器 | D44: =木造_データ!L119 -> 0 | E44: =木造_データ!M119 -> 0 | F44: =木造_データ!N119 -> 0 | I44: 14.内外装 | K44: =木造_データ!L55 -> 2500 | L44: =木造_データ!M55 -> 0 | M44: =木造_データ!N55 -> 0
C45: 浄化槽 | D45: =木造_データ!L120 -> 0 | E45: =木造_データ!M120 -> 0 | F45: =木造_データ!N120 -> 0 | J45: 畳 | K45: =木造_データ!L56 -> 400 | L45: =木造_データ!M56 -> 0 | M45: =木造_データ!N56 -> 0
C46: 上記以外の衛生設備 | D46: =木造_データ!L121 -> 0 | E46: =木造_データ!M121 -> 0 | F46: =木造_データ!N121 -> 0 | J46: カーペット | K46: =木造_データ!L57 -> 0 | L46: =木造_データ!M57 -> 0 | M46: =木造_データ!N57 -> 0
B47: 4.昇降機 | D47: =木造_データ!L122 -> 0 | E47: =木造_データ!M122 -> 0 | F47: =木造_データ!N122 -> 0 | J47: フローリング | K47: =木造_データ!L58 -> 0 | L47: =木造_データ!M58 -> 0 | M47: =木造_データ!N58 -> 0
B48: 5.上記以外の設備 | D48: =木造_データ!L123 -> 0 | E48: =木造_データ!M123 -> 0 | F48: =木造_データ!N123 -> 0 | J48: ビニル床タイル | K48: =木造_データ!L59 -> 0 | L48: =木造_データ!M59 -> 0 | M48: =木造_データ!N59 -> 0
A49: 設備工事費合計 | D49: =木造_データ!L124 -> 1500 | E49: =木造_データ!M124 -> 0 | F49: =木造_データ!N124 -> 0 | J49: ビニル床シート | K49: =木造_データ!L60 -> 0 | L49: =木造_データ!M60 -> 0 | M49: =木造_データ!N60 -> 0
J50: 化粧合板 | K50: =木造_データ!L61 -> 0 | L50: =木造_データ!M61 -> 0 | M50: =木造_データ!N61 -> 0
J51: 石こうボード | K51: =木造_データ!L62 -> 300 | L51: =木造_データ!M62 -> 0 | M51: =木造_データ!N62 -> 0
J52: ケイ酸カルシウム板 | K52: =木造_データ!L63 -> 0 | L52: =木造_データ!M63 -> 0 | M52: =木造_データ!N63 -> 0
J53: 木毛セメント板 | K53: =木造_データ!L64 -> 0 | L53: =木造_データ!M64 -> 0 | M53: =木造_データ!N64 -> 0
J54: 壁紙・ビニルクロス張り | K54: =木造_データ!L65 -> 0 | L54: =木造_データ!M65 -> 0 | M54: =木造_データ!N65 -> 0
J55: ロックウール吸音板 | K55: =木造_データ!L66 -> 0 | L55: =木造_データ!M66 -> 0 | M55: =木造_データ!N66 -> 0
J56: サイディング（窒業系） | K56: =木造_データ!L67 -> 1500 | L56: =木造_データ!M67 -> 0 | M56: =木造_データ!N67 -> 0
J57: サイディング（金属系） | K57: =木造_データ!L68 -> 0 | L57: =木造_データ!M68 -> 0 | M57: =木造_データ!N68 -> 0
J58: サイディング（木質系） | K58: =木造_データ!L69 -> 0 | L58: =木造_データ!M69 -> 0 | M58: =木造_データ!N69 -> 0
J59: 幅木・廻り縁 | K59: =木造_データ!L70 -> 0 | L59: =木造_データ!M70 -> 0 | M59: =木造_データ!N70 -> 0
J60: 断熱材 | K60: =木造_データ!L71 -> 300 | L60: =木造_データ!M71 -> 0 | M60: =木造_データ!N71 -> 0
J61: 合成樹脂製品 | K61: =木造_データ!L72 -> 0 | L61: =木造_データ!M72 -> 0 | M61: =木造_データ!N72 -> 0
J62: 上記以外の内外装 | K62: =木造_データ!L73 -> 0 | L62: =木造_データ!M73 -> 0 | M62: =木造_データ!N73 -> 0
I63: 15.仕上ユニット | K63: =木造_データ!L74 -> 3600 | L63: =木造_データ!M74 -> 0 | M63: =木造_データ!N74 -> 0
J64: 収納ユニット | K64: =木造_データ!L75 -> 500 | L64: =木造_データ!M75 -> 0 | M64: =木造_データ!N75 -> 0
J65: 造作家具 | K65: =木造_データ!L76 -> 0 | L65: =木造_データ!M76 -> 0 | M65: =木造_データ!N76 -> 0
J66: 下足入れ | K66: =木造_データ!L77 -> 100 | L66: =木造_データ!M77 -> 0 | M66: =木造_データ!N77 -> 0
J67: キッチンユニット | K67: =木造_データ!L78 -> 1000 | L67: =木造_データ!M78 -> 0 | M67: =木造_データ!N78 -> 0
J68: ユニットバス | K68: =木造_データ!L79 -> 1000 | L68: =木造_データ!M79 -> 0 | M68: =木造_データ!N79 -> 0
J69: 浴槽 | K69: =木造_データ!L80 -> 0 | L69: =木造_データ!M80 -> 0 | M69: =木造_データ!N80 -> 0
J70: 洗面化粧台 | K70: =木造_データ!L81 -> 150 | L70: =木造_データ!M81 -> 0 | M70: =木造_データ!N81 -> 0
J71: ベランダユニット | K71: =木造_データ!L82 -> 0 | L71: =木造_データ!M82 -> 0 | M71: =木造_データ!N82 -> 0
J72: 天井収納ハシゴ | K72: =木造_データ!L83 -> 150 | L72: =木造_データ!M83 -> 0 | M72: =木造_データ!N83 -> 0
J73: 床下収納庫 | K73: =木造_データ!L84 -> 0 | L73: =木造_データ!M84 -> 0 | M73: =木造_データ!N84 -> 0
J74: ブラインド・カーテン | K74: =木造_データ!L85 -> 0 | L74: =木造_データ!M85 -> 0 | M74: =木造_データ!N85 -> 0
J75: カーテンレール | K75: =木造_データ!L86 -> 200 | L75: =木造_データ!M86 -> 0 | M75: =木造_データ!N86 -> 0
J76: 上記以外の仕上ユニット | K76: =木造_データ!L87 -> 500 | L76: =木造_データ!M87 -> 0 | M76: =木造_データ!N87 -> 0
I77: 16.その他 | K77: =木造_データ!L88 -> 9900 | L77: =木造_データ!M88 -> 0 | M77: =木造_データ!N88 -> 0
H78: 建築工事費合計 | K78: =木造_データ!L89 -> 36000 | L78: =木造_データ!M89 -> 0 | M78: =木造_データ!N89 -> 0

Sheet 木造_居住産業併用（比率）
A2: =木造_居住産業併用!A2:M2 -> 表1-2 平成27年建築工事費投入調査集計表（木造_居住産業併用住宅）
A4: （単位：％） | D4: =木造_居住産業併用!D4 -> 1 | E4: =木造_居住産業併用!E4 -> 0 | F4: =木造_居住産業併用!F4 -> 0 | K4: =木造_居住産業併用!K4 -> 1 | L4: =木造_居住産業併用!L4 -> 0 | M4: =木造_居住産業併用!M4 -> 0
D5: 建築工事・設備工事 一貫受注 | E5: 建築工事 のみ受注 | F5: 設備工事 のみ受注 | K5: 建築工事・設備工事 一貫受注 | L5: 建築工事 のみ受注 | M5: 設備工事 のみ受注
A6: 工事費内訳 | B6: 1.建築工事費 | D6: =IF(木造_居住産業併用!D$13>0,木造_居住産業併用!D6/木造_居住産業併用!D$13*100,0) -> 90 | E6: =IF(木造_居住産業併用!E$13>0,木造_居住産業併用!E6/木造_居住産業併用!E$13*100,0) -> 0 | F6: =IF(木造_居住産業併用!F$13>0,木造_居住産業併用!F6/木造_居住産業併用!F$13*100,0) -> 0 | H6: 建築工事費科目別内訳 | I6: 1.仮設 | K6: =IF(木造_居住産業併用!K$78>0,木造_居住産業併用!K6/木造_居住産業併用!K$78*100,0) -> 1.3888889 | L6: =IF(木造_居住産業併用!L$78>0,木造_居住産業併用!L6/木造_居住産業併用!L$78*100,0) -> 0 | M6: =IF(木造_居住産業併用!M$78>0,木造_居住産業併用!M6/木造_居住産業併用!M$78*100,0) -> 0
B7: 2.設備工事費 | D7: =IF(木造_居住産業併用!D$13>0,木造_居住産業併用!D7/木造_居住産業併用!D$13*100,0) -> 3.75 | E7: =IF(木造_居住産業併用!E$13>0,木造_居住産業併用!E7/木造_居住産業併用!E$13*100,0) -> 0 | F7: =IF(木造_居住産業併用!F$13>0,木造_居住産業併用!F7/木造_居住産業併用!F$13*100,0) -> 0 | I7: 2.基礎 | K7: =IF(木造_居住産業併用!K$78>0,木造_居住産業併用!K7/木造_居住産業併用!K$78*100,0) -> 6.9444444 | L7: =IF(木造_居住産業併用!L$78>0,木造_居住産業併用!L7/木造_居住産業併用!L$78*100,0) -> 0 | M7: =IF(木造_居住産業併用!M$78>0,木造_居住産業併用!M7/木造_居住産業併用!M$78*100,0) -> 0
B8: 3.解体・撤去費 | D8: =IF(木造_居住産業併用!D$13>0,木造_居住産業併用!D8/木造_居住産業併用!D$13*100,0) -> 0 | E8: =IF(木造_居住産業併用!E$13>0,木造_居住産業併用!E8/木造_居住産業併用!E$13*100,0) -> 0 | F8: =IF(木造_居住産業併用!F$13>0,木造_居住産業併用!F8/木造_居住産業併用!F$13*100,0) -> 0 | I8: 3.木工 | K8: =IF(木造_居住産業併用!K$78>0,木造_居住産業併用!K8/木造_居住産業併用!K$78*100,0) -> 30.555556 | L8: =IF(木造_居住産業併用!L$78>0,木造_居住産業併用!L8/木造_居住産業併用!L$78*100,0) -> 0 | M8: =IF(木造_居住産業併用!M$78>0,木造_居住産業併用!M8/木造_居住産業併用!M$78*100,0) -> 0
B9: 4.屋外施設費 | D9: =IF(木造_居住産業併用!D$13>0,木造_居住産業併用!D9/木造_居住産業併用!D$13*100,0) -> 3.75 | E9: =IF(木造_居住産業併用!E$13>0,木造_居住産業併用!E9/木造_居住産業併用!E$13*100,0) -> 0 | F9: =IF(木造_居住産業併用!F$13>0,木造_居住産業併用!F9/木造_居住産業併用!F$13*100,0) -> 0 | J9: 構造材 | K9: =IF(木造_居住産業併用!K$78>0,木造_居住産業併用!K9/木造_居住産業併用!K$78*100,0) -> 11.111111 | L9: =IF(木造_居住産業併用!L$78>0,木造_居住産業併用!L9/木造_居住産業併用!L$78*100,0) -> 0 | M9: =IF(木造_居住産業併用!M$78>0,木造_居住産業併用!M9/木造_居住産業併用!M$78*100,0) -> 0
B10: 5.現場管理費 | D10: =IF(木造_居住産業併用!D$13>0,木造_居住産業併用!D10/木造_居住産業併用!D$13*100,0) -> 1 | E10: =IF(木造_居住産業併用!E$13>0,木造_居住産業併用!E10/木造_居住産業併用!E$13*100,0) -> 0 | F10: =IF(木造_居住産業併用!F$13>0,木造_居住産業併用!F10/木造_居住産業併用!F$13*100,0) -> 0 | J10: 造作材 | K10: =IF(木造_居住産業併用!K$78>0,木造_居住産業併用!K10/木造_居住産業併用!K$78*100,0) -> 4.1666667 | L10: =IF(木造_居住産業併用!L$78>0,木造_居住産業併用!L10/木造_居住産業併用!L$78*100,0) -> 0 | M10: =IF(木造_居住産業併用!M$78>0,木造_居住産業併用!M10/木造_居住産業併用!M$78*100,0) -> 0
B11: 6.工事原価 | D11: =IF(木造_居住産業併用!D$13>0,木造_居住産業併用!D11/木造_居住産業併用!D$13*100,0) -> 98.5 | E11: =IF(木造_居住産業併用!E$13>0,木造_居住産業併用!E11/木造_居住産業併用!E$13*100,0) -> 0 | F11: =IF(木造_居住産業併用!F$13>0,木造_居住産業併用!F11/木造_居住産業併用!F$13*100,0) -> 0 | J11: 板材 | K11: =IF(木造_居住産業併用!K$78>0,木造_居住産業併用!K11/木造_居住産業併用!K$78*100,0) -> 1.3888889 | L11: =IF(木造_居住産業併用!L$78>0,木造_居住産業併用!L11/木造_居住産業併用!L$78*100,0) -> 0 | M11: =IF(木造_居住産業併用!M$78>0,木造_居住産業併用!M11/木造_居住産業併用!M$78*100,0) -> 0
B12: 7.一般管理費等 | D12: =IF(木造_居住産業併用!D$13>0,木造_居住産業併用!D12/木造_居住産業併用!D$13*100,0) -> 1.5 | E12: =IF(木造_居住産業併用!E$13>0,木造_居住産業併用!E12/木造_居住産業併用!E$13*100,0) -> 0 | F12: =IF(木造_居住産業併用!F$13>0,木造_居住産業併用!F12/木造_居住産業併用!F$13*100,0) -> 0 | J12: 合板 | K12: =IF(木造_居住産業併用!K$78>0,木造_居住産業併用!K12/木造_居住産業併用!K$78*100,0) -> 1.3888889 | L12: =IF(木造_居住産業併用!L$78>0,木造_居住産業併用!L12/木造_居住産業併用!L$78*100,0) -> 0 | M12: =IF(木造_居住産業併用!M$78>0,木造_居住産業併用!M12/木造_居住産業併用!M$78*100,0) -> 0
A13: 8.工事価格 | D13: =IF(木造_居住産業併用!D$13>0,木造_居住産業併用!D13/木造_居住産業併用!D$13*100,0) -> 100 | E13: =IF(木造_居住産業併用!E$13>0,木造_居住産業併用!E13/木造_居住産業併用!E$13*100,0) -> 0 | F13: =IF(木造_居住産業併用!F$13>0,木造_居住産業併用!F13/木造_居住産業併用!F$13*100,0) -> 0 | J13: 釘・金物 | K13: =IF(木造_居住産業併用!K$78>0,木造_居住産業併用!K13/木造_居住産業併用!K$78*100,0) -> 0.83333333 | L13: =IF(木造_居住産業併用!L$78>0,木造_居住産業併用!L13/木造_居住産業併用!L$78*100,0) -> 0 | M13: =IF(木造_居住産業併用!M$78>0,木造_居住産業併用!M13/木造_居住産業併用!M$78*100,0) -> 0
J14: 大工手間（施工費） | K14: =IF(木造_居住産業併用!K$78>0,木造_居住産業併用!K14/木造_居住産業併用!K$78*100,0) -> 11.111111 | L14: =IF(木造_居住産業併用!L$78>0,木造_居住産業併用!L14/木造_居住産業併用!L$78*100,0) -> 0 | M14: =IF(木造_居住産業併用!M$78>0,木造_居住産業併用!M14/木造_居住産業併用!M$78*100,0) -> 0
A15: 設備工事費科目別内訳 | B15: 1.電気 | D15: =IF(木造_居住産業併用!D$49>0,木造_居住産業併用!D15/木造_居住産業併用!D$49*100,0) -> 40 | E15: =IF(木造_居住産業併用!E$49>0,木造_居住産業併用!E15/木造_居住産業併用!E$49*100,0) -> 0 | F15: =IF(木造_居住産業併用!F$49>0,木造_居住産業併用!F15/木造_居住産業併用!F$49*100,0) -> 0 | J15: 上記以外の木工 | K15: =IF(木造_居住産業併用!K$78>0,木造_居住産業併用!K15/木造_居住産業併用!K$78*100,0) -> 0.55555556 | L15: =IF(木造_居住産業併用!L$78>0,木造_居住産業併用!L15/木造_居住産業併用!L$78*100,0) -> 0 | M15: =IF(木造_居住産業併用!M$78>0,木造_居住産業併用!M15/木造_居住産業併用!M$78*100,0) -> 0
C16: 受変電・電力引込 | D16: =IF(木造_居住産業併用!D$49>0,木造_居住産業併用!D16/木造_居住産業併用!D$49*100,0) -> 6.6666667 | E16: =IF(木造_居住産業併用!E$49>0,木造_居住産業併用!E16/木造_居住産業併用!E$49*100,0) -> 0 | F16: =IF(木造_居住産業併用!F$49>0,木造_居住産業併用!F16/木造_居住産業併用!F$49*100,0) -> 0 | I16: 4.屋根 | K16: =IF(木造_居住産業併用!K$78>0,木造_居住産業併用!K16/木造_居住産業併用!K$78*100,0) -> 4.1666667 | L16: =IF(木造_居住産業併用!L$78>0,木造_居住産業併用!L16/木造_居住産業併用!L$78*100,0) -> 0 | M16: =IF(木造_居住産業併用!M$78>0,木造_居住産業併用!M16/木造_居住産業併用!M$78*100,0) -> 0
C17: 幹線・動力 | D17: =IF(木造_居住産業併用!D$49>0,木造_居住産業併用!D17/木造_居住産業併用!D$49*100,0) -> 6.6666667 | E17: =IF(木造_居住産業併用!E$49>0,木造_居住産業併用!E17/木造_居住産業併用!E$49*100,0) -> 0 | F17: =IF(木造_居住産業併用!F$49>0,木造_居住産業併用!F17/木造_居住産業併用!F$49*100,0) -> 0 | J17: 瓦 | K17: =IF(木造_居住産業併用!K$78>0,木造_居住産業併用!K17/木造_居住産業併用!K$78*100,0) -> 0 | L17: =IF(木造_居住産業併用!L$78>0,木造_居住産業併用!L17/木造_居住産業併用!L$78*100,0) -> 0 | M17: =IF(木造_居住産業併用!M$78>0,木造_居住産業併用!M17/木造_居住産業併用!M$78*100,0) -> 0
C18: 電灯コンセント | D18: =IF(木造_居住産業併用!D$49>0,木造_居住産業併用!D18/木造_居住産業併用!D$49*100,0) -> 6.6666667 | E18: =IF(木造_居住産業併用!E$49>0,木造_居住産業併用!E18/木造_居住産業併用!E$49*100,0) -> 0 | F18: =IF(木造_居住産業併用!F$49>0,木造_居住産業併用!F18/木造_居住産業併用!F$49*100,0) -> 0 | J18: セメント瓦 | K18: =IF(木造_居住産業併用!K$78>0,木造_居住産業併用!K18/木造_居住産業併用!K$78*100,0) -> 0 | L18: =IF(木造_居住産業併用!L$78>0,木造_居住産業併用!L18/木造_居住産業併用!L$78*100,0) -> 0 | M18: =IF(木造_居住産業併用!M$78>0,木造_居住産業併用!M18/木造_居住産業併用!M$78*100,0) -> 0
C19: 照明器具 | D19: =IF(木造_居住産業併用!D$49>0,木造_居住産業併用!D19/木造_居住産業併用!D$49*100,0) -> 13.333333 | E19: =IF(木造_居住産業併用!E$49>0,木造_居住産業併用!E19/木造_居住産業併用!E$49*100,0) -> 0 | F19: =IF(木造_居住産業併用!F$49>0,木造_居住産業併用!F19/木造_居住産業併用!F$49*100,0) -> 0 | J19: 金属板葺き | K19: =IF(木造_居住産業併用!K$78>0,木造_居住産業併用!K19/木造_居住産業併用!K$78*100,0) -> 3.3333333 | L19: =IF(木造_居住産業併用!L$78>0,木造_居住産業併用!L19/木造_居住産業併用!L$78*100,0) -> 0 | M19: =IF(木造_居住産業併用!M$78>0,木造_居住産業併用!M19/木造_居住産業併用!M$78*100,0) -> 0
C20: 電話・電話配管・IT設備 | D20: =IF(木造_居住産業併用!D$49>0,木造_居住産業併用!D20/木造_居住産業併用!D$49*100,0) -> 6.6666667 | E20: =IF(木造_居住産業併用!E$49>0,木造_居住産業併用!E20/木造_居住産業併用!E$49*100,0) -> 0 | F20: =IF(木造_居住産業併用!F$49>0,木造_居住産業併用!F20/木造_居住産業併用!F$49*100,0) -> 0 | J20: 化粧スレート | K20: =IF(木造_居住産業併用!K$78>0,木造_居住産業併用!K20/木造_居住産業併用!K$78*100,0) -> 0 | L20: =IF(木造_居住産業併用!L$78>0,木造_居住産業併用!L20/木造_居住産業併用!L$78*100,0) -> 0 | M20: =IF(木造_居住産業併用!M$78>0,木造_居住産業併用!M20/木造_居住産業併用!M$78*100,0) -> 0
C21: テレビ共聴 | D21: =IF(木造_居住産業併用!D$49>0,木造_居住産業併用!D21/木造_居住産業併用!D$49*100,0) -> 0 | E21: =IF(木造_居住産業併用!E$49>0,木造_居住産業併用!E21/木造_居住産業併用!E$49*100,0) -> 0 | F21: =IF(木造_居住産業併用!F$49>0,木造_居住産業併用!F21/木造_居住産業併用!F$49*100,0) -> 0 | J21: 雨どい | K21: =IF(木造_居住産業併用!K$78>0,木造_居住産業併用!K21/木造_居住産業併用!K$78*100,0) -> 0.55555556 | L21: =IF(木造_居住産業併用!L$78>0,木造_居住産業併用!L21/木造_居住産業併用!L$78*100,0) -> 0 | M21: =IF(木造_居住産業併用!M$78>0,木造_居住産業併用!M21/木造_居住産業併用!M$78*100,0) -> 0
C22: インターホン・拡声 | D22: =IF(木造_居住産業併用!D$49>0,木造_居住産業併用!D22/木造_居住産業併用!D$49*100,0) -> 0 | E22: =IF(木造_居住産業併用!E$49>0,木造_居住産業併用!E22/木造_居住産業併用!E$49*100,0) -> 0 | F22: =IF(木造_居住産業併用!F$49>0,木造_居住産業併用!F22/木造_居住産業併用!F$49*100,0) -> 0 | J22: 上記以外の屋根 | K22: =IF(木造_居住産業併用!K$78>0,木造_居住産業併用!K22/木造_居住産業併用!K$78*100,0) -> 0.27777778 | L22: =IF(木造_居住産業併用!L$78>0,木造_居住産業併用!L22/木造_居住産業併用!L$78*100,0) -> 0 | M22: =IF(木造_居住産業併用!M$78>0,木造_居住産業併用!M22/木造_居住産業併用!M$78*100,0) -> 0
C23: 防災 | D23: =IF(木造_居住産業併用!D$49>0,木造_居住産業併用!D23/木造_居住産業併用!D$49*100,0) -> 0 | E23: =IF(木造_居住産業併用!E$49>0,木造_居住産業併用!E23/木造_居住産業併用!E$49*100,0) -> 0 | F23: =IF(木造_居住産業併用!F$49>0,木造_居住産業併用!F23/木造_居住産業併用!F$49*100,0) -> 0 | I23: 5.金属製建具 | K23: =IF(木造_居住産業併用!K$78>0,木造_居住産業併用!K23/木造_居住産業併用!K$78*100,0) -> 5.5555556 | L23: =IF(木造_居住産業併用!L$78>0,木造_居住産業併用!L23/木造_居住産業併用!L$78*100,0) -> 0 | M23: =IF(木造_居住産業併用!M$78>0,木造_居住産業併用!M23/木造_居住産業併用!M$78*100,0) -> 0
C24: 避雷針 | D24: =IF(木造_居住産業併用!D$49>0,木造_居住産業併用!D24/木造_居住産業併用!D$49*100,0) -> 0 | E24: =IF(木造_居住産業併用!E$49>0,木造_居住産業併用!E24/木造_居住産業併用!E$49*100,0) -> 0 | F24: =IF(木造_居住産業併用!F$49>0,木造_居住産業併用!F24/木造_居住産業併用!F$49*100,0) -> 0 | J24: アルミニウム製建具 | K24: =IF(木造_居住産業併用!K$78>0,木造_居住産業併用!K24/木造_居住産業併用!K$78*100,0) -> 5 | L24: =IF(木造_居住産業併用!L$78>0,木造_居住産業併用!L24/木造_居住産業併用!L$78*100,0) -> 0 | M24: =IF(木造_居住産業併用!M$78>0,木造_居住産業併用!M24/木造_居住産業併用!M$78*100,0) -> 0
C25: 蓄電池 | D25: =IF(木造_居住産業併用!D$49>0,木造_居住産業併用!D25/木造_居住産業併用!D$49*100,0) -> 0 | E25: =IF(木造_居住産業併用!E$49>0,木造_居住産業併用!E25/木造_居住産業併用!E$49*100,0) -> 0 | F25: =IF(木造_居住産業併用!F$49>0,木造_居住産業併用!F25/木造_居住産業併用!F$49*100,0) -> 0 | J25: 鋼製建具 | K25: =IF(木造_居住産業併用!K$78>0,木造_居住産業併用!K25/木造_居住産業併用!K$78*100,0) -> 0.55555556 | L25: =IF(木造_居住産業併用!L$78>0,木造_居住産業併用!L25/木造_居住産業併用!L$78*100,0) -> 0 | M25: =IF(木造_居住産業併用!M$78>0,木造_居住産業併用!M25/木造_居住産業併用!M$78*100,0) -> 0
C26: 屋外施設の電気設備（外灯、門灯） | D26: =IF(木造_居住産業併用!D$49>0,木造_居住産業併用!D26/木造_居住産業併用!D$49*100,0) -> 0 | E26: =IF(木造_居住産業併用!E$49>0,木造_居住産業併用!E26/木造_居住産業併用!E$49*100,0) -> 0 | F26: =IF(木造_居住産業併用!F$49>0,木造_居住産業併用!F26/木造_居住産業併用!F$49*100,0) -> 0 | J26: ステンレス製建具 | K26: =IF(木造_居住産業併用!K$78>0,木造_居住産業併用!K26/木造_居住産業併用!K$78*100,0) -> 0 | L26: =IF(木造_居住産業併用!L$78>0,木造_居住産業併用!L26/木造_居住産業併用!L$78*100,0) -> 0 | M26: =IF(木造_居住産業併用!M$78>0,木造_居住産業併用!M26/木造_居住産業併用!M$78*100,0) -> 0
C27: 上記以外の電気設備 | D27: =IF(木造_居住産業併用!D$49>0,木造_居住産業併用!D27/木造_居住産業併用!D$49*100,0) -> 0 | E27: =IF(木造_居住産業併用!E$49>0,木造_居住産業併用!E27/木造_居住産業併用!E$49*100,0) -> 0 | F27: =IF(木造_居住産業併用!F$49>0,木造_居住産業併用!F27/木造_居住産業併用!F$49*100,0) -> 0 | J27: 金属製玄関ドア | K27: =IF(木造_居住産業併用!K$78>0,木造_居住産業併用!K27/木造_居住産業併用!K$78*100,0) -> 0 | L27: =IF(木造_居住産業併用!L$78>0,木造_居住産業併用!L27/木造_居住産業併用!L$78*100,0) -> 0 | M27: =IF(木造_居住産業併用!M$78>0,木造_居住産業併用!M27/木造_居住産業併用!M$78*100,0) -> 0
B28: 2.空調 | D28: =IF(木造_居住産業併用!D$49>0,木造_居住産業併用!D28/木造_居住産業併用!D$49*100,0) -> 26.666667 | E28: =IF(木造_居住産業併用!E$49>0,木造_居住産業併用!E28/木造_居住産業併用!E$49*100,0) -> 0 | F28: =IF(木造_居住産業併用!F$49>0,木造_居住産業併用!F28/木造_居住産業併用!F$49*100,0) -> 0 | J28: 雨戸・シャッター | K28: =IF(木造_居住産業併用!K$78>0,木造_居住産業併用!K28/木造_居住産業併用!K$78*100,0) -> 0 | L28: =IF(木造_居住産業併用!L$78>0,木造_居住産業併用!L28/木造_居住産業併用!L$78*100,0) -> 0 | M28: =IF(木造_居住産業併用!M$78>0,木造_居住産業併用!M28/木造_居住産業併用!M$78*100,0) -> 0
C29: 空調機器 | D29: =IF(木造_居住産業併用!D$49>0,木造_居住産業併用!D29/木造_居住産業併用!D$49*100,0) -> 16.666667 | E29: =IF(木造_居住産業併用!E$49>0,木造_居住産業併用!E29/木造_居住産業併用!E$49*100,0) -> 0 | F29: =IF(木造_居住産業併用!F$49>0,木造_居住産業併用!F29/木造_居住産業併用!F$49*100,0) -> 0 | J29: 上記以外の金属製建具 | K29: =IF(木造_居住産業併用!K$78>0,木造_居住産業併用!K29/木造_居住産業併用!K$78*100,0) -> 0 | L29: =IF(木造_居住産業併用!L$78>0,木造_居住産業併用!L29/木造_居住産業併用!L$78*100,0) -> 0 | M29: =IF(木造_居住産業併用!M$78>0,木造_居住産業併用!M29/木造_居住産業併用!M$78*100,0) -> 0
C30: ダクト | D30: =IF(木造_居住産業併用!D$49>0,木造_居住産業併用!D30/木造_居住産業併用!D$49*100,0) -> 3.3333333 | E30: =IF(木造_居住産業併用!E$49>0,木造_居住産業併用!E30/木造_居住産業併用!E$49*100,0) -> 0 | F30: =IF(木造_居住産業併用!F$49>0,木造_居住産業併用!F30/木造_居住産業併用!F$49*100,0) -> 0 | I30: 6.木製建具 | K30: =IF(木造_居住産業併用!K$78>0,木造_居住産業併用!K30/木造_居住産業併用!K$78*100,0) -> 2.2222222 | L30: =IF(木造_居住産業併用!L$78>0,木造_居住産業併用!L30/木造_居住産業併用!L$78*100,0) -> 0 | M30: =IF(木造_居住産業併用!M$78>0,木造_居住産業併用!M30/木造_居住産業併用!M$78*100,0) -> 0
C31: 空調配管 | D31: =IF(木造_居住産業併用!D$49>0,木造_居住産業併用!D31/木造_居住産業併用!D$49*100,0) -> 3.3333333 | E31: =IF(木造_居住産業併用!E$49>0,木造_居住産業併用!E31/木造_居住産業併用!E$49*100,0) -> 0 | F31: =IF(木造_居住産業併用!F$49>0,木造_居住産業併用!F31/木造_居住産業併用!F$49*100,0) -> 0 | J31: 木製ドア | K31: =IF(木造_居住産業併用!K$78>0,木造_居住産業併用!K31/木造_居住産業併用!K$78*100,0) -> 2.2222222 | L31: =IF(木造_居住産業併用!L$78>0,木造_居住産業併用!L31/木造_居住産業併用!L$78*100,0) -> 0 | M31: =IF(木造_居住産業併用!M$78>0,木造_居住産業併用!M31/木造_居住産業併用!M$78*100,0) -> 0
C32: 自動制御 | D32: =IF(木造_居住産業併用!D$49>0,木造_居住産業併用!D32/木造_居住産業併用!D$49*100,0) -> 0 | E32: =IF(木造_居住産業併用!E$49>0,木造_居住産業併用!E32/木造_居住産業併用!E$49*100,0) -> 0 | F32: =IF(木造_居住産業併用!F$49>0,木造_居住産業併用!F32/木造_居住産業併用!F$49*100,0) -> 0 | J32: 木製玄関ドア | K32: =IF(木造_居住産業併用!K$78>0,木造_居住産業併用!K32/木造_居住産業併用!K$78*100,0) -> 0 | L32: =IF(木造_居住産業併用!L$78>0,木造_居住産業併用!L32/木造_居住産業併用!L$78*100,0) -> 0 | M32: =IF(木造_居住産業併用!M$78>0,木造_居住産業併用!M32/木造_居住産業併用!M$78*100,0) -> 0
C33: 換気 | D33: =IF(木造_居住産業併用!D$49>0,木造_居住産業併用!D33/木造_居住産業併用!D$49*100,0) -> 3.3333333 | E33: =IF(木造_居住産業併用!E$49>0,木造_居住産業併用!E33/木造_居住産業併用!E$49*100,0) -> 0 | F33: =IF(木造_居住産業併用!F$49>0,木造_居住産業併用!F33/木造_居住産業併用!F$49*100,0) -> 0 | J33: ふすま | K33: =IF(木造_居住産業併用!K$78>0,木造_居住産業併用!K33/木造_居住産業併用!K$78*100,0) -> 0 | L33: =IF(木造_居住産業併用!L$78>0,木造_居住産業併用!L33/木造_居住産業併用!L$78*100,0) -> 0 | M33: =IF(木造_居住産業併用!M$78>0,木造_居住産業併用!M33/木造_居住産業併用!M$78*100,0) -> 0
C34: 床暖房 | D34: =IF(木造_居住産業併用!D$49>0,木造_居住産業併用!D34/木造_居住産業併用!D$49*100,0) -> 0 | E34: =IF(木造_居住産業併用!E$49>0,木造_居住産業併用!E34/木造_居住産業併用!E$49*100,0) -> 0 | F34: =IF(木造_居住産業併用!F$49>0,木造_居住産業併用!F34/木造_居住産業併用!F$49*100,0) -> 0 | J34: 障子 | K34: =IF(木造_居住産業併用!K$78>0,木造_居住産業併用!K34/木造_居住産業併用!K$78*100,0) -> 0 | L34: =IF(木造_居住産業併用!L$78>0,木造_居住産業併用!L34/木造_居住産業併用!L$78*100,0) -> 0 | M34: =IF(木造_居住産業併用!M$78>0,木造_居住産業併用!M34/木造_居住産業併用!M$78*100,0) -> 0
C35: パッシブソーラーシステム | D35: =IF(木造_居住産業併用!D$49>0,木造_居住産業併用!D35/木造_居住産業併用!D$49*100,0) -> 0 | E35: =IF(木造_居住産業併用!E$49>0,木造_居住産業併用!E35/木造_居住産業併用!E$49*100,0) -> 0 | F35: =IF(木造_居住産業併用!F$49>0,木造_居住産業併用!F35/木造_居住産業併用!F$49*100,0) -> 0 | J35: 木製建具金物 | K35: =IF(木造_居住産業併用!K$78>0,木造_居住産業併用!K35/木造_居住産業併用!K$78*100,0) -> 0 | L35: =IF(木造_居住産業併用!L$78>0,木造_居住産業併用!L35/木造_居住産業併用!L$78*100,0) -> 0 | M35: =IF(木造_居住産業併用!M$78>0,木造_居住産業併用!M35/木造_居住産業併用!M$78*100,0) -> 0
C36: 上記以外の空調設備 | D36: =IF(木造_居住産業併用!D$49>0,木造_居住産業併用!D36/木造_居住産業併用!D$49*100,0) -> 0 | E36: =IF(木造_居住産業併用!E$49>0,木造_居住産業併用!E36/木造_居住産業併用!E$49*100,0) -> 0 | F36: =IF(木造_居住産業併用!F$49>0,木造_居住産業併用!F36/木造_居住産業併用!F$49*100,0) -> 0 | J36: 上記以外の木製建具 | K36: =IF(木造_居住産業併用!K$78>0,木造_居住産業併用!K36/木造_居住産業併用!K$78*100,0) -> 0 | L36: =IF(木造_居住産業併用!L$78>0,木造_居住産業併用!L36/木造_居住産業併用!L$78*100,0) -> 0 | M36: =IF(木造_居住産業併用!M$78>0,木造_居住産業併用!M36/木造_居住産業併用!M$78*100,0) -> 0
B37: 3.衛生 | D37: =IF(木造_居住産業併用!D$49>0,木造_居住産業併用!D37/木造_居住産業併用!D$49*100,0) -> 33.333333 | E37: =IF(木造_居住産業併用!E$49>0,木造_居住産業併用!E37/木造_居住産業併用!E$49*100,0) -> 0 | F37: =IF(木造_居住産業併用!F$49>0,木造_居住産業併用!F37/木造_居住産業併用!F$49*100,0) -> 0 | I37: 7.ガラス | K37: =IF(木造_居住産業併用!K$78>0,木造_居住産業併用!K37/木造_居住産業併用!K$78*100,0) -> 0.27777778 | L37: =IF(木造_居住産業併用!L$78>0,木造_居住産業併用!L37/木造_居住産業併用!L$78*100,0) -> 0 | M37: =IF(木造_居住産業併用!M$78>0,木造_居住産業併用!M37/木造_居住産業併用!M$78*100,0) -> 0
C38: 給水 | D38: =IF(木造_居住産業併用!D$49>0,木造_居住産業併用!D38/木造_居住産業併用!D$49*100,0) -> 13.333333 | E38: =IF(木造_居住産業併用!E$49>0,木造_居住産業併用!E38/木造_居住産業併用!E$49*100,0) -> 0 | F38: =IF(木造_居住産業併用!F$49>0,木造_居住産業併用!F38/木造_居住産業併用!F$49*100,0) -> 0 | I38: 8.防水 | K38: =IF(木造_居住産業併用!K$78>0,木造_居住産業併用!K38/木造_居住産業併用!K$78*100,0) -> 0.83333333 | L38: =IF(木造_居住産業併用!L$78>0,木造_居住産業併用!L38/木造_居住産業併用!L$78*100,0) -> 0 | M38: =IF(木造_居住産業併用!M$78>0,木造_居住産業併用!M38/木造_居住産業併用!M$78*100,0) -> 0
C39: 給湯 | D39: =IF(木造_居住産業併用!D$49>0,木造_居住産業併用!D39/木造_居住産業併用!D$49*100,0) -> 10 | E39: =IF(木造_居住産業併用!E$49>0,木造_居住産業併用!E39/木造_居住産業併用!E$49*100,0) -> 0 | F39: =IF(木造_居住産業併用!F$49>0,木造_居住産業併用!F39/木造_居住産業併用!F$49*100,0) -> 0 | I39: 9.石 | K39: =IF(木造_居住産業併用!K$78>0,木造_居住産業併用!K39/木造_居住産業併用!K$78*100,0) -> 0 | L39: =IF(木造_居住産業併用!L$78>0,木造_居住産業併用!L39/木造_居住産業併用!L$78*100,0) -> 0 | M39: =IF(木造_居住産業併用!M$78>0,木造_居住産業併用!M39/木造_居住産業併用!M$78*100,0) -> 0
C40: 排水通気 | D40: =IF(木造_居住産業併用!D$49>0,木造_居住産業併用!D40/木造_居住産業併用!D$49*100,0) -> 0 | E40: =IF(木造_居住産業併用!E$49>0,木造_居住産業併用!E40/木造_居住産業併用!E$49*100,0) -> 0 | F40: =IF(木造_居住産業併用!F$49>0,木造_居住産業併用!F40/木造_居住産業併用!F$49*100,0) -> 0 | I40: 10.タイル | K40: =IF(木造_居住産業併用!K$78>0,木造_居住産業併用!K40/木造_居住産業併用!K$78*100,0) -> 0.83333333 | L40: =IF(木造_居住産業併用!L$78>0,木造_居住産業併用!L40/木造_居住産業併用!L$78*100,0) -> 0 | M40: =IF(木造_居住産業併用!M$78>0,木造_居住産業併用!M40/木造_居住産業併用!M$78*100,0) -> 0
C41: 衛生器具 | D41: =IF(木造_居住産業併用!D$49>0,木造_居住産業併用!D41/木造_居住産業併用!D$49*100,0) -> 10 | E41: =IF(木造_居住産業併用!E$49>0,木造_居住産業併用!E41/木造_居住産業併用!E$49*100,0) -> 0 | F41: =IF(木造_居住産業併用!F$49>0,木造_居住産業併用!F41/木造_居住産業併用!F$49*100,0) -> 0 | I41: 11.金属 | K41: =IF(木造_居住産業併用!K$78>0,木造_居住産業併用!K41/木造_居住産業併用!K$78*100,0) -> 0.55555556 | L41: =IF(木造_居住産業併用!L$78>0,木造_居住産業併用!L41/木造_居住産業併用!L$78*100,0) -> 0 | M41: =IF(木造_居住産業併用!M$78>0,木造_居住産業併用!M41/木造_居住産業併用!M$78*100,0) -> 0
C42: 消火 | D42: =IF(木造_居住産業併用!D$49>0,木造_居住産業併用!D42/木造_居住産業併用!D$49*100,0) -> 0 | E42: =IF(木造_居住産業併用!E$49>0,木造_居住産業併用!E42/木造_居住産業併用!E$49*100,0) -> 0 | F42: =IF(木造_居住産業併用!F$49>0,木造_居住産業併用!F42/木造_居住産業併用!F$49*100,0) -> 0 | I42: 12.左官 | K42: =IF(木造_居住産業併用!K$78>0,木造_居住産業併用!K42/木造_居住産業併用!K$78*100,0) -> 0.83333333 | L42: =IF(木造_居住産業併用!L$78>0,木造_居住産業併用!L42/木造_居住産業併用!L$78*100,0) -> 0 | M42: =IF(木造_居住産業併用!M$78>0,木造_居住産業併用!M42/木造_居住産業併用!M$78*100,0) -> 0
C43: ガス | D43: =IF(木造_居住産業併用!D$49>0,木造_居住産業併用!D43/木造_居住産業併用!D$49*100,0) -> 0 | E43: =IF(木造_居住産業併用!E$49>0,木造_居住産業併用!E43/木造_居住産業併用!E$49*100,0) -> 0 | F43: =IF(木造_居住産業併用!F$49>0,木造_居住産業併用!F43/木造_居住産業併用!F$49*100,0) -> 0 | I43: 13.塗装 | K43: =IF(木造_居住産業併用!K$78>0,木造_居住産業併用!K43/木造_居住産業併用!K$78*100,0) -> 1.3888889 | L43: =IF(木造_居住産業併用!L$78>0,木造_居住産業併用!L43/木造_居住産業併用!L$78*100,0) -> 0 | M43: =IF(木造_居住産業併用!M$78>0,木造_居住産業併用!M43/木造_居住産業併用!M$78*100,0) -> 0
C44: 厨房機器 | D44: =IF(木造_居住産業併用!D$49>0,木造_居住産業併用!D44/木造_居住産業併用!D$49*100,0) -> 0 | E44: =IF(木造_居住産業併用!E$49>0,木造_居住産業併用!E44/木造_居住産業併用!E$49*100,0) -> 0 | F44: =IF(木造_居住産業併用!F$49>0,木造_居住産業併用!F44/木造_居住産業併用!F$49*100,0) -> 0 | I44: 14.内外装 | K44: =IF(木造_居住産業併用!K$78>0,木造_居住産業併用!K44/木造_居住産業併用!K$78*100,0) -> 6.9444444 | L44: =IF(木造_居住産業併用!L$78>0,木造_居住産業併用!L44/木造_居住産業併用!L$78*100,0) -> 0 | M44: =IF(木造_居住産業併用!M$78>0,木造_居住産業併用!M44/木造_居住産業併用!M$78*100,0) -> 0
C45: 浄化槽 | D45: =IF(木造_居住産業併用!D$49>0,木造_居住産業併用!D45/木造_居住産業併用!D$49*100,0) -> 0 | E45: =IF(木造_居住産業併用!E$49>0,木造_居住産業併用!E45/木造_居住産業併用!E$49*100,0) -> 0 | F45: =IF(木造_居住産業併用!F$49>0,木造_居住産業併用!F45/木造_居住産業併用!F$49*100,0) -> 0 | J45: 畳 | K45: =IF(木造_居住産業併用!K$78>0,木造_居住産業併用!K45/木造_居住産業併用!K$78*100,0) -> 1.1111111 | L45: =IF(木造_居住産業併用!L$78>0,木造_居住産業併用!L45/木造_居住産業併用!L$78*100,0) -> 0 | M45: =IF(木造_居住産業併用!M$78>0,木造_居住産業併用!M45/木造_居住産業併用!M$78*100,0) -> 0
C46: 上記以外の衛生設備 | D46: =IF(木造_居住産業併用!D$49>0,木造_居住産業併用!D46/木造_居住産業併用!D$49*100,0) -> 0 | E46: =IF(木造_居住産業併用!E$49>0,木造_居住産業併用!E46/木造_居住産業併用!E$49*100,0) -> 0 | F46: =IF(木造_居住産業併用!F$49>0,木造_居住産業併用!F46/木造_居住産業併用!F$49*100,0) -> 0 | J46: カーペット | K46: =IF(木造_居住産業併用!K$78>0,木造_居住産業併用!K46/木造_居住産業併用!K$78*100,0) -> 0 | L46: =IF(木造_居住産業併用!L$78>0,木造_居住産業併用!L46/木造_居住産業併用!L$78*100,0) -> 0 | M46: =IF(木造_居住産業併用!M$78>0,木造_居住産業併用!M46/木造_居住産業併用!M$78*100,0) -> 0
B47: 4.昇降機 | D47: =IF(木造_居住産業併用!D$49>0,木造_居住産業併用!D47/木造_居住産業併用!D$49*100,0) -> 0 | E47: =IF(木造_居住産業併用!E$49>0,木造_居住産業併用!E47/木造_居住産業併用!E$49*100,0) -> 0 | F47: =IF(木造_居住産業併用!F$49>0,木造_居住産業併用!F47/木造_居住産業併用!F$49*100,0) -> 0 | J47: フローリング | K47: =IF(木造_居住産業併用!K$78>0,木造_居住産業併用!K47/木造_居住産業併用!K$78*100,0) -> 0 | L47: =IF(木造_居住産業併用!L$78>0,木造_居住産業併用!L47/木造_居住産業併用!L$78*100,0) -> 0 | M47: =IF(木造_居住産業併用!M$78>0,木造_居住産業併用!M47/木造_居住産業併用!M$78*100,0) -> 0
B48: 5.上記以外の設備 | D48: =IF(木造_居住産業併用!D$49>0,木造_居住産業併用!D48/木造_居住産業併用!D$49*100,0) -> 0 | E48: =IF(木造_居住産業併用!E$49>0,木造_居住産業併用!E48/木造_居住産業併用!E$49*100,0) -> 0 | F48: =IF(木造_居住産業併用!F$49>0,木造_居住産業併用!F48/木造_居住産業併用!F$49*100,0) -> 0 | J48: ビニル床タイル | K48: =IF(木造_居住産業併用!K$78>0,木造_居住産業併用!K48/木造_居住産業併用!K$78*100,0) -> 0 | L48: =IF(木造_居住産業併用!L$78>0,木造_居住産業併用!L48/木造_居住産業併用!L$78*100,0) -> 0 | M48: =IF(木造_居住産業併用!M$78>0,木造_居住産業併用!M48/木造_居住産業併用!M$78*100,0) -> 0
A49: 設備工事費合計 | D49: =IF(木造_居住産業併用!D$49>0,木造_居住産業併用!D49/木造_居住産業併用!D$49*100,0) -> 100 | E49: =IF(木造_居住産業併用!E$49>0,木造_居住産業併用!E49/木造_居住産業併用!E$49*100,0) -> 0 | F49: =IF(木造_居住産業併用!F$49>0,木造_居住産業併用!F49/木造_居住産業併用!F$49*100,0) -> 0 | J49: ビニル床シート | K49: =IF(木造_居住産業併用!K$78>0,木造_居住産業併用!K49/木造_居住産業併用!K$78*100,0) -> 0 | L49: =IF(木造_居住産業併用!L$78>0,木造_居住産業併用!L49/木造_居住産業併用!L$78*100,0) -> 0 | M49: =IF(木造_居住産業併用!M$78>0,木造_居住産業併用!M49/木造_居住産業併用!M$78*100,0) -> 0
J50: 化粧合板 | K50: =IF(木造_居住産業併用!K$78>0,木造_居住産業併用!K50/木造_居住産業併用!K$78*100,0) -> 0 | L50: =IF(木造_居住産業併用!L$78>0,木造_居住産業併用!L50/木造_居住産業併用!L$78*100,0) -> 0 | M50: =IF(木造_居住産業併用!M$78>0,木造_居住産業併用!M50/木造_居住産業併用!M$78*100,0) -> 0
J51: 石こうボード | K51: =IF(木造_居住産業併用!K$78>0,木造_居住産業併用!K51/木造_居住産業併用!K$78*100,0) -> 0.83333333 | L51: =IF(木造_居住産業併用!L$78>0,木造_居住産業併用!L51/木造_居住産業併用!L$78*100,0) -> 0 | M51: =IF(木造_居住産業併用!M$78>0,木造_居住産業併用!M51/木造_居住産業併用!M$78*100,0) -> 0
J52: ケイ酸カルシウム板 | K52: =IF(木造_居住産業併用!K$78>0,木造_居住産業併用!K52/木造_居住産業併用!K$78*100,0) -> 0 | L52: =IF(木造_居住産業併用!L$78>0,木造_居住産業併用!L52/木造_居住産業併用!L$78*100,0) -> 0 | M52: =IF(木造_居住産業併用!M$78>0,木造_居住産業併用!M52/木造_居住産業併用!M$78*100,0) -> 0
J53: 木毛セメント板 | K53: =IF(木造_居住産業併用!K$78>0,木造_居住産業併用!K53/木造_居住産業併用!K$78*100,0) -> 0 | L53: =IF(木造_居住産業併用!L$78>0,木造_居住産業併用!L53/木造_居住産業併用!L$78*100,0) -> 0 | M53: =IF(木造_居住産業併用!M$78>0,木造_居住産業併用!M53/木造_居住産業併用!M$78*100,0) -> 0
J54: 壁紙・ビニルクロス張り | K54: =IF(木造_居住産業併用!K$78>0,木造_居住産業併用!K54/木造_居住産業併用!K$78*100,0) -> 0 | L54: =IF(木造_居住産業併用!L$78>0,木造_居住産業併用!L54/木造_居住産業併用!L$78*100,0) -> 0 | M54: =IF(木造_居住産業併用!M$78>0,木造_居住産業併用!M54/木造_居住産業併用!M$78*100,0) -> 0
J55: ロックウール吸音板 | K55: =IF(木造_居住産業併用!K$78>0,木造_居住産業併用!K55/木造_居住産業併用!K$78*100,0) -> 0 | L55: =IF(木造_居住産業併用!L$78>0,木造_居住産業併用!L55/木造_居住産業併用!L$78*100,0) -> 0 | M55: =IF(木造_居住産業併用!M$78>0,木造_居住産業併用!M55/木造_居住産業併用!M$78*100,0) -> 0
J56: サイディング（窒業系） | K56: =IF(木造_居住産業併用!K$78>0,木造_居住産業併用!K56/木造_居住産業併用!K$78*100,0) -> 4.1666667 | L56: =IF(木造_居住産業併用!L$78>0,木造_居住産業併用!L56/木造_居住産業併用!L$78*100,0) -> 0 | M56: =IF(木造_居住産業併用!M$78>0,木造_居住産業併用!M56/木造_居住産業併用!M$78*100,0) -> 0
J57: サイディング（金属系） | K57: =IF(木造_居住産業併用!K$78>0,木造_居住産業併用!K57/木造_居住産業併用!K$78*100,0) -> 0 | L57: =IF(木造_居住産業併用!L$78>0,木造_居住産業併用!L57/木造_居住産業併用!L$78*100,0) -> 0 | M57: =IF(木造_居住産業併用!M$78>0,木造_居住産業併用!M57/木造_居住産業併用!M$78*100,0) -> 0
J58: サイディング（木質系） | K58: =IF(木造_居住産業併用!K$78>0,木造_居住産業併用!K58/木造_居住産業併用!K$78*100,0) -> 0 | L58: =IF(木造_居住産業併用!L$78>0,木造_居住産業併用!L58/木造_居住産業併用!L$78*100,0) -> 0 | M58: =IF(木造_居住産業併用!M$78>0,木造_居住産業併用!M58/木造_居住産業併用!M$78*100,0) -> 0
J59: 幅木・廻り縁 | K59: =IF(木造_居住産業併用!K$78>0,木造_居住産業併用!K59/木造_居住産業併用!K$78*100,0) -> 0 | L59: =IF(木造_居住産業併用!L$78>0,木造_居住産業併用!L59/木造_居住産業併用!L$78*100,0) -> 0 | M59: =IF(木造_居住産業併用!M$78>0,木造_居住産業併用!M59/木造_居住産業併用!M$78*100,0) -> 0
J60: 断熱材 | K60: =IF(木造_居住産業併用!K$78>0,木造_居住産業併用!K60/木造_居住産業併用!K$78*100,0) -> 0.83333333 | L60: =IF(木造_居住産業併用!L$78>0,木造_居住産業併用!L60/木造_居住産業併用!L$78*100,0) -> 0 | M60: =IF(木造_居住産業併用!M$78>0,木造_居住産業併用!M60/木造_居住産業併用!M$78*100,0) -> 0
J61: 合成樹脂製品 | K61: =IF(木造_居住産業併用!K$78>0,木造_居住産業併用!K61/木造_居住産業併用!K$78*100,0) -> 0 | L61: =IF(木造_居住産業併用!L$78>0,木造_居住産業併用!L61/木造_居住産業併用!L$78*100,0) -> 0 | M61: =IF(木造_居住産業併用!M$78>0,木造_居住産業併用!M61/木造_居住産業併用!M$78*100,0) -> 0
J62: 上記以外の内外装 | K62: =IF(木造_居住産業併用!K$78>0,木造_居住産業併用!K62/木造_居住産業併用!K$78*100,0) -> 0 | L62: =IF(木造_居住産業併用!L$78>0,木造_居住産業併用!L62/木造_居住産業併用!L$78*100,0) -> 0 | M62: =IF(木造_居住産業併用!M$78>0,木造_居住産業併用!M62/木造_居住産業併用!M$78*100,0) -> 0
I63: 15.仕上ユニット | K63: =IF(木造_居住産業併用!K$78>0,木造_居住産業併用!K63/木造_居住産業併用!K$78*100,0) -> 10 | L63: =IF(木造_居住産業併用!L$78>0,木造_居住産業併用!L63/木造_居住産業併用!L$78*100,0) -> 0 | M63: =IF(木造_居住産業併用!M$78>0,木造_居住産業併用!M63/木造_居住産業併用!M$78*100,0) -> 0
J64: 収納ユニット | K64: =IF(木造_居住産業併用!K$78>0,木造_居住産業併用!K64/木造_居住産業併用!K$78*100,0) -> 1.3888889 | L64: =IF(木造_居住産業併用!L$78>0,木造_居住産業併用!L64/木造_居住産業併用!L$78*100,0) -> 0 | M64: =IF(木造_居住産業併用!M$78>0,木造_居住産業併用!M64/木造_居住産業併用!M$78*100,0) -> 0
J65: 造作家具 | K65: =IF(木造_居住産業併用!K$78>0,木造_居住産業併用!K65/木造_居住産業併用!K$78*100,0) -> 0 | L65: =IF(木造_居住産業併用!L$78>0,木造_居住産業併用!L65/木造_居住産業併用!L$78*100,0) -> 0 | M65: =IF(木造_居住産業併用!M$78>0,木造_居住産業併用!M65/木造_居住産業併用!M$78*100,0) -> 0
J66: 下足入れ | K66: =IF(木造_居住産業併用!K$78>0,木造_居住産業併用!K66/木造_居住産業併用!K$78*100,0) -> 0.27777778 | L66: =IF(木造_居住産業併用!L$78>0,木造_居住産業併用!L66/木造_居住産業併用!L$78*100,0) -> 0 | M66: =IF(木造_居住産業併用!M$78>0,木造_居住産業併用!M66/木造_居住産業併用!M$78*100,0) -> 0
J67: キッチンユニット | K67: =IF(木造_居住産業併用!K$78>0,木造_居住産業併用!K67/木造_居住産業併用!K$78*100,0) -> 2.7777778 | L67: =IF(木造_居住産業併用!L$78>0,木造_居住産業併用!L67/木造_居住産業併用!L$78*100,0) -> 0 | M67: =IF(木造_居住産業併用!M$78>0,木造_居住産業併用!M67/木造_居住産業併用!M$78*100,0) -> 0
J68: ユニットバス | K68: =IF(木造_居住産業併用!K$78>0,木造_居住産業併用!K68/木造_居住産業併用!K$78*100,0) -> 2.7777778 | L68: =IF(木造_居住産業併用!L$78>0,木造_居住産業併用!L68/木造_居住産業併用!L$78*100,0) -> 0 | M68: =IF(木造_居住産業併用!M$78>0,木造_居住産業併用!M68/木造_居住産業併用!M$78*100,0) -> 0
J69: 浴槽 | K69: =IF(木造_居住産業併用!K$78>0,木造_居住産業併用!K69/木造_居住産業併用!K$78*100,0) -> 0 | L69: =IF(木造_居住産業併用!L$78>0,木造_居住産業併用!L69/木造_居住産業併用!L$78*100,0) -> 0 | M69: =IF(木造_居住産業併用!M$78>0,木造_居住産業併用!M69/木造_居住産業併用!M$78*100,0) -> 0
J70: 洗面化粧台 | K70: =IF(木造_居住産業併用!K$78>0,木造_居住産業併用!K70/木造_居住産業併用!K$78*100,0) -> 0.41666667 | L70: =IF(木造_居住産業併用!L$78>0,木造_居住産業併用!L70/木造_居住産業併用!L$78*100,0) -> 0 | M70: =IF(木造_居住産業併用!M$78>0,木造_居住産業併用!M70/木造_居住産業併用!M$78*100,0) -> 0
J71: ベランダユニット | K71: =IF(木造_居住産業併用!K$78>0,木造_居住産業併用!K71/木造_居住産業併用!K$78*100,0) -> 0 | L71: =IF(木造_居住産業併用!L$78>0,木造_居住産業併用!L71/木造_居住産業併用!L$78*100,0) -> 0 | M71: =IF(木造_居住産業併用!M$78>0,木造_居住産業併用!M71/木造_居住産業併用!M$78*100,0) -> 0
J72: 天井収納ハシゴ | K72: =IF(木造_居住産業併用!K$78>0,木造_居住産業併用!K72/木造_居住産業併用!K$78*100,0) -> 0.41666667 | L72: =IF(木造_居住産業併用!L$78>0,木造_居住産業併用!L72/木造_居住産業併用!L$78*100,0) -> 0 | M72: =IF(木造_居住産業併用!M$78>0,木造_居住産業併用!M72/木造_居住産業併用!M$78*100,0) -> 0
J73: 床下収納庫 | K73: =IF(木造_居住産業併用!K$78>0,木造_居住産業併用!K73/木造_居住産業併用!K$78*100,0) -> 0 | L73: =IF(木造_居住産業併用!L$78>0,木造_居住産業併用!L73/木造_居住産業併用!L$78*100,0) -> 0 | M73: =IF(木造_居住産業併用!M$78>0,木造_居住産業併用!M73/木造_居住産業併用!M$78*100,0) -> 0
J74: ブラインド・カーテン | K74: =IF(木造_居住産業併用!K$78>0,木造_居住産業併用!K74/木造_居住産業併用!K$78*100,0) -> 0 | L74: =IF(木造_居住産業併用!L$78>0,木造_居住産業併用!L74/木造_居住産業併用!L$78*100,0) -> 0 | M74: =IF(木造_居住産業併用!M$78>0,木造_居住産業併用!M74/木造_居住産業併用!M$78*100,0) -> 0
J75: カーテンレール | K75: =IF(木造_居住産業併用!K$78>0,木造_居住産業併用!K75/木造_居住産業併用!K$78*100,0) -> 0.55555556 | L75: =IF(木造_居住産業併用!L$78>0,木造_居住産業併用!L75/木造_居住産業併用!L$78*100,0) -> 0 | M75: =IF(木造_居住産業併用!M$78>0,木造_居住産業併用!M75/木造_居住産業併用!M$78*100,0) -> 0
J76: 上記以外の仕上ユニット | K76: =IF(木造_居住産業併用!K$78>0,木造_居住産業併用!K76/木造_居住産業併用!K$78*100,0) -> 1.3888889 | L76: =IF(木造_居住産業併用!L$78>0,木造_居住産業併用!L76/木造_居住産業併用!L$78*100,0) -> 0 | M76: =IF(木造_居住産業併用!M$78>0,木造_居住産業併用!M76/木造_居住産業併用!M$78*100,0) -> 0
I77: 16.その他 | K77: =IF(木造_居住産業併用!K$78>0,木造_居住産業併用!K77/木造_居住産業併用!K$78*100,0) -> 27.5 | L77: =IF(木造_居住産業併用!L$78>0,木造_居住産業併用!L77/木造_居住産業併用!L$78*100,0) -> 0 | M77: =IF(木造_居住産業併用!M$78>0,木造_居住産業併用!M77/木造_居住産業併用!M$78*100,0) -> 0
H78: 建築工事費合計 | K78: =IF(木造_居住産業併用!K$78>0,木造_居住産業併用!K78/木造_居住産業併用!K$78*100,0) -> 100 | L78: =IF(木造_居住産業併用!L$78>0,木造_居住産業併用!L78/木造_居住産業併用!L$78*100,0) -> 0 | M78: =IF(木造_居住産業併用!M$78>0,木造_居住産業併用!M78/木造_居住産業併用!M$78*100,0) -> 0

Sheet 木造_事務所
A2: 表1-2 平成27年建築工事費投入調査集計表（木造_事務所）
A4: （単位：千円） | D4: =木造_データ!O4 -> 1 | E4: =木造_データ!P4 -> 1 | F4: =木造_データ!Q4 -> 0 | K4: =D4 -> 1 | L4: =E4 -> 1 | M4: =F4 -> 0
D5: 建築工事・ 設備工事 一貫受注 | E5: 建築工事 のみ受注 | F5: 設備工事 のみ受注 | K5: 建築工事・ 設備工事 一貫受注 | L5: 建築工事 のみ受注 | M5: 設備工事 のみ受注
A6: 工事費内訳 | B6: 1.建築工事費 | D6: =木造_データ!O9 -> 12748 | E6: =木造_データ!P9 -> 7900 | F6: =木造_データ!Q9 -> 0 | H6: 建築工事費科目別内訳 | I6: 1.仮設 | K6: =木造_データ!O17 -> 300 | L6: =木造_データ!P17 -> 440 | M6: =木造_データ!Q17 -> 0
B7: 2.設備工事費 | D7: =木造_データ!O10 -> 7196 | E7: =木造_データ!P10 -> 0 | F7: =木造_データ!Q10 -> 0 | I7: 2.基礎 | K7: =木造_データ!O18 -> 1658 | L7: =木造_データ!P18 -> 1180 | M7: =木造_データ!Q18 -> 0
B8: 3.解体・撤去費 | D8: =木造_データ!O11 -> 0 | E8: =木造_データ!P11 -> 400 | F8: =木造_データ!Q11 -> 0 | I8: 3.木工 | K8: =木造_データ!O19 -> 3956 | L8: =木造_データ!P19 -> 2030 | M8: =木造_データ!Q19 -> 0
B9: 4.屋外施設費 | D9: =木造_データ!O12 -> 762 | E9: =木造_データ!P12 -> 0 | F9: =木造_データ!Q12 -> 0 | J9: 構造材 | K9: =木造_データ!O20 -> 1187 | L9: =木造_データ!P20 -> 714 | M9: =木造_データ!Q20 -> 0
B10: 5.現場管理費 | D10: =木造_データ!O13 -> 599 | E10: =木造_データ!P13 -> 1350 | F10: =木造_データ!Q13 -> 0 | J10: 造作材 | K10: =木造_データ!O21 -> 198 | L10: =木造_データ!P21 -> 160 | M10: =木造_データ!Q21 -> 0
B11: 6.工事原価 | D11: =木造_データ!O14 -> 21305 | E11: =木造_データ!P14 -> 9650 | F11: =木造_データ!Q14 -> 0 | J11: 板材 | K11: =木造_データ!O22 -> 198 | L11: =木造_データ!P22 -> 150 | M11: =木造_データ!Q22 -> 0
B12: 7.一般管理費等 | D12: =木造_データ!O15 -> 3695 | E12: =木造_データ!P15 -> 770 | F12: =木造_データ!Q15 -> 0 | J12: 合板 | K12: =木造_データ!O23 -> 0 | L12: =木造_データ!P23 -> 150 | M12: =木造_データ!Q23 -> 0
A13: 8.工事価格 | D13: =木造_データ!O16 -> 25000 | E13: =木造_データ!P16 -> 10420 | F13: =木造_データ!Q16 -> 0 | J13: 釘・金物 | K13: =木造_データ!O24 -> 0 | L13: =木造_データ!P24 -> 50 | M13: =木造_データ!Q24 -> 0
J14: 大工手間（施工費） | K14: =木造_データ!O25 -> 2373 | L14: =木造_データ!P25 -> 760 | M14: =木造_データ!Q25 -> 0
A15: 設備工事費科目別内訳 | B15: 1.電気 | D15: =木造_データ!O90 -> 2283 | E15: =木造_データ!P90 -> 0 | F15: =木造_データ!Q90 -> 0 | J15: 上記以外の木工 | K15: =木造_データ!O26 -> 0 | L15: =木造_データ!P26 -> 46 | M15: =木造_データ!Q26 -> 0
C16: 受変電・電力引込 | D16: =木造_データ!O91 -> 228 | E16: =木造_データ!P91 -> 0 | F16: =木造_データ!Q91 -> 0 | I16: 4.屋根 | K16: =木造_データ!O27 -> 949 | L16: =木造_データ!P27 -> 610 | M16: =木造_データ!Q27 -> 0
C17: 幹線・動力 | D17: =木造_データ!O92 -> 685 | E17: =木造_データ!P92 -> 0 | F17: =木造_データ!Q92 -> 0 | J17: 瓦 | K17: =木造_データ!O28 -> 0 | L17: =木造_データ!P28 -> 0 | M17: =木造_データ!Q28 -> 0
C18: 電灯コンセント | D18: =木造_データ!O93 -> 457 | E18: =木造_データ!P93 -> 0 | F18: =木造_データ!Q93 -> 0 | J18: セメント瓦 | K18: =木造_データ!O29 -> 0 | L18: =木造_データ!P29 -> 0 | M18: =木造_データ!Q29 -> 0
C19: 照明器具 | D19: =木造_データ!O94 -> 457 | E19: =木造_データ!P94 -> 0 | F19: =木造_データ!Q94 -> 0 | J19: 金属板葺き | K19: =木造_データ!O30 -> 921 | L19: =木造_データ!P30 -> 610 | M19: =木造_データ!Q30 -> 0
C20: 電話・電話配管・IT設備 | D20: =木造_データ!O95 -> 342 | E20: =木造_データ!P95 -> 0 | F20: =木造_データ!Q95 -> 0 | J20: 化粧スレート | K20: =木造_データ!O31 -> 0 | L20: =木造_データ!P31 -> 0 | M20: =木造_データ!Q31 -> 0
C21: テレビ共聴 | D21: =木造_データ!O96 -> 0 | E21: =木造_データ!P96 -> 0 | F21: =木造_データ!Q96 -> 0 | J21: 雨どい | K21: =木造_データ!O32 -> 28 | L21: =木造_データ!P32 -> 0 | M21: =木造_データ!Q32 -> 0
C22: インターホン・拡声 | D22: =木造_データ!O97 -> 0 | E22: =木造_データ!P97 -> 0 | F22: =木造_データ!Q97 -> 0 | J22: 上記以外の屋根 | K22: =木造_データ!O33 -> 0 | L22: =木造_データ!P33 -> 0 | M22: =木造_データ!Q33 -> 0
C23: 防災 | D23: =木造_データ!O98 -> 0 | E23: =木造_データ!P98 -> 0 | F23: =木造_データ!Q98 -> 0 | I23: 5.金属製建具 | K23: =木造_データ!O34 -> 2840 | L23: =木造_データ!P34 -> 560 | M23: =木造_データ!Q34 -> 0
C24: 避雷針 | D24: =木造_データ!O99 -> 0 | E24: =木造_データ!P99 -> 0 | F24: =木造_データ!Q99 -> 0 | J24: アルミニウム製建具 | K24: =木造_データ!O35 -> 2840 | L24: =木造_データ!P35 -> 210 | M24: =木造_データ!Q35 -> 0
C25: 蓄電池 | D25: =木造_データ!O100 -> 0 | E25: =木造_データ!P100 -> 0 | F25: =木造_データ!Q100 -> 0 | J25: 鋼製建具 | K25: =木造_データ!O36 -> 0 | L25: =木造_データ!P36 -> 0 | M25: =木造_データ!Q36 -> 0
C26: 屋外施設の電気設備（外灯、門灯） | D26: =木造_データ!O101 -> 114 | E26: =木造_データ!P101 -> 0 | F26: =木造_データ!Q101 -> 0 | J26: ステンレス製建具 | K26: =木造_データ!O37 -> 0 | L26: =木造_データ!P37 -> 0 | M26: =木造_データ!Q37 -> 0
C27: 上記以外の電気設備 | D27: =木造_データ!O102 -> 0 | E27: =木造_データ!P102 -> 0 | F27: =木造_データ!Q102 -> 0 | J27: 金属製玄関ドア | K27: =木造_データ!O38 -> 0 | L27: =木造_データ!P38 -> 0 | M27: =木造_データ!Q38 -> 0
B28: 2.空調 | D28: =木造_データ!O103 -> 3354 | E28: =木造_データ!P103 -> 0 | F28: =木造_データ!Q103 -> 0 | J28: 雨戸・シャッター | K28: =木造_データ!O39 -> 0 | L28: =木造_データ!P39 -> 0 | M28: =木造_データ!Q39 -> 0
C29: 空調機器 | D29: =木造_データ!O104 -> 2012 | E29: =木造_データ!P104 -> 0 | F29: =木造_データ!Q104 -> 0 | J29: 上記以外の金属製建具 | K29: =木造_データ!O40 -> 0 | L29: =木造_データ!P40 -> 350 | M29: =木造_データ!Q40 -> 0
C30: ダクト | D30: =木造_データ!O105 -> 168 | E30: =木造_データ!P105 -> 0 | F30: =木造_データ!Q105 -> 0 | I30: 6.木製建具 | K30: =木造_データ!O41 -> 376 | L30: =木造_データ!P41 -> 540 | M30: =木造_データ!Q41 -> 0
C31: 空調配管 | D31: =木造_データ!O106 -> 671 | E31: =木造_データ!P106 -> 0 | F31: =木造_データ!Q106 -> 0 | J31: 木製ドア | K31: =木造_データ!O42 -> 376 | L31: =木造_データ!P42 -> 440 | M31: =木造_データ!Q42 -> 0
C32: 自動制御 | D32: =木造_データ!O107 -> 0 | E32: =木造_データ!P107 -> 0 | F32: =木造_データ!Q107 -> 0 | J32: 木製玄関ドア | K32: =木造_データ!O43 -> 0 | L32: =木造_データ!P43 -> 0 | M32: =木造_データ!Q43 -> 0
C33: 換気 | D33: =木造_データ!O108 -> 503 | E33: =木造_データ!P108 -> 0 | F33: =木造_データ!Q108 -> 0 | J33: ふすま | K33: =木造_データ!O44 -> 0 | L33: =木造_データ!P44 -> 0 | M33: =木造_データ!Q44 -> 0
C34: 床暖房 | D34: =木造_データ!O109 -> 0 | E34: =木造_データ!P109 -> 0 | F34: =木造_データ!Q109 -> 0 | J34: 障子 | K34: =木造_データ!O45 -> 0 | L34: =木造_データ!P45 -> 0 | M34: =木造_データ!Q45 -> 0
C35: パッシブソーラーシステム | D35: =木造_データ!O110 -> 0 | E35: =木造_データ!P110 -> 0 | F35: =木造_データ!Q110 -> 0 | J35: 木製建具金物 | K35: =木造_データ!O46 -> 0 | L35: =木造_データ!P46 -> 100 | M35: =木造_データ!Q46 -> 0
C36: 上記以外の空調設備 | D36: =木造_データ!O111 -> 0 | E36: =木造_データ!P111 -> 0 | F36: =木造_データ!Q111 -> 0 | J36: 上記以外の木製建具 | K36: =木造_データ!O47 -> 0 | L36: =木造_データ!P47 -> 0 | M36: =木造_データ!Q47 -> 0
B37: 3.衛生 | D37: =木造_データ!O112 -> 1559 | E37: =木造_データ!P112 -> 0 | F37: =木造_データ!Q112 -> 0 | I37: 7.ガラス | K37: =木造_データ!O48 -> 0 | L37: =木造_データ!P48 -> 70 | M37: =木造_データ!Q48 -> 0
C38: 給水 | D38: =木造_データ!O113 -> 312 | E38: =木造_データ!P113 -> 0 | F38: =木造_データ!Q113 -> 0 | I38: 8.防水 | K38: =木造_データ!O49 -> 0 | L38: =木造_データ!P49 -> 110 | M38: =木造_データ!Q49 -> 0
C39: 給湯 | D39: =木造_データ!O114 -> 312 | E39: =木造_データ!P114 -> 0 | F39: =木造_データ!Q114 -> 0 | I39: 9.石 | K39: =木造_データ!O50 -> 0 | L39: =木造_データ!P50 -> 0 | M39: =木造_データ!Q50 -> 0
C40: 排水通気 | D40: =木造_データ!O115 -> 312 | E40: =木造_データ!P115 -> 0 | F40: =木造_データ!Q115 -> 0 | I40: 10.タイル | K40: =木造_データ!O51 -> 177 | L40: =木造_データ!P51 -> 150 | M40: =木造_データ!Q51 -> 0
C41: 衛生器具 | D41: =木造_データ!O116 -> 467 | E41: =木造_データ!P116 -> 0 | F41: =木造_データ!Q116 -> 0 | I41: 11.金属 | K41: =木造_データ!O52 -> 0 | L41: =木造_データ!P52 -> 300 | M41: =木造_データ!Q52 -> 0
C42: 消火 | D42: =木造_データ!O117 -> 78 | E42: =木造_データ!P117 -> 0 | F42: =木造_データ!Q117 -> 0 | I42: 12.左官 | K42: =木造_データ!O53 -> 145 | L42: =木造_データ!P53 -> 200 | M42: =木造_データ!Q53 -> 0
C43: ガス | D43: =木造_データ!O118 -> 0 | E43: =木造_データ!P118 -> 0 | F43: =木造_データ!Q118 -> 0 | I43: 13.塗装 | K43: =木造_データ!O54 -> 95 | L43: =木造_データ!P54 -> 0 | M43: =木造_データ!Q54 -> 0
C44: 厨房機器 | D44: =木造_データ!O119 -> 78 | E44: =木造_データ!P119 -> 0 | F44: =木造_データ!Q119 -> 0 | I44: 14.内外装 | K44: =木造_データ!O55 -> 2003 | L44: =木造_データ!P55 -> 1530 | M44: =木造_データ!Q55 -> 0
C45: 浄化槽 | D45: =木造_データ!O120 -> 0 | E45: =木造_データ!P120 -> 0 | F45: =木造_データ!Q120 -> 0 | J45: 畳 | K45: =木造_データ!O56 -> 40 | L45: =木造_データ!P56 -> 0 | M45: =木造_データ!Q56 -> 0
C46: 上記以外の衛生設備 | D46: =木造_データ!O121 -> 0 | E46: =木造_データ!P121 -> 0 | F46: =木造_データ!Q121 -> 0 | J46: カーペット | K46: =木造_データ!O57 -> 0 | L46: =木造_データ!P57 -> 250 | M46: =木造_データ!Q57 -> 0
B47: 4.昇降機 | D47: =木造_データ!O122 -> 0 | E47: =木造_データ!P122 -> 0 | F47: =木造_データ!Q122 -> 0 | J47: フローリング | K47: =木造_データ!O58 -> 0 | L47: =木造_データ!P58 -> 120 | M47: =木造_データ!Q58 -> 0
B48: 5.上記以外の設備 | D48: =木造_データ!O123 -> 0 | E48: =木造_データ!P123 -> 0 | F48: =木造_データ!Q123 -> 0 | J48: ビニル床タイル | K48: =木造_データ!O59 -> 0 | L48: =木造_データ!P59 -> 0 | M48: =木造_データ!Q59 -> 0
A49: 設備工事費合計 | D49: =木造_データ!O124 -> 7196 | E49: =木造_データ!P124 -> 0 | F49: =木造_データ!Q124 -> 0 | J49: ビニル床シート | K49: =木造_データ!O60 -> 401 | L49: =木造_データ!P60 -> 16 | M49: =木造_データ!Q60 -> 0
J50: 化粧合板 | K50: =木造_データ!O61 -> 0 | L50: =木造_データ!P61 -> 0 | M50: =木造_データ!Q61 -> 0
J51: 石こうボード | K51: =木造_データ!O62 -> 200 | L51: =木造_データ!P62 -> 216 | M51: =木造_データ!Q62 -> 0
J52: ケイ酸カルシウム板 | K52: =木造_データ!O63 -> 40 | L52: =木造_データ!P63 -> 42 | M52: =木造_データ!Q63 -> 0
J53: 木毛セメント板 | K53: =木造_データ!O64 -> 0 | L53: =木造_データ!P64 -> 0 | M53: =木造_データ!Q64 -> 0
J54: 壁紙・ビニルクロス張り | K54: =木造_データ!O65 -> 120 | L54: =木造_データ!P65 -> 113 | M54: =木造_データ!Q65 -> 0
J55: ロックウール吸音板 | K55: =木造_データ!O66 -> 0 | L55: =木造_データ!P66 -> 0 | M55: =木造_データ!Q66 -> 0
J56: サイディング（窒業系） | K56: =木造_データ!O67 -> 0 | L56: =木造_データ!P67 -> 530 | M56: =木造_データ!Q67 -> 0
J57: サイディング（金属系） | K57: =木造_データ!O68 -> 801 | L57: =木造_データ!P68 -> 0 | M57: =木造_データ!Q68 -> 0
J58: サイディング（木質系） | K58: =木造_データ!O69 -> 0 | L58: =木造_データ!P69 -> 0 | M58: =木造_データ!Q69 -> 0
J59: 幅木・廻り縁 | K59: =木造_データ!O70 -> 100 | L59: =木造_データ!P70 -> 15 | M59: =木造_データ!Q70 -> 0
J60: 断熱材 | K60: =木造_データ!O71 -> 301 | L60: =木造_データ!P71 -> 111 | M60: =木造_データ!Q71 -> 0
J61: 合成樹脂製品 | K61: =木造_データ!O72 -> 0 | L61: =木造_データ!P72 -> 23 | M61: =木造_データ!Q72 -> 0
J62: 上記以外の内外装 | K62: =木造_データ!O73 -> 0 | L62: =木造_データ!P73 -> 94 | M62: =木造_データ!Q73 -> 0
I63: 15.仕上ユニット | K63: =木造_データ!O74 -> 247 | L63: =木造_データ!P74 -> 180 | M63: =木造_データ!Q74 -> 0
J64: 収納ユニット | K64: =木造_データ!O75 -> 37 | L64: =木造_データ!P75 -> 0 | M64: =木造_データ!Q75 -> 0
J65: 造作家具 | K65: =木造_データ!O76 -> 74 | L65: =木造_データ!P76 -> 0 | M65: =木造_データ!Q76 -> 0
J66: 下足入れ | K66: =木造_データ!O77 -> 12 | L66: =木造_データ!P77 -> 0 | M66: =木造_データ!Q77 -> 0
J67: キッチンユニット | K67: =木造_データ!O78 -> 62 | L67: =木造_データ!P78 -> 0 | M67: =木造_データ!Q78 -> 0
J68: ユニットバス | K68: =木造_データ!O79 -> 0 | L68: =木造_データ!P79 -> 0 | M68: =木造_データ!Q79 -> 0
J69: 浴槽 | K69: =木造_データ!O80 -> 0 | L69: =木造_データ!P80 -> 0 | M69: =木造_データ!Q80 -> 0
J70: 洗面化粧台 | K70: =木造_データ!O81 -> 0 | L70: =木造_データ!P81 -> 0 | M70: =木造_データ!Q81 -> 0
J71: ベランダユニット | K71: =木造_データ!O82 -> 0 | L71: =木造_データ!P82 -> 0 | M71: =木造_データ!Q82 -> 0
J72: 天井収納ハシゴ | K72: =木造_データ!O83 -> 0 | L72: =木造_データ!P83 -> 0 | M72: =木造_データ!Q83 -> 0
J73: 床下収納庫 | K73: =木造_データ!O84 -> 0 | L73: =木造_データ!P84 -> 0 | M73: =木造_データ!Q84 -> 0
J74: ブラインド・カーテン | K74: =木造_データ!O85 -> 17 | L74: =木造_データ!P85 -> 88 | M74: =木造_データ!Q85 -> 0
J75: カーテンレール | K75: =木造_データ!O86 -> 8 | L75: =木造_データ!P86 -> 0 | M75: =木造_データ!Q86 -> 0
J76: 上記以外の仕上ユニット | K76: =木造_データ!O87 -> 37 | L76: =木造_データ!P87 -> 92 | M76: =木造_データ!Q87 -> 0
I77: 16.その他 | K77: =木造_データ!O88 -> 2 | L77: =木造_データ!P88 -> 0 | M77: =木造_データ!Q88 -> 0
H78: 建築工事費合計 | K78: =木造_データ!O89 -> 12748 | L78: =木造_データ!P89 -> 7900 | M78: =木造_データ!Q89 -> 0

Sheet 木造_事務所（比率）
A2: 表1-2 平成27年建築工事費投入調査集計表（木造_事務所）
A4: （単位：％） | D4: =木造_事務所!D4 -> 1 | E4: =木造_事務所!E4 -> 1 | F4: =木造_事務所!F4 -> 0 | K4: =木造_事務所!K4 -> 1 | L4: =木造_事務所!L4 -> 1 | M4: =木造_事務所!M4 -> 0
D5: 建築工事・ 設備工事 一貫受注 | E5: 建築工事 のみ受注 | F5: 設備工事 のみ受注 | K5: 建築工事・ 設備工事 一貫受注 | L5: 建築工事 のみ受注 | M5: 設備工事 のみ受注
A6: 工事費内訳 | B6: 1.建築工事費 | D6: =IF(木造_事務所!D$13>0,木造_事務所!D6/木造_事務所!D$13*100,0) -> 50.992 | E6: =IF(木造_事務所!E$13>0,木造_事務所!E6/木造_事務所!E$13*100,0) -> 75.815739 | F6: =IF(木造_事務所!F$13>0,木造_事務所!F6/木造_事務所!F$13*100,0) -> 0 | H6: 建築工事費科目別内訳 | I6: 1.仮設 | K6: =IF(木造_事務所!K$78>0,木造_事務所!K6/木造_事務所!K$78*100,0) -> 2.3533103 | L6: =IF(木造_事務所!L$78>0,木造_事務所!L6/木造_事務所!L$78*100,0) -> 5.5696203 | M6: =IF(木造_事務所!M$78>0,木造_事務所!M6/木造_事務所!M$78*100,0) -> 0
B7: 2.設備工事費 | D7: =IF(木造_事務所!D$13>0,木造_事務所!D7/木造_事務所!D$13*100,0) -> 28.784 | E7: =IF(木造_事務所!E$13>0,木造_事務所!E7/木造_事務所!E$13*100,0) -> 0 | F7: =IF(木造_事務所!F$13>0,木造_事務所!F7/木造_事務所!F$13*100,0) -> 0 | I7: 2.基礎 | K7: =IF(木造_事務所!K$78>0,木造_事務所!K7/木造_事務所!K$78*100,0) -> 13.005962 | L7: =IF(木造_事務所!L$78>0,木造_事務所!L7/木造_事務所!L$78*100,0) -> 14.936709 | M7: =IF(木造_事務所!M$78>0,木造_事務所!M7/木造_事務所!M$78*100,0) -> 0
B8: 3.解体・撤去費 | D8: =IF(木造_事務所!D$13>0,木造_事務所!D8/木造_事務所!D$13*100,0) -> 0 | E8: =IF(木造_事務所!E$13>0,木造_事務所!E8/木造_事務所!E$13*100,0) -> 3.8387716 | F8: =IF(木造_事務所!F$13>0,木造_事務所!F8/木造_事務所!F$13*100,0) -> 0 | I8: 3.木工 | K8: =IF(木造_事務所!K$78>0,木造_事務所!K8/木造_事務所!K$78*100,0) -> 31.032319 | L8: =IF(木造_事務所!L$78>0,木造_事務所!L8/木造_事務所!L$78*100,0) -> 25.696203 | M8: =IF(木造_事務所!M$78>0,木造_事務所!M8/木造_事務所!M$78*100,0) -> 0
B9: 4.屋外施設費 | D9: =IF(木造_事務所!D$13>0,木造_事務所!D9/木造_事務所!D$13*100,0) -> 3.048 | E9: =IF(木造_事務所!E$13>0,木造_事務所!E9/木造_事務所!E$13*100,0) -> 0 | F9: =IF(木造_事務所!F$13>0,木造_事務所!F9/木造_事務所!F$13*100,0) -> 0 | J9: 構造材 | K9: =IF(木造_事務所!K$78>0,木造_事務所!K9/木造_事務所!K$78*100,0) -> 9.3112645 | L9: =IF(木造_事務所!L$78>0,木造_事務所!L9/木造_事務所!L$78*100,0) -> 9.0379747 | M9: =IF(木造_事務所!M$78>0,木造_事務所!M9/木造_事務所!M$78*100,0) -> 0
B10: 5.現場管理費 | D10: =IF(木造_事務所!D$13>0,木造_事務所!D10/木造_事務所!D$13*100,0) -> 2.396 | E10: =IF(木造_事務所!E$13>0,木造_事務所!E10/木造_事務所!E$13*100,0) -> 12.955854 | F10: =IF(木造_事務所!F$13>0,木造_事務所!F10/木造_事務所!F$13*100,0) -> 0 | J10: 造作材 | K10: =IF(木造_事務所!K$78>0,木造_事務所!K10/木造_事務所!K$78*100,0) -> 1.5531848 | L10: =IF(木造_事務所!L$78>0,木造_事務所!L10/木造_事務所!L$78*100,0) -> 2.0253165 | M10: =IF(木造_事務所!M$78>0,木造_事務所!M10/木造_事務所!M$78*100,0) -> 0
B11: 6.工事原価 | D11: =IF(木造_事務所!D$13>0,木造_事務所!D11/木造_事務所!D$13*100,0) -> 85.22 | E11: =IF(木造_事務所!E$13>0,木造_事務所!E11/木造_事務所!E$13*100,0) -> 92.610365 | F11: =IF(木造_事務所!F$13>0,木造_事務所!F11/木造_事務所!F$13*100,0) -> 0 | J11: 板材 | K11: =IF(木造_事務所!K$78>0,木造_事務所!K11/木造_事務所!K$78*100,0) -> 1.5531848 | L11: =IF(木造_事務所!L$78>0,木造_事務所!L11/木造_事務所!L$78*100,0) -> 1.8987342 | M11: =IF(木造_事務所!M$78>0,木造_事務所!M11/木造_事務所!M$78*100,0) -> 0
B12: 7.一般管理費等 | D12: =IF(木造_事務所!D$13>0,木造_事務所!D12/木造_事務所!D$13*100,0) -> 14.78 | E12: =IF(木造_事務所!E$13>0,木造_事務所!E12/木造_事務所!E$13*100,0) -> 7.3896353 | F12: =IF(木造_事務所!F$13>0,木造_事務所!F12/木造_事務所!F$13*100,0) -> 0 | J12: 合板 | K12: =IF(木造_事務所!K$78>0,木造_事務所!K12/木造_事務所!K$78*100,0) -> 0 | L12: =IF(木造_事務所!L$78>0,木造_事務所!L12/木造_事務所!L$78*100,0) -> 1.8987342 | M12: =IF(木造_事務所!M$78>0,木造_事務所!M12/木造_事務所!M$78*100,0) -> 0
A13: 8.工事価格 | D13: =IF(木造_事務所!D$13>0,木造_事務所!D13/木造_事務所!D$13*100,0) -> 100 | E13: =IF(木造_事務所!E$13>0,木造_事務所!E13/木造_事務所!E$13*100,0) -> 100 | F13: =IF(木造_事務所!F$13>0,木造_事務所!F13/木造_事務所!F$13*100,0) -> 0 | J13: 釘・金物 | K13: =IF(木造_事務所!K$78>0,木造_事務所!K13/木造_事務所!K$78*100,0) -> 0 | L13: =IF(木造_事務所!L$78>0,木造_事務所!L13/木造_事務所!L$78*100,0) -> 0.63291139 | M13: =IF(木造_事務所!M$78>0,木造_事務所!M13/木造_事務所!M$78*100,0) -> 0
J14: 大工手間（施工費） | K14: =IF(木造_事務所!K$78>0,木造_事務所!K14/木造_事務所!K$78*100,0) -> 18.614685 | L14: =IF(木造_事務所!L$78>0,木造_事務所!L14/木造_事務所!L$78*100,0) -> 9.6202532 | M14: =IF(木造_事務所!M$78>0,木造_事務所!M14/木造_事務所!M$78*100,0) -> 0
A15: 設備工事費科目別内訳 | B15: 1.電気 | D15: =IF(木造_事務所!D$49>0,木造_事務所!D15/木造_事務所!D$49*100,0) -> 31.725959 | E15: =IF(木造_事務所!E$49>0,木造_事務所!E15/木造_事務所!E$49*100,0) -> 0 | F15: =IF(木造_事務所!F$49>0,木造_事務所!F15/木造_事務所!F$49*100,0) -> 0 | J15: 上記以外の木工 | K15: =IF(木造_事務所!K$78>0,木造_事務所!K15/木造_事務所!K$78*100,0) -> 0 | L15: =IF(木造_事務所!L$78>0,木造_事務所!L15/木造_事務所!L$78*100,0) -> 0.58227848 | M15: =IF(木造_事務所!M$78>0,木造_事務所!M15/木造_事務所!M$78*100,0) -> 0
C16: 受変電・電力引込 | D16: =IF(木造_事務所!D$49>0,木造_事務所!D16/木造_事務所!D$49*100,0) -> 3.1684269 | E16: =IF(木造_事務所!E$49>0,木造_事務所!E16/木造_事務所!E$49*100,0) -> 0 | F16: =IF(木造_事務所!F$49>0,木造_事務所!F16/木造_事務所!F$49*100,0) -> 0 | I16: 4.屋根 | K16: =IF(木造_事務所!K$78>0,木造_事務所!K16/木造_事務所!K$78*100,0) -> 7.444305 | L16: =IF(木造_事務所!L$78>0,木造_事務所!L16/木造_事務所!L$78*100,0) -> 7.721519 | M16: =IF(木造_事務所!M$78>0,木造_事務所!M16/木造_事務所!M$78*100,0) -> 0
C17: 幹線・動力 | D17: =IF(木造_事務所!D$49>0,木造_事務所!D17/木造_事務所!D$49*100,0) -> 9.5191773 | E17: =IF(木造_事務所!E$49>0,木造_事務所!E17/木造_事務所!E$49*100,0) -> 0 | F17: =IF(木造_事務所!F$49>0,木造_事務所!F17/木造_事務所!F$49*100,0) -> 0 | J17: 瓦 | K17: =IF(木造_事務所!K$78>0,木造_事務所!K17/木造_事務所!K$78*100,0) -> 0 | L17: =IF(木造_事務所!L$78>0,木造_事務所!L17/木造_事務所!L$78*100,0) -> 0 | M17: =IF(木造_事務所!M$78>0,木造_事務所!M17/木造_事務所!M$78*100,0) -> 0
C18: 電灯コンセント | D18: =IF(木造_事務所!D$49>0,木造_事務所!D18/木造_事務所!D$49*100,0) -> 6.3507504 | E18: =IF(木造_事務所!E$49>0,木造_事務所!E18/木造_事務所!E$49*100,0) -> 0 | F18: =IF(木造_事務所!F$49>0,木造_事務所!F18/木造_事務所!F$49*100,0) -> 0 | J18: セメント瓦 | K18: =IF(木造_事務所!K$78>0,木造_事務所!K18/木造_事務所!K$78*100,0) -> 0 | L18: =IF(木造_事務所!L$78>0,木造_事務所!L18/木造_事務所!L$78*100,0) -> 0 | M18: =IF(木造_事務所!M$78>0,木造_事務所!M18/木造_事務所!M$78*100,0) -> 0
C19: 照明器具 | D19: =IF(木造_事務所!D$49>0,木造_事務所!D19/木造_事務所!D$49*100,0) -> 6.3507504 | E19: =IF(木造_事務所!E$49>0,木造_事務所!E19/木造_事務所!E$49*100,0) -> 0 | F19: =IF(木造_事務所!F$49>0,木造_事務所!F19/木造_事務所!F$49*100,0) -> 0 | J19: 金属板葺き | K19: =IF(木造_事務所!K$78>0,木造_事務所!K19/木造_事務所!K$78*100,0) -> 7.2246627 | L19: =IF(木造_事務所!L$78>0,木造_事務所!L19/木造_事務所!L$78*100,0) -> 7.721519 | M19: =IF(木造_事務所!M$78>0,木造_事務所!M19/木造_事務所!M$78*100,0) -> 0
C20: 電話・電話配管・IT設備 | D20: =IF(木造_事務所!D$49>0,木造_事務所!D20/木造_事務所!D$49*100,0) -> 4.7526404 | E20: =IF(木造_事務所!E$49>0,木造_事務所!E20/木造_事務所!E$49*100,0) -> 0 | F20: =IF(木造_事務所!F$49>0,木造_事務所!F20/木造_事務所!F$49*100,0) -> 0 | J20: 化粧スレート | K20: =IF(木造_事務所!K$78>0,木造_事務所!K20/木造_事務所!K$78*100,0) -> 0 | L20: =IF(木造_事務所!L$78>0,木造_事務所!L20/木造_事務所!L$78*100,0) -> 0 | M20: =IF(木造_事務所!M$78>0,木造_事務所!M20/木造_事務所!M$78*100,0) -> 0
C21: テレビ共聴 | D21: =IF(木造_事務所!D$49>0,木造_事務所!D21/木造_事務所!D$49*100,0) -> 0 | E21: =IF(木造_事務所!E$49>0,木造_事務所!E21/木造_事務所!E$49*100,0) -> 0 | F21: =IF(木造_事務所!F$49>0,木造_事務所!F21/木造_事務所!F$49*100,0) -> 0 | J21: 雨どい | K21: =IF(木造_事務所!K$78>0,木造_事務所!K21/木造_事務所!K$78*100,0) -> 0.2196423 | L21: =IF(木造_事務所!L$78>0,木造_事務所!L21/木造_事務所!L$78*100,0) -> 0 | M21: =IF(木造_事務所!M$78>0,木造_事務所!M21/木造_事務所!M$78*100,0) -> 0
C22: インターホン・拡声 | D22: =IF(木造_事務所!D$49>0,木造_事務所!D22/木造_事務所!D$49*100,0) -> 0 | E22: =IF(木造_事務所!E$49>0,木造_事務所!E22/木造_事務所!E$49*100,0) -> 0 | F22: =IF(木造_事務所!F$49>0,木造_事務所!F22/木造_事務所!F$49*100,0) -> 0 | J22: 上記以外の屋根 | K22: =IF(木造_事務所!K$78>0,木造_事務所!K22/木造_事務所!K$78*100,0) -> 0 | L22: =IF(木造_事務所!L$78>0,木造_事務所!L22/木造_事務所!L$78*100,0) -> 0 | M22: =IF(木造_事務所!M$78>0,木造_事務所!M22/木造_事務所!M$78*100,0) -> 0
C23: 防災 | D23: =IF(木造_事務所!D$49>0,木造_事務所!D23/木造_事務所!D$49*100,0) -> 0 | E23: =IF(木造_事務所!E$49>0,木造_事務所!E23/木造_事務所!E$49*100,0) -> 0 | F23: =IF(木造_事務所!F$49>0,木造_事務所!F23/木造_事務所!F$49*100,0) -> 0 | I23: 5.金属製建具 | K23: =IF(木造_事務所!K$78>0,木造_事務所!K23/木造_事務所!K$78*100,0) -> 22.278004 | L23: =IF(木造_事務所!L$78>0,木造_事務所!L23/木造_事務所!L$78*100,0) -> 7.0886076 | M23: =IF(木造_事務所!M$78>0,木造_事務所!M23/木造_事務所!M$78*100,0) -> 0
C24: 避雷針 | D24: =IF(木造_事務所!D$49>0,木造_事務所!D24/木造_事務所!D$49*100,0) -> 0 | E24: =IF(木造_事務所!E$49>0,木造_事務所!E24/木造_事務所!E$49*100,0) -> 0 | F24: =IF(木造_事務所!F$49>0,木造_事務所!F24/木造_事務所!F$49*100,0) -> 0 | J24: アルミニウム製建具 | K24: =IF(木造_事務所!K$78>0,木造_事務所!K24/木造_事務所!K$78*100,0) -> 22.278004 | L24: =IF(木造_事務所!L$78>0,木造_事務所!L24/木造_事務所!L$78*100,0) -> 2.6582278 | M24: =IF(木造_事務所!M$78>0,木造_事務所!M24/木造_事務所!M$78*100,0) -> 0
C25: 蓄電池 | D25: =IF(木造_事務所!D$49>0,木造_事務所!D25/木造_事務所!D$49*100,0) -> 0 | E25: =IF(木造_事務所!E$49>0,木造_事務所!E25/木造_事務所!E$49*100,0) -> 0 | F25: =IF(木造_事務所!F$49>0,木造_事務所!F25/木造_事務所!F$49*100,0) -> 0 | J25: 鋼製建具 | K25: =IF(木造_事務所!K$78>0,木造_事務所!K25/木造_事務所!K$78*100,0) -> 0 | L25: =IF(木造_事務所!L$78>0,木造_事務所!L25/木造_事務所!L$78*100,0) -> 0 | M25: =IF(木造_事務所!M$78>0,木造_事務所!M25/木造_事務所!M$78*100,0) -> 0
C26: 屋外施設の電気設備（外灯、門灯） | D26: =IF(木造_事務所!D$49>0,木造_事務所!D26/木造_事務所!D$49*100,0) -> 1.5842135 | E26: =IF(木造_事務所!E$49>0,木造_事務所!E26/木造_事務所!E$49*100,0) -> 0 | F26: =IF(木造_事務所!F$49>0,木造_事務所!F26/木造_事務所!F$49*100,0) -> 0 | J26: ステンレス製建具 | K26: =IF(木造_事務所!K$78>0,木造_事務所!K26/木造_事務所!K$78*100,0) -> 0 | L26: =IF(木造_事務所!L$78>0,木造_事務所!L26/木造_事務所!L$78*100,0) -> 0 | M26: =IF(木造_事務所!M$78>0,木造_事務所!M26/木造_事務所!M$78*100,0) -> 0
C27: 上記以外の電気設備 | D27: =IF(木造_事務所!D$49>0,木造_事務所!D27/木造_事務所!D$49*100,0) -> 0 | E27: =IF(木造_事務所!E$49>0,木造_事務所!E27/木造_事務所!E$49*100,0) -> 0 | F27: =IF(木造_事務所!F$49>0,木造_事務所!F27/木造_事務所!F$49*100,0) -> 0 | J27: 金属製玄関ドア | K27: =IF(木造_事務所!K$78>0,木造_事務所!K27/木造_事務所!K$78*100,0) -> 0 | L27: =IF(木造_事務所!L$78>0,木造_事務所!L27/木造_事務所!L$78*100,0) -> 0 | M27: =IF(木造_事務所!M$78>0,木造_事務所!M27/木造_事務所!M$78*100,0) -> 0
B28: 2.空調 | D28: =IF(木造_事務所!D$49>0,木造_事務所!D28/木造_事務所!D$49*100,0) -> 46.609227 | E28: =IF(木造_事務所!E$49>0,木造_事務所!E28/木造_事務所!E$49*100,0) -> 0 | F28: =IF(木造_事務所!F$49>0,木造_事務所!F28/木造_事務所!F$49*100,0) -> 0 | J28: 雨戸・シャッター | K28: =IF(木造_事務所!K$78>0,木造_事務所!K28/木造_事務所!K$78*100,0) -> 0 | L28: =IF(木造_事務所!L$78>0,木造_事務所!L28/木造_事務所!L$78*100,0) -> 0 | M28: =IF(木造_事務所!M$78>0,木造_事務所!M28/木造_事務所!M$78*100,0) -> 0
C29: 空調機器 | D29: =IF(木造_事務所!D$49>0,木造_事務所!D29/木造_事務所!D$49*100,0) -> 27.959978 | E29: =IF(木造_事務所!E$49>0,木造_事務所!E29/木造_事務所!E$49*100,0) -> 0 | F29: =IF(木造_事務所!F$49>0,木造_事務所!F29/木造_事務所!F$49*100,0) -> 0 | J29: 上記以外の金属製建具 | K29: =IF(木造_事務所!K$78>0,木造_事務所!K29/木造_事務所!K$78*100,0) -> 0 | L29: =IF(木造_事務所!L$78>0,木造_事務所!L29/木造_事務所!L$78*100,0) -> 4.4303797 | M29: =IF(木造_事務所!M$78>0,木造_事務所!M29/木造_事務所!M$78*100,0) -> 0
C30: ダクト | D30: =IF(木造_事務所!D$49>0,木造_事務所!D30/木造_事務所!D$49*100,0) -> 2.3346304 | E30: =IF(木造_事務所!E$49>0,木造_事務所!E30/木造_事務所!E$49*100,0) -> 0 | F30: =IF(木造_事務所!F$49>0,木造_事務所!F30/木造_事務所!F$49*100,0) -> 0 | I30: 6.木製建具 | K30: =IF(木造_事務所!K$78>0,木造_事務所!K30/木造_事務所!K$78*100,0) -> 2.9494823 | L30: =IF(木造_事務所!L$78>0,木造_事務所!L30/木造_事務所!L$78*100,0) -> 6.835443 | M30: =IF(木造_事務所!M$78>0,木造_事務所!M30/木造_事務所!M$78*100,0) -> 0
C31: 空調配管 | D31: =IF(木造_事務所!D$49>0,木造_事務所!D31/木造_事務所!D$49*100,0) -> 9.3246248 | E31: =IF(木造_事務所!E$49>0,木造_事務所!E31/木造_事務所!E$49*100,0) -> 0 | F31: =IF(木造_事務所!F$49>0,木造_事務所!F31/木造_事務所!F$49*100,0) -> 0 | J31: 木製ドア | K31: =IF(木造_事務所!K$78>0,木造_事務所!K31/木造_事務所!K$78*100,0) -> 2.9494823 | L31: =IF(木造_事務所!L$78>0,木造_事務所!L31/木造_事務所!L$78*100,0) -> 5.5696203 | M31: =IF(木造_事務所!M$78>0,木造_事務所!M31/木造_事務所!M$78*100,0) -> 0
C32: 自動制御 | D32: =IF(木造_事務所!D$49>0,木造_事務所!D32/木造_事務所!D$49*100,0) -> 0 | E32: =IF(木造_事務所!E$49>0,木造_事務所!E32/木造_事務所!E$49*100,0) -> 0 | F32: =IF(木造_事務所!F$49>0,木造_事務所!F32/木造_事務所!F$49*100,0) -> 0 | J32: 木製玄関ドア | K32: =IF(木造_事務所!K$78>0,木造_事務所!K32/木造_事務所!K$78*100,0) -> 0 | L32: =IF(木造_事務所!L$78>0,木造_事務所!L32/木造_事務所!L$78*100,0) -> 0 | M32: =IF(木造_事務所!M$78>0,木造_事務所!M32/木造_事務所!M$78*100,0) -> 0
C33: 換気 | D33: =IF(木造_事務所!D$49>0,木造_事務所!D33/木造_事務所!D$49*100,0) -> 6.9899944 | E33: =IF(木造_事務所!E$49>0,木造_事務所!E33/木造_事務所!E$49*100,0) -> 0 | F33: =IF(木造_事務所!F$49>0,木造_事務所!F33/木造_事務所!F$49*100,0) -> 0 | J33: ふすま | K33: =IF(木造_事務所!K$78>0,木造_事務所!K33/木造_事務所!K$78*100,0) -> 0 | L33: =IF(木造_事務所!L$78>0,木造_事務所!L33/木造_事務所!L$78*100,0) -> 0 | M33: =IF(木造_事務所!M$78>0,木造_事務所!M33/木造_事務所!M$78*100,0) -> 0
C34: 床暖房 | D34: =IF(木造_事務所!D$49>0,木造_事務所!D34/木造_事務所!D$49*100,0) -> 0 | E34: =IF(木造_事務所!E$49>0,木造_事務所!E34/木造_事務所!E$49*100,0) -> 0 | F34: =IF(木造_事務所!F$49>0,木造_事務所!F34/木造_事務所!F$49*100,0) -> 0 | J34: 障子 | K34: =IF(木造_事務所!K$78>0,木造_事務所!K34/木造_事務所!K$78*100,0) -> 0 | L34: =IF(木造_事務所!L$78>0,木造_事務所!L34/木造_事務所!L$78*100,0) -> 0 | M34: =IF(木造_事務所!M$78>0,木造_事務所!M34/木造_事務所!M$78*100,0) -> 0
C35: パッシブソーラーシステム | D35: =IF(木造_事務所!D$49>0,木造_事務所!D35/木造_事務所!D$49*100,0) -> 0 | E35: =IF(木造_事務所!E$49>0,木造_事務所!E35/木造_事務所!E$49*100,0) -> 0 | F35: =IF(木造_事務所!F$49>0,木造_事務所!F35/木造_事務所!F$49*100,0) -> 0 | J35: 木製建具金物 | K35: =IF(木造_事務所!K$78>0,木造_事務所!K35/木造_事務所!K$78*100,0) -> 0 | L35: =IF(木造_事務所!L$78>0,木造_事務所!L35/木造_事務所!L$78*100,0) -> 1.2658228 | M35: =IF(木造_事務所!M$78>0,木造_事務所!M35/木造_事務所!M$78*100,0) -> 0
C36: 上記以外の空調設備 | D36: =IF(木造_事務所!D$49>0,木造_事務所!D36/木造_事務所!D$49*100,0) -> 0 | E36: =IF(木造_事務所!E$49>0,木造_事務所!E36/木造_事務所!E$49*100,0) -> 0 | F36: =IF(木造_事務所!F$49>0,木造_事務所!F36/木造_事務所!F$49*100,0) -> 0 | J36: 上記以外の木製建具 | K36: =IF(木造_事務所!K$78>0,木造_事務所!K36/木造_事務所!K$78*100,0) -> 0 | L36: =IF(木造_事務所!L$78>0,木造_事務所!L36/木造_事務所!L$78*100,0) -> 0 | M36: =IF(木造_事務所!M$78>0,木造_事務所!M36/木造_事務所!M$78*100,0) -> 0
B37: 3.衛生 | D37: =IF(木造_事務所!D$49>0,木造_事務所!D37/木造_事務所!D$49*100,0) -> 21.664814 | E37: =IF(木造_事務所!E$49>0,木造_事務所!E37/木造_事務所!E$49*100,0) -> 0 | F37: =IF(木造_事務所!F$49>0,木造_事務所!F37/木造_事務所!F$49*100,0) -> 0 | I37: 7.ガラス | K37: =IF(木造_事務所!K$78>0,木造_事務所!K37/木造_事務所!K$78*100,0) -> 0 | L37: =IF(木造_事務所!L$78>0,木造_事務所!L37/木造_事務所!L$78*100,0) -> 0.88607595 | M37: =IF(木造_事務所!M$78>0,木造_事務所!M37/木造_事務所!M$78*100,0) -> 0
C38: 給水 | D38: =IF(木造_事務所!D$49>0,木造_事務所!D38/木造_事務所!D$49*100,0) -> 4.3357421 | E38: =IF(木造_事務所!E$49>0,木造_事務所!E38/木造_事務所!E$49*100,0) -> 0 | F38: =IF(木造_事務所!F$49>0,木造_事務所!F38/木造_事務所!F$49*100,0) -> 0 | I38: 8.防水 | K38: =IF(木造_事務所!K$78>0,木造_事務所!K38/木造_事務所!K$78*100,0) -> 0 | L38: =IF(木造_事務所!L$78>0,木造_事務所!L38/木造_事務所!L$78*100,0) -> 1.3924051 | M38: =IF(木造_事務所!M$78>0,木造_事務所!M38/木造_事務所!M$78*100,0) -> 0
C39: 給湯 | D39: =IF(木造_事務所!D$49>0,木造_事務所!D39/木造_事務所!D$49*100,0) -> 4.3357421 | E39: =IF(木造_事務所!E$49>0,木造_事務所!E39/木造_事務所!E$49*100,0) -> 0 | F39: =IF(木造_事務所!F$49>0,木造_事務所!F39/木造_事務所!F$49*100,0) -> 0 | I39: 9.石 | K39: =IF(木造_事務所!K$78>0,木造_事務所!K39/木造_事務所!K$78*100,0) -> 0 | L39: =IF(木造_事務所!L$78>0,木造_事務所!L39/木造_事務所!L$78*100,0) -> 0 | M39: =IF(木造_事務所!M$78>0,木造_事務所!M39/木造_事務所!M$78*100,0) -> 0
C40: 排水通気 | D40: =IF(木造_事務所!D$49>0,木造_事務所!D40/木造_事務所!D$49*100,0) -> 4.3357421 | E40: =IF(木造_事務所!E$49>0,木造_事務所!E40/木造_事務所!E$49*100,0) -> 0 | F40: =IF(木造_事務所!F$49>0,木造_事務所!F40/木造_事務所!F$49*100,0) -> 0 | I40: 10.タイル | K40: =IF(木造_事務所!K$78>0,木造_事務所!K40/木造_事務所!K$78*100,0) -> 1.3884531 | L40: =IF(木造_事務所!L$78>0,木造_事務所!L40/木造_事務所!L$78*100,0) -> 1.8987342 | M40: =IF(木造_事務所!M$78>0,木造_事務所!M40/木造_事務所!M$78*100,0) -> 0
C41: 衛生器具 | D41: =IF(木造_事務所!D$49>0,木造_事務所!D41/木造_事務所!D$49*100,0) -> 6.4897165 | E41: =IF(木造_事務所!E$49>0,木造_事務所!E41/木造_事務所!E$49*100,0) -> 0 | F41: =IF(木造_事務所!F$49>0,木造_事務所!F41/木造_事務所!F$49*100,0) -> 0 | I41: 11.金属 | K41: =IF(木造_事務所!K$78>0,木造_事務所!K41/木造_事務所!K$78*100,0) -> 0 | L41: =IF(木造_事務所!L$78>0,木造_事務所!L41/木造_事務所!L$78*100,0) -> 3.7974684 | M41: =IF(木造_事務所!M$78>0,木造_事務所!M41/木造_事務所!M$78*100,0) -> 0
C42: 消火 | D42: =IF(木造_事務所!D$49>0,木造_事務所!D42/木造_事務所!D$49*100,0) -> 1.0839355 | E42: =IF(木造_事務所!E$49>0,木造_事務所!E42/木造_事務所!E$49*100,0) -> 0 | F42: =IF(木造_事務所!F$49>0,木造_事務所!F42/木造_事務所!F$49*100,0) -> 0 | I42: 12.左官 | K42: =IF(木造_事務所!K$78>0,木造_事務所!K42/木造_事務所!K$78*100,0) -> 1.1374333 | L42: =IF(木造_事務所!L$78>0,木造_事務所!L42/木造_事務所!L$78*100,0) -> 2.5316456 | M42: =IF(木造_事務所!M$78>0,木造_事務所!M42/木造_事務所!M$78*100,0) -> 0
C43: ガス | D43: =IF(木造_事務所!D$49>0,木造_事務所!D43/木造_事務所!D$49*100,0) -> 0 | E43: =IF(木造_事務所!E$49>0,木造_事務所!E43/木造_事務所!E$49*100,0) -> 0 | F43: =IF(木造_事務所!F$49>0,木造_事務所!F43/木造_事務所!F$49*100,0) -> 0 | I43: 13.塗装 | K43: =IF(木造_事務所!K$78>0,木造_事務所!K43/木造_事務所!K$78*100,0) -> 0.74521494 | L43: =IF(木造_事務所!L$78>0,木造_事務所!L43/木造_事務所!L$78*100,0) -> 0 | M43: =IF(木造_事務所!M$78>0,木造_事務所!M43/木造_事務所!M$78*100,0) -> 0
C44: 厨房機器 | D44: =IF(木造_事務所!D$49>0,木造_事務所!D44/木造_事務所!D$49*100,0) -> 1.0839355 | E44: =IF(木造_事務所!E$49>0,木造_事務所!E44/木造_事務所!E$49*100,0) -> 0 | F44: =IF(木造_事務所!F$49>0,木造_事務所!F44/木造_事務所!F$49*100,0) -> 0 | I44: 14.内外装 | K44: =IF(木造_事務所!K$78>0,木造_事務所!K44/木造_事務所!K$78*100,0) -> 15.712269 | L44: =IF(木造_事務所!L$78>0,木造_事務所!L44/木造_事務所!L$78*100,0) -> 19.367089 | M44: =IF(木造_事務所!M$78>0,木造_事務所!M44/木造_事務所!M$78*100,0) -> 0
C45: 浄化槽 | D45: =IF(木造_事務所!D$49>0,木造_事務所!D45/木造_事務所!D$49*100,0) -> 0 | E45: =IF(木造_事務所!E$49>0,木造_事務所!E45/木造_事務所!E$49*100,0) -> 0 | F45: =IF(木造_事務所!F$49>0,木造_事務所!F45/木造_事務所!F$49*100,0) -> 0 | J45: 畳 | K45: =IF(木造_事務所!K$78>0,木造_事務所!K45/木造_事務所!K$78*100,0) -> 0.31377471 | L45: =IF(木造_事務所!L$78>0,木造_事務所!L45/木造_事務所!L$78*100,0) -> 0 | M45: =IF(木造_事務所!M$78>0,木造_事務所!M45/木造_事務所!M$78*100,0) -> 0
C46: 上記以外の衛生設備 | D46: =IF(木造_事務所!D$49>0,木造_事務所!D46/木造_事務所!D$49*100,0) -> 0 | E46: =IF(木造_事務所!E$49>0,木造_事務所!E46/木造_事務所!E$49*100,0) -> 0 | F46: =IF(木造_事務所!F$49>0,木造_事務所!F46/木造_事務所!F$49*100,0) -> 0 | J46: カーペット | K46: =IF(木造_事務所!K$78>0,木造_事務所!K46/木造_事務所!K$78*100,0) -> 0 | L46: =IF(木造_事務所!L$78>0,木造_事務所!L46/木造_事務所!L$78*100,0) -> 3.164557 | M46: =IF(木造_事務所!M$78>0,木造_事務所!M46/木造_事務所!M$78*100,0) -> 0
B47: 4.昇降機 | D47: =IF(木造_事務所!D$49>0,木造_事務所!D47/木造_事務所!D$49*100,0) -> 0 | E47: =IF(木造_事務所!E$49>0,木造_事務所!E47/木造_事務所!E$49*100,0) -> 0 | F47: =IF(木造_事務所!F$49>0,木造_事務所!F47/木造_事務所!F$49*100,0) -> 0 | J47: フローリング | K47: =IF(木造_事務所!K$78>0,木造_事務所!K47/木造_事務所!K$78*100,0) -> 0 | L47: =IF(木造_事務所!L$78>0,木造_事務所!L47/木造_事務所!L$78*100,0) -> 1.5189873 | M47: =IF(木造_事務所!M$78>0,木造_事務所!M47/木造_事務所!M$78*100,0) -> 0
B48: 5.上記以外の設備 | D48: =IF(木造_事務所!D$49>0,木造_事務所!D48/木造_事務所!D$49*100,0) -> 0 | E48: =IF(木造_事務所!E$49>0,木造_事務所!E48/木造_事務所!E$49*100,0) -> 0 | F48: =IF(木造_事務所!F$49>0,木造_事務所!F48/木造_事務所!F$49*100,0) -> 0 | J48: ビニル床タイル | K48: =IF(木造_事務所!K$78>0,木造_事務所!K48/木造_事務所!K$78*100,0) -> 0 | L48: =IF(木造_事務所!L$78>0,木造_事務所!L48/木造_事務所!L$78*100,0) -> 0 | M48: =IF(木造_事務所!M$78>0,木造_事務所!M48/木造_事務所!M$78*100,0) -> 0
A49: 設備工事費合計 | D49: =IF(木造_事務所!D$49>0,木造_事務所!D49/木造_事務所!D$49*100,0) -> 100 | E49: =IF(木造_事務所!E$49>0,木造_事務所!E49/木造_事務所!E$49*100,0) -> 0 | F49: =IF(木造_事務所!F$49>0,木造_事務所!F49/木造_事務所!F$49*100,0) -> 0 | J49: ビニル床シート | K49: =IF(木造_事務所!K$78>0,木造_事務所!K49/木造_事務所!K$78*100,0) -> 3.1455915 | L49: =IF(木造_事務所!L$78>0,木造_事務所!L49/木造_事務所!L$78*100,0) -> 0.20253165 | M49: =IF(木造_事務所!M$78>0,木造_事務所!M49/木造_事務所!M$78*100,0) -> 0
J50: 化粧合板 | K50: =IF(木造_事務所!K$78>0,木造_事務所!K50/木造_事務所!K$78*100,0) -> 0 | L50: =IF(木造_事務所!L$78>0,木造_事務所!L50/木造_事務所!L$78*100,0) -> 0 | M50: =IF(木造_事務所!M$78>0,木造_事務所!M50/木造_事務所!M$78*100,0) -> 0
J51: 石こうボード | K51: =IF(木造_事務所!K$78>0,木造_事務所!K51/木造_事務所!K$78*100,0) -> 1.5688735 | L51: =IF(木造_事務所!L$78>0,木造_事務所!L51/木造_事務所!L$78*100,0) -> 2.7341772 | M51: =IF(木造_事務所!M$78>0,木造_事務所!M51/木造_事務所!M$78*100,0) -> 0
J52: ケイ酸カルシウム板 | K52: =IF(木造_事務所!K$78>0,木造_事務所!K52/木造_事務所!K$78*100,0) -> 0.31377471 | L52: =IF(木造_事務所!L$78>0,木造_事務所!L52/木造_事務所!L$78*100,0) -> 0.53164557 | M52: =IF(木造_事務所!M$78>0,木造_事務所!M52/木造_事務所!M$78*100,0) -> 0
J53: 木毛セメント板 | K53: =IF(木造_事務所!K$78>0,木造_事務所!K53/木造_事務所!K$78*100,0) -> 0 | L53: =IF(木造_事務所!L$78>0,木造_事務所!L53/木造_事務所!L$78*100,0) -> 0 | M53: =IF(木造_事務所!M$78>0,木造_事務所!M53/木造_事務所!M$78*100,0) -> 0
J54: 壁紙・ビニルクロス張り | K54: =IF(木造_事務所!K$78>0,木造_事務所!K54/木造_事務所!K$78*100,0) -> 0.94132413 | L54: =IF(木造_事務所!L$78>0,木造_事務所!L54/木造_事務所!L$78*100,0) -> 1.4303797 | M54: =IF(木造_事務所!M$78>0,木造_事務所!M54/木造_事務所!M$78*100,0) -> 0
J55: ロックウール吸音板 | K55: =IF(木造_事務所!K$78>0,木造_事務所!K55/木造_事務所!K$78*100,0) -> 0 | L55: =IF(木造_事務所!L$78>0,木造_事務所!L55/木造_事務所!L$78*100,0) -> 0 | M55: =IF(木造_事務所!M$78>0,木造_事務所!M55/木造_事務所!M$78*100,0) -> 0
J56: サイディング（窒業系） | K56: =IF(木造_事務所!K$78>0,木造_事務所!K56/木造_事務所!K$78*100,0) -> 0 | L56: =IF(木造_事務所!L$78>0,木造_事務所!L56/木造_事務所!L$78*100,0) -> 6.7088608 | M56: =IF(木造_事務所!M$78>0,木造_事務所!M56/木造_事務所!M$78*100,0) -> 0
J57: サイディング（金属系） | K57: =IF(木造_事務所!K$78>0,木造_事務所!K57/木造_事務所!K$78*100,0) -> 6.2833386 | L57: =IF(木造_事務所!L$78>0,木造_事務所!L57/木造_事務所!L$78*100,0) -> 0 | M57: =IF(木造_事務所!M$78>0,木造_事務所!M57/木造_事務所!M$78*100,0) -> 0
J58: サイディング（木質系） | K58: =IF(木造_事務所!K$78>0,木造_事務所!K58/木造_事務所!K$78*100,0) -> 0 | L58: =IF(木造_事務所!L$78>0,木造_事務所!L58/木造_事務所!L$78*100,0) -> 0 | M58: =IF(木造_事務所!M$78>0,木造_事務所!M58/木造_事務所!M$78*100,0) -> 0
J59: 幅木・廻り縁 | K59: =IF(木造_事務所!K$78>0,木造_事務所!K59/木造_事務所!K$78*100,0) -> 0.78443677 | L59: =IF(木造_事務所!L$78>0,木造_事務所!L59/木造_事務所!L$78*100,0) -> 0.18987342 | M59: =IF(木造_事務所!M$78>0,木造_事務所!M59/木造_事務所!M$78*100,0) -> 0
J60: 断熱材 | K60: =IF(木造_事務所!K$78>0,木造_事務所!K60/木造_事務所!K$78*100,0) -> 2.3611547 | L60: =IF(木造_事務所!L$78>0,木造_事務所!L60/木造_事務所!L$78*100,0) -> 1.4050633 | M60: =IF(木造_事務所!M$78>0,木造_事務所!M60/木造_事務所!M$78*100,0) -> 0
J61: 合成樹脂製品 | K61: =IF(木造_事務所!K$78>0,木造_事務所!K61/木造_事務所!K$78*100,0) -> 0 | L61: =IF(木造_事務所!L$78>0,木造_事務所!L61/木造_事務所!L$78*100,0) -> 0.29113924 | M61: =IF(木造_事務所!M$78>0,木造_事務所!M61/木造_事務所!M$78*100,0) -> 0
J62: 上記以外の内外装 | K62: =IF(木造_事務所!K$78>0,木造_事務所!K62/木造_事務所!K$78*100,0) -> 0 | L62: =IF(木造_事務所!L$78>0,木造_事務所!L62/木造_事務所!L$78*100,0) -> 1.1898734 | M62: =IF(木造_事務所!M$78>0,木造_事務所!M62/木造_事務所!M$78*100,0) -> 0
I63: 15.仕上ユニット | K63: =IF(木造_事務所!K$78>0,木造_事務所!K63/木造_事務所!K$78*100,0) -> 1.9375588 | L63: =IF(木造_事務所!L$78>0,木造_事務所!L63/木造_事務所!L$78*100,0) -> 2.278481 | M63: =IF(木造_事務所!M$78>0,木造_事務所!M63/木造_事務所!M$78*100,0) -> 0
J64: 収納ユニット | K64: =IF(木造_事務所!K$78>0,木造_事務所!K64/木造_事務所!K$78*100,0) -> 0.29024161 | L64: =IF(木造_事務所!L$78>0,木造_事務所!L64/木造_事務所!L$78*100,0) -> 0 | M64: =IF(木造_事務所!M$78>0,木造_事務所!M64/木造_事務所!M$78*100,0) -> 0
J65: 造作家具 | K65: =IF(木造_事務所!K$78>0,木造_事務所!K65/木造_事務所!K$78*100,0) -> 0.58048321 | L65: =IF(木造_事務所!L$78>0,木造_事務所!L65/木造_事務所!L$78*100,0) -> 0 | M65: =IF(木造_事務所!M$78>0,木造_事務所!M65/木造_事務所!M$78*100,0) -> 0
J66: 下足入れ | K66: =IF(木造_事務所!K$78>0,木造_事務所!K66/木造_事務所!K$78*100,0) -> 0.094132413 | L66: =IF(木造_事務所!L$78>0,木造_事務所!L66/木造_事務所!L$78*100,0) -> 0 | M66: =IF(木造_事務所!M$78>0,木造_事務所!M66/木造_事務所!M$78*100,0) -> 0
J67: キッチンユニット | K67: =IF(木造_事務所!K$78>0,木造_事務所!K67/木造_事務所!K$78*100,0) -> 0.4863508 | L67: =IF(木造_事務所!L$78>0,木造_事務所!L67/木造_事務所!L$78*100,0) -> 0 | M67: =IF(木造_事務所!M$78>0,木造_事務所!M67/木造_事務所!M$78*100,0) -> 0
J68: ユニットバス | K68: =IF(木造_事務所!K$78>0,木造_事務所!K68/木造_事務所!K$78*100,0) -> 0 | L68: =IF(木造_事務所!L$78>0,木造_事務所!L68/木造_事務所!L$78*100,0) -> 0 | M68: =IF(木造_事務所!M$78>0,木造_事務所!M68/木造_事務所!M$78*100,0) -> 0
J69: 浴槽 | K69: =IF(木造_事務所!K$78>0,木造_事務所!K69/木造_事務所!K$78*100,0) -> 0 | L69: =IF(木造_事務所!L$78>0,木造_事務所!L69/木造_事務所!L$78*100,0) -> 0 | M69: =IF(木造_事務所!M$78>0,木造_事務所!M69/木造_事務所!M$78*100,0) -> 0
J70: 洗面化粧台 | K70: =IF(木造_事務所!K$78>0,木造_事務所!K70/木造_事務所!K$78*100,0) -> 0 | L70: =IF(木造_事務所!L$78>0,木造_事務所!L70/木造_事務所!L$78*100,0) -> 0 | M70: =IF(木造_事務所!M$78>0,木造_事務所!M70/木造_事務所!M$78*100,0) -> 0
J71: ベランダユニット | K71: =IF(木造_事務所!K$78>0,木造_事務所!K71/木造_事務所!K$78*100,0) -> 0 | L71: =IF(木造_事務所!L$78>0,木造_事務所!L71/木造_事務所!L$78*100,0) -> 0 | M71: =IF(木造_事務所!M$78>0,木造_事務所!M71/木造_事務所!M$78*100,0) -> 0
J72: 天井収納ハシゴ | K72: =IF(木造_事務所!K$78>0,木造_事務所!K72/木造_事務所!K$78*100,0) -> 0 | L72: =IF(木造_事務所!L$78>0,木造_事務所!L72/木造_事務所!L$78*100,0) -> 0 | M72: =IF(木造_事務所!M$78>0,木造_事務所!M72/木造_事務所!M$78*100,0) -> 0
J73: 床下収納庫 | K73: =IF(木造_事務所!K$78>0,木造_事務所!K73/木造_事務所!K$78*100,0) -> 0 | L73: =IF(木造_事務所!L$78>0,木造_事務所!L73/木造_事務所!L$78*100,0) -> 0 | M73: =IF(木造_事務所!M$78>0,木造_事務所!M73/木造_事務所!M$78*100,0) -> 0
J74: ブラインド・カーテン | K74: =IF(木造_事務所!K$78>0,木造_事務所!K74/木造_事務所!K$78*100,0) -> 0.13335425 | L74: =IF(木造_事務所!L$78>0,木造_事務所!L74/木造_事務所!L$78*100,0) -> 1.1139241 | M74: =IF(木造_事務所!M$78>0,木造_事務所!M74/木造_事務所!M$78*100,0) -> 0
J75: カーテンレール | K75: =IF(木造_事務所!K$78>0,木造_事務所!K75/木造_事務所!K$78*100,0) -> 0.062754942 | L75: =IF(木造_事務所!L$78>0,木造_事務所!L75/木造_事務所!L$78*100,0) -> 0 | M75: =IF(木造_事務所!M$78>0,木造_事務所!M75/木造_事務所!M$78*100,0) -> 0
J76: 上記以外の仕上ユニット | K76: =IF(木造_事務所!K$78>0,木造_事務所!K76/木造_事務所!K$78*100,0) -> 0.29024161 | L76: =IF(木造_事務所!L$78>0,木造_事務所!L76/木造_事務所!L$78*100,0) -> 1.164557 | M76: =IF(木造_事務所!M$78>0,木造_事務所!M76/木造_事務所!M$78*100,0) -> 0
I77: 16.その他 | K77: =IF(木造_事務所!K$78>0,木造_事務所!K77/木造_事務所!K$78*100,0) -> 0.015688735 | L77: =IF(木造_事務所!L$78>0,木造_事務所!L77/木造_事務所!L$78*100,0) -> 0 | M77: =IF(木造_事務所!M$78>0,木造_事務所!M77/木造_事務所!M$78*100,0) -> 0
H78: 建築工事費合計 | K78: =IF(木造_事務所!K$78>0,木造_事務所!K78/木造_事務所!K$78*100,0) -> 100 | L78: =IF(木造_事務所!L$78>0,木造_事務所!L78/木造_事務所!L$78*100,0) -> 100 | M78: =IF(木造_事務所!M$78>0,木造_事務所!M78/木造_事務所!M$78*100,0) -> 0

Sheet 木造_店舗
A2: 表1-2 平成27年建築工事費投入調査集計表（木造_店舗）
A4: （単位：千円） | D4: =木造_データ!R4 -> 1 | E4: =木造_データ!S4 -> 0 | F4: =木造_データ!T4 -> 0 | K4: =D4 -> 1 | L4: =E4 -> 0 | M4: =F4 -> 0
D5: 建築工事・ 設備工事 一貫受注 | E5: 建築工事 のみ受注 | F5: 設備工事 のみ受注 | K5: 建築工事・ 設備工事 一貫受注 | L5: 建築工事 のみ受注 | M5: 設備工事 のみ受注
A6: 工事費内訳 | B6: 1.建築工事費 | D6: =木造_データ!R9 -> 4273 | E6: =木造_データ!S9 -> 0 | F6: =木造_データ!T9 -> 0 | H6: 建築工事費科目別内訳 | I6: 1.仮設 | K6: =木造_データ!R17 -> 450 | L6: =木造_データ!S17 -> 0 | M6: =木造_データ!T17 -> 0
B7: 2.設備工事費 | D7: =木造_データ!R10 -> 0 | E7: =木造_データ!S10 -> 0 | F7: =木造_データ!T10 -> 0 | I7: 2.基礎 | K7: =木造_データ!R18 -> 0 | L7: =木造_データ!S18 -> 0 | M7: =木造_データ!T18 -> 0
B8: 3.解体・撤去費 | D8: =木造_データ!R11 -> 300 | E8: =木造_データ!S11 -> 0 | F8: =木造_データ!T11 -> 0 | I8: 3.木工 | K8: =木造_データ!R19 -> 3225 | L8: =木造_データ!S19 -> 0 | M8: =木造_データ!T19 -> 0
B9: 4.屋外施設費 | D9: =木造_データ!R12 -> 0 | E9: =木造_データ!S12 -> 0 | F9: =木造_データ!T12 -> 0 | J9: 構造材 | K9: =木造_データ!R20 -> 300 | L9: =木造_データ!S20 -> 0 | M9: =木造_データ!T20 -> 0
B10: 5.現場管理費 | D10: =木造_データ!R13 -> 350 | E10: =木造_データ!S13 -> 0 | F10: =木造_データ!T13 -> 0 | J10: 造作材 | K10: =木造_データ!R21 -> 800 | L10: =木造_データ!S21 -> 0 | M10: =木造_データ!T21 -> 0
B11: 6.工事原価 | D11: =木造_データ!R14 -> 4923 | E11: =木造_データ!S14 -> 0 | F11: =木造_データ!T14 -> 0 | J11: 板材 | K11: =木造_データ!R22 -> 200 | L11: =木造_データ!S22 -> 0 | M11: =木造_データ!T22 -> 0
B12: 7.一般管理費等 | D12: =木造_データ!R15 -> 1100 | E12: =木造_データ!S15 -> 0 | F12: =木造_データ!T15 -> 0 | J12: 合板 | K12: =木造_データ!R23 -> 360 | L12: =木造_データ!S23 -> 0 | M12: =木造_データ!T23 -> 0
A13: 8.工事価格 | D13: =木造_データ!R16 -> 6023 | E13: =木造_データ!S16 -> 0 | F13: =木造_データ!T16 -> 0 | J13: 釘・金物 | K13: =木造_データ!R24 -> 65 | L13: =木造_データ!S24 -> 0 | M13: =木造_データ!T24 -> 0
J14: 大工手間（施工費） | K14: =木造_データ!R25 -> 1500 | L14: =木造_データ!S25 -> 0 | M14: =木造_データ!T25 -> 0
A15: 設備工事費科目別内訳 | B15: 1.電気 | D15: =木造_データ!R90 -> 0 | E15: =木造_データ!S90 -> 0 | F15: =木造_データ!T90 -> 0 | J15: 上記以外の木工 | K15: =木造_データ!R26 -> 0 | L15: =木造_データ!S26 -> 0 | M15: =木造_データ!T26 -> 0
C16: 受変電・電力引込 | D16: =木造_データ!R91 -> 0 | E16: =木造_データ!S91 -> 0 | F16: =木造_データ!T91 -> 0 | I16: 4.屋根 | K16: =木造_データ!R27 -> 65 | L16: =木造_データ!S27 -> 0 | M16: =木造_データ!T27 -> 0
C17: 幹線・動力 | D17: =木造_データ!R92 -> 0 | E17: =木造_データ!S92 -> 0 | F17: =木造_データ!T92 -> 0 | J17: 瓦 | K17: =木造_データ!R28 -> 30 | L17: =木造_データ!S28 -> 0 | M17: =木造_データ!T28 -> 0
C18: 電灯コンセント | D18: =木造_データ!R93 -> 0 | E18: =木造_データ!S93 -> 0 | F18: =木造_データ!T93 -> 0 | J18: セメント瓦 | K18: =木造_データ!R29 -> 0 | L18: =木造_データ!S29 -> 0 | M18: =木造_データ!T29 -> 0
C19: 照明器具 | D19: =木造_データ!R94 -> 0 | E19: =木造_データ!S94 -> 0 | F19: =木造_データ!T94 -> 0 | J19: 金属板葺き | K19: =木造_データ!R30 -> 0 | L19: =木造_データ!S30 -> 0 | M19: =木造_データ!T30 -> 0
C20: 電話・電話配管・IT設備 | D20: =木造_データ!R95 -> 0 | E20: =木造_データ!S95 -> 0 | F20: =木造_データ!T95 -> 0 | J20: 化粧スレート | K20: =木造_データ!R31 -> 0 | L20: =木造_データ!S31 -> 0 | M20: =木造_データ!T31 -> 0
C21: テレビ共聴 | D21: =木造_データ!R96 -> 0 | E21: =木造_データ!S96 -> 0 | F21: =木造_データ!T96 -> 0 | J21: 雨どい | K21: =木造_データ!R32 -> 0 | L21: =木造_データ!S32 -> 0 | M21: =木造_データ!T32 -> 0
C22: インターホン・拡声 | D22: =木造_データ!R97 -> 0 | E22: =木造_データ!S97 -> 0 | F22: =木造_データ!T97 -> 0 | J22: 上記以外の屋根 | K22: =木造_データ!R33 -> 35 | L22: =木造_データ!S33 -> 0 | M22: =木造_データ!T33 -> 0
C23: 防災 | D23: =木造_データ!R98 -> 0 | E23: =木造_データ!S98 -> 0 | F23: =木造_データ!T98 -> 0 | I23: 5.金属製建具 | K23: =木造_データ!R34 -> 0 | L23: =木造_データ!S34 -> 0 | M23: =木造_データ!T34 -> 0
C24: 避雷針 | D24: =木造_データ!R99 -> 0 | E24: =木造_データ!S99 -> 0 | F24: =木造_データ!T99 -> 0 | J24: アルミニウム製建具 | K24: =木造_データ!R35 -> 0 | L24: =木造_データ!S35 -> 0 | M24: =木造_データ!T35 -> 0
C25: 蓄電池 | D25: =木造_データ!R100 -> 0 | E25: =木造_データ!S100 -> 0 | F25: =木造_データ!T100 -> 0 | J25: 鋼製建具 | K25: =木造_データ!R36 -> 0 | L25: =木造_データ!S36 -> 0 | M25: =木造_データ!T36 -> 0
C26: 屋外施設の電気設備（外灯、門灯） | D26: =木造_データ!R101 -> 0 | E26: =木造_データ!S101 -> 0 | F26: =木造_データ!T101 -> 0 | J26: ステンレス製建具 | K26: =木造_データ!R37 -> 0 | L26: =木造_データ!S37 -> 0 | M26: =木造_データ!T37 -> 0
C27: 上記以外の電気設備 | D27: =木造_データ!R102 -> 0 | E27: =木造_データ!S102 -> 0 | F27: =木造_データ!T102 -> 0 | J27: 金属製玄関ドア | K27: =木造_データ!R38 -> 0 | L27: =木造_データ!S38 -> 0 | M27: =木造_データ!T38 -> 0
B28: 2.空調 | D28: =木造_データ!R103 -> 0 | E28: =木造_データ!S103 -> 0 | F28: =木造_データ!T103 -> 0 | J28: 雨戸・シャッター | K28: =木造_データ!R39 -> 0 | L28: =木造_データ!S39 -> 0 | M28: =木造_データ!T39 -> 0
C29: 空調機器 | D29: =木造_データ!R104 -> 0 | E29: =木造_データ!S104 -> 0 | F29: =木造_データ!T104 -> 0 | J29: 上記以外の金属製建具 | K29: =木造_データ!R40 -> 0 | L29: =木造_データ!S40 -> 0 | M29: =木造_データ!T40 -> 0
C30: ダクト | D30: =木造_データ!R105 -> 0 | E30: =木造_データ!S105 -> 0 | F30: =木造_データ!T105 -> 0 | I30: 6.木製建具 | K30: =木造_データ!R41 -> 283 | L30: =木造_データ!S41 -> 0 | M30: =木造_データ!T41 -> 0
C31: 空調配管 | D31: =木造_データ!R106 -> 0 | E31: =木造_データ!S106 -> 0 | F31: =木造_データ!T106 -> 0 | J31: 木製ドア | K31: =木造_データ!R42 -> 50 | L31: =木造_データ!S42 -> 0 | M31: =木造_データ!T42 -> 0
C32: 自動制御 | D32: =木造_データ!R107 -> 0 | E32: =木造_データ!S107 -> 0 | F32: =木造_データ!T107 -> 0 | J32: 木製玄関ドア | K32: =木造_データ!R43 -> 185 | L32: =木造_データ!S43 -> 0 | M32: =木造_データ!T43 -> 0
C33: 換気 | D33: =木造_データ!R108 -> 0 | E33: =木造_データ!S108 -> 0 | F33: =木造_データ!T108 -> 0 | J33: ふすま | K33: =木造_データ!R44 -> 30 | L33: =木造_データ!S44 -> 0 | M33: =木造_データ!T44 -> 0
C34: 床暖房 | D34: =木造_データ!R109 -> 0 | E34: =木造_データ!S109 -> 0 | F34: =木造_データ!T109 -> 0 | J34: 障子 | K34: =木造_データ!R45 -> 13 | L34: =木造_データ!S45 -> 0 | M34: =木造_データ!T45 -> 0
C35: パッシブソーラーシステム | D35: =木造_データ!R110 -> 0 | E35: =木造_データ!S110 -> 0 | F35: =木造_データ!T110 -> 0 | J35: 木製建具金物 | K35: =木造_データ!R46 -> 5 | L35: =木造_データ!S46 -> 0 | M35: =木造_データ!T46 -> 0
C36: 上記以外の空調設備 | D36: =木造_データ!R111 -> 0 | E36: =木造_データ!S111 -> 0 | F36: =木造_データ!T111 -> 0 | J36: 上記以外の木製建具 | K36: =木造_データ!R47 -> 0 | L36: =木造_データ!S47 -> 0 | M36: =木造_データ!T47 -> 0
B37: 3.衛生 | D37: =木造_データ!R112 -> 0 | E37: =木造_データ!S112 -> 0 | F37: =木造_データ!T112 -> 0 | I37: 7.ガラス | K37: =木造_データ!R48 -> 0 | L37: =木造_データ!S48 -> 0 | M37: =木造_データ!T48 -> 0
C38: 給水 | D38: =木造_データ!R113 -> 0 | E38: =木造_データ!S113 -> 0 | F38: =木造_データ!T113 -> 0 | I38: 8.防水 | K38: =木造_データ!R49 -> 0 | L38: =木造_データ!S49 -> 0 | M38: =木造_データ!T49 -> 0
C39: 給湯 | D39: =木造_データ!R114 -> 0 | E39: =木造_データ!S114 -> 0 | F39: =木造_データ!T114 -> 0 | I39: 9.石 | K39: =木造_データ!R50 -> 0 | L39: =木造_データ!S50 -> 0 | M39: =木造_データ!T50 -> 0
C40: 排水通気 | D40: =木造_データ!R115 -> 0 | E40: =木造_データ!S115 -> 0 | F40: =木造_データ!T115 -> 0 | I40: 10.タイル | K40: =木造_データ!R51 -> 0 | L40: =木造_データ!S51 -> 0 | M40: =木造_データ!T51 -> 0
C41: 衛生器具 | D41: =木造_データ!R116 -> 0 | E41: =木造_データ!S116 -> 0 | F41: =木造_データ!T116 -> 0 | I41: 11.金属 | K41: =木造_データ!R52 -> 0 | L41: =木造_データ!S52 -> 0 | M41: =木造_データ!T52 -> 0
C42: 消火 | D42: =木造_データ!R117 -> 0 | E42: =木造_データ!S117 -> 0 | F42: =木造_データ!T117 -> 0 | I42: 12.左官 | K42: =木造_データ!R53 -> 45 | L42: =木造_データ!S53 -> 0 | M42: =木造_データ!T53 -> 0
C43: ガス | D43: =木造_データ!R118 -> 0 | E43: =木造_データ!S118 -> 0 | F43: =木造_データ!T118 -> 0 | I43: 13.塗装 | K43: =木造_データ!R54 -> 180 | L43: =木造_データ!S54 -> 0 | M43: =木造_データ!T54 -> 0
C44: 厨房機器 | D44: =木造_データ!R119 -> 0 | E44: =木造_データ!S119 -> 0 | F44: =木造_データ!T119 -> 0 | I44: 14.内外装 | K44: =木造_データ!R55 -> 25 | L44: =木造_データ!S55 -> 0 | M44: =木造_データ!T55 -> 0
C45: 浄化槽 | D45: =木造_データ!R120 -> 0 | E45: =木造_データ!S120 -> 0 | F45: =木造_データ!T120 -> 0 | J45: 畳 | K45: =木造_データ!R56 -> 25 | L45: =木造_データ!S56 -> 0 | M45: =木造_データ!T56 -> 0
C46: 上記以外の衛生設備 | D46: =木造_データ!R121 -> 0 | E46: =木造_データ!S121 -> 0 | F46: =木造_データ!T121 -> 0 | J46: カーペット | K46: =木造_データ!R57 -> 0 | L46: =木造_データ!S57 -> 0 | M46: =木造_データ!T57 -> 0
B47: 4.昇降機 | D47: =木造_データ!R122 -> 0 | E47: =木造_データ!S122 -> 0 | F47: =木造_データ!T122 -> 0 | J47: フローリング | K47: =木造_データ!R58 -> 0 | L47: =木造_データ!S58 -> 0 | M47: =木造_データ!T58 -> 0
B48: 5.上記以外の設備 | D48: =木造_データ!R123 -> 0 | E48: =木造_データ!S123 -> 0 | F48: =木造_データ!T123 -> 0 | J48: ビニル床タイル | K48: =木造_データ!R59 -> 0 | L48: =木造_データ!S59 -> 0 | M48: =木造_データ!T59 -> 0
A49: 設備工事費合計 | D49: =木造_データ!R124 -> 0 | E49: =木造_データ!S124 -> 0 | F49: =木造_データ!T124 -> 0 | J49: ビニル床シート | K49: =木造_データ!R60 -> 0 | L49: =木造_データ!S60 -> 0 | M49: =木造_データ!T60 -> 0
J50: 化粧合板 | K50: =木造_データ!R61 -> 0 | L50: =木造_データ!S61 -> 0 | M50: =木造_データ!T61 -> 0
J51: 石こうボード | K51: =木造_データ!R62 -> 0 | L51: =木造_データ!S62 -> 0 | M51: =木造_データ!T62 -> 0
J52: ケイ酸カルシウム板 | K52: =木造_データ!R63 -> 0 | L52: =木造_データ!S63 -> 0 | M52: =木造_データ!T63 -> 0
J53: 木毛セメント板 | K53: =木造_データ!R64 -> 0 | L53: =木造_データ!S64 -> 0 | M53: =木造_データ!T64 -> 0
J54: 壁紙・ビニルクロス張り | K54: =木造_データ!R65 -> 0 | L54: =木造_データ!S65 -> 0 | M54: =木造_データ!T65 -> 0
J55: ロックウール吸音板 | K55: =木造_データ!R66 -> 0 | L55: =木造_データ!S66 -> 0 | M55: =木造_データ!T66 -> 0
J56: サイディング（窒業系） | K56: =木造_データ!R67 -> 0 | L56: =木造_データ!S67 -> 0 | M56: =木造_データ!T67 -> 0
J57: サイディング（金属系） | K57: =木造_データ!R68 -> 0 | L57: =木造_データ!S68 -> 0 | M57: =木造_データ!T68 -> 0
J58: サイディング（木質系） | K58: =木造_データ!R69 -> 0 | L58: =木造_データ!S69 -> 0 | M58: =木造_データ!T69 -> 0
J59: 幅木・廻り縁 | K59: =木造_データ!R70 -> 0 | L59: =木造_データ!S70 -> 0 | M59: =木造_データ!T70 -> 0
J60: 断熱材 | K60: =木造_データ!R71 -> 0 | L60: =木造_データ!S71 -> 0 | M60: =木造_データ!T71 -> 0
J61: 合成樹脂製品 | K61: =木造_データ!R72 -> 0 | L61: =木造_データ!S72 -> 0 | M61: =木造_データ!T72 -> 0
J62: 上記以外の内外装 | K62: =木造_データ!R73 -> 0 | L62: =木造_データ!S73 -> 0 | M62: =木造_データ!T73 -> 0
I63: 15.仕上ユニット | K63: =木造_データ!R74 -> 0 | L63: =木造_データ!S74 -> 0 | M63: =木造_データ!T74 -> 0
J64: 収納ユニット | K64: =木造_データ!R75 -> 0 | L64: =木造_データ!S75 -> 0 | M64: =木造_データ!T75 -> 0
J65: 造作家具 | K65: =木造_データ!R76 -> 0 | L65: =木造_データ!S76 -> 0 | M65: =木造_データ!T76 -> 0
J66: 下足入れ | K66: =木造_データ!R77 -> 0 | L66: =木造_データ!S77 -> 0 | M66: =木造_データ!T77 -> 0
J67: キッチンユニット | K67: =木造_データ!R78 -> 0 | L67: =木造_データ!S78 -> 0 | M67: =木造_データ!T78 -> 0
J68: ユニットバス | K68: =木造_データ!R79 -> 0 | L68: =木造_データ!S79 -> 0 | M68: =木造_データ!T79 -> 0
J69: 浴槽 | K69: =木造_データ!R80 -> 0 | L69: =木造_データ!S80 -> 0 | M69: =木造_データ!T80 -> 0
J70: 洗面化粧台 | K70: =木造_データ!R81 -> 0 | L70: =木造_データ!S81 -> 0 | M70: =木造_データ!T81 -> 0
J71: ベランダユニット | K71: =木造_データ!R82 -> 0 | L71: =木造_データ!S82 -> 0 | M71: =木造_データ!T82 -> 0
J72: 天井収納ハシゴ | K72: =木造_データ!R83 -> 0 | L72: =木造_データ!S83 -> 0 | M72: =木造_データ!T83 -> 0
J73: 床下収納庫 | K73: =木造_データ!R84 -> 0 | L73: =木造_データ!S84 -> 0 | M73: =木造_データ!T84 -> 0
J74: ブラインド・カーテン | K74: =木造_データ!R85 -> 0 | L74: =木造_データ!S85 -> 0 | M74: =木造_データ!T85 -> 0
J75: カーテンレール | K75: =木造_データ!R86 -> 0 | L75: =木造_データ!S86 -> 0 | M75: =木造_データ!T86 -> 0
J76: 上記以外の仕上ユニット | K76: =木造_データ!R87 -> 0 | L76: =木造_データ!S87 -> 0 | M76: =木造_データ!T87 -> 0
I77: 16.その他 | K77: =木造_データ!R88 -> 0 | L77: =木造_データ!S88 -> 0 | M77: =木造_データ!T88 -> 0
H78: 建築工事費合計 | K78: =木造_データ!R89 -> 4273 | L78: =木造_データ!S89 -> 0 | M78: =木造_データ!T89 -> 0

Sheet 木造_店舗（比率）
A2: =木造_店舗!A2:M2 -> 表1-2 平成27年建築工事費投入調査集計表（木造_店舗）
A4: （単位：％） | D4: =木造_店舗!D4 -> 1 | E4: =木造_店舗!E4 -> 0 | F4: =木造_店舗!F4 -> 0 | K4: =木造_店舗!K4 -> 1 | L4: =木造_店舗!L4 -> 0 | M4: =木造_店舗!M4 -> 0
D5: 建築工事・ 設備工事 一貫受注 | E5: 建築工事 のみ受注 | F5: 設備工事 のみ受注 | K5: 建築工事・ 設備工事 一貫受注 | L5: 建築工事 のみ受注 | M5: 設備工事 のみ受注
A6: 工事費内訳 | B6: 1.建築工事費 | D6: =IF(木造_店舗!D$13>0,木造_店舗!D6/木造_店舗!D$13*100,0) -> 70.944712 | E6: =IF(木造_店舗!E$13>0,木造_店舗!E6/木造_店舗!E$13*100,0) -> 0 | F6: =IF(木造_店舗!F$13>0,木造_店舗!F6/木造_店舗!F$13*100,0) -> 0 | H6: 建築工事費科目別内訳 | I6: 1.仮設 | K6: =IF(木造_店舗!K$78>0,木造_店舗!K6/木造_店舗!K$78*100,0) -> 10.531243 | L6: =IF(木造_店舗!L$78>0,木造_店舗!L6/木造_店舗!L$78*100,0) -> 0 | M6: =IF(木造_店舗!M$78>0,木造_店舗!M6/木造_店舗!M$78*100,0) -> 0
B7: 2.設備工事費 | D7: =IF(木造_店舗!D$13>0,木造_店舗!D7/木造_店舗!D$13*100,0) -> 0 | E7: =IF(木造_店舗!E$13>0,木造_店舗!E7/木造_店舗!E$13*100,0) -> 0 | F7: =IF(木造_店舗!F$13>0,木造_店舗!F7/木造_店舗!F$13*100,0) -> 0 | I7: 2.基礎 | K7: =IF(木造_店舗!K$78>0,木造_店舗!K7/木造_店舗!K$78*100,0) -> 0 | L7: =IF(木造_店舗!L$78>0,木造_店舗!L7/木造_店舗!L$78*100,0) -> 0 | M7: =IF(木造_店舗!M$78>0,木造_店舗!M7/木造_店舗!M$78*100,0) -> 0
B8: 3.解体・撤去費 | D8: =IF(木造_店舗!D$13>0,木造_店舗!D8/木造_店舗!D$13*100,0) -> 4.9809065 | E8: =IF(木造_店舗!E$13>0,木造_店舗!E8/木造_店舗!E$13*100,0) -> 0 | F8: =IF(木造_店舗!F$13>0,木造_店舗!F8/木造_店舗!F$13*100,0) -> 0 | I8: 3.木工 | K8: =IF(木造_店舗!K$78>0,木造_店舗!K8/木造_店舗!K$78*100,0) -> 75.473906 | L8: =IF(木造_店舗!L$78>0,木造_店舗!L8/木造_店舗!L$78*100,0) -> 0 | M8: =IF(木造_店舗!M$78>0,木造_店舗!M8/木造_店舗!M$78*100,0) -> 0
B9: 4.屋外施設費 | D9: =IF(木造_店舗!D$13>0,木造_店舗!D9/木造_店舗!D$13*100,0) -> 0 | E9: =IF(木造_店舗!E$13>0,木造_店舗!E9/木造_店舗!E$13*100,0) -> 0 | F9: =IF(木造_店舗!F$13>0,木造_店舗!F9/木造_店舗!F$13*100,0) -> 0 | J9: 構造材 | K9: =IF(木造_店舗!K$78>0,木造_店舗!K9/木造_店舗!K$78*100,0) -> 7.0208285 | L9: =IF(木造_店舗!L$78>0,木造_店舗!L9/木造_店舗!L$78*100,0) -> 0 | M9: =IF(木造_店舗!M$78>0,木造_店舗!M9/木造_店舗!M$78*100,0) -> 0
B10: 5.現場管理費 | D10: =IF(木造_店舗!D$13>0,木造_店舗!D10/木造_店舗!D$13*100,0) -> 5.8110576 | E10: =IF(木造_店舗!E$13>0,木造_店舗!E10/木造_店舗!E$13*100,0) -> 0 | F10: =IF(木造_店舗!F$13>0,木造_店舗!F10/木造_店舗!F$13*100,0) -> 0 | J10: 造作材 | K10: =IF(木造_店舗!K$78>0,木造_店舗!K10/木造_店舗!K$78*100,0) -> 18.722209 | L10: =IF(木造_店舗!L$78>0,木造_店舗!L10/木造_店舗!L$78*100,0) -> 0 | M10: =IF(木造_店舗!M$78>0,木造_店舗!M10/木造_店舗!M$78*100,0) -> 0
B11: 6.工事原価 | D11: =IF(木造_店舗!D$13>0,木造_店舗!D11/木造_店舗!D$13*100,0) -> 81.736676 | E11: =IF(木造_店舗!E$13>0,木造_店舗!E11/木造_店舗!E$13*100,0) -> 0 | F11: =IF(木造_店舗!F$13>0,木造_店舗!F11/木造_店舗!F$13*100,0) -> 0 | J11: 板材 | K11: =IF(木造_店舗!K$78>0,木造_店舗!K11/木造_店舗!K$78*100,0) -> 4.6805523 | L11: =IF(木造_店舗!L$78>0,木造_店舗!L11/木造_店舗!L$78*100,0) -> 0 | M11: =IF(木造_店舗!M$78>0,木造_店舗!M11/木造_店舗!M$78*100,0) -> 0
B12: 7.一般管理費等 | D12: =IF(木造_店舗!D$13>0,木造_店舗!D12/木造_店舗!D$13*100,0) -> 18.263324 | E12: =IF(木造_店舗!E$13>0,木造_店舗!E12/木造_店舗!E$13*100,0) -> 0 | F12: =IF(木造_店舗!F$13>0,木造_店舗!F12/木造_店舗!F$13*100,0) -> 0 | J12: 合板 | K12: =IF(木造_店舗!K$78>0,木造_店舗!K12/木造_店舗!K$78*100,0) -> 8.4249941 | L12: =IF(木造_店舗!L$78>0,木造_店舗!L12/木造_店舗!L$78*100,0) -> 0 | M12: =IF(木造_店舗!M$78>0,木造_店舗!M12/木造_店舗!M$78*100,0) -> 0
A13: 8.工事価格 | D13: =IF(木造_店舗!D$13>0,木造_店舗!D13/木造_店舗!D$13*100,0) -> 100 | E13: =IF(木造_店舗!E$13>0,木造_店舗!E13/木造_店舗!E$13*100,0) -> 0 | F13: =IF(木造_店舗!F$13>0,木造_店舗!F13/木造_店舗!F$13*100,0) -> 0 | J13: 釘・金物 | K13: =IF(木造_店舗!K$78>0,木造_店舗!K13/木造_店舗!K$78*100,0) -> 1.5211795 | L13: =IF(木造_店舗!L$78>0,木造_店舗!L13/木造_店舗!L$78*100,0) -> 0 | M13: =IF(木造_店舗!M$78>0,木造_店舗!M13/木造_店舗!M$78*100,0) -> 0
J14: 大工手間（施工費） | K14: =IF(木造_店舗!K$78>0,木造_店舗!K14/木造_店舗!K$78*100,0) -> 35.104142 | L14: =IF(木造_店舗!L$78>0,木造_店舗!L14/木造_店舗!L$78*100,0) -> 0 | M14: =IF(木造_店舗!M$78>0,木造_店舗!M14/木造_店舗!M$78*100,0) -> 0
A15: 設備工事費科目別内訳 | B15: 1.電気 | D15: =IF(木造_店舗!D$49>0,木造_店舗!D15/木造_店舗!D$49*100,0) -> 0 | E15: =IF(木造_店舗!E$49>0,木造_店舗!E15/木造_店舗!E$49*100,0) -> 0 | F15: =IF(木造_店舗!F$49>0,木造_店舗!F15/木造_店舗!F$49*100,0) -> 0 | J15: 上記以外の木工 | K15: =IF(木造_店舗!K$78>0,木造_店舗!K15/木造_店舗!K$78*100,0) -> 0 | L15: =IF(木造_店舗!L$78>0,木造_店舗!L15/木造_店舗!L$78*100,0) -> 0 | M15: =IF(木造_店舗!M$78>0,木造_店舗!M15/木造_店舗!M$78*100,0) -> 0
C16: 受変電・電力引込 | D16: =IF(木造_店舗!D$49>0,木造_店舗!D16/木造_店舗!D$49*100,0) -> 0 | E16: =IF(木造_店舗!E$49>0,木造_店舗!E16/木造_店舗!E$49*100,0) -> 0 | F16: =IF(木造_店舗!F$49>0,木造_店舗!F16/木造_店舗!F$49*100,0) -> 0 | I16: 4.屋根 | K16: =IF(木造_店舗!K$78>0,木造_店舗!K16/木造_店舗!K$78*100,0) -> 1.5211795 | L16: =IF(木造_店舗!L$78>0,木造_店舗!L16/木造_店舗!L$78*100,0) -> 0 | M16: =IF(木造_店舗!M$78>0,木造_店舗!M16/木造_店舗!M$78*100,0) -> 0
C17: 幹線・動力 | D17: =IF(木造_店舗!D$49>0,木造_店舗!D17/木造_店舗!D$49*100,0) -> 0 | E17: =IF(木造_店舗!E$49>0,木造_店舗!E17/木造_店舗!E$49*100,0) -> 0 | F17: =IF(木造_店舗!F$49>0,木造_店舗!F17/木造_店舗!F$49*100,0) -> 0 | J17: 瓦 | K17: =IF(木造_店舗!K$78>0,木造_店舗!K17/木造_店舗!K$78*100,0) -> 0.70208285 | L17: =IF(木造_店舗!L$78>0,木造_店舗!L17/木造_店舗!L$78*100,0) -> 0 | M17: =IF(木造_店舗!M$78>0,木造_店舗!M17/木造_店舗!M$78*100,0) -> 0
C18: 電灯コンセント | D18: =IF(木造_店舗!D$49>0,木造_店舗!D18/木造_店舗!D$49*100,0) -> 0 | E18: =IF(木造_店舗!E$49>0,木造_店舗!E18/木造_店舗!E$49*100,0) -> 0 | F18: =IF(木造_店舗!F$49>0,木造_店舗!F18/木造_店舗!F$49*100,0) -> 0 | J18: セメント瓦 | K18: =IF(木造_店舗!K$78>0,木造_店舗!K18/木造_店舗!K$78*100,0) -> 0 | L18: =IF(木造_店舗!L$78>0,木造_店舗!L18/木造_店舗!L$78*100,0) -> 0 | M18: =IF(木造_店舗!M$78>0,木造_店舗!M18/木造_店舗!M$78*100,0) -> 0
C19: 照明器具 | D19: =IF(木造_店舗!D$49>0,木造_店舗!D19/木造_店舗!D$49*100,0) -> 0 | E19: =IF(木造_店舗!E$49>0,木造_店舗!E19/木造_店舗!E$49*100,0) -> 0 | F19: =IF(木造_店舗!F$49>0,木造_店舗!F19/木造_店舗!F$49*100,0) -> 0 | J19: 金属板葺き | K19: =IF(木造_店舗!K$78>0,木造_店舗!K19/木造_店舗!K$78*100,0) -> 0 | L19: =IF(木造_店舗!L$78>0,木造_店舗!L19/木造_店舗!L$78*100,0) -> 0 | M19: =IF(木造_店舗!M$78>0,木造_店舗!M19/木造_店舗!M$78*100,0) -> 0
C20: 電話・電話配管・IT設備 | D20: =IF(木造_店舗!D$49>0,木造_店舗!D20/木造_店舗!D$49*100,0) -> 0 | E20: =IF(木造_店舗!E$49>0,木造_店舗!E20/木造_店舗!E$49*100,0) -> 0 | F20: =IF(木造_店舗!F$49>0,木造_店舗!F20/木造_店舗!F$49*100,0) -> 0 | J20: 化粧スレート | K20: =IF(木造_店舗!K$78>0,木造_店舗!K20/木造_店舗!K$78*100,0) -> 0 | L20: =IF(木造_店舗!L$78>0,木造_店舗!L20/木造_店舗!L$78*100,0) -> 0 | M20: =IF(木造_店舗!M$78>0,木造_店舗!M20/木造_店舗!M$78*100,0) -> 0
C21: テレビ共聴 | D21: =IF(木造_店舗!D$49>0,木造_店舗!D21/木造_店舗!D$49*100,0) -> 0 | E21: =IF(木造_店舗!E$49>0,木造_店舗!E21/木造_店舗!E$49*100,0) -> 0 | F21: =IF(木造_店舗!F$49>0,木造_店舗!F21/木造_店舗!F$49*100,0) -> 0 | J21: 雨どい | K21: =IF(木造_店舗!K$78>0,木造_店舗!K21/木造_店舗!K$78*100,0) -> 0 | L21: =IF(木造_店舗!L$78>0,木造_店舗!L21/木造_店舗!L$78*100,0) -> 0 | M21: =IF(木造_店舗!M$78>0,木造_店舗!M21/木造_店舗!M$78*100,0) -> 0
C22: インターホン・拡声 | D22: =IF(木造_店舗!D$49>0,木造_店舗!D22/木造_店舗!D$49*100,0) -> 0 | E22: =IF(木造_店舗!E$49>0,木造_店舗!E22/木造_店舗!E$49*100,0) -> 0 | F22: =IF(木造_店舗!F$49>0,木造_店舗!F22/木造_店舗!F$49*100,0) -> 0 | J22: 上記以外の屋根 | K22: =IF(木造_店舗!K$78>0,木造_店舗!K22/木造_店舗!K$78*100,0) -> 0.81909665 | L22: =IF(木造_店舗!L$78>0,木造_店舗!L22/木造_店舗!L$78*100,0) -> 0 | M22: =IF(木造_店舗!M$78>0,木造_店舗!M22/木造_店舗!M$78*100,0) -> 0
C23: 防災 | D23: =IF(木造_店舗!D$49>0,木造_店舗!D23/木造_店舗!D$49*100,0) -> 0 | E23: =IF(木造_店舗!E$49>0,木造_店舗!E23/木造_店舗!E$49*100,0) -> 0 | F23: =IF(木造_店舗!F$49>0,木造_店舗!F23/木造_店舗!F$49*100,0) -> 0 | I23: 5.金属製建具 | K23: =IF(木造_店舗!K$78>0,木造_店舗!K23/木造_店舗!K$78*100,0) -> 0 | L23: =IF(木造_店舗!L$78>0,木造_店舗!L23/木造_店舗!L$78*100,0) -> 0 | M23: =IF(木造_店舗!M$78>0,木造_店舗!M23/木造_店舗!M$78*100,0) -> 0
C24: 避雷針 | D24: =IF(木造_店舗!D$49>0,木造_店舗!D24/木造_店舗!D$49*100,0) -> 0 | E24: =IF(木造_店舗!E$49>0,木造_店舗!E24/木造_店舗!E$49*100,0) -> 0 | F24: =IF(木造_店舗!F$49>0,木造_店舗!F24/木造_店舗!F$49*100,0) -> 0 | J24: アルミニウム製建具 | K24: =IF(木造_店舗!K$78>0,木造_店舗!K24/木造_店舗!K$78*100,0) -> 0 | L24: =IF(木造_店舗!L$78>0,木造_店舗!L24/木造_店舗!L$78*100,0) -> 0 | M24: =IF(木造_店舗!M$78>0,木造_店舗!M24/木造_店舗!M$78*100,0) -> 0
C25: 蓄電池 | D25: =IF(木造_店舗!D$49>0,木造_店舗!D25/木造_店舗!D$49*100,0) -> 0 | E25: =IF(木造_店舗!E$49>0,木造_店舗!E25/木造_店舗!E$49*100,0) -> 0 | F25: =IF(木造_店舗!F$49>0,木造_店舗!F25/木造_店舗!F$49*100,0) -> 0 | J25: 鋼製建具 | K25: =IF(木造_店舗!K$78>0,木造_店舗!K25/木造_店舗!K$78*100,0) -> 0 | L25: =IF(木造_店舗!L$78>0,木造_店舗!L25/木造_店舗!L$78*100,0) -> 0 | M25: =IF(木造_店舗!M$78>0,木造_店舗!M25/木造_店舗!M$78*100,0) -> 0
C26: 屋外施設の電気設備（外灯、門灯） | D26: =IF(木造_店舗!D$49>0,木造_店舗!D26/木造_店舗!D$49*100,0) -> 0 | E26: =IF(木造_店舗!E$49>0,木造_店舗!E26/木造_店舗!E$49*100,0) -> 0 | F26: =IF(木造_店舗!F$49>0,木造_店舗!F26/木造_店舗!F$49*100,0) -> 0 | J26: ステンレス製建具 | K26: =IF(木造_店舗!K$78>0,木造_店舗!K26/木造_店舗!K$78*100,0) -> 0 | L26: =IF(木造_店舗!L$78>0,木造_店舗!L26/木造_店舗!L$78*100,0) -> 0 | M26: =IF(木造_店舗!M$78>0,木造_店舗!M26/木造_店舗!M$78*100,0) -> 0
C27: 上記以外の電気設備 | D27: =IF(木造_店舗!D$49>0,木造_店舗!D27/木造_店舗!D$49*100,0) -> 0 | E27: =IF(木造_店舗!E$49>0,木造_店舗!E27/木造_店舗!E$49*100,0) -> 0 | F27: =IF(木造_店舗!F$49>0,木造_店舗!F27/木造_店舗!F$49*100,0) -> 0 | J27: 金属製玄関ドア | K27: =IF(木造_店舗!K$78>0,木造_店舗!K27/木造_店舗!K$78*100,0) -> 0 | L27: =IF(木造_店舗!L$78>0,木造_店舗!L27/木造_店舗!L$78*100,0) -> 0 | M27: =IF(木造_店舗!M$78>0,木造_店舗!M27/木造_店舗!M$78*100,0) -> 0
B28: 2.空調 | D28: =IF(木造_店舗!D$49>0,木造_店舗!D28/木造_店舗!D$49*100,0) -> 0 | E28: =IF(木造_店舗!E$49>0,木造_店舗!E28/木造_店舗!E$49*100,0) -> 0 | F28: =IF(木造_店舗!F$49>0,木造_店舗!F28/木造_店舗!F$49*100,0) -> 0 | J28: 雨戸・シャッター | K28: =IF(木造_店舗!K$78>0,木造_店舗!K28/木造_店舗!K$78*100,0) -> 0 | L28: =IF(木造_店舗!L$78>0,木造_店舗!L28/木造_店舗!L$78*100,0) -> 0 | M28: =IF(木造_店舗!M$78>0,木造_店舗!M28/木造_店舗!M$78*100,0) -> 0
C29: 空調機器 | D29: =IF(木造_店舗!D$49>0,木造_店舗!D29/木造_店舗!D$49*100,0) -> 0 | E29: =IF(木造_店舗!E$49>0,木造_店舗!E29/木造_店舗!E$49*100,0) -> 0 | F29: =IF(木造_店舗!F$49>0,木造_店舗!F29/木造_店舗!F$49*100,0) -> 0 | J29: 上記以外の金属製建具 | K29: =IF(木造_店舗!K$78>0,木造_店舗!K29/木造_店舗!K$78*100,0) -> 0 | L29: =IF(木造_店舗!L$78>0,木造_店舗!L29/木造_店舗!L$78*100,0) -> 0 | M29: =IF(木造_店舗!M$78>0,木造_店舗!M29/木造_店舗!M$78*100,0) -> 0
C30: ダクト | D30: =IF(木造_店舗!D$49>0,木造_店舗!D30/木造_店舗!D$49*100,0) -> 0 | E30: =IF(木造_店舗!E$49>0,木造_店舗!E30/木造_店舗!E$49*100,0) -> 0 | F30: =IF(木造_店舗!F$49>0,木造_店舗!F30/木造_店舗!F$49*100,0) -> 0 | I30: 6.木製建具 | K30: =IF(木造_店舗!K$78>0,木造_店舗!K30/木造_店舗!K$78*100,0) -> 6.6229815 | L30: =IF(木造_店舗!L$78>0,木造_店舗!L30/木造_店舗!L$78*100,0) -> 0 | M30: =IF(木造_店舗!M$78>0,木造_店舗!M30/木造_店舗!M$78*100,0) -> 0
C31: 空調配管 | D31: =IF(木造_店舗!D$49>0,木造_店舗!D31/木造_店舗!D$49*100,0) -> 0 | E31: =IF(木造_店舗!E$49>0,木造_店舗!E31/木造_店舗!E$49*100,0) -> 0 | F31: =IF(木造_店舗!F$49>0,木造_店舗!F31/木造_店舗!F$49*100,0) -> 0 | J31: 木製ドア | K31: =IF(木造_店舗!K$78>0,木造_店舗!K31/木造_店舗!K$78*100,0) -> 1.1701381 | L31: =IF(木造_店舗!L$78>0,木造_店舗!L31/木造_店舗!L$78*100,0) -> 0 | M31: =IF(木造_店舗!M$78>0,木造_店舗!M31/木造_店舗!M$78*100,0) -> 0
C32: 自動制御 | D32: =IF(木造_店舗!D$49>0,木造_店舗!D32/木造_店舗!D$49*100,0) -> 0 | E32: =IF(木造_店舗!E$49>0,木造_店舗!E32/木造_店舗!E$49*100,0) -> 0 | F32: =IF(木造_店舗!F$49>0,木造_店舗!F32/木造_店舗!F$49*100,0) -> 0 | J32: 木製玄関ドア | K32: =IF(木造_店舗!K$78>0,木造_店舗!K32/木造_店舗!K$78*100,0) -> 4.3295109 | L32: =IF(木造_店舗!L$78>0,木造_店舗!L32/木造_店舗!L$78*100,0) -> 0 | M32: =IF(木造_店舗!M$78>0,木造_店舗!M32/木造_店舗!M$78*100,0) -> 0
