Workbook

Sheet 木造_データ
I4: 71 | J4: 4 | K4: 0 | L4: 1 | M4: 0 | N4: 0 | O4: 1 | P4: 1 | Q4: 0 | R4: 1 | S4: 0 | T4: 0 | U4: 0 | V4: 0 | W4: 0 | X4: 1 | Y4: 0 | Z4: 0 | AA4: 2 | AB4: 0 | AC4: 0 | AD4: 1 | AE4: 0 | AF4: 0 | AG4: 0 | AH4: 0 | AI4: 0 | AJ4: 0 | AK4: 0 | AL4: 0 | AM4: 2 | AN4: 2 | AO4: 0 | AP4: 80 | AQ4: 7 | AR4: 0
I5: 居住専用住宅 | L5: 居住産業併用住宅 | O5: 事務所 | R5: 店舗 | U5: 工場・作業場 | X5: 倉庫 | AA5: 学校の校舎 | AD5: 病院・診療所 | AG5: 体育館 | AJ5: ホテル・旅館 | AM5: その他 | AP5: 合計
I6: 1 | J6: 1 | K6: 1 | L6: 2 | M6: 2 | N6: 2 | O6: 3 | P6: 3 | Q6: 3 | R6: 4 | S6: 4 | T6: 4 | U6: 5 | V6: 5 | W6: 5 | X6: 6 | Y6: 6 | Z6: 6 | AA6: 7 | AB6: 7 | AC6: 7 | AD6: 8 | AE6: 8 | AF6: 8 | AG6: 9 | AH6: 9 | AI6: 9 | AJ6: 10 | AK6: 10 | AL6: 10 | AM6: 11 | AN6: 11 | AO6: 11
I7: 1 | J7: 2 | K7: 3 | L7: 1 | M7: 2 | N7: 3 | O7: 1 | P7: 2 | Q7: 3 | R7: 1 | S7: 2 | T7: 3 | U7: 1 | V7: 2 | W7: 3 | X7: 1 | Y7: 2 | Z7: 3 | AA7: 1 | AB7: 2 | AC7: 3 | AD7: 1 | AE7: 2 | AF7: 3 | AG7: 1 | AH7: 2 | AI7: 3 | AJ7: 1 | AK7: 2 | AL7: 3 | AM7: 1 | AN7: 2 | AO7: 3
I8: 11 | J8: 12 | K8: 13 | L8: 21 | M8: 22 | N8: 23 | O8: 31 | P8: 32 | Q8: 33 | R8: 41 | S8: 42 | T8: 43 | U8: 51 | V8: 52 | W8: 53 | X8: 61 | Y8: 62 | Z8: 63 | AA8: 71 | AB8: 72 | AC8: 73 | AD8: 81 | AE8: 82 | AF8: 83 | AG8: 91 | AH8: 92 | AI8: 93 | AJ8: 101 | AK8: 102 | AL8: 103 | AM8: 111 | AN8: 112 | AO8: 113
D9: ８．工事費（消費税を除く） | E9: （１） 建築工事費 | H9: 千円 | I9: 1174254 | J9: 56827 | K9: 0 | L9: 36000 | M9: 0 | N9: 0 | O9: 12748 | P9: 7900 | Q9: 0 | R9: 4273 | S9: 0 | T9: 0 | U9: 0 | V9: 0 | W9: 0 | X9: 3000 | Y9: 0 | Z9: 0 | AA9: 102577 | AB9: 0 | AC9: 0 | AD9: 36485 | AE9: 0 | AF9: 0 | AG9: 0 | AH9: 0 | AI9: 0 | AJ9: 0 | AK9: 0 | AL9: 0 | AM9: 71289 | AN9: 258727 | AO9: 0 | AP9: 1440626 | AQ9: 323454 | AR9: 0
E10: （２） 設備工事費 | H10: 千円 | I10: 178906 | J10: 0 | K10: 0 | L10: 1500 | M10: 0 | N10: 0 | O10: 7196 | P10: 0 | Q10: 0 | R10: 0 | S10: 0 | T10: 0 | U10: 0 | V10: 0 | W10: 0 | X10: 0 | Y10: 0 | Z10: 0 | AA10: 35324 | AB10: 0 | AC10: 0 | AD10: 0 | AE10: 0 | AF10: 0 | AG10: 0 | AH10: 0 | AI10: 0 | AJ10: 0 | AK10: 0 | AL10: 0 | AM10: 22185 | AN10: 0 | AO10: 0 | AP10: 245111 | AQ10: 0 | AR10: 0
E11: （３） 解体・撤去費 | H11: 千円 | I11: 30322 | J11: 1250 | K11: 0 | L11: 0 | M11: 0 | N11: 0 | O11: 0 | P11: 400 | Q11: 0 | R11: 300 | S11: 0 | T11: 0 | U11: 0 | V11: 0 | W11: 0 | X11: 0 | Y11: 0 | Z11: 0 | AA11: 1600 | AB11: 0 | AC11: 0 | AD11: 0 | AE11: 0 | AF11: 0 | AG11: 0 | AH11: 0 | AI11: 0 | AJ11: 0 | AK11: 0 | AL11: 0 | AM11: 0 | AN11: 13800 | AO11: 0 | AP11: 32222 | AQ11: 15450 | AR11: 0
E12: （４） 屋外施設費 | H12: 千円 | I12: 38834 | J12: 1950 | K12: 0 | L12: 1500 | M12: 0 | N12: 0 | O12: 762 | P12: 0 | Q12: 0 | R12: 0 | S12: 0 | T12: 0 | U12: 0 | V12: 0 | W12: 0 | X12: 0 | Y12: 0 | Z12: 0 | AA12: 6350 | AB12: 0 | AC12: 0 | AD12: 2000 | AE12: 0 | AF12: 0 | AG12: 0 | AH12: 0 | AI12: 0 | AJ12: 0 | AK12: 0 | AL12: 0 | AM12: 6344 | AN12: 386 | AO12: 0 | AP12: 55790 | AQ12: 2336 | AR12: 0
E13: （５） 現場管理費 | H13: 千円 | I13: 62236 | J13: 1470 | K13: 0 | L13: 400 | M13: 0 | N13: 0 | O13: 599 | P13: 1350 | Q13: 0 | R13: 350 | S13: 0 | T13: 0 | U13: 0 | V13: 0 | W13: 0 | X13: 300 | Y13: 0 | Z13: 0 | AA13: 8447 | AB13: 0 | AC13: 0 | AD13: 4750 | AE13: 0 | AF13: 0 | AG13: 0 | AH13: 0 | AI13: 0 | AJ13: 0 | AK13: 0 | AL13: 0 | AM13: 8131 | AN13: 22909 | AO13: 0 | AP13: 85213 | AQ13: 25729 | AR13: 0
E14: （６） 工事原価 （（１）～（５）の計） | H14: 千円 | I14: 1484552 | J14: 61497 | K14: 0 | L14: 39400 | M14: 0 | N14: 0 | O14: 21305 | P14: 9650 | Q14: 0 | R14: 4923 | S14: 0 | T14: 0 | U14: 0 | V14: 0 | W14: 0 | X14: 3300 | Y14: 0 | Z14: 0 | AA14: 154298 | AB14: 0 | AC14: 0 | AD14: 43235 | AE14: 0 | AF14: 0 | AG14: 0 | AH14: 0 | AI14: 0 | AJ14: 0 | AK14: 0 | AL14: 0 | AM14: 107949 | AN14: 295822 | AO14: 0 | AP14: 1858962 | AQ14: 366969 | AR14: 0
E15: （７） 一般管理費等 | H15: 千円 | I15: 82947 | J15: 7550 | K15: 0 | L15: 600 | M15: 0 | N15: 0 | O15: 3695 | P15: 770 | Q15: 0 | R15: 1100 | S15: 0 | T15: 0 | U15: 0 | V15: 0 | W15: 0 | X15: 200 | Y15: 0 | Z15: 0 | AA15: 18382 | AB15: 0 | AC15: 0 | AD15: 13065 | AE15: 0 | AF15: 0 | AG15: 0 | AH15: 0 | AI15: 0 | AJ15: 0 | AK15: 0 | AL15: 0 | AM15: 7154 | AN15: 6100 | AO15: 0 | AP15: 127143 | AQ15: 14420 | AR15: 0
E16: （８） 工事価格 | H16: 千円 | I16: 1567499 | J16: 69047 | K16: 0 | L16: 40000 | M16: 0 | N16: 0 | O16: 25000 | P16: 10420 | Q16: 0 | R16: 6023 | S16: 0 | T16: 0 | U16: 0 | V16: 0 | W16: 0 | X16: 3500 | Y16: 0 | Z16: 0 | AA16: 172680 | AB16: 0 | AC16: 0 | AD16: 56300 | AE16: 0 | AF16: 0 | AG16: 0 | AH16: 0 | AI16: 0 | AJ16: 0 | AK16: 0 | AL16: 0 | AM16: 115103 | AN16: 301922 | AO16: 0 | AP16: 1986105 | AQ16: 381389 | AR16: 0
D17: ８－１．建築工事費 | E17: 1．仮設 | I17: 44939 | J17: 3178 | K17: 0 | L17: 500 | M17: 0 | N17: 0 | O17: 300 | P17: 440 | Q17: 0 | R17: 450 | S17: 0 | T17: 0 | U17: 0 | V17: 0 | W17: 0 | X17: 150 | Y17: 0 | Z17: 0 | AA17: 4050 | AB17: 0 | AC17: 0 | AD17: 1260 | AE17: 0 | AF17: 0 | AG17: 0 | AH17: 0 | AI17: 0 | AJ17: 0 | AK17: 0 | AL17: 0 | AM17: 3891 | AN17: 15940 | AO17: 0 | AP17: 55540 | AQ17: 19558 | AR17: 0
E18: 2．基礎 | I18: 111651 | J18: 5655 | K18: 0 | L18: 2500 | M18: 0 | N18: 0 | O18: 1658 | P18: 1180 | Q18: 0 | R18: 0 | S18: 0 | T18: 0 | U18: 0 | V18: 0 | W18: 0 | X18: 700 | Y18: 0 | Z18: 0 | AA18: 19210 | AB18: 0 | AC18: 0 | AD18: 4300 | AE18: 0 | AF18: 0 | AG18: 0 | AH18: 0 | AI18: 0 | AJ18: 0 | AK18: 0 | AL18: 0 | AM18: 7805 | AN18: 163778 | AO18: 0 | AP18: 147824 | AQ18: 170613 | AR18: 0
E19: 3．木工 | F19: 計 | I19: 419550 | J19: 18266 | K19: 0 | L19: 11000 | M19: 0 | N19: 0 | O19: 3956 | P19: 2030 | Q19: 0 | R19: 3225 | S19: 0 | T19: 0 | U19: 0 | V19: 0 | W19: 0 | X19: 900 | Y19: 0 | Z19: 0 | AA19: 28836 | AB19: 0 | AC19: 0 | AD19: 13150 | AE19: 0 | AF19: 0 | AG19: 0 | AH19: 0 | AI19: 0 | AJ19: 0 | AK19: 0 | AL19: 0 | AM19: 24755 | AN19: 17951 | AO19: 0 | AP19: 505372 | AQ19: 38247 | AR19: 0
G20: ①構造材 | H20: 千円 | I20: 129195.09 | J20: 5139 | K20: 0 | L20: 4000 | M20: 0 | N20: 0 | O20: 1187 | P20: 714 | Q20: 0 | R20: 300 | S20: 0 | T20: 0 | U20: 0 | V20: 0 | W20: 0 | X20: 400 | Y20: 0 | Z20: 0 | AA20: 8840 | AB20: 0 | AC20: 0 | AD20: 3000 | AE20: 0 | AF20: 0 | AG20: 0 | AH20: 0 | AI20: 0 | AJ20: 0 | AK20: 0 | AL20: 0 | AM20: 11143 | AN20: 4236 | AO20: 0 | AP20: 158065.09 | AQ20: 10089 | AR20: 0
G21: ②造作材 | H21: 千円 | I21: 37646.39 | J21: 2250 | K21: 0 | L21: 1500 | M21: 0 | N21: 0 | O21: 198 | P21: 160 | Q21: 0 | R21: 800 | S21: 0 | T21: 0 | U21: 0 | V21: 0 | W21: 0 | X21: 0 | Y21: 0 | Z21: 0 | AA21: 2460 | AB21: 0 | AC21: 0 | AD21: 885 | AE21: 0 | AF21: 0 | AG21: 0 | AH21: 0 | AI21: 0 | AJ21: 0 | AK21: 0 | AL21: 0 | AM21: 947 | AN21: 2321 | AO21: 0 | AP21: 44436.39 | AQ21: 4731 | AR21: 0
G22: ③板材 | H22: 千円 | I22: 20880.01 | J22: 599 | K22: 0 | L22: 500 | M22: 0 | N22: 0 | O22: 198 | P22: 150 | Q22: 0 | R22: 200 | S22: 0 | T22: 0 | U22: 0 | V22: 0 | W22: 0 | X22: 50 | Y22: 0 | Z22: 0 | AA22: 1857 | AB22: 0 | AC22: 0 | AD22: 135 | AE22: 0 | AF22: 0 | AG22: 0 | AH22: 0 | AI22: 0 | AJ22: 0 | AK22: 0 | AL22: 0 | AM22: 113 | AN22: 1484 | AO22: 0 | AP22: 23933.01 | AQ22: 2233 | AR22: 0
G23: ④合版 | H23: 千円 | I23: 19067.6 | J23: 1650 | K23: 0 | L23: 500 | M23: 0 | N23: 0 | O23: 0 | P23: 150 | Q23: 0 | R23: 360 | S23: 0 | T23: 0 | U23: 0 | V23: 0 | W23: 0 | X23: 100 | Y23: 0 | Z23: 0 | AA23: 445 | AB23: 0 | AC23: 0 | AD23: 30 | AE23: 0 | AF23: 0 | AG23: 0 | AH23: 0 | AI23: 0 | AJ23: 0 | AK23: 0 | AL23: 0 | AM23: 1934 | AN23: 723 | AO23: 0 | AP23: 22436.6 | AQ23: 2523 | AR23: 0
G24: ⑤釘・金物 | H24: 千円 | I24: 13147.11 | J24: 1449 | K24: 0 | L24: 300 | M24: 0 | N24: 0 | O24: 0 | P24: 50 | Q24: 0 | R24: 65 | S24: 0 | T24: 0 | U24: 0 | V24: 0 | W24: 0 | X24: 50 | Y24: 0 | Z24: 0 | AA24: 850 | AB24: 0 | AC24: 0 | AD24: 100 | AE24: 0 | AF24: 0 | AG24: 0 | AH24: 0 | AI24: 0 | AJ24: 0 | AK24: 0 | AL24: 0 | AM24: 1124 | AN24: 399 | AO24: 0 | AP24: 15636.11 | AQ24: 1898 | AR24: 0
G25: ⑥大工手間（施工費） | H25: 千円 | I25: 178930.9 | J25: 7029 | K25: 0 | L25: 4000 | M25: 0 | N25: 0 | O25: 2373 | P25: 760 | Q25: 0 | R25: 1500 | S25: 0 | T25: 0 | U25: 0 | V25: 0 | W25: 0 | X25: 300 | Y25: 0 | Z25: 0 | AA25: 10440 | AB25: 0 | AC25: 0 | AD25: 9000 | AE25: 0 | AF25: 0 | AG25: 0 | AH25: 0 | AI25: 0 | AJ25: 0 | AK25: 0 | AL25: 0 | AM25: 9484 | AN25: 6720 | AO25: 0 | AP25: 216027.9 | AQ25: 14509 | AR25: 0
G26: ⑦上記以外の木工 | H26: 千円 | I26: 20682.9 | J26: 150 | K26: 0 | L26: 200 | M26: 0 | N26: 0 | O26: 0 | P26: 46 | Q26: 0 | R26: 0 | S26: 0 | T26: 0 | U26: 0 | V26: 0 | W26: 0 | X26: 0 | Y26: 0 | Z26: 0 | AA26: 3944 | AB26: 0 | AC26: 0 | AD26: 0 | AE26: 0 | AF26: 0 | AG26: 0 | AH26: 0 | AI26: 0 | AJ26: 0 | AK26: 0 | AL26: 0 | AM26: 10 | AN26: 2068 | AO26: 0 | AP26: 24836.9 | AQ26: 2264 | AR26: 0
E27: 4．屋根 | F27: 計 | I27: 67946 | J27: 4053 | K27: 0 | L27: 1500 | M27: 0 | N27: 0 | O27: 949 | P27: 610 | Q27: 0 | R27: 65 | S27: 0 | T27: 0 | U27: 0 | V27: 0 | W27: 0 | X27: 800 | Y27: 0 | Z27: 0 | AA27: 6353 | AB27: 0 | AC27: 0 | AD27: 2000 | AE27: 0 | AF27: 0 | AG27: 0 | AH27: 0 | AI27: 0 | AJ27: 0 | AK27: 0 | AL27: 0 | AM27: 4027 | AN27: 0 | AO27: 0 | AP27: 83640 | AQ27: 4663 | AR27: 0
G28: ①瓦 | H28: 千円 | I28: 15835 | J28: 655 | K28: 0 | L28: 0 | M28: 0 | N28: 0 | O28: 0 | P28: 0 | Q28: 0 | R28: 30 | S28: 0 | T28: 0 | U28: 0 | V28: 0 | W28: 0 | X28: 800 | Y28: 0 | Z28: 0 | AA28: 0 | AB28: 0 | AC28: 0 | AD28: 0 | AE28: 0 | AF28: 0 | AG28: 0 | AH28: 0 | AI28: 0 | AJ28: 0 | AK28: 0 | AL28: 0 | AM28: 0 | AN28: 0 | AO28: 0 | AP28: 16665 | AQ28: 655 | AR28: 0
G29: ②セメント瓦 | H29: 千円 | I29: 604 | J29: 0 | K29: 0 | L29: 0 | M29: 0 | N29: 0 | O29: 0 | P29: 0 | Q29: 0 | R29: 0 | S29: 0 | T29: 0 | U29: 0 | V29: 0 | W29: 0 | X29: 0 | Y29: 0 | Z29: 0 | AA29: 0 | AB29: 0 | AC29: 0 | AD29: 0 | AE29: 0 | AF29: 0 | AG29: 0 | AH29: 0 | AI29: 0 | AJ29: 0 | AK29: 0 | AL29: 0 | AM29: 0 | AN29: 0 | AO29: 0 | AP29: 604 | AQ29: 0 | AR29: 0
G30: ③金属板葺き | H30: 千円 | I30: 33618 | J30: 2123 | K30: 0 | L30: 1200 | M30: 0 | N30: 0 | O30: 921 | P30: 610 | Q30: 0 | R30: 0 | S30: 0 | T30: 0 | U30: 0 | V30: 0 | W30: 0 | X30: 0 | Y30: 0 | Z30: 0 | AA30: 5950 | AB30: 0 | AC30: 0 | AD30: 1760 | AE30: 0 | AF30: 0 | AG30: 0 | AH30: 0 | AI30: 0 | AJ30: 0 | AK30: 0 | AL30: 0 | AM30: 916 | AN30: 0 | AO30: 0 | AP30: 44365 | AQ30: 2733 | AR30: 0
G31: ④化粧スレート | H31: 千円 | I31: 3123.9 | J31: 840 | K31: 0 | L31: 0 | M31: 0 | N31: 0 | O31: 0 | P31: 0 | Q31: 0 | R31: 0 | S31: 0 | T31: 0 | U31: 0 | V31: 0 | W31: 0 | X31: 0 | Y31: 0 | Z31: 0 | AA31: 0 | AB31: 0 | AC31: 0 | AD31: 0 | AE31: 0 | AF31: 0 | AG31: 0 | AH31: 0 | AI31: 0 | AJ31: 0 | AK31: 0 | AL31: 0 | AM31: 2289 | AN31: 0 | AO31: 0 | AP31: 5412.9 | AQ31: 840 | AR31: 0
G32: ⑤雨どい | H32: 千円 | I32: 10460.1 | J32: 435 | K32: 0 | L32: 200 | M32: 0 | N32: 0 | O32: 28 | P32: 0 | Q32: 0 | R32: 0 | S32: 0 | T32: 0 | U32: 0 | V32: 0 | W32: 0 | X32: 0 | Y32: 0 | Z32: 0 | AA32: 403 | AB32: 0 | AC32: 0 | AD32: 240 | AE32: 0 | AF32: 0 | AG32: 0 | AH32: 0 | AI32: 0 | AJ32: 0 | AK32: 0 | AL32: 0 | AM32: 822 | AN32: 0 | AO32: 0 | AP32: 12153.1 | AQ32: 435 | AR32: 0
G33: ⑥上記以外の屋根 | H33: 千円 | I33: 4305 | J33: 0 | K33: 0 | L33: 100 | M33: 0 | N33: 0 | O33: 0 | P33: 0 | Q33: 0 | R33: 35 | S33: 0 | T33: 0 | U33: 0 | V33: 0 | W33: 0 | X33: 0 | Y33: 0 | Z33: 0 | AA33: 0 | AB33: 0 | AC33: 0 | AD33: 0 | AE33: 0 | AF33: 0 | AG33: 0 | AH33: 0 | AI33: 0 | AJ33: 0 | AK33: 0 | AL33: 0 | AM33: 0 | AN33: 0 | AO33: 0 | AP33: 4440 | AQ33: 0 | AR33: 0
E34: 5．金属製建具 | F34: 計 | I34: 84739 | J34: 5530 | K34: 0 | L34: 2000 | M34: 0 | N34: 0 | O34: 2840 | P34: 560 | Q34: 0 | R34: 0 | S34: 0 | T34: 0 | U34: 0 | V34: 0 | W34: 0 | X34: 250 | Y34: 0 | Z34: 0 | AA34: 12012 | AB34: 0 | AC34: 0 | AD34: 3340 | AE34: 0 | AF34: 0 | AG34: 0 | AH34: 0 | AI34: 0 | AJ34: 0 | AK34: 0 | AL34: 0 | AM34: 4760 | AN34: 4201 | AO34: 0 | AP34: 109941 | AQ34: 10291 | AR34: 0
G35: ①アルミニウム製建具 | H35: 千円 | I35: 54383.3 | J35: 3040 | K35: 0 | L35: 1800 | M35: 0 | N35: 0 | O35: 2840 | P35: 210 | Q35: 0 | R35: 0 | S35: 0 | T35: 0 | U35: 0 | V35: 0 | W35: 0 | X35: 100 | Y35: 0 | Z35: 0 | AA35: 7552 | AB35: 0 | AC35: 0 | AD35: 2790 | AE35: 0 | AF35: 0 | AG35: 0 | AH35: 0 | AI35: 0 | AJ35: 0 | AK35: 0 | AL35: 0 | AM35: 4335 | AN35: 1601 | AO35: 0 | AP35: 73800.3 | AQ35: 4851 | AR35: 0
G36: ②鋼製建具 | H36: 千円 | I36: 9438 | J36: 350 | K36: 0 | L36: 200 | M36: 0 | N36: 0 | O36: 0 | P36: 0 | Q36: 0 | R36: 0 | S36: 0 | T36: 0 | U36: 0 | V36: 0 | W36: 0 | X36: 0 | Y36: 0 | Z36: 0 | AA36: 3200 | AB36: 0 | AC36: 0 | AD36: 500 | AE36: 0 | AF36: 0 | AG36: 0 | AH36: 0 | AI36: 0 | AJ36: 0 | AK36: 0 | AL36: 0 | AM36: 0 | AN36: 2600 | AO36: 0 | AP36: 13338 | AQ36: 2950 | AR36: 0
G37: ③ステンレス製建具 | H37: 千円 | I37: 1617 | J37: 0 | K37: 0 | L37: 0 | M37: 0 | N37: 0 | O37: 0 | P37: 0 | Q37: 0 | R37: 0 | S37: 0 | T37: 0 | U37: 0 | V37: 0 | W37: 0 | X37: 0 | Y37: 0 | Z37: 0 | AA37: 0 | AB37: 0 | AC37: 0 | AD37: 0 | AE37: 0 | AF37: 0 | AG37: 0 | AH37: 0 | AI37: 0 | AJ37: 0 | AK37: 0 | AL37: 0 | AM37: 0 | AN37: 0 | AO37: 0 | AP37: 1617 | AQ37: 0 | AR37: 0
G38: ④金属製玄関ドア | H38: 千円 | I38: 8887.8 | J38: 810 | K38: 0 | L38: 0 | M38: 0 | N38: 0 | O38: 0 | P38: 0 | Q38: 0 | R38: 0 | S38: 0 | T38: 0 | U38: 0 | V38: 0 | W38: 0 | X38: 0 | Y38: 0 | Z38: 0 | AA38: 780 | AB38: 0 | AC38: 0 | AD38: 0 | AE38: 0 | AF38: 0 | AG38: 0 | AH38: 0 | AI38: 0 | AJ38: 0 | AK38: 0 | AL38: 0 | AM38: 425 | AN38: 0 | AO38: 0 | AP38: 10092.8 | AQ38: 810 | AR38: 0
G39: ⑤雨戸・シャッター | H39: 千円 | I39: 1647.95 | J39: 790 | K39: 0 | L39: 0 | M39: 0 | N39: 0 | O39: 0 | P39: 0 | Q39: 0 | R39: 0 | S39: 0 | T39: 0 | U39: 0 | V39: 0 | W39: 0 | X39: 150 | Y39: 0 | Z39: 0 | AA39: 0 | AB39: 0 | AC39: 0 | AD39: 0 | AE39: 0 | AF39: 0 | AG39: 0 | AH39: 0 | AI39: 0 | AJ39: 0 | AK39: 0 | AL39: 0 | AM39: 0 | AN39: 0 | AO39: 0 | AP39: 1797.95 | AQ39: 790 | AR39: 0
G40: ⑥上記以外の金属建具 | H40: 千円 | I40: 8764.95 | J40: 540 | K40: 0 | L40: 0 | M40: 0 | N40: 0 | O40: 0 | P40: 350 | Q40: 0 | R40: 0 | S40: 0 | T40: 0 | U40: 0 | V40: 0 | W40: 0 | X40: 0 | Y40: 0 | Z40: 0 | AA40: 480 | AB40: 0 | AC40: 0 | AD40: 50 | AE40: 0 | AF40: 0 | AG40: 0 | AH40: 0 | AI40: 0 | AJ40: 0 | AK40: 0 | AL40: 0 | AM40: 0 | AN40: 0 | AO40: 0 | AP40: 9294.95 | AQ40: 890 | AR40: 0
E41: 6．木製建具 | F41: 計 | I41: 53464 | J41: 1324 | K41: 0 | L41: 800 | M41: 0 | N41: 0 | O41: 376 | P41: 540 | Q41: 0 | R41: 283 | S41: 0 | T41: 0 | U41: 0 | V41: 0 | W41: 0 | X41: 0 | Y41: 0 | Z41: 0 | AA41: 7022 | AB41: 0 | AC41: 0 | AD41: 2020 | AE41: 0 | AF41: 0 | AG41: 0 | AH41: 0 | AI41: 0 | AJ41: 0 | AK41: 0 | AL41: 0 | AM41: 2367 | AN41: 1941 | AO41: 0 | AP41: 66332 | AQ41: 3805 | AR41: 0
G42: ①木製ドア | H42: 千円 | I42: 34498.08 | J42: 714 | K42: 0 | L42: 800 | M42: 0 | N42: 0 | O42: 376 | P42: 440 | Q42: 0 | R42: 50 | S42: 0 | T42: 0 | U42: 0 | V42: 0 | W42: 0 | X42: 0 | Y42: 0 | Z42: 0 | AA42: 5822 | AB42: 0 | AC42: 0 | AD42: 1500 | AE42: 0 | AF42: 0 | AG42: 0 | AH42: 0 | AI42: 0 | AJ42: 0 | AK42: 0 | AL42: 0 | AM42: 1357 | AN42: 1050 | AO42: 0 | AP42: 44403.08 | AQ42: 2204 | AR42: 0
G43: ②木製玄関ドア | H43: 千円 | I43: 1453 | J43: 0 | K43: 0 | L43: 0 | M43: 0 | N43: 0 | O43: 0 | P43: 0 | Q43: 0 | R43: 185 | S43: 0 | T43: 0 | U43: 0 | V43: 0 | W43: 0 | X43: 0 | Y43: 0 | Z43: 0 | AA43: 0 | AB43: 0 | AC43: 0 | AD43: 0 | AE43: 0 | AF43: 0 | AG43: 0 | AH43: 0 | AI43: 0 | AJ43: 0 | AK43: 0 | AL43: 0 | AM43: 404 | AN43: 0 | AO43: 0 | AP43: 2042 | AQ43: 0 | AR43: 0
...

Sheet 木造_合計
A2: 表1-2 平成27年建築工事費投入調査集計表（木造_合計）
A4: （単位：千円） | D4: =木造_データ!AP4 -> 80 | E4: =木造_データ!AQ4 -> 7 | F4: =木造_データ!AR4 -> 0 | K4: =D4 -> 80 | L4: =E4 -> 7 | M4: =F4 -> 0
D5: 建築工事・ 設備工事 一貫受注 | E5: 建築工事 のみ受注 | F5: 設備工事 のみ受注 | K5: 建築工事・ 設備工事 一貫受注 | L5: 建築工事 のみ受注 | M5: 設備工事 のみ受注
A6: 工事費内訳 | B6: 1.建築工事費 | D6: =木造_データ!AP9 -> 1440626 | E6: =木造_データ!AQ9 -> 323454 | F6: =木造_データ!AR9 -> 0 | H6: 建築工事費科目別内訳 | I6: 1.仮設 | K6: =木造_データ!AP17 -> 55540 | L6: =木造_データ!AQ17 -> 19558 | M6: =木造_データ!AR17 -> 0
B7: 2.設備工事費 | D7: =木造_データ!AP10 -> 245111 | E7: =木造_データ!AQ10 -> 0 | F7: =木造_データ!AR10 -> 0 | I7: 2.基礎 | K7: =木造_データ!AP18 -> 147824 | L7: =木造_データ!AQ18 -> 170613 | M7: =木造_データ!AR18 -> 0
B8: 3.解体・撤去費 | D8: =木造_データ!AP11 -> 32222 | E8: =木造_データ!AQ11 -> 15450 | F8: =木造_データ!AR11 -> 0 | I8: 3.木工 | K8: =木造_データ!AP19 -> 505372 | L8: =木造_データ!AQ19 -> 38247 | M8: =木造_データ!AR19 -> 0
B9: 4.屋外施設費 | D9: =木造_データ!AP12 -> 55790 | E9: =木造_データ!AQ12 -> 2336 | F9: =木造_データ!AR12 -> 0 | J9: 構造材 | K9: =木造_データ!AP20 -> 158065.09 | L9: =木造_データ!AQ20 -> 10089 | M9: =木造_データ!AR20 -> 0
B10: 5.現場管理費 | D10: =木造_データ!AP13 -> 85213 | E10: =木造_データ!AQ13 -> 25729 | F10: =木造_データ!AR13 -> 0 | J10: 造作材 | K10: =木造_データ!AP21 -> 44436.39 | L10: =木造_データ!AQ21 -> 4731 | M10: =木造_データ!AR21 -> 0
B11: 6.工事原価 | D11: =木造_データ!AP14 -> 1858962 | E11: =木造_データ!AQ14 -> 366969 | F11: =木造_データ!AR14 -> 0 | J11: 板材 | K11: =木造_データ!AP22 -> 23933.01 | L11: =木造_データ!AQ22 -> 2233 | M11: =木造_データ!AR22 -> 0
B12: 7.一般管理費等 | D12: =木造_データ!AP15 -> 127143 | E12: =木造_データ!AQ15 -> 14420 | F12: =木造_データ!AR15 -> 0 | J12: 合板 | K12: =木造_データ!AP23 -> 22436.6 | L12: =木造_データ!AQ23 -> 2523 | M12: =木造_データ!AR23 -> 0
A13: 8.工事価格 | D13: =木造_データ!AP16 -> 1986105 | E13: =木造_データ!AQ16 -> 381389 | F13: =木造_データ!AR16 -> 0 | J13: 釘・金物 | K13: =木造_データ!AP24 -> 15636.11 | L13: =木造_データ!AQ24 -> 1898 | M13: =木造_データ!AR24 -> 0
J14: 大工手間（施工費） | K14: =木造_データ!AP25 -> 216027.9 | L14: =木造_データ!AQ25 -> 14509 | M14: =木造_データ!AR25 -> 0
A15: 設備工事費科目別内訳 | B15: 1.電気 | D15: =木造_データ!AP90 -> 87053 | E15: =木造_データ!AQ90 -> 0 | F15: =木造_データ!AR90 -> 0 | J15: 上記以外の木工 | K15: =木造_データ!AP26 -> 24836.9 | L15: =木造_データ!AQ26 -> 2264 | M15: =木造_データ!AR26 -> 0
C16: 受変電・電力引込 | D16: =木造_データ!AP91 -> 7723.7 | E16: =木造_データ!AQ91 -> 0 | F16: =木造_データ!AR91 -> 0 | I16: 4.屋根 | K16: =木造_データ!AP27 -> 83640 | L16: =木造_データ!AQ27 -> 4663 | M16: =木造_データ!AR27 -> 0
C17: 幹線・動力 | D17: =木造_データ!AP92 -> 10698.11 | E17: =木造_データ!AQ92 -> 0 | F17: =木造_データ!AR92 -> 0 | J17: 瓦 | K17: =木造_データ!AP28 -> 16665 | L17: =木造_データ!AQ28 -> 655 | M17: =木造_データ!AR28 -> 0
C18: 電灯コンセント | D18: =木造_データ!AP93 -> 21576.22 | E18: =木造_データ!AQ93 -> 0 | F18: =木造_データ!AR93 -> 0 | J18: セメント瓦 | K18: =木造_データ!AP29 -> 604 | L18: =木造_データ!AQ29 -> 0 | M18: =木造_データ!AR29 -> 0
C19: 照明器具 | D19: =木造_データ!AP94 -> 19701.28 | E19: =木造_データ!AQ94 -> 0 | F19: =木造_データ!AR94 -> 0 | J19: 金属板葺き | K19: =木造_データ!AP30 -> 44365 | L19: =木造_データ!AQ30 -> 2733 | M19: =木造_データ!AR30 -> 0
C20: 電話・電話配管・IT設備 | D20: =木造_データ!AP95 -> 3539.88 | E20: =木造_データ!AQ95 -> 0 | F20: =木造_データ!AR95 -> 0 | J20: 化粧スレート | K20: =木造_データ!AP31 -> 5412.9 | L20: =木造_データ!AQ31 -> 840 | M20: =木造_データ!AR31 -> 0
C21: テレビ共聴 | D21: =木造_データ!AP96 -> 2847.88 | E21: =木造_データ!AQ96 -> 0 | F21: =木造_データ!AR96 -> 0 | J21: 雨どい | K21: =木造_データ!AP32 -> 12153.1 | L21: =木造_データ!AQ32 -> 435 | M21: =木造_データ!AR32 -> 0
C22: インターホン・拡声 | D22: =木造_データ!AP97 -> 1729.94 | E22: =木造_データ!AQ97 -> 0 | F22: =木造_データ!AR97 -> 0 | J22: 上記以外の屋根 | K22: =木造_データ!AP33 -> 4440 | L22: =木造_データ!AQ33 -> 0 | M22: =木造_データ!AR33 -> 0
C23: 防災 | D23: =木造_データ!AP98 -> 3524.88 | E23: =木造_データ!AQ98 -> 0 | F23: =木造_データ!AR98 -> 0 | I23: 5.金属製建具 | K23: =木造_データ!AP34 -> 109941 | L23: =木造_データ!AQ34 -> 10291 | M23: =木造_データ!AR34 -> 0
C24: 避雷針 | D24: =木造_データ!AP99 -> 0 | E24: =木造_データ!AQ99 -> 0 | F24: =木造_データ!AR99 -> 0 | J24: アルミニウム製建具 | K24: =木造_データ!AP35 -> 73800.3 | L24: =木造_データ!AQ35 -> 4851 | M24: =木造_データ!AR35 -> 0
C25: 蓄電池 | D25: =木造_データ!AP100 -> 0 | E25: =木造_データ!AQ100 -> 0 | F25: =木造_データ!AR100 -> 0 | J25: 鋼製建具 | K25: =木造_データ!AP36 -> 13338 | L25: =木造_データ!AQ36 -> 2950 | M25: =木造_データ!AR36 -> 0
C26: 屋外施設の電気設備（外灯、門灯） | D26: =木造_データ!AP101 -> 959.47 | E26: =木造_データ!AQ101 -> 0 | F26: =木造_データ!AR101 -> 0 | J26: ステンレス製建具 | K26: =木造_データ!AP37 -> 1617 | L26: =木造_データ!AQ37 -> 0 | M26: =木造_データ!AR37 -> 0
C27: 上記以外の電気設備 | D27: =木造_データ!AP102 -> 9602.64 | E27: =木造_データ!AQ102 -> 0 | F27: =木造_データ!AR102 -> 0 | J27: 金属製玄関ドア | K27: =木造_データ!AP38 -> 10092.8 | L27: =木造_データ!AQ38 -> 810 | M27: =木造_データ!AR38 -> 0
B28: 2.空調 | D28: =木造_データ!AP103 -> 47509 | E28: =木造_データ!AQ103 -> 0 | F28: =木造_データ!AR103 -> 0 | J28: 雨戸・シャッター | K28: =木造_データ!AP39 -> 1797.95 | L28: =木造_データ!AQ39 -> 790 | M28: =木造_データ!AR39 -> 0
C29: 空調機器 | D29: =木造_データ!AP104 -> 18150.91 | E29: =木造_データ!AQ104 -> 0 | F29: =木造_データ!AR104 -> 0 | J29: 上記以外の金属製建具 | K29: =木造_データ!AP40 -> 9294.95 | L29: =木造_データ!AQ40 -> 890 | M29: =木造_データ!AR40 -> 0
C30: ダクト | D30: =木造_データ!AP105 -> 770.38 | E30: =木造_データ!AQ105 -> 0 | F30: =木造_データ!AR105 -> 0 | I30: 6.木製建具 | K30: =木造_データ!AP41 -> 66332 | L30: =木造_データ!AQ41 -> 3805 | M30: =木造_データ!AR41 -> 0
C31: 空調配管 | D31: =木造_データ!AP106 -> 3617.52 | E31: =木造_データ!AQ106 -> 0 | F31: =木造_データ!AR106 -> 0 | J31: 木製ドア | K31: =木造_データ!AP42 -> 44403.08 | L31: =木造_データ!AQ42 -> 2204 | M31: =木造_データ!AR42 -> 0
C32: 自動制御 | D32: =木造_データ!AP107 -> 0 | E32: =木造_データ!AQ107 -> 0 | F32: =木造_データ!AR107 -> 0 | J32: 木製玄関ドア | K32: =木造_データ!AP43 -> 2042 | L32: =木造_データ!AQ43 -> 0 | M32: =木造_データ!AR43 -> 0
C33: 換気 | D33: =木造_データ!AP108 -> 12667.63 | E33: =木造_データ!AQ108 -> 0 | F33: =木造_データ!AR108 -> 0 | J33: ふすま | K33: =木造_データ!AP44 -> 3236 | L33: =木造_データ!AQ44 -> 0 | M33: =木造_データ!AR44 -> 0
C34: 床暖房 | D34: =木造_データ!AP109 -> 5380.28 | E34: =木造_データ!AQ109 -> 0 | F34: =木造_データ!AR109 -> 0 | J34: 障子 | K34: =木造_データ!AP45 -> 2298 | L34: =木造_データ!AQ45 -> 60 | M34: =木造_データ!AR45 -> 0
C35: パッシブソーラーシステム | D35: =木造_データ!AP110 -> 2416.45 | E35: =木造_データ!AQ110 -> 0 | F35: =木造_データ!AR110 -> 0 | J35: 木製建具金物 | K35: =木造_データ!AP46 -> 2266 | L35: =木造_データ!AQ46 -> 550 | M35: =木造_データ!AR46 -> 0
C36: 上記以外の空調設備 | D36: =木造_データ!AP111 -> 3307.83 | E36: =木造_データ!AQ111 -> 0 | F36: =木造_データ!AR111 -> 0 | J36: 上記以外の木製建具 | K36: =木造_データ!AP47 -> 12086.92 | L36: =木造_データ!AQ47 -> 991 | M36: =木造_データ!AR47 -> 0
B37: 3.衛生 | D37: =木造_データ!AP112 -> 108533 | E37: =木造_データ!AQ112 -> 0 | F37: =木造_データ!AR112 -> 0 | I37: 7.ガラス | K37: =木造_データ!AP48 -> 7697 | L37: =木造_データ!AQ48 -> 250 | M37: =木造_データ!AR48 -> 0
C38: 給水 | D38: =木造_データ!AP113 -> 18367 | E38: =木造_データ!AQ113 -> 0 | F38: =木造_データ!AR113 -> 0 | I38: 8.防水 | K38: =木造_データ!AP49 -> 9014 | L38: =木造_データ!AQ49 -> 30405 | M38: =木造_データ!AR49 -> 0
C39: 給湯 | D39: =木造_データ!AP114 -> 15835 | E39: =木造_データ!AQ114 -> 0 | F39: =木造_データ!AR114 -> 0 | I39: 9.石 | K39: =木造_データ!AP50 -> 321 | L39: =木造_データ!AQ50 -> 120 | M39: =木造_データ!AR50 -> 0
C40: 排水通気 | D40: =木造_データ!AP115 -> 22227 | E40: =木造_データ!AQ115 -> 0 | F40: =木造_データ!AR115 -> 0 | I40: 10.タイル | K40: =木造_データ!AP51 -> 13685 | L40: =木造_データ!AQ51 -> 656 | M40: =木造_データ!AR51 -> 0
C41: 衛生器具 | D41: =木造_データ!AP116 -> 24957 | E41: =木造_データ!AQ116 -> 0 | F41: =木造_データ!AR116 -> 0 | I41: 11.金属 | K41: =木造_データ!AP52 -> 5127 | L41: =木造_データ!AQ52 -> 6044 | M41: =木造_データ!AR52 -> 0
C42: 消火 | D42: =木造_データ!AP117 -> 134 | E42: =木造_データ!AQ117 -> 0 | F42: =木造_データ!AR117 -> 0 | I42: 12.左官 | K42: =木造_データ!AP53 -> 16188 | L42: =木造_データ!AQ53 -> 4585 | M42: =木造_データ!AR53 -> 0
...

Sheet 木造_合計（比率）
A2: =木造_合計!A2:M2 -> 表1-2 平成27年建築工事費投入調査集計表（木造_合計）
A4: （単位：％） | D4: =木造_合計!D4 -> 80 | E4: =木造_合計!E4 -> 7 | F4: =木造_合計!F4 -> 0 | K4: =木造_合計!K4 -> 80 | L4: =木造_合計!L4 -> 7 | M4: =木造_合計!M4 -> 0
D5: 建築工事・ 設備工事 一貫受注 | E5: 建築工事 のみ受注 | F5: 設備工事 のみ受注 | K5: 建築工事・ 設備工事 一貫受注 | L5: 建築工事 のみ受注 | M5: 設備工事 のみ受注
A6: 工事費内訳 | B6: 1.建築工事費 | D6: =IF(木造_合計!D$13>0,木造_合計!D6/木造_合計!D$13*100,0) -> 72.535239 | E6: =IF(木造_合計!E$13>0,木造_合計!E6/木造_合計!E$13*100,0) -> 84.809473 | F6: =IF(木造_合計!F$13>0,木造_合計!F6/木造_合計!F$13*100,0) -> 0 | H6: 建築工事費科目別内訳 | I6: 1.仮設 | K6: =IF(木造_合計!K$78>0,木造_合計!K6/木造_合計!K$78*100,0) -> 3.8552685 | L6: =IF(木造_合計!L$78>0,木造_合計!L6/木造_合計!L$78*100,0) -> 6.0466094 | M6: =IF(木造_合計!M$78>0,木造_合計!M6/木造_合計!M$78*100,0) -> 0
B7: 2.設備工事費 | D7: =IF(木造_合計!D$13>0,木造_合計!D7/木造_合計!D$13*100,0) -> 12.341291 | E7: =IF(木造_合計!E$13>0,木造_合計!E7/木造_合計!E$13*100,0) -> 0 | F7: =IF(木造_合計!F$13>0,木造_合計!F7/木造_合計!F$13*100,0) -> 0 | I7: 2.基礎 | K7: =IF(木造_合計!K$78>0,木造_合計!K7/木造_合計!K$78*100,0) -> 10.261095 | L7: =IF(木造_合計!L$78>0,木造_合計!L7/木造_合計!L$78*100,0) -> 52.747222 | M7: =IF(木造_合計!M$78>0,木造_合計!M7/木造_合計!M$78*100,0) -> 0
B8: 3.解体・撤去費 | D8: =IF(木造_合計!D$13>0,木造_合計!D8/木造_合計!D$13*100,0) -> 1.6223714 | E8: =IF(木造_合計!E$13>0,木造_合計!E8/木造_合計!E$13*100,0) -> 4.0509821 | F8: =IF(木造_合計!F$13>0,木造_合計!F8/木造_合計!F$13*100,0) -> 0 | I8: 3.木工 | K8: =IF(木造_合計!K$78>0,木造_合計!K8/木造_合計!K$78*100,0) -> 35.080028 | L8: =IF(木造_合計!L$78>0,木造_合計!L8/木造_合計!L$78*100,0) -> 11.824556 | M8: =IF(木造_合計!M$78>0,木造_合計!M8/木造_合計!M$78*100,0) -> 0
B9: 4.屋外施設費 | D9: =IF(木造_合計!D$13>0,木造_合計!D9/木造_合計!D$13*100,0) -> 2.8090156 | E9: =IF(木造_合計!E$13>0,木造_合計!E9/木造_合計!E$13*100,0) -> 0.612498 | F9: =IF(木造_合計!F$13>0,木造_合計!F9/木造_合計!F$13*100,0) -> 0 | J9: 構造材 | K9: =IF(木造_合計!K$78>0,木造_合計!K9/木造_合計!K$78*100,0) -> 10.971973 | L9: =IF(木造_合計!L$78>0,木造_合計!L9/木造_合計!L$78*100,0) -> 3.1191452 | M9: =IF(木造_合計!M$78>0,木造_合計!M9/木造_合計!M$78*100,0) -> 0
B10: 5.現場管理費 | D10: =IF(木造_合計!D$13>0,木造_合計!D10/木造_合計!D$13*100,0) -> 4.290458 | E10: =IF(木造_合計!E$13>0,木造_合計!E10/木造_合計!E$13*100,0) -> 6.7461306 | F10: =IF(木造_合計!F$13>0,木造_合計!F10/木造_合計!F$13*100,0) -> 0 | J10: 造作材 | K10: =IF(木造_合計!K$78>0,木造_合計!K10/木造_合計!K$78*100,0) -> 3.0845195 | L10: =IF(木造_合計!L$78>0,木造_合計!L10/木造_合計!L$78*100,0) -> 1.46265 | M10: =IF(木造_合計!M$78>0,木造_合計!M10/木造_合計!M$78*100,0) -> 0
B11: 6.工事原価 | D11: =IF(木造_合計!D$13>0,木造_合計!D11/木造_合計!D$13*100,0) -> 93.598375 | E11: =IF(木造_合計!E$13>0,木造_合計!E11/木造_合計!E$13*100,0) -> 96.219083 | F11: =IF(木造_合計!F$13>0,木造_合計!F11/木造_合計!F$13*100,0) -> 0 | J11: 板材 | K11: =IF(木造_合計!K$78>0,木造_合計!K11/木造_合計!K$78*100,0) -> 1.6612924 | L11: =IF(木造_合計!L$78>0,木造_合計!L11/木造_合計!L$78*100,0) -> 0.69036092 | M11: =IF(木造_合計!M$78>0,木造_合計!M11/木造_合計!M$78*100,0) -> 0
B12: 7.一般管理費等 | D12: =IF(木造_合計!D$13>0,木造_合計!D12/木造_合計!D$13*100,0) -> 6.4016253 | E12: =IF(木造_合計!E$13>0,木造_合計!E12/木造_合計!E$13*100,0) -> 3.7809166 | F12: =IF(木造_合計!F$13>0,木造_合計!F12/木造_合計!F$13*100,0) -> 0 | J12: 合板 | K12: =IF(木造_合計!K$78>0,木造_合計!K12/木造_合計!K$78*100,0) -> 1.5574202 | L12: =IF(木造_合計!L$78>0,木造_合計!L12/木造_合計!L$78*100,0) -> 0.78001818 | M12: =IF(木造_合計!M$78>0,木造_合計!M12/木造_合計!M$78*100,0) -> 0
A13: 8.工事価格 | D13: =IF(木造_合計!D$13>0,木造_合計!D13/木造_合計!D$13*100,0) -> 100 | E13: =IF(木造_合計!E$13>0,木造_合計!E13/木造_合計!E$13*100,0) -> 100 | F13: =IF(木造_合計!F$13>0,木造_合計!F13/木造_合計!F$13*100,0) -> 0 | J13: 釘・金物 | K13: =IF(木造_合計!K$78>0,木造_合計!K13/木造_合計!K$78*100,0) -> 1.0853691 | L13: =IF(木造_合計!L$78>0,木造_合計!L13/木造_合計!L$78*100,0) -> 0.58679132 | M13: =IF(木造_合計!M$78>0,木造_合計!M13/木造_合計!M$78*100,0) -> 0
J14: 大工手間（施工費） | K14: =IF(木造_合計!K$78>0,木造_合計!K14/木造_合計!K$78*100,0) -> 14.995419 | L14: =IF(木造_合計!L$78>0,木造_合計!L14/木造_合計!L$78*100,0) -> 4.4856456 | M14: =IF(木造_合計!M$78>0,木造_合計!M14/木造_合計!M$78*100,0) -> 0
A15: 設備工事費科目別内訳 | B15: 1.電気 | D15: =IF(木造_合計!D$49>0,木造_合計!D15/木造_合計!D$49*100,0) -> 35.515746 | E15: =IF(木造_合計!E$49>0,木造_合計!E15/木造_合計!E$49*100,0) -> 0 | F15: =IF(木造_合計!F$49>0,木造_合計!F15/木造_合計!F$49*100,0) -> 0 | J15: 上記以外の木工 | K15: =IF(木造_合計!K$78>0,木造_合計!K15/木造_合計!K$78*100,0) -> 1.7240352 | L15: =IF(木造_合計!L$78>0,木造_合計!L15/木造_合計!L$78*100,0) -> 0.69994497 | M15: =IF(木造_合計!M$78>0,木造_合計!M15/木造_合計!M$78*100,0) -> 0
C16: 受変電・電力引込 | D16: =IF(木造_合計!D$49>0,木造_合計!D16/木造_合計!D$49*100,0) -> 3.151103 | E16: =IF(木造_合計!E$49>0,木造_合計!E16/木造_合計!E$49*100,0) -> 0 | F16: =IF(木造_合計!F$49>0,木造_合計!F16/木造_合計!F$49*100,0) -> 0 | I16: 4.屋根 | K16: =IF(木造_合計!K$78>0,木造_合計!K16/木造_合計!K$78*100,0) -> 5.8058094 | L16: =IF(木造_合計!L$78>0,木造_合計!L16/木造_合計!L$78*100,0) -> 1.4416269 | M16: =IF(木造_合計!M$78>0,木造_合計!M16/木造_合計!M$78*100,0) -> 0
C17: 幹線・動力 | D17: =IF(木造_合計!D$49>0,木造_合計!D17/木造_合計!D$49*100,0) -> 4.3645981 | E17: =IF(木造_合計!E$49>0,木造_合計!E17/木造_合計!E$49*100,0) -> 0 | F17: =IF(木造_合計!F$49>0,木造_合計!F17/木造_合計!F$49*100,0) -> 0 | J17: 瓦 | K17: =IF(木造_合計!K$78>0,木造_合計!K17/木造_合計!K$78*100,0) -> 1.1567888 | L17: =IF(木造_合計!L$78>0,木造_合計!L17/木造_合計!L$78*100,0) -> 0.20250175 | M17: =IF(木造_合計!M$78>0,木造_合計!M17/木造_合計!M$78*100,0) -> 0
C18: 電灯コンセント | D18: =IF(木造_合計!D$49>0,木造_合計!D18/木造_合計!D$49*100,0) -> 8.8026323 | E18: =IF(木造_合計!E$49>0,木造_合計!E18/木造_合計!E$49*100,0) -> 0 | F18: =IF(木造_合計!F$49>0,木造_合計!F18/木造_合計!F$49*100,0) -> 0 | J18: セメント瓦 | K18: =IF(木造_合計!K$78>0,木造_合計!K18/木造_合計!K$78*100,0) -> 0.041926218 | L18: =IF(木造_合計!L$78>0,木造_合計!L18/木造_合計!L$78*100,0) -> 0 | M18: =IF(木造_合計!M$78>0,木造_合計!M18/木造_合計!M$78*100,0) -> 0
C19: 照明器具 | D19: =IF(木造_合計!D$49>0,木造_合計!D19/木造_合計!D$49*100,0) -> 8.0376972 | E19: =IF(木造_合計!E$49>0,木造_合計!E19/木造_合計!E$49*100,0) -> 0 | F19: =IF(木造_合計!F$49>0,木造_合計!F19/木造_合計!F$49*100,0) -> 0 | J19: 金属板葺き | K19: =IF(木造_合計!K$78>0,木造_合計!K19/木造_合計!K$78*100,0) -> 3.079564 | L19: =IF(木造_合計!L$78>0,木造_合計!L19/木造_合計!L$78*100,0) -> 0.8449424 | M19: =IF(木造_合計!M$78>0,木造_合計!M19/木造_合計!M$78*100,0) -> 0
C20: 電話・電話配管・IT設備 | D20: =IF(木造_合計!D$49>0,木造_合計!D20/木造_合計!D$49*100,0) -> 1.4441947 | E20: =IF(木造_合計!E$49>0,木造_合計!E20/木造_合計!E$49*100,0) -> 0 | F20: =IF(木造_合計!F$49>0,木造_合計!F20/木造_合計!F$49*100,0) -> 0 | J20: 化粧スレート | K20: =IF(木造_合計!K$78>0,木造_合計!K20/木造_合計!K$78*100,0) -> 0.37573249 | L20: =IF(木造_合計!L$78>0,木造_合計!L20/木造_合計!L$78*100,0) -> 0.2596969 | M20: =IF(木造_合計!M$78>0,木造_合計!M20/木造_合計!M$78*100,0) -> 0
C21: テレビ共聴 | D21: =IF(木造_合計!D$49>0,木造_合計!D21/木造_合計!D$49*100,0) -> 1.1618736 | E21: =IF(木造_合計!E$49>0,木造_合計!E21/木造_合計!E$49*100,0) -> 0 | F21: =IF(木造_合計!F$49>0,木造_合計!F21/木造_合計!F$49*100,0) -> 0 | J21: 雨どい | K21: =IF(木造_合計!K$78>0,木造_合計!K21/木造_合計!K$78*100,0) -> 0.84359855 | L21: =IF(木造_合計!L$78>0,木造_合計!L21/木造_合計!L$78*100,0) -> 0.13448589 | M21: =IF(木造_合計!M$78>0,木造_合計!M21/木造_合計!M$78*100,0) -> 0
C22: インターホン・拡声 | D22: =IF(木造_合計!D$49>0,木造_合計!D22/木造_合計!D$49*100,0) -> 0.7057782 | E22: =IF(木造_合計!E$49>0,木造_合計!E22/木造_合計!E$49*100,0) -> 0 | F22: =IF(木造_合計!F$49>0,木造_合計!F22/木造_合計!F$49*100,0) -> 0 | J22: 上記以外の屋根 | K22: =IF(木造_合計!K$78>0,木造_合計!K22/木造_合計!K$78*100,0) -> 0.30819935 | L22: =IF(木造_合計!L$78>0,木造_合計!L22/木造_合計!L$78*100,0) -> 0 | M22: =IF(木造_合計!M$78>0,木造_合計!M22/木造_合計!M$78*100,0) -> 0
C23: 防災 | D23: =IF(木造_合計!D$49>0,木造_合計!D23/木造_合計!D$49*100,0) -> 1.438075 | E23: =IF(木造_合計!E$49>0,木造_合計!E23/木造_合計!E$49*100,0) -> 0 | F23: =IF(木造_合計!F$49>0,木造_合計!F23/木造_合計!F$49*100,0) -> 0 | I23: 5.金属製建具 | K23: =IF(木造_合計!K$78>0,木造_合計!K23/木造_合計!K$78*100,0) -> 7.6314741 | L23: =IF(木造_合計!L$78>0,木造_合計!L23/木造_合計!L$78*100,0) -> 3.1815961 | M23: =IF(木造_合計!M$78>0,木造_合計!M23/木造_合計!M$78*100,0) -> 0
C24: 避雷針 | D24: =IF(木造_合計!D$49>0,木造_合計!D24/木造_合計!D$49*100,0) -> 0 | E24: =IF(木造_合計!E$49>0,木造_合計!E24/木造_合計!E$49*100,0) -> 0 | F24: =IF(木造_合計!F$49>0,木造_合計!F24/木造_合計!F$49*100,0) -> 0 | J24: アルミニウム製建具 | K24: =IF(木造_合計!K$78>0,木造_合計!K24/木造_合計!K$78*100,0) -> 5.1227938 | L24: =IF(木造_合計!L$78>0,木造_合計!L24/木造_合計!L$78*100,0) -> 1.4997496 | M24: =IF(木造_合計!M$78>0,木造_合計!M24/木造_合計!M$78*100,0) -> 0
C25: 蓄電池 | D25: =IF(木造_合計!D$49>0,木造_合計!D25/木造_合計!D$49*100,0) -> 0 | E25: =IF(木造_合計!E$49>0,木造_合計!E25/木造_合計!E$49*100,0) -> 0 | F25: =IF(木造_合計!F$49>0,木造_合計!F25/木造_合計!F$49*100,0) -> 0 | J25: 鋼製建具 | K25: =IF(木造_合計!K$78>0,木造_合計!K25/木造_合計!K$78*100,0) -> 0.92584751 | L25: =IF(木造_合計!L$78>0,木造_合計!L25/木造_合計!L$78*100,0) -> 0.91203077 | M25: =IF(木造_合計!M$78>0,木造_合計!M25/木造_合計!M$78*100,0) -> 0
C26: 屋外施設の電気設備（外灯、門灯） | D26: =IF(木造_合計!D$49>0,木造_合計!D26/木造_合計!D$49*100,0) -> 0.39144306 | E26: =IF(木造_合計!E$49>0,木造_合計!E26/木造_合計!E$49*100,0) -> 0 | F26: =IF(木造_合計!F$49>0,木造_合計!F26/木造_合計!F$49*100,0) -> 0 | J26: ステンレス製建具 | K26: =IF(木造_合計!K$78>0,木造_合計!K26/木造_合計!K$78*100,0) -> 0.11224287 | L26: =IF(木造_合計!L$78>0,木造_合計!L26/木造_合計!L$78*100,0) -> 0 | M26: =IF(木造_合計!M$78>0,木造_合計!M26/木造_合計!M$78*100,0) -> 0
C27: 上記以外の電気設備 | D27: =IF(木造_合計!D$49>0,木造_合計!D27/木造_合計!D$49*100,0) -> 3.91767 | E27: =IF(木造_合計!E$49>0,木造_合計!E27/木造_合計!E$49*100,0) -> 0 | F27: =IF(木造_合計!F$49>0,木造_合計!F27/木造_合計!F$49*100,0) -> 0 | J27: 金属製玄関ドア | K27: =IF(木造_合計!K$78>0,木造_合計!K27/木造_合計!K$78*100,0) -> 0.70058433 | L27: =IF(木造_合計!L$78>0,木造_合計!L27/木造_合計!L$78*100,0) -> 0.25042201 | M27: =IF(木造_合計!M$78>0,木造_合計!M27/木造_合計!M$78*100,0) -> 0
B28: 2.空調 | D28: =IF(木造_合計!D$49>0,木造_合計!D28/木造_合計!D$49*100,0) -> 19.382647 | E28: =IF(木造_合計!E$49>0,木造_合計!E28/木造_合計!E$49*100,0) -> 0 | F28: =IF(木造_合計!F$49>0,木造_合計!F28/木造_合計!F$49*100,0) -> 0 | J28: 雨戸・シャッター | K28: =IF(木造_合計!K$78>0,木造_合計!K28/木造_合計!K$78*100,0) -> 0.12480338 | L28: =IF(木造_合計!L$78>0,木造_合計!L28/木造_合計!L$78*100,0) -> 0.24423875 | M28: =IF(木造_合計!M$78>0,木造_合計!M28/木造_合計!M$78*100,0) -> 0
C29: 空調機器 | D29: =IF(木造_合計!D$49>0,木造_合計!D29/木造_合計!D$49*100,0) -> 7.4051797 | E29: =IF(木造_合計!E$49>0,木造_合計!E29/木造_合計!E$49*100,0) -> 0 | F29: =IF(木造_合計!F$49>0,木造_合計!F29/木造_合計!F$49*100,0) -> 0 | J29: 上記以外の金属製建具 | K29: =IF(木造_合計!K$78>0,木造_合計!K29/木造_合計!K$78*100,0) -> 0.64520216 | L29: =IF(木造_合計!L$78>0,木造_合計!L29/木造_合計!L$78*100,0) -> 0.27515505 | M29: =IF(木造_合計!M$78>0,木造_合計!M29/木造_合計!M$78*100,0) -> 0
C30: ダクト | D30: =IF(木造_合計!D$49>0,木造_合計!D30/木造_合計!D$49*100,0) -> 0.31429842 | E30: =IF(木造_合計!E$49>0,木造_合計!E30/木造_合計!E$49*100,0) -> 0 | F30: =IF(木造_合計!F$49>0,木造_合計!F30/木造_合計!F$49*100,0) -> 0 | I30: 6.木製建具 | K30: =IF(木造_合計!K$78>0,木造_合計!K30/木造_合計!K$78*100,0) -> 4.6043873 | L30: =IF(木造_合計!L$78>0,木造_合計!L30/木造_合計!L$78*100,0) -> 1.1763651 | M30: =IF(木造_合計!M$78>0,木造_合計!M30/木造_合計!M$78*100,0) -> 0
C31: 空調配管 | D31: =IF(木造_合計!D$49>0,木造_合計!D31/木造_合計!D$49*100,0) -> 1.4758701 | E31: =IF(木造_合計!E$49>0,木造_合計!E31/木造_合計!E$49*100,0) -> 0 | F31: =IF(木造_合計!F$49>0,木造_合計!F31/木造_合計!F$49*100,0) -> 0 | J31: 木製ドア | K31: =IF(木造_合計!K$78>0,木造_合計!K31/木造_合計!K$78*100,0) -> 3.0822073 | L31: =IF(木造_合計!L$78>0,木造_合計!L31/木造_合計!L$78*100,0) -> 0.68139519 | M31: =IF(木造_合計!M$78>0,木造_合計!M31/木造_合計!M$78*100,0) -> 0
C32: 自動制御 | D32: =IF(木造_合計!D$49>0,木造_合計!D32/木造_合計!D$49*100,0) -> 0 | E32: =IF(木造_合計!E$49>0,木造_合計!E32/木造_合計!E$49*100,0) -> 0 | F32: =IF(木造_合計!F$49>0,木造_合計!F32/木造_合計!F$49*100,0) -> 0 | J32: 木製玄関ドア | K32: =IF(木造_合計!K$78>0,木造_合計!K32/木造_合計!K$78*100,0) -> 0.14174394 | L32: =IF(木造_合計!L$78>0,木造_合計!L32/木造_合計!L$78*100,0) -> 0 | M32: =IF(木造_合計!M$78>0,木造_合計!M32/木造_合計!M$78*100,0) -> 0
C33: 換気 | D33: =IF(木造_合計!D$49>0,木造_合計!D33/木造_合計!D$49*100,0) -> 5.1681197 | E33: =IF(木造_合計!E$49>0,木造_合計!E33/木造_合計!E$49*100,0) -> 0 | F33: =IF(木造_合計!F$49>0,木造_合計!F33/木造_合計!F$49*100,0) -> 0 | J33: ふすま | K33: =IF(木造_合計!K$78>0,木造_合計!K33/木造_合計!K$78*100,0) -> 0.22462457 | L33: =IF(木造_合計!L$78>0,木造_合計!L33/木造_合計!L$78*100,0) -> 0 | M33: =IF(木造_合計!M$78>0,木造_合計!M33/木造_合計!M$78*100,0) -> 0
C34: 床暖房 | D34: =IF(木造_合計!D$49>0,木造_合計!D34/木造_合計!D$49*100,0) -> 2.1950382 | E34: =IF(木造_合計!E$49>0,木造_合計!E34/木造_合計!E$49*100,0) -> 0 | F34: =IF(木造_合計!F$49>0,木造_合計!F34/木造_合計!F$49*100,0) -> 0 | J34: 障子 | K34: =IF(木造_合計!K$78>0,木造_合計!K34/木造_合計!K$78*100,0) -> 0.15951399 | L34: =IF(木造_合計!L$78>0,木造_合計!L34/木造_合計!L$78*100,0) -> 0.018549778 | M34: =IF(木造_合計!M$78>0,木造_合計!M34/木造_合計!M$78*100,0) -> 0
C35: パッシブソーラーシステム | D35: =IF(木造_合計!D$49>0,木造_合計!D35/木造_合計!D$49*100,0) -> 0.98585947 | E35: =IF(木造_合計!E$49>0,木造_合計!E35/木造_合計!E$49*100,0) -> 0 | F35: =IF(木造_合計!F$49>0,木造_合計!F35/木造_合計!F$49*100,0) -> 0 | J35: 木製建具金物 | K35: =IF(木造_合計!K$78>0,木造_合計!K35/木造_合計!K$78*100,0) -> 0.15729273 | L35: =IF(木造_合計!L$78>0,木造_合計!L35/木造_合計!L$78*100,0) -> 0.17003963 | M35: =IF(木造_合計!M$78>0,木造_合計!M35/木造_合計!M$78*100,0) -> 0
C36: 上記以外の空調設備 | D36: =IF(木造_合計!D$49>0,木造_合計!D36/木造_合計!D$49*100,0) -> 1.3495233 | E36: =IF(木造_合計!E$49>0,木造_合計!E36/木造_合計!E$49*100,0) -> 0 | F36: =IF(木造_合計!F$49>0,木造_合計!F36/木造_合計!F$49*100,0) -> 0 | J36: 上記以外の木製建具 | K36: =IF(木造_合計!K$78>0,木造_合計!K36/木造_合計!K$78*100,0) -> 0.83900471 | L36: =IF(木造_合計!L$78>0,木造_合計!L36/木造_合計!L$78*100,0) -> 0.30638051 | M36: =IF(木造_合計!M$78>0,木造_合計!M36/木造_合計!M$78*100,0) -> 0
B37: 3.衛生 | D37: =IF(木造_合計!D$49>0,木造_合計!D37/木造_合計!D$49*100,0) -> 44.279123 | E37: =IF(木造_合計!E$49>0,木造_合計!E37/木造_合計!E$49*100,0) -> 0 | F37: =IF(木造_合計!F$49>0,木造_合計!F37/木造_合計!F$49*100,0) -> 0 | I37: 7.ガラス | K37: =IF(木造_合計!K$78>0,木造_合計!K37/木造_合計!K$78*100,0) -> 0.53428162 | L37: =IF(木造_合計!L$78>0,木造_合計!L37/木造_合計!L$78*100,0) -> 0.077290743 | M37: =IF(木造_合計!M$78>0,木造_合計!M37/木造_合計!M$78*100,0) -> 0
C38: 給水 | D38: =IF(木造_合計!D$49>0,木造_合計!D38/木造_合計!D$49*100,0) -> 7.4933398 | E38: =IF(木造_合計!E$49>0,木造_合計!E38/木造_合計!E$49*100,0) -> 0 | F38: =IF(木造_合計!F$49>0,木造_合計!F38/木造_合計!F$49*100,0) -> 0 | I38: 8.防水 | K38: =IF(木造_合計!K$78>0,木造_合計!K38/木造_合計!K$78*100,0) -> 0.62570022 | L38: =IF(木造_合計!L$78>0,木造_合計!L38/木造_合計!L$78*100,0) -> 9.4001002 | M38: =IF(木造_合計!M$78>0,木造_合計!M38/木造_合計!M$78*100,0) -> 0
C39: 給湯 | D39: =IF(木造_合計!D$49>0,木造_合計!D39/木造_合計!D$49*100,0) -> 6.4603384 | E39: =IF(木造_合計!E$49>0,木造_合計!E39/木造_合計!E$49*100,0) -> 0 | F39: =IF(木造_合計!F$49>0,木造_合計!F39/木造_合計!F$49*100,0) -> 0 | I39: 9.石 | K39: =IF(木造_合計!K$78>0,木造_合計!K39/木造_合計!K$78*100,0) -> 0.02228198 | L39: =IF(木造_合計!L$78>0,木造_合計!L39/木造_合計!L$78*100,0) -> 0.037099557 | M39: =IF(木造_合計!M$78>0,木造_合計!M39/木造_合計!M$78*100,0) -> 0
C40: 排水通気 | D40: =IF(木造_合計!D$49>0,木造_合計!D40/木造_合計!D$49*100,0) -> 9.0681365 | E40: =IF(木造_合計!E$49>0,木造_合計!E40/木造_合計!E$49*100,0) -> 0 | F40: =IF(木造_合計!F$49>0,木造_合計!F40/木造_合計!F$49*100,0) -> 0 | I40: 10.タイル | K40: =IF(木造_合計!K$78>0,木造_合計!K40/木造_合計!K$78*100,0) -> 0.94993426 | L40: =IF(木造_合計!L$78>0,木造_合計!L40/木造_合計!L$78*100,0) -> 0.20281091 | M40: =IF(木造_合計!M$78>0,木造_合計!M40/木造_合計!M$78*100,0) -> 0
C41: 衛生器具 | D41: =IF(木造_合計!D$49>0,木造_合計!D41/木造_合計!D$49*100,0) -> 10.181918 | E41: =IF(木造_合計!E$49>0,木造_合計!E41/木造_合計!E$49*100,0) -> 0 | F41: =IF(木造_合計!F$49>0,木造_合計!F41/木造_合計!F$49*100,0) -> 0 | I41: 11.金属 | K41: =IF(木造_合計!K$78>0,木造_合計!K41/木造_合計!K$78*100,0) -> 0.35588695 | L41: =IF(木造_合計!L$78>0,木造_合計!L41/木造_合計!L$78*100,0) -> 1.868581 | M41: =IF(木造_合計!M$78>0,木造_合計!M41/木造_合計!M$78*100,0) -> 0
C42: 消火 | D42: =IF(木造_合計!D$49>0,木造_合計!D42/木造_合計!D$49*100,0) -> 0.054669109 | E42: =IF(木造_合計!E$49>0,木造_合計!E42/木造_合計!E$49*100,0) -> 0 | F42: =IF(木造_合計!F$49>0,木造_合計!F42/木造_合計!F$49*100,0) -> 0 | I42: 12.左官 | K42: =IF(木造_合計!K$78>0,木造_合計!K42/木造_合計!K$78*100,0) -> 1.1236782 | L42: =IF(木造_合計!L$78>0,木造_合計!L42/木造_合計!L$78*100,0) -> 1.4175122 | M42: =IF(木造_合計!M$78>0,木造_合計!M42/木造_合計!M$78*100,0) -> 0
...

Sheet 木造_居住専用
A2: 表1-2 平成27年建築工事費投入調査集計表（木造_居住専用住宅）
A4: （単位：千円） | D4: =木造_データ!I4 -> 71 | E4: =木造_データ!J4 -> 4 | F4: =木造_データ!K4 -> 0 | K4: =D4 -> 71 | L4: =E4 -> 4 | M4: =F4 -> 0
D5: 建築工事・ 設備工事 一貫受注 | E5: 建築工事 のみ受注 | F5: 設備工事 のみ受注 | K5: 建築工事・ 設備工事 一貫受注 | L5: 建築工事 のみ受注 | M5: 設備工事 のみ受注
A6: 工事費内訳 | B6: 1.建築工事費 | D6: =木造_データ!I9 -> 1174254 | E6: =木造_データ!J9 -> 56827 | F6: =木造_データ!K9 -> 0 | H6: 建築工事費科目別内訳 | I6: 1.仮設 | K6: =木造_データ!I17 -> 44939 | L6: =木造_データ!J17 -> 3178 | M6: =木造_データ!K17 -> 0
B7: 2.設備工事費 | D7: =木造_データ!I10 -> 178906 | E7: =木造_データ!J10 -> 0 | F7: =木造_データ!K10 -> 0 | I7: 2.基礎 | K7: =木造_データ!I18 -> 111651 | L7: =木造_データ!J18 -> 5655 | M7: =木造_データ!K18 -> 0
B8: 3.解体・撤去費 | D8: =木造_データ!I11 -> 30322 | E8: =木造_データ!J11 -> 1250 | F8: =木造_データ!K11 -> 0 | I8: 3.木工 | K8: =木造_データ!I19 -> 419550 | L8: =木造_データ!J19 -> 18266 | M8: =木造_データ!K19 -> 0
B9: 4.屋外施設費 | D9: =木造_データ!I12 -> 38834 | E9: =木造_データ!J12 -> 1950 | F9: =木造_データ!K12 -> 0 | J9: 構造材 | K9: =木造_データ!I20 -> 129195.09 | L9: =木造_データ!J20 -> 5139 | M9: =木造_データ!K20 -> 0
B10: 5.現場管理費 | D10: =木造_データ!I13 -> 62236 | E10: =木造_データ!J13 -> 1470 | F10: =木造_データ!K13 -> 0 | J10: 造作材 | K10: =木造_データ!I21 -> 37646.39 | L10: =木造_データ!J21 -> 2250 | M10: =木造_データ!K21 -> 0
B11: 6.工事原価 | D11: =木造_データ!I14 -> 1484552 | E11: =木造_データ!J14 -> 61497 | F11: =木造_データ!K14 -> 0 | J11: 板材 | K11: =木造_データ!I22 -> 20880.01 | L11: =木造_データ!J22 -> 599 | M11: =木造_データ!K22 -> 0
B12: 7.一般管理費等 | D12: =木造_データ!I15 -> 82947 | E12: =木造_データ!J15 -> 7550 | F12: =木造_データ!K15 -> 0 | J12: 合板 | K12: =木造_データ!I23 -> 19067.6 | L12: =木造_データ!J23 -> 1650 | M12: =木造_データ!K23 -> 0
A13: 8.工事価格 | D13: =木造_データ!I16 -> 1567499 | E13: =木造_データ!J16 -> 69047 | F13: =木造_データ!K16 -> 0 | J13: 釘・金物 | K13: =木造_データ!I24 -> 13147.11 | L13: =木造_データ!J24 -> 1449 | M13: =木造_データ!K24 -> 0
J14: 大工手間（施工費） | K14: =木造_データ!I25 -> 178930.9 | L14: =木造_データ!J25 -> 7029 | M14: =木造_データ!K25 -> 0
A15: 設備工事費科目別内訳 | B15: 1.電気 | D15: =木造_データ!I90 -> 62171 | E15: =木造_データ!J90 -> 0 | F15: =木造_データ!K90 -> 0 | J15: 上記以外の木工 | K15: =木造_データ!I26 -> 20682.9 | L15: =木造_データ!J26 -> 150 | M15: =木造_データ!K26 -> 0
C16: 受変電・電力引込 | D16: =木造_データ!I91 -> 4843.7 | E16: =木造_データ!J91 -> 0 | F16: =木造_データ!K91 -> 0 | I16: 4.屋根 | K16: =木造_データ!I27 -> 67946 | L16: =木造_データ!J27 -> 4053 | M16: =木造_データ!K27 -> 0
C17: 幹線・動力 | D17: =木造_データ!I92 -> 5620.11 | E17: =木造_データ!J92 -> 0 | F17: =木造_データ!K92 -> 0 | J17: 瓦 | K17: =木造_データ!I28 -> 15835 | L17: =木造_データ!J28 -> 655 | M17: =木造_データ!K28 -> 0
C18: 電灯コンセント | D18: =木造_データ!I93 -> 16076.22 | E18: =木造_データ!J93 -> 0 | F18: =木造_データ!K93 -> 0 | J18: セメント瓦 | K18: =木造_データ!I29 -> 604 | L18: =木造_データ!J29 -> 0 | M18: =木造_データ!K29 -> 0
C19: 照明器具 | D19: =木造_データ!I94 -> 13901.28 | E19: =木造_データ!J94 -> 0 | F19: =木造_データ!K94 -> 0 | J19: 金属板葺き | K19: =木造_データ!I30 -> 33618 | L19: =木造_データ!J30 -> 2123 | M19: =木造_データ!K30 -> 0
C20: 電話・電話配管・IT設備 | D20: =木造_データ!I95 -> 2221.88 | E20: =木造_データ!J95 -> 0 | F20: =木造_データ!K95 -> 0 | J20: 化粧スレート | K20: =木造_データ!I31 -> 3123.9 | L20: =木造_データ!J31 -> 840 | M20: =木造_データ!K31 -> 0
C21: テレビ共聴 | D21: =木造_データ!I96 -> 2320.88 | E21: =木造_データ!J96 -> 0 | F21: =木造_データ!K96 -> 0 | J21: 雨どい | K21: =木造_データ!I32 -> 10460.1 | L21: =木造_データ!J32 -> 435 | M21: =木造_データ!K32 -> 0
C22: インターホン・拡声 | D22: =木造_データ!I97 -> 1338.94 | E22: =木造_データ!J97 -> 0 | F22: =木造_データ!K97 -> 0 | J22: 上記以外の屋根 | K22: =木造_データ!I33 -> 4305 | L22: =木造_データ!J33 -> 0 | M22: =木造_データ!K33 -> 0
C23: 防災 | D23: =木造_データ!I98 -> 739.88 | E23: =木造_データ!J98 -> 0 | F23: =木造_データ!K98 -> 0 | I23: 5.金属製建具 | K23: =木造_データ!I34 -> 84739 | L23: =木造_データ!J34 -> 5530 | M23: =木造_データ!K34 -> 0
C24: 避雷針 | D24: =木造_データ!I99 -> 0 | E24: =木造_データ!J99 -> 0 | F24: =木造_データ!K99 -> 0 | J24: アルミニウム製建具 | K24: =木造_データ!I35 -> 54383.3 | L24: =木造_データ!J35 -> 3040 | M24: =木造_データ!K35 -> 0
C25: 蓄電池 | D25: =木造_データ!I100 -> 0 | E25: =木造_データ!J100 -> 0 | F25: =木造_データ!K100 -> 0 | J25: 鋼製建具 | K25: =木造_データ!I36 -> 9438 | L25: =木造_データ!J36 -> 350 | M25: =木造_データ!K36 -> 0
C26: 屋外施設の電気設備（外灯、門灯） | D26: =木造_データ!I101 -> 845.47 | E26: =木造_データ!J101 -> 0 | F26: =木造_データ!K101 -> 0 | J26: ステンレス製建具 | K26: =木造_データ!I37 -> 1617 | L26: =木造_データ!J37 -> 0 | M26: =木造_データ!K37 -> 0
C27: 上記以外の電気設備 | D27: =木造_データ!I102 -> 9113.64 | E27: =木造_データ!J102 -> 0 | F27: =木造_データ!K102 -> 0 | J27: 金属製玄関ドア | K27: =木造_データ!I38 -> 8887.8 | L27: =木造_データ!J38 -> 810 | M27: =木造_データ!K38 -> 0
B28: 2.空調 | D28: =木造_データ!I103 -> 30585 | E28: =木造_データ!J103 -> 0 | F28: =木造_データ!K103 -> 0 | J28: 雨戸・シャッター | K28: =木造_データ!I39 -> 1647.95 | L28: =木造_データ!J39 -> 790 | M28: =木造_データ!K39 -> 0
C29: 空調機器 | D29: =木造_データ!I104 -> 11223.91 | E29: =木造_データ!J104 -> 0 | F29: =木造_データ!K104 -> 0 | J29: 上記以外の金属製建具 | K29: =木造_データ!I40 -> 8764.95 | L29: =木造_データ!J40 -> 540 | M29: =木造_データ!K40 -> 0
C30: ダクト | D30: =木造_データ!I105 -> 267.38 | E30: =木造_データ!J105 -> 0 | F30: =木造_データ!K105 -> 0 | I30: 6.木製建具 | K30: =木造_データ!I41 -> 53464 | L30: =木造_データ!J41 -> 1324 | M30: =木造_データ!K41 -> 0
C31: 空調配管 | D31: =木造_データ!I106 -> 680.52 | E31: =木造_データ!J106 -> 0 | F31: =木造_データ!K106 -> 0 | J31: 木製ドア | K31: =木造_データ!I42 -> 34498.08 | L31: =木造_データ!J42 -> 714 | M31: =木造_データ!K42 -> 0
C32: 自動制御 | D32: =木造_データ!I107 -> 0 | E32: =木造_データ!J107 -> 0 | F32: =木造_データ!K107 -> 0 | J32: 木製玄関ドア | K32: =木造_データ!I43 -> 1453 | L32: =木造_データ!J43 -> 0 | M32: =木造_データ!K43 -> 0
C33: 換気 | D33: =木造_データ!I108 -> 6860.63 | E33: =木造_データ!J108 -> 0 | F33: =木造_データ!K108 -> 0 | J33: ふすま | K33: =木造_データ!I44 -> 3206 | L33: =木造_データ!J44 -> 0 | M33: =木造_データ!K44 -> 0
C34: 床暖房 | D34: =木造_データ!I109 -> 4630.28 | E34: =木造_データ!J109 -> 0 | F34: =木造_データ!K109 -> 0 | J34: 障子 | K34: =木造_データ!I45 -> 2285 | L34: =木造_データ!J45 -> 60 | M34: =木造_データ!K45 -> 0
C35: パッシブソーラーシステム | D35: =木造_データ!I110 -> 2416.45 | E35: =木造_データ!J110 -> 0 | F35: =木造_データ!K110 -> 0 | J35: 木製建具金物 | K35: =木造_データ!I46 -> 1657 | L35: =木造_データ!J46 -> 450 | M35: =木造_データ!K46 -> 0
C36: 上記以外の空調設備 | D36: =木造_データ!I111 -> 3307.83 | E36: =木造_データ!J111 -> 0 | F36: =木造_データ!K111 -> 0 | J36: 上記以外の木製建具 | K36: =木造_データ!I47 -> 10364.92 | L36: =木造_データ!J47 -> 100 | M36: =木造_データ!K47 -> 0
B37: 3.衛生 | D37: =木造_データ!I112 -> 84134 | E37: =木造_データ!J112 -> 0 | F37: =木造_データ!K112 -> 0 | I37: 7.ガラス | K37: =木造_データ!I48 -> 4381 | L37: =木造_データ!J48 -> 180 | M37: =木造_データ!K48 -> 0
C38: 給水 | D38: =木造_データ!I113 -> 15091 | E38: =木造_データ!J113 -> 0 | F38: =木造_データ!K113 -> 0 | I38: 8.防水 | K38: =木造_データ!I49 -> 7239 | L38: =木造_データ!J49 -> 145 | M38: =木造_データ!K49 -> 0
C39: 給湯 | D39: =木造_データ!I114 -> 11944 | E39: =木造_データ!J114 -> 0 | F39: =木造_データ!K114 -> 0 | I39: 9.石 | K39: =木造_データ!I50 -> 201 | L39: =木造_データ!J50 -> 120 | M39: =木造_データ!K50 -> 0
C40: 排水通気 | D40: =木造_データ!I115 -> 15114 | E40: =木造_データ!J115 -> 0 | F40: =木造_データ!K115 -> 0 | I40: 10.タイル | K40: =木造_データ!I51 -> 8968 | L40: =木造_データ!J51 -> 506 | M40: =木造_データ!K51 -> 0
C41: 衛生器具 | D41: =木造_データ!I116 -> 15956 | E41: =木造_データ!J116 -> 0 | F41: =木造_データ!K116 -> 0 | I41: 11.金属 | K41: =木造_データ!I52 -> 2275 | L41: =木造_データ!J52 -> 80 | M41: =木造_データ!K52 -> 0
C42: 消火 | D42: =木造_データ!I117 -> 0 | E42: =木造_データ!J117 -> 0 | F42: =木造_データ!K117 -> 0 | I42: 12.左官 | K42: =木造_データ!I53 -> 13543 | L42: =木造_データ!J53 -> 535 | M42: =木造_データ!K53 -> 0
...

Sheet 木造_居住専用（比率）
A2: =木造_居住専用!A2:M2 -> 表1-2 平成27年建築工事費投入調査集計表（木造_居住専用住宅）
A4: （単位：％） | D4: =木造_居住専用!D4 -> 71 | E4: =木造_居住専用!E4 -> 4 | F4: =木造_居住専用!F4 -> 0 | K4: =木造_居住専用!K4 -> 71 | L4: =木造_居住専用!L4 -> 4 | M4: =木造_居住専用!M4 -> 0
D5: 建築工事・設備工事 一貫受注 | E5: 建築工事 のみ受注 | F5: 設備工事 のみ受注 | K5: 建築工事・設備工事 一貫受注 | L5: 建築工事 のみ受注 | M5: 設備工事 のみ受注
A6: 工事費内訳 | B6: 1.建築工事費 | D6: =IF(木造_居住専用!D$13>0,木造_居住専用!D6/木造_居住専用!D$13*100,0) -> 74.912584 | E6: =IF(木造_居住専用!E$13>0,木造_居住専用!E6/木造_居住専用!E$13*100,0) -> 82.30191 | F6: =IF(木造_居住専用!F$13>0,木造_居住専用!F6/木造_居住専用!F$13*100,0) -> 0 | H6: 建築工事費科目別内訳 | I6: 1.仮設 | K6: =IF(木造_居住専用!K$78>0,木造_居住専用!K6/木造_居住専用!K$78*100,0) -> 3.8270255 | L6: =IF(木造_居住専用!L$78>0,木造_居住専用!L6/木造_居住専用!L$78*100,0) -> 5.5924121 | M6: =IF(木造_居住専用!M$78>0,木造_居住専用!M6/木造_居住専用!M$78*100,0) -> 0
B7: 2.設備工事費 | D7: =IF(木造_居住専用!D$13>0,木造_居住専用!D7/木造_居住専用!D$13*100,0) -> 11.413468 | E7: =IF(木造_居住専用!E$13>0,木造_居住専用!E7/木造_居住専用!E$13*100,0) -> 0 | F7: =IF(木造_居住専用!F$13>0,木造_居住専用!F7/木造_居住専用!F$13*100,0) -> 0 | I7: 2.基礎 | K7: =IF(木造_居住専用!K$78>0,木造_居住専用!K7/木造_居住専用!K$78*100,0) -> 9.5082495 | L7: =IF(木造_居住専用!L$78>0,木造_居住専用!L7/木造_居住専用!L$78*100,0) -> 9.9512556 | M7: =IF(木造_居住専用!M$78>0,木造_居住専用!M7/木造_居住専用!M$78*100,0) -> 0
B8: 3.解体・撤去費 | D8: =IF(木造_居住専用!D$13>0,木造_居住専用!D8/木造_居住専用!D$13*100,0) -> 1.9344191 | E8: =IF(木造_居住専用!E$13>0,木造_居住専用!E8/木造_居住専用!E$13*100,0) -> 1.8103611 | F8: =IF(木造_居住専用!F$13>0,木造_居住専用!F8/木造_居住専用!F$13*100,0) -> 0 | I8: 3.木工 | K8: =IF(木造_居住専用!K$78>0,木造_居住専用!K8/木造_居住専用!K$78*100,0) -> 35.729067 | L8: =IF(木造_居住専用!L$78>0,木造_居住専用!L8/木造_居住専用!L$78*100,0) -> 32.143171 | M8: =IF(木造_居住専用!M$78>0,木造_居住専用!M8/木造_居住専用!M$78*100,0) -> 0
B9: 4.屋外施設費 | D9: =IF(木造_居住専用!D$13>0,木造_居住専用!D9/木造_居住専用!D$13*100,0) -> 2.4774497 | E9: =IF(木造_居住専用!E$13>0,木造_居住専用!E9/木造_居住専用!E$13*100,0) -> 2.8241633 | F9: =IF(木造_居住専用!F$13>0,木造_居住専用!F9/木造_居住専用!F$13*100,0) -> 0 | J9: 構造材 | K9: =IF(木造_居住専用!K$78>0,木造_居住専用!K9/木造_居住専用!K$78*100,0) -> 11.002312 | L9: =IF(木造_居住専用!L$78>0,木造_居住専用!L9/木造_居住専用!L$78*100,0) -> 9.0432365 | M9: =IF(木造_居住専用!M$78>0,木造_居住専用!M9/木造_居住専用!M$78*100,0) -> 0
B10: 5.現場管理費 | D10: =IF(木造_居住専用!D$13>0,木造_居住専用!D10/木造_居住専用!D$13*100,0) -> 3.9704013 | E10: =IF(木造_居住専用!E$13>0,木造_居住専用!E10/木造_居住専用!E$13*100,0) -> 2.1289846 | F10: =IF(木造_居住専用!F$13>0,木造_居住専用!F10/木造_居住専用!F$13*100,0) -> 0 | J10: 造作材 | K10: =IF(木造_居住専用!K$78>0,木造_居住専用!K10/木造_居住専用!K$78*100,0) -> 3.2059835 | L10: =IF(木造_居住専用!L$78>0,木造_居住専用!L10/木造_居住専用!L$78*100,0) -> 3.9593855 | M10: =IF(木造_居住専用!M$78>0,木造_居住専用!M10/木造_居住専用!M$78*100,0) -> 0
B11: 6.工事原価 | D11: =IF(木造_居住専用!D$13>0,木造_居住専用!D11/木造_居住専用!D$13*100,0) -> 94.708322 | E11: =IF(木造_居住専用!E$13>0,木造_居住専用!E11/木造_居住専用!E$13*100,0) -> 89.065419 | F11: =IF(木造_居住専用!F$13>0,木造_居住専用!F11/木造_居住専用!F$13*100,0) -> 0 | J11: 板材 | K11: =IF(木造_居住専用!K$78>0,木造_居住専用!K11/木造_居住専用!K$78*100,0) -> 1.7781511 | L11: =IF(木造_居住専用!L$78>0,木造_居住専用!L11/木造_居住専用!L$78*100,0) -> 1.0540764 | M11: =IF(木造_居住専用!M$78>0,木造_居住専用!M11/木造_居住専用!M$78*100,0) -> 0
B12: 7.一般管理費等 | D12: =IF(木造_居住専用!D$13>0,木造_居住専用!D12/木造_居住専用!D$13*100,0) -> 5.291678 | E12: =IF(木造_居住専用!E$13>0,木造_居住専用!E12/木造_居住専用!E$13*100,0) -> 10.934581 | F12: =IF(木造_居住専用!F$13>0,木造_居住専用!F12/木造_居住専用!F$13*100,0) -> 0 | J12: 合板 | K12: =IF(木造_居住専用!K$78>0,木造_居住専用!K12/木造_居住専用!K$78*100,0) -> 1.6238054 | L12: =IF(木造_居住専用!L$78>0,木造_居住専用!L12/木造_居住専用!L$78*100,0) -> 2.9035494 | M12: =IF(木造_居住専用!M$78>0,木造_居住専用!M12/木造_居住専用!M$78*100,0) -> 0
A13: 8.工事価格 | D13: =IF(木造_居住専用!D$13>0,木造_居住専用!D13/木造_居住専用!D$13*100,0) -> 100 | E13: =IF(木造_居住専用!E$13>0,木造_居住専用!E13/木造_居住専用!E$13*100,0) -> 100 | F13: =IF(木造_居住専用!F$13>0,木造_居住専用!F13/木造_居住専用!F$13*100,0) -> 0 | J13: 釘・金物 | K13: =IF(木造_居住専用!K$78>0,木造_居住専用!K13/木造_居住専用!K$78*100,0) -> 1.1196138 | L13: =IF(木造_居住専用!L$78>0,木造_居住専用!L13/木造_居住専用!L$78*100,0) -> 2.5498443 | M13: =IF(木造_居住専用!M$78>0,木造_居住専用!M13/木造_居住専用!M$78*100,0) -> 0
J14: 大工手間（施工費） | K14: =IF(木造_居住専用!K$78>0,木造_居住専用!K14/木造_居住専用!K$78*100,0) -> 15.237836 | L14: =IF(木造_居住専用!L$78>0,木造_居住専用!L14/木造_居住専用!L$78*100,0) -> 12.36912 | M14: =IF(木造_居住専用!M$78>0,木造_居住専用!M14/木造_居住専用!M$78*100,0) -> 0
A15: 設備工事費科目別内訳 | B15: 1.電気 | D15: =IF(木造_居住専用!D$49>0,木造_居住専用!D15/木造_居住専用!D$49*100,0) -> 34.750651 | E15: =IF(木造_居住専用!E$49>0,木造_居住専用!E15/木造_居住専用!E$49*100,0) -> 0 | F15: =IF(木造_居住専用!F$49>0,木造_居住専用!F15/木造_居住専用!F$49*100,0) -> 0 | J15: 上記以外の木工 | K15: =IF(木造_居住専用!K$78>0,木造_居住専用!K15/木造_居住専用!K$78*100,0) -> 1.7613651 | L15: =IF(木造_居住専用!L$78>0,木造_居住専用!L15/木造_居住専用!L$78*100,0) -> 0.26395903 | M15: =IF(木造_居住専用!M$78>0,木造_居住専用!M15/木造_居住専用!M$78*100,0) -> 0
C16: 受変電・電力引込 | D16: =IF(木造_居住専用!D$49>0,木造_居住専用!D16/木造_居住専用!D$49*100,0) -> 2.7073994 | E16: =IF(木造_居住専用!E$49>0,木造_居住専用!E16/木造_居住専用!E$49*100,0) -> 0 | F16: =IF(木造_居住専用!F$49>0,木造_居住専用!F16/木造_居住専用!F$49*100,0) -> 0 | I16: 4.屋根 | K16: =IF(木造_居住専用!K$78>0,木造_居住専用!K16/木造_居住専用!K$78*100,0) -> 5.786312 | L16: =IF(木造_居住専用!L$78>0,木造_居住専用!L16/木造_居住専用!L$78*100,0) -> 7.1321731 | M16: =IF(木造_居住専用!M$78>0,木造_居住専用!M16/木造_居住専用!M$78*100,0) -> 0
C17: 幹線・動力 | D17: =IF(木造_居住専用!D$49>0,木造_居住専用!D17/木造_居住専用!D$49*100,0) -> 3.1413759 | E17: =IF(木造_居住専用!E$49>0,木造_居住専用!E17/木造_居住専用!E$49*100,0) -> 0 | F17: =IF(木造_居住専用!F$49>0,木造_居住専用!F17/木造_居住専用!F$49*100,0) -> 0 | J17: 瓦 | K17: =IF(木造_居住専用!K$78>0,木造_居住専用!K17/木造_居住専用!K$78*100,0) -> 1.3485157 | L17: =IF(木造_居住専用!L$78>0,木造_居住専用!L17/木造_居住専用!L$78*100,0) -> 1.1526211 | M17: =IF(木造_居住専用!M$78>0,木造_居住専用!M17/木造_居住専用!M$78*100,0) -> 0
C18: 電灯コンセント | D18: =IF(木造_居住専用!D$49>0,木造_居住専用!D18/木造_居住専用!D$49*100,0) -> 8.9858473 | E18: =IF(木造_居住専用!E$49>0,木造_居住専用!E18/木造_居住専用!E$49*100,0) -> 0 | F18: =IF(木造_居住専用!F$49>0,木造_居住専用!F18/木造_居住専用!F$49*100,0) -> 0 | J18: セメント瓦 | K18: =IF(木造_居住専用!K$78>0,木造_居住専用!K18/木造_居住専用!K$78*100,0) -> 0.051436912 | L18: =IF(木造_居住専用!L$78>0,木造_居住専用!L18/木造_居住専用!L$78*100,0) -> 0 | M18: =IF(木造_居住専用!M$78>0,木造_居住専用!M18/木造_居住専用!M$78*100,0) -> 0
C19: 照明器具 | D19: =IF(木造_居住専用!D$49>0,木造_居住専用!D19/木造_居住専用!D$49*100,0) -> 7.7701586 | E19: =IF(木造_居住専用!E$49>0,木造_居住専用!E19/木造_居住専用!E$49*100,0) -> 0 | F19: =IF(木造_居住専用!F$49>0,木造_居住専用!F19/木造_居住専用!F$49*100,0) -> 0 | J19: 金属板葺き | K19: =IF(木造_居住専用!K$78>0,木造_居住専用!K19/木造_居住専用!K$78*100,0) -> 2.862924 | L19: =IF(木造_居住専用!L$78>0,木造_居住専用!L19/木造_居住専用!L$78*100,0) -> 3.7359002 | M19: =IF(木造_居住専用!M$78>0,木造_居住専用!M19/木造_居住専用!M$78*100,0) -> 0
C20: 電話・電話配管・IT設備 | D20: =IF(木造_居住専用!D$49>0,木造_居住専用!D20/木造_居住専用!D$49*100,0) -> 1.2419259 | E20: =IF(木造_居住専用!E$49>0,木造_居住専用!E20/木造_居住専用!E$49*100,0) -> 0 | F20: =IF(木造_居住専用!F$49>0,木造_居住専用!F20/木造_居住専用!F$49*100,0) -> 0 | J20: 化粧スレート | K20: =IF(木造_居住専用!K$78>0,木造_居住専用!K20/木造_居住専用!K$78*100,0) -> 0.26603273 | L20: =IF(木造_居住専用!L$78>0,木造_居住専用!L20/木造_居住専用!L$78*100,0) -> 1.4781706 | M20: =IF(木造_居住専用!M$78>0,木造_居住専用!M20/木造_居住専用!M$78*100,0) -> 0
C21: テレビ共聴 | D21: =IF(木造_居住専用!D$49>0,木造_居住専用!D21/木造_居住専用!D$49*100,0) -> 1.2972622 | E21: =IF(木造_居住専用!E$49>0,木造_居住専用!E21/木造_居住専用!E$49*100,0) -> 0 | F21: =IF(木造_居住専用!F$49>0,木造_居住専用!F21/木造_居住専用!F$49*100,0) -> 0 | J21: 雨どい | K21: =IF(木造_居住専用!K$78>0,木造_居住専用!K21/木造_居住専用!K$78*100,0) -> 0.89078683 | L21: =IF(木造_居住専用!L$78>0,木造_居住専用!L21/木造_居住専用!L$78*100,0) -> 0.7654812 | M21: =IF(木造_居住専用!M$78>0,木造_居住専用!M21/木造_居住専用!M$78*100,0) -> 0
C22: インターホン・拡声 | D22: =IF(木造_居住専用!D$49>0,木造_居住専用!D22/木造_居住専用!D$49*100,0) -> 0.74840419 | E22: =IF(木造_居住専用!E$49>0,木造_居住専用!E22/木造_居住専用!E$49*100,0) -> 0 | F22: =IF(木造_居住専用!F$49>0,木造_居住専用!F22/木造_居住専用!F$49*100,0) -> 0 | J22: 上記以外の屋根 | K22: =IF(木造_居住専用!K$78>0,木造_居住専用!K22/木造_居住専用!K$78*100,0) -> 0.36661574 | L22: =IF(木造_居住専用!L$78>0,木造_居住専用!L22/木造_居住専用!L$78*100,0) -> 0 | M22: =IF(木造_居住専用!M$78>0,木造_居住専用!M22/木造_居住専用!M$78*100,0) -> 0
C23: 防災 | D23: =IF(木造_居住専用!D$49>0,木造_居住専用!D23/木造_居住専用!D$49*100,0) -> 0.41355796 | E23: =IF(木造_居住専用!E$49>0,木造_居住専用!E23/木造_居住専用!E$49*100,0) -> 0 | F23: =IF(木造_居住専用!F$49>0,木造_居住専用!F23/木造_居住専用!F$49*100,0) -> 0 | I23: 5.金属製建具 | K23: =IF(木造_居住専用!K$78>0,木造_居住専用!K23/木造_居住専用!K$78*100,0) -> 7.2164114 | L23: =IF(木造_居住専用!L$78>0,木造_居住専用!L23/木造_居住専用!L$78*100,0) -> 9.7312897 | M23: =IF(木造_居住専用!M$78>0,木造_居住専用!M23/木造_居住専用!M$78*100,0) -> 0
C24: 避雷針 | D24: =IF(木造_居住専用!D$49>0,木造_居住専用!D24/木造_居住専用!D$49*100,0) -> 0 | E24: =IF(木造_居住専用!E$49>0,木造_居住専用!E24/木造_居住専用!E$49*100,0) -> 0 | F24: =IF(木造_居住専用!F$49>0,木造_居住専用!F24/木造_居住専用!F$49*100,0) -> 0 | J24: アルミニウム製建具 | K24: =IF(木造_居住専用!K$78>0,木造_居住専用!K24/木造_居住専用!K$78*100,0) -> 4.6313063 | L24: =IF(木造_居住専用!L$78>0,木造_居住専用!L24/木造_居住専用!L$78*100,0) -> 5.3495697 | M24: =IF(木造_居住専用!M$78>0,木造_居住専用!M24/木造_居住専用!M$78*100,0) -> 0
C25: 蓄電池 | D25: =IF(木造_居住専用!D$49>0,木造_居住専用!D25/木造_居住専用!D$49*100,0) -> 0 | E25: =IF(木造_居住専用!E$49>0,木造_居住専用!E25/木造_居住専用!E$49*100,0) -> 0 | F25: =IF(木造_居住専用!F$49>0,木造_居住専用!F25/木造_居住専用!F$49*100,0) -> 0 | J25: 鋼製建具 | K25: =IF(木造_居住専用!K$78>0,木造_居住専用!K25/木造_居住専用!K$78*100,0) -> 0.80374433 | L25: =IF(木造_居住専用!L$78>0,木造_居住専用!L25/木造_居住専用!L$78*100,0) -> 0.61590441 | M25: =IF(木造_居住専用!M$78>0,木造_居住専用!M25/木造_居住専用!M$78*100,0) -> 0
C26: 屋外施設の電気設備（外灯、門灯） | D26: =IF(木造_居住専用!D$49>0,木造_居住専用!D26/木造_居住専用!D$49*100,0) -> 0.47257778 | E26: =IF(木造_居住専用!E$49>0,木造_居住専用!E26/木造_居住専用!E$49*100,0) -> 0 | F26: =IF(木造_居住専用!F$49>0,木造_居住専用!F26/木造_居住専用!F$49*100,0) -> 0 | J26: ステンレス製建具 | K26: =IF(木造_居住専用!K$78>0,木造_居住専用!K26/木造_居住専用!K$78*100,0) -> 0.13770445 | L26: =IF(木造_居住専用!L$78>0,木造_居住専用!L26/木造_居住専用!L$78*100,0) -> 0 | M26: =IF(木造_居住専用!M$78>0,木造_居住専用!M26/木造_居住専用!M$78*100,0) -> 0
C27: 上記以外の電気設備 | D27: =IF(木造_居住専用!D$49>0,木造_居住専用!D27/木造_居住専用!D$49*100,0) -> 5.0940941 | E27: =IF(木造_居住専用!E$49>0,木造_居住専用!E27/木造_居住専用!E$49*100,0) -> 0 | F27: =IF(木造_居住専用!F$49>0,木造_居住専用!F27/木造_居住専用!F$49*100,0) -> 0 | J27: 金属製玄関ドア | K27: =IF(木造_居住専用!K$78>0,木造_居住専用!K27/木造_居住専用!K$78*100,0) -> 0.75688905 | L27: =IF(木造_居住専用!L$78>0,木造_居住専用!L27/木造_居住専用!L$78*100,0) -> 1.4253788 | M27: =IF(木造_居住専用!M$78>0,木造_居住専用!M27/木造_居住専用!M$78*100,0) -> 0
B28: 2.空調 | D28: =IF(木造_居住専用!D$49>0,木造_居住専用!D28/木造_居住専用!D$49*100,0) -> 17.09557 | E28: =IF(木造_居住専用!E$49>0,木造_居住専用!E28/木造_居住専用!E$49*100,0) -> 0 | F28: =IF(木造_居住専用!F$49>0,木造_居住専用!F28/木造_居住専用!F$49*100,0) -> 0 | J28: 雨戸・シャッター | K28: =IF(木造_居住専用!K$78>0,木造_居住専用!K28/木造_居住専用!K$78*100,0) -> 0.14034016 | L28: =IF(木造_居住専用!L$78>0,木造_居住専用!L28/木造_居住専用!L$78*100,0) -> 1.3901842 | M28: =IF(木造_居住専用!M$78>0,木造_居住専用!M28/木造_居住専用!M$78*100,0) -> 0
C29: 空調機器 | D29: =IF(木造_居住専用!D$49>0,木造_居住専用!D29/木造_居住専用!D$49*100,0) -> 6.2736353 | E29: =IF(木造_居住専用!E$49>0,木造_居住専用!E29/木造_居住専用!E$49*100,0) -> 0 | F29: =IF(木造_居住専用!F$49>0,木造_居住専用!F29/木造_居住専用!F$49*100,0) -> 0 | J29: 上記以外の金属製建具 | K29: =IF(木造_居住専用!K$78>0,木造_居住専用!K29/木造_居住専用!K$78*100,0) -> 0.74642709 | L29: =IF(木造_居住専用!L$78>0,木造_居住専用!L29/木造_居住専用!L$78*100,0) -> 0.95025252 | M29: =IF(木造_居住専用!M$78>0,木造_居住専用!M29/木造_居住専用!M$78*100,0) -> 0
C30: ダクト | D30: =IF(木造_居住専用!D$49>0,木造_居住専用!D30/木造_居住専用!D$49*100,0) -> 0.14945279 | E30: =IF(木造_居住専用!E$49>0,木造_居住専用!E30/木造_居住専用!E$49*100,0) -> 0 | F30: =IF(木造_居住専用!F$49>0,木造_居住専用!F30/木造_居住専用!F$49*100,0) -> 0 | I30: 6.木製建具 | K30: =IF(木造_居住専用!K$78>0,木造_居住専用!K30/木造_居住専用!K$78*100,0) -> 4.5530183 | L30: =IF(木造_居住専用!L$78>0,木造_居住専用!L30/木造_居住専用!L$78*100,0) -> 2.3298784 | M30: =IF(木造_居住専用!M$78>0,木造_居住専用!M30/木造_居住専用!M$78*100,0) -> 0
C31: 空調配管 | D31: =IF(木造_居住専用!D$49>0,木造_居住専用!D31/木造_居住専用!D$49*100,0) -> 0.38037852 | E31: =IF(木造_居住専用!E$49>0,木造_居住専用!E31/木造_居住専用!E$49*100,0) -> 0 | F31: =IF(木造_居住専用!F$49>0,木造_居住専用!F31/木造_居住専用!F$49*100,0) -> 0 | J31: 木製ドア | K31: =IF(木造_居住専用!K$78>0,木造_居住専用!K31/木造_居住専用!K$78*100,0) -> 2.937872 | L31: =IF(木造_居住専用!L$78>0,木造_居住専用!L31/木造_居住専用!L$78*100,0) -> 1.256445 | M31: =IF(木造_居住専用!M$78>0,木造_居住専用!M31/木造_居住専用!M$78*100,0) -> 0
C32: 自動制御 | D32: =IF(木造_居住専用!D$49>0,木造_居住専用!D32/木造_居住専用!D$49*100,0) -> 0 | E32: =IF(木造_居住専用!E$49>0,木造_居住専用!E32/木造_居住専用!E$49*100,0) -> 0 | F32: =IF(木造_居住専用!F$49>0,木造_居住専用!F32/木造_居住専用!F$49*100,0) -> 0 | J32: 木製玄関ドア | K32: =IF(木造_居住専用!K$78>0,木造_居住専用!K32/木造_居住専用!K$78*100,0) -> 0.12373814 | L32: =IF(木造_居住専用!L$78>0,木造_居住専用!L32/木造_居住専用!L$78*100,0) -> 0 | M32: =IF(木造_居住専用!M$78>0,木造_居住専用!M32/木造_居住専用!M$78*100,0) -> 0
C33: 換気 | D33: =IF(木造_居住専用!D$49>0,木造_居住専用!D33/木造_居住専用!D$49*100,0) -> 3.834768 | E33: =IF(木造_居住専用!E$49>0,木造_居住専用!E33/木造_居住専用!E$49*100,0) -> 0 | F33: =IF(木造_居住専用!F$49>0,木造_居住専用!F33/木造_居住専用!F$49*100,0) -> 0 | J33: ふすま | K33: =IF(木造_居住専用!K$78>0,木造_居住専用!K33/木造_居住専用!K$78*100,0) -> 0.27302441 | L33: =IF(木造_居住専用!L$78>0,木造_居住専用!L33/木造_居住専用!L$78*100,0) -> 0 | M33: =IF(木造_居住専用!M$78>0,木造_居住専用!M33/木造_居住専用!M$78*100,0) -> 0
C34: 床暖房 | D34: =IF(木造_居住専用!D$49>0,木造_居住専用!D34/木造_居住専用!D$49*100,0) -> 2.5881077 | E34: =IF(木造_居住専用!E$49>0,木造_居住専用!E34/木造_居住専用!E$49*100,0) -> 0 | F34: =IF(木造_居住専用!F$49>0,木造_居住専用!F34/木造_居住専用!F$49*100,0) -> 0 | J34: 障子 | K34: =IF(木造_居住専用!K$78>0,木造_居住専用!K34/木造_居住専用!K$78*100,0) -> 0.19459163 | L34: =IF(木造_居住専用!L$78>0,木造_居住専用!L34/木造_居住専用!L$78*100,0) -> 0.10558361 | M34: =IF(木造_居住専用!M$78>0,木造_居住専用!M34/木造_居住専用!M$78*100,0) -> 0
C35: パッシブソーラーシステム | D35: =IF(木造_居住専用!D$49>0,木造_居住専用!D35/木造_居住専用!D$49*100,0) -> 1.3506814 | E35: =IF(木造_居住専用!E$49>0,木造_居住専用!E35/木造_居住専用!E$49*100,0) -> 0 | F35: =IF(木造_居住専用!F$49>0,木造_居住専用!F35/木造_居住専用!F$49*100,0) -> 0 | J35: 木製建具金物 | K35: =IF(木造_居住専用!K$78>0,木造_居住専用!K35/木造_居住専用!K$78*100,0) -> 0.14111087 | L35: =IF(木造_居住専用!L$78>0,木造_居住専用!L35/木造_居住専用!L$78*100,0) -> 0.7918771 | M35: =IF(木造_居住専用!M$78>0,木造_居住専用!M35/木造_居住専用!M$78*100,0) -> 0
C36: 上記以外の空調設備 | D36: =IF(木造_居住専用!D$49>0,木造_居住専用!D36/木造_居住専用!D$49*100,0) -> 1.8489207 | E36: =IF(木造_居住専用!E$49>0,木造_居住専用!E36/木造_居住専用!E$49*100,0) -> 0 | F36: =IF(木造_居住専用!F$49>0,木造_居住専用!F36/木造_居住専用!F$49*100,0) -> 0 | J36: 上記以外の木製建具 | K36: =IF(木造_居住専用!K$78>0,木造_居住専用!K36/木造_居住専用!K$78*100,0) -> 0.88268126 | L36: =IF(木造_居住専用!L$78>0,木造_居住専用!L36/木造_居住専用!L$78*100,0) -> 0.17597269 | M36: =IF(木造_居住専用!M$78>0,木造_居住専用!M36/木造_居住専用!M$78*100,0) -> 0
B37: 3.衛生 | D37: =IF(木造_居住専用!D$49>0,木造_居住専用!D37/木造_居住専用!D$49*100,0) -> 47.02693 | E37: =IF(木造_居住専用!E$49>0,木造_居住専用!E37/木造_居住専用!E$49*100,0) -> 0 | F37: =IF(木造_居住専用!F$49>0,木造_居住専用!F37/木造_居住専用!F$49*100,0) -> 0 | I37: 7.ガラス | K37: =IF(木造_居住専用!K$78>0,木造_居住専用!K37/木造_居住専用!K$78*100,0) -> 0.37308793 | L37: =IF(木造_居住専用!L$78>0,木造_居住専用!L37/木造_居住専用!L$78*100,0) -> 0.31675084 | M37: =IF(木造_居住専用!M$78>0,木造_居住専用!M37/木造_居住専用!M$78*100,0) -> 0
C38: 給水 | D38: =IF(木造_居住専用!D$49>0,木造_居住専用!D38/木造_居住専用!D$49*100,0) -> 8.4351559 | E38: =IF(木造_居住専用!E$49>0,木造_居住専用!E38/木造_居住専用!E$49*100,0) -> 0 | F38: =IF(木造_居住専用!F$49>0,木造_居住専用!F38/木造_居住専用!F$49*100,0) -> 0 | I38: 8.防水 | K38: =IF(木造_居住専用!K$78>0,木造_居住専用!K38/木造_居住専用!K$78*100,0) -> 0.6164765 | L38: =IF(木造_居住専用!L$78>0,木造_居住専用!L38/木造_居住専用!L$78*100,0) -> 0.2551604 | M38: =IF(木造_居住専用!M$78>0,木造_居住専用!M38/木造_居住専用!M$78*100,0) -> 0
C39: 給湯 | D39: =IF(木造_居住専用!D$49>0,木造_居住専用!D39/木造_居住専用!D$49*100,0) -> 6.6761316 | E39: =IF(木造_居住専用!E$49>0,木造_居住専用!E39/木造_居住専用!E$49*100,0) -> 0 | F39: =IF(木造_居住専用!F$49>0,木造_居住専用!F39/木造_居住専用!F$49*100,0) -> 0 | I39: 9.石 | K39: =IF(木造_居住専用!K$78>0,木造_居住専用!K39/木造_居住専用!K$78*100,0) -> 0.017117251 | L39: =IF(木造_居住専用!L$78>0,木造_居住専用!L39/木造_居住専用!L$78*100,0) -> 0.21116723 | M39: =IF(木造_居住専用!M$78>0,木造_居住専用!M39/木造_居住専用!M$78*100,0) -> 0
C40: 排水通気 | D40: =IF(木造_居住専用!D$49>0,木造_居住専用!D40/木造_居住専用!D$49*100,0) -> 8.4480118 | E40: =IF(木造_居住専用!E$49>0,木造_居住専用!E40/木造_居住専用!E$49*100,0) -> 0 | F40: =IF(木造_居住専用!F$49>0,木造_居住専用!F40/木造_居住専用!F$49*100,0) -> 0 | I40: 10.タイル | K40: =IF(木造_居住専用!K$78>0,木造_居住専用!K40/木造_居住専用!K$78*100,0) -> 0.76371892 | L40: =IF(木造_居住専用!L$78>0,木造_居住専用!L40/木造_居住専用!L$78*100,0) -> 0.89042181 | M40: =IF(木造_居住専用!M$78>0,木造_居住専用!M40/木造_居住専用!M$78*100,0) -> 0
C41: 衛生器具 | D41: =IF(木造_居住専用!D$49>0,木造_居住専用!D41/木造_居住専用!D$49*100,0) -> 8.91865 | E41: =IF(木造_居住専用!E$49>0,木造_居住専用!E41/木造_居住専用!E$49*100,0) -> 0 | F41: =IF(木造_居住専用!F$49>0,木造_居住専用!F41/木造_居住専用!F$49*100,0) -> 0 | I41: 11.金属 | K41: =IF(木造_居住専用!K$78>0,木造_居住専用!K41/木造_居住専用!K$78*100,0) -> 0.19374003 | L41: =IF(木造_居住専用!L$78>0,木造_居住専用!L41/木造_居住専用!L$78*100,0) -> 0.14077815 | M41: =IF(木造_居住専用!M$78>0,木造_居住専用!M41/木造_居住専用!M$78*100,0) -> 0
C42: 消火 | D42: =IF(木造_居住専用!D$49>0,木造_居住専用!D42/木造_居住専用!D$49*100,0) -> 0 | E42: =IF(木造_居住専用!E$49>0,木造_居住専用!E42/木造_居住専用!E$49*100,0) -> 0 | F42: =IF(木造_居住専用!F$49>0,木造_居住専用!F42/木造_居住専用!F$49*100,0) -> 0 | I42: 12.左官 | K42: =IF(木造_居住専用!K$78>0,木造_居住専用!K42/木造_居住専用!K$78*100,0) -> 1.153328 | L42: =IF(木造_居住専用!L$78>0,木造_居住専用!L42/木造_居住専用!L$78*100,0) -> 0.94145389 | M42: =IF(木造_居住専用!M$78>0,木造_居住専用!M42/木造_居住専用!M$78*100,0) -> 0
...

Sheet 木造_居住産業併用
A2: 表1-2 平成27年建築工事費投入調査集計表（木造_居住産業併用住宅）
