Workbook

Sheet 事務費（金額表）
K2: （単位：100万円） | R2: （単位：100万円）
E3: 1.河川 | F3: 2.河川 総合開発 | G3: 3.海岸 | H3: 4.砂防・地滑り対策 | I3: 5.道路 | J3: 6.街路 | K3: 7.土地 区画整理 | L3: 8.下水道 | M3: 9.公園 | N3: 10.港湾整備 | O3: 11.港湾機能 | P3: 12.空港整備 | Q3: 13.災害復旧 | R3: 総合計 | S3: 10と11の和
A4: 1. | B4: 人件費 | E4: 24942.994 | F4: 3276.7179 | G4: 2949.1749 | H4: 8833.0547 | I4: 41413.005 | J4: 3144.1496 | K4: 1268.388 | L4: 5864.9636 | M4: 1276.2456 | N4: 16502.77 | O4: 606.592 | P4: 650.01334 | Q4: 2461.4489 | R4: 113189.52 | S4: =N4+O4 -> 17109.362
A5: 2. | B5: 旅費 | E5: 364.12268 | F5: 72.725579 | G5: 112.66855 | H5: 155.82292 | I5: 574.75184 | J5: 230.38447 | K5: 11.944 | L5: 527.3264 | M5: 20.764738 | N5: 336.00307 | O5: 4.742 | P5: 14.521513 | Q5: 46.939685 | R5: 2472.7174 | S5: =N5+O5 -> 340.74507
A6: 3. | B6: 庁費及び工事雑費 | E6: 7406.3647 | F6: 992.71716 | G6: 1573.0802 | H6: 2520.5123 | I6: 13884.144 | J6: 5817.0946 | K6: 128.67 | L6: 1198.4306 | M6: 527.55883 | N6: 5994.7042 | O6: 102.36 | P6: 312.31174 | Q6: 788.607 | R6: 41246.556 | S6: =N6+O6 -> 6097.0642
B7: (1) | C7: 消耗品費 | E7: 596.28782 | F7: 86.351815 | G7: 298.96195 | H7: 224.20329 | I7: 1137.3499 | J7: 1522.5559 | K7: 26.266 | L7: 433.57574 | M7: 51.288708 | N7: 555.47132 | O7: 4.879 | P7: 31.821083 | Q7: 120.01514 | R7: 5089.0277 | S7: =N7+O7 -> 560.35032
B8: (2) | C8: 燃料費 | E8: 83.003518 | F8: 20.443977 | G8: 30.549902 | H8: 62.585165 | I8: 210.4315 | J8: 193.77729 | K8: 1.821 | L8: 8.930439 | M8: 10.410359 | N8: 107.21622 | O8: 1.711 | P8: 1.066575 | Q8: 12.836607 | R8: 744.78355 | S8: =N8+O8 -> 108.92722
C9: （うち） 軽油 | E9: 0.781441 | F9: 1.299422 | G9: 0.486 | H9: 0.460557 | I9: 2.57814 | J9: 0.449149 | K9: 0 | L9: 0.21 | M9: 0.114186 | N9: 25.675348 | O9: 0.941 | P9: 0.117 | Q9: 0.055 | R9: 33.167243 | S9: =N9+O9 -> 26.616348
C10: （うち） 石油 | E10: 73.419824 | F10: 17.828555 | G10: 28.822902 | H10: 57.876861 | I10: 191.8388 | J10: 192.16615 | K10: 1.792 | L10: 8.531439 | M10: 9.361367 | N10: 78.122683 | O10: 0.752 | P10: 0.807742 | Q10: 12.042727 | R10: 673.36304 | S10: =N10+O10 -> 78.874683
C11: （うち） 重油等 | E11: 8.802253 | F11: 1.316 | G11: 1.241 | H11: 4.246747 | I11: 16.013556 | J11: 1.162 | K11: 0.029 | L11: 0.189 | M11: 0.934806 | N11: 3.418088 | O11: 0.018 | P11: 0.141833 | Q11: 0.73788 | R11: 38.250163 | S11: =N11+O11 -> 3.436088
B12: (3) | C12: 印刷製本費 | E12: 134.42464 | F12: 16.851537 | G12: 196.38636 | H12: 66.701266 | I12: 285.65216 | J12: 111.44257 | K12: 6.412 | L12: 120.139 | M12: 8.837809 | N12: 58.331731 | O12: 2.301 | P12: 0.715 | Q12: 19.84 | R12: 1028.0351 | S12: =N12+O12 -> 60.632731
B13: (4) | C13: 光熱水料 | E13: 901.28503 | F13: 88.115829 | G13: 44.143765 | H13: 311.56267 | I13: 1095.3124 | J13: 194.30547 | K13: 13.857 | L13: 16.106 | M13: 70.118204 | N13: 272.94513 | O13: 5.703 | P13: 31.767032 | Q13: 79.823003 | R13: 3125.0445 | S13: =N13+O13 -> 278.64813
C14: （うち） 電気料 | E14: 830.0635 | F14: 80.769641 | G14: 39.864919 | H14: 285.14838 | I14: 966.79336 | J14: 186.01472 | K14: 11.09 | L14: 12.858 | M14: 52.661925 | N14: 231.96644 | O14: 3.619 | P14: 28.869925 | Q14: 71.211608 | R14: 2800.9314 | S14: =N14+O14 -> 235.58544
C15: （うち） 水道料 | E15: 38.18091 | F15: 5.0705809 | G15: 2.5226471 | H15: 13.295128 | I15: 74.687892 | J15: 3.5509 | K15: 0.679 | L15: 2.613 | M15: 15.265392 | N15: 20.615804 | O15: 0.64 | P15: 2.707008 | Q15: 4.273515 | R15: 184.10178 | S15: =N15+O15 -> 21.255804
C16: （うち） ガス料 | E16: 33.04062 | F16: 2.2736076 | G16: 1.7561992 | H16: 13.11916 | I16: 53.830162 | J16: 4.739849 | K16: 2.086 | L16: 0.634 | M16: 2.190887 | N16: 20.362889 | O16: 1.444 | P16: 0.189099 | Q16: 4.33788 | R16: 140.00435 | S16: =N16+O16 -> 21.806889
B17: (5) | C17: 修繕費 | E17: 158.69893 | F17: 15.850949 | G17: 22.098778 | H17: 80.57455 | I17: 283.36884 | J17: 163.68349 | K17: 4.022 | L17: 8.866423 | M17: 11.184058 | N17: 142.92873 | O17: 2.603 | P17: 10.996075 | Q17: 11.188 | R17: 916.06381 | S17: =N17+O17 -> 145.53173
C18: （うち） 機械修理 | E18: 28.920766 | F18: 3.0643662 | G18: 8.4648037 | H18: 20.637585 | I18: 40.291598 | J18: 7.06522 | K18: 0.171 | L18: 0.468905 | M18: 5.177059 | N18: 45.012928 | O18: 0.08 | P18: 0.533414 | Q18: 2.255 | R18: 162.14265 | S18: =N18+O18 -> 45.092928
C19: （うち） 自動車修理 | E19: 104.42495 | F19: 9.8687413 | G19: 9.3836792 | H19: 47.289595 | I19: 200.19124 | J19: 156.39827 | K19: 1.388 | L19: 8.239518 | M19: 5.331999 | N19: 28.203792 | O19: 2.191 | P19: 5.516299 | Q19: 7.783 | R19: 586.21008 | S19: =N19+O19 -> 30.394792
C20: （うち） 建物修理 | E20: 25.354214 | F20: 2.9168413 | G20: 4.2502947 | H20: 12.64737 | I20: 42.884 | J20: 0.22 | K20: 2.463 | L20: 0.158 | M20: 0.675 | N20: 69.712009 | O20: 0.332 | P20: 4.946362 | Q20: 1.15 | R20: 167.70909 | S20: =N20+O20 -> 70.044009
B21: (6) | C21: 食糧費 | E21: 0.584 | F21: 0.241895 | G21: 0.041 | H21: 0.354 | I21: 1.946 | J21: 0.202 | K21: 0.014 | L21: 1.447 | M21: 0.031 | N21: 0.279 | O21: 0.009 | P21: 0.025 | Q21: 0.022 | R21: 5.195895 | S21: =N21+O21 -> 0.288
B22: (7) | C22: 通信運搬費 | E22: 394.68451 | F22: 49.113696 | G22: 235.62713 | H22: 139.05453 | I22: 643.80178 | J22: 453.00692 | K22: 9.136 | L22: 146.07394 | M22: 28.983458 | N22: 265.08404 | O22: 2.321 | P22: 17.226259 | Q22: 47.449646 | R22: 2431.5629 | S22: =N22+O22 -> 267.40504
C23: （うち） 郵便料 | E23: 57.360252 | F23: 6.5419077 | G23: 93.930798 | H23: 33.709239 | I23: 138.41626 | J23: 163.01724 | K23: 4.861 | L23: 56.74154 | M23: 3.547126 | N23: 30.242211 | O23: 0.203 | P23: 0.581869 | Q23: 11.733 | R23: 600.88544 | S23: =N23+O23 -> 30.445211
C24: （うち） 電信・電話料 | E24: 261.79348 | F24: 34.066211 | G24: 139.56477 | H24: 92.988676 | I24: 436.38241 | J24: 259.87768 | K24: 4.015 | L24: 86.687906 | M24: 22.213168 | N24: 189.08549 | O24: 2.101 | P24: 15.23039 | Q24: 33.578646 | R24: 1577.5848 | S24: =N24+O24 -> 191.18649
C25: （うち） 荷造・運搬費 | E25: 75.530778 | F25: 8.5055773 | G25: 2.1315627 | H25: 12.356618 | I25: 69.001109 | J25: 30.111 | K25: 0.26 | L25: 2.64449 | M25: 3.222164 | N25: 45.754347 | O25: 0.017 | P25: 1.414 | Q25: 2.138 | R25: 253.08665 | S25: =N25+O25 -> 45.771347
B26: (8) | C26: 筆耕翻訳料 | E26: 1.387844 | F26: 0.0432 | G26: 0.21229 | H26: 0.154113 | I26: 0.844914 | J26: 0.00629 | K26: 0.306 | L26: 0 | M26: 0.021224 | N26: 0.31168 | O26: 0 | P26: 0.188 | Q26: 0 | R26: 3.475555 | S26: =N26+O26 -> 0.31168
B27: (9) | C27: 手数料 | E27: 120.18341 | F27: 10.329196 | G27: 55.51679 | H27: 70.924246 | I27: 439.52151 | J27: 689.85734 | K27: 0.726 | L27: 6.841589 | M27: 6.280409 | N27: 17.21276 | O27: 0.12 | P27: 1.354 | Q27: 7.646 | R27: 1426.5133 | S27: =N27+O27 -> 17.33276
B28: (10) | C28: 広告料 | E28: 162.09173 | F28: 5.6245269 | G28: 15.313036 | H28: 83.21313 | I28: 237.303 | J28: 0 | K28: 0.475 | L28: 0.049 | M28: 3.488 | N28: 43.868548 | O28: 0 | P28: 4.247 | Q28: 4 | R28: 559.67297 | S28: =N28+O28 -> 43.868548
B29: (11) | C29: 自動車保険料 | E29: 12.096446 | F29: 2.2719572 | G29: 1.2202059 | H29: 6.0367828 | I29: 26.367248 | J29: 2.19224 | K29: 0.146 | L29: 1.11127 | M29: 1.077208 | N29: 4.826243 | O29: 0.198 | P29: 0.17 | Q29: 0.752 | R29: 58.465601 | S29: =N29+O29 -> 5.024243
B30: (12) | C30: 備品購入料 | E30: 94.124879 | F30: 16.44987 | G30: 18.420157 | H30: 40.46556 | I30: 204.91056 | J30: 20.63776 | K30: 0.669 | L30: 4.693 | M30: 13.104188 | N30: 120.93069 | O30: 0.159 | P30: 7.9566 | Q30: 8.22 | R30: 550.74127 | S30: =N30+O30 -> 121.08969
C31: （うち） 庁用器具類等 | E31: 34.065744 | F31: 5.5038699 | G31: 5.5741567 | H31: 13.524397 | I31: 57.441104 | J31: 4.77976 | K31: 0.506 | L31: 2.806 | M31: 5.448808 | N31: 75.279799 | O31: 0.159 | P31: 7.9566 | Q31: 6.188 | R31: 219.23324 | S31: =N31+O31 -> 75.438799
C32: （うち） 自動車等 | E32: 60.059135 | F32: 10.946 | G32: 12.846 | H32: 26.941163 | I32: 147.46946 | J32: 15.858 | K32: 0.163 | L32: 1.887 | M32: 7.65538 | N32: 45.650892 | O32: 0 | P32: 0 | Q32: 2.032 | R32: 331.50803 | S32: =N32+O32 -> 45.650892
B33: (13) | C33: 使用・賃借料 | E33: 440.51324 | F33: 92.148426 | G33: 45.394481 | H33: 179.04248 | I33: 942.26359 | J33: 75.461921 | K33: 14.235 | L33: 148.4206 | M33: 43.59159 | N33: 380.8263 | O33: 45.154 | P33: 18.101108 | Q33: 40.517 | R33: 2465.6697 | S33: =N33+O33 -> 425.9803
C34: （うち） 自動車関連 | E34: 33.461154 | F34: 56.935867 | G34: 15.24491 | H34: 24.002868 | I34: 142.12514 | J34: 12.369218 | K34: 1.661 | L34: 21.06512 | M34: 8.152112 | N34: 92.691992 | O34: 0.674 | P34: 16.233 | Q34: 4.971 | R34: 429.58738 | S34: =N34+O34 -> 93.365992
C35: （うち） 会場・物品等 | E35: 407.05109 | F35: 35.212559 | G35: 30.149571 | H35: 155.03861 | I35: 800.13745 | J35: 63.092703 | K35: 12.574 | L35: 127.35548 | M35: 35.439478 | N35: 288.13405 | O35: 44.48 | P35: 1.868108 | Q35: 35.546 | R35: 2036.0791 | S35: =N35+O35 -> 332.61405
B36: (14) | C36: 委託料 | E36: 2079.5863 | F36: 104.47945 | G36: 67.407387 | H36: 416.99801 | I36: 4157.8733 | J36: 1222.2647 | K36: 30.533 | L36: 87.459398 | M36: 105.09128 | N36: 437.0965 | O36: 27.126 | P36: 3.551 | Q36: 147.097 | R36: 8886.5634 | S36: =N36+O36 -> 464.2225
B37: (15) | C37: 賃金 | E37: 1126.4335 | F37: 186.32438 | G37: 270.5838 | H37: 344.09182 | I37: 2102.8624 | J37: 933.623 | K37: 11.911 | L37: 68.149547 | M37: 97.675212 | N37: 1059.3087 | O37: 3.478 | P37: 86.38 | Q37: 131.471 | R37: 6422.2924 | S37: =N37+O37 -> 1062.7867
B38: (16) | C38: 社会保険料 | E38: 126.85153 | F38: 15.333153 | G38: 51.139842 | H38: 63.460623 | I38: 292.07154 | J38: 91.926267 | K38: 1.187 | L38: 12.208568 | M38: 7.690592 | N38: 113.75298 | O38: 0.002 | P38: 10.052011 | Q38: 13.822 | R38: 799.49811 | S38: =N38+O38 -> 113.75498
B39: (17) | C39: 自動車重量税 | E39: 18.951184 | F39: 2.6496014 | G39: 1.1749678 | H39: 5.5816061 | I39: 56.725034 | J39: 21.09138 | K39: 0.094 | L39: 0.554 | M39: 1.509454 | N39: 2.63407 | O39: 0.068 | P39: 0.915 | Q39: 1.386 | R39: 113.3343 | S39: =N39+O39 -> 2.70207
B40: (18) | C40: 報酬・報償費 | E40: 213.88358 | F40: 14.411426 | G40: 170.11698 | H40: 140.26354 | I40: 569.28812 | J40: 54.14019 | K40: 4.288 | L40: 118.7125 | M40: 11.42341 | N40: 74.20955 | O40: 6.282 | P40: 2.251 | Q40: 5.146 | R40: 1384.4163 | S40: =N40+O40 -> 80.49155
B41: (19) | C41: その他 | E41: 741.29163 | F41: 265.67628 | G41: 48.771358 | H41: 285.23692 | I41: 1196.2435 | J41: 66.91989 | K41: 2.571 | L41: 15.0866 | M41: 55.752666 | N41: 2337.47 | O41: 0.246 | P41: 83.528997 | Q41: 137.3756 | R41: 5236.1704 | S41: =N41+O41 -> 2337.716
...

Sheet 事務費 (構成比表)
E3: 1.河川 | F3: 2.河川 総合開発 | G3: 3.海岸 | H3: 4.砂防・地滑り対策 | I3: 5.道路 | J3: 6.街路 | K3: 7.土地 区画整理 | L3: 8.下水道 | M3: 9.公園 | N3: 10.港湾整備 | O3: 11.港湾機能 | P3: 12.空港整備 | Q3: 13.災害復旧 | R3: 総合計 | S3: 10と11の和
A4: 1. | B4: 人件費 | E4: ='事務費（金額表）'!E4/'事務費（金額表）'!E$42 -> 0.76246834 | F4: ='事務費（金額表）'!F4/'事務費（金額表）'!F$42 -> 0.75462844 | G4: ='事務費（金額表）'!G4/'事務費（金額表）'!G$42 -> 0.63629417 | H4: ='事務費（金額表）'!H4/'事務費（金額表）'!H$42 -> 0.76746507 | I4: ='事務費（金額表）'!I4/'事務費（金額表）'!I$42 -> 0.74121345 | J4: ='事務費（金額表）'!J4/'事務費（金額表）'!J$42 -> 0.34206664 | K4: ='事務費（金額表）'!K4/'事務費（金額表）'!K$42 -> 0.90020312 | L4: ='事務費（金額表）'!L4/'事務費（金額表）'!L$42 -> 0.77264912 | ... S4: ='事務費（金額表）'!S4/'事務費（金額表）'!S$42 -> 0.72659947
A5: 2. | B5: 旅費 | E5: ='事務費（金額表）'!E5/'事務費（金額表）'!E$42 -> 0.011130661 | F5: ='事務費（金額表）'!F5/'事務費（金額表）'!F$42 -> 0.016748708 | G5: ='事務費（金額表）'!G5/'事務費（金額表）'!G$42 -> 0.024308611 | H5: ='事務費（金額表）'!H5/'事務費（金額表）'!H$42 -> 0.013538764 | I5: ='事務費（金額表）'!I5/'事務費（金額表）'!I$42 -> 0.010286957 | J5: ='事務費（金額表）'!J5/'事務費（金額表）'!J$42 -> 0.025064597 | K5: ='事務費（金額表）'!K5/'事務費（金額表）'!K$42 -> 0.008476922 | L5: ='事務費（金額表）'!L5/'事務費（金額表）'!L$42 -> 0.069469873 | ... R5: ='事務費（金額表）'!R5/'事務費（金額表）'!R$42 -> 0.015758948 | S5: =#REF!/#REF! -> #REF!
A6: 3. | B6: 庁費及び工事雑費 | E6: ='事務費（金額表）'!E6/'事務費（金額表）'!E$42 -> 0.226401 | F6: ='事務費（金額表）'!F6/'事務費（金額表）'!F$42 -> 0.22862286 | G6: ='事務費（金額表）'!G6/'事務費（金額表）'!G$42 -> 0.33939722 | H6: ='事務費（金額表）'!H6/'事務費（金額表）'!H$42 -> 0.21899617 | I6: ='事務費（金額表）'!I6/'事務費（金額表）'!I$42 -> 0.24849959 | J6: ='事務費（金額表）'!J6/'事務費（金額表）'!J$42 -> 0.63286876 | K6: ='事務費（金額表）'!K6/'事務費（金額表）'!K$42 -> 0.091319956 | L6: ='事務費（金額表）'!L6/'事務費（金額表）'!L$42 -> 0.15788101 | ... R6: ='事務費（金額表）'!R6/'事務費（金額表）'!R$42 -> 0.26286963 | S6: =#REF!/#REF! -> #REF!
B7: (1) | C7: 消耗品費 | E7: ='事務費（金額表）'!E7/'事務費（金額表）'!E$42 -> 0.018227587 | F7: ='事務費（金額表）'!F7/'事務費（金額表）'!F$42 -> 0.019886831 | G7: ='事務費（金額表）'!G7/'事務費（金額表）'!G$42 -> 0.064502023 | H7: ='事務費（金額表）'!H7/'事務費（金額表）'!H$42 -> 0.019480032 | I7: ='事務費（金額表）'!I7/'事務費（金額表）'!I$42 -> 0.020356385 | J7: ='事務費（金額表）'!J7/'事務費（金額表）'!J$42 -> 0.16564593 | K7: ='事務費（金額表）'!K7/'事務費（金額表）'!K$42 -> 0.018641563 | L7: ='事務費（金額表）'!L7/'事務費（金額表）'!L$42 -> 0.057119181 | ... R7: ='事務費（金額表）'!R7/'事務費（金額表）'!R$42 -> 0.032433031 | S7: =#REF!/#REF! -> #REF!
B8: (2) | C8: 燃料費 | E8: ='事務費（金額表）'!E8/'事務費（金額表）'!E$42 -> 0.0025372878 | F8: ='事務費（金額表）'!F8/'事務費（金額表）'!F$42 -> 0.0047082498 | G8: ='事務費（金額表）'!G8/'事務費（金額表）'!G$42 -> 0.0065912418 | H8: ='事務費（金額表）'!H8/'事務費（金額表）'!H$42 -> 0.0054377482 | I8: ='事務費（金額表）'!I8/'事務費（金額表）'!I$42 -> 0.0037663207 | J8: ='事務費（金額表）'!J8/'事務費（金額表）'!J$42 -> 0.021081932 | K8: ='事務費（金額表）'!K8/'事務費（金額表）'!K$42 -> 0.0012924041 | L8: ='事務費（金額表）'!L8/'事務費（金額表）'!L$42 -> 0.0011764942 | ... R8: ='事務費（金額表）'!R8/'事務費（金額表）'!R$42 -> 0.0047466018 | S8: =#REF!/#REF! -> #REF!
C9: （うち） 軽油 | E9: ='事務費（金額表）'!E9/'事務費（金額表）'!E$42 -> 2.388743e-05 | F9: ='事務費（金額表）'!F9/'事務費（金額表）'!F$42 -> 0.00029925701 | G9: ='事務費（金額表）'!G9/'事務費（金額表）'!G$42 -> 0.0001048561 | H9: ='事務費（金額表）'!H9/'事務費（金額表）'!H$42 -> 4.0015761e-05 | I9: ='事務費（金額表）'!I9/'事務費（金額表）'!I$42 -> 4.6143768e-05 | J9: ='事務費（金額表）'!J9/'事務費（金額表）'!J$42 -> 4.8865007e-05 | K9: ='事務費（金額表）'!K9/'事務費（金額表）'!K$42 -> 0 | L9: ='事務費（金額表）'!L9/'事務費（金額表）'!L$42 -> 2.7665358e-05 | ... R9: ='事務費（金額表）'!R9/'事務費（金額表）'!R$42 -> 0.00021137913 | S9: =#REF!/#REF! -> #REF!
C10: （うち） 石油 | E10: ='事務費（金額表）'!E10/'事務費（金額表）'!E$42 -> 0.0022443293 | F10: ='事務費（金額表）'!F10/'事務費（金額表）'!F$42 -> 0.0041059179 | G10: ='事務費（金額表）'!G10/'事務費（金額表）'!G$42 -> 0.0062186358 | H10: ='事務費（金額表）'!H10/'事務費（金額表）'!H$42 -> 0.0050286645 | I10: ='事務費（金額表）'!I10/'事務費（金額表）'!I$42 -> 0.003433547 | J10: ='事務費（金額表）'!J10/'事務費（金額表）'!J$42 -> 0.020906648 | K10: ='事務費（金額表）'!K10/'事務費（金額表）'!K$42 -> 0.0012718222 | L10: ='事務費（金額表）'!L10/'事務費（金額表）'!L$42 -> 0.0011239301 | ... R10: ='事務費（金額表）'!R10/'事務費（金額表）'!R$42 -> 0.0042914297 | S10: =#REF!/#REF! -> #REF!
C11: （うち） 重油等 | E11: ='事務費（金額表）'!E11/'事務費（金額表）'!E$42 -> 0.00026907112 | F11: ='事務費（金額表）'!F11/'事務費（金額表）'!F$42 -> 0.00030307492 | G11: ='事務費（金額表）'!G11/'事務費（金額表）'!G$42 -> 0.00026774983 | H11: ='事務費（金額表）'!H11/'事務費（金額表）'!H$42 -> 0.00036898107 | I11: ='事務費（金額表）'!I11/'事務費（金額表）'!I$42 -> 0.00028661198 | J11: ='事務費（金額表）'!J11/'事務費（金額表）'!J$42 -> 0.00012641938 | K11: ='事務費（金額表）'!K11/'事務費（金額表）'!K$42 -> 2.0581944e-05 | L11: ='事務費（金額表）'!L11/'事務費（金額表）'!L$42 -> 2.4898822e-05 | ... R11: ='事務費（金額表）'!R11/'事務費（金額表）'!R$42 -> 0.00024377323 | S11: =#REF!/#REF! -> #REF!
B12: (3) | C12: 印刷製本費 | E12: ='事務費（金額表）'!E12/'事務費（金額表）'!E$42 -> 0.0041091511 | F12: ='事務費（金額表）'!F12/'事務費（金額表）'!F$42 -> 0.0038809106 | G12: ='事務費（金額表）'!G12/'事務費（金額表）'!G$42 -> 0.042371003 | H12: ='事務費（金額表）'!H12/'事務費（金額表）'!H$42 -> 0.0057953781 | I12: ='事務費（金額表）'!I12/'事務費（金額表）'!I$42 -> 0.0051126265 | J12: ='事務費（金額表）'!J12/'事務費（金額表）'!J$42 -> 0.012124355 | K12: ='事務費（金額表）'!K12/'事務費（金額表）'!K$42 -> 0.0045507387 | L12: ='事務費（金額表）'!L12/'事務費（金額表）'!L$42 -> 0.015827088 | ... R12: ='事務費（金額表）'!R12/'事務費（金額表）'!R$42 -> 0.0065518004 | S12: =#REF!/#REF! -> #REF!
B13: (4) | C13: 光熱水料 | E13: ='事務費（金額表）'!E13/'事務費（金額表）'!E$42 -> 0.027550875 | F13: ='事務費（金額表）'!F13/'事務費（金額表）'!F$42 -> 0.020293084 | G13: ='事務費（金額表）'!G13/'事務費（金額表）'!G$42 -> 0.0095241625 | H13: ='事務費（金額表）'!H13/'事務費（金額表）'!H$42 -> 0.027070302 | I13: ='事務費（金額表）'!I13/'事務費（金額表）'!I$42 -> 0.019603994 | J13: ='事務費（金額表）'!J13/'事務費（金額表）'!J$42 -> 0.021139395 | K13: ='事務費（金額表）'!K13/'事務費（金額表）'!K$42 -> 0.0098346205 | L13: ='事務費（金額表）'!L13/'事務費（金額表）'!L$42 -> 0.0021218012 | ... R13: ='事務費（金額表）'!R13/'事務費（金額表）'!R$42 -> 0.019916313 | S13: =#REF!/#REF! -> #REF!
C14: （うち） 電気料 | E14: ='事務費（金額表）'!E14/'事務費（金額表）'!E$42 -> 0.025373744 | F14: ='事務費（金額表）'!F14/'事務費（金額表）'!F$42 -> 0.018601256 | G14: ='事務費（金額表）'!G14/'事務費（金額表）'!G$42 -> 0.0086009873 | H14: ='事務費（金額表）'!H14/'事務費（金額表）'!H$42 -> 0.024775282 | I14: ='事務費（金額表）'!I14/'事務費（金額表）'!I$42 -> 0.017303749 | J14: ='事務費（金額表）'!J14/'事務費（金額表）'!J$42 -> 0.020237406 | K14: ='事務費（金額表）'!K14/'事務費（金額表）'!K$42 -> 0.0078708192 | L14: ='事務費（金額表）'!L14/'事務費（金額表）'!L$42 -> 0.0016939103 | ... R14: ='事務費（金額表）'!R14/'事務費（金額表）'!R$42 -> 0.017850698 | S14: =#REF!/#REF! -> #REF!
C15: （うち） 水道料 | E15: ='事務費（金額表）'!E15/'事務費（金額表）'!E$42 -> 0.0011671308 | F15: ='事務費（金額表）'!F15/'事務費（金額表）'!F$42 -> 0.0011677553 | G15: ='事務費（金額表）'!G15/'事務費（金額表）'!G$42 -> 0.00054426941 | H15: ='事務費（金額表）'!H15/'事務費（金額表）'!H$42 -> 0.0011551549 | I15: ='事務費（金額表）'!I15/'事務費（金額表）'!I$42 -> 0.0013367702 | J15: ='事務費（金額表）'!J15/'事務費（金額表）'!J$42 -> 0.00038631891 | K15: ='事務費（金額表）'!K15/'事務費（金額表）'!K$42 -> 0.00048190137 | L15: ='事務費（金額表）'!L15/'事務費（金額表）'!L$42 -> 0.00034423609 | ... R15: ='事務費（金額表）'!R15/'事務費（金額表）'!R$42 -> 0.0011733044 | S15: =#REF!/#REF! -> #REF!
C16: （うち） ガス料 | E16: ='事務費（金額表）'!E16/'事務費（金額表）'!E$42 -> 0.0010100001 | F16: ='事務費（金額表）'!F16/'事務費（金額表）'!F$42 -> 0.00052361205 | G16: ='事務費（金額表）'!G16/'事務費（金額表）'!G$42 -> 0.00037890575 | H16: ='事務費（金額表）'!H16/'事務費（金額表）'!H$42 -> 0.0011398658 | I16: ='事務費（金額表）'!I16/'事務費（金額表）'!I$42 -> 0.00096345679 | J16: ='事務費（金額表）'!J16/'事務費（金額表）'!J$42 -> 0.0005156702 | K16: ='事務費（金額表）'!K16/'事務費（金額表）'!K$42 -> 0.0014804805 | L16: ='事務費（金額表）'!L16/'事務費（金額表）'!L$42 -> 8.3523032e-05 | ... R16: ='事務費（金額表）'!R16/'事務費（金額表）'!R$42 -> 0.00089226584 | S16: =#REF!/#REF! -> #REF!
B17: (5) | C17: 修繕費 | E17: ='事務費（金額表）'!E17/'事務費（金額表）'!E$42 -> 0.0048511782 | F17: ='事務費（金額表）'!F17/'事務費（金額表）'!F$42 -> 0.003650475 | G17: ='事務費（金額表）'!G17/'事務費（金額表）'!G$42 -> 0.0047678839 | H17: ='事務費（金額表）'!H17/'事務費（金額表）'!H$42 -> 0.0070007664 | I17: ='事務費（金額表）'!I17/'事務費（金額表）'!I$42 -> 0.0050717594 | J17: ='事務費（金額表）'!J17/'事務費（金額表）'!J$42 -> 0.017807887 | K17: ='事務費（金額表）'!K17/'事務費（金額表）'!K$42 -> 0.0028545027 | L17: ='事務費（金額表）'!L17/'事務費（金額表）'!L$42 -> 0.0011680608 | ... R17: ='事務費（金額表）'!R17/'事務費（金額表）'!R$42 -> 0.0058381931 | S17: =#REF!/#REF! -> #REF!
C18: （うち） 機械修理 | E18: ='事務費（金額表）'!E18/'事務費（金額表）'!E$42 -> 0.00088406262 | F18: ='事務費（金額表）'!F18/'事務費（金額表）'!F$42 -> 0.00070572383 | G18: ='事務費（金額表）'!G18/'事務費（金額表）'!G$42 -> 0.0018263092 | H18: ='事務費（金額表）'!H18/'事務費（金額表）'!H$42 -> 0.0017931085 | I18: ='事務費（金額表）'!I18/'事務費（金額表）'!I$42 -> 0.00072114242 | J18: ='事務費（金額表）'!J18/'事務費（金額表）'!J$42 -> 0.00076865812 | K18: ='事務費（金額表）'!K18/'事務費（金額表）'!K$42 -> 0.0001213625 | L18: ='事務費（金額表）'!L18/'事務費（金額表）'!L$42 -> 6.177345e-05 | ... R18: ='事務費（金額表）'!R18/'事務費（金額表）'!R$42 -> 0.001033356 | S18: =#REF!/#REF! -> #REF!
C19: （うち） 自動車修理 | E19: ='事務費（金額表）'!E19/'事務費（金額表）'!E$42 -> 0.0031921075 | F19: ='事務費（金額表）'!F19/'事務費（金額表）'!F$42 -> 0.0022727721 | G19: ='事務費（金額表）'!G19/'事務費（金額表）'!G$42 -> 0.0020245596 | H19: ='事務費（金額表）'!H19/'事務費（金額表）'!H$42 -> 0.0041087838 | I19: ='事務費（金額表）'!I19/'事務費（金額表）'!I$42 -> 0.0035830397 | J19: ='事務費（金額表）'!J19/'事務費（金額表）'!J$42 -> 0.017015294 | K19: ='事務費（金額表）'!K19/'事務費（金額表）'!K$42 -> 0.00098509441 | L19: ='事務費（金額表）'!L19/'事務費（金額表）'!L$42 -> 0.0010854724 | ... R19: ='事務費（金額表）'!R19/'事務費（金額表）'!R$42 -> 0.0037359926 | S19: =#REF!/#REF! -> #REF!
C20: （うち） 建物修理 | E20: ='事務費（金額表）'!E20/'事務費（金額表）'!E$42 -> 0.00077503871 | F20: ='事務費（金額表）'!F20/'事務費（金額表）'!F$42 -> 0.00067174884 | G20: ='事務費（金額表）'!G20/'事務費（金額表）'!G$42 -> 0.00091701505 | H20: ='事務費（金額表）'!H20/'事務費（金額表）'!H$42 -> 0.001098874 | I20: ='事務費（金額表）'!I20/'事務費（金額表）'!I$42 -> 0.00076754145 | J20: ='事務費（金額表）'!J20/'事務費（金額表）'!J$42 -> 2.3934822e-05 | K20: ='事務費（金額表）'!K20/'事務費（金額表）'!K$42 -> 0.0017480458 | L20: ='事務費（金額表）'!L20/'事務費（金額表）'!L$42 -> 2.0814888e-05 | ... R20: ='事務費（金額表）'!R20/'事務費（金額表）'!R$42 -> 0.0010688317 | S20: =#REF!/#REF! -> #REF!
B21: (6) | C21: 食糧費 | E21: ='事務費（金額表）'!E21/'事務費（金額表）'!E$42 -> 1.7851967e-05 | F21: ='事務費（金額表）'!F21/'事務費（金額表）'!F$42 -> 5.5708441e-05 | G21: ='事務費（金額表）'!G21/'事務費（金額表）'!G$42 -> 8.8458847e-06 | H21: ='事務費（金額表）'!H21/'事務費（金額表）'!H$42 -> 3.0757495e-05 | I21: ='事務費（金額表）'!I21/'事務費（金額表）'!I$42 -> 3.4829672e-05 | J21: ='事務費（金額表）'!J21/'事務費（金額表）'!J$42 -> 2.1976519e-05 | K21: ='事務費（金額表）'!K21/'事務費（金額表）'!K$42 -> 9.9361108e-06 | L21: ='事務費（金額表）'!L21/'事務費（金額表）'!L$42 -> 0.00019062749 | ... R21: ='事務費（金額表）'!R21/'事務費（金額表）'!R$42 -> 3.311411e-05 | S21: =#REF!/#REF! -> #REF!
B22: (7) | C22: 通信運搬費 | E22: ='事務費（金額表）'!E22/'事務費（金額表）'!E$42 -> 0.012064889 | F22: ='事務費（金額表）'!F22/'事務費（金額表）'!F$42 -> 0.011310889 | G22: ='事務費（金額表）'!G22/'事務費（金額表）'!G$42 -> 0.050837327 | H22: ='事務費（金額表）'!H22/'事務費（金額表）'!H$42 -> 0.012081834 | I22: ='事務費（金額表）'!I22/'事務費（金額表）'!I$42 -> 0.011522819 | J22: ='事務費（金額表）'!J22/'事務費（金額表）'!J$42 -> 0.049284728 | K22: ='事務費（金額表）'!K22/'事務費（金額表）'!K$42 -> 0.006484022 | L22: ='事務費（金額表）'!L22/'事務費（金額表）'!L$42 -> 0.019243751 | ... R22: ='事務費（金額表）'!R22/'事務費（金額表）'!R$42 -> 0.015496665 | S22: =#REF!/#REF! -> #REF!
C23: （うち） 郵便料 | E23: ='事務費（金額表）'!E23/'事務費（金額表）'!E$42 -> 0.0017534133 | F23: ='事務費（金額表）'!F23/'事務費（金額表）'!F$42 -> 0.001506602 | G23: ='事務費（金額表）'!G23/'事務費（金額表）'!G$42 -> 0.020265878 | H23: ='事務費（金額表）'!H23/'事務費（金額表）'!H$42 -> 0.0029288467 | I23: ='事務費（金額表）'!I23/'事務費（金額表）'!I$42 -> 0.0024773859 | J23: ='事務費（金額表）'!J23/'事務費（金額表）'!J$42 -> 0.017735403 | K23: ='事務費（金額表）'!K23/'事務費（金額表）'!K$42 -> 0.0034499596 | L23: ='事務費（金額表）'!L23/'事務費（金額表）'!L$42 -> 0.007475119 | ... R23: ='事務費（金額表）'!R23/'事務費（金額表）'!R$42 -> 0.0038295206 | S23: =#REF!/#REF! -> #REF!
C24: （うち） 電信・電話料 | E24: ='事務費（金額表）'!E24/'事務費（金額表）'!E$42 -> 0.0080026176 | F24: ='事務費（金額表）'!F24/'事務費（金額表）'!F$42 -> 0.0078454517 | G24: ='事務費（金額表）'!G24/'事務費（金額表）'!G$42 -> 0.030111557 | H24: ='事務費（金額表）'!H24/'事務費（金額表）'!H$42 -> 0.008079375 | I24: ='事務費（金額表）'!I24/'事務費（金額表）'!I$42 -> 0.0078104092 | J24: ='事務費（金額表）'!J24/'事務費（金額表）'!J$42 -> 0.0282733 | K24: ='事務費（金額表）'!K24/'事務費（金額表）'!K$42 -> 0.0028495346 | L24: ='事務費（金額表）'!L24/'事務費（金額表）'!L$42 -> 0.011420247 | ... R24: ='事務費（金額表）'!R24/'事務費（金額表）'!R$42 -> 0.010054152 | S24: =#REF!/#REF! -> #REF!
C25: （うち） 荷造・運搬費 | E25: ='事務費（金額表）'!E25/'事務費（金額表）'!E$42 -> 0.0023088578 | F25: ='事務費（金額表）'!F25/'事務費（金額表）'!F$42 -> 0.0019588353 | G25: ='事務費（金額表）'!G25/'事務費（金額表）'!G$42 -> 0.00045989166 | H25: ='事務費（金額表）'!H25/'事務費（金額表）'!H$42 -> 0.0010736119 | I25: ='事務費（金額表）'!I25/'事務費（金額表）'!I$42 -> 0.0012349877 | J25: ='事務費（金額表）'!J25/'事務費（金額表）'!J$42 -> 0.0032759156 | K25: ='事務費（金額表）'!K25/'事務費（金額表）'!K$42 -> 0.00018452777 | L25: ='事務費（金額表）'!L25/'事務費（金額表）'!L$42 -> 0.00034838458 | ... R25: ='事務費（金額表）'!R25/'事務費（金額表）'!R$42 -> 0.0016129539 | S25: =#REF!/#REF! -> #REF!
B26: (8) | C26: 筆耕翻訳料 | E26: ='事務費（金額表）'!E26/'事務費（金額表）'!E$42 -> 4.2424222e-05 | F26: ='事務費（金額表）'!F26/'事務費（金額表）'!F$42 -> 9.9489641e-06 | G26: ='事務費（金額表）'!G26/'事務費（金額表）'!G$42 -> 4.5802265e-05 | H26: ='事務費（金額表）'!H26/'事務費（金額表）'!H$42 -> 1.3390197e-05 | I26: ='事務費（金額表）'!I26/'事務費（金額表）'!I$42 -> 1.5122342e-05 | J26: ='事務費（金額表）'!J26/'事務費（金額表）'!J$42 -> 6.8431833e-07 | K26: ='事務費（金額表）'!K26/'事務費（金額表）'!K$42 -> 0.00021717499 | L26: ='事務費（金額表）'!L26/'事務費（金額表）'!L$42 -> 0 | ... R26: ='事務費（金額表）'!R26/'事務費（金額表）'!R$42 -> 2.2150161e-05 | S26: =#REF!/#REF! -> #REF!
B27: (9) | C27: 手数料 | E27: ='事務費（金額表）'!E27/'事務費（金額表）'!E$42 -> 0.0036738192 | F27: ='事務費（金額表）'!F27/'事務費（金額表）'!F$42 -> 0.0023788148 | G27: ='事務費（金額表）'!G27/'事務費（金額表）'!G$42 -> 0.01197793 | H27: ='事務費（金額表）'!H27/'事務費（金額表）'!H$42 -> 0.0061622941 | I27: ='事務費（金額表）'!I27/'事務費（金額表）'!I$42 -> 0.0078665932 | J27: ='事務費（金額表）'!J27/'事務費（金額表）'!J$42 -> 0.075052786 | K27: ='事務費（金額表）'!K27/'事務費（金額表）'!K$42 -> 0.00051525832 | L27: ='事務費（金額表）'!L27/'事務費（金額表）'!L$42 -> 0.00090130956 | ... R27: ='事務費（金額表）'!R27/'事務費（金額表）'!R$42 -> 0.0090913534 | S27: =#REF!/#REF! -> #REF!
B28: (10) | C28: 広告料 | E28: ='事務費（金額表）'!E28/'事務費（金額表）'!E$42 -> 0.0049548909 | F28: ='事務費（金額表）'!F28/'事務費（金額表）'!F$42 -> 0.0012953291 | G28: ='事務費（金額表）'!G28/'事務費（金額表）'!G$42 -> 0.0033038377 | H28: ='事務費（金額表）'!H28/'事務費（金額表）'!H$42 -> 0.007230021 | I28: ='事務費（金額表）'!I28/'事務費（金額表）'!I$42 -> 0.0042472691 | J28: ='事務費（金額表）'!J28/'事務費（金額表）'!J$42 -> 0 | K28: ='事務費（金額表）'!K28/'事務費（金額表）'!K$42 -> 0.00033711805 | L28: ='事務費（金額表）'!L28/'事務費（金額表）'!L$42 -> 6.4552501e-06 | ... R28: ='事務費（金額表）'!R28/'事務費（金額表）'!R$42 -> 0.0035668682 | S28: =#REF!/#REF! -> #REF!
B29: (11) | C29: 自動車保険料 | E29: ='事務費（金額表）'!E29/'事務費（金額表）'!E$42 -> 0.00036976945 | F29: ='事務費（金額表）'!F29/'事務費（金額表）'!F$42 -> 0.00052323196 | G29: ='事務費（金額表）'!G29/'事務費（金額表）'!G$42 -> 0.00026326344 | H29: ='事務費（金額表）'!H29/'事務費（金額表）'!H$42 -> 0.00052450937 | I29: ='事務費（金額表）'!I29/'事務費（金額表）'!I$42 -> 0.00047192323 | J29: ='事務費（金額表）'!J29/'事務費（金額表）'!J$42 -> 0.00023850398 | K29: ='事務費（金額表）'!K29/'事務費（金額表）'!K$42 -> 0.00010361944 | L29: ='事務費（金額表）'!L29/'事務費（金額表）'!L$42 -> 0.00014639849 | ... R29: ='事務費（金額表）'!R29/'事務費（金額表）'!R$42 -> 0.00037260883 | S29: =#REF!/#REF! -> #REF!
B30: (12) | C30: 備品購入料 | E30: ='事務費（金額表）'!E30/'事務費（金額表）'!E$42 -> 0.0028772505 | F30: ='事務費（金額表）'!F30/'事務費（金額表）'!F$42 -> 0.0037884066 | G30: ='事務費（金額表）'!G30/'事務費（金額表）'!G$42 -> 0.0039742093 | H30: ='事務費（金額表）'!H30/'事務費（金額表）'!H$42 -> 0.0035158736 | I30: ='事務費（金額表）'!I30/'事務費（金額表）'!I$42 -> 0.0036675066 | J30: ='事務費（金額表）'!J30/'事務費（金額表）'!J$42 -> 0.0022452778 | K30: ='事務費（金額表）'!K30/'事務費（金額表）'!K$42 -> 0.00047480415 | L30: ='事務費（金額表）'!L30/'事務費（金額表）'!L$42 -> 0.00061825487 | ... R30: ='事務費（金額表）'!R30/'事務費（金額表）'!R$42 -> 0.0035099453 | S30: =#REF!/#REF! -> #REF!
C31: （うち） 庁用器具類等 | E31: ='事務費（金額表）'!E31/'事務費（金額表）'!E$42 -> 0.0010413366 | F31: ='事務費（金額表）'!F31/'事務費（金額表）'!F$42 -> 0.0012675418 | G31: ='事務費（金額表）'!G31/'事務費（金額表）'!G$42 -> 0.0012026426 | H31: ='事務費（金額表）'!H31/'事務費（金額表）'!H$42 -> 0.0011750751 | I31: ='事務費（金額表）'!I31/'事務費（金額表）'!I$42 -> 0.0010280857 | J31: ='事務費（金額表）'!J31/'事務費（金額表）'!J$42 -> 0.0005200123 | K31: ='事務費（金額表）'!K31/'事務費（金額表）'!K$42 -> 0.00035911943 | L31: ='事務費（金額表）'!L31/'事務費（金額表）'!L$42 -> 0.00036966187 | ... R31: ='事務費（金額表）'!R31/'事務費（金額表）'!R$42 -> 0.0013972018 | S31: =#REF!/#REF! -> #REF!
C32: （うち） 自動車等 | E32: ='事務費（金額表）'!E32/'事務費（金額表）'!E$42 -> 0.0018359139 | F32: ='事務費（金額表）'!F32/'事務費（金額表）'!F$42 -> 0.0025208648 | G32: ='事務費（金額表）'!G32/'事務費（金額表）'!G$42 -> 0.0027715667 | H32: ='事務費（金額表）'!H32/'事務費（金額表）'!H$42 -> 0.0023407985 | I32: ='事務費（金額表）'!I32/'事務費（金額表）'!I$42 -> 0.0026394209 | J32: ='事務費（金額表）'!J32/'事務費（金額表）'!J$42 -> 0.0017252655 | K32: ='事務費（金額表）'!K32/'事務費（金額表）'!K$42 -> 0.00011568472 | L32: ='事務費（金額表）'!L32/'事務費（金額表）'!L$42 -> 0.000248593 | ... R32: ='事務費（金額表）'!R32/'事務費（金額表）'!R$42 -> 0.0021127435 | S32: =#REF!/#REF! -> #REF!
B33: (13) | C33: 使用・賃借料 | E33: ='事務費（金額表）'!E33/'事務費（金額表）'!E$42 -> 0.013465801 | F33: ='事務費（金額表）'!F33/'事務費（金額表）'!F$42 -> 0.021221791 | G33: ='事務費（金額表）'!G33/'事務費（金額表）'!G$42 -> 0.0097940085 | H33: ='事務費（金額表）'!H33/'事務費（金額表）'!H$42 -> 0.01555621 | I33: ='事務費（金額表）'!I33/'事務費（金額表）'!I$42 -> 0.016864713 | J33: ='事務費（金額表）'!J33/'事務費（金額表）'!J$42 -> 0.0082098531 | K33: ='事務費（金額表）'!K33/'事務費（金額表）'!K$42 -> 0.010102896 | L33: ='事務費（金額表）'!L33/'事務費（金額表）'!L$42 -> 0.0195529 | ... R33: ='事務費（金額表）'!R33/'事務費（金額表）'!R$42 -> 0.015714032 | S33: =#REF!/#REF! -> #REF!
C34: （うち） 自動車関連 | E34: ='事務費（金額表）'!E34/'事務費（金額表）'!E$42 -> 0.0010228552 | F34: ='事務費（金額表）'!F34/'事務費（金額表）'!F$42 -> 0.013112336 | G34: ='事務費（金額表）'!G34/'事務費（金額表）'!G$42 -> 0.0032891394 | H34: ='事務費（金額表）'!H34/'事務費（金額表）'!H$42 -> 0.0020855031 | I34: ='事務費（金額表）'!I34/'事務費（金額表）'!I$42 -> 0.0025437677 | J34: ='事務費（金額表）'!J34/'事務費（金額表）'!J$42 -> 0.0013457047 | K34: ='事務費（金額表）'!K34/'事務費（金額表）'!K$42 -> 0.0011788486 | L34: ='事務費（金額表）'!L34/'事務費（金額表）'!L$42 -> 0.0027751147 | ... R34: ='事務費（金額表）'!R34/'事務費（金額表）'!R$42 -> 0.0027378159 | S34: =#REF!/#REF! -> #REF!
C35: （うち） 会場・物品等 | E35: ='事務費（金額表）'!E35/'事務費（金額表）'!E$42 -> 0.012442916 | F35: ='事務費（金額表）'!F35/'事務費（金額表）'!F$42 -> 0.0081094557 | G35: ='事務費（金額表）'!G35/'事務費（金額表）'!G$42 -> 0.0065048691 | H35: ='事務費（金額表）'!H35/'事務費（金額表）'!H$42 -> 0.01347062 | I35: ='事務費（金額表）'!I35/'事務費（金額表）'!I$42 -> 0.014320928 | J35: ='事務費（金額表）'!J35/'事務費（金額表）'!J$42 -> 0.0068641484 | K35: ='事務費（金額表）'!K35/'事務費（金額表）'!K$42 -> 0.0089240469 | L35: ='事務費（金額表）'!L35/'事務費（金額表）'!L$42 -> 0.016777786 | ... R35: ='事務費（金額表）'!R35/'事務費（金額表）'!R$42 -> 0.012976195 | S35: =#REF!/#REF! -> #REF!
B36: (14) | C36: 委託料 | E36: ='事務費（金額表）'!E36/'事務費（金額表）'!E$42 -> 0.063569705 | F36: ='事務費（金額表）'!F36/'事務費（金額表）'!F$42 -> 0.024061626 | G36: ='事務費（金額表）'!G36/'事務費（金額表）'!G$42 -> 0.014543365 | H36: ='事務費（金額表）'!H36/'事務費（金額表）'!H$42 -> 0.036231113 | I36: ='事務費（金額表）'!I36/'事務費（金額表）'!I$42 -> 0.074417968 | J36: ='事務費（金額表）'!J36/'事務費（金額表）'!J$42 -> 0.13297586 | K36: ='事務費（金額表）'!K36/'事務費（金額表）'!K$42 -> 0.021669948 | L36: ='事務費（金額表）'!L36/'事務費（金額表）'!L$42 -> 0.011521883 | ... R36: ='事務費（金額表）'!R36/'事務費（金額表）'!R$42 -> 0.056635217 | S36: =#REF!/#REF! -> #REF!
B37: (15) | C37: 賃金 | E37: ='事務費（金額表）'!E37/'事務費（金額表）'!E$42 -> 0.034433311 | F37: ='事務費（金額表）'!F37/'事務費（金額表）'!F$42 -> 0.042910522 | G37: ='事務費（金額表）'!G37/'事務費（金額表）'!G$42 -> 0.058379345 | H37: ='事務費（金額表）'!H37/'事務費（金額表）'!H$42 -> 0.029896617 | I37: ='事務費（金額表）'!I37/'事務費（金額表）'!I$42 -> 0.03763721 | J37: ='事務費（金額表）'!J37/'事務費（金額表）'!J$42 -> 0.10157319 | K37: ='事務費（金額表）'!K37/'事務費（金額表）'!K$42 -> 0.0084535011 | L37: ='事務費（金額表）'!L37/'事務費（金額表）'!L$42 -> 0.0089780076 | ... R37: ='事務費（金額表）'!R37/'事務費（金額表）'!R$42 -> 0.0409301 | S37: =#REF!/#REF! -> #REF!
B38: (16) | C38: 社会保険料 | E38: ='事務費（金額表）'!E38/'事務費（金額表）'!E$42 -> 0.003877653 | F38: ='事務費（金額表）'!F38/'事務費（金額表）'!F$42 -> 0.0035312266 | G38: ='事務費（金額表）'!G38/'事務費（金額表）'!G$42 -> 0.011033589 | H38: ='事務費（金額表）'!H38/'事務費（金額表）'!H$42 -> 0.005513813 | I38: ='事務費（金額表）'!I38/'事務費（金額表）'!I$42 -> 0.0052275211 | J38: ='事務費（金額表）'!J38/'事務費（金額表）'!J$42 -> 0.010001086 | K38: ='事務費（金額表）'!K38/'事務費（金額表）'!K$42 -> 0.00084244025 | L38: ='事務費（金額表）'!L38/'事務費（金額表）'!L$42 -> 0.0016083543 | ... R38: ='事務費（金額表）'!R38/'事務費（金額表）'!R$42 -> 0.0050953048 | S38: =#REF!/#REF! -> #REF!
B39: (17) | C39: 自動車重量税 | E39: ='事務費（金額表）'!E39/'事務費（金額表）'!E$42 -> 0.00057930807 | F39: ='事務費（金額表）'!F39/'事務費（金額表）'!F$42 -> 0.00061020346 | G39: ='事務費（金額表）'!G39/'事務費（金額表）'!G$42 -> 0.00025350317 | H39: ='事務費（金額表）'!H39/'事務費（金額表）'!H$42 -> 0.00048496107 | I39: ='事務費（金額表）'!I39/'事務費（金額表）'!I$42 -> 0.0010152695 | J39: ='事務費（金額表）'!J39/'事務費（金額表）'!J$42 -> 0.0022946293 | K39: ='事務費（金額表）'!K39/'事務費（金額表）'!K$42 -> 6.6713887e-05 | L39: ='事務費（金額表）'!L39/'事務費（金額表）'!L$42 -> 7.2983848e-05 | ... R39: ='事務費（金額表）'!R39/'事務費（金額表）'!R$42 -> 0.00072229412 | S39: =#REF!/#REF! -> #REF!
B40: (18) | C40: 報酬・報償費 | E40: ='事務費（金額表）'!E40/'事務費（金額表）'!E$42 -> 0.0065380868 | F40: ='事務費（金額表）'!F40/'事務費（金額表）'!F$42 -> 0.0033189528 | G40: ='事務費（金額表）'!G40/'事務費（金額表）'!G$42 -> 0.036703297 | H40: ='事務費（金額表）'!H40/'事務費（金額表）'!H$42 -> 0.012186879 | I40: ='事務費（金額表）'!I40/'事務費（金額表）'!I$42 -> 0.010189167 | J40: ='事務費（金額表）'!J40/'事務費（金額表）'!J$42 -> 0.0058901629 | K40: ='事務費（金額表）'!K40/'事務費（金額表）'!K$42 -> 0.0030432888 | L40: ='事務費（金額表）'!L40/'事務費（金額表）'!L$42 -> 0.015639161 | ... R40: ='事務費（金額表）'!R40/'事務費（金額表）'!R$42 -> 0.0088230639 | S40: =#REF!/#REF! -> #REF!
B41: (19) | C41: その他 | E41: ='事務費（金額表）'!E41/'事務費（金額表）'!E$42 -> 0.022660127 | F41: ='事務費（金額表）'!F41/'事務費（金額表）'!F$42 -> 0.061185273 | G41: ='事務費（金額表）'!G41/'事務費（金額表）'!G$42 -> 0.010522581 | H41: ='事務費（金額表）'!H41/'事務費（金額表）'!H$42 -> 0.024782975 | I41: ='事務費（金額表）'!I41/'事務費（金額表）'!I$42 -> 0.021410467 | J41: ='事務費（金額表）'!J41/'事務費（金額表）'!J$42 -> 0.0072805258 | K41: ='事務費（金額表）'!K41/'事務費（金額表）'!K$42 -> 0.0018246958 | L41: ='事務費（金額表）'!L41/'事務費（金額表）'!L$42 -> 0.0019875056 | ... R41: ='事務費（金額表）'!R41/'事務費（金額表）'!R$42 -> 0.033370791 | S41: =#REF!/#REF! -> #REF!
A42: 合 計 | E42: ='事務費（金額表）'!E42/'事務費（金額表）'!E$42 -> 1 | F42: ='事務費（金額表）'!F42/'事務費（金額表）'!F$42 -> 1 | G42: ='事務費（金額表）'!G42/'事務費（金額表）'!G$42 -> 1 | H42: ='事務費（金額表）'!H42/'事務費（金額表）'!H$42 -> 1 | I42: ='事務費（金額表）'!I42/'事務費（金額表）'!I$42 -> 1 | J42: ='事務費（金額表）'!J42/'事務費（金額表）'!J$42 -> 1 | K42: ='事務費（金額表）'!K42/'事務費（金額表）'!K$42 -> 1 | L42: ='事務費（金額表）'!L42/'事務費（金額表）'!L$42 -> 1 | ... R42: ='事務費（金額表）'!R42/'事務費（金額表）'!R$42 -> 1 | S42: =#REF!/#REF! -> #REF!
