Workbook

Sheet 測量（金額表）
K2: （単位：100万円） | R2: （単位：100万円）
E3: 1.河川 | F3: 2.河川 総合開発 | G3: 3.海岸 | H3: 4.砂防及び 地滑り対策 | I3: 5.道路 | J3: 6.街路 | K3: 7.土地 区画整理 | L3: 8.下水道 | M3: 9.公園 | N3: 10.港湾整備 | O3: 11.港湾機能 施設整備 | P3: 12.空港整備 | Q3: 13.災害復旧 | R3: 合計 | S3: 合計
A4: 1. | B4: 賃金 | E4: 0 | F4: 0 | G4: 3.137 | H4: 40.512 | I4: 852.715 | J4: 0 | K4: 0 | L4: 0 | M4: 0.3735936 | N4: 2375.732 | O4: 7.673 | P4: 26.412 | Q4: 0 | R4: 3306.5546 | S4: =N4+O4 -> 2383.405
A5: 2. | B5: 原材料費 | E5: 0 | F5: 0 | G5: 0 | H5: 0 | I5: 1.405 | J5: 0 | K5: 0 | L5: 0 | M5: 0 | N5: 130.219 | O5: 0 | P5: 1.738 | Q5: 0 | R5: 133.362 | S5: =N5+O5 -> 130.219
B6: (1) | C6: 木材 | E6: 0 | F6: 0 | G6: 0 | H6: 0 | I6: 0.323 | J6: 0 | K6: 0 | L6: 0 | M6: 0 | N6: 0 | O6: 0 | P6: 1.738 | Q6: 0 | R6: 2.061 | S6: =N6+O6 -> 0
C7: （うち） 素材 | E7: 0 | F7: 0 | G7: 0 | H7: 0 | I7: 0.323 | J7: 0 | K7: 0 | L7: 0 | M7: 0 | N7: 0 | O7: 0 | P7: 0 | Q7: 0 | R7: 0.323 | S7: =N7+O7 -> 0
C8: （うち） 製材 | E8: 0 | F8: 0 | G8: 0 | H8: 0 | I8: 0 | J8: 0 | K8: 0 | L8: 0 | M8: 0 | N8: 0 | O8: 0 | P8: 1.738 | Q8: 0 | R8: 1.738 | S8: =N8+O8 -> 0
C9: （うち） 合板 | E9: 0 | F9: 0 | G9: 0 | H9: 0 | I9: 0 | J9: 0 | K9: 0 | L9: 0 | M9: 0 | N9: 0 | O9: 0 | P9: 0 | Q9: 0 | R9: 0 | S9: =N9+O9 -> 0
C10: （うち） その他 | E10: 0 | F10: 0 | G10: 0 | H10: 0 | I10: 0 | J10: 0 | K10: 0 | L10: 0 | M10: 0 | N10: 0 | O10: 0 | P10: 0 | Q10: 0 | R10: 0 | S10: =N10+O10 -> 0
B11: (2) | C11: 砂、砂利、石材 | E11: 0 | F11: 0 | G11: 0 | H11: 0 | I11: 0 | J11: 0 | K11: 0 | L11: 0 | M11: 0 | N11: 0 | O11: 0 | P11: 0 | Q11: 0 | R11: 0 | S11: =N11+O11 -> 0
B12: (3) | C12: セメント | E12: 0 | F12: 0 | G12: 0 | H12: 0 | I12: 0 | J12: 0 | K12: 0 | L12: 0 | M12: 0 | N12: 0 | O12: 0 | P12: 0 | Q12: 0 | R12: 0 | S12: =N12+O12 -> 0
B13: (4) | C13: セメント製品 | E13: 0 | F13: 0 | G13: 0 | H13: 0 | I13: 0 | J13: 0 | K13: 0 | L13: 0 | M13: 0 | N13: 0 | O13: 0 | P13: 0 | Q13: 0 | R13: 0 | S13: =N13+O13 -> 0
C14: （うち） 生コンクリート | E14: 0 | F14: 0 | G14: 0 | H14: 0 | I14: 0 | J14: 0 | K14: 0 | L14: 0 | M14: 0 | N14: 0 | O14: 0 | P14: 0 | Q14: 0 | R14: 0 | S14: =N14+O14 -> 0
C15: （うち） コンクリート製品 | E15: 0 | F15: 0 | G15: 0 | H15: 0 | I15: 0 | J15: 0 | K15: 0 | L15: 0 | M15: 0 | N15: 0 | O15: 0 | P15: 0 | Q15: 0 | R15: 0 | S15: =N15+O15 -> 0
B16: (5) | C16: 鉄鋼等 | E16: 0 | F16: 0 | G16: 0 | H16: 0 | I16: 0 | J16: 0 | K16: 0 | L16: 0 | M16: 0 | N16: 0 | O16: 0 | P16: 0 | Q16: 0 | R16: 0 | S16: =N16+O16 -> 0
C17: （うち） 普通鋼熱間圧延鋼材 | E17: 0 | F17: 0 | G17: 0 | H17: 0 | I17: 0 | J17: 0 | K17: 0 | L17: 0 | M17: 0 | N17: 0 | O17: 0 | P17: 0 | Q17: 0 | R17: 0 | S17: =N17+O17 -> 0
C18: （うち） その他の建設用金属製品 | E18: 0 | F18: 0 | G18: 0 | H18: 0 | I18: 0 | J18: 0 | K18: 0 | L18: 0 | M18: 0 | N18: 0 | O18: 0 | P18: 0 | Q18: 0 | R18: 0 | S18: =N18+O18 -> 0
B19: (6) | C19: 化学製品 | E19: 0 | F19: 0 | G19: 0 | H19: 0 | I19: 0 | J19: 0 | K19: 0 | L19: 0 | M19: 0 | N19: 0 | O19: 0 | P19: 0 | Q19: 0 | R19: 0 | S19: =N19+O19 -> 0
B20: (7) | C20: その他 | E20: 0 | F20: 0 | G20: 0 | H20: 0 | I20: 1.082 | J20: 0 | K20: 0 | L20: 0 | M20: 0 | N20: 130.219 | O20: 0 | P20: 0 | Q20: 0 | R20: 131.301 | S20: =N20+O20 -> 130.219
A21: 3. | B21: 消耗品費 | E21: 0 | F21: 0.731 | G21: 0 | H21: 0 | I21: 340.289 | J21: 0 | K21: 0 | L21: 0 | M21: 0.02532308 | N21: 22.449 | O21: 0.072 | P21: 0.489 | Q21: 0 | R21: 364.05532 | S21: =N21+O21 -> 22.521
A22: 4. | B22: 備品購入費 | E22: 0.002 | F22: 0 | G22: 0 | H22: 0 | I22: 4.152 | J22: 0 | K22: 0 | L22: 0 | M22: 0 | N22: 0 | O22: 0 | P22: 0 | Q22: 0 | R22: 4.154 | S22: =N22+O22 -> 0
A23: 5. | B23: 機械修繕費 | E23: 0 | F23: 5.724 | G23: 1.305 | H23: 15.532 | I23: 3.444 | J23: 0 | K23: 0.037 | L23: 0 | M23: 0 | N23: 1929.163 | O23: 0 | P23: 0.38 | Q23: 0 | R23: 1955.585 | S23: =N23+O23 -> 1929.163
A24: 6. | B24: 使用料・賃借料 | E24: 16.611 | F24: 5.415 | G24: 0.45 | H24: 0 | I24: 31.796 | J24: 0 | K24: 0 | L24: 0 | M24: 0.00163296 | N24: 0.464 | O24: 0 | P24: 0.522 | Q24: 1.32 | R24: 56.579633 | S24: =N24+O24 -> 0.464
A25: 7. | B25: 社会保険料 | E25: 0 | F25: 0 | G25: 0 | H25: 0 | I25: 42.992 | J25: 0 | K25: 0 | L25: 0 | M25: 0 | N25: 0.76 | O25: 0 | P25: 0 | Q25: 0 | R25: 43.752 | S25: =N25+O25 -> 0.76
A26: 8. | B26: 委託料・請負料 | E26: 50086.814 | F26: 946925.56 | G26: 55512.3 | H26: 211653.55 | I26: 121156.32 | J26: 95481.541 | K26: 810.76 | L26: 45647.104 | M26: 63453.426 | N26: 1224823.2 | O26: 298.151 | P26: 96256.304 | Q26: 110214.67 | R26: 3022319.7 | S26: =N26+O26 -> 1225121.4
A27: 9. | B27: その他 | E27: 0.552 | F27: 0 | G27: 0 | H27: 0 | I27: 538.728 | J27: 0 | K27: 0 | L27: 635.168 | M27: 0.20565036 | N27: 172.1704 | O27: 0 | P27: 13.322 | Q27: 0 | R27: 1360.1461 | S27: =N27+O27 -> 172.1704
A28: 合 計 | E28: 50103.979 | F28: 946937.43 | G28: 55517.192 | H28: 211709.59 | I28: 122971.84 | J28: 95481.541 | K28: 810.797 | L28: 46282.272 | M28: 63454.033 | N28: 1229454.2 | O28: 305.896 | P28: 96299.167 | Q28: 110215.99 | R28: 3029543.9 | S28: =N28+O28 -> 1229760.1

Sheet 測量 (構成比表)
E3: 1.河川 | F3: 2.河川 総合開発 | G3: 3.海岸 | H3: 4.砂防及び 地滑り対策 | I3: 5.道路 | J3: 6.街路 | K3: 7.土地 区画整理 | L3: 8.下水道 | M3: 9.公園 | N3: 10.港湾整備 | O3: 11.港湾機能 施設整備 | P3: 12.空港整備 | Q3: 13.災害復旧 | R3: 合計 | S3: 合計
A4: 1. | B4: 賃金 | E4: ='測量（金額表）'!E4/'測量（金額表）'!E$28 -> 0 | F4: ='測量（金額表）'!F4/'測量（金額表）'!F$28 -> 0 | G4: ='測量（金額表）'!G4/'測量（金額表）'!G$28 -> 5.6505019e-05 | H4: ='測量（金額表）'!H4/'測量（金額表）'!H$28 -> 0.00019135647 | I4: ='測量（金額表）'!I4/'測量（金額表）'!I$28 -> 0.0069342296 | J4: ='測量（金額表）'!J4/'測量（金額表）'!J$28 -> 0 | K4: ='測量（金額表）'!K4/'測量（金額表）'!K$28 -> 0 | L4: ='測量（金額表）'!L4/'測量（金額表）'!L$28 -> 0 | ... R4: ='測量（金額表）'!R4/'測量（金額表）'!R$28 -> 0.0010914364 | S4: =#REF!/#REF! -> #REF!
A5: 2. | B5: 原材料費 | E5: ='測量（金額表）'!E5/'測量（金額表）'!E$28 -> 0 | F5: ='測量（金額表）'!F5/'測量（金額表）'!F$28 -> 0 | G5: ='測量（金額表）'!G5/'測量（金額表）'!G$28 -> 0 | H5: ='測量（金額表）'!H5/'測量（金額表）'!H$28 -> 0 | I5: ='測量（金額表）'!I5/'測量（金額表）'!I$28 -> 1.142538e-05 | J5: ='測量（金額表）'!J5/'測量（金額表）'!J$28 -> 0 | K5: ='測量（金額表）'!K5/'測量（金額表）'!K$28 -> 0 | L5: ='測量（金額表）'!L5/'測量（金額表）'!L$28 -> 0 | ... R5: ='測量（金額表）'!R5/'測量（金額表）'!R$28 -> 4.4020487e-05 | S5: =#REF!/#REF! -> #REF!
B6: (1) | C6: 木材 | E6: ='測量（金額表）'!E6/'測量（金額表）'!E$28 -> 0 | F6: ='測量（金額表）'!F6/'測量（金額表）'!F$28 -> 0 | G6: ='測量（金額表）'!G6/'測量（金額表）'!G$28 -> 0 | H6: ='測量（金額表）'!H6/'測量（金額表）'!H$28 -> 0 | I6: ='測量（金額表）'!I6/'測量（金額表）'!I$28 -> 2.6266175e-06 | J6: ='測量（金額表）'!J6/'測量（金額表）'!J$28 -> 0 | K6: ='測量（金額表）'!K6/'測量（金額表）'!K$28 -> 0 | L6: ='測量（金額表）'!L6/'測量（金額表）'!L$28 -> 0 | ... R6: ='測量（金額表）'!R6/'測量（金額表）'!R$28 -> 6.8030042e-07 | S6: =#REF!/#REF! -> #REF!
C7: （うち） 素材 | E7: ='測量（金額表）'!E7/'測量（金額表）'!E$28 -> 0 | F7: ='測量（金額表）'!F7/'測量（金額表）'!F$28 -> 0 | G7: ='測量（金額表）'!G7/'測量（金額表）'!G$28 -> 0 | H7: ='測量（金額表）'!H7/'測量（金額表）'!H$28 -> 0 | I7: ='測量（金額表）'!I7/'測量（金額表）'!I$28 -> 2.6266175e-06 | J7: ='測量（金額表）'!J7/'測量（金額表）'!J$28 -> 0 | K7: ='測量（金額表）'!K7/'測量（金額表）'!K$28 -> 0 | L7: ='測量（金額表）'!L7/'測量（金額表）'!L$28 -> 0 | ... R7: ='測量（金額表）'!R7/'測量（金額表）'!R$28 -> 1.0661671e-07 | S7: =#REF!/#REF! -> #REF!
C8: （うち） 製材 | E8: ='測量（金額表）'!E8/'測量（金額表）'!E$28 -> 0 | F8: ='測量（金額表）'!F8/'測量（金額表）'!F$28 -> 0 | G8: ='測量（金額表）'!G8/'測量（金額表）'!G$28 -> 0 | H8: ='測量（金額表）'!H8/'測量（金額表）'!H$28 -> 0 | I8: ='測量（金額表）'!I8/'測量（金額表）'!I$28 -> 0 | J8: ='測量（金額表）'!J8/'測量（金額表）'!J$28 -> 0 | K8: ='測量（金額表）'!K8/'測量（金額表）'!K$28 -> 0 | L8: ='測量（金額表）'!L8/'測量（金額表）'!L$28 -> 0 | ... R8: ='測量（金額表）'!R8/'測量（金額表）'!R$28 -> 5.7368371e-07 | S8: =#REF!/#REF! -> #REF!
C9: （うち） 合板 | E9: ='測量（金額表）'!E9/'測量（金額表）'!E$28 -> 0 | F9: ='測量（金額表）'!F9/'測量（金額表）'!F$28 -> 0 | G9: ='測量（金額表）'!G9/'測量（金額表）'!G$28 -> 0 | H9: ='測量（金額表）'!H9/'測量（金額表）'!H$28 -> 0 | I9: ='測量（金額表）'!I9/'測量（金額表）'!I$28 -> 0 | J9: ='測量（金額表）'!J9/'測量（金額表）'!J$28 -> 0 | K9: ='測量（金額表）'!K9/'測量（金額表）'!K$28 -> 0 | L9: ='測量（金額表）'!L9/'測量（金額表）'!L$28 -> 0 | ... R9: ='測量（金額表）'!R9/'測量（金額表）'!R$28 -> 0 | S9: =#REF!/#REF! -> #REF!
C10: （うち） その他 | E10: ='測量（金額表）'!E10/'測量（金額表）'!E$28 -> 0 | F10: ='測量（金額表）'!F10/'測量（金額表）'!F$28 -> 0 | G10: ='測量（金額表）'!G10/'測量（金額表）'!G$28 -> 0 | H10: ='測量（金額表）'!H10/'測量（金額表）'!H$28 -> 0 | I10: ='測量（金額表）'!I10/'測量（金額表）'!I$28 -> 0 | J10: ='測量（金額表）'!J10/'測量（金額表）'!J$28 -> 0 | K10: ='測量（金額表）'!K10/'測量（金額表）'!K$28 -> 0 | L10: ='測量（金額表）'!L10/'測量（金額表）'!L$28 -> 0 | ... R10: ='測量（金額表）'!R10/'測量（金額表）'!R$28 -> 0 | S10: =#REF!/#REF! -> #REF!
B11: (2) | C11: 砂、砂利、石材 | E11: ='測量（金額表）'!E11/'測量（金額表）'!E$28 -> 0 | F11: ='測量（金額表）'!F11/'測量（金額表）'!F$28 -> 0 | G11: ='測量（金額表）'!G11/'測量（金額表）'!G$28 -> 0 | H11: ='測量（金額表）'!H11/'測量（金額表）'!H$28 -> 0 | I11: ='測量（金額表）'!I11/'測量（金額表）'!I$28 -> 0 | J11: ='測量（金額表）'!J11/'測量（金額表）'!J$28 -> 0 | K11: ='測量（金額表）'!K11/'測量（金額表）'!K$28 -> 0 | L11: ='測量（金額表）'!L11/'測量（金額表）'!L$28 -> 0 | ... R11: ='測量（金額表）'!R11/'測量（金額表）'!R$28 -> 0 | S11: =#REF!/#REF! -> #REF!
B12: (3) | C12: セメント | E12: ='測量（金額表）'!E12/'測量（金額表）'!E$28 -> 0 | F12: ='測量（金額表）'!F12/'測量（金額表）'!F$28 -> 0 | G12: ='測量（金額表）'!G12/'測量（金額表）'!G$28 -> 0 | H12: ='測量（金額表）'!H12/'測量（金額表）'!H$28 -> 0 | I12: ='測量（金額表）'!I12/'測量（金額表）'!I$28 -> 0 | J12: ='測量（金額表）'!J12/'測量（金額表）'!J$28 -> 0 | K12: ='測量（金額表）'!K12/'測量（金額表）'!K$28 -> 0 | L12: ='測量（金額表）'!L12/'測量（金額表）'!L$28 -> 0 | ... R12: ='測量（金額表）'!R12/'測量（金額表）'!R$28 -> 0 | S12: =#REF!/#REF! -> #REF!
B13: (4) | C13: セメント製品 | E13: ='測量（金額表）'!E13/'測量（金額表）'!E$28 -> 0 | F13: ='測量（金額表）'!F13/'測量（金額表）'!F$28 -> 0 | G13: ='測量（金額表）'!G13/'測量（金額表）'!G$28 -> 0 | H13: ='測量（金額表）'!H13/'測量（金額表）'!H$28 -> 0 | I13: ='測量（金額表）'!I13/'測量（金額表）'!I$28 -> 0 | J13: ='測量（金額表）'!J13/'測量（金額表）'!J$28 -> 0 | K13: ='測量（金額表）'!K13/'測量（金額表）'!K$28 -> 0 | L13: ='測量（金額表）'!L13/'測量（金額表）'!L$28 -> 0 | ... R13: ='測量（金額表）'!R13/'測量（金額表）'!R$28 -> 0 | S13: =#REF!/#REF! -> #REF!
C14: （うち） 生コンクリート | E14: ='測量（金額表）'!E14/'測量（金額表）'!E$28 -> 0 | F14: ='測量（金額表）'!F14/'測量（金額表）'!F$28 -> 0 | G14: ='測量（金額表）'!G14/'測量（金額表）'!G$28 -> 0 | H14: ='測量（金額表）'!H14/'測量（金額表）'!H$28 -> 0 | I14: ='測量（金額表）'!I14/'測量（金額表）'!I$28 -> 0 | J14: ='測量（金額表）'!J14/'測量（金額表）'!J$28 -> 0 | K14: ='測量（金額表）'!K14/'測量（金額表）'!K$28 -> 0 | L14: ='測量（金額表）'!L14/'測量（金額表）'!L$28 -> 0 | ... R14: ='測量（金額表）'!R14/'測量（金額表）'!R$28 -> 0 | S14: =#REF!/#REF! -> #REF!
C15: （うち） コンクリート製品 | E15: ='測量（金額表）'!E15/'測量（金額表）'!E$28 -> 0 | F15: ='測量（金額表）'!F15/'測量（金額表）'!F$28 -> 0 | G15: ='測量（金額表）'!G15/'測量（金額表）'!G$28 -> 0 | H15: ='測量（金額表）'!H15/'測量（金額表）'!H$28 -> 0 | I15: ='測量（金額表）'!I15/'測量（金額表）'!I$28 -> 0 | J15: ='測量（金額表）'!J15/'測量（金額表）'!J$28 -> 0 | K15: ='測量（金額表）'!K15/'測量（金額表）'!K$28 -> 0 | L15: ='測量（金額表）'!L15/'測量（金額表）'!L$28 -> 0 | ... R15: ='測量（金額表）'!R15/'測量（金額表）'!R$28 -> 0 | S15: =#REF!/#REF! -> #REF!
B16: (5) | C16: 鉄鋼等 | E16: ='測量（金額表）'!E16/'測量（金額表）'!E$28 -> 0 | F16: ='測量（金額表）'!F16/'測量（金額表）'!F$28 -> 0 | G16: ='測量（金額表）'!G16/'測量（金額表）'!G$28 -> 0 | H16: ='測量（金額表）'!H16/'測量（金額表）'!H$28 -> 0 | I16: ='測量（金額表）'!I16/'測量（金額表）'!I$28 -> 0 | J16: ='測量（金額表）'!J16/'測量（金額表）'!J$28 -> 0 | K16: ='測量（金額表）'!K16/'測量（金額表）'!K$28 -> 0 | L16: ='測量（金額表）'!L16/'測量（金額表）'!L$28 -> 0 | ... R16: ='測量（金額表）'!R16/'測量（金額表）'!R$28 -> 0 | S16: =#REF!/#REF! -> #REF!
C17: （うち） 普通鋼熱間圧延鋼材 | E17: ='測量（金額表）'!E17/'測量（金額表）'!E$28 -> 0 | F17: ='測量（金額表）'!F17/'測量（金額表）'!F$28 -> 0 | G17: ='測量（金額表）'!G17/'測量（金額表）'!G$28 -> 0 | H17: ='測量（金額表）'!H17/'測量（金額表）'!H$28 -> 0 | I17: ='測量（金額表）'!I17/'測量（金額表）'!I$28 -> 0 | J17: ='測量（金額表）'!J17/'測量（金額表）'!J$28 -> 0 | K17: ='測量（金額表）'!K17/'測量（金額表）'!K$28 -> 0 | L17: ='測量（金額表）'!L17/'測量（金額表）'!L$28 -> 0 | ... R17: ='測量（金額表）'!R17/'測量（金額表）'!R$28 -> 0 | S17: =#REF!/#REF! -> #REF!
C18: （うち） その他の建設用金属製品 | E18: ='測量（金額表）'!E18/'測量（金額表）'!E$28 -> 0 | F18: ='測量（金額表）'!F18/'測量（金額表）'!F$28 -> 0 | G18: ='測量（金額表）'!G18/'測量（金額表）'!G$28 -> 0 | H18: ='測量（金額表）'!H18/'測量（金額表）'!H$28 -> 0 | I18: ='測量（金額表）'!I18/'測量（金額表）'!I$28 -> 0 | J18: ='測量（金額表）'!J18/'測量（金額表）'!J$28 -> 0 | K18: ='測量（金額表）'!K18/'測量（金額表）'!K$28 -> 0 | L18: ='測量（金額表）'!L18/'測量（金額表）'!L$28 -> 0 | ... R18: ='測量（金額表）'!R18/'測量（金額表）'!R$28 -> 0 | S18: =#REF!/#REF! -> #REF!
B19: (6) | C19: 化学製品 | E19: ='測量（金額表）'!E19/'測量（金額表）'!E$28 -> 0 | F19: ='測量（金額表）'!F19/'測量（金額表）'!F$28 -> 0 | G19: ='測量（金額表）'!G19/'測量（金額表）'!G$28 -> 0 | H19: ='測量（金額表）'!H19/'測量（金額表）'!H$28 -> 0 | I19: ='測量（金額表）'!I19/'測量（金額表）'!I$28 -> 0 | J19: ='測量（金額表）'!J19/'測量（金額表）'!J$28 -> 0 | K19: ='測量（金額表）'!K19/'測量（金額表）'!K$28 -> 0 | L19: ='測量（金額表）'!L19/'測量（金額表）'!L$28 -> 0 | ... R19: ='測量（金額表）'!R19/'測量（金額表）'!R$28 -> 0 | S19: =#REF!/#REF! -> #REF!
B20: (7) | C20: その他 | E20: ='測量（金額表）'!E20/'測量（金額表）'!E$28 -> 0 | F20: ='測量（金額表）'!F20/'測量（金額表）'!F$28 -> 0 | G20: ='測量（金額表）'!G20/'測量（金額表）'!G$28 -> 0 | H20: ='測量（金額表）'!H20/'測量（金額表）'!H$28 -> 0 | I20: ='測量（金額表）'!I20/'測量（金額表）'!I$28 -> 8.7987621e-06 | J20: ='測量（金額表）'!J20/'測量（金額表）'!J$28 -> 0 | K20: ='測量（金額表）'!K20/'測量（金額表）'!K$28 -> 0 | L20: ='測量（金額表）'!L20/'測量（金額表）'!L$28 -> 0 | ... R20: ='測量（金額表）'!R20/'測量（金額表）'!R$28 -> 4.3340187e-05 | S20: =#REF!/#REF! -> #REF!
A21: 3. | B21: 消耗品費 | E21: ='測量（金額表）'!E21/'測量（金額表）'!E$28 -> 0 | F21: ='測量（金額表）'!F21/'測量（金額表）'!F$28 -> 7.719623e-07 | G21: ='測量（金額表）'!G21/'測量（金額表）'!G$28 -> 0 | H21: ='測量（金額表）'!H21/'測量（金額表）'!H$28 -> 0 | I21: ='測量（金額表）'!I21/'測量（金額表）'!I$28 -> 0.0027672107 | J21: ='測量（金額表）'!J21/'測量（金額表）'!J$28 -> 0 | K21: ='測量（金額表）'!K21/'測量（金額表）'!K$28 -> 0 | L21: ='測量（金額表）'!L21/'測量（金額表）'!L$28 -> 0 | ... R21: ='測量（金額表）'!R21/'測量（金額表）'!R$28 -> 0.00012016836 | S21: =#REF!/#REF! -> #REF!
A22: 4. | B22: 備品購入費 | E22: ='測量（金額表）'!E22/'測量（金額表）'!E$28 -> 3.9916989e-08 | F22: ='測量（金額表）'!F22/'測量（金額表）'!F$28 -> 0 | G22: ='測量（金額表）'!G22/'測量（金額表）'!G$28 -> 0 | H22: ='測量（金額表）'!H22/'測量（金額表）'!H$28 -> 0 | I22: ='測量（金額表）'!I22/'測量（金額表）'!I$28 -> 3.3763826e-05 | J22: ='測量（金額表）'!J22/'測量（金額表）'!J$28 -> 0 | K22: ='測量（金額表）'!K22/'測量（金額表）'!K$28 -> 0 | L22: ='測量（金額表）'!L22/'測量（金額表）'!L$28 -> 0 | ... R22: ='測量（金額表）'!R22/'測量（金額表）'!R$28 -> 1.3711635e-06 | S22: =#REF!/#REF! -> #REF!
A23: 5. | B23: 機械修繕費 | E23: ='測量（金額表）'!E23/'測量（金額表）'!E$28 -> 0 | F23: ='測量（金額表）'!F23/'測量（金額表）'!F$28 -> 6.0447499e-06 | G23: ='測量（金額表）'!G23/'測量（金額表）'!G$28 -> 2.3506232e-05 | H23: ='測量（金額表）'!H23/'測量（金額表）'!H$28 -> 7.336465e-05 | I23: ='測量（金額表）'!I23/'測量（金額表）'!I$28 -> 2.8006411e-05 | J23: ='測量（金額表）'!J23/'測量（金額表）'!J$28 -> 0 | K23: ='測量（金額表）'!K23/'測量（金額表）'!K$28 -> 4.5634111e-05 | L23: ='測量（金額表）'!L23/'測量（金額表）'!L$28 -> 0 | ... R23: ='測量（金額表）'!R23/'測量（金額表）'!R$28 -> 0.00064550475 | S23: =#REF!/#REF! -> #REF!
A24: 6. | B24: 使用料・賃借料 | E24: ='測量（金額表）'!E24/'測量（金額表）'!E$28 -> 0.00033153055 | F24: ='測量（金額表）'!F24/'測量（金額表）'!F$28 -> 5.7184348e-06 | G24: ='測量（金額表）'!G24/'測量（金額表）'!G$28 -> 8.1055973e-06 | H24: ='測量（金額表）'!H24/'測量（金額表）'!H$28 -> 0 | I24: ='測量（金額表）'!I24/'測量（金額表）'!I$28 -> 0.00025856325 | J24: ='測量（金額表）'!J24/'測量（金額表）'!J$28 -> 0 | K24: ='測量（金額表）'!K24/'測量（金額表）'!K$28 -> 0 | L24: ='測量（金額表）'!L24/'測量（金額表）'!L$28 -> 0 | ... R24: ='測量（金額表）'!R24/'測量（金額表）'!R$28 -> 1.8675957e-05 | S24: =#REF!/#REF! -> #REF!
A25: 7. | B25: 社会保険料 | E25: ='測量（金額表）'!E25/'測量（金額表）'!E$28 -> 0 | F25: ='測量（金額表）'!F25/'測量（金額表）'!F$28 -> 0 | G25: ='測量（金額表）'!G25/'測量（金額表）'!G$28 -> 0 | H25: ='測量（金額表）'!H25/'測量（金額表）'!H$28 -> 0 | I25: ='測量（金額表）'!I25/'測量（金額表）'!I$28 -> 0.00034960848 | J25: ='測量（金額表）'!J25/'測量（金額表）'!J$28 -> 0 | K25: ='測量（金額表）'!K25/'測量（金額表）'!K$28 -> 0 | L25: ='測量（金額表）'!L25/'測量（金額表）'!L$28 -> 0 | ... R25: ='測量（金額表）'!R25/'測量（金額表）'!R$28 -> 1.4441778e-05 | S25: =#REF!/#REF! -> #REF!
A26: 8. | B26: 委託料・請負料 | E26: ='測量（金額表）'!E26/'測量（金額表）'!E$28 -> 0.99965741 | F26: ='測量（金額表）'!F26/'測量（金額表）'!F$28 -> 0.99998746 | G26: ='測量（金額表）'!G26/'測量（金額表）'!G$28 -> 0.99991188 | H26: ='測量（金額表）'!H26/'測量（金額表）'!H$28 -> 0.99973528 | I26: ='測量（金額表）'!I26/'測量（金額表）'!I$28 -> 0.98523629 | J26: ='測量（金額表）'!J26/'測量（金額表）'!J$28 -> 1 | K26: ='測量（金額表）'!K26/'測量（金額表）'!K$28 -> 0.99995437 | L26: ='測量（金額表）'!L26/'測量（金額表）'!L$28 -> 0.98627621 | ... R26: ='測量（金額表）'!R26/'測量（金額表）'!R$28 -> 0.99761542 | S26: =#REF!/#REF! -> #REF!
A27: 9. | B27: その他 | E27: ='測量（金額表）'!E27/'測量（金額表）'!E$28 -> 1.1017089e-05 | F27: ='測量（金額表）'!F27/'測量（金額表）'!F$28 -> 0 | G27: ='測量（金額表）'!G27/'測量（金額表）'!G$28 -> 0 | H27: ='測量（金額表）'!H27/'測量（金額表）'!H$28 -> 0 | I27: ='測量（金額表）'!I27/'測量（金額表）'!I$28 -> 0.0043809053 | J27: ='測量（金額表）'!J27/'測量（金額表）'!J$28 -> 0 | K27: ='測量（金額表）'!K27/'測量（金額表）'!K$28 -> 0 | L27: ='測量（金額表）'!L27/'測量（金額表）'!L$28 -> 0.013723786 | ... R27: ='測量（金額表）'!R27/'測量（金額表）'!R$28 -> 0.00044896066 | S27: =#REF!/#REF! -> #REF!
A28: 合 計 | E28: ='測量（金額表）'!E28/'測量（金額表）'!E$28 -> 1 | F28: ='測量（金額表）'!F28/'測量（金額表）'!F$28 -> 1 | G28: ='測量（金額表）'!G28/'測量（金額表）'!G$28 -> 1 | H28: ='測量（金額表）'!H28/'測量（金額表）'!H$28 -> 1 | I28: ='測量（金額表）'!I28/'測量（金額表）'!I$28 -> 1 | J28: ='測量（金額表）'!J28/'測量（金額表）'!J$28 -> 1 | K28: ='測量（金額表）'!K28/'測量（金額表）'!K$28 -> 1 | L28: ='測量（金額表）'!L28/'測量（金額表）'!L$28 -> 1 | ... R28: ='測量（金額表）'!R28/'測量（金額表）'!R$28 -> 1 | S28: =#REF!/#REF! -> #REF!
