Workbook

Sheet 船舶（金額表）
L2: （単位：１００万円） | S2: （単位：１００万円）
F3: 1.河川 | G3: 2.河川 総合開発 | H3: 3.海岸 | I3: 4.砂防及び 地滑り対策 | J3: 5.道路 | K3: 6.街路 | L3: 7.土地 区画整理 | M3: 8.下水道 | N3: 9.公園 | O3: 10.港湾整備 | P3: 11.港湾機能 施設整備 | Q3: 12.空港整備 | R3: 13.災害復旧 | S3: 合計 | T3: 10と11の和
A4: 1. | B4: 賃金 | F4: 0 | G4: 34.588 | H4: 0 | I4: 2.149 | J4: 16.176 | K4: 0 | L4: 0 | M4: 0 | N4: 0 | O4: 1.626 | P4: 0 | Q4: 0 | R4: 1.277 | S4: 55.816 | T4: =O4+P4 -> 1.626
A5: 2. | B5: 社会保険料 | F5: 0 | G5: 51.161 | H5: 0 | I5: 0.652 | J5: 2.039 | K5: 0 | L5: 0 | M5: 0 | N5: 0 | O5: 0 | P5: 0 | Q5: 0 | R5: 1.055 | S5: 54.907 | T5: =O5+P5 -> 0
A6: 3. | B6: 機械器具等購入費 | F6: 670.136 | G6: 244.1767 | H6: 40.171 | I6: 374.195 | J6: 2579.692 | K6: 0 | L6: 0 | M6: 9.456 | N6: 42.7078 | O6: 999.79693 | P6: 6.372 | Q6: 72.71 | R6: 17.904 | S6: 5057.3174 | T6: =O6+P6 -> 1006.1689
B7: (1) | D7: 建設機械 | F7: 16.299 | G7: 0 | H7: 0 | I7: 0 | J7: 1486.779 | K7: 0 | L7: 0 | M7: 0 | N7: 4.906 | O7: 0 | P7: 0 | Q7: 0 | R7: 0 | S7: 1507.984 | T7: =O7+P7 -> 0
B8: (2) | D8: 運搬機械 | F8: 7.527 | G8: 3.945463 | H8: 0 | I8: 68.472 | J8: 12.711 | K8: 0 | L8: 0 | M8: 0 | N8: 12.262 | O8: 0 | P8: 0 | Q8: 0 | R8: 0 | S8: 104.91746 | T8: =O8+P8 -> 0
B9: (3) | D9: 電気機械 | F9: 480.963 | G9: 99.401084 | H9: 9.085 | I9: 297.188 | J9: 203.341 | K9: 0 | L9: 0 | M9: 0 | N9: 0.486 | O9: 21.68 | P9: 0 | Q9: 3.955 | R9: 17.904 | S9: 1134.0031 | T9: =O9+P9 -> 21.68
B10: (4) | D10: その他の機械 | F10: 145.214 | G10: 139.687 | H10: 22.176 | I10: 4.339 | J10: 873.986 | K10: 0 | L10: 0 | M10: 9.456 | N10: 15.1998 | O10: 863.252 | P10: 6.372 | Q10: 66.422 | R10: 0 | S10: 2146.1038 | T10: =O10+P10 -> 869.624
B11: (5) | D11: 工事用道具類 | F11: 0 | G11: 0 | H11: 0 | I11: 0 | J11: 0 | K11: 0 | L11: 0 | M11: 0 | N11: 0 | O11: 19.843 | P11: 0 | Q11: 0 | R11: 0 | S11: 19.843 | T11: =O11+P11 -> 19.843
B12: (6) | D12: その他 | F12: 20.133 | G12: 1.143157 | H12: 8.91 | I12: 4.196 | J12: 2.875 | K12: 0 | L12: 0 | M12: 0 | N12: 9.854 | O12: 95.021927 | P12: 0 | Q12: 2.333 | R12: 0 | S12: 144.46608 | T12: =O12+P12 -> 95.021927
A13: 4. | B13: 機械等の運搬、据付撤去費 | F13: 76.98 | G13: 28.613 | H13: 2.072 | I13: 182.195 | J13: 146.286 | K13: 0 | L13: 0 | M13: 0 | N13: 0 | O13: 28.715 | P13: 0 | Q13: 0 | R13: 0.008 | S13: 464.869 | T13: =O13+P13 -> 28.715
B14: (1) | D14: 運搬費 | F14: 5.801 | G14: 0.209 | H14: 0.024 | I14: 1.1 | J14: 5.461 | K14: 0 | L14: 0 | M14: 0 | N14: 0 | O14: 0.377 | P14: 0 | Q14: 0 | R14: 0.008 | S14: 12.98 | T14: =O14+P14 -> 0.377
B15: (2) | D15: 据付及び撤去費 | F15: 71.179 | G15: 28.404 | H15: 2.048 | I15: 181.095 | J15: 140.825 | K15: 0 | L15: 0 | M15: 0 | N15: 0 | O15: 28.338 | P15: 0 | Q15: 0 | R15: 0 | S15: 451.889 | T15: =O15+P15 -> 28.338
C16: ① | D16: 木材 | F16: 0 | G16: 0 | H16: 0 | I16: 0 | J16: 0 | K16: 0 | L16: 0 | M16: 0 | N16: 0 | O16: 0 | P16: 0 | Q16: 0 | R16: 0 | S16: 0 | T16: =O16+P16 -> 0
D17: （うち） 素 材 | F17: 0 | G17: 0 | H17: 0 | I17: 0 | J17: 0 | K17: 0 | L17: 0 | M17: 0 | N17: 0 | O17: 0 | P17: 0 | Q17: 0 | R17: 0 | S17: 0 | T17: =O17+P17 -> 0
D18: （うち） 製 材 | F18: 0 | G18: 0 | H18: 0 | I18: 0 | J18: 0 | K18: 0 | L18: 0 | M18: 0 | N18: 0 | O18: 0 | P18: 0 | Q18: 0 | R18: 0 | S18: 0 | T18: =O18+P18 -> 0
D19: （うち） 合 板 | F19: 0 | G19: 0 | H19: 0 | I19: 0 | J19: 0 | K19: 0 | L19: 0 | M19: 0 | N19: 0 | O19: 0 | P19: 0 | Q19: 0 | R19: 0 | S19: 0 | T19: =O19+P19 -> 0
D20: （うち） そ の 他 | F20: 0 | G20: 0 | H20: 0 | I20: 0 | J20: 0 | K20: 0 | L20: 0 | M20: 0 | N20: 0 | O20: 0 | P20: 0 | Q20: 0 | R20: 0 | S20: 0 | T20: =O20+P20 -> 0
C21: ② | D21: セメント | F21: 0 | G21: 0 | H21: 0 | I21: 0 | J21: 0 | K21: 0 | L21: 0 | M21: 0 | N21: 0 | O21: 0 | P21: 0 | Q21: 0 | R21: 0 | S21: 0 | T21: =O21+P21 -> 0
C22: ③ | D22: セメント製品 | F22: 0 | G22: 0 | H22: 0 | I22: 0 | J22: 0.184 | K22: 0 | L22: 0 | M22: 0 | N22: 0 | O22: 0 | P22: 0 | Q22: 0 | R22: 0 | S22: 0.184 | T22: =O22+P22 -> 0
D23: （うち） 生コンクリート | F23: 0 | G23: 0 | H23: 0 | I23: 0 | J23: 0 | K23: 0 | L23: 0 | M23: 0 | N23: 0 | O23: 0 | P23: 0 | Q23: 0 | R23: 0 | S23: 0 | T23: =O23+P23 -> 0
D24: （うち） コンクリート製品 | F24: 0 | G24: 0 | H24: 0 | I24: 0 | J24: 0.184 | K24: 0 | L24: 0 | M24: 0 | N24: 0 | O24: 0 | P24: 0 | Q24: 0 | R24: 0 | S24: 0.184 | T24: =O24+P24 -> 0
C25: ④ | D25: 鉄鋼等 | F25: 0 | G25: 0 | H25: 0 | I25: 0 | J25: 27.045 | K25: 0 | L25: 0 | M25: 0 | N25: 0 | O25: 0 | P25: 0 | Q25: 0 | R25: 0 | S25: 27.045 | T25: =O25+P25 -> 0
D26: （うち） 普通鋼熱間圧延鋼材 | F26: 0 | G26: 0 | H26: 0 | I26: 0 | J26: 0 | K26: 0 | L26: 0 | M26: 0 | N26: 0 | O26: 0 | P26: 0 | Q26: 0 | R26: 0 | S26: 0 | T26: =O26+P26 -> 0
D27: （うち） その他の建設用金属製品 | F27: 0 | G27: 0 | H27: 0 | I27: 0 | J27: 27.045 | K27: 0 | L27: 0 | M27: 0 | N27: 0 | O27: 0 | P27: 0 | Q27: 0 | R27: 0 | S27: 27.045 | T27: =O27+P27 -> 0
C28: ⑤ | D28: その他 | F28: 71.179 | G28: 28.404 | H28: 2.048 | I28: 181.095 | J28: 113.596 | K28: 0 | L28: 0 | M28: 0 | N28: 0 | O28: 28.338 | P28: 0 | Q28: 0 | R28: 0 | S28: 424.66 | T28: =O28+P28 -> 28.338
A29: 5. | B29: 機械等修繕費 | F29: 898.989 | G29: 204.201 | H29: 58.404 | I29: 570.88 | J29: 498.5094 | K29: 0 | L29: 0 | M29: 0 | N29: 3.78 | O29: 1367.7968 | P29: 0 | Q29: 0 | R29: 8.717 | S29: 3611.2772 | T29: =O29+P29 -> 1367.7968
A30: 6. | B30: 消耗品費 | F30: 27.327 | G30: 24.156 | H30: 2.45 | I30: 6.156 | J30: 26.729 | K30: 0 | L30: 0 | M30: 0 | N30: 0 | O30: 71.182 | P30: 0 | Q30: 0 | R30: 0.081 | S30: 158.081 | T30: =O30+P30 -> 71.182
A31: 7. | B31: 燃料費 | F31: 0.31 | G31: 1.036 | H31: 0 | I31: 0 | J31: 0 | K31: 0 | L31: 0 | M31: 0 | N31: 0 | O31: 0.09 | P31: 0 | Q31: 0 | R31: 0 | S31: 1.436 | T31: =O31+P31 -> 0.09
A32: 8. | B32: 使用量・賃借料 | F32: 9.01 | G32: 27.21 | H32: 0.065 | I32: 88.327 | J32: 2.865 | K32: 0 | L32: 0 | M32: 0 | N32: 10.56 | O32: 2212.7334 | P32: 0 | Q32: 7.556 | R32: 0 | S32: 2358.3264 | T32: =O32+P32 -> 2212.7334
A33: 9. | B33: 委託料 | F33: 2537.128 | G33: 254.9384 | H33: 90.058 | I33: 525.297 | J33: 2598.6671 | K33: 0 | L33: 0 | M33: 0 | N33: 12.553 | O33: 1170.0166 | P33: 0 | Q33: 57.345 | R33: 12.555 | S33: 7258.5581
A34: 合 計 | F34: 4216.18 | G34: 870.0801 | H34: 193.22 | I34: 1749.851 | J34: 5870.9635 | K34: 0 | L34: 0 | M34: 9.456 | N34: 69.6008 | O34: 5851.9567 | P34: 6.372 | Q34: 137.611 | R34: 41.597 | S34: 19016.888 | T34: =O34+P34 -> 5858.3287

Sheet 船舶 (構成比表)
F3: 1.河川 | G3: 2.河川 総合開発 | H3: 3.海岸 | I3: 4.砂防及び 地滑り対策 | J3: 5.道路 | K3: 6.街路 | L3: 7.土地 区画整理 | M3: 8.下水道 | N3: 9.公園 | O3: 10.港湾整備 | P3: 11.港湾機能 施設整備 | Q3: 12.空港整備 | R3: 13.災害復旧 | S3: 合計 | T3: 10と11の和
A4: 1. | B4: 賃金 | F4: =IF('船舶（金額表）'!F$34=0,0,'船舶（金額表）'!F4/'船舶（金額表）'!F$34) -> 0 | G4: =IF('船舶（金額表）'!G$34=0,0,'船舶（金額表）'!G4/'船舶（金額表）'!G$34) -> 0.039752662 | H4: =IF('船舶（金額表）'!H$34=0,0,'船舶（金額表）'!H4/'船舶（金額表）'!H$34) -> 0 | I4: =IF('船舶（金額表）'!I$34=0,0,'船舶（金額表）'!I4/'船舶（金額表）'!I$34) -> 0.0012281046 | J4: =IF('船舶（金額表）'!J$34=0,0,'船舶（金額表）'!J4/'船舶（金額表）'!J$34) -> 0.0027552547 | K4: =IF('船舶（金額表）'!K$34=0,0,'船舶（金額表）'!K4/'船舶（金額表）'!K$34) -> 0 | L4: =IF('船舶（金額表）'!L$34=0,0,'船舶（金額表）'!L4/'船舶（金額表）'!L$34) -> 0 | M4: =IF('船舶（金額表）'!M$34=0,0,'船舶（金額表）'!M4/'船舶（金額表）'!M$34) -> 0 | ... S4: =IF('船舶（金額表）'!S$34=0,0,'船舶（金額表）'!S4/'船舶（金額表）'!S$34) -> 0.0029350754 | T4: =#REF!/#REF! -> #REF!
A5: 2. | B5: 社会保険料 | F5: =IF('船舶（金額表）'!F$34=0,0,'船舶（金額表）'!F5/'船舶（金額表）'!F$34) -> 0 | G5: =IF('船舶（金額表）'!G$34=0,0,'船舶（金額表）'!G5/'船舶（金額表）'!G$34) -> 0.058800333 | H5: =IF('船舶（金額表）'!H$34=0,0,'船舶（金額表）'!H5/'船舶（金額表）'!H$34) -> 0 | I5: =IF('船舶（金額表）'!I$34=0,0,'船舶（金額表）'!I5/'船舶（金額表）'!I$34) -> 0.00037260315 | J5: =IF('船舶（金額表）'!J$34=0,0,'船舶（金額表）'!J5/'船舶（金額表）'!J$34) -> 0.00034730245 | K5: =IF('船舶（金額表）'!K$34=0,0,'船舶（金額表）'!K5/'船舶（金額表）'!K$34) -> 0 | L5: =IF('船舶（金額表）'!L$34=0,0,'船舶（金額表）'!L5/'船舶（金額表）'!L$34) -> 0 | M5: =IF('船舶（金額表）'!M$34=0,0,'船舶（金額表）'!M5/'船舶（金額表）'!M$34) -> 0 | ... S5: =IF('船舶（金額表）'!S$34=0,0,'船舶（金額表）'!S5/'船舶（金額表）'!S$34) -> 0.0028872758 | T5: =#REF!/#REF! -> #REF!
A6: 3. | B6: 機械器具等購入費 | F6: =IF('船舶（金額表）'!F$34=0,0,'船舶（金額表）'!F6/'船舶（金額表）'!F$34) -> 0.15894388 | G6: =IF('船舶（金額表）'!G$34=0,0,'船舶（金額表）'!G6/'船舶（金額表）'!G$34) -> 0.28063704 | H6: =IF('船舶（金額表）'!H$34=0,0,'船舶（金額表）'!H6/'船舶（金額表）'!H$34) -> 0.20790291 | I6: =IF('船舶（金額表）'!I$34=0,0,'船舶（金額表）'!I6/'船舶（金額表）'!I$34) -> 0.21384392 | J6: =IF('船舶（金額表）'!J$34=0,0,'船舶（金額表）'!J6/'船舶（金額表）'!J$34) -> 0.43939841 | K6: =IF('船舶（金額表）'!K$34=0,0,'船舶（金額表）'!K6/'船舶（金額表）'!K$34) -> 0 | L6: =IF('船舶（金額表）'!L$34=0,0,'船舶（金額表）'!L6/'船舶（金額表）'!L$34) -> 0 | M6: =IF('船舶（金額表）'!M$34=0,0,'船舶（金額表）'!M6/'船舶（金額表）'!M$34) -> 1 | ... S6: =IF('船舶（金額表）'!S$34=0,0,'船舶（金額表）'!S6/'船舶（金額表）'!S$34) -> 0.26593822 | T6: =#REF!/#REF! -> #REF!
B7: (1) | D7: 建設機械 | F7: =IF('船舶（金額表）'!F$34=0,0,'船舶（金額表）'!F7/'船舶（金額表）'!F$34) -> 0.0038658217 | G7: =IF('船舶（金額表）'!G$34=0,0,'船舶（金額表）'!G7/'船舶（金額表）'!G$34) -> 0 | H7: =IF('船舶（金額表）'!H$34=0,0,'船舶（金額表）'!H7/'船舶（金額表）'!H$34) -> 0 | I7: =IF('船舶（金額表）'!I$34=0,0,'船舶（金額表）'!I7/'船舶（金額表）'!I$34) -> 0 | J7: =IF('船舶（金額表）'!J$34=0,0,'船舶（金額表）'!J7/'船舶（金額表）'!J$34) -> 0.25324276 | K7: =IF('船舶（金額表）'!K$34=0,0,'船舶（金額表）'!K7/'船舶（金額表）'!K$34) -> 0 | L7: =IF('船舶（金額表）'!L$34=0,0,'船舶（金額表）'!L7/'船舶（金額表）'!L$34) -> 0 | M7: =IF('船舶（金額表）'!M$34=0,0,'船舶（金額表）'!M7/'船舶（金額表）'!M$34) -> 0 | ... S7: =IF('船舶（金額表）'!S$34=0,0,'船舶（金額表）'!S7/'船舶（金額表）'!S$34) -> 0.079297096 | T7: =#REF!/#REF! -> #REF!
B8: (2) | D8: 運搬機械 | F8: =IF('船舶（金額表）'!F$34=0,0,'船舶（金額表）'!F8/'船舶（金額表）'!F$34) -> 0.0017852653 | G8: =IF('船舶（金額表）'!G$34=0,0,'船舶（金額表）'!G8/'船舶（金額表）'!G$34) -> 0.0045345974 | H8: =IF('船舶（金額表）'!H$34=0,0,'船舶（金額表）'!H8/'船舶（金額表）'!H$34) -> 0 | I8: =IF('船舶（金額表）'!I$34=0,0,'船舶（金額表）'!I8/'船舶（金額表）'!I$34) -> 0.039130189 | J8: =IF('船舶（金額表）'!J$34=0,0,'船舶（金額表）'!J8/'船舶（金額表）'!J$34) -> 0.002165062 | K8: =IF('船舶（金額表）'!K$34=0,0,'船舶（金額表）'!K8/'船舶（金額表）'!K$34) -> 0 | L8: =IF('船舶（金額表）'!L$34=0,0,'船舶（金額表）'!L8/'船舶（金額表）'!L$34) -> 0 | M8: =IF('船舶（金額表）'!M$34=0,0,'船舶（金額表）'!M8/'船舶（金額表）'!M$34) -> 0 | ... S8: =IF('船舶（金額表）'!S$34=0,0,'船舶（金額表）'!S8/'船舶（金額表）'!S$34) -> 0.0055170679 | T8: =#REF!/#REF! -> #REF!
B9: (3) | D9: 電気機械 | F9: =IF('船舶（金額表）'!F$34=0,0,'船舶（金額表）'!F9/'船舶（金額表）'!F$34) -> 0.11407554 | G9: =IF('船舶（金額表）'!G$34=0,0,'船舶（金額表）'!G9/'船舶（金額表）'!G$34) -> 0.1142436 | H9: =IF('船舶（金額表）'!H$34=0,0,'船舶（金額表）'!H9/'船舶（金額表）'!H$34) -> 0.047018942 | I9: =IF('船舶（金額表）'!I$34=0,0,'船舶（金額表）'!I9/'船舶（金額表）'!I$34) -> 0.16983617 | J9: =IF('船舶（金額表）'!J$34=0,0,'船舶（金額表）'!J9/'船舶（金額表）'!J$34) -> 0.03463503 | K9: =IF('船舶（金額表）'!K$34=0,0,'船舶（金額表）'!K9/'船舶（金額表）'!K$34) -> 0 | L9: =IF('船舶（金額表）'!L$34=0,0,'船舶（金額表）'!L9/'船舶（金額表）'!L$34) -> 0 | M9: =IF('船舶（金額表）'!M$34=0,0,'船舶（金額表）'!M9/'船舶（金額表）'!M$34) -> 0 | ... S9: =IF('船舶（金額表）'!S$34=0,0,'船舶（金額表）'!S9/'船舶（金額表）'!S$34) -> 0.05963137 | T9: =#REF!/#REF! -> #REF!
B10: (4) | D10: その他の機械 | F10: =IF('船舶（金額表）'!F$34=0,0,'船舶（金額表）'!F10/'船舶（金額表）'!F$34) -> 0.034442078 | G10: =IF('船舶（金額表）'!G$34=0,0,'船舶（金額表）'!G10/'船舶（金額表）'!G$34) -> 0.16054499 | H10: =IF('船舶（金額表）'!H$34=0,0,'船舶（金額表）'!H10/'船舶（金額表）'!H$34) -> 0.11477073 | I10: =IF('船舶（金額表）'!I$34=0,0,'船舶（金額表）'!I10/'船舶（金額表）'!I$34) -> 0.0024796397 | J10: =IF('船舶（金額表）'!J$34=0,0,'船舶（金額表）'!J10/'船舶（金額表）'!J$34) -> 0.14886585 | K10: =IF('船舶（金額表）'!K$34=0,0,'船舶（金額表）'!K10/'船舶（金額表）'!K$34) -> 0 | L10: =IF('船舶（金額表）'!L$34=0,0,'船舶（金額表）'!L10/'船舶（金額表）'!L$34) -> 0 | M10: =IF('船舶（金額表）'!M$34=0,0,'船舶（金額表）'!M10/'船舶（金額表）'!M$34) -> 1 | ... S10: =IF('船舶（金額表）'!S$34=0,0,'船舶（金額表）'!S10/'船舶（金額表）'!S$34) -> 0.11285252 | T10: =#REF!/#REF! -> #REF!
B11: (5) | D11: 工事用道具類 | F11: =IF('船舶（金額表）'!F$34=0,0,'船舶（金額表）'!F11/'船舶（金額表）'!F$34) -> 0 | G11: =IF('船舶（金額表）'!G$34=0,0,'船舶（金額表）'!G11/'船舶（金額表）'!G$34) -> 0 | H11: =IF('船舶（金額表）'!H$34=0,0,'船舶（金額表）'!H11/'船舶（金額表）'!H$34) -> 0 | I11: =IF('船舶（金額表）'!I$34=0,0,'船舶（金額表）'!I11/'船舶（金額表）'!I$34) -> 0 | J11: =IF('船舶（金額表）'!J$34=0,0,'船舶（金額表）'!J11/'船舶（金額表）'!J$34) -> 0 | K11: =IF('船舶（金額表）'!K$34=0,0,'船舶（金額表）'!K11/'船舶（金額表）'!K$34) -> 0 | L11: =IF('船舶（金額表）'!L$34=0,0,'船舶（金額表）'!L11/'船舶（金額表）'!L$34) -> 0 | M11: =IF('船舶（金額表）'!M$34=0,0,'船舶（金額表）'!M11/'船舶（金額表）'!M$34) -> 0 | ... S11: =IF('船舶（金額表）'!S$34=0,0,'船舶（金額表）'!S11/'船舶（金額表）'!S$34) -> 0.001043441 | T11: =#REF!/#REF! -> #REF!
B12: (6) | D12: その他 | F12: =IF('船舶（金額表）'!F$34=0,0,'船舶（金額表）'!F12/'船舶（金額表）'!F$34) -> 0.0047751756 | G12: =IF('船舶（金額表）'!G$34=0,0,'船舶（金額表）'!G12/'船舶（金額表）'!G$34) -> 0.0013138526 | H12: =IF('船舶（金額表）'!H$34=0,0,'船舶（金額表）'!H12/'船舶（金額表）'!H$34) -> 0.046113239 | I12: =IF('船舶（金額表）'!I$34=0,0,'船舶（金額表）'!I12/'船舶（金額表）'!I$34) -> 0.0023979185 | J12: =IF('船舶（金額表）'!J$34=0,0,'船舶（金額表）'!J12/'船舶（金額表）'!J$34) -> 0.00048969816 | K12: =IF('船舶（金額表）'!K$34=0,0,'船舶（金額表）'!K12/'船舶（金額表）'!K$34) -> 0 | L12: =IF('船舶（金額表）'!L$34=0,0,'船舶（金額表）'!L12/'船舶（金額表）'!L$34) -> 0 | M12: =IF('船舶（金額表）'!M$34=0,0,'船舶（金額表）'!M12/'船舶（金額表）'!M$34) -> 0 | ... S12: =IF('船舶（金額表）'!S$34=0,0,'船舶（金額表）'!S12/'船舶（金額表）'!S$34) -> 0.0075967258 | T12: =#REF!/#REF! -> #REF!
A13: 4. | B13: 機械等の運搬、据付撤去費 | F13: =IF('船舶（金額表）'!F$34=0,0,'船舶（金額表）'!F13/'船舶（金額表）'!F$34) -> 0.018258234 | G13: =IF('船舶（金額表）'!G$34=0,0,'船舶（金額表）'!G13/'船舶（金額表）'!G$34) -> 0.032885478 | H13: =IF('船舶（金額表）'!H$34=0,0,'船舶（金額表）'!H13/'船舶（金額表）'!H$34) -> 0.010723528 | I13: =IF('船舶（金額表）'!I$34=0,0,'船舶（金額表）'!I13/'船舶（金額表）'!I$34) -> 0.10412029 | J13: =IF('船舶（金額表）'!J$34=0,0,'船舶（金額表）'!J13/'船舶（金額表）'!J$34) -> 0.024916864 | K13: =IF('船舶（金額表）'!K$34=0,0,'船舶（金額表）'!K13/'船舶（金額表）'!K$34) -> 0 | L13: =IF('船舶（金額表）'!L$34=0,0,'船舶（金額表）'!L13/'船舶（金額表）'!L$34) -> 0 | M13: =IF('船舶（金額表）'!M$34=0,0,'船舶（金額表）'!M13/'船舶（金額表）'!M$34) -> 0 | ... S13: =IF('船舶（金額表）'!S$34=0,0,'船舶（金額表）'!S13/'船舶（金額表）'!S$34) -> 0.024445061 | T13: =#REF!/#REF! -> #REF!
B14: (1) | D14: 運搬費 | F14: =IF('船舶（金額表）'!F$34=0,0,'船舶（金額表）'!F14/'船舶（金額表）'!F$34) -> 0.00137589 | G14: =IF('船舶（金額表）'!G$34=0,0,'船舶（金額表）'!G14/'船舶（金額表）'!G$34) -> 0.00024020777 | H14: =IF('船舶（金額表）'!H$34=0,0,'船舶（金額表）'!H14/'船舶（金額表）'!H$34) -> 0.00012421074 | I14: =IF('船舶（金額表）'!I$34=0,0,'船舶（金額表）'!I14/'船舶（金額表）'!I$34) -> 0.00062862495 | J14: =IF('船舶（金額表）'!J$34=0,0,'船舶（金額表）'!J14/'船舶（金額表）'!J$34) -> 0.000930171 | K14: =IF('船舶（金額表）'!K$34=0,0,'船舶（金額表）'!K14/'船舶（金額表）'!K$34) -> 0 | L14: =IF('船舶（金額表）'!L$34=0,0,'船舶（金額表）'!L14/'船舶（金額表）'!L$34) -> 0 | M14: =IF('船舶（金額表）'!M$34=0,0,'船舶（金額表）'!M14/'船舶（金額表）'!M$34) -> 0 | ... S14: =IF('船舶（金額表）'!S$34=0,0,'船舶（金額表）'!S14/'船舶（金額表）'!S$34) -> 0.00068255121 | T14: =#REF!/#REF! -> #REF!
B15: (2) | D15: 据付及び撤去費 | F15: =IF('船舶（金額表）'!F$34=0,0,'船舶（金額表）'!F15/'船舶（金額表）'!F$34) -> 0.016882344 | G15: =IF('船舶（金額表）'!G$34=0,0,'船舶（金額表）'!G15/'船舶（金額表）'!G$34) -> 0.03264527 | H15: =IF('船舶（金額表）'!H$34=0,0,'船舶（金額表）'!H15/'船舶（金額表）'!H$34) -> 0.010599317 | I15: =IF('船舶（金額表）'!I$34=0,0,'船舶（金額表）'!I15/'船舶（金額表）'!I$34) -> 0.10349167 | J15: =IF('船舶（金額表）'!J$34=0,0,'船舶（金額表）'!J15/'船舶（金額表）'!J$34) -> 0.023986693 | K15: =IF('船舶（金額表）'!K$34=0,0,'船舶（金額表）'!K15/'船舶（金額表）'!K$34) -> 0 | L15: =IF('船舶（金額表）'!L$34=0,0,'船舶（金額表）'!L15/'船舶（金額表）'!L$34) -> 0 | M15: =IF('船舶（金額表）'!M$34=0,0,'船舶（金額表）'!M15/'船舶（金額表）'!M$34) -> 0 | ... S15: =IF('船舶（金額表）'!S$34=0,0,'船舶（金額表）'!S15/'船舶（金額表）'!S$34) -> 0.02376251 | T15: =#REF!/#REF! -> #REF!
C16: ① | D16: 木材 | F16: =IF('船舶（金額表）'!F$34=0,0,'船舶（金額表）'!F16/'船舶（金額表）'!F$34) -> 0 | G16: =IF('船舶（金額表）'!G$34=0,0,'船舶（金額表）'!G16/'船舶（金額表）'!G$34) -> 0 | H16: =IF('船舶（金額表）'!H$34=0,0,'船舶（金額表）'!H16/'船舶（金額表）'!H$34) -> 0 | I16: =IF('船舶（金額表）'!I$34=0,0,'船舶（金額表）'!I16/'船舶（金額表）'!I$34) -> 0 | J16: =IF('船舶（金額表）'!J$34=0,0,'船舶（金額表）'!J16/'船舶（金額表）'!J$34) -> 0 | K16: =IF('船舶（金額表）'!K$34=0,0,'船舶（金額表）'!K16/'船舶（金額表）'!K$34) -> 0 | L16: =IF('船舶（金額表）'!L$34=0,0,'船舶（金額表）'!L16/'船舶（金額表）'!L$34) -> 0 | M16: =IF('船舶（金額表）'!M$34=0,0,'船舶（金額表）'!M16/'船舶（金額表）'!M$34) -> 0 | ... S16: =IF('船舶（金額表）'!S$34=0,0,'船舶（金額表）'!S16/'船舶（金額表）'!S$34) -> 0 | T16: =#REF!/#REF! -> #REF!
D17: （うち） 素 材 | F17: =IF('船舶（金額表）'!F$34=0,0,'船舶（金額表）'!F17/'船舶（金額表）'!F$34) -> 0 | G17: =IF('船舶（金額表）'!G$34=0,0,'船舶（金額表）'!G17/'船舶（金額表）'!G$34) -> 0 | H17: =IF('船舶（金額表）'!H$34=0,0,'船舶（金額表）'!H17/'船舶（金額表）'!H$34) -> 0 | I17: =IF('船舶（金額表）'!I$34=0,0,'船舶（金額表）'!I17/'船舶（金額表）'!I$34) -> 0 | J17: =IF('船舶（金額表）'!J$34=0,0,'船舶（金額表）'!J17/'船舶（金額表）'!J$34) -> 0 | K17: =IF('船舶（金額表）'!K$34=0,0,'船舶（金額表）'!K17/'船舶（金額表）'!K$34) -> 0 | L17: =IF('船舶（金額表）'!L$34=0,0,'船舶（金額表）'!L17/'船舶（金額表）'!L$34) -> 0 | M17: =IF('船舶（金額表）'!M$34=0,0,'船舶（金額表）'!M17/'船舶（金額表）'!M$34) -> 0 | ... S17: =IF('船舶（金額表）'!S$34=0,0,'船舶（金額表）'!S17/'船舶（金額表）'!S$34) -> 0 | T17: =#REF!/#REF! -> #REF!
D18: （うち） 製 材 | F18: =IF('船舶（金額表）'!F$34=0,0,'船舶（金額表）'!F18/'船舶（金額表）'!F$34) -> 0 | G18: =IF('船舶（金額表）'!G$34=0,0,'船舶（金額表）'!G18/'船舶（金額表）'!G$34) -> 0 | H18: =IF('船舶（金額表）'!H$34=0,0,'船舶（金額表）'!H18/'船舶（金額表）'!H$34) -> 0 | I18: =IF('船舶（金額表）'!I$34=0,0,'船舶（金額表）'!I18/'船舶（金額表）'!I$34) -> 0 | J18: =IF('船舶（金額表）'!J$34=0,0,'船舶（金額表）'!J18/'船舶（金額表）'!J$34) -> 0 | K18: =IF('船舶（金額表）'!K$34=0,0,'船舶（金額表）'!K18/'船舶（金額表）'!K$34) -> 0 | L18: =IF('船舶（金額表）'!L$34=0,0,'船舶（金額表）'!L18/'船舶（金額表）'!L$34) -> 0 | M18: =IF('船舶（金額表）'!M$34=0,0,'船舶（金額表）'!M18/'船舶（金額表）'!M$34) -> 0 | ... S18: =IF('船舶（金額表）'!S$34=0,0,'船舶（金額表）'!S18/'船舶（金額表）'!S$34) -> 0 | T18: =#REF!/#REF! -> #REF!
D19: （うち） 合 板 | F19: =IF('船舶（金額表）'!F$34=0,0,'船舶（金額表）'!F19/'船舶（金額表）'!F$34) -> 0 | G19: =IF('船舶（金額表）'!G$34=0,0,'船舶（金額表）'!G19/'船舶（金額表）'!G$34) -> 0 | H19: =IF('船舶（金額表）'!H$34=0,0,'船舶（金額表）'!H19/'船舶（金額表）'!H$34) -> 0 | I19: =IF('船舶（金額表）'!I$34=0,0,'船舶（金額表）'!I19/'船舶（金額表）'!I$34) -> 0 | J19: =IF('船舶（金額表）'!J$34=0,0,'船舶（金額表）'!J19/'船舶（金額表）'!J$34) -> 0 | K19: =IF('船舶（金額表）'!K$34=0,0,'船舶（金額表）'!K19/'船舶（金額表）'!K$34) -> 0 | L19: =IF('船舶（金額表）'!L$34=0,0,'船舶（金額表）'!L19/'船舶（金額表）'!L$34) -> 0 | M19: =IF('船舶（金額表）'!M$34=0,0,'船舶（金額表）'!M19/'船舶（金額表）'!M$34) -> 0 | ... S19: =IF('船舶（金額表）'!S$34=0,0,'船舶（金額表）'!S19/'船舶（金額表）'!S$34) -> 0 | T19: =#REF!/#REF! -> #REF!
D20: （うち） そ の 他 | F20: =IF('船舶（金額表）'!F$34=0,0,'船舶（金額表）'!F20/'船舶（金額表）'!F$34) -> 0 | G20: =IF('船舶（金額表）'!G$34=0,0,'船舶（金額表）'!G20/'船舶（金額表）'!G$34) -> 0 | H20: =IF('船舶（金額表）'!H$34=0,0,'船舶（金額表）'!H20/'船舶（金額表）'!H$34) -> 0 | I20: =IF('船舶（金額表）'!I$34=0,0,'船舶（金額表）'!I20/'船舶（金額表）'!I$34) -> 0 | J20: =IF('船舶（金額表）'!J$34=0,0,'船舶（金額表）'!J20/'船舶（金額表）'!J$34) -> 0 | K20: =IF('船舶（金額表）'!K$34=0,0,'船舶（金額表）'!K20/'船舶（金額表）'!K$34) -> 0 | L20: =IF('船舶（金額表）'!L$34=0,0,'船舶（金額表）'!L20/'船舶（金額表）'!L$34) -> 0 | M20: =IF('船舶（金額表）'!M$34=0,0,'船舶（金額表）'!M20/'船舶（金額表）'!M$34) -> 0 | ... S20: =IF('船舶（金額表）'!S$34=0,0,'船舶（金額表）'!S20/'船舶（金額表）'!S$34) -> 0 | T20: =#REF!/#REF! -> #REF!
C21: ② | D21: セメント | F21: =IF('船舶（金額表）'!F$34=0,0,'船舶（金額表）'!F21/'船舶（金額表）'!F$34) -> 0 | G21: =IF('船舶（金額表）'!G$34=0,0,'船舶（金額表）'!G21/'船舶（金額表）'!G$34) -> 0 | H21: =IF('船舶（金額表）'!H$34=0,0,'船舶（金額表）'!H21/'船舶（金額表）'!H$34) -> 0 | I21: =IF('船舶（金額表）'!I$34=0,0,'船舶（金額表）'!I21/'船舶（金額表）'!I$34) -> 0 | J21: =IF('船舶（金額表）'!J$34=0,0,'船舶（金額表）'!J21/'船舶（金額表）'!J$34) -> 0 | K21: =IF('船舶（金額表）'!K$34=0,0,'船舶（金額表）'!K21/'船舶（金額表）'!K$34) -> 0 | L21: =IF('船舶（金額表）'!L$34=0,0,'船舶（金額表）'!L21/'船舶（金額表）'!L$34) -> 0 | M21: =IF('船舶（金額表）'!M$34=0,0,'船舶（金額表）'!M21/'船舶（金額表）'!M$34) -> 0 | ... S21: =IF('船舶（金額表）'!S$34=0,0,'船舶（金額表）'!S21/'船舶（金額表）'!S$34) -> 0 | T21: =#REF!/#REF! -> #REF!
C22: ③ | D22: セメント製品 | F22: =IF('船舶（金額表）'!F$34=0,0,'船舶（金額表）'!F22/'船舶（金額表）'!F$34) -> 0 | G22: =IF('船舶（金額表）'!G$34=0,0,'船舶（金額表）'!G22/'船舶（金額表）'!G$34) -> 0 | H22: =IF('船舶（金額表）'!H$34=0,0,'船舶（金額表）'!H22/'船舶（金額表）'!H$34) -> 0 | I22: =IF('船舶（金額表）'!I$34=0,0,'船舶（金額表）'!I22/'船舶（金額表）'!I$34) -> 0 | J22: =IF('船舶（金額表）'!J$34=0,0,'船舶（金額表）'!J22/'船舶（金額表）'!J$34) -> 3.1340682e-05 | K22: =IF('船舶（金額表）'!K$34=0,0,'船舶（金額表）'!K22/'船舶（金額表）'!K$34) -> 0 | L22: =IF('船舶（金額表）'!L$34=0,0,'船舶（金額表）'!L22/'船舶（金額表）'!L$34) -> 0 | M22: =IF('船舶（金額表）'!M$34=0,0,'船舶（金額表）'!M22/'船舶（金額表）'!M$34) -> 0 | ... S22: =IF('船舶（金額表）'!S$34=0,0,'船舶（金額表）'!S22/'船舶（金額表）'!S$34) -> 9.6756104e-06 | T22: =#REF!/#REF! -> #REF!
D23: （うち） 生コンクリート | F23: =IF('船舶（金額表）'!F$34=0,0,'船舶（金額表）'!F23/'船舶（金額表）'!F$34) -> 0 | G23: =IF('船舶（金額表）'!G$34=0,0,'船舶（金額表）'!G23/'船舶（金額表）'!G$34) -> 0 | H23: =IF('船舶（金額表）'!H$34=0,0,'船舶（金額表）'!H23/'船舶（金額表）'!H$34) -> 0 | I23: =IF('船舶（金額表）'!I$34=0,0,'船舶（金額表）'!I23/'船舶（金額表）'!I$34) -> 0 | J23: =IF('船舶（金額表）'!J$34=0,0,'船舶（金額表）'!J23/'船舶（金額表）'!J$34) -> 0 | K23: =IF('船舶（金額表）'!K$34=0,0,'船舶（金額表）'!K23/'船舶（金額表）'!K$34) -> 0 | L23: =IF('船舶（金額表）'!L$34=0,0,'船舶（金額表）'!L23/'船舶（金額表）'!L$34) -> 0 | M23: =IF('船舶（金額表）'!M$34=0,0,'船舶（金額表）'!M23/'船舶（金額表）'!M$34) -> 0 | ... S23: =IF('船舶（金額表）'!S$34=0,0,'船舶（金額表）'!S23/'船舶（金額表）'!S$34) -> 0 | T23: =#REF!/#REF! -> #REF!
D24: （うち） コンクリート製品 | F24: =IF('船舶（金額表）'!F$34=0,0,'船舶（金額表）'!F24/'船舶（金額表）'!F$34) -> 0 | G24: =IF('船舶（金額表）'!G$34=0,0,'船舶（金額表）'!G24/'船舶（金額表）'!G$34) -> 0 | H24: =IF('船舶（金額表）'!H$34=0,0,'船舶（金額表）'!H24/'船舶（金額表）'!H$34) -> 0 | I24: =IF('船舶（金額表）'!I$34=0,0,'船舶（金額表）'!I24/'船舶（金額表）'!I$34) -> 0 | J24: =IF('船舶（金額表）'!J$34=0,0,'船舶（金額表）'!J24/'船舶（金額表）'!J$34) -> 3.1340682e-05 | K24: =IF('船舶（金額表）'!K$34=0,0,'船舶（金額表）'!K24/'船舶（金額表）'!K$34) -> 0 | L24: =IF('船舶（金額表）'!L$34=0,0,'船舶（金額表）'!L24/'船舶（金額表）'!L$34) -> 0 | M24: =IF('船舶（金額表）'!M$34=0,0,'船舶（金額表）'!M24/'船舶（金額表）'!M$34) -> 0 | ... S24: =IF('船舶（金額表）'!S$34=0,0,'船舶（金額表）'!S24/'船舶（金額表）'!S$34) -> 9.6756104e-06 | T24: =#REF!/#REF! -> #REF!
C25: ④ | D25: 鉄鋼等 | F25: =IF('船舶（金額表）'!F$34=0,0,'船舶（金額表）'!F25/'船舶（金額表）'!F$34) -> 0 | G25: =IF('船舶（金額表）'!G$34=0,0,'船舶（金額表）'!G25/'船舶（金額表）'!G$34) -> 0 | H25: =IF('船舶（金額表）'!H$34=0,0,'船舶（金額表）'!H25/'船舶（金額表）'!H$34) -> 0 | I25: =IF('船舶（金額表）'!I$34=0,0,'船舶（金額表）'!I25/'船舶（金額表）'!I$34) -> 0 | J25: =IF('船舶（金額表）'!J$34=0,0,'船舶（金額表）'!J25/'船舶（金額表）'!J$34) -> 0.0046065693 | K25: =IF('船舶（金額表）'!K$34=0,0,'船舶（金額表）'!K25/'船舶（金額表）'!K$34) -> 0 | L25: =IF('船舶（金額表）'!L$34=0,0,'船舶（金額表）'!L25/'船舶（金額表）'!L$34) -> 0 | M25: =IF('船舶（金額表）'!M$34=0,0,'船舶（金額表）'!M25/'船舶（金額表）'!M$34) -> 0 | ... S25: =IF('船舶（金額表）'!S$34=0,0,'船舶（金額表）'!S25/'船舶（金額表）'!S$34) -> 0.001422157 | T25: =#REF!/#REF! -> #REF!
D26: （うち） 普通鋼熱間圧延鋼材 | F26: =IF('船舶（金額表）'!F$34=0,0,'船舶（金額表）'!F26/'船舶（金額表）'!F$34) -> 0 | G26: =IF('船舶（金額表）'!G$34=0,0,'船舶（金額表）'!G26/'船舶（金額表）'!G$34) -> 0 | H26: =IF('船舶（金額表）'!H$34=0,0,'船舶（金額表）'!H26/'船舶（金額表）'!H$34) -> 0 | I26: =IF('船舶（金額表）'!I$34=0,0,'船舶（金額表）'!I26/'船舶（金額表）'!I$34) -> 0 | J26: =IF('船舶（金額表）'!J$34=0,0,'船舶（金額表）'!J26/'船舶（金額表）'!J$34) -> 0 | K26: =IF('船舶（金額表）'!K$34=0,0,'船舶（金額表）'!K26/'船舶（金額表）'!K$34) -> 0 | L26: =IF('船舶（金額表）'!L$34=0,0,'船舶（金額表）'!L26/'船舶（金額表）'!L$34) -> 0 | M26: =IF('船舶（金額表）'!M$34=0,0,'船舶（金額表）'!M26/'船舶（金額表）'!M$34) -> 0 | ... S26: =IF('船舶（金額表）'!S$34=0,0,'船舶（金額表）'!S26/'船舶（金額表）'!S$34) -> 0 | T26: =#REF!/#REF! -> #REF!
D27: （うち） その他の建設用金属製品 | F27: =IF('船舶（金額表）'!F$34=0,0,'船舶（金額表）'!F27/'船舶（金額表）'!F$34) -> 0 | G27: =IF('船舶（金額表）'!G$34=0,0,'船舶（金額表）'!G27/'船舶（金額表）'!G$34) -> 0 | H27: =IF('船舶（金額表）'!H$34=0,0,'船舶（金額表）'!H27/'船舶（金額表）'!H$34) -> 0 | I27: =IF('船舶（金額表）'!I$34=0,0,'船舶（金額表）'!I27/'船舶（金額表）'!I$34) -> 0 | J27: =IF('船舶（金額表）'!J$34=0,0,'船舶（金額表）'!J27/'船舶（金額表）'!J$34) -> 0.0046065693 | K27: =IF('船舶（金額表）'!K$34=0,0,'船舶（金額表）'!K27/'船舶（金額表）'!K$34) -> 0 | L27: =IF('船舶（金額表）'!L$34=0,0,'船舶（金額表）'!L27/'船舶（金額表）'!L$34) -> 0 | M27: =IF('船舶（金額表）'!M$34=0,0,'船舶（金額表）'!M27/'船舶（金額表）'!M$34) -> 0 | ... S27: =IF('船舶（金額表）'!S$34=0,0,'船舶（金額表）'!S27/'船舶（金額表）'!S$34) -> 0.001422157 | T27: =#REF!/#REF! -> #REF!
C28: ⑤ | D28: その他 | F28: =IF('船舶（金額表）'!F$34=0,0,'船舶（金額表）'!F28/'船舶（金額表）'!F$34) -> 0.016882344 | G28: =IF('船舶（金額表）'!G$34=0,0,'船舶（金額表）'!G28/'船舶（金額表）'!G$34) -> 0.03264527 | H28: =IF('船舶（金額表）'!H$34=0,0,'船舶（金額表）'!H28/'船舶（金額表）'!H$34) -> 0.010599317 | I28: =IF('船舶（金額表）'!I$34=0,0,'船舶（金額表）'!I28/'船舶（金額表）'!I$34) -> 0.10349167 | J28: =IF('船舶（金額表）'!J$34=0,0,'船舶（金額表）'!J28/'船舶（金額表）'!J$34) -> 0.019348783 | K28: =IF('船舶（金額表）'!K$34=0,0,'船舶（金額表）'!K28/'船舶（金額表）'!K$34) -> 0 | L28: =IF('船舶（金額表）'!L$34=0,0,'船舶（金額表）'!L28/'船舶（金額表）'!L$34) -> 0 | M28: =IF('船舶（金額表）'!M$34=0,0,'船舶（金額表）'!M28/'船舶（金額表）'!M$34) -> 0 | ... S28: =IF('船舶（金額表）'!S$34=0,0,'船舶（金額表）'!S28/'船舶（金額表）'!S$34) -> 0.022330678 | T28: =#REF!/#REF! -> #REF!
A29: 5. | B29: 機械等修繕費 | F29: =IF('船舶（金額表）'!F$34=0,0,'船舶（金額表）'!F29/'船舶（金額表）'!F$34) -> 0.21322358 | G29: =IF('船舶（金額表）'!G$34=0,0,'船舶（金額表）'!G29/'船舶（金額表）'!G$34) -> 0.23469218 | H29: =IF('船舶（金額表）'!H$34=0,0,'船舶（金額表）'!H29/'船舶（金額表）'!H$34) -> 0.30226685 | I29: =IF('船舶（金額表）'!I$34=0,0,'船舶（金額表）'!I29/'船舶（金額表）'!I$34) -> 0.32624492 | J29: =IF('船舶（金額表）'!J$34=0,0,'船舶（金額表）'!J29/'船舶（金額表）'!J$34) -> 0.084911004 | K29: =IF('船舶（金額表）'!K$34=0,0,'船舶（金額表）'!K29/'船舶（金額表）'!K$34) -> 0 | L29: =IF('船舶（金額表）'!L$34=0,0,'船舶（金額表）'!L29/'船舶（金額表）'!L$34) -> 0 | M29: =IF('船舶（金額表）'!M$34=0,0,'船舶（金額表）'!M29/'船舶（金額表）'!M$34) -> 0 | ... S29: =IF('船舶（金額表）'!S$34=0,0,'船舶（金額表）'!S29/'船舶（金額表）'!S$34) -> 0.18989843 | T29: =#REF!/#REF! -> #REF!
A30: 6. | B30: 消耗品費 | F30: =IF('船舶（金額表）'!F$34=0,0,'船舶（金額表）'!F30/'船舶（金額表）'!F$34) -> 0.0064814595 | G30: =IF('船舶（金額表）'!G$34=0,0,'船舶（金額表）'!G30/'船舶（金額表）'!G$34) -> 0.027762961 | H30: =IF('船舶（金額表）'!H$34=0,0,'船舶（金額表）'!H30/'船舶（金額表）'!H$34) -> 0.012679847 | I30: =IF('船舶（金額表）'!I$34=0,0,'船舶（金額表）'!I30/'船舶（金額表）'!I$34) -> 0.0035180138 | J30: =IF('船舶（金額表）'!J$34=0,0,'船舶（金額表）'!J30/'船舶（金額表）'!J$34) -> 0.004552745 | K30: =IF('船舶（金額表）'!K$34=0,0,'船舶（金額表）'!K30/'船舶（金額表）'!K$34) -> 0 | L30: =IF('船舶（金額表）'!L$34=0,0,'船舶（金額表）'!L30/'船舶（金額表）'!L$34) -> 0 | M30: =IF('船舶（金額表）'!M$34=0,0,'船舶（金額表）'!M30/'船舶（金額表）'!M$34) -> 0 | ... S30: =IF('船舶（金額表）'!S$34=0,0,'船舶（金額表）'!S30/'船舶（金額表）'!S$34) -> 0.0083126639 | T30: =#REF!/#REF! -> #REF!
A31: 7. | B31: 燃料費 | F31: =IF('船舶（金額表）'!F$34=0,0,'船舶（金額表）'!F31/'船舶（金額表）'!F$34) -> 7.3526273e-05 | G31: =IF('船舶（金額表）'!G$34=0,0,'船舶（金額表）'!G31/'船舶（金額表）'!G$34) -> 0.001190695 | H31: =IF('船舶（金額表）'!H$34=0,0,'船舶（金額表）'!H31/'船舶（金額表）'!H$34) -> 0 | I31: =IF('船舶（金額表）'!I$34=0,0,'船舶（金額表）'!I31/'船舶（金額表）'!I$34) -> 0 | J31: =IF('船舶（金額表）'!J$34=0,0,'船舶（金額表）'!J31/'船舶（金額表）'!J$34) -> 0 | K31: =IF('船舶（金額表）'!K$34=0,0,'船舶（金額表）'!K31/'船舶（金額表）'!K$34) -> 0 | L31: =IF('船舶（金額表）'!L$34=0,0,'船舶（金額表）'!L31/'船舶（金額表）'!L$34) -> 0 | M31: =IF('船舶（金額表）'!M$34=0,0,'船舶（金額表）'!M31/'船舶（金額表）'!M$34) -> 0 | ... S31: =IF('船舶（金額表）'!S$34=0,0,'船舶（金額表）'!S31/'船舶（金額表）'!S$34) -> 7.5511829e-05 | T31: =#REF!/#REF! -> #REF!
A32: 8. | B32: 使用量・賃借料 | F32: =IF('船舶（金額表）'!F$34=0,0,'船舶（金額表）'!F32/'船舶（金額表）'!F$34) -> 0.0021370055 | G32: =IF('船舶（金額表）'!G$34=0,0,'船舶（金額表）'!G32/'船舶（金額表）'!G$34) -> 0.031272983 | H32: =IF('船舶（金額表）'!H$34=0,0,'船舶（金額表）'!H32/'船舶（金額表）'!H$34) -> 0.0003364041 | I32: =IF('船舶（金額表）'!I$34=0,0,'船舶（金額表）'!I32/'船舶（金額表）'!I$34) -> 0.050476869 | J32: =IF('船舶（金額表）'!J$34=0,0,'船舶（金額表）'!J32/'船舶（金額表）'!J$34) -> 0.00048799486 | K32: =IF('船舶（金額表）'!K$34=0,0,'船舶（金額表）'!K32/'船舶（金額表）'!K$34) -> 0 | L32: =IF('船舶（金額表）'!L$34=0,0,'船舶（金額表）'!L32/'船舶（金額表）'!L$34) -> 0 | M32: =IF('船舶（金額表）'!M$34=0,0,'船舶（金額表）'!M32/'船舶（金額表）'!M$34) -> 0 | ... S32: =IF('船舶（金額表）'!S$34=0,0,'船舶（金額表）'!S32/'船舶（金額表）'!S$34) -> 0.12401221 | T32: =#REF!/#REF! -> #REF!
A33: 9. | B33: 委託料 | F33: =IF('船舶（金額表）'!F$34=0,0,'船舶（金額表）'!F33/'船舶（金額表）'!F$34) -> 0.60175989 | G33: =IF('船舶（金額表）'!G$34=0,0,'船舶（金額表）'!G33/'船舶（金額表）'!G$34) -> 0.29300567 | H33: =IF('船舶（金額表）'!H$34=0,0,'船舶（金額表）'!H33/'船舶（金額表）'!H$34) -> 0.46609047 | I33: =IF('船舶（金額表）'!I$34=0,0,'船舶（金額表）'!I33/'船舶（金額表）'!I$34) -> 0.30019527 | J33: =IF('船舶（金額表）'!J$34=0,0,'船舶（金額表）'!J33/'船舶（金額表）'!J$34) -> 0.44263043 | K33: =IF('船舶（金額表）'!K$34=0,0,'船舶（金額表）'!K33/'船舶（金額表）'!K$34) -> 0 | L33: =IF('船舶（金額表）'!L$34=0,0,'船舶（金額表）'!L33/'船舶（金額表）'!L$34) -> 0 | M33: =IF('船舶（金額表）'!M$34=0,0,'船舶（金額表）'!M33/'船舶（金額表）'!M$34) -> 0 | ... S33: =IF('船舶（金額表）'!S$34=0,0,'船舶（金額表）'!S33/'船舶（金額表）'!S$34) -> 0.38169011
A34: 合 計 | F34: =IF('船舶（金額表）'!F$34=0,0,'船舶（金額表）'!F34/'船舶（金額表）'!F$34) -> 1 | G34: =IF('船舶（金額表）'!G$34=0,0,'船舶（金額表）'!G34/'船舶（金額表）'!G$34) -> 1 | H34: =IF('船舶（金額表）'!H$34=0,0,'船舶（金額表）'!H34/'船舶（金額表）'!H$34) -> 1 | I34: =IF('船舶（金額表）'!I$34=0,0,'船舶（金額表）'!I34/'船舶（金額表）'!I$34) -> 1 | J34: =IF('船舶（金額表）'!J$34=0,0,'船舶（金額表）'!J34/'船舶（金額表）'!J$34) -> 1 | K34: =IF('船舶（金額表）'!K$34=0,0,'船舶（金額表）'!K34/'船舶（金額表）'!K$34) -> 0 | L34: =IF('船舶（金額表）'!L$34=0,0,'船舶（金額表）'!L34/'船舶（金額表）'!L$34) -> 0 | M34: =IF('船舶（金額表）'!M$34=0,0,'船舶（金額表）'!M34/'船舶（金額表）'!M$34) -> 1 | ... S34: =IF('船舶（金額表）'!S$34=0,0,'船舶（金額表）'!S34/'船舶（金額表）'!S$34) -> 1 | T34: =#REF!/#REF! -> #REF!
