Workbook

Sheet ③本工事費内訳調査（金額・構成比）
B1: 表－Ⅴ－２ 本工事費投入調査結果 （金額表） | M1: 表－Ⅴ－２ 本工事費投入調査結果 （構成比表）
E3: 2 | F3: 3 | G3: 4 | H3: 5 | I3: 6 | J3: （金額：千円）
B4: 事業種類 調査項目 | E4: 1 道路事業 | F4: 2 河川総合開発事業 | G4: 3 港湾事業 | H4: 4 空港整備事業 | I4: 5 鉄道軌道建設事業 | J4: 合計 | M4: 事業種類 調査項目 | P4: 1 道路事業 | Q4: 2 河川総合開発事業 | R4: 3 港湾事業 | S4: 4 空港整備事業 | T4: 5 鉄道軌道建設事業 | U4: 合計
B5: Ａ 直接工事費 | C5: 1 | D5: 労務費 | E5: =IFERROR(VLOOKUP($W5,[1]pivot集計!$A:$G,E$3,FALSE),0)+IFERROR(VLOOKUP($X5,[1]pivot集計!$A:$G,E$3,FALSE),0)+IFERROR(VLOOKUP($Y5,[1]pivot集計!$A:$G,E$3,FALSE),0)+IFERROR(VLOOKUP($Z5,[1]pivot集計!$A:$G,E$3,FALSE),0)+IFERROR(VLOOKUP($AA5,[1]pivot集計!$A:$G,E$3,FALSE),0)+IFERROR(VLOOKUP($AB5,[1]pivot集計!$A:$G,E$3,FALSE),0)+IFERROR(VLOOKUP($AC5,[1]pivot集計!$A:$G,E$3,FALSE),0)+IFERROR(VLOOKUP($AD5,[1]pivot集計!$A:$G,E$3,FALSE),0)+IFERROR(VLOOKUP($AE5,[1]pivot集計!$A:$G,E$3,FALSE),0)+IFERROR(VLOOKUP($AF5,[1]pivot集計!$A:$G,E$3,FALSE),0)+IFERROR(VLOOKUP($AG5,[1]pivot集計!$A:$G,E$3,FALSE),0)+IFERROR(VLOOKUP($AH5,[1]pivot集計!$A:$G,E$3,FALSE),0)+IFERROR(VLOOKUP($AI5,[1]pivot集計!$A:$G,E$3,FALSE),0)+IFERROR(VLOOKUP($AJ5,[1]pivot集計!$A:$G,E$3,FALSE),0)+IFERROR(VLOOKUP($AK5,[1]pivot集計!$A:$G,E$3,FALSE),0)+IFERROR(VLOOKUP($AL5,[1]pivot集計!$A:$G,E$3,FALSE),0)+IFERROR(VLOOKUP($AM5,[1]pivot集計!$A:$G,E$3,FALSE),0)+IFERROR(VLOOKUP($AN5,[1]pivot集計!$A:$G,E$3,FALSE),0)+IFERROR(VLOOKUP($AO5,[1]pivot集計!$A:$G,E$3,FALSE),0) -> 21550734 | F5: =IFERROR(VLOOKUP($W5,[1]pivot集計!$A:$G,F$3,FALSE),0)+IFERROR(VLOOKUP($X5,[1]pivot集計!$A:$G,F$3,FALSE),0)+IFERROR(VLOOKUP($Y5,[1]pivot集計!$A:$G,F$3,FALSE),0)+IFERROR(VLOOKUP($Z5,[1]pivot集計!$A:$G,F$3,FALSE),0)+IFERROR(VLOOKUP($AA5,[1]pivot集計!$A:$G,F$3,FALSE),0)+IFERROR(VLOOKUP($AB5,[1]pivot集計!$A:$G,F$3,FALSE),0)+IFERROR(VLOOKUP($AC5,[1]pivot集計!$A:$G,F$3,FALSE),0)+IFERROR(VLOOKUP($AD5,[1]pivot集計!$A:$G,F$3,FALSE),0)+IFERROR(VLOOKUP($AE5,[1]pivot集計!$A:$G,F$3,FALSE),0)+IFERROR(VLOOKUP($AF5,[1]pivot集計!$A:$G,F$3,FALSE),0)+IFERROR(VLOOKUP($AG5,[1]pivot集計!$A:$G,F$3,FALSE),0)+IFERROR(VLOOKUP($AH5,[1]pivot集計!$A:$G,F$3,FALSE),0)+IFERROR(VLOOKUP($AI5,[1]pivot集計!$A:$G,F$3,FALSE),0)+IFERROR(VLOOKUP($AJ5,[1]pivot集計!$A:$G,F$3,FALSE),0)+IFERROR(VLOOKUP($AK5,[1]pivot集計!$A:$G,F$3,FALSE),0)+IFERROR(VLOOKUP($AL5,[1]pivot集計!$A:$G,F$3,FALSE),0)+IFERROR(VLOOKUP($AM5,[1]pivot集計!$A:$G,F$3,FALSE),0)+IFERROR(VLOOKUP($AN5,[1]pivot集計!$A:$G,F$3,FALSE),0)+IFERROR(VLOOKUP($AO5,[1]pivot集計!$A:$G,F$3,FALSE),0) -> 591056 | G5: =IFERROR(VLOOKUP($W5,[1]pivot集計!$A:$G,G$3,FALSE),0)+IFERROR(VLOOKUP($X5,[1]pivot集計!$A:$G,G$3,FALSE),0)+IFERROR(VLOOKUP($Y5,[1]pivot集計!$A:$G,G$3,FALSE),0)+IFERROR(VLOOKUP($Z5,[1]pivot集計!$A:$G,G$3,FALSE),0)+IFERROR(VLOOKUP($AA5,[1]pivot集計!$A:$G,G$3,FALSE),0)+IFERROR(VLOOKUP($AB5,[1]pivot集計!$A:$G,G$3,FALSE),0)+IFERROR(VLOOKUP($AC5,[1]pivot集計!$A:$G,G$3,FALSE),0)+IFERROR(VLOOKUP($AD5,[1]pivot集計!$A:$G,G$3,FALSE),0)+IFERROR(VLOOKUP($AE5,[1]pivot集計!$A:$G,G$3,FALSE),0)+IFERROR(VLOOKUP($AF5,[1]pivot集計!$A:$G,G$3,FALSE),0)+IFERROR(VLOOKUP($AG5,[1]pivot集計!$A:$G,G$3,FALSE),0)+IFERROR(VLOOKUP($AH5,[1]pivot集計!$A:$G,G$3,FALSE),0)+IFERROR(VLOOKUP($AI5,[1]pivot集計!$A:$G,G$3,FALSE),0)+IFERROR(VLOOKUP($AJ5,[1]pivot集計!$A:$G,G$3,FALSE),0)+IFERROR(VLOOKUP($AK5,[1]pivot集計!$A:$G,G$3,FALSE),0)+IFERROR(VLOOKUP($AL5,[1]pivot集計!$A:$G,G$3,FALSE),0)+IFERROR(VLOOKUP($AM5,[1]pivot集計!$A:$G,G$3,FALSE),0)+IFERROR(VLOOKUP($AN5,[1]pivot集計!$A:$G,G$3,FALSE),0)+IFERROR(VLOOKUP($AO5,[1]pivot集計!$A:$G,G$3,FALSE),0) -> 215260 | H5: =IFERROR(VLOOKUP($W5,[1]pivot集計!$A:$G,H$3,FALSE),0)+IFERROR(VLOOKUP($X5,[1]pivot集計!$A:$G,H$3,FALSE),0)+IFERROR(VLOOKUP($Y5,[1]pivot集計!$A:$G,H$3,FALSE),0)+IFERROR(VLOOKUP($Z5,[1]pivot集計!$A:$G,H$3,FALSE),0)+IFERROR(VLOOKUP($AA5,[1]pivot集計!$A:$G,H$3,FALSE),0)+IFERROR(VLOOKUP($AB5,[1]pivot集計!$A:$G,H$3,FALSE),0)+IFERROR(VLOOKUP($AC5,[1]pivot集計!$A:$G,H$3,FALSE),0)+IFERROR(VLOOKUP($AD5,[1]pivot集計!$A:$G,H$3,FALSE),0)+IFERROR(VLOOKUP($AE5,[1]pivot集計!$A:$G,H$3,FALSE),0)+IFERROR(VLOOKUP($AF5,[1]pivot集計!$A:$G,H$3,FALSE),0)+IFERROR(VLOOKUP($AG5,[1]pivot集計!$A:$G,H$3,FALSE),0)+IFERROR(VLOOKUP($AH5,[1]pivot集計!$A:$G,H$3,FALSE),0)+IFERROR(VLOOKUP($AI5,[1]pivot集計!$A:$G,H$3,FALSE),0)+IFERROR(VLOOKUP($AJ5,[1]pivot集計!$A:$G,H$3,FALSE),0)+IFERROR(VLOOKUP($AK5,[1]pivot集計!$A:$G,H$3,FALSE),0)+IFERROR(VLOOKUP($AL5,[1]pivot集計!$A:$G,H$3,FALSE),0)+IFERROR(VLOOKUP($AM5,[1]pivot集計!$A:$G,H$3,FALSE),0)+IFERROR(VLOOKUP($AN5,[1]pivot集計!$A:$G,H$3,FALSE),0)+IFERROR(VLOOKUP($AO5,[1]pivot集計!$A:$G,H$3,FALSE),0) -> 415340.8 | I5: =IFERROR(VLOOKUP($W5,[1]pivot集計!$A:$G,I$3,FALSE),0)+IFERROR(VLOOKUP($X5,[1]pivot集計!$A:$G,I$3,FALSE),0)+IFERROR(VLOOKUP($Y5,[1]pivot集計!$A:$G,I$3,FALSE),0)+IFERROR(VLOOKUP($Z5,[1]pivot集計!$A:$G,I$3,FALSE),0)+IFERROR(VLOOKUP($AA5,[1]pivot集計!$A:$G,I$3,FALSE),0)+IFERROR(VLOOKUP($AB5,[1]pivot集計!$A:$G,I$3,FALSE),0)+IFERROR(VLOOKUP($AC5,[1]pivot集計!$A:$G,I$3,FALSE),0)+IFERROR(VLOOKUP($AD5,[1]pivot集計!$A:$G,I$3,FALSE),0)+IFERROR(VLOOKUP($AE5,[1]pivot集計!$A:$G,I$3,FALSE),0)+IFERROR(VLOOKUP($AF5,[1]pivot集計!$A:$G,I$3,FALSE),0)+IFERROR(VLOOKUP($AG5,[1]pivot集計!$A:$G,I$3,FALSE),0)+IFERROR(VLOOKUP($AH5,[1]pivot集計!$A:$G,I$3,FALSE),0)+IFERROR(VLOOKUP($AI5,[1]pivot集計!$A:$G,I$3,FALSE),0)+IFERROR(VLOOKUP($AJ5,[1]pivot集計!$A:$G,I$3,FALSE),0)+IFERROR(VLOOKUP($AK5,[1]pivot集計!$A:$G,I$3,FALSE),0)+IFERROR(VLOOKUP($AL5,[1]pivot集計!$A:$G,I$3,FALSE),0)+IFERROR(VLOOKUP($AM5,[1]pivot集計!$A:$G,I$3,FALSE),0)+IFERROR(VLOOKUP($AN5,[1]pivot集計!$A:$G,I$3,FALSE),0)+IFERROR(VLOOKUP($AO5,[1]pivot集計!$A:$G,I$3,FALSE),0) -> 17321362 | J5: =SUM(E5:I5) -> 40093753 | M5: Ａ 直接工事費 | N5: 1 | O5: 労務費 | P5: =E5/$E$58 -> 0.16909461 | Q5: =F5/$F$58 -> 0.1528355 | R5: =G5/$G$58 -> 0.12748065 | S5: =H5/$H$58 -> 0.091318131 | T5: =I5/$I$58 -> 0.16913072 | U5: =J5/$J$58 -> 0.167081 | W5: 合計 / ①-03
C6: 2 | D6: 樹木・種苗・芝 | E6: =IFERROR(VLOOKUP($W6,[1]pivot集計!$A:$G,E$3,FALSE),0)+IFERROR(VLOOKUP($X6,[1]pivot集計!$A:$G,E$3,FALSE),0)+IFERROR(VLOOKUP($Y6,[1]pivot集計!$A:$G,E$3,FALSE),0)+IFERROR(VLOOKUP($Z6,[1]pivot集計!$A:$G,E$3,FALSE),0)+IFERROR(VLOOKUP($AA6,[1]pivot集計!$A:$G,E$3,FALSE),0)+IFERROR(VLOOKUP($AB6,[1]pivot集計!$A:$G,E$3,FALSE),0)+IFERROR(VLOOKUP($AC6,[1]pivot集計!$A:$G,E$3,FALSE),0)+IFERROR(VLOOKUP($AD6,[1]pivot集計!$A:$G,E$3,FALSE),0)+IFERROR(VLOOKUP($AE6,[1]pivot集計!$A:$G,E$3,FALSE),0)+IFERROR(VLOOKUP($AF6,[1]pivot集計!$A:$G,E$3,FALSE),0)+IFERROR(VLOOKUP($AG6,[1]pivot集計!$A:$G,E$3,FALSE),0)+IFERROR(VLOOKUP($AH6,[1]pivot集計!$A:$G,E$3,FALSE),0)+IFERROR(VLOOKUP($AI6,[1]pivot集計!$A:$G,E$3,FALSE),0)+IFERROR(VLOOKUP($AJ6,[1]pivot集計!$A:$G,E$3,FALSE),0)+IFERROR(VLOOKUP($AK6,[1]pivot集計!$A:$G,E$3,FALSE),0)+IFERROR(VLOOKUP($AL6,[1]pivot集計!$A:$G,E$3,FALSE),0)+IFERROR(VLOOKUP($AM6,[1]pivot集計!$A:$G,E$3,FALSE),0)+IFERROR(VLOOKUP($AN6,[1]pivot集計!$A:$G,E$3,FALSE),0)+IFERROR(VLOOKUP($AO6,[1]pivot集計!$A:$G,E$3,FALSE),0) -> 6450 | F6: =IFERROR(VLOOKUP($W6,[1]pivot集計!$A:$G,F$3,FALSE),0)+IFERROR(VLOOKUP($X6,[1]pivot集計!$A:$G,F$3,FALSE),0)+IFERROR(VLOOKUP($Y6,[1]pivot集計!$A:$G,F$3,FALSE),0)+IFERROR(VLOOKUP($Z6,[1]pivot集計!$A:$G,F$3,FALSE),0)+IFERROR(VLOOKUP($AA6,[1]pivot集計!$A:$G,F$3,FALSE),0)+IFERROR(VLOOKUP($AB6,[1]pivot集計!$A:$G,F$3,FALSE),0)+IFERROR(VLOOKUP($AC6,[1]pivot集計!$A:$G,F$3,FALSE),0)+IFERROR(VLOOKUP($AD6,[1]pivot集計!$A:$G,F$3,FALSE),0)+IFERROR(VLOOKUP($AE6,[1]pivot集計!$A:$G,F$3,FALSE),0)+IFERROR(VLOOKUP($AF6,[1]pivot集計!$A:$G,F$3,FALSE),0)+IFERROR(VLOOKUP($AG6,[1]pivot集計!$A:$G,F$3,FALSE),0)+IFERROR(VLOOKUP($AH6,[1]pivot集計!$A:$G,F$3,FALSE),0)+IFERROR(VLOOKUP($AI6,[1]pivot集計!$A:$G,F$3,FALSE),0)+IFERROR(VLOOKUP($AJ6,[1]pivot集計!$A:$G,F$3,FALSE),0)+IFERROR(VLOOKUP($AK6,[1]pivot集計!$A:$G,F$3,FALSE),0)+IFERROR(VLOOKUP($AL6,[1]pivot集計!$A:$G,F$3,FALSE),0)+IFERROR(VLOOKUP($AM6,[1]pivot集計!$A:$G,F$3,FALSE),0)+IFERROR(VLOOKUP($AN6,[1]pivot集計!$A:$G,F$3,FALSE),0)+IFERROR(VLOOKUP($AO6,[1]pivot集計!$A:$G,F$3,FALSE),0) -> 2702 | G6: =IFERROR(VLOOKUP($W6,[1]pivot集計!$A:$G,G$3,FALSE),0)+IFERROR(VLOOKUP($X6,[1]pivot集計!$A:$G,G$3,FALSE),0)+IFERROR(VLOOKUP($Y6,[1]pivot集計!$A:$G,G$3,FALSE),0)+IFERROR(VLOOKUP($Z6,[1]pivot集計!$A:$G,G$3,FALSE),0)+IFERROR(VLOOKUP($AA6,[1]pivot集計!$A:$G,G$3,FALSE),0)+IFERROR(VLOOKUP($AB6,[1]pivot集計!$A:$G,G$3,FALSE),0)+IFERROR(VLOOKUP($AC6,[1]pivot集計!$A:$G,G$3,FALSE),0)+IFERROR(VLOOKUP($AD6,[1]pivot集計!$A:$G,G$3,FALSE),0)+IFERROR(VLOOKUP($AE6,[1]pivot集計!$A:$G,G$3,FALSE),0)+IFERROR(VLOOKUP($AF6,[1]pivot集計!$A:$G,G$3,FALSE),0)+IFERROR(VLOOKUP($AG6,[1]pivot集計!$A:$G,G$3,FALSE),0)+IFERROR(VLOOKUP($AH6,[1]pivot集計!$A:$G,G$3,FALSE),0)+IFERROR(VLOOKUP($AI6,[1]pivot集計!$A:$G,G$3,FALSE),0)+IFERROR(VLOOKUP($AJ6,[1]pivot集計!$A:$G,G$3,FALSE),0)+IFERROR(VLOOKUP($AK6,[1]pivot集計!$A:$G,G$3,FALSE),0)+IFERROR(VLOOKUP($AL6,[1]pivot集計!$A:$G,G$3,FALSE),0)+IFERROR(VLOOKUP($AM6,[1]pivot集計!$A:$G,G$3,FALSE),0)+IFERROR(VLOOKUP($AN6,[1]pivot集計!$A:$G,G$3,FALSE),0)+IFERROR(VLOOKUP($AO6,[1]pivot集計!$A:$G,G$3,FALSE),0) -> 30335 | H6: =IFERROR(VLOOKUP($W6,[1]pivot集計!$A:$G,H$3,FALSE),0)+IFERROR(VLOOKUP($X6,[1]pivot集計!$A:$G,H$3,FALSE),0)+IFERROR(VLOOKUP($Y6,[1]pivot集計!$A:$G,H$3,FALSE),0)+IFERROR(VLOOKUP($Z6,[1]pivot集計!$A:$G,H$3,FALSE),0)+IFERROR(VLOOKUP($AA6,[1]pivot集計!$A:$G,H$3,FALSE),0)+IFERROR(VLOOKUP($AB6,[1]pivot集計!$A:$G,H$3,FALSE),0)+IFERROR(VLOOKUP($AC6,[1]pivot集計!$A:$G,H$3,FALSE),0)+IFERROR(VLOOKUP($AD6,[1]pivot集計!$A:$G,H$3,FALSE),0)+IFERROR(VLOOKUP($AE6,[1]pivot集計!$A:$G,H$3,FALSE),0)+IFERROR(VLOOKUP($AF6,[1]pivot集計!$A:$G,H$3,FALSE),0)+IFERROR(VLOOKUP($AG6,[1]pivot集計!$A:$G,H$3,FALSE),0)+IFERROR(VLOOKUP($AH6,[1]pivot集計!$A:$G,H$3,FALSE),0)+IFERROR(VLOOKUP($AI6,[1]pivot集計!$A:$G,H$3,FALSE),0)+IFERROR(VLOOKUP($AJ6,[1]pivot集計!$A:$G,H$3,FALSE),0)+IFERROR(VLOOKUP($AK6,[1]pivot集計!$A:$G,H$3,FALSE),0)+IFERROR(VLOOKUP($AL6,[1]pivot集計!$A:$G,H$3,FALSE),0)+IFERROR(VLOOKUP($AM6,[1]pivot集計!$A:$G,H$3,FALSE),0)+IFERROR(VLOOKUP($AN6,[1]pivot集計!$A:$G,H$3,FALSE),0)+IFERROR(VLOOKUP($AO6,[1]pivot集計!$A:$G,H$3,FALSE),0) -> 0 | I6: =IFERROR(VLOOKUP($W6,[1]pivot集計!$A:$G,I$3,FALSE),0)+IFERROR(VLOOKUP($X6,[1]pivot集計!$A:$G,I$3,FALSE),0)+IFERROR(VLOOKUP($Y6,[1]pivot集計!$A:$G,I$3,FALSE),0)+IFERROR(VLOOKUP($Z6,[1]pivot集計!$A:$G,I$3,FALSE),0)+IFERROR(VLOOKUP($AA6,[1]pivot集計!$A:$G,I$3,FALSE),0)+IFERROR(VLOOKUP($AB6,[1]pivot集計!$A:$G,I$3,FALSE),0)+IFERROR(VLOOKUP($AC6,[1]pivot集計!$A:$G,I$3,FALSE),0)+IFERROR(VLOOKUP($AD6,[1]pivot集計!$A:$G,I$3,FALSE),0)+IFERROR(VLOOKUP($AE6,[1]pivot集計!$A:$G,I$3,FALSE),0)+IFERROR(VLOOKUP($AF6,[1]pivot集計!$A:$G,I$3,FALSE),0)+IFERROR(VLOOKUP($AG6,[1]pivot集計!$A:$G,I$3,FALSE),0)+IFERROR(VLOOKUP($AH6,[1]pivot集計!$A:$G,I$3,FALSE),0)+IFERROR(VLOOKUP($AI6,[1]pivot集計!$A:$G,I$3,FALSE),0)+IFERROR(VLOOKUP($AJ6,[1]pivot集計!$A:$G,I$3,FALSE),0)+IFERROR(VLOOKUP($AK6,[1]pivot集計!$A:$G,I$3,FALSE),0)+IFERROR(VLOOKUP($AL6,[1]pivot集計!$A:$G,I$3,FALSE),0)+IFERROR(VLOOKUP($AM6,[1]pivot集計!$A:$G,I$3,FALSE),0)+IFERROR(VLOOKUP($AN6,[1]pivot集計!$A:$G,I$3,FALSE),0)+IFERROR(VLOOKUP($AO6,[1]pivot集計!$A:$G,I$3,FALSE),0) -> 0 | J6: =SUM(E6:I6) -> 39487 | N6: 2 | O6: 樹木・種苗・芝 | P6: =E6/$E$58 -> 5.0608959e-05 | Q6: =F6/$F$58 -> 0.00069868427 | R6: =G6/$G$58 -> 0.017964905 | S6: =H6/$H$58 -> 0 | T6: =I6/$I$58 -> 0 | U6: =J6/$J$58 -> 0.0001645525 | W6: 合計 / ②-02 | X6: 合計 / ②-03 | Y6: 合計 / ②-04
C7: 3 | D7: 素材 | E7: =IFERROR(VLOOKUP($W7,[1]pivot集計!$A:$G,E$3,FALSE),0)+IFERROR(VLOOKUP($X7,[1]pivot集計!$A:$G,E$3,FALSE),0)+IFERROR(VLOOKUP($Y7,[1]pivot集計!$A:$G,E$3,FALSE),0)+IFERROR(VLOOKUP($Z7,[1]pivot集計!$A:$G,E$3,FALSE),0)+IFERROR(VLOOKUP($AA7,[1]pivot集計!$A:$G,E$3,FALSE),0)+IFERROR(VLOOKUP($AB7,[1]pivot集計!$A:$G,E$3,FALSE),0)+IFERROR(VLOOKUP($AC7,[1]pivot集計!$A:$G,E$3,FALSE),0)+IFERROR(VLOOKUP($AD7,[1]pivot集計!$A:$G,E$3,FALSE),0)+IFERROR(VLOOKUP($AE7,[1]pivot集計!$A:$G,E$3,FALSE),0)+IFERROR(VLOOKUP($AF7,[1]pivot集計!$A:$G,E$3,FALSE),0)+IFERROR(VLOOKUP($AG7,[1]pivot集計!$A:$G,E$3,FALSE),0)+IFERROR(VLOOKUP($AH7,[1]pivot集計!$A:$G,E$3,FALSE),0)+IFERROR(VLOOKUP($AI7,[1]pivot集計!$A:$G,E$3,FALSE),0)+IFERROR(VLOOKUP($AJ7,[1]pivot集計!$A:$G,E$3,FALSE),0)+IFERROR(VLOOKUP($AK7,[1]pivot集計!$A:$G,E$3,FALSE),0)+IFERROR(VLOOKUP($AL7,[1]pivot集計!$A:$G,E$3,FALSE),0)+IFERROR(VLOOKUP($AM7,[1]pivot集計!$A:$G,E$3,FALSE),0)+IFERROR(VLOOKUP($AN7,[1]pivot集計!$A:$G,E$3,FALSE),0)+IFERROR(VLOOKUP($AO7,[1]pivot集計!$A:$G,E$3,FALSE),0) -> 121 | F7: =IFERROR(VLOOKUP($W7,[1]pivot集計!$A:$G,F$3,FALSE),0)+IFERROR(VLOOKUP($X7,[1]pivot集計!$A:$G,F$3,FALSE),0)+IFERROR(VLOOKUP($Y7,[1]pivot集計!$A:$G,F$3,FALSE),0)+IFERROR(VLOOKUP($Z7,[1]pivot集計!$A:$G,F$3,FALSE),0)+IFERROR(VLOOKUP($AA7,[1]pivot集計!$A:$G,F$3,FALSE),0)+IFERROR(VLOOKUP($AB7,[1]pivot集計!$A:$G,F$3,FALSE),0)+IFERROR(VLOOKUP($AC7,[1]pivot集計!$A:$G,F$3,FALSE),0)+IFERROR(VLOOKUP($AD7,[1]pivot集計!$A:$G,F$3,FALSE),0)+IFERROR(VLOOKUP($AE7,[1]pivot集計!$A:$G,F$3,FALSE),0)+IFERROR(VLOOKUP($AF7,[1]pivot集計!$A:$G,F$3,FALSE),0)+IFERROR(VLOOKUP($AG7,[1]pivot集計!$A:$G,F$3,FALSE),0)+IFERROR(VLOOKUP($AH7,[1]pivot集計!$A:$G,F$3,FALSE),0)+IFERROR(VLOOKUP($AI7,[1]pivot集計!$A:$G,F$3,FALSE),0)+IFERROR(VLOOKUP($AJ7,[1]pivot集計!$A:$G,F$3,FALSE),0)+IFERROR(VLOOKUP($AK7,[1]pivot集計!$A:$G,F$3,FALSE),0)+IFERROR(VLOOKUP($AL7,[1]pivot集計!$A:$G,F$3,FALSE),0)+IFERROR(VLOOKUP($AM7,[1]pivot集計!$A:$G,F$3,FALSE),0)+IFERROR(VLOOKUP($AN7,[1]pivot集計!$A:$G,F$3,FALSE),0)+IFERROR(VLOOKUP($AO7,[1]pivot集計!$A:$G,F$3,FALSE),0) -> 13 | G7: =IFERROR(VLOOKUP($W7,[1]pivot集計!$A:$G,G$3,FALSE),0)+IFERROR(VLOOKUP($X7,[1]pivot集計!$A:$G,G$3,FALSE),0)+IFERROR(VLOOKUP($Y7,[1]pivot集計!$A:$G,G$3,FALSE),0)+IFERROR(VLOOKUP($Z7,[1]pivot集計!$A:$G,G$3,FALSE),0)+IFERROR(VLOOKUP($AA7,[1]pivot集計!$A:$G,G$3,FALSE),0)+IFERROR(VLOOKUP($AB7,[1]pivot集計!$A:$G,G$3,FALSE),0)+IFERROR(VLOOKUP($AC7,[1]pivot集計!$A:$G,G$3,FALSE),0)+IFERROR(VLOOKUP($AD7,[1]pivot集計!$A:$G,G$3,FALSE),0)+IFERROR(VLOOKUP($AE7,[1]pivot集計!$A:$G,G$3,FALSE),0)+IFERROR(VLOOKUP($AF7,[1]pivot集計!$A:$G,G$3,FALSE),0)+IFERROR(VLOOKUP($AG7,[1]pivot集計!$A:$G,G$3,FALSE),0)+IFERROR(VLOOKUP($AH7,[1]pivot集計!$A:$G,G$3,FALSE),0)+IFERROR(VLOOKUP($AI7,[1]pivot集計!$A:$G,G$3,FALSE),0)+IFERROR(VLOOKUP($AJ7,[1]pivot集計!$A:$G,G$3,FALSE),0)+IFERROR(VLOOKUP($AK7,[1]pivot集計!$A:$G,G$3,FALSE),0)+IFERROR(VLOOKUP($AL7,[1]pivot集計!$A:$G,G$3,FALSE),0)+IFERROR(VLOOKUP($AM7,[1]pivot集計!$A:$G,G$3,FALSE),0)+IFERROR(VLOOKUP($AN7,[1]pivot集計!$A:$G,G$3,FALSE),0)+IFERROR(VLOOKUP($AO7,[1]pivot集計!$A:$G,G$3,FALSE),0) -> 0 | H7: =IFERROR(VLOOKUP($W7,[1]pivot集計!$A:$G,H$3,FALSE),0)+IFERROR(VLOOKUP($X7,[1]pivot集計!$A:$G,H$3,FALSE),0)+IFERROR(VLOOKUP($Y7,[1]pivot集計!$A:$G,H$3,FALSE),0)+IFERROR(VLOOKUP($Z7,[1]pivot集計!$A:$G,H$3,FALSE),0)+IFERROR(VLOOKUP($AA7,[1]pivot集計!$A:$G,H$3,FALSE),0)+IFERROR(VLOOKUP($AB7,[1]pivot集計!$A:$G,H$3,FALSE),0)+IFERROR(VLOOKUP($AC7,[1]pivot集計!$A:$G,H$3,FALSE),0)+IFERROR(VLOOKUP($AD7,[1]pivot集計!$A:$G,H$3,FALSE),0)+IFERROR(VLOOKUP($AE7,[1]pivot集計!$A:$G,H$3,FALSE),0)+IFERROR(VLOOKUP($AF7,[1]pivot集計!$A:$G,H$3,FALSE),0)+IFERROR(VLOOKUP($AG7,[1]pivot集計!$A:$G,H$3,FALSE),0)+IFERROR(VLOOKUP($AH7,[1]pivot集計!$A:$G,H$3,FALSE),0)+IFERROR(VLOOKUP($AI7,[1]pivot集計!$A:$G,H$3,FALSE),0)+IFERROR(VLOOKUP($AJ7,[1]pivot集計!$A:$G,H$3,FALSE),0)+IFERROR(VLOOKUP($AK7,[1]pivot集計!$A:$G,H$3,FALSE),0)+IFERROR(VLOOKUP($AL7,[1]pivot集計!$A:$G,H$3,FALSE),0)+IFERROR(VLOOKUP($AM7,[1]pivot集計!$A:$G,H$3,FALSE),0)+IFERROR(VLOOKUP($AN7,[1]pivot集計!$A:$G,H$3,FALSE),0)+IFERROR(VLOOKUP($AO7,[1]pivot集計!$A:$G,H$3,FALSE),0) -> 0 | I7: =IFERROR(VLOOKUP($W7,[1]pivot集計!$A:$G,I$3,FALSE),0)+IFERROR(VLOOKUP($X7,[1]pivot集計!$A:$G,I$3,FALSE),0)+IFERROR(VLOOKUP($Y7,[1]pivot集計!$A:$G,I$3,FALSE),0)+IFERROR(VLOOKUP($Z7,[1]pivot集計!$A:$G,I$3,FALSE),0)+IFERROR(VLOOKUP($AA7,[1]pivot集計!$A:$G,I$3,FALSE),0)+IFERROR(VLOOKUP($AB7,[1]pivot集計!$A:$G,I$3,FALSE),0)+IFERROR(VLOOKUP($AC7,[1]pivot集計!$A:$G,I$3,FALSE),0)+IFERROR(VLOOKUP($AD7,[1]pivot集計!$A:$G,I$3,FALSE),0)+IFERROR(VLOOKUP($AE7,[1]pivot集計!$A:$G,I$3,FALSE),0)+IFERROR(VLOOKUP($AF7,[1]pivot集計!$A:$G,I$3,FALSE),0)+IFERROR(VLOOKUP($AG7,[1]pivot集計!$A:$G,I$3,FALSE),0)+IFERROR(VLOOKUP($AH7,[1]pivot集計!$A:$G,I$3,FALSE),0)+IFERROR(VLOOKUP($AI7,[1]pivot集計!$A:$G,I$3,FALSE),0)+IFERROR(VLOOKUP($AJ7,[1]pivot集計!$A:$G,I$3,FALSE),0)+IFERROR(VLOOKUP($AK7,[1]pivot集計!$A:$G,I$3,FALSE),0)+IFERROR(VLOOKUP($AL7,[1]pivot集計!$A:$G,I$3,FALSE),0)+IFERROR(VLOOKUP($AM7,[1]pivot集計!$A:$G,I$3,FALSE),0)+IFERROR(VLOOKUP($AN7,[1]pivot集計!$A:$G,I$3,FALSE),0)+IFERROR(VLOOKUP($AO7,[1]pivot集計!$A:$G,I$3,FALSE),0) -> 0 | J7: =SUM(E7:I7) -> 134 | N7: 3 | O7: 素材 | P7: =E7/$E$58 -> 9.4940837e-07 | Q7: =F7/$F$58 -> 3.3615453e-06 | R7: =G7/$G$58 -> 0 | S7: =H7/$H$58 -> 0 | T7: =I7/$I$58 -> 0 | U7: =J7/$J$58 -> 5.5841252e-07 | W7: 合計 / ②-05
C8: 4 | D8: 製材 | E8: =IFERROR(VLOOKUP($W8,[1]pivot集計!$A:$G,E$3,FALSE),0)+IFERROR(VLOOKUP($X8,[1]pivot集計!$A:$G,E$3,FALSE),0)+IFERROR(VLOOKUP($Y8,[1]pivot集計!$A:$G,E$3,FALSE),0)+IFERROR(VLOOKUP($Z8,[1]pivot集計!$A:$G,E$3,FALSE),0)+IFERROR(VLOOKUP($AA8,[1]pivot集計!$A:$G,E$3,FALSE),0)+IFERROR(VLOOKUP($AB8,[1]pivot集計!$A:$G,E$3,FALSE),0)+IFERROR(VLOOKUP($AC8,[1]pivot集計!$A:$G,E$3,FALSE),0)+IFERROR(VLOOKUP($AD8,[1]pivot集計!$A:$G,E$3,FALSE),0)+IFERROR(VLOOKUP($AE8,[1]pivot集計!$A:$G,E$3,FALSE),0)+IFERROR(VLOOKUP($AF8,[1]pivot集計!$A:$G,E$3,FALSE),0)+IFERROR(VLOOKUP($AG8,[1]pivot集計!$A:$G,E$3,FALSE),0)+IFERROR(VLOOKUP($AH8,[1]pivot集計!$A:$G,E$3,FALSE),0)+IFERROR(VLOOKUP($AI8,[1]pivot集計!$A:$G,E$3,FALSE),0)+IFERROR(VLOOKUP($AJ8,[1]pivot集計!$A:$G,E$3,FALSE),0)+IFERROR(VLOOKUP($AK8,[1]pivot集計!$A:$G,E$3,FALSE),0)+IFERROR(VLOOKUP($AL8,[1]pivot集計!$A:$G,E$3,FALSE),0)+IFERROR(VLOOKUP($AM8,[1]pivot集計!$A:$G,E$3,FALSE),0)+IFERROR(VLOOKUP($AN8,[1]pivot集計!$A:$G,E$3,FALSE),0)+IFERROR(VLOOKUP($AO8,[1]pivot集計!$A:$G,E$3,FALSE),0) -> 11 | F8: =IFERROR(VLOOKUP($W8,[1]pivot集計!$A:$G,F$3,FALSE),0)+IFERROR(VLOOKUP($X8,[1]pivot集計!$A:$G,F$3,FALSE),0)+IFERROR(VLOOKUP($Y8,[1]pivot集計!$A:$G,F$3,FALSE),0)+IFERROR(VLOOKUP($Z8,[1]pivot集計!$A:$G,F$3,FALSE),0)+IFERROR(VLOOKUP($AA8,[1]pivot集計!$A:$G,F$3,FALSE),0)+IFERROR(VLOOKUP($AB8,[1]pivot集計!$A:$G,F$3,FALSE),0)+IFERROR(VLOOKUP($AC8,[1]pivot集計!$A:$G,F$3,FALSE),0)+IFERROR(VLOOKUP($AD8,[1]pivot集計!$A:$G,F$3,FALSE),0)+IFERROR(VLOOKUP($AE8,[1]pivot集計!$A:$G,F$3,FALSE),0)+IFERROR(VLOOKUP($AF8,[1]pivot集計!$A:$G,F$3,FALSE),0)+IFERROR(VLOOKUP($AG8,[1]pivot集計!$A:$G,F$3,FALSE),0)+IFERROR(VLOOKUP($AH8,[1]pivot集計!$A:$G,F$3,FALSE),0)+IFERROR(VLOOKUP($AI8,[1]pivot集計!$A:$G,F$3,FALSE),0)+IFERROR(VLOOKUP($AJ8,[1]pivot集計!$A:$G,F$3,FALSE),0)+IFERROR(VLOOKUP($AK8,[1]pivot集計!$A:$G,F$3,FALSE),0)+IFERROR(VLOOKUP($AL8,[1]pivot集計!$A:$G,F$3,FALSE),0)+IFERROR(VLOOKUP($AM8,[1]pivot集計!$A:$G,F$3,FALSE),0)+IFERROR(VLOOKUP($AN8,[1]pivot集計!$A:$G,F$3,FALSE),0)+IFERROR(VLOOKUP($AO8,[1]pivot集計!$A:$G,F$3,FALSE),0) -> 221 | G8: =IFERROR(VLOOKUP($W8,[1]pivot集計!$A:$G,G$3,FALSE),0)+IFERROR(VLOOKUP($X8,[1]pivot集計!$A:$G,G$3,FALSE),0)+IFERROR(VLOOKUP($Y8,[1]pivot集計!$A:$G,G$3,FALSE),0)+IFERROR(VLOOKUP($Z8,[1]pivot集計!$A:$G,G$3,FALSE),0)+IFERROR(VLOOKUP($AA8,[1]pivot集計!$A:$G,G$3,FALSE),0)+IFERROR(VLOOKUP($AB8,[1]pivot集計!$A:$G,G$3,FALSE),0)+IFERROR(VLOOKUP($AC8,[1]pivot集計!$A:$G,G$3,FALSE),0)+IFERROR(VLOOKUP($AD8,[1]pivot集計!$A:$G,G$3,FALSE),0)+IFERROR(VLOOKUP($AE8,[1]pivot集計!$A:$G,G$3,FALSE),0)+IFERROR(VLOOKUP($AF8,[1]pivot集計!$A:$G,G$3,FALSE),0)+IFERROR(VLOOKUP($AG8,[1]pivot集計!$A:$G,G$3,FALSE),0)+IFERROR(VLOOKUP($AH8,[1]pivot集計!$A:$G,G$3,FALSE),0)+IFERROR(VLOOKUP($AI8,[1]pivot集計!$A:$G,G$3,FALSE),0)+IFERROR(VLOOKUP($AJ8,[1]pivot集計!$A:$G,G$3,FALSE),0)+IFERROR(VLOOKUP($AK8,[1]pivot集計!$A:$G,G$3,FALSE),0)+IFERROR(VLOOKUP($AL8,[1]pivot集計!$A:$G,G$3,FALSE),0)+IFERROR(VLOOKUP($AM8,[1]pivot集計!$A:$G,G$3,FALSE),0)+IFERROR(VLOOKUP($AN8,[1]pivot集計!$A:$G,G$3,FALSE),0)+IFERROR(VLOOKUP($AO8,[1]pivot集計!$A:$G,G$3,FALSE),0) -> 0 | H8: =IFERROR(VLOOKUP($W8,[1]pivot集計!$A:$G,H$3,FALSE),0)+IFERROR(VLOOKUP($X8,[1]pivot集計!$A:$G,H$3,FALSE),0)+IFERROR(VLOOKUP($Y8,[1]pivot集計!$A:$G,H$3,FALSE),0)+IFERROR(VLOOKUP($Z8,[1]pivot集計!$A:$G,H$3,FALSE),0)+IFERROR(VLOOKUP($AA8,[1]pivot集計!$A:$G,H$3,FALSE),0)+IFERROR(VLOOKUP($AB8,[1]pivot集計!$A:$G,H$3,FALSE),0)+IFERROR(VLOOKUP($AC8,[1]pivot集計!$A:$G,H$3,FALSE),0)+IFERROR(VLOOKUP($AD8,[1]pivot集計!$A:$G,H$3,FALSE),0)+IFERROR(VLOOKUP($AE8,[1]pivot集計!$A:$G,H$3,FALSE),0)+IFERROR(VLOOKUP($AF8,[1]pivot集計!$A:$G,H$3,FALSE),0)+IFERROR(VLOOKUP($AG8,[1]pivot集計!$A:$G,H$3,FALSE),0)+IFERROR(VLOOKUP($AH8,[1]pivot集計!$A:$G,H$3,FALSE),0)+IFERROR(VLOOKUP($AI8,[1]pivot集計!$A:$G,H$3,FALSE),0)+IFERROR(VLOOKUP($AJ8,[1]pivot集計!$A:$G,H$3,FALSE),0)+IFERROR(VLOOKUP($AK8,[1]pivot集計!$A:$G,H$3,FALSE),0)+IFERROR(VLOOKUP($AL8,[1]pivot集計!$A:$G,H$3,FALSE),0)+IFERROR(VLOOKUP($AM8,[1]pivot集計!$A:$G,H$3,FALSE),0)+IFERROR(VLOOKUP($AN8,[1]pivot集計!$A:$G,H$3,FALSE),0)+IFERROR(VLOOKUP($AO8,[1]pivot集計!$A:$G,H$3,FALSE),0) -> 0 | I8: =IFERROR(VLOOKUP($W8,[1]pivot集計!$A:$G,I$3,FALSE),0)+IFERROR(VLOOKUP($X8,[1]pivot集計!$A:$G,I$3,FALSE),0)+IFERROR(VLOOKUP($Y8,[1]pivot集計!$A:$G,I$3,FALSE),0)+IFERROR(VLOOKUP($Z8,[1]pivot集計!$A:$G,I$3,FALSE),0)+IFERROR(VLOOKUP($AA8,[1]pivot集計!$A:$G,I$3,FALSE),0)+IFERROR(VLOOKUP($AB8,[1]pivot集計!$A:$G,I$3,FALSE),0)+IFERROR(VLOOKUP($AC8,[1]pivot集計!$A:$G,I$3,FALSE),0)+IFERROR(VLOOKUP($AD8,[1]pivot集計!$A:$G,I$3,FALSE),0)+IFERROR(VLOOKUP($AE8,[1]pivot集計!$A:$G,I$3,FALSE),0)+IFERROR(VLOOKUP($AF8,[1]pivot集計!$A:$G,I$3,FALSE),0)+IFERROR(VLOOKUP($AG8,[1]pivot集計!$A:$G,I$3,FALSE),0)+IFERROR(VLOOKUP($AH8,[1]pivot集計!$A:$G,I$3,FALSE),0)+IFERROR(VLOOKUP($AI8,[1]pivot集計!$A:$G,I$3,FALSE),0)+IFERROR(VLOOKUP($AJ8,[1]pivot集計!$A:$G,I$3,FALSE),0)+IFERROR(VLOOKUP($AK8,[1]pivot集計!$A:$G,I$3,FALSE),0)+IFERROR(VLOOKUP($AL8,[1]pivot集計!$A:$G,I$3,FALSE),0)+IFERROR(VLOOKUP($AM8,[1]pivot集計!$A:$G,I$3,FALSE),0)+IFERROR(VLOOKUP($AN8,[1]pivot集計!$A:$G,I$3,FALSE),0)+IFERROR(VLOOKUP($AO8,[1]pivot集計!$A:$G,I$3,FALSE),0) -> 29841.004 | J8: =SUM(E8:I8) -> 30073.004 | N8: 4 | O8: 製材 | P8: =E8/$E$58 -> 8.6309852e-08 | Q8: =F8/$F$58 -> 5.714627e-05 | R8: =G8/$G$58 -> 0 | S8: =H8/$H$58 -> 0 | T8: =I8/$I$58 -> 0.00029137607 | U8: =J8/$J$58 -> 0.00012532195 | W8: 合計 / ②-06
C9: 5 | D9: 薬品処理木材 | E9: =IFERROR(VLOOKUP($W9,[1]pivot集計!$A:$G,E$3,FALSE),0)+IFERROR(VLOOKUP($X9,[1]pivot集計!$A:$G,E$3,FALSE),0)+IFERROR(VLOOKUP($Y9,[1]pivot集計!$A:$G,E$3,FALSE),0)+IFERROR(VLOOKUP($Z9,[1]pivot集計!$A:$G,E$3,FALSE),0)+IFERROR(VLOOKUP($AA9,[1]pivot集計!$A:$G,E$3,FALSE),0)+IFERROR(VLOOKUP($AB9,[1]pivot集計!$A:$G,E$3,FALSE),0)+IFERROR(VLOOKUP($AC9,[1]pivot集計!$A:$G,E$3,FALSE),0)+IFERROR(VLOOKUP($AD9,[1]pivot集計!$A:$G,E$3,FALSE),0)+IFERROR(VLOOKUP($AE9,[1]pivot集計!$A:$G,E$3,FALSE),0)+IFERROR(VLOOKUP($AF9,[1]pivot集計!$A:$G,E$3,FALSE),0)+IFERROR(VLOOKUP($AG9,[1]pivot集計!$A:$G,E$3,FALSE),0)+IFERROR(VLOOKUP($AH9,[1]pivot集計!$A:$G,E$3,FALSE),0)+IFERROR(VLOOKUP($AI9,[1]pivot集計!$A:$G,E$3,FALSE),0)+IFERROR(VLOOKUP($AJ9,[1]pivot集計!$A:$G,E$3,FALSE),0)+IFERROR(VLOOKUP($AK9,[1]pivot集計!$A:$G,E$3,FALSE),0)+IFERROR(VLOOKUP($AL9,[1]pivot集計!$A:$G,E$3,FALSE),0)+IFERROR(VLOOKUP($AM9,[1]pivot集計!$A:$G,E$3,FALSE),0)+IFERROR(VLOOKUP($AN9,[1]pivot集計!$A:$G,E$3,FALSE),0)+IFERROR(VLOOKUP($AO9,[1]pivot集計!$A:$G,E$3,FALSE),0) -> 0 | F9: =IFERROR(VLOOKUP($W9,[1]pivot集計!$A:$G,F$3,FALSE),0)+IFERROR(VLOOKUP($X9,[1]pivot集計!$A:$G,F$3,FALSE),0)+IFERROR(VLOOKUP($Y9,[1]pivot集計!$A:$G,F$3,FALSE),0)+IFERROR(VLOOKUP($Z9,[1]pivot集計!$A:$G,F$3,FALSE),0)+IFERROR(VLOOKUP($AA9,[1]pivot集計!$A:$G,F$3,FALSE),0)+IFERROR(VLOOKUP($AB9,[1]pivot集計!$A:$G,F$3,FALSE),0)+IFERROR(VLOOKUP($AC9,[1]pivot集計!$A:$G,F$3,FALSE),0)+IFERROR(VLOOKUP($AD9,[1]pivot集計!$A:$G,F$3,FALSE),0)+IFERROR(VLOOKUP($AE9,[1]pivot集計!$A:$G,F$3,FALSE),0)+IFERROR(VLOOKUP($AF9,[1]pivot集計!$A:$G,F$3,FALSE),0)+IFERROR(VLOOKUP($AG9,[1]pivot集計!$A:$G,F$3,FALSE),0)+IFERROR(VLOOKUP($AH9,[1]pivot集計!$A:$G,F$3,FALSE),0)+IFERROR(VLOOKUP($AI9,[1]pivot集計!$A:$G,F$3,FALSE),0)+IFERROR(VLOOKUP($AJ9,[1]pivot集計!$A:$G,F$3,FALSE),0)+IFERROR(VLOOKUP($AK9,[1]pivot集計!$A:$G,F$3,FALSE),0)+IFERROR(VLOOKUP($AL9,[1]pivot集計!$A:$G,F$3,FALSE),0)+IFERROR(VLOOKUP($AM9,[1]pivot集計!$A:$G,F$3,FALSE),0)+IFERROR(VLOOKUP($AN9,[1]pivot集計!$A:$G,F$3,FALSE),0)+IFERROR(VLOOKUP($AO9,[1]pivot集計!$A:$G,F$3,FALSE),0) -> 0 | G9: =IFERROR(VLOOKUP($W9,[1]pivot集計!$A:$G,G$3,FALSE),0)+IFERROR(VLOOKUP($X9,[1]pivot集計!$A:$G,G$3,FALSE),0)+IFERROR(VLOOKUP($Y9,[1]pivot集計!$A:$G,G$3,FALSE),0)+IFERROR(VLOOKUP($Z9,[1]pivot集計!$A:$G,G$3,FALSE),0)+IFERROR(VLOOKUP($AA9,[1]pivot集計!$A:$G,G$3,FALSE),0)+IFERROR(VLOOKUP($AB9,[1]pivot集計!$A:$G,G$3,FALSE),0)+IFERROR(VLOOKUP($AC9,[1]pivot集計!$A:$G,G$3,FALSE),0)+IFERROR(VLOOKUP($AD9,[1]pivot集計!$A:$G,G$3,FALSE),0)+IFERROR(VLOOKUP($AE9,[1]pivot集計!$A:$G,G$3,FALSE),0)+IFERROR(VLOOKUP($AF9,[1]pivot集計!$A:$G,G$3,FALSE),0)+IFERROR(VLOOKUP($AG9,[1]pivot集計!$A:$G,G$3,FALSE),0)+IFERROR(VLOOKUP($AH9,[1]pivot集計!$A:$G,G$3,FALSE),0)+IFERROR(VLOOKUP($AI9,[1]pivot集計!$A:$G,G$3,FALSE),0)+IFERROR(VLOOKUP($AJ9,[1]pivot集計!$A:$G,G$3,FALSE),0)+IFERROR(VLOOKUP($AK9,[1]pivot集計!$A:$G,G$3,FALSE),0)+IFERROR(VLOOKUP($AL9,[1]pivot集計!$A:$G,G$3,FALSE),0)+IFERROR(VLOOKUP($AM9,[1]pivot集計!$A:$G,G$3,FALSE),0)+IFERROR(VLOOKUP($AN9,[1]pivot集計!$A:$G,G$3,FALSE),0)+IFERROR(VLOOKUP($AO9,[1]pivot集計!$A:$G,G$3,FALSE),0) -> 0 | H9: =IFERROR(VLOOKUP($W9,[1]pivot集計!$A:$G,H$3,FALSE),0)+IFERROR(VLOOKUP($X9,[1]pivot集計!$A:$G,H$3,FALSE),0)+IFERROR(VLOOKUP($Y9,[1]pivot集計!$A:$G,H$3,FALSE),0)+IFERROR(VLOOKUP($Z9,[1]pivot集計!$A:$G,H$3,FALSE),0)+IFERROR(VLOOKUP($AA9,[1]pivot集計!$A:$G,H$3,FALSE),0)+IFERROR(VLOOKUP($AB9,[1]pivot集計!$A:$G,H$3,FALSE),0)+IFERROR(VLOOKUP($AC9,[1]pivot集計!$A:$G,H$3,FALSE),0)+IFERROR(VLOOKUP($AD9,[1]pivot集計!$A:$G,H$3,FALSE),0)+IFERROR(VLOOKUP($AE9,[1]pivot集計!$A:$G,H$3,FALSE),0)+IFERROR(VLOOKUP($AF9,[1]pivot集計!$A:$G,H$3,FALSE),0)+IFERROR(VLOOKUP($AG9,[1]pivot集計!$A:$G,H$3,FALSE),0)+IFERROR(VLOOKUP($AH9,[1]pivot集計!$A:$G,H$3,FALSE),0)+IFERROR(VLOOKUP($AI9,[1]pivot集計!$A:$G,H$3,FALSE),0)+IFERROR(VLOOKUP($AJ9,[1]pivot集計!$A:$G,H$3,FALSE),0)+IFERROR(VLOOKUP($AK9,[1]pivot集計!$A:$G,H$3,FALSE),0)+IFERROR(VLOOKUP($AL9,[1]pivot集計!$A:$G,H$3,FALSE),0)+IFERROR(VLOOKUP($AM9,[1]pivot集計!$A:$G,H$3,FALSE),0)+IFERROR(VLOOKUP($AN9,[1]pivot集計!$A:$G,H$3,FALSE),0)+IFERROR(VLOOKUP($AO9,[1]pivot集計!$A:$G,H$3,FALSE),0) -> 0 | I9: =IFERROR(VLOOKUP($W9,[1]pivot集計!$A:$G,I$3,FALSE),0)+IFERROR(VLOOKUP($X9,[1]pivot集計!$A:$G,I$3,FALSE),0)+IFERROR(VLOOKUP($Y9,[1]pivot集計!$A:$G,I$3,FALSE),0)+IFERROR(VLOOKUP($Z9,[1]pivot集計!$A:$G,I$3,FALSE),0)+IFERROR(VLOOKUP($AA9,[1]pivot集計!$A:$G,I$3,FALSE),0)+IFERROR(VLOOKUP($AB9,[1]pivot集計!$A:$G,I$3,FALSE),0)+IFERROR(VLOOKUP($AC9,[1]pivot集計!$A:$G,I$3,FALSE),0)+IFERROR(VLOOKUP($AD9,[1]pivot集計!$A:$G,I$3,FALSE),0)+IFERROR(VLOOKUP($AE9,[1]pivot集計!$A:$G,I$3,FALSE),0)+IFERROR(VLOOKUP($AF9,[1]pivot集計!$A:$G,I$3,FALSE),0)+IFERROR(VLOOKUP($AG9,[1]pivot集計!$A:$G,I$3,FALSE),0)+IFERROR(VLOOKUP($AH9,[1]pivot集計!$A:$G,I$3,FALSE),0)+IFERROR(VLOOKUP($AI9,[1]pivot集計!$A:$G,I$3,FALSE),0)+IFERROR(VLOOKUP($AJ9,[1]pivot集計!$A:$G,I$3,FALSE),0)+IFERROR(VLOOKUP($AK9,[1]pivot集計!$A:$G,I$3,FALSE),0)+IFERROR(VLOOKUP($AL9,[1]pivot集計!$A:$G,I$3,FALSE),0)+IFERROR(VLOOKUP($AM9,[1]pivot集計!$A:$G,I$3,FALSE),0)+IFERROR(VLOOKUP($AN9,[1]pivot集計!$A:$G,I$3,FALSE),0)+IFERROR(VLOOKUP($AO9,[1]pivot集計!$A:$G,I$3,FALSE),0) -> 3940 | J9: =SUM(E9:I9) -> 3940 | N9: 5 | O9: 薬品処理木材 | P9: =E9/$E$58 -> 0 | Q9: =F9/$F$58 -> 0 | R9: =G9/$G$58 -> 0 | S9: =H9/$H$58 -> 0 | T9: =I9/$I$58 -> 3.8471283e-05 | U9: =J9/$J$58 -> 1.6418995e-05 | W9: 合計 / ②-07
C10: 6 | D10: 合板 | E10: =IFERROR(VLOOKUP($W10,[1]pivot集計!$A:$G,E$3,FALSE),0)+IFERROR(VLOOKUP($X10,[1]pivot集計!$A:$G,E$3,FALSE),0)+IFERROR(VLOOKUP($Y10,[1]pivot集計!$A:$G,E$3,FALSE),0)+IFERROR(VLOOKUP($Z10,[1]pivot集計!$A:$G,E$3,FALSE),0)+IFERROR(VLOOKUP($AA10,[1]pivot集計!$A:$G,E$3,FALSE),0)+IFERROR(VLOOKUP($AB10,[1]pivot集計!$A:$G,E$3,FALSE),0)+IFERROR(VLOOKUP($AC10,[1]pivot集計!$A:$G,E$3,FALSE),0)+IFERROR(VLOOKUP($AD10,[1]pivot集計!$A:$G,E$3,FALSE),0)+IFERROR(VLOOKUP($AE10,[1]pivot集計!$A:$G,E$3,FALSE),0)+IFERROR(VLOOKUP($AF10,[1]pivot集計!$A:$G,E$3,FALSE),0)+IFERROR(VLOOKUP($AG10,[1]pivot集計!$A:$G,E$3,FALSE),0)+IFERROR(VLOOKUP($AH10,[1]pivot集計!$A:$G,E$3,FALSE),0)+IFERROR(VLOOKUP($AI10,[1]pivot集計!$A:$G,E$3,FALSE),0)+IFERROR(VLOOKUP($AJ10,[1]pivot集計!$A:$G,E$3,FALSE),0)+IFERROR(VLOOKUP($AK10,[1]pivot集計!$A:$G,E$3,FALSE),0)+IFERROR(VLOOKUP($AL10,[1]pivot集計!$A:$G,E$3,FALSE),0)+IFERROR(VLOOKUP($AM10,[1]pivot集計!$A:$G,E$3,FALSE),0)+IFERROR(VLOOKUP($AN10,[1]pivot集計!$A:$G,E$3,FALSE),0)+IFERROR(VLOOKUP($AO10,[1]pivot集計!$A:$G,E$3,FALSE),0) -> 1755628 | F10: =IFERROR(VLOOKUP($W10,[1]pivot集計!$A:$G,F$3,FALSE),0)+IFERROR(VLOOKUP($X10,[1]pivot集計!$A:$G,F$3,FALSE),0)+IFERROR(VLOOKUP($Y10,[1]pivot集計!$A:$G,F$3,FALSE),0)+IFERROR(VLOOKUP($Z10,[1]pivot集計!$A:$G,F$3,FALSE),0)+IFERROR(VLOOKUP($AA10,[1]pivot集計!$A:$G,F$3,FALSE),0)+IFERROR(VLOOKUP($AB10,[1]pivot集計!$A:$G,F$3,FALSE),0)+IFERROR(VLOOKUP($AC10,[1]pivot集計!$A:$G,F$3,FALSE),0)+IFERROR(VLOOKUP($AD10,[1]pivot集計!$A:$G,F$3,FALSE),0)+IFERROR(VLOOKUP($AE10,[1]pivot集計!$A:$G,F$3,FALSE),0)+IFERROR(VLOOKUP($AF10,[1]pivot集計!$A:$G,F$3,FALSE),0)+IFERROR(VLOOKUP($AG10,[1]pivot集計!$A:$G,F$3,FALSE),0)+IFERROR(VLOOKUP($AH10,[1]pivot集計!$A:$G,F$3,FALSE),0)+IFERROR(VLOOKUP($AI10,[1]pivot集計!$A:$G,F$3,FALSE),0)+IFERROR(VLOOKUP($AJ10,[1]pivot集計!$A:$G,F$3,FALSE),0)+IFERROR(VLOOKUP($AK10,[1]pivot集計!$A:$G,F$3,FALSE),0)+IFERROR(VLOOKUP($AL10,[1]pivot集計!$A:$G,F$3,FALSE),0)+IFERROR(VLOOKUP($AM10,[1]pivot集計!$A:$G,F$3,FALSE),0)+IFERROR(VLOOKUP($AN10,[1]pivot集計!$A:$G,F$3,FALSE),0)+IFERROR(VLOOKUP($AO10,[1]pivot集計!$A:$G,F$3,FALSE),0) -> 0 | G10: =IFERROR(VLOOKUP($W10,[1]pivot集計!$A:$G,G$3,FALSE),0)+IFERROR(VLOOKUP($X10,[1]pivot集計!$A:$G,G$3,FALSE),0)+IFERROR(VLOOKUP($Y10,[1]pivot集計!$A:$G,G$3,FALSE),0)+IFERROR(VLOOKUP($Z10,[1]pivot集計!$A:$G,G$3,FALSE),0)+IFERROR(VLOOKUP($AA10,[1]pivot集計!$A:$G,G$3,FALSE),0)+IFERROR(VLOOKUP($AB10,[1]pivot集計!$A:$G,G$3,FALSE),0)+IFERROR(VLOOKUP($AC10,[1]pivot集計!$A:$G,G$3,FALSE),0)+IFERROR(VLOOKUP($AD10,[1]pivot集計!$A:$G,G$3,FALSE),0)+IFERROR(VLOOKUP($AE10,[1]pivot集計!$A:$G,G$3,FALSE),0)+IFERROR(VLOOKUP($AF10,[1]pivot集計!$A:$G,G$3,FALSE),0)+IFERROR(VLOOKUP($AG10,[1]pivot集計!$A:$G,G$3,FALSE),0)+IFERROR(VLOOKUP($AH10,[1]pivot集計!$A:$G,G$3,FALSE),0)+IFERROR(VLOOKUP($AI10,[1]pivot集計!$A:$G,G$3,FALSE),0)+IFERROR(VLOOKUP($AJ10,[1]pivot集計!$A:$G,G$3,FALSE),0)+IFERROR(VLOOKUP($AK10,[1]pivot集計!$A:$G,G$3,FALSE),0)+IFERROR(VLOOKUP($AL10,[1]pivot集計!$A:$G,G$3,FALSE),0)+IFERROR(VLOOKUP($AM10,[1]pivot集計!$A:$G,G$3,FALSE),0)+IFERROR(VLOOKUP($AN10,[1]pivot集計!$A:$G,G$3,FALSE),0)+IFERROR(VLOOKUP($AO10,[1]pivot集計!$A:$G,G$3,FALSE),0) -> 0 | H10: =IFERROR(VLOOKUP($W10,[1]pivot集計!$A:$G,H$3,FALSE),0)+IFERROR(VLOOKUP($X10,[1]pivot集計!$A:$G,H$3,FALSE),0)+IFERROR(VLOOKUP($Y10,[1]pivot集計!$A:$G,H$3,FALSE),0)+IFERROR(VLOOKUP($Z10,[1]pivot集計!$A:$G,H$3,FALSE),0)+IFERROR(VLOOKUP($AA10,[1]pivot集計!$A:$G,H$3,FALSE),0)+IFERROR(VLOOKUP($AB10,[1]pivot集計!$A:$G,H$3,FALSE),0)+IFERROR(VLOOKUP($AC10,[1]pivot集計!$A:$G,H$3,FALSE),0)+IFERROR(VLOOKUP($AD10,[1]pivot集計!$A:$G,H$3,FALSE),0)+IFERROR(VLOOKUP($AE10,[1]pivot集計!$A:$G,H$3,FALSE),0)+IFERROR(VLOOKUP($AF10,[1]pivot集計!$A:$G,H$3,FALSE),0)+IFERROR(VLOOKUP($AG10,[1]pivot集計!$A:$G,H$3,FALSE),0)+IFERROR(VLOOKUP($AH10,[1]pivot集計!$A:$G,H$3,FALSE),0)+IFERROR(VLOOKUP($AI10,[1]pivot集計!$A:$G,H$3,FALSE),0)+IFERROR(VLOOKUP($AJ10,[1]pivot集計!$A:$G,H$3,FALSE),0)+IFERROR(VLOOKUP($AK10,[1]pivot集計!$A:$G,H$3,FALSE),0)+IFERROR(VLOOKUP($AL10,[1]pivot集計!$A:$G,H$3,FALSE),0)+IFERROR(VLOOKUP($AM10,[1]pivot集計!$A:$G,H$3,FALSE),0)+IFERROR(VLOOKUP($AN10,[1]pivot集計!$A:$G,H$3,FALSE),0)+IFERROR(VLOOKUP($AO10,[1]pivot集計!$A:$G,H$3,FALSE),0) -> 0 | I10: =IFERROR(VLOOKUP($W10,[1]pivot集計!$A:$G,I$3,FALSE),0)+IFERROR(VLOOKUP($X10,[1]pivot集計!$A:$G,I$3,FALSE),0)+IFERROR(VLOOKUP($Y10,[1]pivot集計!$A:$G,I$3,FALSE),0)+IFERROR(VLOOKUP($Z10,[1]pivot集計!$A:$G,I$3,FALSE),0)+IFERROR(VLOOKUP($AA10,[1]pivot集計!$A:$G,I$3,FALSE),0)+IFERROR(VLOOKUP($AB10,[1]pivot集計!$A:$G,I$3,FALSE),0)+IFERROR(VLOOKUP($AC10,[1]pivot集計!$A:$G,I$3,FALSE),0)+IFERROR(VLOOKUP($AD10,[1]pivot集計!$A:$G,I$3,FALSE),0)+IFERROR(VLOOKUP($AE10,[1]pivot集計!$A:$G,I$3,FALSE),0)+IFERROR(VLOOKUP($AF10,[1]pivot集計!$A:$G,I$3,FALSE),0)+IFERROR(VLOOKUP($AG10,[1]pivot集計!$A:$G,I$3,FALSE),0)+IFERROR(VLOOKUP($AH10,[1]pivot集計!$A:$G,I$3,FALSE),0)+IFERROR(VLOOKUP($AI10,[1]pivot集計!$A:$G,I$3,FALSE),0)+IFERROR(VLOOKUP($AJ10,[1]pivot集計!$A:$G,I$3,FALSE),0)+IFERROR(VLOOKUP($AK10,[1]pivot集計!$A:$G,I$3,FALSE),0)+IFERROR(VLOOKUP($AL10,[1]pivot集計!$A:$G,I$3,FALSE),0)+IFERROR(VLOOKUP($AM10,[1]pivot集計!$A:$G,I$3,FALSE),0)+IFERROR(VLOOKUP($AN10,[1]pivot集計!$A:$G,I$3,FALSE),0)+IFERROR(VLOOKUP($AO10,[1]pivot集計!$A:$G,I$3,FALSE),0) -> 4092.153 | J10: =SUM(E10:I10) -> 1759720.2 | N10: 6 | O10: 合板 | P10: =E10/$E$58 -> 0.013775272 | Q10: =F10/$F$58 -> 0 | R10: =G10/$G$58 -> 0 | S10: =H10/$H$58 -> 0 | T10: =I10/$I$58 -> 3.9956948e-05 | U10: =J10/$J$58 -> 0.0073332072 | W10: 合計 / ②-08
C11: 7 | D11: その他の木製品 | E11: =IFERROR(VLOOKUP($W11,[1]pivot集計!$A:$G,E$3,FALSE),0)+IFERROR(VLOOKUP($X11,[1]pivot集計!$A:$G,E$3,FALSE),0)+IFERROR(VLOOKUP($Y11,[1]pivot集計!$A:$G,E$3,FALSE),0)+IFERROR(VLOOKUP($Z11,[1]pivot集計!$A:$G,E$3,FALSE),0)+IFERROR(VLOOKUP($AA11,[1]pivot集計!$A:$G,E$3,FALSE),0)+IFERROR(VLOOKUP($AB11,[1]pivot集計!$A:$G,E$3,FALSE),0)+IFERROR(VLOOKUP($AC11,[1]pivot集計!$A:$G,E$3,FALSE),0)+IFERROR(VLOOKUP($AD11,[1]pivot集計!$A:$G,E$3,FALSE),0)+IFERROR(VLOOKUP($AE11,[1]pivot集計!$A:$G,E$3,FALSE),0)+IFERROR(VLOOKUP($AF11,[1]pivot集計!$A:$G,E$3,FALSE),0)+IFERROR(VLOOKUP($AG11,[1]pivot集計!$A:$G,E$3,FALSE),0)+IFERROR(VLOOKUP($AH11,[1]pivot集計!$A:$G,E$3,FALSE),0)+IFERROR(VLOOKUP($AI11,[1]pivot集計!$A:$G,E$3,FALSE),0)+IFERROR(VLOOKUP($AJ11,[1]pivot集計!$A:$G,E$3,FALSE),0)+IFERROR(VLOOKUP($AK11,[1]pivot集計!$A:$G,E$3,FALSE),0)+IFERROR(VLOOKUP($AL11,[1]pivot集計!$A:$G,E$3,FALSE),0)+IFERROR(VLOOKUP($AM11,[1]pivot集計!$A:$G,E$3,FALSE),0)+IFERROR(VLOOKUP($AN11,[1]pivot集計!$A:$G,E$3,FALSE),0)+IFERROR(VLOOKUP($AO11,[1]pivot集計!$A:$G,E$3,FALSE),0) -> 0 | F11: =IFERROR(VLOOKUP($W11,[1]pivot集計!$A:$G,F$3,FALSE),0)+IFERROR(VLOOKUP($X11,[1]pivot集計!$A:$G,F$3,FALSE),0)+IFERROR(VLOOKUP($Y11,[1]pivot集計!$A:$G,F$3,FALSE),0)+IFERROR(VLOOKUP($Z11,[1]pivot集計!$A:$G,F$3,FALSE),0)+IFERROR(VLOOKUP($AA11,[1]pivot集計!$A:$G,F$3,FALSE),0)+IFERROR(VLOOKUP($AB11,[1]pivot集計!$A:$G,F$3,FALSE),0)+IFERROR(VLOOKUP($AC11,[1]pivot集計!$A:$G,F$3,FALSE),0)+IFERROR(VLOOKUP($AD11,[1]pivot集計!$A:$G,F$3,FALSE),0)+IFERROR(VLOOKUP($AE11,[1]pivot集計!$A:$G,F$3,FALSE),0)+IFERROR(VLOOKUP($AF11,[1]pivot集計!$A:$G,F$3,FALSE),0)+IFERROR(VLOOKUP($AG11,[1]pivot集計!$A:$G,F$3,FALSE),0)+IFERROR(VLOOKUP($AH11,[1]pivot集計!$A:$G,F$3,FALSE),0)+IFERROR(VLOOKUP($AI11,[1]pivot集計!$A:$G,F$3,FALSE),0)+IFERROR(VLOOKUP($AJ11,[1]pivot集計!$A:$G,F$3,FALSE),0)+IFERROR(VLOOKUP($AK11,[1]pivot集計!$A:$G,F$3,FALSE),0)+IFERROR(VLOOKUP($AL11,[1]pivot集計!$A:$G,F$3,FALSE),0)+IFERROR(VLOOKUP($AM11,[1]pivot集計!$A:$G,F$3,FALSE),0)+IFERROR(VLOOKUP($AN11,[1]pivot集計!$A:$G,F$3,FALSE),0)+IFERROR(VLOOKUP($AO11,[1]pivot集計!$A:$G,F$3,FALSE),0) -> 0 | G11: =IFERROR(VLOOKUP($W11,[1]pivot集計!$A:$G,G$3,FALSE),0)+IFERROR(VLOOKUP($X11,[1]pivot集計!$A:$G,G$3,FALSE),0)+IFERROR(VLOOKUP($Y11,[1]pivot集計!$A:$G,G$3,FALSE),0)+IFERROR(VLOOKUP($Z11,[1]pivot集計!$A:$G,G$3,FALSE),0)+IFERROR(VLOOKUP($AA11,[1]pivot集計!$A:$G,G$3,FALSE),0)+IFERROR(VLOOKUP($AB11,[1]pivot集計!$A:$G,G$3,FALSE),0)+IFERROR(VLOOKUP($AC11,[1]pivot集計!$A:$G,G$3,FALSE),0)+IFERROR(VLOOKUP($AD11,[1]pivot集計!$A:$G,G$3,FALSE),0)+IFERROR(VLOOKUP($AE11,[1]pivot集計!$A:$G,G$3,FALSE),0)+IFERROR(VLOOKUP($AF11,[1]pivot集計!$A:$G,G$3,FALSE),0)+IFERROR(VLOOKUP($AG11,[1]pivot集計!$A:$G,G$3,FALSE),0)+IFERROR(VLOOKUP($AH11,[1]pivot集計!$A:$G,G$3,FALSE),0)+IFERROR(VLOOKUP($AI11,[1]pivot集計!$A:$G,G$3,FALSE),0)+IFERROR(VLOOKUP($AJ11,[1]pivot集計!$A:$G,G$3,FALSE),0)+IFERROR(VLOOKUP($AK11,[1]pivot集計!$A:$G,G$3,FALSE),0)+IFERROR(VLOOKUP($AL11,[1]pivot集計!$A:$G,G$3,FALSE),0)+IFERROR(VLOOKUP($AM11,[1]pivot集計!$A:$G,G$3,FALSE),0)+IFERROR(VLOOKUP($AN11,[1]pivot集計!$A:$G,G$3,FALSE),0)+IFERROR(VLOOKUP($AO11,[1]pivot集計!$A:$G,G$3,FALSE),0) -> 0 | H11: =IFERROR(VLOOKUP($W11,[1]pivot集計!$A:$G,H$3,FALSE),0)+IFERROR(VLOOKUP($X11,[1]pivot集計!$A:$G,H$3,FALSE),0)+IFERROR(VLOOKUP($Y11,[1]pivot集計!$A:$G,H$3,FALSE),0)+IFERROR(VLOOKUP($Z11,[1]pivot集計!$A:$G,H$3,FALSE),0)+IFERROR(VLOOKUP($AA11,[1]pivot集計!$A:$G,H$3,FALSE),0)+IFERROR(VLOOKUP($AB11,[1]pivot集計!$A:$G,H$3,FALSE),0)+IFERROR(VLOOKUP($AC11,[1]pivot集計!$A:$G,H$3,FALSE),0)+IFERROR(VLOOKUP($AD11,[1]pivot集計!$A:$G,H$3,FALSE),0)+IFERROR(VLOOKUP($AE11,[1]pivot集計!$A:$G,H$3,FALSE),0)+IFERROR(VLOOKUP($AF11,[1]pivot集計!$A:$G,H$3,FALSE),0)+IFERROR(VLOOKUP($AG11,[1]pivot集計!$A:$G,H$3,FALSE),0)+IFERROR(VLOOKUP($AH11,[1]pivot集計!$A:$G,H$3,FALSE),0)+IFERROR(VLOOKUP($AI11,[1]pivot集計!$A:$G,H$3,FALSE),0)+IFERROR(VLOOKUP($AJ11,[1]pivot集計!$A:$G,H$3,FALSE),0)+IFERROR(VLOOKUP($AK11,[1]pivot集計!$A:$G,H$3,FALSE),0)+IFERROR(VLOOKUP($AL11,[1]pivot集計!$A:$G,H$3,FALSE),0)+IFERROR(VLOOKUP($AM11,[1]pivot集計!$A:$G,H$3,FALSE),0)+IFERROR(VLOOKUP($AN11,[1]pivot集計!$A:$G,H$3,FALSE),0)+IFERROR(VLOOKUP($AO11,[1]pivot集計!$A:$G,H$3,FALSE),0) -> 0 | I11: =IFERROR(VLOOKUP($W11,[1]pivot集計!$A:$G,I$3,FALSE),0)+IFERROR(VLOOKUP($X11,[1]pivot集計!$A:$G,I$3,FALSE),0)+IFERROR(VLOOKUP($Y11,[1]pivot集計!$A:$G,I$3,FALSE),0)+IFERROR(VLOOKUP($Z11,[1]pivot集計!$A:$G,I$3,FALSE),0)+IFERROR(VLOOKUP($AA11,[1]pivot集計!$A:$G,I$3,FALSE),0)+IFERROR(VLOOKUP($AB11,[1]pivot集計!$A:$G,I$3,FALSE),0)+IFERROR(VLOOKUP($AC11,[1]pivot集計!$A:$G,I$3,FALSE),0)+IFERROR(VLOOKUP($AD11,[1]pivot集計!$A:$G,I$3,FALSE),0)+IFERROR(VLOOKUP($AE11,[1]pivot集計!$A:$G,I$3,FALSE),0)+IFERROR(VLOOKUP($AF11,[1]pivot集計!$A:$G,I$3,FALSE),0)+IFERROR(VLOOKUP($AG11,[1]pivot集計!$A:$G,I$3,FALSE),0)+IFERROR(VLOOKUP($AH11,[1]pivot集計!$A:$G,I$3,FALSE),0)+IFERROR(VLOOKUP($AI11,[1]pivot集計!$A:$G,I$3,FALSE),0)+IFERROR(VLOOKUP($AJ11,[1]pivot集計!$A:$G,I$3,FALSE),0)+IFERROR(VLOOKUP($AK11,[1]pivot集計!$A:$G,I$3,FALSE),0)+IFERROR(VLOOKUP($AL11,[1]pivot集計!$A:$G,I$3,FALSE),0)+IFERROR(VLOOKUP($AM11,[1]pivot集計!$A:$G,I$3,FALSE),0)+IFERROR(VLOOKUP($AN11,[1]pivot集計!$A:$G,I$3,FALSE),0)+IFERROR(VLOOKUP($AO11,[1]pivot集計!$A:$G,I$3,FALSE),0) -> 2945 | J11: =SUM(E11:I11) -> 2945 | N11: 7 | O11: その他の木製品 | P11: =E11/$E$58 -> 0 | Q11: =F11/$F$58 -> 0 | R11: =G11/$G$58 -> 0 | S11: =H11/$H$58 -> 0 | T11: =I11/$I$58 -> 2.875582e-05 | U11: =J11/$J$58 -> 1.2272574e-05 | W11: 合計 / ②-09
C12: 8 | D12: 砂・砂利・砕石・石材・土 | E12: =IFERROR(VLOOKUP($W12,[1]pivot集計!$A:$G,E$3,FALSE),0)+IFERROR(VLOOKUP($X12,[1]pivot集計!$A:$G,E$3,FALSE),0)+IFERROR(VLOOKUP($Y12,[1]pivot集計!$A:$G,E$3,FALSE),0)+IFERROR(VLOOKUP($Z12,[1]pivot集計!$A:$G,E$3,FALSE),0)+IFERROR(VLOOKUP($AA12,[1]pivot集計!$A:$G,E$3,FALSE),0)+IFERROR(VLOOKUP($AB12,[1]pivot集計!$A:$G,E$3,FALSE),0)+IFERROR(VLOOKUP($AC12,[1]pivot集計!$A:$G,E$3,FALSE),0)+IFERROR(VLOOKUP($AD12,[1]pivot集計!$A:$G,E$3,FALSE),0)+IFERROR(VLOOKUP($AE12,[1]pivot集計!$A:$G,E$3,FALSE),0)+IFERROR(VLOOKUP($AF12,[1]pivot集計!$A:$G,E$3,FALSE),0)+IFERROR(VLOOKUP($AG12,[1]pivot集計!$A:$G,E$3,FALSE),0)+IFERROR(VLOOKUP($AH12,[1]pivot集計!$A:$G,E$3,FALSE),0)+IFERROR(VLOOKUP($AI12,[1]pivot集計!$A:$G,E$3,FALSE),0)+IFERROR(VLOOKUP($AJ12,[1]pivot集計!$A:$G,E$3,FALSE),0)+IFERROR(VLOOKUP($AK12,[1]pivot集計!$A:$G,E$3,FALSE),0)+IFERROR(VLOOKUP($AL12,[1]pivot集計!$A:$G,E$3,FALSE),0)+IFERROR(VLOOKUP($AM12,[1]pivot集計!$A:$G,E$3,FALSE),0)+IFERROR(VLOOKUP($AN12,[1]pivot集計!$A:$G,E$3,FALSE),0)+IFERROR(VLOOKUP($AO12,[1]pivot集計!$A:$G,E$3,FALSE),0) -> 646548 | F12: =IFERROR(VLOOKUP($W12,[1]pivot集計!$A:$G,F$3,FALSE),0)+IFERROR(VLOOKUP($X12,[1]pivot集計!$A:$G,F$3,FALSE),0)+IFERROR(VLOOKUP($Y12,[1]pivot集計!$A:$G,F$3,FALSE),0)+IFERROR(VLOOKUP($Z12,[1]pivot集計!$A:$G,F$3,FALSE),0)+IFERROR(VLOOKUP($AA12,[1]pivot集計!$A:$G,F$3,FALSE),0)+IFERROR(VLOOKUP($AB12,[1]pivot集計!$A:$G,F$3,FALSE),0)+IFERROR(VLOOKUP($AC12,[1]pivot集計!$A:$G,F$3,FALSE),0)+IFERROR(VLOOKUP($AD12,[1]pivot集計!$A:$G,F$3,FALSE),0)+IFERROR(VLOOKUP($AE12,[1]pivot集計!$A:$G,F$3,FALSE),0)+IFERROR(VLOOKUP($AF12,[1]pivot集計!$A:$G,F$3,FALSE),0)+IFERROR(VLOOKUP($AG12,[1]pivot集計!$A:$G,F$3,FALSE),0)+IFERROR(VLOOKUP($AH12,[1]pivot集計!$A:$G,F$3,FALSE),0)+IFERROR(VLOOKUP($AI12,[1]pivot集計!$A:$G,F$3,FALSE),0)+IFERROR(VLOOKUP($AJ12,[1]pivot集計!$A:$G,F$3,FALSE),0)+IFERROR(VLOOKUP($AK12,[1]pivot集計!$A:$G,F$3,FALSE),0)+IFERROR(VLOOKUP($AL12,[1]pivot集計!$A:$G,F$3,FALSE),0)+IFERROR(VLOOKUP($AM12,[1]pivot集計!$A:$G,F$3,FALSE),0)+IFERROR(VLOOKUP($AN12,[1]pivot集計!$A:$G,F$3,FALSE),0)+IFERROR(VLOOKUP($AO12,[1]pivot集計!$A:$G,F$3,FALSE),0) -> 11885 | G12: =IFERROR(VLOOKUP($W12,[1]pivot集計!$A:$G,G$3,FALSE),0)+IFERROR(VLOOKUP($X12,[1]pivot集計!$A:$G,G$3,FALSE),0)+IFERROR(VLOOKUP($Y12,[1]pivot集計!$A:$G,G$3,FALSE),0)+IFERROR(VLOOKUP($Z12,[1]pivot集計!$A:$G,G$3,FALSE),0)+IFERROR(VLOOKUP($AA12,[1]pivot集計!$A:$G,G$3,FALSE),0)+IFERROR(VLOOKUP($AB12,[1]pivot集計!$A:$G,G$3,FALSE),0)+IFERROR(VLOOKUP($AC12,[1]pivot集計!$A:$G,G$3,FALSE),0)+IFERROR(VLOOKUP($AD12,[1]pivot集計!$A:$G,G$3,FALSE),0)+IFERROR(VLOOKUP($AE12,[1]pivot集計!$A:$G,G$3,FALSE),0)+IFERROR(VLOOKUP($AF12,[1]pivot集計!$A:$G,G$3,FALSE),0)+IFERROR(VLOOKUP($AG12,[1]pivot集計!$A:$G,G$3,FALSE),0)+IFERROR(VLOOKUP($AH12,[1]pivot集計!$A:$G,G$3,FALSE),0)+IFERROR(VLOOKUP($AI12,[1]pivot集計!$A:$G,G$3,FALSE),0)+IFERROR(VLOOKUP($AJ12,[1]pivot集計!$A:$G,G$3,FALSE),0)+IFERROR(VLOOKUP($AK12,[1]pivot集計!$A:$G,G$3,FALSE),0)+IFERROR(VLOOKUP($AL12,[1]pivot集計!$A:$G,G$3,FALSE),0)+IFERROR(VLOOKUP($AM12,[1]pivot集計!$A:$G,G$3,FALSE),0)+IFERROR(VLOOKUP($AN12,[1]pivot集計!$A:$G,G$3,FALSE),0)+IFERROR(VLOOKUP($AO12,[1]pivot集計!$A:$G,G$3,FALSE),0) -> 31206 | H12: =IFERROR(VLOOKUP($W12,[1]pivot集計!$A:$G,H$3,FALSE),0)+IFERROR(VLOOKUP($X12,[1]pivot集計!$A:$G,H$3,FALSE),0)+IFERROR(VLOOKUP($Y12,[1]pivot集計!$A:$G,H$3,FALSE),0)+IFERROR(VLOOKUP($Z12,[1]pivot集計!$A:$G,H$3,FALSE),0)+IFERROR(VLOOKUP($AA12,[1]pivot集計!$A:$G,H$3,FALSE),0)+IFERROR(VLOOKUP($AB12,[1]pivot集計!$A:$G,H$3,FALSE),0)+IFERROR(VLOOKUP($AC12,[1]pivot集計!$A:$G,H$3,FALSE),0)+IFERROR(VLOOKUP($AD12,[1]pivot集計!$A:$G,H$3,FALSE),0)+IFERROR(VLOOKUP($AE12,[1]pivot集計!$A:$G,H$3,FALSE),0)+IFERROR(VLOOKUP($AF12,[1]pivot集計!$A:$G,H$3,FALSE),0)+IFERROR(VLOOKUP($AG12,[1]pivot集計!$A:$G,H$3,FALSE),0)+IFERROR(VLOOKUP($AH12,[1]pivot集計!$A:$G,H$3,FALSE),0)+IFERROR(VLOOKUP($AI12,[1]pivot集計!$A:$G,H$3,FALSE),0)+IFERROR(VLOOKUP($AJ12,[1]pivot集計!$A:$G,H$3,FALSE),0)+IFERROR(VLOOKUP($AK12,[1]pivot集計!$A:$G,H$3,FALSE),0)+IFERROR(VLOOKUP($AL12,[1]pivot集計!$A:$G,H$3,FALSE),0)+IFERROR(VLOOKUP($AM12,[1]pivot集計!$A:$G,H$3,FALSE),0)+IFERROR(VLOOKUP($AN12,[1]pivot集計!$A:$G,H$3,FALSE),0)+IFERROR(VLOOKUP($AO12,[1]pivot集計!$A:$G,H$3,FALSE),0) -> 71597 | I12: =IFERROR(VLOOKUP($W12,[1]pivot集計!$A:$G,I$3,FALSE),0)+IFERROR(VLOOKUP($X12,[1]pivot集計!$A:$G,I$3,FALSE),0)+IFERROR(VLOOKUP($Y12,[1]pivot集計!$A:$G,I$3,FALSE),0)+IFERROR(VLOOKUP($Z12,[1]pivot集計!$A:$G,I$3,FALSE),0)+IFERROR(VLOOKUP($AA12,[1]pivot集計!$A:$G,I$3,FALSE),0)+IFERROR(VLOOKUP($AB12,[1]pivot集計!$A:$G,I$3,FALSE),0)+IFERROR(VLOOKUP($AC12,[1]pivot集計!$A:$G,I$3,FALSE),0)+IFERROR(VLOOKUP($AD12,[1]pivot集計!$A:$G,I$3,FALSE),0)+IFERROR(VLOOKUP($AE12,[1]pivot集計!$A:$G,I$3,FALSE),0)+IFERROR(VLOOKUP($AF12,[1]pivot集計!$A:$G,I$3,FALSE),0)+IFERROR(VLOOKUP($AG12,[1]pivot集計!$A:$G,I$3,FALSE),0)+IFERROR(VLOOKUP($AH12,[1]pivot集計!$A:$G,I$3,FALSE),0)+IFERROR(VLOOKUP($AI12,[1]pivot集計!$A:$G,I$3,FALSE),0)+IFERROR(VLOOKUP($AJ12,[1]pivot集計!$A:$G,I$3,FALSE),0)+IFERROR(VLOOKUP($AK12,[1]pivot集計!$A:$G,I$3,FALSE),0)+IFERROR(VLOOKUP($AL12,[1]pivot集計!$A:$G,I$3,FALSE),0)+IFERROR(VLOOKUP($AM12,[1]pivot集計!$A:$G,I$3,FALSE),0)+IFERROR(VLOOKUP($AN12,[1]pivot集計!$A:$G,I$3,FALSE),0)+IFERROR(VLOOKUP($AO12,[1]pivot集計!$A:$G,I$3,FALSE),0) -> 713380.21 | J12: =SUM(E12:I12) -> 1474616.2 | N12: 8 | O12: 砂・砂利・砕石・石材・土 | P12: =E12/$E$58 -> 0.005073042 | Q12: =F12/$F$58 -> 0.0030732282 | R12: =G12/$G$58 -> 0.018480726 | S12: =H12/$H$58 -> 0.015741541 | T12: =I12/$I$58 -> 0.0069656478 | U12: =J12/$J$58 -> 0.0061451056 | W12: 合計 / ②-10 | X12: 合計 / ②-11
C13: 9 | D13: セメント | E13: =IFERROR(VLOOKUP($W13,[1]pivot集計!$A:$G,E$3,FALSE),0)+IFERROR(VLOOKUP($X13,[1]pivot集計!$A:$G,E$3,FALSE),0)+IFERROR(VLOOKUP($Y13,[1]pivot集計!$A:$G,E$3,FALSE),0)+IFERROR(VLOOKUP($Z13,[1]pivot集計!$A:$G,E$3,FALSE),0)+IFERROR(VLOOKUP($AA13,[1]pivot集計!$A:$G,E$3,FALSE),0)+IFERROR(VLOOKUP($AB13,[1]pivot集計!$A:$G,E$3,FALSE),0)+IFERROR(VLOOKUP($AC13,[1]pivot集計!$A:$G,E$3,FALSE),0)+IFERROR(VLOOKUP($AD13,[1]pivot集計!$A:$G,E$3,FALSE),0)+IFERROR(VLOOKUP($AE13,[1]pivot集計!$A:$G,E$3,FALSE),0)+IFERROR(VLOOKUP($AF13,[1]pivot集計!$A:$G,E$3,FALSE),0)+IFERROR(VLOOKUP($AG13,[1]pivot集計!$A:$G,E$3,FALSE),0)+IFERROR(VLOOKUP($AH13,[1]pivot集計!$A:$G,E$3,FALSE),0)+IFERROR(VLOOKUP($AI13,[1]pivot集計!$A:$G,E$3,FALSE),0)+IFERROR(VLOOKUP($AJ13,[1]pivot集計!$A:$G,E$3,FALSE),0)+IFERROR(VLOOKUP($AK13,[1]pivot集計!$A:$G,E$3,FALSE),0)+IFERROR(VLOOKUP($AL13,[1]pivot集計!$A:$G,E$3,FALSE),0)+IFERROR(VLOOKUP($AM13,[1]pivot集計!$A:$G,E$3,FALSE),0)+IFERROR(VLOOKUP($AN13,[1]pivot集計!$A:$G,E$3,FALSE),0)+IFERROR(VLOOKUP($AO13,[1]pivot集計!$A:$G,E$3,FALSE),0) -> 30398 | F13: =IFERROR(VLOOKUP($W13,[1]pivot集計!$A:$G,F$3,FALSE),0)+IFERROR(VLOOKUP($X13,[1]pivot集計!$A:$G,F$3,FALSE),0)+IFERROR(VLOOKUP($Y13,[1]pivot集計!$A:$G,F$3,FALSE),0)+IFERROR(VLOOKUP($Z13,[1]pivot集計!$A:$G,F$3,FALSE),0)+IFERROR(VLOOKUP($AA13,[1]pivot集計!$A:$G,F$3,FALSE),0)+IFERROR(VLOOKUP($AB13,[1]pivot集計!$A:$G,F$3,FALSE),0)+IFERROR(VLOOKUP($AC13,[1]pivot集計!$A:$G,F$3,FALSE),0)+IFERROR(VLOOKUP($AD13,[1]pivot集計!$A:$G,F$3,FALSE),0)+IFERROR(VLOOKUP($AE13,[1]pivot集計!$A:$G,F$3,FALSE),0)+IFERROR(VLOOKUP($AF13,[1]pivot集計!$A:$G,F$3,FALSE),0)+IFERROR(VLOOKUP($AG13,[1]pivot集計!$A:$G,F$3,FALSE),0)+IFERROR(VLOOKUP($AH13,[1]pivot集計!$A:$G,F$3,FALSE),0)+IFERROR(VLOOKUP($AI13,[1]pivot集計!$A:$G,F$3,FALSE),0)+IFERROR(VLOOKUP($AJ13,[1]pivot集計!$A:$G,F$3,FALSE),0)+IFERROR(VLOOKUP($AK13,[1]pivot集計!$A:$G,F$3,FALSE),0)+IFERROR(VLOOKUP($AL13,[1]pivot集計!$A:$G,F$3,FALSE),0)+IFERROR(VLOOKUP($AM13,[1]pivot集計!$A:$G,F$3,FALSE),0)+IFERROR(VLOOKUP($AN13,[1]pivot集計!$A:$G,F$3,FALSE),0)+IFERROR(VLOOKUP($AO13,[1]pivot集計!$A:$G,F$3,FALSE),0) -> 10839 | G13: =IFERROR(VLOOKUP($W13,[1]pivot集計!$A:$G,G$3,FALSE),0)+IFERROR(VLOOKUP($X13,[1]pivot集計!$A:$G,G$3,FALSE),0)+IFERROR(VLOOKUP($Y13,[1]pivot集計!$A:$G,G$3,FALSE),0)+IFERROR(VLOOKUP($Z13,[1]pivot集計!$A:$G,G$3,FALSE),0)+IFERROR(VLOOKUP($AA13,[1]pivot集計!$A:$G,G$3,FALSE),0)+IFERROR(VLOOKUP($AB13,[1]pivot集計!$A:$G,G$3,FALSE),0)+IFERROR(VLOOKUP($AC13,[1]pivot集計!$A:$G,G$3,FALSE),0)+IFERROR(VLOOKUP($AD13,[1]pivot集計!$A:$G,G$3,FALSE),0)+IFERROR(VLOOKUP($AE13,[1]pivot集計!$A:$G,G$3,FALSE),0)+IFERROR(VLOOKUP($AF13,[1]pivot集計!$A:$G,G$3,FALSE),0)+IFERROR(VLOOKUP($AG13,[1]pivot集計!$A:$G,G$3,FALSE),0)+IFERROR(VLOOKUP($AH13,[1]pivot集計!$A:$G,G$3,FALSE),0)+IFERROR(VLOOKUP($AI13,[1]pivot集計!$A:$G,G$3,FALSE),0)+IFERROR(VLOOKUP($AJ13,[1]pivot集計!$A:$G,G$3,FALSE),0)+IFERROR(VLOOKUP($AK13,[1]pivot集計!$A:$G,G$3,FALSE),0)+IFERROR(VLOOKUP($AL13,[1]pivot集計!$A:$G,G$3,FALSE),0)+IFERROR(VLOOKUP($AM13,[1]pivot集計!$A:$G,G$3,FALSE),0)+IFERROR(VLOOKUP($AN13,[1]pivot集計!$A:$G,G$3,FALSE),0)+IFERROR(VLOOKUP($AO13,[1]pivot集計!$A:$G,G$3,FALSE),0) -> 39848 | H13: =IFERROR(VLOOKUP($W13,[1]pivot集計!$A:$G,H$3,FALSE),0)+IFERROR(VLOOKUP($X13,[1]pivot集計!$A:$G,H$3,FALSE),0)+IFERROR(VLOOKUP($Y13,[1]pivot集計!$A:$G,H$3,FALSE),0)+IFERROR(VLOOKUP($Z13,[1]pivot集計!$A:$G,H$3,FALSE),0)+IFERROR(VLOOKUP($AA13,[1]pivot集計!$A:$G,H$3,FALSE),0)+IFERROR(VLOOKUP($AB13,[1]pivot集計!$A:$G,H$3,FALSE),0)+IFERROR(VLOOKUP($AC13,[1]pivot集計!$A:$G,H$3,FALSE),0)+IFERROR(VLOOKUP($AD13,[1]pivot集計!$A:$G,H$3,FALSE),0)+IFERROR(VLOOKUP($AE13,[1]pivot集計!$A:$G,H$3,FALSE),0)+IFERROR(VLOOKUP($AF13,[1]pivot集計!$A:$G,H$3,FALSE),0)+IFERROR(VLOOKUP($AG13,[1]pivot集計!$A:$G,H$3,FALSE),0)+IFERROR(VLOOKUP($AH13,[1]pivot集計!$A:$G,H$3,FALSE),0)+IFERROR(VLOOKUP($AI13,[1]pivot集計!$A:$G,H$3,FALSE),0)+IFERROR(VLOOKUP($AJ13,[1]pivot集計!$A:$G,H$3,FALSE),0)+IFERROR(VLOOKUP($AK13,[1]pivot集計!$A:$G,H$3,FALSE),0)+IFERROR(VLOOKUP($AL13,[1]pivot集計!$A:$G,H$3,FALSE),0)+IFERROR(VLOOKUP($AM13,[1]pivot集計!$A:$G,H$3,FALSE),0)+IFERROR(VLOOKUP($AN13,[1]pivot集計!$A:$G,H$3,FALSE),0)+IFERROR(VLOOKUP($AO13,[1]pivot集計!$A:$G,H$3,FALSE),0) -> 100 | I13: =IFERROR(VLOOKUP($W13,[1]pivot集計!$A:$G,I$3,FALSE),0)+IFERROR(VLOOKUP($X13,[1]pivot集計!$A:$G,I$3,FALSE),0)+IFERROR(VLOOKUP($Y13,[1]pivot集計!$A:$G,I$3,FALSE),0)+IFERROR(VLOOKUP($Z13,[1]pivot集計!$A:$G,I$3,FALSE),0)+IFERROR(VLOOKUP($AA13,[1]pivot集計!$A:$G,I$3,FALSE),0)+IFERROR(VLOOKUP($AB13,[1]pivot集計!$A:$G,I$3,FALSE),0)+IFERROR(VLOOKUP($AC13,[1]pivot集計!$A:$G,I$3,FALSE),0)+IFERROR(VLOOKUP($AD13,[1]pivot集計!$A:$G,I$3,FALSE),0)+IFERROR(VLOOKUP($AE13,[1]pivot集計!$A:$G,I$3,FALSE),0)+IFERROR(VLOOKUP($AF13,[1]pivot集計!$A:$G,I$3,FALSE),0)+IFERROR(VLOOKUP($AG13,[1]pivot集計!$A:$G,I$3,FALSE),0)+IFERROR(VLOOKUP($AH13,[1]pivot集計!$A:$G,I$3,FALSE),0)+IFERROR(VLOOKUP($AI13,[1]pivot集計!$A:$G,I$3,FALSE),0)+IFERROR(VLOOKUP($AJ13,[1]pivot集計!$A:$G,I$3,FALSE),0)+IFERROR(VLOOKUP($AK13,[1]pivot集計!$A:$G,I$3,FALSE),0)+IFERROR(VLOOKUP($AL13,[1]pivot集計!$A:$G,I$3,FALSE),0)+IFERROR(VLOOKUP($AM13,[1]pivot集計!$A:$G,I$3,FALSE),0)+IFERROR(VLOOKUP($AN13,[1]pivot集計!$A:$G,I$3,FALSE),0)+IFERROR(VLOOKUP($AO13,[1]pivot集計!$A:$G,I$3,FALSE),0) -> 467347.96 | J13: =SUM(E13:I13) -> 548532.96 | N13: 9 | O13: セメント | P13: =E13/$E$58 -> 0.00023851335 | Q13: =F13/$F$58 -> 0.0028027531 | R13: =G13/$G$58 -> 0.023598666 | S13: =H13/$H$58 -> 2.1986314e-05 | T13: =I13/$I$58 -> 0.0045633187 | U13: =J13/$J$58 -> 0.0022858781 | W13: 合計 / ②-12
C14: 10 | D14: 生コンクリート | E14: =IFERROR(VLOOKUP($W14,[1]pivot集計!$A:$G,E$3,FALSE),0)+IFERROR(VLOOKUP($X14,[1]pivot集計!$A:$G,E$3,FALSE),0)+IFERROR(VLOOKUP($Y14,[1]pivot集計!$A:$G,E$3,FALSE),0)+IFERROR(VLOOKUP($Z14,[1]pivot集計!$A:$G,E$3,FALSE),0)+IFERROR(VLOOKUP($AA14,[1]pivot集計!$A:$G,E$3,FALSE),0)+IFERROR(VLOOKUP($AB14,[1]pivot集計!$A:$G,E$3,FALSE),0)+IFERROR(VLOOKUP($AC14,[1]pivot集計!$A:$G,E$3,FALSE),0)+IFERROR(VLOOKUP($AD14,[1]pivot集計!$A:$G,E$3,FALSE),0)+IFERROR(VLOOKUP($AE14,[1]pivot集計!$A:$G,E$3,FALSE),0)+IFERROR(VLOOKUP($AF14,[1]pivot集計!$A:$G,E$3,FALSE),0)+IFERROR(VLOOKUP($AG14,[1]pivot集計!$A:$G,E$3,FALSE),0)+IFERROR(VLOOKUP($AH14,[1]pivot集計!$A:$G,E$3,FALSE),0)+IFERROR(VLOOKUP($AI14,[1]pivot集計!$A:$G,E$3,FALSE),0)+IFERROR(VLOOKUP($AJ14,[1]pivot集計!$A:$G,E$3,FALSE),0)+IFERROR(VLOOKUP($AK14,[1]pivot集計!$A:$G,E$3,FALSE),0)+IFERROR(VLOOKUP($AL14,[1]pivot集計!$A:$G,E$3,FALSE),0)+IFERROR(VLOOKUP($AM14,[1]pivot集計!$A:$G,E$3,FALSE),0)+IFERROR(VLOOKUP($AN14,[1]pivot集計!$A:$G,E$3,FALSE),0)+IFERROR(VLOOKUP($AO14,[1]pivot集計!$A:$G,E$3,FALSE),0) -> 7879148 | F14: =IFERROR(VLOOKUP($W14,[1]pivot集計!$A:$G,F$3,FALSE),0)+IFERROR(VLOOKUP($X14,[1]pivot集計!$A:$G,F$3,FALSE),0)+IFERROR(VLOOKUP($Y14,[1]pivot集計!$A:$G,F$3,FALSE),0)+IFERROR(VLOOKUP($Z14,[1]pivot集計!$A:$G,F$3,FALSE),0)+IFERROR(VLOOKUP($AA14,[1]pivot集計!$A:$G,F$3,FALSE),0)+IFERROR(VLOOKUP($AB14,[1]pivot集計!$A:$G,F$3,FALSE),0)+IFERROR(VLOOKUP($AC14,[1]pivot集計!$A:$G,F$3,FALSE),0)+IFERROR(VLOOKUP($AD14,[1]pivot集計!$A:$G,F$3,FALSE),0)+IFERROR(VLOOKUP($AE14,[1]pivot集計!$A:$G,F$3,FALSE),0)+IFERROR(VLOOKUP($AF14,[1]pivot集計!$A:$G,F$3,FALSE),0)+IFERROR(VLOOKUP($AG14,[1]pivot集計!$A:$G,F$3,FALSE),0)+IFERROR(VLOOKUP($AH14,[1]pivot集計!$A:$G,F$3,FALSE),0)+IFERROR(VLOOKUP($AI14,[1]pivot集計!$A:$G,F$3,FALSE),0)+IFERROR(VLOOKUP($AJ14,[1]pivot集計!$A:$G,F$3,FALSE),0)+IFERROR(VLOOKUP($AK14,[1]pivot集計!$A:$G,F$3,FALSE),0)+IFERROR(VLOOKUP($AL14,[1]pivot集計!$A:$G,F$3,FALSE),0)+IFERROR(VLOOKUP($AM14,[1]pivot集計!$A:$G,F$3,FALSE),0)+IFERROR(VLOOKUP($AN14,[1]pivot集計!$A:$G,F$3,FALSE),0)+IFERROR(VLOOKUP($AO14,[1]pivot集計!$A:$G,F$3,FALSE),0) -> 31131 | G14: =IFERROR(VLOOKUP($W14,[1]pivot集計!$A:$G,G$3,FALSE),0)+IFERROR(VLOOKUP($X14,[1]pivot集計!$A:$G,G$3,FALSE),0)+IFERROR(VLOOKUP($Y14,[1]pivot集計!$A:$G,G$3,FALSE),0)+IFERROR(VLOOKUP($Z14,[1]pivot集計!$A:$G,G$3,FALSE),0)+IFERROR(VLOOKUP($AA14,[1]pivot集計!$A:$G,G$3,FALSE),0)+IFERROR(VLOOKUP($AB14,[1]pivot集計!$A:$G,G$3,FALSE),0)+IFERROR(VLOOKUP($AC14,[1]pivot集計!$A:$G,G$3,FALSE),0)+IFERROR(VLOOKUP($AD14,[1]pivot集計!$A:$G,G$3,FALSE),0)+IFERROR(VLOOKUP($AE14,[1]pivot集計!$A:$G,G$3,FALSE),0)+IFERROR(VLOOKUP($AF14,[1]pivot集計!$A:$G,G$3,FALSE),0)+IFERROR(VLOOKUP($AG14,[1]pivot集計!$A:$G,G$3,FALSE),0)+IFERROR(VLOOKUP($AH14,[1]pivot集計!$A:$G,G$3,FALSE),0)+IFERROR(VLOOKUP($AI14,[1]pivot集計!$A:$G,G$3,FALSE),0)+IFERROR(VLOOKUP($AJ14,[1]pivot集計!$A:$G,G$3,FALSE),0)+IFERROR(VLOOKUP($AK14,[1]pivot集計!$A:$G,G$3,FALSE),0)+IFERROR(VLOOKUP($AL14,[1]pivot集計!$A:$G,G$3,FALSE),0)+IFERROR(VLOOKUP($AM14,[1]pivot集計!$A:$G,G$3,FALSE),0)+IFERROR(VLOOKUP($AN14,[1]pivot集計!$A:$G,G$3,FALSE),0)+IFERROR(VLOOKUP($AO14,[1]pivot集計!$A:$G,G$3,FALSE),0) -> 2326 | H14: =IFERROR(VLOOKUP($W14,[1]pivot集計!$A:$G,H$3,FALSE),0)+IFERROR(VLOOKUP($X14,[1]pivot集計!$A:$G,H$3,FALSE),0)+IFERROR(VLOOKUP($Y14,[1]pivot集計!$A:$G,H$3,FALSE),0)+IFERROR(VLOOKUP($Z14,[1]pivot集計!$A:$G,H$3,FALSE),0)+IFERROR(VLOOKUP($AA14,[1]pivot集計!$A:$G,H$3,FALSE),0)+IFERROR(VLOOKUP($AB14,[1]pivot集計!$A:$G,H$3,FALSE),0)+IFERROR(VLOOKUP($AC14,[1]pivot集計!$A:$G,H$3,FALSE),0)+IFERROR(VLOOKUP($AD14,[1]pivot集計!$A:$G,H$3,FALSE),0)+IFERROR(VLOOKUP($AE14,[1]pivot集計!$A:$G,H$3,FALSE),0)+IFERROR(VLOOKUP($AF14,[1]pivot集計!$A:$G,H$3,FALSE),0)+IFERROR(VLOOKUP($AG14,[1]pivot集計!$A:$G,H$3,FALSE),0)+IFERROR(VLOOKUP($AH14,[1]pivot集計!$A:$G,H$3,FALSE),0)+IFERROR(VLOOKUP($AI14,[1]pivot集計!$A:$G,H$3,FALSE),0)+IFERROR(VLOOKUP($AJ14,[1]pivot集計!$A:$G,H$3,FALSE),0)+IFERROR(VLOOKUP($AK14,[1]pivot集計!$A:$G,H$3,FALSE),0)+IFERROR(VLOOKUP($AL14,[1]pivot集計!$A:$G,H$3,FALSE),0)+IFERROR(VLOOKUP($AM14,[1]pivot集計!$A:$G,H$3,FALSE),0)+IFERROR(VLOOKUP($AN14,[1]pivot集計!$A:$G,H$3,FALSE),0)+IFERROR(VLOOKUP($AO14,[1]pivot集計!$A:$G,H$3,FALSE),0) -> 3048 | I14: =IFERROR(VLOOKUP($W14,[1]pivot集計!$A:$G,I$3,FALSE),0)+IFERROR(VLOOKUP($X14,[1]pivot集計!$A:$G,I$3,FALSE),0)+IFERROR(VLOOKUP($Y14,[1]pivot集計!$A:$G,I$3,FALSE),0)+IFERROR(VLOOKUP($Z14,[1]pivot集計!$A:$G,I$3,FALSE),0)+IFERROR(VLOOKUP($AA14,[1]pivot集計!$A:$G,I$3,FALSE),0)+IFERROR(VLOOKUP($AB14,[1]pivot集計!$A:$G,I$3,FALSE),0)+IFERROR(VLOOKUP($AC14,[1]pivot集計!$A:$G,I$3,FALSE),0)+IFERROR(VLOOKUP($AD14,[1]pivot集計!$A:$G,I$3,FALSE),0)+IFERROR(VLOOKUP($AE14,[1]pivot集計!$A:$G,I$3,FALSE),0)+IFERROR(VLOOKUP($AF14,[1]pivot集計!$A:$G,I$3,FALSE),0)+IFERROR(VLOOKUP($AG14,[1]pivot集計!$A:$G,I$3,FALSE),0)+IFERROR(VLOOKUP($AH14,[1]pivot集計!$A:$G,I$3,FALSE),0)+IFERROR(VLOOKUP($AI14,[1]pivot集計!$A:$G,I$3,FALSE),0)+IFERROR(VLOOKUP($AJ14,[1]pivot集計!$A:$G,I$3,FALSE),0)+IFERROR(VLOOKUP($AK14,[1]pivot集計!$A:$G,I$3,FALSE),0)+IFERROR(VLOOKUP($AL14,[1]pivot集計!$A:$G,I$3,FALSE),0)+IFERROR(VLOOKUP($AM14,[1]pivot集計!$A:$G,I$3,FALSE),0)+IFERROR(VLOOKUP($AN14,[1]pivot集計!$A:$G,I$3,FALSE),0)+IFERROR(VLOOKUP($AO14,[1]pivot集計!$A:$G,I$3,FALSE),0) -> 7908175.1 | J14: =SUM(E14:I14) -> 15823828 | N14: 10 | O14: 生コンクリート | P14: =E14/$E$58 -> 0.061822554 | Q14: =F14/$F$58 -> 0.0080498667 | R14: =G14/$G$58 -> 0.0013774969 | S14: =H14/$H$58 -> 0.00067014285 | T14: =I14/$I$58 -> 0.077217676 | U14: =J14/$J$58 -> 0.065941968 | W14: 合計 / ②-13
C15: 11 | D15: コンクリート製品 | E15: =IFERROR(VLOOKUP($W15,[1]pivot集計!$A:$G,E$3,FALSE),0)+IFERROR(VLOOKUP($X15,[1]pivot集計!$A:$G,E$3,FALSE),0)+IFERROR(VLOOKUP($Y15,[1]pivot集計!$A:$G,E$3,FALSE),0)+IFERROR(VLOOKUP($Z15,[1]pivot集計!$A:$G,E$3,FALSE),0)+IFERROR(VLOOKUP($AA15,[1]pivot集計!$A:$G,E$3,FALSE),0)+IFERROR(VLOOKUP($AB15,[1]pivot集計!$A:$G,E$3,FALSE),0)+IFERROR(VLOOKUP($AC15,[1]pivot集計!$A:$G,E$3,FALSE),0)+IFERROR(VLOOKUP($AD15,[1]pivot集計!$A:$G,E$3,FALSE),0)+IFERROR(VLOOKUP($AE15,[1]pivot集計!$A:$G,E$3,FALSE),0)+IFERROR(VLOOKUP($AF15,[1]pivot集計!$A:$G,E$3,FALSE),0)+IFERROR(VLOOKUP($AG15,[1]pivot集計!$A:$G,E$3,FALSE),0)+IFERROR(VLOOKUP($AH15,[1]pivot集計!$A:$G,E$3,FALSE),0)+IFERROR(VLOOKUP($AI15,[1]pivot集計!$A:$G,E$3,FALSE),0)+IFERROR(VLOOKUP($AJ15,[1]pivot集計!$A:$G,E$3,FALSE),0)+IFERROR(VLOOKUP($AK15,[1]pivot集計!$A:$G,E$3,FALSE),0)+IFERROR(VLOOKUP($AL15,[1]pivot集計!$A:$G,E$3,FALSE),0)+IFERROR(VLOOKUP($AM15,[1]pivot集計!$A:$G,E$3,FALSE),0)+IFERROR(VLOOKUP($AN15,[1]pivot集計!$A:$G,E$3,FALSE),0)+IFERROR(VLOOKUP($AO15,[1]pivot集計!$A:$G,E$3,FALSE),0) -> 1845484 | F15: =IFERROR(VLOOKUP($W15,[1]pivot集計!$A:$G,F$3,FALSE),0)+IFERROR(VLOOKUP($X15,[1]pivot集計!$A:$G,F$3,FALSE),0)+IFERROR(VLOOKUP($Y15,[1]pivot集計!$A:$G,F$3,FALSE),0)+IFERROR(VLOOKUP($Z15,[1]pivot集計!$A:$G,F$3,FALSE),0)+IFERROR(VLOOKUP($AA15,[1]pivot集計!$A:$G,F$3,FALSE),0)+IFERROR(VLOOKUP($AB15,[1]pivot集計!$A:$G,F$3,FALSE),0)+IFERROR(VLOOKUP($AC15,[1]pivot集計!$A:$G,F$3,FALSE),0)+IFERROR(VLOOKUP($AD15,[1]pivot集計!$A:$G,F$3,FALSE),0)+IFERROR(VLOOKUP($AE15,[1]pivot集計!$A:$G,F$3,FALSE),0)+IFERROR(VLOOKUP($AF15,[1]pivot集計!$A:$G,F$3,FALSE),0)+IFERROR(VLOOKUP($AG15,[1]pivot集計!$A:$G,F$3,FALSE),0)+IFERROR(VLOOKUP($AH15,[1]pivot集計!$A:$G,F$3,FALSE),0)+IFERROR(VLOOKUP($AI15,[1]pivot集計!$A:$G,F$3,FALSE),0)+IFERROR(VLOOKUP($AJ15,[1]pivot集計!$A:$G,F$3,FALSE),0)+IFERROR(VLOOKUP($AK15,[1]pivot集計!$A:$G,F$3,FALSE),0)+IFERROR(VLOOKUP($AL15,[1]pivot集計!$A:$G,F$3,FALSE),0)+IFERROR(VLOOKUP($AM15,[1]pivot集計!$A:$G,F$3,FALSE),0)+IFERROR(VLOOKUP($AN15,[1]pivot集計!$A:$G,F$3,FALSE),0)+IFERROR(VLOOKUP($AO15,[1]pivot集計!$A:$G,F$3,FALSE),0) -> 528481 | G15: =IFERROR(VLOOKUP($W15,[1]pivot集計!$A:$G,G$3,FALSE),0)+IFERROR(VLOOKUP($X15,[1]pivot集計!$A:$G,G$3,FALSE),0)+IFERROR(VLOOKUP($Y15,[1]pivot集計!$A:$G,G$3,FALSE),0)+IFERROR(VLOOKUP($Z15,[1]pivot集計!$A:$G,G$3,FALSE),0)+IFERROR(VLOOKUP($AA15,[1]pivot集計!$A:$G,G$3,FALSE),0)+IFERROR(VLOOKUP($AB15,[1]pivot集計!$A:$G,G$3,FALSE),0)+IFERROR(VLOOKUP($AC15,[1]pivot集計!$A:$G,G$3,FALSE),0)+IFERROR(VLOOKUP($AD15,[1]pivot集計!$A:$G,G$3,FALSE),0)+IFERROR(VLOOKUP($AE15,[1]pivot集計!$A:$G,G$3,FALSE),0)+IFERROR(VLOOKUP($AF15,[1]pivot集計!$A:$G,G$3,FALSE),0)+IFERROR(VLOOKUP($AG15,[1]pivot集計!$A:$G,G$3,FALSE),0)+IFERROR(VLOOKUP($AH15,[1]pivot集計!$A:$G,G$3,FALSE),0)+IFERROR(VLOOKUP($AI15,[1]pivot集計!$A:$G,G$3,FALSE),0)+IFERROR(VLOOKUP($AJ15,[1]pivot集計!$A:$G,G$3,FALSE),0)+IFERROR(VLOOKUP($AK15,[1]pivot集計!$A:$G,G$3,FALSE),0)+IFERROR(VLOOKUP($AL15,[1]pivot集計!$A:$G,G$3,FALSE),0)+IFERROR(VLOOKUP($AM15,[1]pivot集計!$A:$G,G$3,FALSE),0)+IFERROR(VLOOKUP($AN15,[1]pivot集計!$A:$G,G$3,FALSE),0)+IFERROR(VLOOKUP($AO15,[1]pivot集計!$A:$G,G$3,FALSE),0) -> 86267 | H15: =IFERROR(VLOOKUP($W15,[1]pivot集計!$A:$G,H$3,FALSE),0)+IFERROR(VLOOKUP($X15,[1]pivot集計!$A:$G,H$3,FALSE),0)+IFERROR(VLOOKUP($Y15,[1]pivot集計!$A:$G,H$3,FALSE),0)+IFERROR(VLOOKUP($Z15,[1]pivot集計!$A:$G,H$3,FALSE),0)+IFERROR(VLOOKUP($AA15,[1]pivot集計!$A:$G,H$3,FALSE),0)+IFERROR(VLOOKUP($AB15,[1]pivot集計!$A:$G,H$3,FALSE),0)+IFERROR(VLOOKUP($AC15,[1]pivot集計!$A:$G,H$3,FALSE),0)+IFERROR(VLOOKUP($AD15,[1]pivot集計!$A:$G,H$3,FALSE),0)+IFERROR(VLOOKUP($AE15,[1]pivot集計!$A:$G,H$3,FALSE),0)+IFERROR(VLOOKUP($AF15,[1]pivot集計!$A:$G,H$3,FALSE),0)+IFERROR(VLOOKUP($AG15,[1]pivot集計!$A:$G,H$3,FALSE),0)+IFERROR(VLOOKUP($AH15,[1]pivot集計!$A:$G,H$3,FALSE),0)+IFERROR(VLOOKUP($AI15,[1]pivot集計!$A:$G,H$3,FALSE),0)+IFERROR(VLOOKUP($AJ15,[1]pivot集計!$A:$G,H$3,FALSE),0)+IFERROR(VLOOKUP($AK15,[1]pivot集計!$A:$G,H$3,FALSE),0)+IFERROR(VLOOKUP($AL15,[1]pivot集計!$A:$G,H$3,FALSE),0)+IFERROR(VLOOKUP($AM15,[1]pivot集計!$A:$G,H$3,FALSE),0)+IFERROR(VLOOKUP($AN15,[1]pivot集計!$A:$G,H$3,FALSE),0)+IFERROR(VLOOKUP($AO15,[1]pivot集計!$A:$G,H$3,FALSE),0) -> 8779 | I15: =IFERROR(VLOOKUP($W15,[1]pivot集計!$A:$G,I$3,FALSE),0)+IFERROR(VLOOKUP($X15,[1]pivot集計!$A:$G,I$3,FALSE),0)+IFERROR(VLOOKUP($Y15,[1]pivot集計!$A:$G,I$3,FALSE),0)+IFERROR(VLOOKUP($Z15,[1]pivot集計!$A:$G,I$3,FALSE),0)+IFERROR(VLOOKUP($AA15,[1]pivot集計!$A:$G,I$3,FALSE),0)+IFERROR(VLOOKUP($AB15,[1]pivot集計!$A:$G,I$3,FALSE),0)+IFERROR(VLOOKUP($AC15,[1]pivot集計!$A:$G,I$3,FALSE),0)+IFERROR(VLOOKUP($AD15,[1]pivot集計!$A:$G,I$3,FALSE),0)+IFERROR(VLOOKUP($AE15,[1]pivot集計!$A:$G,I$3,FALSE),0)+IFERROR(VLOOKUP($AF15,[1]pivot集計!$A:$G,I$3,FALSE),0)+IFERROR(VLOOKUP($AG15,[1]pivot集計!$A:$G,I$3,FALSE),0)+IFERROR(VLOOKUP($AH15,[1]pivot集計!$A:$G,I$3,FALSE),0)+IFERROR(VLOOKUP($AI15,[1]pivot集計!$A:$G,I$3,FALSE),0)+IFERROR(VLOOKUP($AJ15,[1]pivot集計!$A:$G,I$3,FALSE),0)+IFERROR(VLOOKUP($AK15,[1]pivot集計!$A:$G,I$3,FALSE),0)+IFERROR(VLOOKUP($AL15,[1]pivot集計!$A:$G,I$3,FALSE),0)+IFERROR(VLOOKUP($AM15,[1]pivot集計!$A:$G,I$3,FALSE),0)+IFERROR(VLOOKUP($AN15,[1]pivot集計!$A:$G,I$3,FALSE),0)+IFERROR(VLOOKUP($AO15,[1]pivot集計!$A:$G,I$3,FALSE),0) -> 8080735.6 | J15: =SUM(E15:I15) -> 10549747 | N15: 11 | O15: コンクリート製品 | P15: =E15/$E$58 -> 0.014480314 | Q15: =F15/$F$58 -> 0.13665483 | R15: =G15/$G$58 -> 0.051088791 | S15: =H15/$H$58 -> 0.0019301785 | T15: =I15/$I$58 -> 0.078902606 | U15: =J15/$J$58 -> 0.043963512 | W15: 合計 / ②-14
C16: 12 | D16: 鋼管 | E16: =IFERROR(VLOOKUP($W16,[1]pivot集計!$A:$G,E$3,FALSE),0)+IFERROR(VLOOKUP($X16,[1]pivot集計!$A:$G,E$3,FALSE),0)+IFERROR(VLOOKUP($Y16,[1]pivot集計!$A:$G,E$3,FALSE),0)+IFERROR(VLOOKUP($Z16,[1]pivot集計!$A:$G,E$3,FALSE),0)+IFERROR(VLOOKUP($AA16,[1]pivot集計!$A:$G,E$3,FALSE),0)+IFERROR(VLOOKUP($AB16,[1]pivot集計!$A:$G,E$3,FALSE),0)+IFERROR(VLOOKUP($AC16,[1]pivot集計!$A:$G,E$3,FALSE),0)+IFERROR(VLOOKUP($AD16,[1]pivot集計!$A:$G,E$3,FALSE),0)+IFERROR(VLOOKUP($AE16,[1]pivot集計!$A:$G,E$3,FALSE),0)+IFERROR(VLOOKUP($AF16,[1]pivot集計!$A:$G,E$3,FALSE),0)+IFERROR(VLOOKUP($AG16,[1]pivot集計!$A:$G,E$3,FALSE),0)+IFERROR(VLOOKUP($AH16,[1]pivot集計!$A:$G,E$3,FALSE),0)+IFERROR(VLOOKUP($AI16,[1]pivot集計!$A:$G,E$3,FALSE),0)+IFERROR(VLOOKUP($AJ16,[1]pivot集計!$A:$G,E$3,FALSE),0)+IFERROR(VLOOKUP($AK16,[1]pivot集計!$A:$G,E$3,FALSE),0)+IFERROR(VLOOKUP($AL16,[1]pivot集計!$A:$G,E$3,FALSE),0)+IFERROR(VLOOKUP($AM16,[1]pivot集計!$A:$G,E$3,FALSE),0)+IFERROR(VLOOKUP($AN16,[1]pivot集計!$A:$G,E$3,FALSE),0)+IFERROR(VLOOKUP($AO16,[1]pivot集計!$A:$G,E$3,FALSE),0) -> 218784 | F16: =IFERROR(VLOOKUP($W16,[1]pivot集計!$A:$G,F$3,FALSE),0)+IFERROR(VLOOKUP($X16,[1]pivot集計!$A:$G,F$3,FALSE),0)+IFERROR(VLOOKUP($Y16,[1]pivot集計!$A:$G,F$3,FALSE),0)+IFERROR(VLOOKUP($Z16,[1]pivot集計!$A:$G,F$3,FALSE),0)+IFERROR(VLOOKUP($AA16,[1]pivot集計!$A:$G,F$3,FALSE),0)+IFERROR(VLOOKUP($AB16,[1]pivot集計!$A:$G,F$3,FALSE),0)+IFERROR(VLOOKUP($AC16,[1]pivot集計!$A:$G,F$3,FALSE),0)+IFERROR(VLOOKUP($AD16,[1]pivot集計!$A:$G,F$3,FALSE),0)+IFERROR(VLOOKUP($AE16,[1]pivot集計!$A:$G,F$3,FALSE),0)+IFERROR(VLOOKUP($AF16,[1]pivot集計!$A:$G,F$3,FALSE),0)+IFERROR(VLOOKUP($AG16,[1]pivot集計!$A:$G,F$3,FALSE),0)+IFERROR(VLOOKUP($AH16,[1]pivot集計!$A:$G,F$3,FALSE),0)+IFERROR(VLOOKUP($AI16,[1]pivot集計!$A:$G,F$3,FALSE),0)+IFERROR(VLOOKUP($AJ16,[1]pivot集計!$A:$G,F$3,FALSE),0)+IFERROR(VLOOKUP($AK16,[1]pivot集計!$A:$G,F$3,FALSE),0)+IFERROR(VLOOKUP($AL16,[1]pivot集計!$A:$G,F$3,FALSE),0)+IFERROR(VLOOKUP($AM16,[1]pivot集計!$A:$G,F$3,FALSE),0)+IFERROR(VLOOKUP($AN16,[1]pivot集計!$A:$G,F$3,FALSE),0)+IFERROR(VLOOKUP($AO16,[1]pivot集計!$A:$G,F$3,FALSE),0) -> 142016 | G16: =IFERROR(VLOOKUP($W16,[1]pivot集計!$A:$G,G$3,FALSE),0)+IFERROR(VLOOKUP($X16,[1]pivot集計!$A:$G,G$3,FALSE),0)+IFERROR(VLOOKUP($Y16,[1]pivot集計!$A:$G,G$3,FALSE),0)+IFERROR(VLOOKUP($Z16,[1]pivot集計!$A:$G,G$3,FALSE),0)+IFERROR(VLOOKUP($AA16,[1]pivot集計!$A:$G,G$3,FALSE),0)+IFERROR(VLOOKUP($AB16,[1]pivot集計!$A:$G,G$3,FALSE),0)+IFERROR(VLOOKUP($AC16,[1]pivot集計!$A:$G,G$3,FALSE),0)+IFERROR(VLOOKUP($AD16,[1]pivot集計!$A:$G,G$3,FALSE),0)+IFERROR(VLOOKUP($AE16,[1]pivot集計!$A:$G,G$3,FALSE),0)+IFERROR(VLOOKUP($AF16,[1]pivot集計!$A:$G,G$3,FALSE),0)+IFERROR(VLOOKUP($AG16,[1]pivot集計!$A:$G,G$3,FALSE),0)+IFERROR(VLOOKUP($AH16,[1]pivot集計!$A:$G,G$3,FALSE),0)+IFERROR(VLOOKUP($AI16,[1]pivot集計!$A:$G,G$3,FALSE),0)+IFERROR(VLOOKUP($AJ16,[1]pivot集計!$A:$G,G$3,FALSE),0)+IFERROR(VLOOKUP($AK16,[1]pivot集計!$A:$G,G$3,FALSE),0)+IFERROR(VLOOKUP($AL16,[1]pivot集計!$A:$G,G$3,FALSE),0)+IFERROR(VLOOKUP($AM16,[1]pivot集計!$A:$G,G$3,FALSE),0)+IFERROR(VLOOKUP($AN16,[1]pivot集計!$A:$G,G$3,FALSE),0)+IFERROR(VLOOKUP($AO16,[1]pivot集計!$A:$G,G$3,FALSE),0) -> 0 | H16: =IFERROR(VLOOKUP($W16,[1]pivot集計!$A:$G,H$3,FALSE),0)+IFERROR(VLOOKUP($X16,[1]pivot集計!$A:$G,H$3,FALSE),0)+IFERROR(VLOOKUP($Y16,[1]pivot集計!$A:$G,H$3,FALSE),0)+IFERROR(VLOOKUP($Z16,[1]pivot集計!$A:$G,H$3,FALSE),0)+IFERROR(VLOOKUP($AA16,[1]pivot集計!$A:$G,H$3,FALSE),0)+IFERROR(VLOOKUP($AB16,[1]pivot集計!$A:$G,H$3,FALSE),0)+IFERROR(VLOOKUP($AC16,[1]pivot集計!$A:$G,H$3,FALSE),0)+IFERROR(VLOOKUP($AD16,[1]pivot集計!$A:$G,H$3,FALSE),0)+IFERROR(VLOOKUP($AE16,[1]pivot集計!$A:$G,H$3,FALSE),0)+IFERROR(VLOOKUP($AF16,[1]pivot集計!$A:$G,H$3,FALSE),0)+IFERROR(VLOOKUP($AG16,[1]pivot集計!$A:$G,H$3,FALSE),0)+IFERROR(VLOOKUP($AH16,[1]pivot集計!$A:$G,H$3,FALSE),0)+IFERROR(VLOOKUP($AI16,[1]pivot集計!$A:$G,H$3,FALSE),0)+IFERROR(VLOOKUP($AJ16,[1]pivot集計!$A:$G,H$3,FALSE),0)+IFERROR(VLOOKUP($AK16,[1]pivot集計!$A:$G,H$3,FALSE),0)+IFERROR(VLOOKUP($AL16,[1]pivot集計!$A:$G,H$3,FALSE),0)+IFERROR(VLOOKUP($AM16,[1]pivot集計!$A:$G,H$3,FALSE),0)+IFERROR(VLOOKUP($AN16,[1]pivot集計!$A:$G,H$3,FALSE),0)+IFERROR(VLOOKUP($AO16,[1]pivot集計!$A:$G,H$3,FALSE),0) -> 5783 | I16: =IFERROR(VLOOKUP($W16,[1]pivot集計!$A:$G,I$3,FALSE),0)+IFERROR(VLOOKUP($X16,[1]pivot集計!$A:$G,I$3,FALSE),0)+IFERROR(VLOOKUP($Y16,[1]pivot集計!$A:$G,I$3,FALSE),0)+IFERROR(VLOOKUP($Z16,[1]pivot集計!$A:$G,I$3,FALSE),0)+IFERROR(VLOOKUP($AA16,[1]pivot集計!$A:$G,I$3,FALSE),0)+IFERROR(VLOOKUP($AB16,[1]pivot集計!$A:$G,I$3,FALSE),0)+IFERROR(VLOOKUP($AC16,[1]pivot集計!$A:$G,I$3,FALSE),0)+IFERROR(VLOOKUP($AD16,[1]pivot集計!$A:$G,I$3,FALSE),0)+IFERROR(VLOOKUP($AE16,[1]pivot集計!$A:$G,I$3,FALSE),0)+IFERROR(VLOOKUP($AF16,[1]pivot集計!$A:$G,I$3,FALSE),0)+IFERROR(VLOOKUP($AG16,[1]pivot集計!$A:$G,I$3,FALSE),0)+IFERROR(VLOOKUP($AH16,[1]pivot集計!$A:$G,I$3,FALSE),0)+IFERROR(VLOOKUP($AI16,[1]pivot集計!$A:$G,I$3,FALSE),0)+IFERROR(VLOOKUP($AJ16,[1]pivot集計!$A:$G,I$3,FALSE),0)+IFERROR(VLOOKUP($AK16,[1]pivot集計!$A:$G,I$3,FALSE),0)+IFERROR(VLOOKUP($AL16,[1]pivot集計!$A:$G,I$3,FALSE),0)+IFERROR(VLOOKUP($AM16,[1]pivot集計!$A:$G,I$3,FALSE),0)+IFERROR(VLOOKUP($AN16,[1]pivot集計!$A:$G,I$3,FALSE),0)+IFERROR(VLOOKUP($AO16,[1]pivot集計!$A:$G,I$3,FALSE),0) -> 1909242.9 | J16: =SUM(E16:I16) -> 2275825.9 | N16: 12 | O16: 鋼管 | P16: =E16/$E$58 -> 0.0017166559 | Q16: =F16/$F$58 -> 0.036722555 | R16: =G16/$G$58 -> 0 | S16: =H16/$H$58 -> 0.0012714685 | T16: =I16/$I$58 -> 0.018642392 | U16: =J16/$J$58 -> 0.0094839526 | W16: 合計 / ②-15 | X16: 合計 / ②-16
C17: 13 | D17: 熱間圧延鋼材 | E17: =IFERROR(VLOOKUP($W17,[1]pivot集計!$A:$G,E$3,FALSE),0)+IFERROR(VLOOKUP($X17,[1]pivot集計!$A:$G,E$3,FALSE),0)+IFERROR(VLOOKUP($Y17,[1]pivot集計!$A:$G,E$3,FALSE),0)+IFERROR(VLOOKUP($Z17,[1]pivot集計!$A:$G,E$3,FALSE),0)+IFERROR(VLOOKUP($AA17,[1]pivot集計!$A:$G,E$3,FALSE),0)+IFERROR(VLOOKUP($AB17,[1]pivot集計!$A:$G,E$3,FALSE),0)+IFERROR(VLOOKUP($AC17,[1]pivot集計!$A:$G,E$3,FALSE),0)+IFERROR(VLOOKUP($AD17,[1]pivot集計!$A:$G,E$3,FALSE),0)+IFERROR(VLOOKUP($AE17,[1]pivot集計!$A:$G,E$3,FALSE),0)+IFERROR(VLOOKUP($AF17,[1]pivot集計!$A:$G,E$3,FALSE),0)+IFERROR(VLOOKUP($AG17,[1]pivot集計!$A:$G,E$3,FALSE),0)+IFERROR(VLOOKUP($AH17,[1]pivot集計!$A:$G,E$3,FALSE),0)+IFERROR(VLOOKUP($AI17,[1]pivot集計!$A:$G,E$3,FALSE),0)+IFERROR(VLOOKUP($AJ17,[1]pivot集計!$A:$G,E$3,FALSE),0)+IFERROR(VLOOKUP($AK17,[1]pivot集計!$A:$G,E$3,FALSE),0)+IFERROR(VLOOKUP($AL17,[1]pivot集計!$A:$G,E$3,FALSE),0)+IFERROR(VLOOKUP($AM17,[1]pivot集計!$A:$G,E$3,FALSE),0)+IFERROR(VLOOKUP($AN17,[1]pivot集計!$A:$G,E$3,FALSE),0)+IFERROR(VLOOKUP($AO17,[1]pivot集計!$A:$G,E$3,FALSE),0) -> 7862944 | F17: =IFERROR(VLOOKUP($W17,[1]pivot集計!$A:$G,F$3,FALSE),0)+IFERROR(VLOOKUP($X17,[1]pivot集計!$A:$G,F$3,FALSE),0)+IFERROR(VLOOKUP($Y17,[1]pivot集計!$A:$G,F$3,FALSE),0)+IFERROR(VLOOKUP($Z17,[1]pivot集計!$A:$G,F$3,FALSE),0)+IFERROR(VLOOKUP($AA17,[1]pivot集計!$A:$G,F$3,FALSE),0)+IFERROR(VLOOKUP($AB17,[1]pivot集計!$A:$G,F$3,FALSE),0)+IFERROR(VLOOKUP($AC17,[1]pivot集計!$A:$G,F$3,FALSE),0)+IFERROR(VLOOKUP($AD17,[1]pivot集計!$A:$G,F$3,FALSE),0)+IFERROR(VLOOKUP($AE17,[1]pivot集計!$A:$G,F$3,FALSE),0)+IFERROR(VLOOKUP($AF17,[1]pivot集計!$A:$G,F$3,FALSE),0)+IFERROR(VLOOKUP($AG17,[1]pivot集計!$A:$G,F$3,FALSE),0)+IFERROR(VLOOKUP($AH17,[1]pivot集計!$A:$G,F$3,FALSE),0)+IFERROR(VLOOKUP($AI17,[1]pivot集計!$A:$G,F$3,FALSE),0)+IFERROR(VLOOKUP($AJ17,[1]pivot集計!$A:$G,F$3,FALSE),0)+IFERROR(VLOOKUP($AK17,[1]pivot集計!$A:$G,F$3,FALSE),0)+IFERROR(VLOOKUP($AL17,[1]pivot集計!$A:$G,F$3,FALSE),0)+IFERROR(VLOOKUP($AM17,[1]pivot集計!$A:$G,F$3,FALSE),0)+IFERROR(VLOOKUP($AN17,[1]pivot集計!$A:$G,F$3,FALSE),0)+IFERROR(VLOOKUP($AO17,[1]pivot集計!$A:$G,F$3,FALSE),0) -> 1308 | G17: =IFERROR(VLOOKUP($W17,[1]pivot集計!$A:$G,G$3,FALSE),0)+IFERROR(VLOOKUP($X17,[1]pivot集計!$A:$G,G$3,FALSE),0)+IFERROR(VLOOKUP($Y17,[1]pivot集計!$A:$G,G$3,FALSE),0)+IFERROR(VLOOKUP($Z17,[1]pivot集計!$A:$G,G$3,FALSE),0)+IFERROR(VLOOKUP($AA17,[1]pivot集計!$A:$G,G$3,FALSE),0)+IFERROR(VLOOKUP($AB17,[1]pivot集計!$A:$G,G$3,FALSE),0)+IFERROR(VLOOKUP($AC17,[1]pivot集計!$A:$G,G$3,FALSE),0)+IFERROR(VLOOKUP($AD17,[1]pivot集計!$A:$G,G$3,FALSE),0)+IFERROR(VLOOKUP($AE17,[1]pivot集計!$A:$G,G$3,FALSE),0)+IFERROR(VLOOKUP($AF17,[1]pivot集計!$A:$G,G$3,FALSE),0)+IFERROR(VLOOKUP($AG17,[1]pivot集計!$A:$G,G$3,FALSE),0)+IFERROR(VLOOKUP($AH17,[1]pivot集計!$A:$G,G$3,FALSE),0)+IFERROR(VLOOKUP($AI17,[1]pivot集計!$A:$G,G$3,FALSE),0)+IFERROR(VLOOKUP($AJ17,[1]pivot集計!$A:$G,G$3,FALSE),0)+IFERROR(VLOOKUP($AK17,[1]pivot集計!$A:$G,G$3,FALSE),0)+IFERROR(VLOOKUP($AL17,[1]pivot集計!$A:$G,G$3,FALSE),0)+IFERROR(VLOOKUP($AM17,[1]pivot集計!$A:$G,G$3,FALSE),0)+IFERROR(VLOOKUP($AN17,[1]pivot集計!$A:$G,G$3,FALSE),0)+IFERROR(VLOOKUP($AO17,[1]pivot集計!$A:$G,G$3,FALSE),0) -> 7731 | H17: =IFERROR(VLOOKUP($W17,[1]pivot集計!$A:$G,H$3,FALSE),0)+IFERROR(VLOOKUP($X17,[1]pivot集計!$A:$G,H$3,FALSE),0)+IFERROR(VLOOKUP($Y17,[1]pivot集計!$A:$G,H$3,FALSE),0)+IFERROR(VLOOKUP($Z17,[1]pivot集計!$A:$G,H$3,FALSE),0)+IFERROR(VLOOKUP($AA17,[1]pivot集計!$A:$G,H$3,FALSE),0)+IFERROR(VLOOKUP($AB17,[1]pivot集計!$A:$G,H$3,FALSE),0)+IFERROR(VLOOKUP($AC17,[1]pivot集計!$A:$G,H$3,FALSE),0)+IFERROR(VLOOKUP($AD17,[1]pivot集計!$A:$G,H$3,FALSE),0)+IFERROR(VLOOKUP($AE17,[1]pivot集計!$A:$G,H$3,FALSE),0)+IFERROR(VLOOKUP($AF17,[1]pivot集計!$A:$G,H$3,FALSE),0)+IFERROR(VLOOKUP($AG17,[1]pivot集計!$A:$G,H$3,FALSE),0)+IFERROR(VLOOKUP($AH17,[1]pivot集計!$A:$G,H$3,FALSE),0)+IFERROR(VLOOKUP($AI17,[1]pivot集計!$A:$G,H$3,FALSE),0)+IFERROR(VLOOKUP($AJ17,[1]pivot集計!$A:$G,H$3,FALSE),0)+IFERROR(VLOOKUP($AK17,[1]pivot集計!$A:$G,H$3,FALSE),0)+IFERROR(VLOOKUP($AL17,[1]pivot集計!$A:$G,H$3,FALSE),0)+IFERROR(VLOOKUP($AM17,[1]pivot集計!$A:$G,H$3,FALSE),0)+IFERROR(VLOOKUP($AN17,[1]pivot集計!$A:$G,H$3,FALSE),0)+IFERROR(VLOOKUP($AO17,[1]pivot集計!$A:$G,H$3,FALSE),0) -> 23758 | I17: =IFERROR(VLOOKUP($W17,[1]pivot集計!$A:$G,I$3,FALSE),0)+IFERROR(VLOOKUP($X17,[1]pivot集計!$A:$G,I$3,FALSE),0)+IFERROR(VLOOKUP($Y17,[1]pivot集計!$A:$G,I$3,FALSE),0)+IFERROR(VLOOKUP($Z17,[1]pivot集計!$A:$G,I$3,FALSE),0)+IFERROR(VLOOKUP($AA17,[1]pivot集計!$A:$G,I$3,FALSE),0)+IFERROR(VLOOKUP($AB17,[1]pivot集計!$A:$G,I$3,FALSE),0)+IFERROR(VLOOKUP($AC17,[1]pivot集計!$A:$G,I$3,FALSE),0)+IFERROR(VLOOKUP($AD17,[1]pivot集計!$A:$G,I$3,FALSE),0)+IFERROR(VLOOKUP($AE17,[1]pivot集計!$A:$G,I$3,FALSE),0)+IFERROR(VLOOKUP($AF17,[1]pivot集計!$A:$G,I$3,FALSE),0)+IFERROR(VLOOKUP($AG17,[1]pivot集計!$A:$G,I$3,FALSE),0)+IFERROR(VLOOKUP($AH17,[1]pivot集計!$A:$G,I$3,FALSE),0)+IFERROR(VLOOKUP($AI17,[1]pivot集計!$A:$G,I$3,FALSE),0)+IFERROR(VLOOKUP($AJ17,[1]pivot集計!$A:$G,I$3,FALSE),0)+IFERROR(VLOOKUP($AK17,[1]pivot集計!$A:$G,I$3,FALSE),0)+IFERROR(VLOOKUP($AL17,[1]pivot集計!$A:$G,I$3,FALSE),0)+IFERROR(VLOOKUP($AM17,[1]pivot集計!$A:$G,I$3,FALSE),0)+IFERROR(VLOOKUP($AN17,[1]pivot集計!$A:$G,I$3,FALSE),0)+IFERROR(VLOOKUP($AO17,[1]pivot集計!$A:$G,I$3,FALSE),0) -> 4686886.2 | J17: =SUM(E17:I17) -> 12582627 | N17: 13 | O17: 熱間圧延鋼材 | P17: =E17/$E$58 -> 0.061695412 | Q17: =F17/$F$58 -> 0.00033822318 | R17: =G17/$G$58 -> 0.0045784303 | S17: =H17/$H$58 -> 0.0052235085 | T17: =I17/$I$58 -> 0.045764093 | U17: =J17/$J$58 -> 0.052435049 | W17: 合計 / ②-17 | X17: 合計 / ②-18 | Y17: 合計 / ②-19 | Z17: 合計 / ②-20 | AA17: 合計 / ②-21 | AB17: 合計 / ②-22
C18: 14 | D18: 冷間仕上及びめっき鋼材 | E18: =IFERROR(VLOOKUP($W18,[1]pivot集計!$A:$G,E$3,FALSE),0)+IFERROR(VLOOKUP($X18,[1]pivot集計!$A:$G,E$3,FALSE),0)+IFERROR(VLOOKUP($Y18,[1]pivot集計!$A:$G,E$3,FALSE),0)+IFERROR(VLOOKUP($Z18,[1]pivot集計!$A:$G,E$3,FALSE),0)+IFERROR(VLOOKUP($AA18,[1]pivot集計!$A:$G,E$3,FALSE),0)+IFERROR(VLOOKUP($AB18,[1]pivot集計!$A:$G,E$3,FALSE),0)+IFERROR(VLOOKUP($AC18,[1]pivot集計!$A:$G,E$3,FALSE),0)+IFERROR(VLOOKUP($AD18,[1]pivot集計!$A:$G,E$3,FALSE),0)+IFERROR(VLOOKUP($AE18,[1]pivot集計!$A:$G,E$3,FALSE),0)+IFERROR(VLOOKUP($AF18,[1]pivot集計!$A:$G,E$3,FALSE),0)+IFERROR(VLOOKUP($AG18,[1]pivot集計!$A:$G,E$3,FALSE),0)+IFERROR(VLOOKUP($AH18,[1]pivot集計!$A:$G,E$3,FALSE),0)+IFERROR(VLOOKUP($AI18,[1]pivot集計!$A:$G,E$3,FALSE),0)+IFERROR(VLOOKUP($AJ18,[1]pivot集計!$A:$G,E$3,FALSE),0)+IFERROR(VLOOKUP($AK18,[1]pivot集計!$A:$G,E$3,FALSE),0)+IFERROR(VLOOKUP($AL18,[1]pivot集計!$A:$G,E$3,FALSE),0)+IFERROR(VLOOKUP($AM18,[1]pivot集計!$A:$G,E$3,FALSE),0)+IFERROR(VLOOKUP($AN18,[1]pivot集計!$A:$G,E$3,FALSE),0)+IFERROR(VLOOKUP($AO18,[1]pivot集計!$A:$G,E$3,FALSE),0) -> 3500422 | F18: =IFERROR(VLOOKUP($W18,[1]pivot集計!$A:$G,F$3,FALSE),0)+IFERROR(VLOOKUP($X18,[1]pivot集計!$A:$G,F$3,FALSE),0)+IFERROR(VLOOKUP($Y18,[1]pivot集計!$A:$G,F$3,FALSE),0)+IFERROR(VLOOKUP($Z18,[1]pivot集計!$A:$G,F$3,FALSE),0)+IFERROR(VLOOKUP($AA18,[1]pivot集計!$A:$G,F$3,FALSE),0)+IFERROR(VLOOKUP($AB18,[1]pivot集計!$A:$G,F$3,FALSE),0)+IFERROR(VLOOKUP($AC18,[1]pivot集計!$A:$G,F$3,FALSE),0)+IFERROR(VLOOKUP($AD18,[1]pivot集計!$A:$G,F$3,FALSE),0)+IFERROR(VLOOKUP($AE18,[1]pivot集計!$A:$G,F$3,FALSE),0)+IFERROR(VLOOKUP($AF18,[1]pivot集計!$A:$G,F$3,FALSE),0)+IFERROR(VLOOKUP($AG18,[1]pivot集計!$A:$G,F$3,FALSE),0)+IFERROR(VLOOKUP($AH18,[1]pivot集計!$A:$G,F$3,FALSE),0)+IFERROR(VLOOKUP($AI18,[1]pivot集計!$A:$G,F$3,FALSE),0)+IFERROR(VLOOKUP($AJ18,[1]pivot集計!$A:$G,F$3,FALSE),0)+IFERROR(VLOOKUP($AK18,[1]pivot集計!$A:$G,F$3,FALSE),0)+IFERROR(VLOOKUP($AL18,[1]pivot集計!$A:$G,F$3,FALSE),0)+IFERROR(VLOOKUP($AM18,[1]pivot集計!$A:$G,F$3,FALSE),0)+IFERROR(VLOOKUP($AN18,[1]pivot集計!$A:$G,F$3,FALSE),0)+IFERROR(VLOOKUP($AO18,[1]pivot集計!$A:$G,F$3,FALSE),0) -> 13165 | G18: =IFERROR(VLOOKUP($W18,[1]pivot集計!$A:$G,G$3,FALSE),0)+IFERROR(VLOOKUP($X18,[1]pivot集計!$A:$G,G$3,FALSE),0)+IFERROR(VLOOKUP($Y18,[1]pivot集計!$A:$G,G$3,FALSE),0)+IFERROR(VLOOKUP($Z18,[1]pivot集計!$A:$G,G$3,FALSE),0)+IFERROR(VLOOKUP($AA18,[1]pivot集計!$A:$G,G$3,FALSE),0)+IFERROR(VLOOKUP($AB18,[1]pivot集計!$A:$G,G$3,FALSE),0)+IFERROR(VLOOKUP($AC18,[1]pivot集計!$A:$G,G$3,FALSE),0)+IFERROR(VLOOKUP($AD18,[1]pivot集計!$A:$G,G$3,FALSE),0)+IFERROR(VLOOKUP($AE18,[1]pivot集計!$A:$G,G$3,FALSE),0)+IFERROR(VLOOKUP($AF18,[1]pivot集計!$A:$G,G$3,FALSE),0)+IFERROR(VLOOKUP($AG18,[1]pivot集計!$A:$G,G$3,FALSE),0)+IFERROR(VLOOKUP($AH18,[1]pivot集計!$A:$G,G$3,FALSE),0)+IFERROR(VLOOKUP($AI18,[1]pivot集計!$A:$G,G$3,FALSE),0)+IFERROR(VLOOKUP($AJ18,[1]pivot集計!$A:$G,G$3,FALSE),0)+IFERROR(VLOOKUP($AK18,[1]pivot集計!$A:$G,G$3,FALSE),0)+IFERROR(VLOOKUP($AL18,[1]pivot集計!$A:$G,G$3,FALSE),0)+IFERROR(VLOOKUP($AM18,[1]pivot集計!$A:$G,G$3,FALSE),0)+IFERROR(VLOOKUP($AN18,[1]pivot集計!$A:$G,G$3,FALSE),0)+IFERROR(VLOOKUP($AO18,[1]pivot集計!$A:$G,G$3,FALSE),0) -> 267 | H18: =IFERROR(VLOOKUP($W18,[1]pivot集計!$A:$G,H$3,FALSE),0)+IFERROR(VLOOKUP($X18,[1]pivot集計!$A:$G,H$3,FALSE),0)+IFERROR(VLOOKUP($Y18,[1]pivot集計!$A:$G,H$3,FALSE),0)+IFERROR(VLOOKUP($Z18,[1]pivot集計!$A:$G,H$3,FALSE),0)+IFERROR(VLOOKUP($AA18,[1]pivot集計!$A:$G,H$3,FALSE),0)+IFERROR(VLOOKUP($AB18,[1]pivot集計!$A:$G,H$3,FALSE),0)+IFERROR(VLOOKUP($AC18,[1]pivot集計!$A:$G,H$3,FALSE),0)+IFERROR(VLOOKUP($AD18,[1]pivot集計!$A:$G,H$3,FALSE),0)+IFERROR(VLOOKUP($AE18,[1]pivot集計!$A:$G,H$3,FALSE),0)+IFERROR(VLOOKUP($AF18,[1]pivot集計!$A:$G,H$3,FALSE),0)+IFERROR(VLOOKUP($AG18,[1]pivot集計!$A:$G,H$3,FALSE),0)+IFERROR(VLOOKUP($AH18,[1]pivot集計!$A:$G,H$3,FALSE),0)+IFERROR(VLOOKUP($AI18,[1]pivot集計!$A:$G,H$3,FALSE),0)+IFERROR(VLOOKUP($AJ18,[1]pivot集計!$A:$G,H$3,FALSE),0)+IFERROR(VLOOKUP($AK18,[1]pivot集計!$A:$G,H$3,FALSE),0)+IFERROR(VLOOKUP($AL18,[1]pivot集計!$A:$G,H$3,FALSE),0)+IFERROR(VLOOKUP($AM18,[1]pivot集計!$A:$G,H$3,FALSE),0)+IFERROR(VLOOKUP($AN18,[1]pivot集計!$A:$G,H$3,FALSE),0)+IFERROR(VLOOKUP($AO18,[1]pivot集計!$A:$G,H$3,FALSE),0) -> 1026 | I18: =IFERROR(VLOOKUP($W18,[1]pivot集計!$A:$G,I$3,FALSE),0)+IFERROR(VLOOKUP($X18,[1]pivot集計!$A:$G,I$3,FALSE),0)+IFERROR(VLOOKUP($Y18,[1]pivot集計!$A:$G,I$3,FALSE),0)+IFERROR(VLOOKUP($Z18,[1]pivot集計!$A:$G,I$3,FALSE),0)+IFERROR(VLOOKUP($AA18,[1]pivot集計!$A:$G,I$3,FALSE),0)+IFERROR(VLOOKUP($AB18,[1]pivot集計!$A:$G,I$3,FALSE),0)+IFERROR(VLOOKUP($AC18,[1]pivot集計!$A:$G,I$3,FALSE),0)+IFERROR(VLOOKUP($AD18,[1]pivot集計!$A:$G,I$3,FALSE),0)+IFERROR(VLOOKUP($AE18,[1]pivot集計!$A:$G,I$3,FALSE),0)+IFERROR(VLOOKUP($AF18,[1]pivot集計!$A:$G,I$3,FALSE),0)+IFERROR(VLOOKUP($AG18,[1]pivot集計!$A:$G,I$3,FALSE),0)+IFERROR(VLOOKUP($AH18,[1]pivot集計!$A:$G,I$3,FALSE),0)+IFERROR(VLOOKUP($AI18,[1]pivot集計!$A:$G,I$3,FALSE),0)+IFERROR(VLOOKUP($AJ18,[1]pivot集計!$A:$G,I$3,FALSE),0)+IFERROR(VLOOKUP($AK18,[1]pivot集計!$A:$G,I$3,FALSE),0)+IFERROR(VLOOKUP($AL18,[1]pivot集計!$A:$G,I$3,FALSE),0)+IFERROR(VLOOKUP($AM18,[1]pivot集計!$A:$G,I$3,FALSE),0)+IFERROR(VLOOKUP($AN18,[1]pivot集計!$A:$G,I$3,FALSE),0)+IFERROR(VLOOKUP($AO18,[1]pivot集計!$A:$G,I$3,FALSE),0) -> 359013.69 | J18: =SUM(E18:I18) -> 3873893.7 | N18: 14 | O18: 冷間仕上及びめっき鋼材 | P18: =E18/$E$58 -> 0.027465537 | Q18: =F18/$F$58 -> 0.0034042111 | R18: =G18/$G$58 -> 0.00015812196 | S18: =H18/$H$58 -> 0.00022557958 | T18: =I18/$I$58 -> 0.0035055121 | U18: =J18/$J$58 -> 0.016143513 | W18: 合計 / ②-23 | X18: 合計 / ②-24
C19: 15 | D19: 鉄骨構造物（工場製作物） | E19: =IFERROR(VLOOKUP($W19,[1]pivot集計!$A:$G,E$3,FALSE),0)+IFERROR(VLOOKUP($X19,[1]pivot集計!$A:$G,E$3,FALSE),0)+IFERROR(VLOOKUP($Y19,[1]pivot集計!$A:$G,E$3,FALSE),0)+IFERROR(VLOOKUP($Z19,[1]pivot集計!$A:$G,E$3,FALSE),0)+IFERROR(VLOOKUP($AA19,[1]pivot集計!$A:$G,E$3,FALSE),0)+IFERROR(VLOOKUP($AB19,[1]pivot集計!$A:$G,E$3,FALSE),0)+IFERROR(VLOOKUP($AC19,[1]pivot集計!$A:$G,E$3,FALSE),0)+IFERROR(VLOOKUP($AD19,[1]pivot集計!$A:$G,E$3,FALSE),0)+IFERROR(VLOOKUP($AE19,[1]pivot集計!$A:$G,E$3,FALSE),0)+IFERROR(VLOOKUP($AF19,[1]pivot集計!$A:$G,E$3,FALSE),0)+IFERROR(VLOOKUP($AG19,[1]pivot集計!$A:$G,E$3,FALSE),0)+IFERROR(VLOOKUP($AH19,[1]pivot集計!$A:$G,E$3,FALSE),0)+IFERROR(VLOOKUP($AI19,[1]pivot集計!$A:$G,E$3,FALSE),0)+IFERROR(VLOOKUP($AJ19,[1]pivot集計!$A:$G,E$3,FALSE),0)+IFERROR(VLOOKUP($AK19,[1]pivot集計!$A:$G,E$3,FALSE),0)+IFERROR(VLOOKUP($AL19,[1]pivot集計!$A:$G,E$3,FALSE),0)+IFERROR(VLOOKUP($AM19,[1]pivot集計!$A:$G,E$3,FALSE),0)+IFERROR(VLOOKUP($AN19,[1]pivot集計!$A:$G,E$3,FALSE),0)+IFERROR(VLOOKUP($AO19,[1]pivot集計!$A:$G,E$3,FALSE),0) -> 6577634 | F19: =IFERROR(VLOOKUP($W19,[1]pivot集計!$A:$G,F$3,FALSE),0)+IFERROR(VLOOKUP($X19,[1]pivot集計!$A:$G,F$3,FALSE),0)+IFERROR(VLOOKUP($Y19,[1]pivot集計!$A:$G,F$3,FALSE),0)+IFERROR(VLOOKUP($Z19,[1]pivot集計!$A:$G,F$3,FALSE),0)+IFERROR(VLOOKUP($AA19,[1]pivot集計!$A:$G,F$3,FALSE),0)+IFERROR(VLOOKUP($AB19,[1]pivot集計!$A:$G,F$3,FALSE),0)+IFERROR(VLOOKUP($AC19,[1]pivot集計!$A:$G,F$3,FALSE),0)+IFERROR(VLOOKUP($AD19,[1]pivot集計!$A:$G,F$3,FALSE),0)+IFERROR(VLOOKUP($AE19,[1]pivot集計!$A:$G,F$3,FALSE),0)+IFERROR(VLOOKUP($AF19,[1]pivot集計!$A:$G,F$3,FALSE),0)+IFERROR(VLOOKUP($AG19,[1]pivot集計!$A:$G,F$3,FALSE),0)+IFERROR(VLOOKUP($AH19,[1]pivot集計!$A:$G,F$3,FALSE),0)+IFERROR(VLOOKUP($AI19,[1]pivot集計!$A:$G,F$3,FALSE),0)+IFERROR(VLOOKUP($AJ19,[1]pivot集計!$A:$G,F$3,FALSE),0)+IFERROR(VLOOKUP($AK19,[1]pivot集計!$A:$G,F$3,FALSE),0)+IFERROR(VLOOKUP($AL19,[1]pivot集計!$A:$G,F$3,FALSE),0)+IFERROR(VLOOKUP($AM19,[1]pivot集計!$A:$G,F$3,FALSE),0)+IFERROR(VLOOKUP($AN19,[1]pivot集計!$A:$G,F$3,FALSE),0)+IFERROR(VLOOKUP($AO19,[1]pivot集計!$A:$G,F$3,FALSE),0) -> 85150 | G19: =IFERROR(VLOOKUP($W19,[1]pivot集計!$A:$G,G$3,FALSE),0)+IFERROR(VLOOKUP($X19,[1]pivot集計!$A:$G,G$3,FALSE),0)+IFERROR(VLOOKUP($Y19,[1]pivot集計!$A:$G,G$3,FALSE),0)+IFERROR(VLOOKUP($Z19,[1]pivot集計!$A:$G,G$3,FALSE),0)+IFERROR(VLOOKUP($AA19,[1]pivot集計!$A:$G,G$3,FALSE),0)+IFERROR(VLOOKUP($AB19,[1]pivot集計!$A:$G,G$3,FALSE),0)+IFERROR(VLOOKUP($AC19,[1]pivot集計!$A:$G,G$3,FALSE),0)+IFERROR(VLOOKUP($AD19,[1]pivot集計!$A:$G,G$3,FALSE),0)+IFERROR(VLOOKUP($AE19,[1]pivot集計!$A:$G,G$3,FALSE),0)+IFERROR(VLOOKUP($AF19,[1]pivot集計!$A:$G,G$3,FALSE),0)+IFERROR(VLOOKUP($AG19,[1]pivot集計!$A:$G,G$3,FALSE),0)+IFERROR(VLOOKUP($AH19,[1]pivot集計!$A:$G,G$3,FALSE),0)+IFERROR(VLOOKUP($AI19,[1]pivot集計!$A:$G,G$3,FALSE),0)+IFERROR(VLOOKUP($AJ19,[1]pivot集計!$A:$G,G$3,FALSE),0)+IFERROR(VLOOKUP($AK19,[1]pivot集計!$A:$G,G$3,FALSE),0)+IFERROR(VLOOKUP($AL19,[1]pivot集計!$A:$G,G$3,FALSE),0)+IFERROR(VLOOKUP($AM19,[1]pivot集計!$A:$G,G$3,FALSE),0)+IFERROR(VLOOKUP($AN19,[1]pivot集計!$A:$G,G$3,FALSE),0)+IFERROR(VLOOKUP($AO19,[1]pivot集計!$A:$G,G$3,FALSE),0) -> 0 | H19: =IFERROR(VLOOKUP($W19,[1]pivot集計!$A:$G,H$3,FALSE),0)+IFERROR(VLOOKUP($X19,[1]pivot集計!$A:$G,H$3,FALSE),0)+IFERROR(VLOOKUP($Y19,[1]pivot集計!$A:$G,H$3,FALSE),0)+IFERROR(VLOOKUP($Z19,[1]pivot集計!$A:$G,H$3,FALSE),0)+IFERROR(VLOOKUP($AA19,[1]pivot集計!$A:$G,H$3,FALSE),0)+IFERROR(VLOOKUP($AB19,[1]pivot集計!$A:$G,H$3,FALSE),0)+IFERROR(VLOOKUP($AC19,[1]pivot集計!$A:$G,H$3,FALSE),0)+IFERROR(VLOOKUP($AD19,[1]pivot集計!$A:$G,H$3,FALSE),0)+IFERROR(VLOOKUP($AE19,[1]pivot集計!$A:$G,H$3,FALSE),0)+IFERROR(VLOOKUP($AF19,[1]pivot集計!$A:$G,H$3,FALSE),0)+IFERROR(VLOOKUP($AG19,[1]pivot集計!$A:$G,H$3,FALSE),0)+IFERROR(VLOOKUP($AH19,[1]pivot集計!$A:$G,H$3,FALSE),0)+IFERROR(VLOOKUP($AI19,[1]pivot集計!$A:$G,H$3,FALSE),0)+IFERROR(VLOOKUP($AJ19,[1]pivot集計!$A:$G,H$3,FALSE),0)+IFERROR(VLOOKUP($AK19,[1]pivot集計!$A:$G,H$3,FALSE),0)+IFERROR(VLOOKUP($AL19,[1]pivot集計!$A:$G,H$3,FALSE),0)+IFERROR(VLOOKUP($AM19,[1]pivot集計!$A:$G,H$3,FALSE),0)+IFERROR(VLOOKUP($AN19,[1]pivot集計!$A:$G,H$3,FALSE),0)+IFERROR(VLOOKUP($AO19,[1]pivot集計!$A:$G,H$3,FALSE),0) -> 30105.111 | I19: =IFERROR(VLOOKUP($W19,[1]pivot集計!$A:$G,I$3,FALSE),0)+IFERROR(VLOOKUP($X19,[1]pivot集計!$A:$G,I$3,FALSE),0)+IFERROR(VLOOKUP($Y19,[1]pivot集計!$A:$G,I$3,FALSE),0)+IFERROR(VLOOKUP($Z19,[1]pivot集計!$A:$G,I$3,FALSE),0)+IFERROR(VLOOKUP($AA19,[1]pivot集計!$A:$G,I$3,FALSE),0)+IFERROR(VLOOKUP($AB19,[1]pivot集計!$A:$G,I$3,FALSE),0)+IFERROR(VLOOKUP($AC19,[1]pivot集計!$A:$G,I$3,FALSE),0)+IFERROR(VLOOKUP($AD19,[1]pivot集計!$A:$G,I$3,FALSE),0)+IFERROR(VLOOKUP($AE19,[1]pivot集計!$A:$G,I$3,FALSE),0)+IFERROR(VLOOKUP($AF19,[1]pivot集計!$A:$G,I$3,FALSE),0)+IFERROR(VLOOKUP($AG19,[1]pivot集計!$A:$G,I$3,FALSE),0)+IFERROR(VLOOKUP($AH19,[1]pivot集計!$A:$G,I$3,FALSE),0)+IFERROR(VLOOKUP($AI19,[1]pivot集計!$A:$G,I$3,FALSE),0)+IFERROR(VLOOKUP($AJ19,[1]pivot集計!$A:$G,I$3,FALSE),0)+IFERROR(VLOOKUP($AK19,[1]pivot集計!$A:$G,I$3,FALSE),0)+IFERROR(VLOOKUP($AL19,[1]pivot集計!$A:$G,I$3,FALSE),0)+IFERROR(VLOOKUP($AM19,[1]pivot集計!$A:$G,I$3,FALSE),0)+IFERROR(VLOOKUP($AN19,[1]pivot集計!$A:$G,I$3,FALSE),0)+IFERROR(VLOOKUP($AO19,[1]pivot集計!$A:$G,I$3,FALSE),0) -> 5896140 | J19: =SUM(E19:I19) -> 12589029 | N19: 15 | O19: 鉄骨構造物（工場製作物） | P19: =E19/$E$58 -> 0.05161042 | Q19: =F19/$F$58 -> 0.022018122 | R19: =G19/$G$58 -> 0 | S19: =H19/$H$58 -> 0.0066190042 | T19: =I19/$I$58 -> 0.057571592 | U19: =J19/$J$58 -> 0.052461727 | W19: 合計 / ②-25
C20: 16 | D20: 建設用金属製品 | E20: =IFERROR(VLOOKUP($W20,[1]pivot集計!$A:$G,E$3,FALSE),0)+IFERROR(VLOOKUP($X20,[1]pivot集計!$A:$G,E$3,FALSE),0)+IFERROR(VLOOKUP($Y20,[1]pivot集計!$A:$G,E$3,FALSE),0)+IFERROR(VLOOKUP($Z20,[1]pivot集計!$A:$G,E$3,FALSE),0)+IFERROR(VLOOKUP($AA20,[1]pivot集計!$A:$G,E$3,FALSE),0)+IFERROR(VLOOKUP($AB20,[1]pivot集計!$A:$G,E$3,FALSE),0)+IFERROR(VLOOKUP($AC20,[1]pivot集計!$A:$G,E$3,FALSE),0)+IFERROR(VLOOKUP($AD20,[1]pivot集計!$A:$G,E$3,FALSE),0)+IFERROR(VLOOKUP($AE20,[1]pivot集計!$A:$G,E$3,FALSE),0)+IFERROR(VLOOKUP($AF20,[1]pivot集計!$A:$G,E$3,FALSE),0)+IFERROR(VLOOKUP($AG20,[1]pivot集計!$A:$G,E$3,FALSE),0)+IFERROR(VLOOKUP($AH20,[1]pivot集計!$A:$G,E$3,FALSE),0)+IFERROR(VLOOKUP($AI20,[1]pivot集計!$A:$G,E$3,FALSE),0)+IFERROR(VLOOKUP($AJ20,[1]pivot集計!$A:$G,E$3,FALSE),0)+IFERROR(VLOOKUP($AK20,[1]pivot集計!$A:$G,E$3,FALSE),0)+IFERROR(VLOOKUP($AL20,[1]pivot集計!$A:$G,E$3,FALSE),0)+IFERROR(VLOOKUP($AM20,[1]pivot集計!$A:$G,E$3,FALSE),0)+IFERROR(VLOOKUP($AN20,[1]pivot集計!$A:$G,E$3,FALSE),0)+IFERROR(VLOOKUP($AO20,[1]pivot集計!$A:$G,E$3,FALSE),0) -> 3086069 | F20: =IFERROR(VLOOKUP($W20,[1]pivot集計!$A:$G,F$3,FALSE),0)+IFERROR(VLOOKUP($X20,[1]pivot集計!$A:$G,F$3,FALSE),0)+IFERROR(VLOOKUP($Y20,[1]pivot集計!$A:$G,F$3,FALSE),0)+IFERROR(VLOOKUP($Z20,[1]pivot集計!$A:$G,F$3,FALSE),0)+IFERROR(VLOOKUP($AA20,[1]pivot集計!$A:$G,F$3,FALSE),0)+IFERROR(VLOOKUP($AB20,[1]pivot集計!$A:$G,F$3,FALSE),0)+IFERROR(VLOOKUP($AC20,[1]pivot集計!$A:$G,F$3,FALSE),0)+IFERROR(VLOOKUP($AD20,[1]pivot集計!$A:$G,F$3,FALSE),0)+IFERROR(VLOOKUP($AE20,[1]pivot集計!$A:$G,F$3,FALSE),0)+IFERROR(VLOOKUP($AF20,[1]pivot集計!$A:$G,F$3,FALSE),0)+IFERROR(VLOOKUP($AG20,[1]pivot集計!$A:$G,F$3,FALSE),0)+IFERROR(VLOOKUP($AH20,[1]pivot集計!$A:$G,F$3,FALSE),0)+IFERROR(VLOOKUP($AI20,[1]pivot集計!$A:$G,F$3,FALSE),0)+IFERROR(VLOOKUP($AJ20,[1]pivot集計!$A:$G,F$3,FALSE),0)+IFERROR(VLOOKUP($AK20,[1]pivot集計!$A:$G,F$3,FALSE),0)+IFERROR(VLOOKUP($AL20,[1]pivot集計!$A:$G,F$3,FALSE),0)+IFERROR(VLOOKUP($AM20,[1]pivot集計!$A:$G,F$3,FALSE),0)+IFERROR(VLOOKUP($AN20,[1]pivot集計!$A:$G,F$3,FALSE),0)+IFERROR(VLOOKUP($AO20,[1]pivot集計!$A:$G,F$3,FALSE),0) -> 276638 | G20: =IFERROR(VLOOKUP($W20,[1]pivot集計!$A:$G,G$3,FALSE),0)+IFERROR(VLOOKUP($X20,[1]pivot集計!$A:$G,G$3,FALSE),0)+IFERROR(VLOOKUP($Y20,[1]pivot集計!$A:$G,G$3,FALSE),0)+IFERROR(VLOOKUP($Z20,[1]pivot集計!$A:$G,G$3,FALSE),0)+IFERROR(VLOOKUP($AA20,[1]pivot集計!$A:$G,G$3,FALSE),0)+IFERROR(VLOOKUP($AB20,[1]pivot集計!$A:$G,G$3,FALSE),0)+IFERROR(VLOOKUP($AC20,[1]pivot集計!$A:$G,G$3,FALSE),0)+IFERROR(VLOOKUP($AD20,[1]pivot集計!$A:$G,G$3,FALSE),0)+IFERROR(VLOOKUP($AE20,[1]pivot集計!$A:$G,G$3,FALSE),0)+IFERROR(VLOOKUP($AF20,[1]pivot集計!$A:$G,G$3,FALSE),0)+IFERROR(VLOOKUP($AG20,[1]pivot集計!$A:$G,G$3,FALSE),0)+IFERROR(VLOOKUP($AH20,[1]pivot集計!$A:$G,G$3,FALSE),0)+IFERROR(VLOOKUP($AI20,[1]pivot集計!$A:$G,G$3,FALSE),0)+IFERROR(VLOOKUP($AJ20,[1]pivot集計!$A:$G,G$3,FALSE),0)+IFERROR(VLOOKUP($AK20,[1]pivot集計!$A:$G,G$3,FALSE),0)+IFERROR(VLOOKUP($AL20,[1]pivot集計!$A:$G,G$3,FALSE),0)+IFERROR(VLOOKUP($AM20,[1]pivot集計!$A:$G,G$3,FALSE),0)+IFERROR(VLOOKUP($AN20,[1]pivot集計!$A:$G,G$3,FALSE),0)+IFERROR(VLOOKUP($AO20,[1]pivot集計!$A:$G,G$3,FALSE),0) -> 16390 | H20: =IFERROR(VLOOKUP($W20,[1]pivot集計!$A:$G,H$3,FALSE),0)+IFERROR(VLOOKUP($X20,[1]pivot集計!$A:$G,H$3,FALSE),0)+IFERROR(VLOOKUP($Y20,[1]pivot集計!$A:$G,H$3,FALSE),0)+IFERROR(VLOOKUP($Z20,[1]pivot集計!$A:$G,H$3,FALSE),0)+IFERROR(VLOOKUP($AA20,[1]pivot集計!$A:$G,H$3,FALSE),0)+IFERROR(VLOOKUP($AB20,[1]pivot集計!$A:$G,H$3,FALSE),0)+IFERROR(VLOOKUP($AC20,[1]pivot集計!$A:$G,H$3,FALSE),0)+IFERROR(VLOOKUP($AD20,[1]pivot集計!$A:$G,H$3,FALSE),0)+IFERROR(VLOOKUP($AE20,[1]pivot集計!$A:$G,H$3,FALSE),0)+IFERROR(VLOOKUP($AF20,[1]pivot集計!$A:$G,H$3,FALSE),0)+IFERROR(VLOOKUP($AG20,[1]pivot集計!$A:$G,H$3,FALSE),0)+IFERROR(VLOOKUP($AH20,[1]pivot集計!$A:$G,H$3,FALSE),0)+IFERROR(VLOOKUP($AI20,[1]pivot集計!$A:$G,H$3,FALSE),0)+IFERROR(VLOOKUP($AJ20,[1]pivot集計!$A:$G,H$3,FALSE),0)+IFERROR(VLOOKUP($AK20,[1]pivot集計!$A:$G,H$3,FALSE),0)+IFERROR(VLOOKUP($AL20,[1]pivot集計!$A:$G,H$3,FALSE),0)+IFERROR(VLOOKUP($AM20,[1]pivot集計!$A:$G,H$3,FALSE),0)+IFERROR(VLOOKUP($AN20,[1]pivot集計!$A:$G,H$3,FALSE),0)+IFERROR(VLOOKUP($AO20,[1]pivot集計!$A:$G,H$3,FALSE),0) -> 90944.691 | I20: =IFERROR(VLOOKUP($W20,[1]pivot集計!$A:$G,I$3,FALSE),0)+IFERROR(VLOOKUP($X20,[1]pivot集計!$A:$G,I$3,FALSE),0)+IFERROR(VLOOKUP($Y20,[1]pivot集計!$A:$G,I$3,FALSE),0)+IFERROR(VLOOKUP($Z20,[1]pivot集計!$A:$G,I$3,FALSE),0)+IFERROR(VLOOKUP($AA20,[1]pivot集計!$A:$G,I$3,FALSE),0)+IFERROR(VLOOKUP($AB20,[1]pivot集計!$A:$G,I$3,FALSE),0)+IFERROR(VLOOKUP($AC20,[1]pivot集計!$A:$G,I$3,FALSE),0)+IFERROR(VLOOKUP($AD20,[1]pivot集計!$A:$G,I$3,FALSE),0)+IFERROR(VLOOKUP($AE20,[1]pivot集計!$A:$G,I$3,FALSE),0)+IFERROR(VLOOKUP($AF20,[1]pivot集計!$A:$G,I$3,FALSE),0)+IFERROR(VLOOKUP($AG20,[1]pivot集計!$A:$G,I$3,FALSE),0)+IFERROR(VLOOKUP($AH20,[1]pivot集計!$A:$G,I$3,FALSE),0)+IFERROR(VLOOKUP($AI20,[1]pivot集計!$A:$G,I$3,FALSE),0)+IFERROR(VLOOKUP($AJ20,[1]pivot集計!$A:$G,I$3,FALSE),0)+IFERROR(VLOOKUP($AK20,[1]pivot集計!$A:$G,I$3,FALSE),0)+IFERROR(VLOOKUP($AL20,[1]pivot集計!$A:$G,I$3,FALSE),0)+IFERROR(VLOOKUP($AM20,[1]pivot集計!$A:$G,I$3,FALSE),0)+IFERROR(VLOOKUP($AN20,[1]pivot集計!$A:$G,I$3,FALSE),0)+IFERROR(VLOOKUP($AO20,[1]pivot集計!$A:$G,I$3,FALSE),0) -> 835925.11 | J20: =SUM(E20:I20) -> 4305966.8 | N20: 16 | O20: 建設用金属製品 | P20: =E20/$E$58 -> 0.024214378 | Q20: =F20/$F$58 -> 0.071533167 | R20: =G20/$G$58 -> 0.009706438 | S20: =H20/$H$58 -> 0.019995385 | T20: =I20/$I$58 -> 0.0081622111 | U20: =J20/$J$58 -> 0.017944073 | W20: 合計 / ②-26 | X20: 合計 / ②-27 | Y20: 合計 / ②-28 | Z20: 合計 / ②-29 | AA20: 合計 / ②-30 | AB20: 合計 / ②-31 | AC20: 合計 / ②-32 | AD20: 合計 / ②-33 | AE20: 合計 / ②-34
C21: 17 | D21: 鋳鉄管 | E21: =IFERROR(VLOOKUP($W21,[1]pivot集計!$A:$G,E$3,FALSE),0)+IFERROR(VLOOKUP($X21,[1]pivot集計!$A:$G,E$3,FALSE),0)+IFERROR(VLOOKUP($Y21,[1]pivot集計!$A:$G,E$3,FALSE),0)+IFERROR(VLOOKUP($Z21,[1]pivot集計!$A:$G,E$3,FALSE),0)+IFERROR(VLOOKUP($AA21,[1]pivot集計!$A:$G,E$3,FALSE),0)+IFERROR(VLOOKUP($AB21,[1]pivot集計!$A:$G,E$3,FALSE),0)+IFERROR(VLOOKUP($AC21,[1]pivot集計!$A:$G,E$3,FALSE),0)+IFERROR(VLOOKUP($AD21,[1]pivot集計!$A:$G,E$3,FALSE),0)+IFERROR(VLOOKUP($AE21,[1]pivot集計!$A:$G,E$3,FALSE),0)+IFERROR(VLOOKUP($AF21,[1]pivot集計!$A:$G,E$3,FALSE),0)+IFERROR(VLOOKUP($AG21,[1]pivot集計!$A:$G,E$3,FALSE),0)+IFERROR(VLOOKUP($AH21,[1]pivot集計!$A:$G,E$3,FALSE),0)+IFERROR(VLOOKUP($AI21,[1]pivot集計!$A:$G,E$3,FALSE),0)+IFERROR(VLOOKUP($AJ21,[1]pivot集計!$A:$G,E$3,FALSE),0)+IFERROR(VLOOKUP($AK21,[1]pivot集計!$A:$G,E$3,FALSE),0)+IFERROR(VLOOKUP($AL21,[1]pivot集計!$A:$G,E$3,FALSE),0)+IFERROR(VLOOKUP($AM21,[1]pivot集計!$A:$G,E$3,FALSE),0)+IFERROR(VLOOKUP($AN21,[1]pivot集計!$A:$G,E$3,FALSE),0)+IFERROR(VLOOKUP($AO21,[1]pivot集計!$A:$G,E$3,FALSE),0) -> 0 | F21: =IFERROR(VLOOKUP($W21,[1]pivot集計!$A:$G,F$3,FALSE),0)+IFERROR(VLOOKUP($X21,[1]pivot集計!$A:$G,F$3,FALSE),0)+IFERROR(VLOOKUP($Y21,[1]pivot集計!$A:$G,F$3,FALSE),0)+IFERROR(VLOOKUP($Z21,[1]pivot集計!$A:$G,F$3,FALSE),0)+IFERROR(VLOOKUP($AA21,[1]pivot集計!$A:$G,F$3,FALSE),0)+IFERROR(VLOOKUP($AB21,[1]pivot集計!$A:$G,F$3,FALSE),0)+IFERROR(VLOOKUP($AC21,[1]pivot集計!$A:$G,F$3,FALSE),0)+IFERROR(VLOOKUP($AD21,[1]pivot集計!$A:$G,F$3,FALSE),0)+IFERROR(VLOOKUP($AE21,[1]pivot集計!$A:$G,F$3,FALSE),0)+IFERROR(VLOOKUP($AF21,[1]pivot集計!$A:$G,F$3,FALSE),0)+IFERROR(VLOOKUP($AG21,[1]pivot集計!$A:$G,F$3,FALSE),0)+IFERROR(VLOOKUP($AH21,[1]pivot集計!$A:$G,F$3,FALSE),0)+IFERROR(VLOOKUP($AI21,[1]pivot集計!$A:$G,F$3,FALSE),0)+IFERROR(VLOOKUP($AJ21,[1]pivot集計!$A:$G,F$3,FALSE),0)+IFERROR(VLOOKUP($AK21,[1]pivot集計!$A:$G,F$3,FALSE),0)+IFERROR(VLOOKUP($AL21,[1]pivot集計!$A:$G,F$3,FALSE),0)+IFERROR(VLOOKUP($AM21,[1]pivot集計!$A:$G,F$3,FALSE),0)+IFERROR(VLOOKUP($AN21,[1]pivot集計!$A:$G,F$3,FALSE),0)+IFERROR(VLOOKUP($AO21,[1]pivot集計!$A:$G,F$3,FALSE),0) -> 3342 | G21: =IFERROR(VLOOKUP($W21,[1]pivot集計!$A:$G,G$3,FALSE),0)+IFERROR(VLOOKUP($X21,[1]pivot集計!$A:$G,G$3,FALSE),0)+IFERROR(VLOOKUP($Y21,[1]pivot集計!$A:$G,G$3,FALSE),0)+IFERROR(VLOOKUP($Z21,[1]pivot集計!$A:$G,G$3,FALSE),0)+IFERROR(VLOOKUP($AA21,[1]pivot集計!$A:$G,G$3,FALSE),0)+IFERROR(VLOOKUP($AB21,[1]pivot集計!$A:$G,G$3,FALSE),0)+IFERROR(VLOOKUP($AC21,[1]pivot集計!$A:$G,G$3,FALSE),0)+IFERROR(VLOOKUP($AD21,[1]pivot集計!$A:$G,G$3,FALSE),0)+IFERROR(VLOOKUP($AE21,[1]pivot集計!$A:$G,G$3,FALSE),0)+IFERROR(VLOOKUP($AF21,[1]pivot集計!$A:$G,G$3,FALSE),0)+IFERROR(VLOOKUP($AG21,[1]pivot集計!$A:$G,G$3,FALSE),0)+IFERROR(VLOOKUP($AH21,[1]pivot集計!$A:$G,G$3,FALSE),0)+IFERROR(VLOOKUP($AI21,[1]pivot集計!$A:$G,G$3,FALSE),0)+IFERROR(VLOOKUP($AJ21,[1]pivot集計!$A:$G,G$3,FALSE),0)+IFERROR(VLOOKUP($AK21,[1]pivot集計!$A:$G,G$3,FALSE),0)+IFERROR(VLOOKUP($AL21,[1]pivot集計!$A:$G,G$3,FALSE),0)+IFERROR(VLOOKUP($AM21,[1]pivot集計!$A:$G,G$3,FALSE),0)+IFERROR(VLOOKUP($AN21,[1]pivot集計!$A:$G,G$3,FALSE),0)+IFERROR(VLOOKUP($AO21,[1]pivot集計!$A:$G,G$3,FALSE),0) -> 0 | H21: =IFERROR(VLOOKUP($W21,[1]pivot集計!$A:$G,H$3,FALSE),0)+IFERROR(VLOOKUP($X21,[1]pivot集計!$A:$G,H$3,FALSE),0)+IFERROR(VLOOKUP($Y21,[1]pivot集計!$A:$G,H$3,FALSE),0)+IFERROR(VLOOKUP($Z21,[1]pivot集計!$A:$G,H$3,FALSE),0)+IFERROR(VLOOKUP($AA21,[1]pivot集計!$A:$G,H$3,FALSE),0)+IFERROR(VLOOKUP($AB21,[1]pivot集計!$A:$G,H$3,FALSE),0)+IFERROR(VLOOKUP($AC21,[1]pivot集計!$A:$G,H$3,FALSE),0)+IFERROR(VLOOKUP($AD21,[1]pivot集計!$A:$G,H$3,FALSE),0)+IFERROR(VLOOKUP($AE21,[1]pivot集計!$A:$G,H$3,FALSE),0)+IFERROR(VLOOKUP($AF21,[1]pivot集計!$A:$G,H$3,FALSE),0)+IFERROR(VLOOKUP($AG21,[1]pivot集計!$A:$G,H$3,FALSE),0)+IFERROR(VLOOKUP($AH21,[1]pivot集計!$A:$G,H$3,FALSE),0)+IFERROR(VLOOKUP($AI21,[1]pivot集計!$A:$G,H$3,FALSE),0)+IFERROR(VLOOKUP($AJ21,[1]pivot集計!$A:$G,H$3,FALSE),0)+IFERROR(VLOOKUP($AK21,[1]pivot集計!$A:$G,H$3,FALSE),0)+IFERROR(VLOOKUP($AL21,[1]pivot集計!$A:$G,H$3,FALSE),0)+IFERROR(VLOOKUP($AM21,[1]pivot集計!$A:$G,H$3,FALSE),0)+IFERROR(VLOOKUP($AN21,[1]pivot集計!$A:$G,H$3,FALSE),0)+IFERROR(VLOOKUP($AO21,[1]pivot集計!$A:$G,H$3,FALSE),0) -> 0 | I21: =IFERROR(VLOOKUP($W21,[1]pivot集計!$A:$G,I$3,FALSE),0)+IFERROR(VLOOKUP($X21,[1]pivot集計!$A:$G,I$3,FALSE),0)+IFERROR(VLOOKUP($Y21,[1]pivot集計!$A:$G,I$3,FALSE),0)+IFERROR(VLOOKUP($Z21,[1]pivot集計!$A:$G,I$3,FALSE),0)+IFERROR(VLOOKUP($AA21,[1]pivot集計!$A:$G,I$3,FALSE),0)+IFERROR(VLOOKUP($AB21,[1]pivot集計!$A:$G,I$3,FALSE),0)+IFERROR(VLOOKUP($AC21,[1]pivot集計!$A:$G,I$3,FALSE),0)+IFERROR(VLOOKUP($AD21,[1]pivot集計!$A:$G,I$3,FALSE),0)+IFERROR(VLOOKUP($AE21,[1]pivot集計!$A:$G,I$3,FALSE),0)+IFERROR(VLOOKUP($AF21,[1]pivot集計!$A:$G,I$3,FALSE),0)+IFERROR(VLOOKUP($AG21,[1]pivot集計!$A:$G,I$3,FALSE),0)+IFERROR(VLOOKUP($AH21,[1]pivot集計!$A:$G,I$3,FALSE),0)+IFERROR(VLOOKUP($AI21,[1]pivot集計!$A:$G,I$3,FALSE),0)+IFERROR(VLOOKUP($AJ21,[1]pivot集計!$A:$G,I$3,FALSE),0)+IFERROR(VLOOKUP($AK21,[1]pivot集計!$A:$G,I$3,FALSE),0)+IFERROR(VLOOKUP($AL21,[1]pivot集計!$A:$G,I$3,FALSE),0)+IFERROR(VLOOKUP($AM21,[1]pivot集計!$A:$G,I$3,FALSE),0)+IFERROR(VLOOKUP($AN21,[1]pivot集計!$A:$G,I$3,FALSE),0)+IFERROR(VLOOKUP($AO21,[1]pivot集計!$A:$G,I$3,FALSE),0) -> 0 | J21: =SUM(E21:I21) -> 3342 | N21: 17 | O21: 鋳鉄管 | P21: =E21/$E$58 -> 0 | Q21: =F21/$F$58 -> 0.00086417573 | R21: =G21/$G$58 -> 0 | S21: =H21/$H$58 -> 0 | T21: =I21/$I$58 -> 0 | U21: =J21/$J$58 -> 1.3926975e-05 | W21: 合計 / ②-35
C22: 18 | D22: 鋳鉄製品 | E22: =IFERROR(VLOOKUP($W22,[1]pivot集計!$A:$G,E$3,FALSE),0)+IFERROR(VLOOKUP($X22,[1]pivot集計!$A:$G,E$3,FALSE),0)+IFERROR(VLOOKUP($Y22,[1]pivot集計!$A:$G,E$3,FALSE),0)+IFERROR(VLOOKUP($Z22,[1]pivot集計!$A:$G,E$3,FALSE),0)+IFERROR(VLOOKUP($AA22,[1]pivot集計!$A:$G,E$3,FALSE),0)+IFERROR(VLOOKUP($AB22,[1]pivot集計!$A:$G,E$3,FALSE),0)+IFERROR(VLOOKUP($AC22,[1]pivot集計!$A:$G,E$3,FALSE),0)+IFERROR(VLOOKUP($AD22,[1]pivot集計!$A:$G,E$3,FALSE),0)+IFERROR(VLOOKUP($AE22,[1]pivot集計!$A:$G,E$3,FALSE),0)+IFERROR(VLOOKUP($AF22,[1]pivot集計!$A:$G,E$3,FALSE),0)+IFERROR(VLOOKUP($AG22,[1]pivot集計!$A:$G,E$3,FALSE),0)+IFERROR(VLOOKUP($AH22,[1]pivot集計!$A:$G,E$3,FALSE),0)+IFERROR(VLOOKUP($AI22,[1]pivot集計!$A:$G,E$3,FALSE),0)+IFERROR(VLOOKUP($AJ22,[1]pivot集計!$A:$G,E$3,FALSE),0)+IFERROR(VLOOKUP($AK22,[1]pivot集計!$A:$G,E$3,FALSE),0)+IFERROR(VLOOKUP($AL22,[1]pivot集計!$A:$G,E$3,FALSE),0)+IFERROR(VLOOKUP($AM22,[1]pivot集計!$A:$G,E$3,FALSE),0)+IFERROR(VLOOKUP($AN22,[1]pivot集計!$A:$G,E$3,FALSE),0)+IFERROR(VLOOKUP($AO22,[1]pivot集計!$A:$G,E$3,FALSE),0) -> 21681 | F22: =IFERROR(VLOOKUP($W22,[1]pivot集計!$A:$G,F$3,FALSE),0)+IFERROR(VLOOKUP($X22,[1]pivot集計!$A:$G,F$3,FALSE),0)+IFERROR(VLOOKUP($Y22,[1]pivot集計!$A:$G,F$3,FALSE),0)+IFERROR(VLOOKUP($Z22,[1]pivot集計!$A:$G,F$3,FALSE),0)+IFERROR(VLOOKUP($AA22,[1]pivot集計!$A:$G,F$3,FALSE),0)+IFERROR(VLOOKUP($AB22,[1]pivot集計!$A:$G,F$3,FALSE),0)+IFERROR(VLOOKUP($AC22,[1]pivot集計!$A:$G,F$3,FALSE),0)+IFERROR(VLOOKUP($AD22,[1]pivot集計!$A:$G,F$3,FALSE),0)+IFERROR(VLOOKUP($AE22,[1]pivot集計!$A:$G,F$3,FALSE),0)+IFERROR(VLOOKUP($AF22,[1]pivot集計!$A:$G,F$3,FALSE),0)+IFERROR(VLOOKUP($AG22,[1]pivot集計!$A:$G,F$3,FALSE),0)+IFERROR(VLOOKUP($AH22,[1]pivot集計!$A:$G,F$3,FALSE),0)+IFERROR(VLOOKUP($AI22,[1]pivot集計!$A:$G,F$3,FALSE),0)+IFERROR(VLOOKUP($AJ22,[1]pivot集計!$A:$G,F$3,FALSE),0)+IFERROR(VLOOKUP($AK22,[1]pivot集計!$A:$G,F$3,FALSE),0)+IFERROR(VLOOKUP($AL22,[1]pivot集計!$A:$G,F$3,FALSE),0)+IFERROR(VLOOKUP($AM22,[1]pivot集計!$A:$G,F$3,FALSE),0)+IFERROR(VLOOKUP($AN22,[1]pivot集計!$A:$G,F$3,FALSE),0)+IFERROR(VLOOKUP($AO22,[1]pivot集計!$A:$G,F$3,FALSE),0) -> 593 | G22: =IFERROR(VLOOKUP($W22,[1]pivot集計!$A:$G,G$3,FALSE),0)+IFERROR(VLOOKUP($X22,[1]pivot集計!$A:$G,G$3,FALSE),0)+IFERROR(VLOOKUP($Y22,[1]pivot集計!$A:$G,G$3,FALSE),0)+IFERROR(VLOOKUP($Z22,[1]pivot集計!$A:$G,G$3,FALSE),0)+IFERROR(VLOOKUP($AA22,[1]pivot集計!$A:$G,G$3,FALSE),0)+IFERROR(VLOOKUP($AB22,[1]pivot集計!$A:$G,G$3,FALSE),0)+IFERROR(VLOOKUP($AC22,[1]pivot集計!$A:$G,G$3,FALSE),0)+IFERROR(VLOOKUP($AD22,[1]pivot集計!$A:$G,G$3,FALSE),0)+IFERROR(VLOOKUP($AE22,[1]pivot集計!$A:$G,G$3,FALSE),0)+IFERROR(VLOOKUP($AF22,[1]pivot集計!$A:$G,G$3,FALSE),0)+IFERROR(VLOOKUP($AG22,[1]pivot集計!$A:$G,G$3,FALSE),0)+IFERROR(VLOOKUP($AH22,[1]pivot集計!$A:$G,G$3,FALSE),0)+IFERROR(VLOOKUP($AI22,[1]pivot集計!$A:$G,G$3,FALSE),0)+IFERROR(VLOOKUP($AJ22,[1]pivot集計!$A:$G,G$3,FALSE),0)+IFERROR(VLOOKUP($AK22,[1]pivot集計!$A:$G,G$3,FALSE),0)+IFERROR(VLOOKUP($AL22,[1]pivot集計!$A:$G,G$3,FALSE),0)+IFERROR(VLOOKUP($AM22,[1]pivot集計!$A:$G,G$3,FALSE),0)+IFERROR(VLOOKUP($AN22,[1]pivot集計!$A:$G,G$3,FALSE),0)+IFERROR(VLOOKUP($AO22,[1]pivot集計!$A:$G,G$3,FALSE),0) -> 63 | H22: =IFERROR(VLOOKUP($W22,[1]pivot集計!$A:$G,H$3,FALSE),0)+IFERROR(VLOOKUP($X22,[1]pivot集計!$A:$G,H$3,FALSE),0)+IFERROR(VLOOKUP($Y22,[1]pivot集計!$A:$G,H$3,FALSE),0)+IFERROR(VLOOKUP($Z22,[1]pivot集計!$A:$G,H$3,FALSE),0)+IFERROR(VLOOKUP($AA22,[1]pivot集計!$A:$G,H$3,FALSE),0)+IFERROR(VLOOKUP($AB22,[1]pivot集計!$A:$G,H$3,FALSE),0)+IFERROR(VLOOKUP($AC22,[1]pivot集計!$A:$G,H$3,FALSE),0)+IFERROR(VLOOKUP($AD22,[1]pivot集計!$A:$G,H$3,FALSE),0)+IFERROR(VLOOKUP($AE22,[1]pivot集計!$A:$G,H$3,FALSE),0)+IFERROR(VLOOKUP($AF22,[1]pivot集計!$A:$G,H$3,FALSE),0)+IFERROR(VLOOKUP($AG22,[1]pivot集計!$A:$G,H$3,FALSE),0)+IFERROR(VLOOKUP($AH22,[1]pivot集計!$A:$G,H$3,FALSE),0)+IFERROR(VLOOKUP($AI22,[1]pivot集計!$A:$G,H$3,FALSE),0)+IFERROR(VLOOKUP($AJ22,[1]pivot集計!$A:$G,H$3,FALSE),0)+IFERROR(VLOOKUP($AK22,[1]pivot集計!$A:$G,H$3,FALSE),0)+IFERROR(VLOOKUP($AL22,[1]pivot集計!$A:$G,H$3,FALSE),0)+IFERROR(VLOOKUP($AM22,[1]pivot集計!$A:$G,H$3,FALSE),0)+IFERROR(VLOOKUP($AN22,[1]pivot集計!$A:$G,H$3,FALSE),0)+IFERROR(VLOOKUP($AO22,[1]pivot集計!$A:$G,H$3,FALSE),0) -> 198 | I22: =IFERROR(VLOOKUP($W22,[1]pivot集計!$A:$G,I$3,FALSE),0)+IFERROR(VLOOKUP($X22,[1]pivot集計!$A:$G,I$3,FALSE),0)+IFERROR(VLOOKUP($Y22,[1]pivot集計!$A:$G,I$3,FALSE),0)+IFERROR(VLOOKUP($Z22,[1]pivot集計!$A:$G,I$3,FALSE),0)+IFERROR(VLOOKUP($AA22,[1]pivot集計!$A:$G,I$3,FALSE),0)+IFERROR(VLOOKUP($AB22,[1]pivot集計!$A:$G,I$3,FALSE),0)+IFERROR(VLOOKUP($AC22,[1]pivot集計!$A:$G,I$3,FALSE),0)+IFERROR(VLOOKUP($AD22,[1]pivot集計!$A:$G,I$3,FALSE),0)+IFERROR(VLOOKUP($AE22,[1]pivot集計!$A:$G,I$3,FALSE),0)+IFERROR(VLOOKUP($AF22,[1]pivot集計!$A:$G,I$3,FALSE),0)+IFERROR(VLOOKUP($AG22,[1]pivot集計!$A:$G,I$3,FALSE),0)+IFERROR(VLOOKUP($AH22,[1]pivot集計!$A:$G,I$3,FALSE),0)+IFERROR(VLOOKUP($AI22,[1]pivot集計!$A:$G,I$3,FALSE),0)+IFERROR(VLOOKUP($AJ22,[1]pivot集計!$A:$G,I$3,FALSE),0)+IFERROR(VLOOKUP($AK22,[1]pivot集計!$A:$G,I$3,FALSE),0)+IFERROR(VLOOKUP($AL22,[1]pivot集計!$A:$G,I$3,FALSE),0)+IFERROR(VLOOKUP($AM22,[1]pivot集計!$A:$G,I$3,FALSE),0)+IFERROR(VLOOKUP($AN22,[1]pivot集計!$A:$G,I$3,FALSE),0)+IFERROR(VLOOKUP($AO22,[1]pivot集計!$A:$G,I$3,FALSE),0) -> 59112.193 | J22: =SUM(E22:I22) -> 81647.193 | N22: 18 | O22: 鋳鉄製品 | P22: =E22/$E$58 -> 0.00017011672 | Q22: =F22/$F$58 -> 0.00015333818 | R22: =G22/$G$58 -> 3.7309676e-05 | S22: =H22/$H$58 -> 4.3532902e-05 | T22: =I22/$I$58 -> 0.0005771883 | U22: =J22/$J$58 -> 0.00034024489 | W22: 合計 / ②-36
C23: 19 | D23: アスファルト | E23: =IFERROR(VLOOKUP($W23,[1]pivot集計!$A:$G,E$3,FALSE),0)+IFERROR(VLOOKUP($X23,[1]pivot集計!$A:$G,E$3,FALSE),0)+IFERROR(VLOOKUP($Y23,[1]pivot集計!$A:$G,E$3,FALSE),0)+IFERROR(VLOOKUP($Z23,[1]pivot集計!$A:$G,E$3,FALSE),0)+IFERROR(VLOOKUP($AA23,[1]pivot集計!$A:$G,E$3,FALSE),0)+IFERROR(VLOOKUP($AB23,[1]pivot集計!$A:$G,E$3,FALSE),0)+IFERROR(VLOOKUP($AC23,[1]pivot集計!$A:$G,E$3,FALSE),0)+IFERROR(VLOOKUP($AD23,[1]pivot集計!$A:$G,E$3,FALSE),0)+IFERROR(VLOOKUP($AE23,[1]pivot集計!$A:$G,E$3,FALSE),0)+IFERROR(VLOOKUP($AF23,[1]pivot集計!$A:$G,E$3,FALSE),0)+IFERROR(VLOOKUP($AG23,[1]pivot集計!$A:$G,E$3,FALSE),0)+IFERROR(VLOOKUP($AH23,[1]pivot集計!$A:$G,E$3,FALSE),0)+IFERROR(VLOOKUP($AI23,[1]pivot集計!$A:$G,E$3,FALSE),0)+IFERROR(VLOOKUP($AJ23,[1]pivot集計!$A:$G,E$3,FALSE),0)+IFERROR(VLOOKUP($AK23,[1]pivot集計!$A:$G,E$3,FALSE),0)+IFERROR(VLOOKUP($AL23,[1]pivot集計!$A:$G,E$3,FALSE),0)+IFERROR(VLOOKUP($AM23,[1]pivot集計!$A:$G,E$3,FALSE),0)+IFERROR(VLOOKUP($AN23,[1]pivot集計!$A:$G,E$3,FALSE),0)+IFERROR(VLOOKUP($AO23,[1]pivot集計!$A:$G,E$3,FALSE),0) -> 3803745 | F23: =IFERROR(VLOOKUP($W23,[1]pivot集計!$A:$G,F$3,FALSE),0)+IFERROR(VLOOKUP($X23,[1]pivot集計!$A:$G,F$3,FALSE),0)+IFERROR(VLOOKUP($Y23,[1]pivot集計!$A:$G,F$3,FALSE),0)+IFERROR(VLOOKUP($Z23,[1]pivot集計!$A:$G,F$3,FALSE),0)+IFERROR(VLOOKUP($AA23,[1]pivot集計!$A:$G,F$3,FALSE),0)+IFERROR(VLOOKUP($AB23,[1]pivot集計!$A:$G,F$3,FALSE),0)+IFERROR(VLOOKUP($AC23,[1]pivot集計!$A:$G,F$3,FALSE),0)+IFERROR(VLOOKUP($AD23,[1]pivot集計!$A:$G,F$3,FALSE),0)+IFERROR(VLOOKUP($AE23,[1]pivot集計!$A:$G,F$3,FALSE),0)+IFERROR(VLOOKUP($AF23,[1]pivot集計!$A:$G,F$3,FALSE),0)+IFERROR(VLOOKUP($AG23,[1]pivot集計!$A:$G,F$3,FALSE),0)+IFERROR(VLOOKUP($AH23,[1]pivot集計!$A:$G,F$3,FALSE),0)+IFERROR(VLOOKUP($AI23,[1]pivot集計!$A:$G,F$3,FALSE),0)+IFERROR(VLOOKUP($AJ23,[1]pivot集計!$A:$G,F$3,FALSE),0)+IFERROR(VLOOKUP($AK23,[1]pivot集計!$A:$G,F$3,FALSE),0)+IFERROR(VLOOKUP($AL23,[1]pivot集計!$A:$G,F$3,FALSE),0)+IFERROR(VLOOKUP($AM23,[1]pivot集計!$A:$G,F$3,FALSE),0)+IFERROR(VLOOKUP($AN23,[1]pivot集計!$A:$G,F$3,FALSE),0)+IFERROR(VLOOKUP($AO23,[1]pivot集計!$A:$G,F$3,FALSE),0) -> 11544 | G23: =IFERROR(VLOOKUP($W23,[1]pivot集計!$A:$G,G$3,FALSE),0)+IFERROR(VLOOKUP($X23,[1]pivot集計!$A:$G,G$3,FALSE),0)+IFERROR(VLOOKUP($Y23,[1]pivot集計!$A:$G,G$3,FALSE),0)+IFERROR(VLOOKUP($Z23,[1]pivot集計!$A:$G,G$3,FALSE),0)+IFERROR(VLOOKUP($AA23,[1]pivot集計!$A:$G,G$3,FALSE),0)+IFERROR(VLOOKUP($AB23,[1]pivot集計!$A:$G,G$3,FALSE),0)+IFERROR(VLOOKUP($AC23,[1]pivot集計!$A:$G,G$3,FALSE),0)+IFERROR(VLOOKUP($AD23,[1]pivot集計!$A:$G,G$3,FALSE),0)+IFERROR(VLOOKUP($AE23,[1]pivot集計!$A:$G,G$3,FALSE),0)+IFERROR(VLOOKUP($AF23,[1]pivot集計!$A:$G,G$3,FALSE),0)+IFERROR(VLOOKUP($AG23,[1]pivot集計!$A:$G,G$3,FALSE),0)+IFERROR(VLOOKUP($AH23,[1]pivot集計!$A:$G,G$3,FALSE),0)+IFERROR(VLOOKUP($AI23,[1]pivot集計!$A:$G,G$3,FALSE),0)+IFERROR(VLOOKUP($AJ23,[1]pivot集計!$A:$G,G$3,FALSE),0)+IFERROR(VLOOKUP($AK23,[1]pivot集計!$A:$G,G$3,FALSE),0)+IFERROR(VLOOKUP($AL23,[1]pivot集計!$A:$G,G$3,FALSE),0)+IFERROR(VLOOKUP($AM23,[1]pivot集計!$A:$G,G$3,FALSE),0)+IFERROR(VLOOKUP($AN23,[1]pivot集計!$A:$G,G$3,FALSE),0)+IFERROR(VLOOKUP($AO23,[1]pivot集計!$A:$G,G$3,FALSE),0) -> 197897 | H23: =IFERROR(VLOOKUP($W23,[1]pivot集計!$A:$G,H$3,FALSE),0)+IFERROR(VLOOKUP($X23,[1]pivot集計!$A:$G,H$3,FALSE),0)+IFERROR(VLOOKUP($Y23,[1]pivot集計!$A:$G,H$3,FALSE),0)+IFERROR(VLOOKUP($Z23,[1]pivot集計!$A:$G,H$3,FALSE),0)+IFERROR(VLOOKUP($AA23,[1]pivot集計!$A:$G,H$3,FALSE),0)+IFERROR(VLOOKUP($AB23,[1]pivot集計!$A:$G,H$3,FALSE),0)+IFERROR(VLOOKUP($AC23,[1]pivot集計!$A:$G,H$3,FALSE),0)+IFERROR(VLOOKUP($AD23,[1]pivot集計!$A:$G,H$3,FALSE),0)+IFERROR(VLOOKUP($AE23,[1]pivot集計!$A:$G,H$3,FALSE),0)+IFERROR(VLOOKUP($AF23,[1]pivot集計!$A:$G,H$3,FALSE),0)+IFERROR(VLOOKUP($AG23,[1]pivot集計!$A:$G,H$3,FALSE),0)+IFERROR(VLOOKUP($AH23,[1]pivot集計!$A:$G,H$3,FALSE),0)+IFERROR(VLOOKUP($AI23,[1]pivot集計!$A:$G,H$3,FALSE),0)+IFERROR(VLOOKUP($AJ23,[1]pivot集計!$A:$G,H$3,FALSE),0)+IFERROR(VLOOKUP($AK23,[1]pivot集計!$A:$G,H$3,FALSE),0)+IFERROR(VLOOKUP($AL23,[1]pivot集計!$A:$G,H$3,FALSE),0)+IFERROR(VLOOKUP($AM23,[1]pivot集計!$A:$G,H$3,FALSE),0)+IFERROR(VLOOKUP($AN23,[1]pivot集計!$A:$G,H$3,FALSE),0)+IFERROR(VLOOKUP($AO23,[1]pivot集計!$A:$G,H$3,FALSE),0) -> 842483 | I23: =IFERROR(VLOOKUP($W23,[1]pivot集計!$A:$G,I$3,FALSE),0)+IFERROR(VLOOKUP($X23,[1]pivot集計!$A:$G,I$3,FALSE),0)+IFERROR(VLOOKUP($Y23,[1]pivot集計!$A:$G,I$3,FALSE),0)+IFERROR(VLOOKUP($Z23,[1]pivot集計!$A:$G,I$3,FALSE),0)+IFERROR(VLOOKUP($AA23,[1]pivot集計!$A:$G,I$3,FALSE),0)+IFERROR(VLOOKUP($AB23,[1]pivot集計!$A:$G,I$3,FALSE),0)+IFERROR(VLOOKUP($AC23,[1]pivot集計!$A:$G,I$3,FALSE),0)+IFERROR(VLOOKUP($AD23,[1]pivot集計!$A:$G,I$3,FALSE),0)+IFERROR(VLOOKUP($AE23,[1]pivot集計!$A:$G,I$3,FALSE),0)+IFERROR(VLOOKUP($AF23,[1]pivot集計!$A:$G,I$3,FALSE),0)+IFERROR(VLOOKUP($AG23,[1]pivot集計!$A:$G,I$3,FALSE),0)+IFERROR(VLOOKUP($AH23,[1]pivot集計!$A:$G,I$3,FALSE),0)+IFERROR(VLOOKUP($AI23,[1]pivot集計!$A:$G,I$3,FALSE),0)+IFERROR(VLOOKUP($AJ23,[1]pivot集計!$A:$G,I$3,FALSE),0)+IFERROR(VLOOKUP($AK23,[1]pivot集計!$A:$G,I$3,FALSE),0)+IFERROR(VLOOKUP($AL23,[1]pivot集計!$A:$G,I$3,FALSE),0)+IFERROR(VLOOKUP($AM23,[1]pivot集計!$A:$G,I$3,FALSE),0)+IFERROR(VLOOKUP($AN23,[1]pivot集計!$A:$G,I$3,FALSE),0)+IFERROR(VLOOKUP($AO23,[1]pivot集計!$A:$G,I$3,FALSE),0) -> 70020.211 | J23: =SUM(E23:I23) -> 4925689.2 | N23: 19 | O23: アスファルト | P23: =E23/$E$58 -> 0.029845515 | Q23: =F23/$F$58 -> 0.0029850522 | R23: =G23/$G$58 -> 0.11719798 | S23: =H23/$H$58 -> 0.18523096 | T23: =I23/$I$58 -> 0.0006836973 | U23: =J23/$J$58 -> 0.020526616 | W23: 合計 / ②-37 | X23: 合計 / ②-38 | Y23: 合計 / ②-39
C24: 20 | D24: 石油製品 | E24: =IFERROR(VLOOKUP($W24,[1]pivot集計!$A:$G,E$3,FALSE),0)+IFERROR(VLOOKUP($X24,[1]pivot集計!$A:$G,E$3,FALSE),0)+IFERROR(VLOOKUP($Y24,[1]pivot集計!$A:$G,E$3,FALSE),0)+IFERROR(VLOOKUP($Z24,[1]pivot集計!$A:$G,E$3,FALSE),0)+IFERROR(VLOOKUP($AA24,[1]pivot集計!$A:$G,E$3,FALSE),0)+IFERROR(VLOOKUP($AB24,[1]pivot集計!$A:$G,E$3,FALSE),0)+IFERROR(VLOOKUP($AC24,[1]pivot集計!$A:$G,E$3,FALSE),0)+IFERROR(VLOOKUP($AD24,[1]pivot集計!$A:$G,E$3,FALSE),0)+IFERROR(VLOOKUP($AE24,[1]pivot集計!$A:$G,E$3,FALSE),0)+IFERROR(VLOOKUP($AF24,[1]pivot集計!$A:$G,E$3,FALSE),0)+IFERROR(VLOOKUP($AG24,[1]pivot集計!$A:$G,E$3,FALSE),0)+IFERROR(VLOOKUP($AH24,[1]pivot集計!$A:$G,E$3,FALSE),0)+IFERROR(VLOOKUP($AI24,[1]pivot集計!$A:$G,E$3,FALSE),0)+IFERROR(VLOOKUP($AJ24,[1]pivot集計!$A:$G,E$3,FALSE),0)+IFERROR(VLOOKUP($AK24,[1]pivot集計!$A:$G,E$3,FALSE),0)+IFERROR(VLOOKUP($AL24,[1]pivot集計!$A:$G,E$3,FALSE),0)+IFERROR(VLOOKUP($AM24,[1]pivot集計!$A:$G,E$3,FALSE),0)+IFERROR(VLOOKUP($AN24,[1]pivot集計!$A:$G,E$3,FALSE),0)+IFERROR(VLOOKUP($AO24,[1]pivot集計!$A:$G,E$3,FALSE),0) -> 855741 | F24: =IFERROR(VLOOKUP($W24,[1]pivot集計!$A:$G,F$3,FALSE),0)+IFERROR(VLOOKUP($X24,[1]pivot集計!$A:$G,F$3,FALSE),0)+IFERROR(VLOOKUP($Y24,[1]pivot集計!$A:$G,F$3,FALSE),0)+IFERROR(VLOOKUP($Z24,[1]pivot集計!$A:$G,F$3,FALSE),0)+IFERROR(VLOOKUP($AA24,[1]pivot集計!$A:$G,F$3,FALSE),0)+IFERROR(VLOOKUP($AB24,[1]pivot集計!$A:$G,F$3,FALSE),0)+IFERROR(VLOOKUP($AC24,[1]pivot集計!$A:$G,F$3,FALSE),0)+IFERROR(VLOOKUP($AD24,[1]pivot集計!$A:$G,F$3,FALSE),0)+IFERROR(VLOOKUP($AE24,[1]pivot集計!$A:$G,F$3,FALSE),0)+IFERROR(VLOOKUP($AF24,[1]pivot集計!$A:$G,F$3,FALSE),0)+IFERROR(VLOOKUP($AG24,[1]pivot集計!$A:$G,F$3,FALSE),0)+IFERROR(VLOOKUP($AH24,[1]pivot集計!$A:$G,F$3,FALSE),0)+IFERROR(VLOOKUP($AI24,[1]pivot集計!$A:$G,F$3,FALSE),0)+IFERROR(VLOOKUP($AJ24,[1]pivot集計!$A:$G,F$3,FALSE),0)+IFERROR(VLOOKUP($AK24,[1]pivot集計!$A:$G,F$3,FALSE),0)+IFERROR(VLOOKUP($AL24,[1]pivot集計!$A:$G,F$3,FALSE),0)+IFERROR(VLOOKUP($AM24,[1]pivot集計!$A:$G,F$3,FALSE),0)+IFERROR(VLOOKUP($AN24,[1]pivot集計!$A:$G,F$3,FALSE),0)+IFERROR(VLOOKUP($AO24,[1]pivot集計!$A:$G,F$3,FALSE),0) -> 35651 | G24: =IFERROR(VLOOKUP($W24,[1]pivot集計!$A:$G,G$3,FALSE),0)+IFERROR(VLOOKUP($X24,[1]pivot集計!$A:$G,G$3,FALSE),0)+IFERROR(VLOOKUP($Y24,[1]pivot集計!$A:$G,G$3,FALSE),0)+IFERROR(VLOOKUP($Z24,[1]pivot集計!$A:$G,G$3,FALSE),0)+IFERROR(VLOOKUP($AA24,[1]pivot集計!$A:$G,G$3,FALSE),0)+IFERROR(VLOOKUP($AB24,[1]pivot集計!$A:$G,G$3,FALSE),0)+IFERROR(VLOOKUP($AC24,[1]pivot集計!$A:$G,G$3,FALSE),0)+IFERROR(VLOOKUP($AD24,[1]pivot集計!$A:$G,G$3,FALSE),0)+IFERROR(VLOOKUP($AE24,[1]pivot集計!$A:$G,G$3,FALSE),0)+IFERROR(VLOOKUP($AF24,[1]pivot集計!$A:$G,G$3,FALSE),0)+IFERROR(VLOOKUP($AG24,[1]pivot集計!$A:$G,G$3,FALSE),0)+IFERROR(VLOOKUP($AH24,[1]pivot集計!$A:$G,G$3,FALSE),0)+IFERROR(VLOOKUP($AI24,[1]pivot集計!$A:$G,G$3,FALSE),0)+IFERROR(VLOOKUP($AJ24,[1]pivot集計!$A:$G,G$3,FALSE),0)+IFERROR(VLOOKUP($AK24,[1]pivot集計!$A:$G,G$3,FALSE),0)+IFERROR(VLOOKUP($AL24,[1]pivot集計!$A:$G,G$3,FALSE),0)+IFERROR(VLOOKUP($AM24,[1]pivot集計!$A:$G,G$3,FALSE),0)+IFERROR(VLOOKUP($AN24,[1]pivot集計!$A:$G,G$3,FALSE),0)+IFERROR(VLOOKUP($AO24,[1]pivot集計!$A:$G,G$3,FALSE),0) -> 22024 | H24: =IFERROR(VLOOKUP($W24,[1]pivot集計!$A:$G,H$3,FALSE),0)+IFERROR(VLOOKUP($X24,[1]pivot集計!$A:$G,H$3,FALSE),0)+IFERROR(VLOOKUP($Y24,[1]pivot集計!$A:$G,H$3,FALSE),0)+IFERROR(VLOOKUP($Z24,[1]pivot集計!$A:$G,H$3,FALSE),0)+IFERROR(VLOOKUP($AA24,[1]pivot集計!$A:$G,H$3,FALSE),0)+IFERROR(VLOOKUP($AB24,[1]pivot集計!$A:$G,H$3,FALSE),0)+IFERROR(VLOOKUP($AC24,[1]pivot集計!$A:$G,H$3,FALSE),0)+IFERROR(VLOOKUP($AD24,[1]pivot集計!$A:$G,H$3,FALSE),0)+IFERROR(VLOOKUP($AE24,[1]pivot集計!$A:$G,H$3,FALSE),0)+IFERROR(VLOOKUP($AF24,[1]pivot集計!$A:$G,H$3,FALSE),0)+IFERROR(VLOOKUP($AG24,[1]pivot集計!$A:$G,H$3,FALSE),0)+IFERROR(VLOOKUP($AH24,[1]pivot集計!$A:$G,H$3,FALSE),0)+IFERROR(VLOOKUP($AI24,[1]pivot集計!$A:$G,H$3,FALSE),0)+IFERROR(VLOOKUP($AJ24,[1]pivot集計!$A:$G,H$3,FALSE),0)+IFERROR(VLOOKUP($AK24,[1]pivot集計!$A:$G,H$3,FALSE),0)+IFERROR(VLOOKUP($AL24,[1]pivot集計!$A:$G,H$3,FALSE),0)+IFERROR(VLOOKUP($AM24,[1]pivot集計!$A:$G,H$3,FALSE),0)+IFERROR(VLOOKUP($AN24,[1]pivot集計!$A:$G,H$3,FALSE),0)+IFERROR(VLOOKUP($AO24,[1]pivot集計!$A:$G,H$3,FALSE),0) -> 49116 | I24: =IFERROR(VLOOKUP($W24,[1]pivot集計!$A:$G,I$3,FALSE),0)+IFERROR(VLOOKUP($X24,[1]pivot集計!$A:$G,I$3,FALSE),0)+IFERROR(VLOOKUP($Y24,[1]pivot集計!$A:$G,I$3,FALSE),0)+IFERROR(VLOOKUP($Z24,[1]pivot集計!$A:$G,I$3,FALSE),0)+IFERROR(VLOOKUP($AA24,[1]pivot集計!$A:$G,I$3,FALSE),0)+IFERROR(VLOOKUP($AB24,[1]pivot集計!$A:$G,I$3,FALSE),0)+IFERROR(VLOOKUP($AC24,[1]pivot集計!$A:$G,I$3,FALSE),0)+IFERROR(VLOOKUP($AD24,[1]pivot集計!$A:$G,I$3,FALSE),0)+IFERROR(VLOOKUP($AE24,[1]pivot集計!$A:$G,I$3,FALSE),0)+IFERROR(VLOOKUP($AF24,[1]pivot集計!$A:$G,I$3,FALSE),0)+IFERROR(VLOOKUP($AG24,[1]pivot集計!$A:$G,I$3,FALSE),0)+IFERROR(VLOOKUP($AH24,[1]pivot集計!$A:$G,I$3,FALSE),0)+IFERROR(VLOOKUP($AI24,[1]pivot集計!$A:$G,I$3,FALSE),0)+IFERROR(VLOOKUP($AJ24,[1]pivot集計!$A:$G,I$3,FALSE),0)+IFERROR(VLOOKUP($AK24,[1]pivot集計!$A:$G,I$3,FALSE),0)+IFERROR(VLOOKUP($AL24,[1]pivot集計!$A:$G,I$3,FALSE),0)+IFERROR(VLOOKUP($AM24,[1]pivot集計!$A:$G,I$3,FALSE),0)+IFERROR(VLOOKUP($AN24,[1]pivot集計!$A:$G,I$3,FALSE),0)+IFERROR(VLOOKUP($AO24,[1]pivot集計!$A:$G,I$3,FALSE),0) -> 961252.57 | J24: =SUM(E24:I24) -> 1923784.6 | N24: 20 | O24: 石油製品 | P24: =E24/$E$58 -> 0.0067144436 | Q24: =F24/$F$58 -> 0.0092186502 | R24: =G24/$G$58 -> 0.013042989 | S24: =H24/$H$58 -> 0.010798798 | T24: =I24/$I$58 -> 0.0093859441 | U24: =J24/$J$58 -> 0.0080169059 | W24: 合計 / ②-40 | X24: 合計 / ②-41 | Y24: 合計 / ②-42 | Z24: 合計 / ②-43 | AA24: 合計 / ②-44 | AB24: 合計 / ②-45 | AC24: 合計 / ②-46 | AD24: 合計 / ②-47
C25: 21 | D25: 塗料 | E25: =IFERROR(VLOOKUP($W25,[1]pivot集計!$A:$G,E$3,FALSE),0)+IFERROR(VLOOKUP($X25,[1]pivot集計!$A:$G,E$3,FALSE),0)+IFERROR(VLOOKUP($Y25,[1]pivot集計!$A:$G,E$3,FALSE),0)+IFERROR(VLOOKUP($Z25,[1]pivot集計!$A:$G,E$3,FALSE),0)+IFERROR(VLOOKUP($AA25,[1]pivot集計!$A:$G,E$3,FALSE),0)+IFERROR(VLOOKUP($AB25,[1]pivot集計!$A:$G,E$3,FALSE),0)+IFERROR(VLOOKUP($AC25,[1]pivot集計!$A:$G,E$3,FALSE),0)+IFERROR(VLOOKUP($AD25,[1]pivot集計!$A:$G,E$3,FALSE),0)+IFERROR(VLOOKUP($AE25,[1]pivot集計!$A:$G,E$3,FALSE),0)+IFERROR(VLOOKUP($AF25,[1]pivot集計!$A:$G,E$3,FALSE),0)+IFERROR(VLOOKUP($AG25,[1]pivot集計!$A:$G,E$3,FALSE),0)+IFERROR(VLOOKUP($AH25,[1]pivot集計!$A:$G,E$3,FALSE),0)+IFERROR(VLOOKUP($AI25,[1]pivot集計!$A:$G,E$3,FALSE),0)+IFERROR(VLOOKUP($AJ25,[1]pivot集計!$A:$G,E$3,FALSE),0)+IFERROR(VLOOKUP($AK25,[1]pivot集計!$A:$G,E$3,FALSE),0)+IFERROR(VLOOKUP($AL25,[1]pivot集計!$A:$G,E$3,FALSE),0)+IFERROR(VLOOKUP($AM25,[1]pivot集計!$A:$G,E$3,FALSE),0)+IFERROR(VLOOKUP($AN25,[1]pivot集計!$A:$G,E$3,FALSE),0)+IFERROR(VLOOKUP($AO25,[1]pivot集計!$A:$G,E$3,FALSE),0) -> 560905 | F25: =IFERROR(VLOOKUP($W25,[1]pivot集計!$A:$G,F$3,FALSE),0)+IFERROR(VLOOKUP($X25,[1]pivot集計!$A:$G,F$3,FALSE),0)+IFERROR(VLOOKUP($Y25,[1]pivot集計!$A:$G,F$3,FALSE),0)+IFERROR(VLOOKUP($Z25,[1]pivot集計!$A:$G,F$3,FALSE),0)+IFERROR(VLOOKUP($AA25,[1]pivot集計!$A:$G,F$3,FALSE),0)+IFERROR(VLOOKUP($AB25,[1]pivot集計!$A:$G,F$3,FALSE),0)+IFERROR(VLOOKUP($AC25,[1]pivot集計!$A:$G,F$3,FALSE),0)+IFERROR(VLOOKUP($AD25,[1]pivot集計!$A:$G,F$3,FALSE),0)+IFERROR(VLOOKUP($AE25,[1]pivot集計!$A:$G,F$3,FALSE),0)+IFERROR(VLOOKUP($AF25,[1]pivot集計!$A:$G,F$3,FALSE),0)+IFERROR(VLOOKUP($AG25,[1]pivot集計!$A:$G,F$3,FALSE),0)+IFERROR(VLOOKUP($AH25,[1]pivot集計!$A:$G,F$3,FALSE),0)+IFERROR(VLOOKUP($AI25,[1]pivot集計!$A:$G,F$3,FALSE),0)+IFERROR(VLOOKUP($AJ25,[1]pivot集計!$A:$G,F$3,FALSE),0)+IFERROR(VLOOKUP($AK25,[1]pivot集計!$A:$G,F$3,FALSE),0)+IFERROR(VLOOKUP($AL25,[1]pivot集計!$A:$G,F$3,FALSE),0)+IFERROR(VLOOKUP($AM25,[1]pivot集計!$A:$G,F$3,FALSE),0)+IFERROR(VLOOKUP($AN25,[1]pivot集計!$A:$G,F$3,FALSE),0)+IFERROR(VLOOKUP($AO25,[1]pivot集計!$A:$G,F$3,FALSE),0) -> 641 | G25: =IFERROR(VLOOKUP($W25,[1]pivot集計!$A:$G,G$3,FALSE),0)+IFERROR(VLOOKUP($X25,[1]pivot集計!$A:$G,G$3,FALSE),0)+IFERROR(VLOOKUP($Y25,[1]pivot集計!$A:$G,G$3,FALSE),0)+IFERROR(VLOOKUP($Z25,[1]pivot集計!$A:$G,G$3,FALSE),0)+IFERROR(VLOOKUP($AA25,[1]pivot集計!$A:$G,G$3,FALSE),0)+IFERROR(VLOOKUP($AB25,[1]pivot集計!$A:$G,G$3,FALSE),0)+IFERROR(VLOOKUP($AC25,[1]pivot集計!$A:$G,G$3,FALSE),0)+IFERROR(VLOOKUP($AD25,[1]pivot集計!$A:$G,G$3,FALSE),0)+IFERROR(VLOOKUP($AE25,[1]pivot集計!$A:$G,G$3,FALSE),0)+IFERROR(VLOOKUP($AF25,[1]pivot集計!$A:$G,G$3,FALSE),0)+IFERROR(VLOOKUP($AG25,[1]pivot集計!$A:$G,G$3,FALSE),0)+IFERROR(VLOOKUP($AH25,[1]pivot集計!$A:$G,G$3,FALSE),0)+IFERROR(VLOOKUP($AI25,[1]pivot集計!$A:$G,G$3,FALSE),0)+IFERROR(VLOOKUP($AJ25,[1]pivot集計!$A:$G,G$3,FALSE),0)+IFERROR(VLOOKUP($AK25,[1]pivot集計!$A:$G,G$3,FALSE),0)+IFERROR(VLOOKUP($AL25,[1]pivot集計!$A:$G,G$3,FALSE),0)+IFERROR(VLOOKUP($AM25,[1]pivot集計!$A:$G,G$3,FALSE),0)+IFERROR(VLOOKUP($AN25,[1]pivot集計!$A:$G,G$3,FALSE),0)+IFERROR(VLOOKUP($AO25,[1]pivot集計!$A:$G,G$3,FALSE),0) -> 0 | H25: =IFERROR(VLOOKUP($W25,[1]pivot集計!$A:$G,H$3,FALSE),0)+IFERROR(VLOOKUP($X25,[1]pivot集計!$A:$G,H$3,FALSE),0)+IFERROR(VLOOKUP($Y25,[1]pivot集計!$A:$G,H$3,FALSE),0)+IFERROR(VLOOKUP($Z25,[1]pivot集計!$A:$G,H$3,FALSE),0)+IFERROR(VLOOKUP($AA25,[1]pivot集計!$A:$G,H$3,FALSE),0)+IFERROR(VLOOKUP($AB25,[1]pivot集計!$A:$G,H$3,FALSE),0)+IFERROR(VLOOKUP($AC25,[1]pivot集計!$A:$G,H$3,FALSE),0)+IFERROR(VLOOKUP($AD25,[1]pivot集計!$A:$G,H$3,FALSE),0)+IFERROR(VLOOKUP($AE25,[1]pivot集計!$A:$G,H$3,FALSE),0)+IFERROR(VLOOKUP($AF25,[1]pivot集計!$A:$G,H$3,FALSE),0)+IFERROR(VLOOKUP($AG25,[1]pivot集計!$A:$G,H$3,FALSE),0)+IFERROR(VLOOKUP($AH25,[1]pivot集計!$A:$G,H$3,FALSE),0)+IFERROR(VLOOKUP($AI25,[1]pivot集計!$A:$G,H$3,FALSE),0)+IFERROR(VLOOKUP($AJ25,[1]pivot集計!$A:$G,H$3,FALSE),0)+IFERROR(VLOOKUP($AK25,[1]pivot集計!$A:$G,H$3,FALSE),0)+IFERROR(VLOOKUP($AL25,[1]pivot集計!$A:$G,H$3,FALSE),0)+IFERROR(VLOOKUP($AM25,[1]pivot集計!$A:$G,H$3,FALSE),0)+IFERROR(VLOOKUP($AN25,[1]pivot集計!$A:$G,H$3,FALSE),0)+IFERROR(VLOOKUP($AO25,[1]pivot集計!$A:$G,H$3,FALSE),0) -> 0 | I25: =IFERROR(VLOOKUP($W25,[1]pivot集計!$A:$G,I$3,FALSE),0)+IFERROR(VLOOKUP($X25,[1]pivot集計!$A:$G,I$3,FALSE),0)+IFERROR(VLOOKUP($Y25,[1]pivot集計!$A:$G,I$3,FALSE),0)+IFERROR(VLOOKUP($Z25,[1]pivot集計!$A:$G,I$3,FALSE),0)+IFERROR(VLOOKUP($AA25,[1]pivot集計!$A:$G,I$3,FALSE),0)+IFERROR(VLOOKUP($AB25,[1]pivot集計!$A:$G,I$3,FALSE),0)+IFERROR(VLOOKUP($AC25,[1]pivot集計!$A:$G,I$3,FALSE),0)+IFERROR(VLOOKUP($AD25,[1]pivot集計!$A:$G,I$3,FALSE),0)+IFERROR(VLOOKUP($AE25,[1]pivot集計!$A:$G,I$3,FALSE),0)+IFERROR(VLOOKUP($AF25,[1]pivot集計!$A:$G,I$3,FALSE),0)+IFERROR(VLOOKUP($AG25,[1]pivot集計!$A:$G,I$3,FALSE),0)+IFERROR(VLOOKUP($AH25,[1]pivot集計!$A:$G,I$3,FALSE),0)+IFERROR(VLOOKUP($AI25,[1]pivot集計!$A:$G,I$3,FALSE),0)+IFERROR(VLOOKUP($AJ25,[1]pivot集計!$A:$G,I$3,FALSE),0)+IFERROR(VLOOKUP($AK25,[1]pivot集計!$A:$G,I$3,FALSE),0)+IFERROR(VLOOKUP($AL25,[1]pivot集計!$A:$G,I$3,FALSE),0)+IFERROR(VLOOKUP($AM25,[1]pivot集計!$A:$G,I$3,FALSE),0)+IFERROR(VLOOKUP($AN25,[1]pivot集計!$A:$G,I$3,FALSE),0)+IFERROR(VLOOKUP($AO25,[1]pivot集計!$A:$G,I$3,FALSE),0) -> 50075 | J25: =SUM(E25:I25) -> 611621 | N25: 21 | O25: 塗料 | P25: =E25/$E$58 -> 0.0044010571 | Q25: =F25/$F$58 -> 0.00016575004 | R25: =G25/$G$58 -> 0 | S25: =H25/$H$58 -> 0 | T25: =I25/$I$58 -> 0.00048894657 | U25: =J25/$J$58 -> 0.0025487823 | W25: 合計 / ③-01
C26: 22 | D26: 産業用火薬類 | E26: =IFERROR(VLOOKUP($W26,[1]pivot集計!$A:$G,E$3,FALSE),0)+IFERROR(VLOOKUP($X26,[1]pivot集計!$A:$G,E$3,FALSE),0)+IFERROR(VLOOKUP($Y26,[1]pivot集計!$A:$G,E$3,FALSE),0)+IFERROR(VLOOKUP($Z26,[1]pivot集計!$A:$G,E$3,FALSE),0)+IFERROR(VLOOKUP($AA26,[1]pivot集計!$A:$G,E$3,FALSE),0)+IFERROR(VLOOKUP($AB26,[1]pivot集計!$A:$G,E$3,FALSE),0)+IFERROR(VLOOKUP($AC26,[1]pivot集計!$A:$G,E$3,FALSE),0)+IFERROR(VLOOKUP($AD26,[1]pivot集計!$A:$G,E$3,FALSE),0)+IFERROR(VLOOKUP($AE26,[1]pivot集計!$A:$G,E$3,FALSE),0)+IFERROR(VLOOKUP($AF26,[1]pivot集計!$A:$G,E$3,FALSE),0)+IFERROR(VLOOKUP($AG26,[1]pivot集計!$A:$G,E$3,FALSE),0)+IFERROR(VLOOKUP($AH26,[1]pivot集計!$A:$G,E$3,FALSE),0)+IFERROR(VLOOKUP($AI26,[1]pivot集計!$A:$G,E$3,FALSE),0)+IFERROR(VLOOKUP($AJ26,[1]pivot集計!$A:$G,E$3,FALSE),0)+IFERROR(VLOOKUP($AK26,[1]pivot集計!$A:$G,E$3,FALSE),0)+IFERROR(VLOOKUP($AL26,[1]pivot集計!$A:$G,E$3,FALSE),0)+IFERROR(VLOOKUP($AM26,[1]pivot集計!$A:$G,E$3,FALSE),0)+IFERROR(VLOOKUP($AN26,[1]pivot集計!$A:$G,E$3,FALSE),0)+IFERROR(VLOOKUP($AO26,[1]pivot集計!$A:$G,E$3,FALSE),0) -> 455601 | F26: =IFERROR(VLOOKUP($W26,[1]pivot集計!$A:$G,F$3,FALSE),0)+IFERROR(VLOOKUP($X26,[1]pivot集計!$A:$G,F$3,FALSE),0)+IFERROR(VLOOKUP($Y26,[1]pivot集計!$A:$G,F$3,FALSE),0)+IFERROR(VLOOKUP($Z26,[1]pivot集計!$A:$G,F$3,FALSE),0)+IFERROR(VLOOKUP($AA26,[1]pivot集計!$A:$G,F$3,FALSE),0)+IFERROR(VLOOKUP($AB26,[1]pivot集計!$A:$G,F$3,FALSE),0)+IFERROR(VLOOKUP($AC26,[1]pivot集計!$A:$G,F$3,FALSE),0)+IFERROR(VLOOKUP($AD26,[1]pivot集計!$A:$G,F$3,FALSE),0)+IFERROR(VLOOKUP($AE26,[1]pivot集計!$A:$G,F$3,FALSE),0)+IFERROR(VLOOKUP($AF26,[1]pivot集計!$A:$G,F$3,FALSE),0)+IFERROR(VLOOKUP($AG26,[1]pivot集計!$A:$G,F$3,FALSE),0)+IFERROR(VLOOKUP($AH26,[1]pivot集計!$A:$G,F$3,FALSE),0)+IFERROR(VLOOKUP($AI26,[1]pivot集計!$A:$G,F$3,FALSE),0)+IFERROR(VLOOKUP($AJ26,[1]pivot集計!$A:$G,F$3,FALSE),0)+IFERROR(VLOOKUP($AK26,[1]pivot集計!$A:$G,F$3,FALSE),0)+IFERROR(VLOOKUP($AL26,[1]pivot集計!$A:$G,F$3,FALSE),0)+IFERROR(VLOOKUP($AM26,[1]pivot集計!$A:$G,F$3,FALSE),0)+IFERROR(VLOOKUP($AN26,[1]pivot集計!$A:$G,F$3,FALSE),0)+IFERROR(VLOOKUP($AO26,[1]pivot集計!$A:$G,F$3,FALSE),0) -> 0 | G26: =IFERROR(VLOOKUP($W26,[1]pivot集計!$A:$G,G$3,FALSE),0)+IFERROR(VLOOKUP($X26,[1]pivot集計!$A:$G,G$3,FALSE),0)+IFERROR(VLOOKUP($Y26,[1]pivot集計!$A:$G,G$3,FALSE),0)+IFERROR(VLOOKUP($Z26,[1]pivot集計!$A:$G,G$3,FALSE),0)+IFERROR(VLOOKUP($AA26,[1]pivot集計!$A:$G,G$3,FALSE),0)+IFERROR(VLOOKUP($AB26,[1]pivot集計!$A:$G,G$3,FALSE),0)+IFERROR(VLOOKUP($AC26,[1]pivot集計!$A:$G,G$3,FALSE),0)+IFERROR(VLOOKUP($AD26,[1]pivot集計!$A:$G,G$3,FALSE),0)+IFERROR(VLOOKUP($AE26,[1]pivot集計!$A:$G,G$3,FALSE),0)+IFERROR(VLOOKUP($AF26,[1]pivot集計!$A:$G,G$3,FALSE),0)+IFERROR(VLOOKUP($AG26,[1]pivot集計!$A:$G,G$3,FALSE),0)+IFERROR(VLOOKUP($AH26,[1]pivot集計!$A:$G,G$3,FALSE),0)+IFERROR(VLOOKUP($AI26,[1]pivot集計!$A:$G,G$3,FALSE),0)+IFERROR(VLOOKUP($AJ26,[1]pivot集計!$A:$G,G$3,FALSE),0)+IFERROR(VLOOKUP($AK26,[1]pivot集計!$A:$G,G$3,FALSE),0)+IFERROR(VLOOKUP($AL26,[1]pivot集計!$A:$G,G$3,FALSE),0)+IFERROR(VLOOKUP($AM26,[1]pivot集計!$A:$G,G$3,FALSE),0)+IFERROR(VLOOKUP($AN26,[1]pivot集計!$A:$G,G$3,FALSE),0)+IFERROR(VLOOKUP($AO26,[1]pivot集計!$A:$G,G$3,FALSE),0) -> 0 | H26: =IFERROR(VLOOKUP($W26,[1]pivot集計!$A:$G,H$3,FALSE),0)+IFERROR(VLOOKUP($X26,[1]pivot集計!$A:$G,H$3,FALSE),0)+IFERROR(VLOOKUP($Y26,[1]pivot集計!$A:$G,H$3,FALSE),0)+IFERROR(VLOOKUP($Z26,[1]pivot集計!$A:$G,H$3,FALSE),0)+IFERROR(VLOOKUP($AA26,[1]pivot集計!$A:$G,H$3,FALSE),0)+IFERROR(VLOOKUP($AB26,[1]pivot集計!$A:$G,H$3,FALSE),0)+IFERROR(VLOOKUP($AC26,[1]pivot集計!$A:$G,H$3,FALSE),0)+IFERROR(VLOOKUP($AD26,[1]pivot集計!$A:$G,H$3,FALSE),0)+IFERROR(VLOOKUP($AE26,[1]pivot集計!$A:$G,H$3,FALSE),0)+IFERROR(VLOOKUP($AF26,[1]pivot集計!$A:$G,H$3,FALSE),0)+IFERROR(VLOOKUP($AG26,[1]pivot集計!$A:$G,H$3,FALSE),0)+IFERROR(VLOOKUP($AH26,[1]pivot集計!$A:$G,H$3,FALSE),0)+IFERROR(VLOOKUP($AI26,[1]pivot集計!$A:$G,H$3,FALSE),0)+IFERROR(VLOOKUP($AJ26,[1]pivot集計!$A:$G,H$3,FALSE),0)+IFERROR(VLOOKUP($AK26,[1]pivot集計!$A:$G,H$3,FALSE),0)+IFERROR(VLOOKUP($AL26,[1]pivot集計!$A:$G,H$3,FALSE),0)+IFERROR(VLOOKUP($AM26,[1]pivot集計!$A:$G,H$3,FALSE),0)+IFERROR(VLOOKUP($AN26,[1]pivot集計!$A:$G,H$3,FALSE),0)+IFERROR(VLOOKUP($AO26,[1]pivot集計!$A:$G,H$3,FALSE),0) -> 0 | I26: =IFERROR(VLOOKUP($W26,[1]pivot集計!$A:$G,I$3,FALSE),0)+IFERROR(VLOOKUP($X26,[1]pivot集計!$A:$G,I$3,FALSE),0)+IFERROR(VLOOKUP($Y26,[1]pivot集計!$A:$G,I$3,FALSE),0)+IFERROR(VLOOKUP($Z26,[1]pivot集計!$A:$G,I$3,FALSE),0)+IFERROR(VLOOKUP($AA26,[1]pivot集計!$A:$G,I$3,FALSE),0)+IFERROR(VLOOKUP($AB26,[1]pivot集計!$A:$G,I$3,FALSE),0)+IFERROR(VLOOKUP($AC26,[1]pivot集計!$A:$G,I$3,FALSE),0)+IFERROR(VLOOKUP($AD26,[1]pivot集計!$A:$G,I$3,FALSE),0)+IFERROR(VLOOKUP($AE26,[1]pivot集計!$A:$G,I$3,FALSE),0)+IFERROR(VLOOKUP($AF26,[1]pivot集計!$A:$G,I$3,FALSE),0)+IFERROR(VLOOKUP($AG26,[1]pivot集計!$A:$G,I$3,FALSE),0)+IFERROR(VLOOKUP($AH26,[1]pivot集計!$A:$G,I$3,FALSE),0)+IFERROR(VLOOKUP($AI26,[1]pivot集計!$A:$G,I$3,FALSE),0)+IFERROR(VLOOKUP($AJ26,[1]pivot集計!$A:$G,I$3,FALSE),0)+IFERROR(VLOOKUP($AK26,[1]pivot集計!$A:$G,I$3,FALSE),0)+IFERROR(VLOOKUP($AL26,[1]pivot集計!$A:$G,I$3,FALSE),0)+IFERROR(VLOOKUP($AM26,[1]pivot集計!$A:$G,I$3,FALSE),0)+IFERROR(VLOOKUP($AN26,[1]pivot集計!$A:$G,I$3,FALSE),0)+IFERROR(VLOOKUP($AO26,[1]pivot集計!$A:$G,I$3,FALSE),0) -> 391837 | J26: =SUM(E26:I26) -> 847438 | N26: 22 | O26: 産業用火薬類 | P26: =E26/$E$58 -> 0.003574805 | Q26: =F26/$F$58 -> 0 | R26: =G26/$G$58 -> 0 | S26: =H26/$H$58 -> 0 | T26: =I26/$I$58 -> 0.0038260082 | U26: =J26/$J$58 -> 0.0035314925 | W26: 合計 / ③-02
C27: 23 | D27: プラスチック製品 | E27: =IFERROR(VLOOKUP($W27,[1]pivot集計!$A:$G,E$3,FALSE),0)+IFERROR(VLOOKUP($X27,[1]pivot集計!$A:$G,E$3,FALSE),0)+IFERROR(VLOOKUP($Y27,[1]pivot集計!$A:$G,E$3,FALSE),0)+IFERROR(VLOOKUP($Z27,[1]pivot集計!$A:$G,E$3,FALSE),0)+IFERROR(VLOOKUP($AA27,[1]pivot集計!$A:$G,E$3,FALSE),0)+IFERROR(VLOOKUP($AB27,[1]pivot集計!$A:$G,E$3,FALSE),0)+IFERROR(VLOOKUP($AC27,[1]pivot集計!$A:$G,E$3,FALSE),0)+IFERROR(VLOOKUP($AD27,[1]pivot集計!$A:$G,E$3,FALSE),0)+IFERROR(VLOOKUP($AE27,[1]pivot集計!$A:$G,E$3,FALSE),0)+IFERROR(VLOOKUP($AF27,[1]pivot集計!$A:$G,E$3,FALSE),0)+IFERROR(VLOOKUP($AG27,[1]pivot集計!$A:$G,E$3,FALSE),0)+IFERROR(VLOOKUP($AH27,[1]pivot集計!$A:$G,E$3,FALSE),0)+IFERROR(VLOOKUP($AI27,[1]pivot集計!$A:$G,E$3,FALSE),0)+IFERROR(VLOOKUP($AJ27,[1]pivot集計!$A:$G,E$3,FALSE),0)+IFERROR(VLOOKUP($AK27,[1]pivot集計!$A:$G,E$3,FALSE),0)+IFERROR(VLOOKUP($AL27,[1]pivot集計!$A:$G,E$3,FALSE),0)+IFERROR(VLOOKUP($AM27,[1]pivot集計!$A:$G,E$3,FALSE),0)+IFERROR(VLOOKUP($AN27,[1]pivot集計!$A:$G,E$3,FALSE),0)+IFERROR(VLOOKUP($AO27,[1]pivot集計!$A:$G,E$3,FALSE),0) -> 839531 | F27: =IFERROR(VLOOKUP($W27,[1]pivot集計!$A:$G,F$3,FALSE),0)+IFERROR(VLOOKUP($X27,[1]pivot集計!$A:$G,F$3,FALSE),0)+IFERROR(VLOOKUP($Y27,[1]pivot集計!$A:$G,F$3,FALSE),0)+IFERROR(VLOOKUP($Z27,[1]pivot集計!$A:$G,F$3,FALSE),0)+IFERROR(VLOOKUP($AA27,[1]pivot集計!$A:$G,F$3,FALSE),0)+IFERROR(VLOOKUP($AB27,[1]pivot集計!$A:$G,F$3,FALSE),0)+IFERROR(VLOOKUP($AC27,[1]pivot集計!$A:$G,F$3,FALSE),0)+IFERROR(VLOOKUP($AD27,[1]pivot集計!$A:$G,F$3,FALSE),0)+IFERROR(VLOOKUP($AE27,[1]pivot集計!$A:$G,F$3,FALSE),0)+IFERROR(VLOOKUP($AF27,[1]pivot集計!$A:$G,F$3,FALSE),0)+IFERROR(VLOOKUP($AG27,[1]pivot集計!$A:$G,F$3,FALSE),0)+IFERROR(VLOOKUP($AH27,[1]pivot集計!$A:$G,F$3,FALSE),0)+IFERROR(VLOOKUP($AI27,[1]pivot集計!$A:$G,F$3,FALSE),0)+IFERROR(VLOOKUP($AJ27,[1]pivot集計!$A:$G,F$3,FALSE),0)+IFERROR(VLOOKUP($AK27,[1]pivot集計!$A:$G,F$3,FALSE),0)+IFERROR(VLOOKUP($AL27,[1]pivot集計!$A:$G,F$3,FALSE),0)+IFERROR(VLOOKUP($AM27,[1]pivot集計!$A:$G,F$3,FALSE),0)+IFERROR(VLOOKUP($AN27,[1]pivot集計!$A:$G,F$3,FALSE),0)+IFERROR(VLOOKUP($AO27,[1]pivot集計!$A:$G,F$3,FALSE),0) -> 44822 | G27: =IFERROR(VLOOKUP($W27,[1]pivot集計!$A:$G,G$3,FALSE),0)+IFERROR(VLOOKUP($X27,[1]pivot集計!$A:$G,G$3,FALSE),0)+IFERROR(VLOOKUP($Y27,[1]pivot集計!$A:$G,G$3,FALSE),0)+IFERROR(VLOOKUP($Z27,[1]pivot集計!$A:$G,G$3,FALSE),0)+IFERROR(VLOOKUP($AA27,[1]pivot集計!$A:$G,G$3,FALSE),0)+IFERROR(VLOOKUP($AB27,[1]pivot集計!$A:$G,G$3,FALSE),0)+IFERROR(VLOOKUP($AC27,[1]pivot集計!$A:$G,G$3,FALSE),0)+IFERROR(VLOOKUP($AD27,[1]pivot集計!$A:$G,G$3,FALSE),0)+IFERROR(VLOOKUP($AE27,[1]pivot集計!$A:$G,G$3,FALSE),0)+IFERROR(VLOOKUP($AF27,[1]pivot集計!$A:$G,G$3,FALSE),0)+IFERROR(VLOOKUP($AG27,[1]pivot集計!$A:$G,G$3,FALSE),0)+IFERROR(VLOOKUP($AH27,[1]pivot集計!$A:$G,G$3,FALSE),0)+IFERROR(VLOOKUP($AI27,[1]pivot集計!$A:$G,G$3,FALSE),0)+IFERROR(VLOOKUP($AJ27,[1]pivot集計!$A:$G,G$3,FALSE),0)+IFERROR(VLOOKUP($AK27,[1]pivot集計!$A:$G,G$3,FALSE),0)+IFERROR(VLOOKUP($AL27,[1]pivot集計!$A:$G,G$3,FALSE),0)+IFERROR(VLOOKUP($AM27,[1]pivot集計!$A:$G,G$3,FALSE),0)+IFERROR(VLOOKUP($AN27,[1]pivot集計!$A:$G,G$3,FALSE),0)+IFERROR(VLOOKUP($AO27,[1]pivot集計!$A:$G,G$3,FALSE),0) -> 0 | H27: =IFERROR(VLOOKUP($W27,[1]pivot集計!$A:$G,H$3,FALSE),0)+IFERROR(VLOOKUP($X27,[1]pivot集計!$A:$G,H$3,FALSE),0)+IFERROR(VLOOKUP($Y27,[1]pivot集計!$A:$G,H$3,FALSE),0)+IFERROR(VLOOKUP($Z27,[1]pivot集計!$A:$G,H$3,FALSE),0)+IFERROR(VLOOKUP($AA27,[1]pivot集計!$A:$G,H$3,FALSE),0)+IFERROR(VLOOKUP($AB27,[1]pivot集計!$A:$G,H$3,FALSE),0)+IFERROR(VLOOKUP($AC27,[1]pivot集計!$A:$G,H$3,FALSE),0)+IFERROR(VLOOKUP($AD27,[1]pivot集計!$A:$G,H$3,FALSE),0)+IFERROR(VLOOKUP($AE27,[1]pivot集計!$A:$G,H$3,FALSE),0)+IFERROR(VLOOKUP($AF27,[1]pivot集計!$A:$G,H$3,FALSE),0)+IFERROR(VLOOKUP($AG27,[1]pivot集計!$A:$G,H$3,FALSE),0)+IFERROR(VLOOKUP($AH27,[1]pivot集計!$A:$G,H$3,FALSE),0)+IFERROR(VLOOKUP($AI27,[1]pivot集計!$A:$G,H$3,FALSE),0)+IFERROR(VLOOKUP($AJ27,[1]pivot集計!$A:$G,H$3,FALSE),0)+IFERROR(VLOOKUP($AK27,[1]pivot集計!$A:$G,H$3,FALSE),0)+IFERROR(VLOOKUP($AL27,[1]pivot集計!$A:$G,H$3,FALSE),0)+IFERROR(VLOOKUP($AM27,[1]pivot集計!$A:$G,H$3,FALSE),0)+IFERROR(VLOOKUP($AN27,[1]pivot集計!$A:$G,H$3,FALSE),0)+IFERROR(VLOOKUP($AO27,[1]pivot集計!$A:$G,H$3,FALSE),0) -> 403 | I27: =IFERROR(VLOOKUP($W27,[1]pivot集計!$A:$G,I$3,FALSE),0)+IFERROR(VLOOKUP($X27,[1]pivot集計!$A:$G,I$3,FALSE),0)+IFERROR(VLOOKUP($Y27,[1]pivot集計!$A:$G,I$3,FALSE),0)+IFERROR(VLOOKUP($Z27,[1]pivot集計!$A:$G,I$3,FALSE),0)+IFERROR(VLOOKUP($AA27,[1]pivot集計!$A:$G,I$3,FALSE),0)+IFERROR(VLOOKUP($AB27,[1]pivot集計!$A:$G,I$3,FALSE),0)+IFERROR(VLOOKUP($AC27,[1]pivot集計!$A:$G,I$3,FALSE),0)+IFERROR(VLOOKUP($AD27,[1]pivot集計!$A:$G,I$3,FALSE),0)+IFERROR(VLOOKUP($AE27,[1]pivot集計!$A:$G,I$3,FALSE),0)+IFERROR(VLOOKUP($AF27,[1]pivot集計!$A:$G,I$3,FALSE),0)+IFERROR(VLOOKUP($AG27,[1]pivot集計!$A:$G,I$3,FALSE),0)+IFERROR(VLOOKUP($AH27,[1]pivot集計!$A:$G,I$3,FALSE),0)+IFERROR(VLOOKUP($AI27,[1]pivot集計!$A:$G,I$3,FALSE),0)+IFERROR(VLOOKUP($AJ27,[1]pivot集計!$A:$G,I$3,FALSE),0)+IFERROR(VLOOKUP($AK27,[1]pivot集計!$A:$G,I$3,FALSE),0)+IFERROR(VLOOKUP($AL27,[1]pivot集計!$A:$G,I$3,FALSE),0)+IFERROR(VLOOKUP($AM27,[1]pivot集計!$A:$G,I$3,FALSE),0)+IFERROR(VLOOKUP($AN27,[1]pivot集計!$A:$G,I$3,FALSE),0)+IFERROR(VLOOKUP($AO27,[1]pivot集計!$A:$G,I$3,FALSE),0) -> 574671.88 | J27: =SUM(E27:I27) -> 1459427.9 | N27: 23 | O27: プラスチック製品 | P27: =E27/$E$58 -> 0.0065872542 | Q27: =F27/$F$58 -> 0.011590091 | R27: =G27/$G$58 -> 0 | S27: =H27/$H$58 -> 8.8604845e-05 | T27: =I27/$I$58 -> 0.00561126 | U27: =J27/$J$58 -> 0.0060818119 | W27: 合計 / ③-03 | X27: 合計 / ③-04 | Y27: 合計 / ③-05 | Z27: 合計 / ③-06 | AA27: 合計 / ③-07
C28: 24 | D28: ゴム製品 | E28: =IFERROR(VLOOKUP($W28,[1]pivot集計!$A:$G,E$3,FALSE),0)+IFERROR(VLOOKUP($X28,[1]pivot集計!$A:$G,E$3,FALSE),0)+IFERROR(VLOOKUP($Y28,[1]pivot集計!$A:$G,E$3,FALSE),0)+IFERROR(VLOOKUP($Z28,[1]pivot集計!$A:$G,E$3,FALSE),0)+IFERROR(VLOOKUP($AA28,[1]pivot集計!$A:$G,E$3,FALSE),0)+IFERROR(VLOOKUP($AB28,[1]pivot集計!$A:$G,E$3,FALSE),0)+IFERROR(VLOOKUP($AC28,[1]pivot集計!$A:$G,E$3,FALSE),0)+IFERROR(VLOOKUP($AD28,[1]pivot集計!$A:$G,E$3,FALSE),0)+IFERROR(VLOOKUP($AE28,[1]pivot集計!$A:$G,E$3,FALSE),0)+IFERROR(VLOOKUP($AF28,[1]pivot集計!$A:$G,E$3,FALSE),0)+IFERROR(VLOOKUP($AG28,[1]pivot集計!$A:$G,E$3,FALSE),0)+IFERROR(VLOOKUP($AH28,[1]pivot集計!$A:$G,E$3,FALSE),0)+IFERROR(VLOOKUP($AI28,[1]pivot集計!$A:$G,E$3,FALSE),0)+IFERROR(VLOOKUP($AJ28,[1]pivot集計!$A:$G,E$3,FALSE),0)+IFERROR(VLOOKUP($AK28,[1]pivot集計!$A:$G,E$3,FALSE),0)+IFERROR(VLOOKUP($AL28,[1]pivot集計!$A:$G,E$3,FALSE),0)+IFERROR(VLOOKUP($AM28,[1]pivot集計!$A:$G,E$3,FALSE),0)+IFERROR(VLOOKUP($AN28,[1]pivot集計!$A:$G,E$3,FALSE),0)+IFERROR(VLOOKUP($AO28,[1]pivot集計!$A:$G,E$3,FALSE),0) -> 3303037 | F28: =IFERROR(VLOOKUP($W28,[1]pivot集計!$A:$G,F$3,FALSE),0)+IFERROR(VLOOKUP($X28,[1]pivot集計!$A:$G,F$3,FALSE),0)+IFERROR(VLOOKUP($Y28,[1]pivot集計!$A:$G,F$3,FALSE),0)+IFERROR(VLOOKUP($Z28,[1]pivot集計!$A:$G,F$3,FALSE),0)+IFERROR(VLOOKUP($AA28,[1]pivot集計!$A:$G,F$3,FALSE),0)+IFERROR(VLOOKUP($AB28,[1]pivot集計!$A:$G,F$3,FALSE),0)+IFERROR(VLOOKUP($AC28,[1]pivot集計!$A:$G,F$3,FALSE),0)+IFERROR(VLOOKUP($AD28,[1]pivot集計!$A:$G,F$3,FALSE),0)+IFERROR(VLOOKUP($AE28,[1]pivot集計!$A:$G,F$3,FALSE),0)+IFERROR(VLOOKUP($AF28,[1]pivot集計!$A:$G,F$3,FALSE),0)+IFERROR(VLOOKUP($AG28,[1]pivot集計!$A:$G,F$3,FALSE),0)+IFERROR(VLOOKUP($AH28,[1]pivot集計!$A:$G,F$3,FALSE),0)+IFERROR(VLOOKUP($AI28,[1]pivot集計!$A:$G,F$3,FALSE),0)+IFERROR(VLOOKUP($AJ28,[1]pivot集計!$A:$G,F$3,FALSE),0)+IFERROR(VLOOKUP($AK28,[1]pivot集計!$A:$G,F$3,FALSE),0)+IFERROR(VLOOKUP($AL28,[1]pivot集計!$A:$G,F$3,FALSE),0)+IFERROR(VLOOKUP($AM28,[1]pivot集計!$A:$G,F$3,FALSE),0)+IFERROR(VLOOKUP($AN28,[1]pivot集計!$A:$G,F$3,FALSE),0)+IFERROR(VLOOKUP($AO28,[1]pivot集計!$A:$G,F$3,FALSE),0) -> 10423 | G28: =IFERROR(VLOOKUP($W28,[1]pivot集計!$A:$G,G$3,FALSE),0)+IFERROR(VLOOKUP($X28,[1]pivot集計!$A:$G,G$3,FALSE),0)+IFERROR(VLOOKUP($Y28,[1]pivot集計!$A:$G,G$3,FALSE),0)+IFERROR(VLOOKUP($Z28,[1]pivot集計!$A:$G,G$3,FALSE),0)+IFERROR(VLOOKUP($AA28,[1]pivot集計!$A:$G,G$3,FALSE),0)+IFERROR(VLOOKUP($AB28,[1]pivot集計!$A:$G,G$3,FALSE),0)+IFERROR(VLOOKUP($AC28,[1]pivot集計!$A:$G,G$3,FALSE),0)+IFERROR(VLOOKUP($AD28,[1]pivot集計!$A:$G,G$3,FALSE),0)+IFERROR(VLOOKUP($AE28,[1]pivot集計!$A:$G,G$3,FALSE),0)+IFERROR(VLOOKUP($AF28,[1]pivot集計!$A:$G,G$3,FALSE),0)+IFERROR(VLOOKUP($AG28,[1]pivot集計!$A:$G,G$3,FALSE),0)+IFERROR(VLOOKUP($AH28,[1]pivot集計!$A:$G,G$3,FALSE),0)+IFERROR(VLOOKUP($AI28,[1]pivot集計!$A:$G,G$3,FALSE),0)+IFERROR(VLOOKUP($AJ28,[1]pivot集計!$A:$G,G$3,FALSE),0)+IFERROR(VLOOKUP($AK28,[1]pivot集計!$A:$G,G$3,FALSE),0)+IFERROR(VLOOKUP($AL28,[1]pivot集計!$A:$G,G$3,FALSE),0)+IFERROR(VLOOKUP($AM28,[1]pivot集計!$A:$G,G$3,FALSE),0)+IFERROR(VLOOKUP($AN28,[1]pivot集計!$A:$G,G$3,FALSE),0)+IFERROR(VLOOKUP($AO28,[1]pivot集計!$A:$G,G$3,FALSE),0) -> 116128 | H28: =IFERROR(VLOOKUP($W28,[1]pivot集計!$A:$G,H$3,FALSE),0)+IFERROR(VLOOKUP($X28,[1]pivot集計!$A:$G,H$3,FALSE),0)+IFERROR(VLOOKUP($Y28,[1]pivot集計!$A:$G,H$3,FALSE),0)+IFERROR(VLOOKUP($Z28,[1]pivot集計!$A:$G,H$3,FALSE),0)+IFERROR(VLOOKUP($AA28,[1]pivot集計!$A:$G,H$3,FALSE),0)+IFERROR(VLOOKUP($AB28,[1]pivot集計!$A:$G,H$3,FALSE),0)+IFERROR(VLOOKUP($AC28,[1]pivot集計!$A:$G,H$3,FALSE),0)+IFERROR(VLOOKUP($AD28,[1]pivot集計!$A:$G,H$3,FALSE),0)+IFERROR(VLOOKUP($AE28,[1]pivot集計!$A:$G,H$3,FALSE),0)+IFERROR(VLOOKUP($AF28,[1]pivot集計!$A:$G,H$3,FALSE),0)+IFERROR(VLOOKUP($AG28,[1]pivot集計!$A:$G,H$3,FALSE),0)+IFERROR(VLOOKUP($AH28,[1]pivot集計!$A:$G,H$3,FALSE),0)+IFERROR(VLOOKUP($AI28,[1]pivot集計!$A:$G,H$3,FALSE),0)+IFERROR(VLOOKUP($AJ28,[1]pivot集計!$A:$G,H$3,FALSE),0)+IFERROR(VLOOKUP($AK28,[1]pivot集計!$A:$G,H$3,FALSE),0)+IFERROR(VLOOKUP($AL28,[1]pivot集計!$A:$G,H$3,FALSE),0)+IFERROR(VLOOKUP($AM28,[1]pivot集計!$A:$G,H$3,FALSE),0)+IFERROR(VLOOKUP($AN28,[1]pivot集計!$A:$G,H$3,FALSE),0)+IFERROR(VLOOKUP($AO28,[1]pivot集計!$A:$G,H$3,FALSE),0) -> 10 | I28: =IFERROR(VLOOKUP($W28,[1]pivot集計!$A:$G,I$3,FALSE),0)+IFERROR(VLOOKUP($X28,[1]pivot集計!$A:$G,I$3,FALSE),0)+IFERROR(VLOOKUP($Y28,[1]pivot集計!$A:$G,I$3,FALSE),0)+IFERROR(VLOOKUP($Z28,[1]pivot集計!$A:$G,I$3,FALSE),0)+IFERROR(VLOOKUP($AA28,[1]pivot集計!$A:$G,I$3,FALSE),0)+IFERROR(VLOOKUP($AB28,[1]pivot集計!$A:$G,I$3,FALSE),0)+IFERROR(VLOOKUP($AC28,[1]pivot集計!$A:$G,I$3,FALSE),0)+IFERROR(VLOOKUP($AD28,[1]pivot集計!$A:$G,I$3,FALSE),0)+IFERROR(VLOOKUP($AE28,[1]pivot集計!$A:$G,I$3,FALSE),0)+IFERROR(VLOOKUP($AF28,[1]pivot集計!$A:$G,I$3,FALSE),0)+IFERROR(VLOOKUP($AG28,[1]pivot集計!$A:$G,I$3,FALSE),0)+IFERROR(VLOOKUP($AH28,[1]pivot集計!$A:$G,I$3,FALSE),0)+IFERROR(VLOOKUP($AI28,[1]pivot集計!$A:$G,I$3,FALSE),0)+IFERROR(VLOOKUP($AJ28,[1]pivot集計!$A:$G,I$3,FALSE),0)+IFERROR(VLOOKUP($AK28,[1]pivot集計!$A:$G,I$3,FALSE),0)+IFERROR(VLOOKUP($AL28,[1]pivot集計!$A:$G,I$3,FALSE),0)+IFERROR(VLOOKUP($AM28,[1]pivot集計!$A:$G,I$3,FALSE),0)+IFERROR(VLOOKUP($AN28,[1]pivot集計!$A:$G,I$3,FALSE),0)+IFERROR(VLOOKUP($AO28,[1]pivot集計!$A:$G,I$3,FALSE),0) -> 512293.05 | J28: =SUM(E28:I28) -> 3941891 | N28: 24 | O28: ゴム製品 | P28: =E28/$E$58 -> 0.025916785 | Q28: =F28/$F$58 -> 0.0026951836 | R28: =G28/$G$58 -> 0.068772985 | S28: =H28/$H$58 -> 2.1986314e-06 | T28: =I28/$I$58 -> 0.0050021754 | U28: =J28/$J$58 -> 0.016426875 | W28: 合計 / ③-08
C29: 25 | D29: 電線・ケーブル | E29: =IFERROR(VLOOKUP($W29,[1]pivot集計!$A:$G,E$3,FALSE),0)+IFERROR(VLOOKUP($X29,[1]pivot集計!$A:$G,E$3,FALSE),0)+IFERROR(VLOOKUP($Y29,[1]pivot集計!$A:$G,E$3,FALSE),0)+IFERROR(VLOOKUP($Z29,[1]pivot集計!$A:$G,E$3,FALSE),0)+IFERROR(VLOOKUP($AA29,[1]pivot集計!$A:$G,E$3,FALSE),0)+IFERROR(VLOOKUP($AB29,[1]pivot集計!$A:$G,E$3,FALSE),0)+IFERROR(VLOOKUP($AC29,[1]pivot集計!$A:$G,E$3,FALSE),0)+IFERROR(VLOOKUP($AD29,[1]pivot集計!$A:$G,E$3,FALSE),0)+IFERROR(VLOOKUP($AE29,[1]pivot集計!$A:$G,E$3,FALSE),0)+IFERROR(VLOOKUP($AF29,[1]pivot集計!$A:$G,E$3,FALSE),0)+IFERROR(VLOOKUP($AG29,[1]pivot集計!$A:$G,E$3,FALSE),0)+IFERROR(VLOOKUP($AH29,[1]pivot集計!$A:$G,E$3,FALSE),0)+IFERROR(VLOOKUP($AI29,[1]pivot集計!$A:$G,E$3,FALSE),0)+IFERROR(VLOOKUP($AJ29,[1]pivot集計!$A:$G,E$3,FALSE),0)+IFERROR(VLOOKUP($AK29,[1]pivot集計!$A:$G,E$3,FALSE),0)+IFERROR(VLOOKUP($AL29,[1]pivot集計!$A:$G,E$3,FALSE),0)+IFERROR(VLOOKUP($AM29,[1]pivot集計!$A:$G,E$3,FALSE),0)+IFERROR(VLOOKUP($AN29,[1]pivot集計!$A:$G,E$3,FALSE),0)+IFERROR(VLOOKUP($AO29,[1]pivot集計!$A:$G,E$3,FALSE),0) -> 5955 | F29: =IFERROR(VLOOKUP($W29,[1]pivot集計!$A:$G,F$3,FALSE),0)+IFERROR(VLOOKUP($X29,[1]pivot集計!$A:$G,F$3,FALSE),0)+IFERROR(VLOOKUP($Y29,[1]pivot集計!$A:$G,F$3,FALSE),0)+IFERROR(VLOOKUP($Z29,[1]pivot集計!$A:$G,F$3,FALSE),0)+IFERROR(VLOOKUP($AA29,[1]pivot集計!$A:$G,F$3,FALSE),0)+IFERROR(VLOOKUP($AB29,[1]pivot集計!$A:$G,F$3,FALSE),0)+IFERROR(VLOOKUP($AC29,[1]pivot集計!$A:$G,F$3,FALSE),0)+IFERROR(VLOOKUP($AD29,[1]pivot集計!$A:$G,F$3,FALSE),0)+IFERROR(VLOOKUP($AE29,[1]pivot集計!$A:$G,F$3,FALSE),0)+IFERROR(VLOOKUP($AF29,[1]pivot集計!$A:$G,F$3,FALSE),0)+IFERROR(VLOOKUP($AG29,[1]pivot集計!$A:$G,F$3,FALSE),0)+IFERROR(VLOOKUP($AH29,[1]pivot集計!$A:$G,F$3,FALSE),0)+IFERROR(VLOOKUP($AI29,[1]pivot集計!$A:$G,F$3,FALSE),0)+IFERROR(VLOOKUP($AJ29,[1]pivot集計!$A:$G,F$3,FALSE),0)+IFERROR(VLOOKUP($AK29,[1]pivot集計!$A:$G,F$3,FALSE),0)+IFERROR(VLOOKUP($AL29,[1]pivot集計!$A:$G,F$3,FALSE),0)+IFERROR(VLOOKUP($AM29,[1]pivot集計!$A:$G,F$3,FALSE),0)+IFERROR(VLOOKUP($AN29,[1]pivot集計!$A:$G,F$3,FALSE),0)+IFERROR(VLOOKUP($AO29,[1]pivot集計!$A:$G,F$3,FALSE),0) -> 992 | G29: =IFERROR(VLOOKUP($W29,[1]pivot集計!$A:$G,G$3,FALSE),0)+IFERROR(VLOOKUP($X29,[1]pivot集計!$A:$G,G$3,FALSE),0)+IFERROR(VLOOKUP($Y29,[1]pivot集計!$A:$G,G$3,FALSE),0)+IFERROR(VLOOKUP($Z29,[1]pivot集計!$A:$G,G$3,FALSE),0)+IFERROR(VLOOKUP($AA29,[1]pivot集計!$A:$G,G$3,FALSE),0)+IFERROR(VLOOKUP($AB29,[1]pivot集計!$A:$G,G$3,FALSE),0)+IFERROR(VLOOKUP($AC29,[1]pivot集計!$A:$G,G$3,FALSE),0)+IFERROR(VLOOKUP($AD29,[1]pivot集計!$A:$G,G$3,FALSE),0)+IFERROR(VLOOKUP($AE29,[1]pivot集計!$A:$G,G$3,FALSE),0)+IFERROR(VLOOKUP($AF29,[1]pivot集計!$A:$G,G$3,FALSE),0)+IFERROR(VLOOKUP($AG29,[1]pivot集計!$A:$G,G$3,FALSE),0)+IFERROR(VLOOKUP($AH29,[1]pivot集計!$A:$G,G$3,FALSE),0)+IFERROR(VLOOKUP($AI29,[1]pivot集計!$A:$G,G$3,FALSE),0)+IFERROR(VLOOKUP($AJ29,[1]pivot集計!$A:$G,G$3,FALSE),0)+IFERROR(VLOOKUP($AK29,[1]pivot集計!$A:$G,G$3,FALSE),0)+IFERROR(VLOOKUP($AL29,[1]pivot集計!$A:$G,G$3,FALSE),0)+IFERROR(VLOOKUP($AM29,[1]pivot集計!$A:$G,G$3,FALSE),0)+IFERROR(VLOOKUP($AN29,[1]pivot集計!$A:$G,G$3,FALSE),0)+IFERROR(VLOOKUP($AO29,[1]pivot集計!$A:$G,G$3,FALSE),0) -> 638 | H29: =IFERROR(VLOOKUP($W29,[1]pivot集計!$A:$G,H$3,FALSE),0)+IFERROR(VLOOKUP($X29,[1]pivot集計!$A:$G,H$3,FALSE),0)+IFERROR(VLOOKUP($Y29,[1]pivot集計!$A:$G,H$3,FALSE),0)+IFERROR(VLOOKUP($Z29,[1]pivot集計!$A:$G,H$3,FALSE),0)+IFERROR(VLOOKUP($AA29,[1]pivot集計!$A:$G,H$3,FALSE),0)+IFERROR(VLOOKUP($AB29,[1]pivot集計!$A:$G,H$3,FALSE),0)+IFERROR(VLOOKUP($AC29,[1]pivot集計!$A:$G,H$3,FALSE),0)+IFERROR(VLOOKUP($AD29,[1]pivot集計!$A:$G,H$3,FALSE),0)+IFERROR(VLOOKUP($AE29,[1]pivot集計!$A:$G,H$3,FALSE),0)+IFERROR(VLOOKUP($AF29,[1]pivot集計!$A:$G,H$3,FALSE),0)+IFERROR(VLOOKUP($AG29,[1]pivot集計!$A:$G,H$3,FALSE),0)+IFERROR(VLOOKUP($AH29,[1]pivot集計!$A:$G,H$3,FALSE),0)+IFERROR(VLOOKUP($AI29,[1]pivot集計!$A:$G,H$3,FALSE),0)+IFERROR(VLOOKUP($AJ29,[1]pivot集計!$A:$G,H$3,FALSE),0)+IFERROR(VLOOKUP($AK29,[1]pivot集計!$A:$G,H$3,FALSE),0)+IFERROR(VLOOKUP($AL29,[1]pivot集計!$A:$G,H$3,FALSE),0)+IFERROR(VLOOKUP($AM29,[1]pivot集計!$A:$G,H$3,FALSE),0)+IFERROR(VLOOKUP($AN29,[1]pivot集計!$A:$G,H$3,FALSE),0)+IFERROR(VLOOKUP($AO29,[1]pivot集計!$A:$G,H$3,FALSE),0) -> 0 | I29: =IFERROR(VLOOKUP($W29,[1]pivot集計!$A:$G,I$3,FALSE),0)+IFERROR(VLOOKUP($X29,[1]pivot集計!$A:$G,I$3,FALSE),0)+IFERROR(VLOOKUP($Y29,[1]pivot集計!$A:$G,I$3,FALSE),0)+IFERROR(VLOOKUP($Z29,[1]pivot集計!$A:$G,I$3,FALSE),0)+IFERROR(VLOOKUP($AA29,[1]pivot集計!$A:$G,I$3,FALSE),0)+IFERROR(VLOOKUP($AB29,[1]pivot集計!$A:$G,I$3,FALSE),0)+IFERROR(VLOOKUP($AC29,[1]pivot集計!$A:$G,I$3,FALSE),0)+IFERROR(VLOOKUP($AD29,[1]pivot集計!$A:$G,I$3,FALSE),0)+IFERROR(VLOOKUP($AE29,[1]pivot集計!$A:$G,I$3,FALSE),0)+IFERROR(VLOOKUP($AF29,[1]pivot集計!$A:$G,I$3,FALSE),0)+IFERROR(VLOOKUP($AG29,[1]pivot集計!$A:$G,I$3,FALSE),0)+IFERROR(VLOOKUP($AH29,[1]pivot集計!$A:$G,I$3,FALSE),0)+IFERROR(VLOOKUP($AI29,[1]pivot集計!$A:$G,I$3,FALSE),0)+IFERROR(VLOOKUP($AJ29,[1]pivot集計!$A:$G,I$3,FALSE),0)+IFERROR(VLOOKUP($AK29,[1]pivot集計!$A:$G,I$3,FALSE),0)+IFERROR(VLOOKUP($AL29,[1]pivot集計!$A:$G,I$3,FALSE),0)+IFERROR(VLOOKUP($AM29,[1]pivot集計!$A:$G,I$3,FALSE),0)+IFERROR(VLOOKUP($AN29,[1]pivot集計!$A:$G,I$3,FALSE),0)+IFERROR(VLOOKUP($AO29,[1]pivot集計!$A:$G,I$3,FALSE),0) -> 2052 | J29: =SUM(E29:I29) -> 9637 | N29: 25 | O29: 電線・ケーブル | P29: =E29/$E$58 -> 4.6725015e-05 | Q29: =F29/$F$58 -> 0.00025651177 | R29: =G29/$G$58 -> 0.0003778345 | S29: =H29/$H$58 -> 0 | T29: =I29/$I$58 -> 2.0036313e-05 | U29: =J29/$J$58 -> 4.0159862e-05 | W29: 合計 / ③-09 | X29: 合計 / ③-10 | Y29: 合計 / ③-11
C30: 26 | D30: 設備機器 | E30: =IFERROR(VLOOKUP($W30,[1]pivot集計!$A:$G,E$3,FALSE),0)+IFERROR(VLOOKUP($X30,[1]pivot集計!$A:$G,E$3,FALSE),0)+IFERROR(VLOOKUP($Y30,[1]pivot集計!$A:$G,E$3,FALSE),0)+IFERROR(VLOOKUP($Z30,[1]pivot集計!$A:$G,E$3,FALSE),0)+IFERROR(VLOOKUP($AA30,[1]pivot集計!$A:$G,E$3,FALSE),0)+IFERROR(VLOOKUP($AB30,[1]pivot集計!$A:$G,E$3,FALSE),0)+IFERROR(VLOOKUP($AC30,[1]pivot集計!$A:$G,E$3,FALSE),0)+IFERROR(VLOOKUP($AD30,[1]pivot集計!$A:$G,E$3,FALSE),0)+IFERROR(VLOOKUP($AE30,[1]pivot集計!$A:$G,E$3,FALSE),0)+IFERROR(VLOOKUP($AF30,[1]pivot集計!$A:$G,E$3,FALSE),0)+IFERROR(VLOOKUP($AG30,[1]pivot集計!$A:$G,E$3,FALSE),0)+IFERROR(VLOOKUP($AH30,[1]pivot集計!$A:$G,E$3,FALSE),0)+IFERROR(VLOOKUP($AI30,[1]pivot集計!$A:$G,E$3,FALSE),0)+IFERROR(VLOOKUP($AJ30,[1]pivot集計!$A:$G,E$3,FALSE),0)+IFERROR(VLOOKUP($AK30,[1]pivot集計!$A:$G,E$3,FALSE),0)+IFERROR(VLOOKUP($AL30,[1]pivot集計!$A:$G,E$3,FALSE),0)+IFERROR(VLOOKUP($AM30,[1]pivot集計!$A:$G,E$3,FALSE),0)+IFERROR(VLOOKUP($AN30,[1]pivot集計!$A:$G,E$3,FALSE),0)+IFERROR(VLOOKUP($AO30,[1]pivot集計!$A:$G,E$3,FALSE),0) -> 13307 | F30: =IFERROR(VLOOKUP($W30,[1]pivot集計!$A:$G,F$3,FALSE),0)+IFERROR(VLOOKUP($X30,[1]pivot集計!$A:$G,F$3,FALSE),0)+IFERROR(VLOOKUP($Y30,[1]pivot集計!$A:$G,F$3,FALSE),0)+IFERROR(VLOOKUP($Z30,[1]pivot集計!$A:$G,F$3,FALSE),0)+IFERROR(VLOOKUP($AA30,[1]pivot集計!$A:$G,F$3,FALSE),0)+IFERROR(VLOOKUP($AB30,[1]pivot集計!$A:$G,F$3,FALSE),0)+IFERROR(VLOOKUP($AC30,[1]pivot集計!$A:$G,F$3,FALSE),0)+IFERROR(VLOOKUP($AD30,[1]pivot集計!$A:$G,F$3,FALSE),0)+IFERROR(VLOOKUP($AE30,[1]pivot集計!$A:$G,F$3,FALSE),0)+IFERROR(VLOOKUP($AF30,[1]pivot集計!$A:$G,F$3,FALSE),0)+IFERROR(VLOOKUP($AG30,[1]pivot集計!$A:$G,F$3,FALSE),0)+IFERROR(VLOOKUP($AH30,[1]pivot集計!$A:$G,F$3,FALSE),0)+IFERROR(VLOOKUP($AI30,[1]pivot集計!$A:$G,F$3,FALSE),0)+IFERROR(VLOOKUP($AJ30,[1]pivot集計!$A:$G,F$3,FALSE),0)+IFERROR(VLOOKUP($AK30,[1]pivot集計!$A:$G,F$3,FALSE),0)+IFERROR(VLOOKUP($AL30,[1]pivot集計!$A:$G,F$3,FALSE),0)+IFERROR(VLOOKUP($AM30,[1]pivot集計!$A:$G,F$3,FALSE),0)+IFERROR(VLOOKUP($AN30,[1]pivot集計!$A:$G,F$3,FALSE),0)+IFERROR(VLOOKUP($AO30,[1]pivot集計!$A:$G,F$3,FALSE),0) -> 2867 | G30: =IFERROR(VLOOKUP($W30,[1]pivot集計!$A:$G,G$3,FALSE),0)+IFERROR(VLOOKUP($X30,[1]pivot集計!$A:$G,G$3,FALSE),0)+IFERROR(VLOOKUP($Y30,[1]pivot集計!$A:$G,G$3,FALSE),0)+IFERROR(VLOOKUP($Z30,[1]pivot集計!$A:$G,G$3,FALSE),0)+IFERROR(VLOOKUP($AA30,[1]pivot集計!$A:$G,G$3,FALSE),0)+IFERROR(VLOOKUP($AB30,[1]pivot集計!$A:$G,G$3,FALSE),0)+IFERROR(VLOOKUP($AC30,[1]pivot集計!$A:$G,G$3,FALSE),0)+IFERROR(VLOOKUP($AD30,[1]pivot集計!$A:$G,G$3,FALSE),0)+IFERROR(VLOOKUP($AE30,[1]pivot集計!$A:$G,G$3,FALSE),0)+IFERROR(VLOOKUP($AF30,[1]pivot集計!$A:$G,G$3,FALSE),0)+IFERROR(VLOOKUP($AG30,[1]pivot集計!$A:$G,G$3,FALSE),0)+IFERROR(VLOOKUP($AH30,[1]pivot集計!$A:$G,G$3,FALSE),0)+IFERROR(VLOOKUP($AI30,[1]pivot集計!$A:$G,G$3,FALSE),0)+IFERROR(VLOOKUP($AJ30,[1]pivot集計!$A:$G,G$3,FALSE),0)+IFERROR(VLOOKUP($AK30,[1]pivot集計!$A:$G,G$3,FALSE),0)+IFERROR(VLOOKUP($AL30,[1]pivot集計!$A:$G,G$3,FALSE),0)+IFERROR(VLOOKUP($AM30,[1]pivot集計!$A:$G,G$3,FALSE),0)+IFERROR(VLOOKUP($AN30,[1]pivot集計!$A:$G,G$3,FALSE),0)+IFERROR(VLOOKUP($AO30,[1]pivot集計!$A:$G,G$3,FALSE),0) -> 11862 | H30: =IFERROR(VLOOKUP($W30,[1]pivot集計!$A:$G,H$3,FALSE),0)+IFERROR(VLOOKUP($X30,[1]pivot集計!$A:$G,H$3,FALSE),0)+IFERROR(VLOOKUP($Y30,[1]pivot集計!$A:$G,H$3,FALSE),0)+IFERROR(VLOOKUP($Z30,[1]pivot集計!$A:$G,H$3,FALSE),0)+IFERROR(VLOOKUP($AA30,[1]pivot集計!$A:$G,H$3,FALSE),0)+IFERROR(VLOOKUP($AB30,[1]pivot集計!$A:$G,H$3,FALSE),0)+IFERROR(VLOOKUP($AC30,[1]pivot集計!$A:$G,H$3,FALSE),0)+IFERROR(VLOOKUP($AD30,[1]pivot集計!$A:$G,H$3,FALSE),0)+IFERROR(VLOOKUP($AE30,[1]pivot集計!$A:$G,H$3,FALSE),0)+IFERROR(VLOOKUP($AF30,[1]pivot集計!$A:$G,H$3,FALSE),0)+IFERROR(VLOOKUP($AG30,[1]pivot集計!$A:$G,H$3,FALSE),0)+IFERROR(VLOOKUP($AH30,[1]pivot集計!$A:$G,H$3,FALSE),0)+IFERROR(VLOOKUP($AI30,[1]pivot集計!$A:$G,H$3,FALSE),0)+IFERROR(VLOOKUP($AJ30,[1]pivot集計!$A:$G,H$3,FALSE),0)+IFERROR(VLOOKUP($AK30,[1]pivot集計!$A:$G,H$3,FALSE),0)+IFERROR(VLOOKUP($AL30,[1]pivot集計!$A:$G,H$3,FALSE),0)+IFERROR(VLOOKUP($AM30,[1]pivot集計!$A:$G,H$3,FALSE),0)+IFERROR(VLOOKUP($AN30,[1]pivot集計!$A:$G,H$3,FALSE),0)+IFERROR(VLOOKUP($AO30,[1]pivot集計!$A:$G,H$3,FALSE),0) -> 0 | I30: =IFERROR(VLOOKUP($W30,[1]pivot集計!$A:$G,I$3,FALSE),0)+IFERROR(VLOOKUP($X30,[1]pivot集計!$A:$G,I$3,FALSE),0)+IFERROR(VLOOKUP($Y30,[1]pivot集計!$A:$G,I$3,FALSE),0)+IFERROR(VLOOKUP($Z30,[1]pivot集計!$A:$G,I$3,FALSE),0)+IFERROR(VLOOKUP($AA30,[1]pivot集計!$A:$G,I$3,FALSE),0)+IFERROR(VLOOKUP($AB30,[1]pivot集計!$A:$G,I$3,FALSE),0)+IFERROR(VLOOKUP($AC30,[1]pivot集計!$A:$G,I$3,FALSE),0)+IFERROR(VLOOKUP($AD30,[1]pivot集計!$A:$G,I$3,FALSE),0)+IFERROR(VLOOKUP($AE30,[1]pivot集計!$A:$G,I$3,FALSE),0)+IFERROR(VLOOKUP($AF30,[1]pivot集計!$A:$G,I$3,FALSE),0)+IFERROR(VLOOKUP($AG30,[1]pivot集計!$A:$G,I$3,FALSE),0)+IFERROR(VLOOKUP($AH30,[1]pivot集計!$A:$G,I$3,FALSE),0)+IFERROR(VLOOKUP($AI30,[1]pivot集計!$A:$G,I$3,FALSE),0)+IFERROR(VLOOKUP($AJ30,[1]pivot集計!$A:$G,I$3,FALSE),0)+IFERROR(VLOOKUP($AK30,[1]pivot集計!$A:$G,I$3,FALSE),0)+IFERROR(VLOOKUP($AL30,[1]pivot集計!$A:$G,I$3,FALSE),0)+IFERROR(VLOOKUP($AM30,[1]pivot集計!$A:$G,I$3,FALSE),0)+IFERROR(VLOOKUP($AN30,[1]pivot集計!$A:$G,I$3,FALSE),0)+IFERROR(VLOOKUP($AO30,[1]pivot集計!$A:$G,I$3,FALSE),0) -> 0 | J30: =SUM(E30:I30) -> 28036 | N30: 26 | O30: 設備機器 | P30: =E30/$E$58 -> 0.00010441138 | Q30: =F30/$F$58 -> 0.00074135003 | R30: =G30/$G$58 -> 0.007024879 | S30: =H30/$H$58 -> 0 | T30: =I30/$I$58 -> 0 | U30: =J30/$J$58 -> 0.00011683323 | W30: 合計 / ③-12 | X30: 合計 / ③-13 | Y30: 合計 / ③-14 | Z30: 合計 / ③-15 | AA30: 合計 / ③-16 | AB30: 合計 / ③-17 | AC30: 合計 / ③-18 | AD30: 合計 / ③-19 | AE30: 合計 / ③-20 | AF30: 合計 / ③-21 | AG30: 合計 / ③-22 | AH30: 合計 / ③-23 | AI30: 合計 / ③-24 | AJ30: 合計 / ③-25 | AK30: 合計 / ③-26 | AL30: 合計 / ③-27 | AM30: 合計 / ③-28 | AN30: 合計 / ③-29 | AO30: 合計 / ③-30
C31: 27 | D31: 化学製品 | E31: =IFERROR(VLOOKUP($W31,[1]pivot集計!$A:$G,E$3,FALSE),0)+IFERROR(VLOOKUP($X31,[1]pivot集計!$A:$G,E$3,FALSE),0)+IFERROR(VLOOKUP($Y31,[1]pivot集計!$A:$G,E$3,FALSE),0)+IFERROR(VLOOKUP($Z31,[1]pivot集計!$A:$G,E$3,FALSE),0)+IFERROR(VLOOKUP($AA31,[1]pivot集計!$A:$G,E$3,FALSE),0)+IFERROR(VLOOKUP($AB31,[1]pivot集計!$A:$G,E$3,FALSE),0)+IFERROR(VLOOKUP($AC31,[1]pivot集計!$A:$G,E$3,FALSE),0)+IFERROR(VLOOKUP($AD31,[1]pivot集計!$A:$G,E$3,FALSE),0)+IFERROR(VLOOKUP($AE31,[1]pivot集計!$A:$G,E$3,FALSE),0)+IFERROR(VLOOKUP($AF31,[1]pivot集計!$A:$G,E$3,FALSE),0)+IFERROR(VLOOKUP($AG31,[1]pivot集計!$A:$G,E$3,FALSE),0)+IFERROR(VLOOKUP($AH31,[1]pivot集計!$A:$G,E$3,FALSE),0)+IFERROR(VLOOKUP($AI31,[1]pivot集計!$A:$G,E$3,FALSE),0)+IFERROR(VLOOKUP($AJ31,[1]pivot集計!$A:$G,E$3,FALSE),0)+IFERROR(VLOOKUP($AK31,[1]pivot集計!$A:$G,E$3,FALSE),0)+IFERROR(VLOOKUP($AL31,[1]pivot集計!$A:$G,E$3,FALSE),0)+IFERROR(VLOOKUP($AM31,[1]pivot集計!$A:$G,E$3,FALSE),0)+IFERROR(VLOOKUP($AN31,[1]pivot集計!$A:$G,E$3,FALSE),0)+IFERROR(VLOOKUP($AO31,[1]pivot集計!$A:$G,E$3,FALSE),0) -> 267277 | F31: =IFERROR(VLOOKUP($W31,[1]pivot集計!$A:$G,F$3,FALSE),0)+IFERROR(VLOOKUP($X31,[1]pivot集計!$A:$G,F$3,FALSE),0)+IFERROR(VLOOKUP($Y31,[1]pivot集計!$A:$G,F$3,FALSE),0)+IFERROR(VLOOKUP($Z31,[1]pivot集計!$A:$G,F$3,FALSE),0)+IFERROR(VLOOKUP($AA31,[1]pivot集計!$A:$G,F$3,FALSE),0)+IFERROR(VLOOKUP($AB31,[1]pivot集計!$A:$G,F$3,FALSE),0)+IFERROR(VLOOKUP($AC31,[1]pivot集計!$A:$G,F$3,FALSE),0)+IFERROR(VLOOKUP($AD31,[1]pivot集計!$A:$G,F$3,FALSE),0)+IFERROR(VLOOKUP($AE31,[1]pivot集計!$A:$G,F$3,FALSE),0)+IFERROR(VLOOKUP($AF31,[1]pivot集計!$A:$G,F$3,FALSE),0)+IFERROR(VLOOKUP($AG31,[1]pivot集計!$A:$G,F$3,FALSE),0)+IFERROR(VLOOKUP($AH31,[1]pivot集計!$A:$G,F$3,FALSE),0)+IFERROR(VLOOKUP($AI31,[1]pivot集計!$A:$G,F$3,FALSE),0)+IFERROR(VLOOKUP($AJ31,[1]pivot集計!$A:$G,F$3,FALSE),0)+IFERROR(VLOOKUP($AK31,[1]pivot集計!$A:$G,F$3,FALSE),0)+IFERROR(VLOOKUP($AL31,[1]pivot集計!$A:$G,F$3,FALSE),0)+IFERROR(VLOOKUP($AM31,[1]pivot集計!$A:$G,F$3,FALSE),0)+IFERROR(VLOOKUP($AN31,[1]pivot集計!$A:$G,F$3,FALSE),0)+IFERROR(VLOOKUP($AO31,[1]pivot集計!$A:$G,F$3,FALSE),0) -> 18257 | G31: =IFERROR(VLOOKUP($W31,[1]pivot集計!$A:$G,G$3,FALSE),0)+IFERROR(VLOOKUP($X31,[1]pivot集計!$A:$G,G$3,FALSE),0)+IFERROR(VLOOKUP($Y31,[1]pivot集計!$A:$G,G$3,FALSE),0)+IFERROR(VLOOKUP($Z31,[1]pivot集計!$A:$G,G$3,FALSE),0)+IFERROR(VLOOKUP($AA31,[1]pivot集計!$A:$G,G$3,FALSE),0)+IFERROR(VLOOKUP($AB31,[1]pivot集計!$A:$G,G$3,FALSE),0)+IFERROR(VLOOKUP($AC31,[1]pivot集計!$A:$G,G$3,FALSE),0)+IFERROR(VLOOKUP($AD31,[1]pivot集計!$A:$G,G$3,FALSE),0)+IFERROR(VLOOKUP($AE31,[1]pivot集計!$A:$G,G$3,FALSE),0)+IFERROR(VLOOKUP($AF31,[1]pivot集計!$A:$G,G$3,FALSE),0)+IFERROR(VLOOKUP($AG31,[1]pivot集計!$A:$G,G$3,FALSE),0)+IFERROR(VLOOKUP($AH31,[1]pivot集計!$A:$G,G$3,FALSE),0)+IFERROR(VLOOKUP($AI31,[1]pivot集計!$A:$G,G$3,FALSE),0)+IFERROR(VLOOKUP($AJ31,[1]pivot集計!$A:$G,G$3,FALSE),0)+IFERROR(VLOOKUP($AK31,[1]pivot集計!$A:$G,G$3,FALSE),0)+IFERROR(VLOOKUP($AL31,[1]pivot集計!$A:$G,G$3,FALSE),0)+IFERROR(VLOOKUP($AM31,[1]pivot集計!$A:$G,G$3,FALSE),0)+IFERROR(VLOOKUP($AN31,[1]pivot集計!$A:$G,G$3,FALSE),0)+IFERROR(VLOOKUP($AO31,[1]pivot集計!$A:$G,G$3,FALSE),0) -> 36523 | H31: =IFERROR(VLOOKUP($W31,[1]pivot集計!$A:$G,H$3,FALSE),0)+IFERROR(VLOOKUP($X31,[1]pivot集計!$A:$G,H$3,FALSE),0)+IFERROR(VLOOKUP($Y31,[1]pivot集計!$A:$G,H$3,FALSE),0)+IFERROR(VLOOKUP($Z31,[1]pivot集計!$A:$G,H$3,FALSE),0)+IFERROR(VLOOKUP($AA31,[1]pivot集計!$A:$G,H$3,FALSE),0)+IFERROR(VLOOKUP($AB31,[1]pivot集計!$A:$G,H$3,FALSE),0)+IFERROR(VLOOKUP($AC31,[1]pivot集計!$A:$G,H$3,FALSE),0)+IFERROR(VLOOKUP($AD31,[1]pivot集計!$A:$G,H$3,FALSE),0)+IFERROR(VLOOKUP($AE31,[1]pivot集計!$A:$G,H$3,FALSE),0)+IFERROR(VLOOKUP($AF31,[1]pivot集計!$A:$G,H$3,FALSE),0)+IFERROR(VLOOKUP($AG31,[1]pivot集計!$A:$G,H$3,FALSE),0)+IFERROR(VLOOKUP($AH31,[1]pivot集計!$A:$G,H$3,FALSE),0)+IFERROR(VLOOKUP($AI31,[1]pivot集計!$A:$G,H$3,FALSE),0)+IFERROR(VLOOKUP($AJ31,[1]pivot集計!$A:$G,H$3,FALSE),0)+IFERROR(VLOOKUP($AK31,[1]pivot集計!$A:$G,H$3,FALSE),0)+IFERROR(VLOOKUP($AL31,[1]pivot集計!$A:$G,H$3,FALSE),0)+IFERROR(VLOOKUP($AM31,[1]pivot集計!$A:$G,H$3,FALSE),0)+IFERROR(VLOOKUP($AN31,[1]pivot集計!$A:$G,H$3,FALSE),0)+IFERROR(VLOOKUP($AO31,[1]pivot集計!$A:$G,H$3,FALSE),0) -> 0 | I31: =IFERROR(VLOOKUP($W31,[1]pivot集計!$A:$G,I$3,FALSE),0)+IFERROR(VLOOKUP($X31,[1]pivot集計!$A:$G,I$3,FALSE),0)+IFERROR(VLOOKUP($Y31,[1]pivot集計!$A:$G,I$3,FALSE),0)+IFERROR(VLOOKUP($Z31,[1]pivot集計!$A:$G,I$3,FALSE),0)+IFERROR(VLOOKUP($AA31,[1]pivot集計!$A:$G,I$3,FALSE),0)+IFERROR(VLOOKUP($AB31,[1]pivot集計!$A:$G,I$3,FALSE),0)+IFERROR(VLOOKUP($AC31,[1]pivot集計!$A:$G,I$3,FALSE),0)+IFERROR(VLOOKUP($AD31,[1]pivot集計!$A:$G,I$3,FALSE),0)+IFERROR(VLOOKUP($AE31,[1]pivot集計!$A:$G,I$3,FALSE),0)+IFERROR(VLOOKUP($AF31,[1]pivot集計!$A:$G,I$3,FALSE),0)+IFERROR(VLOOKUP($AG31,[1]pivot集計!$A:$G,I$3,FALSE),0)+IFERROR(VLOOKUP($AH31,[1]pivot集計!$A:$G,I$3,FALSE),0)+IFERROR(VLOOKUP($AI31,[1]pivot集計!$A:$G,I$3,FALSE),0)+IFERROR(VLOOKUP($AJ31,[1]pivot集計!$A:$G,I$3,FALSE),0)+IFERROR(VLOOKUP($AK31,[1]pivot集計!$A:$G,I$3,FALSE),0)+IFERROR(VLOOKUP($AL31,[1]pivot集計!$A:$G,I$3,FALSE),0)+IFERROR(VLOOKUP($AM31,[1]pivot集計!$A:$G,I$3,FALSE),0)+IFERROR(VLOOKUP($AN31,[1]pivot集計!$A:$G,I$3,FALSE),0)+IFERROR(VLOOKUP($AO31,[1]pivot集計!$A:$G,I$3,FALSE),0) -> 922693.19 | J31: =SUM(E31:I31) -> 1244750.2 | N31: 27 | O31: 化学製品 | P31: =E31/$E$58 -> 0.0020971489 | Q31: =F31/$F$58 -> 0.0047209025 | R31: =G31/$G$58 -> 0.021629545 | S31: =H31/$H$58 -> 0 | T31: =I31/$I$58 -> 0.0090094393 | U31: =J31/$J$58 -> 0.0051871947 | W31: 合計 / ③-31 | X31: 合計 / ③-32
C32: 28 | D32: 窒業・土石製品 | E32: =IFERROR(VLOOKUP($W32,[1]pivot集計!$A:$G,E$3,FALSE),0)+IFERROR(VLOOKUP($X32,[1]pivot集計!$A:$G,E$3,FALSE),0)+IFERROR(VLOOKUP($Y32,[1]pivot集計!$A:$G,E$3,FALSE),0)+IFERROR(VLOOKUP($Z32,[1]pivot集計!$A:$G,E$3,FALSE),0)+IFERROR(VLOOKUP($AA32,[1]pivot集計!$A:$G,E$3,FALSE),0)+IFERROR(VLOOKUP($AB32,[1]pivot集計!$A:$G,E$3,FALSE),0)+IFERROR(VLOOKUP($AC32,[1]pivot集計!$A:$G,E$3,FALSE),0)+IFERROR(VLOOKUP($AD32,[1]pivot集計!$A:$G,E$3,FALSE),0)+IFERROR(VLOOKUP($AE32,[1]pivot集計!$A:$G,E$3,FALSE),0)+IFERROR(VLOOKUP($AF32,[1]pivot集計!$A:$G,E$3,FALSE),0)+IFERROR(VLOOKUP($AG32,[1]pivot集計!$A:$G,E$3,FALSE),0)+IFERROR(VLOOKUP($AH32,[1]pivot集計!$A:$G,E$3,FALSE),0)+IFERROR(VLOOKUP($AI32,[1]pivot集計!$A:$G,E$3,FALSE),0)+IFERROR(VLOOKUP($AJ32,[1]pivot集計!$A:$G,E$3,FALSE),0)+IFERROR(VLOOKUP($AK32,[1]pivot集計!$A:$G,E$3,FALSE),0)+IFERROR(VLOOKUP($AL32,[1]pivot集計!$A:$G,E$3,FALSE),0)+IFERROR(VLOOKUP($AM32,[1]pivot集計!$A:$G,E$3,FALSE),0)+IFERROR(VLOOKUP($AN32,[1]pivot集計!$A:$G,E$3,FALSE),0)+IFERROR(VLOOKUP($AO32,[1]pivot集計!$A:$G,E$3,FALSE),0) -> 77854 | F32: =IFERROR(VLOOKUP($W32,[1]pivot集計!$A:$G,F$3,FALSE),0)+IFERROR(VLOOKUP($X32,[1]pivot集計!$A:$G,F$3,FALSE),0)+IFERROR(VLOOKUP($Y32,[1]pivot集計!$A:$G,F$3,FALSE),0)+IFERROR(VLOOKUP($Z32,[1]pivot集計!$A:$G,F$3,FALSE),0)+IFERROR(VLOOKUP($AA32,[1]pivot集計!$A:$G,F$3,FALSE),0)+IFERROR(VLOOKUP($AB32,[1]pivot集計!$A:$G,F$3,FALSE),0)+IFERROR(VLOOKUP($AC32,[1]pivot集計!$A:$G,F$3,FALSE),0)+IFERROR(VLOOKUP($AD32,[1]pivot集計!$A:$G,F$3,FALSE),0)+IFERROR(VLOOKUP($AE32,[1]pivot集計!$A:$G,F$3,FALSE),0)+IFERROR(VLOOKUP($AF32,[1]pivot集計!$A:$G,F$3,FALSE),0)+IFERROR(VLOOKUP($AG32,[1]pivot集計!$A:$G,F$3,FALSE),0)+IFERROR(VLOOKUP($AH32,[1]pivot集計!$A:$G,F$3,FALSE),0)+IFERROR(VLOOKUP($AI32,[1]pivot集計!$A:$G,F$3,FALSE),0)+IFERROR(VLOOKUP($AJ32,[1]pivot集計!$A:$G,F$3,FALSE),0)+IFERROR(VLOOKUP($AK32,[1]pivot集計!$A:$G,F$3,FALSE),0)+IFERROR(VLOOKUP($AL32,[1]pivot集計!$A:$G,F$3,FALSE),0)+IFERROR(VLOOKUP($AM32,[1]pivot集計!$A:$G,F$3,FALSE),0)+IFERROR(VLOOKUP($AN32,[1]pivot集計!$A:$G,F$3,FALSE),0)+IFERROR(VLOOKUP($AO32,[1]pivot集計!$A:$G,F$3,FALSE),0) -> 7 | G32: =IFERROR(VLOOKUP($W32,[1]pivot集計!$A:$G,G$3,FALSE),0)+IFERROR(VLOOKUP($X32,[1]pivot集計!$A:$G,G$3,FALSE),0)+IFERROR(VLOOKUP($Y32,[1]pivot集計!$A:$G,G$3,FALSE),0)+IFERROR(VLOOKUP($Z32,[1]pivot集計!$A:$G,G$3,FALSE),0)+IFERROR(VLOOKUP($AA32,[1]pivot集計!$A:$G,G$3,FALSE),0)+IFERROR(VLOOKUP($AB32,[1]pivot集計!$A:$G,G$3,FALSE),0)+IFERROR(VLOOKUP($AC32,[1]pivot集計!$A:$G,G$3,FALSE),0)+IFERROR(VLOOKUP($AD32,[1]pivot集計!$A:$G,G$3,FALSE),0)+IFERROR(VLOOKUP($AE32,[1]pivot集計!$A:$G,G$3,FALSE),0)+IFERROR(VLOOKUP($AF32,[1]pivot集計!$A:$G,G$3,FALSE),0)+IFERROR(VLOOKUP($AG32,[1]pivot集計!$A:$G,G$3,FALSE),0)+IFERROR(VLOOKUP($AH32,[1]pivot集計!$A:$G,G$3,FALSE),0)+IFERROR(VLOOKUP($AI32,[1]pivot集計!$A:$G,G$3,FALSE),0)+IFERROR(VLOOKUP($AJ32,[1]pivot集計!$A:$G,G$3,FALSE),0)+IFERROR(VLOOKUP($AK32,[1]pivot集計!$A:$G,G$3,FALSE),0)+IFERROR(VLOOKUP($AL32,[1]pivot集計!$A:$G,G$3,FALSE),0)+IFERROR(VLOOKUP($AM32,[1]pivot集計!$A:$G,G$3,FALSE),0)+IFERROR(VLOOKUP($AN32,[1]pivot集計!$A:$G,G$3,FALSE),0)+IFERROR(VLOOKUP($AO32,[1]pivot集計!$A:$G,G$3,FALSE),0) -> 0 | H32: =IFERROR(VLOOKUP($W32,[1]pivot集計!$A:$G,H$3,FALSE),0)+IFERROR(VLOOKUP($X32,[1]pivot集計!$A:$G,H$3,FALSE),0)+IFERROR(VLOOKUP($Y32,[1]pivot集計!$A:$G,H$3,FALSE),0)+IFERROR(VLOOKUP($Z32,[1]pivot集計!$A:$G,H$3,FALSE),0)+IFERROR(VLOOKUP($AA32,[1]pivot集計!$A:$G,H$3,FALSE),0)+IFERROR(VLOOKUP($AB32,[1]pivot集計!$A:$G,H$3,FALSE),0)+IFERROR(VLOOKUP($AC32,[1]pivot集計!$A:$G,H$3,FALSE),0)+IFERROR(VLOOKUP($AD32,[1]pivot集計!$A:$G,H$3,FALSE),0)+IFERROR(VLOOKUP($AE32,[1]pivot集計!$A:$G,H$3,FALSE),0)+IFERROR(VLOOKUP($AF32,[1]pivot集計!$A:$G,H$3,FALSE),0)+IFERROR(VLOOKUP($AG32,[1]pivot集計!$A:$G,H$3,FALSE),0)+IFERROR(VLOOKUP($AH32,[1]pivot集計!$A:$G,H$3,FALSE),0)+IFERROR(VLOOKUP($AI32,[1]pivot集計!$A:$G,H$3,FALSE),0)+IFERROR(VLOOKUP($AJ32,[1]pivot集計!$A:$G,H$3,FALSE),0)+IFERROR(VLOOKUP($AK32,[1]pivot集計!$A:$G,H$3,FALSE),0)+IFERROR(VLOOKUP($AL32,[1]pivot集計!$A:$G,H$3,FALSE),0)+IFERROR(VLOOKUP($AM32,[1]pivot集計!$A:$G,H$3,FALSE),0)+IFERROR(VLOOKUP($AN32,[1]pivot集計!$A:$G,H$3,FALSE),0)+IFERROR(VLOOKUP($AO32,[1]pivot集計!$A:$G,H$3,FALSE),0) -> 0 | I32: =IFERROR(VLOOKUP($W32,[1]pivot集計!$A:$G,I$3,FALSE),0)+IFERROR(VLOOKUP($X32,[1]pivot集計!$A:$G,I$3,FALSE),0)+IFERROR(VLOOKUP($Y32,[1]pivot集計!$A:$G,I$3,FALSE),0)+IFERROR(VLOOKUP($Z32,[1]pivot集計!$A:$G,I$3,FALSE),0)+IFERROR(VLOOKUP($AA32,[1]pivot集計!$A:$G,I$3,FALSE),0)+IFERROR(VLOOKUP($AB32,[1]pivot集計!$A:$G,I$3,FALSE),0)+IFERROR(VLOOKUP($AC32,[1]pivot集計!$A:$G,I$3,FALSE),0)+IFERROR(VLOOKUP($AD32,[1]pivot集計!$A:$G,I$3,FALSE),0)+IFERROR(VLOOKUP($AE32,[1]pivot集計!$A:$G,I$3,FALSE),0)+IFERROR(VLOOKUP($AF32,[1]pivot集計!$A:$G,I$3,FALSE),0)+IFERROR(VLOOKUP($AG32,[1]pivot集計!$A:$G,I$3,FALSE),0)+IFERROR(VLOOKUP($AH32,[1]pivot集計!$A:$G,I$3,FALSE),0)+IFERROR(VLOOKUP($AI32,[1]pivot集計!$A:$G,I$3,FALSE),0)+IFERROR(VLOOKUP($AJ32,[1]pivot集計!$A:$G,I$3,FALSE),0)+IFERROR(VLOOKUP($AK32,[1]pivot集計!$A:$G,I$3,FALSE),0)+IFERROR(VLOOKUP($AL32,[1]pivot集計!$A:$G,I$3,FALSE),0)+IFERROR(VLOOKUP($AM32,[1]pivot集計!$A:$G,I$3,FALSE),0)+IFERROR(VLOOKUP($AN32,[1]pivot集計!$A:$G,I$3,FALSE),0)+IFERROR(VLOOKUP($AO32,[1]pivot集計!$A:$G,I$3,FALSE),0) -> 27080.344 | J32: =SUM(E32:I32) -> 104941.34 | N32: 28 | O32: 窒業・土石製品 | P32: =E32/$E$58 -> 0.00061086975 | Q32: =F32/$F$58 -> 1.8100629e-06 | R32: =G32/$G$58 -> 0 | S32: =H32/$H$58 -> 0 | T32: =I32/$I$58 -> 0.0002644202 | U32: =J32/$J$58 -> 0.00043731762 | W32: 合計 / ③-33 | X32: 合計 / ③-34 | Y32: 合計 / ③-35 | Z32: 合計 / ③-36 | AA32: 合計 / ③-37 | AB32: 合計 / ③-38 | AC32: 合計 / ③-39
C33: 29 | D33: その他の資材 | E33: =IFERROR(VLOOKUP($W33,[1]pivot集計!$A:$G,E$3,FALSE),0)+IFERROR(VLOOKUP($X33,[1]pivot集計!$A:$G,E$3,FALSE),0)+IFERROR(VLOOKUP($Y33,[1]pivot集計!$A:$G,E$3,FALSE),0)+IFERROR(VLOOKUP($Z33,[1]pivot集計!$A:$G,E$3,FALSE),0)+IFERROR(VLOOKUP($AA33,[1]pivot集計!$A:$G,E$3,FALSE),0)+IFERROR(VLOOKUP($AB33,[1]pivot集計!$A:$G,E$3,FALSE),0)+IFERROR(VLOOKUP($AC33,[1]pivot集計!$A:$G,E$3,FALSE),0)+IFERROR(VLOOKUP($AD33,[1]pivot集計!$A:$G,E$3,FALSE),0)+IFERROR(VLOOKUP($AE33,[1]pivot集計!$A:$G,E$3,FALSE),0)+IFERROR(VLOOKUP($AF33,[1]pivot集計!$A:$G,E$3,FALSE),0)+IFERROR(VLOOKUP($AG33,[1]pivot集計!$A:$G,E$3,FALSE),0)+IFERROR(VLOOKUP($AH33,[1]pivot集計!$A:$G,E$3,FALSE),0)+IFERROR(VLOOKUP($AI33,[1]pivot集計!$A:$G,E$3,FALSE),0)+IFERROR(VLOOKUP($AJ33,[1]pivot集計!$A:$G,E$3,FALSE),0)+IFERROR(VLOOKUP($AK33,[1]pivot集計!$A:$G,E$3,FALSE),0)+IFERROR(VLOOKUP($AL33,[1]pivot集計!$A:$G,E$3,FALSE),0)+IFERROR(VLOOKUP($AM33,[1]pivot集計!$A:$G,E$3,FALSE),0)+IFERROR(VLOOKUP($AN33,[1]pivot集計!$A:$G,E$3,FALSE),0)+IFERROR(VLOOKUP($AO33,[1]pivot集計!$A:$G,E$3,FALSE),0) -> 1088038 | F33: =IFERROR(VLOOKUP($W33,[1]pivot集計!$A:$G,F$3,FALSE),0)+IFERROR(VLOOKUP($X33,[1]pivot集計!$A:$G,F$3,FALSE),0)+IFERROR(VLOOKUP($Y33,[1]pivot集計!$A:$G,F$3,FALSE),0)+IFERROR(VLOOKUP($Z33,[1]pivot集計!$A:$G,F$3,FALSE),0)+IFERROR(VLOOKUP($AA33,[1]pivot集計!$A:$G,F$3,FALSE),0)+IFERROR(VLOOKUP($AB33,[1]pivot集計!$A:$G,F$3,FALSE),0)+IFERROR(VLOOKUP($AC33,[1]pivot集計!$A:$G,F$3,FALSE),0)+IFERROR(VLOOKUP($AD33,[1]pivot集計!$A:$G,F$3,FALSE),0)+IFERROR(VLOOKUP($AE33,[1]pivot集計!$A:$G,F$3,FALSE),0)+IFERROR(VLOOKUP($AF33,[1]pivot集計!$A:$G,F$3,FALSE),0)+IFERROR(VLOOKUP($AG33,[1]pivot集計!$A:$G,F$3,FALSE),0)+IFERROR(VLOOKUP($AH33,[1]pivot集計!$A:$G,F$3,FALSE),0)+IFERROR(VLOOKUP($AI33,[1]pivot集計!$A:$G,F$3,FALSE),0)+IFERROR(VLOOKUP($AJ33,[1]pivot集計!$A:$G,F$3,FALSE),0)+IFERROR(VLOOKUP($AK33,[1]pivot集計!$A:$G,F$3,FALSE),0)+IFERROR(VLOOKUP($AL33,[1]pivot集計!$A:$G,F$3,FALSE),0)+IFERROR(VLOOKUP($AM33,[1]pivot集計!$A:$G,F$3,FALSE),0)+IFERROR(VLOOKUP($AN33,[1]pivot集計!$A:$G,F$3,FALSE),0)+IFERROR(VLOOKUP($AO33,[1]pivot集計!$A:$G,F$3,FALSE),0) -> 39526 | G33: =IFERROR(VLOOKUP($W33,[1]pivot集計!$A:$G,G$3,FALSE),0)+IFERROR(VLOOKUP($X33,[1]pivot集計!$A:$G,G$3,FALSE),0)+IFERROR(VLOOKUP($Y33,[1]pivot集計!$A:$G,G$3,FALSE),0)+IFERROR(VLOOKUP($Z33,[1]pivot集計!$A:$G,G$3,FALSE),0)+IFERROR(VLOOKUP($AA33,[1]pivot集計!$A:$G,G$3,FALSE),0)+IFERROR(VLOOKUP($AB33,[1]pivot集計!$A:$G,G$3,FALSE),0)+IFERROR(VLOOKUP($AC33,[1]pivot集計!$A:$G,G$3,FALSE),0)+IFERROR(VLOOKUP($AD33,[1]pivot集計!$A:$G,G$3,FALSE),0)+IFERROR(VLOOKUP($AE33,[1]pivot集計!$A:$G,G$3,FALSE),0)+IFERROR(VLOOKUP($AF33,[1]pivot集計!$A:$G,G$3,FALSE),0)+IFERROR(VLOOKUP($AG33,[1]pivot集計!$A:$G,G$3,FALSE),0)+IFERROR(VLOOKUP($AH33,[1]pivot集計!$A:$G,G$3,FALSE),0)+IFERROR(VLOOKUP($AI33,[1]pivot集計!$A:$G,G$3,FALSE),0)+IFERROR(VLOOKUP($AJ33,[1]pivot集計!$A:$G,G$3,FALSE),0)+IFERROR(VLOOKUP($AK33,[1]pivot集計!$A:$G,G$3,FALSE),0)+IFERROR(VLOOKUP($AL33,[1]pivot集計!$A:$G,G$3,FALSE),0)+IFERROR(VLOOKUP($AM33,[1]pivot集計!$A:$G,G$3,FALSE),0)+IFERROR(VLOOKUP($AN33,[1]pivot集計!$A:$G,G$3,FALSE),0)+IFERROR(VLOOKUP($AO33,[1]pivot集計!$A:$G,G$3,FALSE),0) -> 5795 | H33: =IFERROR(VLOOKUP($W33,[1]pivot集計!$A:$G,H$3,FALSE),0)+IFERROR(VLOOKUP($X33,[1]pivot集計!$A:$G,H$3,FALSE),0)+IFERROR(VLOOKUP($Y33,[1]pivot集計!$A:$G,H$3,FALSE),0)+IFERROR(VLOOKUP($Z33,[1]pivot集計!$A:$G,H$3,FALSE),0)+IFERROR(VLOOKUP($AA33,[1]pivot集計!$A:$G,H$3,FALSE),0)+IFERROR(VLOOKUP($AB33,[1]pivot集計!$A:$G,H$3,FALSE),0)+IFERROR(VLOOKUP($AC33,[1]pivot集計!$A:$G,H$3,FALSE),0)+IFERROR(VLOOKUP($AD33,[1]pivot集計!$A:$G,H$3,FALSE),0)+IFERROR(VLOOKUP($AE33,[1]pivot集計!$A:$G,H$3,FALSE),0)+IFERROR(VLOOKUP($AF33,[1]pivot集計!$A:$G,H$3,FALSE),0)+IFERROR(VLOOKUP($AG33,[1]pivot集計!$A:$G,H$3,FALSE),0)+IFERROR(VLOOKUP($AH33,[1]pivot集計!$A:$G,H$3,FALSE),0)+IFERROR(VLOOKUP($AI33,[1]pivot集計!$A:$G,H$3,FALSE),0)+IFERROR(VLOOKUP($AJ33,[1]pivot集計!$A:$G,H$3,FALSE),0)+IFERROR(VLOOKUP($AK33,[1]pivot集計!$A:$G,H$3,FALSE),0)+IFERROR(VLOOKUP($AL33,[1]pivot集計!$A:$G,H$3,FALSE),0)+IFERROR(VLOOKUP($AM33,[1]pivot集計!$A:$G,H$3,FALSE),0)+IFERROR(VLOOKUP($AN33,[1]pivot集計!$A:$G,H$3,FALSE),0)+IFERROR(VLOOKUP($AO33,[1]pivot集計!$A:$G,H$3,FALSE),0) -> 6016.4 | I33: =IFERROR(VLOOKUP($W33,[1]pivot集計!$A:$G,I$3,FALSE),0)+IFERROR(VLOOKUP($X33,[1]pivot集計!$A:$G,I$3,FALSE),0)+IFERROR(VLOOKUP($Y33,[1]pivot集計!$A:$G,I$3,FALSE),0)+IFERROR(VLOOKUP($Z33,[1]pivot集計!$A:$G,I$3,FALSE),0)+IFERROR(VLOOKUP($AA33,[1]pivot集計!$A:$G,I$3,FALSE),0)+IFERROR(VLOOKUP($AB33,[1]pivot集計!$A:$G,I$3,FALSE),0)+IFERROR(VLOOKUP($AC33,[1]pivot集計!$A:$G,I$3,FALSE),0)+IFERROR(VLOOKUP($AD33,[1]pivot集計!$A:$G,I$3,FALSE),0)+IFERROR(VLOOKUP($AE33,[1]pivot集計!$A:$G,I$3,FALSE),0)+IFERROR(VLOOKUP($AF33,[1]pivot集計!$A:$G,I$3,FALSE),0)+IFERROR(VLOOKUP($AG33,[1]pivot集計!$A:$G,I$3,FALSE),0)+IFERROR(VLOOKUP($AH33,[1]pivot集計!$A:$G,I$3,FALSE),0)+IFERROR(VLOOKUP($AI33,[1]pivot集計!$A:$G,I$3,FALSE),0)+IFERROR(VLOOKUP($AJ33,[1]pivot集計!$A:$G,I$3,FALSE),0)+IFERROR(VLOOKUP($AK33,[1]pivot集計!$A:$G,I$3,FALSE),0)+IFERROR(VLOOKUP($AL33,[1]pivot集計!$A:$G,I$3,FALSE),0)+IFERROR(VLOOKUP($AM33,[1]pivot集計!$A:$G,I$3,FALSE),0)+IFERROR(VLOOKUP($AN33,[1]pivot集計!$A:$G,I$3,FALSE),0)+IFERROR(VLOOKUP($AO33,[1]pivot集計!$A:$G,I$3,FALSE),0) -> 14577.378 | J33: =SUM(E33:I33) -> 1153952.8 | N33: 29 | O33: その他の資材 | P33: =E33/$E$58 -> 0.0085371272 | Q33: =F33/$F$58 -> 0.010220649 | R33: =G33/$G$58 -> 0.003431898 | S33: =H33/$H$58 -> 0.0013227846 | T33: =I33/$I$58 -> 0.00014233767 | U33: =J33/$J$58 -> 0.0048088185 | W33: 合計 / ③-40 | X33: 合計 / ③-41 | Y33: 合計 / ③-42 | Z33: 合計 / ③-43 | AA33: 合計 / ③-44
C34: 30 | D34: 鉄・非鉄金属屑 | E34: =IFERROR(VLOOKUP($W34,[1]pivot集計!$A:$G,E$3,FALSE),0)+IFERROR(VLOOKUP($X34,[1]pivot集計!$A:$G,E$3,FALSE),0)+IFERROR(VLOOKUP($Y34,[1]pivot集計!$A:$G,E$3,FALSE),0)+IFERROR(VLOOKUP($Z34,[1]pivot集計!$A:$G,E$3,FALSE),0)+IFERROR(VLOOKUP($AA34,[1]pivot集計!$A:$G,E$3,FALSE),0)+IFERROR(VLOOKUP($AB34,[1]pivot集計!$A:$G,E$3,FALSE),0)+IFERROR(VLOOKUP($AC34,[1]pivot集計!$A:$G,E$3,FALSE),0)+IFERROR(VLOOKUP($AD34,[1]pivot集計!$A:$G,E$3,FALSE),0)+IFERROR(VLOOKUP($AE34,[1]pivot集計!$A:$G,E$3,FALSE),0)+IFERROR(VLOOKUP($AF34,[1]pivot集計!$A:$G,E$3,FALSE),0)+IFERROR(VLOOKUP($AG34,[1]pivot集計!$A:$G,E$3,FALSE),0)+IFERROR(VLOOKUP($AH34,[1]pivot集計!$A:$G,E$3,FALSE),0)+IFERROR(VLOOKUP($AI34,[1]pivot集計!$A:$G,E$3,FALSE),0)+IFERROR(VLOOKUP($AJ34,[1]pivot集計!$A:$G,E$3,FALSE),0)+IFERROR(VLOOKUP($AK34,[1]pivot集計!$A:$G,E$3,FALSE),0)+IFERROR(VLOOKUP($AL34,[1]pivot集計!$A:$G,E$3,FALSE),0)+IFERROR(VLOOKUP($AM34,[1]pivot集計!$A:$G,E$3,FALSE),0)+IFERROR(VLOOKUP($AN34,[1]pivot集計!$A:$G,E$3,FALSE),0)+IFERROR(VLOOKUP($AO34,[1]pivot集計!$A:$G,E$3,FALSE),0) -> -77533 | F34: =IFERROR(VLOOKUP($W34,[1]pivot集計!$A:$G,F$3,FALSE),0)+IFERROR(VLOOKUP($X34,[1]pivot集計!$A:$G,F$3,FALSE),0)+IFERROR(VLOOKUP($Y34,[1]pivot集計!$A:$G,F$3,FALSE),0)+IFERROR(VLOOKUP($Z34,[1]pivot集計!$A:$G,F$3,FALSE),0)+IFERROR(VLOOKUP($AA34,[1]pivot集計!$A:$G,F$3,FALSE),0)+IFERROR(VLOOKUP($AB34,[1]pivot集計!$A:$G,F$3,FALSE),0)+IFERROR(VLOOKUP($AC34,[1]pivot集計!$A:$G,F$3,FALSE),0)+IFERROR(VLOOKUP($AD34,[1]pivot集計!$A:$G,F$3,FALSE),0)+IFERROR(VLOOKUP($AE34,[1]pivot集計!$A:$G,F$3,FALSE),0)+IFERROR(VLOOKUP($AF34,[1]pivot集計!$A:$G,F$3,FALSE),0)+IFERROR(VLOOKUP($AG34,[1]pivot集計!$A:$G,F$3,FALSE),0)+IFERROR(VLOOKUP($AH34,[1]pivot集計!$A:$G,F$3,FALSE),0)+IFERROR(VLOOKUP($AI34,[1]pivot集計!$A:$G,F$3,FALSE),0)+IFERROR(VLOOKUP($AJ34,[1]pivot集計!$A:$G,F$3,FALSE),0)+IFERROR(VLOOKUP($AK34,[1]pivot集計!$A:$G,F$3,FALSE),0)+IFERROR(VLOOKUP($AL34,[1]pivot集計!$A:$G,F$3,FALSE),0)+IFERROR(VLOOKUP($AM34,[1]pivot集計!$A:$G,F$3,FALSE),0)+IFERROR(VLOOKUP($AN34,[1]pivot集計!$A:$G,F$3,FALSE),0)+IFERROR(VLOOKUP($AO34,[1]pivot集計!$A:$G,F$3,FALSE),0) -> -2340 | G34: =IFERROR(VLOOKUP($W34,[1]pivot集計!$A:$G,G$3,FALSE),0)+IFERROR(VLOOKUP($X34,[1]pivot集計!$A:$G,G$3,FALSE),0)+IFERROR(VLOOKUP($Y34,[1]pivot集計!$A:$G,G$3,FALSE),0)+IFERROR(VLOOKUP($Z34,[1]pivot集計!$A:$G,G$3,FALSE),0)+IFERROR(VLOOKUP($AA34,[1]pivot集計!$A:$G,G$3,FALSE),0)+IFERROR(VLOOKUP($AB34,[1]pivot集計!$A:$G,G$3,FALSE),0)+IFERROR(VLOOKUP($AC34,[1]pivot集計!$A:$G,G$3,FALSE),0)+IFERROR(VLOOKUP($AD34,[1]pivot集計!$A:$G,G$3,FALSE),0)+IFERROR(VLOOKUP($AE34,[1]pivot集計!$A:$G,G$3,FALSE),0)+IFERROR(VLOOKUP($AF34,[1]pivot集計!$A:$G,G$3,FALSE),0)+IFERROR(VLOOKUP($AG34,[1]pivot集計!$A:$G,G$3,FALSE),0)+IFERROR(VLOOKUP($AH34,[1]pivot集計!$A:$G,G$3,FALSE),0)+IFERROR(VLOOKUP($AI34,[1]pivot集計!$A:$G,G$3,FALSE),0)+IFERROR(VLOOKUP($AJ34,[1]pivot集計!$A:$G,G$3,FALSE),0)+IFERROR(VLOOKUP($AK34,[1]pivot集計!$A:$G,G$3,FALSE),0)+IFERROR(VLOOKUP($AL34,[1]pivot集計!$A:$G,G$3,FALSE),0)+IFERROR(VLOOKUP($AM34,[1]pivot集計!$A:$G,G$3,FALSE),0)+IFERROR(VLOOKUP($AN34,[1]pivot集計!$A:$G,G$3,FALSE),0)+IFERROR(VLOOKUP($AO34,[1]pivot集計!$A:$G,G$3,FALSE),0) -> -712 | H34: =IFERROR(VLOOKUP($W34,[1]pivot集計!$A:$G,H$3,FALSE),0)+IFERROR(VLOOKUP($X34,[1]pivot集計!$A:$G,H$3,FALSE),0)+IFERROR(VLOOKUP($Y34,[1]pivot集計!$A:$G,H$3,FALSE),0)+IFERROR(VLOOKUP($Z34,[1]pivot集計!$A:$G,H$3,FALSE),0)+IFERROR(VLOOKUP($AA34,[1]pivot集計!$A:$G,H$3,FALSE),0)+IFERROR(VLOOKUP($AB34,[1]pivot集計!$A:$G,H$3,FALSE),0)+IFERROR(VLOOKUP($AC34,[1]pivot集計!$A:$G,H$3,FALSE),0)+IFERROR(VLOOKUP($AD34,[1]pivot集計!$A:$G,H$3,FALSE),0)+IFERROR(VLOOKUP($AE34,[1]pivot集計!$A:$G,H$3,FALSE),0)+IFERROR(VLOOKUP($AF34,[1]pivot集計!$A:$G,H$3,FALSE),0)+IFERROR(VLOOKUP($AG34,[1]pivot集計!$A:$G,H$3,FALSE),0)+IFERROR(VLOOKUP($AH34,[1]pivot集計!$A:$G,H$3,FALSE),0)+IFERROR(VLOOKUP($AI34,[1]pivot集計!$A:$G,H$3,FALSE),0)+IFERROR(VLOOKUP($AJ34,[1]pivot集計!$A:$G,H$3,FALSE),0)+IFERROR(VLOOKUP($AK34,[1]pivot集計!$A:$G,H$3,FALSE),0)+IFERROR(VLOOKUP($AL34,[1]pivot集計!$A:$G,H$3,FALSE),0)+IFERROR(VLOOKUP($AM34,[1]pivot集計!$A:$G,H$3,FALSE),0)+IFERROR(VLOOKUP($AN34,[1]pivot集計!$A:$G,H$3,FALSE),0)+IFERROR(VLOOKUP($AO34,[1]pivot集計!$A:$G,H$3,FALSE),0) -> -581 | I34: =IFERROR(VLOOKUP($W34,[1]pivot集計!$A:$G,I$3,FALSE),0)+IFERROR(VLOOKUP($X34,[1]pivot集計!$A:$G,I$3,FALSE),0)+IFERROR(VLOOKUP($Y34,[1]pivot集計!$A:$G,I$3,FALSE),0)+IFERROR(VLOOKUP($Z34,[1]pivot集計!$A:$G,I$3,FALSE),0)+IFERROR(VLOOKUP($AA34,[1]pivot集計!$A:$G,I$3,FALSE),0)+IFERROR(VLOOKUP($AB34,[1]pivot集計!$A:$G,I$3,FALSE),0)+IFERROR(VLOOKUP($AC34,[1]pivot集計!$A:$G,I$3,FALSE),0)+IFERROR(VLOOKUP($AD34,[1]pivot集計!$A:$G,I$3,FALSE),0)+IFERROR(VLOOKUP($AE34,[1]pivot集計!$A:$G,I$3,FALSE),0)+IFERROR(VLOOKUP($AF34,[1]pivot集計!$A:$G,I$3,FALSE),0)+IFERROR(VLOOKUP($AG34,[1]pivot集計!$A:$G,I$3,FALSE),0)+IFERROR(VLOOKUP($AH34,[1]pivot集計!$A:$G,I$3,FALSE),0)+IFERROR(VLOOKUP($AI34,[1]pivot集計!$A:$G,I$3,FALSE),0)+IFERROR(VLOOKUP($AJ34,[1]pivot集計!$A:$G,I$3,FALSE),0)+IFERROR(VLOOKUP($AK34,[1]pivot集計!$A:$G,I$3,FALSE),0)+IFERROR(VLOOKUP($AL34,[1]pivot集計!$A:$G,I$3,FALSE),0)+IFERROR(VLOOKUP($AM34,[1]pivot集計!$A:$G,I$3,FALSE),0)+IFERROR(VLOOKUP($AN34,[1]pivot集計!$A:$G,I$3,FALSE),0)+IFERROR(VLOOKUP($AO34,[1]pivot集計!$A:$G,I$3,FALSE),0) -> -11164.137 | J34: =SUM(E34:I34) -> -92330.137 | N34: 30 | O34: 鉄・非鉄金属屑 | P34: =E34/$E$58 -> -0.00060835107 | Q34: =F34/$F$58 -> -0.00060507816 | R34: =G34/$G$58 -> -0.00042165856 | S34: =H34/$H$58 -> -0.00012774048 | T34: =I34/$I$58 -> -0.00010900982 | U34: =J34/$J$58 -> -0.00038476347 | W34: 合計 / ③-45 | X34: 合計 / ③-46 | Y34: 合計 / ③-47
C35: 31 | D35: 諸雑費・まるめ（材料費分） | E35: =IFERROR(VLOOKUP($W35,[1]pivot集計!$A:$G,E$3,FALSE),0)+IFERROR(VLOOKUP($X35,[1]pivot集計!$A:$G,E$3,FALSE),0)+IFERROR(VLOOKUP($Y35,[1]pivot集計!$A:$G,E$3,FALSE),0)+IFERROR(VLOOKUP($Z35,[1]pivot集計!$A:$G,E$3,FALSE),0)+IFERROR(VLOOKUP($AA35,[1]pivot集計!$A:$G,E$3,FALSE),0)+IFERROR(VLOOKUP($AB35,[1]pivot集計!$A:$G,E$3,FALSE),0)+IFERROR(VLOOKUP($AC35,[1]pivot集計!$A:$G,E$3,FALSE),0)+IFERROR(VLOOKUP($AD35,[1]pivot集計!$A:$G,E$3,FALSE),0)+IFERROR(VLOOKUP($AE35,[1]pivot集計!$A:$G,E$3,FALSE),0)+IFERROR(VLOOKUP($AF35,[1]pivot集計!$A:$G,E$3,FALSE),0)+IFERROR(VLOOKUP($AG35,[1]pivot集計!$A:$G,E$3,FALSE),0)+IFERROR(VLOOKUP($AH35,[1]pivot集計!$A:$G,E$3,FALSE),0)+IFERROR(VLOOKUP($AI35,[1]pivot集計!$A:$G,E$3,FALSE),0)+IFERROR(VLOOKUP($AJ35,[1]pivot集計!$A:$G,E$3,FALSE),0)+IFERROR(VLOOKUP($AK35,[1]pivot集計!$A:$G,E$3,FALSE),0)+IFERROR(VLOOKUP($AL35,[1]pivot集計!$A:$G,E$3,FALSE),0)+IFERROR(VLOOKUP($AM35,[1]pivot集計!$A:$G,E$3,FALSE),0)+IFERROR(VLOOKUP($AN35,[1]pivot集計!$A:$G,E$3,FALSE),0)+IFERROR(VLOOKUP($AO35,[1]pivot集計!$A:$G,E$3,FALSE),0) -> 2547841 | F35: =IFERROR(VLOOKUP($W35,[1]pivot集計!$A:$G,F$3,FALSE),0)+IFERROR(VLOOKUP($X35,[1]pivot集計!$A:$G,F$3,FALSE),0)+IFERROR(VLOOKUP($Y35,[1]pivot集計!$A:$G,F$3,FALSE),0)+IFERROR(VLOOKUP($Z35,[1]pivot集計!$A:$G,F$3,FALSE),0)+IFERROR(VLOOKUP($AA35,[1]pivot集計!$A:$G,F$3,FALSE),0)+IFERROR(VLOOKUP($AB35,[1]pivot集計!$A:$G,F$3,FALSE),0)+IFERROR(VLOOKUP($AC35,[1]pivot集計!$A:$G,F$3,FALSE),0)+IFERROR(VLOOKUP($AD35,[1]pivot集計!$A:$G,F$3,FALSE),0)+IFERROR(VLOOKUP($AE35,[1]pivot集計!$A:$G,F$3,FALSE),0)+IFERROR(VLOOKUP($AF35,[1]pivot集計!$A:$G,F$3,FALSE),0)+IFERROR(VLOOKUP($AG35,[1]pivot集計!$A:$G,F$3,FALSE),0)+IFERROR(VLOOKUP($AH35,[1]pivot集計!$A:$G,F$3,FALSE),0)+IFERROR(VLOOKUP($AI35,[1]pivot集計!$A:$G,F$3,FALSE),0)+IFERROR(VLOOKUP($AJ35,[1]pivot集計!$A:$G,F$3,FALSE),0)+IFERROR(VLOOKUP($AK35,[1]pivot集計!$A:$G,F$3,FALSE),0)+IFERROR(VLOOKUP($AL35,[1]pivot集計!$A:$G,F$3,FALSE),0)+IFERROR(VLOOKUP($AM35,[1]pivot集計!$A:$G,F$3,FALSE),0)+IFERROR(VLOOKUP($AN35,[1]pivot集計!$A:$G,F$3,FALSE),0)+IFERROR(VLOOKUP($AO35,[1]pivot集計!$A:$G,F$3,FALSE),0) -> 38321 | G35: =IFERROR(VLOOKUP($W35,[1]pivot集計!$A:$G,G$3,FALSE),0)+IFERROR(VLOOKUP($X35,[1]pivot集計!$A:$G,G$3,FALSE),0)+IFERROR(VLOOKUP($Y35,[1]pivot集計!$A:$G,G$3,FALSE),0)+IFERROR(VLOOKUP($Z35,[1]pivot集計!$A:$G,G$3,FALSE),0)+IFERROR(VLOOKUP($AA35,[1]pivot集計!$A:$G,G$3,FALSE),0)+IFERROR(VLOOKUP($AB35,[1]pivot集計!$A:$G,G$3,FALSE),0)+IFERROR(VLOOKUP($AC35,[1]pivot集計!$A:$G,G$3,FALSE),0)+IFERROR(VLOOKUP($AD35,[1]pivot集計!$A:$G,G$3,FALSE),0)+IFERROR(VLOOKUP($AE35,[1]pivot集計!$A:$G,G$3,FALSE),0)+IFERROR(VLOOKUP($AF35,[1]pivot集計!$A:$G,G$3,FALSE),0)+IFERROR(VLOOKUP($AG35,[1]pivot集計!$A:$G,G$3,FALSE),0)+IFERROR(VLOOKUP($AH35,[1]pivot集計!$A:$G,G$3,FALSE),0)+IFERROR(VLOOKUP($AI35,[1]pivot集計!$A:$G,G$3,FALSE),0)+IFERROR(VLOOKUP($AJ35,[1]pivot集計!$A:$G,G$3,FALSE),0)+IFERROR(VLOOKUP($AK35,[1]pivot集計!$A:$G,G$3,FALSE),0)+IFERROR(VLOOKUP($AL35,[1]pivot集計!$A:$G,G$3,FALSE),0)+IFERROR(VLOOKUP($AM35,[1]pivot集計!$A:$G,G$3,FALSE),0)+IFERROR(VLOOKUP($AN35,[1]pivot集計!$A:$G,G$3,FALSE),0)+IFERROR(VLOOKUP($AO35,[1]pivot集計!$A:$G,G$3,FALSE),0) -> 11170 | H35: =IFERROR(VLOOKUP($W35,[1]pivot集計!$A:$G,H$3,FALSE),0)+IFERROR(VLOOKUP($X35,[1]pivot集計!$A:$G,H$3,FALSE),0)+IFERROR(VLOOKUP($Y35,[1]pivot集計!$A:$G,H$3,FALSE),0)+IFERROR(VLOOKUP($Z35,[1]pivot集計!$A:$G,H$3,FALSE),0)+IFERROR(VLOOKUP($AA35,[1]pivot集計!$A:$G,H$3,FALSE),0)+IFERROR(VLOOKUP($AB35,[1]pivot集計!$A:$G,H$3,FALSE),0)+IFERROR(VLOOKUP($AC35,[1]pivot集計!$A:$G,H$3,FALSE),0)+IFERROR(VLOOKUP($AD35,[1]pivot集計!$A:$G,H$3,FALSE),0)+IFERROR(VLOOKUP($AE35,[1]pivot集計!$A:$G,H$3,FALSE),0)+IFERROR(VLOOKUP($AF35,[1]pivot集計!$A:$G,H$3,FALSE),0)+IFERROR(VLOOKUP($AG35,[1]pivot集計!$A:$G,H$3,FALSE),0)+IFERROR(VLOOKUP($AH35,[1]pivot集計!$A:$G,H$3,FALSE),0)+IFERROR(VLOOKUP($AI35,[1]pivot集計!$A:$G,H$3,FALSE),0)+IFERROR(VLOOKUP($AJ35,[1]pivot集計!$A:$G,H$3,FALSE),0)+IFERROR(VLOOKUP($AK35,[1]pivot集計!$A:$G,H$3,FALSE),0)+IFERROR(VLOOKUP($AL35,[1]pivot集計!$A:$G,H$3,FALSE),0)+IFERROR(VLOOKUP($AM35,[1]pivot集計!$A:$G,H$3,FALSE),0)+IFERROR(VLOOKUP($AN35,[1]pivot集計!$A:$G,H$3,FALSE),0)+IFERROR(VLOOKUP($AO35,[1]pivot集計!$A:$G,H$3,FALSE),0) -> 0 | I35: =IFERROR(VLOOKUP($W35,[1]pivot集計!$A:$G,I$3,FALSE),0)+IFERROR(VLOOKUP($X35,[1]pivot集計!$A:$G,I$3,FALSE),0)+IFERROR(VLOOKUP($Y35,[1]pivot集計!$A:$G,I$3,FALSE),0)+IFERROR(VLOOKUP($Z35,[1]pivot集計!$A:$G,I$3,FALSE),0)+IFERROR(VLOOKUP($AA35,[1]pivot集計!$A:$G,I$3,FALSE),0)+IFERROR(VLOOKUP($AB35,[1]pivot集計!$A:$G,I$3,FALSE),0)+IFERROR(VLOOKUP($AC35,[1]pivot集計!$A:$G,I$3,FALSE),0)+IFERROR(VLOOKUP($AD35,[1]pivot集計!$A:$G,I$3,FALSE),0)+IFERROR(VLOOKUP($AE35,[1]pivot集計!$A:$G,I$3,FALSE),0)+IFERROR(VLOOKUP($AF35,[1]pivot集計!$A:$G,I$3,FALSE),0)+IFERROR(VLOOKUP($AG35,[1]pivot集計!$A:$G,I$3,FALSE),0)+IFERROR(VLOOKUP($AH35,[1]pivot集計!$A:$G,I$3,FALSE),0)+IFERROR(VLOOKUP($AI35,[1]pivot集計!$A:$G,I$3,FALSE),0)+IFERROR(VLOOKUP($AJ35,[1]pivot集計!$A:$G,I$3,FALSE),0)+IFERROR(VLOOKUP($AK35,[1]pivot集計!$A:$G,I$3,FALSE),0)+IFERROR(VLOOKUP($AL35,[1]pivot集計!$A:$G,I$3,FALSE),0)+IFERROR(VLOOKUP($AM35,[1]pivot集計!$A:$G,I$3,FALSE),0)+IFERROR(VLOOKUP($AN35,[1]pivot集計!$A:$G,I$3,FALSE),0)+IFERROR(VLOOKUP($AO35,[1]pivot集計!$A:$G,I$3,FALSE),0) -> 2181224.8 | J35: =SUM(E35:I35) -> 4778556.8 | N35: 31 | O35: 諸雑費・まるめ（材料費分） | P35: =E35/$E$58 -> 0.019991253 | Q35: =F35/$F$58 -> 0.0099090599 | R35: =G35/$G$58 -> 0.0066150648 | S35: =H35/$H$58 -> 0 | T35: =I35/$I$58 -> 0.021298101 | U35: =J35/$J$58 -> 0.019913477 | W35: 合計 / ③-48
C36: 32 | D36: 市場単価等 | E36: =IFERROR(VLOOKUP($W36,[1]pivot集計!$A:$G,E$3,FALSE),0)+IFERROR(VLOOKUP($X36,[1]pivot集計!$A:$G,E$3,FALSE),0)+IFERROR(VLOOKUP($Y36,[1]pivot集計!$A:$G,E$3,FALSE),0)+IFERROR(VLOOKUP($Z36,[1]pivot集計!$A:$G,E$3,FALSE),0)+IFERROR(VLOOKUP($AA36,[1]pivot集計!$A:$G,E$3,FALSE),0)+IFERROR(VLOOKUP($AB36,[1]pivot集計!$A:$G,E$3,FALSE),0)+IFERROR(VLOOKUP($AC36,[1]pivot集計!$A:$G,E$3,FALSE),0)+IFERROR(VLOOKUP($AD36,[1]pivot集計!$A:$G,E$3,FALSE),0)+IFERROR(VLOOKUP($AE36,[1]pivot集計!$A:$G,E$3,FALSE),0)+IFERROR(VLOOKUP($AF36,[1]pivot集計!$A:$G,E$3,FALSE),0)+IFERROR(VLOOKUP($AG36,[1]pivot集計!$A:$G,E$3,FALSE),0)+IFERROR(VLOOKUP($AH36,[1]pivot集計!$A:$G,E$3,FALSE),0)+IFERROR(VLOOKUP($AI36,[1]pivot集計!$A:$G,E$3,FALSE),0)+IFERROR(VLOOKUP($AJ36,[1]pivot集計!$A:$G,E$3,FALSE),0)+IFERROR(VLOOKUP($AK36,[1]pivot集計!$A:$G,E$3,FALSE),0)+IFERROR(VLOOKUP($AL36,[1]pivot集計!$A:$G,E$3,FALSE),0)+IFERROR(VLOOKUP($AM36,[1]pivot集計!$A:$G,E$3,FALSE),0)+IFERROR(VLOOKUP($AN36,[1]pivot集計!$A:$G,E$3,FALSE),0)+IFERROR(VLOOKUP($AO36,[1]pivot集計!$A:$G,E$3,FALSE),0) -> 8268826 | F36: =IFERROR(VLOOKUP($W36,[1]pivot集計!$A:$G,F$3,FALSE),0)+IFERROR(VLOOKUP($X36,[1]pivot集計!$A:$G,F$3,FALSE),0)+IFERROR(VLOOKUP($Y36,[1]pivot集計!$A:$G,F$3,FALSE),0)+IFERROR(VLOOKUP($Z36,[1]pivot集計!$A:$G,F$3,FALSE),0)+IFERROR(VLOOKUP($AA36,[1]pivot集計!$A:$G,F$3,FALSE),0)+IFERROR(VLOOKUP($AB36,[1]pivot集計!$A:$G,F$3,FALSE),0)+IFERROR(VLOOKUP($AC36,[1]pivot集計!$A:$G,F$3,FALSE),0)+IFERROR(VLOOKUP($AD36,[1]pivot集計!$A:$G,F$3,FALSE),0)+IFERROR(VLOOKUP($AE36,[1]pivot集計!$A:$G,F$3,FALSE),0)+IFERROR(VLOOKUP($AF36,[1]pivot集計!$A:$G,F$3,FALSE),0)+IFERROR(VLOOKUP($AG36,[1]pivot集計!$A:$G,F$3,FALSE),0)+IFERROR(VLOOKUP($AH36,[1]pivot集計!$A:$G,F$3,FALSE),0)+IFERROR(VLOOKUP($AI36,[1]pivot集計!$A:$G,F$3,FALSE),0)+IFERROR(VLOOKUP($AJ36,[1]pivot集計!$A:$G,F$3,FALSE),0)+IFERROR(VLOOKUP($AK36,[1]pivot集計!$A:$G,F$3,FALSE),0)+IFERROR(VLOOKUP($AL36,[1]pivot集計!$A:$G,F$3,FALSE),0)+IFERROR(VLOOKUP($AM36,[1]pivot集計!$A:$G,F$3,FALSE),0)+IFERROR(VLOOKUP($AN36,[1]pivot集計!$A:$G,F$3,FALSE),0)+IFERROR(VLOOKUP($AO36,[1]pivot集計!$A:$G,F$3,FALSE),0) -> 68523 | G36: =IFERROR(VLOOKUP($W36,[1]pivot集計!$A:$G,G$3,FALSE),0)+IFERROR(VLOOKUP($X36,[1]pivot集計!$A:$G,G$3,FALSE),0)+IFERROR(VLOOKUP($Y36,[1]pivot集計!$A:$G,G$3,FALSE),0)+IFERROR(VLOOKUP($Z36,[1]pivot集計!$A:$G,G$3,FALSE),0)+IFERROR(VLOOKUP($AA36,[1]pivot集計!$A:$G,G$3,FALSE),0)+IFERROR(VLOOKUP($AB36,[1]pivot集計!$A:$G,G$3,FALSE),0)+IFERROR(VLOOKUP($AC36,[1]pivot集計!$A:$G,G$3,FALSE),0)+IFERROR(VLOOKUP($AD36,[1]pivot集計!$A:$G,G$3,FALSE),0)+IFERROR(VLOOKUP($AE36,[1]pivot集計!$A:$G,G$3,FALSE),0)+IFERROR(VLOOKUP($AF36,[1]pivot集計!$A:$G,G$3,FALSE),0)+IFERROR(VLOOKUP($AG36,[1]pivot集計!$A:$G,G$3,FALSE),0)+IFERROR(VLOOKUP($AH36,[1]pivot集計!$A:$G,G$3,FALSE),0)+IFERROR(VLOOKUP($AI36,[1]pivot集計!$A:$G,G$3,FALSE),0)+IFERROR(VLOOKUP($AJ36,[1]pivot集計!$A:$G,G$3,FALSE),0)+IFERROR(VLOOKUP($AK36,[1]pivot集計!$A:$G,G$3,FALSE),0)+IFERROR(VLOOKUP($AL36,[1]pivot集計!$A:$G,G$3,FALSE),0)+IFERROR(VLOOKUP($AM36,[1]pivot集計!$A:$G,G$3,FALSE),0)+IFERROR(VLOOKUP($AN36,[1]pivot集計!$A:$G,G$3,FALSE),0)+IFERROR(VLOOKUP($AO36,[1]pivot集計!$A:$G,G$3,FALSE),0) -> 40559 | H36: =IFERROR(VLOOKUP($W36,[1]pivot集計!$A:$G,H$3,FALSE),0)+IFERROR(VLOOKUP($X36,[1]pivot集計!$A:$G,H$3,FALSE),0)+IFERROR(VLOOKUP($Y36,[1]pivot集計!$A:$G,H$3,FALSE),0)+IFERROR(VLOOKUP($Z36,[1]pivot集計!$A:$G,H$3,FALSE),0)+IFERROR(VLOOKUP($AA36,[1]pivot集計!$A:$G,H$3,FALSE),0)+IFERROR(VLOOKUP($AB36,[1]pivot集計!$A:$G,H$3,FALSE),0)+IFERROR(VLOOKUP($AC36,[1]pivot集計!$A:$G,H$3,FALSE),0)+IFERROR(VLOOKUP($AD36,[1]pivot集計!$A:$G,H$3,FALSE),0)+IFERROR(VLOOKUP($AE36,[1]pivot集計!$A:$G,H$3,FALSE),0)+IFERROR(VLOOKUP($AF36,[1]pivot集計!$A:$G,H$3,FALSE),0)+IFERROR(VLOOKUP($AG36,[1]pivot集計!$A:$G,H$3,FALSE),0)+IFERROR(VLOOKUP($AH36,[1]pivot集計!$A:$G,H$3,FALSE),0)+IFERROR(VLOOKUP($AI36,[1]pivot集計!$A:$G,H$3,FALSE),0)+IFERROR(VLOOKUP($AJ36,[1]pivot集計!$A:$G,H$3,FALSE),0)+IFERROR(VLOOKUP($AK36,[1]pivot集計!$A:$G,H$3,FALSE),0)+IFERROR(VLOOKUP($AL36,[1]pivot集計!$A:$G,H$3,FALSE),0)+IFERROR(VLOOKUP($AM36,[1]pivot集計!$A:$G,H$3,FALSE),0)+IFERROR(VLOOKUP($AN36,[1]pivot集計!$A:$G,H$3,FALSE),0)+IFERROR(VLOOKUP($AO36,[1]pivot集計!$A:$G,H$3,FALSE),0) -> 1743079.1 | I36: =IFERROR(VLOOKUP($W36,[1]pivot集計!$A:$G,I$3,FALSE),0)+IFERROR(VLOOKUP($X36,[1]pivot集計!$A:$G,I$3,FALSE),0)+IFERROR(VLOOKUP($Y36,[1]pivot集計!$A:$G,I$3,FALSE),0)+IFERROR(VLOOKUP($Z36,[1]pivot集計!$A:$G,I$3,FALSE),0)+IFERROR(VLOOKUP($AA36,[1]pivot集計!$A:$G,I$3,FALSE),0)+IFERROR(VLOOKUP($AB36,[1]pivot集計!$A:$G,I$3,FALSE),0)+IFERROR(VLOOKUP($AC36,[1]pivot集計!$A:$G,I$3,FALSE),0)+IFERROR(VLOOKUP($AD36,[1]pivot集計!$A:$G,I$3,FALSE),0)+IFERROR(VLOOKUP($AE36,[1]pivot集計!$A:$G,I$3,FALSE),0)+IFERROR(VLOOKUP($AF36,[1]pivot集計!$A:$G,I$3,FALSE),0)+IFERROR(VLOOKUP($AG36,[1]pivot集計!$A:$G,I$3,FALSE),0)+IFERROR(VLOOKUP($AH36,[1]pivot集計!$A:$G,I$3,FALSE),0)+IFERROR(VLOOKUP($AI36,[1]pivot集計!$A:$G,I$3,FALSE),0)+IFERROR(VLOOKUP($AJ36,[1]pivot集計!$A:$G,I$3,FALSE),0)+IFERROR(VLOOKUP($AK36,[1]pivot集計!$A:$G,I$3,FALSE),0)+IFERROR(VLOOKUP($AL36,[1]pivot集計!$A:$G,I$3,FALSE),0)+IFERROR(VLOOKUP($AM36,[1]pivot集計!$A:$G,I$3,FALSE),0)+IFERROR(VLOOKUP($AN36,[1]pivot集計!$A:$G,I$3,FALSE),0)+IFERROR(VLOOKUP($AO36,[1]pivot集計!$A:$G,I$3,FALSE),0) -> 2639740.7 | J36: =SUM(E36:I36) -> 12760728 | N36: 32 | O36: 市場単価等 | P36: =E36/$E$58 -> 0.064880105 | Q36: =F36/$F$58 -> 0.017718705 | R36: =G36/$G$58 -> 0.024019733 | S36: =H36/$H$58 -> 0.38323884 | T36: =I36/$I$58 -> 0.025775181 | U36: =J36/$J$58 -> 0.05317724 | W36: 合計 / ④-01
C37: 33 | D37: 特許使用料 | E37: =IFERROR(VLOOKUP($W37,[1]pivot集計!$A:$G,E$3,FALSE),0)+IFERROR(VLOOKUP($X37,[1]pivot集計!$A:$G,E$3,FALSE),0)+IFERROR(VLOOKUP($Y37,[1]pivot集計!$A:$G,E$3,FALSE),0)+IFERROR(VLOOKUP($Z37,[1]pivot集計!$A:$G,E$3,FALSE),0)+IFERROR(VLOOKUP($AA37,[1]pivot集計!$A:$G,E$3,FALSE),0)+IFERROR(VLOOKUP($AB37,[1]pivot集計!$A:$G,E$3,FALSE),0)+IFERROR(VLOOKUP($AC37,[1]pivot集計!$A:$G,E$3,FALSE),0)+IFERROR(VLOOKUP($AD37,[1]pivot集計!$A:$G,E$3,FALSE),0)+IFERROR(VLOOKUP($AE37,[1]pivot集計!$A:$G,E$3,FALSE),0)+IFERROR(VLOOKUP($AF37,[1]pivot集計!$A:$G,E$3,FALSE),0)+IFERROR(VLOOKUP($AG37,[1]pivot集計!$A:$G,E$3,FALSE),0)+IFERROR(VLOOKUP($AH37,[1]pivot集計!$A:$G,E$3,FALSE),0)+IFERROR(VLOOKUP($AI37,[1]pivot集計!$A:$G,E$3,FALSE),0)+IFERROR(VLOOKUP($AJ37,[1]pivot集計!$A:$G,E$3,FALSE),0)+IFERROR(VLOOKUP($AK37,[1]pivot集計!$A:$G,E$3,FALSE),0)+IFERROR(VLOOKUP($AL37,[1]pivot集計!$A:$G,E$3,FALSE),0)+IFERROR(VLOOKUP($AM37,[1]pivot集計!$A:$G,E$3,FALSE),0)+IFERROR(VLOOKUP($AN37,[1]pivot集計!$A:$G,E$3,FALSE),0)+IFERROR(VLOOKUP($AO37,[1]pivot集計!$A:$G,E$3,FALSE),0) -> 0 | F37: =IFERROR(VLOOKUP($W37,[1]pivot集計!$A:$G,F$3,FALSE),0)+IFERROR(VLOOKUP($X37,[1]pivot集計!$A:$G,F$3,FALSE),0)+IFERROR(VLOOKUP($Y37,[1]pivot集計!$A:$G,F$3,FALSE),0)+IFERROR(VLOOKUP($Z37,[1]pivot集計!$A:$G,F$3,FALSE),0)+IFERROR(VLOOKUP($AA37,[1]pivot集計!$A:$G,F$3,FALSE),0)+IFERROR(VLOOKUP($AB37,[1]pivot集計!$A:$G,F$3,FALSE),0)+IFERROR(VLOOKUP($AC37,[1]pivot集計!$A:$G,F$3,FALSE),0)+IFERROR(VLOOKUP($AD37,[1]pivot集計!$A:$G,F$3,FALSE),0)+IFERROR(VLOOKUP($AE37,[1]pivot集計!$A:$G,F$3,FALSE),0)+IFERROR(VLOOKUP($AF37,[1]pivot集計!$A:$G,F$3,FALSE),0)+IFERROR(VLOOKUP($AG37,[1]pivot集計!$A:$G,F$3,FALSE),0)+IFERROR(VLOOKUP($AH37,[1]pivot集計!$A:$G,F$3,FALSE),0)+IFERROR(VLOOKUP($AI37,[1]pivot集計!$A:$G,F$3,FALSE),0)+IFERROR(VLOOKUP($AJ37,[1]pivot集計!$A:$G,F$3,FALSE),0)+IFERROR(VLOOKUP($AK37,[1]pivot集計!$A:$G,F$3,FALSE),0)+IFERROR(VLOOKUP($AL37,[1]pivot集計!$A:$G,F$3,FALSE),0)+IFERROR(VLOOKUP($AM37,[1]pivot集計!$A:$G,F$3,FALSE),0)+IFERROR(VLOOKUP($AN37,[1]pivot集計!$A:$G,F$3,FALSE),0)+IFERROR(VLOOKUP($AO37,[1]pivot集計!$A:$G,F$3,FALSE),0) -> 0 | G37: =IFERROR(VLOOKUP($W37,[1]pivot集計!$A:$G,G$3,FALSE),0)+IFERROR(VLOOKUP($X37,[1]pivot集計!$A:$G,G$3,FALSE),0)+IFERROR(VLOOKUP($Y37,[1]pivot集計!$A:$G,G$3,FALSE),0)+IFERROR(VLOOKUP($Z37,[1]pivot集計!$A:$G,G$3,FALSE),0)+IFERROR(VLOOKUP($AA37,[1]pivot集計!$A:$G,G$3,FALSE),0)+IFERROR(VLOOKUP($AB37,[1]pivot集計!$A:$G,G$3,FALSE),0)+IFERROR(VLOOKUP($AC37,[1]pivot集計!$A:$G,G$3,FALSE),0)+IFERROR(VLOOKUP($AD37,[1]pivot集計!$A:$G,G$3,FALSE),0)+IFERROR(VLOOKUP($AE37,[1]pivot集計!$A:$G,G$3,FALSE),0)+IFERROR(VLOOKUP($AF37,[1]pivot集計!$A:$G,G$3,FALSE),0)+IFERROR(VLOOKUP($AG37,[1]pivot集計!$A:$G,G$3,FALSE),0)+IFERROR(VLOOKUP($AH37,[1]pivot集計!$A:$G,G$3,FALSE),0)+IFERROR(VLOOKUP($AI37,[1]pivot集計!$A:$G,G$3,FALSE),0)+IFERROR(VLOOKUP($AJ37,[1]pivot集計!$A:$G,G$3,FALSE),0)+IFERROR(VLOOKUP($AK37,[1]pivot集計!$A:$G,G$3,FALSE),0)+IFERROR(VLOOKUP($AL37,[1]pivot集計!$A:$G,G$3,FALSE),0)+IFERROR(VLOOKUP($AM37,[1]pivot集計!$A:$G,G$3,FALSE),0)+IFERROR(VLOOKUP($AN37,[1]pivot集計!$A:$G,G$3,FALSE),0)+IFERROR(VLOOKUP($AO37,[1]pivot集計!$A:$G,G$3,FALSE),0) -> 0 | H37: =IFERROR(VLOOKUP($W37,[1]pivot集計!$A:$G,H$3,FALSE),0)+IFERROR(VLOOKUP($X37,[1]pivot集計!$A:$G,H$3,FALSE),0)+IFERROR(VLOOKUP($Y37,[1]pivot集計!$A:$G,H$3,FALSE),0)+IFERROR(VLOOKUP($Z37,[1]pivot集計!$A:$G,H$3,FALSE),0)+IFERROR(VLOOKUP($AA37,[1]pivot集計!$A:$G,H$3,FALSE),0)+IFERROR(VLOOKUP($AB37,[1]pivot集計!$A:$G,H$3,FALSE),0)+IFERROR(VLOOKUP($AC37,[1]pivot集計!$A:$G,H$3,FALSE),0)+IFERROR(VLOOKUP($AD37,[1]pivot集計!$A:$G,H$3,FALSE),0)+IFERROR(VLOOKUP($AE37,[1]pivot集計!$A:$G,H$3,FALSE),0)+IFERROR(VLOOKUP($AF37,[1]pivot集計!$A:$G,H$3,FALSE),0)+IFERROR(VLOOKUP($AG37,[1]pivot集計!$A:$G,H$3,FALSE),0)+IFERROR(VLOOKUP($AH37,[1]pivot集計!$A:$G,H$3,FALSE),0)+IFERROR(VLOOKUP($AI37,[1]pivot集計!$A:$G,H$3,FALSE),0)+IFERROR(VLOOKUP($AJ37,[1]pivot集計!$A:$G,H$3,FALSE),0)+IFERROR(VLOOKUP($AK37,[1]pivot集計!$A:$G,H$3,FALSE),0)+IFERROR(VLOOKUP($AL37,[1]pivot集計!$A:$G,H$3,FALSE),0)+IFERROR(VLOOKUP($AM37,[1]pivot集計!$A:$G,H$3,FALSE),0)+IFERROR(VLOOKUP($AN37,[1]pivot集計!$A:$G,H$3,FALSE),0)+IFERROR(VLOOKUP($AO37,[1]pivot集計!$A:$G,H$3,FALSE),0) -> 0 | I37: =IFERROR(VLOOKUP($W37,[1]pivot集計!$A:$G,I$3,FALSE),0)+IFERROR(VLOOKUP($X37,[1]pivot集計!$A:$G,I$3,FALSE),0)+IFERROR(VLOOKUP($Y37,[1]pivot集計!$A:$G,I$3,FALSE),0)+IFERROR(VLOOKUP($Z37,[1]pivot集計!$A:$G,I$3,FALSE),0)+IFERROR(VLOOKUP($AA37,[1]pivot集計!$A:$G,I$3,FALSE),0)+IFERROR(VLOOKUP($AB37,[1]pivot集計!$A:$G,I$3,FALSE),0)+IFERROR(VLOOKUP($AC37,[1]pivot集計!$A:$G,I$3,FALSE),0)+IFERROR(VLOOKUP($AD37,[1]pivot集計!$A:$G,I$3,FALSE),0)+IFERROR(VLOOKUP($AE37,[1]pivot集計!$A:$G,I$3,FALSE),0)+IFERROR(VLOOKUP($AF37,[1]pivot集計!$A:$G,I$3,FALSE),0)+IFERROR(VLOOKUP($AG37,[1]pivot集計!$A:$G,I$3,FALSE),0)+IFERROR(VLOOKUP($AH37,[1]pivot集計!$A:$G,I$3,FALSE),0)+IFERROR(VLOOKUP($AI37,[1]pivot集計!$A:$G,I$3,FALSE),0)+IFERROR(VLOOKUP($AJ37,[1]pivot集計!$A:$G,I$3,FALSE),0)+IFERROR(VLOOKUP($AK37,[1]pivot集計!$A:$G,I$3,FALSE),0)+IFERROR(VLOOKUP($AL37,[1]pivot集計!$A:$G,I$3,FALSE),0)+IFERROR(VLOOKUP($AM37,[1]pivot集計!$A:$G,I$3,FALSE),0)+IFERROR(VLOOKUP($AN37,[1]pivot集計!$A:$G,I$3,FALSE),0)+IFERROR(VLOOKUP($AO37,[1]pivot集計!$A:$G,I$3,FALSE),0) -> 20525 | J37: =SUM(E37:I37) -> 20525 | N37: 33 | O37: 特許使用料 | P37: =E37/$E$58 -> 0 | Q37: =F37/$F$58 -> 0 | R37: =G37/$G$58 -> 0 | S37: =H37/$H$58 -> 0 | T37: =I37/$I$58 -> 0.00020041195 | U37: =J37/$J$58 -> 8.5532963e-05 | W37: 合計 / ⑤-02 | X37: 合計 / ⑤-03
C38: 34 | D38: 水道・光熱・電力料 | E38: =IFERROR(VLOOKUP($W38,[1]pivot集計!$A:$G,E$3,FALSE),0)+IFERROR(VLOOKUP($X38,[1]pivot集計!$A:$G,E$3,FALSE),0)+IFERROR(VLOOKUP($Y38,[1]pivot集計!$A:$G,E$3,FALSE),0)+IFERROR(VLOOKUP($Z38,[1]pivot集計!$A:$G,E$3,FALSE),0)+IFERROR(VLOOKUP($AA38,[1]pivot集計!$A:$G,E$3,FALSE),0)+IFERROR(VLOOKUP($AB38,[1]pivot集計!$A:$G,E$3,FALSE),0)+IFERROR(VLOOKUP($AC38,[1]pivot集計!$A:$G,E$3,FALSE),0)+IFERROR(VLOOKUP($AD38,[1]pivot集計!$A:$G,E$3,FALSE),0)+IFERROR(VLOOKUP($AE38,[1]pivot集計!$A:$G,E$3,FALSE),0)+IFERROR(VLOOKUP($AF38,[1]pivot集計!$A:$G,E$3,FALSE),0)+IFERROR(VLOOKUP($AG38,[1]pivot集計!$A:$G,E$3,FALSE),0)+IFERROR(VLOOKUP($AH38,[1]pivot集計!$A:$G,E$3,FALSE),0)+IFERROR(VLOOKUP($AI38,[1]pivot集計!$A:$G,E$3,FALSE),0)+IFERROR(VLOOKUP($AJ38,[1]pivot集計!$A:$G,E$3,FALSE),0)+IFERROR(VLOOKUP($AK38,[1]pivot集計!$A:$G,E$3,FALSE),0)+IFERROR(VLOOKUP($AL38,[1]pivot集計!$A:$G,E$3,FALSE),0)+IFERROR(VLOOKUP($AM38,[1]pivot集計!$A:$G,E$3,FALSE),0)+IFERROR(VLOOKUP($AN38,[1]pivot集計!$A:$G,E$3,FALSE),0)+IFERROR(VLOOKUP($AO38,[1]pivot集計!$A:$G,E$3,FALSE),0) -> 2534 | F38: =IFERROR(VLOOKUP($W38,[1]pivot集計!$A:$G,F$3,FALSE),0)+IFERROR(VLOOKUP($X38,[1]pivot集計!$A:$G,F$3,FALSE),0)+IFERROR(VLOOKUP($Y38,[1]pivot集計!$A:$G,F$3,FALSE),0)+IFERROR(VLOOKUP($Z38,[1]pivot集計!$A:$G,F$3,FALSE),0)+IFERROR(VLOOKUP($AA38,[1]pivot集計!$A:$G,F$3,FALSE),0)+IFERROR(VLOOKUP($AB38,[1]pivot集計!$A:$G,F$3,FALSE),0)+IFERROR(VLOOKUP($AC38,[1]pivot集計!$A:$G,F$3,FALSE),0)+IFERROR(VLOOKUP($AD38,[1]pivot集計!$A:$G,F$3,FALSE),0)+IFERROR(VLOOKUP($AE38,[1]pivot集計!$A:$G,F$3,FALSE),0)+IFERROR(VLOOKUP($AF38,[1]pivot集計!$A:$G,F$3,FALSE),0)+IFERROR(VLOOKUP($AG38,[1]pivot集計!$A:$G,F$3,FALSE),0)+IFERROR(VLOOKUP($AH38,[1]pivot集計!$A:$G,F$3,FALSE),0)+IFERROR(VLOOKUP($AI38,[1]pivot集計!$A:$G,F$3,FALSE),0)+IFERROR(VLOOKUP($AJ38,[1]pivot集計!$A:$G,F$3,FALSE),0)+IFERROR(VLOOKUP($AK38,[1]pivot集計!$A:$G,F$3,FALSE),0)+IFERROR(VLOOKUP($AL38,[1]pivot集計!$A:$G,F$3,FALSE),0)+IFERROR(VLOOKUP($AM38,[1]pivot集計!$A:$G,F$3,FALSE),0)+IFERROR(VLOOKUP($AN38,[1]pivot集計!$A:$G,F$3,FALSE),0)+IFERROR(VLOOKUP($AO38,[1]pivot集計!$A:$G,F$3,FALSE),0) -> 7407 | G38: =IFERROR(VLOOKUP($W38,[1]pivot集計!$A:$G,G$3,FALSE),0)+IFERROR(VLOOKUP($X38,[1]pivot集計!$A:$G,G$3,FALSE),0)+IFERROR(VLOOKUP($Y38,[1]pivot集計!$A:$G,G$3,FALSE),0)+IFERROR(VLOOKUP($Z38,[1]pivot集計!$A:$G,G$3,FALSE),0)+IFERROR(VLOOKUP($AA38,[1]pivot集計!$A:$G,G$3,FALSE),0)+IFERROR(VLOOKUP($AB38,[1]pivot集計!$A:$G,G$3,FALSE),0)+IFERROR(VLOOKUP($AC38,[1]pivot集計!$A:$G,G$3,FALSE),0)+IFERROR(VLOOKUP($AD38,[1]pivot集計!$A:$G,G$3,FALSE),0)+IFERROR(VLOOKUP($AE38,[1]pivot集計!$A:$G,G$3,FALSE),0)+IFERROR(VLOOKUP($AF38,[1]pivot集計!$A:$G,G$3,FALSE),0)+IFERROR(VLOOKUP($AG38,[1]pivot集計!$A:$G,G$3,FALSE),0)+IFERROR(VLOOKUP($AH38,[1]pivot集計!$A:$G,G$3,FALSE),0)+IFERROR(VLOOKUP($AI38,[1]pivot集計!$A:$G,G$3,FALSE),0)+IFERROR(VLOOKUP($AJ38,[1]pivot集計!$A:$G,G$3,FALSE),0)+IFERROR(VLOOKUP($AK38,[1]pivot集計!$A:$G,G$3,FALSE),0)+IFERROR(VLOOKUP($AL38,[1]pivot集計!$A:$G,G$3,FALSE),0)+IFERROR(VLOOKUP($AM38,[1]pivot集計!$A:$G,G$3,FALSE),0)+IFERROR(VLOOKUP($AN38,[1]pivot集計!$A:$G,G$3,FALSE),0)+IFERROR(VLOOKUP($AO38,[1]pivot集計!$A:$G,G$3,FALSE),0) -> 0 | H38: =IFERROR(VLOOKUP($W38,[1]pivot集計!$A:$G,H$3,FALSE),0)+IFERROR(VLOOKUP($X38,[1]pivot集計!$A:$G,H$3,FALSE),0)+IFERROR(VLOOKUP($Y38,[1]pivot集計!$A:$G,H$3,FALSE),0)+IFERROR(VLOOKUP($Z38,[1]pivot集計!$A:$G,H$3,FALSE),0)+IFERROR(VLOOKUP($AA38,[1]pivot集計!$A:$G,H$3,FALSE),0)+IFERROR(VLOOKUP($AB38,[1]pivot集計!$A:$G,H$3,FALSE),0)+IFERROR(VLOOKUP($AC38,[1]pivot集計!$A:$G,H$3,FALSE),0)+IFERROR(VLOOKUP($AD38,[1]pivot集計!$A:$G,H$3,FALSE),0)+IFERROR(VLOOKUP($AE38,[1]pivot集計!$A:$G,H$3,FALSE),0)+IFERROR(VLOOKUP($AF38,[1]pivot集計!$A:$G,H$3,FALSE),0)+IFERROR(VLOOKUP($AG38,[1]pivot集計!$A:$G,H$3,FALSE),0)+IFERROR(VLOOKUP($AH38,[1]pivot集計!$A:$G,H$3,FALSE),0)+IFERROR(VLOOKUP($AI38,[1]pivot集計!$A:$G,H$3,FALSE),0)+IFERROR(VLOOKUP($AJ38,[1]pivot集計!$A:$G,H$3,FALSE),0)+IFERROR(VLOOKUP($AK38,[1]pivot集計!$A:$G,H$3,FALSE),0)+IFERROR(VLOOKUP($AL38,[1]pivot集計!$A:$G,H$3,FALSE),0)+IFERROR(VLOOKUP($AM38,[1]pivot集計!$A:$G,H$3,FALSE),0)+IFERROR(VLOOKUP($AN38,[1]pivot集計!$A:$G,H$3,FALSE),0)+IFERROR(VLOOKUP($AO38,[1]pivot集計!$A:$G,H$3,FALSE),0) -> 0 | I38: =IFERROR(VLOOKUP($W38,[1]pivot集計!$A:$G,I$3,FALSE),0)+IFERROR(VLOOKUP($X38,[1]pivot集計!$A:$G,I$3,FALSE),0)+IFERROR(VLOOKUP($Y38,[1]pivot集計!$A:$G,I$3,FALSE),0)+IFERROR(VLOOKUP($Z38,[1]pivot集計!$A:$G,I$3,FALSE),0)+IFERROR(VLOOKUP($AA38,[1]pivot集計!$A:$G,I$3,FALSE),0)+IFERROR(VLOOKUP($AB38,[1]pivot集計!$A:$G,I$3,FALSE),0)+IFERROR(VLOOKUP($AC38,[1]pivot集計!$A:$G,I$3,FALSE),0)+IFERROR(VLOOKUP($AD38,[1]pivot集計!$A:$G,I$3,FALSE),0)+IFERROR(VLOOKUP($AE38,[1]pivot集計!$A:$G,I$3,FALSE),0)+IFERROR(VLOOKUP($AF38,[1]pivot集計!$A:$G,I$3,FALSE),0)+IFERROR(VLOOKUP($AG38,[1]pivot集計!$A:$G,I$3,FALSE),0)+IFERROR(VLOOKUP($AH38,[1]pivot集計!$A:$G,I$3,FALSE),0)+IFERROR(VLOOKUP($AI38,[1]pivot集計!$A:$G,I$3,FALSE),0)+IFERROR(VLOOKUP($AJ38,[1]pivot集計!$A:$G,I$3,FALSE),0)+IFERROR(VLOOKUP($AK38,[1]pivot集計!$A:$G,I$3,FALSE),0)+IFERROR(VLOOKUP($AL38,[1]pivot集計!$A:$G,I$3,FALSE),0)+IFERROR(VLOOKUP($AM38,[1]pivot集計!$A:$G,I$3,FALSE),0)+IFERROR(VLOOKUP($AN38,[1]pivot集計!$A:$G,I$3,FALSE),0)+IFERROR(VLOOKUP($AO38,[1]pivot集計!$A:$G,I$3,FALSE),0) -> 278348.71 | J38: =SUM(E38:I38) -> 288289.71 | N38: 34 | O38: 水道・光熱・電力料 | P38: =E38/$E$58 -> 1.9882651e-05 | Q38: =F38/$F$58 -> 0.0019153051 | R38: =G38/$G$58 -> 0 | S38: =H38/$H$58 -> 0 | T38: =I38/$I$58 -> 0.0027178762 | U38: =J38/$J$58 -> 0.0012013775 | W38: 合計 / ⑤-04 | X38: 合計 / ⑤-05 | Y38: 合計 / ⑤-06 | Z38: 合計 / ⑤-07
C39: 35 | D39: リース料 | E39: =IFERROR(VLOOKUP($W39,[1]pivot集計!$A:$G,E$3,FALSE),0)+IFERROR(VLOOKUP($X39,[1]pivot集計!$A:$G,E$3,FALSE),0)+IFERROR(VLOOKUP($Y39,[1]pivot集計!$A:$G,E$3,FALSE),0)+IFERROR(VLOOKUP($Z39,[1]pivot集計!$A:$G,E$3,FALSE),0)+IFERROR(VLOOKUP($AA39,[1]pivot集計!$A:$G,E$3,FALSE),0)+IFERROR(VLOOKUP($AB39,[1]pivot集計!$A:$G,E$3,FALSE),0)+IFERROR(VLOOKUP($AC39,[1]pivot集計!$A:$G,E$3,FALSE),0)+IFERROR(VLOOKUP($AD39,[1]pivot集計!$A:$G,E$3,FALSE),0)+IFERROR(VLOOKUP($AE39,[1]pivot集計!$A:$G,E$3,FALSE),0)+IFERROR(VLOOKUP($AF39,[1]pivot集計!$A:$G,E$3,FALSE),0)+IFERROR(VLOOKUP($AG39,[1]pivot集計!$A:$G,E$3,FALSE),0)+IFERROR(VLOOKUP($AH39,[1]pivot集計!$A:$G,E$3,FALSE),0)+IFERROR(VLOOKUP($AI39,[1]pivot集計!$A:$G,E$3,FALSE),0)+IFERROR(VLOOKUP($AJ39,[1]pivot集計!$A:$G,E$3,FALSE),0)+IFERROR(VLOOKUP($AK39,[1]pivot集計!$A:$G,E$3,FALSE),0)+IFERROR(VLOOKUP($AL39,[1]pivot集計!$A:$G,E$3,FALSE),0)+IFERROR(VLOOKUP($AM39,[1]pivot集計!$A:$G,E$3,FALSE),0)+IFERROR(VLOOKUP($AN39,[1]pivot集計!$A:$G,E$3,FALSE),0)+IFERROR(VLOOKUP($AO39,[1]pivot集計!$A:$G,E$3,FALSE),0) -> 2058171 | F39: =IFERROR(VLOOKUP($W39,[1]pivot集計!$A:$G,F$3,FALSE),0)+IFERROR(VLOOKUP($X39,[1]pivot集計!$A:$G,F$3,FALSE),0)+IFERROR(VLOOKUP($Y39,[1]pivot集計!$A:$G,F$3,FALSE),0)+IFERROR(VLOOKUP($Z39,[1]pivot集計!$A:$G,F$3,FALSE),0)+IFERROR(VLOOKUP($AA39,[1]pivot集計!$A:$G,F$3,FALSE),0)+IFERROR(VLOOKUP($AB39,[1]pivot集計!$A:$G,F$3,FALSE),0)+IFERROR(VLOOKUP($AC39,[1]pivot集計!$A:$G,F$3,FALSE),0)+IFERROR(VLOOKUP($AD39,[1]pivot集計!$A:$G,F$3,FALSE),0)+IFERROR(VLOOKUP($AE39,[1]pivot集計!$A:$G,F$3,FALSE),0)+IFERROR(VLOOKUP($AF39,[1]pivot集計!$A:$G,F$3,FALSE),0)+IFERROR(VLOOKUP($AG39,[1]pivot集計!$A:$G,F$3,FALSE),0)+IFERROR(VLOOKUP($AH39,[1]pivot集計!$A:$G,F$3,FALSE),0)+IFERROR(VLOOKUP($AI39,[1]pivot集計!$A:$G,F$3,FALSE),0)+IFERROR(VLOOKUP($AJ39,[1]pivot集計!$A:$G,F$3,FALSE),0)+IFERROR(VLOOKUP($AK39,[1]pivot集計!$A:$G,F$3,FALSE),0)+IFERROR(VLOOKUP($AL39,[1]pivot集計!$A:$G,F$3,FALSE),0)+IFERROR(VLOOKUP($AM39,[1]pivot集計!$A:$G,F$3,FALSE),0)+IFERROR(VLOOKUP($AN39,[1]pivot集計!$A:$G,F$3,FALSE),0)+IFERROR(VLOOKUP($AO39,[1]pivot集計!$A:$G,F$3,FALSE),0) -> 44732 | G39: =IFERROR(VLOOKUP($W39,[1]pivot集計!$A:$G,G$3,FALSE),0)+IFERROR(VLOOKUP($X39,[1]pivot集計!$A:$G,G$3,FALSE),0)+IFERROR(VLOOKUP($Y39,[1]pivot集計!$A:$G,G$3,FALSE),0)+IFERROR(VLOOKUP($Z39,[1]pivot集計!$A:$G,G$3,FALSE),0)+IFERROR(VLOOKUP($AA39,[1]pivot集計!$A:$G,G$3,FALSE),0)+IFERROR(VLOOKUP($AB39,[1]pivot集計!$A:$G,G$3,FALSE),0)+IFERROR(VLOOKUP($AC39,[1]pivot集計!$A:$G,G$3,FALSE),0)+IFERROR(VLOOKUP($AD39,[1]pivot集計!$A:$G,G$3,FALSE),0)+IFERROR(VLOOKUP($AE39,[1]pivot集計!$A:$G,G$3,FALSE),0)+IFERROR(VLOOKUP($AF39,[1]pivot集計!$A:$G,G$3,FALSE),0)+IFERROR(VLOOKUP($AG39,[1]pivot集計!$A:$G,G$3,FALSE),0)+IFERROR(VLOOKUP($AH39,[1]pivot集計!$A:$G,G$3,FALSE),0)+IFERROR(VLOOKUP($AI39,[1]pivot集計!$A:$G,G$3,FALSE),0)+IFERROR(VLOOKUP($AJ39,[1]pivot集計!$A:$G,G$3,FALSE),0)+IFERROR(VLOOKUP($AK39,[1]pivot集計!$A:$G,G$3,FALSE),0)+IFERROR(VLOOKUP($AL39,[1]pivot集計!$A:$G,G$3,FALSE),0)+IFERROR(VLOOKUP($AM39,[1]pivot集計!$A:$G,G$3,FALSE),0)+IFERROR(VLOOKUP($AN39,[1]pivot集計!$A:$G,G$3,FALSE),0)+IFERROR(VLOOKUP($AO39,[1]pivot集計!$A:$G,G$3,FALSE),0) -> 12418 | H39: =IFERROR(VLOOKUP($W39,[1]pivot集計!$A:$G,H$3,FALSE),0)+IFERROR(VLOOKUP($X39,[1]pivot集計!$A:$G,H$3,FALSE),0)+IFERROR(VLOOKUP($Y39,[1]pivot集計!$A:$G,H$3,FALSE),0)+IFERROR(VLOOKUP($Z39,[1]pivot集計!$A:$G,H$3,FALSE),0)+IFERROR(VLOOKUP($AA39,[1]pivot集計!$A:$G,H$3,FALSE),0)+IFERROR(VLOOKUP($AB39,[1]pivot集計!$A:$G,H$3,FALSE),0)+IFERROR(VLOOKUP($AC39,[1]pivot集計!$A:$G,H$3,FALSE),0)+IFERROR(VLOOKUP($AD39,[1]pivot集計!$A:$G,H$3,FALSE),0)+IFERROR(VLOOKUP($AE39,[1]pivot集計!$A:$G,H$3,FALSE),0)+IFERROR(VLOOKUP($AF39,[1]pivot集計!$A:$G,H$3,FALSE),0)+IFERROR(VLOOKUP($AG39,[1]pivot集計!$A:$G,H$3,FALSE),0)+IFERROR(VLOOKUP($AH39,[1]pivot集計!$A:$G,H$3,FALSE),0)+IFERROR(VLOOKUP($AI39,[1]pivot集計!$A:$G,H$3,FALSE),0)+IFERROR(VLOOKUP($AJ39,[1]pivot集計!$A:$G,H$3,FALSE),0)+IFERROR(VLOOKUP($AK39,[1]pivot集計!$A:$G,H$3,FALSE),0)+IFERROR(VLOOKUP($AL39,[1]pivot集計!$A:$G,H$3,FALSE),0)+IFERROR(VLOOKUP($AM39,[1]pivot集計!$A:$G,H$3,FALSE),0)+IFERROR(VLOOKUP($AN39,[1]pivot集計!$A:$G,H$3,FALSE),0)+IFERROR(VLOOKUP($AO39,[1]pivot集計!$A:$G,H$3,FALSE),0) -> 0 | I39: =IFERROR(VLOOKUP($W39,[1]pivot集計!$A:$G,I$3,FALSE),0)+IFERROR(VLOOKUP($X39,[1]pivot集計!$A:$G,I$3,FALSE),0)+IFERROR(VLOOKUP($Y39,[1]pivot集計!$A:$G,I$3,FALSE),0)+IFERROR(VLOOKUP($Z39,[1]pivot集計!$A:$G,I$3,FALSE),0)+IFERROR(VLOOKUP($AA39,[1]pivot集計!$A:$G,I$3,FALSE),0)+IFERROR(VLOOKUP($AB39,[1]pivot集計!$A:$G,I$3,FALSE),0)+IFERROR(VLOOKUP($AC39,[1]pivot集計!$A:$G,I$3,FALSE),0)+IFERROR(VLOOKUP($AD39,[1]pivot集計!$A:$G,I$3,FALSE),0)+IFERROR(VLOOKUP($AE39,[1]pivot集計!$A:$G,I$3,FALSE),0)+IFERROR(VLOOKUP($AF39,[1]pivot集計!$A:$G,I$3,FALSE),0)+IFERROR(VLOOKUP($AG39,[1]pivot集計!$A:$G,I$3,FALSE),0)+IFERROR(VLOOKUP($AH39,[1]pivot集計!$A:$G,I$3,FALSE),0)+IFERROR(VLOOKUP($AI39,[1]pivot集計!$A:$G,I$3,FALSE),0)+IFERROR(VLOOKUP($AJ39,[1]pivot集計!$A:$G,I$3,FALSE),0)+IFERROR(VLOOKUP($AK39,[1]pivot集計!$A:$G,I$3,FALSE),0)+IFERROR(VLOOKUP($AL39,[1]pivot集計!$A:$G,I$3,FALSE),0)+IFERROR(VLOOKUP($AM39,[1]pivot集計!$A:$G,I$3,FALSE),0)+IFERROR(VLOOKUP($AN39,[1]pivot集計!$A:$G,I$3,FALSE),0)+IFERROR(VLOOKUP($AO39,[1]pivot集計!$A:$G,I$3,FALSE),0) -> 1406165.2 | J39: =SUM(E39:I39) -> 3521486.2 | N39: 35 | O39: リース料 | P39: =E39/$E$58 -> 0.01614913 | Q39: =F39/$F$58 -> 0.011566819 | R39: =G39/$G$58 -> 0.0073541517 | S39: =H39/$H$58 -> 0 | T39: =I39/$I$58 -> 0.013730198 | U39: =J39/$J$58 -> 0.01467494 | W39: 合計 / ⑤-08 | X39: 合計 / ⑤-09 | Y39: 合計 / ⑤-10
C40: 36 | D40: 損料 | E40: =IFERROR(VLOOKUP($W40,[1]pivot集計!$A:$G,E$3,FALSE),0)+IFERROR(VLOOKUP($X40,[1]pivot集計!$A:$G,E$3,FALSE),0)+IFERROR(VLOOKUP($Y40,[1]pivot集計!$A:$G,E$3,FALSE),0)+IFERROR(VLOOKUP($Z40,[1]pivot集計!$A:$G,E$3,FALSE),0)+IFERROR(VLOOKUP($AA40,[1]pivot集計!$A:$G,E$3,FALSE),0)+IFERROR(VLOOKUP($AB40,[1]pivot集計!$A:$G,E$3,FALSE),0)+IFERROR(VLOOKUP($AC40,[1]pivot集計!$A:$G,E$3,FALSE),0)+IFERROR(VLOOKUP($AD40,[1]pivot集計!$A:$G,E$3,FALSE),0)+IFERROR(VLOOKUP($AE40,[1]pivot集計!$A:$G,E$3,FALSE),0)+IFERROR(VLOOKUP($AF40,[1]pivot集計!$A:$G,E$3,FALSE),0)+IFERROR(VLOOKUP($AG40,[1]pivot集計!$A:$G,E$3,FALSE),0)+IFERROR(VLOOKUP($AH40,[1]pivot集計!$A:$G,E$3,FALSE),0)+IFERROR(VLOOKUP($AI40,[1]pivot集計!$A:$G,E$3,FALSE),0)+IFERROR(VLOOKUP($AJ40,[1]pivot集計!$A:$G,E$3,FALSE),0)+IFERROR(VLOOKUP($AK40,[1]pivot集計!$A:$G,E$3,FALSE),0)+IFERROR(VLOOKUP($AL40,[1]pivot集計!$A:$G,E$3,FALSE),0)+IFERROR(VLOOKUP($AM40,[1]pivot集計!$A:$G,E$3,FALSE),0)+IFERROR(VLOOKUP($AN40,[1]pivot集計!$A:$G,E$3,FALSE),0)+IFERROR(VLOOKUP($AO40,[1]pivot集計!$A:$G,E$3,FALSE),0) -> 8511670 | F40: =IFERROR(VLOOKUP($W40,[1]pivot集計!$A:$G,F$3,FALSE),0)+IFERROR(VLOOKUP($X40,[1]pivot集計!$A:$G,F$3,FALSE),0)+IFERROR(VLOOKUP($Y40,[1]pivot集計!$A:$G,F$3,FALSE),0)+IFERROR(VLOOKUP($Z40,[1]pivot集計!$A:$G,F$3,FALSE),0)+IFERROR(VLOOKUP($AA40,[1]pivot集計!$A:$G,F$3,FALSE),0)+IFERROR(VLOOKUP($AB40,[1]pivot集計!$A:$G,F$3,FALSE),0)+IFERROR(VLOOKUP($AC40,[1]pivot集計!$A:$G,F$3,FALSE),0)+IFERROR(VLOOKUP($AD40,[1]pivot集計!$A:$G,F$3,FALSE),0)+IFERROR(VLOOKUP($AE40,[1]pivot集計!$A:$G,F$3,FALSE),0)+IFERROR(VLOOKUP($AF40,[1]pivot集計!$A:$G,F$3,FALSE),0)+IFERROR(VLOOKUP($AG40,[1]pivot集計!$A:$G,F$3,FALSE),0)+IFERROR(VLOOKUP($AH40,[1]pivot集計!$A:$G,F$3,FALSE),0)+IFERROR(VLOOKUP($AI40,[1]pivot集計!$A:$G,F$3,FALSE),0)+IFERROR(VLOOKUP($AJ40,[1]pivot集計!$A:$G,F$3,FALSE),0)+IFERROR(VLOOKUP($AK40,[1]pivot集計!$A:$G,F$3,FALSE),0)+IFERROR(VLOOKUP($AL40,[1]pivot集計!$A:$G,F$3,FALSE),0)+IFERROR(VLOOKUP($AM40,[1]pivot集計!$A:$G,F$3,FALSE),0)+IFERROR(VLOOKUP($AN40,[1]pivot集計!$A:$G,F$3,FALSE),0)+IFERROR(VLOOKUP($AO40,[1]pivot集計!$A:$G,F$3,FALSE),0) -> 427663 | G40: =IFERROR(VLOOKUP($W40,[1]pivot集計!$A:$G,G$3,FALSE),0)+IFERROR(VLOOKUP($X40,[1]pivot集計!$A:$G,G$3,FALSE),0)+IFERROR(VLOOKUP($Y40,[1]pivot集計!$A:$G,G$3,FALSE),0)+IFERROR(VLOOKUP($Z40,[1]pivot集計!$A:$G,G$3,FALSE),0)+IFERROR(VLOOKUP($AA40,[1]pivot集計!$A:$G,G$3,FALSE),0)+IFERROR(VLOOKUP($AB40,[1]pivot集計!$A:$G,G$3,FALSE),0)+IFERROR(VLOOKUP($AC40,[1]pivot集計!$A:$G,G$3,FALSE),0)+IFERROR(VLOOKUP($AD40,[1]pivot集計!$A:$G,G$3,FALSE),0)+IFERROR(VLOOKUP($AE40,[1]pivot集計!$A:$G,G$3,FALSE),0)+IFERROR(VLOOKUP($AF40,[1]pivot集計!$A:$G,G$3,FALSE),0)+IFERROR(VLOOKUP($AG40,[1]pivot集計!$A:$G,G$3,FALSE),0)+IFERROR(VLOOKUP($AH40,[1]pivot集計!$A:$G,G$3,FALSE),0)+IFERROR(VLOOKUP($AI40,[1]pivot集計!$A:$G,G$3,FALSE),0)+IFERROR(VLOOKUP($AJ40,[1]pivot集計!$A:$G,G$3,FALSE),0)+IFERROR(VLOOKUP($AK40,[1]pivot集計!$A:$G,G$3,FALSE),0)+IFERROR(VLOOKUP($AL40,[1]pivot集計!$A:$G,G$3,FALSE),0)+IFERROR(VLOOKUP($AM40,[1]pivot集計!$A:$G,G$3,FALSE),0)+IFERROR(VLOOKUP($AN40,[1]pivot集計!$A:$G,G$3,FALSE),0)+IFERROR(VLOOKUP($AO40,[1]pivot集計!$A:$G,G$3,FALSE),0) -> 187060 | H40: =IFERROR(VLOOKUP($W40,[1]pivot集計!$A:$G,H$3,FALSE),0)+IFERROR(VLOOKUP($X40,[1]pivot集計!$A:$G,H$3,FALSE),0)+IFERROR(VLOOKUP($Y40,[1]pivot集計!$A:$G,H$3,FALSE),0)+IFERROR(VLOOKUP($Z40,[1]pivot集計!$A:$G,H$3,FALSE),0)+IFERROR(VLOOKUP($AA40,[1]pivot集計!$A:$G,H$3,FALSE),0)+IFERROR(VLOOKUP($AB40,[1]pivot集計!$A:$G,H$3,FALSE),0)+IFERROR(VLOOKUP($AC40,[1]pivot集計!$A:$G,H$3,FALSE),0)+IFERROR(VLOOKUP($AD40,[1]pivot集計!$A:$G,H$3,FALSE),0)+IFERROR(VLOOKUP($AE40,[1]pivot集計!$A:$G,H$3,FALSE),0)+IFERROR(VLOOKUP($AF40,[1]pivot集計!$A:$G,H$3,FALSE),0)+IFERROR(VLOOKUP($AG40,[1]pivot集計!$A:$G,H$3,FALSE),0)+IFERROR(VLOOKUP($AH40,[1]pivot集計!$A:$G,H$3,FALSE),0)+IFERROR(VLOOKUP($AI40,[1]pivot集計!$A:$G,H$3,FALSE),0)+IFERROR(VLOOKUP($AJ40,[1]pivot集計!$A:$G,H$3,FALSE),0)+IFERROR(VLOOKUP($AK40,[1]pivot集計!$A:$G,H$3,FALSE),0)+IFERROR(VLOOKUP($AL40,[1]pivot集計!$A:$G,H$3,FALSE),0)+IFERROR(VLOOKUP($AM40,[1]pivot集計!$A:$G,H$3,FALSE),0)+IFERROR(VLOOKUP($AN40,[1]pivot集計!$A:$G,H$3,FALSE),0)+IFERROR(VLOOKUP($AO40,[1]pivot集計!$A:$G,H$3,FALSE),0) -> 259176.59 | I40: =IFERROR(VLOOKUP($W40,[1]pivot集計!$A:$G,I$3,FALSE),0)+IFERROR(VLOOKUP($X40,[1]pivot集計!$A:$G,I$3,FALSE),0)+IFERROR(VLOOKUP($Y40,[1]pivot集計!$A:$G,I$3,FALSE),0)+IFERROR(VLOOKUP($Z40,[1]pivot集計!$A:$G,I$3,FALSE),0)+IFERROR(VLOOKUP($AA40,[1]pivot集計!$A:$G,I$3,FALSE),0)+IFERROR(VLOOKUP($AB40,[1]pivot集計!$A:$G,I$3,FALSE),0)+IFERROR(VLOOKUP($AC40,[1]pivot集計!$A:$G,I$3,FALSE),0)+IFERROR(VLOOKUP($AD40,[1]pivot集計!$A:$G,I$3,FALSE),0)+IFERROR(VLOOKUP($AE40,[1]pivot集計!$A:$G,I$3,FALSE),0)+IFERROR(VLOOKUP($AF40,[1]pivot集計!$A:$G,I$3,FALSE),0)+IFERROR(VLOOKUP($AG40,[1]pivot集計!$A:$G,I$3,FALSE),0)+IFERROR(VLOOKUP($AH40,[1]pivot集計!$A:$G,I$3,FALSE),0)+IFERROR(VLOOKUP($AI40,[1]pivot集計!$A:$G,I$3,FALSE),0)+IFERROR(VLOOKUP($AJ40,[1]pivot集計!$A:$G,I$3,FALSE),0)+IFERROR(VLOOKUP($AK40,[1]pivot集計!$A:$G,I$3,FALSE),0)+IFERROR(VLOOKUP($AL40,[1]pivot集計!$A:$G,I$3,FALSE),0)+IFERROR(VLOOKUP($AM40,[1]pivot集計!$A:$G,I$3,FALSE),0)+IFERROR(VLOOKUP($AN40,[1]pivot集計!$A:$G,I$3,FALSE),0)+IFERROR(VLOOKUP($AO40,[1]pivot集計!$A:$G,I$3,FALSE),0) -> 13947913 | J40: =SUM(E40:I40) -> 23333483 | N40: 36 | O40: 損料 | P40: =E40/$E$58 -> 0.066785544 | Q40: =F40/$F$58 -> 0.11058527 | R40: =G40/$G$58 -> 0.11078013 | S40: =H40/$H$58 -> 0.056983378 | T40: =I40/$I$58 -> 0.1361914 | U40: =J40/$J$58 -> 0.097236633 | W40: 合計 / ⑤-11 | X40: 合計 / ⑤-12 | Y40: 合計 / ⑤-13 | Z40: 合計 / ⑤-14
