Workbook

Sheet ③本工事費内訳調査（金額・構成比）
B1: 表－Ⅴ－２ 本工事費投入調査結果 （金額表） | M1: 表－Ⅴ－２ 本工事費投入調査結果 （構成比表）
E3: 2 | F3: 3 | G3: 4 | H3: 5 | I3: 6 | J3: （金額：千円）
B4: 事業種類 調査項目 | E4: 1 道路事業 | F4: 2 河川総合開発事業 | G4: 3 港湾事業 | H4: 4 空港整備事業 | I4: 5 鉄道軌道建設事業 | J4: 合計 | M4: 事業種類 調査項目 | P4: 1 道路事業 | Q4: 2 河川総合開発事業 | R4: 3 港湾事業 | S4: 4 空港整備事業 | T4: 5 鉄道軌道建設事業 | U4: 合計
B5: Ａ 直接工事費 | C5: 1 | D5: 労務費 | E5: =IFERROR(VLOOKUP($W5,[1]pivot集計!$A:$G,E$3,FALSE),0)+IFERROR(VLOOKUP($X5,[1]pivot集計!$A:$G,E$3,FALSE),0)+IFERROR(VLOOKUP($Y5,[1]pivot集計!$A:$G,E$3,FALSE),0)+IFERROR(VLOOKUP($Z5,[1]pivot集計!$A:$G,E$3,FALSE),0)+IFERROR(VLOOKUP($AA5,[1]pivot集計!$A:$G,E$3,FALSE),0)+IFERROR(VLOOKUP($AB5,[1]pivot集計!$A:$G,E$3,FALSE),0)+IFERROR(VLOOKUP($AC5,[1]pivot集計!$A:$G,E$3,FALSE),0)+IFERROR(VLOOKUP($AD5,[1]pivot集計!$A:$G,E$3,FALSE),0)+IFERROR(VLOOKUP($AE5,[1]pivot集計!$A:$G,E$3,FALSE),0)+IFERROR(VLOOKUP($AF5,[1]pivot集計!$A:$G,E$3,FALSE),0)+IFERROR(VLOOKUP($AG5,[1]pivot集計!$A:$G,E$3,FALSE),0)+IFERROR(VLOOKUP($AH5,[1]pivot集計!$A:$G,E$3,FALSE),0)+IFERROR(VLOOKUP($AI5,[1]pivot集計!$A:$G,E$3,FALSE),0)+IFERROR(VLOOKUP($AJ5,[1]pivot集計!$A:$G,E$3,FALSE),0)+IFERROR(VLOOKUP($AK5,[1]pivot集計!$A:$G,E$3,FALSE),0)+IFERROR(VLOOKUP($AL5,[1]pivot集計!$A:$G,E$3,FALSE),0)+IFERROR(VLOOKUP($AM5,[1]pivot集計!$A:$G,E$3,FALSE),0)+IFERROR(VLOOKUP($AN5,[1]pivot集計!$A:$G,E$3,FALSE),0)+IFERROR(VLOOKUP($AO5,[1]pivot集計!$A:$G,E$3,FALSE),0) -> 21550734 | F5: =IFERROR(VLOOKUP($W5,[1]pivot集計!$A:$G,F$3,FALSE),0)+IFERROR(VLOOKUP($X5,[1]pivot集計!$A:$G,F$3,FALSE),0)+IFERROR(VLOOKUP($Y5,[1]pivot集計!$A:$G,F$3,FALSE),0)+IFERROR(VLOOKUP($Z5,[1]pivot集計!$A:$G,F$3,FALSE),0)+IFERROR(VLOOKUP($AA5,[1]pivot集計!$A:$G,F$3,FALSE),0)+IFERROR(VLOOKUP($AB5,[1]pivot集計!$A:$G,F$3,FALSE),0)+IFERROR(VLOOKUP($AC5,[1]pivot集計!$A:$G,F$3,FALSE),0)+IFERROR(VLOOKUP($AD5,[1]pivot集計!$A:$G,F$3,FALSE),0)+IFERROR(VLOOKUP($AE5,[1]pivot集計!$A:$G,F$3,FALSE),0)+IFERROR(VLOOKUP($AF5,[1]pivot集計!$A:$G,F$3,FALSE),0)+IFERROR(VLOOKUP($AG5,[1]pivot集計!$A:$G,F$3,FALSE),0)+IFERROR(VLOOKUP($AH5,[1]pivot集計!$A:$G,F$3,FALSE),0)+IFERROR(VLOOKUP($AI5,[1]pivot集計!$A:$G,F$3,FALSE),0)+IFERROR(VLOOKUP($AJ5,[1]pivot集計!$A:$G,F$3,FALSE),0)+IFERROR(VLOOKUP($AK5,[1]pivot集計!$A:$G,F$3,FALSE),0)+IFERROR(VLOOKUP($AL5,[1]pivot集計!$A:$G,F$3,FALSE),0)+IFERROR(VLOOKUP($AM5,[1]pivot集計!$A:$G,F$3,FALSE),0)+IFERROR(VLOOKUP($AN5,[1]pivot集計!$A:$G,F$3,FALSE),0)+IFERROR(VLOOKUP($AO5,[1]pivot集計!$A:$G,F$3,FALSE),0) -> 591056 | G5: =IFERROR(VLOOKUP($W5,[1]pivot集計!$A:$G,G$3,FALSE),0)+IFERROR(VLOOKUP($X5,[1]pivot集計!$A:$G,G$3,FALSE),0)+IFERROR(VLOOKUP($Y5,[1]pivot集計!$A:$G,G$3,FALSE),0)+IFERROR(VLOOKUP($Z5,[1]pivot集計!$A:$G,G$3,FALSE),0)+IFERROR(VLOOKUP($AA5,[1]pivot集計!$A:$G,G$3,FALSE),0)+IFERROR(VLOOKUP($AB5,[1]pivot集計!$A:$G,G$3,FALSE),0)+IFERROR(VLOOKUP($AC5,[1]pivot集計!$A:$G,G$3,FALSE),0)+IFERROR(VLOOKUP($AD5,[1]pivot集計!$A:$G,G$3,FALSE),0)+IFERROR(VLOOKUP($AE5,[1]pivot集計!$A:$G,G$3,FALSE),0)+IFERROR(VLOOKUP($AF5,[1]pivot集計!$A:$G,G$3,FALSE),0)+IFERROR(VLOOKUP($AG5,[1]pivot集計!$A:$G,G$3,FALSE),0)+IFERROR(VLOOKUP($AH5,[1]pivot集計!$A:$G,G$3,FALSE),0)+IFERROR(VLOOKUP($AI5,[1]pivot集計!$A:$G,G$3,FALSE),0)+IFERROR(VLOOKUP($AJ5,[1]pivot集計!$A:$G,G$3,FALSE),0)+IFERROR(VLOOKUP($AK5,[1]pivot集計!$A:$G,G$3,FALSE),0)+IFERROR(VLOOKUP($AL5,[1]pivot集計!$A:$G,G$3,FALSE),0)+IFERROR(VLOOKUP($AM5,[1]pivot集計!$A:$G,G$3,FALSE),0)+IFERROR(VLOOKUP($AN5,[1]pivot集計!$A:$G,G$3,FALSE),0)+IFERROR(VLOOKUP($AO5,[1]pivot集計!$A:$G,G$3,FALSE),0) -> 215260 | H5: =IFERROR(VLOOKUP($W5,[1]pivot集計!$A:$G,H$3,FALSE),0)+IFERROR(VLOOKUP($X5,[1]pivot集計!$A:$G,H$3,FALSE),0)+IFERROR(VLOOKUP($Y5,[1]pivot集計!$A:$G,H$3,FALSE),0)+IFERROR(VLOOKUP($Z5,[1]pivot集計!$A:$G,H$3,FALSE),0)+IFERROR(VLOOKUP($AA5,[1]pivot集計!$A:$G,H$3,FALSE),0)+IFERROR(VLOOKUP($AB5,[1]pivot集計!$A:$G,H$3,FALSE),0)+IFERROR(VLOOKUP($AC5,[1]pivot集計!$A:$G,H$3,FALSE),0)+IFERROR(VLOOKUP($AD5,[1]pivot集計!$A:$G,H$3,FALSE),0)+IFERROR(VLOOKUP($AE5,[1]pivot集計!$A:$G,H$3,FALSE),0)+IFERROR(VLOOKUP($AF5,[1]pivot集計!$A:$G,H$3,FALSE),0)+IFERROR(VLOOKUP($AG5,[1]pivot集計!$A:$G,H$3,FALSE),0)+IFERROR(VLOOKUP($AH5,[1]pivot集計!$A:$G,H$3,FALSE),0)+IFERROR(VLOOKUP($AI5,[1]pivot集計!$A:$G,H$3,FALSE),0)+IFERROR(VLOOKUP($AJ5,[1]pivot集計!$A:$G,H$3,FALSE),0)+IFERROR(VLOOKUP($AK5,[1]pivot集計!$A:$G,H$3,FALSE),0)+IFERROR(VLOOKUP($AL5,[1]pivot集計!$A:$G,H$3,FALSE),0)+IFERROR(VLOOKUP($AM5,[1]pivot集計!$A:$G,H$3,FALSE),0)+IFERROR(VLOOKUP($AN5,[1]pivot集計!$A:$G,H$3,FALSE),0)+IFERROR(VLOOKUP($AO5,[1]pivot集計!$A:$G,H$3,FALSE),0) -> 415340.8 | I5: =IFERROR(VLOOKUP($W5,[1]pivot集計!$A:$G,I$3,FALSE),0)+IFERROR(VLOOKUP($X5,[1]pivot集計!$A:$G,I$3,FALSE),0)+IFERROR(VLOOKUP($Y5,[1]pivot集計!$A:$G,I$3,FALSE),0)+IFERROR(VLOOKUP($Z5,[1]pivot集計!$A:$G,I$3,FALSE),0)+IFERROR(VLOOKUP($AA5,[1]pivot集計!$A:$G,I$3,FALSE),0)+IFERROR(VLOOKUP($AB5,[1]pivot集計!$A:$G,I$3,FALSE),0)+IFERROR(VLOOKUP($AC5,[1]pivot集計!$A:$G,I$3,FALSE),0)+IFERROR(VLOOKUP($AD5,[1]pivot集計!$A:$G,I$3,FALSE),0)+IFERROR(VLOOKUP($AE5,[1]pivot集計!$A:$G,I$3,FALSE),0)+IFERROR(VLOOKUP($AF5,[1]pivot集計!$A:$G,I$3,FALSE),0)+IFERROR(VLOOKUP($AG5,[1]pivot集計!$A:$G,I$3,FALSE),0)+IFERROR(VLOOKUP($AH5,[1]pivot集計!$A:$G,I$3,FALSE),0)+IFERROR(VLOOKUP($AI5,[1]pivot集計!$A:$G,I$3,FALSE),0)+IFERROR(VLOOKUP($AJ5,[1]pivot集計!$A:$G,I$3,FALSE),0)+IFERROR(VLOOKUP($AK5,[1]pivot集計!$A:$G,I$3,FALSE),0)+IFERROR(VLOOKUP($AL5,[1]pivot集計!$A:$G,I$3,FALSE),0)+IFERROR(VLOOKUP($AM5,[1]pivot集計!$A:$G,I$3,FALSE),0)+IFERROR(VLOOKUP($AN5,[1]pivot集計!$A:$G,I$3,FALSE),0)+IFERROR(VLOOKUP($AO5,[1]pivot集計!$A:$G,I$3,FALSE),0) -> 17321362 | J5: =SUM(E5:I5) -> 40093753 | M5: Ａ 直接工事費 | N5: 1 | O5: 労務費 | P5: =E5/$E$58 -> 0.16909461 | Q5: =F5/$F$58 -> 0.1528355 | R5: =G5/$G$58 -> 0.12748065 | S5: =H5/$H$58 -> 0.091318131 | T5: =I5/$I$58 -> 0.16913072 | U5: =J5/$J$58 -> 0.167081 | W5: 合計 / ①-03
C6: 2 | D6: 樹木・種苗・芝 | E6: =IFERROR(VLOOKUP($W6,[1]pivot集計!$A:$G,E$3,FALSE),0)+IFERROR(VLOOKUP($X6,[1]pivot集計!$A:$G,E$3,FALSE),0)+IFERROR(VLOOKUP($Y6,[1]pivot集計!$A:$G,E$3,FALSE),0)+IFERROR(VLOOKUP($Z6,[1]pivot集計!$A:$G,E$3,FALSE),0)+IFERROR(VLOOKUP($AA6,[1]pivot集計!$A:$G,E$3,FALSE),0)+IFERROR(VLOOKUP($AB6,[1]pivot集計!$A:$G,E$3,FALSE),0)+IFERROR(VLOOKUP($AC6,[1]pivot集計!$A:$G,E$3,FALSE),0)+IFERROR(VLOOKUP($AD6,[1]pivot集計!$A:$G,E$3,FALSE),0)+IFERROR(VLOOKUP($AE6,[1]pivot集計!$A:$G,E$3,FALSE),0)+IFERROR(VLOOKUP($AF6,[1]pivot集計!$A:$G,E$3,FALSE),0)+IFERROR(VLOOKUP($AG6,[1]pivot集計!$A:$G,E$3,FALSE),0)+IFERROR(VLOOKUP($AH6,[1]pivot集計!$A:$G,E$3,FALSE),0)+IFERROR(VLOOKUP($AI6,[1]pivot集計!$A:$G,E$3,FALSE),0)+IFERROR(VLOOKUP($AJ6,[1]pivot集計!$A:$G,E$3,FALSE),0)+IFERROR(VLOOKUP($AK6,[1]pivot集計!$A:$G,E$3,FALSE),0)+IFERROR(VLOOKUP($AL6,[1]pivot集計!$A:$G,E$3,FALSE),0)+IFERROR(VLOOKUP($AM6,[1]pivot集計!$A:$G,E$3,FALSE),0)+IFERROR(VLOOKUP($AN6,[1]pivot集計!$A:$G,E$3,FALSE),0)+IFERROR(VLOOKUP($AO6,[1]pivot集計!$A:$G,E$3,FALSE),0) -> 6450 | F6: =IFERROR(VLOOKUP($W6,[1]pivot集計!$A:$G,F$3,FALSE),0)+IFERROR(VLOOKUP($X6,[1]pivot集計!$A:$G,F$3,FALSE),0)+IFERROR(VLOOKUP($Y6,[1]pivot集計!$A:$G,F$3,FALSE),0)+IFERROR(VLOOKUP($Z6,[1]pivot集計!$A:$G,F$3,FALSE),0)+IFERROR(VLOOKUP($AA6,[1]pivot集計!$A:$G,F$3,FALSE),0)+IFERROR(VLOOKUP($AB6,[1]pivot集計!$A:$G,F$3,FALSE),0)+IFERROR(VLOOKUP($AC6,[1]pivot集計!$A:$G,F$3,FALSE),0)+IFERROR(VLOOKUP($AD6,[1]pivot集計!$A:$G,F$3,FALSE),0)+IFERROR(VLOOKUP($AE6,[1]pivot集計!$A:$G,F$3,FALSE),0)+IFERROR(VLOOKUP($AF6,[1]pivot集計!$A:$G,F$3,FALSE),0)+IFERROR(VLOOKUP($AG6,[1]pivot集計!$A:$G,F$3,FALSE),0)+IFERROR(VLOOKUP($AH6,[1]pivot集計!$A:$G,F$3,FALSE),0)+IFERROR(VLOOKUP($AI6,[1]pivot集計!$A:$G,F$3,FALSE),0)+IFERROR(VLOOKUP($AJ6,[1]pivot集計!$A:$G,F$3,FALSE),0)+IFERROR(VLOOKUP($AK6,[1]pivot集計!$A:$G,F$3,FALSE),0)+IFERROR(VLOOKUP($AL6,[1]pivot集計!$A:$G,F$3,FALSE),0)+IFERROR(VLOOKUP($AM6,[1]pivot集計!$A:$G,F$3,FALSE),0)+IFERROR(VLOOKUP($AN6,[1]pivot集計!$A:$G,F$3,FALSE),0)+IFERROR(VLOOKUP($AO6,[1]pivot集計!$A:$G,F$3,FALSE),0) -> 2702 | G6: =IFERROR(VLOOKUP($W6,[1]pivot集計!$A:$G,G$3,FALSE),0)+IFERROR(VLOOKUP($X6,[1]pivot集計!$A:$G,G$3,FALSE),0)+IFERROR(VLOOKUP($Y6,[1]pivot集計!$A:$G,G$3,FALSE),0)+IFERROR(VLOOKUP($Z6,[1]pivot集計!$A:$G,G$3,FALSE),0)+IFERROR(VLOOKUP($AA6,[1]pivot集計!$A:$G,G$3,FALSE),0)+IFERROR(VLOOKUP($AB6,[1]pivot集計!$A:$G,G$3,FALSE),0)+IFERROR(VLOOKUP($AC6,[1]pivot集計!$A:$G,G$3,FALSE),0)+IFERROR(VLOOKUP($AD6,[1]pivot集計!$A:$G,G$3,FALSE),0)+IFERROR(VLOOKUP($AE6,[1]pivot集計!$A:$G,G$3,FALSE),0)+IFERROR(VLOOKUP($AF6,[1]pivot集計!$A:$G,G$3,FALSE),0)+IFERROR(VLOOKUP($AG6,[1]pivot集計!$A:$G,G$3,FALSE),0)+IFERROR(VLOOKUP($AH6,[1]pivot集計!$A:$G,G$3,FALSE),0)+IFERROR(VLOOKUP($AI6,[1]pivot集計!$A:$G,G$3,FALSE),0)+IFERROR(VLOOKUP($AJ6,[1]pivot集計!$A:$G,G$3,FALSE),0)+IFERROR(VLOOKUP($AK6,[1]pivot集計!$A:$G,G$3,FALSE),0)+IFERROR(VLOOKUP($AL6,[1]pivot集計!$A:$G,G$3,FALSE),0)+IFERROR(VLOOKUP($AM6,[1]pivot集計!$A:$G,G$3,FALSE),0)+IFERROR(VLOOKUP($AN6,[1]pivot集計!$A:$G,G$3,FALSE),0)+IFERROR(VLOOKUP($AO6,[1]pivot集計!$A:$G,G$3,FALSE),0) -> 30335 | H6: =IFERROR(VLOOKUP($W6,[1]pivot集計!$A:$G,H$3,FALSE),0)+IFERROR(VLOOKUP($X6,[1]pivot集計!$A:$G,H$3,FALSE),0)+IFERROR(VLOOKUP($Y6,[1]pivot集計!$A:$G,H$3,FALSE),0)+IFERROR(VLOOKUP($Z6,[1]pivot集計!$A:$G,H$3,FALSE),0)+IFERROR(VLOOKUP($AA6,[1]pivot集計!$A:$G,H$3,FALSE),0)+IFERROR(VLOOKUP($AB6,[1]pivot集計!$A:$G,H$3,FALSE),0)+IFERROR(VLOOKUP($AC6,[1]pivot集計!$A:$G,H$3,FALSE),0)+IFERROR(VLOOKUP($AD6,[1]pivot集計!$A:$G,H$3,FALSE),0)+IFERROR(VLOOKUP($AE6,[1]pivot集計!$A:$G,H$3,FALSE),0)+IFERROR(VLOOKUP($AF6,[1]pivot集計!$A:$G,H$3,FALSE),0)+IFERROR(VLOOKUP($AG6,[1]pivot集計!$A:$G,H$3,FALSE),0)+IFERROR(VLOOKUP($AH6,[1]pivot集計!$A:$G,H$3,FALSE),0)+IFERROR(VLOOKUP($AI6,[1]pivot集計!$A:$G,H$3,FALSE),0)+IFERROR(VLOOKUP($AJ6,[1]pivot集計!$A:$G,H$3,FALSE),0)+IFERROR(VLOOKUP($AK6,[1]pivot集計!$A:$G,H$3,FALSE),0)+IFERROR(VLOOKUP($AL6,[1]pivot集計!$A:$G,H$3,FALSE),0)+IFERROR(VLOOKUP($AM6,[1]pivot集計!$A:$G,H$3,FALSE),0)+IFERROR(VLOOKUP($AN6,[1]pivot集計!$A:$G,H$3,FALSE),0)+IFERROR(VLOOKUP($AO6,[1]pivot集計!$A:$G,H$3,FALSE),0) -> 0 | I6: =IFERROR(VLOOKUP($W6,[1]pivot集計!$A:$G,I$3,FALSE),0)+IFERROR(VLOOKUP($X6,[1]pivot集計!$A:$G,I$3,FALSE),0)+IFERROR(VLOOKUP($Y6,[1]pivot集計!$A:$G,I$3,FALSE),0)+IFERROR(VLOOKUP($Z6,[1]pivot集計!$A:$G,I$3,FALSE),0)+IFERROR(VLOOKUP($AA6,[1]pivot集計!$A:$G,I$3,FALSE),0)+IFERROR(VLOOKUP($AB6,[1]pivot集計!$A:$G,I$3,FALSE),0)+IFERROR(VLOOKUP($AC6,[1]pivot集計!$A:$G,I$3,FALSE),0)+IFERROR(VLOOKUP($AD6,[1]pivot集計!$A:$G,I$3,FALSE),0)+IFERROR(VLOOKUP($AE6,[1]pivot集計!$A:$G,I$3,FALSE),0)+IFERROR(VLOOKUP($AF6,[1]pivot集計!$A:$G,I$3,FALSE),0)+IFERROR(VLOOKUP($AG6,[1]pivot集計!$A:$G,I$3,FALSE),0)+IFERROR(VLOOKUP($AH6,[1]pivot集計!$A:$G,I$3,FALSE),0)+IFERROR(VLOOKUP($AI6,[1]pivot集計!$A:$G,I$3,FALSE),0)+IFERROR(VLOOKUP($AJ6,[1]pivot集計!$A:$G,I$3,FALSE),0)+IFERROR(VLOOKUP($AK6,[1]pivot集計!$A:$G,I$3,FALSE),0)+IFERROR(VLOOKUP($AL6,[1]pivot集計!$A:$G,I$3,FALSE),0)+IFERROR(VLOOKUP($AM6,[1]pivot集計!$A:$G,I$3,FALSE),0)+IFERROR(VLOOKUP($AN6,[1]pivot集計!$A:$G,I$3,FALSE),0)+IFERROR(VLOOKUP($AO6,[1]pivot集計!$A:$G,I$3,FALSE),0) -> 0 | J6: =SUM(E6:I6) -> 39487 | N6: 2 | O6: 樹木・種苗・芝 | P6: =E6/$E$58 -> 5.0608959e-05 | Q6: =F6/$F$58 -> 0.00069868427 | R6: =G6/$G$58 -> 0.017964905 | S6: =H6/$H$58 -> 0 | T6: =I6/$I$58 -> 0 | U6: =J6/$J$58 -> 0.0001645525 | W6: 合計 / ②-02 | X6: 合計 / ②-03 | Y6: 合計 / ②-04
C7: 3 | D7: 素材 | E7: =IFERROR(VLOOKUP($W7,[1]pivot集計!$A:$G,E$3,FALSE),0)+IFERROR(VLOOKUP($X7,[1]pivot集計!$A:$G,E$3,FALSE),0)+IFERROR(VLOOKUP($Y7,[1]pivot集計!$A:$G,E$3,FALSE),0)+IFERROR(VLOOKUP($Z7,[1]pivot集計!$A:$G,E$3,FALSE),0)+IFERROR(VLOOKUP($AA7,[1]pivot集計!$A:$G,E$3,FALSE),0)+IFERROR(VLOOKUP($AB7,[1]pivot集計!$A:$G,E$3,FALSE),0)+IFERROR(VLOOKUP($AC7,[1]pivot集計!$A:$G,E$3,FALSE),0)+IFERROR(VLOOKUP($AD7,[1]pivot集計!$A:$G,E$3,FALSE),0)+IFERROR(VLOOKUP($AE7,[1]pivot集計!$A:$G,E$3,FALSE),0)+IFERROR(VLOOKUP($AF7,[1]pivot集計!$A:$G,E$3,FALSE),0)+IFERROR(VLOOKUP($AG7,[1]pivot集計!$A:$G,E$3,FALSE),0)+IFERROR(VLOOKUP($AH7,[1]pivot集計!$A:$G,E$3,FALSE),0)+IFERROR(VLOOKUP($AI7,[1]pivot集計!$A:$G,E$3,FALSE),0)+IFERROR(VLOOKUP($AJ7,[1]pivot集計!$A:$G,E$3,FALSE),0)+IFERROR(VLOOKUP($AK7,[1]pivot集計!$A:$G,E$3,FALSE),0)+IFERROR(VLOOKUP($AL7,[1]pivot集計!$A:$G,E$3,FALSE),0)+IFERROR(VLOOKUP($AM7,[1]pivot集計!$A:$G,E$3,FALSE),0)+IFERROR(VLOOKUP($AN7,[1]pivot集計!$A:$G,E$3,FALSE),0)+IFERROR(VLOOKUP($AO7,[1]pivot集計!$A:$G,E$3,FALSE),0) -> 121 | F7: =IFERROR(VLOOKUP($W7,[1]pivot集計!$A:$G,F$3,FALSE),0)+IFERROR(VLOOKUP($X7,[1]pivot集計!$A:$G,F$3,FALSE),0)+IFERROR(VLOOKUP($Y7,[1]pivot集計!$A:$G,F$3,FALSE),0)+IFERROR(VLOOKUP($Z7,[1]pivot集計!$A:$G,F$3,FALSE),0)+IFERROR(VLOOKUP($AA7,[1]pivot集計!$A:$G,F$3,FALSE),0)+IFERROR(VLOOKUP($AB7,[1]pivot集計!$A:$G,F$3,FALSE),0)+IFERROR(VLOOKUP($AC7,[1]pivot集計!$A:$G,F$3,FALSE),0)+IFERROR(VLOOKUP($AD7,[1]pivot集計!$A:$G,F$3,FALSE),0)+IFERROR(VLOOKUP($AE7,[1]pivot集計!$A:$G,F$3,FALSE),0)+IFERROR(VLOOKUP($AF7,[1]pivot集計!$A:$G,F$3,FALSE),0)+IFERROR(VLOOKUP($AG7,[1]pivot集計!$A:$G,F$3,FALSE),0)+IFERROR(VLOOKUP($AH7,[1]pivot集計!$A:$G,F$3,FALSE),0)+IFERROR(VLOOKUP($AI7,[1]pivot集計!$A:$G,F$3,FALSE),0)+IFERROR(VLOOKUP($AJ7,[1]pivot集計!$A:$G,F$3,FALSE),0)+IFERROR(VLOOKUP($AK7,[1]pivot集計!$A:$G,F$3,FALSE),0)+IFERROR(VLOOKUP($AL7,[1]pivot集計!$A:$G,F$3,FALSE),0)+IFERROR(VLOOKUP($AM7,[1]pivot集計!$A:$G,F$3,FALSE),0)+IFERROR(VLOOKUP($AN7,[1]pivot集計!$A:$G,F$3,FALSE),0)+IFERROR(VLOOKUP($AO7,[1]pivot集計!$A:$G,F$3,FALSE),0) -> 13 | G7: =IFERROR(VLOOKUP($W7,[1]pivot集計!$A:$G,G$3,FALSE),0)+IFERROR(VLOOKUP($X7,[1]pivot集計!$A:$G,G$3,FALSE),0)+IFERROR(VLOOKUP($Y7,[1]pivot集計!$A:$G,G$3,FALSE),0)+IFERROR(VLOOKUP($Z7,[1]pivot集計!$A:$G,G$3,FALSE),0)+IFERROR(VLOOKUP($AA7,[1]pivot集計!$A:$G,G$3,FALSE),0)+IFERROR(VLOOKUP($AB7,[1]pivot集計!$A:$G,G$3,FALSE),0)+IFERROR(VLOOKUP($AC7,[1]pivot集計!$A:$G,G$3,FALSE),0)+IFERROR(VLOOKUP($AD7,[1]pivot集計!$A:$G,G$3,FALSE),0)+IFERROR(VLOOKUP($AE7,[1]pivot集計!$A:$G,G$3,FALSE),0)+IFERROR(VLOOKUP($AF7,[1]pivot集計!$A:$G,G$3,FALSE),0)+IFERROR(VLOOKUP($AG7,[1]pivot集計!$A:$G,G$3,FALSE),0)+IFERROR(VLOOKUP($AH7,[1]pivot集計!$A:$G,G$3,FALSE),0)+IFERROR(VLOOKUP($AI7,[1]pivot集計!$A:$G,G$3,FALSE),0)+IFERROR(VLOOKUP($AJ7,[1]pivot集計!$A:$G,G$3,FALSE),0)+IFERROR(VLOOKUP($AK7,[1]pivot集計!$A:$G,G$3,FALSE),0)+IFERROR(VLOOKUP($AL7,[1]pivot集計!$A:$G,G$3,FALSE),0)+IFERROR(VLOOKUP($AM7,[1]pivot集計!$A:$G,G$3,FALSE),0)+IFERROR(VLOOKUP($AN7,[1]pivot集計!$A:$G,G$3,FALSE),0)+IFERROR(VLOOKUP($AO7,[1]pivot集計!$A:$G,G$3,FALSE),0) -> 0 | H7: =IFERROR(VLOOKUP($W7,[1]pivot集計!$A:$G,H$3,FALSE),0)+IFERROR(VLOOKUP($X7,[1]pivot集計!$A:$G,H$3,FALSE),0)+IFERROR(VLOOKUP($Y7,[1]pivot集計!$A:$G,H$3,FALSE),0)+IFERROR(VLOOKUP($Z7,[1]pivot集計!$A:$G,H$3,FALSE),0)+IFERROR(VLOOKUP($AA7,[1]pivot集計!$A:$G,H$3,FALSE),0)+IFERROR(VLOOKUP($AB7,[1]pivot集計!$A:$G,H$3,FALSE),0)+IFERROR(VLOOKUP($AC7,[1]pivot集計!$A:$G,H$3,FALSE),0)+IFERROR(VLOOKUP($AD7,[1]pivot集計!$A:$G,H$3,FALSE),0)+IFERROR(VLOOKUP($AE7,[1]pivot集計!$A:$G,H$3,FALSE),0)+IFERROR(VLOOKUP($AF7,[1]pivot集計!$A:$G,H$3,FALSE),0)+IFERROR(VLOOKUP($AG7,[1]pivot集計!$A:$G,H$3,FALSE),0)+IFERROR(VLOOKUP($AH7,[1]pivot集計!$A:$G,H$3,FALSE),0)+IFERROR(VLOOKUP($AI7,[1]pivot集計!$A:$G,H$3,FALSE),0)+IFERROR(VLOOKUP($AJ7,[1]pivot集計!$A:$G,H$3,FALSE),0)+IFERROR(VLOOKUP($AK7,[1]pivot集計!$A:$G,H$3,FALSE),0)+IFERROR(VLOOKUP($AL7,[1]pivot集計!$A:$G,H$3,FALSE),0)+IFERROR(VLOOKUP($AM7,[1]pivot集計!$A:$G,H$3,FALSE),0)+IFERROR(VLOOKUP($AN7,[1]pivot集計!$A:$G,H$3,FALSE),0)+IFERROR(VLOOKUP($AO7,[1]pivot集計!$A:$G,H$3,FALSE),0) -> 0 | I7: =IFERROR(VLOOKUP($W7,[1]pivot集計!$A:$G,I$3,FALSE),0)+IFERROR(VLOOKUP($X7,[1]pivot集計!$A:$G,I$3,FALSE),0)+IFERROR(VLOOKUP($Y7,[1]pivot集計!$A:$G,I$3,FALSE),0)+IFERROR(VLOOKUP($Z7,[1]pivot集計!$A:$G,I$3,FALSE),0)+IFERROR(VLOOKUP($AA7,[1]pivot集計!$A:$G,I$3,FALSE),0)+IFERROR(VLOOKUP($AB7,[1]pivot集計!$A:$G,I$3,FALSE),0)+IFERROR(VLOOKUP($AC7,[1]pivot集計!$A:$G,I$3,FALSE),0)+IFERROR(VLOOKUP($AD7,[1]pivot集計!$A:$G,I$3,FALSE),0)+IFERROR(VLOOKUP($AE7,[1]pivot集計!$A:$G,I$3,FALSE),0)+IFERROR(VLOOKUP($AF7,[1]pivot集計!$A:$G,I$3,FALSE),0)+IFERROR(VLOOKUP($AG7,[1]pivot集計!$A:$G,I$3,FALSE),0)+IFERROR(VLOOKUP($AH7,[1]pivot集計!$A:$G,I$3,FALSE),0)+IFERROR(VLOOKUP($AI7,[1]pivot集計!$A:$G,I$3,FALSE),0)+IFERROR(VLOOKUP($AJ7,[1]pivot集計!$A:$G,I$3,FALSE),0)+IFERROR(VLOOKUP($AK7,[1]pivot集計!$A:$G,I$3,FALSE),0)+IFERROR(VLOOKUP($AL7,[1]pivot集計!$A:$G,I$3,FALSE),0)+IFERROR(VLOOKUP($AM7,[1]pivot集計!$A:$G,I$3,FALSE),0)+IFERROR(VLOOKUP($AN7,[1]pivot集計!$A:$G,I$3,FALSE),0)+IFERROR(VLOOKUP($AO7,[1]pivot集計!$A:$G,I$3,FALSE),0) -> 0 | J7: =SUM(E7:I7) -> 134 | N7: 3 | O7: 素材 | P7: =E7/$E$58 -> 9.4940837e-07 | Q7: =F7/$F$58 -> 3.3615453e-06 | R7: =G7/$G$58 -> 0 | S7: =H7/$H$58 -> 0 | T7: =I7/$I$58 -> 0 | U7: =J7/$J$58 -> 5.5841252e-07 | W7: 合計 / ②-05
C8: 4 | D8: 製材 | E8: =IFERROR(VLOOKUP($W8,[1]pivot集計!$A:$G,E$3,FALSE),0)+IFERROR(VLOOKUP($X8,[1]pivot集計!$A:$G,E$3,FALSE),0)+IFERROR(VLOOKUP($Y8,[1]pivot集計!$A:$G,E$3,FALSE),0)+IFERROR(VLOOKUP($Z8,[1]pivot集計!$A:$G,E$3,FALSE),0)+IFERROR(VLOOKUP($AA8,[1]pivot集計!$A:$G,E$3,FALSE),0)+IFERROR(VLOOKUP($AB8,[1]pivot集計!$A:$G,E$3,FALSE),0)+IFERROR(VLOOKUP($AC8,[1]pivot集計!$A:$G,E$3,FALSE),0)+IFERROR(VLOOKUP($AD8,[1]pivot集計!$A:$G,E$3,FALSE),0)+IFERROR(VLOOKUP($AE8,[1]pivot集計!$A:$G,E$3,FALSE),0)+IFERROR(VLOOKUP($AF8,[1]pivot集計!$A:$G,E$3,FALSE),0)+IFERROR(VLOOKUP($AG8,[1]pivot集計!$A:$G,E$3,FALSE),0)+IFERROR(VLOOKUP($AH8,[1]pivot集計!$A:$G,E$3,FALSE),0)+IFERROR(VLOOKUP($AI8,[1]pivot集計!$A:$G,E$3,FALSE),0)+IFERROR(VLOOKUP($AJ8,[1]pivot集計!$A:$G,E$3,FALSE),0)+IFERROR(VLOOKUP($AK8,[1]pivot集計!$A:$G,E$3,FALSE),0)+IFERROR(VLOOKUP($AL8,[1]pivot集計!$A:$G,E$3,FALSE),0)+IFERROR(VLOOKUP($AM8,[1]pivot集計!$A:$G,E$3,FALSE),0)+IFERROR(VLOOKUP($AN8,[1]pivot集計!$A:$G,E$3,FALSE),0)+IFERROR(VLOOKUP($AO8,[1]pivot集計!$A:$G,E$3,FALSE),0) -> 11 | F8: =IFERROR(VLOOKUP($W8,[1]pivot集計!$A:$G,F$3,FALSE),0)+IFERROR(VLOOKUP($X8,[1]pivot集計!$A:$G,F$3,FALSE),0)+IFERROR(VLOOKUP($Y8,[1]pivot集計!$A:$G,F$3,FALSE),0)+IFERROR(VLOOKUP($Z8,[1]pivot集計!$A:$G,F$3,FALSE),0)+IFERROR(VLOOKUP($AA8,[1]pivot集計!$A:$G,F$3,FALSE),0)+IFERROR(VLOOKUP($AB8,[1]pivot集計!$A:$G,F$3,FALSE),0)+IFERROR(VLOOKUP($AC8,[1]pivot集計!$A:$G,F$3,FALSE),0)+IFERROR(VLOOKUP($AD8,[1]pivot集計!$A:$G,F$3,FALSE),0)+IFERROR(VLOOKUP($AE8,[1]pivot集計!$A:$G,F$3,FALSE),0)+IFERROR(VLOOKUP($AF8,[1]pivot集計!$A:$G,F$3,FALSE),0)+IFERROR(VLOOKUP($AG8,[1]pivot集計!$A:$G,F$3,FALSE),0)+IFERROR(VLOOKUP($AH8,[1]pivot集計!$A:$G,F$3,FALSE),0)+IFERROR(VLOOKUP($AI8,[1]pivot集計!$A:$G,F$3,FALSE),0)+IFERROR(VLOOKUP($AJ8,[1]pivot集計!$A:$G,F$3,FALSE),0)+IFERROR(VLOOKUP($AK8,[1]pivot集計!$A:$G,F$3,FALSE),0)+IFERROR(VLOOKUP($AL8,[1]pivot集計!$A:$G,F$3,FALSE),0)+IFERROR(VLOOKUP($AM8,[1]pivot集計!$A:$G,F$3,FALSE),0)+IFERROR(VLOOKUP($AN8,[1]pivot集計!$A:$G,F$3,FALSE),0)+IFERROR(VLOOKUP($AO8,[1]pivot集計!$A:$G,F$3,FALSE),0) -> 221 | G8: =IFERROR(VLOOKUP($W8,[1]pivot集計!$A:$G,G$3,FALSE),0)+IFERROR(VLOOKUP($X8,[1]pivot集計!$A:$G,G$3,FALSE),0)+IFERROR(VLOOKUP($Y8,[1]pivot集計!$A:$G,G$3,FALSE),0)+IFERROR(VLOOKUP($Z8,[1]pivot集計!$A:$G,G$3,FALSE),0)+IFERROR(VLOOKUP($AA8,[1]pivot集計!$A:$G,G$3,FALSE),0)+IFERROR(VLOOKUP($AB8,[1]pivot集計!$A:$G,G$3,FALSE),0)+IFERROR(VLOOKUP($AC8,[1]pivot集計!$A:$G,G$3,FALSE),0)+IFERROR(VLOOKUP($AD8,[1]pivot集計!$A:$G,G$3,FALSE),0)+IFERROR(VLOOKUP($AE8,[1]pivot集計!$A:$G,G$3,FALSE),0)+IFERROR(VLOOKUP($AF8,[1]pivot集計!$A:$G,G$3,FALSE),0)+IFERROR(VLOOKUP($AG8,[1]pivot集計!$A:$G,G$3,FALSE),0)+IFERROR(VLOOKUP($AH8,[1]pivot集計!$A:$G,G$3,FALSE),0)+IFERROR(VLOOKUP($AI8,[1]pivot集計!$A:$G,G$3,FALSE),0)+IFERROR(VLOOKUP($AJ8,[1]pivot集計!$A:$G,G$3,FALSE),0)+IFERROR(VLOOKUP($AK8,[1]pivot集計!$A:$G,G$3,FALSE),0)+IFERROR(VLOOKUP($AL8,[1]pivot集計!$A:$G,G$3,FALSE),0)+IFERROR(VLOOKUP($AM8,[1]pivot集計!$A:$G,G$3,FALSE),0)+IFERROR(VLOOKUP($AN8,[1]pivot集計!$A:$G,G$3,FALSE),0)+IFERROR(VLOOKUP($AO8,[1]pivot集計!$A:$G,G$3,FALSE),0) -> 0 | H8: =IFERROR(VLOOKUP($W8,[1]pivot集計!$A:$G,H$3,FALSE),0)+IFERROR(VLOOKUP($X8,[1]pivot集計!$A:$G,H$3,FALSE),0)+IFERROR(VLOOKUP($Y8,[1]pivot集計!$A:$G,H$3,FALSE),0)+IFERROR(VLOOKUP($Z8,[1]pivot集計!$A:$G,H$3,FALSE),0)+IFERROR(VLOOKUP($AA8,[1]pivot集計!$A:$G,H$3,FALSE),0)+IFERROR(VLOOKUP($AB8,[1]pivot集計!$A:$G,H$3,FALSE),0)+IFERROR(VLOOKUP($AC8,[1]pivot集計!$A:$G,H$3,FALSE),0)+IFERROR(VLOOKUP($AD8,[1]pivot集計!$A:$G,H$3,FALSE),0)+IFERROR(VLOOKUP($AE8,[1]pivot集計!$A:$G,H$3,FALSE),0)+IFERROR(VLOOKUP($AF8,[1]pivot集計!$A:$G,H$3,FALSE),0)+IFERROR(VLOOKUP($AG8,[1]pivot集計!$A:$G,H$3,FALSE),0)+IFERROR(VLOOKUP($AH8,[1]pivot集計!$A:$G,H$3,FALSE),0)+IFERROR(VLOOKUP($AI8,[1]pivot集計!$A:$G,H$3,FALSE),0)+IFERROR(VLOOKUP($AJ8,[1]pivot集計!$A:$G,H$3,FALSE),0)+IFERROR(VLOOKUP($AK8,[1]pivot集計!$A:$G,H$3,FALSE),0)+IFERROR(VLOOKUP($AL8,[1]pivot集計!$A:$G,H$3,FALSE),0)+IFERROR(VLOOKUP($AM8,[1]pivot集計!$A:$G,H$3,FALSE),0)+IFERROR(VLOOKUP($AN8,[1]pivot集計!$A:$G,H$3,FALSE),0)+IFERROR(VLOOKUP($AO8,[1]pivot集計!$A:$G,H$3,FALSE),0) -> 0 | I8: =IFERROR(VLOOKUP($W8,[1]pivot集計!$A:$G,I$3,FALSE),0)+IFERROR(VLOOKUP($X8,[1]pivot集計!$A:$G,I$3,FALSE),0)+IFERROR(VLOOKUP($Y8,[1]pivot集計!$A:$G,I$3,FALSE),0)+IFERROR(VLOOKUP($Z8,[1]pivot集計!$A:$G,I$3,FALSE),0)+IFERROR(VLOOKUP($AA8,[1]pivot集計!$A:$G,I$3,FALSE),0)+IFERROR(VLOOKUP($AB8,[1]pivot集計!$A:$G,I$3,FALSE),0)+IFERROR(VLOOKUP($AC8,[1]pivot集計!$A:$G,I$3,FALSE),0)+IFERROR(VLOOKUP($AD8,[1]pivot集計!$A:$G,I$3,FALSE),0)+IFERROR(VLOOKUP($AE8,[1]pivot集計!$A:$G,I$3,FALSE),0)+IFERROR(VLOOKUP($AF8,[1]pivot集計!$A:$G,I$3,FALSE),0)+IFERROR(VLOOKUP($AG8,[1]pivot集計!$A:$G,I$3,FALSE),0)+IFERROR(VLOOKUP($AH8,[1]pivot集計!$A:$G,I$3,FALSE),0)+IFERROR(VLOOKUP($AI8,[1]pivot集計!$A:$G,I$3,FALSE),0)+IFERROR(VLOOKUP($AJ8,[1]pivot集計!$A:$G,I$3,FALSE),0)+IFERROR(VLOOKUP($AK8,[1]pivot集計!$A:$G,I$3,FALSE),0)+IFERROR(VLOOKUP($AL8,[1]pivot集計!$A:$G,I$3,FALSE),0)+IFERROR(VLOOKUP($AM8,[1]pivot集計!$A:$G,I$3,FALSE),0)+IFERROR(VLOOKUP($AN8,[1]pivot集計!$A:$G,I$3,FALSE),0)+IFERROR(VLOOKUP($AO8,[1]pivot集計!$A:$G,I$3,FALSE),0) -> 29841.004 | J8: =SUM(E8:I8) -> 30073.004 | N8: 4 | O8: 製材 | P8: =E8/$E$58 -> 8.6309852e-08 | Q8: =F8/$F$58 -> 5.714627e-05 | R8: =G8/$G$58 -> 0 | S8: =H8/$H$58 -> 0 | T8: =I8/$I$58 -> 0.00029137607 | U8: =J8/$J$58 -> 0.00012532195 | W8: 合計 / ②-06
C9: 5 | D9: 薬品処理木材 | E9: =IFERROR(VLOOKUP($W9,[1]pivot集計!$A:$G,E$3,FALSE),0)+IFERROR(VLOOKUP($X9,[1]pivot集計!$A:$G,E$3,FALSE),0)+IFERROR(VLOOKUP($Y9,[1]pivot集計!$A:$G,E$3,FALSE),0)+IFERROR(VLOOKUP($Z9,[1]pivot集計!$A:$G,E$3,FALSE),0)+IFERROR(VLOOKUP($AA9,[1]pivot集計!$A:$G,E$3,FALSE),0)+IFERROR(VLOOKUP($AB9,[1]pivot集計!$A:$G,E$3,FALSE),0)+IFERROR(VLOOKUP($AC9,[1]pivot集計!$A:$G,E$3,FALSE),0)+IFERROR(VLOOKUP($AD9,[1]pivot集計!$A:$G,E$3,FALSE),0)+IFERROR(VLOOKUP($AE9,[1]pivot集計!$A:$G,E$3,FALSE),0)+IFERROR(VLOOKUP($AF9,[1]pivot集計!$A:$G,E$3,FALSE),0)+IFERROR(VLOOKUP($AG9,[1]pivot集計!$A:$G,E$3,FALSE),0)+IFERROR(VLOOKUP($AH9,[1]pivot集計!$A:$G,E$3,FALSE),0)+IFERROR(VLOOKUP($AI9,[1]pivot集計!$A:$G,E$3,FALSE),0)+IFERROR(VLOOKUP($AJ9,[1]pivot集計!$A:$G,E$3,FALSE),0)+IFERROR(VLOOKUP($AK9,[1]pivot集計!$A:$G,E$3,FALSE),0)+IFERROR(VLOOKUP($AL9,[1]pivot集計!$A:$G,E$3,FALSE),0)+IFERROR(VLOOKUP($AM9,[1]pivot集計!$A:$G,E$3,FALSE),0)+IFERROR(VLOOKUP($AN9,[1]pivot集計!$A:$G,E$3,FALSE),0)+IFERROR(VLOOKUP($AO9,[1]pivot集計!$A:$G,E$3,FALSE),0) -> 0 | F9: =IFERROR(VLOOKUP($W9,[1]pivot集計!$A:$G,F$3,FALSE),0)+IFERROR(VLOOKUP($X9,[1]pivot集計!$A:$G,F$3,FALSE),0)+IFERROR(VLOOKUP($Y9,[1]pivot集計!$A:$G,F$3,FALSE),0)+IFERROR(VLOOKUP($Z9,[1]pivot集計!$A:$G,F$3,FALSE),0)+IFERROR(VLOOKUP($AA9,[1]pivot集計!$A:$G,F$3,FALSE),0)+IFERROR(VLOOKUP($AB9,[1]pivot集計!$A:$G,F$3,FALSE),0)+IFERROR(VLOOKUP($AC9,[1]pivot集計!$A:$G,F$3,FALSE),0)+IFERROR(VLOOKUP($AD9,[1]pivot集計!$A:$G,F$3,FALSE),0)+IFERROR(VLOOKUP($AE9,[1]pivot集計!$A:$G,F$3,FALSE),0)+IFERROR(VLOOKUP($AF9,[1]pivot集計!$A:$G,F$3,FALSE),0)+IFERROR(VLOOKUP($AG9,[1]pivot集計!$A:$G,F$3,FALSE),0)+IFERROR(VLOOKUP($AH9,[1]pivot集計!$A:$G,F$3,FALSE),0)+IFERROR(VLOOKUP($AI9,[1]pivot集計!$A:$G,F$3,FALSE),0)+IFERROR(VLOOKUP($AJ9,[1]pivot集計!$A:$G,F$3,FALSE),0)+IFERROR(VLOOKUP($AK9,[1]pivot集計!$A:$G,F$3,FALSE),0)+IFERROR(VLOOKUP($AL9,[1]pivot集計!$A:$G,F$3,FALSE),0)+IFERROR(VLOOKUP($AM9,[1]pivot集計!$A:$G,F$3,FALSE),0)+IFERROR(VLOOKUP($AN9,[1]pivot集計!$A:$G,F$3,FALSE),0)+IFERROR(VLOOKUP($AO9,[1]pivot集計!$A:$G,F$3,FALSE),0) -> 0 | G9: =IFERROR(VLOOKUP($W9,[1]pivot集計!$A:$G,G$3,FALSE),0)+IFERROR(VLOOKUP($X9,[1]pivot集計!$A:$G,G$3,FALSE),0)+IFERROR(VLOOKUP($Y9,[1]pivot集計!$A:$G,G$3,FALSE),0)+IFERROR(VLOOKUP($Z9,[1]pivot集計!$A:$G,G$3,FALSE),0)+IFERROR(VLOOKUP($AA9,[1]pivot集計!$A:$G,G$3,FALSE),0)+IFERROR(VLOOKUP($AB9,[1]pivot集計!$A:$G,G$3,FALSE),0)+IFERROR(VLOOKUP($AC9,[1]pivot集計!$A:$G,G$3,FALSE),0)+IFERROR(VLOOKUP($AD9,[1]pivot集計!$A:$G,G$3,FALSE),0)+IFERROR(VLOOKUP($AE9,[1]pivot集計!$A:$G,G$3,FALSE),0)+IFERROR(VLOOKUP($AF9,[1]pivot集計!$A:$G,G$3,FALSE),0)+IFERROR(VLOOKUP($AG9,[1]pivot集計!$A:$G,G$3,FALSE),0)+IFERROR(VLOOKUP($AH9,[1]pivot集計!$A:$G,G$3,FALSE),0)+IFERROR(VLOOKUP($AI9,[1]pivot集計!$A:$G,G$3,FALSE),0)+IFERROR(VLOOKUP($AJ9,[1]pivot集計!$A:$G,G$3,FALSE),0)+IFERROR(VLOOKUP($AK9,[1]pivot集計!$A:$G,G$3,FALSE),0)+IFERROR(VLOOKUP($AL9,[1]pivot集計!$A:$G,G$3,FALSE),0)+IFERROR(VLOOKUP($AM9,[1]pivot集計!$A:$G,G$3,FALSE),0)+IFERROR(VLOOKUP($AN9,[1]pivot集計!$A:$G,G$3,FALSE),0)+IFERROR(VLOOKUP($AO9,[1]pivot集計!$A:$G,G$3,FALSE),0) -> 0 | H9: =IFERROR(VLOOKUP($W9,[1]pivot集計!$A:$G,H$3,FALSE),0)+IFERROR(VLOOKUP($X9,[1]pivot集計!$A:$G,H$3,FALSE),0)+IFERROR(VLOOKUP($Y9,[1]pivot集計!$A:$G,H$3,FALSE),0)+IFERROR(VLOOKUP($Z9,[1]pivot集計!$A:$G,H$3,FALSE),0)+IFERROR(VLOOKUP($AA9,[1]pivot集計!$A:$G,H$3,FALSE),0)+IFERROR(VLOOKUP($AB9,[1]pivot集計!$A:$G,H$3,FALSE),0)+IFERROR(VLOOKUP($AC9,[1]pivot集計!$A:$G,H$3,FALSE),0)+IFERROR(VLOOKUP($AD9,[1]pivot集計!$A:$G,H$3,FALSE),0)+IFERROR(VLOOKUP($AE9,[1]pivot集計!$A:$G,H$3,FALSE),0)+IFERROR(VLOOKUP($AF9,[1]pivot集計!$A:$G,H$3,FALSE),0)+IFERROR(VLOOKUP($AG9,[1]pivot集計!$A:$G,H$3,FALSE),0)+IFERROR(VLOOKUP($AH9,[1]pivot集計!$A:$G,H$3,FALSE),0)+IFERROR(VLOOKUP($AI9,[1]pivot集計!$A:$G,H$3,FALSE),0)+IFERROR(VLOOKUP($AJ9,[1]pivot集計!$A:$G,H$3,FALSE),0)+IFERROR(VLOOKUP($AK9,[1]pivot集計!$A:$G,H$3,FALSE),0)+IFERROR(VLOOKUP($AL9,[1]pivot集計!$A:$G,H$3,FALSE),0)+IFERROR(VLOOKUP($AM9,[1]pivot集計!$A:$G,H$3,FALSE),0)+IFERROR(VLOOKUP($AN9,[1]pivot集計!$A:$G,H$3,FALSE),0)+IFERROR(VLOOKUP($AO9,[1]pivot集計!$A:$G,H$3,FALSE),0) -> 0 | I9: =IFERROR(VLOOKUP($W9,[1]pivot集計!$A:$G,I$3,FALSE),0)+IFERROR(VLOOKUP($X9,[1]pivot集計!$A:$G,I$3,FALSE),0)+IFERROR(VLOOKUP($Y9,[1]pivot集計!$A:$G,I$3,FALSE),0)+IFERROR(VLOOKUP($Z9,[1]pivot集計!$A:$G,I$3,FALSE),0)+IFERROR(VLOOKUP($AA9,[1]pivot集計!$A:$G,I$3,FALSE),0)+IFERROR(VLOOKUP($AB9,[1]pivot集計!$A:$G,I$3,FALSE),0)+IFERROR(VLOOKUP($AC9,[1]pivot集計!$A:$G,I$3,FALSE),0)+IFERROR(VLOOKUP($AD9,[1]pivot集計!$A:$G,I$3,FALSE),0)+IFERROR(VLOOKUP($AE9,[1]pivot集計!$A:$G,I$3,FALSE),0)+IFERROR(VLOOKUP($AF9,[1]pivot集計!$A:$G,I$3,FALSE),0)+IFERROR(VLOOKUP($AG9,[1]pivot集計!$A:$G,I$3,FALSE),0)+IFERROR(VLOOKUP($AH9,[1]pivot集計!$A:$G,I$3,FALSE),0)+IFERROR(VLOOKUP($AI9,[1]pivot集計!$A:$G,I$3,FALSE),0)+IFERROR(VLOOKUP($AJ9,[1]pivot集計!$A:$G,I$3,FALSE),0)+IFERROR(VLOOKUP($AK9,[1]pivot集計!$A:$G,I$3,FALSE),0)+IFERROR(VLOOKUP($AL9,[1]pivot集計!$A:$G,I$3,FALSE),0)+IFERROR(VLOOKUP($AM9,[1]pivot集計!$A:$G,I$3,FALSE),0)+IFERROR(VLOOKUP($AN9,[1]pivot集計!$A:$G,I$3,FALSE),0)+IFERROR(VLOOKUP($AO9,[1]pivot集計!$A:$G,I$3,FALSE),0) -> 3940 | J9: =SUM(E9:I9) -> 3940 | N9: 5 | O9: 薬品処理木材 | P9: =E9/$E$58 -> 0 | Q9: =F9/$F$58 -> 0 | R9: =G9/$G$58 -> 0 | S9: =H9/$H$58 -> 0 | T9: =I9/$I$58 -> 3.8471283e-05 | U9: =J9/$J$58 -> 1.6418995e-05 | W9: 合計 / ②-07
C10: 6 | D10: 合板 | E10: =IFERROR(VLOOKUP($W10,[1]pivot集計!$A:$G,E$3,FALSE),0)+IFERROR(VLOOKUP($X10,[1]pivot集計!$A:$G,E$3,FALSE),0)+IFERROR(VLOOKUP($Y10,[1]pivot集計!$A:$G,E$3,FALSE),0)+IFERROR(VLOOKUP($Z10,[1]pivot集計!$A:$G,E$3,FALSE),0)+IFERROR(VLOOKUP($AA10,[1]pivot集計!$A:$G,E$3,FALSE),0)+IFERROR(VLOOKUP($AB10,[1]pivot集計!$A:$G,E$3,FALSE),0)+IFERROR(VLOOKUP($AC10,[1]pivot集計!$A:$G,E$3,FALSE),0)+IFERROR(VLOOKUP($AD10,[1]pivot集計!$A:$G,E$3,FALSE),0)+IFERROR(VLOOKUP($AE10,[1]pivot集計!$A:$G,E$3,FALSE),0)+IFERROR(VLOOKUP($AF10,[1]pivot集計!$A:$G,E$3,FALSE),0)+IFERROR(VLOOKUP($AG10,[1]pivot集計!$A:$G,E$3,FALSE),0)+IFERROR(VLOOKUP($AH10,[1]pivot集計!$A:$G,E$3,FALSE),0)+IFERROR(VLOOKUP($AI10,[1]pivot集計!$A:$G,E$3,FALSE),0)+IFERROR(VLOOKUP($AJ10,[1]pivot集計!$A:$G,E$3,FALSE),0)+IFERROR(VLOOKUP($AK10,[1]pivot集計!$A:$G,E$3,FALSE),0)+IFERROR(VLOOKUP($AL10,[1]pivot集計!$A:$G,E$3,FALSE),0)+IFERROR(VLOOKUP($AM10,[1]pivot集計!$A:$G,E$3,FALSE),0)+IFERROR(VLOOKUP($AN10,[1]pivot集計!$A:$G,E$3,FALSE),0)+IFERROR(VLOOKUP($AO10,[1]pivot集計!$A:$G,E$3,FALSE),0) -> 1755628 | F10: =IFERROR(VLOOKUP($W10,[1]pivot集計!$A:$G,F$3,FALSE),0)+IFERROR(VLOOKUP($X10,[1]pivot集計!$A:$G,F$3,FALSE),0)+IFERROR(VLOOKUP($Y10,[1]pivot集計!$A:$G,F$3,FALSE),0)+IFERROR(VLOOKUP($Z10,[1]pivot集計!$A:$G,F$3,FALSE),0)+IFERROR(VLOOKUP($AA10,[1]pivot集計!$A:$G,F$3,FALSE),0)+IFERROR(VLOOKUP($AB10,[1]pivot集計!$A:$G,F$3,FALSE),0)+IFERROR(VLOOKUP($AC10,[1]pivot集計!$A:$G,F$3,FALSE),0)+IFERROR(VLOOKUP($AD10,[1]pivot集計!$A:$G,F$3,FALSE),0)+IFERROR(VLOOKUP($AE10,[1]pivot集計!$A:$G,F$3,FALSE),0)+IFERROR(VLOOKUP($AF10,[1]pivot集計!$A:$G,F$3,FALSE),0)+IFERROR(VLOOKUP($AG10,[1]pivot集計!$A:$G,F$3,FALSE),0)+IFERROR(VLOOKUP($AH10,[1]pivot集計!$A:$G,F$3,FALSE),0)+IFERROR(VLOOKUP($AI10,[1]pivot集計!$A:$G,F$3,FALSE),0)+IFERROR(VLOOKUP($AJ10,[1]pivot集計!$A:$G,F$3,FALSE),0)+IFERROR(VLOOKUP($AK10,[1]pivot集計!$A:$G,F$3,FALSE),0)+IFERROR(VLOOKUP($AL10,[1]pivot集計!$A:$G,F$3,FALSE),0)+IFERROR(VLOOKUP($AM10,[1]pivot集計!$A:$G,F$3,FALSE),0)+IFERROR(VLOOKUP($AN10,[1]pivot集計!$A:$G,F$3,FALSE),0)+IFERROR(VLOOKUP($AO10,[1]pivot集計!$A:$G,F$3,FALSE),0) -> 0 | G10: =IFERROR(VLOOKUP($W10,[1]pivot集計!$A:$G,G$3,FALSE),0)+IFERROR(VLOOKUP($X10,[1]pivot集計!$A:$G,G$3,FALSE),0)+IFERROR(VLOOKUP($Y10,[1]pivot集計!$A:$G,G$3,FALSE),0)+IFERROR(VLOOKUP($Z10,[1]pivot集計!$A:$G,G$3,FALSE),0)+IFERROR(VLOOKUP($AA10,[1]pivot集計!$A:$G,G$3,FALSE),0)+IFERROR(VLOOKUP($AB10,[1]pivot集計!$A:$G,G$3,FALSE),0)+IFERROR(VLOOKUP($AC10,[1]pivot集計!$A:$G,G$3,FALSE),0)+IFERROR(VLOOKUP($AD10,[1]pivot集計!$A:$G,G$3,FALSE),0)+IFERROR(VLOOKUP($AE10,[1]pivot集計!$A:$G,G$3,FALSE),0)+IFERROR(VLOOKUP($AF10,[1]pivot集計!$A:$G,G$3,FALSE),0)+IFERROR(VLOOKUP($AG10,[1]pivot集計!$A:$G,G$3,FALSE),0)+IFERROR(VLOOKUP($AH10,[1]pivot集計!$A:$G,G$3,FALSE),0)+IFERROR(VLOOKUP($AI10,[1]pivot集計!$A:$G,G$3,FALSE),0)+IFERROR(VLOOKUP($AJ10,[1]pivot集計!$A:$G,G$3,FALSE),0)+IFERROR(VLOOKUP($AK10,[1]pivot集計!$A:$G,G$3,FALSE),0)+IFERROR(VLOOKUP($AL10,[1]pivot集計!$A:$G,G$3,FALSE),0)+IFERROR(VLOOKUP($AM10,[1]pivot集計!$A:$G,G$3,FALSE),0)+IFERROR(VLOOKUP($AN10,[1]pivot集計!$A:$G,G$3,FALSE),0)+IFERROR(VLOOKUP($AO10,[1]pivot集計!$A:$G,G$3,FALSE),0) -> 0 | H10: =IFERROR(VLOOKUP($W10,[1]pivot集計!$A:$G,H$3,FALSE),0)+IFERROR(VLOOKUP($X10,[1]pivot集計!$A:$G,H$3,FALSE),0)+IFERROR(VLOOKUP($Y10,[1]pivot集計!$A:$G,H$3,FALSE),0)+IFERROR(VLOOKUP($Z10,[1]pivot集計!$A:$G,H$3,FALSE),0)+IFERROR(VLOOKUP($AA10,[1]pivot集計!$A:$G,H$3,FALSE),0)+IFERROR(VLOOKUP($AB10,[1]pivot集計!$A:$G,H$3,FALSE),0)+IFERROR(VLOOKUP($AC10,[1]pivot集計!$A:$G,H$3,FALSE),0)+IFERROR(VLOOKUP($AD10,[1]pivot集計!$A:$G,H$3,FALSE),0)+IFERROR(VLOOKUP($AE10,[1]pivot集計!$A:$G,H$3,FALSE),0)+IFERROR(VLOOKUP($AF10,[1]pivot集計!$A:$G,H$3,FALSE),0)+IFERROR(VLOOKUP($AG10,[1]pivot集計!$A:$G,H$3,FALSE),0)+IFERROR(VLOOKUP($AH10,[1]pivot集計!$A:$G,H$3,FALSE),0)+IFERROR(VLOOKUP($AI10,[1]pivot集計!$A:$G,H$3,FALSE),0)+IFERROR(VLOOKUP($AJ10,[1]pivot集計!$A:$G,H$3,FALSE),0)+IFERROR(VLOOKUP($AK10,[1]pivot集計!$A:$G,H$3,FALSE),0)+IFERROR(VLOOKUP($AL10,[1]pivot集計!$A:$G,H$3,FALSE),0)+IFERROR(VLOOKUP($AM10,[1]pivot集計!$A:$G,H$3,FALSE),0)+IFERROR(VLOOKUP($AN10,[1]pivot集計!$A:$G,H$3,FALSE),0)+IFERROR(VLOOKUP($AO10,[1]pivot集計!$A:$G,H$3,FALSE),0) -> 0 | I10: =IFERROR(VLOOKUP($W10,[1]pivot集計!$A:$G,I$3,FALSE),0)+IFERROR(VLOOKUP($X10,[1]pivot集計!$A:$G,I$3,FALSE),0)+IFERROR(VLOOKUP($Y10,[1]pivot集計!$A:$G,I$3,FALSE),0)+IFERROR(VLOOKUP($Z10,[1]pivot集計!$A:$G,I$3,FALSE),0)+IFERROR(VLOOKUP($AA10,[1]pivot集計!$A:$G,I$3,FALSE),0)+IFERROR(VLOOKUP($AB10,[1]pivot集計!$A:$G,I$3,FALSE),0)+IFERROR(VLOOKUP($AC10,[1]pivot集計!$A:$G,I$3,FALSE),0)+IFERROR(VLOOKUP($AD10,[1]pivot集計!$A:$G,I$3,FALSE),0)+IFERROR(VLOOKUP($AE10,[1]pivot集計!$A:$G,I$3,FALSE),0)+IFERROR(VLOOKUP($AF10,[1]pivot集計!$A:$G,I$3,FALSE),0)+IFERROR(VLOOKUP($AG10,[1]pivot集計!$A:$G,I$3,FALSE),0)+IFERROR(VLOOKUP($AH10,[1]pivot集計!$A:$G,I$3,FALSE),0)+IFERROR(VLOOKUP($AI10,[1]pivot集計!$A:$G,I$3,FALSE),0)+IFERROR(VLOOKUP($AJ10,[1]pivot集計!$A:$G,I$3,FALSE),0)+IFERROR(VLOOKUP($AK10,[1]pivot集計!$A:$G,I$3,FALSE),0)+IFERROR(VLOOKUP($AL10,[1]pivot集計!$A:$G,I$3,FALSE),0)+IFERROR(VLOOKUP($AM10,[1]pivot集計!$A:$G,I$3,FALSE),0)+IFERROR(VLOOKUP($AN10,[1]pivot集計!$A:$G,I$3,FALSE),0)+IFERROR(VLOOKUP($AO10,[1]pivot集計!$A:$G,I$3,FALSE),0) -> 4092.153 | J10: =SUM(E10:I10) -> 1759720.2 | N10: 6 | O10: 合板 | P10: =E10/$E$58 -> 0.013775272 | Q10: =F10/$F$58 -> 0 | R10: =G10/$G$58 -> 0 | S10: =H10/$H$58 -> 0 | T10: =I10/$I$58 -> 3.9956948e-05 | U10: =J10/$J$58 -> 0.0073332072 | W10: 合計 / ②-08
C11: 7 | D11: その他の木製品 | E11: =IFERROR(VLOOKUP($W11,[1]pivot集計!$A:$G,E$3,FALSE),0)+IFERROR(VLOOKUP($X11,[1]pivot集計!$A:$G,E$3,FALSE),0)+IFERROR(VLOOKUP($Y11,[1]pivot集計!$A:$G,E$3,FALSE),0)+IFERROR(VLOOKUP($Z11,[1]pivot集計!$A:$G,E$3,FALSE),0)+IFERROR(VLOOKUP($AA11,[1]pivot集計!$A:$G,E$3,FALSE),0)+IFERROR(VLOOKUP($AB11,[1]pivot集計!$A:$G,E$3,FALSE),0)+IFERROR(VLOOKUP($AC11,[1]pivot集計!$A:$G,E$3,FALSE),0)+IFERROR(VLOOKUP($AD11,[1]pivot集計!$A:$G,E$3,FALSE),0)+IFERROR(VLOOKUP($AE11,[1]pivot集計!$A:$G,E$3,FALSE),0)+IFERROR(VLOOKUP($AF11,[1]pivot集計!$A:$G,E$3,FALSE),0)+IFERROR(VLOOKUP($AG11,[1]pivot集計!$A:$G,E$3,FALSE),0)+IFERROR(VLOOKUP($AH11,[1]pivot集計!$A:$G,E$3,FALSE),0)+IFERROR(VLOOKUP($AI11,[1]pivot集計!$A:$G,E$3,FALSE),0)+IFERROR(VLOOKUP($AJ11,[1]pivot集計!$A:$G,E$3,FALSE),0)+IFERROR(VLOOKUP($AK11,[1]pivot集計!$A:$G,E$3,FALSE),0)+IFERROR(VLOOKUP($AL11,[1]pivot集計!$A:$G,E$3,FALSE),0)+IFERROR(VLOOKUP($AM11,[1]pivot集計!$A:$G,E$3,FALSE),0)+IFERROR(VLOOKUP($AN11,[1]pivot集計!$A:$G,E$3,FALSE),0)+IFERROR(VLOOKUP($AO11,[1]pivot集計!$A:$G,E$3,FALSE),0) -> 0 | F11: =IFERROR(VLOOKUP($W11,[1]pivot集計!$A:$G,F$3,FALSE),0)+IFERROR(VLOOKUP($X11,[1]pivot集計!$A:$G,F$3,FALSE),0)+IFERROR(VLOOKUP($Y11,[1]pivot集計!$A:$G,F$3,FALSE),0)+IFERROR(VLOOKUP($Z11,[1]pivot集計!$A:$G,F$3,FALSE),0)+IFERROR(VLOOKUP($AA11,[1]pivot集計!$A:$G,F$3,FALSE),0)+IFERROR(VLOOKUP($AB11,[1]pivot集計!$A:$G,F$3,FALSE),0)+IFERROR(VLOOKUP($AC11,[1]pivot集計!$A:$G,F$3,FALSE),0)+IFERROR(VLOOKUP($AD11,[1]pivot集計!$A:$G,F$3,FALSE),0)+IFERROR(VLOOKUP($AE11,[1]pivot集計!$A:$G,F$3,FALSE),0)+IFERROR(VLOOKUP($AF11,[1]pivot集計!$A:$G,F$3,FALSE),0)+IFERROR(VLOOKUP($AG11,[1]pivot集計!$A:$G,F$3,FALSE),0)+IFERROR(VLOOKUP($AH11,[1]pivot集計!$A:$G,F$3,FALSE),0)+IFERROR(VLOOKUP($AI11,[1]pivot集計!$A:$G,F$3,FALSE),0)+IFERROR(VLOOKUP($AJ11,[1]pivot集計!$A:$G,F$3,FALSE),0)+IFERROR(VLOOKUP($AK11,[1]pivot集計!$A:$G,F$3,FALSE),0)+IFERROR(VLOOKUP($AL11,[1]pivot集計!$A:$G,F$3,FALSE),0)+IFERROR(VLOOKUP($AM11,[1]pivot集計!$A:$G,F$3,FALSE),0)+IFERROR(VLOOKUP($AN11,[1]pivot集計!$A:$G,F$3,FALSE),0)+IFERROR(VLOOKUP($AO11,[1]pivot集計!$A:$G,F$3,FALSE),0) -> 0 | G11: =IFERROR(VLOOKUP($W11,[1]pivot集計!$A:$G,G$3,FALSE),0)+IFERROR(VLOOKUP($X11,[1]pivot集計!$A:$G,G$3,FALSE),0)+IFERROR(VLOOKUP($Y11,[1]pivot集計!$A:$G,G$3,FALSE),0)+IFERROR(VLOOKUP($Z11,[1]pivot集計!$A:$G,G$3,FALSE),0)+IFERROR(VLOOKUP($AA11,[1]pivot集計!$A:$G,G$3,FALSE),0)+IFERROR(VLOOKUP($AB11,[1]pivot集計!$A:$G,G$3,FALSE),0)+IFERROR(VLOOKUP($AC11,[1]pivot集計!$A:$G,G$3,FALSE),0)+IFERROR(VLOOKUP($AD11,[1]pivot集計!$A:$G,G$3,FALSE),0)+IFERROR(VLOOKUP($AE11,[1]pivot集計!$A:$G,G$3,FALSE),0)+IFERROR(VLOOKUP($AF11,[1]pivot集計!$A:$G,G$3,FALSE),0)+IFERROR(VLOOKUP($AG11,[1]pivot集計!$A:$G,G$3,FALSE),0)+IFERROR(VLOOKUP($AH11,[1]pivot集計!$A:$G,G$3,FALSE),0)+IFERROR(VLOOKUP($AI11,[1]pivot集計!$A:$G,G$3,FALSE),0)+IFERROR(VLOOKUP($AJ11,[1]pivot集計!$A:$G,G$3,FALSE),0)+IFERROR(VLOOKUP($AK11,[1]pivot集計!$A:$G,G$3,FALSE),0)+IFERROR(VLOOKUP($AL11,[1]pivot集計!$A:$G,G$3,FALSE),0)+IFERROR(VLOOKUP($AM11,[1]pivot集計!$A:$G,G$3,FALSE),0)+IFERROR(VLOOKUP($AN11,[1]pivot集計!$A:$G,G$3,FALSE),0)+IFERROR(VLOOKUP($AO11,[1]pivot集計!$A:$G,G$3,FALSE),0) -> 0 | H11: =IFERROR(VLOOKUP($W11,[1]pivot集計!$A:$G,H$3,FALSE),0)+IFERROR(VLOOKUP($X11,[1]pivot集計!$A:$G,H$3,FALSE),0)+IFERROR(VLOOKUP($Y11,[1]pivot集計!$A:$G,H$3,FALSE),0)+IFERROR(VLOOKUP($Z11,[1]pivot集計!$A:$G,H$3,FALSE),0)+IFERROR(VLOOKUP($AA11,[1]pivot集計!$A:$G,H$3,FALSE),0)+IFERROR(VLOOKUP($AB11,[1]pivot集計!$A:$G,H$3,FALSE),0)+IFERROR(VLOOKUP($AC11,[1]pivot集計!$A:$G,H$3,FALSE),0)+IFERROR(VLOOKUP($AD11,[1]pivot集計!$A:$G,H$3,FALSE),0)+IFERROR(VLOOKUP($AE11,[1]pivot集計!$A:$G,H$3,FALSE),0)+IFERROR(VLOOKUP($AF11,[1]pivot集計!$A:$G,H$3,FALSE),0)+IFERROR(VLOOKUP($AG11,[1]pivot集計!$A:$G,H$3,FALSE),0)+IFERROR(VLOOKUP($AH11,[1]pivot集計!$A:$G,H$3,FALSE),0)+IFERROR(VLOOKUP($AI11,[1]pivot集計!$A:$G,H$3,FALSE),0)+IFERROR(VLOOKUP($AJ11,[1]pivot集計!$A:$G,H$3,FALSE),0)+IFERROR(VLOOKUP($AK11,[1]pivot集計!$A:$G,H$3,FALSE),0)+IFERROR(VLOOKUP($AL11,[1]pivot集計!$A:$G,H$3,FALSE),0)+IFERROR(VLOOKUP($AM11,[1]pivot集計!$A:$G,H$3,FALSE),0)+IFERROR(VLOOKUP($AN11,[1]pivot集計!$A:$G,H$3,FALSE),0)+IFERROR(VLOOKUP($AO11,[1]pivot集計!$A:$G,H$3,FALSE),0) -> 0 | I11: =IFERROR(VLOOKUP($W11,[1]pivot集計!$A:$G,I$3,FALSE),0)+IFERROR(VLOOKUP($X11,[1]pivot集計!$A:$G,I$3,FALSE),0)+IFERROR(VLOOKUP($Y11,[1]pivot集計!$A:$G,I$3,FALSE),0)+IFERROR(VLOOKUP($Z11,[1]pivot集計!$A:$G,I$3,FALSE),0)+IFERROR(VLOOKUP($AA11,[1]pivot集計!$A:$G,I$3,FALSE),0)+IFERROR(VLOOKUP($AB11,[1]pivot集計!$A:$G,I$3,FALSE),0)+IFERROR(VLOOKUP($AC11,[1]pivot集計!$A:$G,I$3,FALSE),0)+IFERROR(VLOOKUP($AD11,[1]pivot集計!$A:$G,I$3,FALSE),0)+IFERROR(VLOOKUP($AE11,[1]pivot集計!$A:$G,I$3,FALSE),0)+IFERROR(VLOOKUP($AF11,[1]pivot集計!$A:$G,I$3,FALSE),0)+IFERROR(VLOOKUP($AG11,[1]pivot集計!$A:$G,I$3,FALSE),0)+IFERROR(VLOOKUP($AH11,[1]pivot集計!$A:$G,I$3,FALSE),0)+IFERROR(VLOOKUP($AI11,[1]pivot集計!$A:$G,I$3,FALSE),0)+IFERROR(VLOOKUP($AJ11,[1]pivot集計!$A:$G,I$3,FALSE),0)+IFERROR(VLOOKUP($AK11,[1]pivot集計!$A:$G,I$3,FALSE),0)+IFERROR(VLOOKUP($AL11,[1]pivot集計!$A:$G,I$3,FALSE),0)+IFERROR(VLOOKUP($AM11,[1]pivot集計!$A:$G,I$3,FALSE),0)+IFERROR(VLOOKUP($AN11,[1]pivot集計!$A:$G,I$3,FALSE),0)+IFERROR(VLOOKUP($AO11,[1]pivot集計!$A:$G,I$3,FALSE),0) -> 2945 | J11: =SUM(E11:I11) -> 2945 | N11: 7 | O11: その他の木製品 | P11: =E11/$E$58 -> 0 | Q11: =F11/$F$58 -> 0 | R11: =G11/$G$58 -> 0 | S11: =H11/$H$58 -> 0 | T11: =I11/$I$58 -> 2.875582e-05 | U11: =J11/$J$58 -> 1.2272574e-05 | W11: 合計 / ②-09
C12: 8 | D12: 砂・砂利・砕石・石材・土 | E12: =IFERROR(VLOOKUP($W12,[1]pivot集計!$A:$G,E$3,FALSE),0)+IFERROR(VLOOKUP($X12,[1]pivot集計!$A:$G,E$3,FALSE),0)+IFERROR(VLOOKUP($Y12,[1]pivot集計!$A:$G,E$3,FALSE),0)+IFERROR(VLOOKUP($Z12,[1]pivot集計!$A:$G,E$3,FALSE),0)+IFERROR(VLOOKUP($AA12,[1]pivot集計!$A:$G,E$3,FALSE),0)+IFERROR(VLOOKUP($AB12,[1]pivot集計!$A:$G,E$3,FALSE),0)+IFERROR(VLOOKUP($AC12,[1]pivot集計!$A:$G,E$3,FALSE),0)+IFERROR(VLOOKUP($AD12,[1]pivot集計!$A:$G,E$3,FALSE),0)+IFERROR(VLOOKUP($AE12,[1]pivot集計!$A:$G,E$3,FALSE),0)+IFERROR(VLOOKUP($AF12,[1]pivot集計!$A:$G,E$3,FALSE),0)+IFERROR(VLOOKUP($AG12,[1]pivot集計!$A:$G,E$3,FALSE),0)+IFERROR(VLOOKUP($AH12,[1]pivot集計!$A:$G,E$3,FALSE),0)+IFERROR(VLOOKUP($AI12,[1]pivot集計!$A:$G,E$3,FALSE),0)+IFERROR(VLOOKUP($AJ12,[1]pivot集計!$A:$G,E$3,FALSE),0)+IFERROR(VLOOKUP($AK12,[1]pivot集計!$A:$G,E$3,FALSE),0)+IFERROR(VLOOKUP($AL12,[1]pivot集計!$A:$G,E$3,FALSE),0)+IFERROR(VLOOKUP($AM12,[1]pivot集計!$A:$G,E$3,FALSE),0)+IFERROR(VLOOKUP($AN12,[1]pivot集計!$A:$G,E$3,FALSE),0)+IFERROR(VLOOKUP($AO12,[1]pivot集計!$A:$G,E$3,FALSE),0) -> 646548 | F12: =IFERROR(VLOOKUP($W12,[1]pivot集計!$A:$G,F$3,FALSE),0)+IFERROR(VLOOKUP($X12,[1]pivot集計!$A:$G,F$3,FALSE),0)+IFERROR(VLOOKUP($Y12,[1]pivot集計!$A:$G,F$3,FALSE),0)+IFERROR(VLOOKUP($Z12,[1]pivot集計!$A:$G,F$3,FALSE),0)+IFERROR(VLOOKUP($AA12,[1]pivot集計!$A:$G,F$3,FALSE),0)+IFERROR(VLOOKUP($AB12,[1]pivot集計!$A:$G,F$3,FALSE),0)+IFERROR(VLOOKUP($AC12,[1]pivot集計!$A:$G,F$3,FALSE),0)+IFERROR(VLOOKUP($AD12,[1]pivot集計!$A:$G,F$3,FALSE),0)+IFERROR(VLOOKUP($AE12,[1]pivot集計!$A:$G,F$3,FALSE),0)+IFERROR(VLOOKUP($AF12,[1]pivot集計!$A:$G,F$3,FALSE),0)+IFERROR(VLOOKUP($AG12,[1]pivot集計!$A:$G,F$3,FALSE),0)+IFERROR(VLOOKUP($AH12,[1]pivot集計!$A:$G,F$3,FALSE),0)+IFERROR(VLOOKUP($AI12,[1]pivot集計!$A:$G,F$3,FALSE),0)+IFERROR(VLOOKUP($AJ12,[1]pivot集計!$A:$G,F$3,FALSE),0)+IFERROR(VLOOKUP($AK12,[1]pivot集計!$A:$G,F$3,FALSE),0)+IFERROR(VLOOKUP($AL12,[1]pivot集計!$A:$G,F$3,FALSE),0)+IFERROR(VLOOKUP($AM12,[1]pivot集計!$A:$G,F$3,FALSE),0)+IFERROR(VLOOKUP($AN12,[1]pivot集計!$A:$G,F$3,FALSE),0)+IFERROR(VLOOKUP($AO12,[1]pivot集計!$A:$G,F$3,FALSE),0) -> 11885 | G12: =IFERROR(VLOOKUP($W12,[1]pivot集計!$A:$G,G$3,FALSE),0)+IFERROR(VLOOKUP($X12,[1]pivot集計!$A:$G,G$3,FALSE),0)+IFERROR(VLOOKUP($Y12,[1]pivot集計!$A:$G,G$3,FALSE),0)+IFERROR(VLOOKUP($Z12,[1]pivot集計!$A:$G,G$3,FALSE),0)+IFERROR(VLOOKUP($AA12,[1]pivot集計!$A:$G,G$3,FALSE),0)+IFERROR(VLOOKUP($AB12,[1]pivot集計!$A:$G,G$3,FALSE),0)+IFERROR(VLOOKUP($AC12,[1]pivot集計!$A:$G,G$3,FALSE),0)+IFERROR(VLOOKUP($AD12,[1]pivot集計!$A:$G,G$3,FALSE),0)+IFERROR(VLOOKUP($AE12,[1]pivot集計!$A:$G,G$3,FALSE),0)+IFERROR(VLOOKUP($AF12,[1]pivot集計!$A:$G,G$3,FALSE),0)+IFERROR(VLOOKUP($AG12,[1]pivot集計!$A:$G,G$3,FALSE),0)+IFERROR(VLOOKUP($AH12,[1]pivot集計!$A:$G,G$3,FALSE),0)+IFERROR(VLOOKUP($AI12,[1]pivot集計!$A:$G,G$3,FALSE),0)+IFERROR(VLOOKUP($AJ12,[1]pivot集計!$A:$G,G$3,FALSE),0)+IFERROR(VLOOKUP($AK12,[1]pivot集計!$A:$G,G$3,FALSE),0)+IFERROR(VLOOKUP($AL12,[1]pivot集計!$A:$G,G$3,FALSE),0)+IFERROR(VLOOKUP($AM12,[1]pivot集計!$A:$G,G$3,FALSE),0)+IFERROR(VLOOKUP($AN12,[1]pivot集計!$A:$G,G$3,FALSE),0)+IFERROR(VLOOKUP($AO12,[1]pivot集計!$A:$G,G$3,FALSE),0) -> 31206 | H12: =IFERROR(VLOOKUP($W12,[1]pivot集計!$A:$G,H$3,FALSE),0)+IFERROR(VLOOKUP($X12,[1]pivot集計!$A:$G,H$3,FALSE),0)+IFERROR(VLOOKUP($Y12,[1]pivot集計!$A:$G,H$3,FALSE),0)+IFERROR(VLOOKUP($Z12,[1]pivot集計!$A:$G,H$3,FALSE),0)+IFERROR(VLOOKUP($AA12,[1]pivot集計!$A:$G,H$3,FALSE),0)+IFERROR(VLOOKUP($AB12,[1]pivot集計!$A:$G,H$3,FALSE),0)+IFERROR(VLOOKUP($AC12,[1]pivot集計!$A:$G,H$3,FALSE),0)+IFERROR(VLOOKUP($AD12,[1]pivot集計!$A:$G,H$3,FALSE),0)+IFERROR(VLOOKUP($AE12,[1]pivot集計!$A:$G,H$3,FALSE),0)+IFERROR(VLOOKUP($AF12,[1]pivot集計!$A:$G,H$3,FALSE),0)+IFERROR(VLOOKUP($AG12,[1]pivot集計!$A:$G,H$3,FALSE),0)+IFERROR(VLOOKUP($AH12,[1]pivot集計!$A:$G,H$3,FALSE),0)+IFERROR(VLOOKUP($AI12,[1]pivot集計!$A:$G,H$3,FALSE),0)+IFERROR(VLOOKUP($AJ12,[1]pivot集計!$A:$G,H$3,FALSE),0)+IFERROR(VLOOKUP($AK12,[1]pivot集計!$A:$G,H$3,FALSE),0)+IFERROR(VLOOKUP($AL12,[1]pivot集計!$A:$G,H$3,FALSE),0)+IFERROR(VLOOKUP($AM12,[1]pivot集計!$A:$G,H$3,FALSE),0)+IFERROR(VLOOKUP($AN12,[1]pivot集計!$A:$G,H$3,FALSE),0)+IFERROR(VLOOKUP($AO12,[1]pivot集計!$A:$G,H$3,FALSE),0) -> 71597 | I12: =IFERROR(VLOOKUP($W12,[1]pivot集計!$A:$G,I$3,FALSE),0)+IFERROR(VLOOKUP($X12,[1]pivot集計!$A:$G,I$3,FALSE),0)+IFERROR(VLOOKUP($Y12,[1]pivot集計!$A:$G,I$3,FALSE),0)+IFERROR(VLOOKUP($Z12,[1]pivot集計!$A:$G,I$3,FALSE),0)+IFERROR(VLOOKUP($AA12,[1]pivot集計!$A:$G,I$3,FALSE),0)+IFERROR(VLOOKUP($AB12,[1]pivot集計!$A:$G,I$3,FALSE),0)+IFERROR(VLOOKUP($AC12,[1]pivot集計!$A:$G,I$3,FALSE),0)+IFERROR(VLOOKUP($AD12,[1]pivot集計!$A:$G,I$3,FALSE),0)+IFERROR(VLOOKUP($AE12,[1]pivot集計!$A:$G,I$3,FALSE),0)+IFERROR(VLOOKUP($AF12,[1]pivot集計!$A:$G,I$3,FALSE),0)+IFERROR(VLOOKUP($AG12,[1]pivot集計!$A:$G,I$3,FALSE),0)+IFERROR(VLOOKUP($AH12,[1]pivot集計!$A:$G,I$3,FALSE),0)+IFERROR(VLOOKUP($AI12,[1]pivot集計!$A:$G,I$3,FALSE),0)+IFERROR(VLOOKUP($AJ12,[1]pivot集計!$A:$G,I$3,FALSE),0)+IFERROR(VLOOKUP($AK12,[1]pivot集計!$A:$G,I$3,FALSE),0)+IFERROR(VLOOKUP($AL12,[1]pivot集計!$A:$G,I$3,FALSE),0)+IFERROR(VLOOKUP($AM12,[1]pivot集計!$A:$G,I$3,FALSE),0)+IFERROR(VLOOKUP($AN12,[1]pivot集計!$A:$G,I$3,FALSE),0)+IFERROR(VLOOKUP($AO12,[1]pivot集計!$A:$G,I$3,FALSE),0) -> 713380.21 | J12: =SUM(E12:I12) -> 1474616.2 | N12: 8 | O12: 砂・砂利・砕石・石材・土 | P12: =E12/$E$58 -> 0.005073042 | Q12: =F12/$F$58 -> 0.0030732282 | R12: =G12/$G$58 -> 0.018480726 | S12: =H12/$H$58 -> 0.015741541 | T12: =I12/$I$58 -> 0.0069656478 | U12: =J12/$J$58 -> 0.0061451056 | W12: 合計 / ②-10 | X12: 合計 / ②-11
C13: 9 | D13: セメント | E13: =IFERROR(VLOOKUP($W13,[1]pivot集計!$A:$G,E$3,FALSE),0)+IFERROR(VLOOKUP($X13,[1]pivot集計!$A:$G,E$3,FALSE),0)+IFERROR(VLOOKUP($Y13,[1]pivot集計!$A:$G,E$3,FALSE),0)+IFERROR(VLOOKUP($Z13,[1]pivot集計!$A:$G,E$3,FALSE),0)+IFERROR(VLOOKUP($AA13,[1]pivot集計!$A:$G,E$3,FALSE),0)+IFERROR(VLOOKUP($AB13,[1]pivot集計!$A:$G,E$3,FALSE),0)+IFERROR(VLOOKUP($AC13,[1]pivot集計!$A:$G,E$3,FALSE),0)+IFERROR(VLOOKUP($AD13,[1]pivot集計!$A:$G,E$3,FALSE),0)+IFERROR(VLOOKUP($AE13,[1]pivot集計!$A:$G,E$3,FALSE),0)+IFERROR(VLOOKUP($AF13,[1]pivot集計!$A:$G,E$3,FALSE),0)+IFERROR(VLOOKUP($AG13,[1]pivot集計!$A:$G,E$3,FALSE),0)+IFERROR(VLOOKUP($AH13,[1]pivot集計!$A:$G,E$3,FALSE),0)+IFERROR(VLOOKUP($AI13,[1]pivot集計!$A:$G,E$3,FALSE),0)+IFERROR(VLOOKUP($AJ13,[1]pivot集計!$A:$G,E$3,FALSE),0)+IFERROR(VLOOKUP($AK13,[1]pivot集計!$A:$G,E$3,FALSE),0)+IFERROR(VLOOKUP($AL13,[1]pivot集計!$A:$G,E$3,FALSE),0)+IFERROR(VLOOKUP($AM13,[1]pivot集計!$A:$G,E$3,FALSE),0)+IFERROR(VLOOKUP($AN13,[1]pivot集計!$A:$G,E$3,FALSE),0)+IFERROR(VLOOKUP($AO13,[1]pivot集計!$A:$G,E$3,FALSE),0) -> 30398 | F13: =IFERROR(VLOOKUP($W13,[1]pivot集計!$A:$G,F$3,FALSE),0)+IFERROR(VLOOKUP($X13,[1]pivot集計!$A:$G,F$3,FALSE),0)+IFERROR(VLOOKUP($Y13,[1]pivot集計!$A:$G,F$3,FALSE),0)+IFERROR(VLOOKUP($Z13,[1]pivot集計!$A:$G,F$3,FALSE),0)+IFERROR(VLOOKUP($AA13,[1]pivot集計!$A:$G,F$3,FALSE),0)+IFERROR(VLOOKUP($AB13,[1]pivot集計!$A:$G,F$3,FALSE),0)+IFERROR(VLOOKUP($AC13,[1]pivot集計!$A:$G,F$3,FALSE),0)+IFERROR(VLOOKUP($AD13,[1]pivot集計!$A:$G,F$3,FALSE),0)+IFERROR(VLOOKUP($AE13,[1]pivot集計!$A:$G,F$3,FALSE),0)+IFERROR(VLOOKUP($AF13,[1]pivot集計!$A:$G,F$3,FALSE),0)+IFERROR(VLOOKUP($AG13,[1]pivot集計!$A:$G,F$3,FALSE),0)+IFERROR(VLOOKUP($AH13,[1]pivot集計!$A:$G,F$3,FALSE),0)+IFERROR(VLOOKUP($AI13,[1]pivot集計!$A:$G,F$3,FALSE),0)+IFERROR(VLOOKUP($AJ13,[1]pivot集計!$A:$G,F$3,FALSE),0)+IFERROR(VLOOKUP($AK13,[1]pivot集計!$A:$G,F$3,FALSE),0)+IFERROR(VLOOKUP($AL13,[1]pivot集計!$A:$G,F$3,FALSE),0)+IFERROR(VLOOKUP($AM13,[1]pivot集計!$A:$G,F$3,FALSE),0)+IFERROR(VLOOKUP($AN13,[1]pivot集計!$A:$G,F$3,FALSE),0)+IFERROR(VLOOKUP($AO13,[1]pivot集計!$A:$G,F$3,FALSE),0) -> 10839 | G13: =IFERROR(VLOOKUP($W13,[1]pivot集計!$A:$G,G$3,FALSE),0)+IFERROR(VLOOKUP($X13,[1]pivot集計!$A:$G,G$3,FALSE),0)+IFERROR(VLOOKUP($Y13,[1]pivot集計!$A:$G,G$3,FALSE),0)+IFERROR(VLOOKUP($Z13,[1]pivot集計!$A:$G,G$3,FALSE),0)+IFERROR(VLOOKUP($AA13,[1]pivot集計!$A:$G,G$3,FALSE),0)+IFERROR(VLOOKUP($AB13,[1]pivot集計!$A:$G,G$3,FALSE),0)+IFERROR(VLOOKUP($AC13,[1]pivot集計!$A:$G,G$3,FALSE),0)+IFERROR(VLOOKUP($AD13,[1]pivot集計!$A:$G,G$3,FALSE),0)+IFERROR(VLOOKUP($AE13,[1]pivot集計!$A:$G,G$3,FALSE),0)+IFERROR(VLOOKUP($AF13,[1]pivot集計!$A:$G,G$3,FALSE),0)+IFERROR(VLOOKUP($AG13,[1]pivot集計!$A:$G,G$3,FALSE),0)+IFERROR(VLOOKUP($AH13,[1]pivot集計!$A:$G,G$3,FALSE),0)+IFERROR(VLOOKUP($AI13,[1]pivot集計!$A:$G,G$3,FALSE),0)+IFERROR(VLOOKUP($AJ13,[1]pivot集計!$A:$G,G$3,FALSE),0)+IFERROR(VLOOKUP($AK13,[1]pivot集計!$A:$G,G$3,FALSE),0)+IFERROR(VLOOKUP($AL13,[1]pivot集計!$A:$G,G$3,FALSE),0)+IFERROR(VLOOKUP($AM13,[1]pivot集計!$A:$G,G$3,FALSE),0)+IFERROR(VLOOKUP($AN13,[1]pivot集計!$A:$G,G$3,FALSE),0)+IFERROR(VLOOKUP($AO13,[1]pivot集計!$A:$G,G$3,FALSE),0) -> 39848 | H13: =IFERROR(VLOOKUP($W13,[1]pivot集計!$A:$G,H$3,FALSE),0)+IFERROR(VLOOKUP($X13,[1]pivot集計!$A:$G,H$3,FALSE),0)+IFERROR(VLOOKUP($Y13,[1]pivot集計!$A:$G,H$3,FALSE),0)+IFERROR(VLOOKUP($Z13,[1]pivot集計!$A:$G,H$3,FALSE),0)+IFERROR(VLOOKUP($AA13,[1]pivot集計!$A:$G,H$3,FALSE),0)+IFERROR(VLOOKUP($AB13,[1]pivot集計!$A:$G,H$3,FALSE),0)+IFERROR(VLOOKUP($AC13,[1]pivot集計!$A:$G,H$3,FALSE),0)+IFERROR(VLOOKUP($AD13,[1]pivot集計!$A:$G,H$3,FALSE),0)+IFERROR(VLOOKUP($AE13,[1]pivot集計!$A:$G,H$3,FALSE),0)+IFERROR(VLOOKUP($AF13,[1]pivot集計!$A:$G,H$3,FALSE),0)+IFERROR(VLOOKUP($AG13,[1]pivot集計!$A:$G,H$3,FALSE),0)+IFERROR(VLOOKUP($AH13,[1]pivot集計!$A:$G,H$3,FALSE),0)+IFERROR(VLOOKUP($AI13,[1]pivot集計!$A:$G,H$3,FALSE),0)+IFERROR(VLOOKUP($AJ13,[1]pivot集計!$A:$G,H$3,FALSE),0)+IFERROR(VLOOKUP($AK13,[1]pivot集計!$A:$G,H$3,FALSE),0)+IFERROR(VLOOKUP($AL13,[1]pivot集計!$A:$G,H$3,FALSE),0)+IFERROR(VLOOKUP($AM13,[1]pivot集計!$A:$G,H$3,FALSE),0)+IFERROR(VLOOKUP($AN13,[1]pivot集計!$A:$G,H$3,FALSE),0)+IFERROR(VLOOKUP($AO13,[1]pivot集計!$A:$G,H$3,FALSE),0) -> 100 | I13: =IFERROR(VLOOKUP($W13,[1]pivot集計!$A:$G,I$3,FALSE),0)+IFERROR(VLOOKUP($X13,[1]pivot集計!$A:$G,I$3,FALSE),0)+IFERROR(VLOOKUP($Y13,[1]pivot集計!$A:$G,I$3,FALSE),0)+IFERROR(VLOOKUP($Z13,[1]pivot集計!$A:$G,I$3,FALSE),0)+IFERROR(VLOOKUP($AA13,[1]pivot集計!$A:$G,I$3,FALSE),0)+IFERROR(VLOOKUP($AB13,[1]pivot集計!$A:$G,I$3,FALSE),0)+IFERROR(VLOOKUP($AC13,[1]pivot集計!$A:$G,I$3,FALSE),0)+IFERROR(VLOOKUP($AD13,[1]pivot集計!$A:$G,I$3,FALSE),0)+IFERROR(VLOOKUP($AE13,[1]pivot集計!$A:$G,I$3,FALSE),0)+IFERROR(VLOOKUP($AF13,[1]pivot集計!$A:$G,I$3,FALSE),0)+IFERROR(VLOOKUP($AG13,[1]pivot集計!$A:$G,I$3,FALSE),0)+IFERROR(VLOOKUP($AH13,[1]pivot集計!$A:$G,I$3,FALSE),0)+IFERROR(VLOOKUP($AI13,[1]pivot集計!$A:$G,I$3,FALSE),0)+IFERROR(VLOOKUP($AJ13,[1]pivot集計!$A:$G,I$3,FALSE),0)+IFERROR(VLOOKUP($AK13,[1]pivot集計!$A:$G,I$3,FALSE),0)+IFERROR(VLOOKUP($AL13,[1]pivot集計!$A:$G,I$3,FALSE),0)+IFERROR(VLOOKUP($AM13,[1]pivot集計!$A:$G,I$3,FALSE),0)+IFERROR(VLOOKUP($AN13,[1]pivot集計!$A:$G,I$3,FALSE),0)+IFERROR(VLOOKUP($AO13,[1]pivot集計!$A:$G,I$3,FALSE),0) -> 467347.96 | J13: =SUM(E13:I13) -> 548532.96 | N13: 9 | O13: セメント | P13: =E13/$E$58 -> 0.00023851335 | Q13: =F13/$F$58 -> 0.0028027531 | R13: =G13/$G$58 -> 0.023598666 | S13: =H13/$H$58 -> 2.1986314e-05 | T13: =I13/$I$58 -> 0.0045633187 | U13: =J13/$J$58 -> 0.0022858781 | W13: 合計 / ②-12
C14: 10 | D14: 生コンクリート | E14: =IFERROR(VLOOKUP($W14,[1]pivot集計!$A:$G,E$3,FALSE),0)+IFERROR(VLOOKUP($X14,[1]pivot集計!$A:$G,E$3,FALSE),0)+IFERROR(VLOOKUP($Y14,[1]pivot集計!$A:$G,E$3,FALSE),0)+IFERROR(VLOOKUP($Z14,[1]pivot集計!$A:$G,E$3,FALSE),0)+IFERROR(VLOOKUP($AA14,[1]pivot集計!$A:$G,E$3,FALSE),0)+IFERROR(VLOOKUP($AB14,[1]pivot集計!$A:$G,E$3,FALSE),0)+IFERROR(VLOOKUP($AC14,[1]pivot集計!$A:$G,E$3,FALSE),0)+IFERROR(VLOOKUP($AD14,[1]pivot集計!$A:$G,E$3,FALSE),0)+IFERROR(VLOOKUP($AE14,[1]pivot集計!$A:$G,E$3,FALSE),0)+IFERROR(VLOOKUP($AF14,[1]pivot集計!$A:$G,E$3,FALSE),0)+IFERROR(VLOOKUP($AG14,[1]pivot集計!$A:$G,E$3,FALSE),0)+IFERROR(VLOOKUP($AH14,[1]pivot集計!$A:$G,E$3,FALSE),0)+IFERROR(VLOOKUP($AI14,[1]pivot集計!$A:$G,E$3,FALSE),0)+IFERROR(VLOOKUP($AJ14,[1]pivot集計!$A:$G,E$3,FALSE),0)+IFERROR(VLOOKUP($AK14,[1]pivot集計!$A:$G,E$3,FALSE),0)+IFERROR(VLOOKUP($AL14,[1]pivot集計!$A:$G,E$3,FALSE),0)+IFERROR(VLOOKUP($AM14,[1]pivot集計!$A:$G,E$3,FALSE),0)+IFERROR(VLOOKUP($AN14,[1]pivot集計!$A:$G,E$3,FALSE),0)+IFERROR(VLOOKUP($AO14,[1]pivot集計!$A:$G,E$3,FALSE),0) -> 7879148 | F14: =IFERROR(VLOOKUP($W14,[1]pivot集計!$A:$G,F$3,FALSE),0)+IFERROR(VLOOKUP($X14,[1]pivot集計!$A:$G,F$3,FALSE),0)+IFERROR(VLOOKUP($Y14,[1]pivot集計!$A:$G,F$3,FALSE),0)+IFERROR(VLOOKUP($Z14,[1]pivot集計!$A:$G,F$3,FALSE),0)+IFERROR(VLOOKUP($AA14,[1]pivot集計!$A:$G,F$3,FALSE),0)+IFERROR(VLOOKUP($AB14,[1]pivot集計!$A:$G,F$3,FALSE),0)+IFERROR(VLOOKUP($AC14,[1]pivot集計!$A:$G,F$3,FALSE),0)+IFERROR(VLOOKUP($AD14,[1]pivot集計!$A:$G,F$3,FALSE),0)+IFERROR(VLOOKUP($AE14,[1]pivot集計!$A:$G,F$3,FALSE),0)+IFERROR(VLOOKUP($AF14,[1]pivot集計!$A:$G,F$3,FALSE),0)+IFERROR(VLOOKUP($AG14,[1]pivot集計!$A:$G,F$3,FALSE),0)+IFERROR(VLOOKUP($AH14,[1]pivot集計!$A:$G,F$3,FALSE),0)+IFERROR(VLOOKUP($AI14,[1]pivot集計!$A:$G,F$3,FALSE),0)+IFERROR(VLOOKUP($AJ14,[1]pivot集計!$A:$G,F$3,FALSE),0)+IFERROR(VLOOKUP($AK14,[1]pivot集計!$A:$G,F$3,FALSE),0)+IFERROR(VLOOKUP($AL14,[1]pivot集計!$A:$G,F$3,FALSE),0)+IFERROR(VLOOKUP($AM14,[1]pivot集計!$A:$G,F$3,FALSE),0)+IFERROR(VLOOKUP($AN14,[1]pivot集計!$A:$G,F$3,FALSE),0)+IFERROR(VLOOKUP($AO14,[1]pivot集計!$A:$G,F$3,FALSE),0) -> 31131 | G14: =IFERROR(VLOOKUP($W14,[1]pivot集計!$A:$G,G$3,FALSE),0)+IFERROR(VLOOKUP($X14,[1]pivot集計!$A:$G,G$3,FALSE),0)+IFERROR(VLOOKUP($Y14,[1]pivot集計!$A:$G,G$3,FALSE),0)+IFERROR(VLOOKUP($Z14,[1]pivot集計!$A:$G,G$3,FALSE),0)+IFERROR(VLOOKUP($AA14,[1]pivot集計!$A:$G,G$3,FALSE),0)+IFERROR(VLOOKUP($AB14,[1]pivot集計!$A:$G,G$3,FALSE),0)+IFERROR(VLOOKUP($AC14,[1]pivot集計!$A:$G,G$3,FALSE),0)+IFERROR(VLOOKUP($AD14,[1]pivot集計!$A:$G,G$3,FALSE),0)+IFERROR(VLOOKUP($AE14,[1]pivot集計!$A:$G,G$3,FALSE),0)+IFERROR(VLOOKUP($AF14,[1]pivot集計!$A:$G,G$3,FALSE),0)+IFERROR(VLOOKUP($AG14,[1]pivot集計!$A:$G,G$3,FALSE),0)+IFERROR(VLOOKUP($AH14,[1]pivot集計!$A:$G,G$3,FALSE),0)+IFERROR(VLOOKUP($AI14,[1]pivot集計!$A:$G,G$3,FALSE),0)+IFERROR(VLOOKUP($AJ14,[1]pivot集計!$A:$G,G$3,FALSE),0)+IFERROR(VLOOKUP($AK14,[1]pivot集計!$A:$G,G$3,FALSE),0)+IFERROR(VLOOKUP($AL14,[1]pivot集計!$A:$G,G$3,FALSE),0)+IFERROR(VLOOKUP($AM14,[1]pivot集計!$A:$G,G$3,FALSE),0)+IFERROR(VLOOKUP($AN14,[1]pivot集計!$A:$G,G$3,FALSE),0)+IFERROR(VLOOKUP($AO14,[1]pivot集計!$A:$G,G$3,FALSE),0) -> 2326 | H14: =IFERROR(VLOOKUP($W14,[1]pivot集計!$A:$G,H$3,FALSE),0)+IFERROR(VLOOKUP($X14,[1]pivot集計!$A:$G,H$3,FALSE),0)+IFERROR(VLOOKUP($Y14,[1]pivot集計!$A:$G,H$3,FALSE),0)+IFERROR(VLOOKUP($Z14,[1]pivot集計!$A:$G,H$3,FALSE),0)+IFERROR(VLOOKUP($AA14,[1]pivot集計!$A:$G,H$3,FALSE),0)+IFERROR(VLOOKUP($AB14,[1]pivot集計!$A:$G,H$3,FALSE),0)+IFERROR(VLOOKUP($AC14,[1]pivot集計!$A:$G,H$3,FALSE),0)+IFERROR(VLOOKUP($AD14,[1]pivot集計!$A:$G,H$3,FALSE),0)+IFERROR(VLOOKUP($AE14,[1]pivot集計!$A:$G,H$3,FALSE),0)+IFERROR(VLOOKUP($AF14,[1]pivot集計!$A:$G,H$3,FALSE),0)+IFERROR(VLOOKUP($AG14,[1]pivot集計!$A:$G,H$3,FALSE),0)+IFERROR(VLOOKUP($AH14,[1]pivot集計!$A:$G,H$3,FALSE),0)+IFERROR(VLOOKUP($AI14,[1]pivot集計!$A:$G,H$3,FALSE),0)+IFERROR(VLOOKUP($AJ14,[1]pivot集計!$A:$G,H$3,FALSE),0)+IFERROR(VLOOKUP($AK14,[1]pivot集計!$A:$G,H$3,FALSE),0)+IFERROR(VLOOKUP($AL14,[1]pivot集計!$A:$G,H$3,FALSE),0)+IFERROR(VLOOKUP($AM14,[1]pivot集計!$A:$G,H$3,FALSE),0)+IFERROR(VLOOKUP($AN14,[1]pivot集計!$A:$G,H$3,FALSE),0)+IFERROR(VLOOKUP($AO14,[1]pivot集計!$A:$G,H$3,FALSE),0) -> 3048 | I14: =IFERROR(VLOOKUP($W14,[1]pivot集計!$A:$G,I$3,FALSE),0)+IFERROR(VLOOKUP($X14,[1]pivot集計!$A:$G,I$3,FALSE),0)+IFERROR(VLOOKUP($Y14,[1]pivot集計!$A:$G,I$3,FALSE),0)+IFERROR(VLOOKUP($Z14,[1]pivot集計!$A:$G,I$3,FALSE),0)+IFERROR(VLOOKUP($AA14,[1]pivot集計!$A:$G,I$3,FALSE),0)+IFERROR(VLOOKUP($AB14,[1]pivot集計!$A:$G,I$3,FALSE),0)+IFERROR(VLOOKUP($AC14,[1]pivot集計!$A:$G,I$3,FALSE),0)+IFERROR(VLOOKUP($AD14,[1]pivot集計!$A:$G,I$3,FALSE),0)+IFERROR(VLOOKUP($AE14,[1]pivot集計!$A:$G,I$3,FALSE),0)+IFERROR(VLOOKUP($AF14,[1]pivot集計!$A:$G,I$3,FALSE),0)+IFERROR(VLOOKUP($AG14,[1]pivot集計!$A:$G,I$3,FALSE),0)+IFERROR(VLOOKUP($AH14,[1]pivot集計!$A:$G,I$3,FALSE),0)+IFERROR(VLOOKUP($AI14,[1]pivot集計!$A:$G,I$3,FALSE),0)+IFERROR(VLOOKUP($AJ14,[1]pivot集計!$A:$G,I$3,FALSE),0)+IFERROR(VLOOKUP($AK14,[1]pivot集計!$A:$G,I$3,FALSE),0)+IFERROR(VLOOKUP($AL14,[1]pivot集計!$A:$G,I$3,FALSE),0)+IFERROR(VLOOKUP($AM14,[1]pivot集計!$A:$G,I$3,FALSE),0)+IFERROR(VLOOKUP($AN14,[1]pivot集計!$A:$G,I$3,FALSE),0)+IFERROR(VLOOKUP($AO14,[1]pivot集計!$A:$G,I$3,FALSE),0) -> 7908175.1 | J14: =SUM(E14:I14) -> 15823828 | N14: 10 | O14: 生コンクリート | P14: =E14/$E$58 -> 0.061822554 | Q14: =F14/$F$58 -> 0.0080498667 | R14: =G14/$G$58 -> 0.0013774969 | S14: =H14/$H$58 -> 0.00067014285 | T14: =I14/$I$58 -> 0.077217676 | U14: =J14/$J$58 -> 0.065941968 | W14: 合計 / ②-13
C15: 11 | D15: コンクリート製品 | E15: =IFERROR(VLOOKUP($W15,[1]pivot集計!$A:$G,E$3,FALSE),0)+IFERROR(VLOOKUP($X15,[1]pivot集計!$A:$G,E$3,FALSE),0)+IFERROR(VLOOKUP($Y15,[1]pivot集計!$A:$G,E$3,FALSE),0)+IFERROR(VLOOKUP($Z15,[1]pivot集計!$A:$G,E$3,FALSE),0)+IFERROR(VLOOKUP($AA15,[1]pivot集計!$A:$G,E$3,FALSE),0)+IFERROR(VLOOKUP($AB15,[1]pivot集計!$A:$G,E$3,FALSE),0)+IFERROR(VLOOKUP($AC15,[1]pivot集計!$A:$G,E$3,FALSE),0)+IFERROR(VLOOKUP($AD15,[1]pivot集計!$A:$G,E$3,FALSE),0)+IFERROR(VLOOKUP($AE15,[1]pivot集計!$A:$G,E$3,FALSE),0)+IFERROR(VLOOKUP($AF15,[1]pivot集計!$A:$G,E$3,FALSE),0)+IFERROR(VLOOKUP($AG15,[1]pivot集計!$A:$G,E$3,FALSE),0)+IFERROR(VLOOKUP($AH15,[1]pivot集計!$A:$G,E$3,FALSE),0)+IFERROR(VLOOKUP($AI15,[1]pivot集計!$A:$G,E$3,FALSE),0)+IFERROR(VLOOKUP($AJ15,[1]pivot集計!$A:$G,E$3,FALSE),0)+IFERROR(VLOOKUP($AK15,[1]pivot集計!$A:$G,E$3,FALSE),0)+IFERROR(VLOOKUP($AL15,[1]pivot集計!$A:$G,E$3,FALSE),0)+IFERROR(VLOOKUP($AM15,[1]pivot集計!$A:$G,E$3,FALSE),0)+IFERROR(VLOOKUP($AN15,[1]pivot集計!$A:$G,E$3,FALSE),0)+IFERROR(VLOOKUP($AO15,[1]pivot集計!$A:$G,E$3,FALSE),0) -> 1845484 | F15: =IFERROR(VLOOKUP($W15,[1]pivot集計!$A:$G,F$3,FALSE),0)+IFERROR(VLOOKUP($X15,[1]pivot集計!$A:$G,F$3,FALSE),0)+IFERROR(VLOOKUP($Y15,[1]pivot集計!$A:$G,F$3,FALSE),0)+IFERROR(VLOOKUP($Z15,[1]pivot集計!$A:$G,F$3,FALSE),0)+IFERROR(VLOOKUP($AA15,[1]pivot集計!$A:$G,F$3,FALSE),0)+IFERROR(VLOOKUP($AB15,[1]pivot集計!$A:$G,F$3,FALSE),0)+IFERROR(VLOOKUP($AC15,[1]pivot集計!$A:$G,F$3,FALSE),0)+IFERROR(VLOOKUP($AD15,[1]pivot集計!$A:$G,F$3,FALSE),0)+IFERROR(VLOOKUP($AE15,[1]pivot集計!$A:$G,F$3,FALSE),0)+IFERROR(VLOOKUP($AF15,[1]pivot集計!$A:$G,F$3,FALSE),0)+IFERROR(VLOOKUP($AG15,[1]pivot集計!$A:$G,F$3,FALSE),0)+IFERROR(VLOOKUP($AH15,[1]pivot集計!$A:$G,F$3,FALSE),0)+IFERROR(VLOOKUP($AI15,[1]pivot集計!$A:$G,F$3,FALSE),0)+IFERROR(VLOOKUP($AJ15,[1]pivot集計!$A:$G,F$3,FALSE),0)+IFERROR(VLOOKUP($AK15,[1]pivot集計!$A:$G,F$3,FALSE),0)+IFERROR(VLOOKUP($AL15,[1]pivot集計!$A:$G,F$3,FALSE),0)+IFERROR(VLOOKUP($AM15,[1]pivot集計!$A:$G,F$3,FALSE),0)+IFERROR(VLOOKUP($AN15,[1]pivot集計!$A:$G,F$3,FALSE),0)+IFERROR(VLOOKUP($AO15,[1]pivot集計!$A:$G,F$3,FALSE),0) -> 528481 | G15: =IFERROR(VLOOKUP($W15,[1]pivot集計!$A:$G,G$3,FALSE),0)+IFERROR(VLOOKUP($X15,[1]pivot集計!$A:$G,G$3,FALSE),0)+IFERROR(VLOOKUP($Y15,[1]pivot集計!$A:$G,G$3,FALSE),0)+IFERROR(VLOOKUP($Z15,[1]pivot集計!$A:$G,G$3,FALSE),0)+IFERROR(VLOOKUP($AA15,[1]pivot集計!$A:$G,G$3,FALSE),0)+IFERROR(VLOOKUP($AB15,[1]pivot集計!$A:$G,G$3,FALSE),0)+IFERROR(VLOOKUP($AC15,[1]pivot集計!$A:$G,G$3,FALSE),0)+IFERROR(VLOOKUP($AD15,[1]pivot集計!$A:$G,G$3,FALSE),0)+IFERROR(VLOOKUP($AE15,[1]pivot集計!$A:$G,G$3,FALSE),0)+IFERROR(VLOOKUP($AF15,[1]pivot集計!$A:$G,G$3,FALSE),0)+IFERROR(VLOOKUP($AG15,[1]pivot集計!$A:$G,G$3,FALSE),0)+IFERROR(VLOOKUP($AH15,[1]pivot集計!$A:$G,G$3,FALSE),0)+IFERROR(VLOOKUP($AI15,[1]pivot集計!$A:$G,G$3,FALSE),0)+IFERROR(VLOOKUP($AJ15,[1]pivot集計!$A:$G,G$3,FALSE),0)+IFERROR(VLOOKUP($AK15,[1]pivot集計!$A:$G,G$3,FALSE),0)+IFERROR(VLOOKUP($AL15,[1]pivot集計!$A:$G,G$3,FALSE),0)+IFERROR(VLOOKUP($AM15,[1]pivot集計!$A:$G,G$3,FALSE),0)+IFERROR(VLOOKUP($AN15,[1]pivot集計!$A:$G,G$3,FALSE),0)+IFERROR(VLOOKUP($AO15,[1]pivot集計!$A:$G,G$3,FALSE),0) -> 86267 | H15: =IFERROR(VLOOKUP($W15,[1]pivot集計!$A:$G,H$3,FALSE),0)+IFERROR(VLOOKUP($X15,[1]pivot集計!$A:$G,H$3,FALSE),0)+IFERROR(VLOOKUP($Y15,[1]pivot集計!$A:$G,H$3,FALSE),0)+IFERROR(VLOOKUP($Z15,[1]pivot集計!$A:$G,H$3,FALSE),0)+IFERROR(VLOOKUP($AA15,[1]pivot集計!$A:$G,H$3,FALSE),0)+IFERROR(VLOOKUP($AB15,[1]pivot集計!$A:$G,H$3,FALSE),0)+IFERROR(VLOOKUP($AC15,[1]pivot集計!$A:$G,H$3,FALSE),0)+IFERROR(VLOOKUP($AD15,[1]pivot集計!$A:$G,H$3,FALSE),0)+IFERROR(VLOOKUP($AE15,[1]pivot集計!$A:$G,H$3,FALSE),0)+IFERROR(VLOOKUP($AF15,[1]pivot集計!$A:$G,H$3,FALSE),0)+IFERROR(VLOOKUP($AG15,[1]pivot集計!$A:$G,H$3,FALSE),0)+IFERROR(VLOOKUP($AH15,[1]pivot集計!$A:$G,H$3,FALSE),0)+IFERROR(VLOOKUP($AI15,[1]pivot集計!$A:$G,H$3,FALSE),0)+IFERROR(VLOOKUP($AJ15,[1]pivot集計!$A:$G,H$3,FALSE),0)+IFERROR(VLOOKUP($AK15,[1]pivot集計!$A:$G,H$3,FALSE),0)+IFERROR(VLOOKUP($AL15,[1]pivot集計!$A:$G,H$3,FALSE),0)+IFERROR(VLOOKUP($AM15,[1]pivot集計!$A:$G,H$3,FALSE),0)+IFERROR(VLOOKUP($AN15,[1]pivot集計!$A:$G,H$3,FALSE),0)+IFERROR(VLOOKUP($AO15,[1]pivot集計!$A:$G,H$3,FALSE),0) -> 8779 | I15: =IFERROR(VLOOKUP($W15,[1]pivot集計!$A:$G,I$3,FALSE),0)+IFERROR(VLOOKUP($X15,[1]pivot集計!$A:$G,I$3,FALSE),0)+IFERROR(VLOOKUP($Y15,[1]pivot集計!$A:$G,I$3,FALSE),0)+IFERROR(VLOOKUP($Z15,[1]pivot集計!$A:$G,I$3,FALSE),0)+IFERROR(VLOOKUP($AA15,[1]pivot集計!$A:$G,I$3,FALSE),0)+IFERROR(VLOOKUP($AB15,[1]pivot集計!$A:$G,I$3,FALSE),0)+IFERROR(VLOOKUP($AC15,[1]pivot集計!$A:$G,I$3,FALSE),0)+IFERROR(VLOOKUP($AD15,[1]pivot集計!$A:$G,I$3,FALSE),0)+IFERROR(VLOOKUP($AE15,[1]pivot集計!$A:$G,I$3,FALSE),0)+IFERROR(VLOOKUP($AF15,[1]pivot集計!$A:$G,I$3,FALSE),0)+IFERROR(VLOOKUP($AG15,[1]pivot集計!$A:$G,I$3,FALSE),0)+IFERROR(VLOOKUP($AH15,[1]pivot集計!$A:$G,I$3,FALSE),0)+IFERROR(VLOOKUP($AI15,[1]pivot集計!$A:$G,I$3,FALSE),0)+IFERROR(VLOOKUP($AJ15,[1]pivot集計!$A:$G,I$3,FALSE),0)+IFERROR(VLOOKUP($AK15,[1]pivot集計!$A:$G,I$3,FALSE),0)+IFERROR(VLOOKUP($AL15,[1]pivot集計!$A:$G,I$3,FALSE),0)+IFERROR(VLOOKUP($AM15,[1]pivot集計!$A:$G,I$3,FALSE),0)+IFERROR(VLOOKUP($AN15,[1]pivot集計!$A:$G,I$3,FALSE),0)+IFERROR(VLOOKUP($AO15,[1]pivot集計!$A:$G,I$3,FALSE),0) -> 8080735.6 | J15: =SUM(E15:I15) -> 10549747 | N15: 11 | O15: コンクリート製品 | P15: =E15/$E$58 -> 0.014480314 | Q15: =F15/$F$58 -> 0.13665483 | R15: =G15/$G$58 -> 0.051088791 | S15: =H15/$H$58 -> 0.0019301785 | T15: =I15/$I$58 -> 0.078902606 | U15: =J15/$J$58 -> 0.043963512 | W15: 合計 / ②-14
