Workbook
Name OLE_LINK7: ×表Ⅱ・4!#REF!
Name RZK_DD: #REF!
Name RZK_DD: #REF!
Name RZK_DD: #REF!
Name RZK_DD: #REF!
Name RZK_DD: #REF!
Name RZK_DD: #REF!
Name RZK_DD: #REF!
Name RZK_DD: #REF!
Name RZK_DD: #REF!
Name RZK_DD: #REF!
Name RZK_DD: #REF!
Name RZK_TTL: #REF!
Name RZK_TTL: #REF!
Name RZK_TTL: #REF!
Name RZK_TTL: #REF!
Name RZK_TTL: #REF!
Name RZK_TTL: #REF!
Name RZK_TTL: #REF!
Name RZK_TTL: #REF!
Name RZK_TTL: #REF!
Name RZK_TTL: #REF!
Name RZK_TTL: #REF!
Name san: #REF!
Name san: #REF!
Name san: #REF!
Name san: #REF!
Name san: #REF!
Name san: #REF!
Name san: #REF!
Name san: #REF!
Name san: #REF!
Name デ１: [1]デフレータ!#REF!
Name デフレータ: [1]デフレータ!#REF!
Name デフレータ: [1]デフレータ!#REF!
Name デフレータ: [1]デフレータ!#REF!
Name デフレータ: [1]デフレータ!#REF!
Name デフレータ: [1]デフレータ!#REF!
Name デフレータ: [1]デフレータ!#REF!
Name デフレータ: [1]デフレータ!#REF!
Name デフレータ: [1]デフレータ!#REF!
Name デフレータ: [1]デフレータ!#REF!
Name デフレータ: [1]デフレータ!#REF!
Name デフレータ: [1]デフレータ!#REF!
Name デフレータ: [1]デフレータ!#REF!

Sheet 表Ⅲ・2図Ⅲ・1　180116再
B1: 表－Ⅲ・２ 産業廃棄物の業種別排出量（平成27年度実績値）
B3: 業種 | D3: 平成26年度 | F3: 平成27年度
D4: 排出量（千ｔ） | E4: 割合（%） | F4: 排出量（千ｔ） | G4: 割合（%）
A5: =B5&C5 -> 農業、林業 | B5: 農業、林業 | D5: 81902.198 | E5: 20.848768 | F5: ='表Ⅲ・5 180116再'!Y5 -> 80949.071 | G5: =F5/F$87*100 -> 20.693313 | H5: =F5-D5 -> -953.12682 | I5: 82963.067
A6: =B6&C6 -> 耕種農業 | C6: 耕種農業 | D6: 66.586608 | E6: 0.016950079 | F6: ='表Ⅲ・5 180116再'!Y6 -> 69.347277 | G6: =F6/F$87*100 -> 0.017727503 | H6: =F6-D6 -> 2.7606687 | I6: 86.931598
A7: =B7&C7 -> 畜産農業 | C7: 畜産農業 | D7: 81566.961 | E7: 20.763432 | F7: ='表Ⅲ・5 180116再'!Y7 -> 80795.133 | G7: =F7/F$87*100 -> 20.653961 | H7: =F7-D7 -> -771.82892 | I7: 82760.34
A8: =B8&C8 -> 林業大分類 | C8: 林業大分類 | D8: 257.35956 | E8: 0.065512648 | F8: ='表Ⅲ・5 180116再'!Y8 -> 77.493678 | G8: =F8/F$87*100 -> 0.019809998 | H8: =F8-D8 -> -179.86588 | I8: 115.56574
A9: =B9&C9 -> 上記以外の農業 | C9: 上記以外の農業 | D9: 0 | E9: 0 | F9: ='表Ⅲ・5 180116再'!Y9 -> 0 | G9: =F9/F$87*100 -> 0 | H9: =F9-D9 -> 0 | I9: 0
A10: =B10&C10 -> 漁 業 | B10: 漁 業 | D10: 5.5703516 | E10: 0.0014179713 | F10: ='表Ⅲ・5 180116再'!Y10 -> 6.3971701 | G10: =F10/F$87*100 -> 0.0016353325 | H10: =F10-D10 -> 0.82681849 | I10: 8.9261601
A11: =B11&C11 -> 漁 業 | C11: 漁 業 | D11: 4.2421604 | E11: 0.0010798711 | F11: ='表Ⅲ・5 180116再'!Y11 -> 5.4548052 | G11: =F11/F$87*100 -> 0.0013944322 | H11: =F11-D11 -> 1.2126448 | I11: 7.06111
A12: =B12&C12 -> 水産養殖業 | C12: 水産養殖業 | D12: 1.3279034 | E12: 0.00033802696 | F12: ='表Ⅲ・5 180116再'!Y12 -> 0.90275987 | G12: =F12/F$87*100 -> 0.00023077587 | H12: =F12-D12 -> -0.42514355 | I12: 1.7520358
A13: =B13&C13 -> 鉱 業 | B13: 鉱 業 | D13: 9085.7824 | E13: 2.3128485 | F13: ='表Ⅲ・5 180116再'!Y13 -> 9765.8105 | G13: =F13/F$87*100 -> 2.4964706 | H13: =F13-D13 -> 680.02805 | I13: 8784.8532
A14: =B14&C14 -> 建設業 | B14: 建設業 | D14: 81614.432 | E14: 20.775516 | F14: ='表Ⅲ・5 180116再'!Y14 -> 81845.225 | G14: =F14/F$87*100 -> 20.9224 | H14: =F14-D14 -> 230.79235 | I14: 80347.687
A15: =B15&C15 -> 製造業 | B15: 製造業 | D15: 112404.22 | E15: 28.613268 | F15: ='表Ⅲ・5 180116再'!Y15 -> 109487.09 | G15: =F15/F$87*100 -> 27.988592 | H15: =F15-D15 -> -2917.1319 | I15: 109470.17
A16: =B16&C16 -> 食料品製造業 | C16: 食料品製造業 | D16: 9177.9833 | E16: 2.3363188 | F16: ='表Ⅲ・5 180116再'!Y16 -> 9069.1785 | G16: =F16/F$87*100 -> 2.318388 | H16: =F16-D16 -> -108.80476 | I16: 8650.4941
A17: =B17&C17 -> 飲料・たばこ・飼料製造業 | C17: 飲料・たばこ・飼料製造業 | D17: 2885.5555 | E17: 0.73453802 | F17: ='表Ⅲ・5 180116再'!Y17 -> 2829.8898 | G17: =F17/F$87*100 -> 0.7234153 | H17: =F17-D17 -> -55.665656 | I17: 2648.9259
A18: =B18&C18 -> 繊維工業 | C18: 繊維工業 | D18: 835.97316 | E18: 0.21280272 | F18: ='表Ⅲ・5 180116再'!Y18 -> 793.85502 | G18: =F18/F$87*100 -> 0.20293612 | H18: =F18-D18 -> -42.118138 | I18: 767.54451
A19: =B19&C19 -> 木材・木製品製造業 | C19: 木材・木製品製造業 | D19: 841.50463 | E19: 0.2142108 | F19: ='表Ⅲ・5 180116再'!Y19 -> 740.26183 | G19: =F19/F$87*100 -> 0.18923589 | H19: =F19-D19 -> -101.2428 | I19: 845.67447
A20: =B20&C20 -> 家具・装備品製造業 | C20: 家具・装備品製造業 | D20: 241.72525 | E20: 0.061532825 | F20: ='表Ⅲ・5 180116再'!Y20 -> 200.26649 | G20: =F20/F$87*100 -> 0.05119487 | H20: =F20-D20 -> -41.458755 | I20: 194.45581
A21: =B21&C21 -> パルプ・紙・紙加工品製造業 | C21: パルプ・紙・紙加工品製造業 | D21: 32611.924 | E21: 8.3015898 | F21: ='表Ⅲ・5 180116再'!Y21 -> 31760.538 | G21: =F21/F$87*100 -> 8.1190648 | H21: =F21-D21 -> -851.38666 | I21: 30441.291
A22: =B22&C22 -> 印刷・同関連業 | C22: 印刷・同関連業 | D22: 548.49889 | E22: 0.13962417 | F22: ='表Ⅲ・5 180116再'!Y22 -> 487.67063 | G22: =F22/F$87*100 -> 0.12466506 | H22: =F22-D22 -> -60.828254 | I22: 522.4173
A23: =B23&C23 -> 化学工業 | C23: 化学工業 | D23: 11895.683 | E23: 3.0281281 | F23: ='表Ⅲ・5 180116再'!Y23 -> 9974.148 | G23: =F23/F$87*100 -> 2.5497287 | H23: =F23-D23 -> -1921.5353 | I23: 12807.078
A24: =B24&C24 -> 石油製品・石炭製品製造業 | C24: 石油製品・石炭製品製造業 | D24: 1318.2785 | E24: 0.33557686 | F24: ='表Ⅲ・5 180116再'!Y24 -> 1374.8894 | G24: =F24/F$87*100 -> 0.35146811 | H24: =F24-D24 -> 56.610941 | I24: 1132.5665
A25: =B25&C25 -> プラスチック製品製造業 | C25: プラスチック製品製造業 | D25: 990.0019 | E25: 0.2520118 | F25: ='表Ⅲ・5 180116再'!Y25 -> 919.37316 | G25: =F25/F$87*100 -> 0.23502279 | H25: =F25-D25 -> -70.628739 | I25: 1019.0215
A26: =B26&C26 -> ゴム製品製造業 | C26: ゴム製品製造業 | D26: 250.15908 | E26: 0.063679716 | F26: ='表Ⅲ・5 180116再'!Y26 -> 244.12675 | G26: =F26/F$87*100 -> 0.062407033 | H26: =F26-D26 -> -6.0323275 | I26: 254.0148
A27: =B27&C27 -> なめし革・同製品・毛皮製造業 | C27: なめし革・同製品・毛皮製造業 | D27: 43.887913 | E27: 0.01117197 | F27: ='表Ⅲ・5 180116再'!Y27 -> 30.89305 | G27: =F27/F$87*100 -> 0.0078973057 | H27: =F27-D27 -> -12.994863 | I27: 42.034632
... A35: =B35&C35 -> 電子部品・デバイス・電子回路製造業 | C35: 電子部品・デバイス・電子回路製造業 | D35: 3117.1181 | E35: 0.79348388 | F35: ='表Ⅲ・5 180116再'!Y35 -> 3026.4069 | G35: =F35/F$87*100 -> 0.77365169 | H35: =F35-D35 -> -90.711212 | I35: 2720.5858
A36: =B36&C36 -> 電気機械器具製造業 | C36: 電気機械器具製造業 | D36: 843.56854 | E36: 0.21473618 | F36: ='表Ⅲ・5 180116再'!Y36 -> 548.09228 | G36: =F36/F$87*100 -> 0.14011088 | H36: =F36-D36 -> -295.47626 | I36: 525.35545 | O36: 図－Ⅲ・１/Ⅳ・２ 産業廃棄物の業種別排出量（平成２５年度実施値）
A37: =B37&C37 -> 情報通信機械器具製造業 | C37: 情報通信機械器具製造業 | D37: 99.937987 | E37: 0.025439903 | F37: ='表Ⅲ・5 180116再'!Y37 -> 82.797991 | G37: =F37/F$87*100 -> 0.021165959 | H37: =F37-D37 -> -17.139996 | I37: 94.649371
A38: =B38&C38 -> 輸送用機械器具製造業 | C38: 輸送用機械器具製造業 | D38: 3118.344 | E38: 0.79379594 | F38: ='表Ⅲ・5 180116再'!Y38 -> 2579.0691 | G38: =F38/F$87*100 -> 0.65929707 | H38: =F38-D38 -> -539.27488 | I38: 2638.7646
A39: =B39&C39 -> その他の製造業 | C39: その他の製造業 | D39: 694.75956 | E39: 0.17685583 | F39: ='表Ⅲ・5 180116再'!Y39 -> 591.02278 | G39: =F39/F$87*100 -> 0.15108536 | H39: =F39-D39 -> -103.73678 | I39: 572.41774
A40: =B40&C40 -> 電気･ガス・熱供給・水道業 | B40: 電気･ガス・熱供給・水道業 | D40: 101031.5 | E40: 25.718264 | F40: ='表Ⅲ・5 180116再'!Y40 -> 100542.82 | G40: =F40/F$87*100 -> 25.702136 | H40: =F40-D40 -> -488.68467 | I40: 97991.002
A41: =B41&C41 -> 電気業 | C41: 電気業 | D41: 11547.135 | E41: 2.9394028 | F41: ='表Ⅲ・5 180116再'!Y41 -> 11128.241 | G41: =F41/F$87*100 -> 2.8447539 | H41: =F41-D41 -> -418.89394 | I41: 10792.548
A42: =B42&C42 -> ガス業 | C42: ガス業 | D42: 22.164972 | E42: 0.0056422463 | F42: ='表Ⅲ・5 180116再'!Y42 -> 20.518855 | G42: =F42/F$87*100 -> 0.0052453115 | H42: =F42-D42 -> -1.6461171 | I42: 14.065343
A43: =B43&C43 -> 熱供給業 | C43: 熱供給業 | D43: 740.92093 | E43: 0.18860652 | F43: ='表Ⅲ・5 180116再'!Y43 -> 616.24093 | G43: =F43/F$87*100 -> 0.15753197 | H43: =F43-D43 -> -124.68 | I43: 285.92174
A44: =B44&C44 -> 上水道業 | C44: 上水道業 | D44: 10982.416 | E44: 2.7956496 | F44: ='表Ⅲ・5 180116再'!Y44 -> 10610.656 | G44: =F44/F$87*100 -> 2.7124416 | H44: =F44-D44 -> -371.76004 | I44: 9851.601
A45: =B45&C45 -> 下水道業 | C45: 下水道業 | D45: 77738.864 | E45: 19.788963 | F45: ='表Ⅲ・5 180116再'!Y45 -> 78167.16 | G45: =F45/F$87*100 -> 19.982163 | H45: =F45-D45 -> 428.29568 | I45: 77046.866
A46: =B46&C46 -> 情報通信業 | B46: 情報通信業 | D46: 131.28148 | E46: 0.033418603 | F46: ='表Ⅲ・5 180116再'!Y46 -> 254.46653 | G46: =F46/F$87*100 -> 0.065050229 | H46: =F46-D46 -> 123.18506 | I46: 313.35159
A47: =B47&C47 -> 通信業 | C47: 通信業 | D47: 42.997632 | E47: 0.010945343 | F47: ='表Ⅲ・5 180116再'!Y47 -> 51.010526 | G47: =F47/F$87*100 -> 0.013040011 | H47: =F47-D47 -> 8.0128944 | I47: 69.233077
A48: =B48&C48 -> 放送業 | C48: 放送業 | D48: 11.975404 | E48: 0.0030484215 | F48: ='表Ⅲ・5 180116再'!Y48 -> 76.36013 | G48: =F48/F$87*100 -> 0.019520225 | H48: =F48-D48 -> 64.384726 | I48: 3.7201218
...

Sheet 表Ⅲ・3図Ⅲ・2　180116再
B1: 表－Ⅲ・３ 産業廃棄物の業種別排出量（平成27年度実績値） | P1: ='表Ⅲ・5 180116再'!Z87 -> 0 | Q1: ='表Ⅲ・5 180116再'!AA87 -> 0 | R1: ='表Ⅲ・5 180116再'!AB87 -> 0
B3: 種類 | C3: 平成26年度（参考） | E3: 平成27年度
C4: 排出量（千ｔ） | D4: 割合（%） | E4: 排出量（千ｔ） | F4: 割合（%）
B5: 燃え殻 | C5: 2045.5329 | D5: 0.52070449 | E5: ='表Ⅲ・5 180116再'!F87 -> 1912.0211 | F5: =E5/$E$24*100 -> 0.48877709 | G5: =E5-C5 -> -133.51183
B6: 汚 泥 | C6: 168821.47 | D6: 42.974667 | E6: ='表Ⅲ・5 180116再'!G87 -> 169317.63 | F6: =E6/$E$24*100 -> 43.283298 | G6: =E6-C6 -> 496.16176
B7: 廃 油 | C7: 3043.6181 | D7: 0.77477393 | E7: ='表Ⅲ・5 180116再'!H87 -> 2952.6635 | F7: =E7/$E$24*100 -> 0.7548004 | G7: =E7-C7 -> -90.954535
B8: 廃 酸 | C8: 3191.2513 | D8: 0.81235498 | E8: ='表Ⅲ・5 180116再'!I87 -> 2825.8722 | F8: =E8/$E$24*100 -> 0.72238826 | G8: =E8-C8 -> -365.37907
B9: 廃アルカリ | C9: 2305.7483 | D9: 0.58694411 | E9: ='表Ⅲ・5 180116再'!J87 -> 2676.5591 | F9: =E9/$E$24*100 -> 0.68421879 | G9: =E9-C9 -> 370.81079
B10: 廃プラスチック類 | C10: 6509.304 | D10: 1.6569881 | E10: ='表Ⅲ・5 180116再'!K87 -> 6822.7644 | F10: =E10/$E$24*100 -> 1.7441287 | G10: =E10-C10 -> 313.46044
B11: 紙くず | C11: 984.91864 | D11: 0.25071782 | E11: ='表Ⅲ・5 180116再'!L87 -> 937.63464 | F11: =E11/$E$24*100 -> 0.23969104 | G11: =E11-C11 -> -47.283994
B12: 木くず | C12: 7487.1259 | D12: 1.9058994 | E12: ='表Ⅲ・5 180116再'!M87 -> 7247.8954 | F12: =E12/$E$24*100 -> 1.8528066 | G12: =E12-C12 -> -239.23046
B13: 繊維くず | C13: 103.38069 | D13: 0.026316266 | E13: ='表Ⅲ・5 180116再'!N87 -> 89.708019 | F13: =E13/$E$24*100 -> 0.022932396 | G13: =E13-C13 -> -13.672668
B14: 動植物性残さ | C14: 2706.2698 | D14: 0.68889962 | E14: ='表Ⅲ・5 180116再'!O87 -> 2557.1544 | F14: =E14/$E$24*100 -> 0.65369493 | G14: =E14-C14 -> -149.1154
B15: 動物系固形不要物 | C15: 83.351241 | D15: 0.021217632 | E15: ='表Ⅲ・5 180116再'!P87 -> 91.829144 | F15: =E15/$E$24*100 -> 0.023474627 | G15: =E15-C15 -> 8.4779027
B16: ゴムくず | C16: 28.452978 | D16: 0.0072429014 | E16: ='表Ⅲ・5 180116再'!Q87 -> 22.945784 | F16: =E16/$E$24*100 -> 0.0058657164 | G16: =E16-C16 -> -5.5071939
B17: 金属くず | C17: 9283.8199 | D17: 2.3632603 | E17: ='表Ⅲ・5 180116再'!R87 -> 8646.7284 | F17: =E17/$E$24*100 -> 2.2103954 | G17: =E17-C17 -> -637.09153 | Q17: 報告書P25で利用
B18: ガラスくず、コンクリートくず及び陶磁器くず | C18: 8266.784 | D18: 2.1043668 | E18: ='表Ⅲ・5 180116再'!S87 -> 7348.4179 | F18: =E18/$E$24*100 -> 1.8785035 | G18: =E18-C18 -> -918.36607 | Q18: 図ーⅢ・２／Ⅳ・３ 産業廃棄物の種類別排出量（平成25年度実施値）
B19: 鉱さい | C19: 14563.046 | D19: 3.7071235 | E19: ='表Ⅲ・5 180116再'!T87 -> 15161.456 | F19: =E19/$E$24*100 -> 3.8757796 | G19: =E19-C19 -> 598.41029
B20: がれき類 | C20: 64394.261 | D20: 16.392002 | E20: ='表Ⅲ・5 180116再'!U87 -> 64212.461 | F20: =E20/$E$24*100 -> 16.414871 | G20: =E20-C20 -> -181.80056
B21: 動物のふん尿 | C21: 81416.104 | D21: 20.72503 | E21: ='表Ⅲ・5 180116再'!V87 -> 80512.451 | F21: =E21/$E$24*100 -> 20.581698 | G21: =E21-C21 -> -903.65363
B22: 動物の死体 | C22: 125.78758 | D22: 0.032020094 | E22: ='表Ⅲ・5 180116再'!W87 -> 112.41831 | F22: =E22/$E$24*100 -> 0.028737912 | G22: =E22-C22 -> -13.369271
B23: ばいじん | C23: 17479.279 | D23: 4.4494709 | E23: ='表Ⅲ・5 180116再'!X87 -> 17736.072 | F23: =E23/$E$24*100 -> 4.5339383 | G23: =E23-C23 -> 256.79294
B24: 合 計 | C24: 392839.5 | D24: 100 | E24: ='表Ⅲ・5 180116再'!Y87 -> 391184.68 | F24: =E24/$E$24*100 -> 100 | G24: =E24-C24 -> -1654.8221
Q36: 報告書P44で利用
Q37: 図－Ⅳ・３ 産業廃棄物の種類別排出量の推移（平成25年度実施値）
B50: 種類 | C50: 平成26年度（参考） | E50: 種類 | F50: 平成27年度
C51: 排出量（千ｔ） | F51: 排出量（千ｔ）
B52: 汚 泥 | C52: 168821.47 | D52: =C52/$C$63 -> 0.42974667 | E52: 汚 泥 | F52: =VLOOKUP(E52,$B$5:$F$24,4,FALSE) -> 169317.63 | G52: =F52/$F$63 -> 0.43283298 | H52: =B52=E52 -> TRUE | I52: =C52/10 -> 16882.147 | J52: =F52/10 -> 16931.763
B53: 動物のふん尿 | C53: 81416.104 | D53: =C53/$C$63 -> 0.2072503 | E53: 動物のふん尿 | F53: =VLOOKUP(E53,$B$5:$F$24,4,FALSE) -> 80512.451 | G53: =F53/$F$63 -> 0.20581698 | H53: =B53=E53 -> TRUE | I53: =C53/10 -> 8141.6104 | J53: =F53/10 -> 8051.2451
B54: がれき類 | C54: 64394.261 | D54: =C54/$C$63 -> 0.16392002 | E54: がれき類 | F54: =VLOOKUP(E54,$B$5:$F$24,4,FALSE) -> 64212.461 | G54: =F54/$F$63 -> 0.16414871 | H54: =B54=E54 -> TRUE | I54: =C54/10 -> 6439.4261 | J54: =F54/10 -> 6421.2461
B55: ばいじん | C55: 17479.279 | D55: =C55/$C$63 -> 0.044494709 | E55: ばいじん | F55: =VLOOKUP(E55,$B$5:$F$24,4,FALSE) -> 17736.072 | G55: =F55/$F$63 -> 0.045339383 | H55: =B55=E55 -> TRUE
B56: 鉱さい | C56: 14563.046 | D56: =C56/$C$63 -> 0.037071235 | E56: 鉱さい | F56: =VLOOKUP(E56,$B$5:$F$24,4,FALSE) -> 15161.456 | G56: =F56/$F$63 -> 0.038757796 | H56: =B56=E56 -> TRUE
B57: 金属くず | C57: 9283.8199 | D57: =C57/$C$63 -> 0.023632603 | E57: 金属くず | F57: =VLOOKUP(E57,$B$5:$F$24,4,FALSE) -> 8646.7284 | G57: =F57/$F$63 -> 0.022103954 | H57: =B57=E57 -> TRUE
B58: ガラスくず、コンクリートくず及び陶磁器くず | C58: 8266.784 | D58: =C58/$C$63 -> 0.021043668 | E58: ガラスくず、コンクリートくず及び陶磁器くず | F58: =VLOOKUP(E58,$B$5:$F$24,4,FALSE) -> 7348.4179 | G58: =F58/$F$63 -> 0.018785035 | H58: =B58=E58 -> TRUE
B59: 木くず | C59: 7487.1259 | D59: =C59/$C$63 -> 0.019058994 | E59: 木くず | F59: =VLOOKUP(E59,$B$5:$F$24,4,FALSE) -> 7247.8954 | G59: =F59/$F$63 -> 0.018528066 | H59: =B59=E59 -> TRUE
B60: 廃プラスチック類 | C60: 6509.304 | D60: =C60/$C$63 -> 0.016569881 | E60: 廃プラスチック類 | F60: =VLOOKUP(E60,$B$5:$F$24,4,FALSE) -> 6822.7644 | G60: =F60/$F$63 -> 0.017441287 | H60: =B60=E60 -> TRUE
B61: 廃 酸 | C61: 3191.2513 | D61: =C61/$C$63 -> 0.0081235498 | E61: 廃 油 | F61: =VLOOKUP(E61,$B$5:$F$24,4,FALSE) -> 2952.6635 | G61: =F61/$F$63 -> 0.007548004 | H61: =B61=E61 -> FALSE
B62: その他の産業廃棄物 | C62: 11427.06 | D62: =C62/$C$63 -> 0.029088369 | E62: その他の産業廃棄物 | F62: =F63-SUM(F52:F61) -> 11226.143 | G62: =F62/$F$63 -> 0.028697808 | H62: =B62=E62 -> TRUE
B63: 合 計 | C63: 392839.5 | D63: =C63/$C$63 -> 1 | E63: 合 計 | F63: =E24 -> 391184.68 | G63: =F63/$F$63 -> 1
C66: 平成26年度（参考） | E66: 平成27年度
...

Sheet 表Ⅲ・4　図Ⅲ・3　180116再
B1: 表－Ⅲ・４ 産業廃棄物の地域別排出量（平成26年度速報値） | L1: 報告書P27で利用 図－Ⅲ・３／Ⅳ・４ 産業廃棄物の地域別排出量（平成25年度実施値）
B3: 地域別 | C3: 平成26年度（参考） | E3: 平成27年度
C4: 排出量（千ｔ） | D4: 割合（%） | E4: 排出量（千ｔ） | F4: 割合（%）
B5: 北海道 | C5: =C20 -> 36540.272 | D5: =C5/C$13*100 -> 9.3015779 | E5: =E20 -> 36882.171 | F5: =E5/E$13*100 -> 9.428327 | G5: =E5-C5 -> 341.89853
B6: 東北 | C6: =SUM(C21:C26) -> 40136.557 | D6: =C6/C$13*100 -> 10.217037 | E6: =SUM(E21:E26) -> 38264.306 | F6: =E6/E$13*100 -> 9.7816473 | G6: =E6-C6 -> -1872.2507
B7: 関東 | C7: =SUM(C27:C33) -> 102514.81 | D7: =C7/C$13*100 -> 26.095851 | E7: =SUM(E27:E33) -> 104056.05 | F7: =E7/E$13*100 -> 26.600236 | G7: =E7-C7 -> 1541.2349
B8: 中部 | C8: =SUM(C34:C42) -> 63058.957 | D8: =C8/C$13*100 -> 16.052092 | E8: =SUM(E34:E42) -> 61327.275 | F8: =E8/E$13*100 -> 15.67732 | G8: =E8-C8 -> -1731.6823
B9: 近畿 | C9: =SUM(C43:C49) -> 56144.558 | D9: =C9/C$13*100 -> 14.291984 | E9: =SUM(E43:E49) -> 55268.429 | F9: =E9/E$13*100 -> 14.128475 | G9: =E9-C9 -> -876.12974
B10: 中国 | C10: =SUM(C50:C54) -> 26096.881 | D10: =C10/C$13*100 -> 6.6431408 | E10: =SUM(E50:E54) -> 26429.948 | F10: =E10/E$13*100 -> 6.7563862 | G10: =E10-C10 -> 333.0665
B11: 四国 | C11: =SUM(C55:C58) -> 14046.622 | D11: =C11/C$13*100 -> 3.5756642 | E11: =SUM(E55:E58) -> 14147.236 | F11: =E11/E$13*100 -> 3.6165106 | G11: =E11-C11 -> 100.61389
B12: 九州 | C12: =SUM(C59:C66) -> 54300.844 | D12: =C12/C$13*100 -> 13.822654 | E12: =SUM(E59:E66) -> 54809.271 | F12: =E12/E$13*100 -> 14.011098 | G12: =E12-C12 -> 508.42682
B13: 合 計 | C13: =C67 -> 392839.5 | D13: 100 | E13: =E67 -> 391184.68 | F13: 100 | G13: =E13-C13 -> -1654.8221
B18: 種類 | C18: 平成26年度（参考） | E18: 平成27年度
C19: 排出量（千ｔ） | D19: 割合（%） | E19: 排出量（千ｔ） | F19: 割合（%）
A20: =E20-C20 -> 341.89853 | B20: 北海道 | C20: 36540.272 | D20: 9.3015779 | E20: ='表Ⅲ・6 180116再⇒180218修正'!X5 -> 36882.171 | F20: =E20/E$67*100 -> 9.428327 | G20: =E20-C20 -> 341.89853
A21: =E21-C21 -> -52.691467 | B21: 青森県 | C21: 5020.8498 | D21: 1.2780919 | E21: ='表Ⅲ・6 180116再⇒180218修正'!X6 -> 4968.1584 | F21: =E21/E$67*100 -> 1.2700289 | G21: =E21-C21 -> -52.691467
A22: =E22-C22 -> -365.02276 | B22: 岩手県 | C22: 6786.9741 | D22: 1.727671 | E22: ='表Ⅲ・6 180116再⇒180218修正'!X7 -> 6421.9513 | F22: =E22/E$67*100 -> 1.6416674 | G22: =E22-C22 -> -365.02276
A23: =E23-C23 -> -1260.1727 | B23: 宮城県 | C23: 12038.467 | D23: 3.0644747 | E23: ='表Ⅲ・6 180116再⇒180218修正'!X8 -> 10778.295 | F23: =E23/E$67*100 -> 2.7552956 | G23: =E23-C23 -> -1260.1727
A24: =E24-C24 -> 14.163047 | B24: 秋田県 | C24: 3463.1621 | D24: 0.88157175 | E24: ='表Ⅲ・6 180116再⇒180218修正'!X9 -> 3477.3251 | F24: =E24/E$67*100 -> 0.8889216 | G24: =E24-C24 -> 14.163047
A25: =E25-C25 -> 112.48552 | B25: 山形県 | C25: 3440.8596 | D25: 0.87589449 | E25: ='表Ⅲ・6 180116再⇒180218修正'!X10 -> 3553.3451 | F25: =E25/E$67*100 -> 0.90835487 | G25: =E25-C25 -> 112.48552
A26: =E26-C26 -> -321.01231 | B26: 福島県 | C26: 9386.2439 | D26: 2.389333 | E26: ='表Ⅲ・6 180116再⇒180218修正'!X11 -> 9065.2316 | F26: =E26/E$67*100 -> 2.317379 | G26: =E26-C26 -> -321.01231
A27: =E27-C27 -> 249.66205 | B27: 茨城県 | C27: 11904.053 | D27: 3.0302587 | E27: ='表Ⅲ・6 180116再⇒180218修正'!X12 -> 12153.715 | F27: =E27/E$67*100 -> 3.1068996 | G27: =E27-C27 -> 249.66205
A28: =E28-C28 -> -138.60532 | B28: 栃木県 | C28: 8053.2169 | D28: 2.0500018 | E28: ='表Ⅲ・6 180116再⇒180218修正'!X13 -> 7914.6116 | F28: =E28/E$67*100 -> 2.0232417 | G28: =E28-C28 -> -138.60532
A29: =E29-C29 -> 25.44174 | B29: 群馬県 | C29: 5341.2321 | D29: 1.3596474 | E29: ='表Ⅲ・6 180116再⇒180218修正'!X14 -> 5366.6739 | F29: =E29/E$67*100 -> 1.3719029 | G29: =E29-C29 -> 25.44174
A30: =E30-C30 -> 724.83775 | B30: 埼玉県 | C30: 10246.001 | D30: 2.60819 | E30: ='表Ⅲ・6 180116再⇒180218修正'!X15 -> 10970.838 | F30: =E30/E$67*100 -> 2.8045163 | G30: =E30-C30 -> 724.83775 | L30: 図－Ⅳ・４ 産業廃棄物の地域別排出量の推移(平成25年度実施値）
A31: =E31-C31 -> -216.86605 | B31: 千葉県 | C31: 21895.364 | D31: 5.5736157 | E31: ='表Ⅲ・6 180116再⇒180218修正'!X16 -> 21678.498 | F31: =E31/E$67*100 -> 5.5417554 | G31: =E31-C31 -> -216.86605
A32: =E32-C32 -> -1116.3579 | B32: 東京都 | C32: 28826.176 | D32: 7.3379017 | E32: ='表Ⅲ・6 180116再⇒180218修正'!X17 -> 27709.819 | F32: =E32/E$67*100 -> 7.0835643 | G32: =E32-C32 -> -1116.3579
A33: =E33-C33 -> 2013.1227 | B33: 神奈川県 | C33: 16248.769 | D33: 4.136236 | E33: ='表Ⅲ・6 180116再⇒180218修正'!X18 -> 18261.892 | F33: =E33/E$67*100 -> 4.6683555 | G33: =E33-C33 -> 2013.1227
A34: =E34-C34 -> 259.07459 | B34: 新潟県 | C34: 8406.924 | D34: 2.1400404 | E34: ='表Ⅲ・6 180116再⇒180218修正'!X19 -> 8665.9986 | F34: =E34/E$67*100 -> 2.2153216 | G34: =E34-C34 -> 259.07459
A35: =E35-C35 -> -49.223091 | B35: 富山県 | C35: 4623.2514 | D35: 1.1768805 | E35: ='表Ⅲ・6 180116再⇒180218修正'!X20 -> 4574.0283 | F35: =E35/E$67*100 -> 1.1692759 | G35: =E35-C35 -> -49.223091
A36: =E36-C36 -> -0.80823423 | B36: 石川県 | C36: 3225.9259 | D36: 0.82118164 | E36: ='表Ⅲ・6 180116再⇒180218修正'!X21 -> 3225.1177 | F36: =E36/E$67*100 -> 0.82444886 | G36: =E36-C36 -> -0.80823423
A37: =E37-C37 -> 7.3801161 | B37: 福井県 | C37: 3013.6973 | D37: 0.76715739 | E37: ='表Ⅲ・6 180116再⇒180218修正'!X22 -> 3021.0774 | F37: =E37/E$67*100 -> 0.77228929 | G37: =E37-C37 -> 7.3801161
A38: =E38-C38 -> 14.949626 | B38: 山梨県 | C38: 1778.8482 | D38: 0.45281807 | E38: ='表Ⅲ・6 180116再⇒180218修正'!X23 -> 1793.7979 | F38: =E38/E$67*100 -> 0.45855524 | G38: =E38-C38 -> 14.949626
A39: =E39-C39 -> 78.466949 | B39: 長野県 | C39: 4887.5771 | D39: 1.2441664 | E39: ='表Ⅲ・6 180116再⇒180218修正'!X24 -> 4966.0441 | F39: =E39/E$67*100 -> 1.2694884 | G39: =E39-C39 -> 78.466949
A40: =E40-C40 -> -219.99402 | B40: 岐阜県 | C40: 4951.7657 | D40: 1.260506 | E40: ='表Ⅲ・6 180116再⇒180218修正'!X25 -> 4731.7716 | F40: =E40/E$67*100 -> 1.2096004 | G40: =E40-C40 -> -219.99402
A41: =E41-C41 -> -480.73368 | B41: 静岡県 | C41: 10866.729 | D41: 2.7662007 | E41: ='表Ⅲ・6 180116再⇒180218修正'!X26 -> 10385.995 | F41: =E41/E$67*100 -> 2.6550108 | G41: =E41-C41 -> -480.73368
A42: =E42-C42 -> -1340.7945 | B42: 愛知県 | C42: 21304.238 | D42: 5.4231405 | E42: ='表Ⅲ・6 180116再⇒180218修正'!X27 -> 19963.444 | F42: =E42/E$67*100 -> 5.1033296 | G42: =E42-C42 -> -1340.7945
... A67: =E67-C67 -> -1654.8221 | B67: 全国 | C67: 392839.5 | D67: 100 | E67: ='表Ⅲ・6 180116再⇒180218修正'!X52 -> 391184.68 | F67: =E67/E$67*100 -> 100 | G67: =E67-C67 -> -1654.8221
B70: 種類 | C70: 平成26年度（参考） | E70: 種類 | F70: 平成27年度
C71: 排出量（千ｔ） | F71: 排出量（千ｔ）
...

Sheet 図Ⅲ・4　180116再
A1: 図Ⅲ・4 全国産業廃棄物の処理フロー
Y7: 内は平成26年度の数値 | AI7: 排出量 | AJ7: 直接再生 利用量 | AK7: 直接最終 処分量 | AL7: 中 間 処 理 | AP7: 再生 利用量計 | AQ7: 減量化量 | AR7: 最終処分量計
AL8: 中間処理量 | AM8: 処理残渣量 | AN8: 再生利用量 | AO8: 最終処分
J9: 直接再生利用量 | Z9: 再生利用量 | AI9: (A) | AJ9: (B) | AK9: (C) | AL9: (D) | AM9: (E) | AN9: (F) | AO9: (G) | AP9: (B)+(F) | AQ9: (D)-(E) | AR9: (C)+(G)
C10: 排 出 量 | J10: =AJ10 -> 76848.824 | Z10: =AP10 -> 207560.9 | AH10: 合計 | AI10: =AI17 -> 391184.68 | AJ10: =AJ17 -> 76848.824 | AK10: =AK17 -> 4843.5611 | AL10: =AL17 -> 309492.3 | AM10: =AM17 -> 135953.75 | AN10: =AN17 -> 130712.08 | AO10: =AO17 -> 5241.6735 | AP10: =AP17 -> 207560.9 | ... AR10: =AR17 -> 10085.235
C11: =AI10 -> 391184.68 | J11: =AJ11 -> 19.645152 | Z11: =AP11 -> 53.059568 | AH11: 構成比 | AI11: =AI18*100 -> 100 | AJ11: =AJ18*100 -> 19.645152 | AK11: =AK18*100 -> 1.2381776 | AL11: =AL18*100 -> 79.116671 | AM11: =AM18*100 -> 34.754365 | AN11: =AN18*100 -> 33.414416 | AO11: =AO18*100 -> 1.3399485 | AP11: =AP18*100 -> 53.059568 | ... AR11: =AR18*100 -> 2.5781261
C12: =AI11 -> 100
Z13: =AP28 -> 209676.42
C14: =AI28 -> 392839.5 | Z14: =AP29 -> 53.374576
C15: =AI29 -> 100
V16: 処理後再生利用量 | AI16: 排出量推計値 | AJ16: 直接再生利用量 | AK16: 直接最終処分量 | AL16: 中間処理量 | AM16: 処理残渣量 | AN16: 処理後再生利用量 | AO16: 処理後最終処分量 | AP16: 再生利用量合計 | AQ16: 減量化量 | AR16: 最終処分量合計
V17: =AN10 -> 130712.08 | AI17: ='表Ⅲ・9 180116再'!C43 -> 391184.68 | AJ17: ='表Ⅲ・9 180116再'!D43 -> 76848.824 | AK17: ='表Ⅲ・9 180116再'!E43 -> 4843.5611 | AL17: ='表Ⅲ・9 180116再'!F43 -> 309492.3 | AM17: ='表Ⅲ・9 180116再'!G43 -> 135953.75 | AN17: ='表Ⅲ・9 180116再'!H43 -> 130712.08 | AO17: ='表Ⅲ・9 180116再'!I43 -> 5241.6735 | AP17: ='表Ⅲ・9 180116再'!J43 -> 207560.9 | ... AR17: ='表Ⅲ・9 180116再'!L43 -> 10085.235
P18: 処理残渣量 | V18: =AN11 -> 33.414416 | AI18: =AI17/$AI$17 -> 1 | AJ18: =AJ17/$AI$17 -> 0.19645152 | AK18: =AK17/$AI$17 -> 0.012381776 | AL18: =AL17/$AI$17 -> 0.79116671 | AM18: =AM17/$AI$17 -> 0.34754365 | AN18: =AN17/$AI$17 -> 0.33414416 | AO18: =AO17/$AI$17 -> 0.013399485 | AP18: =AP17/$AI$17 -> 0.53059568 | ... AR18: =AR17/$AI$17 -> 0.025781261
P19: =AM10 -> 135953.75
J20: 中間処理量 | P20: =AM11 -> 34.754365 | V20: 処理後最終処分量
J21: =AL10 -> 309492.3 | V21: =AO10 -> 5241.6735
J22: =AL11 -> 79.116671 | P22: 減量化量 | V22: =AO11 -> 1.3399485
P23: =AQ10 -> 173538.55
P24: =AQ11 -> 44.362306 | AH24: H26
AI25: 排出量 | AJ25: 直接再生 利用量 | AK25: 直接最終 処分量 | AL25: 中 間 処 理 | AP25: 再生 利用量計 | AQ25: 減量化量 | AR25: 最終処分量計
P26: =AQ28 -> 172763.83 | AL26: 中間処理量 | AM26: 処理残渣量 | AN26: 再生利用量 | AO26: 最終処分
P27: =AQ29 -> 43.978222 | AI27: (A) | AJ27: (B) | AK27: (C) | AL27: (D) | AM27: (E) | AN27: (F) | AO27: (G) | AP27: (B)+(F) | AQ27: (D)-(E) | AR27: (C)+(G)
J28: 直接最終処分量 | Z28: 最終処分量 | AH28: 合計 | AI28: 392839.5 | AJ28: 76516.559 | AK28: 5349.8324 | AL28: 310973.11 | AM28: 138209.28 | AN28: 133159.86 | AO28: 5049.4218 | AP28: 209676.42 | AQ28: 172763.83 | AR28: 10399.254
J29: =AK10 -> 4843.5611 | Z29: =AR10 -> 10085.235 | AH29: 構成比 | AI29: 100 | AJ29: 19.477817 | AK29: 1.3618367 | AL29: 79.160347 | AM29: 35.182124 | AN29: 33.896759 | AO29: 1.2853651 | AP29: 53.374576 | AQ29: 43.978222 | AR29: 2.6472018
J30: =AK11 -> 1.2381776 | Z30: =AR11 -> 2.5781261
Z32: =AR28 -> 10399.254
Z33: =AR29 -> 2.6472018
B36: ※各項目量は、四捨五入して表示しているため、収支が合わない場合がある。

Sheet 表Ⅲ・5　180116再
B1: 表－Ⅲ・５ 平成27年度実績値 業種別・種類別排出量推計値一覧表
AB2: 180218確認
D3: 全国 | F3: 平成27年度 | Y3: (単位：千ｔ/年) | AB3: 旧
B4: 大分類 | C4: 番号 | D4: 産業分類 | E4: コード | F4: 燃え殻 | G4: 汚 泥 | H4: 廃 油 | I4: 廃 酸 | J4: 廃アルカリ | K4: 廃プラス チック類 | L4: 紙くず | M4: 木くず | N4: 繊維くず | O4: 動植物性 残 渣 | P4: 動物系固形不要物 | Q4: ゴムくず | R4: 金属くず | S4: ガラスくず及び 陶磁器くず | T4: 鉱さい | U4: がれき類 | V4: 動物の ふん尿 | W4: 動物の死体 | X4: ばいじん | Y4: 合 計 | AB4: 大分類 | AC4: 番号 | AD4: 産業分類 | AE4: コード | AF4: 燃え殻 | AG4: 汚 泥 | AH4: 廃 油 | AI4: 廃 酸 | AJ4: 廃アルカリ | AK4: 廃プラス チック類 | AL4: 紙くず | AM4: 木くず | AN4: 繊維くず | AO4: 動植物性 残 渣 | AP4: 動物系固形不要物 | AQ4: ゴムくず | AR4: 金属くず | AS4: ガラスくず及び 陶磁器くず | AT4: 鉱さい | AU4: がれき類 | AV4: 動物の ふん尿 | AW4: 動物の死体 | AX4: ばいじん | AY4: 合 計 | BA4: 大分類 | BB4: 番号 | BC4: 産業分類 | BD4: コード | BE4: 燃え殻 | BF4: 汚 泥 | BG4: 廃 油 | BH4: 廃 酸 | BI4: 廃アルカリ | BJ4: 廃プラス チック類 | BK4: 紙くず | BL4: 木くず | BM4: 繊維くず | BN4: 動植物性 残 渣 | BO4: 動物系固形不要物 | BP4: ゴムくず | BQ4: 金属くず | BR4: ガラスくず及び 陶磁器くず | BS4: 鉱さい | BT4: がれき類 | BU4: 動物の ふん尿 | BV4: 動物の死体 | BW4: ばいじん | BX4: 合 計
B5: 農業、 | D5: 農業大分類 | E5: Ａ | F5: 0.37513252 | G5: 4.8877368 | H5: 0.15644163 | I5: 0.080458 | J5: 0.002375 | K5: 100.44027 | L5: 0 | M5: 212.11506 | N5: 0 | O5: 0 | P5: 0 | Q5: 0.00033 | R5: 0.80792202 | S5: 2.8711832 | T5: 0 | U5: 2.3067694 | V5: 80512.451 | W5: 112.41831 | X5: 0.158 | Y5: 80949.071 | AB5: 農業、 | AD5: 農業大分類 | AE5: Ａ | AF5: 0.37513252 | AG5: 4.8877368 | AH5: 0.15644163 | AI5: 0.080458 | AJ5: 0.002375 | AK5: 100.44027 | AL5: 0 | AM5: 212.11506 | AN5: 0 | AO5: 0 | AP5: 0 | AQ5: 0.00033 | AR5: 0.80792202 | AS5: 2.8711832 | AT5: 0 | AU5: 2.3067694 | AV5: 80512.451 | AW5: 112.41831 | AX5: 0.158 | AY5: 80949.071 | BA5: 農業、 | BC5: 農業大分類 | BD5: Ａ | BE5: =AF5=F5 -> TRUE | BF5: =AG5=G5 -> TRUE | BG5: =AH5=H5 -> TRUE | BH5: =AI5=I5 -> TRUE | BI5: =AJ5=J5 -> TRUE | BJ5: =AK5=K5 -> TRUE | BK5: =AL5=L5 -> TRUE | BL5: =AM5=M5 -> TRUE | ... BX5: =AY5=Y5 -> TRUE
B6: 林業 | C6: 1 | D6: 耕種農業 | E6: A011 | F6: 0 | G6: 0 | H6: 1.117386e-05 | I6: 0 | J6: 0 | K6: 68.640248 | L6: 0 | M6: 0.22249749 | N6: 0 | O6: 0 | P6: 0 | Q6: 0 | R6: 2.5576836e-05 | S6: 0.48448597 | T6: 0 | U6: 8.6386679e-06 | V6: 0 | W6: 0 | X6: 0 | Y6: 69.347277 | AB6: 林業 | AC6: 1 | AD6: 耕種農業 | AE6: A011 | AF6: 0 | AG6: 0 | AH6: 1.117386e-05 | AI6: 0 | AJ6: 0 | AK6: 68.640248 | AL6: 0 | AM6: 0.22249749 | AN6: 0 | AO6: 0 | AP6: 0 | AQ6: 0 | AR6: 2.5576836e-05 | AS6: 0.48448597 | AT6: 0 | AU6: 8.6386679e-06 | AV6: 0 | AW6: 0 | AX6: 0 | AY6: 69.347277 | BA6: 林業 | BB6: 1 | BC6: 耕種農業 | BD6: A011 | BE6: =AF6=F6 -> TRUE | BF6: =AG6=G6 -> TRUE | BG6: =AH6=H6 -> TRUE | BH6: =AI6=I6 -> TRUE | BI6: =AJ6=J6 -> TRUE | BJ6: =AK6=K6 -> TRUE | BK6: =AL6=L6 -> TRUE | BL6: =AM6=M6 -> TRUE | ... BX6: =AY6=Y6 -> TRUE
C7: 2 | D7: 畜産農業 | E7: A012 | F7: 0.013572516 | G7: 0.16959744 | H7: 0.011588616 | I7: 0 | J7: 0 | K7: 26.808915 | L7: 0 | M7: 143.14353 | N7: 0 | O7: 0 | P7: 0 | Q7: 0 | R7: 0.051548926 | S7: 0.055778883 | T7: 0 | U7: 0.0089836626 | V7: 80512.451 | W7: 112.41831 | X7: 0 | Y7: 80795.133 | AC7: 2 | AD7: 畜産農業 | AE7: A012 | AF7: 0.013572516 | AG7: 0.16959744 | AH7: 0.011588616 | AI7: 0 | AJ7: 0 | AK7: 26.808915 | AL7: 0 | AM7: 143.14353 | AN7: 0 | AO7: 0 | AP7: 0 | AQ7: 0 | AR7: 0.051548926 | AS7: 0.055778883 | AT7: 0 | AU7: 0.0089836626 | AV7: 80512.451 | AW7: 112.41831 | AX7: 0 | AY7: 80795.133 | BB7: 2 | BC7: 畜産農業 | BD7: A012 | BE7: =AF7=F7 -> TRUE | BF7: =AG7=G7 -> TRUE | BG7: =AH7=H7 -> TRUE | BH7: =AI7=I7 -> TRUE | BI7: =AJ7=J7 -> TRUE | BJ7: =AK7=K7 -> TRUE | BK7: =AL7=L7 -> TRUE | BL7: =AM7=M7 -> TRUE | ... BX7: =AY7=Y7 -> TRUE
C8: 3 | D8: 林業大分類 | E8: A02 | F8: 0 | G8: 0.46179939 | H8: 0.14484184 | I8: 0 | J8: 0 | K8: 4.712111 | L8: 0 | M8: 68.749036 | N8: 0 | O8: 0 | P8: 0 | Q8: 0 | R8: 0.75634751 | S8: 0.42420938 | T8: 0 | U8: 2.2453331 | V8: 0 | W8: 0 | X8: 0 | Y8: 77.493678 | AC8: 3 | AD8: 林業大分類 | AE8: A02 | AF8: 0 | AG8: 0.46179939 | AH8: 0.14484184 | AI8: 0 | AJ8: 0 | AK8: 4.712111 | AL8: 0 | AM8: 68.749036 | AN8: 0 | AO8: 0 | AP8: 0 | AQ8: 0 | AR8: 0.75634751 | AS8: 0.42420938 | AT8: 0 | AU8: 2.2453331 | AV8: 0 | AW8: 0 | AX8: 0 | AY8: 77.493678 | BB8: 3 | BC8: 林業大分類 | BD8: A02 | BE8: =AF8=F8 -> TRUE | BF8: =AG8=G8 -> TRUE | BG8: =AH8=H8 -> TRUE | BH8: =AI8=I8 -> TRUE | BI8: =AJ8=J8 -> TRUE | BJ8: =AK8=K8 -> TRUE | BK8: =AL8=L8 -> TRUE | BL8: =AM8=M8 -> TRUE | ... BX8: =AY8=Y8 -> TRUE
C9: 4 | D9: 上記以外の農業 | F9: 0 | G9: 0 | H9: 0 | I9: 0 | J9: 0 | K9: 0 | L9: 0 | M9: 0 | N9: 0 | O9: 0 | P9: 0 | Q9: 0 | R9: 0 | S9: 0 | T9: 0 | U9: 0 | V9: 0 | W9: 0 | X9: 0 | AC9: 4 | AD9: 上記以外の農業 | AF9: 0 | AG9: 0 | AH9: 0 | AI9: 0 | AJ9: 0 | AK9: 0 | AL9: 0 | AM9: 0 | AN9: 0 | AO9: 0 | AP9: 0 | AQ9: 0 | AR9: 0 | AS9: 0 | AT9: 0 | AU9: 0 | AV9: 0 | AW9: 0 | AX9: 0 | AY9: #VALUE! | BB9: 4 | BC9: 上記以外の農業 | BE9: =AF9=F9 -> TRUE | BF9: =AG9=G9 -> TRUE | BG9: =AH9=H9 -> TRUE | BH9: =AI9=I9 -> TRUE | BI9: =AJ9=J9 -> TRUE | BJ9: =AK9=K9 -> TRUE | BK9: =AL9=L9 -> TRUE | BL9: =AM9=M9 -> TRUE | ... BX9: =AY9=Y9 -> #VALUE!
B10: 漁 業 | D10: 漁業大分類 | E10: B | F10: 0.013633386 | G10: 0.36450109 | H10: 0.26984719 | I10: 0.00034821813 | J10: 0.00017502779 | K10: 5.3234893 | L10: 0 | M10: 0.035550017 | N10: 0 | O10: 0 | P10: 0 | Q10: 9.3485698e-07 | R10: 0.36108795 | S10: 0.016937153 | T10: 2.2956547e-06 | U10: 0.011597572 | V10: 0 | W10: 0 | X10: 0 | Y10: 6.3971701 | AB10: 漁 業 | AD10: 漁業大分類 | AE10: B | AF10: 0.013633386 | AG10: 0.36450109 | AH10: 0.26984719 | AI10: 0.00034821813 | AJ10: 0.00017502779 | AK10: 5.3234893 | AL10: 0 | AM10: 0.035550017 | AN10: 0 | AO10: 0 | AP10: 0 | AQ10: 9.3485698e-07 | AR10: 0.36108795 | AS10: 0.016937153 | AT10: 2.2956547e-06 | AU10: 0.011597572 | AV10: 0 | AW10: 0 | AX10: 0 | AY10: 6.3971701 | BA10: 漁 業 | BC10: 漁業大分類 | BD10: B | BE10: =AF10=F10 -> TRUE | BF10: =AG10=G10 -> TRUE | BG10: =AH10=H10 -> TRUE | BH10: =AI10=I10 -> TRUE | BI10: =AJ10=J10 -> TRUE | BJ10: =AK10=K10 -> TRUE | BK10: =AL10=L10 -> TRUE | BL10: =AM10=M10 -> TRUE | ... BX10: =AY10=Y10 -> TRUE
C11: 5 | D11: 漁 業 | E11: B03 | F11: 0 | G11: 0.0019033962 | H11: 0.26984719 | I11: 0 | J11: 0 | K11: 5.0746861 | L11: 0 | M11: 0.035550017 | N11: 0 | O11: 0 | P11: 0 | Q11: 0 | R11: 0.069728976 | S11: 0.0019946143 | T11: 0 | U11: 0.0010949714 | V11: 0 | W11: 0 | X11: 0 | Y11: 5.4548052 | AC11: 5 | AD11: 漁 業 | AE11: B03 | AF11: 0 | AG11: 0.0019033962 | AH11: 0.26984719 | AI11: 0 | AJ11: 0 | AK11: 5.0746861 | AL11: 0 | AM11: 0.035550017 | AN11: 0 | AO11: 0 | AP11: 0 | AQ11: 0 | AR11: 0.069728976 | AS11: 0.0019946143 | AT11: 0 | AU11: 0.0010949714 | AV11: 0 | AW11: 0 | AX11: 0 | AY11: 5.4548052 | BB11: 5 | BC11: 漁 業 | BD11: B03 | BE11: =AF11=F11 -> TRUE | BF11: =AG11=G11 -> TRUE | BG11: =AH11=H11 -> TRUE | BH11: =AI11=I11 -> TRUE | BI11: =AJ11=J11 -> TRUE | BJ11: =AK11=K11 -> TRUE | BK11: =AL11=L11 -> TRUE | BL11: =AM11=M11 -> TRUE | ... BX11: =AY11=Y11 -> TRUE
C12: 6 | D12: 水産養殖業 | E12: B04 | F12: 0 | G12: 0.3625977 | H12: 0 | I12: 0 | J12: 0 | K12: 0.2488032 | L12: 0 | M12: 0 | N12: 0 | O12: 0 | P12: 0 | Q12: 0 | R12: 0.29135897 | S12: 0 | T12: 0 | U12: 0 | V12: 0 | W12: 0 | X12: 0 | Y12: 0.90275987 | AC12: 6 | AD12: 水産養殖業 | AE12: B04 | AF12: 0 | AG12: 0.3625977 | AH12: 0 | AI12: 0 | AJ12: 0 | AK12: 0.2488032 | AL12: 0 | AM12: 0 | AN12: 0 | AO12: 0 | AP12: 0 | AQ12: 0 | AR12: 0.29135897 | AS12: 0 | AT12: 0 | AU12: 0 | AV12: 0 | AW12: 0 | AX12: 0 | AY12: 0.90275987 | BB12: 6 | BC12: 水産養殖業 | BD12: B04 | BE12: =AF12=F12 -> TRUE | BF12: =AG12=G12 -> TRUE | BG12: =AH12=H12 -> TRUE | BH12: =AI12=I12 -> TRUE | BI12: =AJ12=J12 -> TRUE | BJ12: =AK12=K12 -> TRUE | BK12: =AL12=L12 -> TRUE | BL12: =AM12=M12 -> TRUE | ... BX12: =AY12=Y12 -> TRUE
B13: 鉱 業 | C13: 7 | D13: 鉱業 | E13: C | F13: 1.4503428 | G13: 9232.0248 | H13: 6.2192768 | I13: 0.25489769 | J13: 0.30883169 | K13: 12.319675 | L13: 0 | M13: 1.8520182 | N13: 0 | O13: 0 | P13: 0 | Q13: 0.17013792 | R13: 4.0053667 | S13: 88.36898 | T13: 199.69441 | U13: 208.02175 | V13: 0 | W13: 0 | X13: 11.120047 | Y13: 9765.8105 | AB13: 鉱 業 | AC13: 7 | AD13: 鉱業 | AE13: C | AF13: 1.4503428 | AG13: 9232.0248 | AH13: 6.2192768 | AI13: 0.25489769 | AJ13: 0.30883169 | AK13: 12.319675 | AL13: 0 | AM13: 1.8520182 | AN13: 0 | AO13: 0 | AP13: 0 | AQ13: 0.17013792 | AR13: 4.0053667 | AS13: 88.36898 | AT13: 199.69441 | AU13: 208.02175 | AV13: 0 | AW13: 0 | AX13: 11.120047 | AY13: 9765.8105 | BA13: 鉱 業 | BB13: 7 | BC13: 鉱業 | BD13: C | BE13: =AF13=F13 -> TRUE | BF13: =AG13=G13 -> TRUE | BG13: =AH13=H13 -> TRUE | BH13: =AI13=I13 -> TRUE | BI13: =AJ13=J13 -> TRUE | BJ13: =AK13=K13 -> TRUE | BK13: =AL13=L13 -> TRUE | BL13: =AM13=M13 -> TRUE | ... BX13: =AY13=Y13 -> TRUE
B14: 建設業 | C14: 8 | D14: 建設業 | E14: D | F14: 34.984319 | G14: 10639.887 | H14: 128.25614 | I14: 12.833919 | J14: 19.267416 | K14: 1374.9297 | L14: 286.21014 | M14: 5501.4849 | N14: 69.738277 | O14: 0 | P14: 0 | Q14: 1.1451776 | R14: 992.40428 | S14: 2349.7556 | T14: 67.885557 | U14: 60364.117 | V14: 0 | W14: 0 | X14: 2.3252425 | Y14: 81845.225 | AB14: 建設業 | AC14: 8 | AD14: 建設業 | AE14: D | AF14: 34.984319 | AG14: 10639.887 | AH14: 128.25614 | AI14: 12.833919 | AJ14: 19.267416 | AK14: 1374.9297 | AL14: 286.21014 | AM14: 5501.4849 | AN14: 69.738277 | AO14: 0 | AP14: 0 | AQ14: 1.1451776 | AR14: 992.40428 | AS14: 2349.7556 | AT14: 67.885557 | AU14: 60364.117 | AV14: 0 | AW14: 0 | AX14: 2.3252425 | AY14: 81845.225 | BA14: 建設業 | BB14: 8 | BC14: 建設業 | BD14: D | BE14: =AF14=F14 -> TRUE | BF14: =AG14=G14 -> TRUE | BG14: =AH14=H14 -> TRUE | BH14: =AI14=I14 -> TRUE | BI14: =AJ14=J14 -> TRUE | BJ14: =AK14=K14 -> TRUE | BK14: =AL14=L14 -> TRUE | BL14: =AM14=M14 -> TRUE | ... BX14: =AY14=Y14 -> TRUE
B15: 製造業 | D15: 製造業大分類 | E15: E | F15: 895.10819 | G15: 56008.296 | H15: 2255.3534 | I15: 2725.014 | J15: 2514.376 | K15: 3238.5621 | L15: 648.68374 | M15: 1155.2204 | N15: 19.969742 | O15: 2557.1544 | P15: 36.481838 | Q15: 19.102345 | R15: 6882.5595 | S15: 4403.0556 | T15: 14842.664 | U15: 2625.9474 | V15: 0 | W15: 0 | X15: 8659.5383 | Y15: 109487.09 | AB15: 製造業 | AD15: 製造業大分類 | AE15: E | AF15: 895.10819 | AG15: 56008.296 | AH15: 2255.3534 | AI15: 2725.014 | AJ15: 2514.376 | AK15: 3238.5621 | AL15: 648.68374 | AM15: 1155.2204 | AN15: 19.969742 | AO15: 2557.1544 | AP15: 36.481838 | AQ15: 19.102345 | AR15: 6882.5595 | AS15: 4403.0556 | AT15: 14842.664 | AU15: 2625.9474 | AV15: 0 | AW15: 0 | AX15: 8659.5383 | AY15: 109487.09 | BA15: 製造業 | BC15: 製造業大分類 | BD15: E | BE15: =AF15=F15 -> TRUE | BF15: =AG15=G15 -> TRUE | BG15: =AH15=H15 -> TRUE | BH15: =AI15=I15 -> TRUE | BI15: =AJ15=J15 -> TRUE | BJ15: =AK15=K15 -> TRUE | BK15: =AL15=L15 -> TRUE | BL15: =AM15=M15 -> TRUE | ... BX15: =AY15=Y15 -> TRUE
C16: 9 | D16: 食料品製造業 | E16: E9 | F16: 39.793579 | G16: 6264.984 | H16: 104.06946 | I16: 73.407535 | J16: 57.660285 | K16: 278.21725 | L16: 0 | M16: 15.916181 | N16: 0 | O16: 1703.3037 | P16: 36.481838 | Q16: 0.0572089 | R16: 160.31512 | S16: 26.050563 | T16: 151.05807 | U16: 8.8376031 | V16: 0 | W16: 0 | X16: 149.02614 | Y16: 9069.1785 | AC16: 9 | AD16: 食料品製造業 | AE16: E9 | AF16: 39.793579 | AG16: 6264.984 | AH16: 104.06946 | AI16: 73.407535 | AJ16: 57.660285 | AK16: 278.21725 | AL16: 0 | AM16: 15.916181 | AN16: 0 | AO16: 1703.3037 | AP16: 36.481838 | AQ16: 0.0572089 | AR16: 160.31512 | AS16: 26.050563 | AT16: 151.05807 | AU16: 8.8376031 | AV16: 0 | AW16: 0 | AX16: 149.02614 | AY16: 9069.1785 | BB16: 9 | BC16: 食料品製造業 | BD16: E9 | BE16: =AF16=F16 -> TRUE | BF16: =AG16=G16 -> TRUE | BG16: =AH16=H16 -> TRUE | BH16: =AI16=I16 -> TRUE | BI16: =AJ16=J16 -> TRUE | BJ16: =AK16=K16 -> TRUE | BK16: =AL16=L16 -> TRUE | BL16: =AM16=M16 -> TRUE | ... BX16: =AY16=Y16 -> TRUE
C17: 10 | D17: 飲料・たばこ・飼料製造業 | E17: E10 | F17: 1.4036147 | G17: 976.59813 | H17: 9.5032484 | I17: 942.20061 | J17: 8.8335323 | K17: 31.103069 | L17: 0 | M17: 5.6789117 | N17: 0 | O17: 764.48756 | P17: 0 | Q17: 0.012349415 | R17: 27.826479 | S17: 17.942355 | T17: 21.766528 | U17: 1.4399484 | V17: 0 | W17: 0 | X17: 21.093505 | Y17: 2829.8898 | AC17: 10 | AD17: 飲料・たばこ・飼料製造業 | AE17: E10 | AF17: 1.4036147 | AG17: 976.59813 | AH17: 9.5032484 | AI17: 942.20061 | AJ17: 8.8335323 | AK17: 31.103069 | AL17: 0 | AM17: 5.6789117 | AN17: 0 | AO17: 764.48756 | AP17: 0 | AQ17: 0.012349415 | AR17: 27.826479 | AS17: 17.942355 | AT17: 21.766528 | AU17: 1.4399484 | AV17: 0 | AW17: 0 | AX17: 21.093505 | AY17: 2829.8898 | BB17: 10 | BC17: 飲料・たばこ・飼料製造業 | BD17: E10 | BE17: =AF17=F17 -> TRUE | BF17: =AG17=G17 -> TRUE | BG17: =AH17=H17 -> TRUE | BH17: =AI17=I17 -> TRUE | BI17: =AJ17=J17 -> TRUE | BJ17: =AK17=K17 -> TRUE | BK17: =AL17=L17 -> TRUE | BL17: =AM17=M17 -> TRUE | ... BX17: =AY17=Y17 -> TRUE
C18: 11 | D18: 繊維工業 | E18: E11 | F18: 52.072654 | G18: 552.09791 | H18: 13.933543 | I18: 10.10057 | J18: 3.4188023 | K18: 102.16569 | L18: 0 | M18: 2.0091571 | N18: 19.969742 | O18: 0 | P18: 0 | Q18: 0.056806437 | R18: 5.0547593 | S18: 0.47040665 | T18: 0.17264971 | U18: 0.7312776 | V18: 0 | W18: 0 | X18: 31.601061 | Y18: 793.85502 | AC18: 11 | AD18: 繊維工業 | AE18: E11 | AF18: 52.072654 | AG18: 552.09791 | AH18: 13.933543 | AI18: 10.10057 | AJ18: 3.4188023 | AK18: 102.16569 | AL18: 0 | AM18: 2.0091571 | AN18: 19.969742 | AO18: 0 | AP18: 0 | AQ18: 0.056806437 | AR18: 5.0547593 | AS18: 0.47040665 | AT18: 0.17264971 | AU18: 0.7312776 | AV18: 0 | AW18: 0 | AX18: 31.601061 | AY18: 793.85502 | BB18: 11 | BC18: 繊維工業 | BD18: E11 | BE18: =AF18=F18 -> TRUE | BF18: =AG18=G18 -> TRUE | BG18: =AH18=H18 -> TRUE | BH18: =AI18=I18 -> TRUE | BI18: =AJ18=J18 -> TRUE | BJ18: =AK18=K18 -> TRUE | BK18: =AL18=L18 -> TRUE | BL18: =AM18=M18 -> TRUE | ... BX18: =AY18=Y18 -> TRUE
C19: 12 | D19: 木材・木製品製造業 | E19: E12 | F19: 32.977385 | G19: 13.777736 | H19: 2.2151405 | I19: 0.63859518 | J19: 0.66712523 | K19: 21.128214 | L19: 0 | M19: 602.46222 | N19: 0 | O19: 0 | P19: 0 | Q19: 0.0016105125 | R19: 13.645775 | S19: 23.780951 | T19: 2.9741851 | U19: 5.7126285 | V19: 0 | W19: 0 | X19: 20.280267 | Y19: 740.26183 | AC19: 12 | AD19: 木材・木製品製造業 | AE19: E12 | AF19: 32.977385 | AG19: 13.777736 | AH19: 2.2151405 | AI19: 0.63859518 | AJ19: 0.66712523 | AK19: 21.128214 | AL19: 0 | AM19: 602.46222 | AN19: 0 | AO19: 0 | AP19: 0 | AQ19: 0.0016105125 | AR19: 13.645775 | AS19: 23.780951 | AT19: 2.9741851 | AU19: 5.7126285 | AV19: 0 | AW19: 0 | AX19: 20.280267 | AY19: 740.26183 | BB19: 12 | BC19: 木材・木製品製造業 | BD19: E12 | BE19: =AF19=F19 -> TRUE | BF19: =AG19=G19 -> TRUE | BG19: =AH19=H19 -> TRUE | BH19: =AI19=I19 -> TRUE | BI19: =AJ19=J19 -> TRUE | BJ19: =AK19=K19 -> TRUE | BK19: =AL19=L19 -> TRUE | BL19: =AM19=M19 -> TRUE | ... BX19: =AY19=Y19 -> TRUE
C20: 13 | D20: 家具・装備品製造業 | E20: E13 | F20: 0.45336607 | G20: 9.7160392 | H20: 2.3582994 | I20: 0.75675577 | J20: 1.4724698 | K20: 25.160549 | L20: 0 | M20: 135.96622 | N20: 0 | O20: 0 | P20: 0 | Q20: 0.0017515647 | R20: 14.944949 | S20: 4.839881 | T20: 2.3511341 | U20: 0.4402461 | V20: 0 | W20: 0 | X20: 1.8048291 | Y20: 200.26649 | AC20: 13 | AD20: 家具・装備品製造業 | AE20: E13 | AF20: 0.45336607 | AG20: 9.7160392 | AH20: 2.3582994 | AI20: 0.75675577 | AJ20: 1.4724698 | AK20: 25.160549 | AL20: 0 | AM20: 135.96622 | AN20: 0 | AO20: 0 | AP20: 0 | AQ20: 0.0017515647 | AR20: 14.944949 | AS20: 4.839881 | AT20: 2.3511341 | AU20: 0.4402461 | AV20: 0 | AW20: 0 | AX20: 1.8048291 | AY20: 200.26649 | BB20: 13 | BC20: 家具・装備品製造業 | BD20: E13 | BE20: =AF20=F20 -> TRUE | BF20: =AG20=G20 -> TRUE | BG20: =AH20=H20 -> TRUE | BH20: =AI20=I20 -> TRUE | BI20: =AJ20=J20 -> TRUE | BJ20: =AK20=K20 -> TRUE | BK20: =AL20=L20 -> TRUE | BL20: =AM20=M20 -> TRUE | ... BX20: =AY20=Y20 -> TRUE
C21: 14 | D21: パルプ・紙・紙加工品製造業 | E21: E14 | F21: 362.24822 | G21: 29379.472 | H21: 19.303287 | I21: 9.7540618 | J21: 15.740858 | K21: 431.82385 | L21: 411.03902 | M21: 50.921337 | N21: 0 | O21: 0 | P21: 0 | Q21: 0.033487325 | R21: 105.41379 | S21: 11.360831 | T21: 75.452903 | U21: 7.1075878 | V21: 0 | W21: 0 | X21: 880.86646 | Y21: 31760.538 | AC21: 14 | AD21: パルプ・紙・紙加工品製造業 | AE21: E14 | AF21: 362.24822 | AG21: 29379.472 | AH21: 19.303287 | AI21: 9.7540618 | AJ21: 15.740858 | AK21: 431.82385 | AL21: 411.03902 | AM21: 50.921337 | AN21: 0 | AO21: 0 | AP21: 0 | AQ21: 0.033487325 | AR21: 105.41379 | AS21: 11.360831 | AT21: 75.452903 | AU21: 7.1075878 | AV21: 0 | AW21: 0 | AX21: 880.86646 | AY21: 31760.538 | BB21: 14 | BC21: パルプ・紙・紙加工品製造業 | BD21: E14 | BE21: =AF21=F21 -> TRUE | BF21: =AG21=G21 -> TRUE | BG21: =AH21=H21 -> TRUE | BH21: =AI21=I21 -> TRUE | BI21: =AJ21=J21 -> TRUE | BJ21: =AK21=K21 -> TRUE | BK21: =AL21=L21 -> TRUE | BL21: =AM21=M21 -> TRUE | ... BX21: =AY21=Y21 -> TRUE
C22: 15 | D22: 印刷・同関連業 | E22: E15 | F22: 0.79449694 | G22: 15.638606 | H22: 29.832853 | I22: 9.8458811 | J22: 19.290959 | K22: 113.93829 | L22: 209.64472 | M22: 2.3730228 | N22: 0 | O22: 0 | P22: 0 | Q22: 0.023310039 | R22: 25.619833 | S22: 0.82283871 | T22: 4.7527873 | U22: 0.78676013 | V22: 0 | W22: 0 | X22: 54.306277 | Y22: 487.67063 | AC22: 15 | AD22: 印刷・同関連業 | AE22: E15 | AF22: 0.79449694 | AG22: 15.638606 | AH22: 29.832853 | AI22: 9.8458811 | AJ22: 19.290959 | AK22: 113.93829 | AL22: 209.64472 | AM22: 2.3730228 | AN22: 0 | AO22: 0 | AP22: 0 | AQ22: 0.023310039 | AR22: 25.619833 | AS22: 0.82283871 | AT22: 4.7527873 | AU22: 0.78676013 | AV22: 0 | AW22: 0 | AX22: 54.306277 | AY22: 487.67063 | BB22: 15 | BC22: 印刷・同関連業 | BD22: E15 | BE22: =AF22=F22 -> TRUE | BF22: =AG22=G22 -> TRUE | BG22: =AH22=H22 -> TRUE | BH22: =AI22=I22 -> TRUE | BI22: =AJ22=J22 -> TRUE | BJ22: =AK22=K22 -> TRUE | BK22: =AL22=L22 -> TRUE | BL22: =AM22=M22 -> TRUE | ... BX22: =AY22=Y22 -> TRUE
C23: 16 | D23: 化学工業 | E23: E16 | F23: 187.00131 | G23: 6057.035 | H23: 642.03021 | I23: 390.12467 | J23: 946.05927 | K23: 307.2555 | L23: 0 | M23: 29.353325 | N23: 0 | O23: 71.363145 | P23: 0 | Q23: 0.14879159 | R23: 360.7141 | S23: 62.479124 | T23: 214.97116 | U23: 60.500322 | V23: 0 | W23: 0 | X23: 645.11207 | Y23: 9974.148 | AC23: 16 | AD23: 化学工業 | AE23: E16 | AF23: 187.00131 | AG23: 6057.035 | AH23: 642.03021 | AI23: 390.12467 | AJ23: 946.05927 | AK23: 307.2555 | AL23: 0 | AM23: 29.353325 | AN23: 0 | AO23: 71.363145 | AP23: 0 | AQ23: 0.14879159 | AR23: 360.7141 | AS23: 62.479124 | AT23: 214.97116 | AU23: 60.500322 | AV23: 0 | AW23: 0 | AX23: 645.11207 | AY23: 9974.148 | BB23: 16 | BC23: 化学工業 | BD23: E16 | BE23: =AF23=F23 -> TRUE | BF23: =AG23=G23 -> TRUE | BG23: =AH23=H23 -> TRUE | BH23: =AI23=I23 -> TRUE | BI23: =AJ23=J23 -> TRUE | BJ23: =AK23=K23 -> TRUE | BK23: =AL23=L23 -> TRUE | BL23: =AM23=M23 -> TRUE | ... BX23: =AY23=Y23 -> TRUE
C24: 17 | D24: 石油製品・石炭製品製造業 | E24: E17 | F24: 27.733921 | G24: 397.51693 | H24: 122.86959 | I24: 58.291216 | J24: 49.025995 | K24: 35.219073 | L24: 0 | M24: 3.6598099 | N24: 0 | O24: 0 | P24: 0 | Q24: 0.28769548 | R24: 73.270991 | S24: 32.523404 | T24: 71.778055 | U24: 393.58474 | V24: 0 | W24: 0 | X24: 109.12798 | Y24: 1374.8894 | AC24: 17 | AD24: 石油製品・石炭製品製造業 | AE24: E17 | AF24: 27.733921 | AG24: 397.51693 | AH24: 122.86959 | AI24: 58.291216 | AJ24: 49.025995 | AK24: 35.219073 | AL24: 0 | AM24: 3.6598099 | AN24: 0 | AO24: 0 | AP24: 0 | AQ24: 0.28769548 | AR24: 73.270991 | AS24: 32.523404 | AT24: 71.778055 | AU24: 393.58474 | AV24: 0 | AW24: 0 | AX24: 109.12798 | AY24: 1374.8894 | BB24: 17 | BC24: 石油製品・石炭製品製造業 | BD24: E17 | BE24: =AF24=F24 -> TRUE | BF24: =AG24=G24 -> TRUE | BG24: =AH24=H24 -> TRUE | BH24: =AI24=I24 -> TRUE | BI24: =AJ24=J24 -> TRUE | BJ24: =AK24=K24 -> TRUE | BK24: =AL24=L24 -> TRUE | BL24: =AM24=M24 -> TRUE | ... BX24: =AY24=Y24 -> TRUE
C25: 18 | D25: プラスチック製品製造業 | E25: E18 | F25: 9.9241003 | G25: 143.20768 | H25: 59.097737 | I25: 33.842509 | J25: 23.599969 | K25: 542.85358 | L25: 0 | M25: 15.127679 | N25: 0 | O25: 0 | P25: 0 | Q25: 0.12762426 | R25: 38.754112 | S25: 18.253304 | T25: 8.935397 | U25: 4.7974609 | V25: 0 | W25: 0 | X25: 20.852011 | Y25: 919.37316 | AC25: 18 | AD25: プラスチック製品製造業 | AE25: E18 | AF25: 9.9241003 | AG25: 143.20768 | AH25: 59.097737 | AI25: 33.842509 | AJ25: 23.599969 | AK25: 542.85358 | AL25: 0 | AM25: 15.127679 | AN25: 0 | AO25: 0 | AP25: 0 | AQ25: 0.12762426 | AR25: 38.754112 | AS25: 18.253304 | AT25: 8.935397 | AU25: 4.7974609 | AV25: 0 | AW25: 0 | AX25: 20.852011 | AY25: 919.37316 | BB25: 18 | BC25: プラスチック製品製造業 | BD25: E18 | BE25: =AF25=F25 -> TRUE | BF25: =AG25=G25 -> TRUE | BG25: =AH25=H25 -> TRUE | BH25: =AI25=I25 -> TRUE | BI25: =AJ25=J25 -> TRUE | BJ25: =AK25=K25 -> TRUE | BK25: =AL25=L25 -> TRUE | BL25: =AM25=M25 -> TRUE | ... BX25: =AY25=Y25 -> TRUE
C26: 19 | D26: ゴム製品製造業 | E26: E19 | F26: 0.3707118 | G26: 44.228515 | H26: 10.003159 | I26: 0.356878 | J26: 1.7128455 | K26: 159.70805 | L26: 0 | M26: 3.5138311 | N26: 0 | O26: 0 | P26: 0 | Q26: 8.9738514 | R26: 9.7994656 | S26: 3.3169865 | T26: 0.87607896 | U26: 0.44373715 | V26: 0 | W26: 0 | X26: 0.82264815 | Y26: 244.12675 | AC26: 19 | AD26: ゴム製品製造業 | AE26: E19 | AF26: 0.3707118 | AG26: 44.228515 | AH26: 10.003159 | AI26: 0.356878 | AJ26: 1.7128455 | AK26: 159.70805 | AL26: 0 | AM26: 3.5138311 | AN26: 0 | AO26: 0 | AP26: 0 | AQ26: 8.9738514 | AR26: 9.7994656 | AS26: 3.3169865 | AT26: 0.87607896 | AU26: 0.44373715 | AV26: 0 | AW26: 0 | AX26: 0.82264815 | AY26: 244.12675 | BB26: 19 | BC26: ゴム製品製造業 | BD26: E19 | BE26: =AF26=F26 -> TRUE | BF26: =AG26=G26 -> TRUE | BG26: =AH26=H26 -> TRUE | BH26: =AI26=I26 -> TRUE | BI26: =AJ26=J26 -> TRUE | BJ26: =AK26=K26 -> TRUE | BK26: =AL26=L26 -> TRUE | BL26: =AM26=M26 -> TRUE | ... BX26: =AY26=Y26 -> TRUE
C27: 20 | D27: なめし革・同製品・毛皮製造業 | E27: E20 | F27: 0.0011401737 | G27: 27.387057 | H27: 0.27660418 | I27: 0.031166176 | J27: 0.03665177 | K27: 1.839686 | L27: 0 | M27: 0.29783121 | N27: 0 | O27: 0 | P27: 0 | Q27: 5.911974e-05 | R27: 0.35120721 | S27: 0.015535614 | T27: 0.33069284 | U27: 0.016788436 | V27: 0 | W27: 0 | X27: 0.30863016 | Y27: 30.89305 | AC27: 20 | AD27: なめし革・同製品・毛皮製造業 | AE27: E20 | AF27: 0.0011401737 | AG27: 27.387057 | AH27: 0.27660418 | AI27: 0.031166176 | AJ27: 0.03665177 | AK27: 1.839686 | AL27: 0 | AM27: 0.29783121 | AN27: 0 | AO27: 0 | AP27: 0 | AQ27: 5.911974e-05 | AR27: 0.35120721 | AS27: 0.015535614 | AT27: 0.33069284 | AU27: 0.016788436 | AV27: 0 | AW27: 0 | AX27: 0.30863016 | AY27: 30.89305 | BB27: 20 | BC27: なめし革・同製品・毛皮製造業 | BD27: E20 | BE27: =AF27=F27 -> TRUE | BF27: =AG27=G27 -> TRUE | BG27: =AH27=H27 -> TRUE | BH27: =AI27=I27 -> TRUE | BI27: =AJ27=J27 -> TRUE | BJ27: =AK27=K27 -> TRUE | BK27: =AL27=L27 -> TRUE | BL27: =AM27=M27 -> TRUE | ... BX27: =AY27=Y27 -> TRUE
... C39: 32 | D39: その他の製造業 | E39: E32 | F39: 16.890203 | G39: 79.614037 | H39: 29.133291 | I39: 8.5846327 | J39: 19.088428 | K39: 141.68496 | L39: 0 | M39: 21.156502 | N39: 0 | O39: 0 | P39: 0 | Q39: 0.09164656 | R39: 22.195677 | S39: 47.041151 | T39: 26.441277 | U39: 23.286244 | V39: 0 | W39: 0 | X39: 155.81473 | Y39: 591.02278 | AC39: 32 | AD39: その他の製造業 | AE39: E32 | AF39: 16.890203 | AG39: 79.614037 | AH39: 29.133291 | AI39: 8.5846327 | AJ39: 19.088428 | AK39: 141.68496 | AL39: 0 | AM39: 21.156502 | AN39: 0 | AO39: 0 | AP39: 0 | AQ39: 0.09164656 | AR39: 22.195677 | AS39: 47.041151 | AT39: 26.441277 | AU39: 23.286244 | AV39: 0 | AW39: 0 | AX39: 155.81473 | AY39: 591.02278 | BB39: 32 | BC39: その他の製造業 | BD39: E32 | BE39: =AF39=F39 -> TRUE | BF39: =AG39=G39 -> TRUE | BG39: =AH39=H39 -> TRUE | BH39: =AI39=I39 -> TRUE | BI39: =AJ39=J39 -> TRUE | BJ39: =AK39=K39 -> TRUE | BK39: =AL39=L39 -> TRUE | BL39: =AM39=M39 -> TRUE | ... BX39: =AY39=Y39 -> TRUE
B40: 電気･ガス | D40: インフラ大分類 | E40: F | F40: 928.67574 | G40: 90269.87 | H40: 8.0201181 | I40: 10.704558 | J40: 7.630402 | K40: 12.153596 | L40: 0 | M40: 1.6321845 | N40: 0 | O40: 0 | P40: 0 | Q40: 0.013779743 | R40: 11.89596 | S40: 46.223867 | T40: 7.7275489 | U40: 207.657 | V40: 0 | W40: 0 | X40: 9030.6128 | Y40: 100542.82 | AB40: 電気･ガス | AD40: インフラ大分類 | AE40: F | AF40: 928.67574 | AG40: 90269.87 | AH40: 8.0201181 | AI40: 10.704558 | AJ40: 7.630402 | AK40: 12.153596 | AL40: 0 | AM40: 1.6321845 | AN40: 0 | AO40: 0 | AP40: 0 | AQ40: 0.013779743 | AR40: 11.89596 | AS40: 46.223867 | AT40: 7.7275489 | AU40: 207.657 | AV40: 0 | AW40: 0 | AX40: 9030.6128 | AY40: 100542.82 | BA40: 電気･ガス | BC40: インフラ大分類 | BD40: F | BE40: =AF40=F40 -> TRUE | BF40: =AG40=G40 -> TRUE | BG40: =AH40=H40 -> TRUE | BH40: =AI40=I40 -> TRUE | BI40: =AJ40=J40 -> TRUE | BJ40: =AK40=K40 -> TRUE | BK40: =AL40=L40 -> TRUE | BL40: =AM40=M40 -> TRUE | ... BX40: =AY40=Y40 -> TRUE
B41: ･熱供給･ | C41: 33 | D41: 電気業 | E41: F33 | F41: 897.35961 | G41: 1025.5747 | H41: 4.8115661 | I41: 0.67987987 | J41: 4.8792508 | K41: 9.9822858 | L41: 0 | M41: 1.3244459 | N41: 0 | O41: 0 | P41: 0 | Q41: 0.0087012112 | R41: 8.1182158 | S41: 38.841755 | T41: 4.9724787 | U41: 141.51278 | V41: 0 | W41: 0 | X41: 8990.1756 | Y41: 11128.241 | AB41: ･熱供給･ | AC41: 33 | AD41: 電気業 | AE41: F33 | AF41: 897.35961 | AG41: 1025.5747 | AH41: 4.8115661 | AI41: 0.67987987 | AJ41: 4.8792508 | AK41: 9.9822858 | AL41: 0 | AM41: 1.3244459 | AN41: 0 | AO41: 0 | AP41: 0 | AQ41: 0.0087012112 | AR41: 8.1182158 | AS41: 38.841755 | AT41: 4.9724787 | AU41: 141.51278 | AV41: 0 | AW41: 0 | AX41: 8990.1756 | AY41: 11128.241 | BA41: ･熱供給･ | BB41: 33 | BC41: 電気業 | BD41: F33 | BE41: =AF41=F41 -> TRUE | BF41: =AG41=G41 -> TRUE | BG41: =AH41=H41 -> TRUE | BH41: =AI41=I41 -> TRUE | BI41: =AJ41=J41 -> TRUE | BJ41: =AK41=K41 -> TRUE | BK41: =AL41=L41 -> TRUE | BL41: =AM41=M41 -> TRUE | ... BX41: =AY41=Y41 -> TRUE
B42: 水道業 | C42: 34 | D42: ガス業 | E42: F34 | F42: 1.6066376e-05 | G42: 6.1885375 | H42: 0.54171253 | I42: 0.003109814 | J42: 0.012278491 | K42: 0.93241286 | L42: 0 | M42: 0.11719013 | N42: 0 | O42: 0 | P42: 0 | Q42: 0.0029739144 | R42: 2.3927614 | S42: 0.72153886 | T42: 8.2035634e-05 | U42: 9.6056298 | V42: 0 | W42: 0 | X42: 0.00061184429 | Y42: 20.518855 | AB42: 水道業 | AC42: 34 | AD42: ガス業 | AE42: F34 | AF42: 1.6066376e-05 | AG42: 6.1885375 | AH42: 0.54171253 | AI42: 0.003109814 | AJ42: 0.012278491 | AK42: 0.93241286 | AL42: 0 | AM42: 0.11719013 | AN42: 0 | AO42: 0 | AP42: 0 | AQ42: 0.0029739144 | AR42: 2.3927614 | AS42: 0.72153886 | AT42: 8.2035634e-05 | AU42: 9.6056298 | AV42: 0 | AW42: 0 | AX42: 0.00061184429 | AY42: 20.518855 | BA42: 水道業 | BB42: 34 | BC42: ガス業 | BD42: F34 | BE42: =AF42=F42 -> TRUE | BF42: =AG42=G42 -> TRUE | BG42: =AH42=H42 -> TRUE | BH42: =AI42=I42 -> TRUE | BI42: =AJ42=J42 -> TRUE | BJ42: =AK42=K42 -> TRUE | BK42: =AL42=L42 -> TRUE | BL42: =AM42=M42 -> TRUE | ... BX42: =AY42=Y42 -> TRUE
C43: 35 | D43: 熱供給業 | E43: F35 | F43: 3.2039147 | G43: 611.81089 | H43: 0.012751668 | I43: 0.032754584 | J43: 0.0061129439 | K43: 0.014741855 | L43: 0 | M43: 0.011005856 | N43: 0 | O43: 0 | P43: 0 | Q43: 5.5596514e-08 | R43: 0.042379051 | S43: 0.16006393 | T43: 7.3184257e-05 | U43: 0.099287394 | V43: 0 | W43: 0 | X43: 0.84695052 | Y43: 616.24093 | AC43: 35 | AD43: 熱供給業 | AE43: F35 | AF43: 3.2039147 | AG43: 611.81089 | AH43: 0.012751668 | AI43: 0.032754584 | AJ43: 0.0061129439 | AK43: 0.014741855 | AL43: 0 | AM43: 0.011005856 | AN43: 0 | AO43: 0 | AP43: 0 | AQ43: 5.5596514e-08 | AR43: 0.042379051 | AS43: 0.16006393 | AT43: 7.3184257e-05 | AU43: 0.099287394 | AV43: 0 | AW43: 0 | AX43: 0.84695052 | AY43: 616.24093 | BB43: 35 | BC43: 熱供給業 | BD43: F35 | BE43: =AF43=F43 -> TRUE | BF43: =AG43=G43 -> TRUE | BG43: =AH43=H43 -> TRUE | BH43: =AI43=I43 -> TRUE | BI43: =AJ43=J43 -> TRUE | BJ43: =AK43=K43 -> TRUE | BK43: =AL43=L43 -> TRUE | BL43: =AM43=M43 -> TRUE | ... BX43: =AY43=Y43 -> TRUE
C44: 36 | D44: 上水道業 | E44: F361 | F44: 0.29390879 | G44: 10558.853 | H44: 0.41148455 | I44: 1.557953 | J44: 0.95216664 | K44: 0.87330176 | L44: 0 | M44: 0.01484679 | N44: 0 | O44: 0 | P44: 0 | Q44: 0.00066621831 | R44: 1.0943835 | S44: 2.1270681 | T44: 0.86874577 | U44: 36.954636 | V44: 0 | W44: 0 | X44: 6.6538004 | Y44: 10610.656 | AC44: 36 | AD44: 上水道業 | AE44: F361 | AF44: 0.29390879 | AG44: 10558.853 | AH44: 0.41148455 | AI44: 1.557953 | AJ44: 0.95216664 | AK44: 0.87330176 | AL44: 0 | AM44: 0.01484679 | AN44: 0 | AO44: 0 | AP44: 0 | AQ44: 0.00066621831 | AR44: 1.0943835 | AS44: 2.1270681 | AT44: 0.86874577 | AU44: 36.954636 | AV44: 0 | AW44: 0 | AX44: 6.6538004 | AY44: 10610.656 | BB44: 36 | BC44: 上水道業 | BD44: F361 | BE44: =AF44=F44 -> TRUE | BF44: =AG44=G44 -> TRUE | BG44: =AH44=H44 -> TRUE | BH44: =AI44=I44 -> TRUE | BI44: =AJ44=J44 -> TRUE | BJ44: =AK44=K44 -> TRUE | BK44: =AL44=L44 -> TRUE | BL44: =AM44=M44 -> TRUE | ... BX44: =AY44=Y44 -> TRUE
C45: 37 | D45: 下水道業 | E45: F363 | F45: 27.818293 | G45: 78067.442 | H45: 2.2426032 | I45: 8.4308607 | J45: 1.7805932 | K45: 0.3508542 | L45: 0 | M45: 0.16469579 | N45: 0 | O45: 0 | P45: 0 | Q45: 0.001438344 | R45: 0.24822067 | S45: 4.3734409 | T45: 1.8861692 | U45: 19.484671 | V45: 0 | W45: 0 | X45: 32.93588 | Y45: 78167.16 | AC45: 37 | AD45: 下水道業 | AE45: F363 | AF45: 27.818293 | AG45: 78067.442 | AH45: 2.2426032 | AI45: 8.4308607 | AJ45: 1.7805932 | AK45: 0.3508542 | AL45: 0 | AM45: 0.16469579 | AN45: 0 | AO45: 0 | AP45: 0 | AQ45: 0.001438344 | AR45: 0.24822067 | AS45: 4.3734409 | AT45: 1.8861692 | AU45: 19.484671 | AV45: 0 | AW45: 0 | AX45: 32.93588 | AY45: 78167.16 | BB45: 37 | BC45: 下水道業 | BD45: F363 | BE45: =AF45=F45 -> TRUE | BF45: =AG45=G45 -> TRUE | BG45: =AH45=H45 -> TRUE | BH45: =AI45=I45 -> TRUE | BI45: =AJ45=J45 -> TRUE | BJ45: =AK45=K45 -> TRUE | BK45: =AL45=L45 -> TRUE | BL45: =AM45=M45 -> TRUE | ... BX45: =AY45=Y45 -> TRUE
B46: 情報通信業 | D46: 情報大分類 | E46: G | F46: 0.025574897 | G46: 124.25861 | H46: 2.9557443 | I46: 0.86333398 | J46: 2.3881889 | K46: 12.287399 | L46: 2.7407656 | M46: 1.1458089 | N46: 0 | O46: 0 | P46: 0 | Q46: 0.0010246992 | R46: 12.869411 | S46: 11.501123 | T46: 0.34627071 | U46: 83.083069 | V46: 0 | W46: 0 | X46: 0.00020403289 | Y46: 254.46653 | AB46: 情報通信業 | AD46: 情報大分類 | AE46: G | AF46: 0.025574897 | AG46: 124.25861 | AH46: 2.9557443 | AI46: 0.86333398 | AJ46: 2.3881889 | AK46: 12.287399 | AL46: 2.7407656 | AM46: 1.1458089 | AN46: 0 | AO46: 0 | AP46: 0 | AQ46: 0.0010246992 | AR46: 12.869411 | AS46: 11.501123 | AT46: 0.34627071 | AU46: 83.083069 | AV46: 0 | AW46: 0 | AX46: 0.00020403289 | AY46: 254.46653 | BA46: 情報通信業 | BC46: 情報大分類 | BD46: G | BE46: =AF46=F46 -> TRUE | BF46: =AG46=G46 -> TRUE | BG46: =AH46=H46 -> TRUE | BH46: =AI46=I46 -> TRUE | BI46: =AJ46=J46 -> TRUE | BJ46: =AK46=K46 -> TRUE | BK46: =AL46=L46 -> TRUE | BL46: =AM46=M46 -> TRUE | ... BX46: =AY46=Y46 -> TRUE
C47: 38 | D47: 通信業 | E47: G37 | F47: 0 | G47: 0.0029709706 | H47: 0.019785795 | I47: 0 | J47: 0 | K47: 3.1189583 | L47: 0 | M47: 0 | N47: 0 | O47: 0 | P47: 0 | Q47: 0 | R47: 4.6553081 | S47: 0.15513924 | T47: 0 | U47: 43.058364 | V47: 0 | W47: 0 | X47: 0 | Y47: 51.010526 | AC47: 38 | AD47: 通信業 | AE47: G37 | AF47: 0 | AG47: 0.0029709706 | AH47: 0.019785795 | AI47: 0 | AJ47: 0 | AK47: 3.1189583 | AL47: 0 | AM47: 0 | AN47: 0 | AO47: 0 | AP47: 0 | AQ47: 0 | AR47: 4.6553081 | AS47: 0.15513924 | AT47: 0 | AU47: 43.058364 | AV47: 0 | AW47: 0 | AX47: 0 | AY47: 51.010526 | BB47: 38 | BC47: 通信業 | BD47: G37 | BE47: =AF47=F47 -> TRUE | BF47: =AG47=G47 -> TRUE | BG47: =AH47=H47 -> TRUE | BH47: =AI47=I47 -> TRUE | BI47: =AJ47=J47 -> TRUE | BJ47: =AK47=K47 -> TRUE | BK47: =AL47=L47 -> TRUE | BL47: =AM47=M47 -> TRUE | ... BX47: =AY47=Y47 -> TRUE
C48: 39 | D48: 放送業 | E48: G38 | F48: 0 | G48: 16.727861 | H48: 0 | I48: 0 | J48: 0.0013231187 | K48: 4.3458937 | L48: 0 | M48: 1.1236153 | N48: 0 | O48: 0 | P48: 0 | Q48: 0 | R48: 4.0707864 | S48: 10.065945 | T48: 0 | U48: 40.024706 | V48: 0 | W48: 0 | X48: 0 | Y48: 76.36013 | AC48: 39 | AD48: 放送業 | AE48: G38 | AF48: 0 | AG48: 16.727861 | AH48: 0 | AI48: 0 | AJ48: 0.0013231187 | AK48: 4.3458937 | AL48: 0 | AM48: 1.1236153 | AN48: 0 | AO48: 0 | AP48: 0 | AQ48: 0 | AR48: 4.0707864 | AS48: 10.065945 | AT48: 0 | AU48: 40.024706 | AV48: 0 | AW48: 0 | AX48: 0 | AY48: 76.36013 | BB48: 39 | BC48: 放送業 | BD48: G38 | BE48: =AF48=F48 -> TRUE | BF48: =AG48=G48 -> TRUE | BG48: =AH48=H48 -> TRUE | BH48: =AI48=I48 -> TRUE | BI48: =AJ48=J48 -> TRUE | BJ48: =AK48=K48 -> TRUE | BK48: =AL48=L48 -> TRUE | BL48: =AM48=M48 -> TRUE | ... BX48: =AY48=Y48 -> TRUE
C49: 40 | D49: 情報サービス業 | E49: G39 | F49: 0 | G49: 106.98454 | H49: 1.2693321 | I49: 0.0050017854 | J49: 0.45507681 | K49: 3.1891095 | L49: 0 | M49: 0.021718117 | N49: 0 | O49: 0 | P49: 0 | Q49: 0 | R49: 3.8070383 | S49: 0.93412528 | T49: 0 | U49: 0 | V49: 0 | W49: 0 | X49: 0 | Y49: 116.66594 | AC49: 40 | AD49: 情報サービス業 | AE49: G39 | AF49: 0 | AG49: 106.98454 | AH49: 1.2693321 | AI49: 0.0050017854 | AJ49: 0.45507681 | AK49: 3.1891095 | AL49: 0 | AM49: 0.021718117 | AN49: 0 | AO49: 0 | AP49: 0 | AQ49: 0 | AR49: 3.8070383 | AS49: 0.93412528 | AT49: 0 | AU49: 0 | AV49: 0 | AW49: 0 | AX49: 0 | AY49: 116.66594 | BB49: 40 | BC49: 情報サービス業 | BD49: G39 | BE49: =AF49=F49 -> TRUE | BF49: =AG49=G49 -> TRUE | BG49: =AH49=H49 -> TRUE | BH49: =AI49=I49 -> TRUE | BI49: =AJ49=J49 -> TRUE | BJ49: =AK49=K49 -> TRUE | BK49: =AL49=L49 -> TRUE | BL49: =AM49=M49 -> TRUE | ... BX49: =AY49=Y49 -> TRUE
C50: 41 | D50: インターネット付随サービス業 | E50: G40 | F50: 0 | G50: 0 | H50: 0.10403102 | I50: 0 | J50: 1.1382811 | K50: 0.3605455 | L50: 0 | M50: 0 | N50: 0 | O50: 0 | P50: 0 | Q50: 0 | R50: 0.0016032136 | S50: 0 | T50: 0 | U50: 0 | V50: 0 | W50: 0 | X50: 0 | Y50: 1.6044608 | AC50: 41 | AD50: インターネット付随サービス業 | AE50: G40 | AF50: 0 | AG50: 0 | AH50: 0.10403102 | AI50: 0 | AJ50: 1.1382811 | AK50: 0.3605455 | AL50: 0 | AM50: 0 | AN50: 0 | AO50: 0 | AP50: 0 | AQ50: 0 | AR50: 0.0016032136 | AS50: 0 | AT50: 0 | AU50: 0 | AV50: 0 | AW50: 0 | AX50: 0 | AY50: 1.6044608 | BB50: 41 | BC50: インターネット付随サービス業 | BD50: G40 | BE50: =AF50=F50 -> TRUE | BF50: =AG50=G50 -> TRUE | BG50: =AH50=H50 -> TRUE | BH50: =AI50=I50 -> TRUE | BI50: =AJ50=J50 -> TRUE | BJ50: =AK50=K50 -> TRUE | BK50: =AL50=L50 -> TRUE | BL50: =AM50=M50 -> TRUE | ... BX50: =AY50=Y50 -> TRUE
C51: 42 | D51: 映像・音声・文字情報制作業 | E51: G41 | F51: 0 | G51: 0.54324529 | H51: 1.5625954 | I51: 0.8583322 | J51: 0.79350784 | K51: 1.2728916 | L51: 2.5868641 | M51: 0 | N51: 0 | O51: 0 | P51: 0 | Q51: 0 | R51: 0.33467505 | S51: 0.34591362 | T51: 0 | U51: 0 | V51: 0 | W51: 0 | X51: 0 | Y51: 8.2980251 | AC51: 42 | AD51: 映像・音声・文字情報制作業 | AE51: G41 | AF51: 0 | AG51: 0.54324529 | AH51: 1.5625954 | AI51: 0.8583322 | AJ51: 0.79350784 | AK51: 1.2728916 | AL51: 2.5868641 | AM51: 0 | AN51: 0 | AO51: 0 | AP51: 0 | AQ51: 0 | AR51: 0.33467505 | AS51: 0.34591362 | AT51: 0 | AU51: 0 | AV51: 0 | AW51: 0 | AX51: 0 | AY51: 8.2980251 | BB51: 42 | BC51: 映像・音声・文字情報制作業 | BD51: G41 | BE51: =AF51=F51 -> TRUE | BF51: =AG51=G51 -> TRUE | BG51: =AH51=H51 -> TRUE | BH51: =AI51=I51 -> TRUE | BI51: =AJ51=J51 -> TRUE | BJ51: =AK51=K51 -> TRUE | BK51: =AL51=L51 -> TRUE | BL51: =AM51=M51 -> TRUE | ... BX51: =AY51=Y51 -> TRUE
...

Sheet 表Ⅲ・6　180116再⇒180218修正
C1: 表－Ⅲ・６ 平成27年度実績値 都道府県別・種類別排出量推計値一覧表
X3: (単位：千ｔ/年) | AA3: 旧 | AW3: 旧
B4: 大分類 | C4: No. | D4: 都道府県名 | E4: 燃え殻 | F4: 汚 泥 | G4: 廃 油 | H4: 廃 酸 | I4: 廃アルカリ | J4: 廃プラス チック類 | K4: 紙くず | L4: 木くず | M4: 繊維くず | N4: 動植物性 残 渣 | O4: 動物系 固形不要物 | P4: ゴムくず | Q4: 金属くず | R4: ガラスくず 及び 陶磁器くず | S4: 鉱さい | T4: がれき類 | U4: 動物の ふん尿 | V4: 動物の死体 | W4: ばいじん | X4: 合 計 | AA4: No. | AB4: 都道府県名 | AC4: 燃え殻 | AD4: 汚 泥 | AE4: 廃 油 | AF4: 廃 酸 | AG4: 廃アルカリ | AH4: 廃プラス チック類 | AI4: 紙くず | AJ4: 木くず | AK4: 繊維くず | AL4: 動植物性 残 渣 | AM4: 動物系 固形不要物 | AN4: ゴムくず | AO4: 金属くず | AP4: ガラスくず 及び 陶磁器くず | AQ4: 鉱さい | AR4: がれき類 | AS4: 動物の ふん尿 | AT4: 動物の死体 | AU4: ばいじん | AV4: 合 計 | AW4: No. | AX4: 都道府県名 | AY4: 燃え殻 | AZ4: 汚 泥 | BA4: 廃 油 | BB4: 廃 酸 | BC4: 廃アルカリ | BD4: 廃プラス チック類 | BE4: 紙くず | BF4: 木くず | BG4: 繊維くず | BH4: 動植物性 残 渣 | BI4: 動物系 固形不要物 | BJ4: ゴムくず | BK4: 金属くず | BL4: ガラスくず 及び 陶磁器くず | BM4: 鉱さい | BN4: がれき類 | BO4: 動物の ふん尿 | BP4: 動物の死体 | BQ4: ばいじん | BR4: 合 計
C5: 1 | D5: 北海道 | E5: 269.69547 | F5: 11681.567 | G5: 48.121077 | H5: 27.407435 | I5: 7.9126958 | J5: 239.62314 | K5: 22.62121 | L5: 332.19231 | M5: 1.126104 | N5: 228.28483 | O5: 2.7930458 | P5: 0.43484696 | Q5: 90.744328 | R5: 241.91436 | S5: 248.67745 | T5: 3352.4712 | U5: 19150.179 | V5: 36.962018 | W5: 899.44281 | X5: 36882.171 | AA5: 1 | AB5: 北海道 | AC5: 269.69547 | AD5: 11681.567 | AE5: 48.121077 | AF5: 27.407435 | AG5: 7.9126958 | AH5: 239.62314 | AI5: 22.62121 | AJ5: 332.19231 | AK5: 1.126104 | AL5: 228.28483 | AM5: 2.7930458 | AN5: 0.43484696 | AO5: 90.744328 | AP5: 241.91436 | AQ5: 248.67745 | AR5: 3352.4712 | AS5: 19150.179 | AT5: 35.669858 | AU5: 899.44281 | AV5: 36880.879 | AW5: 1 | AX5: 北海道 | AY5: =E5-AC5 -> 0 | AZ5: =F5-AD5 -> 0 | BA5: =G5-AE5 -> 0 | BB5: =H5-AF5 -> 0 | BC5: =I5-AG5 -> 0 | BD5: =J5-AH5 -> 0 | BE5: =K5-AI5 -> 0 | BF5: =L5-AJ5 -> 0 | ... BR5: =X5-AV5 -> 1.2921604
