Workbook
Name OLE_LINK7: ×表Ⅱ・4!#REF!
Name RZK_DD: #REF!
Name RZK_DD: #REF!
Name RZK_DD: #REF!
Name RZK_DD: #REF!
Name RZK_DD: #REF!
Name RZK_DD: #REF!
Name RZK_DD: #REF!
Name RZK_DD: #REF!
Name RZK_DD: #REF!
Name RZK_DD: #REF!
Name RZK_DD: #REF!
Name RZK_TTL: #REF!
Name RZK_TTL: #REF!
Name RZK_TTL: #REF!
Name RZK_TTL: #REF!
Name RZK_TTL: #REF!
Name RZK_TTL: #REF!
Name RZK_TTL: #REF!
Name RZK_TTL: #REF!
Name RZK_TTL: #REF!
Name RZK_TTL: #REF!
Name RZK_TTL: #REF!
Name san: #REF!
Name san: #REF!
Name san: #REF!
Name san: #REF!
Name san: #REF!
Name san: #REF!
Name san: #REF!
Name san: #REF!
Name san: #REF!
Name デ１: [1]デフレータ!#REF!
Name デフレータ: [1]デフレータ!#REF!
Name デフレータ: [1]デフレータ!#REF!
Name デフレータ: [1]デフレータ!#REF!
Name デフレータ: [1]デフレータ!#REF!
Name デフレータ: [1]デフレータ!#REF!
Name デフレータ: [1]デフレータ!#REF!
Name デフレータ: [1]デフレータ!#REF!
Name デフレータ: [1]デフレータ!#REF!
Name デフレータ: [1]デフレータ!#REF!
Name デフレータ: [1]デフレータ!#REF!
Name デフレータ: [1]デフレータ!#REF!
Name デフレータ: [1]デフレータ!#REF!

Sheet 表Ⅲ・2図Ⅲ・1　180116再
B1: 表－Ⅲ・２ 産業廃棄物の業種別排出量（平成27年度実績値）
B3: 業種 | D3: 平成26年度 | F3: 平成27年度
D4: 排出量（千ｔ） | E4: 割合（%） | F4: 排出量（千ｔ） | G4: 割合（%）
A5: =B5&C5 -> 農業、林業 | B5: 農業、林業 | D5: 81902.198 | E5: 20.848768 | F5: ='表Ⅲ・5 180116再'!Y5 -> 80949.071 | G5: =F5/F$87*100 -> 20.693313 | H5: =F5-D5 -> -953.12682 | I5: 82963.067
A6: =B6&C6 -> 耕種農業 | C6: 耕種農業 | D6: 66.586608 | E6: 0.016950079 | F6: ='表Ⅲ・5 180116再'!Y6 -> 69.347277 | G6: =F6/F$87*100 -> 0.017727503 | H6: =F6-D6 -> 2.7606687 | I6: 86.931598
A7: =B7&C7 -> 畜産農業 | C7: 畜産農業 | D7: 81566.961 | E7: 20.763432 | F7: ='表Ⅲ・5 180116再'!Y7 -> 80795.133 | G7: =F7/F$87*100 -> 20.653961 | H7: =F7-D7 -> -771.82892 | I7: 82760.34
A8: =B8&C8 -> 林業大分類 | C8: 林業大分類 | D8: 257.35956 | E8: 0.065512648 | F8: ='表Ⅲ・5 180116再'!Y8 -> 77.493678 | G8: =F8/F$87*100 -> 0.019809998 | H8: =F8-D8 -> -179.86588 | I8: 115.56574
A9: =B9&C9 -> 上記以外の農業 | C9: 上記以外の農業 | D9: 0 | E9: 0 | F9: ='表Ⅲ・5 180116再'!Y9 -> 0 | G9: =F9/F$87*100 -> 0 | H9: =F9-D9 -> 0 | I9: 0
A10: =B10&C10 -> 漁 業 | B10: 漁 業 | D10: 5.5703516 | E10: 0.0014179713 | F10: ='表Ⅲ・5 180116再'!Y10 -> 6.3971701 | G10: =F10/F$87*100 -> 0.0016353325 | H10: =F10-D10 -> 0.82681849 | I10: 8.9261601
A11: =B11&C11 -> 漁 業 | C11: 漁 業 | D11: 4.2421604 | E11: 0.0010798711 | F11: ='表Ⅲ・5 180116再'!Y11 -> 5.4548052 | G11: =F11/F$87*100 -> 0.0013944322 | H11: =F11-D11 -> 1.2126448 | I11: 7.06111
A12: =B12&C12 -> 水産養殖業 | C12: 水産養殖業 | D12: 1.3279034 | E12: 0.00033802696 | F12: ='表Ⅲ・5 180116再'!Y12 -> 0.90275987 | G12: =F12/F$87*100 -> 0.00023077587 | H12: =F12-D12 -> -0.42514355 | I12: 1.7520358
A13: =B13&C13 -> 鉱 業 | B13: 鉱 業 | D13: 9085.7824 | E13: 2.3128485 | F13: ='表Ⅲ・5 180116再'!Y13 -> 9765.8105 | G13: =F13/F$87*100 -> 2.4964706 | H13: =F13-D13 -> 680.02805 | I13: 8784.8532
A14: =B14&C14 -> 建設業 | B14: 建設業 | D14: 81614.432 | E14: 20.775516 | F14: ='表Ⅲ・5 180116再'!Y14 -> 81845.225 | G14: =F14/F$87*100 -> 20.9224 | H14: =F14-D14 -> 230.79235 | I14: 80347.687
A15: =B15&C15 -> 製造業 | B15: 製造業 | D15: 112404.22 | E15: 28.613268 | F15: ='表Ⅲ・5 180116再'!Y15 -> 109487.09 | G15: =F15/F$87*100 -> 27.988592 | H15: =F15-D15 -> -2917.1319 | I15: 109470.17
A16: =B16&C16 -> 食料品製造業 | C16: 食料品製造業 | D16: 9177.9833 | E16: 2.3363188 | F16: ='表Ⅲ・5 180116再'!Y16 -> 9069.1785 | G16: =F16/F$87*100 -> 2.318388 | H16: =F16-D16 -> -108.80476 | I16: 8650.4941
A17: =B17&C17 -> 飲料・たばこ・飼料製造業 | C17: 飲料・たばこ・飼料製造業 | D17: 2885.5555 | E17: 0.73453802 | F17: ='表Ⅲ・5 180116再'!Y17 -> 2829.8898 | G17: =F17/F$87*100 -> 0.7234153 | H17: =F17-D17 -> -55.665656 | I17: 2648.9259
A18: =B18&C18 -> 繊維工業 | C18: 繊維工業 | D18: 835.97316 | E18: 0.21280272 | F18: ='表Ⅲ・5 180116再'!Y18 -> 793.85502 | G18: =F18/F$87*100 -> 0.20293612 | H18: =F18-D18 -> -42.118138 | I18: 767.54451
A19: =B19&C19 -> 木材・木製品製造業 | C19: 木材・木製品製造業 | D19: 841.50463 | E19: 0.2142108 | F19: ='表Ⅲ・5 180116再'!Y19 -> 740.26183 | G19: =F19/F$87*100 -> 0.18923589 | H19: =F19-D19 -> -101.2428 | I19: 845.67447
A20: =B20&C20 -> 家具・装備品製造業 | C20: 家具・装備品製造業 | D20: 241.72525 | E20: 0.061532825 | F20: ='表Ⅲ・5 180116再'!Y20 -> 200.26649 | G20: =F20/F$87*100 -> 0.05119487 | H20: =F20-D20 -> -41.458755 | I20: 194.45581
A21: =B21&C21 -> パルプ・紙・紙加工品製造業 | C21: パルプ・紙・紙加工品製造業 | D21: 32611.924 | E21: 8.3015898 | F21: ='表Ⅲ・5 180116再'!Y21 -> 31760.538 | G21: =F21/F$87*100 -> 8.1190648 | H21: =F21-D21 -> -851.38666 | I21: 30441.291
A22: =B22&C22 -> 印刷・同関連業 | C22: 印刷・同関連業 | D22: 548.49889 | E22: 0.13962417 | F22: ='表Ⅲ・5 180116再'!Y22 -> 487.67063 | G22: =F22/F$87*100 -> 0.12466506 | H22: =F22-D22 -> -60.828254 | I22: 522.4173
A23: =B23&C23 -> 化学工業 | C23: 化学工業 | D23: 11895.683 | E23: 3.0281281 | F23: ='表Ⅲ・5 180116再'!Y23 -> 9974.148 | G23: =F23/F$87*100 -> 2.5497287 | H23: =F23-D23 -> -1921.5353 | I23: 12807.078
A24: =B24&C24 -> 石油製品・石炭製品製造業 | C24: 石油製品・石炭製品製造業 | D24: 1318.2785 | E24: 0.33557686 | F24: ='表Ⅲ・5 180116再'!Y24 -> 1374.8894 | G24: =F24/F$87*100 -> 0.35146811 | H24: =F24-D24 -> 56.610941 | I24: 1132.5665
A25: =B25&C25 -> プラスチック製品製造業 | C25: プラスチック製品製造業 | D25: 990.0019 | E25: 0.2520118 | F25: ='表Ⅲ・5 180116再'!Y25 -> 919.37316 | G25: =F25/F$87*100 -> 0.23502279 | H25: =F25-D25 -> -70.628739 | I25: 1019.0215
A26: =B26&C26 -> ゴム製品製造業 | C26: ゴム製品製造業 | D26: 250.15908 | E26: 0.063679716 | F26: ='表Ⅲ・5 180116再'!Y26 -> 244.12675 | G26: =F26/F$87*100 -> 0.062407033 | H26: =F26-D26 -> -6.0323275 | I26: 254.0148
A27: =B27&C27 -> なめし革・同製品・毛皮製造業 | C27: なめし革・同製品・毛皮製造業 | D27: 43.887913 | E27: 0.01117197 | F27: ='表Ⅲ・5 180116再'!Y27 -> 30.89305 | G27: =F27/F$87*100 -> 0.0078973057 | H27: =F27-D27 -> -12.994863 | I27: 42.034632
... A35: =B35&C35 -> 電子部品・デバイス・電子回路製造業 | C35: 電子部品・デバイス・電子回路製造業 | D35: 3117.1181 | E35: 0.79348388 | F35: ='表Ⅲ・5 180116再'!Y35 -> 3026.4069 | G35: =F35/F$87*100 -> 0.77365169 | H35: =F35-D35 -> -90.711212 | I35: 2720.5858
A36: =B36&C36 -> 電気機械器具製造業 | C36: 電気機械器具製造業 | D36: 843.56854 | E36: 0.21473618 | F36: ='表Ⅲ・5 180116再'!Y36 -> 548.09228 | G36: =F36/F$87*100 -> 0.14011088 | H36: =F36-D36 -> -295.47626 | I36: 525.35545 | O36: 図－Ⅲ・１/Ⅳ・２ 産業廃棄物の業種別排出量（平成２５年度実施値）
A37: =B37&C37 -> 情報通信機械器具製造業 | C37: 情報通信機械器具製造業 | D37: 99.937987 | E37: 0.025439903 | F37: ='表Ⅲ・5 180116再'!Y37 -> 82.797991 | G37: =F37/F$87*100 -> 0.021165959 | H37: =F37-D37 -> -17.139996 | I37: 94.649371
A38: =B38&C38 -> 輸送用機械器具製造業 | C38: 輸送用機械器具製造業 | D38: 3118.344 | E38: 0.79379594 | F38: ='表Ⅲ・5 180116再'!Y38 -> 2579.0691 | G38: =F38/F$87*100 -> 0.65929707 | H38: =F38-D38 -> -539.27488 | I38: 2638.7646
A39: =B39&C39 -> その他の製造業 | C39: その他の製造業 | D39: 694.75956 | E39: 0.17685583 | F39: ='表Ⅲ・5 180116再'!Y39 -> 591.02278 | G39: =F39/F$87*100 -> 0.15108536 | H39: =F39-D39 -> -103.73678 | I39: 572.41774
A40: =B40&C40 -> 電気･ガス・熱供給・水道業 | B40: 電気･ガス・熱供給・水道業 | D40: 101031.5 | E40: 25.718264 | F40: ='表Ⅲ・5 180116再'!Y40 -> 100542.82 | G40: =F40/F$87*100 -> 25.702136 | H40: =F40-D40 -> -488.68467 | I40: 97991.002
A41: =B41&C41 -> 電気業 | C41: 電気業 | D41: 11547.135 | E41: 2.9394028 | F41: ='表Ⅲ・5 180116再'!Y41 -> 11128.241 | G41: =F41/F$87*100 -> 2.8447539 | H41: =F41-D41 -> -418.89394 | I41: 10792.548
A42: =B42&C42 -> ガス業 | C42: ガス業 | D42: 22.164972 | E42: 0.0056422463 | F42: ='表Ⅲ・5 180116再'!Y42 -> 20.518855 | G42: =F42/F$87*100 -> 0.0052453115 | H42: =F42-D42 -> -1.6461171 | I42: 14.065343
A43: =B43&C43 -> 熱供給業 | C43: 熱供給業 | D43: 740.92093 | E43: 0.18860652 | F43: ='表Ⅲ・5 180116再'!Y43 -> 616.24093 | G43: =F43/F$87*100 -> 0.15753197 | H43: =F43-D43 -> -124.68 | I43: 285.92174
A44: =B44&C44 -> 上水道業 | C44: 上水道業 | D44: 10982.416 | E44: 2.7956496 | F44: ='表Ⅲ・5 180116再'!Y44 -> 10610.656 | G44: =F44/F$87*100 -> 2.7124416 | H44: =F44-D44 -> -371.76004 | I44: 9851.601
A45: =B45&C45 -> 下水道業 | C45: 下水道業 | D45: 77738.864 | E45: 19.788963 | F45: ='表Ⅲ・5 180116再'!Y45 -> 78167.16 | G45: =F45/F$87*100 -> 19.982163 | H45: =F45-D45 -> 428.29568 | I45: 77046.866
A46: =B46&C46 -> 情報通信業 | B46: 情報通信業 | D46: 131.28148 | E46: 0.033418603 | F46: ='表Ⅲ・5 180116再'!Y46 -> 254.46653 | G46: =F46/F$87*100 -> 0.065050229 | H46: =F46-D46 -> 123.18506 | I46: 313.35159
A47: =B47&C47 -> 通信業 | C47: 通信業 | D47: 42.997632 | E47: 0.010945343 | F47: ='表Ⅲ・5 180116再'!Y47 -> 51.010526 | G47: =F47/F$87*100 -> 0.013040011 | H47: =F47-D47 -> 8.0128944 | I47: 69.233077
A48: =B48&C48 -> 放送業 | C48: 放送業 | D48: 11.975404 | E48: 0.0030484215 | F48: ='表Ⅲ・5 180116再'!Y48 -> 76.36013 | G48: =F48/F$87*100 -> 0.019520225 | H48: =F48-D48 -> 64.384726 | I48: 3.7201218
A49: =B49&C49 -> 情報サービス業 | C49: 情報サービス業 | D49: 64.462126 | E49: 0.016409278 | F49: ='表Ⅲ・5 180116再'!Y49 -> 116.66594 | G49: =F49/F$87*100 -> 0.029823749 | H49: =F49-D49 -> 52.203812 | I49: 225.53104
A50: =B50&C50 -> インターネット付随サービス業 | C50: インターネット付随サービス業 | D50: 0.035886188 | E50: 9.1350762e-06 | F50: ='表Ⅲ・5 180116再'!Y50 -> 1.6044608 | G50: =F50/F$87*100 -> 0.00041015431 | H50: =F50-D50 -> 1.5685747 | I50: 0.037932857
A51: =B51&C51 -> 映像・音声・文字情報制作業 | C51: 映像・音声・文字情報制作業 | D51: 11.411659 | E51: 0.0029049163 | F51: ='表Ⅲ・5 180116再'!Y51 -> 8.2980251 | G51: =F51/F$87*100 -> 0.0021212551 | H51: =F51-D51 -> -3.1136335 | I51: 14.763005
A52: =B52&C52 -> 運輸業 | B52: 運輸業 | D52: 762.6679 | E52: 0.19414236 | F52: ='表Ⅲ・5 180116再'!Y52 -> 871.52922 | G52: =F52/F$87*100 -> 0.22279227 | H52: =F52-D52 -> 108.86132 | I52: 691.32752
A53: =B53&C53 -> 鉄道業 | C53: 鉄道業 | D53: 213.89536 | E53: 0.054448536 | F53: ='表Ⅲ・5 180116再'!Y53 -> 234.49414 | G53: =F53/F$87*100 -> 0.059944612 | H53: =F53-D53 -> 20.59878 | I53: 210.29998
A54: =B54&C54 -> 道路旅客運送業 | C54: 道路旅客運送業 | D54: 43.303903 | E54: 0.011023307 | F54: ='表Ⅲ・5 180116再'!Y54 -> 51.887767 | G54: =F54/F$87*100 -> 0.013264263 | H54: =F54-D54 -> 8.5838637 | I54: 31.429815
A55: =B55&C55 -> 道路貨物運送業 | C55: 道路貨物運送業 | D55: 302.54287 | E55: 0.077014371 | F55: ='表Ⅲ・5 180116再'!Y55 -> 366.63957 | G55: =F55/F$87*100 -> 0.093725441 | H55: =F55-D55 -> 64.096694 | I55: 224.36475
A56: =B56&C56 -> 上記以外の運輸通信業 | C56: 上記以外の運輸通信業 | D56: 199.89178 | E56: 0.050883829 | F56: ='表Ⅲ・5 180116再'!Y56 -> 214.37285 | G56: =F56/F$87*100 -> 0.054800931 | H56: =F56-D56 -> 14.481068 | I56: 215.47888
A57: =B57&C57 -> 卸売・小売業 | B57: 卸売・小売業 | D57: 1768.246 | E57: 0.4501192 | F57: ='表Ⅲ・5 180116再'!Y57 -> 2083.0345 | G57: =F57/F$87*100 -> 0.53249388 | H57: =F57-D57 -> 314.78844 | I57: 1434.4913
A58: =B58&C58 -> 各種商品卸売業 | C58: 各種商品卸売業 | D58: 131.3116 | E58: 0.033426272 | F58: ='表Ⅲ・5 180116再'!Y58 -> 74.849548 | G58: =F58/F$87*100 -> 0.019134069 | H58: =F58-D58 -> -56.462053 | I58: 163.049
A59: =B59&C59 -> 木材・竹材卸売業 | C59: 木材・竹材卸売業 | D59: 79.417401 | E59: 0.020216246 | F59: ='表Ⅲ・5 180116再'!Y59 -> 168.02514 | G59: =F59/F$87*100 -> 0.042952895 | H59: =F59-D59 -> 88.607743 | I59: 30.108867
A60: =B60&C60 -> 各種商品小売業 | C60: 各種商品小売業 | D60: 119.16298 | E60: 0.030333756 | F60: ='表Ⅲ・5 180116再'!Y60 -> 140.9854 | G60: =F60/F$87*100 -> 0.036040623 | H60: =F60-D60 -> 21.822418 | I60: 63.396453
A61: =B61&C61 -> 自動車小売業 | C61: 自動車小売業 | D61: 460.93796 | E61: 0.11733493 | F61: ='表Ⅲ・5 180116再'!Y61 -> 589.64376 | G61: =F61/F$87*100 -> 0.15073283 | H61: =F61-D61 -> 128.7058 | I61: 275.94016
A62: =B62&C62 -> 機械器具小売業 | C62: 機械器具小売業 | D62: 119.77771 | E62: 0.03049024 | F62: ='表Ⅲ・5 180116再'!Y62 -> 144.92853 | G62: =F62/F$87*100 -> 0.037048621 | H62: =F62-D62 -> 25.150822 | I62: 166.80913
A63: =B63&C63 -> 家具・建具・畳小売業 | C63: 家具・建具・畳小売業 | D63: 13.798783 | E63: 0.0035125753 | F63: ='表Ⅲ・5 180116再'!Y63 -> 19.671055 | G63: =F63/F$87*100 -> 0.0050285851 | H63: =F63-D63 -> 5.8722715 | I63: 2.9151176
A64: =B64&C64 -> じゅう器小売業 | C64: じゅう器小売業 | D64: 5.8040488 | E64: 0.0014774606 | F64: ='表Ⅲ・5 180116再'!Y64 -> 3.9646642 | G64: =F64/F$87*100 -> 0.0010135019 | H64: =F64-D64 -> -1.8393845 | I64: 2.7454812
A65: =B65&C65 -> 燃料小売業 | C65: 燃料小売業 | D65: 189.58337 | E65: 0.048259753 | F65: ='表Ⅲ・5 180116再'!Y65 -> 282.28425 | G65: =F65/F$87*100 -> 0.072161376 | H65: =F65-D65 -> 92.700874 | I65: 157.52627
A66: =B66&C66 -> 上記以外の卸売・小売業 | C66: 上記以外の卸売・小売業 | D66: 647.73786 | E66: 0.16488613 | F66: ='表Ⅲ・5 180116再'!Y66 -> 657.11651 | G66: =F66/F$87*100 -> 0.16798114 | H66: =F66-D66 -> 9.3786406 | I66: 569.64716
A67: =B67&C67 -> 不動産業、物品賃貸業 | B67: 不動産業、物品賃貸業 | D67: 154.46656 | E67: 0.039320527 | F67: ='表Ⅲ・5 180116再'!Y67 -> 263.29932 | G67: =F67/F$87*100 -> 0.067308188 | H67: =F67-D67 -> 108.83276 | I67: 114.37847
A68: =B68&C68 -> 物品賃借業 | C68: 物品賃借業 | D68: 154.0182 | E68: 0.039206394 | F68: ='表Ⅲ・5 180116再'!Y68 -> 262.82209 | G68: =F68/F$87*100 -> 0.067186192 | H68: =F68-D68 -> 108.80389 | I68: 106.39784
A69: =B69&C69 -> 学術研究、専門・技術サービス業 | B69: 学術研究、専門・技術サービス業 | D69: 140.2216 | E69: 0.035694374 | F69: ='表Ⅲ・5 180116再'!Y69 -> 146.4374 | G69: =F69/F$87*100 -> 0.037434338 | H69: =F69-D69 -> 6.215796 | I69: 116.48172
A70: =B70&C70 -> 学術開発研究機関 | C70: 学術開発研究機関 | D70: 130.87407 | E70: 0.033314896 | F70: ='表Ⅲ・5 180116再'!Y70 -> 137.24932 | G70: =F70/F$87*100 -> 0.035085556 | H70: =F70-D70 -> 6.3752465 | I70: 100.65725
A71: =B71&C71 -> 写真業 | C71: 写真業 | D71: 9.3403454 | E71: 0.0023776492 | F71: ='表Ⅲ・5 180116再'!Y71 -> 9.1850032 | G71: =F71/F$87*100 -> 0.0023479966 | H71: =F71-D71 -> -0.15534223 | I71: 15.810471
A72: =B72&C72 -> 飲食店、宿泊業 | B72: 飲食店、宿泊業 | D72: 379.75337 | E72: 0.096668834 | F72: ='表Ⅲ・5 180116再'!Y72 -> 341.73387 | G72: =F72/F$87*100 -> 0.087358706 | H72: =F72-D72 -> -38.019493 | I72: 455.28701
A73: =B73&C73 -> 一般飲食店 | C73: 一般飲食店 | D73: 270.86682 | E73: 0.068951012 | F73: ='表Ⅲ・5 180116再'!Y73 -> 237.78987 | G73: =F73/F$87*100 -> 0.060787111 | H73: =F73-D73 -> -33.076948 | I73: 397.9982
A74: =B74&C74 -> 上記以外の飲食店、宿泊業 | C74: 上記以外の飲食店、宿泊業 | D74: 106.5292 | E74: 0.027117742 | F74: ='表Ⅲ・5 180116再'!Y74 -> 103.39228 | G74: =F74/F$87*100 -> 0.026430553 | H74: =F74-D74 -> -3.1369284 | I74: 56.891294
A75: =B75&C75 -> 生活関連サービス、娯楽業 | B75: 生活関連サービス、娯楽業 | D75: 179.89445 | E75: 0.045793371 | F75: ='表Ⅲ・5 180116再'!Y75 -> 164.4378 | G75: =F75/F$87*100 -> 0.042035847 | H75: =F75-D75 -> -15.456655 | I75: 188.60665
A76: =B76&C76 -> 洗濯業 | C76: 洗濯業 | D76: 159.1462 | E76: 0.040511761 | F76: ='表Ⅲ・5 180116再'!Y76 -> 112.81535 | G76: =F76/F$87*100 -> 0.028839409 | H76: =F76-D76 -> -46.33085 | I76: 185.58162
A77: =B77&C77 -> 教育、学習支援業 | B77: 教育、学習支援業 | D77: 95.503514 | E77: 0.024311077 | F77: ='表Ⅲ・5 180116再'!Y77 -> 153.7554 | G77: =F77/F$87*100 -> 0.039305068 | H77: =F77-D77 -> 58.25189 | I77: 94.155679
A78: =B78&C78 -> 医療、福祉 | B78: 医療、福祉 | D78: 360.41269 | E78: 0.091745532 | F78: ='表Ⅲ・5 180116再'!Y78 -> 574.63853 | G78: =F78/F$87*100 -> 0.14689699 | H78: =F78-D78 -> 214.22584 | I78: 514.77697
A79: =B79&C79 -> 医療業 | C79: 医療業 | D79: 282.25108 | E79: 0.071848956 | F79: ='表Ⅲ・5 180116再'!Y79 -> 371.63621 | G79: =F79/F$87*100 -> 0.09500275 | H79: =F79-D79 -> 89.385125 | I79: 433.08302
A80: =B80&C80 -> 上記以外の医療、福祉 | C80: 上記以外の医療、福祉 | D80: 78.161307 | E80: 0.019896499 | F80: ='表Ⅲ・5 180116再'!Y80 -> 196.36038 | G80: =F80/F$87*100 -> 0.050196336 | H80: =F80-D80 -> 118.19907 | I80: 81.693647
A81: =B81&C81 -> 複合サービス事業 | B81: 複合サービス事業 | D81: 39.519733 | E81: 0.01006002 | F81: ='表Ⅲ・5 180116再'!Y81 -> 37.94547 | G81: =F81/F$87*100 -> 0.0097001421 | H81: =F81-D81 -> -1.5742626 | I81: 50.8576
A82: =B82&C82 -> サービス業 | B82: サービス業 | D82: 2524.5411 | E82: 0.64263932 | F82: ='表Ⅲ・5 180116再'!Y82 -> 3332.4019 | G82: =F82/F$87*100 -> 0.85187434 | H82: =F82-D82 -> 807.86082 | I82: 1029.5365
A83: =B83&C83 -> 自動車整備業 | C83: 自動車整備業 | D83: 1151.9637 | E83: 0.2932403 | F83: ='表Ⅲ・5 180116再'!Y83 -> 726.803 | G83: =F83/F$87*100 -> 0.18579536 | H83: =F83-D83 -> -425.16072 | I83: 539.47189
A84: =B84&C84 -> と蓄場 | C84: と蓄場 | D84: 755.6065 | E84: 0.19234484 | F84: ='表Ⅲ・5 180116再'!Y84 -> 1558.2396 | G84: =F84/F$87*100 -> 0.39833862 | H84: =F84-D84 -> 802.63314 | I84: 317.1234
A85: =B85&C85 -> 上記以外のサービス業 | C85: 上記以外のサービス業 | D85: 560.00762 | E85: 0.1425538 | F85: ='表Ⅲ・5 180116再'!Y85 -> 987.07253 | G85: =F85/F$87*100 -> 0.25232903 | H85: =F85-D85 -> 427.0649 | I85: 163.34283
A86: =B86&C86 -> 公 務 | B86: 公 務 | D86: 259.29305 | E86: 0.066004831 | F86: ='表Ⅲ・5 180116再'!Y86 -> 364.59563 | G86: =F86/F$87*100 -> 0.093202942 | H86: =F86-D86 -> 105.30258 | I86: 127.5159
B87: 合 計 | D87: 392839.5 | E87: 100 | F87: ='表Ⅲ・5 180116再'!Y87 -> 391184.68 | G87: =F87/F$87*100 -> 100 | H87: =F87-D87 -> -1654.8221 | I87: 384696.47
C90: 業種 | D90: 平成25年度 | G90: 業種 | H90: 平成26年度
D91: 単位：千ｔ／年 | E91: 割合（%） | H91: 単位：千ｔ／年 | I91: 割合（%）
A92: =C92=G92 -> TRUE | C92: 電気･ガス・熱供給・水道業 | D92: 101031.5 | E92: =D92/$D$103 -> 0.25718264 | F92: 1 | G92: 電気･ガス・熱供給・水道業 | H92: =VLOOKUP(G92,$A$5:$G$86,6,FALSE) -> 100542.82 | I92: =H92/$H$103 -> 0.25702136 | J92: =H92-D92 -> -488.68467 | L92: =D92/10 -> 10103.15 | M92: =H92/10 -> 10054.282
A93: =C93=G93 -> FALSE | C93: 農業、林業 | D93: 81902.198 | E93: =D93/$D$103 -> 0.20848768 | F93: 2 | G93: 建設業 | H93: =VLOOKUP(G93,$A$5:$G$86,6,FALSE) -> 81845.225 | I93: =H93/$H$103 -> 0.209224 | J93: =H93-D93 -> -56.972917 | L93: =D93/10 -> 8190.2198 | M93: =H93/10 -> 8184.5225
A94: =C94=G94 -> FALSE | C94: 建設業 | D94: 81614.432 | E94: =D94/$D$103 -> 0.20775516 | F94: 3 | G94: 農業、林業 | H94: =VLOOKUP(G94,$A$5:$G$86,6,FALSE) -> 80949.071 | I94: =H94/$H$103 -> 0.20693313 | J94: =H94-D94 -> -665.36155 | L94: =D94/10 -> 8161.4432 | M94: =H94/10 -> 8094.9071
A95: =C95=G95 -> TRUE | C95: パルプ・紙・紙加工品製造業 | D95: 32611.924 | E95: =D95/$D$103 -> 0.083015898 | F95: 4 | G95: パルプ・紙・紙加工品製造業 | H95: =VLOOKUP(G95,$A$5:$G$86,6,FALSE) -> 31760.538 | I95: =H95/$H$103 -> 0.081190648 | J95: =H95-D95 -> -851.38666 | L95: =D95/10 -> 3261.1924 | M95: =H95/10 -> 3176.0538
A96: =C96=G96 -> TRUE | C96: 鉄鋼業 | D96: 28636.99 | E96: =D96/$D$103 -> 0.072897429 | F96: 5 | G96: 鉄鋼業 | H96: =VLOOKUP(G96,$A$5:$G$86,6,FALSE) -> 29757.191 | I96: =H96/$H$103 -> 0.076069417 | J96: =H96-D96 -> 1120.2008 | L96: =D96/10 -> 2863.699 | M96: =H96/10 -> 2975.7191
A97: =C97=G97 -> TRUE | C97: 化学工業 | D97: 11895.683 | E97: =D97/$D$103 -> 0.030281281 | F97: 6 | G97: 化学工業 | H97: =VLOOKUP(G97,$A$5:$G$86,6,FALSE) -> 9974.148 | I97: =H97/$H$103 -> 0.025497287 | J97: =H97-D97 -> -1921.5353 | L97: =D97/10 -> 1189.5683 | M97: =H97/10 -> 997.4148
A98: =C98=G98 -> FALSE | C98: 食料品製造業 | D98: 9177.9833 | E98: =D98/$D$103 -> 0.023363188 | F98: 7 | G98: 鉱 業 | H98: =VLOOKUP(G98,$A$5:$G$86,6,FALSE) -> 9765.8105 | I98: =H98/$H$103 -> 0.024964706 | J98: =H98-D98 -> 587.8272 | L98: =D98/10 -> 917.79833 | M98: =H98/10 -> 976.58105
A99: =C99=G99 -> FALSE | C99: 鉱 業 | D99: 9085.7824 | E99: =D99/$D$103 -> 0.023128485 | F99: 8 | G99: 窯業・土石製品製造業 | H99: =VLOOKUP(G99,$A$5:$G$86,6,FALSE) -> 9347.9989 | I99: =H99/$H$103 -> 0.023896638 | J99: =H99-D99 -> 262.21649 | L99: =D99/10 -> 908.57824 | M99: =H99/10 -> 934.79989
A100: =C100=G100 -> FALSE | C100: 窯業・土石製品製造業 | D100: 8940.6747 | E100: =D100/$D$103 -> 0.022759103 | F100: 9 | G100: 食料品製造業 | H100: =VLOOKUP(G100,$A$5:$G$86,6,FALSE) -> 9069.1785 | I100: =H100/$H$103 -> 0.02318388 | J100: =H100-D100 -> 128.50387 | L100: =D100/10 -> 894.06747 | M100: =H100/10 -> 906.91785 | O100: 図-Ⅳ・２ 産業廃棄物の業種別排出量の推移（平成２５年度実施値）
A101: =C101=G101 -> TRUE | C101: その他の業種 | D101: =D103-SUM(D92:D100) -> 27942.335 | E101: =D101/$D$103 -> 0.071129136 | G101: その他の業種 | H101: =H103-SUM(H92:H100) -> 28172.705 | I101: =H101/$H$103 -> 0.072018938 | J101: =H101-D101 -> 230.37073 | L101: =D101/10 -> 2794.2335 | M101: =H101/10 -> 2817.2705
C103: 合計 | D103: =D87 -> 392839.5 | G103: 合計 | H103: =F87 -> 391184.68
B106: 業種 | D106: 平成26年度 | F106: 平成27年度
D107: 排出量（千ｔ） | E107: 割合（%） | F107: 排出量（千ｔ） | G107: 割合（%）
A108: ● | C108: 化学工業 | D108: 11895.683 | E108: 3.0281281 | F108: 9974.148 | G108: 2.5497287 | H108: =D108-F108 -> 1921.5353 | I108: =B108=G92 -> FALSE | J108: =C108=G92 -> FALSE
A109: ● | B109: 農業、林業 | D109: 81902.198 | E109: 20.848768 | F109: 80949.071 | G109: 20.693313 | H109: =D109-F109 -> 953.12682 | I109: =B109=G93 -> FALSE | J109: =C109=G93 -> FALSE
A110: ● | C110: パルプ・紙・紙加工品製造業 | D110: 32611.924 | E110: 8.3015898 | F110: 31760.538 | G110: 8.1190648 | H110: =D110-F110 -> 851.38666 | I110: =B110=G94 -> FALSE | J110: =C110=G94 -> FALSE
A111: ● | C111: 輸送用機械器具製造業 | D111: 3118.344 | E111: 0.79379594 | F111: 2579.0691 | G111: 0.65929707 | H111: =D111-F111 -> 539.27488 | I111: =B111=G95 -> FALSE | J111: =C111=G95 -> FALSE
A112: ● | B112: 電気･ガス・熱供給・水道業 | D112: 101031.5 | E112: 25.718264 | F112: 100542.82 | G112: 25.702136 | H112: =D112-F112 -> 488.68467 | I112: =B112=G96 -> FALSE | J112: =C112=G96 -> FALSE
A113: ● | C113: 非鉄金属製造業 | D113: 1286.6075 | E113: 0.3275148 | F113: 899.28289 | G113: 0.22988704 | H113: =D113-F113 -> 387.32463 | I113: =B113=G97 -> FALSE | J113: =C113=G97 -> FALSE
...

Sheet 表Ⅲ・3図Ⅲ・2　180116再
B1: 表－Ⅲ・３ 産業廃棄物の業種別排出量（平成27年度実績値） | P1: ='表Ⅲ・5 180116再'!Z87 -> 0 | Q1: ='表Ⅲ・5 180116再'!AA87 -> 0 | R1: ='表Ⅲ・5 180116再'!AB87 -> 0
B3: 種類 | C3: 平成26年度（参考） | E3: 平成27年度
C4: 排出量（千ｔ） | D4: 割合（%） | E4: 排出量（千ｔ） | F4: 割合（%）
B5: 燃え殻 | C5: 2045.5329 | D5: 0.52070449 | E5: ='表Ⅲ・5 180116再'!F87 -> 1912.0211 | F5: =E5/$E$24*100 -> 0.48877709 | G5: =E5-C5 -> -133.51183
B6: 汚 泥 | C6: 168821.47 | D6: 42.974667 | E6: ='表Ⅲ・5 180116再'!G87 -> 169317.63 | F6: =E6/$E$24*100 -> 43.283298 | G6: =E6-C6 -> 496.16176
B7: 廃 油 | C7: 3043.6181 | D7: 0.77477393 | E7: ='表Ⅲ・5 180116再'!H87 -> 2952.6635 | F7: =E7/$E$24*100 -> 0.7548004 | G7: =E7-C7 -> -90.954535
B8: 廃 酸 | C8: 3191.2513 | D8: 0.81235498 | E8: ='表Ⅲ・5 180116再'!I87 -> 2825.8722 | F8: =E8/$E$24*100 -> 0.72238826 | G8: =E8-C8 -> -365.37907
B9: 廃アルカリ | C9: 2305.7483 | D9: 0.58694411 | E9: ='表Ⅲ・5 180116再'!J87 -> 2676.5591 | F9: =E9/$E$24*100 -> 0.68421879 | G9: =E9-C9 -> 370.81079
B10: 廃プラスチック類 | C10: 6509.304 | D10: 1.6569881 | E10: ='表Ⅲ・5 180116再'!K87 -> 6822.7644 | F10: =E10/$E$24*100 -> 1.7441287 | G10: =E10-C10 -> 313.46044
B11: 紙くず | C11: 984.91864 | D11: 0.25071782 | E11: ='表Ⅲ・5 180116再'!L87 -> 937.63464 | F11: =E11/$E$24*100 -> 0.23969104 | G11: =E11-C11 -> -47.283994
B12: 木くず | C12: 7487.1259 | D12: 1.9058994 | E12: ='表Ⅲ・5 180116再'!M87 -> 7247.8954 | F12: =E12/$E$24*100 -> 1.8528066 | G12: =E12-C12 -> -239.23046
B13: 繊維くず | C13: 103.38069 | D13: 0.026316266 | E13: ='表Ⅲ・5 180116再'!N87 -> 89.708019 | F13: =E13/$E$24*100 -> 0.022932396 | G13: =E13-C13 -> -13.672668
B14: 動植物性残さ | C14: 2706.2698 | D14: 0.68889962 | E14: ='表Ⅲ・5 180116再'!O87 -> 2557.1544 | F14: =E14/$E$24*100 -> 0.65369493 | G14: =E14-C14 -> -149.1154
B15: 動物系固形不要物 | C15: 83.351241 | D15: 0.021217632 | E15: ='表Ⅲ・5 180116再'!P87 -> 91.829144 | F15: =E15/$E$24*100 -> 0.023474627 | G15: =E15-C15 -> 8.4779027
B16: ゴムくず | C16: 28.452978 | D16: 0.0072429014 | E16: ='表Ⅲ・5 180116再'!Q87 -> 22.945784 | F16: =E16/$E$24*100 -> 0.0058657164 | G16: =E16-C16 -> -5.5071939
B17: 金属くず | C17: 9283.8199 | D17: 2.3632603 | E17: ='表Ⅲ・5 180116再'!R87 -> 8646.7284 | F17: =E17/$E$24*100 -> 2.2103954 | G17: =E17-C17 -> -637.09153 | Q17: 報告書P25で利用
B18: ガラスくず、コンクリートくず及び陶磁器くず | C18: 8266.784 | D18: 2.1043668 | E18: ='表Ⅲ・5 180116再'!S87 -> 7348.4179 | F18: =E18/$E$24*100 -> 1.8785035 | G18: =E18-C18 -> -918.36607 | Q18: 図ーⅢ・２／Ⅳ・３ 産業廃棄物の種類別排出量（平成25年度実施値）
B19: 鉱さい | C19: 14563.046 | D19: 3.7071235 | E19: ='表Ⅲ・5 180116再'!T87 -> 15161.456 | F19: =E19/$E$24*100 -> 3.8757796 | G19: =E19-C19 -> 598.41029
B20: がれき類 | C20: 64394.261 | D20: 16.392002 | E20: ='表Ⅲ・5 180116再'!U87 -> 64212.461 | F20: =E20/$E$24*100 -> 16.414871 | G20: =E20-C20 -> -181.80056
B21: 動物のふん尿 | C21: 81416.104 | D21: 20.72503 | E21: ='表Ⅲ・5 180116再'!V87 -> 80512.451 | F21: =E21/$E$24*100 -> 20.581698 | G21: =E21-C21 -> -903.65363
B22: 動物の死体 | C22: 125.78758 | D22: 0.032020094 | E22: ='表Ⅲ・5 180116再'!W87 -> 112.41831 | F22: =E22/$E$24*100 -> 0.028737912 | G22: =E22-C22 -> -13.369271
B23: ばいじん | C23: 17479.279 | D23: 4.4494709 | E23: ='表Ⅲ・5 180116再'!X87 -> 17736.072 | F23: =E23/$E$24*100 -> 4.5339383 | G23: =E23-C23 -> 256.79294
B24: 合 計 | C24: 392839.5 | D24: 100 | E24: ='表Ⅲ・5 180116再'!Y87 -> 391184.68 | F24: =E24/$E$24*100 -> 100 | G24: =E24-C24 -> -1654.8221
Q36: 報告書P44で利用
Q37: 図－Ⅳ・３ 産業廃棄物の種類別排出量の推移（平成25年度実施値）
B50: 種類 | C50: 平成26年度（参考） | E50: 種類 | F50: 平成27年度
C51: 排出量（千ｔ） | F51: 排出量（千ｔ）
B52: 汚 泥 | C52: 168821.47 | D52: =C52/$C$63 -> 0.42974667 | E52: 汚 泥 | F52: =VLOOKUP(E52,$B$5:$F$24,4,FALSE) -> 169317.63 | G52: =F52/$F$63 -> 0.43283298 | H52: =B52=E52 -> TRUE | I52: =C52/10 -> 16882.147 | J52: =F52/10 -> 16931.763
B53: 動物のふん尿 | C53: 81416.104 | D53: =C53/$C$63 -> 0.2072503 | E53: 動物のふん尿 | F53: =VLOOKUP(E53,$B$5:$F$24,4,FALSE) -> 80512.451 | G53: =F53/$F$63 -> 0.20581698 | H53: =B53=E53 -> TRUE | I53: =C53/10 -> 8141.6104 | J53: =F53/10 -> 8051.2451
B54: がれき類 | C54: 64394.261 | D54: =C54/$C$63 -> 0.16392002 | E54: がれき類 | F54: =VLOOKUP(E54,$B$5:$F$24,4,FALSE) -> 64212.461 | G54: =F54/$F$63 -> 0.16414871 | H54: =B54=E54 -> TRUE | I54: =C54/10 -> 6439.4261 | J54: =F54/10 -> 6421.2461
B55: ばいじん | C55: 17479.279 | D55: =C55/$C$63 -> 0.044494709 | E55: ばいじん | F55: =VLOOKUP(E55,$B$5:$F$24,4,FALSE) -> 17736.072 | G55: =F55/$F$63 -> 0.045339383 | H55: =B55=E55 -> TRUE
B56: 鉱さい | C56: 14563.046 | D56: =C56/$C$63 -> 0.037071235 | E56: 鉱さい | F56: =VLOOKUP(E56,$B$5:$F$24,4,FALSE) -> 15161.456 | G56: =F56/$F$63 -> 0.038757796 | H56: =B56=E56 -> TRUE
B57: 金属くず | C57: 9283.8199 | D57: =C57/$C$63 -> 0.023632603 | E57: 金属くず | F57: =VLOOKUP(E57,$B$5:$F$24,4,FALSE) -> 8646.7284 | G57: =F57/$F$63 -> 0.022103954 | H57: =B57=E57 -> TRUE
B58: ガラスくず、コンクリートくず及び陶磁器くず | C58: 8266.784 | D58: =C58/$C$63 -> 0.021043668 | E58: ガラスくず、コンクリートくず及び陶磁器くず | F58: =VLOOKUP(E58,$B$5:$F$24,4,FALSE) -> 7348.4179 | G58: =F58/$F$63 -> 0.018785035 | H58: =B58=E58 -> TRUE
B59: 木くず | C59: 7487.1259 | D59: =C59/$C$63 -> 0.019058994 | E59: 木くず | F59: =VLOOKUP(E59,$B$5:$F$24,4,FALSE) -> 7247.8954 | G59: =F59/$F$63 -> 0.018528066 | H59: =B59=E59 -> TRUE
B60: 廃プラスチック類 | C60: 6509.304 | D60: =C60/$C$63 -> 0.016569881 | E60: 廃プラスチック類 | F60: =VLOOKUP(E60,$B$5:$F$24,4,FALSE) -> 6822.7644 | G60: =F60/$F$63 -> 0.017441287 | H60: =B60=E60 -> TRUE
B61: 廃 酸 | C61: 3191.2513 | D61: =C61/$C$63 -> 0.0081235498 | E61: 廃 油 | F61: =VLOOKUP(E61,$B$5:$F$24,4,FALSE) -> 2952.6635 | G61: =F61/$F$63 -> 0.007548004 | H61: =B61=E61 -> FALSE
B62: その他の産業廃棄物 | C62: 11427.06 | D62: =C62/$C$63 -> 0.029088369 | E62: その他の産業廃棄物 | F62: =F63-SUM(F52:F61) -> 11226.143 | G62: =F62/$F$63 -> 0.028697808 | H62: =B62=E62 -> TRUE
B63: 合 計 | C63: 392839.5 | D63: =C63/$C$63 -> 1 | E63: 合 計 | F63: =E24 -> 391184.68 | G63: =F63/$F$63 -> 1
C66: 平成26年度（参考） | E66: 平成27年度
C67: 排出量（千ｔ） | D67: 割合（%） | E67: 排出量（千ｔ） | F67: 割合（%）
B68: 鉱さい | C68: 14563.046 | D68: 3.7071235 | E68: 15161.456 | F68: 3.8757796 | G68: =E68-C68 -> 598.41029 | H68: =B68=E52 -> FALSE
B69: 汚 泥 | C69: 168821.47 | D69: 42.974667 | E69: 169317.63 | F69: 43.283298 | G69: =E69-C69 -> 496.16176 | H69: =B69=E53 -> FALSE
B70: 廃アルカリ | C70: 2305.7483 | D70: 0.58694411 | E70: 2676.5591 | F70: 0.68421879 | G70: =E70-C70 -> 370.81079 | H70: =B70=E54 -> FALSE
B71: 廃プラスチック類 | C71: 6509.304 | D71: 1.6569881 | E71: 6822.7644 | F71: 1.7441287 | G71: =E71-C71 -> 313.46044 | H71: =B71=E55 -> FALSE
B72: ばいじん | C72: 17479.279 | D72: 4.4494709 | E72: 17736.072 | F72: 4.5339383 | G72: =E72-C72 -> 256.79294 | H72: =B72=E56 -> FALSE
B73: 動物系固形不要物 | C73: 83.351241 | D73: 0.021217632 | E73: 91.829144 | F73: 0.023474627 | G73: =E73-C73 -> 8.4779027 | H73: =B73=E57 -> FALSE
B74: ゴムくず | C74: 28.452978 | D74: 0.0072429014 | E74: 22.945784 | F74: 0.0058657164 | G74: =E74-C74 -> -5.5071939 | H74: =B74=E58 -> FALSE
B75: 動物の死体 | C75: 125.78758 | D75: 0.032020094 | E75: 112.41831 | F75: 0.028737912 | G75: =E75-C75 -> -13.369271 | H75: =B75=E59 -> FALSE
B76: 繊維くず | C76: 103.38069 | D76: 0.026316266 | E76: 89.708019 | F76: 0.022932396 | G76: =E76-C76 -> -13.672668 | H76: =B76=E60 -> FALSE
B77: 紙くず | C77: 984.91864 | D77: 0.25071782 | E77: 937.63464 | F77: 0.23969104 | G77: =E77-C77 -> -47.283994 | H77: =B77=E61 -> FALSE
B78: 廃 油 | C78: 3043.6181 | D78: 0.77477393 | E78: 2952.6635 | F78: 0.7548004 | G78: =E78-C78 -> -90.954535 | H78: =B78=E62 -> FALSE
B79: 燃え殻 | C79: 2045.5329 | D79: 0.52070449 | E79: 1912.0211 | F79: 0.48877709 | G79: =E79-C79 -> -133.51183 | H79: =B79=E63 -> FALSE
B80: 動植物性残さ | C80: 2706.2698 | D80: 0.68889962 | E80: 2557.1544 | F80: 0.65369493 | G80: =E80-C80 -> -149.1154 | H80: =B80=E64 -> FALSE
B81: がれき類 | C81: 64394.261 | D81: 16.392002 | E81: 64212.461 | F81: 16.414871 | G81: =E81-C81 -> -181.80056
B82: 木くず | C82: 7487.1259 | D82: 1.9058994 | E82: 7247.8954 | F82: 1.8528066 | G82: =E82-C82 -> -239.23046
B83: 廃 酸 | C83: 3191.2513 | D83: 0.81235498 | E83: 2825.8722 | F83: 0.72238826 | G83: =E83-C83 -> -365.37907
B84: 金属くず | C84: 9283.8199 | D84: 2.3632603 | E84: 8646.7284 | F84: 2.2103954 | G84: =E84-C84 -> -637.09153
B85: 動物のふん尿 | C85: 81416.104 | D85: 20.72503 | E85: 80512.451 | F85: 20.581698 | G85: =E85-C85 -> -903.65363
B86: ガラスくず、コンクリートくず及び陶磁器くず | C86: 8266.784 | D86: 2.1043668 | E86: 7348.4179 | F86: 1.8785035 | G86: =E86-C86 -> -918.36607
B87: 合 計 | C87: 392839.5 | D87: 100 | E87: 391184.68 | F87: 100
B112: 合 計 | C112: 392839.5 | D112: 合 計 | E112: 391191.06
B113: 汚 泥 | C113: 168821.47 | D113: 汚 泥 | E113: 169317.63 | F113: =D113=B113 -> TRUE
B114: 動物のふん尿 | C114: 81416.104 | D114: 動物のふん尿 | E114: 80512.451 | F114: =D114=B114 -> TRUE
B115: がれき類 | C115: 64394.261 | D115: がれき類 | E115: 64212.461 | F115: =D115=B115 -> TRUE
B116: ばいじん | C116: 17479.279 | D116: ばいじん | E116: 17736.072 | F116: =D116=B116 -> TRUE
B117: 鉱さい | C117: 14563.046 | D117: 鉱さい | E117: 15161.456 | F117: =D117=B117 -> TRUE
B118: 金属くず | C118: 9283.8199 | D118: 金属くず | E118: 8646.7284 | F118: =D118=B118 -> TRUE
B119: ガラスくず、コンクリートくず及び陶磁器くず | C119: 8266.784 | D119: ガラスくず、コンクリートくず及び陶磁器くず | E119: 7348.4179 | F119: =D119=B119 -> TRUE
B120: 木くず | C120: 7487.1259 | D120: 木くず | E120: 7247.8954 | F120: =D120=B120 -> TRUE
B121: 廃プラスチック類 | C121: 6509.304 | D121: 廃プラスチック類 | E121: 6822.7644 | F121: =D121=B121 -> TRUE
B122: 廃 酸 | C122: 3191.2513 | D122: 廃 油 | E122: 2952.6635 | F122: =D122=B122 -> FALSE
B123: 廃 油 | C123: 3043.6181 | D123: 廃 酸 | E123: 2825.8722 | F123: =D123=B123 -> FALSE
B124: 動植物性残さ | C124: 2706.2698 | D124: 廃アルカリ | E124: 2676.5591 | F124: =D124=B124 -> FALSE
... B131: ゴムくず | C131: 28.452978 | D131: ゴムくず | E131: 22.945784 | F131: =D131=B131 -> TRUE

Sheet 表Ⅲ・4　図Ⅲ・3　180116再
B1: 表－Ⅲ・４ 産業廃棄物の地域別排出量（平成26年度速報値） | L1: 報告書P27で利用 図－Ⅲ・３／Ⅳ・４ 産業廃棄物の地域別排出量（平成25年度実施値）
B3: 地域別 | C3: 平成26年度（参考） | E3: 平成27年度
C4: 排出量（千ｔ） | D4: 割合（%） | E4: 排出量（千ｔ） | F4: 割合（%）
B5: 北海道 | C5: =C20 -> 36540.272 | D5: =C5/C$13*100 -> 9.3015779 | E5: =E20 -> 36882.171 | F5: =E5/E$13*100 -> 9.428327 | G5: =E5-C5 -> 341.89853
B6: 東北 | C6: =SUM(C21:C26) -> 40136.557 | D6: =C6/C$13*100 -> 10.217037 | E6: =SUM(E21:E26) -> 38264.306 | F6: =E6/E$13*100 -> 9.7816473 | G6: =E6-C6 -> -1872.2507
B7: 関東 | C7: =SUM(C27:C33) -> 102514.81 | D7: =C7/C$13*100 -> 26.095851 | E7: =SUM(E27:E33) -> 104056.05 | F7: =E7/E$13*100 -> 26.600236 | G7: =E7-C7 -> 1541.2349
B8: 中部 | C8: =SUM(C34:C42) -> 63058.957 | D8: =C8/C$13*100 -> 16.052092 | E8: =SUM(E34:E42) -> 61327.275 | F8: =E8/E$13*100 -> 15.67732 | G8: =E8-C8 -> -1731.6823
B9: 近畿 | C9: =SUM(C43:C49) -> 56144.558 | D9: =C9/C$13*100 -> 14.291984 | E9: =SUM(E43:E49) -> 55268.429 | F9: =E9/E$13*100 -> 14.128475 | G9: =E9-C9 -> -876.12974
B10: 中国 | C10: =SUM(C50:C54) -> 26096.881 | D10: =C10/C$13*100 -> 6.6431408 | E10: =SUM(E50:E54) -> 26429.948 | F10: =E10/E$13*100 -> 6.7563862 | G10: =E10-C10 -> 333.0665
B11: 四国 | C11: =SUM(C55:C58) -> 14046.622 | D11: =C11/C$13*100 -> 3.5756642 | E11: =SUM(E55:E58) -> 14147.236 | F11: =E11/E$13*100 -> 3.6165106 | G11: =E11-C11 -> 100.61389
B12: 九州 | C12: =SUM(C59:C66) -> 54300.844 | D12: =C12/C$13*100 -> 13.822654 | E12: =SUM(E59:E66) -> 54809.271 | F12: =E12/E$13*100 -> 14.011098 | G12: =E12-C12 -> 508.42682
B13: 合 計 | C13: =C67 -> 392839.5 | D13: 100 | E13: =E67 -> 391184.68 | F13: 100 | G13: =E13-C13 -> -1654.8221
B18: 種類 | C18: 平成26年度（参考） | E18: 平成27年度
C19: 排出量（千ｔ） | D19: 割合（%） | E19: 排出量（千ｔ） | F19: 割合（%）
A20: =E20-C20 -> 341.89853 | B20: 北海道 | C20: 36540.272 | D20: 9.3015779 | E20: ='表Ⅲ・6 180116再⇒180218修正'!X5 -> 36882.171 | F20: =E20/E$67*100 -> 9.428327 | G20: =E20-C20 -> 341.89853
A21: =E21-C21 -> -52.691467 | B21: 青森県 | C21: 5020.8498 | D21: 1.2780919 | E21: ='表Ⅲ・6 180116再⇒180218修正'!X6 -> 4968.1584 | F21: =E21/E$67*100 -> 1.2700289 | G21: =E21-C21 -> -52.691467
A22: =E22-C22 -> -365.02276 | B22: 岩手県 | C22: 6786.9741 | D22: 1.727671 | E22: ='表Ⅲ・6 180116再⇒180218修正'!X7 -> 6421.9513 | F22: =E22/E$67*100 -> 1.6416674 | G22: =E22-C22 -> -365.02276
A23: =E23-C23 -> -1260.1727 | B23: 宮城県 | C23: 12038.467 | D23: 3.0644747 | E23: ='表Ⅲ・6 180116再⇒180218修正'!X8 -> 10778.295 | F23: =E23/E$67*100 -> 2.7552956 | G23: =E23-C23 -> -1260.1727
A24: =E24-C24 -> 14.163047 | B24: 秋田県 | C24: 3463.1621 | D24: 0.88157175 | E24: ='表Ⅲ・6 180116再⇒180218修正'!X9 -> 3477.3251 | F24: =E24/E$67*100 -> 0.8889216 | G24: =E24-C24 -> 14.163047
A25: =E25-C25 -> 112.48552 | B25: 山形県 | C25: 3440.8596 | D25: 0.87589449 | E25: ='表Ⅲ・6 180116再⇒180218修正'!X10 -> 3553.3451 | F25: =E25/E$67*100 -> 0.90835487 | G25: =E25-C25 -> 112.48552
A26: =E26-C26 -> -321.01231 | B26: 福島県 | C26: 9386.2439 | D26: 2.389333 | E26: ='表Ⅲ・6 180116再⇒180218修正'!X11 -> 9065.2316 | F26: =E26/E$67*100 -> 2.317379 | G26: =E26-C26 -> -321.01231
A27: =E27-C27 -> 249.66205 | B27: 茨城県 | C27: 11904.053 | D27: 3.0302587 | E27: ='表Ⅲ・6 180116再⇒180218修正'!X12 -> 12153.715 | F27: =E27/E$67*100 -> 3.1068996 | G27: =E27-C27 -> 249.66205
A28: =E28-C28 -> -138.60532 | B28: 栃木県 | C28: 8053.2169 | D28: 2.0500018 | E28: ='表Ⅲ・6 180116再⇒180218修正'!X13 -> 7914.6116 | F28: =E28/E$67*100 -> 2.0232417 | G28: =E28-C28 -> -138.60532
A29: =E29-C29 -> 25.44174 | B29: 群馬県 | C29: 5341.2321 | D29: 1.3596474 | E29: ='表Ⅲ・6 180116再⇒180218修正'!X14 -> 5366.6739 | F29: =E29/E$67*100 -> 1.3719029 | G29: =E29-C29 -> 25.44174
A30: =E30-C30 -> 724.83775 | B30: 埼玉県 | C30: 10246.001 | D30: 2.60819 | E30: ='表Ⅲ・6 180116再⇒180218修正'!X15 -> 10970.838 | F30: =E30/E$67*100 -> 2.8045163 | G30: =E30-C30 -> 724.83775 | L30: 図－Ⅳ・４ 産業廃棄物の地域別排出量の推移(平成25年度実施値）
A31: =E31-C31 -> -216.86605 | B31: 千葉県 | C31: 21895.364 | D31: 5.5736157 | E31: ='表Ⅲ・6 180116再⇒180218修正'!X16 -> 21678.498 | F31: =E31/E$67*100 -> 5.5417554 | G31: =E31-C31 -> -216.86605
A32: =E32-C32 -> -1116.3579 | B32: 東京都 | C32: 28826.176 | D32: 7.3379017 | E32: ='表Ⅲ・6 180116再⇒180218修正'!X17 -> 27709.819 | F32: =E32/E$67*100 -> 7.0835643 | G32: =E32-C32 -> -1116.3579
A33: =E33-C33 -> 2013.1227 | B33: 神奈川県 | C33: 16248.769 | D33: 4.136236 | E33: ='表Ⅲ・6 180116再⇒180218修正'!X18 -> 18261.892 | F33: =E33/E$67*100 -> 4.6683555 | G33: =E33-C33 -> 2013.1227
A34: =E34-C34 -> 259.07459 | B34: 新潟県 | C34: 8406.924 | D34: 2.1400404 | E34: ='表Ⅲ・6 180116再⇒180218修正'!X19 -> 8665.9986 | F34: =E34/E$67*100 -> 2.2153216 | G34: =E34-C34 -> 259.07459
A35: =E35-C35 -> -49.223091 | B35: 富山県 | C35: 4623.2514 | D35: 1.1768805 | E35: ='表Ⅲ・6 180116再⇒180218修正'!X20 -> 4574.0283 | F35: =E35/E$67*100 -> 1.1692759 | G35: =E35-C35 -> -49.223091
A36: =E36-C36 -> -0.80823423 | B36: 石川県 | C36: 3225.9259 | D36: 0.82118164 | E36: ='表Ⅲ・6 180116再⇒180218修正'!X21 -> 3225.1177 | F36: =E36/E$67*100 -> 0.82444886 | G36: =E36-C36 -> -0.80823423
A37: =E37-C37 -> 7.3801161 | B37: 福井県 | C37: 3013.6973 | D37: 0.76715739 | E37: ='表Ⅲ・6 180116再⇒180218修正'!X22 -> 3021.0774 | F37: =E37/E$67*100 -> 0.77228929 | G37: =E37-C37 -> 7.3801161
A38: =E38-C38 -> 14.949626 | B38: 山梨県 | C38: 1778.8482 | D38: 0.45281807 | E38: ='表Ⅲ・6 180116再⇒180218修正'!X23 -> 1793.7979 | F38: =E38/E$67*100 -> 0.45855524 | G38: =E38-C38 -> 14.949626
A39: =E39-C39 -> 78.466949 | B39: 長野県 | C39: 4887.5771 | D39: 1.2441664 | E39: ='表Ⅲ・6 180116再⇒180218修正'!X24 -> 4966.0441 | F39: =E39/E$67*100 -> 1.2694884 | G39: =E39-C39 -> 78.466949
A40: =E40-C40 -> -219.99402 | B40: 岐阜県 | C40: 4951.7657 | D40: 1.260506 | E40: ='表Ⅲ・6 180116再⇒180218修正'!X25 -> 4731.7716 | F40: =E40/E$67*100 -> 1.2096004 | G40: =E40-C40 -> -219.99402
A41: =E41-C41 -> -480.73368 | B41: 静岡県 | C41: 10866.729 | D41: 2.7662007 | E41: ='表Ⅲ・6 180116再⇒180218修正'!X26 -> 10385.995 | F41: =E41/E$67*100 -> 2.6550108 | G41: =E41-C41 -> -480.73368
A42: =E42-C42 -> -1340.7945 | B42: 愛知県 | C42: 21304.238 | D42: 5.4231405 | E42: ='表Ⅲ・6 180116再⇒180218修正'!X27 -> 19963.444 | F42: =E42/E$67*100 -> 5.1033296 | G42: =E42-C42 -> -1340.7945
... A67: =E67-C67 -> -1654.8221 | B67: 全国 | C67: 392839.5 | D67: 100 | E67: ='表Ⅲ・6 180116再⇒180218修正'!X52 -> 391184.68 | F67: =E67/E$67*100 -> 100 | G67: =E67-C67 -> -1654.8221
B70: 種類 | C70: 平成26年度（参考） | E70: 種類 | F70: 平成27年度
C71: 排出量（千ｔ） | F71: 排出量（千ｔ）
B72: 関東 | C72: 102514.81 | D72: =C72/$C$80*100 -> 26.095851 | E72: 関東 | F72: 104056.05 | G72: 26.600236
B73: 中部 | C73: 63058.957 | D73: =C73/$C$80*100 -> 16.052092 | E73: 中部 | F73: 61327.275 | G73: 15.67732
B74: 近畿 | C74: 56144.558 | D74: =C74/$C$80*100 -> 14.291984 | E74: 近畿 | F74: 55268.429 | G74: 14.128475
B75: 九州 | C75: 54300.844 | D75: =C75/$C$80*100 -> 13.822654 | E75: 九州 | F75: 54809.271 | G75: 14.011098
B76: 東北 | C76: 40136.557 | D76: =C76/$C$80*100 -> 10.217037 | E76: 東北 | F76: 38264.306 | G76: 9.7816473
B77: 北海道 | C77: 36540.272 | D77: =C77/$C$80*100 -> 9.3015779 | E77: 北海道 | F77: 36882.171 | G77: 9.428327
B78: 中国 | C78: 26096.881 | D78: =C78/$C$80*100 -> 6.6431408 | E78: 中国 | F78: 26429.948 | G78: 6.7563862
B79: 四国 | C79: 14046.622 | D79: =C79/$C$80*100 -> 3.5756642 | E79: 四国 | F79: 14147.236 | G79: 3.6165106
B80: 合 計 | C80: 392839.5 | D80: 100 | E80: 合 計 | F80: 391184.68 | G80: 100
B84: 関東 | C84: 101496.53 | D84: 26.387281 | E84: 99905.506 | F84: 25.68632
B85: 中部 | C85: 58297.473 | D85: 15.156299 | E85: 63022.623 | F85: 16.203504
B86: 近畿 | C86: 53139.204 | D86: 13.815242 | E86: 55968.878 | F86: 14.389942
B87: 九州 | C87: 54836.816 | D87: 14.256591 | E87: 53456.755 | F87: 13.74406
B88: 東北 | C88: 39654.756 | D88: 10.309527 | E88: 39997.21 | F88: 10.283529
B89: 北海道 | C89: 37119.465 | D89: 9.6503963 | E89: 36522.47 | F89: 9.3901516
B90: 中国 | C90: 26058.766 | D90: 6.7748125 | E90: 26075.802 | F90: 6.704249
B91: 四国 | C91: 14038.858 | D91: 3.6498518 | E91: 13995.172 | F91: 3.5982447
B92: 合 計 | C92: 384641.87 | D92: 100 | E92: 388944.42 | F92: 100

Sheet 図Ⅲ・4　180116再
A1: 図Ⅲ・4 全国産業廃棄物の処理フロー
Y7: 内は平成26年度の数値 | AI7: 排出量 | AJ7: 直接再生 利用量 | AK7: 直接最終 処分量 | AL7: 中 間 処 理 | AP7: 再生 利用量計 | AQ7: 減量化量 | AR7: 最終処分量計
AL8: 中間処理量 | AM8: 処理残渣量 | AN8: 再生利用量 | AO8: 最終処分
J9: 直接再生利用量 | Z9: 再生利用量 | AI9: (A) | AJ9: (B) | AK9: (C) | AL9: (D) | AM9: (E) | AN9: (F) | AO9: (G) | AP9: (B)+(F) | AQ9: (D)-(E) | AR9: (C)+(G)
C10: 排 出 量 | J10: =AJ10 -> 76848.824 | Z10: =AP10 -> 207560.9 | AH10: 合計 | AI10: =AI17 -> 391184.68 | AJ10: =AJ17 -> 76848.824 | AK10: =AK17 -> 4843.5611 | AL10: =AL17 -> 309492.3 | AM10: =AM17 -> 135953.75 | AN10: =AN17 -> 130712.08 | AO10: =AO17 -> 5241.6735 | AP10: =AP17 -> 207560.9 | ... AR10: =AR17 -> 10085.235
C11: =AI10 -> 391184.68 | J11: =AJ11 -> 19.645152 | Z11: =AP11 -> 53.059568 | AH11: 構成比 | AI11: =AI18*100 -> 100 | AJ11: =AJ18*100 -> 19.645152 | AK11: =AK18*100 -> 1.2381776 | AL11: =AL18*100 -> 79.116671 | AM11: =AM18*100 -> 34.754365 | AN11: =AN18*100 -> 33.414416 | AO11: =AO18*100 -> 1.3399485 | AP11: =AP18*100 -> 53.059568 | ... AR11: =AR18*100 -> 2.5781261
C12: =AI11 -> 100
Z13: =AP28 -> 209676.42
C14: =AI28 -> 392839.5 | Z14: =AP29 -> 53.374576
C15: =AI29 -> 100
V16: 処理後再生利用量 | AI16: 排出量推計値 | AJ16: 直接再生利用量 | AK16: 直接最終処分量 | AL16: 中間処理量 | AM16: 処理残渣量 | AN16: 処理後再生利用量 | AO16: 処理後最終処分量 | AP16: 再生利用量合計 | AQ16: 減量化量 | AR16: 最終処分量合計
V17: =AN10 -> 130712.08 | AI17: ='表Ⅲ・9 180116再'!C43 -> 391184.68 | AJ17: ='表Ⅲ・9 180116再'!D43 -> 76848.824 | AK17: ='表Ⅲ・9 180116再'!E43 -> 4843.5611 | AL17: ='表Ⅲ・9 180116再'!F43 -> 309492.3 | AM17: ='表Ⅲ・9 180116再'!G43 -> 135953.75 | AN17: ='表Ⅲ・9 180116再'!H43 -> 130712.08 | AO17: ='表Ⅲ・9 180116再'!I43 -> 5241.6735 | AP17: ='表Ⅲ・9 180116再'!J43 -> 207560.9 | ... AR17: ='表Ⅲ・9 180116再'!L43 -> 10085.235
P18: 処理残渣量 | V18: =AN11 -> 33.414416 | AI18: =AI17/$AI$17 -> 1 | AJ18: =AJ17/$AI$17 -> 0.19645152 | AK18: =AK17/$AI$17 -> 0.012381776 | AL18: =AL17/$AI$17 -> 0.79116671 | AM18: =AM17/$AI$17 -> 0.34754365 | AN18: =AN17/$AI$17 -> 0.33414416 | AO18: =AO17/$AI$17 -> 0.013399485 | AP18: =AP17/$AI$17 -> 0.53059568 | ... AR18: =AR17/$AI$17 -> 0.025781261
P19: =AM10 -> 135953.75
J20: 中間処理量 | P20: =AM11 -> 34.754365 | V20: 処理後最終処分量
J21: =AL10 -> 309492.3 | V21: =AO10 -> 5241.6735
J22: =AL11 -> 79.116671 | P22: 減量化量 | V22: =AO11 -> 1.3399485
P23: =AQ10 -> 173538.55
P24: =AQ11 -> 44.362306 | AH24: H26
AI25: 排出量 | AJ25: 直接再生 利用量 | AK25: 直接最終 処分量 | AL25: 中 間 処 理 | AP25: 再生 利用量計 | AQ25: 減量化量 | AR25: 最終処分量計
P26: =AQ28 -> 172763.83 | AL26: 中間処理量 | AM26: 処理残渣量 | AN26: 再生利用量 | AO26: 最終処分
P27: =AQ29 -> 43.978222 | AI27: (A) | AJ27: (B) | AK27: (C) | AL27: (D) | AM27: (E) | AN27: (F) | AO27: (G) | AP27: (B)+(F) | AQ27: (D)-(E) | AR27: (C)+(G)
J28: 直接最終処分量 | Z28: 最終処分量 | AH28: 合計 | AI28: 392839.5 | AJ28: 76516.559 | AK28: 5349.8324 | AL28: 310973.11 | AM28: 138209.28 | AN28: 133159.86 | AO28: 5049.4218 | AP28: 209676.42 | AQ28: 172763.83 | AR28: 10399.254
J29: =AK10 -> 4843.5611 | Z29: =AR10 -> 10085.235 | AH29: 構成比 | AI29: 100 | AJ29: 19.477817 | AK29: 1.3618367 | AL29: 79.160347 | AM29: 35.182124 | AN29: 33.896759 | AO29: 1.2853651 | AP29: 53.374576 | AQ29: 43.978222 | AR29: 2.6472018
J30: =AK11 -> 1.2381776 | Z30: =AR11 -> 2.5781261
Z32: =AR28 -> 10399.254
Z33: =AR29 -> 2.6472018
B36: ※各項目量は、四捨五入して表示しているため、収支が合わない場合がある。

Sheet 表Ⅲ・5　180116再
B1: 表－Ⅲ・５ 平成27年度実績値 業種別・種類別排出量推計値一覧表
AB2: 180218確認
D3: 全国 | F3: 平成27年度 | Y3: (単位：千ｔ/年) | AB3: 旧
B4: 大分類 | C4: 番号 | D4: 産業分類 | E4: コード | F4: 燃え殻 | G4: 汚 泥 | H4: 廃 油 | I4: 廃 酸 | J4: 廃アルカリ | K4: 廃プラス チック類 | L4: 紙くず | M4: 木くず | N4: 繊維くず | O4: 動植物性 残 渣 | P4: 動物系固形不要物 | Q4: ゴムくず | R4: 金属くず | S4: ガラスくず及び 陶磁器くず | T4: 鉱さい | U4: がれき類 | V4: 動物の ふん尿 | W4: 動物の死体 | X4: ばいじん | Y4: 合 計 | AB4: 大分類 | AC4: 番号 | AD4: 産業分類 | AE4: コード | AF4: 燃え殻 | AG4: 汚 泥 | AH4: 廃 油 | AI4: 廃 酸 | AJ4: 廃アルカリ | AK4: 廃プラス チック類 | AL4: 紙くず | AM4: 木くず | AN4: 繊維くず | AO4: 動植物性 残 渣 | AP4: 動物系固形不要物 | AQ4: ゴムくず | AR4: 金属くず | AS4: ガラスくず及び 陶磁器くず | AT4: 鉱さい | AU4: がれき類 | AV4: 動物の ふん尿 | AW4: 動物の死体 | AX4: ばいじん | AY4: 合 計 | BA4: 大分類 | BB4: 番号 | BC4: 産業分類 | BD4: コード | BE4: 燃え殻 | BF4: 汚 泥 | BG4: 廃 油 | BH4: 廃 酸 | BI4: 廃アルカリ | BJ4: 廃プラス チック類 | BK4: 紙くず | BL4: 木くず | BM4: 繊維くず | BN4: 動植物性 残 渣 | BO4: 動物系固形不要物 | BP4: ゴムくず | BQ4: 金属くず | BR4: ガラスくず及び 陶磁器くず | BS4: 鉱さい | BT4: がれき類 | BU4: 動物の ふん尿 | BV4: 動物の死体 | BW4: ばいじん | BX4: 合 計
B5: 農業、 | D5: 農業大分類 | E5: Ａ | F5: 0.37513252 | G5: 4.8877368 | H5: 0.15644163 | I5: 0.080458 | J5: 0.002375 | K5: 100.44027 | L5: 0 | M5: 212.11506 | N5: 0 | O5: 0 | P5: 0 | Q5: 0.00033 | R5: 0.80792202 | S5: 2.8711832 | T5: 0 | U5: 2.3067694 | V5: 80512.451 | W5: 112.41831 | X5: 0.158 | Y5: 80949.071 | AB5: 農業、 | AD5: 農業大分類 | AE5: Ａ | AF5: 0.37513252 | AG5: 4.8877368 | AH5: 0.15644163 | AI5: 0.080458 | AJ5: 0.002375 | AK5: 100.44027 | AL5: 0 | AM5: 212.11506 | AN5: 0 | AO5: 0 | AP5: 0 | AQ5: 0.00033 | AR5: 0.80792202 | AS5: 2.8711832 | AT5: 0 | AU5: 2.3067694 | AV5: 80512.451 | AW5: 112.41831 | AX5: 0.158 | AY5: 80949.071 | BA5: 農業、 | BC5: 農業大分類 | BD5: Ａ | BE5: =AF5=F5 -> TRUE | BF5: =AG5=G5 -> TRUE | BG5: =AH5=H5 -> TRUE | BH5: =AI5=I5 -> TRUE | BI5: =AJ5=J5 -> TRUE | BJ5: =AK5=K5 -> TRUE | BK5: =AL5=L5 -> TRUE | BL5: =AM5=M5 -> TRUE | ... BX5: =AY5=Y5 -> TRUE
B6: 林業 | C6: 1 | D6: 耕種農業 | E6: A011 | F6: 0 | G6: 0 | H6: 1.117386e-05 | I6: 0 | J6: 0 | K6: 68.640248 | L6: 0 | M6: 0.22249749 | N6: 0 | O6: 0 | P6: 0 | Q6: 0 | R6: 2.5576836e-05 | S6: 0.48448597 | T6: 0 | U6: 8.6386679e-06 | V6: 0 | W6: 0 | X6: 0 | Y6: 69.347277 | AB6: 林業 | AC6: 1 | AD6: 耕種農業 | AE6: A011 | AF6: 0 | AG6: 0 | AH6: 1.117386e-05 | AI6: 0 | AJ6: 0 | AK6: 68.640248 | AL6: 0 | AM6: 0.22249749 | AN6: 0 | AO6: 0 | AP6: 0 | AQ6: 0 | AR6: 2.5576836e-05 | AS6: 0.48448597 | AT6: 0 | AU6: 8.6386679e-06 | AV6: 0 | AW6: 0 | AX6: 0 | AY6: 69.347277 | BA6: 林業 | BB6: 1 | BC6: 耕種農業 | BD6: A011 | BE6: =AF6=F6 -> TRUE | BF6: =AG6=G6 -> TRUE | BG6: =AH6=H6 -> TRUE | BH6: =AI6=I6 -> TRUE | BI6: =AJ6=J6 -> TRUE | BJ6: =AK6=K6 -> TRUE | BK6: =AL6=L6 -> TRUE | BL6: =AM6=M6 -> TRUE | ... BX6: =AY6=Y6 -> TRUE
C7: 2 | D7: 畜産農業 | E7: A012 | F7: 0.013572516 | G7: 0.16959744 | H7: 0.011588616 | I7: 0 | J7: 0 | K7: 26.808915 | L7: 0 | M7: 143.14353 | N7: 0 | O7: 0 | P7: 0 | Q7: 0 | R7: 0.051548926 | S7: 0.055778883 | T7: 0 | U7: 0.0089836626 | V7: 80512.451 | W7: 112.41831 | X7: 0 | Y7: 80795.133 | AC7: 2 | AD7: 畜産農業 | AE7: A012 | AF7: 0.013572516 | AG7: 0.16959744 | AH7: 0.011588616 | AI7: 0 | AJ7: 0 | AK7: 26.808915 | AL7: 0 | AM7: 143.14353 | AN7: 0 | AO7: 0 | AP7: 0 | AQ7: 0 | AR7: 0.051548926 | AS7: 0.055778883 | AT7: 0 | AU7: 0.0089836626 | AV7: 80512.451 | AW7: 112.41831 | AX7: 0 | AY7: 80795.133 | BB7: 2 | BC7: 畜産農業 | BD7: A012 | BE7: =AF7=F7 -> TRUE | BF7: =AG7=G7 -> TRUE | BG7: =AH7=H7 -> TRUE | BH7: =AI7=I7 -> TRUE | BI7: =AJ7=J7 -> TRUE | BJ7: =AK7=K7 -> TRUE | BK7: =AL7=L7 -> TRUE | BL7: =AM7=M7 -> TRUE | ... BX7: =AY7=Y7 -> TRUE
C8: 3 | D8: 林業大分類 | E8: A02 | F8: 0 | G8: 0.46179939 | H8: 0.14484184 | I8: 0 | J8: 0 | K8: 4.712111 | L8: 0 | M8: 68.749036 | N8: 0 | O8: 0 | P8: 0 | Q8: 0 | R8: 0.75634751 | S8: 0.42420938 | T8: 0 | U8: 2.2453331 | V8: 0 | W8: 0 | X8: 0 | Y8: 77.493678 | AC8: 3 | AD8: 林業大分類 | AE8: A02 | AF8: 0 | AG8: 0.46179939 | AH8: 0.14484184 | AI8: 0 | AJ8: 0 | AK8: 4.712111 | AL8: 0 | AM8: 68.749036 | AN8: 0 | AO8: 0 | AP8: 0 | AQ8: 0 | AR8: 0.75634751 | AS8: 0.42420938 | AT8: 0 | AU8: 2.2453331 | AV8: 0 | AW8: 0 | AX8: 0 | AY8: 77.493678 | BB8: 3 | BC8: 林業大分類 | BD8: A02 | BE8: =AF8=F8 -> TRUE | BF8: =AG8=G8 -> TRUE | BG8: =AH8=H8 -> TRUE | BH8: =AI8=I8 -> TRUE | BI8: =AJ8=J8 -> TRUE | BJ8: =AK8=K8 -> TRUE | BK8: =AL8=L8 -> TRUE | BL8: =AM8=M8 -> TRUE | ... BX8: =AY8=Y8 -> TRUE
C9: 4 | D9: 上記以外の農業 | F9: 0 | G9: 0 | H9: 0 | I9: 0 | J9: 0 | K9: 0 | L9: 0 | M9: 0 | N9: 0 | O9: 0 | P9: 0 | Q9: 0 | R9: 0 | S9: 0 | T9: 0 | U9: 0 | V9: 0 | W9: 0 | X9: 0 | AC9: 4 | AD9: 上記以外の農業 | AF9: 0 | AG9: 0 | AH9: 0 | AI9: 0 | AJ9: 0 | AK9: 0 | AL9: 0 | AM9: 0 | AN9: 0 | AO9: 0 | AP9: 0 | AQ9: 0 | AR9: 0 | AS9: 0 | AT9: 0 | AU9: 0 | AV9: 0 | AW9: 0 | AX9: 0 | AY9: #VALUE! | BB9: 4 | BC9: 上記以外の農業 | BE9: =AF9=F9 -> TRUE | BF9: =AG9=G9 -> TRUE | BG9: =AH9=H9 -> TRUE | BH9: =AI9=I9 -> TRUE | BI9: =AJ9=J9 -> TRUE | BJ9: =AK9=K9 -> TRUE | BK9: =AL9=L9 -> TRUE | BL9: =AM9=M9 -> TRUE | ... BX9: =AY9=Y9 -> #VALUE!
B10: 漁 業 | D10: 漁業大分類 | E10: B | F10: 0.013633386 | G10: 0.36450109 | H10: 0.26984719 | I10: 0.00034821813 | J10: 0.00017502779 | K10: 5.3234893 | L10: 0 | M10: 0.035550017 | N10: 0 | O10: 0 | P10: 0 | Q10: 9.3485698e-07 | R10: 0.36108795 | S10: 0.016937153 | T10: 2.2956547e-06 | U10: 0.011597572 | V10: 0 | W10: 0 | X10: 0 | Y10: 6.3971701 | AB10: 漁 業 | AD10: 漁業大分類 | AE10: B | AF10: 0.013633386 | AG10: 0.36450109 | AH10: 0.26984719 | AI10: 0.00034821813 | AJ10: 0.00017502779 | AK10: 5.3234893 | AL10: 0 | AM10: 0.035550017 | AN10: 0 | AO10: 0 | AP10: 0 | AQ10: 9.3485698e-07 | AR10: 0.36108795 | AS10: 0.016937153 | AT10: 2.2956547e-06 | AU10: 0.011597572 | AV10: 0 | AW10: 0 | AX10: 0 | AY10: 6.3971701 | BA10: 漁 業 | BC10: 漁業大分類 | BD10: B | BE10: =AF10=F10 -> TRUE | BF10: =AG10=G10 -> TRUE | BG10: =AH10=H10 -> TRUE | BH10: =AI10=I10 -> TRUE | BI10: =AJ10=J10 -> TRUE | BJ10: =AK10=K10 -> TRUE | BK10: =AL10=L10 -> TRUE | BL10: =AM10=M10 -> TRUE | ... BX10: =AY10=Y10 -> TRUE
C11: 5 | D11: 漁 業 | E11: B03 | F11: 0 | G11: 0.0019033962 | H11: 0.26984719 | I11: 0 | J11: 0 | K11: 5.0746861 | L11: 0 | M11: 0.035550017 | N11: 0 | O11: 0 | P11: 0 | Q11: 0 | R11: 0.069728976 | S11: 0.0019946143 | T11: 0 | U11: 0.0010949714 | V11: 0 | W11: 0 | X11: 0 | Y11: 5.4548052 | AC11: 5 | AD11: 漁 業 | AE11: B03 | AF11: 0 | AG11: 0.0019033962 | AH11: 0.26984719 | AI11: 0 | AJ11: 0 | AK11: 5.0746861 | AL11: 0 | AM11: 0.035550017 | AN11: 0 | AO11: 0 | AP11: 0 | AQ11: 0 | AR11: 0.069728976 | AS11: 0.0019946143 | AT11: 0 | AU11: 0.0010949714 | AV11: 0 | AW11: 0 | AX11: 0 | AY11: 5.4548052 | BB11: 5 | BC11: 漁 業 | BD11: B03 | BE11: =AF11=F11 -> TRUE | BF11: =AG11=G11 -> TRUE | BG11: =AH11=H11 -> TRUE | BH11: =AI11=I11 -> TRUE | BI11: =AJ11=J11 -> TRUE | BJ11: =AK11=K11 -> TRUE | BK11: =AL11=L11 -> TRUE | BL11: =AM11=M11 -> TRUE | ... BX11: =AY11=Y11 -> TRUE
C12: 6 | D12: 水産養殖業 | E12: B04 | F12: 0 | G12: 0.3625977 | H12: 0 | I12: 0 | J12: 0 | K12: 0.2488032 | L12: 0 | M12: 0 | N12: 0 | O12: 0 | P12: 0 | Q12: 0 | R12: 0.29135897 | S12: 0 | T12: 0 | U12: 0 | V12: 0 | W12: 0 | X12: 0 | Y12: 0.90275987 | AC12: 6 | AD12: 水産養殖業 | AE12: B04 | AF12: 0 | AG12: 0.3625977 | AH12: 0 | AI12: 0 | AJ12: 0 | AK12: 0.2488032 | AL12: 0 | AM12: 0 | AN12: 0 | AO12: 0 | AP12: 0 | AQ12: 0 | AR12: 0.29135897 | AS12: 0 | AT12: 0 | AU12: 0 | AV12: 0 | AW12: 0 | AX12: 0 | AY12: 0.90275987 | BB12: 6 | BC12: 水産養殖業 | BD12: B04 | BE12: =AF12=F12 -> TRUE | BF12: =AG12=G12 -> TRUE | BG12: =AH12=H12 -> TRUE | BH12: =AI12=I12 -> TRUE | BI12: =AJ12=J12 -> TRUE | BJ12: =AK12=K12 -> TRUE | BK12: =AL12=L12 -> TRUE | BL12: =AM12=M12 -> TRUE | ... BX12: =AY12=Y12 -> TRUE
B13: 鉱 業 | C13: 7 | D13: 鉱業 | E13: C | F13: 1.4503428 | G13: 9232.0248 | H13: 6.2192768 | I13: 0.25489769 | J13: 0.30883169 | K13: 12.319675 | L13: 0 | M13: 1.8520182 | N13: 0 | O13: 0 | P13: 0 | Q13: 0.17013792 | R13: 4.0053667 | S13: 88.36898 | T13: 199.69441 | U13: 208.02175 | V13: 0 | W13: 0 | X13: 11.120047 | Y13: 9765.8105 | AB13: 鉱 業 | AC13: 7 | AD13: 鉱業 | AE13: C | AF13: 1.4503428 | AG13: 9232.0248 | AH13: 6.2192768 | AI13: 0.25489769 | AJ13: 0.30883169 | AK13: 12.319675 | AL13: 0 | AM13: 1.8520182 | AN13: 0 | AO13: 0 | AP13: 0 | AQ13: 0.17013792 | AR13: 4.0053667 | AS13: 88.36898 | AT13: 199.69441 | AU13: 208.02175 | AV13: 0 | AW13: 0 | AX13: 11.120047 | AY13: 9765.8105 | BA13: 鉱 業 | BB13: 7 | BC13: 鉱業 | BD13: C | BE13: =AF13=F13 -> TRUE | BF13: =AG13=G13 -> TRUE | BG13: =AH13=H13 -> TRUE | BH13: =AI13=I13 -> TRUE | BI13: =AJ13=J13 -> TRUE | BJ13: =AK13=K13 -> TRUE | BK13: =AL13=L13 -> TRUE | BL13: =AM13=M13 -> TRUE | ... BX13: =AY13=Y13 -> TRUE
B14: 建設業 | C14: 8 | D14: 建設業 | E14: D | F14: 34.984319 | G14: 10639.887 | H14: 128.25614 | I14: 12.833919 | J14: 19.267416 | K14: 1374.9297 | L14: 286.21014 | M14: 5501.4849 | N14: 69.738277 | O14: 0 | P14: 0 | Q14: 1.1451776 | R14: 992.40428 | S14: 2349.7556 | T14: 67.885557 | U14: 60364.117 | V14: 0 | W14: 0 | X14: 2.3252425 | Y14: 81845.225 | AB14: 建設業 | AC14: 8 | AD14: 建設業 | AE14: D | AF14: 34.984319 | AG14: 10639.887 | AH14: 128.25614 | AI14: 12.833919 | AJ14: 19.267416 | AK14: 1374.9297 | AL14: 286.21014 | AM14: 5501.4849 | AN14: 69.738277 | AO14: 0 | AP14: 0 | AQ14: 1.1451776 | AR14: 992.40428 | AS14: 2349.7556 | AT14: 67.885557 | AU14: 60364.117 | AV14: 0 | AW14: 0 | AX14: 2.3252425 | AY14: 81845.225 | BA14: 建設業 | BB14: 8 | BC14: 建設業 | BD14: D | BE14: =AF14=F14 -> TRUE | BF14: =AG14=G14 -> TRUE | BG14: =AH14=H14 -> TRUE | BH14: =AI14=I14 -> TRUE | BI14: =AJ14=J14 -> TRUE | BJ14: =AK14=K14 -> TRUE | BK14: =AL14=L14 -> TRUE | BL14: =AM14=M14 -> TRUE | ... BX14: =AY14=Y14 -> TRUE
B15: 製造業 | D15: 製造業大分類 | E15: E | F15: 895.10819 | G15: 56008.296 | H15: 2255.3534 | I15: 2725.014 | J15: 2514.376 | K15: 3238.5621 | L15: 648.68374 | M15: 1155.2204 | N15: 19.969742 | O15: 2557.1544 | P15: 36.481838 | Q15: 19.102345 | R15: 6882.5595 | S15: 4403.0556 | T15: 14842.664 | U15: 2625.9474 | V15: 0 | W15: 0 | X15: 8659.5383 | Y15: 109487.09 | AB15: 製造業 | AD15: 製造業大分類 | AE15: E | AF15: 895.10819 | AG15: 56008.296 | AH15: 2255.3534 | AI15: 2725.014 | AJ15: 2514.376 | AK15: 3238.5621 | AL15: 648.68374 | AM15: 1155.2204 | AN15: 19.969742 | AO15: 2557.1544 | AP15: 36.481838 | AQ15: 19.102345 | AR15: 6882.5595 | AS15: 4403.0556 | AT15: 14842.664 | AU15: 2625.9474 | AV15: 0 | AW15: 0 | AX15: 8659.5383 | AY15: 109487.09 | BA15: 製造業 | BC15: 製造業大分類 | BD15: E | BE15: =AF15=F15 -> TRUE | BF15: =AG15=G15 -> TRUE | BG15: =AH15=H15 -> TRUE | BH15: =AI15=I15 -> TRUE | BI15: =AJ15=J15 -> TRUE | BJ15: =AK15=K15 -> TRUE | BK15: =AL15=L15 -> TRUE | BL15: =AM15=M15 -> TRUE | ... BX15: =AY15=Y15 -> TRUE
C16: 9 | D16: 食料品製造業 | E16: E9 | F16: 39.793579 | G16: 6264.984 | H16: 104.06946 | I16: 73.407535 | J16: 57.660285 | K16: 278.21725 | L16: 0 | M16: 15.916181 | N16: 0 | O16: 1703.3037 | P16: 36.481838 | Q16: 0.0572089 | R16: 160.31512 | S16: 26.050563 | T16: 151.05807 | U16: 8.8376031 | V16: 0 | W16: 0 | X16: 149.02614 | Y16: 9069.1785 | AC16: 9 | AD16: 食料品製造業 | AE16: E9 | AF16: 39.793579 | AG16: 6264.984 | AH16: 104.06946 | AI16: 73.407535 | AJ16: 57.660285 | AK16: 278.21725 | AL16: 0 | AM16: 15.916181 | AN16: 0 | AO16: 1703.3037 | AP16: 36.481838 | AQ16: 0.0572089 | AR16: 160.31512 | AS16: 26.050563 | AT16: 151.05807 | AU16: 8.8376031 | AV16: 0 | AW16: 0 | AX16: 149.02614 | AY16: 9069.1785 | BB16: 9 | BC16: 食料品製造業 | BD16: E9 | BE16: =AF16=F16 -> TRUE | BF16: =AG16=G16 -> TRUE | BG16: =AH16=H16 -> TRUE | BH16: =AI16=I16 -> TRUE | BI16: =AJ16=J16 -> TRUE | BJ16: =AK16=K16 -> TRUE | BK16: =AL16=L16 -> TRUE | BL16: =AM16=M16 -> TRUE | ... BX16: =AY16=Y16 -> TRUE
C17: 10 | D17: 飲料・たばこ・飼料製造業 | E17: E10 | F17: 1.4036147 | G17: 976.59813 | H17: 9.5032484 | I17: 942.20061 | J17: 8.8335323 | K17: 31.103069 | L17: 0 | M17: 5.6789117 | N17: 0 | O17: 764.48756 | P17: 0 | Q17: 0.012349415 | R17: 27.826479 | S17: 17.942355 | T17: 21.766528 | U17: 1.4399484 | V17: 0 | W17: 0 | X17: 21.093505 | Y17: 2829.8898 | AC17: 10 | AD17: 飲料・たばこ・飼料製造業 | AE17: E10 | AF17: 1.4036147 | AG17: 976.59813 | AH17: 9.5032484 | AI17: 942.20061 | AJ17: 8.8335323 | AK17: 31.103069 | AL17: 0 | AM17: 5.6789117 | AN17: 0 | AO17: 764.48756 | AP17: 0 | AQ17: 0.012349415 | AR17: 27.826479 | AS17: 17.942355 | AT17: 21.766528 | AU17: 1.4399484 | AV17: 0 | AW17: 0 | AX17: 21.093505 | AY17: 2829.8898 | BB17: 10 | BC17: 飲料・たばこ・飼料製造業 | BD17: E10 | BE17: =AF17=F17 -> TRUE | BF17: =AG17=G17 -> TRUE | BG17: =AH17=H17 -> TRUE | BH17: =AI17=I17 -> TRUE | BI17: =AJ17=J17 -> TRUE | BJ17: =AK17=K17 -> TRUE | BK17: =AL17=L17 -> TRUE | BL17: =AM17=M17 -> TRUE | ... BX17: =AY17=Y17 -> TRUE
C18: 11 | D18: 繊維工業 | E18: E11 | F18: 52.072654 | G18: 552.09791 | H18: 13.933543 | I18: 10.10057 | J18: 3.4188023 | K18: 102.16569 | L18: 0 | M18: 2.0091571 | N18: 19.969742 | O18: 0 | P18: 0 | Q18: 0.056806437 | R18: 5.0547593 | S18: 0.47040665 | T18: 0.17264971 | U18: 0.7312776 | V18: 0 | W18: 0 | X18: 31.601061 | Y18: 793.85502 | AC18: 11 | AD18: 繊維工業 | AE18: E11 | AF18: 52.072654 | AG18: 552.09791 | AH18: 13.933543 | AI18: 10.10057 | AJ18: 3.4188023 | AK18: 102.16569 | AL18: 0 | AM18: 2.0091571 | AN18: 19.969742 | AO18: 0 | AP18: 0 | AQ18: 0.056806437 | AR18: 5.0547593 | AS18: 0.47040665 | AT18: 0.17264971 | AU18: 0.7312776 | AV18: 0 | AW18: 0 | AX18: 31.601061 | AY18: 793.85502 | BB18: 11 | BC18: 繊維工業 | BD18: E11 | BE18: =AF18=F18 -> TRUE | BF18: =AG18=G18 -> TRUE | BG18: =AH18=H18 -> TRUE | BH18: =AI18=I18 -> TRUE | BI18: =AJ18=J18 -> TRUE | BJ18: =AK18=K18 -> TRUE | BK18: =AL18=L18 -> TRUE | BL18: =AM18=M18 -> TRUE | ... BX18: =AY18=Y18 -> TRUE
C19: 12 | D19: 木材・木製品製造業 | E19: E12 | F19: 32.977385 | G19: 13.777736 | H19: 2.2151405 | I19: 0.63859518 | J19: 0.66712523 | K19: 21.128214 | L19: 0 | M19: 602.46222 | N19: 0 | O19: 0 | P19: 0 | Q19: 0.0016105125 | R19: 13.645775 | S19: 23.780951 | T19: 2.9741851 | U19: 5.7126285 | V19: 0 | W19: 0 | X19: 20.280267 | Y19: 740.26183 | AC19: 12 | AD19: 木材・木製品製造業 | AE19: E12 | AF19: 32.977385 | AG19: 13.777736 | AH19: 2.2151405 | AI19: 0.63859518 | AJ19: 0.66712523 | AK19: 21.128214 | AL19: 0 | AM19: 602.46222 | AN19: 0 | AO19: 0 | AP19: 0 | AQ19: 0.0016105125 | AR19: 13.645775 | AS19: 23.780951 | AT19: 2.9741851 | AU19: 5.7126285 | AV19: 0 | AW19: 0 | AX19: 20.280267 | AY19: 740.26183 | BB19: 12 | BC19: 木材・木製品製造業 | BD19: E12 | BE19: =AF19=F19 -> TRUE | BF19: =AG19=G19 -> TRUE | BG19: =AH19=H19 -> TRUE | BH19: =AI19=I19 -> TRUE | BI19: =AJ19=J19 -> TRUE | BJ19: =AK19=K19 -> TRUE | BK19: =AL19=L19 -> TRUE | BL19: =AM19=M19 -> TRUE | ... BX19: =AY19=Y19 -> TRUE
C20: 13 | D20: 家具・装備品製造業 | E20: E13 | F20: 0.45336607 | G20: 9.7160392 | H20: 2.3582994 | I20: 0.75675577 | J20: 1.4724698 | K20: 25.160549 | L20: 0 | M20: 135.96622 | N20: 0 | O20: 0 | P20: 0 | Q20: 0.0017515647 | R20: 14.944949 | S20: 4.839881 | T20: 2.3511341 | U20: 0.4402461 | V20: 0 | W20: 0 | X20: 1.8048291 | Y20: 200.26649 | AC20: 13 | AD20: 家具・装備品製造業 | AE20: E13 | AF20: 0.45336607 | AG20: 9.7160392 | AH20: 2.3582994 | AI20: 0.75675577 | AJ20: 1.4724698 | AK20: 25.160549 | AL20: 0 | AM20: 135.96622 | AN20: 0 | AO20: 0 | AP20: 0 | AQ20: 0.0017515647 | AR20: 14.944949 | AS20: 4.839881 | AT20: 2.3511341 | AU20: 0.4402461 | AV20: 0 | AW20: 0 | AX20: 1.8048291 | AY20: 200.26649 | BB20: 13 | BC20: 家具・装備品製造業 | BD20: E13 | BE20: =AF20=F20 -> TRUE | BF20: =AG20=G20 -> TRUE | BG20: =AH20=H20 -> TRUE | BH20: =AI20=I20 -> TRUE | BI20: =AJ20=J20 -> TRUE | BJ20: =AK20=K20 -> TRUE | BK20: =AL20=L20 -> TRUE | BL20: =AM20=M20 -> TRUE | ... BX20: =AY20=Y20 -> TRUE
C21: 14 | D21: パルプ・紙・紙加工品製造業 | E21: E14 | F21: 362.24822 | G21: 29379.472 | H21: 19.303287 | I21: 9.7540618 | J21: 15.740858 | K21: 431.82385 | L21: 411.03902 | M21: 50.921337 | N21: 0 | O21: 0 | P21: 0 | Q21: 0.033487325 | R21: 105.41379 | S21: 11.360831 | T21: 75.452903 | U21: 7.1075878 | V21: 0 | W21: 0 | X21: 880.86646 | Y21: 31760.538 | AC21: 14 | AD21: パルプ・紙・紙加工品製造業 | AE21: E14 | AF21: 362.24822 | AG21: 29379.472 | AH21: 19.303287 | AI21: 9.7540618 | AJ21: 15.740858 | AK21: 431.82385 | AL21: 411.03902 | AM21: 50.921337 | AN21: 0 | AO21: 0 | AP21: 0 | AQ21: 0.033487325 | AR21: 105.41379 | AS21: 11.360831 | AT21: 75.452903 | AU21: 7.1075878 | AV21: 0 | AW21: 0 | AX21: 880.86646 | AY21: 31760.538 | BB21: 14 | BC21: パルプ・紙・紙加工品製造業 | BD21: E14 | BE21: =AF21=F21 -> TRUE | BF21: =AG21=G21 -> TRUE | BG21: =AH21=H21 -> TRUE | BH21: =AI21=I21 -> TRUE | BI21: =AJ21=J21 -> TRUE | BJ21: =AK21=K21 -> TRUE | BK21: =AL21=L21 -> TRUE | BL21: =AM21=M21 -> TRUE | ... BX21: =AY21=Y21 -> TRUE
C22: 15 | D22: 印刷・同関連業 | E22: E15 | F22: 0.79449694 | G22: 15.638606 | H22: 29.832853 | I22: 9.8458811 | J22: 19.290959 | K22: 113.93829 | L22: 209.64472 | M22: 2.3730228 | N22: 0 | O22: 0 | P22: 0 | Q22: 0.023310039 | R22: 25.619833 | S22: 0.82283871 | T22: 4.7527873 | U22: 0.78676013 | V22: 0 | W22: 0 | X22: 54.306277 | Y22: 487.67063 | AC22: 15 | AD22: 印刷・同関連業 | AE22: E15 | AF22: 0.79449694 | AG22: 15.638606 | AH22: 29.832853 | AI22: 9.8458811 | AJ22: 19.290959 | AK22: 113.93829 | AL22: 209.64472 | AM22: 2.3730228 | AN22: 0 | AO22: 0 | AP22: 0 | AQ22: 0.023310039 | AR22: 25.619833 | AS22: 0.82283871 | AT22: 4.7527873 | AU22: 0.78676013 | AV22: 0 | AW22: 0 | AX22: 54.306277 | AY22: 487.67063 | BB22: 15 | BC22: 印刷・同関連業 | BD22: E15 | BE22: =AF22=F22 -> TRUE | BF22: =AG22=G22 -> TRUE | BG22: =AH22=H22 -> TRUE | BH22: =AI22=I22 -> TRUE | BI22: =AJ22=J22 -> TRUE | BJ22: =AK22=K22 -> TRUE | BK22: =AL22=L22 -> TRUE | BL22: =AM22=M22 -> TRUE | ... BX22: =AY22=Y22 -> TRUE
C23: 16 | D23: 化学工業 | E23: E16 | F23: 187.00131 | G23: 6057.035 | H23: 642.03021 | I23: 390.12467 | J23: 946.05927 | K23: 307.2555 | L23: 0 | M23: 29.353325 | N23: 0 | O23: 71.363145 | P23: 0 | Q23: 0.14879159 | R23: 360.7141 | S23: 62.479124 | T23: 214.97116 | U23: 60.500322 | V23: 0 | W23: 0 | X23: 645.11207 | Y23: 9974.148 | AC23: 16 | AD23: 化学工業 | AE23: E16 | AF23: 187.00131 | AG23: 6057.035 | AH23: 642.03021 | AI23: 390.12467 | AJ23: 946.05927 | AK23: 307.2555 | AL23: 0 | AM23: 29.353325 | AN23: 0 | AO23: 71.363145 | AP23: 0 | AQ23: 0.14879159 | AR23: 360.7141 | AS23: 62.479124 | AT23: 214.97116 | AU23: 60.500322 | AV23: 0 | AW23: 0 | AX23: 645.11207 | AY23: 9974.148 | BB23: 16 | BC23: 化学工業 | BD23: E16 | BE23: =AF23=F23 -> TRUE | BF23: =AG23=G23 -> TRUE | BG23: =AH23=H23 -> TRUE | BH23: =AI23=I23 -> TRUE | BI23: =AJ23=J23 -> TRUE | BJ23: =AK23=K23 -> TRUE | BK23: =AL23=L23 -> TRUE | BL23: =AM23=M23 -> TRUE | ... BX23: =AY23=Y23 -> TRUE
C24: 17 | D24: 石油製品・石炭製品製造業 | E24: E17 | F24: 27.733921 | G24: 397.51693 | H24: 122.86959 | I24: 58.291216 | J24: 49.025995 | K24: 35.219073 | L24: 0 | M24: 3.6598099 | N24: 0 | O24: 0 | P24: 0 | Q24: 0.28769548 | R24: 73.270991 | S24: 32.523404 | T24: 71.778055 | U24: 393.58474 | V24: 0 | W24: 0 | X24: 109.12798 | Y24: 1374.8894 | AC24: 17 | AD24: 石油製品・石炭製品製造業 | AE24: E17 | AF24: 27.733921 | AG24: 397.51693 | AH24: 122.86959 | AI24: 58.291216 | AJ24: 49.025995 | AK24: 35.219073 | AL24: 0 | AM24: 3.6598099 | AN24: 0 | AO24: 0 | AP24: 0 | AQ24: 0.28769548 | AR24: 73.270991 | AS24: 32.523404 | AT24: 71.778055 | AU24: 393.58474 | AV24: 0 | AW24: 0 | AX24: 109.12798 | AY24: 1374.8894 | BB24: 17 | BC24: 石油製品・石炭製品製造業 | BD24: E17 | BE24: =AF24=F24 -> TRUE | BF24: =AG24=G24 -> TRUE | BG24: =AH24=H24 -> TRUE | BH24: =AI24=I24 -> TRUE | BI24: =AJ24=J24 -> TRUE | BJ24: =AK24=K24 -> TRUE | BK24: =AL24=L24 -> TRUE | BL24: =AM24=M24 -> TRUE | ... BX24: =AY24=Y24 -> TRUE
C25: 18 | D25: プラスチック製品製造業 | E25: E18 | F25: 9.9241003 | G25: 143.20768 | H25: 59.097737 | I25: 33.842509 | J25: 23.599969 | K25: 542.85358 | L25: 0 | M25: 15.127679 | N25: 0 | O25: 0 | P25: 0 | Q25: 0.12762426 | R25: 38.754112 | S25: 18.253304 | T25: 8.935397 | U25: 4.7974609 | V25: 0 | W25: 0 | X25: 20.852011 | Y25: 919.37316 | AC25: 18 | AD25: プラスチック製品製造業 | AE25: E18 | AF25: 9.9241003 | AG25: 143.20768 | AH25: 59.097737 | AI25: 33.842509 | AJ25: 23.599969 | AK25: 542.85358 | AL25: 0 | AM25: 15.127679 | AN25: 0 | AO25: 0 | AP25: 0 | AQ25: 0.12762426 | AR25: 38.754112 | AS25: 18.253304 | AT25: 8.935397 | AU25: 4.7974609 | AV25: 0 | AW25: 0 | AX25: 20.852011 | AY25: 919.37316 | BB25: 18 | BC25: プラスチック製品製造業 | BD25: E18 | BE25: =AF25=F25 -> TRUE | BF25: =AG25=G25 -> TRUE | BG25: =AH25=H25 -> TRUE | BH25: =AI25=I25 -> TRUE | BI25: =AJ25=J25 -> TRUE | BJ25: =AK25=K25 -> TRUE | BK25: =AL25=L25 -> TRUE | BL25: =AM25=M25 -> TRUE | ... BX25: =AY25=Y25 -> TRUE
C26: 19 | D26: ゴム製品製造業 | E26: E19 | F26: 0.3707118 | G26: 44.228515 | H26: 10.003159 | I26: 0.356878 | J26: 1.7128455 | K26: 159.70805 | L26: 0 | M26: 3.5138311 | N26: 0 | O26: 0 | P26: 0 | Q26: 8.9738514 | R26: 9.7994656 | S26: 3.3169865 | T26: 0.87607896 | U26: 0.44373715 | V26: 0 | W26: 0 | X26: 0.82264815 | Y26: 244.12675 | AC26: 19 | AD26: ゴム製品製造業 | AE26: E19 | AF26: 0.3707118 | AG26: 44.228515 | AH26: 10.003159 | AI26: 0.356878 | AJ26: 1.7128455 | AK26: 159.70805 | AL26: 0 | AM26: 3.5138311 | AN26: 0 | AO26: 0 | AP26: 0 | AQ26: 8.9738514 | AR26: 9.7994656 | AS26: 3.3169865 | AT26: 0.87607896 | AU26: 0.44373715 | AV26: 0 | AW26: 0 | AX26: 0.82264815 | AY26: 244.12675 | BB26: 19 | BC26: ゴム製品製造業 | BD26: E19 | BE26: =AF26=F26 -> TRUE | BF26: =AG26=G26 -> TRUE | BG26: =AH26=H26 -> TRUE | BH26: =AI26=I26 -> TRUE | BI26: =AJ26=J26 -> TRUE | BJ26: =AK26=K26 -> TRUE | BK26: =AL26=L26 -> TRUE | BL26: =AM26=M26 -> TRUE | ... BX26: =AY26=Y26 -> TRUE
C27: 20 | D27: なめし革・同製品・毛皮製造業 | E27: E20 | F27: 0.0011401737 | G27: 27.387057 | H27: 0.27660418 | I27: 0.031166176 | J27: 0.03665177 | K27: 1.839686 | L27: 0 | M27: 0.29783121 | N27: 0 | O27: 0 | P27: 0 | Q27: 5.911974e-05 | R27: 0.35120721 | S27: 0.015535614 | T27: 0.33069284 | U27: 0.016788436 | V27: 0 | W27: 0 | X27: 0.30863016 | Y27: 30.89305 | AC27: 20 | AD27: なめし革・同製品・毛皮製造業 | AE27: E20 | AF27: 0.0011401737 | AG27: 27.387057 | AH27: 0.27660418 | AI27: 0.031166176 | AJ27: 0.03665177 | AK27: 1.839686 | AL27: 0 | AM27: 0.29783121 | AN27: 0 | AO27: 0 | AP27: 0 | AQ27: 5.911974e-05 | AR27: 0.35120721 | AS27: 0.015535614 | AT27: 0.33069284 | AU27: 0.016788436 | AV27: 0 | AW27: 0 | AX27: 0.30863016 | AY27: 30.89305 | BB27: 20 | BC27: なめし革・同製品・毛皮製造業 | BD27: E20 | BE27: =AF27=F27 -> TRUE | BF27: =AG27=G27 -> TRUE | BG27: =AH27=H27 -> TRUE | BH27: =AI27=I27 -> TRUE | BI27: =AJ27=J27 -> TRUE | BJ27: =AK27=K27 -> TRUE | BK27: =AL27=L27 -> TRUE | BL27: =AM27=M27 -> TRUE | ... BX27: =AY27=Y27 -> TRUE
... C39: 32 | D39: その他の製造業 | E39: E32 | F39: 16.890203 | G39: 79.614037 | H39: 29.133291 | I39: 8.5846327 | J39: 19.088428 | K39: 141.68496 | L39: 0 | M39: 21.156502 | N39: 0 | O39: 0 | P39: 0 | Q39: 0.09164656 | R39: 22.195677 | S39: 47.041151 | T39: 26.441277 | U39: 23.286244 | V39: 0 | W39: 0 | X39: 155.81473 | Y39: 591.02278 | AC39: 32 | AD39: その他の製造業 | AE39: E32 | AF39: 16.890203 | AG39: 79.614037 | AH39: 29.133291 | AI39: 8.5846327 | AJ39: 19.088428 | AK39: 141.68496 | AL39: 0 | AM39: 21.156502 | AN39: 0 | AO39: 0 | AP39: 0 | AQ39: 0.09164656 | AR39: 22.195677 | AS39: 47.041151 | AT39: 26.441277 | AU39: 23.286244 | AV39: 0 | AW39: 0 | AX39: 155.81473 | AY39: 591.02278 | BB39: 32 | BC39: その他の製造業 | BD39: E32 | BE39: =AF39=F39 -> TRUE | BF39: =AG39=G39 -> TRUE | BG39: =AH39=H39 -> TRUE | BH39: =AI39=I39 -> TRUE | BI39: =AJ39=J39 -> TRUE | BJ39: =AK39=K39 -> TRUE | BK39: =AL39=L39 -> TRUE | BL39: =AM39=M39 -> TRUE | ... BX39: =AY39=Y39 -> TRUE
B40: 電気･ガス | D40: インフラ大分類 | E40: F | F40: 928.67574 | G40: 90269.87 | H40: 8.0201181 | I40: 10.704558 | J40: 7.630402 | K40: 12.153596 | L40: 0 | M40: 1.6321845 | N40: 0 | O40: 0 | P40: 0 | Q40: 0.013779743 | R40: 11.89596 | S40: 46.223867 | T40: 7.7275489 | U40: 207.657 | V40: 0 | W40: 0 | X40: 9030.6128 | Y40: 100542.82 | AB40: 電気･ガス | AD40: インフラ大分類 | AE40: F | AF40: 928.67574 | AG40: 90269.87 | AH40: 8.0201181 | AI40: 10.704558 | AJ40: 7.630402 | AK40: 12.153596 | AL40: 0 | AM40: 1.6321845 | AN40: 0 | AO40: 0 | AP40: 0 | AQ40: 0.013779743 | AR40: 11.89596 | AS40: 46.223867 | AT40: 7.7275489 | AU40: 207.657 | AV40: 0 | AW40: 0 | AX40: 9030.6128 | AY40: 100542.82 | BA40: 電気･ガス | BC40: インフラ大分類 | BD40: F | BE40: =AF40=F40 -> TRUE | BF40: =AG40=G40 -> TRUE | BG40: =AH40=H40 -> TRUE | BH40: =AI40=I40 -> TRUE | BI40: =AJ40=J40 -> TRUE | BJ40: =AK40=K40 -> TRUE | BK40: =AL40=L40 -> TRUE | BL40: =AM40=M40 -> TRUE | ... BX40: =AY40=Y40 -> TRUE
B41: ･熱供給･ | C41: 33 | D41: 電気業 | E41: F33 | F41: 897.35961 | G41: 1025.5747 | H41: 4.8115661 | I41: 0.67987987 | J41: 4.8792508 | K41: 9.9822858 | L41: 0 | M41: 1.3244459 | N41: 0 | O41: 0 | P41: 0 | Q41: 0.0087012112 | R41: 8.1182158 | S41: 38.841755 | T41: 4.9724787 | U41: 141.51278 | V41: 0 | W41: 0 | X41: 8990.1756 | Y41: 11128.241 | AB41: ･熱供給･ | AC41: 33 | AD41: 電気業 | AE41: F33 | AF41: 897.35961 | AG41: 1025.5747 | AH41: 4.8115661 | AI41: 0.67987987 | AJ41: 4.8792508 | AK41: 9.9822858 | AL41: 0 | AM41: 1.3244459 | AN41: 0 | AO41: 0 | AP41: 0 | AQ41: 0.0087012112 | AR41: 8.1182158 | AS41: 38.841755 | AT41: 4.9724787 | AU41: 141.51278 | AV41: 0 | AW41: 0 | AX41: 8990.1756 | AY41: 11128.241 | BA41: ･熱供給･ | BB41: 33 | BC41: 電気業 | BD41: F33 | BE41: =AF41=F41 -> TRUE | BF41: =AG41=G41 -> TRUE | BG41: =AH41=H41 -> TRUE | BH41: =AI41=I41 -> TRUE | BI41: =AJ41=J41 -> TRUE | BJ41: =AK41=K41 -> TRUE | BK41: =AL41=L41 -> TRUE | BL41: =AM41=M41 -> TRUE | ... BX41: =AY41=Y41 -> TRUE
B42: 水道業 | C42: 34 | D42: ガス業 | E42: F34 | F42: 1.6066376e-05 | G42: 6.1885375 | H42: 0.54171253 | I42: 0.003109814 | J42: 0.012278491 | K42: 0.93241286 | L42: 0 | M42: 0.11719013 | N42: 0 | O42: 0 | P42: 0 | Q42: 0.0029739144 | R42: 2.3927614 | S42: 0.72153886 | T42: 8.2035634e-05 | U42: 9.6056298 | V42: 0 | W42: 0 | X42: 0.00061184429 | Y42: 20.518855 | AB42: 水道業 | AC42: 34 | AD42: ガス業 | AE42: F34 | AF42: 1.6066376e-05 | AG42: 6.1885375 | AH42: 0.54171253 | AI42: 0.003109814 | AJ42: 0.012278491 | AK42: 0.93241286 | AL42: 0 | AM42: 0.11719013 | AN42: 0 | AO42: 0 | AP42: 0 | AQ42: 0.0029739144 | AR42: 2.3927614 | AS42: 0.72153886 | AT42: 8.2035634e-05 | AU42: 9.6056298 | AV42: 0 | AW42: 0 | AX42: 0.00061184429 | AY42: 20.518855 | BA42: 水道業 | BB42: 34 | BC42: ガス業 | BD42: F34 | BE42: =AF42=F42 -> TRUE | BF42: =AG42=G42 -> TRUE | BG42: =AH42=H42 -> TRUE | BH42: =AI42=I42 -> TRUE | BI42: =AJ42=J42 -> TRUE | BJ42: =AK42=K42 -> TRUE | BK42: =AL42=L42 -> TRUE | BL42: =AM42=M42 -> TRUE | ... BX42: =AY42=Y42 -> TRUE
C43: 35 | D43: 熱供給業 | E43: F35 | F43: 3.2039147 | G43: 611.81089 | H43: 0.012751668 | I43: 0.032754584 | J43: 0.0061129439 | K43: 0.014741855 | L43: 0 | M43: 0.011005856 | N43: 0 | O43: 0 | P43: 0 | Q43: 5.5596514e-08 | R43: 0.042379051 | S43: 0.16006393 | T43: 7.3184257e-05 | U43: 0.099287394 | V43: 0 | W43: 0 | X43: 0.84695052 | Y43: 616.24093 | AC43: 35 | AD43: 熱供給業 | AE43: F35 | AF43: 3.2039147 | AG43: 611.81089 | AH43: 0.012751668 | AI43: 0.032754584 | AJ43: 0.0061129439 | AK43: 0.014741855 | AL43: 0 | AM43: 0.011005856 | AN43: 0 | AO43: 0 | AP43: 0 | AQ43: 5.5596514e-08 | AR43: 0.042379051 | AS43: 0.16006393 | AT43: 7.3184257e-05 | AU43: 0.099287394 | AV43: 0 | AW43: 0 | AX43: 0.84695052 | AY43: 616.24093 | BB43: 35 | BC43: 熱供給業 | BD43: F35 | BE43: =AF43=F43 -> TRUE | BF43: =AG43=G43 -> TRUE | BG43: =AH43=H43 -> TRUE | BH43: =AI43=I43 -> TRUE | BI43: =AJ43=J43 -> TRUE | BJ43: =AK43=K43 -> TRUE | BK43: =AL43=L43 -> TRUE | BL43: =AM43=M43 -> TRUE | ... BX43: =AY43=Y43 -> TRUE
C44: 36 | D44: 上水道業 | E44: F361 | F44: 0.29390879 | G44: 10558.853 | H44: 0.41148455 | I44: 1.557953 | J44: 0.95216664 | K44: 0.87330176 | L44: 0 | M44: 0.01484679 | N44: 0 | O44: 0 | P44: 0 | Q44: 0.00066621831 | R44: 1.0943835 | S44: 2.1270681 | T44: 0.86874577 | U44: 36.954636 | V44: 0 | W44: 0 | X44: 6.6538004 | Y44: 10610.656 | AC44: 36 | AD44: 上水道業 | AE44: F361 | AF44: 0.29390879 | AG44: 10558.853 | AH44: 0.41148455 | AI44: 1.557953 | AJ44: 0.95216664 | AK44: 0.87330176 | AL44: 0 | AM44: 0.01484679 | AN44: 0 | AO44: 0 | AP44: 0 | AQ44: 0.00066621831 | AR44: 1.0943835 | AS44: 2.1270681 | AT44: 0.86874577 | AU44: 36.954636 | AV44: 0 | AW44: 0 | AX44: 6.6538004 | AY44: 10610.656 | BB44: 36 | BC44: 上水道業 | BD44: F361 | BE44: =AF44=F44 -> TRUE | BF44: =AG44=G44 -> TRUE | BG44: =AH44=H44 -> TRUE | BH44: =AI44=I44 -> TRUE | BI44: =AJ44=J44 -> TRUE | BJ44: =AK44=K44 -> TRUE | BK44: =AL44=L44 -> TRUE | BL44: =AM44=M44 -> TRUE | ... BX44: =AY44=Y44 -> TRUE
C45: 37 | D45: 下水道業 | E45: F363 | F45: 27.818293 | G45: 78067.442 | H45: 2.2426032 | I45: 8.4308607 | J45: 1.7805932 | K45: 0.3508542 | L45: 0 | M45: 0.16469579 | N45: 0 | O45: 0 | P45: 0 | Q45: 0.001438344 | R45: 0.24822067 | S45: 4.3734409 | T45: 1.8861692 | U45: 19.484671 | V45: 0 | W45: 0 | X45: 32.93588 | Y45: 78167.16 | AC45: 37 | AD45: 下水道業 | AE45: F363 | AF45: 27.818293 | AG45: 78067.442 | AH45: 2.2426032 | AI45: 8.4308607 | AJ45: 1.7805932 | AK45: 0.3508542 | AL45: 0 | AM45: 0.16469579 | AN45: 0 | AO45: 0 | AP45: 0 | AQ45: 0.001438344 | AR45: 0.24822067 | AS45: 4.3734409 | AT45: 1.8861692 | AU45: 19.484671 | AV45: 0 | AW45: 0 | AX45: 32.93588 | AY45: 78167.16 | BB45: 37 | BC45: 下水道業 | BD45: F363 | BE45: =AF45=F45 -> TRUE | BF45: =AG45=G45 -> TRUE | BG45: =AH45=H45 -> TRUE | BH45: =AI45=I45 -> TRUE | BI45: =AJ45=J45 -> TRUE | BJ45: =AK45=K45 -> TRUE | BK45: =AL45=L45 -> TRUE | BL45: =AM45=M45 -> TRUE | ... BX45: =AY45=Y45 -> TRUE
B46: 情報通信業 | D46: 情報大分類 | E46: G | F46: 0.025574897 | G46: 124.25861 | H46: 2.9557443 | I46: 0.86333398 | J46: 2.3881889 | K46: 12.287399 | L46: 2.7407656 | M46: 1.1458089 | N46: 0 | O46: 0 | P46: 0 | Q46: 0.0010246992 | R46: 12.869411 | S46: 11.501123 | T46: 0.34627071 | U46: 83.083069 | V46: 0 | W46: 0 | X46: 0.00020403289 | Y46: 254.46653 | AB46: 情報通信業 | AD46: 情報大分類 | AE46: G | AF46: 0.025574897 | AG46: 124.25861 | AH46: 2.9557443 | AI46: 0.86333398 | AJ46: 2.3881889 | AK46: 12.287399 | AL46: 2.7407656 | AM46: 1.1458089 | AN46: 0 | AO46: 0 | AP46: 0 | AQ46: 0.0010246992 | AR46: 12.869411 | AS46: 11.501123 | AT46: 0.34627071 | AU46: 83.083069 | AV46: 0 | AW46: 0 | AX46: 0.00020403289 | AY46: 254.46653 | BA46: 情報通信業 | BC46: 情報大分類 | BD46: G | BE46: =AF46=F46 -> TRUE | BF46: =AG46=G46 -> TRUE | BG46: =AH46=H46 -> TRUE | BH46: =AI46=I46 -> TRUE | BI46: =AJ46=J46 -> TRUE | BJ46: =AK46=K46 -> TRUE | BK46: =AL46=L46 -> TRUE | BL46: =AM46=M46 -> TRUE | ... BX46: =AY46=Y46 -> TRUE
C47: 38 | D47: 通信業 | E47: G37 | F47: 0 | G47: 0.0029709706 | H47: 0.019785795 | I47: 0 | J47: 0 | K47: 3.1189583 | L47: 0 | M47: 0 | N47: 0 | O47: 0 | P47: 0 | Q47: 0 | R47: 4.6553081 | S47: 0.15513924 | T47: 0 | U47: 43.058364 | V47: 0 | W47: 0 | X47: 0 | Y47: 51.010526 | AC47: 38 | AD47: 通信業 | AE47: G37 | AF47: 0 | AG47: 0.0029709706 | AH47: 0.019785795 | AI47: 0 | AJ47: 0 | AK47: 3.1189583 | AL47: 0 | AM47: 0 | AN47: 0 | AO47: 0 | AP47: 0 | AQ47: 0 | AR47: 4.6553081 | AS47: 0.15513924 | AT47: 0 | AU47: 43.058364 | AV47: 0 | AW47: 0 | AX47: 0 | AY47: 51.010526 | BB47: 38 | BC47: 通信業 | BD47: G37 | BE47: =AF47=F47 -> TRUE | BF47: =AG47=G47 -> TRUE | BG47: =AH47=H47 -> TRUE | BH47: =AI47=I47 -> TRUE | BI47: =AJ47=J47 -> TRUE | BJ47: =AK47=K47 -> TRUE | BK47: =AL47=L47 -> TRUE | BL47: =AM47=M47 -> TRUE | ... BX47: =AY47=Y47 -> TRUE
C48: 39 | D48: 放送業 | E48: G38 | F48: 0 | G48: 16.727861 | H48: 0 | I48: 0 | J48: 0.0013231187 | K48: 4.3458937 | L48: 0 | M48: 1.1236153 | N48: 0 | O48: 0 | P48: 0 | Q48: 0 | R48: 4.0707864 | S48: 10.065945 | T48: 0 | U48: 40.024706 | V48: 0 | W48: 0 | X48: 0 | Y48: 76.36013 | AC48: 39 | AD48: 放送業 | AE48: G38 | AF48: 0 | AG48: 16.727861 | AH48: 0 | AI48: 0 | AJ48: 0.0013231187 | AK48: 4.3458937 | AL48: 0 | AM48: 1.1236153 | AN48: 0 | AO48: 0 | AP48: 0 | AQ48: 0 | AR48: 4.0707864 | AS48: 10.065945 | AT48: 0 | AU48: 40.024706 | AV48: 0 | AW48: 0 | AX48: 0 | AY48: 76.36013 | BB48: 39 | BC48: 放送業 | BD48: G38 | BE48: =AF48=F48 -> TRUE | BF48: =AG48=G48 -> TRUE | BG48: =AH48=H48 -> TRUE | BH48: =AI48=I48 -> TRUE | BI48: =AJ48=J48 -> TRUE | BJ48: =AK48=K48 -> TRUE | BK48: =AL48=L48 -> TRUE | BL48: =AM48=M48 -> TRUE | ... BX48: =AY48=Y48 -> TRUE
C49: 40 | D49: 情報サービス業 | E49: G39 | F49: 0 | G49: 106.98454 | H49: 1.2693321 | I49: 0.0050017854 | J49: 0.45507681 | K49: 3.1891095 | L49: 0 | M49: 0.021718117 | N49: 0 | O49: 0 | P49: 0 | Q49: 0 | R49: 3.8070383 | S49: 0.93412528 | T49: 0 | U49: 0 | V49: 0 | W49: 0 | X49: 0 | Y49: 116.66594 | AC49: 40 | AD49: 情報サービス業 | AE49: G39 | AF49: 0 | AG49: 106.98454 | AH49: 1.2693321 | AI49: 0.0050017854 | AJ49: 0.45507681 | AK49: 3.1891095 | AL49: 0 | AM49: 0.021718117 | AN49: 0 | AO49: 0 | AP49: 0 | AQ49: 0 | AR49: 3.8070383 | AS49: 0.93412528 | AT49: 0 | AU49: 0 | AV49: 0 | AW49: 0 | AX49: 0 | AY49: 116.66594 | BB49: 40 | BC49: 情報サービス業 | BD49: G39 | BE49: =AF49=F49 -> TRUE | BF49: =AG49=G49 -> TRUE | BG49: =AH49=H49 -> TRUE | BH49: =AI49=I49 -> TRUE | BI49: =AJ49=J49 -> TRUE | BJ49: =AK49=K49 -> TRUE | BK49: =AL49=L49 -> TRUE | BL49: =AM49=M49 -> TRUE | ... BX49: =AY49=Y49 -> TRUE
C50: 41 | D50: インターネット付随サービス業 | E50: G40 | F50: 0 | G50: 0 | H50: 0.10403102 | I50: 0 | J50: 1.1382811 | K50: 0.3605455 | L50: 0 | M50: 0 | N50: 0 | O50: 0 | P50: 0 | Q50: 0 | R50: 0.0016032136 | S50: 0 | T50: 0 | U50: 0 | V50: 0 | W50: 0 | X50: 0 | Y50: 1.6044608 | AC50: 41 | AD50: インターネット付随サービス業 | AE50: G40 | AF50: 0 | AG50: 0 | AH50: 0.10403102 | AI50: 0 | AJ50: 1.1382811 | AK50: 0.3605455 | AL50: 0 | AM50: 0 | AN50: 0 | AO50: 0 | AP50: 0 | AQ50: 0 | AR50: 0.0016032136 | AS50: 0 | AT50: 0 | AU50: 0 | AV50: 0 | AW50: 0 | AX50: 0 | AY50: 1.6044608 | BB50: 41 | BC50: インターネット付随サービス業 | BD50: G40 | BE50: =AF50=F50 -> TRUE | BF50: =AG50=G50 -> TRUE | BG50: =AH50=H50 -> TRUE | BH50: =AI50=I50 -> TRUE | BI50: =AJ50=J50 -> TRUE | BJ50: =AK50=K50 -> TRUE | BK50: =AL50=L50 -> TRUE | BL50: =AM50=M50 -> TRUE | ... BX50: =AY50=Y50 -> TRUE
C51: 42 | D51: 映像・音声・文字情報制作業 | E51: G41 | F51: 0 | G51: 0.54324529 | H51: 1.5625954 | I51: 0.8583322 | J51: 0.79350784 | K51: 1.2728916 | L51: 2.5868641 | M51: 0 | N51: 0 | O51: 0 | P51: 0 | Q51: 0 | R51: 0.33467505 | S51: 0.34591362 | T51: 0 | U51: 0 | V51: 0 | W51: 0 | X51: 0 | Y51: 8.2980251 | AC51: 42 | AD51: 映像・音声・文字情報制作業 | AE51: G41 | AF51: 0 | AG51: 0.54324529 | AH51: 1.5625954 | AI51: 0.8583322 | AJ51: 0.79350784 | AK51: 1.2728916 | AL51: 2.5868641 | AM51: 0 | AN51: 0 | AO51: 0 | AP51: 0 | AQ51: 0 | AR51: 0.33467505 | AS51: 0.34591362 | AT51: 0 | AU51: 0 | AV51: 0 | AW51: 0 | AX51: 0 | AY51: 8.2980251 | BB51: 42 | BC51: 映像・音声・文字情報制作業 | BD51: G41 | BE51: =AF51=F51 -> TRUE | BF51: =AG51=G51 -> TRUE | BG51: =AH51=H51 -> TRUE | BH51: =AI51=I51 -> TRUE | BI51: =AJ51=J51 -> TRUE | BJ51: =AK51=K51 -> TRUE | BK51: =AL51=L51 -> TRUE | BL51: =AM51=M51 -> TRUE | ... BX51: =AY51=Y51 -> TRUE
B52: 運輸業 | D52: 運輸大分類 | E52: H | F52: 1.8079679 | G52: 292.01028 | H52: 39.819335 | I52: 2.5660158 | J52: 5.173963 | K52: 207.2576 | L52: 0 | M52: 129.13329 | N52: 0 | O52: 0 | P52: 0 | Q52: 0.026075349 | R52: 64.982525 | S52: 27.933001 | T52: 2.78111 | U52: 97.835906 | V52: 0 | W52: 0 | X52: 0.20214678 | Y52: 871.52922 | AB52: 運輸業 | AD52: 運輸大分類 | AE52: H | AF52: 1.8079679 | AG52: 292.01028 | AH52: 39.819335 | AI52: 2.5660158 | AJ52: 5.173963 | AK52: 207.2576 | AL52: 0 | AM52: 129.13329 | AN52: 0 | AO52: 0 | AP52: 0 | AQ52: 0.026075349 | AR52: 64.982525 | AS52: 27.933001 | AT52: 2.78111 | AU52: 97.835906 | AV52: 0 | AW52: 0 | AX52: 0.20214678 | AY52: 871.52922 | BA52: 運輸業 | BC52: 運輸大分類 | BD52: H | BE52: =AF52=F52 -> TRUE | BF52: =AG52=G52 -> TRUE | BG52: =AH52=H52 -> TRUE | BH52: =AI52=I52 -> TRUE | BI52: =AJ52=J52 -> TRUE | BJ52: =AK52=K52 -> TRUE | BK52: =AL52=L52 -> TRUE | BL52: =AM52=M52 -> TRUE | ... BX52: =AY52=Y52 -> TRUE
C53: 43 | D53: 鉄道業 | E53: H42 | F53: 0.2786573 | G53: 193.31513 | H53: 2.7016482 | I53: 0.065377759 | J53: 0.62323567 | K53: 10.794357 | L53: 0 | M53: 4.7877817 | N53: 0 | O53: 0 | P53: 0 | Q53: 0.01436666 | R53: 16.170901 | S53: 2.7259007 | T53: 0.24543707 | U53: 2.7713507 | V53: 0 | W53: 0 | X53: 0 | Y53: 234.49414 | AC53: 43 | AD53: 鉄道業 | AE53: H42 | AF53: 0.2786573 | AG53: 193.31513 | AH53: 2.7016482 | AI53: 0.065377759 | AJ53: 0.62323567 | AK53: 10.794357 | AL53: 0 | AM53: 4.7877817 | AN53: 0 | AO53: 0 | AP53: 0 | AQ53: 0.01436666 | AR53: 16.170901 | AS53: 2.7259007 | AT53: 0.24543707 | AU53: 2.7713507 | AV53: 0 | AW53: 0 | AX53: 0 | AY53: 234.49414 | BB53: 43 | BC53: 鉄道業 | BD53: H42 | BE53: =AF53=F53 -> TRUE | BF53: =AG53=G53 -> TRUE | BG53: =AH53=H53 -> TRUE | BH53: =AI53=I53 -> TRUE | BI53: =AJ53=J53 -> TRUE | BJ53: =AK53=K53 -> TRUE | BK53: =AL53=L53 -> TRUE | BL53: =AM53=M53 -> TRUE | ... BX53: =AY53=Y53 -> TRUE
C54: 44 | D54: 道路旅客運送業 | E54: H43 | F54: 0 | G54: 8.1645577 | H54: 13.132224 | I54: 0 | J54: 0.63931418 | K54: 23.349935 | L54: 0 | M54: 0.024435245 | N54: 0 | O54: 0 | P54: 0 | Q54: 0.0078381032 | R54: 5.5913053 | S54: 0.78335354 | T54: 0 | U54: 0.19480418 | V54: 0 | W54: 0 | X54: 0 | Y54: 51.887767 | AC54: 44 | AD54: 道路旅客運送業 | AE54: H43 | AF54: 0 | AG54: 8.1645577 | AH54: 13.132224 | AI54: 0 | AJ54: 0.63931418 | AK54: 23.349935 | AL54: 0 | AM54: 0.024435245 | AN54: 0 | AO54: 0 | AP54: 0 | AQ54: 0.0078381032 | AR54: 5.5913053 | AS54: 0.78335354 | AT54: 0 | AU54: 0.19480418 | AV54: 0 | AW54: 0 | AX54: 0 | AY54: 51.887767 | BB54: 44 | BC54: 道路旅客運送業 | BD54: H43 | BE54: =AF54=F54 -> TRUE | BF54: =AG54=G54 -> TRUE | BG54: =AH54=H54 -> TRUE | BH54: =AI54=I54 -> TRUE | BI54: =AJ54=J54 -> TRUE | BJ54: =AK54=K54 -> TRUE | BK54: =AL54=L54 -> TRUE | BL54: =AM54=M54 -> TRUE | ... BX54: =AY54=Y54 -> TRUE
C55: 45 | D55: 道路貨物運送業 | E55: H44 | F55: 0 | G55: 29.565338 | H55: 22.497591 | I55: 1.4329277 | J55: 2.5950672 | K55: 138.0611 | L55: 0 | M55: 111.03235 | N55: 0 | O55: 0 | P55: 0 | Q55: 0.003752586 | R55: 34.408612 | S55: 20.93147 | T55: 0 | U55: 6.1113649 | V55: 0 | W55: 0 | X55: 0 | Y55: 366.63957 | AC55: 45 | AD55: 道路貨物運送業 | AE55: H44 | AF55: 0 | AG55: 29.565338 | AH55: 22.497591 | AI55: 1.4329277 | AJ55: 2.5950672 | AK55: 138.0611 | AL55: 0 | AM55: 111.03235 | AN55: 0 | AO55: 0 | AP55: 0 | AQ55: 0.003752586 | AR55: 34.408612 | AS55: 20.93147 | AT55: 0 | AU55: 6.1113649 | AV55: 0 | AW55: 0 | AX55: 0 | AY55: 366.63957 | BB55: 45 | BC55: 道路貨物運送業 | BD55: H44 | BE55: =AF55=F55 -> TRUE | BF55: =AG55=G55 -> TRUE | BG55: =AH55=H55 -> TRUE | BH55: =AI55=I55 -> TRUE | BI55: =AJ55=J55 -> TRUE | BJ55: =AK55=K55 -> TRUE | BK55: =AL55=L55 -> TRUE | BL55: =AM55=M55 -> TRUE | ... BX55: =AY55=Y55 -> TRUE
C56: 46 | D56: 上記以外の運輸通信業 | F56: 0.13235174 | G56: 60.965263 | H56: 1.4878723 | I56: 1.0677103 | J56: 1.3163459 | K56: 35.05221 | L56: 0 | M56: 13.288728 | N56: 0 | O56: 0 | P56: 0 | Q56: 0 | R56: 8.8117061 | S56: 3.4922767 | T56: 0 | U56: 88.758386 | V56: 0 | W56: 0 | X56: 0 | Y56: 214.37285 | AC56: 46 | AD56: 上記以外の運輸通信業 | AF56: 0.13235174 | AG56: 60.965263 | AH56: 1.4878723 | AI56: 1.0677103 | AJ56: 1.3163459 | AK56: 35.05221 | AL56: 0 | AM56: 13.288728 | AN56: 0 | AO56: 0 | AP56: 0 | AQ56: 0 | AR56: 8.8117061 | AS56: 3.4922767 | AT56: 0 | AU56: 88.758386 | AV56: 0 | AW56: 0 | AX56: 0 | AY56: 214.37285 | BB56: 46 | BC56: 上記以外の運輸通信業 | BE56: =AF56=F56 -> TRUE | BF56: =AG56=G56 -> TRUE | BG56: =AH56=H56 -> TRUE | BH56: =AI56=I56 -> TRUE | BI56: =AJ56=J56 -> TRUE | BJ56: =AK56=K56 -> TRUE | BK56: =AL56=L56 -> TRUE | BL56: =AM56=M56 -> TRUE | ... BX56: =AY56=Y56 -> TRUE
B57: 卸売・小売業 | D57: 卸・小売大分類 | E57: I | F57: 0.59144321 | G57: 286.30859 | H57: 221.11375 | I57: 4.5706022 | J57: 27.706206 | K57: 695.71241 | L57: 0 | M57: 75.2255 | N57: 0 | O57: 0 | P57: 0 | Q57: 1.0390174 | R57: 334.73671 | S57: 189.04769 | T57: 1.7794794 | U57: 245.19807 | V57: 0 | W57: 0 | X57: 0.005023475 | Y57: 2083.0345 | AB57: 卸売・小売業 | AD57: 卸・小売大分類 | AE57: I | AF57: 0.59144321 | AG57: 286.30859 | AH57: 221.11375 | AI57: 4.5706022 | AJ57: 27.706206 | AK57: 695.71241 | AL57: 0 | AM57: 75.2255 | AN57: 0 | AO57: 0 | AP57: 0 | AQ57: 1.0390174 | AR57: 334.73671 | AS57: 189.04769 | AT57: 1.7794794 | AU57: 245.19807 | AV57: 0 | AW57: 0 | AX57: 0.005023475 | AY57: 2083.0345 | BA57: 卸売・小売業 | BC57: 卸・小売大分類 | BD57: I | BE57: =AF57=F57 -> TRUE | BF57: =AG57=G57 -> TRUE | BG57: =AH57=H57 -> TRUE | BH57: =AI57=I57 -> TRUE | BI57: =AJ57=J57 -> TRUE | BJ57: =AK57=K57 -> TRUE | BK57: =AL57=L57 -> TRUE | BL57: =AM57=M57 -> TRUE | ... BX57: =AY57=Y57 -> TRUE
C58: 47 | D58: 各種商品卸売業 | E58: I49 | F58: 0 | G58: 8.9975393 | H58: 6.7246792 | I58: 0.01857764 | J58: 4.7772677 | K58: 37.719959 | L58: 0 | M58: 1.7383234 | N58: 0 | O58: 0 | P58: 0 | Q58: 0.043719173 | R58: 13.794802 | S58: 1.0069535 | T58: 0 | U58: 0.027727021 | V58: 0 | W58: 0 | X58: 0 | Y58: 74.849548 | AC58: 47 | AD58: 各種商品卸売業 | AE58: I49 | AF58: 0 | AG58: 8.9975393 | AH58: 6.7246792 | AI58: 0.01857764 | AJ58: 4.7772677 | AK58: 37.719959 | AL58: 0 | AM58: 1.7383234 | AN58: 0 | AO58: 0 | AP58: 0 | AQ58: 0.043719173 | AR58: 13.794802 | AS58: 1.0069535 | AT58: 0 | AU58: 0.027727021 | AV58: 0 | AW58: 0 | AX58: 0 | AY58: 74.849548 | BB58: 47 | BC58: 各種商品卸売業 | BD58: I49 | BE58: =AF58=F58 -> TRUE | BF58: =AG58=G58 -> TRUE | BG58: =AH58=H58 -> TRUE | BH58: =AI58=I58 -> TRUE | BI58: =AJ58=J58 -> TRUE | BJ58: =AK58=K58 -> TRUE | BK58: =AL58=L58 -> TRUE | BL58: =AM58=M58 -> TRUE | ... BX58: =AY58=Y58 -> TRUE
C59: 48 | D59: 木材・竹材卸売業 | E59: I5311 | F59: 0.0026986141 | G59: 1.1089912 | H59: 0.07078043 | I59: 0 | J59: 0 | K59: 18.094683 | L59: 0 | M59: 28.574646 | N59: 0 | O59: 0 | P59: 0 | Q59: 0.001807494 | R59: 9.1748816 | S59: 40.677917 | T59: 0 | U59: 70.318739 | V59: 0 | W59: 0 | X59: 0 | Y59: 168.02514 | AC59: 48 | AD59: 木材・竹材卸売業 | AE59: I5311 | AF59: 0.0026986141 | AG59: 1.1089912 | AH59: 0.07078043 | AI59: 0 | AJ59: 0 | AK59: 18.094683 | AL59: 0 | AM59: 28.574646 | AN59: 0 | AO59: 0 | AP59: 0 | AQ59: 0.001807494 | AR59: 9.1748816 | AS59: 40.677917 | AT59: 0 | AU59: 70.318739 | AV59: 0 | AW59: 0 | AX59: 0 | AY59: 168.02514 | BB59: 48 | BC59: 木材・竹材卸売業 | BD59: I5311 | BE59: =AF59=F59 -> TRUE | BF59: =AG59=G59 -> TRUE | BG59: =AH59=H59 -> TRUE | BH59: =AI59=I59 -> TRUE | BI59: =AJ59=J59 -> TRUE | BJ59: =AK59=K59 -> TRUE | BK59: =AL59=L59 -> TRUE | BL59: =AM59=M59 -> TRUE | ... BX59: =AY59=Y59 -> TRUE
C60: 49 | D60: 各種商品小売業 | E60: I56 | F60: 0 | G60: 39.114097 | H60: 9.2848847 | I60: 0.00083281381 | J60: 0.45118666 | K60: 54.536789 | L60: 0 | M60: 10.074042 | N60: 0 | O60: 0 | P60: 0 | Q60: 0.00071817598 | R60: 8.9522252 | S60: 5.6606319 | T60: 0 | U60: 12.909988 | V60: 0 | W60: 0 | X60: 0 | Y60: 140.9854 | AC60: 49 | AD60: 各種商品小売業 | AE60: I56 | AF60: 0 | AG60: 39.114097 | AH60: 9.2848847 | AI60: 0.00083281381 | AJ60: 0.45118666 | AK60: 54.536789 | AL60: 0 | AM60: 10.074042 | AN60: 0 | AO60: 0 | AP60: 0 | AQ60: 0.00071817598 | AR60: 8.9522252 | AS60: 5.6606319 | AT60: 0 | AU60: 12.909988 | AV60: 0 | AW60: 0 | AX60: 0 | AY60: 140.9854 | BB60: 49 | BC60: 各種商品小売業 | BD60: I56 | BE60: =AF60=F60 -> TRUE | BF60: =AG60=G60 -> TRUE | BG60: =AH60=H60 -> TRUE | BH60: =AI60=I60 -> TRUE | BI60: =AJ60=J60 -> TRUE | BJ60: =AK60=K60 -> TRUE | BK60: =AL60=L60 -> TRUE | BL60: =AM60=M60 -> TRUE | ... BX60: =AY60=Y60 -> TRUE
C61: 50 | D61: 自動車小売業 | E61: I591 | F61: 0.26686248 | G61: 105.32301 | H61: 102.68008 | I61: 0.74217713 | J61: 15.965259 | K61: 256.07883 | L61: 0 | M61: 0.44692181 | N61: 0 | O61: 0 | P61: 0 | Q61: 0.51479135 | R61: 89.867271 | S61: 8.2774749 | T61: 0 | U61: 9.481088 | V61: 0 | W61: 0 | X61: 0 | Y61: 589.64376 | AC61: 50 | AD61: 自動車小売業 | AE61: I591 | AF61: 0.26686248 | AG61: 105.32301 | AH61: 102.68008 | AI61: 0.74217713 | AJ61: 15.965259 | AK61: 256.07883 | AL61: 0 | AM61: 0.44692181 | AN61: 0 | AO61: 0 | AP61: 0 | AQ61: 0.51479135 | AR61: 89.867271 | AS61: 8.2774749 | AT61: 0 | AU61: 9.481088 | AV61: 0 | AW61: 0 | AX61: 0 | AY61: 589.64376 | BB61: 50 | BC61: 自動車小売業 | BD61: I591 | BE61: =AF61=F61 -> TRUE | BF61: =AG61=G61 -> TRUE | BG61: =AH61=H61 -> TRUE | BH61: =AI61=I61 -> TRUE | BI61: =AJ61=J61 -> TRUE | BJ61: =AK61=K61 -> TRUE | BK61: =AL61=L61 -> TRUE | BL61: =AM61=M61 -> TRUE | ... BX61: =AY61=Y61 -> TRUE
C62: 51 | D62: 機械器具小売業 | E62: I593 | F62: 0.0095669487 | G62: 13.575478 | H62: 12.576213 | I62: 0.0078133636 | J62: 0.88897945 | K62: 57.208572 | L62: 0 | M62: 1.5655042 | N62: 0 | O62: 0 | P62: 0 | Q62: 0.45860357 | R62: 30.969548 | S62: 3.8564623 | T62: 0 | U62: 23.811788 | V62: 0 | W62: 0 | X62: 0 | Y62: 144.92853 | AC62: 51 | AD62: 機械器具小売業 | AE62: I593 | AF62: 0.0095669487 | AG62: 13.575478 | AH62: 12.576213 | AI62: 0.0078133636 | AJ62: 0.88897945 | AK62: 57.208572 | AL62: 0 | AM62: 1.5655042 | AN62: 0 | AO62: 0 | AP62: 0 | AQ62: 0.45860357 | AR62: 30.969548 | AS62: 3.8564623 | AT62: 0 | AU62: 23.811788 | AV62: 0 | AW62: 0 | AX62: 0 | AY62: 144.92853 | BB62: 51 | BC62: 機械器具小売業 | BD62: I593 | BE62: =AF62=F62 -> TRUE | BF62: =AG62=G62 -> TRUE | BG62: =AH62=H62 -> TRUE | BH62: =AI62=I62 -> TRUE | BI62: =AJ62=J62 -> TRUE | BJ62: =AK62=K62 -> TRUE | BK62: =AL62=L62 -> TRUE | BL62: =AM62=M62 -> TRUE | ... BX62: =AY62=Y62 -> TRUE
C63: 52 | D63: 家具・建具・畳小売業 | E63: I601 | F63: 0.14561732 | G63: 4.679715 | H63: 0.012962369 | I63: 0 | J63: 0 | K63: 6.8431236 | L63: 0 | M63: 1.6337084 | N63: 0 | O63: 0 | P63: 0 | Q63: 0 | R63: 0.71340428 | S63: 2.8077923 | T63: 0 | U63: 2.8347315 | V63: 0 | W63: 0 | X63: 0 | Y63: 19.671055 | AC63: 52 | AD63: 家具・建具・畳小売業 | AE63: I601 | AF63: 0.14561732 | AG63: 4.679715 | AH63: 0.012962369 | AI63: 0 | AJ63: 0 | AK63: 6.8431236 | AL63: 0 | AM63: 1.6337084 | AN63: 0 | AO63: 0 | AP63: 0 | AQ63: 0 | AR63: 0.71340428 | AS63: 2.8077923 | AT63: 0 | AU63: 2.8347315 | AV63: 0 | AW63: 0 | AX63: 0 | AY63: 19.671055 | BB63: 52 | BC63: 家具・建具・畳小売業 | BD63: I601 | BE63: =AF63=F63 -> TRUE | BF63: =AG63=G63 -> TRUE | BG63: =AH63=H63 -> TRUE | BH63: =AI63=I63 -> TRUE | BI63: =AJ63=J63 -> TRUE | BJ63: =AK63=K63 -> TRUE | BK63: =AL63=L63 -> TRUE | BL63: =AM63=M63 -> TRUE | ... BX63: =AY63=Y63 -> TRUE
C64: 53 | D64: じゅう器小売業 | E64: I602 | F64: 0 | G64: 0 | H64: 0.0063565915 | I64: 0 | J64: 0 | K64: 1.7026293 | L64: 0 | M64: 1.2631854 | N64: 0 | O64: 0 | P64: 0 | Q64: 0 | R64: 0.14802395 | S64: 0.46510339 | T64: 0.21711472 | U64: 0.16225085 | V64: 0 | W64: 0 | X64: 0 | Y64: 3.9646642 | AC64: 53 | AD64: じゅう器小売業 | AE64: I602 | AF64: 0 | AG64: 0 | AH64: 0.0063565915 | AI64: 0 | AJ64: 0 | AK64: 1.7026293 | AL64: 0 | AM64: 1.2631854 | AN64: 0 | AO64: 0 | AP64: 0 | AQ64: 0 | AR64: 0.14802395 | AS64: 0.46510339 | AT64: 0.21711472 | AU64: 0.16225085 | AV64: 0 | AW64: 0 | AX64: 0 | AY64: 3.9646642 | BB64: 53 | BC64: じゅう器小売業 | BD64: I602 | BE64: =AF64=F64 -> TRUE | BF64: =AG64=G64 -> TRUE | BG64: =AH64=H64 -> TRUE | BH64: =AI64=I64 -> TRUE | BI64: =AJ64=J64 -> TRUE | BJ64: =AK64=K64 -> TRUE | BK64: =AL64=L64 -> TRUE | BL64: =AM64=M64 -> TRUE | ... BX64: =AY64=Y64 -> TRUE
C65: 54 | D65: 燃料小売業 | E65: I603 | F65: 0 | G65: 66.795757 | H65: 75.788986 | I65: 0.063038682 | J65: 0.051752104 | K65: 63.449428 | L65: 0 | M65: 5.7468244 | N65: 0 | O65: 0 | P65: 0 | Q65: 0.018188087 | R65: 20.096455 | S65: 8.3764066 | T65: 0 | U65: 41.897411 | V65: 0 | W65: 0 | X65: 0 | Y65: 282.28425 | AC65: 54 | AD65: 燃料小売業 | AE65: I603 | AF65: 0 | AG65: 66.795757 | AH65: 75.788986 | AI65: 0.063038682 | AJ65: 0.051752104 | AK65: 63.449428 | AL65: 0 | AM65: 5.7468244 | AN65: 0 | AO65: 0 | AP65: 0 | AQ65: 0.018188087 | AR65: 20.096455 | AS65: 8.3764066 | AT65: 0 | AU65: 41.897411 | AV65: 0 | AW65: 0 | AX65: 0 | AY65: 282.28425 | BB65: 54 | BC65: 燃料小売業 | BD65: I603 | BE65: =AF65=F65 -> TRUE | BF65: =AG65=G65 -> TRUE | BG65: =AH65=H65 -> TRUE | BH65: =AI65=I65 -> TRUE | BI65: =AJ65=J65 -> TRUE | BJ65: =AK65=K65 -> TRUE | BK65: =AL65=L65 -> TRUE | BL65: =AM65=M65 -> TRUE | ... BX65: =AY65=Y65 -> TRUE
C66: 55 | D66: 上記以外の卸売・小売業 | F66: 0.16669785 | G66: 46.71401 | H66: 13.968804 | I66: 3.7381626 | J66: 5.5717605 | K66: 200.0784 | L66: 0 | M66: 24.182344 | N66: 0 | O66: 0 | P66: 0 | Q66: 0.001189567 | R66: 161.0201 | S66: 117.91895 | T66: 0 | U66: 83.754345 | V66: 0 | W66: 0 | X66: 0.0017498289 | Y66: 657.11651 | AC66: 55 | AD66: 上記以外の卸売・小売業 | AF66: 0.16669785 | AG66: 46.71401 | AH66: 13.968804 | AI66: 3.7381626 | AJ66: 5.5717605 | AK66: 200.0784 | AL66: 0 | AM66: 24.182344 | AN66: 0 | AO66: 0 | AP66: 0 | AQ66: 0.001189567 | AR66: 161.0201 | AS66: 117.91895 | AT66: 0 | AU66: 83.754345 | AV66: 0 | AW66: 0 | AX66: 0.0017498289 | AY66: 657.11651 | BB66: 55 | BC66: 上記以外の卸売・小売業 | BE66: =AF66=F66 -> TRUE | BF66: =AG66=G66 -> TRUE | BG66: =AH66=H66 -> TRUE | BH66: =AI66=I66 -> TRUE | BI66: =AJ66=J66 -> TRUE | BJ66: =AK66=K66 -> TRUE | BK66: =AL66=L66 -> TRUE | BL66: =AM66=M66 -> TRUE | ... BX66: =AY66=Y66 -> TRUE
B67: 不動産業、 | D67: 不動産・物品賃借大分類 | E67: K | F67: 0.012395859 | G67: 28.89064 | H67: 3.3425807 | I67: 0.46728556 | J67: 0.96459157 | K67: 41.926745 | L67: 0 | M67: 43.45567 | N67: 0 | O67: 0 | P67: 0 | Q67: 0.34565858 | R67: 34.001622 | S67: 34.692567 | T67: 0.0030347702 | U67: 75.167302 | V67: 0 | W67: 0 | X67: 0.0292264 | Y67: 263.29932 | AB67: 不動産業、 | AD67: 不動産・物品賃借大分類 | AE67: K | AF67: 0.012395859 | AG67: 28.89064 | AH67: 3.3425807 | AI67: 0.46728556 | AJ67: 0.96459157 | AK67: 41.926745 | AL67: 0 | AM67: 43.45567 | AN67: 0 | AO67: 0 | AP67: 0 | AQ67: 0.34565858 | AR67: 34.001622 | AS67: 34.692567 | AT67: 0.0030347702 | AU67: 75.167302 | AV67: 0 | AW67: 0 | AX67: 0.0292264 | AY67: 263.29932 | BA67: 不動産業、 | BC67: 不動産・物品賃借大分類 | BD67: K | BE67: =AF67=F67 -> TRUE | BF67: =AG67=G67 -> TRUE | BG67: =AH67=H67 -> TRUE | BH67: =AI67=I67 -> TRUE | BI67: =AJ67=J67 -> TRUE | BJ67: =AK67=K67 -> TRUE | BK67: =AL67=L67 -> TRUE | BL67: =AM67=M67 -> TRUE | ... BX67: =AY67=Y67 -> TRUE
B68: 物品賃借業 | C68: 56 | D68: 物品賃借業 | E68: K70 | F68: 0.0054895726 | G68: 28.89064 | H68: 3.3425807 | I68: 0 | J68: 0.96459157 | K68: 41.926745 | L68: 0 | M68: 43.45567 | N68: 0 | O68: 0 | P68: 0 | Q68: 0.34565858 | R68: 34.001622 | S68: 34.692567 | T68: 0 | U68: 75.167302 | V68: 0 | W68: 0 | X68: 0.0292264 | Y68: 262.82209 | AB68: 物品賃借業 | AC68: 56 | AD68: 物品賃借業 | AE68: K70 | AF68: 0.0054895726 | AG68: 28.89064 | AH68: 3.3425807 | AI68: 0 | AJ68: 0.96459157 | AK68: 41.926745 | AL68: 0 | AM68: 43.45567 | AN68: 0 | AO68: 0 | AP68: 0 | AQ68: 0.34565858 | AR68: 34.001622 | AS68: 34.692567 | AT68: 0 | AU68: 75.167302 | AV68: 0 | AW68: 0 | AX68: 0.0292264 | AY68: 262.82209 | BA68: 物品賃借業 | BB68: 56 | BC68: 物品賃借業 | BD68: K70 | BE68: =AF68=F68 -> TRUE | BF68: =AG68=G68 -> TRUE | BG68: =AH68=H68 -> TRUE | BH68: =AI68=I68 -> TRUE | BI68: =AJ68=J68 -> TRUE | BJ68: =AK68=K68 -> TRUE | BK68: =AL68=L68 -> TRUE | BL68: =AM68=M68 -> TRUE | ... BX68: =AY68=Y68 -> TRUE
B69: 学術研究、専門 | D69: 学術研究、専門・技術サービス業 | E69: L | F69: 0.094600225 | G69: 17.482773 | H69: 15.002703 | I69: 10.776652 | J69: 11.975646 | K69: 35.859053 | L69: 0 | M69: 5.4273387 | N69: 0 | O69: 0 | P69: 0 | Q69: 0.0030346254 | R69: 21.524736 | S69: 18.076508 | T69: 0.35647843 | U69: 9.8572174 | V69: 0 | W69: 0 | X69: 0.00065638707 | Y69: 146.4374 | AB69: 学術研究、専門 | AD69: 学術研究、専門・技術サービス業 | AE69: L | AF69: 0.094600225 | AG69: 17.482773 | AH69: 15.002703 | AI69: 10.776652 | AJ69: 11.975646 | AK69: 35.859053 | AL69: 0 | AM69: 5.4273387 | AN69: 0 | AO69: 0 | AP69: 0 | AQ69: 0.0030346254 | AR69: 21.524736 | AS69: 18.076508 | AT69: 0.35647843 | AU69: 9.8572174 | AV69: 0 | AW69: 0 | AX69: 0.00065638707 | AY69: 146.4374 | BA69: 学術研究、専門 | BC69: 学術研究、専門・技術サービス業 | BD69: L | BE69: =AF69=F69 -> TRUE | BF69: =AG69=G69 -> TRUE | BG69: =AH69=H69 -> TRUE | BH69: =AI69=I69 -> TRUE | BI69: =AJ69=J69 -> TRUE | BJ69: =AK69=K69 -> TRUE | BK69: =AL69=L69 -> TRUE | BL69: =AM69=M69 -> TRUE | ... BX69: =AY69=Y69 -> TRUE
C70: 57 | D70: 学術開発研究機関 | E70: L71 | F70: 0.094600225 | G70: 17.482773 | H70: 15.002567 | I70: 4.5885434 | J70: 9.3583684 | K70: 35.554623 | L70: 0 | M70: 5.3889261 | N70: 0 | O70: 0 | P70: 0 | Q70: 0 | R70: 21.516073 | S70: 18.048531 | T70: 0.35647843 | U70: 9.8572174 | V70: 0 | W70: 0 | X70: 0.00061873746 | Y70: 137.24932 | AC70: 57 | AD70: 学術開発研究機関 | AE70: L71 | AF70: 0.094600225 | AG70: 17.482773 | AH70: 15.002567 | AI70: 4.5885434 | AJ70: 9.3583684 | AK70: 35.554623 | AL70: 0 | AM70: 5.3889261 | AN70: 0 | AO70: 0 | AP70: 0 | AQ70: 0 | AR70: 21.516073 | AS70: 18.048531 | AT70: 0.35647843 | AU70: 9.8572174 | AV70: 0 | AW70: 0 | AX70: 0.00061873746 | AY70: 137.24932 | BB70: 57 | BC70: 学術開発研究機関 | BD70: L71 | BE70: =AF70=F70 -> TRUE | BF70: =AG70=G70 -> TRUE | BG70: =AH70=H70 -> TRUE | BH70: =AI70=I70 -> TRUE | BI70: =AJ70=J70 -> TRUE | BJ70: =AK70=K70 -> TRUE | BK70: =AL70=L70 -> TRUE | BL70: =AM70=M70 -> TRUE | ... BX70: =AY70=Y70 -> TRUE
C71: 58 | D71: 写真業 | E71: L746 | F71: 0 | G71: 0 | H71: 0.00013629536 | I71: 6.1881082 | J71: 2.6172773 | K71: 0.30443004 | L71: 0 | M71: 0.03841264 | N71: 0 | O71: 0 | P71: 0 | Q71: 0 | R71: 0.0086622649 | S71: 0.027976381 | T71: 0 | U71: 0 | V71: 0 | W71: 0 | X71: 0 | Y71: 9.1850032 | AC71: 58 | AD71: 写真業 | AE71: L746 | AF71: 0 | AG71: 0 | AH71: 0.00013629536 | AI71: 6.1881082 | AJ71: 2.6172773 | AK71: 0.30443004 | AL71: 0 | AM71: 0.03841264 | AN71: 0 | AO71: 0 | AP71: 0 | AQ71: 0 | AR71: 0.0086622649 | AS71: 0.027976381 | AT71: 0 | AU71: 0 | AV71: 0 | AW71: 0 | AX71: 0 | AY71: 9.1850032 | BB71: 58 | BC71: 写真業 | BD71: L746 | BE71: =AF71=F71 -> TRUE | BF71: =AG71=G71 -> TRUE | BG71: =AH71=H71 -> TRUE | BH71: =AI71=I71 -> TRUE | BI71: =AJ71=J71 -> TRUE | BJ71: =AK71=K71 -> TRUE | BK71: =AL71=L71 -> TRUE | BL71: =AM71=M71 -> TRUE | ... BX71: =AY71=Y71 -> TRUE
B72: 飲食店、宿泊業 | D72: 飲食店、宿泊業大分類 | E72: Ｍ | F72: 0.068472502 | G72: 131.44528 | H72: 92.426632 | I72: 0.1551548 | J72: 0.15132061 | K72: 79.733194 | L72: 0 | M72: 1.0188895 | N72: 0 | O72: 0 | P72: 0 | Q72: 0.48945153 | R72: 21.123571 | S72: 9.6635803 | T72: 0.001053714 | U72: 5.4571842 | V72: 0 | W72: 0 | X72: 9.4680609e-05 | Y72: 341.73387 | AB72: 飲食店、宿泊業 | AD72: 飲食店、宿泊業大分類 | AE72: Ｍ | AF72: 0.068472502 | AG72: 131.44528 | AH72: 92.426632 | AI72: 0.1551548 | AJ72: 0.15132061 | AK72: 79.733194 | AL72: 0 | AM72: 1.0188895 | AN72: 0 | AO72: 0 | AP72: 0 | AQ72: 0.48945153 | AR72: 21.123571 | AS72: 9.6635803 | AT72: 0.001053714 | AU72: 5.4571842 | AV72: 0 | AW72: 0 | AX72: 9.4680609e-05 | AY72: 341.73387 | BA72: 飲食店、宿泊業 | BC72: 飲食店、宿泊業大分類 | BD72: Ｍ | BE72: =AF72=F72 -> TRUE | BF72: =AG72=G72 -> TRUE | BG72: =AH72=H72 -> TRUE | BH72: =AI72=I72 -> TRUE | BI72: =AJ72=J72 -> TRUE | BJ72: =AK72=K72 -> TRUE | BK72: =AL72=L72 -> TRUE | BL72: =AM72=M72 -> TRUE | ... BX72: =AY72=Y72 -> TRUE
C73: 59 | D73: 一般飲食店 | E73: M76 | F73: 0 | G73: 98.457904 | H73: 85.513965 | I73: 4.5378572e-06 | J73: 0 | K73: 38.437825 | L73: 0 | M73: 0.58876916 | N73: 0 | O73: 0 | P73: 0 | Q73: 0 | R73: 10.731988 | S73: 3.5950173 | T73: 0 | U73: 0.46439589 | V73: 0 | W73: 0 | X73: 0 | Y73: 237.78987 | AC73: 59 | AD73: 一般飲食店 | AE73: M76 | AF73: 0 | AG73: 98.457904 | AH73: 85.513965 | AI73: 4.5378572e-06 | AJ73: 0 | AK73: 38.437825 | AL73: 0 | AM73: 0.58876916 | AN73: 0 | AO73: 0 | AP73: 0 | AQ73: 0 | AR73: 10.731988 | AS73: 3.5950173 | AT73: 0 | AU73: 0.46439589 | AV73: 0 | AW73: 0 | AX73: 0 | AY73: 237.78987 | BB73: 59 | BC73: 一般飲食店 | BD73: M76 | BE73: =AF73=F73 -> TRUE | BF73: =AG73=G73 -> TRUE | BG73: =AH73=H73 -> TRUE | BH73: =AI73=I73 -> TRUE | BI73: =AJ73=J73 -> TRUE | BJ73: =AK73=K73 -> TRUE | BK73: =AL73=L73 -> TRUE | BL73: =AM73=M73 -> TRUE | ... BX73: =AY73=Y73 -> TRUE
C74: 60 | D74: 上記以外の飲食店、宿泊業 | F74: 0.011228972 | G74: 32.987372 | H74: 6.9126672 | I74: 0 | J74: 0 | K74: 41.295369 | L74: 0 | M74: 0.29446184 | N74: 0 | O74: 0 | P74: 0 | Q74: 0.43902242 | R74: 10.391584 | S74: 6.068563 | T74: 0 | U74: 4.9920077 | V74: 0 | W74: 0 | X74: 0 | Y74: 103.39228 | AC74: 60 | AD74: 上記以外の飲食店、宿泊業 | AF74: 0.011228972 | AG74: 32.987372 | AH74: 6.9126672 | AI74: 0 | AJ74: 0 | AK74: 41.295369 | AL74: 0 | AM74: 0.29446184 | AN74: 0 | AO74: 0 | AP74: 0 | AQ74: 0.43902242 | AR74: 10.391584 | AS74: 6.068563 | AT74: 0 | AU74: 4.9920077 | AV74: 0 | AW74: 0 | AX74: 0 | AY74: 103.39228 | BB74: 60 | BC74: 上記以外の飲食店、宿泊業 | BE74: =AF74=F74 -> TRUE | BF74: =AG74=G74 -> TRUE | BG74: =AH74=H74 -> TRUE | BH74: =AI74=I74 -> TRUE | BI74: =AJ74=J74 -> TRUE | BJ74: =AK74=K74 -> TRUE | BK74: =AL74=L74 -> TRUE | BL74: =AM74=M74 -> TRUE | ... BX74: =AY74=Y74 -> TRUE
B75: 生活関連サービス | D75: 生活関連サービス、娯楽業 | E75: N | F75: 1.5645267 | G75: 91.191765 | H75: 7.3209733 | I75: 6.5249817 | J75: 0.63056222 | K75: 38.722449 | L75: 0 | M75: 3.214847 | N75: 0 | O75: 0 | P75: 0 | Q75: 0.0011981801 | R75: 5.2533586 | S75: 3.3012421 | T75: 0.16917276 | U75: 6.4006095 | V75: 0 | W75: 0 | X75: 0.1421097 | Y75: 164.4378 | AB75: 生活関連サービス | AD75: 生活関連サービス、娯楽業 | AE75: N | AF75: 1.5645267 | AG75: 91.191765 | AH75: 7.3209733 | AI75: 6.5249817 | AJ75: 0.63056222 | AK75: 38.722449 | AL75: 0 | AM75: 3.214847 | AN75: 0 | AO75: 0 | AP75: 0 | AQ75: 0.0011981801 | AR75: 5.2533586 | AS75: 3.3012421 | AT75: 0.16917276 | AU75: 6.4006095 | AV75: 0 | AW75: 0 | AX75: 0.1421097 | AY75: 164.4378 | BA75: 生活関連サービス | BC75: 生活関連サービス、娯楽業 | BD75: N | BE75: =AF75=F75 -> TRUE | BF75: =AG75=G75 -> TRUE | BG75: =AH75=H75 -> TRUE | BH75: =AI75=I75 -> TRUE | BI75: =AJ75=J75 -> TRUE | BJ75: =AK75=K75 -> TRUE | BK75: =AL75=L75 -> TRUE | BL75: =AM75=M75 -> TRUE | ... BX75: =AY75=Y75 -> TRUE
C76: 61 | D76: 洗濯業 | E76: N781 | F76: 0.62587239 | G76: 74.033617 | H76: 6.8498484 | I76: 0.12526928 | J76: 0.00091455119 | K76: 25.316207 | L76: 0 | M76: 0.55763829 | N76: 0 | O76: 0 | P76: 0 | Q76: 0.00070102383 | R76: 4.3444595 | S76: 0.63901448 | T76: 0.16795193 | U76: 0.15385839 | V76: 0 | W76: 0 | X76: 0 | Y76: 112.81535 | AC76: 61 | AD76: 洗濯業 | AE76: N781 | AF76: 0.62587239 | AG76: 74.033617 | AH76: 6.8498484 | AI76: 0.12526928 | AJ76: 0.00091455119 | AK76: 25.316207 | AL76: 0 | AM76: 0.55763829 | AN76: 0 | AO76: 0 | AP76: 0 | AQ76: 0.00070102383 | AR76: 4.3444595 | AS76: 0.63901448 | AT76: 0.16795193 | AU76: 0.15385839 | AV76: 0 | AW76: 0 | AX76: 0 | AY76: 112.81535 | BB76: 61 | BC76: 洗濯業 | BD76: N781 | BE76: =AF76=F76 -> TRUE | BF76: =AG76=G76 -> TRUE | BG76: =AH76=H76 -> TRUE | BH76: =AI76=I76 -> TRUE | BI76: =AJ76=J76 -> TRUE | BJ76: =AK76=K76 -> TRUE | BK76: =AL76=L76 -> TRUE | BL76: =AM76=M76 -> TRUE | ... BX76: =AY76=Y76 -> TRUE
B77: 教育、学習支援業 | C77: 64 | D77: 教育、学習支援業大分類 | E77: O | F77: 0.025717464 | G77: 13.540158 | H77: 3.5152654 | I77: 0.86157857 | J77: 2.3067268 | K77: 68.195355 | L77: 0 | M77: 8.9013702 | N77: 0 | O77: 0 | P77: 0 | Q77: 0.0068115771 | R77: 34.448859 | S77: 17.632139 | T77: 0.014423982 | U77: 4.3069475 | V77: 0 | W77: 0 | X77: 5.1892599e-05 | Y77: 153.7554 | AB77: 教育、学習支援業 | AC77: 64 | AD77: 教育、学習支援業大分類 | AE77: O | AF77: 0.025717464 | AG77: 13.540158 | AH77: 3.5152654 | AI77: 0.86157857 | AJ77: 2.3067268 | AK77: 68.195355 | AL77: 0 | AM77: 8.9013702 | AN77: 0 | AO77: 0 | AP77: 0 | AQ77: 0.0068115771 | AR77: 34.448859 | AS77: 17.632139 | AT77: 0.014423982 | AU77: 4.3069475 | AV77: 0 | AW77: 0 | AX77: 5.1892599e-05 | AY77: 153.7554 | BA77: 教育、学習支援業 | BB77: 64 | BC77: 教育、学習支援業大分類 | BD77: O | BE77: =AF77=F77 -> TRUE | BF77: =AG77=G77 -> TRUE | BG77: =AH77=H77 -> TRUE | BH77: =AI77=I77 -> TRUE | BI77: =AJ77=J77 -> TRUE | BJ77: =AK77=K77 -> TRUE | BK77: =AL77=L77 -> TRUE | BL77: =AM77=M77 -> TRUE | ... BX77: =AY77=Y77 -> TRUE
B78: 医療、福祉 | D78: 医療、福祉大分類 | E78: P | F78: 5.7845767 | G78: 101.7925 | H78: 21.520525 | I78: 12.335744 | J78: 14.199265 | K78: 285.92438 | L78: 0 | M78: 4.443607 | N78: 0 | O78: 0 | P78: 0 | Q78: 0.2955413 | R78: 36.774683 | S78: 42.324596 | T78: 0.077598437 | U78: 42.527828 | V78: 0 | W78: 0 | X78: 6.6376895 | Y78: 574.63853 | AB78: 医療、福祉 | AD78: 医療、福祉大分類 | AE78: P | AF78: 5.7845767 | AG78: 101.7925 | AH78: 21.520525 | AI78: 12.335744 | AJ78: 14.199265 | AK78: 285.92438 | AL78: 0 | AM78: 4.443607 | AN78: 0 | AO78: 0 | AP78: 0 | AQ78: 0.2955413 | AR78: 36.774683 | AS78: 42.324596 | AT78: 0.077598437 | AU78: 42.527828 | AV78: 0 | AW78: 0 | AX78: 6.6376895 | AY78: 574.63853 | BA78: 医療、福祉 | BC78: 医療、福祉大分類 | BD78: P | BE78: =AF78=F78 -> TRUE | BF78: =AG78=G78 -> TRUE | BG78: =AH78=H78 -> TRUE | BH78: =AI78=I78 -> TRUE | BI78: =AJ78=J78 -> TRUE | BJ78: =AK78=K78 -> TRUE | BK78: =AL78=L78 -> TRUE | BL78: =AM78=M78 -> TRUE | ... BX78: =AY78=Y78 -> TRUE
C79: 62 | D79: 医療業 | E79: P83 | F79: 0.52654238 | G79: 45.919709 | H79: 17.619041 | I79: 8.0377204 | J79: 10.20775 | K79: 218.87172 | L79: 0 | M79: 3.6334355 | N79: 0 | O79: 0 | P79: 0 | Q79: 0.17835675 | R79: 31.402543 | S79: 31.535302 | T79: 0 | U79: 3.6304458 | V79: 0 | W79: 0 | X79: 0.073640675 | Y79: 371.63621 | AC79: 62 | AD79: 医療業 | AE79: P83 | AF79: 0.52654238 | AG79: 45.919709 | AH79: 17.619041 | AI79: 8.0377204 | AJ79: 10.20775 | AK79: 218.87172 | AL79: 0 | AM79: 3.6334355 | AN79: 0 | AO79: 0 | AP79: 0 | AQ79: 0.17835675 | AR79: 31.402543 | AS79: 31.535302 | AT79: 0 | AU79: 3.6304458 | AV79: 0 | AW79: 0 | AX79: 0.073640675 | AY79: 371.63621 | BB79: 62 | BC79: 医療業 | BD79: P83 | BE79: =AF79=F79 -> TRUE | BF79: =AG79=G79 -> TRUE | BG79: =AH79=H79 -> TRUE | BH79: =AI79=I79 -> TRUE | BI79: =AJ79=J79 -> TRUE | BJ79: =AK79=K79 -> TRUE | BK79: =AL79=L79 -> TRUE | BL79: =AM79=M79 -> TRUE | ... BX79: =AY79=Y79 -> TRUE
C80: 63 | D80: 上記以外の医療、福祉 | F80: 5.2580343 | G80: 55.872488 | H80: 3.9014849 | I80: 4.2980233 | J80: 3.9915147 | K80: 67.052659 | L80: 0 | M80: 0.81017156 | N80: 0 | O80: 0 | P80: 0 | Q80: 0.11718455 | R80: 5.37214 | S80: 10.789294 | T80: 0 | U80: 38.897382 | V80: 0 | W80: 0 | X80: 0 | Y80: 196.36038 | Z80: 21086101 | AC80: 63 | AD80: 上記以外の医療、福祉 | AF80: 5.2580343 | AG80: 55.872488 | AH80: 3.9014849 | AI80: 4.2980233 | AJ80: 3.9915147 | AK80: 67.052659 | AL80: 0 | AM80: 0.81017156 | AN80: 0 | AO80: 0 | AP80: 0 | AQ80: 0.11718455 | AR80: 5.37214 | AS80: 10.789294 | AT80: 0 | AU80: 38.897382 | AV80: 0 | AW80: 0 | AX80: 0 | AY80: 196.36038 | BB80: 63 | BC80: 上記以外の医療、福祉 | BE80: =AF80=F80 -> TRUE | BF80: =AG80=G80 -> TRUE | BG80: =AH80=H80 -> TRUE | BH80: =AI80=I80 -> TRUE | BI80: =AJ80=J80 -> TRUE | BJ80: =AK80=K80 -> TRUE | BK80: =AL80=L80 -> TRUE | BL80: =AM80=M80 -> TRUE | ... BX80: =AY80=Y80 -> TRUE
B81: 複合サービス事業 | C81: 65 | D81: 複合サービス事業大分類 | E81: Q | F81: 0.024678928 | G81: 2.5798195 | H81: 1.6356258 | I81: 0.58511272 | J81: 0.1620856 | K81: 19.308424 | L81: 0 | M81: 4.2186864 | N81: 0 | O81: 0 | P81: 0 | Q81: 2.1009491e-05 | R81: 1.6629593 | S81: 0.27073743 | T81: 0 | U81: 7.4973197 | V81: 0 | W81: 0 | X81: 0 | Y81: 37.94547 | AB81: 複合サービス事業 | AC81: 65 | AD81: 複合サービス事業大分類 | AE81: Q | AF81: 0.024678928 | AG81: 2.5798195 | AH81: 1.6356258 | AI81: 0.58511272 | AJ81: 0.1620856 | AK81: 19.308424 | AL81: 0 | AM81: 4.2186864 | AN81: 0 | AO81: 0 | AP81: 0 | AQ81: 2.1009491e-05 | AR81: 1.6629593 | AS81: 0.27073743 | AT81: 0 | AU81: 7.4973197 | AV81: 0 | AW81: 0 | AX81: 0 | AY81: 37.94547 | BA81: 複合サービス事業 | BB81: 65 | BC81: 複合サービス事業大分類 | BD81: Q | BE81: =AF81=F81 -> TRUE | BF81: =AG81=G81 -> TRUE | BG81: =AH81=H81 -> TRUE | BH81: =AI81=I81 -> TRUE | BI81: =AJ81=J81 -> TRUE | BJ81: =AK81=K81 -> TRUE | BK81: =AL81=L81 -> TRUE | BL81: =AM81=M81 -> TRUE | ... BX81: =AY81=Y81 -> TRUE
B82: サービス業 | D82: サービス業大分類 | E82: R | F82: 39.48355 | G82: 1777.8912 | H82: 139.82283 | I82: 35.44001 | J82: 66.555957 | K82: 578.10134 | L82: 0 | M82: 95.78716 | N82: 0 | O82: 0 | P82: 55.347306 | Q82: 0.2923475 | R82: 174.1646 | S82: 93.415826 | T82: 37.950792 | U82: 217.99996 | V82: 0 | W82: 0 | X82: 20.149096 | Y82: 3332.4019 | AB82: サービス業 | AD82: サービス業大分類 | AE82: R | AF82: 39.48355 | AG82: 1777.8912 | AH82: 139.82283 | AI82: 35.44001 | AJ82: 66.555957 | AK82: 578.10134 | AL82: 0 | AM82: 95.78716 | AN82: 0 | AO82: 0 | AP82: 55.347306 | AQ82: 0.2923475 | AR82: 174.1646 | AS82: 93.415826 | AT82: 37.950792 | AU82: 217.99996 | AV82: 0 | AW82: 0 | AX82: 20.149096 | AY82: 3332.4019 | BA82: サービス業 | BC82: サービス業大分類 | BD82: R | BE82: =AF82=F82 -> TRUE | BF82: =AG82=G82 -> TRUE | BG82: =AH82=H82 -> TRUE | BH82: =AI82=I82 -> TRUE | BI82: =AJ82=J82 -> TRUE | BJ82: =AK82=K82 -> TRUE | BK82: =AL82=L82 -> TRUE | BL82: =AM82=M82 -> TRUE | ... BX82: =AY82=Y82 -> TRUE
C83: 66 | D83: 自動車整備業 | E83: R891 | F83: 0.55847827 | G83: 237.07011 | H83: 112.65527 | I83: 0.82338123 | J83: 49.625309 | K83: 225.51237 | L83: 0 | M83: 12.789886 | N83: 0 | O83: 0 | P83: 0 | Q83: 0.10096935 | R83: 66.217533 | S83: 18.151606 | T83: 0 | U83: 3.2980884 | V83: 0 | W83: 0 | X83: 0 | Y83: 726.803 | AC83: 66 | AD83: 自動車整備業 | AE83: R891 | AF83: 0.55847827 | AG83: 237.07011 | AH83: 112.65527 | AI83: 0.82338123 | AJ83: 49.625309 | AK83: 225.51237 | AL83: 0 | AM83: 12.789886 | AN83: 0 | AO83: 0 | AP83: 0 | AQ83: 0.10096935 | AR83: 66.217533 | AS83: 18.151606 | AT83: 0 | AU83: 3.2980884 | AV83: 0 | AW83: 0 | AX83: 0 | AY83: 726.803 | BB83: 66 | BC83: 自動車整備業 | BD83: R891 | BE83: =AF83=F83 -> TRUE | BF83: =AG83=G83 -> TRUE | BG83: =AH83=H83 -> TRUE | BH83: =AI83=I83 -> TRUE | BI83: =AJ83=J83 -> TRUE | BJ83: =AK83=K83 -> TRUE | BK83: =AL83=L83 -> TRUE | BL83: =AM83=M83 -> TRUE | ... BX83: =AY83=Y83 -> TRUE
C84: 67 | D84: と蓄場 | E84: R952 | F84: 0 | G84: 1441.7859 | H84: 0.00014051086 | I84: 0 | J84: 0.057262745 | K84: 68.222652 | L84: 0 | M84: 0 | N84: 0 | O84: 0 | P84: 48.160364 | Q84: 0 | R84: 0.013318078 | S84: 0 | T84: 0 | U84: 0 | V84: 0 | W84: 0 | X84: 0 | Y84: 1558.2396 | AC84: 67 | AD84: と蓄場 | AE84: R952 | AF84: 0 | AG84: 1441.7859 | AH84: 0.00014051086 | AI84: 0 | AJ84: 0.057262745 | AK84: 68.222652 | AL84: 0 | AM84: 0 | AN84: 0 | AO84: 0 | AP84: 48.160364 | AQ84: 0 | AR84: 0.013318078 | AS84: 0 | AT84: 0 | AU84: 0 | AV84: 0 | AW84: 0 | AX84: 0 | AY84: 1558.2396 | BB84: 67 | BC84: と蓄場 | BD84: R952 | BE84: =AF84=F84 -> TRUE | BF84: =AG84=G84 -> TRUE | BG84: =AH84=H84 -> TRUE | BH84: =AI84=I84 -> TRUE | BI84: =AJ84=J84 -> TRUE | BJ84: =AK84=K84 -> TRUE | BK84: =AL84=L84 -> TRUE | BL84: =AM84=M84 -> TRUE | ... BX84: =AY84=Y84 -> TRUE
C85: 68 | D85: 上記以外のサービス業 | F85: 38.925072 | G85: 99.035136 | H85: 27.167416 | I85: 34.616628 | J85: 16.873386 | K85: 284.36632 | L85: 0 | M85: 82.997274 | N85: 0 | O85: 0 | P85: 0 | Q85: 0.19135715 | R85: 107.93375 | S85: 75.264221 | T85: 0 | U85: 214.70187 | V85: 0 | W85: 0 | X85: 5.0000963 | Y85: 987.07253 | AC85: 68 | AD85: 上記以外のサービス業 | AF85: 38.925072 | AG85: 99.035136 | AH85: 27.167416 | AI85: 34.616628 | AJ85: 16.873386 | AK85: 284.36632 | AL85: 0 | AM85: 82.997274 | AN85: 0 | AO85: 0 | AP85: 0 | AQ85: 0.19135715 | AR85: 107.93375 | AS85: 75.264221 | AT85: 0 | AU85: 214.70187 | AV85: 0 | AW85: 0 | AX85: 5.0000963 | AY85: 987.07253 | BB85: 68 | BC85: 上記以外のサービス業 | BE85: =AF85=F85 -> TRUE | BF85: =AG85=G85 -> TRUE | BG85: =AH85=H85 -> TRUE | BH85: =AI85=I85 -> TRUE | BI85: =AJ85=J85 -> TRUE | BJ85: =AK85=K85 -> TRUE | BK85: =AL85=L85 -> TRUE | BL85: =AM85=M85 -> TRUE | ... BX85: =AY85=Y85 -> TRUE
B86: 公 務 | C86: 69 | D86: 公務大分類 | E86: S | F86: 1.9302488 | G86: 294.90982 | H86: 5.912346 | I86: 1.8375711 | J86: 2.7593864 | K86: 16.007265 | L86: 0 | M86: 3.5831065 | N86: 0 | O86: 0 | P86: 0 | Q86: 0.013830871 | R86: 13.151218 | S86: 10.266758 | T86: 0.0052253428 | U86: 9.067418 | V86: 0 | W86: 0 | X86: 5.1514333 | Y86: 364.59563 | AB86: 公 務 | AC86: 69 | AD86: 公務大分類 | AE86: S | AF86: 1.9302488 | AG86: 294.90982 | AH86: 5.912346 | AI86: 1.8375711 | AJ86: 2.7593864 | AK86: 16.007265 | AL86: 0 | AM86: 3.5831065 | AN86: 0 | AO86: 0 | AP86: 0 | AQ86: 0.013830871 | AR86: 13.151218 | AS86: 10.266758 | AT86: 0.0052253428 | AU86: 9.067418 | AV86: 0 | AW86: 0 | AX86: 5.1514333 | AY86: 364.59563 | BA86: 公 務 | BB86: 69 | BC86: 公務大分類 | BD86: S | BE86: =AF86=F86 -> TRUE | BF86: =AG86=G86 -> TRUE | BG86: =AH86=H86 -> TRUE | BH86: =AI86=I86 -> TRUE | BI86: =AJ86=J86 -> TRUE | BJ86: =AK86=K86 -> TRUE | BK86: =AL86=L86 -> TRUE | BL86: =AM86=M86 -> TRUE | ... BX86: =AY86=Y86 -> TRUE
D87: 合 計 | F87: 1912.0211 | G87: 169317.63 | H87: 2952.6635 | I87: 2825.8722 | J87: 2676.5591 | K87: 6822.7644 | L87: 937.63464 | M87: 7247.8954 | N87: 89.708019 | O87: 2557.1544 | P87: 91.829144 | Q87: 22.945784 | R87: 8646.7284 | S87: 7348.4179 | T87: 15161.456 | U87: 64212.461 | V87: 80512.451 | W87: 112.41831 | X87: 17736.072 | Y87: 391184.68 | AD87: 合 計 | AF87: 1912.0211 | AG87: 169317.63 | AH87: 2952.6635 | AI87: 2825.8722 | AJ87: 2676.5591 | AK87: 6822.7644 | AL87: 937.63464 | AM87: 7247.8954 | AN87: 89.708019 | AO87: 2557.1544 | AP87: 91.829144 | AQ87: 22.945784 | AR87: 8646.7284 | AS87: 7348.4179 | AT87: 15161.456 | AU87: 64212.461 | AV87: 80512.451 | AW87: 112.41831 | AX87: 17736.072 | AY87: 391184.68 | BC87: 合 計 | BE87: =AF87=F87 -> TRUE | BF87: =AG87=G87 -> TRUE | BG87: =AH87=H87 -> TRUE | BH87: =AI87=I87 -> TRUE | BI87: =AJ87=J87 -> TRUE | BJ87: =AK87=K87 -> TRUE | BK87: =AL87=L87 -> TRUE | BL87: =AM87=M87 -> TRUE | ... BX87: =AY87=Y87 -> TRUE
B88: ※大分類のみの回答で、かつ中分類への配分ができない都道府県があるため、中分類の合算値と大分類の値が合致しない項目がある。 | AA88: 391191.06 | AB88: =AA88=Y87 -> FALSE
B89: ※四捨五入により、各項目の合算値と合計値が合致しない項目がある。
F91: =IF(COUNTBLANK(F5:F86)=82,"",SUM(MAX(F5,SUM(F6:F9)),MAX(F10,SUM(F11:F12)),F13,F14,MAX(F15,SUM(F16:F39)),MAX(F40,SUM(F41:F45)),MAX(F46,SUM(F47:F51)),MAX(F52,SUM(F53:F56)),MAX(F57,SUM(F58:F66)),MAX(F67,F68),MAX(F69,SUM(F70:F71)),MAX(F72,SUM(F73:F74)),MAX(F75,F76),F77,MAX(F78,SUM(F79:F80)),F81,MAX(F82,SUM(F83:F85)),F86)) -> 1912.0211 | G91: =IF(COUNTBLANK(G5:G86)=82,"",SUM(MAX(G5,SUM(G6:G9)),MAX(G10,SUM(G11:G12)),G13,G14,MAX(G15,SUM(G16:G39)),MAX(G40,SUM(G41:G45)),MAX(G46,SUM(G47:G51)),MAX(G52,SUM(G53:G56)),MAX(G57,SUM(G58:G66)),MAX(G67,G68),MAX(G69,SUM(G70:G71)),MAX(G72,SUM(G73:G74)),MAX(G75,G76),G77,MAX(G78,SUM(G79:G80)),G81,MAX(G82,SUM(G83:G85)),G86)) -> 169317.63 | H91: =IF(COUNTBLANK(H5:H86)=82,"",SUM(MAX(H5,SUM(H6:H9)),MAX(H10,SUM(H11:H12)),H13,H14,MAX(H15,SUM(H16:H39)),MAX(H40,SUM(H41:H45)),MAX(H46,SUM(H47:H51)),MAX(H52,SUM(H53:H56)),MAX(H57,SUM(H58:H66)),MAX(H67,H68),MAX(H69,SUM(H70:H71)),MAX(H72,SUM(H73:H74)),MAX(H75,H76),H77,MAX(H78,SUM(H79:H80)),H81,MAX(H82,SUM(H83:H85)),H86)) -> 2952.6635 | I91: =IF(COUNTBLANK(I5:I86)=82,"",SUM(MAX(I5,SUM(I6:I9)),MAX(I10,SUM(I11:I12)),I13,I14,MAX(I15,SUM(I16:I39)),MAX(I40,SUM(I41:I45)),MAX(I46,SUM(I47:I51)),MAX(I52,SUM(I53:I56)),MAX(I57,SUM(I58:I66)),MAX(I67,I68),MAX(I69,SUM(I70:I71)),MAX(I72,SUM(I73:I74)),MAX(I75,I76),I77,MAX(I78,SUM(I79:I80)),I81,MAX(I82,SUM(I83:I85)),I86)) -> 2825.8722 | J91: =IF(COUNTBLANK(J5:J86)=82,"",SUM(MAX(J5,SUM(J6:J9)),MAX(J10,SUM(J11:J12)),J13,J14,MAX(J15,SUM(J16:J39)),MAX(J40,SUM(J41:J45)),MAX(J46,SUM(J47:J51)),MAX(J52,SUM(J53:J56)),MAX(J57,SUM(J58:J66)),MAX(J67,J68),MAX(J69,SUM(J70:J71)),MAX(J72,SUM(J73:J74)),MAX(J75,J76),J77,MAX(J78,SUM(J79:J80)),J81,MAX(J82,SUM(J83:J85)),J86)) -> 2676.5591 | K91: =IF(COUNTBLANK(K5:K86)=82,"",SUM(MAX(K5,SUM(K6:K9)),MAX(K10,SUM(K11:K12)),K13,K14,MAX(K15,SUM(K16:K39)),MAX(K40,SUM(K41:K45)),MAX(K46,SUM(K47:K51)),MAX(K52,SUM(K53:K56)),MAX(K57,SUM(K58:K66)),MAX(K67,K68),MAX(K69,SUM(K70:K71)),MAX(K72,SUM(K73:K74)),MAX(K75,K76),K77,MAX(K78,SUM(K79:K80)),K81,MAX(K82,SUM(K83:K85)),K86)) -> 6822.7644 | L91: =IF(COUNTBLANK(L5:L86)=82,"",SUM(MAX(L5,SUM(L6:L9)),MAX(L10,SUM(L11:L12)),L13,L14,MAX(L15,SUM(L16:L39)),MAX(L40,SUM(L41:L45)),MAX(L46,SUM(L47:L51)),MAX(L52,SUM(L53:L56)),MAX(L57,SUM(L58:L66)),MAX(L67,L68),MAX(L69,SUM(L70:L71)),MAX(L72,SUM(L73:L74)),MAX(L75,L76),L77,MAX(L78,SUM(L79:L80)),L81,MAX(L82,SUM(L83:L85)),L86)) -> 937.63464 | M91: =IF(COUNTBLANK(M5:M86)=82,"",SUM(MAX(M5,SUM(M6:M9)),MAX(M10,SUM(M11:M12)),M13,M14,MAX(M15,SUM(M16:M39)),MAX(M40,SUM(M41:M45)),MAX(M46,SUM(M47:M51)),MAX(M52,SUM(M53:M56)),MAX(M57,SUM(M58:M66)),MAX(M67,M68),MAX(M69,SUM(M70:M71)),MAX(M72,SUM(M73:M74)),MAX(M75,M76),M77,MAX(M78,SUM(M79:M80)),M81,MAX(M82,SUM(M83:M85)),M86)) -> 7247.8954 | ... Y91: =IF(COUNTBLANK(Y5:Y86)=82,"",SUM(MAX(Y5,SUM(Y6:Y9)),MAX(Y10,SUM(Y11:Y12)),Y13,Y14,MAX(Y15,SUM(Y16:Y39)),MAX(Y40,SUM(Y41:Y45)),MAX(Y46,SUM(Y47:Y51)),MAX(Y52,SUM(Y53:Y56)),MAX(Y57,SUM(Y58:Y66)),MAX(Y67,Y68),MAX(Y69,SUM(Y70:Y71)),MAX(Y72,SUM(Y73:Y74)),MAX(Y75,Y76),Y77,MAX(Y78,SUM(Y79:Y80)),Y81,MAX(Y82,SUM(Y83:Y85)),Y86)) -> 391184.68
Y92: =Y87-Y185 -> -1654.8221
Y93: =Y92/Y185 -> -0.0042124636
B98: H26 | AB98: H27-H26
B99: 表－Ⅲ・５ 平成26年度実績値 業種別・種類別排出量推計値一覧表 | AB99: 表－Ⅲ・５ 平成25年度実績値 業種別・種類別排出量推計値一覧表
D101: 全国 | F101: 平成26年度 | Y101: (単位：千ｔ/年) | AD101: 全国 | AF101: 平成25年度 | AY101: (単位：千ｔ/年)
B102: 大分類 | C102: 番号 | D102: 産業分類 | E102: コード | F102: 燃え殻 | G102: 汚 泥 | H102: 廃 油 | I102: 廃 酸 | J102: 廃アルカリ | K102: 廃プラス チック類 | L102: 紙くず | M102: 木くず | N102: 繊維くず | O102: 動植物性 残 渣 | P102: 動物系固形不要物 | Q102: ゴムくず | R102: 金属くず | S102: ガラスくず及び 陶磁器くず | T102: 鉱さい | U102: がれき類 | V102: 動物の ふん尿 | W102: 動物の死体 | X102: ばいじん | Y102: 合 計 | AB102: 大分類 | AC102: 番号 | AD102: 産業分類 | AE102: コード | AF102: 燃え殻 | AG102: 汚 泥 | AH102: 廃 油 | AI102: 廃 酸 | AJ102: 廃アルカリ | AK102: 廃プラス チック類 | AL102: 紙くず | AM102: 木くず | AN102: 繊維くず | AO102: 動植物性 残 渣 | AP102: 動物系固形不要物 | AQ102: ゴムくず | AR102: 金属くず | AS102: ガラスくず及び 陶磁器くず | AT102: 鉱さい | AU102: がれき類 | AV102: 動物の ふん尿 | AW102: 動物の死体 | AX102: ばいじん | AY102: 合 計
B103: 農業、 | D103: 農業大分類 | E103: Ａ | F103: 0.35569377 | G103: 1.3849938 | H103: 0.18708407 | I103: 0.07495 | J103: 0.009702 | K103: 102.6065 | L103: 0 | M103: 249.77314 | N103: 0 | O103: 0 | P103: 0 | Q103: 0 | R103: 0.75578207 | S103: 2.7878252 | T103: 0 | U103: 2.3699335 | V103: 81416.104 | W103: 125.78758 | X103: 0 | Y103: 81902.198 | AB103: 農業、 | AD103: 農業大分類 | AE103: Ａ | AF103: =F5-F103 -> 0.019438744 | AG103: =G5-G103 -> 3.5027431 | AH103: =H5-H103 -> -0.03064244 | AI103: =I5-I103 -> 0.005508 | AJ103: =J5-J103 -> -0.007327 | AK103: =K5-K103 -> -2.1662249 | AL103: =L5-L103 -> 0 | AM103: =M5-M103 -> -37.658078 | ... AY103: =Y5-Y103 -> -953.12682
B104: 林業 | C104: 1 | D104: 耕種農業 | E104: A011 | F104: 0 | G104: 0 | H104: 0.00066502611 | I104: 0 | J104: 0 | K104: 65.896019 | L104: 0 | M104: 0.18608476 | N104: 0 | O104: 0 | P104: 0 | Q104: 0 | R104: 0 | S104: 0.50383911 | T104: 0 | U104: 0 | V104: 0 | W104: 0 | X104: 0 | Y104: 66.586608 | AB104: 林業 | AC104: 1 | AD104: 耕種農業 | AE104: A011 | AF104: =F6-F104 -> 0 | AG104: =G6-G104 -> 0 | AH104: =H6-H104 -> -0.00065385225 | AI104: =I6-I104 -> 0 | AJ104: =J6-J104 -> 0 | AK104: =K6-K104 -> 2.7442288 | AL104: =L6-L104 -> 0 | AM104: =M6-M104 -> 0.036412728 | ... AY104: =Y6-Y104 -> 2.7606687
C105: 2 | D105: 畜産農業 | E105: A012 | F105: 0.011422773 | G105: 0.142735 | H105: 0.10836178 | I105: 0 | J105: 0 | K105: 23.812904 | L105: 0 | M105: 0.62356408 | N105: 0 | O105: 0 | P105: 0 | Q105: 0 | R105: 0.33310608 | S105: 0.014310748 | T105: 0 | U105: 0.023128109 | V105: 81416.104 | W105: 125.78758 | X105: 0 | Y105: 81566.961 | AC105: 2 | AD105: 畜産農業 | AE105: A012 | AF105: =F7-F105 -> 0.0021497436 | AG105: =G7-G105 -> 0.026862448 | AH105: =H7-H105 -> -0.096773161 | AI105: =I7-I105 -> 0 | AJ105: =J7-J105 -> 0 | AK105: =K7-K105 -> 2.996011 | AL105: =L7-L105 -> 0 | AM105: =M7-M105 -> 142.51997 | ... AY105: =Y7-Y105 -> -771.82892
C106: 3 | D106: 林業大分類 | E106: A02 | F106: 0 | G106: 1.2422588 | H106: 0.078057264 | I106: 0 | J106: 0 | K106: 2.0365986 | L106: 0 | M106: 248.96349 | N106: 0 | O106: 0 | P106: 0 | Q106: 0 | R106: 0.42267599 | S106: 2.2696753 | T106: 0 | U106: 2.3468054 | V106: 0 | W106: 0 | X106: 0 | Y106: 257.35956 | AC106: 3 | AD106: 林業大分類 | AE106: A02 | AF106: =F8-F106 -> 0 | AG106: =G8-G106 -> -0.78045937 | AH106: =H8-H106 -> 0.066784573 | AI106: =I8-I106 -> 0 | AJ106: =J8-J106 -> 0 | AK106: =K8-K106 -> 2.6755124 | AL106: =L8-L106 -> 0 | AM106: =M8-M106 -> -180.21446 | ... AY106: =Y8-Y106 -> -179.86588
C107: 4 | D107: 上記以外の農業 | F107: 0 | G107: 0 | H107: 0 | I107: 0 | J107: 0 | K107: 0 | L107: 0 | M107: 0 | N107: 0 | O107: 0 | P107: 0 | Q107: 0 | R107: 0 | S107: 0 | T107: 0 | U107: 0 | V107: 0 | W107: 0 | X107: 0 | Y107: 0 | AC107: 4 | AD107: 上記以外の農業 | AF107: =F9-F107 -> 0 | AG107: =G9-G107 -> 0 | AH107: =H9-H107 -> 0 | AI107: =I9-I107 -> 0 | AJ107: =J9-J107 -> 0 | AK107: =K9-K107 -> 0 | AL107: =L9-L107 -> 0 | AM107: =M9-M107 -> 0 | ... AY107: =Y9-Y107 -> 0
B108: 漁 業 | D108: 漁業大分類 | E108: B | F108: 0 | G108: 0.73461032 | H108: 0.3026965 | I108: 4.5e-06 | J108: 0.0002815 | K108: 4.0242204 | L108: 0 | M108: 0.072769868 | N108: 0 | O108: 0 | P108: 0 | Q108: 0 | R108: 0.43126105 | S108: 0.0034032464 | T108: 0 | U108: 0.0011042493 | V108: 0 | W108: 0 | X108: 0 | Y108: 5.5703516 | AB108: 漁 業 | AD108: 漁業大分類 | AE108: B | AF108: =F10-F108 -> 0.013633386 | AG108: =G10-G108 -> -0.37010923 | AH108: =H10-H108 -> -0.032849315 | AI108: =I10-I108 -> 0.00034371813 | AJ108: =J10-J108 -> -0.00010647221 | AK108: =K10-K108 -> 1.2992689 | AL108: =L10-L108 -> 0 | AM108: =M10-M108 -> -0.037219851 | ... AY108: =Y10-Y108 -> 0.82681849
C109: 5 | D109: 漁 業 | E109: B03 | F109: 0 | G109: 0.0019516981 | H109: 0.3026965 | I109: 0 | J109: 0 | K109: 3.7407391 | L109: 0 | M109: 0.072769868 | N109: 0 | O109: 0 | P109: 0 | Q109: 0 | R109: 0.11949571 | S109: 0.0034032464 | T109: 0 | U109: 0.0011042493 | V109: 0 | W109: 0 | X109: 0 | Y109: 4.2421604 | AC109: 5 | AD109: 漁 業 | AE109: B03 | AF109: =F11-F109 -> 0 | AG109: =G11-G109 -> -4.8301887e-05 | AH109: =H11-H109 -> -0.032849315 | AI109: =I11-I109 -> 0 | AJ109: =J11-J109 -> 0 | AK109: =K11-K109 -> 1.3339469 | AL109: =L11-L109 -> 0 | AM109: =M11-M109 -> -0.037219851 | ... AY109: =Y11-Y109 -> 1.2126448
C110: 6 | D110: 水産養殖業 | E110: B04 | F110: 0 | G110: 0.73265683 | H110: 0 | I110: 0 | J110: 0 | K110: 0.28348125 | L110: 0 | M110: 0 | N110: 0 | O110: 0 | P110: 0 | Q110: 0 | R110: 0.31176534 | S110: 0 | T110: 0 | U110: 0 | V110: 0 | W110: 0 | X110: 0 | Y110: 1.3279034 | AC110: 6 | AD110: 水産養殖業 | AE110: B04 | AF110: =F12-F110 -> 0 | AG110: =G12-G110 -> -0.37005913 | AH110: =H12-H110 -> 0 | AI110: =I12-I110 -> 0 | AJ110: =J12-J110 -> 0 | AK110: =K12-K110 -> -0.034678054 | AL110: =L12-L110 -> 0 | AM110: =M12-M110 -> 0 | ... AY110: =Y12-Y110 -> -0.42514355
B111: 鉱 業 | C111: 7 | D111: 鉱業 | E111: C | F111: 2.0049101 | G111: 8631.7301 | H111: 5.2162495 | I111: 0.027217048 | J111: 0.095405471 | K111: 11.514946 | L111: 0 | M111: 1.2269836 | N111: 0 | O111: 0 | P111: 0 | Q111: 0.18917432 | R111: 3.3448218 | S111: 98.487537 | T111: 80.489617 | U111: 242.22299 | V111: 0 | W111: 0 | X111: 9.2324703 | Y111: 9085.7824 | AB111: 鉱 業 | AC111: 7 | AD111: 鉱業 | AE111: C | AF111: =F13-F111 -> -0.55456732 | AG111: =G13-G111 -> 600.29464 | AH111: =H13-H111 -> 1.0030273 | AI111: =I13-I111 -> 0.22768065 | AJ111: =J13-J111 -> 0.21342622 | AK111: =K13-K111 -> 0.80472904 | AL111: =L13-L111 -> 0 | AM111: =M13-M111 -> 0.62503463 | ... AY111: =Y13-Y111 -> 680.02805
B112: 建設業 | C112: 8 | D112: 建設業 | E112: D | F112: 51.007841 | G112: 9140.3565 | H112: 70.468837 | I112: 10.810582 | J112: 18.55812 | K112: 1179.7069 | L112: 246.848 | M112: 5792.559 | N112: 80.16896 | O112: 0 | P112: 0 | Q112: 1.8575631 | R112: 1305.5318 | S112: 2306.084 | T112: 52.461663 | U112: 61356.468 | V112: 0 | W112: 0 | X112: 1.5449123 | Y112: 81614.432 | AB112: 建設業 | AC112: 8 | AD112: 建設業 | AE112: D | AF112: =F14-F112 -> -16.023522 | AG112: =G14-G112 -> 1499.5301 | AH112: =H14-H112 -> 57.787299 | AI112: =I14-I112 -> 2.0233372 | AJ112: =J14-J112 -> 0.70929662 | AK112: =K14-K112 -> 195.22286 | AL112: =L14-L112 -> 39.36214 | AM112: =M14-M112 -> -291.07412 | ... AY112: =Y14-Y112 -> 230.79235
B113: 製造業 | D113: 製造業大分類 | E113: E | F113: 943.3366 | G113: 58678.053 | H113: 2431.1602 | I113: 3104.033 | J113: 2174.8445 | K113: 3232.9657 | L113: 733.95452 | M113: 1223.9677 | N113: 23.211727 | O113: 2706.2698 | P113: 32.487855 | Q113: 24.380284 | R113: 7175.7448 | S113: 5408.5456 | T113: 14372.873 | U113: 1875.8376 | V113: 0 | W113: 0 | X113: 8262.5528 | Y113: 112404.22 | AB113: 製造業 | AD113: 製造業大分類 | AE113: E | AF113: =F15-F113 -> -48.228408 | AG113: =G15-G113 -> -2669.757 | AH113: =H15-H113 -> -175.8068 | AI113: =I15-I113 -> -379.01901 | AJ113: =J15-J113 -> 339.53151 | AK113: =K15-K113 -> 5.5963494 | AL113: =L15-L113 -> -85.270781 | AM113: =M15-M113 -> -68.747258 | ... AY113: =Y15-Y113 -> -2917.1319
C114: 9 | D114: 食料品製造業 | E114: E9 | F114: 37.60196 | G114: 6722.277 | H114: 74.250363 | I114: 55.512525 | J114: 37.803419 | K114: 281.84638 | L114: 0 | M114: 8.3552319 | N114: 0 | O114: 1862.8018 | P114: 32.487855 | Q114: 0.029893011 | R114: 39.276835 | S114: 11.87057 | T114: 1.388236 | U114: 3.6096281 | V114: 0 | W114: 0 | X114: 8.8715826 | Y114: 9177.9833 | AC114: 9 | AD114: 食料品製造業 | AE114: E9 | AF114: =F16-F114 -> 2.1916189 | AG114: =G16-G114 -> -457.29303 | AH114: =H16-H114 -> 29.819098 | AI114: =I16-I114 -> 17.89501 | AJ114: =J16-J114 -> 19.856866 | AK114: =K16-K114 -> -3.6291365 | AL114: =L16-L114 -> 0 | AM114: =M16-M114 -> 7.5609495 | ... AY114: =Y16-Y114 -> -108.80476
C115: 10 | D115: 飲料・たばこ・飼料製造業 | E115: E10 | F115: 1.7275801 | G115: 941.03307 | H115: 7.783666 | I115: 1075.0268 | J115: 5.9897588 | K115: 33.993404 | L115: 0 | M115: 6.1214802 | N115: 0 | O115: 776.91206 | P115: 0 | Q115: 0.0048225125 | R115: 10.265927 | S115: 23.214336 | T115: 2.0457713 | U115: 0.18167149 | V115: 0 | W115: 0 | X115: 1.2551323 | Y115: 2885.5555 | AC115: 10 | AD115: 飲料・たばこ・飼料製造業 | AE115: E10 | AF115: =F17-F115 -> -0.32396543 | AG115: =G17-G115 -> 35.565066 | AH115: =H17-H115 -> 1.7195823 | AI115: =I17-I115 -> -132.82621 | AJ115: =J17-J115 -> 2.8437735 | AK115: =K17-K115 -> -2.8903353 | AL115: =L17-L115 -> 0 | AM115: =M17-M115 -> -0.44256852 | ... AY115: =Y17-Y115 -> -55.665656
C116: 11 | D116: 繊維工業 | E116: E11 | F116: 48.655776 | G116: 560.3492 | H116: 14.946708 | I116: 8.931462 | J116: 3.3305329 | K116: 138.52892 | L116: 0 | M116: 2.6506024 | N116: 23.211727 | O116: 0 | P116: 0 | Q116: 0.042665719 | R116: 5.6008391 | S116: 0.77142875 | T116: 0 | U116: 0.97074225 | V116: 0 | W116: 0 | X116: 27.982558 | Y116: 835.97316 | AC116: 11 | AD116: 繊維工業 | AE116: E11 | AF116: =F18-F116 -> 3.4168786 | AG116: =G18-G116 -> -8.2512936 | AH116: =H18-H116 -> -1.0131648 | AI116: =I18-I116 -> 1.1691082 | AJ116: =J18-J116 -> 0.088269393 | AK116: =K18-K116 -> -36.363233 | AL116: =L18-L116 -> 0 | AM116: =M18-M116 -> -0.64144526 | ... AY116: =Y18-Y116 -> -42.118138
C117: 12 | D117: 木材・木製品製造業 | E117: E12 | F117: 32.642586 | G117: 7.2338162 | H117: 2.0506827 | I117: 0.54297127 | J117: 0.67318309 | K117: 21.964383 | L117: 0 | M117: 717.47225 | N117: 0 | O117: 0 | P117: 0 | Q117: 0.12927221 | R117: 12.270961 | S117: 22.31277 | T117: 0.1186253 | U117: 7.7485865 | V117: 0 | W117: 0 | X117: 16.344543 | Y117: 841.50463 | AC117: 12 | AD117: 木材・木製品製造業 | AE117: E12 | AF117: =F19-F117 -> 0.33479889 | AG117: =G19-G117 -> 6.5439196 | AH117: =H19-H117 -> 0.1644578 | AI117: =I19-I117 -> 0.09562391 | AJ117: =J19-J117 -> -0.0060578628 | AK117: =K19-K117 -> -0.83616901 | AL117: =L19-L117 -> 0 | AM117: =M19-M117 -> -115.01003 | ... AY117: =Y19-Y117 -> -101.2428
...

Sheet 表Ⅲ・6　180116再⇒180218修正
C1: 表－Ⅲ・６ 平成27年度実績値 都道府県別・種類別排出量推計値一覧表
X3: (単位：千ｔ/年) | AA3: 旧 | AW3: 旧
B4: 大分類 | C4: No. | D4: 都道府県名 | E4: 燃え殻 | F4: 汚 泥 | G4: 廃 油 | H4: 廃 酸 | I4: 廃アルカリ | J4: 廃プラス チック類 | K4: 紙くず | L4: 木くず | M4: 繊維くず | N4: 動植物性 残 渣 | O4: 動物系 固形不要物 | P4: ゴムくず | Q4: 金属くず | R4: ガラスくず 及び 陶磁器くず | S4: 鉱さい | T4: がれき類 | U4: 動物の ふん尿 | V4: 動物の死体 | W4: ばいじん | X4: 合 計 | AA4: No. | AB4: 都道府県名 | AC4: 燃え殻 | AD4: 汚 泥 | AE4: 廃 油 | AF4: 廃 酸 | AG4: 廃アルカリ | AH4: 廃プラス チック類 | AI4: 紙くず | AJ4: 木くず | AK4: 繊維くず | AL4: 動植物性 残 渣 | AM4: 動物系 固形不要物 | AN4: ゴムくず | AO4: 金属くず | AP4: ガラスくず 及び 陶磁器くず | AQ4: 鉱さい | AR4: がれき類 | AS4: 動物の ふん尿 | AT4: 動物の死体 | AU4: ばいじん | AV4: 合 計 | AW4: No. | AX4: 都道府県名 | AY4: 燃え殻 | AZ4: 汚 泥 | BA4: 廃 油 | BB4: 廃 酸 | BC4: 廃アルカリ | BD4: 廃プラス チック類 | BE4: 紙くず | BF4: 木くず | BG4: 繊維くず | BH4: 動植物性 残 渣 | BI4: 動物系 固形不要物 | BJ4: ゴムくず | BK4: 金属くず | BL4: ガラスくず 及び 陶磁器くず | BM4: 鉱さい | BN4: がれき類 | BO4: 動物の ふん尿 | BP4: 動物の死体 | BQ4: ばいじん | BR4: 合 計
C5: 1 | D5: 北海道 | E5: 269.69547 | F5: 11681.567 | G5: 48.121077 | H5: 27.407435 | I5: 7.9126958 | J5: 239.62314 | K5: 22.62121 | L5: 332.19231 | M5: 1.126104 | N5: 228.28483 | O5: 2.7930458 | P5: 0.43484696 | Q5: 90.744328 | R5: 241.91436 | S5: 248.67745 | T5: 3352.4712 | U5: 19150.179 | V5: 36.962018 | W5: 899.44281 | X5: 36882.171 | AA5: 1 | AB5: 北海道 | AC5: 269.69547 | AD5: 11681.567 | AE5: 48.121077 | AF5: 27.407435 | AG5: 7.9126958 | AH5: 239.62314 | AI5: 22.62121 | AJ5: 332.19231 | AK5: 1.126104 | AL5: 228.28483 | AM5: 2.7930458 | AN5: 0.43484696 | AO5: 90.744328 | AP5: 241.91436 | AQ5: 248.67745 | AR5: 3352.4712 | AS5: 19150.179 | AT5: 35.669858 | AU5: 899.44281 | AV5: 36880.879 | AW5: 1 | AX5: 北海道 | AY5: =E5-AC5 -> 0 | AZ5: =F5-AD5 -> 0 | BA5: =G5-AE5 -> 0 | BB5: =H5-AF5 -> 0 | BC5: =I5-AG5 -> 0 | BD5: =J5-AH5 -> 0 | BE5: =K5-AI5 -> 0 | BF5: =L5-AJ5 -> 0 | ... BR5: =X5-AV5 -> 1.2921604
C6: 2 | D6: 青森県 | E6: 8.9369073 | F6: 1451.3526 | G6: 11.538368 | H6: 3.5289601 | I6: 9.2694985 | J6: 28.977217 | K6: 4.8371824 | L6: 83.166148 | M6: 0.81425857 | N6: 39.806075 | O6: 0.55094848 | P6: 0.02410989 | Q6: 16.410568 | R6: 103.5861 | S6: 37.102848 | T6: 980.63324 | U6: 2156.224 | V6: 0.62985583 | W6: 30.769449 | X6: 4968.1584 | AA6: 2 | AB6: 青森県 | AC6: 8.9369073 | AD6: 1451.3526 | AE6: 11.538368 | AF6: 3.5289601 | AG6: 9.2694985 | AH6: 28.977217 | AI6: 4.8371824 | AJ6: 83.166148 | AK6: 0.81425857 | AL6: 39.806075 | AM6: 0.55094848 | AN6: 0.02410989 | AO6: 16.410568 | AP6: 103.5861 | AQ6: 37.102848 | AR6: 980.63324 | AS6: 2156.224 | AT6: 0.63994746 | AU6: 30.769449 | AV6: 4968.1685 | AW6: 2 | AX6: 青森県 | AY6: =E6-AC6 -> 0 | AZ6: =F6-AD6 -> 0 | BA6: =G6-AE6 -> 0 | BB6: =H6-AF6 -> 0 | BC6: =I6-AG6 -> 0 | BD6: =J6-AH6 -> 0 | BE6: =K6-AI6 -> 0 | BF6: =L6-AJ6 -> 0 | ... BR6: =X6-AV6 -> -0.010091633
C7: 3 | D7: 岩手県 | E7: 11.303 | F7: 783.93368 | G7: 12.934 | H7: 7.202 | I7: 9.317 | J7: 60.522 | K7: 3.449 | L7: 134.687 | M7: 0.901 | N7: 15.186 | P7: 0.049 | Q7: 8.62 | R7: 136.151 | S7: 43.491 | T7: 1303.905 | U7: 3813.4028 | V7: 2.7407826 | W7: 74.157 | X7: 6421.9513 | AA7: 3 | AB7: 岩手県 | AC7: 11.303 | AD7: 783.93368 | AE7: 12.934 | AF7: 7.202 | AG7: 9.317 | AH7: 60.522 | AI7: 3.449 | AJ7: 134.687 | AK7: 0.901 | AL7: 15.186 | AM7: 0 | AN7: 0.049 | AO7: 8.62 | AP7: 136.151 | AQ7: 43.491 | AR7: 1303.905 | AS7: 3813.4028 | AT7: 2.7856925 | AU7: 74.157 | AV7: 6421.9962 | AW7: 3 | AX7: 岩手県 | AY7: =E7-AC7 -> 0 | AZ7: =F7-AD7 -> 0 | BA7: =G7-AE7 -> 0 | BB7: =H7-AF7 -> 0 | BC7: =I7-AG7 -> 0 | BD7: =J7-AH7 -> 0 | BE7: =K7-AI7 -> 0 | BF7: =L7-AJ7 -> 0 | ... BR7: =X7-AV7 -> -0.04490984
C8: 4 | D8: 宮城県 | E8: 21.310837 | F8: 5441.4073 | G8: 28.095558 | H8: 6.7907077 | I8: 13.346713 | J8: 165.25075 | K8: 17.793 | L8: 304.29405 | M8: 0.726 | N8: 222.402 | P8: 8.4410053 | Q8: 96.367608 | R8: 166.70214 | S8: 53.584157 | T8: 2220.7647 | U8: 1892.7743 | V8: 1.8057556 | W8: 116.43791 | X8: 10778.295 | AA8: 4 | AB8: 宮城県 | AC8: 21.310837 | AD8: 5441.4073 | AE8: 28.095558 | AF8: 6.7907077 | AG8: 13.346713 | AH8: 165.25075 | AI8: 17.793 | AJ8: 304.29405 | AK8: 0.726 | AL8: 222.402 | AM8: 0 | AN8: 8.4410053 | AO8: 96.367608 | AP8: 166.70214 | AQ8: 53.584157 | AR8: 2220.7647 | AS8: 1892.7743 | AT8: 1.9461863 | AU8: 116.43791 | AV8: 10778.435 | AW8: 4 | AX8: 宮城県 | AY8: =E8-AC8 -> 0 | AZ8: =F8-AD8 -> 0 | BA8: =G8-AE8 -> 0 | BB8: =H8-AF8 -> 0 | BC8: =I8-AG8 -> 0 | BD8: =J8-AH8 -> 0 | BE8: =K8-AI8 -> 0 | BF8: =L8-AJ8 -> 0 | ... BR8: =X8-AV8 -> -0.14043069
C9: 5 | D9: 秋田県 | E9: 34.359602 | F9: 1277.5553 | G9: 15.0169 | H9: 4.5375182 | I9: 6.3988218 | J9: 45.654942 | K9: 10.734 | L9: 92.392371 | M9: 0.951 | N9: 8.234 | O9: 2.0444467 | P9: 0.010594495 | Q9: 13.106024 | R9: 19.828055 | S9: 147.40263 | T9: 520.35382 | U9: 967.69895 | V9: 0.31192575 | W9: 310.73428 | X9: 3477.3251 | AA9: 5 | AB9: 秋田県 | AC9: 34.359602 | AD9: 1277.5553 | AE9: 15.0169 | AF9: 4.5375182 | AG9: 6.3988218 | AH9: 45.654942 | AI9: 10.734 | AJ9: 92.392371 | AK9: 0.951 | AL9: 8.234 | AM9: 2.0444467 | AN9: 0.010594495 | AO9: 13.106024 | AP9: 19.828055 | AQ9: 147.40263 | AR9: 520.35382 | AS9: 967.69895 | AT9: 0.31861812 | AU9: 310.73428 | AV9: 3477.3318 | AW9: 5 | AX9: 秋田県 | AY9: =E9-AC9 -> 0 | AZ9: =F9-AD9 -> 0 | BA9: =G9-AE9 -> 0 | BB9: =H9-AF9 -> 0 | BC9: =I9-AG9 -> 0 | BD9: =J9-AH9 -> 0 | BE9: =K9-AI9 -> 0 | BF9: =L9-AJ9 -> 0 | ... BR9: =X9-AV9 -> -0.0066923718
C10: 6 | D10: 山形県 | E10: 0.44147306 | F10: 1259.357 | G10: 32.355094 | H10: 11.052165 | I10: 10.147286 | J10: 69.800919 | K10: 3.7301503 | L10: 115.81788 | M10: 0.96001716 | N10: 29.110836 | O10: 2.174213 | P10: 0.012091406 | Q10: 24.338572 | R10: 57.229242 | S10: 21.207827 | T10: 655.72171 | U10: 951.17241 | V10: 1.3661998 | W10: 307.34998 | X10: 3553.3451 | AA10: 6 | AB10: 山形県 | AC10: 0.44147306 | AD10: 1259.357 | AE10: 32.355094 | AF10: 11.052165 | AG10: 10.147286 | AH10: 69.800919 | AI10: 3.7301503 | AJ10: 115.81788 | AK10: 0.96001716 | AL10: 29.110836 | AM10: 2.174213 | AN10: 0.012091406 | AO10: 24.338572 | AP10: 57.229242 | AQ10: 21.207827 | AR10: 655.72171 | AS10: 951.17241 | AT10: 1.3233136 | AU10: 307.34998 | AV10: 3553.3022 | AW10: 6 | AX10: 山形県 | AY10: =E10-AC10 -> 0 | AZ10: =F10-AD10 -> 0 | BA10: =G10-AE10 -> 0 | BB10: =H10-AF10 -> 0 | BC10: =I10-AG10 -> 0 | BD10: =J10-AH10 -> 0 | BE10: =K10-AI10 -> 0 | BF10: =L10-AJ10 -> 0 | ... BR10: =X10-AV10 -> 0.042886225
C11: 7 | D11: 福島県 | E11: 107.09711 | F11: 3594.0141 | G11: 31.851039 | H11: 26.879224 | I11: 67.155797 | J11: 160.06839 | K11: 4.962497 | L11: 146.6384 | M11: 1.220612 | N11: 15.67673 | P11: 0.00897 | Q11: 38.356188 | R11: 152.86183 | S11: 124.43874 | T11: 1852.586 | U11: 1206.5006 | V11: 0.97248573 | W11: 1533.943 | X11: 9065.2316 | AA11: 7 | AB11: 福島県 | AC11: 107.09711 | AD11: 3594.0141 | AE11: 31.851039 | AF11: 26.879224 | AG11: 67.155797 | AH11: 160.06839 | AI11: 4.962497 | AJ11: 146.6384 | AK11: 1.220612 | AL11: 15.67673 | AM11: 0 | AN11: 0.00897 | AO11: 38.356188 | AP11: 152.86183 | AQ11: 124.43874 | AR11: 1852.586 | AS11: 1206.5006 | AT11: 1.2329478 | AU11: 1533.943 | AV11: 9065.4921 | AW11: 7 | AX11: 福島県 | AY11: =E11-AC11 -> 0 | AZ11: =F11-AD11 -> 0 | BA11: =G11-AE11 -> 0 | BB11: =H11-AF11 -> 0 | BC11: =I11-AG11 -> 0 | BD11: =J11-AH11 -> 0 | BE11: =K11-AI11 -> 0 | BF11: =L11-AJ11 -> 0 | ... BR11: =X11-AV11 -> -0.26046203
C12: 8 | D12: 茨城県 | E12: 65.972319 | F12: 4279.0982 | G12: 122.7279 | H12: 83.8391 | I12: 51.955465 | J12: 213.00085 | K12: 57.92742 | L12: 174.43071 | M12: 1.0615249 | N12: 94.962807 | O12: 0.8240621 | P12: 0.0065611641 | Q12: 108.43882 | R12: 236.75271 | S12: 1126.6821 | T12: 1709.1383 | U12: 2831.7824 | V12: 3.0178086 | W12: 992.09615 | X12: 12153.715 | AA12: 8 | AB12: 茨城県 | AC12: 65.972319 | AD12: 4279.0982 | AE12: 122.7279 | AF12: 83.8391 | AG12: 51.955465 | AH12: 213.00085 | AI12: 57.92742 | AJ12: 174.43071 | AK12: 1.0615249 | AL12: 94.962807 | AM12: 0.8240621 | AN12: 0.0065611641 | AO12: 108.43882 | AP12: 236.75271 | AQ12: 1126.6821 | AR12: 1709.1383 | AS12: 2831.7824 | AT12: 3.1472045 | AU12: 992.09615 | AV12: 12153.845 | AW12: 8 | AX12: 茨城県 | AY12: =E12-AC12 -> 0 | AZ12: =F12-AD12 -> 0 | BA12: =G12-AE12 -> 0 | BB12: =H12-AF12 -> 0 | BC12: =I12-AG12 -> 0 | BD12: =J12-AH12 -> 0 | BE12: =K12-AI12 -> 0 | BF12: =L12-AJ12 -> 0 | ... BR12: =X12-AV12 -> -0.1293959
C13: 9 | D13: 栃木県 | E13: 2.4755804 | F13: 2943.0193 | G13: 57.052147 | H13: 14.79311 | I13: 16.530184 | J13: 169.92918 | K13: 23.459892 | L13: 179.38934 | M13: 0.516756 | N13: 39.434328 | O13: 1.203155 | P13: 0.600898 | Q13: 117.77651 | R13: 134.48055 | S13: 313.79643 | T13: 1111.3876 | U13: 2746.4487 | V13: 4.0642943 | W13: 38.253629 | X13: 7914.6116 | AA13: 9 | AB13: 栃木県 | AC13: 2.4755804 | AD13: 2943.0193 | AE13: 57.052147 | AF13: 14.79311 | AG13: 16.530184 | AH13: 169.92918 | AI13: 23.459892 | AJ13: 179.38934 | AK13: 0.516756 | AL13: 39.434328 | AM13: 1.203155 | AN13: 0.600898 | AO13: 117.77651 | AP13: 134.48055 | AQ13: 313.79643 | AR13: 1111.3876 | AS13: 2746.4487 | AT13: 3.8469693 | AU13: 38.253629 | AV13: 7914.3943 | AW13: 9 | AX13: 栃木県 | AY13: =E13-AC13 -> 0 | AZ13: =F13-AD13 -> 0 | BA13: =G13-AE13 -> 0 | BB13: =H13-AF13 -> 0 | BC13: =I13-AG13 -> 0 | BD13: =J13-AH13 -> 0 | BE13: =K13-AI13 -> 0 | BF13: =L13-AJ13 -> 0 | ... BR13: =X13-AV13 -> 0.21732501
C14: 10 | D14: 群馬県 | E14: 27.698475 | F14: 1421.7849 | G14: 38.56846 | H14: 12.029767 | I14: 7.4162454 | J14: 61.10556 | K14: 1.486405 | L14: 65.276772 | M14: 0.109 | N14: 99.348 | P14: 0.028994979 | Q14: 30.193282 | R14: 118.30335 | S14: 72.816688 | T14: 406.03893 | U14: 2983.6684 | V14: 2.5429401 | W14: 18.257721 | X14: 5366.6739 | AA14: 10 | AB14: 群馬県 | AC14: 27.698475 | AD14: 1421.7849 | AE14: 38.56846 | AF14: 12.029767 | AG14: 7.4162454 | AH14: 61.10556 | AI14: 1.486405 | AJ14: 65.276772 | AK14: 0.109 | AL14: 99.348 | AM14: 0 | AN14: 0.028994979 | AO14: 30.193282 | AP14: 118.30335 | AQ14: 72.816688 | AR14: 406.03893 | AS14: 2983.6684 | AT14: 1.3611923 | AU14: 18.257721 | AV14: 5365.4921 | AW14: 10 | AX14: 群馬県 | AY14: =E14-AC14 -> 0 | AZ14: =F14-AD14 -> 0 | BA14: =G14-AE14 -> 0 | BB14: =H14-AF14 -> 0 | BC14: =I14-AG14 -> 0 | BD14: =J14-AH14 -> 0 | BE14: =K14-AI14 -> 0 | BF14: =L14-AJ14 -> 0 | ... BR14: =X14-AV14 -> 1.1817478
C15: 11 | D15: 埼玉県 | E15: 5.9802745 | F15: 6509.0264 | G15: 98.677532 | H15: 26.816846 | I15: 51.883749 | J15: 368.94047 | K15: 158.75111 | L15: 247.61076 | M15: 3.9910923 | N15: 74.189709 | P15: 2.3783874 | Q15: 193.67483 | R15: 300.27861 | S15: 141.02475 | T15: 2006.1442 | U15: 736.44955 | V15: 1.8350636 | W15: 43.184963 | X15: 10970.838 | AA15: 11 | AB15: 埼玉県 | AC15: 5.9802745 | AD15: 6509.0264 | AE15: 98.677532 | AF15: 26.816846 | AG15: 51.883749 | AH15: 368.94047 | AI15: 158.75111 | AJ15: 247.61076 | AK15: 3.9910923 | AL15: 74.189709 | AM15: 0 | AN15: 2.3783874 | AO15: 193.67483 | AP15: 300.27861 | AQ15: 141.02475 | AR15: 2006.1442 | AS15: 736.44955 | AT15: 1.9719215 | AU15: 43.184963 | AV15: 10970.975 | AW15: 11 | AX15: 埼玉県 | AY15: =E15-AC15 -> 0 | AZ15: =F15-AD15 -> 0 | BA15: =G15-AE15 -> 0 | BB15: =H15-AF15 -> 0 | BC15: =I15-AG15 -> 0 | BD15: =J15-AH15 -> 0 | BE15: =K15-AI15 -> 0 | BF15: =L15-AJ15 -> 0 | ... BR15: =X15-AV15 -> -0.13685789
C16: 12 | D16: 千葉県 | E16: 9.6069951 | F16: 7570.2747 | G16: 249.2843 | H16: 250.29526 | I16: 289.41623 | J16: 251.47982 | K16: 7.4088078 | L16: 203.7137 | M16: 5.8770993 | N16: 10.233466 | O16: 2.5506405 | P16: 0.47313594 | Q16: 2174.4558 | R16: 246.78436 | S16: 2523.0127 | T16: 2393.4121 | U16: 3118.487 | V16: 10.555669 | W16: 2361.1764 | X16: 21678.498 | AA16: 12 | AB16: 千葉県 | AC16: 9.6069951 | AD16: 7570.2747 | AE16: 249.2843 | AF16: 250.29526 | AG16: 289.41623 | AH16: 251.47982 | AI16: 7.4088078 | AJ16: 203.7137 | AK16: 5.8770993 | AL16: 10.233466 | AM16: 2.5506405 | AN16: 0.47313594 | AO16: 2174.4558 | AP16: 246.78436 | AQ16: 2523.0127 | AR16: 2393.4121 | AS16: 3118.487 | AT16: 10.687391 | AU16: 2361.1764 | AV16: 21678.63 | AW16: 12 | AX16: 千葉県 | AY16: =E16-AC16 -> 0 | AZ16: =F16-AD16 -> 0 | BA16: =G16-AE16 -> 0 | BB16: =H16-AF16 -> 0 | BC16: =I16-AG16 -> 0 | BD16: =J16-AH16 -> 0 | BE16: =K16-AI16 -> 0 | BF16: =L16-AJ16 -> 0 | ... BR16: =X16-AV16 -> -0.13172245
C17: 13 | D17: 東京都 | E17: 11.513734 | F17: 19298.144 | G17: 21.748169 | H17: 13.348831 | I17: 5.4432887 | J17: 316.3702 | K17: 54 | L17: 295.04706 | M17: 4 | N17: 18 | O17: 2 | P17: 0.027634574 | Q17: 166.11152 | R17: 595.60693 | S17: 40.235883 | T17: 6811.1646 | U17: 44.047835 | V17: 0.079550885 | W17: 12.929105 | X17: 27709.819 | AA17: 13 | AB17: 東京都 | AC17: 11.513734 | AD17: 19298.144 | AE17: 21.748169 | AF17: 13.348831 | AG17: 5.4432887 | AH17: 316.3702 | AI17: 54 | AJ17: 295.04706 | AK17: 4 | AL17: 18 | AM17: 2 | AN17: 0.027634574 | AO17: 166.11152 | AP17: 595.60693 | AQ17: 40.235883 | AR17: 6811.1646 | AS17: 44.047835 | AT17: 0.063471468 | AU17: 12.929105 | AV17: 27709.802 | AW17: 13 | AX17: 東京都 | AY17: =E17-AC17 -> 0 | AZ17: =F17-AD17 -> 0 | BA17: =G17-AE17 -> 0 | BB17: =H17-AF17 -> 0 | BC17: =I17-AG17 -> 0 | BD17: =J17-AH17 -> 0 | BE17: =K17-AI17 -> 0 | BF17: =L17-AJ17 -> 0 | ... BR17: =X17-AV17 -> 0.016079416
C18: 14 | D18: 神奈川県 | E18: 62.102089 | F18: 11726.582 | G18: 144.81903 | H18: 61.990787 | I18: 189.97476 | J18: 337.34992 | K18: 18.569629 | L18: 320.06701 | M18: 2.9758047 | N18: 153.595 | P18: 0.07780177 | Q18: 145.40405 | R18: 372.5204 | S18: 573.17964 | T18: 3267.0993 | U18: 381.38412 | V18: 0.82649436 | W18: 503.37393 | X18: 18261.892 | AA18: 14 | AB18: 神奈川県 | AC18: 62.102089 | AD18: 11726.582 | AE18: 144.81903 | AF18: 61.990787 | AG18: 189.97476 | AH18: 337.34992 | AI18: 18.569629 | AJ18: 320.06701 | AK18: 2.9758047 | AL18: 153.595 | AM18: 0 | AN18: 0.07780177 | AO18: 145.40405 | AP18: 372.5204 | AQ18: 573.17964 | AR18: 3267.0993 | AS18: 381.38412 | AT18: 0.88960885 | AU18: 503.37393 | AV18: 18261.955 | AW18: 14 | AX18: 神奈川県 | AY18: =E18-AC18 -> 0 | AZ18: =F18-AD18 -> 0 | BA18: =G18-AE18 -> 0 | BB18: =H18-AF18 -> 0 | BC18: =I18-AG18 -> 0 | BD18: =J18-AH18 -> 0 | BE18: =K18-AI18 -> 0 | BF18: =L18-AJ18 -> 0 | ... BR18: =X18-AV18 -> -0.063114487
C19: 15 | D19: 新潟県 | E19: 38.799979 | F19: 4546.422 | G19: 194.16296 | H19: 300.54418 | I19: 64.660912 | J19: 160.20225 | K19: 26.892618 | L19: 168.35074 | M19: 2.0682985 | N19: 46.181789 | O19: 35.052817 | P19: 0.82323762 | Q19: 77.660702 | R19: 275.75705 | S19: 113.52584 | T19: 1522.4936 | U19: 1001.7816 | V19: 1.3467639 | W19: 89.271386 | X19: 8665.9986 | AA19: 15 | AB19: 新潟県 | AC19: 38.799979 | AD19: 4546.422 | AE19: 194.16296 | AF19: 300.54418 | AG19: 64.660912 | AH19: 160.20225 | AI19: 26.892618 | AJ19: 168.35074 | AK19: 2.0682985 | AL19: 46.181789 | AM19: 35.052817 | AN19: 0.82323762 | AO19: 77.660702 | AP19: 275.75705 | AQ19: 113.52584 | AR19: 1522.4936 | AS19: 1001.7816 | AT19: 1.092295 | AU19: 89.271386 | AV19: 8665.7442 | AW19: 15 | AX19: 新潟県 | AY19: =E19-AC19 -> 0 | AZ19: =F19-AD19 -> 0 | BA19: =G19-AE19 -> 0 | BB19: =H19-AF19 -> 0 | BC19: =I19-AG19 -> 0 | BD19: =J19-AH19 -> 0 | BE19: =K19-AI19 -> 0 | BF19: =L19-AJ19 -> 0 | ... BR19: =X19-AV19 -> 0.25446897
C20: 16 | D20: 富山県 | E20: 16.450815 | F20: 2877.2635 | G20: 40.689462 | H20: 42.429375 | I20: 20.153539 | J20: 104.12548 | K20: 11.7893 | L20: 80.982891 | M20: 2.4251 | N20: 18.9663 | P20: 0.0987 | Q20: 65.770406 | R20: 60.509401 | S20: 116.1803 | T20: 780.74452 | U20: 202.99183 | V20: 0.15485721 | W20: 132.30254 | X20: 4574.0283 | AA20: 16 | AB20: 富山県 | AC20: 16.450815 | AD20: 2877.2635 | AE20: 40.689462 | AF20: 42.429375 | AG20: 20.153539 | AH20: 104.12548 | AI20: 11.7893 | AJ20: 80.982891 | AK20: 2.4251 | AL20: 18.9663 | AM20: 0 | AN20: 0.0987 | AO20: 65.770406 | AP20: 60.509401 | AQ20: 116.1803 | AR20: 780.74452 | AS20: 202.99183 | AT20: 0.07660127 | AU20: 132.30254 | AV20: 4573.9501 | AW20: 16 | AX20: 富山県 | AY20: =E20-AC20 -> 0 | AZ20: =F20-AD20 -> 0 | BA20: =G20-AE20 -> 0 | BB20: =H20-AF20 -> 0 | BC20: =I20-AG20 -> 0 | BD20: =J20-AH20 -> 0 | BE20: =K20-AI20 -> 0 | BF20: =L20-AJ20 -> 0 | ... BR20: =X20-AV20 -> 0.078255938
C21: 17 | D21: 石川県 | E21: 28.421191 | F21: 1208.4105 | G21: 30.701747 | H21: 16.34629 | I21: 14.078122 | J21: 80.139651 | K21: 13.838 | L21: 105.93702 | M21: 2.334 | N21: 15.432 | O21: 0.196 | P21: 0.18778777 | Q21: 75.757573 | R21: 62.534372 | S21: 11.808 | T21: 1094.7169 | U21: 200.54304 | V21: 0.19644383 | W21: 263.53901 | X21: 3225.1177 | AA21: 17 | AB21: 石川県 | AC21: 28.421191 | AD21: 1208.4105 | AE21: 30.701747 | AF21: 16.34629 | AG21: 14.078122 | AH21: 80.139651 | AI21: 13.838 | AJ21: 105.93702 | AK21: 2.334 | AL21: 15.432 | AM21: 0.196 | AN21: 0.18778777 | AO21: 75.757573 | AP21: 62.534372 | AQ21: 11.808 | AR21: 1094.7169 | AS21: 200.54304 | AT21: 0.17547651 | AU21: 263.53901 | AV21: 3225.0967 | AW21: 17 | AX21: 石川県 | AY21: =E21-AC21 -> 0 | AZ21: =F21-AD21 -> 0 | BA21: =G21-AE21 -> 0 | BB21: =H21-AF21 -> 0 | BC21: =I21-AG21 -> 0 | BD21: =J21-AH21 -> 0 | BE21: =K21-AI21 -> 0 | BF21: =L21-AJ21 -> 0 | ... BR21: =X21-AV21 -> 0.020967315
C22: 18 | D22: 福井県 | E22: 45.112539 | F22: 1626.9169 | G22: 25.370613 | H22: 24.58419 | I22: 32.544628 | J22: 169.46658 | K22: 8.5504085 | L22: 45.508766 | M22: 0.74280309 | N22: 2.2443983 | P22: 0.051904304 | Q22: 36.748301 | R22: 37.365616 | S22: 6.1615212 | T22: 562.88162 | U22: 95.432535 | V22: 0.087913772 | W22: 301.30618 | X22: 3021.0774 | AA22: 18 | AB22: 福井県 | AC22: 45.112539 | AD22: 1626.9169 | AE22: 25.370613 | AF22: 24.58419 | AG22: 32.544628 | AH22: 169.46658 | AI22: 8.5504085 | AJ22: 45.508766 | AK22: 0.74280309 | AL22: 2.2443983 | AM22: 0 | AN22: 0.051904304 | AO22: 36.748301 | AP22: 37.365616 | AQ22: 6.1615212 | AR22: 562.88162 | AS22: 95.432535 | AT22: 0.063506297 | AU22: 301.30618 | AV22: 3021.053 | AW22: 18 | AX22: 福井県 | AY22: =E22-AC22 -> 0 | AZ22: =F22-AD22 -> 0 | BA22: =G22-AE22 -> 0 | BB22: =H22-AF22 -> 0 | BC22: =I22-AG22 -> 0 | BD22: =J22-AH22 -> 0 | BE22: =K22-AI22 -> 0 | BF22: =L22-AJ22 -> 0 | ... BR22: =X22-AV22 -> 0.024407476
C23: 19 | D23: 山梨県 | E23: 0.20237647 | F23: 883.85176 | G23: 20.275613 | H23: 9.2547743 | I23: 5.9108903 | J23: 40.274213 | K23: 6.1831119 | L23: 44.472666 | M23: 0.27337602 | N23: 26.690423 | P23: 0.0015010078 | Q23: 16.505909 | R23: 38.507404 | S23: 12.562977 | T23: 486.25604 | U23: 202.28628 | V23: 0.23559508 | W23: 0.052959579 | X23: 1793.7979 | AA23: 19 | AB23: 山梨県 | AC23: 0.20237647 | AD23: 883.85176 | AE23: 20.275613 | AF23: 9.2547743 | AG23: 5.9108903 | AH23: 40.274213 | AI23: 6.1831119 | AJ23: 44.472666 | AK23: 0.27337602 | AL23: 26.690423 | AM23: 0 | AN23: 0.0015010078 | AO23: 16.505909 | AP23: 38.507404 | AQ23: 12.562977 | AR23: 486.25604 | AS23: 202.28628 | AT23: 0.17519576 | AU23: 0.052959579 | AV23: 1793.7375 | AW23: 19 | AX23: 山梨県 | AY23: =E23-AC23 -> 0 | AZ23: =F23-AD23 -> 0 | BA23: =G23-AE23 -> 0 | BB23: =H23-AF23 -> 0 | BC23: =I23-AG23 -> 0 | BD23: =J23-AH23 -> 0 | BE23: =K23-AI23 -> 0 | BF23: =L23-AJ23 -> 0 | ... BR23: =X23-AV23 -> 0.060399319
C24: 20 | D24: 長野県 | E24: 22.734537 | F24: 2195.8903 | G24: 39.775145 | H24: 81.580676 | I24: 59.855581 | J24: 108.25762 | K24: 15.622863 | L24: 108.52656 | M24: 1.1076774 | N24: 56.033209 | P24: 0.79067902 | Q24: 65.469355 | R24: 207.50783 | S24: 128.75893 | T24: 906.02916 | U24: 906.68847 | V24: 0.70373172 | W24: 60.711792 | X24: 4966.0441 | AA24: 20 | AB24: 長野県 | AC24: 22.734537 | AD24: 2195.8903 | AE24: 39.775145 | AF24: 81.580676 | AG24: 59.855581 | AH24: 108.25762 | AI24: 15.622863 | AJ24: 108.52656 | AK24: 1.1076774 | AL24: 56.033209 | AM24: 0 | AN24: 0.79067902 | AO24: 65.469355 | AP24: 207.50783 | AQ24: 128.75893 | AR24: 906.02916 | AS24: 906.68847 | AT24: 0.69834583 | AU24: 60.711792 | AV24: 4966.0387 | AW24: 20 | AX24: 長野県 | AY24: =E24-AC24 -> 0 | AZ24: =F24-AD24 -> 0 | BA24: =G24-AE24 -> 0 | BB24: =H24-AF24 -> 0 | BC24: =I24-AG24 -> 0 | BD24: =J24-AH24 -> 0 | BE24: =K24-AI24 -> 0 | BF24: =L24-AJ24 -> 0 | ... BR24: =X24-AV24 -> 0.0053858884
C25: 21 | D25: 岐阜県 | E25: 2.2846217 | F25: 2442.4343 | G25: 35.097559 | H25: 36.922554 | I25: 22.777224 | J25: 97.998519 | K25: 24.284127 | L25: 142.03718 | M25: 5.4150315 | N25: 43.512134 | O25: 0.14561284 | P25: 0.010779229 | Q25: 63.267942 | R25: 182.92339 | S25: 64.607871 | T25: 846.45166 | U25: 717.00418 | V25: 0.98076943 | W25: 3.6161591 | X25: 4731.7716 | AA25: 21 | AB25: 岐阜県 | AC25: 2.2846217 | AD25: 2442.4343 | AE25: 35.097559 | AF25: 36.922554 | AG25: 22.777224 | AH25: 97.998519 | AI25: 24.284127 | AJ25: 142.03718 | AK25: 5.4150315 | AL25: 43.512134 | AM25: 0.14561284 | AN25: 0.010779229 | AO25: 63.267942 | AP25: 182.92339 | AQ25: 64.607871 | AR25: 846.45166 | AS25: 717.00418 | AT25: 1.0130363 | AU25: 3.6161591 | AV25: 4731.8039 | AW25: 21 | AX25: 岐阜県 | AY25: =E25-AC25 -> 0 | AZ25: =F25-AD25 -> 0 | BA25: =G25-AE25 -> 0 | BB25: =H25-AF25 -> 0 | BC25: =I25-AG25 -> 0 | BD25: =J25-AH25 -> 0 | BE25: =K25-AI25 -> 0 | BF25: =L25-AJ25 -> 0 | ... BR25: =X25-AV25 -> -0.032266906
C26: 22 | D26: 静岡県 | E26: 21.139227 | F26: 6088.1523 | G26: 101.47181 | H26: 36.164843 | I26: 48.37942 | J26: 299.89792 | K26: 59.546714 | L26: 222.52594 | M26: 3.3869232 | N26: 145.73494 | O26: 3.081 | P26: 0.003912 | Q26: 51.311221 | R26: 316.15222 | S26: 36.508504 | T26: 1958.0146 | U26: 953.09348 | V26: 0.86725442 | W26: 40.563249 | X26: 10385.995 | AA26: 22 | AB26: 静岡県 | AC26: 21.139227 | AD26: 6088.1523 | AE26: 101.47181 | AF26: 36.164843 | AG26: 48.37942 | AH26: 299.89792 | AI26: 59.546714 | AJ26: 222.52594 | AK26: 3.3869232 | AL26: 145.73494 | AM26: 3.081 | AN26: 0.003912 | AO26: 51.311221 | AP26: 316.15222 | AQ26: 36.508504 | AR26: 1958.0146 | AS26: 953.09348 | AT26: 0.97400227 | AU26: 40.563249 | AV26: 10386.102 | AW26: 22 | AX26: 静岡県 | AY26: =E26-AC26 -> 0 | AZ26: =F26-AD26 -> 0 | BA26: =G26-AE26 -> 0 | BB26: =H26-AF26 -> 0 | BC26: =I26-AG26 -> 0 | BD26: =J26-AH26 -> 0 | BE26: =K26-AI26 -> 0 | BF26: =L26-AJ26 -> 0 | ... BR26: =X26-AV26 -> -0.10674785
C27: 23 | D27: 愛知県 | E27: 147.01678 | F27: 8849.9096 | G27: 87.459001 | H27: 49.666043 | I27: 71.255594 | J27: 312.16133 | K27: 18.642846 | L27: 338.46182 | M27: 6.57169 | N27: 71.958143 | O27: 0.39023078 | P27: 0.12455359 | Q27: 614.90513 | R27: 345.23559 | S27: 1304.9199 | T27: 4088.4901 | U27: 2056.2275 | V27: 2.0336129 | W27: 1598.014 | X27: 19963.444 | AA27: 23 | AB27: 愛知県 | AC27: 147.01678 | AD27: 8849.9096 | AE27: 87.459001 | AF27: 49.666043 | AG27: 71.255594 | AH27: 312.16133 | AI27: 18.642846 | AJ27: 338.46182 | AK27: 6.57169 | AL27: 71.958143 | AM27: 0.39023078 | AN27: 0.12455359 | AO27: 614.90513 | AP27: 345.23559 | AQ27: 1304.9199 | AR27: 4088.4901 | AS27: 2056.2275 | AT27: 2.0566151 | AU27: 1598.014 | AV27: 19963.467 | AW27: 23 | AX27: 愛知県 | AY27: =E27-AC27 -> 0 | AZ27: =F27-AD27 -> 0 | BA27: =G27-AE27 -> 0 | BB27: =H27-AF27 -> 0 | BC27: =I27-AG27 -> 0 | BD27: =J27-AH27 -> 0 | BE27: =K27-AI27 -> 0 | BF27: =L27-AJ27 -> 0 | ... BR27: =X27-AV27 -> -0.023002219
C28: 24 | D28: 三重県 | E28: 49.525649 | F28: 4867.3228 | G28: 74.869047 | H28: 77.688074 | I28: 636.30639 | J28: 152.52627 | K28: 5.596 | L28: 179.68329 | M28: 4.101 | N28: 29.078 | P28: 1.3878845 | Q28: 169.70296 | R28: 301.47638 | S28: 96.038129 | T28: 1719.7601 | U28: 901.80623 | V28: 0.50858702 | W28: 108.97647 | X28: 9376.3532 | AA28: 24 | AB28: 三重県 | AC28: 49.525649 | AD28: 4867.3228 | AE28: 74.869047 | AF28: 77.688074 | AG28: 636.30639 | AH28: 152.52627 | AI28: 5.596 | AJ28: 179.68329 | AK28: 4.101 | AL28: 29.078 | AM28: 0 | AN28: 1.3878845 | AO28: 169.70296 | AP28: 301.47638 | AQ28: 96.038129 | AR28: 1719.7601 | AS28: 901.80623 | AT28: 0.48161556 | AU28: 108.97647 | AV28: 9376.3263 | AW28: 24 | AX28: 三重県 | AY28: =E28-AC28 -> 0 | AZ28: =F28-AD28 -> 0 | BA28: =G28-AE28 -> 0 | BB28: =H28-AF28 -> 0 | BC28: =I28-AG28 -> 0 | BD28: =J28-AH28 -> 0 | BE28: =K28-AI28 -> 0 | BF28: =L28-AJ28 -> 0 | ... BR28: =X28-AV28 -> 0.026971464
C29: 25 | D29: 滋賀県 | E29: 5.328757 | F29: 1951.1753 | G29: 52.422365 | H29: 14.686533 | I29: 82.066086 | J29: 156.6686 | K29: 5.800201 | L29: 77.692015 | M29: 0.562916 | N29: 24.183108 | P29: 0.06688 | Q29: 26.540456 | R29: 110.09912 | S29: 29.400455 | T29: 840.76502 | U29: 247.53497 | V29: 0.17050039 | W29: 7.431509 | X29: 3632.5948 | AA29: 25 | AB29: 滋賀県 | AC29: 5.328757 | AD29: 1951.1753 | AE29: 52.422365 | AF29: 14.686533 | AG29: 82.066086 | AH29: 156.6686 | AI29: 5.800201 | AJ29: 77.692015 | AK29: 0.562916 | AL29: 24.183108 | AM29: 0 | AN29: 0.06688 | AO29: 26.540456 | AP29: 110.09912 | AQ29: 29.400455 | AR29: 840.76502 | AS29: 247.53497 | AT29: 0.16634738 | AU29: 7.431509 | AV29: 3632.5907 | AW29: 25 | AX29: 滋賀県 | AY29: =E29-AC29 -> 0 | AZ29: =F29-AD29 -> 0 | BA29: =G29-AE29 -> 0 | BB29: =H29-AF29 -> 0 | BC29: =I29-AG29 -> 0 | BD29: =J29-AH29 -> 0 | BE29: =K29-AI29 -> 0 | BF29: =L29-AJ29 -> 0 | ... BR29: =X29-AV29 -> 0.0041530075
C30: 26 | D30: 京都府 | E30: 30.278008 | F30: 2433.6108 | G30: 37.770462 | H30: 15.465972 | I30: 11.11714 | J30: 128.92606 | K30: 7.0886342 | L30: 77.017505 | M30: 1.2630411 | N30: 57.564169 | O30: 0.14994294 | P30: 0.063722608 | Q30: 44.860574 | R30: 41.238347 | S30: 52.716068 | T30: 802.67695 | U30: 260.81622 | V30: 0.31743697 | W30: 421.32571 | X30: 4424.2667 | AA30: 26 | AB30: 京都府 | AC30: 30.278008 | AD30: 2433.6108 | AE30: 37.770462 | AF30: 15.465972 | AG30: 11.11714 | AH30: 128.92606 | AI30: 7.0886342 | AJ30: 77.017505 | AK30: 1.2630411 | AL30: 57.564169 | AM30: 0.14994294 | AN30: 0.063722608 | AO30: 44.860574 | AP30: 41.238347 | AQ30: 52.716068 | AR30: 802.67695 | AS30: 260.81622 | AT30: 0.35667634 | AU30: 421.32571 | AV30: 4424.306 | AW30: 26 | AX30: 京都府 | AY30: =E30-AC30 -> 0 | AZ30: =F30-AD30 -> 0 | BA30: =G30-AE30 -> 0 | BB30: =H30-AF30 -> 0 | BC30: =I30-AG30 -> 0 | BD30: =J30-AH30 -> 0 | BE30: =K30-AI30 -> 0 | BF30: =L30-AJ30 -> 0 | ... BR30: =X30-AV30 -> -0.039239373
C31: 27 | D31: 大阪府 | E31: 1.7660483 | F31: 8883.1082 | G31: 148.68771 | H31: 168.71571 | I31: 123.22829 | J31: 278.53694 | K31: 53.8596 | L31: 206.89229 | M31: 4.604263 | N31: 81.837797 | O31: 0.74679282 | P31: 1.4125682 | Q31: 443.24625 | R31: 137.70373 | S31: 290.0737 | T31: 2573.4538 | U31: 49.060015 | V31: 0.10598106 | W31: 77.577668 | X31: 13524.617 | AA31: 27 | AB31: 大阪府 | AC31: 1.7660483 | AD31: 8883.1082 | AE31: 148.68771 | AF31: 168.71571 | AG31: 123.22829 | AH31: 278.53694 | AI31: 53.8596 | AJ31: 206.89229 | AK31: 4.604263 | AL31: 81.837797 | AM31: 0.74679282 | AN31: 1.4125682 | AO31: 443.24625 | AP31: 137.70373 | AQ31: 290.0737 | AR31: 2573.4538 | AS31: 49.060015 | AT31: 0.11266616 | AU31: 77.577668 | AV31: 13524.624 | AW31: 27 | AX31: 大阪府 | AY31: =E31-AC31 -> 0 | AZ31: =F31-AD31 -> 0 | BA31: =G31-AE31 -> 0 | BB31: =H31-AF31 -> 0 | BC31: =I31-AG31 -> 0 | BD31: =J31-AH31 -> 0 | BE31: =K31-AI31 -> 0 | BF31: =L31-AJ31 -> 0 | ... BR31: =X31-AV31 -> -0.0066851005
C32: 28 | D32: 兵庫県 | E32: 80.104585 | F32: 7667.1855 | G32: 317.00028 | H32: 106.78395 | I32: 101.87517 | J32: 529.85214 | K32: 67.805261 | L32: 456.68214 | M32: 3.1003749 | N32: 53.677781 | O32: 2.5019416 | P32: 1.0138682 | Q32: 949.26223 | R32: 532.98073 | S32: 4269.3254 | T32: 1690.2916 | U32: 1170.7302 | V32: 1.4854261 | W32: 1331.3297 | X32: 19332.988 | AA32: 28 | AB32: 兵庫県 | AC32: 80.104585 | AD32: 7667.1855 | AE32: 317.00028 | AF32: 106.78395 | AG32: 101.87517 | AH32: 529.85214 | AI32: 67.805261 | AJ32: 456.68214 | AK32: 3.1003749 | AL32: 53.677781 | AM32: 2.5019416 | AN32: 1.0138682 | AO32: 949.26223 | AP32: 532.98073 | AQ32: 4269.3254 | AR32: 1690.2916 | AS32: 1170.7302 | AT32: 1.5093963 | AU32: 1331.3297 | AV32: 19333.012 | AW32: 28 | AX32: 兵庫県 | AY32: =E32-AC32 -> 0 | AZ32: =F32-AD32 -> 0 | BA32: =G32-AE32 -> 0 | BB32: =H32-AF32 -> 0 | BC32: =I32-AG32 -> 0 | BD32: =J32-AH32 -> 0 | BE32: =K32-AI32 -> 0 | BF32: =L32-AJ32 -> 0 | ... BR32: =X32-AV32 -> -0.023970176
C33: 29 | D33: 奈良県 | E33: 0.84860406 | F33: 727.15453 | G33: 14.896222 | H33: 10.089553 | I33: 5.0876928 | J33: 45.134425 | K33: 7.336 | L33: 44.635603 | M33: 0.415 | N33: 8.345 | O33: 0.028979582 | P33: 0.248964 | Q33: 19.761785 | R33: 30.925113 | S33: 1.91 | T33: 333.18572 | U33: 139.04347 | V33: 0.21861649 | W33: 0.34170469 | X33: 1389.607 | AA33: 29 | AB33: 奈良県 | AC33: 0.84860406 | AD33: 727.15453 | AE33: 14.896222 | AF33: 10.089553 | AG33: 5.0876928 | AH33: 45.134425 | AI33: 7.336 | AJ33: 44.635603 | AK33: 0.415 | AL33: 8.345 | AM33: 0.028979582 | AN33: 0.248964 | AO33: 19.761785 | AP33: 30.925113 | AQ33: 1.91 | AR33: 333.18572 | AS33: 139.04347 | AT33: 0.20950362 | AU33: 0.34170469 | AV33: 1389.5979 | AW33: 29 | AX33: 奈良県 | AY33: =E33-AC33 -> 0 | AZ33: =F33-AD33 -> 0 | BA33: =G33-AE33 -> 0 | BB33: =H33-AF33 -> 0 | BC33: =I33-AG33 -> 0 | BD33: =J33-AH33 -> 0 | BE33: =K33-AI33 -> 0 | BF33: =L33-AJ33 -> 0 | ... BR33: =X33-AV33 -> 0.0091128623
C34: 30 | D34: 和歌山県 | E34: 0.40546 | F34: 446.96223 | G34: 35.004343 | H34: 23.979399 | I34: 23.653458 | J34: 21.499761 | K34: 0.54078 | L34: 71.46398 | M34: 0.084278 | N34: 19.642154 | O34: 1.7919 | P34: 0.003068 | Q34: 22.285467 | R34: 110.51834 | S34: 1067.7771 | T34: 802.34597 | U34: 78.886355 | V34: 0.075125747 | W34: 861.08204 | X34: 3588.0012 | AA34: 30 | AB34: 和歌山県 | AC34: 0.40546 | AD34: 446.96223 | AE34: 35.004343 | AF34: 23.979399 | AG34: 23.653458 | AH34: 21.499761 | AI34: 0.54078 | AJ34: 71.46398 | AK34: 0.084278 | AL34: 19.642154 | AM34: 1.7919 | AN34: 0.003068 | AO34: 22.285467 | AP34: 110.51834 | AQ34: 1067.7771 | AR34: 802.34597 | AS34: 78.886355 | AT34: 0.087158537 | AU34: 861.08204 | AV34: 3588.0132 | AW34: 30 | AX34: 和歌山県 | AY34: =E34-AC34 -> 0 | AZ34: =F34-AD34 -> 0 | BA34: =G34-AE34 -> 0 | BB34: =H34-AF34 -> 0 | BC34: =I34-AG34 -> 0 | BD34: =J34-AH34 -> 0 | BE34: =K34-AI34 -> 0 | BF34: =L34-AJ34 -> 0 | ... BR34: =X34-AV34 -> -0.01203279
C35: 31 | D35: 鳥取県 | E35: 6.7589539 | F35: 526.01854 | G35: 5.5554881 | H35: 1.7385594 | I35: 3.3071328 | J35: 33.535872 | K35: 1.0209411 | L35: 54.714975 | M35: 0.18492933 | N35: 3.4285414 | P35: 0.035399616 | Q35: 13.886684 | R35: 21.425376 | S35: 12.330416 | T35: 214.79619 | U35: 614.3388 | V35: 0.81599956 | W35: 30.935276 | X35: 1544.8281 | AA35: 31 | AB35: 鳥取県 | AC35: 6.7589539 | AD35: 526.01854 | AE35: 5.5554881 | AF35: 1.7385594 | AG35: 3.3071328 | AH35: 33.535872 | AI35: 1.0209411 | AJ35: 54.714975 | AK35: 0.18492933 | AL35: 3.4285414 | AM35: 0 | AN35: 0.035399616 | AO35: 13.886684 | AP35: 21.425376 | AQ35: 12.330416 | AR35: 214.79619 | AS35: 614.3388 | AT35: 0.73812246 | AU35: 30.935276 | AV35: 1544.7502 | AW35: 31 | AX35: 鳥取県 | AY35: =E35-AC35 -> 0 | AZ35: =F35-AD35 -> 0 | BA35: =G35-AE35 -> 0 | BB35: =H35-AF35 -> 0 | BC35: =I35-AG35 -> 0 | BD35: =J35-AH35 -> 0 | BE35: =K35-AI35 -> 0 | BF35: =L35-AJ35 -> 0 | ... BR35: =X35-AV35 -> 0.077877102
C36: 32 | D36: 島根県 | E36: 48.651094 | F36: 326.25792 | G36: 170.54974 | H36: 1.9207386 | I36: 2.8862571 | J36: 37.246036 | K36: 3.8862143 | L36: 179.06728 | M36: 0.71075183 | N36: 3.0994027 | O36: 0.10711986 | P36: 0.58858278 | Q36: 49.053597 | R36: 40.280576 | S36: 130.806 | T36: 525.89131 | U36: 592.29937 | V36: 0.97752324 | W36: 247.07499 | X36: 2361.3545 | AA36: 32 | AB36: 島根県 | AC36: 48.651094 | AD36: 326.25792 | AE36: 170.54974 | AF36: 1.9207386 | AG36: 2.8862571 | AH36: 37.246036 | AI36: 3.8862143 | AJ36: 179.06728 | AK36: 0.71075183 | AL36: 3.0994027 | AM36: 0.10711986 | AN36: 0.58858278 | AO36: 49.053597 | AP36: 40.280576 | AQ36: 130.806 | AR36: 525.89131 | AS36: 592.29937 | AT36: 0.86313443 | AU36: 247.07499 | AV36: 2361.2401 | AW36: 32 | AX36: 島根県 | AY36: =E36-AC36 -> 0 | AZ36: =F36-AD36 -> 0 | BA36: =G36-AE36 -> 0 | BB36: =H36-AF36 -> 0 | BC36: =I36-AG36 -> 0 | BD36: =J36-AH36 -> 0 | BE36: =K36-AI36 -> 0 | BF36: =L36-AJ36 -> 0 | ... BR36: =X36-AV36 -> 0.11438881
C37: 33 | D37: 岡山県 | E37: 22.360397 | F37: 2678.4571 | G37: 86.542335 | H37: 46.387113 | I37: 112.56638 | J37: 156.28413 | K37: 31.392 | L37: 178.52095 | M37: 1.035 | N37: 39.431 | O37: 0.239 | P37: 0.12000493 | Q37: 111.73327 | R37: 143.339 | S37: 254.69515 | T37: 819.98472 | U37: 1173.4024 | V37: 1.2901362 | W37: 428.58552 | X37: 6286.3656 | AA37: 33 | AB37: 岡山県 | AC37: 22.360397 | AD37: 2678.4571 | AE37: 86.542335 | AF37: 46.387113 | AG37: 112.56638 | AH37: 156.28413 | AI37: 31.392 | AJ37: 178.52095 | AK37: 1.035 | AL37: 39.431 | AM37: 0.239 | AN37: 0.12000493 | AO37: 111.73327 | AP37: 143.339 | AQ37: 254.69515 | AR37: 819.98472 | AS37: 1173.4024 | AT37: 0.95049061 | AU37: 428.58552 | AV37: 6286.0259 | AW37: 33 | AX37: 岡山県 | AY37: =E37-AC37 -> 0 | AZ37: =F37-AD37 -> 0 | BA37: =G37-AE37 -> 0 | BB37: =H37-AF37 -> 0 | BC37: =I37-AG37 -> 0 | BD37: =J37-AH37 -> 0 | BE37: =K37-AI37 -> 0 | BF37: =L37-AJ37 -> 0 | ... BR37: =X37-AV37 -> 0.33964558
C38: 34 | D38: 広島県 | E38: 94.958 | F38: 3653.9297 | G38: 86.658 | H38: 17.737 | I38: 21.484 | J38: 226.898 | K38: 8.697 | L38: 337.806 | M38: 1.926 | N38: 21.424 | O38: 3.604 | P38: 0.067 | Q38: 60.549 | R38: 215.936 | S38: 712.753 | T38: 1413.676 | U38: 1009.0702 | V38: 1.6197644 | W38: 858.337 | X38: 8747.1297 | AA38: 34 | AB38: 広島県 | AC38: 94.958 | AD38: 3653.9297 | AE38: 86.658 | AF38: 17.737 | AG38: 21.484 | AH38: 226.898 | AI38: 8.697 | AJ38: 337.806 | AK38: 1.926 | AL38: 21.424 | AM38: 3.604 | AN38: 0.067 | AO38: 60.549 | AP38: 215.936 | AQ38: 712.753 | AR38: 1413.676 | AS38: 1009.0702 | AT38: 1.7906814 | AU38: 858.337 | AV38: 8747.3007 | AW38: 34 | AX38: 広島県 | AY38: =E38-AC38 -> 0 | AZ38: =F38-AD38 -> 0 | BA38: =G38-AE38 -> 0 | BB38: =H38-AF38 -> 0 | BC38: =I38-AG38 -> 0 | BD38: =J38-AH38 -> 0 | BE38: =K38-AI38 -> 0 | BF38: =L38-AJ38 -> 0 | ... BR38: =X38-AV38 -> -0.17091699
C39: 35 | D39: 山口県 | E39: 178.29569 | F39: 2836.1792 | G39: 87.857429 | H39: 88.601883 | I39: 101.15214 | J39: 205.06049 | K39: 9.7202897 | L39: 157.60853 | M39: 1.7302532 | N39: 39.670601 | O39: 1.6304952 | P39: 0.54521635 | Q39: 971.09894 | R39: 223.63093 | S39: 298.34156 | T39: 1017.668 | U39: 394.54456 | V39: 0.30728853 | W39: 876.62638 | X39: 7490.2699 | AA39: 35 | AB39: 山口県 | AC39: 178.29569 | AD39: 2836.1792 | AE39: 87.857429 | AF39: 88.601883 | AG39: 101.15214 | AH39: 205.06049 | AI39: 9.7202897 | AJ39: 157.60853 | AK39: 1.7302532 | AL39: 39.670601 | AM39: 1.6304952 | AN39: 0.54521635 | AO39: 971.09894 | AP39: 223.63093 | AQ39: 298.34156 | AR39: 1017.668 | AS39: 394.54456 | AT39: 0.26210634 | AU39: 876.62638 | AV39: 7490.2247 | AW39: 35 | AX39: 山口県 | AY39: =E39-AC39 -> 0 | AZ39: =F39-AD39 -> 0 | BA39: =G39-AE39 -> 0 | BB39: =H39-AF39 -> 0 | BC39: =I39-AG39 -> 0 | BD39: =J39-AH39 -> 0 | BE39: =K39-AI39 -> 0 | BF39: =L39-AJ39 -> 0 | ... BR39: =X39-AV39 -> 0.045182186
C40: 36 | D40: 徳島県 | E40: 47.357603 | F40: 1162.3771 | G40: 13.804528 | H40: 5.0591763 | I40: 17.961495 | J40: 49.167887 | K40: 24.085604 | L40: 40.918996 | M40: 0.91052728 | N40: 30.302481 | P40: 0.025295219 | Q40: 26.618107 | R40: 13.711501 | S40: 2.8111946 | T40: 320.04727 | U40: 621.54499 | V40: 0.39813458 | W40: 177.24861 | X40: 2554.3505 | AA40: 36 | AB40: 徳島県 | AC40: 47.357603 | AD40: 1162.3771 | AE40: 13.804528 | AF40: 5.0591763 | AG40: 17.961495 | AH40: 49.167887 | AI40: 24.085604 | AJ40: 40.918996 | AK40: 0.91052728 | AL40: 30.302481 | AM40: 0 | AN40: 0.025295219 | AO40: 26.618107 | AP40: 13.711501 | AQ40: 2.8111946 | AR40: 320.04727 | AS40: 621.54499 | AT40: 0.36218093 | AU40: 177.24861 | AV40: 2554.3145 | AW40: 36 | AX40: 徳島県 | AY40: =E40-AC40 -> 0 | AZ40: =F40-AD40 -> 0 | BA40: =G40-AE40 -> 0 | BB40: =H40-AF40 -> 0 | BC40: =I40-AG40 -> 0 | BD40: =J40-AH40 -> 0 | BE40: =K40-AI40 -> 0 | BF40: =L40-AJ40 -> 0 | ... BR40: =X40-AV40 -> 0.03595365
C41: 37 | D41: 香川県 | E41: 7.133462 | F41: 559.09664 | G41: 12.931049 | H41: 9.6504269 | I41: 13.035468 | J41: 117.59255 | K41: 6.4023058 | L41: 63.494118 | M41: 1.2476344 | N41: 33.031084 | O41: 0.59041758 | P41: 0.47695797 | Q41: 16.049291 | R41: 28.238563 | S41: 7.3254623 | T41: 919.91887 | U41: 677.62506 | V41: 0.48634855 | W41: 8.7775655 | X41: 2483.1033 | AA41: 37 | AB41: 香川県 | AC41: 7.133462 | AD41: 559.09664 | AE41: 12.931049 | AF41: 9.6504269 | AG41: 13.035468 | AH41: 117.59255 | AI41: 6.4023058 | AJ41: 63.494118 | AK41: 1.2476344 | AL41: 33.031084 | AM41: 0.59041758 | AN41: 0.47695797 | AO41: 16.049291 | AP41: 28.238563 | AQ41: 7.3254623 | AR41: 919.91887 | AS41: 677.62506 | AT41: 0.66912645 | AU41: 8.7775655 | AV41: 2483.286 | AW41: 37 | AX41: 香川県 | AY41: =E41-AC41 -> 0 | AZ41: =F41-AD41 -> 0 | BA41: =G41-AE41 -> 0 | BB41: =H41-AF41 -> 0 | BC41: =I41-AG41 -> 0 | BD41: =J41-AH41 -> 0 | BE41: =K41-AI41 -> 0 | BF41: =L41-AJ41 -> 0 | ... BR41: =X41-AV41 -> -0.1827779
C42: 38 | D42: 愛媛県 | E42: 127.98388 | F42: 5064.9936 | G42: 36.429575 | H42: 8.7710852 | I42: 12.079799 | J42: 130.92065 | K42: 61.940847 | L42: 134.96712 | M42: 3.2804902 | N42: 62.170934 | P42: 0.16008487 | Q42: 70.597222 | R42: 77.155511 | S42: 15.950591 | T42: 598.60731 | U42: 814.50772 | V42: 2.4198103 | W42: 499.23725 | X42: 7722.1735 | AA42: 38 | AB42: 愛媛県 | AC42: 127.98388 | AD42: 5064.9936 | AE42: 36.429575 | AF42: 8.7710852 | AG42: 12.079799 | AH42: 130.92065 | AI42: 61.940847 | AJ42: 134.96712 | AK42: 3.2804902 | AL42: 62.170934 | AM42: 0 | AN42: 0.16008487 | AO42: 70.597222 | AP42: 77.155511 | AQ42: 15.950591 | AR42: 598.60731 | AS42: 814.50772 | AT42: 2.4313551 | AU42: 499.23725 | AV42: 7722.1851 | AW42: 38 | AX42: 愛媛県 | AY42: =E42-AC42 -> 0 | AZ42: =F42-AD42 -> 0 | BA42: =G42-AE42 -> 0 | BB42: =H42-AF42 -> 0 | BC42: =I42-AG42 -> 0 | BD42: =J42-AH42 -> 0 | BE42: =K42-AI42 -> 0 | BF42: =L42-AJ42 -> 0 | ... BR42: =X42-AV42 -> -0.011544796
C43: 39 | D43: 高知県 | E43: 107.95737 | F43: 203.96539 | G43: 5.9070909 | H43: 1.578287 | I43: 0.72215591 | J43: 28.038891 | K43: 6.0784288 | L43: 61.039933 | M43: 2.1873694 | N43: 8.8561679 | O43: 0.11068582 | P43: 0.08055159 | Q43: 28.239755 | R43: 41.880537 | S43: 7.5397467 | T43: 581.00824 | U43: 202.53266 | V43: 0.43496176 | W43: 99.450075 | X43: 1387.6083 | AA43: 39 | AB43: 高知県 | AC43: 107.95737 | AD43: 203.96539 | AE43: 5.9070909 | AF43: 1.578287 | AG43: 0.72215591 | AH43: 28.038891 | AI43: 6.0784288 | AJ43: 61.039933 | AK43: 2.1873694 | AL43: 8.8561679 | AM43: 0.11068582 | AN43: 0.08055159 | AO43: 28.239755 | AP43: 41.880537 | AQ43: 7.5397467 | AR43: 581.00824 | AS43: 202.53266 | AT43: 0.4489693 | AU43: 99.450075 | AV43: 1387.6223 | AW43: 39 | AX43: 高知県 | AY43: =E43-AC43 -> 0 | AZ43: =F43-AD43 -> 0 | BA43: =G43-AE43 -> 0 | BB43: =H43-AF43 -> 0 | BC43: =I43-AG43 -> 0 | BD43: =J43-AH43 -> 0 | BE43: =K43-AI43 -> 0 | BF43: =L43-AJ43 -> 0 | ... BR43: =X43-AV43 -> -0.014007545
C44: 40 | D44: 福岡県 | E44: 41.471023 | F44: 6886.5548 | G44: 85.25889 | H44: 309.91812 | I44: 202.40276 | J44: 298.30988 | K44: 24.480532 | L44: 226.12638 | M44: 0.962 | N44: 19.031646 | P44: 0.47702965 | Q44: 1021.2129 | R44: 474.67239 | S44: 422.2138 | T44: 2949.3114 | U44: 814.78585 | V44: 1.6313587 | W44: 588.68825 | X44: 14367.509 | AA44: 40 | AB44: 福岡県 | AC44: 41.471023 | AD44: 6886.5548 | AE44: 85.25889 | AF44: 309.91812 | AG44: 202.40276 | AH44: 298.30988 | AI44: 24.480532 | AJ44: 226.12638 | AK44: 0.962 | AL44: 19.031646 | AM44: 0 | AN44: 0.47702965 | AO44: 1021.2129 | AP44: 474.67239 | AQ44: 422.2138 | AR44: 2949.3114 | AS44: 814.78585 | AT44: 1.6973135 | AU44: 588.68825 | AV44: 14367.575 | AW44: 40 | AX44: 福岡県 | AY44: =E44-AC44 -> 0 | AZ44: =F44-AD44 -> 0 | BA44: =G44-AE44 -> 0 | BB44: =H44-AF44 -> 0 | BC44: =I44-AG44 -> 0 | BD44: =J44-AH44 -> 0 | BE44: =K44-AI44 -> 0 | BF44: =L44-AJ44 -> 0 | ... BR44: =X44-AV44 -> -0.065954785
C45: 41 | D45: 佐賀県 | E45: 1.8721481 | F45: 1338.4003 | G45: 17.493605 | H45: 11.614881 | I45: 5.1939841 | J45: 55.973518 | K45: 2.446 | L45: 72.517254 | M45: 0.346 | N45: 40.768 | O45: 0.568 | P45: 0.032001705 | Q45: 22.1326 | R45: 40.225219 | S45: 27.20805 | T45: 441.23566 | U45: 915.05828 | V45: 0.63063123 | W45: 12.899 | X45: 3006.6152 | AA45: 41 | AB45: 佐賀県 | AC45: 1.8721481 | AD45: 1338.4003 | AE45: 17.493605 | AF45: 11.614881 | AG45: 5.1939841 | AH45: 55.973518 | AI45: 2.446 | AJ45: 72.517254 | AK45: 0.346 | AL45: 40.768 | AM45: 0.568 | AN45: 0.032001705 | AO45: 22.1326 | AP45: 40.225219 | AQ45: 27.20805 | AR45: 441.23566 | AS45: 915.05828 | AT45: 0.61881277 | AU45: 12.899 | AV45: 3006.6034 | AW45: 41 | AX45: 佐賀県 | AY45: =E45-AC45 -> 0 | AZ45: =F45-AD45 -> 0 | BA45: =G45-AE45 -> 0 | BB45: =H45-AF45 -> 0 | BC45: =I45-AG45 -> 0 | BD45: =J45-AH45 -> 0 | BE45: =K45-AI45 -> 0 | BF45: =L45-AJ45 -> 0 | ... BR45: =X45-AV45 -> 0.01181846
C46: 42 | D46: 長崎県 | E46: 36.191458 | F46: 950.10568 | G46: 17.903592 | H46: 5.1632374 | I46: 6.2930427 | J46: 45.584353 | K46: 3.1237054 | L46: 94.445358 | M46: 0.33395328 | N46: 18.059818 | P46: 0.0060608583 | Q46: 37.528023 | R46: 52.270376 | S46: 6.0820251 | T46: 650.90807 | U46: 1481.9438 | V46: 2.7596572 | W46: 712.76376 | X46: 4121.466 | AA46: 42 | AB46: 長崎県 | AC46: 36.191458 | AD46: 950.10568 | AE46: 17.903592 | AF46: 5.1632374 | AG46: 6.2930427 | AH46: 45.584353 | AI46: 3.1237054 | AJ46: 94.445358 | AK46: 0.33395328 | AL46: 18.059818 | AM46: 0 | AN46: 0.0060608583 | AO46: 37.528023 | AP46: 52.270376 | AQ46: 6.0820251 | AR46: 650.90807 | AS46: 1481.9438 | AT46: 2.7205897 | AU46: 712.76376 | AV46: 4121.4269 | AW46: 42 | AX46: 長崎県 | AY46: =E46-AC46 -> 0 | AZ46: =F46-AD46 -> 0 | BA46: =G46-AE46 -> 0 | BB46: =H46-AF46 -> 0 | BC46: =I46-AG46 -> 0 | BD46: =J46-AH46 -> 0 | BE46: =K46-AI46 -> 0 | BF46: =L46-AJ46 -> 0 | ... BR46: =X46-AV46 -> 0.039067553
C47: 43 | D47: 熊本県 | E47: 30.198118 | F47: 2135.9569 | G47: 43.041106 | H47: 34.217317 | I47: 68.566802 | J47: 76.793915 | K47: 11.366415 | L47: 131.77749 | M47: 5.6031016 | N47: 43.248344 | O47: 3.5777262 | P47: 0.39515262 | Q47: 80.748461 | R47: 94.132625 | S47: 63.502235 | T47: 1141.6788 | U47: 2785.1555 | V47: 3.6387377 | W47: 414.14964 | X47: 7167.7484 | AA47: 43 | AB47: 熊本県 | AC47: 30.198118 | AD47: 2135.9569 | AE47: 43.041106 | AF47: 34.217317 | AG47: 68.566802 | AH47: 76.793915 | AI47: 11.366415 | AJ47: 131.77749 | AK47: 5.6031016 | AL47: 43.248344 | AM47: 3.5777262 | AN47: 0.39515262 | AO47: 80.748461 | AP47: 94.132625 | AQ47: 63.502235 | AR47: 1141.6788 | AS47: 2785.1555 | AT47: 9.6278023 | AU47: 414.14964 | AV47: 7173.7374 | AW47: 43 | AX47: 熊本県 | AY47: =E47-AC47 -> 0 | AZ47: =F47-AD47 -> 0 | BA47: =G47-AE47 -> 0 | BB47: =H47-AF47 -> 0 | BC47: =I47-AG47 -> 0 | BD47: =J47-AH47 -> 0 | BE47: =K47-AI47 -> 0 | BF47: =L47-AJ47 -> 0 | ... BR47: =X47-AV47 -> -5.9890647
C48: 44 | D48: 大分県 | E48: 11.741013 | F48: 1129.966 | G48: 40.149502 | H48: 74.603111 | I48: 18.074572 | J48: 54.352342 | K48: 8.3341031 | L48: 105.87641 | M48: 0.7577727 | N48: 55.665107 | O48: 1.3137954 | P48: 0.60699171 | Q48: 69.14533 | R48: 54.549855 | S48: 11.44569 | T48: 944.14677 | U48: 1152.659 | V48: 3.0817309 | W48: 98.621267 | X48: 3835.0904 | AA48: 44 | AB48: 大分県 | AC48: 11.741013 | AD48: 1129.966 | AE48: 40.149502 | AF48: 74.603111 | AG48: 18.074572 | AH48: 54.352342 | AI48: 8.3341031 | AJ48: 105.87641 | AK48: 0.7577727 | AL48: 55.665107 | AM48: 1.3137954 | AN48: 0.60699171 | AO48: 69.14533 | AP48: 54.549855 | AQ48: 11.44569 | AR48: 944.14677 | AS48: 1152.659 | AT48: 3.1402214 | AU48: 98.621267 | AV48: 3835.1489 | AW48: 44 | AX48: 大分県 | AY48: =E48-AC48 -> 0 | AZ48: =F48-AD48 -> 0 | BA48: =G48-AE48 -> 0 | BB48: =H48-AF48 -> 0 | BC48: =I48-AG48 -> 0 | BD48: =J48-AH48 -> 0 | BE48: =K48-AI48 -> 0 | BF48: =L48-AJ48 -> 0 | ... BR48: =X48-AV48 -> -0.058490573
C49: 45 | D49: 宮崎県 | E49: 11.062 | F49: 776.5193 | G49: 41.896 | H49: 278.104 | I49: 18.487 | J49: 50.948 | K49: 2.738 | L49: 92.542 | M49: 3.605 | N49: 30.148 | O49: 2.462 | P49: 0.043 | Q49: 13.344 | R49: 37.587 | S49: 24.45 | T49: 609.229 | U49: 5904.2272 | V49: 7.4995519 | W49: 39.334 | X49: 7944.2251 | AA49: 45 | AB49: 宮崎県 | AC49: 11.062 | AD49: 776.5193 | AE49: 41.896 | AF49: 278.104 | AG49: 18.487 | AH49: 50.948 | AI49: 2.738 | AJ49: 92.542 | AK49: 3.605 | AL49: 30.148 | AM49: 2.462 | AN49: 0.043 | AO49: 13.344 | AP49: 37.587 | AQ49: 24.45 | AR49: 609.229 | AS49: 5904.2272 | AT49: 10.203072 | AU49: 39.334 | AV49: 7946.9286 | AW49: 45 | AX49: 宮崎県 | AY49: =E49-AC49 -> 0 | AZ49: =F49-AD49 -> 0 | BA49: =G49-AE49 -> 0 | BB49: =H49-AF49 -> 0 | BC49: =I49-AG49 -> 0 | BD49: =J49-AH49 -> 0 | BE49: =K49-AI49 -> 0 | BF49: =L49-AJ49 -> 0 | ... BR49: =X49-AV49 -> -2.7035197
C50: 46 | D50: 鹿児島県 | E50: 5.9408596 | F50: 1040.8006 | G50: 24.749699 | H50: 364.77146 | I50: 13.114252 | J50: 60.548806 | K50: 4.9194861 | L50: 214.61968 | M50: 1.0511939 | N50: 243.8542 | O50: 16.925174 | P50: 0.3574124 | Q50: 67.908925 | R50: 60.270171 | S50: 70.154463 | T50: 968.48889 | U50: 7848.9677 | V50: 5.7894159 | W50: 1.0081217 | X50: 11014.24 | AA50: 46 | AB50: 鹿児島県 | AC50: 5.9408596 | AD50: 1040.8006 | AE50: 24.749699 | AF50: 364.77146 | AG50: 13.114252 | AH50: 60.548806 | AI50: 4.9194861 | AJ50: 214.61968 | AK50: 1.0511939 | AL50: 243.8542 | AM50: 16.925174 | AN50: 0.3574124 | AO50: 67.908925 | AP50: 60.270171 | AQ50: 70.154463 | AR50: 968.48889 | AS50: 7848.9677 | AT50: 5.4569706 | AU50: 1.0081217 | AV50: 11013.908 | AW50: 46 | AX50: 鹿児島県 | AY50: =E50-AC50 -> 0 | AZ50: =F50-AD50 -> 0 | BA50: =G50-AE50 -> 0 | BB50: =H50-AF50 -> 0 | BC50: =I50-AG50 -> 0 | BD50: =J50-AH50 -> 0 | BE50: =K50-AI50 -> 0 | BF50: =L50-AJ50 -> 0 | ... BR50: =X50-AV50 -> 0.33244533
C51: 47 | D51: 沖縄県 | E51: 3.175 | F51: 1115.1641 | G51: 7.492 | H51: 0.622 | I51: 0.114 | J51: 21.768 | K51: 3.896 | L51: 36.259 | M51: 0.15 | N51: 115.42 | O51: 2.475 | P51: 0.065 | Q51: 19.828 | R51: 54.678 | S51: 24.919 | T51: 496.486 | U51: 1345.6408 | V51: 1.4377974 | W51: 102.787 | X51: 3352.3767 | AA51: 47 | AB51: 沖縄県 | AC51: 3.175 | AD51: 1115.1641 | AE51: 7.492 | AF51: 0.622 | AG51: 0.114 | AH51: 21.768 | AI51: 3.896 | AJ51: 36.259 | AK51: 0.15 | AL51: 115.42 | AM51: 2.475 | AN51: 0.065 | AO51: 19.828 | AP51: 54.678 | AQ51: 24.919 | AR51: 496.486 | AS51: 1345.6408 | AT51: 1.6862912 | AU51: 102.787 | AV51: 3352.6251 | AW51: 47 | AX51: 沖縄県 | AY51: =E51-AC51 -> 0 | AZ51: =F51-AD51 -> 0 | BA51: =G51-AE51 -> 0 | BB51: =H51-AF51 -> 0 | BC51: =I51-AG51 -> 0 | BD51: =J51-AH51 -> 0 | BE51: =K51-AI51 -> 0 | BF51: =L51-AJ51 -> 0 | ... BR51: =X51-AV51 -> -0.24849382
C52: 全国 | E52: 1912.0211 | F52: 169317.63 | G52: 2952.6635 | H52: 2825.8722 | I52: 2676.5591 | J52: 6822.7644 | K52: 937.63464 | L52: 7247.8954 | M52: 89.708019 | N52: 2557.1544 | O52: 91.829144 | P52: 22.945784 | Q52: 8646.7284 | R52: 7348.4179 | S52: 15161.456 | T52: 64212.461 | U52: 80512.451 | V52: 112.41831 | W52: 17736.072 | X52: 391184.68 | AA52: 全国 | AC52: 1912.0211 | AD52: 169317.63 | AE52: 2952.6635 | AF52: 2825.8722 | AG52: 2676.5591 | AH52: 6822.7644 | AI52: 937.63464 | AJ52: 7247.8954 | AK52: 89.708019 | AL52: 2557.1544 | AM52: 91.829144 | AN52: 22.945784 | AO52: 8646.7284 | AP52: 7348.4179 | AQ52: 15161.456 | AR52: 64212.461 | AS52: 80512.451 | AT52: 118.8 | AU52: 17736.072 | AV52: 391191.06 | AW52: 全国 | AY52: =E52-AC52 -> 0 | AZ52: =F52-AD52 -> 0 | BA52: =G52-AE52 -> 0 | BB52: =H52-AF52 -> 0 | BC52: =I52-AG52 -> 0 | BD52: =J52-AH52 -> 0 | BE52: =K52-AI52 -> 0 | BF52: =L52-AJ52 -> 0 | ... BR52: =X52-AV52 -> -6.3816927
C53: ※四捨五入により、各項目の合算値と合計値が合致しない項目がある。
C60: H26 | AB60: H27-H26
C62: 表－Ⅲ・６ 平成26年度実績値 都道府県別・種類別排出量推計値一覧表 | AB62: 表－Ⅲ・６ 平成25年度実績値 都道府県別・種類別排出量推計値一覧表
X64: (単位：千ｔ/年) | AW64: (単位：千ｔ/年)
C65: No. | D65: 都道府県名 | E65: 燃え殻 | F65: 汚 泥 | G65: 廃 油 | H65: 廃 酸 | I65: 廃アルカリ | J65: 廃プラス チック類 | K65: 紙くず | L65: 木くず | M65: 繊維くず | N65: 動植物性 残 渣 | O65: 動物系 固形不要物 | P65: ゴムくず | Q65: 金属くず | R65: ガラスくず 及び 陶磁器くず | S65: 鉱さい | T65: がれき類 | U65: 動物の ふん尿 | V65: 動物の死体 | W65: ばいじん | X65: 合 計 | AB65: No. | AC65: 都道府県名 | AD65: 燃え殻 | AE65: 汚 泥 | AF65: 廃 油 | AG65: 廃 酸 | AH65: 廃アルカリ | AI65: 廃プラス チック類 | AJ65: 紙くず | AK65: 木くず | AL65: 繊維くず | AM65: 動植物性 残 渣 | AN65: 動物系 固形不要物 | AO65: ゴムくず | AP65: 金属くず | AQ65: ガラスくず 及び 陶磁器くず | AR65: 鉱さい | AS65: がれき類 | AT65: 動物の ふん尿 | AU65: 動物の死体 | AV65: ばいじん | AW65: 合 計
C66: 1 | D66: 北海道 | E66: 274.42967 | F66: 11691.508 | G66: 48.679334 | H66: 28.499729 | I66: 8.160538 | J66: 235.1866 | K66: 20.791638 | L66: 314.41099 | M66: 1.045192 | N66: 237.12485 | O66: 2.8768243 | P66: 0.37332572 | Q66: 84.390135 | R66: 244.08281 | S66: 256.95941 | T66: 3088.738 | U66: 19059.292 | V66: 37.308684 | W66: 906.41479 | X66: 36540.272 | AB66: 1 | AC66: 北海道 | AD66: =E5-E66 -> -4.734205 | AE66: =F5-F66 -> -9.9406106 | AF66: =G5-G66 -> -0.55825701 | AG66: =H5-H66 -> -1.0922946 | AH66: =I5-I66 -> -0.24784221 | AI66: =J5-J66 -> 4.4365386 | AJ66: =K5-K66 -> 1.8295725 | AK66: =L5-L66 -> 17.781314 | ... AW66: =X5-X66 -> 341.89853
C67: 2 | D67: 青森県 | E67: 8.7615817 | F67: 1479.7271 | G67: 11.291506 | H67: 3.4132629 | I67: 8.9845054 | J67: 28.724802 | K67: 4.9828469 | L67: 83.354168 | M67: 0.81617289 | N67: 38.405684 | O67: 0.37643244 | P67: 0.024258234 | Q67: 16.121055 | R67: 98.359741 | S67: 34.061751 | T67: 983.73317 | U67: 2188.0344 | V67: 0.72572009 | W67: 30.951636 | X67: 5020.8498 | AB67: 2 | AC67: 青森県 | AD67: =E6-E67 -> 0.1753256 | AE67: =F6-F67 -> -28.374498 | AF67: =G6-G67 -> 0.24686141 | AG67: =H6-H67 -> 0.11569715 | AH67: =I6-I67 -> 0.28499309 | AI67: =J6-J67 -> 0.25241521 | AJ67: =K6-K67 -> -0.1456645 | AK67: =L6-L67 -> -0.18802011 | ... AW67: =X6-X67 -> -52.691467
C68: 3 | D68: 岩手県 | E68: 14.231185 | F68: 729.44765 | G68: 10.156474 | H68: 6.694777 | I68: 20.940798 | J68: 56.844406 | K68: 2.589136 | L68: 161.70695 | M68: 0.90801 | N68: 18.373594 | O68: 0 | P68: 0.048948 | Q68: 9.902901 | R68: 131.57788 | S68: 48.9585 | T68: 1580.4107 | U68: 3907.195 | V68: 2.9705858 | W68: 84.01656 | X68: 6786.9741 | AB68: 3 | AC68: 岩手県 | AD68: =E7-E68 -> -2.928185 | AE68: =F7-F68 -> 54.486031 | AF68: =G7-G68 -> 2.777526 | AG68: =H7-H68 -> 0.507223 | AH68: =I7-I68 -> -11.623798 | AI68: =J7-J68 -> 3.677594 | AJ68: =K7-K68 -> 0.859864 | AK68: =L7-L68 -> -27.019946 | ... AW68: =X7-X68 -> -365.02276
C69: 4 | D69: 宮城県 | E69: 83.155701 | F69: 6166.6397 | G69: 24.965456 | H69: 3.8158088 | I69: 11.094873 | J69: 122.55117 | K69: 25.46782 | L69: 421.32564 | M69: 1.07789 | N69: 96.48693 | O69: 0.70891727 | P69: 7.496275 | Q69: 140.65943 | R69: 189.97112 | S69: 33.094586 | T69: 2771.8245 | U69: 1858.3454 | V69: 1.9455318 | W69: 77.840579 | X69: 12038.467 | AB69: 4 | AC69: 宮城県 | AD69: =E8-E69 -> -61.844864 | AE69: =F8-F69 -> -725.23237 | AF69: =G8-G69 -> 3.1301018 | AG69: =H8-H69 -> 2.9748989 | AH69: =I8-I69 -> 2.2518394 | AI69: =J8-J69 -> 42.699585 | AJ69: =K8-K69 -> -7.67482 | AK69: =L8-L69 -> -117.03158 | ... AW69: =X8-X69 -> -1260.1727
C70: 5 | D70: 秋田県 | E70: 35.938878 | F70: 1168.6755 | G70: 16.690129 | H70: 4.199919 | I70: 10.696358 | J70: 40.492817 | K70: 3.192 | L70: 133.1992 | M70: 1.848 | N70: 9.286 | O70: 2.3802983 | P70: 0.60912808 | Q70: 14.712473 | R70: 46.392768 | S70: 146.91949 | T70: 559.4694 | U70: 979.08461 | V70: 0.33162517 | W70: 289.04346 | X70: 3463.1621 | AB70: 5 | AC70: 秋田県 | AD70: =E9-E70 -> -1.5792761 | AE70: =F9-F70 -> 108.87972 | AF70: =G9-G70 -> -1.6732297 | AG70: =H9-H70 -> 0.33759927 | AH70: =I9-I70 -> -4.2975359 | AI70: =J9-J70 -> 5.1621254 | AJ70: =K9-K70 -> 7.542 | AK70: =L9-L70 -> -40.806828 | ... AW70: =X9-X70 -> 14.163047
C71: 6 | D71: 山形県 | E71: 0.4272693 | F71: 1131.8104 | G71: 30.210709 | H71: 10.305227 | I71: 9.4023927 | J71: 67.591851 | K71: 3.73 | L71: 114.89588 | M71: 0.956 | N71: 28.173 | O71: 2.247 | P71: 0.011152942 | Q71: 23.569897 | R71: 56.634653 | S71: 19.805139 | T71: 655.68588 | U71: 978.3194 | V71: 1.4315943 | W71: 305.65213 | X71: 3440.8596 | AB71: 6 | AC71: 山形県 | AD71: =E10-E71 -> 0.014203763 | AE71: =F10-F71 -> 127.54664 | AF71: =G10-G71 -> 2.1443853 | AG71: =H10-H71 -> 0.74693864 | AH71: =I10-I71 -> 0.7448936 | AI71: =J10-J71 -> 2.2090681 | AJ71: =K10-K71 -> 0.00015031764 | AK71: =L10-L71 -> 0.92199535 | ... AW71: =X10-X71 -> 112.48552
C72: 7 | D72: 福島県 | E72: 146.36269 | F72: 3638.6284 | G72: 31.603299 | H72: 15.745575 | I72: 68.352084 | J72: 130.89839 | K72: 5.584033 | L72: 145.93335 | M72: 1.131617 | N72: 15.416559 | O72: 0 | P72: 0.01092 | Q72: 29.192324 | R72: 166.69414 | S72: 380.09739 | T72: 1906 | U72: 1153.0963 | V72: 1.1981725 | W72: 1550.2987 | X72: 9386.2439 | AB72: 7 | AC72: 福島県 | AD72: =E11-E72 -> -39.265577 | AE72: =F11-F72 -> -44.614355 | AF72: =G11-G72 -> 0.24774 | AG72: =H11-H72 -> 11.133649 | AH72: =I11-I72 -> -1.1962866 | AI72: =J11-J72 -> 29.170004 | AJ72: =K11-K72 -> -0.621536 | AK72: =L11-L72 -> 0.705044 | ... AW72: =X11-X72 -> -321.01231
C73: 8 | D73: 茨城県 | E73: 70.13674 | F73: 4135.2796 | G73: 115.64389 | H73: 77.936123 | I73: 49.138434 | J73: 205.60069 | K73: 56.38692 | L73: 171.68059 | M73: 1.0651511 | N73: 90.65069 | O73: 0.91203105 | P73: 0.0070042987 | Q73: 102.83876 | R73: 226.90182 | S73: 1063.7078 | T73: 1717.4245 | U73: 2797.9235 | V73: 3.3703352 | W73: 1017.4488 | X73: 11904.053 | AB73: 8 | AC73: 茨城県 | AD73: =E12-E73 -> -4.1644209 | AE73: =F12-F73 -> 143.81864 | AF73: =G12-G73 -> 7.0840093 | AG73: =H12-H73 -> 5.9029766 | AH73: =I12-I73 -> 2.8170318 | AI73: =J12-J73 -> 7.4001559 | AJ73: =K12-K73 -> 1.5405001 | AK73: =L12-L73 -> 2.7501273 | ... AW73: =X12-X73 -> 249.66205
C74: 9 | D74: 栃木県 | E74: 2.4661737 | F74: 2960.8661 | G74: 55.974479 | H74: 10.2204 | I74: 18.29574 | J74: 280.57751 | K74: 23.515126 | L74: 175.43565 | M74: 0.4907834 | N74: 34.342532 | O74: 1.1550328 | P74: 0.62176378 | Q74: 139.81354 | R74: 138.63398 | S74: 368.19442 | T74: 1016.3532 | U74: 2809.9055 | V74: 4.0745786 | W74: 12.280495 | X74: 8053.2169 | AB74: 9 | AC74: 栃木県 | AD74: =E13-E74 -> 0.0094066909 | AE74: =F13-F74 -> -17.846725 | AF74: =G13-G74 -> 1.0776679 | AG74: =H13-H74 -> 4.5727103 | AH74: =I13-I74 -> -1.7655565 | AI74: =J13-J74 -> -110.64833 | AJ74: =K13-K74 -> -0.055234306 | AK74: =L13-L74 -> 3.953695 | ... AW74: =X13-X74 -> -138.60532
C75: 10 | D75: 群馬県 | E75: 15.129345 | F75: 1430.2007 | G75: 33.080211 | H75: 11.850469 | I75: 6.4342114 | J75: 56.340319 | K75: 1.5591776 | L75: 60.646331 | M75: 0.1077912 | N75: 85.785176 | O75: 0 | P75: 0.0059777536 | Q75: 19.19766 | R75: 120.08641 | S75: 71.837492 | T75: 356.51303 | U75: 3059.8443 | V75: 2.4800749 | W75: 10.133517 | X75: 5341.2321 | AB75: 10 | AC75: 群馬県 | AD75: =E14-E75 -> 12.56913 | AE75: =F14-F75 -> -8.4158025 | AF75: =G14-G75 -> 5.4882489 | AG75: =H14-H75 -> 0.17929839 | AH75: =I14-I75 -> 0.98203392 | AI75: =J14-J75 -> 4.7652414 | AJ75: =K14-K75 -> -0.072772644 | AK75: =L14-L75 -> 4.6304411 | ... AW75: =X14-X75 -> 25.44174
C76: 11 | D76: 埼玉県 | E76: 11.578139 | F76: 6002.6023 | G76: 90.908768 | H76: 21.487555 | I76: 34.984468 | J76: 300.9219 | K76: 156.278 | L76: 234.76744 | M76: 5.747 | N76: 79.169 | O76: 0 | P76: 1.610002 | Q76: 150.9037 | R76: 237.80018 | S76: 146.994 | T76: 1972.7949 | U76: 743.11402 | V76: 1.8672751 | W76: 52.472 | X76: 10246.001 | AB76: 11 | AC76: 埼玉県 | AD76: =E15-E76 -> -5.597865 | AE76: =F15-F76 -> 506.42412 | AF76: =G15-G76 -> 7.7687645 | AG76: =H15-H76 -> 5.3292916 | AH76: =I15-I76 -> 16.899281 | AI76: =J15-J76 -> 68.018572 | AJ76: =K15-K76 -> 2.4731143 | AK76: =L15-L76 -> 12.843328 | ... AW76: =X15-X76 -> 724.83775
C77: 12 | D77: 千葉県 | E77: 9.70089 | F77: 7295.005 | G77: 232.71781 | H77: 267.16329 | I77: 193.73676 | J77: 218.58147 | K77: 15.585414 | L77: 226.22372 | M77: 3.9226438 | N77: 84.262052 | O77: 2.59908 | P77: 0.56838 | Q77: 2104.9888 | R77: 370.85677 | S77: 2989.8277 | T77: 2340.0664 | U77: 3088.3241 | V77: 11.321768 | W77: 2439.9121 | X77: 21895.364 | AB77: 12 | AC77: 千葉県 | AD77: =E16-E77 -> -0.093894883 | AE77: =F16-F77 -> 275.26973 | AF77: =G16-G77 -> 16.566485 | AG77: =H16-H77 -> -16.868038 | AH77: =I16-I77 -> 95.679469 | AI77: =J16-J77 -> 32.89835 | AJ77: =K16-K77 -> -8.176606 | AK77: =L16-L77 -> -22.510013 | ... AW77: =X16-X77 -> -216.86605
... C112: 47 | D112: 沖縄県 | E112: 4.840984 | F112: 1127.5108 | G112: 9.3662632 | H112: 0.55611437 | I112: 0.14468204 | J112: 35.632248 | K112: 3.9623325 | L112: 44.636838 | M112: 0.056564576 | N112: 119.2571 | O112: 2.3701431 | P112: 0.10960941 | Q112: 19.495346 | R112: 75.695008 | S112: 37.496781 | T112: 510.25291 | U112: 1402.3572 | V112: 1.6455077 | W112: 128.24419 | X112: 3523.6306 | AB112: 47 | AC112: 沖縄県 | AD112: =E51-E112 -> -1.665984 | AE112: =F51-F112 -> -12.34667 | AF112: =G51-G112 -> -1.8742632 | AG112: =H51-H112 -> 0.065885628 | AH112: =I51-I112 -> -0.030682037 | AI112: =J51-J112 -> -13.864248 | AJ112: =K51-K112 -> -0.066332471 | AK112: =L51-L112 -> -8.3778384 | ... AW112: =X51-X112 -> -171.25396
C113: 全国 | E113: 2045.5329 | F113: 168821.47 | G113: 3043.6181 | H113: 3191.2513 | I113: 2305.7483 | J113: 6509.304 | K113: 984.91864 | L113: 7487.1259 | M113: 103.38069 | N113: 2706.2698 | O113: 83.351241 | P113: 28.452978 | Q113: 9283.8199 | R113: 8266.784 | S113: 14563.046 | T113: 64394.261 | U113: 81416.104 | V113: 125.78758 | W113: 17479.279 | X113: 392839.5 | AB113: 全国 | AD113: =E52-E113 -> -133.51183 | AE113: =F52-F113 -> 496.16176 | AF113: =G52-G113 -> -90.954535 | AG113: =H52-H113 -> -365.37907 | AH113: =I52-I113 -> 370.81079 | AI113: =J52-J113 -> 313.46044 | AJ113: =K52-K113 -> -47.283994 | AK113: =L52-L113 -> -239.23046 | ... AW113: =X52-X113 -> -1654.8221
C114: ※四捨五入により、各項目の合算値と合計値が合致しない項目がある。

Sheet 表Ⅲ・7　180111⇒180218修正
B1: 表－Ⅲ・７ 平成27年度実績値 業種別・種類別全国共通原単位一覧表
D3: 全国 | F3: 平成27年度 | Y3: (単位：ｔ/年)
B4: 大分類 | C4: 番号 | D4: 産業分類 | E4: コード | F4: 単位 | G4: 燃え殻 | H4: 汚 泥 | I4: 廃 油 | J4: 廃 酸 | K4: 廃アルカリ | L4: 廃プラス チック類 | M4: 紙くず | N4: 木くず | O4: 繊維くず | P4: 動植物性 残 渣 | Q4: 動物系固形不要物 | R4: ゴムくず | S4: 金属くず | T4: ガラスくず及び 陶磁器くず | U4: 鉱さい | V4: がれき類 | W4: 動物の ふん尿 | X4: 動物の死体 | Y4: ばいじん | Z4: 合 計
D5: 農業，林業大分類 | E5: A
C6: 1 | D6: 耕種農業 | E6: A011 | F6: 千a | I6: 2.4628436e-07 | L6: 10.317713 | N6: 0.1914388 | S6: 2.4934926e-05 | T6: 5.196051e-05 | V6: 7.546767e-06
B7: 農業，林業 | C7: 2 | D7: 畜産農業 | E7: A012 | F7: 頭羽 | I7: 1.6926539e-06 | L7: 0.00032487051 | N7: 1.3157134 | S7: 0.00017137182 | T7: 0.00035711225 | V7: 5.1867137e-05 | W7: 247.82862 | X7: 0.15680561
C8: 3 | D8: 林業 | E8: A02 | F8: 千人 | I8: 0.00073715302 | L8: 684.73806 | N8: 572.99494 | S8: 0.074632656 | T8: 0.15552286 | V8: 0.022588207
C9: 4 | D9: 上記以外の農業，林業
D10: 漁業大分類 | E10: B
B11: 漁 業 | C11: 5 | D11: 漁業 | E11: B03 | F11: 千人 | I11: 0.57806478 | L11: 300.74992
C12: 6 | D12: 水産養殖業 | E12: B04 | F12: 千人
B13: 鉱 業 | C13: 7 | D13: 鉱業，採石業，砂利採取業 | E13: C | F13: 千人 | G13: 108.19829 | H13: 709781.45 | I13: 257.58176 | J13: 17.735204 | K13: 17.065387 | L13: 929.13146 | N13: 138.27198 | R13: 10.500788 | S13: 162.24683 | T13: 6558.7319 | U13: 11109.265 | V13: 2889.6835 | Y13: 842.15093
B14: 建設業 | C14: 8 | D14: 建設業 | E14: D | F14: 十億円 | G14: 0.47596554 | H14: 206.49258 | I14: 2.442785 | J14: 0.16400563 | K14: 0.36820722 | L14: 24.293022 | M14: 5.2448885 | N14: 90.937439 | O14: 0.94626895 | R14: 0.012251636 | S14: 16.796995 | T14: 38.618974 | U14: 1.3570258 | V14: 1054.5762 | Y14: 0.037529864
D15: 製造業大分類 | E15: E
C16: 9 | D16: 食料品製造業 | E16: E09 | F16: 十億円 | G16: 1.3382971 | H16: 244.81229 | I16: 4.6878207 | J16: 4.4062136 | K16: 2.2963105 | L16: 10.867732 | N16: 0.84462089 | P16: 66.510536 | Q16: 0.92087671 | R16: 0.0028148198 | S16: 9.6336947 | T16: 1.4174462 | U16: 10.376113 | V16: 0.55235314 | Y16: 10.228826
C17: 10 | D17: 飲料・たばこ・飼料製造業 | E17: E10 | F17: 十億円 | G17: 0.22071158 | H17: 103.74377 | I17: 1.4512515 | J17: 54.601528 | K17: 0.99341737 | L17: 2.4493461 | N17: 0.45558033 | P17: 71.647417 | R17: 0.0013126614 | S17: 3.588222 | T17: 0.79208088 | U17: 3.8678719 | V17: 0.23419584 | Y17: 3.7471638
C18: 11 | D18: 繊維工業 | E18: E11 | F18: 十億円 | G18: 1.4851215 | H18: 124.54674 | I18: 1.5823389 | J18: 2.2880332 | K18: 0.26755188 | L18: 19.498291 | N18: 0.59348121 | O18: 4.0994838 | R18: 0.0072432795 | S18: 1.1713714 | T18: 0.08794171 | U18: 0.083198808 | V18: 0.06625722 | Y18: 1.9093328
C19: 12 | D19: 木材・木製品製造業 | E19: E12 | F19: 十億円 | G19: 12.051786 | H19: 4.9702066 | I19: 0.5375952 | J19: 0.31219215 | K19: 0.34880394 | L19: 7.0386649 | N19: 225.13305 | R19: 0.00035317075 | S19: 2.1957967 | T19: 8.2989227 | U19: 2.0514958 | V19: 1.9051972 | Y19: 10.329938
C20: 13 | D20: 家具・装備品製造業 | E20: E13 | F20: 十億円 | G20: 0.221541 | H20: 4.9701397 | I20: 1.5214672 | J20: 0.44035377 | K20: 1.0909757 | L20: 12.102686 | N20: 60.424574 | R20: 0.0019180177 | S20: 3.9016006 | T20: 2.3310701 | U20: 2.8504877 | V20: 0.21583391 | Y20: 2.1826338
C21: 14 | D21: パルプ・紙・紙加工品製造業 | E21: E14 | F21: 十億円 | G21: 71.611653 | H21: 4929.0192 | I21: 3.6343146 | J21: 2.178837 | K21: 3.113932 | L21: 57.173489 | M21: 36.475332 | N21: 8.0261505 | R21: 0.0036728991 | S21: 22.102581 | T21: 2.316436 | U21: 21.34692 | V21: 1.3786104 | Y21: 138.03559
C22: 15 | D22: 印刷・同関連業 | E22: E15 | F22: 十億円 | G22: 0.38147305 | H22: 4.1122034 | I22: 6.4446583 | J22: 1.3485096 | K22: 3.468712 | L22: 27.62598 | M22: 33.245973 | N22: 0.83354663 | R22: 0.0064071239 | S22: 4.1298082 | T22: 0.14769466 | U22: 2.612792 | V22: 0.13018446 | Y22: 2.4384755
C23: 16 | D23: 化学工業 | E23: E16 | F23: 十億円 | G23: 1.9463932 | H23: 244.98034 | I23: 17.321422 | J23: 11.870141 | K23: 28.220502 | L23: 7.1911754 | N23: 0.75982511 | P23: 2.2442987 | R23: 0.008066224 | S23: 9.0000247 | T23: 1.0606412 | U23: 12.775669 | V23: 1.0116767 | Y23: 19.904974
C24: 17 | D24: 石油製品・石炭製品製造業 | E24: E17 | F24: 十億円 | G24: 0.36453608 | H24: 20.872151 | I24: 5.2368969 | J24: 2.701812 | K24: 2.3967051 | L24: 0.89915752 | N24: 0.22743805 | R24: 0.006708131 | S24: 4.1612852 | T24: 1.3398666 | U24: 4.8176859 | V24: 13.572959 | Y24: 6.4091903
B25: 製造業 | C25: 18 | D25: プラスチック製品製造業 | E25: E18 | F25: 十億円 | G25: 0.72654654 | H25: 6.5099528 | I25: 5.2418724 | J25: 2.643927 | K25: 2.6052266 | L25: 38.1434 | N25: 1.2831592 | R25: 0.00049221335 | S25: 3.3111764 | T25: 0.85510271 | U25: 1.3516776 | V25: 0.21594332 | Y25: 1.2955855
C26: 19 | D26: ゴム製品製造業 | E26: E19 | F26: 十億円 | G26: 0.084298444 | H26: 11.732208 | I26: 3.3841181 | J26: 0.1398786 | K26: 0.58487115 | L26: 39.319275 | N26: 1.4976833 | R26: 1.923868 | S26: 0.90851216 | T26: 1.4868019 | U26: 0.38148743 | V26: 0.14119836 | Y26: 0.35968708
C27: 20 | D27: なめし革・同製品・毛皮製造業 | E27: E20 | F27: 十億円 | G27: 0.0094600593 | H27: 74.287078 | I27: 1.0435659 | J27: 0.2585868 | K27: 0.30410095 | L27: 4.418797 | N27: 0.78951106 | R27: 0.00049051844 | S27: 2.2638322 | T27: 0.12863538 | U27: 2.7437695 | V27: 0.13497863 | Y27: 2.5607146
C28: 21 | D28: 窯業・土石製品製造業 | E28: E21 | F28: 十億円 | G28: 2.0422697 | H28: 605.65279 | I28: 4.432769 | J28: 5.8757952 | K28: 5.7934965 | L28: 6.3554683 | N28: 3.7930013 | R28: 0.016622293 | S28: 29.831686 | T28: 445.88244 | U28: 34.437683 | V28: 263.02495 | Y28: 25.842193
C29: 22 | D29: 鉄鋼業 | E29: E22 | F29: 十億円 | G29: 7.1514978 | H29: 252.13117 | I29: 21.996443 | J29: 14.706036 | K29: 16.268473 | L29: 18.261039 | N29: 3.2459564 | R29: 0.025392558 | S29: 223.94234 | T29: 22.671042 | U29: 773.46611 | V29: 19.30987 | Y29: 389.97219
C30: 23 | D30: 非鉄金属製造業 | E30: E23 | F30: 十億円 | G30: 0.42561039 | H30: 49.413393 | I30: 4.4245975 | J30: 6.2818302 | K30: 15.666302 | L30: 4.0109605 | N30: 1.3480216 | R30: 0.00035154639 | S30: 3.5716723 | T30: 2.6966285 | U30: 39.414004 | V30: 1.5639763 | Y30: 2.9847456
C31: 24 | D31: 金属製品製造業 | E31: E24 | F31: 十億円 | G31: 0.23693473 | H31: 55.451936 | I31: 4.6869676 | J31: 9.2078351 | K31: 3.6978688 | L31: 4.7300157 | N31: 3.1069272 | R31: 0.0029263198 | S31: 7.3843605 | T31: 5.8147799 | U31: 14.966739 | V31: 0.72560356 | Y31: 1.9493836
C32: 25 | D32: はん用機械器具製造業 | E32: E25 | F32: 十億円 | G32: 0.0090257056 | H32: 21.13284 | I32: 13.633535 | J32: 0.99423184 | K32: 1.3190495 | L32: 2.8280695 | N32: 3.6661692 | R32: 0.01164148 | S32: 13.255231 | T32: 0.49291272 | U32: 1.1116582 | V32: 0.019716547 | Y32: 0.11559559
C33: 26 | D33: 生産用機械器具製造業 | E33: E26 | F33: 十億円 | G33: 0.011064225 | H33: 9.9046021 | I33: 4.6240322 | J33: 0.62899263 | K33: 0.88532694 | L33: 8.4000381 | N33: 3.6636091 | R33: 0.66126342 | S33: 6.4092139 | T33: 0.61424683 | U33: 1.1700065 | V33: 0.21752075 | Y33: 0.6585553
C34: 27 | D34: 業務用機械器具製造業 | E34: E27 | F34: 十億円 | G34: 0.094568968 | H34: 74.170754 | I34: 2.7876085 | J34: 0.9582606 | K34: 2.9472099 | L34: 25.717112 | N34: 1.3263462 | R34: 0.036239821 | S34: 5.8604832 | T34: 0.79430067 | U34: 6.5833416 | V34: 0.31971655 | Y34: 6.0537642
C35: 28 | D35: 電子部品・デバイス・電子回路製造業 | E35: E28 | F35: 十億円 | G35: 0.0048762081 | H35: 53.518186 | I35: 3.9010074 | J35: 9.08012 | K35: 90.094744 | L35: 5.7156037 | N35: 0.66669525 | R35: 0.0018883854 | S35: 2.0542233 | T35: 0.77908247 | U35: 1.1435137 | V35: 0.066062547 | Y35: 1.0639144
C36: 29 | D36: 電気機械器具製造業 | E36: E29 | F36: 十億円 | G36: 0.0025139543 | H36: 18.041764 | I36: 1.3615621 | J36: 1.203444 | K36: 2.8592289 | L36: 2.6260005 | N36: 1.1761923 | R36: 3.4783713e-05 | S36: 1.6728957 | T36: 1.2491731 | U36: 0.51312516 | V36: 0.054978238 | Y36: 0.19295754
C37: 30 | D37: 情報通信機械器具製造業 | E37: E30 | F37: 十億円 | G37: 4.8497886e-05 | H37: 1.2105995 | I37: 0.46044135 | J37: 1.0517706 | K37: 0.28537043 | L37: 2.471014 | N37: 0.79987833 | R37: 2.514689e-06 | S37: 0.72348216 | T37: 0.14524372 | U37: 1.8446635 | V37: 0.0025911964 | Y37: 0.013127745
... C39: 32 | D39: その他の製造業 | E39: E32 | F39: 十億円 | G39: 7.6679072 | H39: 34.669622 | I39: 12.316318 | J39: 3.2111054 | K39: 7.2183573 | L39: 50.458474 | N39: 6.7869502 | R39: 0.025877268 | S39: 7.1463414 | T39: 15.245759 | U39: 13.945377 | V39: 7.8332111 | Y39: 33.17994
D40: 電気・ガス・熱供給・水道業大分類 | E40: F
B41: 電気･ガス | C41: 33 | D41: 電気業 | E41: F33 | F41: 千人 | G41: 6919.1857 | H41: 6304.0416 | I41: 23.946433 | J41: 6.3959469 | K41: 33.595629 | L41: 38.100099 | N41: 13.90541 | R41: 0.11143982 | S41: 31.854877 | T41: 460.30677 | U41: 59.68694 | V41: 785.21131 | Y41: 81510.066
B42: ･熱供給･ | C42: 34 | D42: ガス業 | E42: F34 | F42: 千人 | G42: 0.0025048918 | H42: 62.384653 | I42: 2.1652506 | J42: 0.020094877 | K42: 0.011175545 | L42: 63.930346 | N42: 10.32184 | R42: 0.33541182 | S42: 74.690357 | T42: 29.657982 | U42: 0.011680996 | V42: 526.65546 | Y42: 0.094367018
B43: 水道業 | C43: 35 | D43: 熱供給業 | E43: F35 | F43: 千人 | G43: 6115.9673 | H43: 340.3367 | I43: 27.88903 | J43: 0.40352324 | K43: 0.22441502 | L43: 45.080311 | N43: 0.0012002391 | R43: 0.00017819395 | S43: 3.72716 | T43: 515.04477 | U43: 0.23456493 | V43: 7.5546905 | Y43: 223.99798
C44: 36 | D44: 上水道業 | E44: F361 | F44: 千人 | G44: 0.0033421699 | H44: 81.010073 | I44: 0.0061540883 | J44: 0.024170216 | K44: 0.013859888 | L44: 0.0069634015 | N44: 0.0001822917 | R44: 1.0041092e-05 | S44: 0.0033592348 | T44: 0.034235291 | U44: 0.013217553 | V44: 0.3269658 | Y44: 0.10678037
C45: 37 | D45: 下水道業 | E45: F363 | F45: 千人 | G45: 0.55766897 | H45: 747.71079 | I45: 0.029810998 | J45: 0.1277066 | K45: 0.034713083 | L45: 0.0058408637 | N45: 0.0027292935 | R45: 2.7525481e-05 | S45: 0.003404674 | T45: 0.088855114 | U45: 0.036279853 | V45: 0.19324198 | Y45: 0.50062459
D46: 情報通信業大分類 | E46: G
C47: 38 | D47: 通信業 | E47: G37 | F47: 千人
B48: 情報通信業 | C48: 39 | D48: 放送業 | E48: G38 | F48: 千人
C49: 40 | D49: 情報サービス業 | E49: G39 | F49: 千人
C50: 41 | D50: インターネット付随サービス業 | E50: G40 | F50: 千人
C51: 42 | D51: 映像・音声・文字情報制作業 | E51: G41 | F51: 千人 | K51: 3.8517975 | L51: 2.2010271 | M51: 1.1005136
D52: 運輸業，郵便業大分類 | E52: H
B53: 運輸業， | C53: 43 | D53: 鉄道業 | E53: H42 | F53: 千人 | G53: 1.7265753 | H53: 12633.402 | I53: 87.951947 | J53: 0.20301133 | K53: 0.36668324 | L53: 61.890945 | N53: 2.1271989 | R53: 0.20301133 | S53: 78.621614 | T53: 8.8368562 | V53: 75.128196
B54: 郵便業 | C54: 44 | D54: 道路旅客運送業 | E54: H43 | F54: 千人 | H54: 8.5141391 | I54: 8.7858812 | K54: 0.15635043 | L54: 28.660359 | S54: 3.6955222 | T54: 0.70223548 | V54: 1.79803
C55: 45 | D55: 道路貨物運送業 | E55: H44 | F55: 千人 | H55: 13.340887 | I55: 4.0492329 | J55: 0.28988702 | L55: 36.782764 | N55: 44.218693 | S55: 6.4394423 | T55: 1.2954002 | V55: 8.9917506
C56: 46 | D56: 上記以外の運輸業，郵便業 | F56: 千人 | H56: 39.760418 | I56: 1.1469351 | L56: 118.51663 | N56: 12.616286 | S56: 16.439404
D57: 卸売業，小売業大分類 | E57: I
C58: 47 | D58: 各種商品卸売業 | E58: I50 | F58: 千人 | H58: 301.4827 | L58: 331.13674 | N58: 4.9423394 | S58: 291.59802 | T58: 9.8846787 | V58: 29.654036
C59: 48 | D59: 木材・竹材卸売業 | E59: I5311 | F59: 千人 | H59: 110.80439 | I59: 3.6934798 | L59: 4975.1173 | N59: 48.015237 | S59: 269.62402 | T59: 6201.3526 | V59: 166.20659
C60: 49 | D60: 各種商品小売業 | E60: I56 | F60: 千人 | H60: 61.692852 | I60: 27.885169 | K60: 0.24677141 | L60: 101.66982 | S60: 13.325656 | T60: 3.4547997
B61: 卸売業， | C61: 50 | D61: 自動車小売業 | E61: I591 | F61: 千人 | G61: 0.1438366 | H61: 175.04914 | I61: 474.51695 | K61: 22.582346 | L61: 693.00475 | N61: 0.57534641 | S61: 338.15985 | T61: 9.3493791
B62: 小売業 | C62: 51 | D62: 機械器具小売業 | E62: I593 | F62: 千人 | L62: 2134.8607 | S62: 1513.1082 | T62: 15.942371
C63: 52 | D63: 家具・建具・畳小売業 | E63: I601 | F63: 千人 | I63: 2.1969974 | L63: 93.372391 | S63: 25.265471 | V63: 96.667887
C64: 53 | D64: じゅう器小売業 | E64: I602 | F64: 千人
C65: 54 | D65: 燃料小売業 | E65: I605 | F65: 千人 | H65: 214.23819 | I65: 174.53981 | K65: 1.1088933 | L65: 384.5642 | S65: 50.787314 | T65: 0.66533599 | V65: 21.068973
C66: 55 | D66: 上記以外の卸売業，小売業 | F66: 千人 | G66: 0.0054879564 | H66: 0.44589646 | I66: 0.62699902 | J66: 0.061739509 | K66: 0.083691335 | L66: 7.9986964 | N66: 6.5882916 | S66: 37.498465 | T66: 0.21128632 | V66: 32.094941
B67: 不動産業， | D67: 不動産業，物品賃貸業大分類 | E67: K
B68: 物品賃貸業 | C68: 56 | D68: 物品賃貸業 | E68: K70 | F68: 千人 | H68: 25.308583 | I68: 9.9355365 | K68: 1.1076146 | L68: 93.475504 | N68: 398.31485 | R68: 4.4045677 | S68: 207.56533 | T68: 102.02763 | V68: 358.87644 | Y68: 0.36925749
B69: 学術研究，専門 | D69: 学術研究，専門・技術サービス業大分類 | E69: L
B70: ・技術サービス業 | C70: 57 | D70: 学術・開発研究機関 | E70: L71 | F70: 千人 | H70: 5.5487053 | I70: 16.646116 | K70: 29.593095 | L70: 151.66461 | S70: 136.86806 | T70: 7.3982737 | V70: 14.796547
C71: 58 | D71: 写真業 | E71: L746 | F71: 千人 | J71: 124.20382 | K71: 82.165605 | L71: 5.7324841
B72: 宿泊業，飲食 | D72: 宿泊業，飲食サービス業大分類 | E72: M
B73: サービス業 | C73: 59 | D73: 飲食店 | E73: M76 | F73: 千人 | H73: 4.6852791 | I73: 15.108709 | L73: 3.7640164 | S73: 0.23689613 | T73: 0.10528717
C74: 60 | D74: 上記以外の宿泊業，飲食サービス業 | F74: 千人 | H74: 8.9105544 | I74: 3.9451309 | L74: 11.495295 | S74: 2.5167215 | T74: 2.72078
B75: 生活関連サー | D75: 生活関連サービス業，娯楽業大分類 | E75: N
B76: ビス業，娯楽業 | C76: 61 | D76: 洗濯業 | E76: N781 | F76: 千人 | H76: 81.234777 | I76: 3.0363066 | L76: 51.995468 | N76: 0.078993341 | S76: 0.26018432
B77: 教育，学習支援業 | C77: 62 | D77: 教育，学習支援業 | E77: O | F77: 千人 | G77: 0.0082624323 | H77: 4.7191535 | I77: 1.1099199 | J77: 0.30024571 | K77: 0.97019149 | L77: 26.393915 | N77: 3.6097975 | R77: 9.5124656e-05 | S77: 11.691124 | T77: 8.1391205 | U77: 0.0028019513 | V77: 1.6123878 | Y77: 2.0989051e-05
D78: 医療，福祉大分類 | E78: P
B79: 医療，福祉 | C79: 63 | D79: 医療業 | E79: P83 | F79: 千床 | G79: 0.17668767 | H79: 15.101221 | I79: 11.913726 | J79: 11.808334 | K79: 11.374046 | L79: 141.06448 | N79: 0.032930499 | R79: 0.12587064 | S79: 16.683877 | T79: 49.446282 | V79: 0.32747644
C80: 64 | D80: 上記以外の医療，福祉 | F80: 千人 | H80: 3.4295094 | I80: 0.20518432 | J80: 0.55692888 | K80: 0.64486502 | L80: 17.294107 | S80: 0.8207373 | T80: 0.43968069
B81: 教育、学習支援業 | C81: 65 | D81: 複合サービス事業 | E81: Q | F81: 千人 | H81: 1.245044 | I81: 1.7996607 | J81: 1.1491425 | K81: 0.13086241 | L81: 32.679236 | N81: 9.129218 | S81: 0.85719058 | T81: 0.065361488 | V81: 1.5075194
D82: サービス業大分類 | E82: R
B83: サービス業 | C83: 66 | D83: 自動車整備業 | E83: R891 | F83: 千人 | H83: 117.95199 | I83: 164.59358 | J83: 0.58825065 | K83: 3.6928355 | L83: 538.13838 | R83: 0.83633723 | S83: 282.61003 | T83: 8.6622383 | V83: 0.27550408
C84: 67 | D84: と畜場 | E84: R952 | F84: 千頭 | H84: 168.19405 | L84: 0.0058912938 | Q84: 11.732624
C85: 68 | D85: 上記以外のサービス業 | F85: 千人 | H85: 0.044042598 | I85: 1.3317643 | K85: 1.2310955 | L85: 21.517955 | N85: 0.69908885 | S85: 5.1215249 | T85: 1.0234661 | V85: 0.62568452
B86: 公務 | C86: 69 | D86: 公務 | E86: Ｓ | F86: 千人 | G86: 0.91443055 | H86: 161.64357 | I86: 3.9599084 | J86: 1.0061461 | K86: 1.5680131 | L86: 5.8874825 | N86: 1.1356112 | S86: 2.5840423 | T86: 5.3657191 | V86: 1.9729623 | Y86: 2.8465961
D87: 合計
B88: ※屠畜場の動物系固形不要物の単位はt/千頭
D105: 全国 | F105: 平成26年度 | Y105: (単位：ｔ/年)
B106: 大分類 | C106: 番号 | D106: 産業分類 | E106: コード | F106: 単位 | G106: 燃え殻 | H106: 汚 泥 | I106: 廃 油 | J106: 廃 酸 | K106: 廃アルカリ | L106: 廃プラス チック類 | M106: 紙くず | N106: 木くず | O106: 繊維くず | P106: 動植物性 残 渣 | Q106: 動物系固形不要物 | R106: ゴムくず | S106: 金属くず | T106: ガラスくず及び 陶磁器くず | U106: 鉱さい | V106: がれき類 | W106: 動物の ふん尿 | X106: 動物の死体 | Y106: ばいじん | Z106: 合 計
D107: 農業，林業大分類 | E107: A
C108: 1 | D108: 耕種農業 | E108: A011 | F108: 千a | I108: 0.00036777957 | L108: 0.0015221885 | N108: 0.18388978
B109: 農業，林業 | C109: 2 | D109: 畜産農業 | E109: A012 | F109: 頭羽 | L109: 0.33018847 | N109: 0.005382138 | S109: 0.00025647586 | V109: 0.0001907034 | W109: 357.10924 | X109: 0.33915702
C110: 3 | D110: 林業 | E110: A02 | F110: 千人 | I110: 0.27300303 | L110: 303.51027 | N110: 17083.32 | S110: 0.56147506 | T110: 3.5536731 | V110: 0.51613701
C111: 4 | D111: 上記以外の農業，林業
D112: 漁業大分類 | E112: B
B113: 漁 業 | C113: 5 | D113: 漁業 | E113: B03 | F113: 千人 | I113: 3.7257439 | L113: 13.921136 | N113: 6.4036223 | S113: 10.601481
C114: 6 | D114: 水産養殖業 | E114: B04 | F114: 千人 | H114: 120.43796
B115: 鉱 業 | C115: 7 | D115: 鉱業，採石業，砂利採取業 | E115: C | F115: 千人 | G115: 129.2462 | H115: 589772.71 | I115: 204.54888 | J115: 0.015468547 | K115: 0.49748844 | L115: 828.4577 | N115: 80.56943 | R115: 10.178624 | S115: 164.29855 | T115: 6264.217 | U115: 548.98573 | V115: 3898.7801 | Y115: 595.19677
B116: 建設業 | C116: 8 | D116: 建設業 | E116: D | F116: 十億円 | G116: 0.81527019 | H116: 191.55907 | I116: 1.0146885 | J116: 0.20803563 | K116: 0.3697485 | L116: 21.367747 | M116: 4.6513922 | N116: 100.1619 | O116: 1.3022363 | R116: 0.029164478 | S116: 23.150434 | T116: 40.977642 | U116: 1.0478156 | V116: 1115.5261 | Y116: 0.026692696
D117: 製造業大分類 | E117: E
C118: 9 | D118: 食料品製造業 | E118: E09 | F118: 十億円 | G118: 1.2758551 | H118: 274.2579 | I118: 3.1007995 | J118: 3.297583 | K118: 1.0403985 | L118: 12.791108 | N118: 0.42118183 | P118: 65.612346 | Q118: 0.60020408 | R118: 0.00096049596 | S118: 1.169652 | T118: 0.46998884 | U118: 0.022122384 | V118: 0.062253953 | Y118: 0.58349466
...

Sheet 表Ⅲ・8　180111
B1: 表－Ⅲ・８ 平成27年度実績値 業種別・種類別活動量指標合計（有回答）一覧表
D3: 全国 | F3: 平成27年度
B4: 大分類 | C4: 番号 | D4: 産業分類 | E4: コード | F4: 単位 | G4: 燃え殻 | H4: 汚 泥 | I4: 廃 油 | J4: 廃 酸 | K4: 廃アルカリ | L4: 廃プラス チック類 | M4: 紙くず | N4: 木くず | O4: 繊維くず | P4: 動植物性 残 渣 | Q4: 動物系固形不要物 | R4: ゴムくず | S4: 金属くず | T4: ガラスくず及び 陶磁器くず | U4: 鉱さい | V4: がれき類 | W4: 動物の ふん尿 | X4: 動物の死体 | Y4: ばいじん | Z4: 合 計
D5: 農業，林業大分類 | E5: A
C6: 1 | D6: 耕種農業 | E6: A011 | F6: 千a | I6: 132.1638 | L6: 330.3538 | N6: 132.1638 | S6: 132.1638 | T6: 132.1638 | V6: 132.1638 | Z6: 330.3538
B7: 農業，林業 | C7: 2 | D7: 畜産農業 | E7: A012 | F7: 頭羽 | I7: 15388.3 | L7: 15388.3 | N7: 15388.3 | S7: 15388.3 | T7: 15388.3 | V7: 15388.3 | W7: 29243.15 | X7: 28111.3 | Z7: 29243.15
C8: 3 | D8: 林業 | E8: A02 | F8: 千人 | I8: 0.273 | L8: 0.818 | N8: 0.273 | S8: 0.273 | T8: 0.273 | V8: 0.273 | Z8: 0.818
C9: 4 | D9: 上記以外の農業，林業
D10: 漁業大分類 | E10: B
B11: 漁 業 | C11: 5 | D11: 漁業 | E11: B03 | F11: 千人 | I11: 0.74233333 | L11: 6.4006667 | Z11: 6.4006667
C12: 6 | D12: 水産養殖業 | E12: B04 | F12: 千人
B13: 鉱 業 | C13: 7 | D13: 鉱業，採石業，砂利採取業 | E13: C | F13: 千人 | G13: 0.915 | H13: 7.5353333 | I13: 6.5666667 | J13: 3.399 | K13: 3.0323333 | L13: 6.664 | N13: 1.5716667 | R13: 1.538 | S13: 5.986 | T13: 6.129 | U13: 1.8216667 | V13: 3.2863333 | Y13: 0.915 | Z13: 8.0366667
B14: 建設業 | C14: 8 | D14: 建設業 | E14: D | F14: 十億円 | G14: 36054.069 | H14: 40151.57 | I14: 37175.791 | J14: 26805.421 | K14: 35368.263 | L14: 37175.791 | M14: 37175.791 | N14: 40151.57 | O14: 37175.791 | R14: 22473.162 | S14: 37175.791 | T14: 37175.791 | U14: 33097.03 | V14: 40151.57 | Y14: 15025.421 | Z14: 39355.265
D15: 製造業大分類 | E15: E
C16: 9 | D16: 食料品製造業 | E16: E09 | F16: 十億円 | G16: 12180.642 | H16: 14981.586 | I16: 14981.586 | J16: 14659.59 | K16: 11324.035 | L16: 14981.586 | N16: 10338.895 | P16: 14981.586 | Q16: 5354.4846 | R16: 2675.0538 | S16: 14981.586 | T16: 14981.586 | U16: 2839.5607 | V16: 10109.658 | Y16: 5814.4788 | Z16: 14558.043
C17: 10 | D17: 飲料・たばこ・飼料製造業 | E17: E10 | F17: 十億円 | G17: 4754.9827 | H17: 5673.0711 | I17: 6024.8072 | J17: 4957.6842 | K17: 3168.1149 | L17: 6108.1401 | N17: 4549.4104 | P17: 6101.67 | R17: 435.64815 | S17: 5722.0936 | T17: 6108.1401 | U17: 380.09328 | V17: 1844.0883 | Y17: 2436.2123 | Z17: 5627.5205
C18: 11 | D18: 繊維工業 | E18: E11 | F18: 十億円 | G18: 1264.6505 | H18: 2058.0764 | I18: 1980.5333 | J18: 1018.1396 | K18: 1390.553 | L18: 2134.3081 | N18: 1493.8072 | O18: 1638.1244 | R18: 315.12395 | S18: 1632.9546 | T18: 1735.8384 | U18: 21.18524 | V18: 523.64224 | Y18: 339.17498 | Z18: 2075.1464
C19: 12 | D19: 木材・木製品製造業 | E19: E12 | F19: 十億円 | G19: 1382.7392 | H19: 1073.0166 | I19: 1290.5673 | J19: 295.03101 | K19: 379.81765 | L19: 1551.4623 | N19: 1507.6715 | R19: 61.673024 | S19: 1299.6653 | T19: 1354.9272 | U19: 142.62344 | V19: 670.92305 | Y19: 539.75868 | Z19: 1447.4468
C20: 13 | D20: 家具・装備品製造業 | E20: E13 | F20: 十億円 | G20: 467.25228 | H20: 593.14868 | I20: 564.17651 | J20: 195.66732 | K20: 495.24242 | L20: 855.6942 | N20: 875.12717 | R20: 111.9816 | S20: 678.04952 | T20: 668.56844 | U20: 157.97986 | V20: 275.25181 | Y20: 198.51386 | Z20: 824.8182
C21: 14 | D21: パルプ・紙・紙加工品製造業 | E21: E14 | F21: 十億円 | G21: 3425.7894 | H21: 3438.9418 | I21: 3353.5266 | J21: 2829.0523 | K21: 3606.0262 | L21: 3847.3992 | M21: 3438.9418 | N21: 3758.9106 | R21: 94.9696 | S21: 3761.9841 | T21: 3398.3151 | U21: 902.15894 | V21: 1716.7119 | Y21: 3225.7846 | Z21: 3532.7302
C22: 15 | D22: 印刷・同関連業 | E22: E15 | F22: 十億円 | G22: 335.6137 | H22: 1581.8613 | I22: 1685.2707 | J22: 1984.6815 | K22: 2027.4112 | L22: 2052.8965 | M22: 1916.2604 | N22: 1592.7757 | R22: 527.99977 | S22: 1674.0868 | T22: 1326.7082 | U22: 178.59448 | V22: 197.884 | Y22: 178.59448 | Z22: 1819.0454
