Workbook

Sheet 管制船舶通航状況比較表P53
A1: 第四部 通 航 統 計
A2: 管制船舶通航状況比較表（対前年比） | L2: （単位：隻）
B3: 区分 | E3: 本年 | H3: 前年 | K3: 対前年比
B4: 合計 | E4: =SUM(E5:E15) -> 117766 | H4: =SUM(H5:H15) -> 121385 | K4: =E4/H4 -> 0.97018577
B5: 浦賀水道 | E5: =管制業務統計P54!B7 -> 28635 | H5: 28987 | K5: =E5/H5 -> 0.98785663
B6: 中ノ瀬 | E6: =管制業務統計P54!B8 -> 10025 | H6: 10252 | K6: =E6/H6 -> 0.97785798
B7: 伊良湖水道 | E7: =管制業務統計P54!B9 -> 20581 | H7: 20848 | K7: =E7/H7 -> 0.98719302
B8: 明石海峡 | E8: =管制業務統計P54!B10 -> 12096 | H8: 12485 | K8: =E8/H8 -> 0.96884261
B9: 備讃瀬戸東 | E9: =管制業務統計P54!B11 -> 11302 | H9: 11885 | K9: =E9/H9 -> 0.95094657
B10: 宇高東 | E10: =管制業務統計P54!B12 -> 45 | H10: 44 | K10: =E10/H10 -> 1.0227273
B11: 宇高西 | E11: =管制業務統計P54!B13 -> 42 | H11: 37 | K11: =E11/H11 -> 1.1351351
B12: 備讃瀬戸北 | E12: =管制業務統計P54!B14 -> 5539 | H12: 5788 | K12: =E12/H12 -> 0.95697996
B13: 備讃瀬戸南 | E13: =管制業務統計P54!B15 -> 5563 | H13: 5935 | K13: =E13/H13 -> 0.93732098
B14: 水島 | E14: =管制業務統計P54!B16 -> 12209 | H14: 12731 | K14: =E14/H14 -> 0.95899772
B15: 来島海峡 | E15: =管制業務統計P54!B17 -> 11729 | H15: 12393 | K15: =E15/H15 -> 0.94642137
H16: ※平成22年7月1日以降、管制船舶の基準変更

Sheet 管制業務統計P54
A1: １ 航 路 別 管 制 船 舶 通 航 状 況
AA2: （単位：隻）
A3: 巨大船等種別 国 籍 別 航 路 別 | B3: 総 計 | E3: 巨 大 船 | N3: 準巨大船 | W3: 巨大船及び準巨大船でな い危険物積載船 | Z3: 物 件 えい（押）航船
E4: 合 計 | H4: 危 険 物 積 載 船 | K4: 危険物積載船を 除く巨大船 | N4: 合 計 | Q4: 危 険 物 積 載 船 | T4: 危険物積載船を 除く準巨大船
B5: 計 | C5: 日本船 | D5: 外国船 | E5: 計 | F5: 日本船 | G5: 外国船 | H5: 計 | I5: 日本船 | J5: 外国船 | K5: 計 | L5: 日本船 | M5: 外国船 | N5: 計 | O5: 日本船 | P5: 外国船 | Q5: 計 | R5: 日本船 | S5: 外国船 | T5: 計 | U5: 日本船 | V5: 外国船 | W5: 計 | X5: 日本船 | Y5: 外国船 | Z5: 計 | AA5: 日本船 | AB5: 外国船
A6: 合 計 | B6: =SUM(E6,N6,W6,Z6) -> 117766 | C6: =SUM(F6,O6,X6,AA6) -> 63018 | D6: =SUM(G6,P6,Y6,AB6) -> 54748 | E6: =SUM(E7:E17) -> 21803 | F6: =SUM(F7:F17) -> 2642 | G6: =SUM(G7:G17) -> 19161 | H6: =SUM(H7:H17) -> 4995 | I6: =SUM(I7:I17) -> 833 | J6: =SUM(J7:J17) -> 4162 | K6: =SUM(K7:K17) -> 16808 | L6: =SUM(L7:L17) -> 1809 | ... AB6: =SUM(AB7:AB17) -> 30
A7: 浦賀水道 | B7: =SUM(E7,N7,W7,Z7) -> 28635 | C7: =SUM(F7,O7,X7,AA7) -> 11426 | D7: =SUM(G7,P7,Y7,AB7) -> 17209 | E7: =SUM(F7:G7) -> 8936 | F7: =SUM(I7,L7) -> 926 | G7: =SUM(J7,M7) -> 8010 | H7: =SUM(I7:J7) -> 2048 | I7: 335 | J7: 1713 | K7: =SUM(L7:M7) -> 6888 | L7: 591 | M7: 6297 | N7: =SUM(O7:P7) -> 13595 | O7: =SUM(R7,U7) -> 6090 | P7: =SUM(S7,V7) -> 7505 | Q7: =SUM(R7:S7) -> 504 | R7: 31 | S7: 473 | T7: =SUM(U7:V7) -> 13091 | U7: 6059 | V7: 7032 | W7: =SUM(X7:Y7) -> 6086 | X7: 4393 | Y7: 1693 | Z7: =SUM(AA7:AB7) -> 18 | AA7: 17 | AB7: 1
A8: 中ノ瀬 | B8: =SUM(E8,N8,W8,Z8) -> 10025 | C8: =SUM(F8,O8,X8,AA8) -> 3887 | D8: =SUM(G8,P8,Y8,AB8) -> 6138 | E8: =SUM(F8:G8) -> 3235 | F8: =SUM(I8,L8) -> 283 | G8: =SUM(J8,M8) -> 2952 | H8: =SUM(I8:J8) -> 991 | I8: 131 | J8: 860 | K8: =SUM(L8:M8) -> 2244 | L8: 152 | M8: 2092 | N8: =SUM(O8:P8) -> 4975 | O8: =SUM(R8,U8) -> 2442 | P8: =SUM(S8,V8) -> 2533 | Q8: =SUM(R8:S8) -> 227 | R8: 27 | S8: 200 | T8: =SUM(U8:V8) -> 4748 | U8: 2415 | V8: 2333 | W8: =SUM(X8:Y8) -> 1806 | X8: 1154 | Y8: 652 | Z8: =SUM(AA8:AB8) -> 9 | AA8: 8 | AB8: 1
A9: 伊良湖水道 | B9: =SUM(E9,N9,W9,Z9) -> 20581 | C9: =SUM(F9,O9,X9,AA9) -> 6163 | D9: =SUM(G9,P9,Y9,AB9) -> 14418 | E9: =SUM(F9:G9) -> 4429 | F9: =SUM(I9,L9) -> 395 | G9: =SUM(J9,M9) -> 4034 | H9: =SUM(I9:J9) -> 818 | I9: 210 | J9: 608 | K9: =SUM(L9:M9) -> 3611 | L9: 185 | M9: 3426 | N9: =SUM(O9:P9) -> 13527 | O9: =SUM(R9,U9) -> 3635 | P9: =SUM(S9,V9) -> 9892 | Q9: =SUM(R9:S9) -> 121 | R9: 9 | S9: 112 | T9: =SUM(U9:V9) -> 13406 | U9: 3626 | V9: 9780 | W9: =SUM(X9:Y9) -> 2575 | X9: 2094 | Y9: 481 | Z9: =SUM(AA9:AB9) -> 50 | AA9: 39 | AB9: 11
A10: 明石海峡 | B10: =SUM(E10,N10,W10,Z10) -> 12096 | C10: =SUM(F10,O10,X10,AA10) -> 8550 | D10: =SUM(G10,P10,Y10,AB10) -> 3546 | E10: =SUM(F10:G10) -> 1696 | F10: =SUM(I10,L10) -> 345 | G10: =SUM(J10,M10) -> 1351 | H10: =SUM(I10:J10) -> 477 | I10: 61 | J10: 416 | K10: =SUM(L10:M10) -> 1219 | L10: 284 | M10: 935 | N10: =SUM(O10:P10) -> 7687 | O10: =SUM(R10,U10) -> 6001 | P10: =SUM(S10,V10) -> 1686 | Q10: =SUM(R10:S10) -> 93 | R10: 1 | S10: 92 | T10: =SUM(U10:V10) -> 7594 | U10: 6000 | V10: 1594 | W10: =SUM(X10:Y10) -> 2550 | X10: 2049 | Y10: 501 | Z10: =SUM(AA10:AB10) -> 163 | AA10: 155 | AB10: 8
A11: 備讃瀬戸東 | B11: =SUM(E11,N11,W11,Z11) -> 11302 | C11: =SUM(F11,O11,X11,AA11) -> 8407 | D11: =SUM(G11,P11,Y11,AB11) -> 2895 | E11: =SUM(F11:G11) -> 1105 | F11: =SUM(I11,L11) -> 226 | G11: =SUM(J11,M11) -> 879 | H11: =SUM(I11:J11) -> 238 | I11: 32 | J11: 206 | K11: =SUM(L11:M11) -> 867 | L11: 194 | M11: 673 | N11: =SUM(O11:P11) -> 7630 | O11: =SUM(R11,U11) -> 6162 | P11: =SUM(S11,V11) -> 1468 | Q11: =SUM(R11:S11) -> 51 | R11: 1 | S11: 50 | T11: =SUM(U11:V11) -> 7579 | U11: 6161 | V11: 1418 | W11: =SUM(X11:Y11) -> 2539 | X11: 1991 | Y11: 548 | Z11: =SUM(AA11:AB11) -> 28 | AA11: 28 | AB11: 0
A12: 宇高東 | B12: =SUM(E12,N12,W12,Z12) -> 45 | C12: =SUM(F12,O12,X12,AA12) -> 40 | D12: =SUM(G12,P12,Y12,AB12) -> 5 | E12: =SUM(F12:G12) -> 0 | F12: =SUM(I12,L12) -> 0 | G12: =SUM(J12,M12) -> 0 | H12: =SUM(I12:J12) -> 0 | I12: 0 | J12: 0 | K12: =SUM(L12:M12) -> 0 | L12: 0 | M12: 0 | N12: =SUM(O12:P12) -> 14 | O12: =SUM(R12,U12) -> 9 | P12: =SUM(S12,V12) -> 5 | Q12: =SUM(R12:S12) -> 0 | R12: 0 | S12: 0 | T12: =SUM(U12:V12) -> 14 | U12: 9 | V12: 5 | W12: =SUM(X12:Y12) -> 31 | X12: 31 | Y12: 0 | Z12: =SUM(AA12:AB12) -> 0 | AA12: 0 | AB12: 0
A13: 宇高西 | B13: =SUM(E13,N13,W13,Z13) -> 42 | C13: =SUM(F13,O13,X13,AA13) -> 31 | D13: =SUM(G13,P13,Y13,AB13) -> 11 | E13: =SUM(F13:G13) -> 0 | F13: =SUM(I13,L13) -> 0 | G13: =SUM(J13,M13) -> 0 | H13: =SUM(I13:J13) -> 0 | I13: 0 | J13: 0 | K13: =SUM(L13:M13) -> 0 | L13: 0 | M13: 0 | N13: =SUM(O13:P13) -> 21 | O13: =SUM(R13,U13) -> 11 | P13: =SUM(S13,V13) -> 10 | Q13: =SUM(R13:S13) -> 0 | R13: 0 | S13: 0 | T13: =SUM(U13:V13) -> 21 | U13: 11 | V13: 10 | W13: =SUM(X13:Y13) -> 21 | X13: 20 | Y13: 1 | Z13: =SUM(AA13:AB13) -> 0 | AA13: 0 | AB13: 0
A14: 備讃瀬戸北 | B14: =SUM(E14,N14,W14,Z14) -> 5539 | C14: =SUM(F14,O14,X14,AA14) -> 3884 | D14: =SUM(G14,P14,Y14,AB14) -> 1655 | E14: =SUM(F14:G14) -> 693 | F14: =SUM(I14,L14) -> 142 | G14: =SUM(J14,M14) -> 551 | H14: =SUM(I14:J14) -> 147 | I14: 30 | J14: 117 | K14: =SUM(L14:M14) -> 546 | L14: 112 | M14: 434 | N14: =SUM(O14:P14) -> 3744 | O14: =SUM(R14,U14) -> 2936 | P14: =SUM(S14,V14) -> 808 | Q14: =SUM(R14:S14) -> 36 | R14: 0 | S14: 36 | T14: =SUM(U14:V14) -> 3708 | U14: 2936 | V14: 772 | W14: =SUM(X14:Y14) -> 1086 | X14: 790 | Y14: 296 | Z14: =SUM(AA14:AB14) -> 16 | AA14: 16 | AB14: 0
A15: 備讃瀬戸南 | B15: =SUM(E15,N15,W15,Z15) -> 5563 | C15: =SUM(F15,O15,X15,AA15) -> 4099 | D15: =SUM(G15,P15,Y15,AB15) -> 1464 | E15: =SUM(F15:G15) -> 471 | F15: =SUM(I15,L15) -> 91 | G15: =SUM(J15,M15) -> 380 | H15: =SUM(I15:J15) -> 63 | I15: 2 | J15: 61 | K15: =SUM(L15:M15) -> 408 | L15: 89 | M15: 319 | N15: =SUM(O15:P15) -> 3877 | O15: =SUM(R15,U15) -> 3075 | P15: =SUM(S15,V15) -> 802 | Q15: =SUM(R15:S15) -> 33 | R15: 1 | S15: 32 | T15: =SUM(U15:V15) -> 3844 | U15: 3074 | V15: 770 | W15: =SUM(X15:Y15) -> 1202 | X15: 920 | Y15: 282 | Z15: =SUM(AA15:AB15) -> 13 | AA15: 13 | AB15: 0
A16: 水島 | B16: =SUM(E16,N16,W16,Z16) -> 12209 | C16: =SUM(F16,O16,X16,AA16) -> 8109 | D16: =SUM(G16,P16,Y16,AB16) -> 4100 | E16: =SUM(F16:G16) -> 755 | F16: =SUM(I16,L16) -> 152 | G16: =SUM(J16,M16) -> 603 | H16: =SUM(I16:J16) -> 200 | I16: 32 | J16: 168 | K16: =SUM(L16:M16) -> 555 | L16: 120 | M16: 435 | N16: =SUM(O16:P16) -> 10735 | O16: =SUM(R16,U16) -> 7334 | P16: =SUM(S16,V16) -> 3401 | Q16: =SUM(R16:S16) -> 71 | R16: 1 | S16: 70 | T16: =SUM(U16:V16) -> 10664 | U16: 7333 | V16: 3331 | W16: =SUM(X16:Y16) -> 717 | X16: 621 | Y16: 96 | Z16: =SUM(AA16:AB16) -> 2 | AA16: 2 | AB16: 0
A17: 来島海峡 | B17: =SUM(E17,N17,W17,Z17) -> 11729 | C17: =SUM(F17,O17,X17,AA17) -> 8422 | D17: =SUM(G17,P17,Y17,AB17) -> 3307 | E17: =SUM(F17:G17) -> 483 | F17: =SUM(I17,L17) -> 82 | G17: =SUM(J17,M17) -> 401 | H17: =SUM(I17:J17) -> 13 | I17: 0 | J17: 13 | K17: =SUM(L17:M17) -> 470 | L17: 82 | M17: 388 | N17: =SUM(O17:P17) -> 6539 | O17: =SUM(R17,U17) -> 4750 | P17: =SUM(S17,V17) -> 1789 | Q17: =SUM(R17:S17) -> 25 | R17: 0 | S17: 25 | T17: =SUM(U17:V17) -> 6514 | U17: 4750 | V17: 1764 | W17: =SUM(X17:Y17) -> 3018 | X17: 1910 | Y17: 1108 | Z17: =SUM(AA17:AB17) -> 1689 | AA17: 1680 | AB17: 9
A18: （注） 準巨大船とは、海上交通安全法第２２条第２号の船舶をいう。

Sheet 管制業務統計 P55
C1: ２ 海 上 交 通 セ ン タ ー 別 情 報 提 供 等 実 施 状 況
B4: 海上交通 センター別 | C4: 情報提供 | J4: 勧告 | O4: 航路外待機指示
C5: 計 | D5: 交通方法に関する情報 | E5: 船舶交通の障害発生に 関する情報 | F5: 安全に航行することが困難な 海域への接近に関する情報 | G5: 進路を避けることが容易でない船舶に関する情報 | H5: 特定船舶との接近に関する情報 | I5: その他の情報 | J5: 計 | K5: 交通方法遵守 | L5: 困難な海域への接近回避 | M5: 特定船舶との接近回避 | N5: その他安全上必要な場合 | O5: 計 | P5: 視界制限 | Q5: 最低速力 | R5: 巨大船との行き会い
B6: 東京湾 海上交通 センター | C6: =SUM(D6:I6) -> 8258 | D6: 2959 | E6: 113 | F6: 211 | G6: 107 | H6: 1625 | I6: 3243 | J6: =SUM(K6:N6) -> 2863 | K6: 2717 | L6: 17 | M6: 113 | N6: 16 | O6: =SUM(P6:R6) -> 3 | P6: 3
B7: 名古屋港 海上交通 センター | C7: =SUM(D7:I7) -> 155 | D7: 81 | E7: 3 | F7: 21 | G7: 29 | H7: 0 | I7: 21 | J7: =SUM(K7:N7) -> 3 | K7: 3 | L7: 0 | M7: 0 | N7: 0 | O7: =SUM(P7:R7) -> 0
B8: 伊勢湾 海上交通 センター | C8: =SUM(D8:I8) -> 2626 | D8: 756 | E8: 114 | F8: 74 | G8: 97 | H8: 1407 | I8: 178 | J8: =SUM(K8:N8) -> 2 | K8: 2 | L8: 0 | M8: 0 | N8: 0 | O8: =SUM(P8:R8) -> 5 | P8: 5 | R8: 0
B9: 大阪湾 海上交通 センター | C9: =SUM(D9:I9) -> 567 | D9: 59 | E9: 2 | F9: 5 | G9: 26 | H9: 1 | I9: 474 | J9: =SUM(K9:N9) -> 2 | K9: 2 | L9: 0 | M9: 0 | N9: 0 | O9: =SUM(P9:R9) -> 17 | P9: 17
B10: 備讃瀬戸 海上交通 センター | C10: =SUM(D10:I10) -> 3575 | D10: 438 | E10: 20 | F10: 468 | G10: 71 | H10: 1350 | I10: 1228 | J10: =SUM(K10:N10) -> 72 | K10: 28 | L10: 16 | M10: 17 | N10: 11 | O10: =SUM(P10:R10) -> 17 | P10: 17 | R10: 0
B11: 来島海峡 海上交通 センター | C11: =SUM(D11:I11) -> 2428 | D11: 1250 | E11: 0 | F11: 38 | G11: 10 | H11: 525 | I11: 605 | J11: =SUM(K11:N11) -> 992 | K11: 186 | L11: 3 | M11: 58 | N11: 745 | O11: =SUM(P11:R11) -> 44 | P11: 44 | Q11: 0
B12: 関門海峡 海上交通 センター | C12: =SUM(D12:I12) -> 508 | D12: 113 | E12: 19 | F12: 143 | G12: 1 | H12: 159 | I12: 73 | J12: =SUM(K12:N12) -> 1555 | K12: 1032 | L12: 30 | M12: 173 | N12: 320 | O12: =SUM(P12:R12) -> 82 | P12: 82 | Q12: 0
