Workbook

Sheet 総-水路通報件数p58
A1: 第六部 水 路 統 計
B2: 水路通報等実施件数比較表（対前年比）
B3: 区分 | E3: 本年分 | H3: 前年分 | K3: 対前年比
B4: 水路通報等実施件数 | E4: ='1 水路通報実施P59-61'!H7 -> 41436 | F4: 件 | H4: 40143 | I4: 件 | K4: =E4/H4 -> 1.0322098
B5: 水深 | E5: ='1 水路通報実施P59-61'!I7 -> 4482 | H5: 3667 | K5: =E5/H5 -> 1.2222525
B6: 自然現象 | E6: ='1 水路通報実施P59-61'!J7 -> 47 | H6: 124 | K6: =E6/H6 -> 0.37903226
B7: 漂流物等 | E7: ='1 水路通報実施P59-61'!K7 -> 3149 | H7: 2468 | K7: =E7/H7 -> 1.2759319
B8: 航路標識 | E8: ='1 水路通報実施P59-61'!L7 -> 5885 | H8: 5672 | K8: =E8/H8 -> 1.0375529
B9: 訓練・試験 | E9: ='1 水路通報実施P59-61'!M7 -> 10340 | H9: 10239 | K9: =E9/H9 -> 1.0098642
B10: 港湾施設 | E10: ='1 水路通報実施P59-61'!N7 -> 4768 | H10: 4823 | K10: =E10/H10 -> 0.98859631
B11: 海底施設 | E11: ='1 水路通報実施P59-61'!O7 -> 922 | H11: 880 | K11: =E11/H11 -> 1.0477273
B12: 海洋施設 | E12: ='1 水路通報実施P59-61'!P7 -> 225 | H12: 304 | K12: =E12/H12 -> 0.74013158
B13: 海洋調査 | E13: ='1 水路通報実施P59-61'!Q7 -> 5908 | H13: 6954 | K13: =E13/H13 -> 0.84958297
B14: えい航 | E14: ='1 水路通報実施P59-61'!R7 -> 643 | H14: 716 | K14: =E14/H14 -> 0.89804469
B15: 制限又は禁止 | E15: ='1 水路通報実施P59-61'!S7 -> 650 | H15: 585 | K15: =E15/H15 -> 1.1111111
B16: 協力依頼 | E16: ='1 水路通報実施P59-61'!T7 -> 0 | H16: 10 | K16: =E16/H16 -> 0
B17: 漁業 | E17: ='1 水路通報実施P59-61'!U7 -> 1012 | H17: 1011 | K17: =E17/H17 -> 1.0009891
B18: 目標物 | E18: ='1 水路通報実施P59-61'!V7 -> 64 | H18: 99 | K18: =E18/H18 -> 0.64646465
B19: 出版 | E19: ='1 水路通報実施P59-61'!W7 -> 640 | H19: 652 | K19: =E19/H19 -> 0.98159509
B20: その他 | E20: ='1 水路通報実施P59-61'!X7 -> 2701 | H20: 1939 | K20: =E20/H20 -> 1.3929861

Sheet 1 水路通報実施P59-61
A1: １ 水路通報等実施状況
B2: (１) 水路通報等実施件数
A3: 事 項 別 手 段 別
H4: 合 計 | I4: 水深 | J4: 自然現象 | K4: 漂流物等 | L4: 航路標識 | M4: 訓練・試験 | N4: 港湾施設 | O4: 海底施設 | P4: 海洋施設 | Q4: 海洋調査 | R4: えい航 | S4: 禁止 制限又は | T4: 協力依頼 | U4: 漁業 | V4: 目標物 | W4: 出版 | X4: その他
H6: 件 | I6: 件 | J6: 件 | K6: 件 | L6: 件 | M6: 件 | N6: 件 | O6: 件 | P6: 件 | Q6: 件 | R6: 件 | S6: 件 | T6: 件 | U6: 件 | V6: 件 | W6: 件 | X6: 件
B7: 合 計 | H7: 41436 | I7: 4482 | J7: 47 | K7: 3149 | L7: 5885 | M7: 10340 | N7: 4768 | O7: 922 | P7: 225 | Q7: 5908 | R7: 643 | S7: 650 | T7: 0 | U7: 1012 | V7: 64 | W7: 640 | X7: 2701
B8: 水路通報 | F8: （日本語） | H8: =SUM(I8:X8) -> 3644 | I8: ='[1]通報 和文'!B56 -> 1301 | J8: ='[1]通報 和文'!C56 -> 0 | K8: ='[1]通報 和文'!D56 -> 0 | L8: ='[1]通報 和文'!E56 -> 581 | M8: ='[1]通報 和文'!F56 -> 260 | N8: ='[1]通報 和文'!G56 -> 648 | O8: ='[1]通報 和文'!H56 -> 139 | P8: ='[1]通報 和文'!I56 -> 27 | ... X8: ='[1]通報 和文'!Q56 -> 125
B9: 水路通報 | F9: （英 語） | H9: =SUM(I9:X9) -> 3593 | I9: ='[1]通報 英文'!B56 -> 1301 | J9: ='[1]通報 英文'!C56 -> 0 | K9: ='[1]通報 英文'!D56 -> 0 | L9: ='[1]通報 英文'!E56 -> 581 | M9: ='[1]通報 英文'!F56 -> 260 | N9: ='[1]通報 英文'!G56 -> 648 | O9: ='[1]通報 英文'!H56 -> 139 | P9: ='[1]通報 英文'!I56 -> 27 | ... X9: ='[1]通報 英文'!Q56 -> 74
B10: 管区水路通報 | F10: 計 | H10: =SUM(H11,H12,H13,H14,H15,H16,H17,H18,H19,H20,H21) -> 18214 | I10: =SUM(I11,I12,I13,I14,I15,I16,I17,I18,I19,I20,I21) -> 1229 | J10: =SUM(J11,J12,J13,J14,J15,J16,J17,J18,J19,J20,J21) -> 2 | K10: =SUM(K11,K12,K13,K14,K15,K16,K17,K18,K19,K20,K21) -> 128 | L10: =SUM(L11,L12,L13,L14,L15,L16,L17,L18,L19,L20,L21) -> 2579 | M10: =SUM(M11,M12,M13,M14,M15,M16,M17,M18,M19,M20,M21) -> 3232 | N10: =SUM(N11,N12,N13,N14,N15,N16,N17,N18,N19,N20,N21) -> 3449 | O10: =SUM(O11:O21) -> 220 | P10: =SUM(P11:P21) -> 10 | Q10: =SUM(Q11:Q21) -> 5354 | R10: =SUM(R11:R21) -> 190 | S10: =SUM(S11:S21) -> 269 | T10: =SUM(T11:T21) -> 0 | U10: =SUM(U11:U21) -> 658 | V10: =SUM(V11:V21) -> 38 | ... X10: =SUM(X11:X21) -> 850
B11: 一管区水路通報 | F11: （日本語） | H11: =SUM(I11:X11) -> 1433 | I11: 70 | J11: 0 | K11: 0 | L11: 101 | M11: 458 | N11: 167 | O11: 14 | P11: 0 | Q11: 367 | R11: 5 | S11: 23 | T11: 0 | U11: 142 | V11: 2 | W11: 0 | X11: 84
B12: 二 〃 | H12: =SUM(I12:X12) -> 1756 | I12: 162 | J12: 0 | K12: 0 | L12: 232 | M12: 241 | N12: 489 | O12: 39 | P12: 1 | Q12: 492 | R12: 12 | S12: 25 | T12: 0 | U12: 32 | V12: 4 | W12: 0 | X12: 27
B13: 三 〃 | H13: =SUM(I13:X13) -> 2651 | I13: 204 | J13: 2 | K13: 0 | L13: 439 | M13: 309 | N13: 272 | O13: 13 | P13: 2 | Q13: 1227 | R13: 48 | S13: 30 | T13: 0 | U13: 10 | V13: 9 | W13: 0 | X13: 86
B14: 四 〃 | H14: =SUM(I14:X14) -> 1647 | I14: 74 | J14: 0 | K14: 0 | L14: 216 | M14: 169 | N14: 360 | O14: 11 | P14: 0 | Q14: 560 | R14: 49 | S14: 29 | T14: 0 | U14: 64 | V14: 0 | W14: 0 | X14: 115
B15: 五 〃 | H15: =SUM(I15:Y15) -> 2138 | I15: 85 | J15: 0 | K15: 0 | L15: 286 | M15: 375 | N15: 534 | O15: 3 | P15: 0 | Q15: 610 | R15: 0 | S15: 21 | T15: 0 | U15: 90 | V15: 0 | W15: 4 | X15: 130
B16: 六 〃 | H16: =SUM(I16:X16) -> 2105 | I16: 154 | J16: 0 | K16: 2 | L16: 345 | M16: 188 | N16: 562 | O16: 18 | P16: 3 | Q16: 639 | R16: 10 | S16: 20 | T16: 0 | U16: 29 | V16: 1 | W16: 2 | X16: 132
B17: 七 〃 | H17: =SUM(I17:X17) -> 2048 | I17: 232 | J17: 0 | K17: 0 | L17: 538 | M17: 221 | N17: 352 | O17: 11 | P17: 1 | Q17: 422 | R17: 36 | S17: 43 | T17: 0 | U17: 149 | V17: 5 | W17: 0 | X17: 38
B18: 八 〃 | H18: =SUM(I18:X18) -> 837 | I18: 90 | J18: 0 | K18: 0 | L18: 69 | M18: 228 | N18: 219 | O18: 14 | P18: 2 | Q18: 125 | R18: 18 | S18: 18 | T18: 0 | U18: 30 | V18: 0 | W18: 0 | X18: 24
B19: 九 〃 | H19: =SUM(I19:X19) -> 1263 | I19: 102 | J19: 0 | K19: 0 | L19: 107 | M19: 196 | N19: 298 | O19: 12 | P19: 0 | Q19: 382 | R19: 5 | S19: 6 | T19: 0 | U19: 27 | V19: 7 | W19: 0 | X19: 121
B20: 十 〃 | H20: =SUM(I20:X20) -> 725 | I20: 9 | J20: 0 | K20: 0 | L20: 66 | M20: 268 | N20: 86 | O20: 20 | P20: 0 | Q20: 138 | R20: 5 | S20: 19 | T20: 0 | U20: 34 | V20: 1 | W20: 0 | X20: 79
B21: 十一 〃 | H21: =SUM(I21:X21) -> 1611 | I21: 47 | J21: 0 | K21: 126 | L21: 180 | M21: 579 | N21: 110 | O21: 65 | P21: 1 | Q21: 392 | R21: 2 | S21: 35 | T21: 0 | U21: 51 | V21: 9 | W21: 0 | X21: 14
A23: 事 項 別 手 段 別
H24: 合 計 | I24: 水深 | J24: 自然現象 | K24: 漂流物等 | L24: 航路標識 | M24: 訓練・試験 | N24: 港湾施設 | O24: 海底施設 | P24: 海洋施設 | Q24: 海洋調査 | R24: えい航 | S24: 禁止 制限又は | T24: 協力依頼 | U24: 漁業 | V24: 目標物 | W24: 出版 | X24: その他
H26: 件 | I26: 件 | J26: 件 | K26: 件 | L26: 件 | M26: 件 | N26: 件 | O26: 件 | P26: 件 | Q26: 件 | R26: 件 | S26: 件 | T26: 件 | U26: 件 | V26: 件 | W26: 件 | X26: 件
B27: 日本航行警報 | F27: (日本語) | H27: 3852 | I27: 15 | J27: 19 | K27: 272 | L27: 111 | M27: 2788 | N27: 4 | O27: 116 | P27: 57 | Q27: 207 | R27: 6 | S27: 15 | T27: 0 | U27: 1 | V27: 0 | W27: 0 | X27: 241
B28: ＮＡＶＡＲＥＡ ＸＩ 航行警報 | F28: (英 語) | H28: 848 | I28: 10 | J28: 4 | K28: 91 | L28: 25 | M28: 350 | N28: 3 | O28: 76 | P28: 6 | Q28: 71 | R28: 3 | S28: 12 | T28: 0 | U28: 1 | V28: 0 | W28: 0 | X28: 196
B29: ＮＡＶＴＥＸ航行警報 | F29: (日本語) | H29: 2710 | I29: 110 | J29: 6 | K29: 592 | L29: 356 | M29: 1117 | N29: 0 | O29: 115 | P29: 48 | Q29: 64 | R29: 98 | S29: 64 | T29: 0 | U29: 1 | V29: 0 | W29: 0 | X29: 139
B30: 〃 | F30: (英 語) | H30: 2710 | I30: 110 | J30: 6 | K30: 592 | L30: 356 | M30: 1117 | N30: 0 | O30: 115 | P30: 48 | Q30: 64 | R30: 98 | S30: 64 | T30: 0 | U30: 1 | V30: 0 | W30: 0 | X30: 139
B31: 管区地域航行警報 | F31: (日本語) 計 | H31: =SUM(I31:X31) -> 2935 | I31: =SUM(I33,I35,I37,I39,I41,I43,I45,I47,I49,I51,I53) -> 203 | J31: =SUM(J33,J35,J37,J39,J41,J43,J45,J47,J49,J51,J53) -> 5 | K31: =SUM(K33,K35,K37,K39,K41,K43,K45,K47,K49,K51,K53) -> 737 | L31: =SUM(L33,L35,L37,L39,L41,L43,L45,L47,L49,L51,L53) -> 650 | M31: =SUM(M33,M35,M37,M39,M41,M43,M45,M47,M49,M51,M53) -> 608 | N31: =SUM(N33,N35,N37,N39,N41,N43,N45,N47,N49,N51,N53) -> 8 | O31: =SUM(O33,O35,O37,O39,O41,O43,O45,O47,O49,O51,O53) -> 1 | P31: =SUM(P33,P35,P37,P39,P41,P43,P45,P47,P49,P51,P53) -> 1 | ... X31: =SUM(X33,X35,X37,X39,X41,X43,X45,X47,X49,X51,X53) -> 469
B32: 〃 | F32: (英 語) 計 | H32: =SUM(I32:X32) -> 2930 | I32: =SUM(I34,I36,I38,I40,I42,I44,I46,I48,I50,I52,I54) -> 203 | J32: =SUM(J34,J36,J38,J40,J42,J44,J46,J48,J50,J52,J54) -> 5 | K32: =SUM(K34,K36,K38,K40,K42,K44,K46,K48,K50,K52,K54) -> 737 | L32: =SUM(L34,L36,L38,L40,L42,L44,L46,L48,L50,L52,L54) -> 646 | M32: =SUM(M34,M36,M38,M40,M42,M44,M46,M48,M50,M52,M54) -> 608 | N32: =SUM(N34,N36,N38,N40,N42,N44,N46,N48,N50,N52,N54) -> 8 | O32: =SUM(O34,O36,O38,O40,O42,O44,O46,O48,O50,O52,O54) -> 1 | P32: =SUM(P34,P36,P38,P40,P42,P44,P46,P48,P50,P52,P54) -> 1 | ... X32: =SUM(X34,X36,X38,X40,X42,X44,X46,X48,X50,X52,X54) -> 468
B33: 一管区地域航行警報 | F33: (日本語) | H33: =SUM(I33:X33) -> 270 | I33: 11 | J33: 1 | K33: 115 | L33: 47 | M33: 42 | N33: 3 | O33: 0 | P33: 0 | Q33: 5 | R33: 4 | S33: 0 | T33: 0 | U33: 0 | V33: 0 | W33: 0 | X33: 42
B34: 〃 | F34: (英 語) | H34: =SUM(I34:X34) -> 266 | I34: 11 | J34: 1 | K34: 115 | L34: 43 | M34: 42 | N34: 3 | O34: 0 | P34: 0 | Q34: 5 | R34: 4 | S34: 0 | T34: 0 | U34: 0 | V34: 0 | W34: 0 | X34: 42
B35: 二 〃 | F35: (日本語) | H35: =SUM(I35:X35) -> 170 | I35: 3 | J35: 2 | K35: 44 | L35: 50 | M35: 22 | N35: 0 | O35: 0 | P35: 0 | Q35: 15 | R35: 0 | S35: 0 | T35: 0 | U35: 0 | V35: 0 | W35: 0 | X35: 34
B36: 〃 | F36: (英 語) | H36: =SUM(I36:X36) -> 170 | I36: 3 | J36: 2 | K36: 44 | L36: 50 | M36: 22 | N36: 0 | O36: 0 | P36: 0 | Q36: 15 | R36: 0 | S36: 0 | T36: 0 | U36: 0 | V36: 0 | W36: 0 | X36: 34
B37: 三 〃 | F37: (日本語) | H37: =SUM(I37:X37) -> 430 | I37: 39 | J37: 0 | K37: 86 | L37: 88 | M37: 163 | N37: 0 | O37: 1 | P37: 0 | Q37: 2 | R37: 13 | S37: 3 | T37: 0 | U37: 0 | V37: 0 | W37: 0 | X37: 35
B38: 〃 | F38: (英 語) | H38: =SUM(I38:X38) -> 429 | I38: 39 | J38: 0 | K38: 86 | L38: 88 | M38: 163 | N38: 0 | O38: 1 | P38: 0 | Q38: 2 | R38: 13 | S38: 3 | T38: 0 | U38: 0 | V38: 0 | W38: 0 | X38: 34
B39: 四 〃 | F39: (日本語) | H39: =SUM(I39:X39) -> 197 | I39: 27 | J39: 0 | K39: 31 | L39: 59 | M39: 10 | N39: 1 | O39: 0 | P39: 0 | Q39: 0 | R39: 26 | S39: 7 | T39: 0 | U39: 0 | V39: 0 | W39: 0 | X39: 36
B40: 〃 | F40: (英 語) | H40: =SUM(I40:X40) -> 197 | I40: 27 | J40: 0 | K40: 31 | L40: 59 | M40: 10 | N40: 1 | O40: 0 | P40: 0 | Q40: 0 | R40: 26 | S40: 7 | T40: 0 | U40: 0 | V40: 0 | W40: 0 | X40: 36
B41: 五 〃 | F41: (日本語) | H41: =SUM(I41:X41) -> 259 | I41: 34 | J41: 0 | K41: 22 | L41: 73 | M41: 41 | N41: 0 | O41: 0 | P41: 0 | Q41: 0 | R41: 42 | S41: 4 | T41: 0 | U41: 0 | V41: 0 | W41: 0 | X41: 43
B42: 〃 | F42: (英 語) | H42: =SUM(I42:X42) -> 259 | I42: 34 | J42: 0 | K42: 22 | L42: 73 | M42: 41 | N42: 0 | O42: 0 | P42: 0 | Q42: 0 | R42: 42 | S42: 4 | T42: 0 | U42: 0 | V42: 0 | W42: 0 | X42: 43
B43: 六 〃 | F43: (日本語) | H43: =SUM(I43:X43) -> 162 | I43: 15 | J43: 0 | K43: 5 | L43: 37 | M43: 0 | N43: 0 | O43: 0 | P43: 0 | Q43: 0 | R43: 29 | S43: 22 | T43: 0 | U43: 0 | V43: 0 | W43: 1 | X43: 53
...

Sheet 1 水路通報実施P62-68
B2: (3) 航行援助情報提供業務実施件数
A3: 事 項 別 手 段 別
H4: 合 計 | I4: 水深 | J4: 自然現象 | K4: 漂流物等 | L4: 航路標識 | M4: 訓練・試験 | N4: 港湾施設 | O4: 海底施設 | P4: 海洋施設 | Q4: 海洋調査 | R4: えい航 | S4: 禁止 制限又は | T4: 協力依頼 | U4: 漁業 | V4: 目標物 | W4: 出版 | X4: その他
H6: 件 | I6: 件 | J6: 件 | K6: 件 | L6: 件 | M6: 件 | N6: 件 | O6: 件 | P6: 件 | Q6: 件 | R6: 件 | S6: 件 | T6: 件 | U6: 件 | V6: 件 | W6: 件 | X6: 件
B7: 航行援助情報提供実施件数 | F7: (日本語)計 | H7: =SUM(I7:X7) -> 670167 | I7: =I9+I11+I13+I15+I17+I19+I21+I23+I25+I27+I29+I31+I37+I39+I41+I43+I45+I47+I49+I51+I53+I55+I57+I59+I61+I63+I65+I71+I73+I75+I77+I79+I81+I83+I85+I87+I89+I91+I93+I95+I97+I99+I105+I107+I109+I111+I113+I115+I117+I119+I121+SUM(I123,I125,I127,I129,I131,I133,I139,I141)+SUM(I143,I145,I147,I149,I151)+SUM(I153,I155,I157,I159,I161,I163,I165,I167)+SUM(I173,I175,I177,I179,I181,I183,I185,I187,I189,I191)+SUM(I193,I195,I197,I199,I201,I203,I209,I211) -> 962 | J7: =J9+J11+J13+J15+J17+J19+J21+J23+J25+J27+J29+J31+J37+J39+J41+J43+J45+J47+J49+J51+J53+J55+J57+J59+J61+J63+J65+J71+J73+J75+J77+J79+J81+J83+J85+J87+J89+J91+J93+J95+J97+J99+J105+J107+J109+J111+J113+J115+J117+J119+J121+SUM(J123,J125,J127,J129,J131,J133,J139,J141)+SUM(J143,J145,J147,J149,J151)+SUM(J153,J155,J157,J159,J161,J163,J165,J167)+SUM(J173,J175,J177,J179,J181,J183,J185,J187,J189,J191)+SUM(J193,J195,J197,J199,J201,J203,J209,J211) -> 424 | K7: =K9+K11+K13+K15+K17+K19+K21+K23+K25+K27+K29+K31+K37+K39+K41+K43+K45+K47+K49+K51+K53+K55+K57+K59+K61+K63+K65+K71+K73+K75+K77+K79+K81+K83+K85+K87+K89+K91+K93+K95+K97+K99+K105+K107+K109+K111+K113+K115+K117+K119+K121+SUM(K123,K125,K127,K129,K131,K133,K139,K141)+SUM(K143,K145,K147,K149,K151)+SUM(K153,K155,K157,K159,K161,K163,K165,K167)+SUM(K173,K175,K177,K179,K181,K183,K185,K187,K189,K191)+SUM(K193,K195,K197,K199,K201,K203,K209,K211) -> 777 | L7: =L9+L11+L13+L15+L17+L19+L21+L23+L25+L27+L29+L31+L37+L39+L41+L43+L45+L47+L49+L51+L53+L55+L57+L59+L61+L63+L65+L71+L73+L75+L77+L79+L81+L83+L85+L87+L89+L91+L93+L95+L97+L99+L105+L107+L109+L111+L113+L115+L117+L119+L121+SUM(L123,L125,L127,L129,L131,L133,L139,L141)+SUM(L143,L145,L147,L149,L151)+SUM(L153,L155,L157,L159,L161,L163,L165,L167)+SUM(L173,L175,L177,L179,L181,L183,L185,L187,L189,L191)+SUM(L193,L195,L197,L199,L201,L203,L209,L211) -> 5007 | M7: =M9+M11+M13+M15+M17+M19+M21+M23+M25+M27+M29+M31+M37+M39+M41+M43+M45+M47+M49+M51+M53+M55+M57+M59+M61+M63+M65+M71+M73+M75+M77+M79+M81+M83+M85+M87+M89+M91+M93+M95+M97+M99+M105+M107+M109+M111+M113+M115+M117+M119+M121+SUM(M123,M125,M127,M129,M131,M133,M139,M141)+SUM(M143,M145,M147,M149,M151)+SUM(M153,M155,M157,M159,M161,M163,M165,M167)+SUM(M173,M175,M177,M179,M181,M183,M185,M187,M189,M191)+SUM(M193,M195,M197,M199,M201,M203,M209,M211) -> 2821 | N7: =N9+N11+N13+N15+N17+N19+N21+N23+N25+N27+N29+N31+N37+N39+N41+N43+N45+N47+N49+N51+N53+N55+N57+N59+N61+N63+N65+N71+N73+N75+N77+N79+N81+N83+N85+N87+N89+N91+N93+N95+N97+N99+N105+N107+N109+N111+N113+N115+N117+N119+N121+SUM(N123,N125,N127,N129,N131,N133,N139,N141)+SUM(N143,N145,N147,N149,N151)+SUM(N153,N155,N157,N159,N161,N163,N165,N167)+SUM(N173,N175,N177,N179,N181,N183,N185,N187,N189,N191)+SUM(N193,N195,N197,N199,N201,N203,N209,N211) -> 4440 | O7: =O9+O11+O13+O15+O17+O19+O21+O23+O25+O27+O29+O31+O37+O39+O41+O43+O45+O47+O49+O51+O53+O55+O57+O59+O61+O63+O65+O71+O73+O75+O77+O79+O81+O83+O85+O87+O89+O91+O93+O95+O97+O99+O105+O107+O109+O111+O113+O115+O117+O119+O121+SUM(O123,O125,O127,O129,O131,O133,O139,O141)+SUM(O143,O145,O147,O149,O151)+SUM(O153,O155,O157,O159,O161,O163,O165,O167)+SUM(O173,O175,O177,O179,O181,O183,O185,O187,O189,O191)+SUM(O193,O195,O197,O199,O201,O203,O209,O211) -> 228 | P7: =P9+P11+P13+P15+P17+P19+P21+P23+P25+P27+P29+P31+P37+P39+P41+P43+P45+P47+P49+P51+P53+P55+P57+P59+P61+P63+P65+P71+P73+P75+P77+P79+P81+P83+P85+P87+P89+P91+P93+P95+P97+P99+P105+P107+P109+P111+P113+P115+P117+P119+P121+SUM(P123,P125,P127,P129,P131,P133,P139,P141)+SUM(P143,P145,P147,P149,P151)+SUM(P153,P155,P157,P159,P161,P163,P165,P167)+SUM(P173,P175,P177,P179,P181,P183,P185,P187,P189,P191)+SUM(P193,P195,P197,P199,P201,P203,P209,P211) -> 296 | ... X7: =X9+X11+X13+X15+X17+X19+X21+X23+X25+X27+X29+X31+X37+X39+X41+X43+X45+X47+X49+X51+X53+X55+X57+X59+X61+X63+X65+X71+X73+X75+X77+X79+X81+X83+X85+X87+X89+X91+X93+X95+X97+X99+X105+X107+X109+X111+X113+X115+X117+X119+X121+SUM(X123,X125,X127,X129,X131,X133,X139,X141)+SUM(X143,X145,X147,X149,X151)+SUM(X153,X155,X157,X159,X161,X163,X165,X167)+SUM(X173,X175,X177,X179,X181,X183,X185,X187,X189,X191)+SUM(X193,X195,X197,X199,X201,X203,X209,X211) -> 502351
B8: 〃 | F8: (英 語)計 | H8: =SUM(I8:X8) -> 1120552 | I8: =I10+I12+I14+I16+I18+I20+I22+I24+I26+I28+I30+I32+I38+I40+I42+I44+I46+I48+I50+I52+I54+I56+I58+I60+I62+I64+I66+I72+I74+I76+I78+I80+I82+I84+I86+I88+I90+I92+I94+I96+I98+I100+I106+I108+I110+I112+I114+I116+I118+I120+I122+SUM(I124,I126,I128,I130,I132,I134,I140,I142)+SUM(I144,I146,I148,I150,I152)+SUM(I154,I156,I158,I160,I162,I164,I166,I168)+SUM(I174,I176,I178,I180,I182,I184,I186,I188,I190,I192)+SUM(I194,I196,I198,I200,I202,I204,I210,I212) -> 81012 | J8: =J10+J12+J14+J16+J18+J20+J22+J24+J26+J28+J30+J32+J38+J40+J42+J44+J46+J48+J50+J52+J54+J56+J58+J60+J62+J64+J66+J72+J74+J76+J78+J80+J82+J84+J86+J88+J90+J92+J94+J96+J98+J100+J106+J108+J110+J112+J114+J116+J118+J120+J122+SUM(J124,J126,J128,J130,J132,J134,J140,J142)+SUM(J144,J146,J148,J150,J152)+SUM(J154,J156,J158,J160,J162,J164,J166,J168)+SUM(J174,J176,J178,J180,J182,J184,J186,J188,J190,J192)+SUM(J194,J196,J198,J200,J202,J204,J210,J212) -> 419 | K8: =K10+K12+K14+K16+K18+K20+K22+K24+K26+K28+K30+K32+K38+K40+K42+K44+K46+K48+K50+K52+K54+K56+K58+K60+K62+K64+K66+K72+K74+K76+K78+K80+K82+K84+K86+K88+K90+K92+K94+K96+K98+K100+K106+K108+K110+K112+K114+K116+K118+K120+K122+SUM(K124,K126,K128,K130,K132,K134,K140,K142)+SUM(K144,K146,K148,K150,K152)+SUM(K154,K156,K158,K160,K162,K164,K166,K168)+SUM(K174,K176,K178,K180,K182,K184,K186,K188,K190,K192)+SUM(K194,K196,K198,K200,K202,K204,K210,K212) -> 519 | L8: =L10+L12+L14+L16+L18+L20+L22+L24+L26+L28+L30+L32+L38+L40+L42+L44+L46+L48+L50+L52+L54+L56+L58+L60+L62+L64+L66+L72+L74+L76+L78+L80+L82+L84+L86+L88+L90+L92+L94+L96+L98+L100+L106+L108+L110+L112+L114+L116+L118+L120+L122+SUM(L124,L126,L128,L130,L132,L134,L140,L142)+SUM(L144,L146,L148,L150,L152)+SUM(L154,L156,L158,L160,L162,L164,L166,L168)+SUM(L174,L176,L178,L180,L182,L184,L186,L188,L190,L192)+SUM(L194,L196,L198,L200,L202,L204,L210,L212) -> 11620 | M8: =M10+M12+M14+M16+M18+M20+M22+M24+M26+M28+M30+M32+M38+M40+M42+M44+M46+M48+M50+M52+M54+M56+M58+M60+M62+M64+M66+M72+M74+M76+M78+M80+M82+M84+M86+M88+M90+M92+M94+M96+M98+M100+M106+M108+M110+M112+M114+M116+M118+M120+M122+SUM(M124,M126,M128,M130,M132,M134,M140,M142)+SUM(M144,M146,M148,M150,M152)+SUM(M154,M156,M158,M160,M162,M164,M166,M168)+SUM(M174,M176,M178,M180,M182,M184,M186,M188,M190,M192)+SUM(M194,M196,M198,M200,M202,M204,M210,M212) -> 459 | N8: =N10+N12+N14+N16+N18+N20+N22+N24+N26+N28+N30+N32+N38+N40+N42+N44+N46+N48+N50+N52+N54+N56+N58+N60+N62+N64+N66+N72+N74+N76+N78+N80+N82+N84+N86+N88+N90+N92+N94+N96+N98+N100+N106+N108+N110+N112+N114+N116+N118+N120+N122+SUM(N124,N126,N128,N130,N132,N134,N140,N142)+SUM(N144,N146,N148,N150,N152)+SUM(N154,N156,N158,N160,N162,N164,N166,N168)+SUM(N174,N176,N178,N180,N182,N184,N186,N188,N190,N192)+SUM(N194,N196,N198,N200,N202,N204,N210,N212) -> 939 | O8: =O10+O12+O14+O16+O18+O20+O22+O24+O26+O28+O30+O32+O38+O40+O42+O44+O46+O48+O50+O52+O54+O56+O58+O60+O62+O64+O66+O72+O74+O76+O78+O80+O82+O84+O86+O88+O90+O92+O94+O96+O98+O100+O106+O108+O110+O112+O114+O116+O118+O120+O122+SUM(O124,O126,O128,O130,O132,O134,O140,O142)+SUM(O144,O146,O148,O150,O152)+SUM(O154,O156,O158,O160,O162,O164,O166,O168)+SUM(O174,O176,O178,O180,O182,O184,O186,O188,O190,O192)+SUM(O194,O196,O198,O200,O202,O204,O210,O212) -> 2220 | P8: =P10+P12+P14+P16+P18+P20+P22+P24+P26+P28+P30+P32+P38+P40+P42+P44+P46+P48+P50+P52+P54+P56+P58+P60+P62+P64+P66+P72+P74+P76+P78+P80+P82+P84+P86+P88+P90+P92+P94+P96+P98+P100+P106+P108+P110+P112+P114+P116+P118+P120+P122+SUM(P124,P126,P128,P130,P132,P134,P140,P142)+SUM(P144,P146,P148,P150,P152)+SUM(P154,P156,P158,P160,P162,P164,P166,P168)+SUM(P174,P176,P178,P180,P182,P184,P186,P188,P190,P192)+SUM(P194,P196,P198,P200,P202,P204,P210,P212) -> 102 | ... X8: =X10+X12+X14+X16+X18+X20+X22+X24+X26+X28+X30+X32+X38+X40+X42+X44+X46+X48+X50+X52+X54+X56+X58+X60+X62+X64+X66+X72+X74+X76+X78+X80+X82+X84+X86+X88+X90+X92+X94+X96+X98+X100+X106+X108+X110+X112+X114+X116+X118+X120+X122+SUM(X124,X126,X128,X130,X132,X134,X140,X142)+SUM(X144,X146,X148,X150,X152)+SUM(X154,X156,X158,X160,X162,X164,X166,X168)+SUM(X174,X176,X178,X180,X182,X184,X186,X188,X190,X192)+SUM(X194,X196,X198,X200,X202,X204,X210,X212) -> 976321
B9: 海 上 保 安 庁 | F9: (日本語) | H9: =SUM(I9:X9) -> 44 | I9: 0 | J9: 0 | K9: 0 | L9: 0 | M9: 0 | N9: 0 | O9: 0 | P9: 0 | Q9: 0 | R9: 0 | S9: 0 | T9: 0 | U9: 0 | V9: 0 | W9: 0 | X9: 44
B10: 〃 | F10: (英 語) | H10: =SUM(I10:X10) -> 0 | I10: 0 | J10: 0 | K10: 0 | L10: 0 | M10: 0 | N10: 0 | O10: 0 | P10: 0 | Q10: 0 | R10: 0 | S10: 0 | T10: 0 | U10: 0 | V10: 0 | W10: 0 | X10: 0
B11: 第一管区 | D11: 海上保安本部 | F11: (日本語) | H11: =SUM(I11:X11) -> 425 | I11: 8 | J11: 1 | K11: 38 | L11: 48 | M11: 90 | N11: 0 | O11: 0 | P11: 0 | Q11: 60 | R11: 1 | S11: 159 | T11: 0 | U11: 1 | V11: 0 | W11: 0 | X11: 19
B12: 〃 | F12: (英 語) | H12: =SUM(I12:X12) -> 681 | I12: 6 | J12: 1 | K12: 123 | L12: 25 | M12: 42 | N12: 3 | O12: 0 | P12: 0 | Q12: 4 | R12: 4 | S12: 0 | T12: 13 | U12: 2 | V12: 0 | W12: 0 | X12: 458
B13: 第二管区 | D13: 〃 | F13: (日本語) | H13: =SUM(I13:X13) -> 646 | I13: 19 | J13: 0 | K13: 46 | L13: 45 | M13: 26 | N13: 76 | O13: 0 | P13: 0 | Q13: 0 | R13: 0 | S13: 12 | T13: 0 | U13: 0 | V13: 1 | W13: 0 | X13: 421
B14: 〃 | F14: (英 語) | H14: =SUM(I14:X14) -> 732 | I14: 0 | J14: 0 | K14: 31 | L14: 16 | M14: 6 | N14: 0 | O14: 0 | P14: 1 | Q14: 22 | R14: 1 | S14: 186 | T14: 12 | U14: 0 | V14: 1 | W14: 0 | X14: 456
B15: 第三管区 | D15: 〃 | F15: (日本語) | H15: =SUM(I15:X15) -> 2218 | I15: 119 | J15: 5 | K15: 158 | L15: 365 | M15: 376 | N15: 56 | O15: 6 | P15: 0 | Q15: 167 | R15: 35 | S15: 53 | T15: 0 | U15: 2 | V15: 6 | W15: 0 | X15: 870
B16: 〃 | F16: (英 語) | H16: =SUM(I16:X16) -> 0 | I16: 0 | J16: 0 | K16: 0 | L16: 0 | M16: 0 | N16: 0 | O16: 0 | P16: 0 | Q16: 0 | R16: 0 | S16: 0 | T16: 0 | U16: 0 | V16: 0 | W16: 0 | X16: 0
B17: 第四管区 | D17: 〃 | F17: (日本語) | H17: =SUM(I17:X17) -> 320 | I17: 0 | J17: 0 | K17: 38 | L17: 66 | M17: 14 | N17: 0 | O17: 0 | P17: 0 | Q17: 6 | R17: 8 | S17: 2 | T17: 0 | U17: 0 | V17: 0 | W17: 0 | X17: 186
B18: 〃 | F18: (英 語) | H18: =SUM(I18:X18) -> 0 | I18: 0 | J18: 0 | K18: 0 | L18: 0 | M18: 0 | N18: 0 | O18: 0 | P18: 0 | Q18: 0 | R18: 0 | S18: 0 | T18: 0 | U18: 0 | V18: 0 | W18: 0 | X18: 0
B19: 第五管区 | D19: 〃 | F19: (日本語) | H19: =SUM(I19:X19) -> 514 | I19: 37 | J19: 31 | K19: 21 | L19: 135 | M19: 42 | N19: 0 | O19: 0 | P19: 0 | Q19: 0 | R19: 41 | S19: 141 | T19: 13 | U19: 0 | V19: 0 | W19: 0 | X19: 53
B20: 〃 | F20: (英 語) | H20: =SUM(I20:X20) -> 0 | I20: 0 | J20: 0 | K20: 0 | L20: 0 | M20: 0 | N20: 0 | O20: 0 | P20: 0 | Q20: 0 | R20: 0 | S20: 0 | T20: 0 | U20: 0 | V20: 0 | W20: 0 | X20: 0
B21: 第六管区 | D21: 〃 | F21: (日本語) | H21: =SUM(I21:X21) -> 247 | I21: 10 | J21: 19 | K21: 12 | L21: 68 | M21: 0 | N21: 1 | O21: 1 | P21: 0 | Q21: 0 | R21: 8 | S21: 36 | T21: 0 | U21: 0 | V21: 0 | W21: 0 | X21: 92
B22: 〃 | F22: (英 語) | H22: =SUM(I22:X22) -> 0 | I22: 0 | J22: 0 | K22: 0 | L22: 0 | M22: 0 | N22: 0 | O22: 0 | P22: 0 | Q22: 0 | R22: 0 | S22: 0 | T22: 0 | U22: 0 | V22: 0 | W22: 0 | X22: 0
B23: 第七管区 | D23: 〃 | F23: (日本語) | H23: =SUM(I23:X23) -> 828 | I23: 55 | J23: 159 | K23: 141 | L23: 135 | M23: 55 | N23: 0 | O23: 0 | P23: 0 | Q23: 0 | R23: 0 | S23: 124 | T23: 38 | U23: 0 | V23: 0 | W23: 0 | X23: 121
B24: 〃 | F24: (英 語) | H24: =SUM(I24:X24) -> 0 | I24: 0 | J24: 0 | K24: 0 | L24: 0 | M24: 0 | N24: 0 | O24: 0 | P24: 0 | Q24: 0 | R24: 0 | S24: 0 | T24: 0 | U24: 0 | V24: 0 | W24: 0 | X24: 0
B25: 第八管区 | D25: 〃 | F25: (日本語) | H25: =SUM(I25:X25) -> 273 | I25: 9 | J25: 2 | K25: 51 | L25: 66 | M25: 71 | N25: 0 | O25: 0 | P25: 1 | Q25: 1 | R25: 0 | S25: 50 | T25: 16 | U25: 0 | V25: 0 | W25: 1 | X25: 5
B26: 〃 | F26: (英 語) | H26: =SUM(I26:X26) -> 319 | I26: 5 | J26: 1 | K26: 42 | L26: 33 | M26: 100 | N26: 0 | O26: 1 | P26: 0 | Q26: 5 | R26: 1 | S26: 60 | T26: 10 | U26: 4 | V26: 0 | W26: 1 | X26: 56
B27: 第九管区 | D27: 〃 | F27: (日本語) | H27: =SUM(I27:X27) -> 1040 | I27: 44 | J27: 0 | K27: 53 | L27: 104 | M27: 178 | N27: 189 | O27: 7 | P27: 1 | Q27: 197 | R27: 2 | S27: 5 | T27: 0 | U27: 21 | V27: 3 | W27: 0 | X27: 236
B28: 〃 | F28: (英 語) | H28: =SUM(I28:X28) -> 286 | I28: 15 | J28: 0 | K28: 45 | L28: 38 | M28: 93 | N28: 0 | O28: 0 | P28: 0 | Q28: 4 | R28: 0 | S28: 0 | T28: 5 | U28: 24 | V28: 0 | W28: 1 | X28: 61
B29: 第十管区 | D29: 〃 | F29: (日本語) | H29: =SUM(I29:X29) -> 407 | I29: 1 | J29: 22 | K29: 50 | L29: 62 | M29: 7 | N29: 0 | O29: 0 | P29: 0 | Q29: 0 | R29: 2 | S29: 13 | T29: 0 | U29: 0 | V29: 0 | W29: 0 | X29: 250
B30: 〃 | F30: (英 語) | H30: =SUM(I30:X30) -> 384 | I30: 6 | J30: 0 | K30: 62 | L30: 68 | M30: 32 | N30: 0 | O30: 0 | P30: 47 | Q30: 1 | R30: 0 | S30: 2 | T30: 0 | U30: 0 | V30: 0 | W30: 0 | X30: 166
B31: 第十一管区 | D31: 〃 | F31: (日本語) | H31: =SUM(I31:X31) -> 493 | I31: 3 | J31: 31 | K31: 121 | L31: 67 | M31: 240 | N31: 0 | O31: 0 | P31: 0 | Q31: 2 | R31: 0 | S31: 14 | T31: 0 | U31: 0 | V31: 0 | W31: 0 | X31: 15
B32: 〃 | F32: (英 語) | H32: =SUM(I32:X32) -> 14106 | I32: 3 | J32: 93 | K32: 129 | L32: 79 | M32: 92 | N32: 0 | O32: 0 | P32: 0 | Q32: 0 | R32: 0 | S32: 45 | T32: 1 | U32: 0 | V32: 0 | W32: 0 | X32: 13664
A34: 事 項 別 手 段 別 | H34: 合 計 | I34: 水深 | J34: 自然現象 | K34: 漂流物等 | L34: 航路標識 | M34: 訓練・試験 | N34: 港湾施設 | O34: 海底施設 | P34: 海洋施設 | Q34: 海洋調査 | R34: えい航 | S34: 禁止 制限又は | T34: 協力依頼 | U34: 漁業 | V34: 目標物 | W34: 出版 | X34: その他
H36: 件 | I36: 件 | J36: 件 | K36: 件 | L36: 件 | M36: 件 | N36: 件 | O36: 件 | P36: 件 | Q36: 件 | R36: 件 | S36: 件 | T36: 件 | U36: 件 | V36: 件 | W36: 件 | X36: 件
B37: 函館 | D37: 海上保安部 | F37: (日本語) | H37: =SUM(I37:X37) -> 157 | I37: 2 | J37: 0 | K37: 0 | L37: 12 | M37: 66 | N37: 7 | O37: 1 | P37: 30 | Q37: 14 | R37: 0 | S37: 5 | T37: 0 | U37: 8 | V37: 0 | W37: 0 | X37: 12
B38: 〃 | F38: (英 語) | H38: =SUM(I38:X38) -> 0 | I38: 0 | J38: 0 | K38: 0 | L38: 0 | M38: 0 | N38: 0 | O38: 0 | P38: 0 | Q38: 0 | R38: 0 | S38: 0 | T38: 0 | U38: 0 | V38: 0 | W38: 0 | X38: 0
B39: 小樽 | D39: 〃 | F39: (日本語) | H39: =SUM(I39:X39) -> 87 | I39: 2 | J39: 0 | K39: 0 | L39: 4 | M39: 46 | N39: 11 | O39: 2 | P39: 6 | Q39: 3 | R39: 0 | S39: 1 | T39: 0 | U39: 3 | V39: 0 | W39: 0 | X39: 9
B40: 〃 | F40: (英 語) | H40: =SUM(I40:X40) -> 0 | I40: 0 | J40: 0 | K40: 0 | L40: 0 | M40: 0 | N40: 0 | O40: 0 | P40: 0 | Q40: 0 | R40: 0 | S40: 0 | T40: 0 | U40: 0 | V40: 0 | W40: 0 | X40: 0
B41: 室蘭 | D41: 〃 | F41: (日本語) | H41: =SUM(I41:X41) -> 141 | I41: 3 | J41: 0 | K41: 2 | L41: 10 | M41: 43 | N41: 36 | O41: 1 | P41: 9 | Q41: 18 | R41: 3 | S41: 4 | T41: 0 | U41: 1 | V41: 0 | W41: 0 | X41: 11
B42: 〃 | F42: (英 語) | H42: =SUM(I42:X42) -> 22 | I42: 0 | J42: 0 | K42: 0 | L42: 0 | M42: 0 | N42: 0 | O42: 0 | P42: 0 | Q42: 0 | R42: 0 | S42: 0 | T42: 0 | U42: 0 | V42: 0 | W42: 0 | X42: 22
B43: 釧路 | D43: 〃 | F43: (日本語) | H43: =SUM(I43:X43) -> 130 | I43: 2 | J43: 0 | K43: 1 | L43: 4 | M43: 56 | N43: 17 | O43: 1 | P43: 16 | Q43: 19 | R43: 0 | S43: 3 | T43: 0 | U43: 2 | V43: 0 | W43: 0 | X43: 9
B44: 〃 | F44: (英 語) | H44: =SUM(I44:X44) -> 0 | I44: 0 | J44: 0 | K44: 0 | L44: 0 | M44: 0 | N44: 0 | O44: 0 | P44: 0 | Q44: 0 | R44: 0 | S44: 0 | T44: 0 | U44: 0 | V44: 0 | W44: 0 | X44: 0
...

Sheet 1 水路通報実施P69-72
B1: (4) 航行援助情報資料出所別調査件数
A2: 事 項 別 情報資料出所別
H3: 合 計 | I3: 水深 | J3: 自然現象 | K3: 漂流物等 | L3: 航路標識 | M3: 訓練・試験 | N3: 港湾施設 | O3: 海底施設 | P3: 海洋施設 | Q3: 海洋調査 | R3: えい航 | S3: 禁止 制限又は | T3: 協力依頼 | U3: 漁業 | V3: 目標物 | W3: 出版 | X3: その他
H5: 件 | I5: 件 | J5: 件 | K5: 件 | L5: 件 | M5: 件 | N5: 件 | O5: 件 | P5: 件 | Q5: 件 | R5: 件 | S5: 件 | T5: 件 | U5: 件 | V5: 件 | W5: 件 | X5: 件
B6: 合 計 | H6: =H7+H8+H9+H10+H11+H12+H13+H14+H15+H16+H17+H18+H19+H20+H21+H22+H23+H24+H25+H26+H32+H33+H34+H35+H36+H37+H38+H39+H40+H41+H42+H43+H44+H45+H46+H47+H48+H49+H50+H51+H52+H53+H54+H60+H61+H62+H63+H64+H65+H66+H67+H68+H69+H70+H71+H72+H73+H74+H75+H76+H77+H78+H79+H80+H81+H82+H88+H89+H90+H91+H92+H93+H94+H95+H96+H97+H98+H99+H100+H101+H102+H103+H104+H105+H106+H107+H108+H109+H110+H111 -> 658839 | I6: =I7+I8+I9+I10+I11+I12+I13+I14+I15+I16+I17+I18+I19+I20+I21+I22+I23+I24+I25+I26+I32+I33+I34+I35+I36+I37+I38+I39+I40+I41+I42+I43+I44+I45+I46+I47+I48+I49+I50+I51+I52+I53+I54+I60+I61+I62+I63+I64+I65+I66+I67+I68+I69+I70+I71+I72+I73+I74+I75+I76+I77+I78+I79+I80+I81+I82+I88+I89+I90+I91+I92+I93+I94+I95+I96+I97+I98+I99+I100+I101+I102+I103+I104+I105+I106+I107+I108+I109+I110+I111 -> 81555 | J6: =J7+J8+J9+J10+J11+J12+J13+J14+J15+J16+J17+J18+J19+J20+J21+J22+J23+J24+J25+J26+J32+J33+J34+J35+J36+J37+J38+J39+J40+J41+J42+J43+J44+J45+J46+J47+J48+J49+J50+J51+J52+J53+J54+J60+J61+J62+J63+J64+J65+J66+J67+J68+J69+J70+J71+J72+J73+J74+J75+J76+J77+J78+J79+J80+J81+J82+J88+J89+J90+J91+J92+J93+J94+J95+J96+J97+J98+J99+J100+J101+J102+J103+J104+J105+J106+J107+J108+J109+J110+J111 -> 3027 | K6: =K7+K8+K9+K10+K11+K12+K13+K14+K15+K16+K17+K18+K19+K20+K21+K22+K23+K24+K25+K26+K32+K33+K34+K35+K36+K37+K38+K39+K40+K41+K42+K43+K44+K45+K46+K47+K48+K49+K50+K51+K52+K53+K54+K60+K61+K62+K63+K64+K65+K66+K67+K68+K69+K70+K71+K72+K73+K74+K75+K76+K77+K78+K79+K80+K81+K82+K88+K89+K90+K91+K92+K93+K94+K95+K96+K97+K98+K99+K100+K101+K102+K103+K104+K105+K106+K107+K108+K109+K110+K111 -> 1235 | L6: =L7+L8+L9+L10+L11+L12+L13+L14+L15+L16+L17+L18+L19+L20+L21+L22+L23+L24+L25+L26+L32+L33+L34+L35+L36+L37+L38+L39+L40+L41+L42+L43+L44+L45+L46+L47+L48+L49+L50+L51+L52+L53+L54+L60+L61+L62+L63+L64+L65+L66+L67+L68+L69+L70+L71+L72+L73+L74+L75+L76+L77+L78+L79+L80+L81+L82+L88+L89+L90+L91+L92+L93+L94+L95+L96+L97+L98+L99+L100+L101+L102+L103+L104+L105+L106+L107+L108+L109+L110+L111 -> 5761 | M6: =M7+M8+M9+M10+M11+M12+M13+M14+M15+M16+M17+M18+M19+M20+M21+M22+M23+M24+M25+M26+M32+M33+M34+M35+M36+M37+M38+M39+M40+M41+M42+M43+M44+M45+M46+M47+M48+M49+M50+M51+M52+M53+M54+M60+M61+M62+M63+M64+M65+M66+M67+M68+M69+M70+M71+M72+M73+M74+M75+M76+M77+M78+M79+M80+M81+M82+M88+M89+M90+M91+M92+M93+M94+M95+M96+M97+M98+M99+M100+M101+M102+M103+M104+M105+M106+M107+M108+M109+M110+M111 -> 3194 | N6: =N7+N8+N9+N10+N11+N12+N13+N14+N15+N16+N17+N18+N19+N20+N21+N22+N23+N24+N25+N26+N32+N33+N34+N35+N36+N37+N38+N39+N40+N41+N42+N43+N44+N45+N46+N47+N48+N49+N50+N51+N52+N53+N54+N60+N61+N62+N63+N64+N65+N66+N67+N68+N69+N70+N71+N72+N73+N74+N75+N76+N77+N78+N79+N80+N81+N82+N88+N89+N90+N91+N92+N93+N94+N95+N96+N97+N98+N99+N100+N101+N102+N103+N104+N105+N106+N107+N108+N109+N110+N111 -> 4064 | O6: =O7+O8+O9+O10+O11+O12+O13+O14+O15+O16+O17+O18+O19+O20+O21+O22+O23+O24+O25+O26+O32+O33+O34+O35+O36+O37+O38+O39+O40+O41+O42+O43+O44+O45+O46+O47+O48+O49+O50+O51+O52+O53+O54+O60+O61+O62+O63+O64+O65+O66+O67+O68+O69+O70+O71+O72+O73+O74+O75+O76+O77+O78+O79+O80+O81+O82+O88+O89+O90+O91+O92+O93+O94+O95+O96+O97+O98+O99+O100+O101+O102+O103+O104+O105+O106+O107+O108+O109+O110+O111 -> 2446 | ... X6: =X7+X8+X9+X10+X11+X12+X13+X14+X15+X16+X17+X18+X19+X20+X21+X22+X23+X24+X25+X26+X32+X33+X34+X35+X36+X37+X38+X39+X40+X41+X42+X43+X44+X45+X46+X47+X48+X49+X50+X51+X52+X53+X54+X60+X61+X62+X63+X64+X65+X66+X67+X68+X69+X70+X71+X72+X73+X74+X75+X76+X77+X78+X79+X80+X81+X82+X88+X89+X90+X91+X92+X93+X94+X95+X96+X97+X98+X99+X100+X101+X102+X103+X104+X105+X106+X107+X108+X109+X110+X111 -> 394316
B7: 海 上 保 安 庁 | H7: =SUM(I7:X7) -> 44 | I7: 0 | J7: 0 | K7: 0 | L7: 0 | M7: 0 | N7: 0 | O7: 0 | P7: 0 | Q7: 0 | R7: 0 | S7: 0 | T7: 0 | U7: 0 | V7: 0 | W7: 0 | X7: 44
B8: 第一管区 | D8: 海上保安本部 | H8: =SUM(I8:X8) -> 718 | I8: =8+6 -> 14 | J8: =1+1 -> 2 | K8: =38+123 -> 161 | L8: =48+25 -> 73 | M8: =90+42 -> 132 | N8: =0+3 -> 3 | O8: 0 | P8: 0 | Q8: =60+4 -> 64 | R8: =1+4 -> 5 | S8: 159 | T8: =0+13 -> 13 | U8: =1+2 -> 3 | V8: 0 | W8: 0 | X8: =19+70 -> 89
B9: 第二管区 | D9: 〃 | H9: =SUM(I9:X9) -> 1281 | I9: 19 | J9: 0 | K9: =46+31 -> 77 | L9: =45+16 -> 61 | M9: =26+6 -> 32 | N9: 76 | O9: 0 | P9: =0+1 -> 1 | Q9: =0+22 -> 22 | R9: =0+1 -> 1 | S9: =12+186 -> 198 | T9: =0+12 -> 12 | U9: 0 | V9: =1+1 -> 2 | W9: 0 | X9: =324+456 -> 780
B10: 第三管区 | D10: 〃 | H10: =SUM(I10:X10) -> 2218 | I10: 119 | J10: 5 | K10: 158 | L10: 365 | M10: 376 | N10: 56 | O10: 6 | P10: 0 | Q10: 167 | R10: 35 | S10: 53 | T10: 0 | U10: 2 | V10: 6 | W10: 0 | X10: 870
B11: 第四管区 | D11: 〃 | H11: =SUM(I11:X11) -> 320 | I11: 0 | J11: 0 | K11: 38 | L11: 66 | M11: 14 | N11: 0 | O11: 0 | P11: 0 | Q11: 6 | R11: 8 | S11: 2 | T11: 0 | U11: 0 | V11: 0 | W11: 0 | X11: 186
B12: 第五管区 | D12: 〃 | H12: =SUM(I12:X12) -> 514 | I12: 37 | J12: 31 | K12: 21 | L12: 135 | M12: 42 | N12: 0 | O12: 0 | P12: 0 | Q12: 0 | R12: 41 | S12: 141 | T12: 13 | U12: 0 | V12: 0 | W12: 0 | X12: 53
B13: 第六管区 | D13: 〃 | H13: =SUM(I13:X13) -> 247 | I13: 10 | J13: 19 | K13: 12 | L13: 68 | M13: 0 | N13: 1 | O13: 1 | P13: 0 | Q13: 0 | R13: 8 | S13: 36 | T13: 0 | U13: 0 | V13: 0 | W13: 0 | X13: 92
B14: 第七管区 | D14: 〃 | H14: =SUM(I14:X14) -> 828 | I14: 55 | J14: 159 | K14: 141 | L14: 135 | M14: 55 | N14: 0 | O14: 0 | P14: 0 | Q14: 0 | R14: 0 | S14: 124 | T14: 38 | U14: 0 | V14: 0 | W14: 0 | X14: 121
B15: 第八管区 | D15: 〃 | H15: =SUM(I15:X15) -> 592 | I15: =9+5 -> 14 | J15: =2+1 -> 3 | K15: =51+42 -> 93 | L15: =66+33 -> 99 | M15: =71+100 -> 171 | N15: 0 | O15: =0+1 -> 1 | P15: 1 | Q15: =1+5 -> 6 | R15: =0+1 -> 1 | S15: =50+60 -> 110 | T15: =16+10 -> 26 | U15: =0+4 -> 4 | V15: 0 | W15: =1+1 -> 2 | X15: =5+56 -> 61
B16: 第九管区 | D16: 〃 | H16: =SUM(I16:X16) -> 1266 | I16: =44+3 -> 47 | J16: 0 | K16: =53+45 -> 98 | L16: =104+38 -> 142 | M16: =178+93 -> 271 | N16: 189 | O16: 7 | P16: 1 | Q16: =197+4 -> 201 | R16: 2 | S16: 5 | T16: =0+5 -> 5 | U16: 21 | V16: 3 | W16: =0+1 -> 1 | X16: =236+37 -> 273
B17: 第十管区 | D17: 〃 | H17: =SUM(I17:X17) -> 791 | I17: =1+6 -> 7 | J17: 22 | K17: =50+62 -> 112 | L17: =62+68 -> 130 | M17: =7+32 -> 39 | N17: 0 | O17: 0 | P17: =0+47 -> 47 | Q17: =0+1 -> 1 | R17: 2 | S17: =13+2 -> 15 | T17: 0 | U17: 0 | V17: 0 | W17: 0 | X17: =250+166 -> 416
B18: 第十一管区 | D18: 〃 | H18: =SUM(I18:X18) -> 2352 | I18: =3+6 -> 9 | J18: =31+93 -> 124 | K18: =121+129 -> 250 | L18: =67+79 -> 146 | M18: =240+92 -> 332 | N18: 0 | O18: 0 | P18: 0 | Q18: 2 | R18: 0 | S18: =14+45 -> 59 | T18: =0+1 -> 1 | U18: 0 | V18: 0 | W18: 0 | X18: =15+1414 -> 1429
B19: 函館 | D19: 海上保安部 | H19: =SUM(I19:X19) -> 157 | I19: 2 | J19: 0 | K19: 0 | L19: 12 | M19: 66 | N19: 7 | O19: 1 | P19: 30 | Q19: 14 | R19: 0 | S19: 5 | T19: 0 | U19: 8 | V19: 0 | W19: 0 | X19: 12
B20: 小樽 | D20: 〃 | H20: =SUM(I20:X20) -> 87 | I20: 2 | J20: 0 | K20: 0 | L20: 4 | M20: 46 | N20: 11 | O20: 2 | P20: 6 | Q20: 3 | R20: 0 | S20: 1 | T20: 0 | U20: 3 | V20: 0 | W20: 0 | X20: 9
B21: 室蘭 | D21: 〃 | H21: =SUM(I21:X21) -> 163 | I21: 3 | J21: 0 | K21: 2 | L21: 10 | M21: 43 | N21: 36 | O21: 1 | P21: 9 | Q21: 18 | R21: 3 | S21: 4 | T21: 0 | U21: 1 | V21: 0 | W21: 0 | X21: =11+22 -> 33
B22: 釧路 | D22: 〃 | H22: =SUM(I22:X22) -> 130 | I22: 2 | J22: 0 | K22: 1 | L22: 4 | M22: 56 | N22: 17 | O22: 1 | P22: 16 | Q22: 19 | R22: 0 | S22: 3 | T22: 0 | U22: 2 | V22: 0 | W22: 0 | X22: 9
B23: 留萌 | D23: 〃 | H23: =SUM(I23:X23) -> 27 | I23: 0 | J23: 0 | K23: 0 | L23: 2 | M23: 6 | N23: 6 | O23: 1 | P23: 4 | Q23: 1 | R23: 0 | S23: 1 | T23: 0 | U23: 1 | V23: 0 | W23: 0 | X23: 5
B24: 稚内 | D24: 〃 | H24: =SUM(I24:X24) -> 82 | I24: 3 | J24: 0 | K24: 1 | L24: 2 | M24: 15 | N24: 33 | O24: 1 | P24: 6 | Q24: 12 | R24: 0 | S24: 1 | T24: 0 | U24: 2 | V24: 0 | W24: 0 | X24: 6
B25: 紋別 | D25: 〃 | H25: =SUM(I25:X25) -> 36 | I25: 0 | J25: 0 | K25: 1 | L25: 4 | M25: 3 | N25: 11 | O25: 1 | P25: 2 | Q25: 11 | R25: 0 | S25: 2 | T25: 0 | U25: 1 | V25: 0 | W25: 0 | X25: 0
B26: 根室 | D26: 〃 | H26: =SUM(I26:X26) -> 38 | I26: 3 | J26: 0 | K26: 0 | L26: 1 | M26: 13 | N26: 10 | O26: 1 | P26: 4 | Q26: 1 | R26: 0 | S26: 1 | T26: 0 | U26: 3 | V26: 0 | W26: 0 | X26: 1
A28: 事 項 別 情報資料出所別
H29: 合 計 | I29: 水深 | J29: 自然現象 | K29: 漂流物等 | L29: 航路標識 | M29: 訓練・試験 | N29: 港湾施設 | O29: 海底施設 | P29: 海洋施設 | Q29: 海洋調査 | R29: えい航 | S29: 禁止 制限又は | T29: 協力依頼 | U29: 漁業 | V29: 目標物 | W29: 出版 | X29: その他
H31: =SUM(I31:X31) -> 0 | I31: 件 | J31: 件 | K31: 件 | L31: 件 | M31: 件 | N31: 件 | O31: 件 | P31: 件 | Q31: 件 | R31: 件 | S31: 件 | T31: 件 | U31: 件 | V31: 件 | W31: 件 | X31: 件
B32: 青森 | D32: 海上保安部 | H32: =SUM(I32:X32) -> 94 | I32: 0 | J32: 0 | K32: 0 | L32: 7 | M32: 0 | N32: 16 | O32: 0 | P32: 1 | Q32: 1 | R32: 0 | S32: 1 | T32: 0 | U32: 1 | V32: 0 | W32: 0 | X32: 67
B33: 八戸 | D33: 〃 | H33: =SUM(I33:X33) -> 33 | I33: 1 | J33: 0 | K33: 0 | L33: 1 | M33: 5 | N33: 10 | O33: 0 | P33: 0 | Q33: 10 | R33: 0 | S33: 0 | T33: 0 | U33: 4 | V33: 0 | W33: 0 | X33: 2
B34: 釜石 | D34: 〃 | H34: =SUM(I34:X34) -> 82 | I34: 7 | J34: 0 | K34: 0 | L34: 6 | M34: 4 | N34: 23 | O34: 6 | P34: 1 | Q34: 22 | R34: 1 | S34: 2 | T34: 0 | U34: 1 | V34: 0 | W34: 0 | X34: 9
B35: 宮城 | D35: 〃 | H35: =SUM(I35:X35) -> 28 | I35: 0 | J35: 0 | K35: 0 | L35: 0 | M35: 0 | N35: 22 | O35: 0 | P35: 0 | Q35: 0 | R35: 0 | S35: 3 | T35: 0 | U35: 0 | V35: 0 | W35: 0 | X35: 3
B36: 秋田 | D36: 〃 | H36: =SUM(I36:X36) -> 191 | I36: 1 | J36: 0 | K36: 0 | L36: 7 | M36: 49 | N36: 53 | O36: 4 | P36: 3 | Q36: 54 | R36: 0 | S36: 3 | T36: 0 | U36: 10 | V36: 0 | W36: 0 | X36: 7
B37: 酒田 | D37: 〃 | H37: =SUM(I37:X37) -> 38 | I37: 3 | J37: 0 | K37: 0 | L37: 5 | M37: 4 | N37: 14 | O37: 0 | P37: 3 | Q37: 8 | R37: 0 | S37: 0 | T37: 0 | U37: 0 | V37: 0 | W37: 0 | X37: 1
B38: 福島 | D38: 〃 | H38: =SUM(I38:X38) -> 93 | I38: 7 | J38: 0 | K38: 0 | L38: 5 | M38: 28 | N38: 31 | O38: 3 | P38: 3 | Q38: 13 | R38: 0 | S38: 2 | T38: 0 | U38: 0 | V38: 0 | W38: 0 | X38: 1
B39: 茨城 | D39: 〃 | H39: =SUM(I39:X39) -> 74 | I39: =0+1 -> 1 | J39: =0+20 -> 20 | K39: 0 | L39: =8+4 -> 12 | M39: 5 | N39: 10 | O39: 0 | P39: 2 | Q39: 4 | R39: 0 | S39: =0+18 -> 18 | T39: 0 | U39: 0 | V39: 0 | W39: 0 | X39: =0+2 -> 2
B40: 千葉 | D40: 〃 | H40: =SUM(I40:X40) -> 3482 | I40: =8+1 -> 9 | J40: 0 | K40: 0 | L40: =9+2 -> 11 | M40: 3 | N40: =25+3 -> 28 | O40: 0 | P40: 1 | Q40: =17+1 -> 18 | R40: 1 | S40: =5+3264 -> 3269 | T40: 0 | U40: 1 | V40: 0 | W40: 0 | X40: =3+138 -> 141
B41: 銚子 | D41: 〃 | H41: =SUM(I41:X41) -> 21 | I41: 2 | J41: 0 | K41: 0 | L41: 5 | M41: 1 | N41: 8 | O41: 0 | P41: 0 | Q41: 2 | R41: 0 | S41: 1 | T41: 0 | U41: 2 | V41: 0 | W41: 0 | X41: 0
B42: 東京 | D42: 〃 | H42: =SUM(I42:X42) -> 492 | I42: 6 | J42: =0+86 -> 86 | K42: =0 -> 0 | L42: =15+10 -> 25 | M42: 1 | N42: 93 | O42: 0 | P42: 0 | Q42: 8 | R42: 2 | S42: =9+5 -> 14 | T42: 0 | U42: 0 | V42: 0 | W42: 0 | X42: =0+257 -> 257
B43: 横浜 | D43: 〃 | H43: =SUM(I43:X43) -> 32146 | I43: 10 | J43: 0 | K43: 0 | L43: =17+3 -> 20 | M43: 8 | N43: =15+3 -> 18 | O43: 2 | P43: 0 | Q43: 5 | R43: 0 | S43: =5+19735+11693 -> 31433 | T43: 0 | U43: 3 | V43: 0 | W43: 0 | X43: =17+75+555 -> 647
...

Sheet 2(1)海図等P73
A1: ２ 水路図誌等刊行状況
A2: (1) 海図等刊行状況
A3: 区 分 | B3: 合 計 | D3: 航 海 用 海 図 | P3: 特 殊 図 | R3: 海 の 基 本 図 | X3: 航 空 図
D4: 港 泊 図 | F4: 海 岸 図 | H4: 航 海 図 | J4: 航 洋 図 | L4: 総 図 | N4: 漁業用海図 | R4: 大 陸 棚 | T4: 沿 岸 | V4: そ の 他
A5: 合 計 | B5: 版 | C5: 枚 | D5: 版 | E5: 枚 | F5: 版 | G5: 枚 | H5: 版 | I5: 枚 | J5: 版 | K5: 枚 | L5: 版 | M5: 枚 | N5: 版 | O5: 枚 | P5: 版 | Q5: 枚 | R5: 版 | S5: 枚 | T5: 版 | U5: 枚 | V5: 版 | W5: 枚 | X5: 版 | Y5: 枚
B6: =SUM(D6,F6,H6,J6,L6,P6,R6,T6,V6,X6) -> 1506 | C6: =SUM(C7:C9) -> 203297 | D6: =SUM(D7:D9) -> 634 | E6: =SUM(E7:E9) -> 98179 | F6: =SUM(F7:F9) -> 663 | G6: =SUM(G7:G9) -> 92555 | H6: =SUM(H7:H9) -> 19 | I6: =SUM(I7:I9) -> 4700 | J6: =SUM(J7:J9) -> 18 | ... Y6: =SUM(Y7:Y9) -> 200
A7: 新 刊 | B7: =SUM(D7,F7,H7,J7,L7,N7,P7,R7,T7,V7,X7) -> 5 | C7: =E7+G7+I7+K7+M7+O7+Q7+S7+U7+W7+Y7 -> 803 | D7: 2 | E7: 700 | F7: 0 | G7: 0 | H7: 0 | I7: 0 | J7: 0 | K7: 0 | L7: 0 | M7: 0 | N7: 0 | O7: 0 | P7: 0 | Q7: 0 | R7: 3 | S7: 103 | T7: 0 | U7: 0 | V7: 0 | W7: 0 | X7: 0 | Y7: 0
A8: 改 版 | B8: =SUM(D8,F8,H8,J8,L8,N8,P8,R8,T8,V8,X8) -> 65 | C8: =E8+G8+I8+K8+M8+O8+Q8+S8+U8+W8+Y8 -> 47366 | D8: 43 | E8: 24425 | F8: 20 | G8: 22645 | H8: 0 | I8: 0 | J8: 0 | K8: 0 | L8: 0 | M8: 0 | N8: 0 | O8: 0 | P8: 0 | Q8: 0 | R8: 0 | S8: 0 | T8: 1 | U8: 96 | V8: 0 | W8: 0 | X8: 1 | Y8: 200
A9: 補 刷 | B9: =SUM(D9,F9,H9,J9,L9,N9,P9,R9,T9,V9,X9) -> 1436 | C9: =E9+G9+I9+K9+M9+O9+Q9+S9+U9+W9+Y9 -> 155128 | D9: 589 | E9: 73054 | F9: 643 | G9: 69910 | H9: 19 | I9: 4700 | J9: 18 | K9: 3100 | L9: 4 | M9: 600 | N9: 0 | O9: 0 | P9: 9 | Q9: 2350 | R9: 19 | S9: 204 | T9: 132 | U9: 1179 | V9: 3 | W9: 31 | X9: 0 | Y9: 0
A12: 区 分 | B12: 航 海 用 電 子 海 図
B13: 入 港 | D13: アプローチ | F13: 沿岸航海 | H13: 一般航海 | J13: 概 観
A14: 合 計 | B14: セル | D14: セル | F14: セル | H14: セル | J14: セル
B15: =SUM(B16:C18) -> 517 | D15: =SUM(D16:E18) -> 240 | F15: =SUM(F17:G18) -> 222 | H15: =SUM(H17:I18) -> 102 | J15: =SUM(J17:K18) -> 78
A16: 新 刊 | B16: 1 | D16: 4 | F16: 0 | H16: 0 | J16: 0
A17: 改 版 | B17: 273 | D17: 87 | F17: 60 | H17: 58 | J17: 68
A18: 補 刷 | B18: 243 | D18: 149 | F18: 162 | H18: 44 | J18: 10

Sheet 2(2)書誌P74
A1: (2) 書誌刊行状況
A2: 区 分 | B2: 合 計 | D2: 水 路 誌 | F2: 特 殊 書 誌
F3: 水路図誌使用の手引 | H3: 天測計算表 | J3: 灯 台 表 | L3: 天 測 暦 | N3: 天 測 略 暦 | P3: 潮 汐 表 | R3: 水路図誌目録 | T3: その他
A4: 合 計 | B4: 件 | C4: 冊 | D4: 件 | E4: 冊 | F4: 件 | G4: 冊 | H4: 件 | I4: 冊 | J4: 件 | K4: 冊 | L4: 件 | M4: 冊 | N4: 件 | O4: 冊 | P4: 件 | Q4: 冊 | R4: 件 | S4: 冊 | T4: 件 | U4: 冊
B5: =SUM(B6:B8) -> 13 | C5: =SUM(C6:C8) -> 25700 | D5: =SUM(D6:D8) -> 6 | E5: =SUM(E6:E8) -> 5600 | F5: =SUM(F6:F8) -> 0 | G5: =SUM(G6:G8) -> 0 | H5: =SUM(H6:H8) -> 0 | I5: =SUM(I6:I8) -> 0 | ... U5: =SUM(U6:U8) -> 0
A6: 新 刊 | B6: =SUM(D6,F6,H6,J6,L6,N6,P6,R6,T6) -> 5 | C6: =+E6+G6+I6+K6+M6+S6+O6+Q6+U6 -> 14800 | D6: 1 | E6: 1000 | F6: 0 | G6: 0 | H6: 0 | I6: 0 | J6: 0 | K6: 0 | L6: 1 | M6: 2100 | N6: 1 | O6: 700 | P6: 2 | Q6: =1800+9200 -> 11000 | R6: 0 | S6: 0 | T6: 0 | U6: 0
A7: 改 版 | B7: =SUM(D7,F7,H7,J7,L7,N7,P7,R7,T7) -> 8 | C7: =+E7+G7+I7+K7+M7+S7+O7+Q7+U7 -> 10900 | D7: 5 | E7: =1600+1100+1100+800 -> 4600 | F7: 0 | G7: 0 | H7: 0 | I7: 0 | J7: 1 | K7: 900 | L7: 0 | M7: 0 | N7: 0 | O7: 0 | P7: 0 | Q7: 0 | R7: 2 | S7: =2200+3200 -> 5400 | T7: - | U7: 0
A8: 増 刷 | B8: =SUM(D8,F8,H8,J8,L8,N8,P8,R8,T8) -> 0 | C8: =+E8+G8+I8+K8+M8+S8+O8+Q8+U8 -> 0 | D8: 0 | E8: 0 | F8: 0 | G8: 0 | H8: 0 | I8: 0 | J8: 0 | K8: 0 | L8: 0 | M8: 0 | N8: 0 | O8: 0 | P8: 0 | Q8: 0 | R8: 0 | S8: 0 | T8: 0 | U8: 0
