Workbook

Sheet 総-水路通報件数p58
A1: 第六部 水 路 統 計
B2: 水路通報等実施件数比較表（対前年比）
B3: 区分 | E3: 本年分 | H3: 前年分 | K3: 対前年比
B4: 水路通報等実施件数 | E4: ='1 水路通報実施P59-61'!H7 -> 41436 | F4: 件 | H4: 40143 | I4: 件 | K4: =E4/H4 -> 1.0322098
B5: 水深 | E5: ='1 水路通報実施P59-61'!I7 -> 4482 | H5: 3667 | K5: =E5/H5 -> 1.2222525
B6: 自然現象 | E6: ='1 水路通報実施P59-61'!J7 -> 47 | H6: 124 | K6: =E6/H6 -> 0.37903226
B7: 漂流物等 | E7: ='1 水路通報実施P59-61'!K7 -> 3149 | H7: 2468 | K7: =E7/H7 -> 1.2759319
B8: 航路標識 | E8: ='1 水路通報実施P59-61'!L7 -> 5885 | H8: 5672 | K8: =E8/H8 -> 1.0375529
B9: 訓練・試験 | E9: ='1 水路通報実施P59-61'!M7 -> 10340 | H9: 10239 | K9: =E9/H9 -> 1.0098642
B10: 港湾施設 | E10: ='1 水路通報実施P59-61'!N7 -> 4768 | H10: 4823 | K10: =E10/H10 -> 0.98859631
B11: 海底施設 | E11: ='1 水路通報実施P59-61'!O7 -> 922 | H11: 880 | K11: =E11/H11 -> 1.0477273
B12: 海洋施設 | E12: ='1 水路通報実施P59-61'!P7 -> 225 | H12: 304 | K12: =E12/H12 -> 0.74013158
B13: 海洋調査 | E13: ='1 水路通報実施P59-61'!Q7 -> 5908 | H13: 6954 | K13: =E13/H13 -> 0.84958297
B14: えい航 | E14: ='1 水路通報実施P59-61'!R7 -> 643 | H14: 716 | K14: =E14/H14 -> 0.89804469
B15: 制限又は禁止 | E15: ='1 水路通報実施P59-61'!S7 -> 650 | H15: 585 | K15: =E15/H15 -> 1.1111111
B16: 協力依頼 | E16: ='1 水路通報実施P59-61'!T7 -> 0 | H16: 10 | K16: =E16/H16 -> 0
B17: 漁業 | E17: ='1 水路通報実施P59-61'!U7 -> 1012 | H17: 1011 | K17: =E17/H17 -> 1.0009891
B18: 目標物 | E18: ='1 水路通報実施P59-61'!V7 -> 64 | H18: 99 | K18: =E18/H18 -> 0.64646465
B19: 出版 | E19: ='1 水路通報実施P59-61'!W7 -> 640 | H19: 652 | K19: =E19/H19 -> 0.98159509
B20: その他 | E20: ='1 水路通報実施P59-61'!X7 -> 2701 | H20: 1939 | K20: =E20/H20 -> 1.3929861

Sheet 1 水路通報実施P59-61
A1: １ 水路通報等実施状況
B2: (１) 水路通報等実施件数
A3: 事 項 別 手 段 別
H4: 合 計 | I4: 水深 | J4: 自然現象 | K4: 漂流物等 | L4: 航路標識 | M4: 訓練・試験 | N4: 港湾施設 | O4: 海底施設 | P4: 海洋施設 | Q4: 海洋調査 | R4: えい航 | S4: 禁止 制限又は | T4: 協力依頼 | U4: 漁業 | V4: 目標物 | W4: 出版 | X4: その他
H6: 件 | I6: 件 | J6: 件 | K6: 件 | L6: 件 | M6: 件 | N6: 件 | O6: 件 | P6: 件 | Q6: 件 | R6: 件 | S6: 件 | T6: 件 | U6: 件 | V6: 件 | W6: 件 | X6: 件
B7: 合 計 | H7: 41436 | I7: 4482 | J7: 47 | K7: 3149 | L7: 5885 | M7: 10340 | N7: 4768 | O7: 922 | P7: 225 | Q7: 5908 | R7: 643 | S7: 650 | T7: 0 | U7: 1012 | V7: 64 | W7: 640 | X7: 2701
B8: 水路通報 | F8: （日本語） | H8: =SUM(I8:X8) -> 3644 | I8: ='[1]通報 和文'!B56 -> 1301 | J8: ='[1]通報 和文'!C56 -> 0 | K8: ='[1]通報 和文'!D56 -> 0 | L8: ='[1]通報 和文'!E56 -> 581 | M8: ='[1]通報 和文'!F56 -> 260 | N8: ='[1]通報 和文'!G56 -> 648 | O8: ='[1]通報 和文'!H56 -> 139 | P8: ='[1]通報 和文'!I56 -> 27 | ... X8: ='[1]通報 和文'!Q56 -> 125
B9: 水路通報 | F9: （英 語） | H9: =SUM(I9:X9) -> 3593 | I9: ='[1]通報 英文'!B56 -> 1301 | J9: ='[1]通報 英文'!C56 -> 0 | K9: ='[1]通報 英文'!D56 -> 0 | L9: ='[1]通報 英文'!E56 -> 581 | M9: ='[1]通報 英文'!F56 -> 260 | N9: ='[1]通報 英文'!G56 -> 648 | O9: ='[1]通報 英文'!H56 -> 139 | P9: ='[1]通報 英文'!I56 -> 27 | ... X9: ='[1]通報 英文'!Q56 -> 74
B10: 管区水路通報 | F10: 計 | H10: =SUM(H11,H12,H13,H14,H15,H16,H17,H18,H19,H20,H21) -> 18214 | I10: =SUM(I11,I12,I13,I14,I15,I16,I17,I18,I19,I20,I21) -> 1229 | J10: =SUM(J11,J12,J13,J14,J15,J16,J17,J18,J19,J20,J21) -> 2 | K10: =SUM(K11,K12,K13,K14,K15,K16,K17,K18,K19,K20,K21) -> 128 | L10: =SUM(L11,L12,L13,L14,L15,L16,L17,L18,L19,L20,L21) -> 2579 | M10: =SUM(M11,M12,M13,M14,M15,M16,M17,M18,M19,M20,M21) -> 3232 | N10: =SUM(N11,N12,N13,N14,N15,N16,N17,N18,N19,N20,N21) -> 3449 | O10: =SUM(O11:O21) -> 220 | P10: =SUM(P11:P21) -> 10 | Q10: =SUM(Q11:Q21) -> 5354 | R10: =SUM(R11:R21) -> 190 | S10: =SUM(S11:S21) -> 269 | T10: =SUM(T11:T21) -> 0 | U10: =SUM(U11:U21) -> 658 | V10: =SUM(V11:V21) -> 38 | ... X10: =SUM(X11:X21) -> 850
B11: 一管区水路通報 | F11: （日本語） | H11: =SUM(I11:X11) -> 1433 | I11: 70 | J11: 0 | K11: 0 | L11: 101 | M11: 458 | N11: 167 | O11: 14 | P11: 0 | Q11: 367 | R11: 5 | S11: 23 | T11: 0 | U11: 142 | V11: 2 | W11: 0 | X11: 84
B12: 二 〃 | H12: =SUM(I12:X12) -> 1756 | I12: 162 | J12: 0 | K12: 0 | L12: 232 | M12: 241 | N12: 489 | O12: 39 | P12: 1 | Q12: 492 | R12: 12 | S12: 25 | T12: 0 | U12: 32 | V12: 4 | W12: 0 | X12: 27
B13: 三 〃 | H13: =SUM(I13:X13) -> 2651 | I13: 204 | J13: 2 | K13: 0 | L13: 439 | M13: 309 | N13: 272 | O13: 13 | P13: 2 | Q13: 1227 | R13: 48 | S13: 30 | T13: 0 | U13: 10 | V13: 9 | W13: 0 | X13: 86
B14: 四 〃 | H14: =SUM(I14:X14) -> 1647 | I14: 74 | J14: 0 | K14: 0 | L14: 216 | M14: 169 | N14: 360 | O14: 11 | P14: 0 | Q14: 560 | R14: 49 | S14: 29 | T14: 0 | U14: 64 | V14: 0 | W14: 0 | X14: 115
B15: 五 〃 | H15: =SUM(I15:Y15) -> 2138 | I15: 85 | J15: 0 | K15: 0 | L15: 286 | M15: 375 | N15: 534 | O15: 3 | P15: 0 | Q15: 610 | R15: 0 | S15: 21 | T15: 0 | U15: 90 | V15: 0 | W15: 4 | X15: 130
B16: 六 〃 | H16: =SUM(I16:X16) -> 2105 | I16: 154 | J16: 0 | K16: 2 | L16: 345 | M16: 188 | N16: 562 | O16: 18 | P16: 3 | Q16: 639 | R16: 10 | S16: 20 | T16: 0 | U16: 29 | V16: 1 | W16: 2 | X16: 132
B17: 七 〃 | H17: =SUM(I17:X17) -> 2048 | I17: 232 | J17: 0 | K17: 0 | L17: 538 | M17: 221 | N17: 352 | O17: 11 | P17: 1 | Q17: 422 | R17: 36 | S17: 43 | T17: 0 | U17: 149 | V17: 5 | W17: 0 | X17: 38
B18: 八 〃 | H18: =SUM(I18:X18) -> 837 | I18: 90 | J18: 0 | K18: 0 | L18: 69 | M18: 228 | N18: 219 | O18: 14 | P18: 2 | Q18: 125 | R18: 18 | S18: 18 | T18: 0 | U18: 30 | V18: 0 | W18: 0 | X18: 24
B19: 九 〃 | H19: =SUM(I19:X19) -> 1263 | I19: 102 | J19: 0 | K19: 0 | L19: 107 | M19: 196 | N19: 298 | O19: 12 | P19: 0 | Q19: 382 | R19: 5 | S19: 6 | T19: 0 | U19: 27 | V19: 7 | W19: 0 | X19: 121
B20: 十 〃 | H20: =SUM(I20:X20) -> 725 | I20: 9 | J20: 0 | K20: 0 | L20: 66 | M20: 268 | N20: 86 | O20: 20 | P20: 0 | Q20: 138 | R20: 5 | S20: 19 | T20: 0 | U20: 34 | V20: 1 | W20: 0 | X20: 79
B21: 十一 〃 | H21: =SUM(I21:X21) -> 1611 | I21: 47 | J21: 0 | K21: 126 | L21: 180 | M21: 579 | N21: 110 | O21: 65 | P21: 1 | Q21: 392 | R21: 2 | S21: 35 | T21: 0 | U21: 51 | V21: 9 | W21: 0 | X21: 14
A23: 事 項 別 手 段 別
H24: 合 計 | I24: 水深 | J24: 自然現象 | K24: 漂流物等 | L24: 航路標識 | M24: 訓練・試験 | N24: 港湾施設 | O24: 海底施設 | P24: 海洋施設 | Q24: 海洋調査 | R24: えい航 | S24: 禁止 制限又は | T24: 協力依頼 | U24: 漁業 | V24: 目標物 | W24: 出版 | X24: その他
H26: 件 | I26: 件 | J26: 件 | K26: 件 | L26: 件 | M26: 件 | N26: 件 | O26: 件 | P26: 件 | Q26: 件 | R26: 件 | S26: 件 | T26: 件 | U26: 件 | V26: 件 | W26: 件 | X26: 件
B27: 日本航行警報 | F27: (日本語) | H27: 3852 | I27: 15 | J27: 19 | K27: 272 | L27: 111 | M27: 2788 | N27: 4 | O27: 116 | P27: 57 | Q27: 207 | R27: 6 | S27: 15 | T27: 0 | U27: 1 | V27: 0 | W27: 0 | X27: 241
B28: ＮＡＶＡＲＥＡ ＸＩ 航行警報 | F28: (英 語) | H28: 848 | I28: 10 | J28: 4 | K28: 91 | L28: 25 | M28: 350 | N28: 3 | O28: 76 | P28: 6 | Q28: 71 | R28: 3 | S28: 12 | T28: 0 | U28: 1 | V28: 0 | W28: 0 | X28: 196
B29: ＮＡＶＴＥＸ航行警報 | F29: (日本語) | H29: 2710 | I29: 110 | J29: 6 | K29: 592 | L29: 356 | M29: 1117 | N29: 0 | O29: 115 | P29: 48 | Q29: 64 | R29: 98 | S29: 64 | T29: 0 | U29: 1 | V29: 0 | W29: 0 | X29: 139
B30: 〃 | F30: (英 語) | H30: 2710 | I30: 110 | J30: 6 | K30: 592 | L30: 356 | M30: 1117 | N30: 0 | O30: 115 | P30: 48 | Q30: 64 | R30: 98 | S30: 64 | T30: 0 | U30: 1 | V30: 0 | W30: 0 | X30: 139
B31: 管区地域航行警報 | F31: (日本語) 計 | H31: =SUM(I31:X31) -> 2935 | I31: =SUM(I33,I35,I37,I39,I41,I43,I45,I47,I49,I51,I53) -> 203 | J31: =SUM(J33,J35,J37,J39,J41,J43,J45,J47,J49,J51,J53) -> 5 | K31: =SUM(K33,K35,K37,K39,K41,K43,K45,K47,K49,K51,K53) -> 737 | L31: =SUM(L33,L35,L37,L39,L41,L43,L45,L47,L49,L51,L53) -> 650 | M31: =SUM(M33,M35,M37,M39,M41,M43,M45,M47,M49,M51,M53) -> 608 | N31: =SUM(N33,N35,N37,N39,N41,N43,N45,N47,N49,N51,N53) -> 8 | O31: =SUM(O33,O35,O37,O39,O41,O43,O45,O47,O49,O51,O53) -> 1 | P31: =SUM(P33,P35,P37,P39,P41,P43,P45,P47,P49,P51,P53) -> 1 | ... X31: =SUM(X33,X35,X37,X39,X41,X43,X45,X47,X49,X51,X53) -> 469
B32: 〃 | F32: (英 語) 計 | H32: =SUM(I32:X32) -> 2930 | I32: =SUM(I34,I36,I38,I40,I42,I44,I46,I48,I50,I52,I54) -> 203 | J32: =SUM(J34,J36,J38,J40,J42,J44,J46,J48,J50,J52,J54) -> 5 | K32: =SUM(K34,K36,K38,K40,K42,K44,K46,K48,K50,K52,K54) -> 737 | L32: =SUM(L34,L36,L38,L40,L42,L44,L46,L48,L50,L52,L54) -> 646 | M32: =SUM(M34,M36,M38,M40,M42,M44,M46,M48,M50,M52,M54) -> 608 | N32: =SUM(N34,N36,N38,N40,N42,N44,N46,N48,N50,N52,N54) -> 8 | O32: =SUM(O34,O36,O38,O40,O42,O44,O46,O48,O50,O52,O54) -> 1 | P32: =SUM(P34,P36,P38,P40,P42,P44,P46,P48,P50,P52,P54) -> 1 | ... X32: =SUM(X34,X36,X38,X40,X42,X44,X46,X48,X50,X52,X54) -> 468
B33: 一管区地域航行警報 | F33: (日本語) | H33: =SUM(I33:X33) -> 270 | I33: 11 | J33: 1 | K33: 115 | L33: 47 | M33: 42 | N33: 3 | O33: 0 | P33: 0 | Q33: 5 | R33: 4 | S33: 0 | T33: 0 | U33: 0 | V33: 0 | W33: 0 | X33: 42
B34: 〃 | F34: (英 語) | H34: =SUM(I34:X34) -> 266 | I34: 11 | J34: 1 | K34: 115 | L34: 43 | M34: 42 | N34: 3 | O34: 0 | P34: 0 | Q34: 5 | R34: 4 | S34: 0 | T34: 0 | U34: 0 | V34: 0 | W34: 0 | X34: 42
B35: 二 〃 | F35: (日本語) | H35: =SUM(I35:X35) -> 170 | I35: 3 | J35: 2 | K35: 44 | L35: 50 | M35: 22 | N35: 0 | O35: 0 | P35: 0 | Q35: 15 | R35: 0 | S35: 0 | T35: 0 | U35: 0 | V35: 0 | W35: 0 | X35: 34
B36: 〃 | F36: (英 語) | H36: =SUM(I36:X36) -> 170 | I36: 3 | J36: 2 | K36: 44 | L36: 50 | M36: 22 | N36: 0 | O36: 0 | P36: 0 | Q36: 15 | R36: 0 | S36: 0 | T36: 0 | U36: 0 | V36: 0 | W36: 0 | X36: 34
B37: 三 〃 | F37: (日本語) | H37: =SUM(I37:X37) -> 430 | I37: 39 | J37: 0 | K37: 86 | L37: 88 | M37: 163 | N37: 0 | O37: 1 | P37: 0 | Q37: 2 | R37: 13 | S37: 3 | T37: 0 | U37: 0 | V37: 0 | W37: 0 | X37: 35
B38: 〃 | F38: (英 語) | H38: =SUM(I38:X38) -> 429 | I38: 39 | J38: 0 | K38: 86 | L38: 88 | M38: 163 | N38: 0 | O38: 1 | P38: 0 | Q38: 2 | R38: 13 | S38: 3 | T38: 0 | U38: 0 | V38: 0 | W38: 0 | X38: 34
B39: 四 〃 | F39: (日本語) | H39: =SUM(I39:X39) -> 197 | I39: 27 | J39: 0 | K39: 31 | L39: 59 | M39: 10 | N39: 1 | O39: 0 | P39: 0 | Q39: 0 | R39: 26 | S39: 7 | T39: 0 | U39: 0 | V39: 0 | W39: 0 | X39: 36
B40: 〃 | F40: (英 語) | H40: =SUM(I40:X40) -> 197 | I40: 27 | J40: 0 | K40: 31 | L40: 59 | M40: 10 | N40: 1 | O40: 0 | P40: 0 | Q40: 0 | R40: 26 | S40: 7 | T40: 0 | U40: 0 | V40: 0 | W40: 0 | X40: 36
B41: 五 〃 | F41: (日本語) | H41: =SUM(I41:X41) -> 259 | I41: 34 | J41: 0 | K41: 22 | L41: 73 | M41: 41 | N41: 0 | O41: 0 | P41: 0 | Q41: 0 | R41: 42 | S41: 4 | T41: 0 | U41: 0 | V41: 0 | W41: 0 | X41: 43
B42: 〃 | F42: (英 語) | H42: =SUM(I42:X42) -> 259 | I42: 34 | J42: 0 | K42: 22 | L42: 73 | M42: 41 | N42: 0 | O42: 0 | P42: 0 | Q42: 0 | R42: 42 | S42: 4 | T42: 0 | U42: 0 | V42: 0 | W42: 0 | X42: 43
B43: 六 〃 | F43: (日本語) | H43: =SUM(I43:X43) -> 162 | I43: 15 | J43: 0 | K43: 5 | L43: 37 | M43: 0 | N43: 0 | O43: 0 | P43: 0 | Q43: 0 | R43: 29 | S43: 22 | T43: 0 | U43: 0 | V43: 0 | W43: 1 | X43: 53
B44: 〃 | F44: (英 語) | H44: =SUM(I44:X44) -> 162 | I44: 15 | J44: 0 | K44: 5 | L44: 37 | M44: 0 | N44: 0 | O44: 0 | P44: 0 | Q44: 0 | R44: 29 | S44: 22 | T44: 0 | U44: 0 | V44: 0 | W44: 1 | X44: 53
... B54: 〃 | F54: (英 語) | H54: =SUM(I54:X54) -> 330 | I54: 4 | J54: 0 | K54: 158 | L54: 62 | M54: 63 | N54: 0 | O54: 0 | P54: 0 | Q54: 0 | R54: 0 | S54: 23 | T54: 0 | U54: 0 | V54: 0 | W54: 0 | X54: 20
B56: (2) 水路通報等資料出所別調査件数
A57: 事 項 別 通報資料出所別
H58: 合 計 | I58: 水深 | J58: 自然現象 | K58: 漂流物等 | L58: 航路標識 | M58: 訓練・試験 | N58: 港湾施設 | O58: 海底施設 | P58: 海洋施設 | Q58: 海洋調査 | R58: えい航 | S58: 禁止 制限又は | T58: 協力依頼 | U58: 漁業 | V58: 目標物 | W58: 出版 | X58: その他
H60: 件 | I60: 件 | J60: 件 | K60: 件 | L60: 件 | M60: 件 | N60: 件 | O60: 件 | P60: 件 | Q60: 件 | R60: 件 | S60: 件 | T60: 件 | U60: 件 | V60: 件 | W60: 件 | X60: 件
B61: 合 計 | H61: 73616 | I61: 8207 | J61: 360 | K61: 2826 | L61: 16447 | M61: 12487 | N61: 8442 | O61: 1272 | P61: 460 | Q61: 9304 | R61: 695 | S61: 1117 | T61: 1816 | U61: 1900 | V61: 111 | W61: 4323 | X61: 3849
B62: 海洋情報部 | H62: 58240 | I62: 7563 | J62: 351 | K62: 1818 | L62: 14343 | M62: 8962 | N62: 5510 | O62: 1090 | P62: 449 | Q62: 6788 | R62: 448 | S62: 786 | T62: 1816 | U62: 1400 | V62: 82 | W62: 4317 | X62: 2517
B63: 第 一 | C63: 管区海上保安本部 | H63: =SUM(I63:X63) -> 1171 | I63: 21 | J63: 1 | K63: 116 | L63: 66 | M63: 388 | N63: 131 | O63: 8 | P63: 0 | Q63: 201 | R63: 3 | S63: 18 | T63: 0 | U63: 102 | V63: 1 | W63: 0 | X63: 115
B64: 第 二 | C64: 〃 | H64: =SUM(I64:X64) -> 1257 | I64: 47 | J64: 2 | K64: 48 | L64: 165 | M64: 266 | N64: 333 | O64: 23 | P64: 1 | Q64: 253 | R64: 15 | S64: 23 | T64: 0 | U64: 19 | V64: 2 | W64: 0 | X64: 60
B65: 第 三 | C65: 〃 | H65: =SUM(I65:X65) -> 1572 | I65: 95 | J65: 2 | K65: 86 | L65: 290 | M65: 283 | N65: 305 | O65: 9 | P65: 2 | Q65: 289 | R65: 31 | S65: 32 | T65: 0 | U65: 9 | V65: 6 | W65: 0 | X65: 133
B66: 第 四 | C66: 〃 | H66: =SUM(I66:X66) -> 1002 | I66: 39 | J66: 0 | K66: 0 | L66: 127 | M66: 151 | N66: 283 | O66: 11 | P66: 0 | Q66: 186 | R66: 49 | S66: 21 | T66: 0 | U66: 40 | V66: 0 | W66: 0 | X66: 95
B67: 第 五 | C67: 〃 | H67: =SUM(I67:X67) -> 1689 | I67: 76 | J67: 0 | K67: 22 | L67: 240 | M67: 401 | N67: 465 | O67: 2 | P67: 0 | Q67: 180 | R67: 42 | S67: 24 | T67: 0 | U67: 70 | V67: 0 | W67: 4 | X67: 163
B68: 第 六 | C68: 〃 | H68: =SUM(I68:X68) -> 1069 | I68: 79 | J68: 0 | K68: 2 | L68: 179 | M68: 121 | N68: 364 | O68: 13 | P68: 2 | Q68: 149 | R68: 10 | S68: 18 | T68: 0 | U68: 21 | V68: 1 | W68: 2 | X68: 108
B69: 第 七 | C69: 〃 | H69: =SUM(I69:X69) -> 2005 | I69: 156 | J69: 2 | K69: 218 | L69: 354 | M69: 312 | N69: 339 | O69: 7 | P69: 3 | Q69: 260 | R69: 67 | S69: 57 | T69: 0 | U69: 97 | V69: 3 | W69: 0 | X69: 130
B70: 第 八 | C70: 〃 | H70: =SUM(I70:X70) -> 1051 | I70: 19 | J70: 0 | K70: 60 | L70: 116 | M70: 334 | N70: 214 | O70: 13 | P70: 2 | Q70: 164 | R70: 18 | S70: 18 | T70: 0 | U70: 32 | V70: 0 | W70: 0 | X70: 61
B71: 第 九 | C71: 〃 | H71: =SUM(I71:X71) -> 1334 | I71: 42 | J71: 0 | K71: 48 | L71: 129 | M71: 301 | N71: 302 | O71: 11 | P71: 0 | Q71: 298 | R71: 5 | S71: 5 | T71: 0 | U71: 25 | V71: 6 | W71: 0 | X71: 162
B72: 第 十 | C72: 〃 | H72: =SUM(I72:X72) -> 1285 | I72: 19 | J72: 2 | K72: 124 | L72: 196 | M72: 326 | N72: 86 | O72: 20 | P72: 0 | Q72: 144 | R72: 5 | S72: 57 | T72: 0 | U72: 34 | V72: 1 | W72: 0 | X72: 271
B73: 第 十 一 | C73: 〃 | H73: =SUM(I73:X73) -> 1941 | I73: 51 | J73: 0 | K73: 284 | L73: 242 | M73: 642 | N73: 110 | O73: 65 | P73: 1 | Q73: 392 | R73: 2 | S73: 58 | T73: 0 | U73: 51 | V73: 9 | W73: 0 | X73: 34

Sheet 1 水路通報実施P62-68
B2: (3) 航行援助情報提供業務実施件数
A3: 事 項 別 手 段 別
H4: 合 計 | I4: 水深 | J4: 自然現象 | K4: 漂流物等 | L4: 航路標識 | M4: 訓練・試験 | N4: 港湾施設 | O4: 海底施設 | P4: 海洋施設 | Q4: 海洋調査 | R4: えい航 | S4: 禁止 制限又は | T4: 協力依頼 | U4: 漁業 | V4: 目標物 | W4: 出版 | X4: その他
H6: 件 | I6: 件 | J6: 件 | K6: 件 | L6: 件 | M6: 件 | N6: 件 | O6: 件 | P6: 件 | Q6: 件 | R6: 件 | S6: 件 | T6: 件 | U6: 件 | V6: 件 | W6: 件 | X6: 件
B7: 航行援助情報提供実施件数 | F7: (日本語)計 | H7: =SUM(I7:X7) -> 670167 | I7: =I9+I11+I13+I15+I17+I19+I21+I23+I25+I27+I29+I31+I37+I39+I41+I43+I45+I47+I49+I51+I53+I55+I57+I59+I61+I63+I65+I71+I73+I75+I77+I79+I81+I83+I85+I87+I89+I91+I93+I95+I97+I99+I105+I107+I109+I111+I113+I115+I117+I119+I121+SUM(I123,I125,I127,I129,I131,I133,I139,I141)+SUM(I143,I145,I147,I149,I151)+SUM(I153,I155,I157,I159,I161,I163,I165,I167)+SUM(I173,I175,I177,I179,I181,I183,I185,I187,I189,I191)+SUM(I193,I195,I197,I199,I201,I203,I209,I211) -> 962 | J7: =J9+J11+J13+J15+J17+J19+J21+J23+J25+J27+J29+J31+J37+J39+J41+J43+J45+J47+J49+J51+J53+J55+J57+J59+J61+J63+J65+J71+J73+J75+J77+J79+J81+J83+J85+J87+J89+J91+J93+J95+J97+J99+J105+J107+J109+J111+J113+J115+J117+J119+J121+SUM(J123,J125,J127,J129,J131,J133,J139,J141)+SUM(J143,J145,J147,J149,J151)+SUM(J153,J155,J157,J159,J161,J163,J165,J167)+SUM(J173,J175,J177,J179,J181,J183,J185,J187,J189,J191)+SUM(J193,J195,J197,J199,J201,J203,J209,J211) -> 424 | K7: =K9+K11+K13+K15+K17+K19+K21+K23+K25+K27+K29+K31+K37+K39+K41+K43+K45+K47+K49+K51+K53+K55+K57+K59+K61+K63+K65+K71+K73+K75+K77+K79+K81+K83+K85+K87+K89+K91+K93+K95+K97+K99+K105+K107+K109+K111+K113+K115+K117+K119+K121+SUM(K123,K125,K127,K129,K131,K133,K139,K141)+SUM(K143,K145,K147,K149,K151)+SUM(K153,K155,K157,K159,K161,K163,K165,K167)+SUM(K173,K175,K177,K179,K181,K183,K185,K187,K189,K191)+SUM(K193,K195,K197,K199,K201,K203,K209,K211) -> 777 | L7: =L9+L11+L13+L15+L17+L19+L21+L23+L25+L27+L29+L31+L37+L39+L41+L43+L45+L47+L49+L51+L53+L55+L57+L59+L61+L63+L65+L71+L73+L75+L77+L79+L81+L83+L85+L87+L89+L91+L93+L95+L97+L99+L105+L107+L109+L111+L113+L115+L117+L119+L121+SUM(L123,L125,L127,L129,L131,L133,L139,L141)+SUM(L143,L145,L147,L149,L151)+SUM(L153,L155,L157,L159,L161,L163,L165,L167)+SUM(L173,L175,L177,L179,L181,L183,L185,L187,L189,L191)+SUM(L193,L195,L197,L199,L201,L203,L209,L211) -> 5007 | M7: =M9+M11+M13+M15+M17+M19+M21+M23+M25+M27+M29+M31+M37+M39+M41+M43+M45+M47+M49+M51+M53+M55+M57+M59+M61+M63+M65+M71+M73+M75+M77+M79+M81+M83+M85+M87+M89+M91+M93+M95+M97+M99+M105+M107+M109+M111+M113+M115+M117+M119+M121+SUM(M123,M125,M127,M129,M131,M133,M139,M141)+SUM(M143,M145,M147,M149,M151)+SUM(M153,M155,M157,M159,M161,M163,M165,M167)+SUM(M173,M175,M177,M179,M181,M183,M185,M187,M189,M191)+SUM(M193,M195,M197,M199,M201,M203,M209,M211) -> 2821 | N7: =N9+N11+N13+N15+N17+N19+N21+N23+N25+N27+N29+N31+N37+N39+N41+N43+N45+N47+N49+N51+N53+N55+N57+N59+N61+N63+N65+N71+N73+N75+N77+N79+N81+N83+N85+N87+N89+N91+N93+N95+N97+N99+N105+N107+N109+N111+N113+N115+N117+N119+N121+SUM(N123,N125,N127,N129,N131,N133,N139,N141)+SUM(N143,N145,N147,N149,N151)+SUM(N153,N155,N157,N159,N161,N163,N165,N167)+SUM(N173,N175,N177,N179,N181,N183,N185,N187,N189,N191)+SUM(N193,N195,N197,N199,N201,N203,N209,N211) -> 4440 | O7: =O9+O11+O13+O15+O17+O19+O21+O23+O25+O27+O29+O31+O37+O39+O41+O43+O45+O47+O49+O51+O53+O55+O57+O59+O61+O63+O65+O71+O73+O75+O77+O79+O81+O83+O85+O87+O89+O91+O93+O95+O97+O99+O105+O107+O109+O111+O113+O115+O117+O119+O121+SUM(O123,O125,O127,O129,O131,O133,O139,O141)+SUM(O143,O145,O147,O149,O151)+SUM(O153,O155,O157,O159,O161,O163,O165,O167)+SUM(O173,O175,O177,O179,O181,O183,O185,O187,O189,O191)+SUM(O193,O195,O197,O199,O201,O203,O209,O211) -> 228 | P7: =P9+P11+P13+P15+P17+P19+P21+P23+P25+P27+P29+P31+P37+P39+P41+P43+P45+P47+P49+P51+P53+P55+P57+P59+P61+P63+P65+P71+P73+P75+P77+P79+P81+P83+P85+P87+P89+P91+P93+P95+P97+P99+P105+P107+P109+P111+P113+P115+P117+P119+P121+SUM(P123,P125,P127,P129,P131,P133,P139,P141)+SUM(P143,P145,P147,P149,P151)+SUM(P153,P155,P157,P159,P161,P163,P165,P167)+SUM(P173,P175,P177,P179,P181,P183,P185,P187,P189,P191)+SUM(P193,P195,P197,P199,P201,P203,P209,P211) -> 296 | ... X7: =X9+X11+X13+X15+X17+X19+X21+X23+X25+X27+X29+X31+X37+X39+X41+X43+X45+X47+X49+X51+X53+X55+X57+X59+X61+X63+X65+X71+X73+X75+X77+X79+X81+X83+X85+X87+X89+X91+X93+X95+X97+X99+X105+X107+X109+X111+X113+X115+X117+X119+X121+SUM(X123,X125,X127,X129,X131,X133,X139,X141)+SUM(X143,X145,X147,X149,X151)+SUM(X153,X155,X157,X159,X161,X163,X165,X167)+SUM(X173,X175,X177,X179,X181,X183,X185,X187,X189,X191)+SUM(X193,X195,X197,X199,X201,X203,X209,X211) -> 502351
B8: 〃 | F8: (英 語)計 | H8: =SUM(I8:X8) -> 1120552 | I8: =I10+I12+I14+I16+I18+I20+I22+I24+I26+I28+I30+I32+I38+I40+I42+I44+I46+I48+I50+I52+I54+I56+I58+I60+I62+I64+I66+I72+I74+I76+I78+I80+I82+I84+I86+I88+I90+I92+I94+I96+I98+I100+I106+I108+I110+I112+I114+I116+I118+I120+I122+SUM(I124,I126,I128,I130,I132,I134,I140,I142)+SUM(I144,I146,I148,I150,I152)+SUM(I154,I156,I158,I160,I162,I164,I166,I168)+SUM(I174,I176,I178,I180,I182,I184,I186,I188,I190,I192)+SUM(I194,I196,I198,I200,I202,I204,I210,I212) -> 81012 | J8: =J10+J12+J14+J16+J18+J20+J22+J24+J26+J28+J30+J32+J38+J40+J42+J44+J46+J48+J50+J52+J54+J56+J58+J60+J62+J64+J66+J72+J74+J76+J78+J80+J82+J84+J86+J88+J90+J92+J94+J96+J98+J100+J106+J108+J110+J112+J114+J116+J118+J120+J122+SUM(J124,J126,J128,J130,J132,J134,J140,J142)+SUM(J144,J146,J148,J150,J152)+SUM(J154,J156,J158,J160,J162,J164,J166,J168)+SUM(J174,J176,J178,J180,J182,J184,J186,J188,J190,J192)+SUM(J194,J196,J198,J200,J202,J204,J210,J212) -> 419 | K8: =K10+K12+K14+K16+K18+K20+K22+K24+K26+K28+K30+K32+K38+K40+K42+K44+K46+K48+K50+K52+K54+K56+K58+K60+K62+K64+K66+K72+K74+K76+K78+K80+K82+K84+K86+K88+K90+K92+K94+K96+K98+K100+K106+K108+K110+K112+K114+K116+K118+K120+K122+SUM(K124,K126,K128,K130,K132,K134,K140,K142)+SUM(K144,K146,K148,K150,K152)+SUM(K154,K156,K158,K160,K162,K164,K166,K168)+SUM(K174,K176,K178,K180,K182,K184,K186,K188,K190,K192)+SUM(K194,K196,K198,K200,K202,K204,K210,K212) -> 519 | L8: =L10+L12+L14+L16+L18+L20+L22+L24+L26+L28+L30+L32+L38+L40+L42+L44+L46+L48+L50+L52+L54+L56+L58+L60+L62+L64+L66+L72+L74+L76+L78+L80+L82+L84+L86+L88+L90+L92+L94+L96+L98+L100+L106+L108+L110+L112+L114+L116+L118+L120+L122+SUM(L124,L126,L128,L130,L132,L134,L140,L142)+SUM(L144,L146,L148,L150,L152)+SUM(L154,L156,L158,L160,L162,L164,L166,L168)+SUM(L174,L176,L178,L180,L182,L184,L186,L188,L190,L192)+SUM(L194,L196,L198,L200,L202,L204,L210,L212) -> 11620 | M8: =M10+M12+M14+M16+M18+M20+M22+M24+M26+M28+M30+M32+M38+M40+M42+M44+M46+M48+M50+M52+M54+M56+M58+M60+M62+M64+M66+M72+M74+M76+M78+M80+M82+M84+M86+M88+M90+M92+M94+M96+M98+M100+M106+M108+M110+M112+M114+M116+M118+M120+M122+SUM(M124,M126,M128,M130,M132,M134,M140,M142)+SUM(M144,M146,M148,M150,M152)+SUM(M154,M156,M158,M160,M162,M164,M166,M168)+SUM(M174,M176,M178,M180,M182,M184,M186,M188,M190,M192)+SUM(M194,M196,M198,M200,M202,M204,M210,M212) -> 459 | N8: =N10+N12+N14+N16+N18+N20+N22+N24+N26+N28+N30+N32+N38+N40+N42+N44+N46+N48+N50+N52+N54+N56+N58+N60+N62+N64+N66+N72+N74+N76+N78+N80+N82+N84+N86+N88+N90+N92+N94+N96+N98+N100+N106+N108+N110+N112+N114+N116+N118+N120+N122+SUM(N124,N126,N128,N130,N132,N134,N140,N142)+SUM(N144,N146,N148,N150,N152)+SUM(N154,N156,N158,N160,N162,N164,N166,N168)+SUM(N174,N176,N178,N180,N182,N184,N186,N188,N190,N192)+SUM(N194,N196,N198,N200,N202,N204,N210,N212) -> 939 | O8: =O10+O12+O14+O16+O18+O20+O22+O24+O26+O28+O30+O32+O38+O40+O42+O44+O46+O48+O50+O52+O54+O56+O58+O60+O62+O64+O66+O72+O74+O76+O78+O80+O82+O84+O86+O88+O90+O92+O94+O96+O98+O100+O106+O108+O110+O112+O114+O116+O118+O120+O122+SUM(O124,O126,O128,O130,O132,O134,O140,O142)+SUM(O144,O146,O148,O150,O152)+SUM(O154,O156,O158,O160,O162,O164,O166,O168)+SUM(O174,O176,O178,O180,O182,O184,O186,O188,O190,O192)+SUM(O194,O196,O198,O200,O202,O204,O210,O212) -> 2220 | P8: =P10+P12+P14+P16+P18+P20+P22+P24+P26+P28+P30+P32+P38+P40+P42+P44+P46+P48+P50+P52+P54+P56+P58+P60+P62+P64+P66+P72+P74+P76+P78+P80+P82+P84+P86+P88+P90+P92+P94+P96+P98+P100+P106+P108+P110+P112+P114+P116+P118+P120+P122+SUM(P124,P126,P128,P130,P132,P134,P140,P142)+SUM(P144,P146,P148,P150,P152)+SUM(P154,P156,P158,P160,P162,P164,P166,P168)+SUM(P174,P176,P178,P180,P182,P184,P186,P188,P190,P192)+SUM(P194,P196,P198,P200,P202,P204,P210,P212) -> 102 | ... X8: =X10+X12+X14+X16+X18+X20+X22+X24+X26+X28+X30+X32+X38+X40+X42+X44+X46+X48+X50+X52+X54+X56+X58+X60+X62+X64+X66+X72+X74+X76+X78+X80+X82+X84+X86+X88+X90+X92+X94+X96+X98+X100+X106+X108+X110+X112+X114+X116+X118+X120+X122+SUM(X124,X126,X128,X130,X132,X134,X140,X142)+SUM(X144,X146,X148,X150,X152)+SUM(X154,X156,X158,X160,X162,X164,X166,X168)+SUM(X174,X176,X178,X180,X182,X184,X186,X188,X190,X192)+SUM(X194,X196,X198,X200,X202,X204,X210,X212) -> 976321
B9: 海 上 保 安 庁 | F9: (日本語) | H9: =SUM(I9:X9) -> 44 | I9: 0 | J9: 0 | K9: 0 | L9: 0 | M9: 0 | N9: 0 | O9: 0 | P9: 0 | Q9: 0 | R9: 0 | S9: 0 | T9: 0 | U9: 0 | V9: 0 | W9: 0 | X9: 44
B10: 〃 | F10: (英 語) | H10: =SUM(I10:X10) -> 0 | I10: 0 | J10: 0 | K10: 0 | L10: 0 | M10: 0 | N10: 0 | O10: 0 | P10: 0 | Q10: 0 | R10: 0 | S10: 0 | T10: 0 | U10: 0 | V10: 0 | W10: 0 | X10: 0
B11: 第一管区 | D11: 海上保安本部 | F11: (日本語) | H11: =SUM(I11:X11) -> 425 | I11: 8 | J11: 1 | K11: 38 | L11: 48 | M11: 90 | N11: 0 | O11: 0 | P11: 0 | Q11: 60 | R11: 1 | S11: 159 | T11: 0 | U11: 1 | V11: 0 | W11: 0 | X11: 19
B12: 〃 | F12: (英 語) | H12: =SUM(I12:X12) -> 681 | I12: 6 | J12: 1 | K12: 123 | L12: 25 | M12: 42 | N12: 3 | O12: 0 | P12: 0 | Q12: 4 | R12: 4 | S12: 0 | T12: 13 | U12: 2 | V12: 0 | W12: 0 | X12: 458
B13: 第二管区 | D13: 〃 | F13: (日本語) | H13: =SUM(I13:X13) -> 646 | I13: 19 | J13: 0 | K13: 46 | L13: 45 | M13: 26 | N13: 76 | O13: 0 | P13: 0 | Q13: 0 | R13: 0 | S13: 12 | T13: 0 | U13: 0 | V13: 1 | W13: 0 | X13: 421
B14: 〃 | F14: (英 語) | H14: =SUM(I14:X14) -> 732 | I14: 0 | J14: 0 | K14: 31 | L14: 16 | M14: 6 | N14: 0 | O14: 0 | P14: 1 | Q14: 22 | R14: 1 | S14: 186 | T14: 12 | U14: 0 | V14: 1 | W14: 0 | X14: 456
B15: 第三管区 | D15: 〃 | F15: (日本語) | H15: =SUM(I15:X15) -> 2218 | I15: 119 | J15: 5 | K15: 158 | L15: 365 | M15: 376 | N15: 56 | O15: 6 | P15: 0 | Q15: 167 | R15: 35 | S15: 53 | T15: 0 | U15: 2 | V15: 6 | W15: 0 | X15: 870
B16: 〃 | F16: (英 語) | H16: =SUM(I16:X16) -> 0 | I16: 0 | J16: 0 | K16: 0 | L16: 0 | M16: 0 | N16: 0 | O16: 0 | P16: 0 | Q16: 0 | R16: 0 | S16: 0 | T16: 0 | U16: 0 | V16: 0 | W16: 0 | X16: 0
B17: 第四管区 | D17: 〃 | F17: (日本語) | H17: =SUM(I17:X17) -> 320 | I17: 0 | J17: 0 | K17: 38 | L17: 66 | M17: 14 | N17: 0 | O17: 0 | P17: 0 | Q17: 6 | R17: 8 | S17: 2 | T17: 0 | U17: 0 | V17: 0 | W17: 0 | X17: 186
B18: 〃 | F18: (英 語) | H18: =SUM(I18:X18) -> 0 | I18: 0 | J18: 0 | K18: 0 | L18: 0 | M18: 0 | N18: 0 | O18: 0 | P18: 0 | Q18: 0 | R18: 0 | S18: 0 | T18: 0 | U18: 0 | V18: 0 | W18: 0 | X18: 0
B19: 第五管区 | D19: 〃 | F19: (日本語) | H19: =SUM(I19:X19) -> 514 | I19: 37 | J19: 31 | K19: 21 | L19: 135 | M19: 42 | N19: 0 | O19: 0 | P19: 0 | Q19: 0 | R19: 41 | S19: 141 | T19: 13 | U19: 0 | V19: 0 | W19: 0 | X19: 53
B20: 〃 | F20: (英 語) | H20: =SUM(I20:X20) -> 0 | I20: 0 | J20: 0 | K20: 0 | L20: 0 | M20: 0 | N20: 0 | O20: 0 | P20: 0 | Q20: 0 | R20: 0 | S20: 0 | T20: 0 | U20: 0 | V20: 0 | W20: 0 | X20: 0
B21: 第六管区 | D21: 〃 | F21: (日本語) | H21: =SUM(I21:X21) -> 247 | I21: 10 | J21: 19 | K21: 12 | L21: 68 | M21: 0 | N21: 1 | O21: 1 | P21: 0 | Q21: 0 | R21: 8 | S21: 36 | T21: 0 | U21: 0 | V21: 0 | W21: 0 | X21: 92
B22: 〃 | F22: (英 語) | H22: =SUM(I22:X22) -> 0 | I22: 0 | J22: 0 | K22: 0 | L22: 0 | M22: 0 | N22: 0 | O22: 0 | P22: 0 | Q22: 0 | R22: 0 | S22: 0 | T22: 0 | U22: 0 | V22: 0 | W22: 0 | X22: 0
B23: 第七管区 | D23: 〃 | F23: (日本語) | H23: =SUM(I23:X23) -> 828 | I23: 55 | J23: 159 | K23: 141 | L23: 135 | M23: 55 | N23: 0 | O23: 0 | P23: 0 | Q23: 0 | R23: 0 | S23: 124 | T23: 38 | U23: 0 | V23: 0 | W23: 0 | X23: 121
B24: 〃 | F24: (英 語) | H24: =SUM(I24:X24) -> 0 | I24: 0 | J24: 0 | K24: 0 | L24: 0 | M24: 0 | N24: 0 | O24: 0 | P24: 0 | Q24: 0 | R24: 0 | S24: 0 | T24: 0 | U24: 0 | V24: 0 | W24: 0 | X24: 0
B25: 第八管区 | D25: 〃 | F25: (日本語) | H25: =SUM(I25:X25) -> 273 | I25: 9 | J25: 2 | K25: 51 | L25: 66 | M25: 71 | N25: 0 | O25: 0 | P25: 1 | Q25: 1 | R25: 0 | S25: 50 | T25: 16 | U25: 0 | V25: 0 | W25: 1 | X25: 5
B26: 〃 | F26: (英 語) | H26: =SUM(I26:X26) -> 319 | I26: 5 | J26: 1 | K26: 42 | L26: 33 | M26: 100 | N26: 0 | O26: 1 | P26: 0 | Q26: 5 | R26: 1 | S26: 60 | T26: 10 | U26: 4 | V26: 0 | W26: 1 | X26: 56
B27: 第九管区 | D27: 〃 | F27: (日本語) | H27: =SUM(I27:X27) -> 1040 | I27: 44 | J27: 0 | K27: 53 | L27: 104 | M27: 178 | N27: 189 | O27: 7 | P27: 1 | Q27: 197 | R27: 2 | S27: 5 | T27: 0 | U27: 21 | V27: 3 | W27: 0 | X27: 236
B28: 〃 | F28: (英 語) | H28: =SUM(I28:X28) -> 286 | I28: 15 | J28: 0 | K28: 45 | L28: 38 | M28: 93 | N28: 0 | O28: 0 | P28: 0 | Q28: 4 | R28: 0 | S28: 0 | T28: 5 | U28: 24 | V28: 0 | W28: 1 | X28: 61
B29: 第十管区 | D29: 〃 | F29: (日本語) | H29: =SUM(I29:X29) -> 407 | I29: 1 | J29: 22 | K29: 50 | L29: 62 | M29: 7 | N29: 0 | O29: 0 | P29: 0 | Q29: 0 | R29: 2 | S29: 13 | T29: 0 | U29: 0 | V29: 0 | W29: 0 | X29: 250
B30: 〃 | F30: (英 語) | H30: =SUM(I30:X30) -> 384 | I30: 6 | J30: 0 | K30: 62 | L30: 68 | M30: 32 | N30: 0 | O30: 0 | P30: 47 | Q30: 1 | R30: 0 | S30: 2 | T30: 0 | U30: 0 | V30: 0 | W30: 0 | X30: 166
B31: 第十一管区 | D31: 〃 | F31: (日本語) | H31: =SUM(I31:X31) -> 493 | I31: 3 | J31: 31 | K31: 121 | L31: 67 | M31: 240 | N31: 0 | O31: 0 | P31: 0 | Q31: 2 | R31: 0 | S31: 14 | T31: 0 | U31: 0 | V31: 0 | W31: 0 | X31: 15
B32: 〃 | F32: (英 語) | H32: =SUM(I32:X32) -> 14106 | I32: 3 | J32: 93 | K32: 129 | L32: 79 | M32: 92 | N32: 0 | O32: 0 | P32: 0 | Q32: 0 | R32: 0 | S32: 45 | T32: 1 | U32: 0 | V32: 0 | W32: 0 | X32: 13664
A34: 事 項 別 手 段 別 | H34: 合 計 | I34: 水深 | J34: 自然現象 | K34: 漂流物等 | L34: 航路標識 | M34: 訓練・試験 | N34: 港湾施設 | O34: 海底施設 | P34: 海洋施設 | Q34: 海洋調査 | R34: えい航 | S34: 禁止 制限又は | T34: 協力依頼 | U34: 漁業 | V34: 目標物 | W34: 出版 | X34: その他
H36: 件 | I36: 件 | J36: 件 | K36: 件 | L36: 件 | M36: 件 | N36: 件 | O36: 件 | P36: 件 | Q36: 件 | R36: 件 | S36: 件 | T36: 件 | U36: 件 | V36: 件 | W36: 件 | X36: 件
B37: 函館 | D37: 海上保安部 | F37: (日本語) | H37: =SUM(I37:X37) -> 157 | I37: 2 | J37: 0 | K37: 0 | L37: 12 | M37: 66 | N37: 7 | O37: 1 | P37: 30 | Q37: 14 | R37: 0 | S37: 5 | T37: 0 | U37: 8 | V37: 0 | W37: 0 | X37: 12
B38: 〃 | F38: (英 語) | H38: =SUM(I38:X38) -> 0 | I38: 0 | J38: 0 | K38: 0 | L38: 0 | M38: 0 | N38: 0 | O38: 0 | P38: 0 | Q38: 0 | R38: 0 | S38: 0 | T38: 0 | U38: 0 | V38: 0 | W38: 0 | X38: 0
B39: 小樽 | D39: 〃 | F39: (日本語) | H39: =SUM(I39:X39) -> 87 | I39: 2 | J39: 0 | K39: 0 | L39: 4 | M39: 46 | N39: 11 | O39: 2 | P39: 6 | Q39: 3 | R39: 0 | S39: 1 | T39: 0 | U39: 3 | V39: 0 | W39: 0 | X39: 9
B40: 〃 | F40: (英 語) | H40: =SUM(I40:X40) -> 0 | I40: 0 | J40: 0 | K40: 0 | L40: 0 | M40: 0 | N40: 0 | O40: 0 | P40: 0 | Q40: 0 | R40: 0 | S40: 0 | T40: 0 | U40: 0 | V40: 0 | W40: 0 | X40: 0
B41: 室蘭 | D41: 〃 | F41: (日本語) | H41: =SUM(I41:X41) -> 141 | I41: 3 | J41: 0 | K41: 2 | L41: 10 | M41: 43 | N41: 36 | O41: 1 | P41: 9 | Q41: 18 | R41: 3 | S41: 4 | T41: 0 | U41: 1 | V41: 0 | W41: 0 | X41: 11
B42: 〃 | F42: (英 語) | H42: =SUM(I42:X42) -> 22 | I42: 0 | J42: 0 | K42: 0 | L42: 0 | M42: 0 | N42: 0 | O42: 0 | P42: 0 | Q42: 0 | R42: 0 | S42: 0 | T42: 0 | U42: 0 | V42: 0 | W42: 0 | X42: 22
B43: 釧路 | D43: 〃 | F43: (日本語) | H43: =SUM(I43:X43) -> 130 | I43: 2 | J43: 0 | K43: 1 | L43: 4 | M43: 56 | N43: 17 | O43: 1 | P43: 16 | Q43: 19 | R43: 0 | S43: 3 | T43: 0 | U43: 2 | V43: 0 | W43: 0 | X43: 9
B44: 〃 | F44: (英 語) | H44: =SUM(I44:X44) -> 0 | I44: 0 | J44: 0 | K44: 0 | L44: 0 | M44: 0 | N44: 0 | O44: 0 | P44: 0 | Q44: 0 | R44: 0 | S44: 0 | T44: 0 | U44: 0 | V44: 0 | W44: 0 | X44: 0
B45: 留萌 | D45: 〃 | F45: (日本語) | H45: =SUM(I45:X45) -> 27 | I45: 0 | J45: 0 | K45: 0 | L45: 2 | M45: 6 | N45: 6 | O45: 1 | P45: 4 | Q45: 1 | R45: 0 | S45: 1 | T45: 0 | U45: 1 | V45: 0 | W45: 0 | X45: 5
B46: 〃 | F46: (英 語) | H46: =SUM(I46:X46) -> 0 | I46: 0 | J46: 0 | K46: 0 | L46: 0 | M46: 0 | N46: 0 | O46: 0 | P46: 0 | Q46: 0 | R46: 0 | S46: 0 | T46: 0 | U46: 0 | V46: 0 | W46: 0 | X46: 0
B47: 稚内 | D47: 〃 | F47: (日本語) | H47: =SUM(I47:X47) -> 82 | I47: 3 | J47: 0 | K47: 1 | L47: 2 | M47: 15 | N47: 33 | O47: 1 | P47: 6 | Q47: 12 | R47: 0 | S47: 1 | T47: 0 | U47: 2 | V47: 0 | W47: 0 | X47: 6
B48: 〃 | F48: (英 語) | H48: =SUM(I48:X48) -> 0 | I48: 0 | J48: 0 | K48: 0 | L48: 0 | M48: 0 | N48: 0 | O48: 0 | P48: 0 | Q48: 0 | R48: 0 | S48: 0 | T48: 0 | U48: 0 | V48: 0 | W48: 0 | X48: 0
B49: 紋別 | D49: 〃 | F49: (日本語) | H49: =SUM(I49:X49) -> 36 | I49: 0 | J49: 0 | K49: 1 | L49: 4 | M49: 3 | N49: 11 | O49: 1 | P49: 2 | Q49: 11 | R49: 0 | S49: 2 | T49: 0 | U49: 1 | V49: 0 | W49: 0 | X49: 0
B50: 〃 | F50: (英 語) | H50: =SUM(I50:X50) -> 0 | I50: 0 | J50: 0 | K50: 0 | L50: 0 | M50: 0 | N50: 0 | O50: 0 | P50: 0 | Q50: 0 | R50: 0 | S50: 0 | T50: 0 | U50: 0 | V50: 0 | W50: 0 | X50: 0
B51: 根室 | D51: 〃 | F51: (日本語) | H51: =SUM(I51:X51) -> 38 | I51: 3 | J51: 0 | K51: 0 | L51: 1 | M51: 13 | N51: 10 | O51: 1 | P51: 4 | Q51: 1 | R51: 0 | S51: 1 | T51: 0 | U51: 3 | V51: 0 | W51: 0 | X51: 1
B52: 〃 | F52: (英 語) | H52: =SUM(I52:X52) -> 0 | I52: 0 | J52: 0 | K52: 0 | L52: 0 | M52: 0 | N52: 0 | O52: 0 | P52: 0 | Q52: 0 | R52: 0 | S52: 0 | T52: 0 | U52: 0 | V52: 0 | W52: 0 | X52: 0
B53: 青森 | D53: 〃 | F53: (日本語) | H53: =SUM(I53:X53) -> 94 | I53: 0 | J53: 0 | K53: 0 | L53: 7 | M53: 0 | N53: 16 | O53: 0 | P53: 1 | Q53: 1 | R53: 0 | S53: 1 | T53: 0 | U53: 1 | V53: 0 | W53: 0 | X53: 67
B54: 〃 | F54: (英 語) | H54: =SUM(I54:X54) -> 0 | I54: 0 | J54: 0 | K54: 0 | L54: 0 | M54: 0 | N54: 0 | O54: 0 | P54: 0 | Q54: 0 | R54: 0 | S54: 0 | T54: 0 | U54: 0 | V54: 0 | W54: 0 | X54: 0
B55: 八戸 | D55: 〃 | F55: (日本語) | H55: =SUM(I55:X55) -> 33 | I55: 1 | J55: 0 | K55: 0 | L55: 1 | M55: 5 | N55: 10 | O55: 0 | P55: 0 | Q55: 10 | R55: 0 | S55: 0 | T55: 0 | U55: 4 | V55: 0 | W55: 0 | X55: 2
B56: 〃 | F56: (英 語) | H56: =SUM(I56:X56) -> 0 | I56: 0 | J56: 0 | K56: 0 | L56: 0 | M56: 0 | N56: 0 | O56: 0 | P56: 0 | Q56: 0 | R56: 0 | S56: 0 | T56: 0 | U56: 0 | V56: 0 | W56: 0 | X56: 0
B57: 釜石 | D57: 〃 | F57: (日本語) | H57: =SUM(I57:X57) -> 82 | I57: 7 | J57: 0 | K57: 0 | L57: 6 | M57: 4 | N57: 23 | O57: 6 | P57: 1 | Q57: 22 | R57: 1 | S57: 2 | T57: 0 | U57: 1 | V57: 0 | W57: 0 | X57: 9
B58: 〃 | F58: (英 語) | H58: =SUM(I58:X58) -> 0 | I58: 0 | J58: 0 | K58: 0 | L58: 0 | M58: 0 | N58: 0 | O58: 0 | P58: 0 | Q58: 0 | R58: 0 | S58: 0 | T58: 0 | U58: 0 | V58: 0 | W58: 0 | X58: 0
B59: 宮城 | D59: 〃 | F59: (日本語) | H59: =SUM(I59:X59) -> 28 | I59: 0 | J59: 0 | K59: 0 | L59: 0 | M59: 0 | N59: 22 | O59: 0 | P59: 0 | Q59: 0 | R59: 0 | S59: 3 | T59: 0 | U59: 0 | V59: 0 | W59: 0 | X59: 3
B60: 〃 | F60: (英 語) | H60: =SUM(I60:X60) -> 0 | I60: 0 | J60: 0 | K60: 0 | L60: 0 | M60: 0 | N60: 0 | O60: 0 | P60: 0 | Q60: 0 | R60: 0 | S60: 0 | T60: 0 | U60: 0 | V60: 0 | W60: 0 | X60: 0
B61: 秋田 | D61: 〃 | F61: (日本語) | H61: =SUM(I61:X61) -> 191 | I61: 1 | J61: 0 | K61: 0 | L61: 7 | M61: 49 | N61: 53 | O61: 4 | P61: 3 | Q61: 54 | R61: 0 | S61: 3 | T61: 0 | U61: 10 | V61: 0 | W61: 0 | X61: 7
B62: 〃 | F62: (英 語) | H62: =SUM(I62:X62) -> 0 | I62: 0 | J62: 0 | K62: 0 | L62: 0 | M62: 0 | N62: 0 | O62: 0 | P62: 0 | Q62: 0 | R62: 0 | S62: 0 | T62: 0 | U62: 0 | V62: 0 | W62: 0 | X62: 0
B63: 酒田 | D63: 〃 | F63: (日本語) | H63: =SUM(I63:X63) -> 38 | I63: 3 | J63: 0 | K63: 0 | L63: 5 | M63: 4 | N63: 14 | O63: 0 | P63: 3 | Q63: 8 | R63: 0 | S63: 0 | T63: 0 | U63: 0 | V63: 0 | W63: 0 | X63: 1
B64: 〃 | F64: (英 語) | H64: =SUM(I64:X64) -> 0 | I64: 0 | J64: 0 | K64: 0 | L64: 0 | M64: 0 | N64: 0 | O64: 0 | P64: 0 | Q64: 0 | R64: 0 | S64: 0 | T64: 0 | U64: 0 | V64: 0 | W64: 0 | X64: 0
B65: 福島 | D65: 〃 | F65: (日本語) | H65: =SUM(I65:X65) -> 93 | I65: 7 | J65: 0 | K65: 0 | L65: 5 | M65: 28 | N65: 31 | O65: 3 | P65: 3 | Q65: 13 | R65: 0 | S65: 2 | T65: 0 | U65: 0 | V65: 0 | W65: 0 | X65: 1
B66: 〃 | F66: (英 語) | H66: =SUM(I66:X66) -> 0 | I66: 0 | J66: 0 | K66: 0 | L66: 0 | M66: 0 | N66: 0 | O66: 0 | P66: 0 | Q66: 0 | R66: 0 | S66: 0 | T66: 0 | U66: 0 | V66: 0 | W66: 0 | X66: 0
A68: 事 項 別 手 段 別 | H68: 合 計 | I68: 水深 | J68: 自然現象 | K68: 漂流物等 | L68: 航路標識 | M68: 訓練・試験 | N68: 港湾施設 | O68: 海底施設 | P68: 海洋施設 | Q68: 海洋調査 | R68: えい航 | S68: 禁止 制限又は | T68: 協力依頼 | U68: 漁業 | V68: 目標物 | W68: 出版 | X68: その他
H70: 件 | I70: 件 | J70: 件 | K70: 件 | L70: 件 | M70: 件 | N70: 件 | O70: 件 | P70: 件 | Q70: 件 | R70: 件 | S70: 件 | T70: 件 | U70: 件 | V70: 件 | W70: 件 | X70: 件
B71: 茨城 | D71: 海上保安部 | F71: (日本語) | H71: =SUM(I71:X71) -> 29 | I71: 0 | J71: 0 | K71: 0 | L71: 8 | M71: 5 | N71: 10 | O71: 0 | P71: 2 | Q71: 4 | R71: 0 | S71: 0 | T71: 0 | U71: 0 | V71: 0 | W71: 0 | X71: 0
B72: 〃 | F72: (英 語) | H72: =SUM(I72:X72) -> 45 | I72: 1 | J72: 20 | K72: 0 | L72: 4 | M72: 0 | N72: 0 | O72: 0 | P72: 0 | Q72: 0 | R72: 0 | S72: 18 | T72: 0 | U72: 0 | V72: 0 | W72: 0 | X72: 2
B73: 千葉 | D73: 〃 | F73: (日本語) | H73: =SUM(I73:X73) -> 3337 | I73: 8 | J73: 0 | K73: 0 | L73: 9 | M73: 3 | N73: 25 | O73: 0 | P73: 1 | Q73: 17 | R73: 1 | S73: =5+3264 -> 3269 | T73: 0 | U73: 1 | V73: 0 | W73: 0 | X73: 3
B74: 〃 | F74: (英 語) | H74: =SUM(I74:X74) -> 573 | I74: 159 | J74: 0 | K74: 0 | L74: 8 | M74: 0 | N74: 247 | O74: 0 | P74: 0 | Q74: 21 | R74: 0 | S74: 0 | T74: 0 | U74: 0 | V74: 0 | W74: 0 | X74: 138
B75: 銚子 | D75: 〃 | F75: (日本語) | H75: =SUM(I75:X75) -> 21 | I75: 2 | J75: 0 | K75: 0 | L75: 5 | M75: 1 | N75: 8 | O75: 0 | P75: 0 | Q75: 2 | R75: 0 | S75: 1 | T75: 0 | U75: 2 | V75: 0 | W75: 0 | X75: 0
B76: 〃 | F76: (英 語) | H76: =SUM(I76:X76) -> 0 | I76: 0 | J76: 0 | K76: 0 | L76: 0 | M76: 0 | N76: 0 | O76: 0 | P76: 0 | Q76: 0 | R76: 0 | S76: 0 | T76: 0 | U76: 0 | V76: 0 | W76: 0 | X76: 0
B77: 東京 | D77: 〃 | F77: (日本語) | H77: =SUM(I77:X77) -> 153 | I77: 6 | J77: 0 | K77: 0 | L77: =15+10 -> 25 | M77: 1 | N77: 93 | O77: 0 | P77: 0 | Q77: 8 | R77: 2 | S77: =9+5 -> 14 | T77: 0 | U77: 0 | V77: 0 | W77: 0 | X77: =0+4 -> 4
B78: 〃 | F78: (英 語) | H78: =SUM(I78:X78) -> 339 | I78: 0 | J78: 86 | K78: 0 | L78: 0 | M78: 0 | N78: 0 | O78: 0 | P78: 0 | Q78: 0 | R78: 0 | S78: 0 | T78: 0 | U78: 0 | V78: 0 | W78: 0 | X78: 253
B79: 横浜 | D79: 〃 | F79: (日本語) | H79: =SUM(I79:X79) -> 10797 | I79: 10 | J79: 0 | K79: 0 | L79: =17+38 -> 55 | M79: 8 | N79: =15+31 -> 46 | O79: 2 | P79: 0 | Q79: 5 | R79: 0 | S79: =5+1621+8938 -> 10564 | T79: 0 | U79: 3 | V79: 0 | W79: 0 | X79: =17+87 -> 104
B80: 〃 | F80: (英 語) | H80: =SUM(I80:X80) -> 160 | I80: 0 | J80: 0 | K80: 0 | L80: 0 | M80: 0 | N80: 0 | O80: 0 | P80: 0 | Q80: 0 | R80: 0 | S80: 0 | T80: 0 | U80: 0 | V80: 0 | W80: 0 | X80: 160
B81: 横須賀 | D81: 〃 | F81: (日本語) | H81: =SUM(I81:X81) -> 27 | I81: 0 | J81: 0 | K81: 0 | L81: 16 | M81: 5 | N81: 6 | O81: 0 | P81: 0 | Q81: 0 | R81: 0 | S81: 0 | T81: 0 | U81: 0 | V81: 0 | W81: 0 | X81: 0
B82: 〃 | F82: (英 語) | H82: =SUM(I82:X82) -> 0 | I82: 0 | J82: 0 | K82: 0 | L82: 0 | M82: 0 | N82: 0 | O82: 0 | P82: 0 | Q82: 0 | R82: 0 | S82: 0 | T82: 0 | U82: 0 | V82: 0 | W82: 0 | X82: 0
B83: 清水 | D83: 〃 | F83: (日本語) | H83: =SUM(I83:X83) -> 40 | I83: 0 | J83: 0 | K83: 0 | L83: 11 | M83: 12 | N83: 8 | O83: 1 | P83: 3 | Q83: 3 | R83: 0 | S83: 1 | T83: 0 | U83: 0 | V83: 0 | W83: 0 | X83: 1
B84: 〃 | F84: (英 語) | H84: =SUM(I84:X84) -> 0 | I84: 0 | J84: 0 | K84: 0 | L84: 0 | M84: 0 | N84: 0 | O84: 0 | P84: 0 | Q84: 0 | R84: 0 | S84: 0 | T84: 0 | U84: 0 | V84: 0 | W84: 0 | X84: 0
B85: 下田 | D85: 〃 | F85: (日本語) | H85: =SUM(I85:X85) -> 21 | I85: 0 | J85: 0 | K85: 0 | L85: 6 | M85: 8 | N85: 3 | O85: 0 | P85: 0 | Q85: 1 | R85: 0 | S85: 1 | T85: 0 | U85: 2 | V85: 0 | W85: 0 | X85: 0
B86: 〃 | F86: (英 語) | H86: =SUM(I86:X86) -> 0 | I86: 0 | J86: 0 | K86: 0 | L86: 0 | M86: 0 | N86: 0 | O86: 0 | P86: 0 | Q86: 0 | R86: 0 | S86: 0 | T86: 0 | U86: 0 | V86: 0 | W86: 0 | X86: 0
B87: 名古屋 | D87: 〃 | F87: (日本語) | H87: =SUM(I87:X87) -> 487 | I87: 36 | J87: 1 | K87: 0 | L87: 50 | M87: 53 | N87: 127 | O87: 6 | P87: 14 | Q87: 33 | R87: 0 | S87: 11 | T87: 0 | U87: 1 | V87: 0 | W87: 0 | X87: 155
B88: 〃 | F88: (英 語) | H88: =SUM(I88:X88) -> 0 | I88: 0 | J88: 0 | K88: 0 | L88: 0 | M88: 0 | N88: 0 | O88: 0 | P88: 0 | Q88: 0 | R88: 0 | S88: 0 | T88: 0 | U88: 0 | V88: 0 | W88: 0 | X88: 0
B89: 四日市 | D89: 〃 | F89: (日本語) | H89: =SUM(I89:X89) -> 53 | I89: 3 | J89: 0 | K89: 0 | L89: 9 | M89: 6 | N89: 19 | O89: 1 | P89: 3 | Q89: 8 | R89: 1 | S89: 3 | T89: 0 | U89: 0 | V89: 0 | W89: 0 | X89: 0
B90: 〃 | F90: (英 語) | H90: =SUM(I90:X90) -> 242 | I90: 0 | J90: 154 | K90: 0 | L90: 0 | M90: 2 | N90: 0 | O90: 0 | P90: 0 | Q90: 0 | R90: 0 | S90: 86 | T90: 0 | U90: 0 | V90: 0 | W90: 0 | X90: 0
B91: 尾鷲 | D91: 〃 | F91: (日本語) | H91: =SUM(I91:X91) -> 96 | I91: 2 | J91: 0 | K91: 0 | L91: 1 | M91: 8 | N91: 30 | O91: 0 | P91: 5 | Q91: 6 | R91: 0 | S91: 4 | T91: 0 | U91: 15 | V91: 0 | W91: 0 | X91: 25
B92: 〃 | F92: (英 語) | H92: =SUM(I92:X92) -> 0 | I92: 0 | J92: 0 | K92: 0 | L92: 0 | M92: 0 | N92: 0 | O92: 0 | P92: 0 | Q92: 0 | R92: 0 | S92: 0 | T92: 0 | U92: 0 | V92: 0 | W92: 0 | X92: 0
B93: 鳥羽 | D93: 〃 | F93: (日本語) | H93: =SUM(I93:X93) -> 51 | I93: 6 | J93: 0 | K93: 0 | L93: 4 | M93: 4 | N93: 13 | O93: 1 | P93: 0 | Q93: 15 | R93: 0 | S93: 1 | T93: 0 | U93: 7 | V93: 0 | W93: 0 | X93: 0
B94: 〃 | F94: (英 語) | H94: =SUM(I94:X94) -> 0 | I94: 0 | J94: 0 | K94: 0 | L94: 0 | M94: 0 | N94: 0 | O94: 0 | P94: 0 | Q94: 0 | R94: 0 | S94: 0 | T94: 0 | U94: 0 | V94: 0 | W94: 0 | X94: 0
B95: 大阪 | D95: 海上保安監部 | F95: (日本語) | H95: =SUM(I95:X95) -> 3120 | I95: =6+3 -> 9 | J95: 8 | K95: 0 | L95: 12 | M95: 35 | N95: 53 | O95: 0 | P95: 6 | Q95: 17 | R95: 0 | S95: =10+2956 -> 2966 | T95: 0 | U95: 8 | V95: 0 | W95: 0 | X95: 6
B96: 〃 | F96: (英 語) | H96: =SUM(I96:X96) -> 0 | I96: 0 | J96: 0 | K96: 0 | L96: 0 | M96: 0 | N96: 0 | O96: 0 | P96: 0 | Q96: 0 | R96: 0 | S96: 0 | T96: 0 | U96: 0 | V96: 0 | W96: 0 | X96: 0
B97: 神戸 | D97: 海上保安部 | F97: (日本語) | H97: =SUM(I97:X97) -> 455 | I97: 7 | J97: 0 | K97: 0 | L97: 57 | M97: 112 | N97: 146 | O97: 0 | P97: 5 | Q97: 50 | R97: 5 | S97: 5 | T97: 0 | U97: 17 | V97: 0 | W97: 0 | X97: 51
B98: 〃 | F98: (英 語) | H98: =SUM(I98:X98) -> 15 | I98: 0 | J98: 15 | K98: 0 | L98: 0 | M98: 0 | N98: 0 | O98: 0 | P98: 0 | Q98: 0 | R98: 0 | S98: 0 | T98: 0 | U98: 0 | V98: 0 | W98: 0 | X98: 0
B99: 姫路 | D99: 〃 | F99: (日本語) | H99: =SUM(I99:X99) -> 119 | I99: 14 | J99: 0 | K99: 0 | L99: 15 | M99: 2 | N99: 43 | O99: 0 | P99: 2 | Q99: 8 | R99: 0 | S99: 3 | T99: 2 | U99: 23 | V99: 0 | W99: 0 | X99: 7
B100: 〃 | F100: (英 語) | H100: =SUM(I100:X100) -> 0 | I100: 0 | J100: 0 | K100: 0 | L100: 0 | M100: 0 | N100: 0 | O100: 0 | P100: 0 | Q100: 0 | R100: 0 | S100: 0 | T100: 0 | U100: 0 | V100: 0 | W100: 0 | X100: 0
A102: 事 項 別 手 段 別 | H102: 合 計 | I102: 水深 | J102: 自然現象 | K102: 漂流物等 | L102: 航路標識 | M102: 訓練・試験 | N102: 港湾施設 | O102: 海底施設 | P102: 海洋施設 | Q102: 海洋調査 | R102: えい航 | S102: 禁止 制限又は | T102: 協力依頼 | U102: 漁業 | V102: 目標物 | W102: 出版 | X102: その他
H104: 件 | I104: 件 | J104: 件 | K104: 件 | L104: 件 | M104: 件 | N104: 件 | O104: 件 | P104: 件 | Q104: 件 | R104: 件 | S104: 件 | T104: 件 | U104: 件 | V104: 件 | W104: 件 | X104: 件
B105: 和歌山 | D105: 海上保安部 | F105: (日本語) | H105: =SUM(I105:X105) -> 15 | I105: 0 | J105: 0 | K105: 0 | L105: 3 | M105: 3 | N105: 3 | O105: 0 | P105: 0 | Q105: 0 | R105: 0 | S105: 2 | T105: 0 | U105: 0 | V105: 0 | W105: 0 | X105: 4
B106: 〃 | F106: (英 語) | H106: =SUM(I106:X106) -> 0 | I106: 0 | J106: 0 | K106: 0 | L106: 0 | M106: 0 | N106: 0 | O106: 0 | P106: 0 | Q106: 0 | R106: 0 | S106: 0 | T106: 0 | U106: 0 | V106: 0 | W106: 0 | X106: 0
B107: 田辺 | D107: 〃 | F107: (日本語) | H107: =SUM(I107:X107) -> 117 | I107: 1 | J107: 0 | K107: 0 | L107: 13 | M107: 46 | N107: 25 | O107: 0 | P107: 2 | Q107: 21 | R107: 0 | S107: 2 | T107: 0 | U107: 2 | V107: 0 | W107: 0 | X107: 5
B108: 〃 | F108: (英 語) | H108: =SUM(I108:X108) -> 0 | I108: 0 | J108: 0 | K108: 0 | L108: 0 | M108: 0 | N108: 0 | O108: 0 | P108: 0 | Q108: 0 | R108: 0 | S108: 0 | T108: 0 | U108: 0 | V108: 0 | W108: 0 | X108: 0
...

Sheet 1 水路通報実施P69-72
B1: (4) 航行援助情報資料出所別調査件数
A2: 事 項 別 情報資料出所別
H3: 合 計 | I3: 水深 | J3: 自然現象 | K3: 漂流物等 | L3: 航路標識 | M3: 訓練・試験 | N3: 港湾施設 | O3: 海底施設 | P3: 海洋施設 | Q3: 海洋調査 | R3: えい航 | S3: 禁止 制限又は | T3: 協力依頼 | U3: 漁業 | V3: 目標物 | W3: 出版 | X3: その他
H5: 件 | I5: 件 | J5: 件 | K5: 件 | L5: 件 | M5: 件 | N5: 件 | O5: 件 | P5: 件 | Q5: 件 | R5: 件 | S5: 件 | T5: 件 | U5: 件 | V5: 件 | W5: 件 | X5: 件
B6: 合 計 | H6: =H7+H8+H9+H10+H11+H12+H13+H14+H15+H16+H17+H18+H19+H20+H21+H22+H23+H24+H25+H26+H32+H33+H34+H35+H36+H37+H38+H39+H40+H41+H42+H43+H44+H45+H46+H47+H48+H49+H50+H51+H52+H53+H54+H60+H61+H62+H63+H64+H65+H66+H67+H68+H69+H70+H71+H72+H73+H74+H75+H76+H77+H78+H79+H80+H81+H82+H88+H89+H90+H91+H92+H93+H94+H95+H96+H97+H98+H99+H100+H101+H102+H103+H104+H105+H106+H107+H108+H109+H110+H111 -> 658839 | I6: =I7+I8+I9+I10+I11+I12+I13+I14+I15+I16+I17+I18+I19+I20+I21+I22+I23+I24+I25+I26+I32+I33+I34+I35+I36+I37+I38+I39+I40+I41+I42+I43+I44+I45+I46+I47+I48+I49+I50+I51+I52+I53+I54+I60+I61+I62+I63+I64+I65+I66+I67+I68+I69+I70+I71+I72+I73+I74+I75+I76+I77+I78+I79+I80+I81+I82+I88+I89+I90+I91+I92+I93+I94+I95+I96+I97+I98+I99+I100+I101+I102+I103+I104+I105+I106+I107+I108+I109+I110+I111 -> 81555 | J6: =J7+J8+J9+J10+J11+J12+J13+J14+J15+J16+J17+J18+J19+J20+J21+J22+J23+J24+J25+J26+J32+J33+J34+J35+J36+J37+J38+J39+J40+J41+J42+J43+J44+J45+J46+J47+J48+J49+J50+J51+J52+J53+J54+J60+J61+J62+J63+J64+J65+J66+J67+J68+J69+J70+J71+J72+J73+J74+J75+J76+J77+J78+J79+J80+J81+J82+J88+J89+J90+J91+J92+J93+J94+J95+J96+J97+J98+J99+J100+J101+J102+J103+J104+J105+J106+J107+J108+J109+J110+J111 -> 3027 | K6: =K7+K8+K9+K10+K11+K12+K13+K14+K15+K16+K17+K18+K19+K20+K21+K22+K23+K24+K25+K26+K32+K33+K34+K35+K36+K37+K38+K39+K40+K41+K42+K43+K44+K45+K46+K47+K48+K49+K50+K51+K52+K53+K54+K60+K61+K62+K63+K64+K65+K66+K67+K68+K69+K70+K71+K72+K73+K74+K75+K76+K77+K78+K79+K80+K81+K82+K88+K89+K90+K91+K92+K93+K94+K95+K96+K97+K98+K99+K100+K101+K102+K103+K104+K105+K106+K107+K108+K109+K110+K111 -> 1235 | L6: =L7+L8+L9+L10+L11+L12+L13+L14+L15+L16+L17+L18+L19+L20+L21+L22+L23+L24+L25+L26+L32+L33+L34+L35+L36+L37+L38+L39+L40+L41+L42+L43+L44+L45+L46+L47+L48+L49+L50+L51+L52+L53+L54+L60+L61+L62+L63+L64+L65+L66+L67+L68+L69+L70+L71+L72+L73+L74+L75+L76+L77+L78+L79+L80+L81+L82+L88+L89+L90+L91+L92+L93+L94+L95+L96+L97+L98+L99+L100+L101+L102+L103+L104+L105+L106+L107+L108+L109+L110+L111 -> 5761 | M6: =M7+M8+M9+M10+M11+M12+M13+M14+M15+M16+M17+M18+M19+M20+M21+M22+M23+M24+M25+M26+M32+M33+M34+M35+M36+M37+M38+M39+M40+M41+M42+M43+M44+M45+M46+M47+M48+M49+M50+M51+M52+M53+M54+M60+M61+M62+M63+M64+M65+M66+M67+M68+M69+M70+M71+M72+M73+M74+M75+M76+M77+M78+M79+M80+M81+M82+M88+M89+M90+M91+M92+M93+M94+M95+M96+M97+M98+M99+M100+M101+M102+M103+M104+M105+M106+M107+M108+M109+M110+M111 -> 3194 | N6: =N7+N8+N9+N10+N11+N12+N13+N14+N15+N16+N17+N18+N19+N20+N21+N22+N23+N24+N25+N26+N32+N33+N34+N35+N36+N37+N38+N39+N40+N41+N42+N43+N44+N45+N46+N47+N48+N49+N50+N51+N52+N53+N54+N60+N61+N62+N63+N64+N65+N66+N67+N68+N69+N70+N71+N72+N73+N74+N75+N76+N77+N78+N79+N80+N81+N82+N88+N89+N90+N91+N92+N93+N94+N95+N96+N97+N98+N99+N100+N101+N102+N103+N104+N105+N106+N107+N108+N109+N110+N111 -> 4064 | O6: =O7+O8+O9+O10+O11+O12+O13+O14+O15+O16+O17+O18+O19+O20+O21+O22+O23+O24+O25+O26+O32+O33+O34+O35+O36+O37+O38+O39+O40+O41+O42+O43+O44+O45+O46+O47+O48+O49+O50+O51+O52+O53+O54+O60+O61+O62+O63+O64+O65+O66+O67+O68+O69+O70+O71+O72+O73+O74+O75+O76+O77+O78+O79+O80+O81+O82+O88+O89+O90+O91+O92+O93+O94+O95+O96+O97+O98+O99+O100+O101+O102+O103+O104+O105+O106+O107+O108+O109+O110+O111 -> 2446 | ... X6: =X7+X8+X9+X10+X11+X12+X13+X14+X15+X16+X17+X18+X19+X20+X21+X22+X23+X24+X25+X26+X32+X33+X34+X35+X36+X37+X38+X39+X40+X41+X42+X43+X44+X45+X46+X47+X48+X49+X50+X51+X52+X53+X54+X60+X61+X62+X63+X64+X65+X66+X67+X68+X69+X70+X71+X72+X73+X74+X75+X76+X77+X78+X79+X80+X81+X82+X88+X89+X90+X91+X92+X93+X94+X95+X96+X97+X98+X99+X100+X101+X102+X103+X104+X105+X106+X107+X108+X109+X110+X111 -> 394316
B7: 海 上 保 安 庁 | H7: =SUM(I7:X7) -> 44 | I7: 0 | J7: 0 | K7: 0 | L7: 0 | M7: 0 | N7: 0 | O7: 0 | P7: 0 | Q7: 0 | R7: 0 | S7: 0 | T7: 0 | U7: 0 | V7: 0 | W7: 0 | X7: 44
B8: 第一管区 | D8: 海上保安本部 | H8: =SUM(I8:X8) -> 718 | I8: =8+6 -> 14 | J8: =1+1 -> 2 | K8: =38+123 -> 161 | L8: =48+25 -> 73 | M8: =90+42 -> 132 | N8: =0+3 -> 3 | O8: 0 | P8: 0 | Q8: =60+4 -> 64 | R8: =1+4 -> 5 | S8: 159 | T8: =0+13 -> 13 | U8: =1+2 -> 3 | V8: 0 | W8: 0 | X8: =19+70 -> 89
B9: 第二管区 | D9: 〃 | H9: =SUM(I9:X9) -> 1281 | I9: 19 | J9: 0 | K9: =46+31 -> 77 | L9: =45+16 -> 61 | M9: =26+6 -> 32 | N9: 76 | O9: 0 | P9: =0+1 -> 1 | Q9: =0+22 -> 22 | R9: =0+1 -> 1 | S9: =12+186 -> 198 | T9: =0+12 -> 12 | U9: 0 | V9: =1+1 -> 2 | W9: 0 | X9: =324+456 -> 780
B10: 第三管区 | D10: 〃 | H10: =SUM(I10:X10) -> 2218 | I10: 119 | J10: 5 | K10: 158 | L10: 365 | M10: 376 | N10: 56 | O10: 6 | P10: 0 | Q10: 167 | R10: 35 | S10: 53 | T10: 0 | U10: 2 | V10: 6 | W10: 0 | X10: 870
B11: 第四管区 | D11: 〃 | H11: =SUM(I11:X11) -> 320 | I11: 0 | J11: 0 | K11: 38 | L11: 66 | M11: 14 | N11: 0 | O11: 0 | P11: 0 | Q11: 6 | R11: 8 | S11: 2 | T11: 0 | U11: 0 | V11: 0 | W11: 0 | X11: 186
B12: 第五管区 | D12: 〃 | H12: =SUM(I12:X12) -> 514 | I12: 37 | J12: 31 | K12: 21 | L12: 135 | M12: 42 | N12: 0 | O12: 0 | P12: 0 | Q12: 0 | R12: 41 | S12: 141 | T12: 13 | U12: 0 | V12: 0 | W12: 0 | X12: 53
B13: 第六管区 | D13: 〃 | H13: =SUM(I13:X13) -> 247 | I13: 10 | J13: 19 | K13: 12 | L13: 68 | M13: 0 | N13: 1 | O13: 1 | P13: 0 | Q13: 0 | R13: 8 | S13: 36 | T13: 0 | U13: 0 | V13: 0 | W13: 0 | X13: 92
B14: 第七管区 | D14: 〃 | H14: =SUM(I14:X14) -> 828 | I14: 55 | J14: 159 | K14: 141 | L14: 135 | M14: 55 | N14: 0 | O14: 0 | P14: 0 | Q14: 0 | R14: 0 | S14: 124 | T14: 38 | U14: 0 | V14: 0 | W14: 0 | X14: 121
B15: 第八管区 | D15: 〃 | H15: =SUM(I15:X15) -> 592 | I15: =9+5 -> 14 | J15: =2+1 -> 3 | K15: =51+42 -> 93 | L15: =66+33 -> 99 | M15: =71+100 -> 171 | N15: 0 | O15: =0+1 -> 1 | P15: 1 | Q15: =1+5 -> 6 | R15: =0+1 -> 1 | S15: =50+60 -> 110 | T15: =16+10 -> 26 | U15: =0+4 -> 4 | V15: 0 | W15: =1+1 -> 2 | X15: =5+56 -> 61
B16: 第九管区 | D16: 〃 | H16: =SUM(I16:X16) -> 1266 | I16: =44+3 -> 47 | J16: 0 | K16: =53+45 -> 98 | L16: =104+38 -> 142 | M16: =178+93 -> 271 | N16: 189 | O16: 7 | P16: 1 | Q16: =197+4 -> 201 | R16: 2 | S16: 5 | T16: =0+5 -> 5 | U16: 21 | V16: 3 | W16: =0+1 -> 1 | X16: =236+37 -> 273
B17: 第十管区 | D17: 〃 | H17: =SUM(I17:X17) -> 791 | I17: =1+6 -> 7 | J17: 22 | K17: =50+62 -> 112 | L17: =62+68 -> 130 | M17: =7+32 -> 39 | N17: 0 | O17: 0 | P17: =0+47 -> 47 | Q17: =0+1 -> 1 | R17: 2 | S17: =13+2 -> 15 | T17: 0 | U17: 0 | V17: 0 | W17: 0 | X17: =250+166 -> 416
B18: 第十一管区 | D18: 〃 | H18: =SUM(I18:X18) -> 2352 | I18: =3+6 -> 9 | J18: =31+93 -> 124 | K18: =121+129 -> 250 | L18: =67+79 -> 146 | M18: =240+92 -> 332 | N18: 0 | O18: 0 | P18: 0 | Q18: 2 | R18: 0 | S18: =14+45 -> 59 | T18: =0+1 -> 1 | U18: 0 | V18: 0 | W18: 0 | X18: =15+1414 -> 1429
B19: 函館 | D19: 海上保安部 | H19: =SUM(I19:X19) -> 157 | I19: 2 | J19: 0 | K19: 0 | L19: 12 | M19: 66 | N19: 7 | O19: 1 | P19: 30 | Q19: 14 | R19: 0 | S19: 5 | T19: 0 | U19: 8 | V19: 0 | W19: 0 | X19: 12
B20: 小樽 | D20: 〃 | H20: =SUM(I20:X20) -> 87 | I20: 2 | J20: 0 | K20: 0 | L20: 4 | M20: 46 | N20: 11 | O20: 2 | P20: 6 | Q20: 3 | R20: 0 | S20: 1 | T20: 0 | U20: 3 | V20: 0 | W20: 0 | X20: 9
B21: 室蘭 | D21: 〃 | H21: =SUM(I21:X21) -> 163 | I21: 3 | J21: 0 | K21: 2 | L21: 10 | M21: 43 | N21: 36 | O21: 1 | P21: 9 | Q21: 18 | R21: 3 | S21: 4 | T21: 0 | U21: 1 | V21: 0 | W21: 0 | X21: =11+22 -> 33
B22: 釧路 | D22: 〃 | H22: =SUM(I22:X22) -> 130 | I22: 2 | J22: 0 | K22: 1 | L22: 4 | M22: 56 | N22: 17 | O22: 1 | P22: 16 | Q22: 19 | R22: 0 | S22: 3 | T22: 0 | U22: 2 | V22: 0 | W22: 0 | X22: 9
B23: 留萌 | D23: 〃 | H23: =SUM(I23:X23) -> 27 | I23: 0 | J23: 0 | K23: 0 | L23: 2 | M23: 6 | N23: 6 | O23: 1 | P23: 4 | Q23: 1 | R23: 0 | S23: 1 | T23: 0 | U23: 1 | V23: 0 | W23: 0 | X23: 5
B24: 稚内 | D24: 〃 | H24: =SUM(I24:X24) -> 82 | I24: 3 | J24: 0 | K24: 1 | L24: 2 | M24: 15 | N24: 33 | O24: 1 | P24: 6 | Q24: 12 | R24: 0 | S24: 1 | T24: 0 | U24: 2 | V24: 0 | W24: 0 | X24: 6
B25: 紋別 | D25: 〃 | H25: =SUM(I25:X25) -> 36 | I25: 0 | J25: 0 | K25: 1 | L25: 4 | M25: 3 | N25: 11 | O25: 1 | P25: 2 | Q25: 11 | R25: 0 | S25: 2 | T25: 0 | U25: 1 | V25: 0 | W25: 0 | X25: 0
B26: 根室 | D26: 〃 | H26: =SUM(I26:X26) -> 38 | I26: 3 | J26: 0 | K26: 0 | L26: 1 | M26: 13 | N26: 10 | O26: 1 | P26: 4 | Q26: 1 | R26: 0 | S26: 1 | T26: 0 | U26: 3 | V26: 0 | W26: 0 | X26: 1
A28: 事 項 別 情報資料出所別
H29: 合 計 | I29: 水深 | J29: 自然現象 | K29: 漂流物等 | L29: 航路標識 | M29: 訓練・試験 | N29: 港湾施設 | O29: 海底施設 | P29: 海洋施設 | Q29: 海洋調査 | R29: えい航 | S29: 禁止 制限又は | T29: 協力依頼 | U29: 漁業 | V29: 目標物 | W29: 出版 | X29: その他
H31: =SUM(I31:X31) -> 0 | I31: 件 | J31: 件 | K31: 件 | L31: 件 | M31: 件 | N31: 件 | O31: 件 | P31: 件 | Q31: 件 | R31: 件 | S31: 件 | T31: 件 | U31: 件 | V31: 件 | W31: 件 | X31: 件
B32: 青森 | D32: 海上保安部 | H32: =SUM(I32:X32) -> 94 | I32: 0 | J32: 0 | K32: 0 | L32: 7 | M32: 0 | N32: 16 | O32: 0 | P32: 1 | Q32: 1 | R32: 0 | S32: 1 | T32: 0 | U32: 1 | V32: 0 | W32: 0 | X32: 67
B33: 八戸 | D33: 〃 | H33: =SUM(I33:X33) -> 33 | I33: 1 | J33: 0 | K33: 0 | L33: 1 | M33: 5 | N33: 10 | O33: 0 | P33: 0 | Q33: 10 | R33: 0 | S33: 0 | T33: 0 | U33: 4 | V33: 0 | W33: 0 | X33: 2
B34: 釜石 | D34: 〃 | H34: =SUM(I34:X34) -> 82 | I34: 7 | J34: 0 | K34: 0 | L34: 6 | M34: 4 | N34: 23 | O34: 6 | P34: 1 | Q34: 22 | R34: 1 | S34: 2 | T34: 0 | U34: 1 | V34: 0 | W34: 0 | X34: 9
B35: 宮城 | D35: 〃 | H35: =SUM(I35:X35) -> 28 | I35: 0 | J35: 0 | K35: 0 | L35: 0 | M35: 0 | N35: 22 | O35: 0 | P35: 0 | Q35: 0 | R35: 0 | S35: 3 | T35: 0 | U35: 0 | V35: 0 | W35: 0 | X35: 3
B36: 秋田 | D36: 〃 | H36: =SUM(I36:X36) -> 191 | I36: 1 | J36: 0 | K36: 0 | L36: 7 | M36: 49 | N36: 53 | O36: 4 | P36: 3 | Q36: 54 | R36: 0 | S36: 3 | T36: 0 | U36: 10 | V36: 0 | W36: 0 | X36: 7
B37: 酒田 | D37: 〃 | H37: =SUM(I37:X37) -> 38 | I37: 3 | J37: 0 | K37: 0 | L37: 5 | M37: 4 | N37: 14 | O37: 0 | P37: 3 | Q37: 8 | R37: 0 | S37: 0 | T37: 0 | U37: 0 | V37: 0 | W37: 0 | X37: 1
B38: 福島 | D38: 〃 | H38: =SUM(I38:X38) -> 93 | I38: 7 | J38: 0 | K38: 0 | L38: 5 | M38: 28 | N38: 31 | O38: 3 | P38: 3 | Q38: 13 | R38: 0 | S38: 2 | T38: 0 | U38: 0 | V38: 0 | W38: 0 | X38: 1
B39: 茨城 | D39: 〃 | H39: =SUM(I39:X39) -> 74 | I39: =0+1 -> 1 | J39: =0+20 -> 20 | K39: 0 | L39: =8+4 -> 12 | M39: 5 | N39: 10 | O39: 0 | P39: 2 | Q39: 4 | R39: 0 | S39: =0+18 -> 18 | T39: 0 | U39: 0 | V39: 0 | W39: 0 | X39: =0+2 -> 2
B40: 千葉 | D40: 〃 | H40: =SUM(I40:X40) -> 3482 | I40: =8+1 -> 9 | J40: 0 | K40: 0 | L40: =9+2 -> 11 | M40: 3 | N40: =25+3 -> 28 | O40: 0 | P40: 1 | Q40: =17+1 -> 18 | R40: 1 | S40: =5+3264 -> 3269 | T40: 0 | U40: 1 | V40: 0 | W40: 0 | X40: =3+138 -> 141
B41: 銚子 | D41: 〃 | H41: =SUM(I41:X41) -> 21 | I41: 2 | J41: 0 | K41: 0 | L41: 5 | M41: 1 | N41: 8 | O41: 0 | P41: 0 | Q41: 2 | R41: 0 | S41: 1 | T41: 0 | U41: 2 | V41: 0 | W41: 0 | X41: 0
B42: 東京 | D42: 〃 | H42: =SUM(I42:X42) -> 492 | I42: 6 | J42: =0+86 -> 86 | K42: =0 -> 0 | L42: =15+10 -> 25 | M42: 1 | N42: 93 | O42: 0 | P42: 0 | Q42: 8 | R42: 2 | S42: =9+5 -> 14 | T42: 0 | U42: 0 | V42: 0 | W42: 0 | X42: =0+257 -> 257
B43: 横浜 | D43: 〃 | H43: =SUM(I43:X43) -> 32146 | I43: 10 | J43: 0 | K43: 0 | L43: =17+3 -> 20 | M43: 8 | N43: =15+3 -> 18 | O43: 2 | P43: 0 | Q43: 5 | R43: 0 | S43: =5+19735+11693 -> 31433 | T43: 0 | U43: 3 | V43: 0 | W43: 0 | X43: =17+75+555 -> 647
B44: 横須賀 | D44: 〃 | H44: =SUM(I44:X44) -> 27 | I44: 0 | J44: 0 | K44: 0 | L44: 16 | M44: 5 | N44: 6 | O44: 0 | P44: 0 | Q44: 0 | R44: 0 | S44: 0 | T44: 0 | U44: 0 | V44: 0 | W44: 0 | X44: 0
B45: 清水 | D45: 〃 | H45: =SUM(I45:X45) -> 40 | I45: 0 | J45: 0 | K45: 0 | L45: 11 | M45: 12 | N45: 8 | O45: 1 | P45: 3 | Q45: 3 | R45: 0 | S45: 1 | T45: 0 | U45: 0 | V45: 0 | W45: 0 | X45: 1
B46: 下田 | D46: 〃 | H46: =SUM(I46:X46) -> 21 | I46: 0 | J46: 0 | K46: 0 | L46: 6 | M46: 8 | N46: 3 | O46: 0 | P46: 0 | Q46: 1 | R46: 0 | S46: 1 | T46: 0 | U46: 2 | V46: 0 | W46: 0 | X46: 0
B47: 名古屋 | D47: 〃 | H47: =SUM(I47:X47) -> 487 | I47: 36 | J47: 1 | K47: 0 | L47: 50 | M47: 53 | N47: 127 | O47: 6 | P47: 14 | Q47: 33 | R47: 0 | S47: 11 | T47: 0 | U47: 1 | V47: 0 | W47: 0 | X47: 155
B48: 四日市 | D48: 〃 | H48: =SUM(I48:X48) -> 295 | I48: 3 | J48: =0+154 -> 154 | K48: 0 | L48: 9 | M48: =6+2 -> 8 | N48: 19 | O48: 1 | P48: 3 | Q48: 8 | R48: 1 | S48: =3+86 -> 89 | T48: 0 | U48: 0 | V48: 0 | W48: 0 | X48: 0
B49: 尾鷲 | D49: 〃 | H49: =SUM(I49:X49) -> 96 | I49: 2 | J49: 0 | K49: 0 | L49: 1 | M49: 8 | N49: 30 | O49: 0 | P49: 5 | Q49: 6 | R49: 0 | S49: 4 | T49: 0 | U49: 15 | V49: 0 | W49: 0 | X49: 25
B50: 鳥羽 | D50: 〃 | H50: =SUM(I50:X50) -> 51 | I50: 6 | J50: 0 | K50: 0 | L50: 4 | M50: 4 | N50: 13 | O50: 1 | P50: 0 | Q50: 15 | R50: 0 | S50: 1 | T50: 0 | U50: 7 | V50: 0 | W50: 0 | X50: 0
B51: 大阪 | D51: 海上保安監部 | H51: =SUM(I51:X51) -> 3120 | I51: =6+3 -> 9 | J51: =0+8 -> 8 | K51: 0 | L51: 12 | M51: 35 | N51: 53 | O51: 0 | P51: 6 | Q51: 17 | R51: 0 | S51: =10+2956 -> 2966 | T51: 0 | U51: 8 | V51: 0 | W51: 0 | X51: 6
B52: 神戸 | D52: 海上保安部 | H52: =SUM(I52:X52) -> 470 | I52: 7 | J52: =0+15 -> 15 | K52: 0 | L52: 57 | M52: 112 | N52: 146 | O52: 0 | P52: 5 | Q52: 50 | R52: 5 | S52: 5 | T52: 0 | U52: 17 | V52: 0 | W52: 0 | X52: 51
B53: 姫路 | D53: 〃 | H53: =SUM(I53:X53) -> 160 | I53: 14 | J53: 0 | K53: 0 | L53: 23 | M53: 16 | N53: 56 | O53: 0 | P53: 2 | Q53: 10 | R53: 0 | S53: 3 | T53: 0 | U53: 26 | V53: 0 | W53: 0 | X53: 10
B54: 和歌山 | D54: 〃 | H54: =SUM(I54:X54) -> 15 | I54: 0 | J54: 0 | K54: 0 | L54: 3 | M54: 3 | N54: 3 | O54: 0 | P54: 0 | Q54: 0 | R54: 0 | S54: 2 | T54: 0 | U54: 0 | V54: 0 | W54: 0 | X54: 4
A56: 事 項 別 情報資料出所別
H57: 合 計 | I57: 水深 | J57: 自然現象 | K57: 漂流物等 | L57: 航路標識 | M57: 訓練・試験 | N57: 港湾施設 | O57: 海底施設 | P57: 海洋施設 | Q57: 海洋調査 | R57: えい航 | S57: 禁止 制限又は | T57: 協力依頼 | U57: 漁業 | V57: 目標物 | W57: 出版 | X57: その他
H59: 件 | I59: 件 | J59: 件 | K59: 件 | L59: 件 | M59: 件 | N59: 件 | O59: 件 | P59: 件 | Q59: 件 | R59: 件 | S59: 件 | T59: 件 | U59: 件 | V59: 件 | W59: 件 | X59: 件
B60: 田辺 | D60: 海上保安部 | H60: =SUM(I60:X60) -> 117 | I60: 1 | J60: 0 | K60: 0 | L60: 13 | M60: 46 | N60: 25 | O60: 0 | P60: 2 | Q60: 21 | R60: 0 | S60: 2 | T60: 0 | U60: 2 | V60: 0 | W60: 0 | X60: 5
B61: 徳島 | D61: 〃 | H61: =SUM(I61:X61) -> 75 | I61: 4 | J61: 1 | K61: 0 | L61: 9 | M61: 12 | N61: 12 | O61: 0 | P61: 0 | Q61: 8 | R61: 0 | S61: 0 | T61: 0 | U61: 2 | V61: 0 | W61: 0 | X61: 27
B62: 高知 | D62: 〃 | H62: =SUM(I62:X62) -> 162 | I62: 1 | J62: 0 | K62: 0 | L62: =9+4 -> 13 | M62: 74 | N62: 24 | O62: 2 | P62: 5 | Q62: 12 | R62: 0 | S62: =0+20 -> 20 | T62: 0 | U62: 4 | V62: 0 | W62: 0 | X62: 7
B63: 水島 | D63: 〃 | H63: =SUM(I63:X63) -> 63 | I63: 0 | J63: 0 | K63: 0 | L63: 20 | M63: 5 | N63: 34 | O63: 0 | P63: 1 | Q63: 0 | R63: 0 | S63: 0 | T63: 0 | U63: 1 | V63: 0 | W63: 0 | X63: 2
B64: 玉野 | D64: 〃 | H64: =SUM(I64:X64) -> 24 | I64: 0 | J64: 0 | K64: 0 | L64: 1 | M64: 5 | N64: 6 | O64: 0 | P64: 0 | Q64: 0 | R64: 0 | S64: 0 | T64: 0 | U64: 0 | V64: 0 | W64: 0 | X64: 12
B65: 広島 | D65: 〃 | H65: =SUM(I65:X65) -> 4 | I65: 0 | J65: 0 | K65: 0 | L65: 1 | M65: 0 | N65: 0 | O65: 0 | P65: 0 | Q65: 0 | R65: 0 | S65: 2 | T65: 0 | U65: 0 | V65: 0 | W65: 0 | X65: 1
B66: 呉 | D66: 〃 | H66: =SUM(I66:X66) -> 46 | I66: 1 | J66: 0 | K66: 0 | L66: 0 | M66: 10 | N66: 10 | O66: 1 | P66: 0 | Q66: 0 | R66: 0 | S66: 1 | T66: 0 | U66: 0 | V66: 0 | W66: 0 | X66: 23
B67: 尾道 | D67: 〃 | H67: =SUM(I67:X67) -> 30 | I67: 2 | J67: 0 | K67: 0 | L67: 3 | M67: 1 | N67: 4 | O67: 1 | P67: 0 | Q67: 0 | R67: 0 | S67: 4 | T67: 0 | U67: 0 | V67: 0 | W67: 0 | X67: 15
B68: 徳山 | D68: 〃 | H68: =SUM(I68:X68) -> 5 | I68: 0 | J68: 0 | K68: 0 | L68: 1 | M68: 0 | N68: 2 | O68: 0 | P68: 0 | Q68: 0 | R68: 0 | S68: 0 | T68: 0 | U68: 0 | V68: 0 | W68: 0 | X68: 2
B69: 高松 | D69: 〃 | H69: =SUM(I69:X69) -> 80 | I69: 0 | J69: 0 | K69: 0 | L69: 2 | M69: 8 | N69: 28 | O69: 1 | P69: 0 | Q69: 10 | R69: 0 | S69: 3 | T69: 0 | U69: 0 | V69: 0 | W69: 0 | X69: 28
B70: 松山 | D70: 〃 | H70: =SUM(I70:X70) -> 1 | I70: 0 | J70: 0 | K70: 0 | L70: 0 | M70: 0 | N70: 0 | O70: 0 | P70: 0 | Q70: 0 | R70: 0 | S70: 1 | T70: 0 | U70: 0 | V70: 0 | W70: 0 | X70: 0
B71: 今治 | D71: 〃 | H71: =SUM(I71:X71) -> 18 | I71: 2 | J71: 0 | K71: 0 | L71: 1 | M71: 0 | N71: 3 | O71: 0 | P71: 0 | Q71: 0 | R71: 0 | S71: 0 | T71: 0 | U71: 0 | V71: 0 | W71: 0 | X71: 12
B72: 宇和島 | D72: 〃 | H72: =SUM(I72:X72) -> 32 | I72: 1 | J72: 0 | K72: 0 | L72: 1 | M72: 1 | N72: 10 | O72: 2 | P72: 0 | Q72: 0 | R72: 0 | S72: 2 | T72: 0 | U72: 0 | V72: 0 | W72: 0 | X72: 15
B73: 仙崎 | D73: 〃 | H73: =SUM(I73:X73) -> 27 | I73: 0 | J73: 11 | K73: 0 | L73: 6 | M73: 5 | N73: 0 | O73: 0 | P73: 0 | Q73: 0 | R73: 0 | S73: 2 | T73: 0 | U73: 0 | V73: 0 | W73: 0 | X73: 3
B74: 門司 | D74: 〃 | H74: =SUM(I74:X74) -> 356 | I74: 30 | J74: 2 | K74: 0 | L74: 66 | M74: 36 | N74: 105 | O74: 11 | P74: 11 | Q74: 54 | R74: 9 | S74: 8 | T74: 0 | U74: 14 | V74: 0 | W74: 0 | X74: 10
B75: 若松 | D75: 〃 | H75: =SUM(I75:X75) -> 8985 | I75: =7+1 -> 8 | J75: 0 | K75: 6 | L75: =9+13 -> 22 | M75: 1 | N75: =10+38 -> 48 | O75: 2 | P75: 0 | Q75: 5 | R75: 0 | S75: =0+4797 -> 4797 | T75: 0 | U75: =0+3 -> 3 | V75: 0 | W75: 0 | X75: =3+4090 -> 4093
B76: 福岡 | D76: 〃 | H76: =SUM(I76:X76) -> 143 | I76: 12 | J76: 10 | K76: 0 | L76: 34 | M76: 13 | N76: 25 | O76: 3 | P76: 2 | Q76: 19 | R76: 0 | S76: 11 | T76: 0 | U76: 3 | V76: 0 | W76: 0 | X76: 11
B77: 三池 | D77: 〃 | H77: =SUM(I77:X77) -> 16 | I77: 1 | J77: 0 | K77: 0 | L77: 13 | M77: 0 | N77: 0 | O77: 0 | P77: 0 | Q77: 0 | R77: 0 | S77: 1 | T77: 1 | U77: 0 | V77: 0 | W77: 0 | X77: 0
B78: 唐津 | D78: 〃 | H78: =SUM(I78:X78) -> 48 | I78: 1 | J78: 4 | K78: 2 | L78: 14 | M78: 7 | N78: 2 | O78: 4 | P78: 0 | Q78: 1 | R78: 0 | S78: 1 | T78: 4 | U78: 0 | V78: 0 | W78: 0 | X78: 8
B79: 長崎 | D79: 〃 | H79: =SUM(I79:X79) -> 99 | I79: 2 | J79: 0 | K79: 1 | L79: 20 | M79: 37 | N79: 3 | O79: 0 | P79: 0 | Q79: 8 | R79: 7 | S79: 8 | T79: 0 | U79: 4 | V79: 0 | W79: 0 | X79: 9
B80: 佐世保 | D80: 〃 | H80: =SUM(I80:X80) -> 53 | I80: 6 | J80: =2+4 -> 6 | K80: 1 | L80: =7+8 -> 15 | M80: 2 | N80: 7 | O80: 0 | P80: 1 | Q80: 4 | R80: 0 | S80: 2 | T80: 0 | U80: 4 | V80: 0 | W80: 0 | X80: 5
B81: 対馬 | D81: 〃 | H81: =SUM(I81:X81) -> 14 | I81: 1 | J81: 0 | K81: 0 | L81: 2 | M81: 8 | N81: 0 | O81: 0 | P81: 0 | Q81: 0 | R81: 0 | S81: 3 | T81: 0 | U81: 0 | V81: 0 | W81: 0 | X81: 0
B82: 大分 | D82: 〃 | H82: =SUM(I82:X82) -> 27 | I82: 2 | J82: 0 | K82: 0 | L82: 5 | M82: 10 | N82: 4 | O82: 1 | P82: 0 | Q82: 2 | R82: 0 | S82: 0 | T82: 0 | U82: 3 | V82: 0 | W82: 0 | X82: 0
A84: 事 項 別 情報資料出所別
H85: 合 計 | I85: 水深 | J85: 自然現象 | K85: 漂流物等 | L85: 航路標識 | M85: 訓練・試験 | N85: 港湾施設 | O85: 海底施設 | P85: 海洋施設 | Q85: 海洋調査 | R85: えい航 | S85: 禁止 制限又は | T85: 協力依頼 | U85: 漁業 | V85: 目標物 | W85: 出版 | X85: その他
H87: 件 | I87: 件 | J87: 件 | K87: 件 | L87: 件 | M87: 件 | N87: 件 | O87: 件 | P87: 件 | Q87: 件 | R87: 件 | S87: 件 | T87: 件 | U87: 件 | V87: 件 | W87: 件 | X87: 件
B88: 敦賀 | D88: 海上保安部 | H88: =SUM(I88:X88) -> 22 | I88: 3 | J88: 0 | K88: 0 | L88: 5 | M88: 0 | N88: 7 | O88: 0 | P88: 1 | Q88: 4 | R88: 0 | S88: 2 | T88: 0 | U88: 0 | V88: 0 | W88: 0 | X88: 0
B89: 舞鶴 | D89: 〃 | H89: =SUM(I89:X89) -> 31 | I89: 1 | J89: 0 | K89: 0 | L89: 3 | M89: 9 | N89: 11 | O89: 1 | P89: 0 | Q89: 0 | R89: 0 | S89: 5 | T89: 0 | U89: 1 | V89: 0 | W89: 0 | X89: 0
B90: 境 | D90: 〃 | H90: =SUM(I90:X90) -> 32 | I90: 4 | J90: 0 | K90: 0 | L90: 0 | M90: 0 | N90: 13 | O90: 0 | P90: 0 | Q90: 11 | R90: 0 | S90: 0 | T90: 0 | U90: 4 | V90: 0 | W90: 0 | X90: 0
B91: 浜田 | D91: 〃 | H91: =SUM(I91:X91) -> 61 | I91: 0 | J91: 0 | K91: 0 | L91: 4 | M91: 5 | N91: 36 | O91: 1 | P91: 0 | Q91: 11 | R91: 0 | S91: 1 | T91: 0 | U91: 2 | V91: 1 | W91: 0 | X91: 0
B92: 新潟 | D92: 〃 | H92: =SUM(I92:X92) -> 409 | I92: 17 | J92: 0 | K92: 1 | L92: 10 | M92: 29 | N92: 81 | O92: 13 | P92: 9 | Q92: 100 | R92: 1 | S92: 4 | T92: 0 | U92: 7 | V92: 4 | W92: 0 | X92: =10+123 -> 133
B93: 伏木 | D93: 〃 | H93: =SUM(I93:X93) -> 210 | I93: 0 | J93: 0 | K93: 0 | L93: 26 | M93: 53 | N93: 31 | O93: 3 | P93: 23 | Q93: 49 | R93: 0 | S93: 0 | T93: 0 | U93: 2 | V93: 0 | W93: 0 | X93: 23
B94: 金沢 | D94: 〃 | H94: =SUM(I94:X94) -> 88 | I94: 5 | J94: 0 | K94: 0 | L94: 4 | M94: 9 | N94: 40 | O94: 2 | P94: 0 | Q94: 23 | R94: 2 | S94: 0 | T94: 0 | U94: 1 | V94: 0 | W94: 0 | X94: 2
B95: 七尾 | D95: 〃 | H95: =SUM(I95:X95) -> 120 | I95: 2 | J95: 0 | K95: 0 | L95: 7 | M95: 8 | N95: 30 | O95: 0 | P95: 0 | Q95: 8 | R95: 0 | S95: 0 | T95: 0 | U95: 10 | V95: 0 | W95: 0 | X95: 55
B96: 熊本 | D96: 〃 | H96: =SUM(I96:X96) -> 17 | I96: 4 | J96: 0 | K96: 0 | L96: 1 | M96: 0 | N96: 3 | O96: 0 | P96: 0 | Q96: 0 | R96: 0 | S96: 1 | T96: 0 | U96: 0 | V96: 0 | W96: 0 | X96: 8
B97: 宮崎 | D97: 〃 | H97: =SUM(I97:X97) -> 63 | I97: 2 | J97: 0 | K97: 0 | L97: 1 | M97: 40 | N97: 5 | O97: 0 | P97: 2 | Q97: 2 | R97: 0 | S97: 4 | T97: 0 | U97: 0 | V97: 0 | W97: 0 | X97: 7
B98: 鹿児島 | D98: 〃 | H98: =SUM(I98:X98) -> 77 | I98: 0 | J98: 0 | K98: 0 | L98: 2 | M98: 31 | N98: 4 | O98: 2 | P98: 0 | Q98: 0 | R98: 0 | S98: 3 | T98: 0 | U98: 0 | V98: 0 | W98: 0 | X98: 35
B99: 串木野 | D99: 〃 | H99: =SUM(I99:X99) -> 1 | I99: 0 | J99: 0 | K99: 0 | L99: 0 | M99: 0 | N99: 0 | O99: 0 | P99: 0 | Q99: 0 | R99: 0 | S99: 0 | T99: 0 | U99: 0 | V99: 0 | W99: 0 | X99: 1
B100: 奄美 | D100: 〃 | H100: =SUM(I100:X100) -> 59 | I100: 0 | J100: 0 | K100: 0 | L100: 0 | M100: 19 | N100: 14 | O100: 0 | P100: 0 | Q100: 5 | R100: 0 | S100: 2 | T100: 0 | U100: 0 | V100: 0 | W100: 0 | X100: 19
B101: 中城 | D101: 〃 | H101: =SUM(I101:X101) -> 427 | I101: 2 | J101: 0 | K101: 0 | L101: 39 | M101: 260 | N101: 57 | O101: 3 | P101: 0 | Q101: 9 | R101: 0 | S101: 4 | T101: 0 | U101: 6 | V101: 0 | W101: 0 | X101: 47
B102: 石垣 | D102: 〃 | H102: =SUM(I102:X102) -> 109 | I102: 1 | J102: 0 | K102: 0 | L102: 5 | M102: 38 | N102: 15 | O102: 8 | P102: 2 | Q102: 30 | R102: 0 | S102: 0 | T102: 0 | U102: 0 | V102: 0 | W102: 0 | X102: 10
B103: 那覇 | D103: 〃 | H103: =SUM(I103:X103) -> 177 | I103: 2 | J103: 0 | K103: 0 | L103: 3 | M103: 25 | N103: 81 | O103: 9 | P103: 3 | Q103: 18 | R103: 0 | S103: =19+6 -> 25 | T103: 0 | U103: 1 | V103: 0 | W103: 0 | X103: 10
B104: 宮古島 | D104: 〃 | H104: =SUM(I104:X104) -> 27 | I104: 2 | J104: 0 | K104: 1 | L104: 5 | M104: 0 | N104: 10 | O104: 2 | P104: 0 | Q104: 6 | R104: 0 | S104: 1 | T104: 0 | U104: 0 | V104: 0 | W104: 0 | X104: 0
B105: 東京湾 | D105: 海上交通センター | H105: =SUM(I105:X105) -> 87352 | I105: 80695 | J105: 0 | K105: 2 | L105: 1131 | M105: 9 | N105: 0 | O105: 0 | P105: 23 | Q105: 0 | R105: 13 | S105: 470 | T105: 12 | U105: 4795 | V105: 0 | W105: 0 | X105: 202
B106: 名古屋港 | D106: 〃 | H106: =SUM(I106:X106) -> 85463 | I106: 26 | J106: 2289 | K106: 36 | L106: 118 | M106: 19 | N106: 475 | O106: 0 | P106: 1 | Q106: 0 | R106: 54 | S106: 60256 | T106: 2 | U106: 8 | V106: 0 | W106: 1 | X106: 22178
B107: 伊勢湾 | D107: 〃 | H107: =SUM(I107:X107) -> 2411 | I107: 16 | J107: 36 | K107: 6 | L107: 196 | M107: 98 | N107: 175 | O107: 9 | P107: 7 | Q107: 118 | R107: 77 | S107: 47 | T107: 0 | U107: 395 | V107: 0 | W107: 27 | X107: 1204
...

Sheet 2(1)海図等P73
A1: ２ 水路図誌等刊行状況
A2: (1) 海図等刊行状況
A3: 区 分 | B3: 合 計 | D3: 航 海 用 海 図 | P3: 特 殊 図 | R3: 海 の 基 本 図 | X3: 航 空 図
D4: 港 泊 図 | F4: 海 岸 図 | H4: 航 海 図 | J4: 航 洋 図 | L4: 総 図 | N4: 漁業用海図 | R4: 大 陸 棚 | T4: 沿 岸 | V4: そ の 他
A5: 合 計 | B5: 版 | C5: 枚 | D5: 版 | E5: 枚 | F5: 版 | G5: 枚 | H5: 版 | I5: 枚 | J5: 版 | K5: 枚 | L5: 版 | M5: 枚 | N5: 版 | O5: 枚 | P5: 版 | Q5: 枚 | R5: 版 | S5: 枚 | T5: 版 | U5: 枚 | V5: 版 | W5: 枚 | X5: 版 | Y5: 枚
B6: =SUM(D6,F6,H6,J6,L6,P6,R6,T6,V6,X6) -> 1506 | C6: =SUM(C7:C9) -> 203297 | D6: =SUM(D7:D9) -> 634 | E6: =SUM(E7:E9) -> 98179 | F6: =SUM(F7:F9) -> 663 | G6: =SUM(G7:G9) -> 92555 | H6: =SUM(H7:H9) -> 19 | I6: =SUM(I7:I9) -> 4700 | J6: =SUM(J7:J9) -> 18 | ... Y6: =SUM(Y7:Y9) -> 200
A7: 新 刊 | B7: =SUM(D7,F7,H7,J7,L7,N7,P7,R7,T7,V7,X7) -> 5 | C7: =E7+G7+I7+K7+M7+O7+Q7+S7+U7+W7+Y7 -> 803 | D7: 2 | E7: 700 | F7: 0 | G7: 0 | H7: 0 | I7: 0 | J7: 0 | K7: 0 | L7: 0 | M7: 0 | N7: 0 | O7: 0 | P7: 0 | Q7: 0 | R7: 3 | S7: 103 | T7: 0 | U7: 0 | V7: 0 | W7: 0 | X7: 0 | Y7: 0
A8: 改 版 | B8: =SUM(D8,F8,H8,J8,L8,N8,P8,R8,T8,V8,X8) -> 65 | C8: =E8+G8+I8+K8+M8+O8+Q8+S8+U8+W8+Y8 -> 47366 | D8: 43 | E8: 24425 | F8: 20 | G8: 22645 | H8: 0 | I8: 0 | J8: 0 | K8: 0 | L8: 0 | M8: 0 | N8: 0 | O8: 0 | P8: 0 | Q8: 0 | R8: 0 | S8: 0 | T8: 1 | U8: 96 | V8: 0 | W8: 0 | X8: 1 | Y8: 200
A9: 補 刷 | B9: =SUM(D9,F9,H9,J9,L9,N9,P9,R9,T9,V9,X9) -> 1436 | C9: =E9+G9+I9+K9+M9+O9+Q9+S9+U9+W9+Y9 -> 155128 | D9: 589 | E9: 73054 | F9: 643 | G9: 69910 | H9: 19 | I9: 4700 | J9: 18 | K9: 3100 | L9: 4 | M9: 600 | N9: 0 | O9: 0 | P9: 9 | Q9: 2350 | R9: 19 | S9: 204 | T9: 132 | U9: 1179 | V9: 3 | W9: 31 | X9: 0 | Y9: 0
A12: 区 分 | B12: 航 海 用 電 子 海 図
B13: 入 港 | D13: アプローチ | F13: 沿岸航海 | H13: 一般航海 | J13: 概 観
A14: 合 計 | B14: セル | D14: セル | F14: セル | H14: セル | J14: セル
B15: =SUM(B16:C18) -> 517 | D15: =SUM(D16:E18) -> 240 | F15: =SUM(F17:G18) -> 222 | H15: =SUM(H17:I18) -> 102 | J15: =SUM(J17:K18) -> 78
A16: 新 刊 | B16: 1 | D16: 4 | F16: 0 | H16: 0 | J16: 0
A17: 改 版 | B17: 273 | D17: 87 | F17: 60 | H17: 58 | J17: 68
A18: 補 刷 | B18: 243 | D18: 149 | F18: 162 | H18: 44 | J18: 10

Sheet 2(2)書誌P74
A1: (2) 書誌刊行状況
A2: 区 分 | B2: 合 計 | D2: 水 路 誌 | F2: 特 殊 書 誌
F3: 水路図誌使用の手引 | H3: 天測計算表 | J3: 灯 台 表 | L3: 天 測 暦 | N3: 天 測 略 暦 | P3: 潮 汐 表 | R3: 水路図誌目録 | T3: その他
A4: 合 計 | B4: 件 | C4: 冊 | D4: 件 | E4: 冊 | F4: 件 | G4: 冊 | H4: 件 | I4: 冊 | J4: 件 | K4: 冊 | L4: 件 | M4: 冊 | N4: 件 | O4: 冊 | P4: 件 | Q4: 冊 | R4: 件 | S4: 冊 | T4: 件 | U4: 冊
B5: =SUM(B6:B8) -> 13 | C5: =SUM(C6:C8) -> 25700 | D5: =SUM(D6:D8) -> 6 | E5: =SUM(E6:E8) -> 5600 | F5: =SUM(F6:F8) -> 0 | G5: =SUM(G6:G8) -> 0 | H5: =SUM(H6:H8) -> 0 | I5: =SUM(I6:I8) -> 0 | ... U5: =SUM(U6:U8) -> 0
A6: 新 刊 | B6: =SUM(D6,F6,H6,J6,L6,N6,P6,R6,T6) -> 5 | C6: =+E6+G6+I6+K6+M6+S6+O6+Q6+U6 -> 14800 | D6: 1 | E6: 1000 | F6: 0 | G6: 0 | H6: 0 | I6: 0 | J6: 0 | K6: 0 | L6: 1 | M6: 2100 | N6: 1 | O6: 700 | P6: 2 | Q6: =1800+9200 -> 11000 | R6: 0 | S6: 0 | T6: 0 | U6: 0
A7: 改 版 | B7: =SUM(D7,F7,H7,J7,L7,N7,P7,R7,T7) -> 8 | C7: =+E7+G7+I7+K7+M7+S7+O7+Q7+U7 -> 10900 | D7: 5 | E7: =1600+1100+1100+800 -> 4600 | F7: 0 | G7: 0 | H7: 0 | I7: 0 | J7: 1 | K7: 900 | L7: 0 | M7: 0 | N7: 0 | O7: 0 | P7: 0 | Q7: 0 | R7: 2 | S7: =2200+3200 -> 5400 | T7: - | U7: 0
A8: 増 刷 | B8: =SUM(D8,F8,H8,J8,L8,N8,P8,R8,T8) -> 0 | C8: =+E8+G8+I8+K8+M8+S8+O8+Q8+U8 -> 0 | D8: 0 | E8: 0 | F8: 0 | G8: 0 | H8: 0 | I8: 0 | J8: 0 | K8: 0 | L8: 0 | M8: 0 | N8: 0 | O8: 0 | P8: 0 | Q8: 0 | R8: 0 | S8: 0 | T8: 0 | U8: 0
