Workbook

Sheet 第2表
A1: 第２表 業種別家内労働者数及び主な家内労働業務
A3: 業 種 | B3: 平成30年 | C3: 令和元年 | D3: 対前年比増減率 | E3: 1 | F3: 2 | G3: 3 | H3: 主な家内労働業務
B5: 人 | C5: 人 | D5: ％
A6: 総数 | B6: 110812 | C6: =(C8+C10+C12+C14+C16+C18+C20+C22+C24+C26+C28+C30+C32+C34) -> 105054 | D6: =ROUND(C6/B6-1,3)*100 -> -5.2 | E6: 愛知 | F6: 静岡 | G6: 大阪
B7: =SUM(B9,B11,B13,B15,B17,B19,B21,B23,B25,B27,B29,B31,B33,B35) -> 0.999 | C7: =SUM(C9,C11,C13,C15,C17,C19,C21,C23,C25,C27,C29,C31,C33,C35) -> 0.998
A8: 食料品製造業 | B8: 2105 | C8: =[1]第2表の元!AW6 -> 2022 | D8: =ROUND(C8/B8-1,3)*100 -> -3.9 | E8: 福岡 | F8: 千葉 | G8: 北海道 | H8: 貝の加工、昆布巻き、食品の袋詰め・シール貼り
B9: =ROUND(B8/B6,3) -> 0.019 | C9: =ROUND(C8/C6,3) -> 0.019
A10: 繊維工業 | B10: 28363 | C10: =[1]第2表の元!AW7 -> 26202 | D10: =ROUND(C10/B10-1,3)*100 -> -7.6 | E10: 大阪 | F10: 愛知 | G10: 京都 | H10: 衣服の縫製、ニット編立て、撚糸製造、絹糸等による織布、ミシン縫製、裁縫、布団の綿入れ、タオルのヘム加工
B11: =ROUND(B10/B6,3) -> 0.256 | C11: =ROUND(C10/$C$6,3) -> 0.249
A12: 木材・木製品、家具・装備品製造業 | B12: 860 | C12: =[1]第2表の元!AW8 -> 870 | D12: =ROUND(C12/B12-1,3)*100 -> 1.2 | E12: 奈良 | F12: 大阪 | G12: 宮城 | H12: 塗箸加工、仏壇加工、桜皮の張付け・加工、額縁製造、ブラインド組立
B13: =ROUND(B12/B6,3) -> 0.008 | C13: =ROUND(C12/$C$6,3) -> 0.008
A14: 紙・紙加工品製造業 | B14: 7337 | C14: =[1]第2表の元!AW9 -> 7186 | D14: =ROUND(C14/B14-1,3)*100 -> -2.1 | E14: 愛媛 | F14: 長野 | G14: 兵庫 | H14: 紙箱の組立、封筒糊付け、紙袋の張り・ひも付け、ショッピング袋の口芯入れ・ひも付け、ティッシュペーパーの詰合せ
B15: =ROUND(B14/B6,3) -> 0.066 | C15: =ROUND(C14/$C$6,3) -> 0.068
A16: 印刷・同関連及び出版業 | B16: 2769 | C16: =[1]第2表の元!AW10 -> 2611 | D16: =ROUND(C16/B16-1,3)*100 -> -5.7 | E16: 東京 | F16: 長野 | G16: 静岡 | H16: 製本、ワープロ入力、文字校正、チラシ袋詰め、加除式追録の編集
B17: =ROUND(B16/B6,3) -> 0.025 | C17: =ROUND(C16/$C$6,3) -> 0.025
A18: ゴム製品製造業 | B18: 6604 | C18: =[1]第2表の元!AW11 -> 6607 | D18: =ROUND(C18/B18-1,3)*100 -> 0 | E18: 岡山 | F18: 愛知 | G18: 静岡 | H18: ゴム製履物の部品貼合せ、ゴム製品のバリ取り
B19: =ROUND(B18/B6,3) -> 0.06 | C19: =ROUND(C18/$C$6,3) -> 0.063
A20: 皮革製品製造業 | B20: 2261 | C20: =[1]第2表の元!AW12 -> 1918 | D20: =ROUND(C20/B20-1,3)*100 -> -15.2 | E20: 東京 | F20: 兵庫 | G20: 香川 | H20: 革靴の製甲・底付け、革手袋の火のし、鞄の糊付け加工
B21: =ROUND(B20/B6,3) -> 0.02 | C21: =ROUND(C20/$C$6,3) -> 0.018
A22: 窯業・土石製品製造業 | B22: 1070 | C22: =[1]第2表の元!AW13 -> 928 | D22: =ROUND(C22/B22-1,3)*100 -> -13.3 | E22: 岐阜 | F22: 愛知 | G22: 石川 | H22: 陶磁器の生地製造・上絵付け・焼成・転写貼り・鋳込み
B23: =ROUND(B22/B6,3) -> 0.01 | C23: =ROUND(C22/$C$6,3) -> 0.009
A24: 金属製品製造業 | B24: 3232 | C24: =[1]第2表の元!AW14 -> 3175 | D24: =ROUND(C24/B24-1,3)*100 -> -1.8 | E24: 岐阜 | F24: 新潟 | G24: 大阪 | H24: 洋食器研磨、作業工具研磨、刃物研磨、金属プレス加工、鍵部品加工、鋸の目立て
B25: =ROUND(B24/B6,3) -> 0.029 | C25: =ROUND(C24/$C$6,3) -> 0.03
A26: 電子部品・デバイス製造業 | B26: 5419 | C26: =[1]第2表の元!AW15 -> 4928 | D26: =ROUND(C26/B26-1,3)*100 -> -9.1 | E26: 長野 | F26: 宮城 | G26: 鹿児島 | H26: 電子部品の組立・検査
B27: =ROUND(B26/B6,3) -> 0.049 | C27: =ROUND(C26/$C$6,3) -> 0.047
A28: 電気機械器具製造業 | B28: 12783 | C28: =[1]第2表の元!AW16 -> 12114 | D28: =ROUND(C28/B28-1,3)*100 -> -5.2 | E28: 静岡 | F28: 愛知 | G28: 三重 | H28: コネクター差し、チューブ通し、キャップ通し、シールド線の端末加工、コンデンサーの検査、コイル巻き、ワイヤーハーネス組立
B29: =ROUND(B28/B6,3) -> 0.115 | C29: =ROUND(C28/$C$6,3) -> 0.115
A30: 情報通信機械器具製造業 | B30: 934 | C30: =[1]第2表の元!AW17 -> 843 | D30: =ROUND(C30/B30-1,3)*100 -> -9.7 | E30: 福岡 | F30: 長野 | G30: 富山 | H30: 携帯電話部品の組立・検査・包装、ケーブル端末加工、カーナビ組立
B31: =ROUND(B30/B6,3) -> 0.008 | C31: =ROUND(C30/$C$6,3) -> 0.008
A32: 機械器具等製造業 | B32: 5814 | C32: =[1]第2表の元!AW18 -> 5304 | D32: =ROUND(C32/B32-1,3)*100 -> -8.8 | E32: 長野 | F32: 愛知 | G32: 岐阜 | H32: 自動車部品組立、航空機部品組立
B33: =ROUND(B32/B6,3) -> 0.052 | C33: =ROUND(C32/$C$6,3) -> 0.05
A34: その他（雑貨等） | B34: 31261 | C34: =[1]第2表の元!AW19 -> 30346 | D34: =ROUND(C34/B34-1,3)*100 -> -2.9 | E34: 東京 | F34: 愛知 | G34: 静岡 | H34: 貴金属製造、がん具花火製造、眼鏡枠加工・研磨・組立、釣針の糸結び・仕掛け、毛筆・画筆の穂首つくり、事務用品製造
B35: =ROUND(B34/B6,3) -> 0.282 | C35: =ROUND(C34/$C$6,3) -> 0.289
