Workbook

Sheet 第4表
A1: 第４表 危険有害業務の種類、性別及び類型別危険有害業務に従事する家内労働従事者数
A3: 危険有害業務の種類 | B3: 危険有害業務に従事する家内労働従事者数
B4: 総数
C5: 性別 | E5: 類型別
C6: 男 | D6: 女 | E6: 専業 | F6: 内職 | G6: 副業
B7: 人 | C7: 人 | D7: 人 | E7: 人 | F7: 人 | G7: 人
A8: 総数 | B8: =[1]全国集計!D25 -> 10520 | C8: =[1]全国集計!G25 -> 2423 | D8: =[1]全国集計!J25 -> 8097 | E8: =[1]全国集計!M25 -> 1967 | F8: =[1]全国集計!P25 -> 8435 | G8: =[1]全国集計!S25 -> 118
B9: =[1]全国集計!D26 -> 550 | C9: =[1]全国集計!G26 -> 166 | D9: =[1]全国集計!J26 -> 384 | E9: =[1]全国集計!M26 -> 215 | F9: =[1]全国集計!P26 -> 330 | G9: =[1]全国集計!S26 -> 5
B10: 1 | C10: =C8/$B$8 -> 0.23032319 | D10: =D8/$B$8 -> 0.76967681 | E10: =E8/$B$8 -> 0.18697719 | F10: =F8/$B$8 -> 0.80180608 | G10: =G8/$B$8 -> 0.01121673
A11: ①プレス機、型付け機、型打ち機、シャー、旋盤、ボール盤又はフライス盤を使用する作業 | B11: =SUM(C11:D11) -> 537 | C11: =[1]全国集計!G9 -> 320 | D11: =[1]全国集計!J9 -> 217 | E11: =[1]全国集計!M9 -> 309 | F11: =[1]全国集計!P9 -> 222 | G11: =[1]全国集計!S9 -> 6
B12: =SUM(C12:D12) -> 71 | C12: =[1]全国集計!G10 -> 22 | D12: =[1]全国集計!J10 -> 49 | E12: =[1]全国集計!M10 -> 59 | F12: =[1]全国集計!P10 -> 12 | G12: =[1]全国集計!S10 -> 0
B13: 1 | C13: =C11/$B$11 -> 0.59590317 | D13: =D11/$B$11 -> 0.40409683 | E13: =E11/$B$11 -> 0.57541899 | F13: =F11/$B$11 -> 0.41340782 | G13: =G11/$B$11 -> 0.011173184
A14: ②有機溶剤または有機溶剤含有物を使用する作業 (例：有機溶剤を取り扱う人形の製造、有機溶剤を使用して金属を脱脂・洗浄する作業) | B14: =SUM(C14:D14) -> 741 | C14: =[1]全国集計!G11 -> 337 | D14: =[1]全国集計!J11 -> 404 | E14: =[1]全国集計!M11 -> 230 | F14: =[1]全国集計!P11 -> 506 | G14: =[1]全国集計!S11 -> 5
B15: =SUM(C15:D15) -> 33 | C15: =[1]全国集計!G12 -> 1 | D15: =[1]全国集計!J12 -> 32 | E15: =[1]全国集計!M12 -> 23 | F15: =[1]全国集計!P12 -> 10 | G15: =[1]全国集計!S12 -> 0
B16: 1 | C16: =C14/$B$14 -> 0.45479082 | D16: =D14/$B$14 -> 0.54520918 | E16: =E14/$B$14 -> 0.31039136 | F16: =F14/$B$14 -> 0.682861 | G16: =G14/$B$14 -> 0.0067476383
A17: ③鉛又は鉛化合物を使用する作業 (例：鉛を取り扱う電気機械・車両用配線作業) | B17: =SUM(C17:D17) -> 219 | C17: =[1]全国集計!G13 -> 26 | D17: =[1]全国集計!J13 -> 193 | E17: =[1]全国集計!M13 -> 1 | F17: =[1]全国集計!P13 -> 216 | G17: =[1]全国集計!S13 -> 2
B18: =SUM(C18:D18) -> 1 | C18: =[1]全国集計!G14 -> 0 | D18: =[1]全国集計!J14 -> 1 | E18: =[1]全国集計!M14 -> 0 | F18: =[1]全国集計!P14 -> 1 | G18: =[1]全国集計!S14 -> 0
B19: 1 | C19: =C17/$B$17 -> 0.11872146 | D19: =D17/$B$17 -> 0.88127854 | E19: =E17/$B$17 -> 0.00456621 | F19: =F17/$B$17 -> 0.98630137 | G19: =G17/$B$17 -> 0.0091324201
A20: ④土石、岩石、鉱物、金属又は炭素の粉じんを発散する作業 (例：い草加工、ガラス製造、炭素製品製造) | B20: =SUM(C20:D20) -> 570 | C20: =[1]全国集計!G15 -> 400 | D20: =[1]全国集計!J15 -> 170 | E20: =[1]全国集計!M15 -> 505 | F20: =[1]全国集計!P15 -> 59 | G20: =[1]全国集計!S15 -> 6
B21: =SUM(C21:D21) -> 138 | C21: =[1]全国集計!G16 -> 38 | D21: =[1]全国集計!J16 -> 100 | E21: =[1]全国集計!M16 -> 124 | F21: =[1]全国集計!P16 -> 14 | G21: =[1]全国集計!S16 -> 0
B22: 1 | C22: =C20/$B$20 -> 0.70175439 | D22: =D20/$B$20 -> 0.29824561 | E22: =E20/$B$20 -> 0.88596491 | F22: =F20/$B$20 -> 0.10350877 | G22: =G20/$B$20 -> 0.010526316
A23: ⑤動力により駆動される機械を使用する作業 (例：ニット編み機、レース編み機、動力ミシン等を取り扱う作業) | B23: =SUM(C23:D23) -> 8083 | C23: =[1]全国集計!G17 -> 1376 | D23: =[1]全国集計!J17 -> 6707 | E23: =[1]全国集計!M17 -> 1049 | F23: =[1]全国集計!P17 -> 6934 | G23: =[1]全国集計!S17 -> 100
B24: =SUM(C24:D24) -> 249 | C24: =[1]全国集計!G18 -> 59 | D24: =[1]全国集計!J18 -> 190 | E24: =[1]全国集計!M18 -> 45 | F24: =[1]全国集計!P18 -> 199 | G24: =[1]全国集計!S18 -> 5
B25: 1 | C25: =C23/$B$23 -> 0.17023382 | D25: =D23/$B$23 -> 0.82976618 | E25: =E23/$B$23 -> 0.12977855 | F25: =F23/$B$23 -> 0.85784981 | G25: =G23/$B$23 -> 0.012371644
A26: ⑥木工機械を使用する作業 (例：家具製造、人形製造) | B26: =SUM(C26:D26) -> 13 | C26: =[1]全国集計!G19 -> 8 | D26: =[1]全国集計!J19 -> 5 | E26: =[1]全国集計!M19 -> 6 | F26: =[1]全国集計!P19 -> 6 | G26: =[1]全国集計!S19 -> 1
B27: =SUM(C27:D27) -> 1 | C27: =[1]全国集計!G20 -> 1 | D27: =[1]全国集計!J20 -> 0 | E27: =[1]全国集計!M20 -> 1 | F27: =[1]全国集計!P20 -> 0 | G27: =[1]全国集計!S20 -> 0
B28: 1 | C28: =C26/$B$26 -> 0.61538462 | D28: =D26/$B$26 -> 0.38461538 | E28: =E26/$B$26 -> 0.46153846 | F28: =F26/$B$26 -> 0.46153846 | G28: =G26/$B$26 -> 0.076923077
A29: ⑦火薬類を使用する作業 (例：花火製造) | B29: =SUM(C29:D29) -> 430 | C29: =[1]全国集計!G21 -> 68 | D29: =[1]全国集計!J21 -> 362 | E29: =[1]全国集計!M21 -> 0 | F29: =[1]全国集計!P21 -> 430 | G29: =[1]全国集計!S21 -> 0
B30: =SUM(C30:D30) -> 94 | C30: =[1]全国集計!G22 -> 46 | D30: =[1]全国集計!J22 -> 48 | E30: =[1]全国集計!M22 -> 0 | F30: =[1]全国集計!P22 -> 94 | G30: =[1]全国集計!S22 -> 0
B31: 1 | C31: =C29/$B$29 -> 0.15813953 | D31: =D29/$B$29 -> 0.84186047 | E31: =E29/$B$29 -> 0 | F31: =F29/$B$29 -> 1 | G31: =G29/$B$29 -> 0
A32: 上記①から⑦までの作業を除く危険有害作業 | B32: =SUM(C32:D32) -> 51 | C32: =[1]全国集計!G23 -> 34 | D32: =[1]全国集計!J23 -> 17 | E32: =[1]全国集計!M23 -> 44 | F32: =[1]全国集計!P23 -> 7 | G32: =[1]全国集計!S23 -> 0
B33: =SUM(C33:D33) -> 10 | C33: =[1]全国集計!G24 -> 3 | D33: =[1]全国集計!J24 -> 7 | E33: =[1]全国集計!M24 -> 10 | F33: =[1]全国集計!P24 -> 0 | G33: =[1]全国集計!S24 -> 0
B34: 1 | C34: =C32/$B$32 -> 0.66666667 | D34: =D32/$B$32 -> 0.33333333 | E34: =E32/$B$32 -> 0.8627451 | F34: =F32/$B$32 -> 0.1372549 | G34: =G32/$B$32 -> 0
A36: 注1： ２種類以上の危険有害業務に従事する者はそれぞれの作業毎に1人として計上した。
A37: 但し、総数は実人数であるため、危険有害業務の内訳を積み上げた数値は、総数と一致しない場合がある。
A38: 注2： ( )は、補助者数（内数）である。
