Workbook
Name 愛知県１: #REF!
Name 愛知県１: #REF!
Name 愛知県１: #REF!
Name 愛知県１: #REF!
Name 愛知県１: #REF!
Name 愛知県１: #REF!
Name 愛知県１: #REF!
Name 愛知県２: #REF!
Name 愛知県２: #REF!
Name 愛知県２: #REF!
Name 愛知県２: #REF!
Name 愛知県２: #REF!
Name 愛知県２: #REF!
Name 愛知県２: #REF!
Name 愛知県３: #REF!
Name 愛知県３: #REF!
Name 愛知県３: #REF!
Name 愛知県３: #REF!
Name 愛知県３: #REF!
Name 愛知県３: #REF!
Name 愛知県３: #REF!
Name 愛知県４: #REF!
Name 愛知県４: #REF!
Name 愛知県４: #REF!
Name 愛知県４: #REF!
Name 愛知県４: #REF!
Name 愛知県４: #REF!
Name 愛知県４: #REF!
Name 愛媛県１: #REF!
Name 愛媛県１: #REF!
Name 愛媛県１: #REF!
Name 愛媛県１: #REF!
Name 愛媛県１: #REF!
Name 愛媛県１: #REF!
Name 愛媛県１: #REF!
Name 愛媛県２: #REF!
Name 愛媛県２: #REF!
Name 愛媛県２: #REF!
Name 愛媛県２: #REF!
Name 愛媛県２: #REF!
Name 愛媛県２: #REF!
Name 愛媛県２: #REF!
Name 愛媛県３: #REF!
Name 愛媛県３: #REF!
Name 愛媛県３: #REF!
Name 愛媛県３: #REF!
Name 愛媛県３: #REF!
Name 愛媛県３: #REF!
Name 愛媛県３: #REF!
Name 愛媛県４: #REF!
Name 愛媛県４: #REF!
Name 愛媛県４: #REF!
Name 愛媛県４: #REF!
Name 愛媛県４: #REF!
Name 愛媛県４: #REF!
Name 愛媛県４: #REF!
Name 茨城県１: #REF!
Name 茨城県１: #REF!
Name 茨城県１: #REF!
Name 茨城県１: #REF!

Sheet ①
B4: 令和２年中における地方公共団体の議会の議員
B5: 及び長の任期満了に関する調
A7: １ 令和２年中における任期満了団体数(令和元年１１月１日現在)は次表のとおりで、
B8: 全団体に対する比率は１５．０％となっている。
B10: 区 分 | F10: 団体数（Ａ) | H10: 任期満了団体数（Ｂ） | J10: （Ｂ）/（Ａ）×１００（％）
C11: 都道府県
E12: 知 事 | H12: 6 | J12: 12.765957
F13: 47
E15: 議会議員 | H15: 1 | J15: 2.1276596
C17: 市区 | H17: 3
E18: 長 | F18: 23 | H18: 158 | J18: 19.386503
F19: 815
H20: 0
E21: 議会議員 | H21: 73 | J21: 8.9570552
C23: 町村
E24: 長 | H24: 193 | J24: 20.842333
F25: 926
E27: 議会議員 | H27: 107 | J27: 11.555076
B29: 計 | F29: 23 | H29: 3
F30: 1788 | H30: 538 | J30: 15.044743 | K30: ＊
B33: 注 | C33: （１） ＊印の１５．０％の算式
E34: ５３８
G35: ×１００（％）
E37: １，７８８（団体数）×２
C39: （２） 東京都特別区は、市区欄に( )で内書きした。
A41: ２ | B41: 任期満了団体数を４年前の平成２８年のものと比較すると、全体で５団体増となり、
B42: その内訳は、市区長で２団体増、町村長で３団体増となっている。
B43: なお、平成２８年における任期満了団体の全団体に対する比率は１４.９％であった。

Sheet ②
A2: 令和２年中における地方公共団体の議会の議員及び長の任期満了に関する調（月別）
Q4: （令和元年１１月１日現在）
E5: 任期満了 団体数 | G5: 月別内訳
A6: 選挙の種類 | D6: 団 体 数
F7: １ 月 | G7: ２ 月 | H7: ３ 月 | I7: ４ 月 | J7: ５ 月 | K7: ６ 月 | L7: ７ 月 | M7: ８ 月 | N7: ９ 月 | O7: 10 月 | P7: 11 月 | Q7: 12 月
A8: 都道府県
C9: 知 事 | E9: 6 | F9: - | G9: - | H9: - | I9: 1 | J9: - | K9: - | L9: 2 | M9: - | N9: - | O9: - | P9: 2 | Q9: 1
D10: 47
C12: 議会議員 | E12: 1 | F12: - | G12: - | H12: - | I12: - | J12: - | K12: 1 | L12: - | M12: - | N12: - | O12: - | P12: - | Q12: -
B14: 市 区 | E14: 3 | I14: 1 | K14: 1 | P14: 1
A15: 市 区 町 村 | C15: 長 | E15: 158 | F15: 6 | G15: 7 | H15: 6 | I15: 22 | J15: 10 | K15: 9 | L15: 13 | M15: 10 | N15: 6 | O15: 19 | P15: 30 | Q15: 20
D16: 23
D17: 815 | E17: 0
C18: 議会議員 | E18: 73 | F18: 2 | G18: 9 | H18: 6 | I18: 19 | J18: 6 | K18: 1 | L18: 1 | M18: 1 | N18: 3 | O18: 8 | P18: 16 | Q18: 1
B20: 町 村
C21: 長 | E21: 193 | F21: 10 | G21: 14 | H21: 13 | I21: 14 | J21: 15 | K21: 11 | L21: 20 | M21: 9 | N21: 15 | O21: 26 | P21: 26 | Q21: 20
D22: 926
C24: 議会議員 | E24: 107 | F24: 6 | G24: 13 | H24: 31 | I24: 12 | J24: 4 | K24: 2 | L24: 3 | M24: - | N24: 10 | O24: 12 | P24: 10 | Q24: 4
D26: 23 | E26: 3 | I26: 1 | K26: 1 | P26: 1
B27: 小 計 | D27: 1741 | E27: 531 | F27: 24 | G27: 43 | H27: 56 | I27: 67 | J27: 35 | K27: 23 | L27: 37 | M27: 20 | N27: 34 | O27: 65 | P27: 82 | Q27: 45
D29: 23 | E29: 3 | I29: 1 | K29: 1 | P29: 1
A30: 合 計 | D30: 1788 | E30: 538 | F30: 24 | G30: 43 | H30: 56 | I30: 68 | J30: 35 | K30: 24 | L30: 39 | M30: 20 | N30: 34 | O30: 65 | P30: 84 | Q30: 46
A32: ※東京都特別区は、市区欄に( )で内書きした。

Sheet ③
A2: 令和２年中における地方公共団体の議会の議員及び長の任期満了に関する調（都道府県別）
M4: （令和元年１１月１日現在）
B5: 都 道 府 県 | D5: 市 区 町 村
A6: 区分 | B6: （任期満了月日） | D6: 市 区 | H6: 町 村 | J6: 小 計 | L6: 合 計
B7: 知 事 | C7: 議会議員 | D7: 長 | F7: 議会議員 | H7: 長 | I7: 議会議員
A8: 北海道 | B8: - | C8: - | E8: =[1]④市区長!D5 -> 4 | G8: =[1]⑤市区議!D5 -> - | H8: =[1]⑥町村長!C5 -> 30 | I8: =[1]⑦町村議!C5 -> 6 | K8: =SUM(D8:I8) -> 40 | M8: =K8+2-(COUNTIF(B8:C8,"-")) -> 40
A9: 青森 | B9: - | C9: - | E9: =[1]④市区長!D6 -> 1 | G9: =[1]⑤市区議!D6 -> 1 | H9: =[1]⑥町村長!C6 -> 6 | I9: =[1]⑦町村議!C6 -> 8 | K9: =SUM(D9:I9) -> 16 | M9: =K9+2-(COUNTIF(B9:C9,"-")) -> 16
A10: 岩手 | B10: - | C10: - | E10: =[1]④市区長!D7 -> - | G10: =[1]⑤市区議!D7 -> 2 | H10: =[1]⑥町村長!C7 -> 2 | I10: =[1]⑦町村議!C7 -> 4 | K10: =SUM(D10:I10) -> 8 | M10: =K10+2-(COUNTIF(B10:C10,"-")) -> 8
A11: 宮城 | B11: - | C11: - | E11: =[1]④市区長!D8 -> 3 | G11: =[1]⑤市区議!D8 -> 2 | H11: =[1]⑥町村長!C8 -> 2 | I11: =[1]⑦町村議!C8 -> 4 | K11: =SUM(D11:I11) -> 11 | M11: =K11+2-(COUNTIF(B11:C11,"-")) -> 11
A12: 秋田 | B12: - | C12: - | E12: =[1]④市区長!D9 -> - | G12: =[1]⑤市区議!D9 -> - | H12: =[1]⑥町村長!C9 -> 3 | I12: =[1]⑦町村議!C9 -> 6 | K12: =SUM(D12:I12) -> 9 | M12: =K12+2-(COUNTIF(B12:C12,"-")) -> 9
A13: 山形 | B13: - | C13: - | E13: =[1]④市区長!D10 -> 1 | G13: =[1]⑤市区議!D10 -> 1 | H13: =[1]⑥町村長!C10 -> 8 | I13: =[1]⑦町村議!C10 -> - | K13: =SUM(D13:I13) -> 10 | M13: =K13+2-(COUNTIF(B13:C13,"-")) -> 10
A14: 福島 | B14: - | C14: - | E14: =[1]④市区長!D11 -> 1 | G14: =[1]⑤市区議!D11 -> 1 | H14: =[1]⑥町村長!C11 -> 10 | I14: =[1]⑦町村議!C11 -> 15 | K14: =SUM(D14:I14) -> 27 | M14: =K14+2-(COUNTIF(B14:C14,"-")) -> 27
A15: 茨城 | B15: - | C15: - | E15: =[1]④市区長!D12 -> 5 | G15: =[1]⑤市区議!D12 -> 7 | H15: =[1]⑥町村長!C12 -> 1 | I15: =[1]⑦町村議!C12 -> 4 | K15: =SUM(D15:I15) -> 17 | M15: =K15+2-(COUNTIF(B15:C15,"-")) -> 17
A16: 栃木 | B16: 12.8 | C16: - | E16: =[1]④市区長!D13 -> 4 | G16: =[1]⑤市区議!D13 -> - | H16: =[1]⑥町村長!C13 -> 2 | I16: =[1]⑦町村議!C13 -> 1 | K16: =SUM(D16:I16) -> 7 | M16: =K16+2-(COUNTIF(B16:C16,"-")) -> 8
A17: 群馬 | B17: - | C17: - | E17: =[1]④市区長!D14 -> 1 | G17: =[1]⑤市区議!D14 -> - | H17: =[1]⑥町村長!C14 -> 6 | I17: =[1]⑦町村議!C14 -> 1 | K17: =SUM(D17:I17) -> 8 | M17: =K17+2-(COUNTIF(B17:C17,"-")) -> 8
A18: 埼玉 | B18: - | C18: - | E18: =[1]④市区長!D15 -> 6 | G18: =[1]⑤市区議!D15 -> 4 | H18: =[1]⑥町村長!C15 -> 5 | I18: =[1]⑦町村議!C15 -> 3 | K18: =SUM(D18:I18) -> 18 | M18: =K18+2-(COUNTIF(B18:C18,"-")) -> 18
A19: 千葉 | B19: - | C19: - | E19: =[1]④市区長!D16 -> 4 | G19: =[1]⑤市区議!D16 -> 3 | H19: =[1]⑥町村長!C16 -> 5 | I19: =[1]⑦町村議!C16 -> 3 | K19: =SUM(D19:I19) -> 15 | M19: =K19+2-(COUNTIF(B19:C19,"-")) -> 15
A20: 東京 | B20: 7.3 | C20: - | D20: =[1]④市区長!E17 -> 3 | E20: =[1]④市区長!D17 -> 8 | G20: =[1]⑤市区議!D17 -> - | H20: =[1]⑥町村長!C17 -> 2 | I20: =[1]⑦町村議!C17 -> 2 | J20: =D20+F20 -> 3 | K20: =SUM(D20:I20)-J20 -> 12 | L20: =J20 -> 3 | M20: =K20+2-(COUNTIF(B20:C20,"-")) -> 13
A21: 神奈川 | B21: - | C21: - | E21: =[1]④市区長!D18 -> 5 | G21: =[1]⑤市区議!D18 -> 1 | H21: =[1]⑥町村長!C18 -> 3 | I21: =[1]⑦町村議!C18 -> 2 | K21: =SUM(D21:I21) -> 11 | M21: =K21+2-(COUNTIF(B21:C21,"-")) -> 11
A22: 新潟 | B22: - | C22: - | E22: =[1]④市区長!D19 -> 6 | G22: =[1]⑤市区議!D19 -> 4 | H22: =[1]⑥町村長!C19 -> 2 | I22: =[1]⑦町村議!C19 -> - | K22: =SUM(D22:I22) -> 12 | M22: =K22+2-(COUNTIF(B22:C22,"-")) -> 12
A23: 富山 | B23: 11.8 | C23: - | E23: =[1]④市区長!D20 -> 3 | G23: =[1]⑤市区議!D20 -> 2 | H23: =[1]⑥町村長!C20 -> - | I23: =[1]⑦町村議!C20 -> - | K23: =SUM(D23:I23) -> 5 | M23: =K23+2-(COUNTIF(B23:C23,"-")) -> 6
A24: 石川 | B24: - | C24: - | E24: =[1]④市区長!D21 -> 3 | G24: =[1]⑤市区議!D21 -> - | H24: =[1]⑥町村長!C21 -> - | I24: =[1]⑦町村議!C21 -> - | K24: =SUM(D24:I24) -> 3 | M24: =K24+2-(COUNTIF(B24:C24,"-")) -> 3
A25: 福井 | B25: - | C25: - | E25: =[1]④市区長!D22 -> 3 | G25: =[1]⑤市区議!D22 -> - | H25: =[1]⑥町村長!C22 -> 1 | I25: =[1]⑦町村議!C22 -> - | K25: =SUM(D25:I25) -> 4 | M25: =K25+2-(COUNTIF(B25:C25,"-")) -> 4
A26: 山梨 | B26: - | C26: - | E26: =[1]④市区長!D23 -> 3 | G26: =[1]⑤市区議!D23 -> 3 | H26: =[1]⑥町村長!C23 -> 6 | I26: =[1]⑦町村議!C23 -> 3 | K26: =SUM(D26:I26) -> 15 | M26: =K26+2-(COUNTIF(B26:C26,"-")) -> 15
A27: 長野 | B27: - | C27: - | E27: =[1]④市区長!D24 -> 8 | G27: =[1]⑤市区議!D24 -> 2 | H27: =[1]⑥町村長!C24 -> 11 | I27: =[1]⑦町村議!C24 -> 5 | K27: =SUM(D27:I27) -> 26 | M27: =K27+2-(COUNTIF(B27:C27,"-")) -> 26
A28: 岐阜 | B28: - | C28: - | E28: =[1]④市区長!D25 -> 7 | G28: =[1]⑤市区議!D25 -> 6 | H28: =[1]⑥町村長!C25 -> 6 | I28: =[1]⑦町村議!C25 -> 2 | K28: =SUM(D28:I28) -> 21 | M28: =K28+2-(COUNTIF(B28:C28,"-")) -> 21
A29: 静岡 | B29: - | C29: - | E29: =[1]④市区長!D26 -> 6 | G29: =[1]⑤市区議!D26 -> 3 | H29: =[1]⑥町村長!C26 -> 1 | I29: =[1]⑦町村議!C26 -> - | K29: =SUM(D29:I29) -> 10 | M29: =K29+2-(COUNTIF(B29:C29,"-")) -> 10
A30: 愛知 | B30: - | C30: - | E30: =[1]④市区長!D27 -> 7 | G30: =[1]⑤市区議!D27 -> 3 | H30: =[1]⑥町村長!C27 -> 3 | I30: =[1]⑦町村議!C27 -> 1 | K30: =SUM(D30:I30) -> 14 | M30: =K30+2-(COUNTIF(B30:C30,"-")) -> 14
A31: 三重 | B31: - | C31: - | E31: =[1]④市区長!D28 -> 4 | G31: =[1]⑤市区議!D28 -> - | H31: =[1]⑥町村長!C28 -> 1 | I31: =[1]⑦町村議!C28 -> 2 | K31: =SUM(D31:I31) -> 7 | M31: =K31+2-(COUNTIF(B31:C31,"-")) -> 7
A32: 滋賀 | B32: - | C32: - | E32: =[1]④市区長!D29 -> 5 | G32: =[1]⑤市区議!D29 -> - | H32: =[1]⑥町村長!C29 -> 3 | I32: =[1]⑦町村議!C29 -> 2 | K32: =SUM(D32:I32) -> 10 | M32: =K32+2-(COUNTIF(B32:C32,"-")) -> 10
A33: 京都 | B33: - | C33: - | E33: =[1]④市区長!D30 -> 5 | G33: =[1]⑤市区議!D30 -> 1 | H33: =[1]⑥町村長!C30 -> 2 | I33: =[1]⑦町村議!C30 -> 3 | K33: =SUM(D33:I33) -> 11 | M33: =K33+2-(COUNTIF(B33:C33,"-")) -> 11
A34: 大阪 | B34: - | C34: - | E34: =[1]④市区長!D31 -> 8 | G34: =[1]⑤市区議!D31 -> 4 | H34: =[1]⑥町村長!C31 -> 5 | I34: =[1]⑦町村議!C31 -> 2 | K34: =SUM(D34:I34) -> 19 | M34: =K34+2-(COUNTIF(B34:C34,"-")) -> 19
A35: 兵庫 | B35: - | C35: - | E35: =[1]④市区長!D32 -> 4 | G35: =[1]⑤市区議!D32 -> 4 | H35: =[1]⑥町村長!C32 -> 1 | I35: =[1]⑦町村議!C32 -> - | K35: =SUM(D35:I35) -> 9 | M35: =K35+2-(COUNTIF(B35:C35,"-")) -> 9
... A39: 島根 | B39: - | C39: - | E39: =[1]④市区長!D36 -> 3 | G39: =[1]⑤市区議!D36 -> 1 | H39: =[1]⑥町村長!C36 -> 4 | I39: =[1]⑦町村議!C36 -> 1 | K39: =SUM(D39:I39) -> 9 | M39: =K39+2-(COUNTIF(B39:C39,"-")) -> 9
A40: 岡山 | B40: 11.11 | C40: - | E40: =[1]④市区長!D37 -> 4 | G40: =[1]⑤市区議!D37 -> 2 | H40: =[1]⑥町村長!C37 -> 2 | I40: =[1]⑦町村議!C37 -> 1 | K40: =SUM(D40:I40) -> 9 | M40: =K40+2-(COUNTIF(B40:C40,"-")) -> 10
A41: 広島 | B41: - | C41: - | E41: =[1]④市区長!D38 -> 3 | G41: =[1]⑤市区議!D38 -> 3 | H41: =[1]⑥町村長!C38 -> 5 | I41: =[1]⑦町村議!C38 -> 3 | K41: =SUM(D41:I41) -> 14 | M41: =K41+2-(COUNTIF(B41:C41,"-")) -> 14
A42: 山口 | B42: - | C42: - | E42: =[1]④市区長!D39 -> 4 | G42: =[1]⑤市区議!D39 -> 4 | H42: =[1]⑥町村長!C39 -> 1 | I42: =[1]⑦町村議!C39 -> 1 | K42: =SUM(D42:I42) -> 10 | M42: =K42+2-(COUNTIF(B42:C42,"-")) -> 10
A43: 徳島 | B43: - | C43: - | E43: =[1]④市区長!D40 -> 2 | G43: =[1]⑤市区議!D40 -> - | H43: =[1]⑥町村長!C40 -> - | I43: =[1]⑦町村議!C40 -> 1 | K43: =SUM(D43:I43) -> 3 | M43: =K43+2-(COUNTIF(B43:C43,"-")) -> 3
A44: 香川 | B44: - | C44: - | E44: =[1]④市区長!D41 -> - | G44: =[1]⑤市区議!D41 -> - | H44: =[1]⑥町村長!C41 -> - | I44: =[1]⑦町村議!C41 -> - | K44: =SUM(D44:I44) -> 0 | M44: =K44+2-(COUNTIF(B44:C44,"-")) -> 0
A45: 愛媛 | B45: - | C45: - | E45: =[1]④市区長!D42 -> 4 | G45: =[1]⑤市区議!D42 -> 3 | H45: =[1]⑥町村長!C42 -> 5 | I45: =[1]⑦町村議!C42 -> 1 | K45: =SUM(D45:I45) -> 13 | M45: =K45+2-(COUNTIF(B45:C45,"-")) -> 13
A46: 高知 | B46: - | C46: - | E46: =[1]④市区長!D43 -> 2 | G46: =[1]⑤市区議!D43 -> - | H46: =[1]⑥町村長!C43 -> 5 | I46: =[1]⑦町村議!C43 -> 1 | K46: =SUM(D46:I46) -> 8 | M46: =K46+2-(COUNTIF(B46:C46,"-")) -> 8
A47: 福岡 | B47: - | C47: - | E47: =[1]④市区長!D44 -> 4 | G47: =[1]⑤市区議!D44 -> 3 | H47: =[1]⑥町村長!C44 -> 3 | I47: =[1]⑦町村議!C44 -> - | K47: =SUM(D47:I47) -> 10 | M47: =K47+2-(COUNTIF(B47:C47,"-")) -> 10
A48: 佐賀 | B48: - | C48: - | E48: =[1]④市区長!D45 -> - | G48: =[1]⑤市区議!D45 -> - | H48: =[1]⑥町村長!C45 -> 2 | I48: =[1]⑦町村議!C45 -> - | K48: =SUM(D48:I48) -> 2 | M48: =K48+2-(COUNTIF(B48:C48,"-")) -> 2
A49: 長崎 | B49: - | C49: - | E49: =[1]④市区長!D46 -> 4 | G49: =[1]⑤市区議!D46 -> - | H49: =[1]⑥町村長!C46 -> 2 | I49: =[1]⑦町村議!C46 -> 1 | K49: =SUM(D49:I49) -> 7 | M49: =K49+2-(COUNTIF(B49:C49,"-")) -> 7
A50: 熊本 | B50: 4.15 | C50: - | E50: =[1]④市区長!D47 -> - | G50: =[1]⑤市区議!D47 -> - | H50: =[1]⑥町村長!C47 -> 4 | I50: =[1]⑦町村議!C47 -> 3 | K50: =SUM(D50:I50) -> 7 | M50: =K50+2-(COUNTIF(B50:C50,"-")) -> 8
A51: 大分 | B51: - | C51: - | E51: =[1]④市区長!D48 -> - | G51: =[1]⑤市区議!D48 -> - | H51: =[1]⑥町村長!C48 -> 3 | I51: =[1]⑦町村議!C48 -> - | K51: =SUM(D51:I51) -> 3 | M51: =K51+2-(COUNTIF(B51:C51,"-")) -> 3
A52: 宮崎 | B52: - | C52: - | E52: =[1]④市区長!D49 -> 2 | G52: =[1]⑤市区議!D49 -> - | H52: =[1]⑥町村長!C49 -> 1 | I52: =[1]⑦町村議!C49 -> - | K52: =SUM(D52:I52) -> 3 | M52: =K52+2-(COUNTIF(B52:C52,"-")) -> 3
A53: 鹿児島 | B53: 7.27 | C53: - | E53: =[1]④市区長!D50 -> 3 | G53: =[1]⑤市区議!D50 -> 3 | H53: =[1]⑥町村長!C50 -> 3 | I53: =[1]⑦町村議!C50 -> 9 | K53: =SUM(D53:I53) -> 18 | M53: =K53+2-(COUNTIF(B53:C53,"-")) -> 19
A54: 沖縄 | B54: - | C54: 6.24 | E54: =[1]④市区長!D51 -> 1 | G54: =[1]⑤市区議!D51 -> - | H54: =[1]⑥町村長!C51 -> 8 | I54: =[1]⑦町村議!C51 -> 1 | K54: =SUM(D54:I54) -> 10 | M54: =K54+2-(COUNTIF(B54:C54,"-")) -> 11
A55: 合計 | E55: =D20 -> 3 | K55: =J20 -> 3 | M55: =L20 -> 3
B56: =47-COUNTIF(B8:B54,"-") -> 6 | C56: =47-COUNTIF(C8:C54,"-") -> 1 | E56: =SUM(E8:E54) -> 158 | G56: =SUM(G8:G54) -> 73 | H56: =SUM(H8:H54) -> 193 | I56: =SUM(I8:I54) -> 107 | K56: =SUM(K8:K54) -> 531 | M56: =SUM(M8:M54) -> 538
A57: ※東京都特別区は、市区欄に( )で内書きした。

Sheet ④
A1: 令和２年中における地方公共団体の議会の議員及び長の任期満了に関する調（都道府県別月別任期満了団体数）
A2: （１）市区長 | AC2: （令和元年１１月１日現在）
A3: 区分 | B3: 団 体 数 | D3: 任期満了 | F3: 月別任期満了団体数
D4: 団 体 数 | F4: １月 | H4: ２月 | J4: ３月 | L4: ４月 | N4: ５月 | P4: ６月 | R4: ７月 | T4: ８月 | V4: ９月 | X4: 10月 | Z4: 11月 | AB4: 12月
A5: 北海道 | B5: 35 | D5: 4 | F5: - | H5: - | J5: - | L5: - | N5: - | P5: - | R5: - | T5: 1 | V5: 1 | X5: 1 | Z5: 1 | AB5: -
A6: 青森 | B6: 10 | D6: 1 | F6: - | H6: - | J6: - | L6: - | N6: - | P6: - | R6: - | T6: - | V6: - | X6: - | Z6: 1 | AB6: -
A7: 岩手 | B7: 14 | D7: - | F7: - | H7: - | J7: - | L7: - | N7: - | P7: - | R7: - | T7: - | V7: - | X7: - | Z7: - | AB7: -
A8: 宮城 | B8: 14 | D8: 3 | F8: - | H8: - | J8: - | L8: - | N8: - | P8: - | R8: 1 | T8: 1 | V8: - | X8: - | Z8: 1 | AB8: -
A9: 秋田 | B9: 13 | D9: - | F9: - | H9: - | J9: - | L9: - | N9: - | P9: - | R9: - | T9: - | V9: - | X9: - | Z9: - | AB9: -
A10: 山形 | B10: 13 | D10: 1 | F10: - | H10: - | J10: - | L10: - | N10: - | P10: - | R10: - | T10: - | V10: - | X10: - | Z10: - | AB10: 1
A11: 福島 | B11: 13 | D11: 1 | F11: - | H11: - | J11: - | L11: - | N11: - | P11: - | R11: - | T11: 1 | V11: - | X11: - | Z11: - | AB11: -
A12: 茨城 | B12: 32 | D12: 5 | F12: - | H12: - | J12: - | L12: 1 | N12: - | P12: - | R12: - | T12: 1 | V12: - | X12: - | Z12: 1 | AB12: 2
A13: 栃木 | B13: 14 | D13: 4 | F13: - | H13: - | J13: - | L13: 1 | N13: - | P13: 1 | R13: 1 | T13: - | V13: - | X13: - | Z13: 1 | AB13: -
A14: 群馬 | B14: 12 | D14: 1 | F14: - | H14: 1 | J14: - | L14: - | N14: - | P14: - | R14: - | T14: - | V14: - | X14: - | Z14: - | AB14: -
A15: 埼玉 | B15: 40 | D15: 6 | F15: - | H15: - | J15: - | L15: - | N15: 2 | P15: - | R15: 1 | T15: 1 | V15: - | X15: - | Z15: 2 | AB15: -
A16: 千葉 | B16: 37 | D16: 4 | F16: - | H16: - | J16: - | L16: - | N16: 1 | P16: - | R16: 2 | T16: - | V16: - | X16: 1 | Z16: - | AB16: -
A17: 東京 | B17: 49 | C17: 23 | D17: 8 | E17: 3 | F17: 1 | H17: 1 | J17: - | L17: 1 | M17: 1 | N17: 1 | P17: 1 | Q17: 1 | R17: - | T17: - | V17: - | X17: 1 | Z17: 1 | AA17: 1 | AB17: 1
A18: 神奈川 | B18: 19 | D18: 5 | F18: - | H18: 1 | J18: - | L18: - | N18: 1 | P18: - | R18: 1 | T18: - | V18: 2 | X18: - | Z18: - | AB18: -
A19: 新潟 | B19: 20 | D19: 6 | F19: - | H19: - | J19: - | L19: 2 | N19: - | P19: - | R19: - | T19: - | V19: - | X19: 1 | Z19: 1 | AB19: 2
A20: 富山 | B20: 10 | D20: 3 | F20: - | H20: - | J20: - | L20: - | N20: 1 | P20: - | R20: - | T20: - | V20: - | X20: - | Z20: 2 | AB20: -
A21: 石川 | B21: 11 | D21: 3 | F21: - | H21: - | J21: - | L21: 1 | N21: - | P21: - | R21: - | T21: - | V21: - | X21: 1 | Z21: 1 | AB21: -
A22: 福井 | B22: 9 | D22: 3 | F22: - | H22: - | J22: - | L22: - | N22: - | P22: - | R22: - | T22: 1 | V22: - | X22: 1 | Z22: - | AB22: 1
A23: 山梨 | B23: 13 | D23: 3 | F23: - | H23: - | J23: - | L23: - | N23: - | P23: - | R23: - | T23: - | V23: - | X23: 1 | Z23: 2 | AB23: -
A24: 長野 | B24: 19 | D24: 8 | F24: 2 | H24: - | J24: 1 | L24: 2 | N24: - | P24: - | R24: - | T24: - | V24: - | X24: 1 | Z24: 2 | AB24: -
A25: 岐阜 | B25: 21 | D25: 7 | F25: 1 | H25: - | J25: 2 | L25: 2 | N25: - | P25: - | R25: - | T25: - | V25: - | X25: - | Z25: 1 | AB25: 1
A26: 静岡 | B26: 23 | D26: 6 | F26: - | H26: - | J26: - | L26: 2 | N26: - | P26: 1 | R26: 1 | T26: - | V26: - | X26: - | Z26: - | AB26: 2
A27: 愛知 | B27: 38 | D27: 7 | F27: - | H27: 1 | J27: - | L27: 2 | N27: - | P27: - | R27: - | T27: - | V27: - | X27: 1 | Z27: 1 | AB27: 2
A28: 三重 | B28: 14 | D28: 4 | F28: - | H28: - | J28: - | L28: - | N28: - | P28: - | R28: - | T28: - | V28: - | X28: 1 | Z28: 1 | AB28: 2
A29: 滋賀 | B29: 13 | D29: 5 | F29: 1 | H29: - | J29: 1 | L29: - | N29: - | P29: - | R29: - | T29: - | V29: - | X29: 2 | Z29: 1 | AB29: -
A30: 京都 | B30: 15 | D30: 5 | F30: - | H30: 2 | J30: - | L30: - | N30: 1 | P30: 1 | R30: - | T30: - | V30: - | X30: - | Z30: - | AB30: 1
A31: 大阪 | B31: 33 | D31: 8 | F31: - | H31: - | J31: - | L31: 1 | N31: 1 | P31: - | R31: 2 | T31: 2 | V31: - | X31: 1 | Z31: 1 | AB31: -
A32: 兵庫 | B32: 29 | D32: 4 | F32: - | H32: - | J32: - | L32: 1 | N32: - | P32: 1 | R32: - | T32: - | V32: - | X32: 1 | Z32: - | AB32: 1
A33: 奈良 | B33: 12 | D33: 3 | F33: - | H33: - | J33: - | L33: - | N33: - | P33: 2 | R33: - | T33: - | V33: - | X33: 1 | Z33: - | AB33: -
A34: 和歌山 | B34: 9 | D34: 3 | F34: - | H34: - | J34: - | L34: - | N34: - | P34: 1 | R34: - | T34: - | V34: 1 | X34: 1 | Z34: - | AB34: -
A35: 鳥取 | B35: 4 | D35: 1 | F35: - | H35: - | J35: - | L35: - | N35: - | P35: - | R35: 1 | T35: - | V35: - | X35: - | Z35: - | AB35: -
A36: 島根 | B36: 8 | D36: 3 | H36: - | J36: - | L36: - | N36: - | P36: - | R36: - | T36: 1 | V36: - | X36: 1 | Z36: 1 | AB36: -
A37: 岡山 | B37: 15 | D37: 4 | F37: - | H37: - | J37: - | L37: 1 | N37: 1 | P37: - | R37: - | T37: - | V37: - | X37: 1 | Z37: - | AB37: 1
A38: 広島 | B38: 14 | D38: 3 | F38: - | H38: - | J38: - | L38: 1 | N38: - | P38: - | R38: - | T38: - | V38: 1 | X38: - | Z38: - | AB38: 1
A39: 山口 | B39: 13 | D39: 4 | F39: - | H39: 1 | J39: - | L39: 2 | N39: - | P39: - | R39: - | T39: - | V39: - | X39: - | Z39: 1 | AB39: -
A40: 徳島 | B40: 8 | D40: 2 | F40: - | H40: - | J40: - | L40: 1 | N40: - | P40: 1 | R40: - | T40: - | V40: - | X40: - | Z40: - | AB40: -
A41: 香川 | B41: 8 | D41: - | F41: - | H41: - | J41: - | L41: - | N41: - | P41: - | R41: - | T41: - | V41: - | X41: - | Z41: - | AB41: -
A42: 愛媛 | B42: 11 | D42: 4 | F42: - | H42: - | J42: - | L42: - | N42: 1 | P42: - | R42: - | T42: - | V42: - | X42: - | Z42: 3 | AB42: -
A43: 高知 | B43: 11 | D43: 2 | F43: 1 | H43: - | J43: - | L43: - | N43: - | P43: - | R43: 1 | T43: - | V43: - | X43: - | Z43: - | AB43: -
A44: 福岡 | B44: 29 | D44: 4 | F44: - | H44: - | J44: - | L44: - | N44: - | P44: - | R44: 1 | T44: 1 | V44: - | X44: 1 | Z44: 1 | AB44: -
A45: 佐賀 | B45: 10 | D45: - | F45: - | H45: - | J45: - | L45: - | N45: - | P45: - | R45: - | T45: - | V45: - | X45: - | Z45: - | AB45: -
A46: 長崎 | B46: 13 | D46: 4 | F46: - | H46: - | J46: 1 | L46: 1 | N46: - | P46: - | R46: - | T46: - | V46: 1 | X46: - | Z46: - | AB46: 1
A47: 熊本 | B47: 14 | D47: - | F47: - | H47: - | J47: - | L47: - | N47: - | P47: - | R47: - | T47: - | V47: - | X47: - | Z47: - | AB47: -
A48: 大分 | B48: 14 | D48: - | F48: - | H48: - | J48: - | L48: - | N48: - | P48: - | R48: - | T48: - | V48: - | X48: - | Z48: - | AB48: -
A49: 宮崎 | B49: 9 | D49: 2 | F49: - | H49: - | J49: 1 | L49: - | N49: - | P49: - | R49: - | T49: - | V49: - | X49: - | Z49: 1 | AB49: -
A50: 鹿児島 | B50: 19 | D50: 3 | F50: - | H50: - | J50: - | L50: - | N50: - | P50: - | R50: - | T50: - | V50: - | X50: - | Z50: 2 | AB50: 1
A51: 沖縄 | B51: 11 | D51: 1 | F51: - | H51: - | J51: - | L51: - | N51: - | P51: - | R51: 1 | T51: - | V51: - | X51: - | Z51: - | AB51: -
A52: 合計 | B52: 815 | C52: 23 | D52: 158 | E52: 3 | F52: 6 | H52: 7 | J52: 6 | L52: 22 | M52: 1 | N52: 10 | P52: 9 | Q52: 1 | R52: 13 | T52: 10 | V52: 6 | X52: 19 | Z52: 30 | AA52: 1 | AB52: 20
A53: ※東京都特別区は、市区欄に( )で内書きした。

Sheet ⑤
A2: （２）市区議会議員 | AC2: （令和元年１１月１日現在）
A3: 区分 | B3: 団 体 数 | D3: 任期満了 | F3: 月別任期満了団体数
D4: 団 体 数 | F4: １月 | H4: ２月 | J4: ３月 | L4: ４月 | N4: ５月 | P4: ６月 | R4: ７月 | T4: ８月 | V4: ９月 | X4: 10月 | Z4: 11月 | AB4: 12月
A5: 北海道 | B5: 35 | D5: - | F5: - | H5: - | J5: - | L5: - | N5: - | P5: - | R5: - | T5: - | V5: - | X5: - | Z5: - | AB5: -
A6: 青森 | B6: 10 | D6: 1 | F6: - | H6: - | J6: 1 | L6: - | N6: - | P6: - | R6: - | T6: - | V6: - | X6: - | Z6: - | AB6: -
A7: 岩手 | B7: 14 | D7: 2 | F7: - | H7: - | J7: 1 | L7: - | N7: 1 | P7: - | R7: - | T7: - | V7: - | X7: - | Z7: - | AB7: -
A8: 宮城 | B8: 14 | D8: 2 | F8: 2 | H8: - | J8: - | L8: - | N8: - | P8: - | R8: - | T8: - | V8: - | X8: - | Z8: - | AB8: -
A9: 秋田 | B9: 13 | D9: - | F9: - | H9: - | J9: - | L9: - | N9: - | P9: - | R9: - | T9: - | V9: - | X9: - | Z9: - | AB9: -
A10: 山形 | B10: 13 | D10: 1 | F10: - | H10: - | J10: 1 | L10: - | N10: - | P10: - | R10: - | T10: - | V10: - | X10: - | Z10: - | AB10: -
A11: 福島 | B11: 13 | D11: 1 | F11: - | H11: - | J11: - | L11: - | N11: - | P11: - | R11: - | T11: - | V11: 1 | X11: - | Z11: - | AB11: -
A12: 茨城 | B12: 32 | D12: 7 | F12: - | H12: 5 | J12: 1 | L12: - | N12: - | P12: - | R12: - | T12: - | V12: - | X12: - | Z12: 1 | AB12: -
A13: 栃木 | B13: 14 | D13: - | F13: - | H13: - | J13: - | L13: - | N13: - | P13: - | R13: - | T13: - | V13: - | X13: - | Z13: - | AB13: -
A14: 群馬 | B14: 12 | D14: - | F14: - | H14: - | J14: - | L14: - | N14: - | P14: - | R14: - | T14: - | V14: - | X14: - | Z14: - | AB14: -
A15: 埼玉 | B15: 40 | D15: 4 | F15: - | H15: 2 | J15: - | L15: 2 | N15: - | P15: - | R15: - | T15: - | V15: - | X15: - | Z15: - | AB15: -
A16: 千葉 | B16: 37 | D16: 3 | F16: - | H16: - | J16: 1 | L16: 1 | N16: - | P16: - | R16: - | T16: - | V16: - | X16: - | Z16: 1 | AB16: -
A17: 東京 | B17: 49 | C17: 23 | D17: - | F17: - | H17: - | J17: - | L17: - | N17: - | P17: - | R17: - | T17: - | V17: - | X17: - | Z17: - | AB17: -
A18: 神奈川 | B18: 19 | D18: 1 | F18: - | H18: - | J18: - | L18: - | N18: - | P18: - | R18: - | T18: - | V18: 1 | X18: - | Z18: - | AB18: -
A19: 新潟 | B19: 20 | D19: 4 | F19: - | H19: - | J19: - | L19: 3 | N19: - | P19: - | R19: - | T19: - | V19: - | X19: 1 | Z19: - | AB19: -
A20: 富山 | B20: 10 | D20: 2 | F20: - | H20: - | J20: - | L20: - | N20: 1 | P20: - | R20: - | T20: - | V20: - | X20: - | Z20: 1 | AB20: -
A21: 石川 | B21: 11 | D21: - | F21: - | H21: - | J21: - | L21: - | N21: - | P21: - | R21: - | T21: - | V21: - | X21: - | Z21: - | AB21: -
A22: 福井 | B22: 9 | D22: - | F22: - | H22: - | J22: - | L22: - | N22: - | P22: - | R22: - | T22: - | V22: - | X22: - | Z22: - | AB22: -
A23: 山梨 | B23: 13 | D23: 3 | F23: - | H23: - | J23: - | L23: - | N23: - | P23: - | R23: - | T23: - | V23: - | X23: - | Z23: 3 | AB23: -
A24: 長野 | B24: 19 | D24: 2 | F24: - | H24: - | J24: - | L24: - | N24: - | P24: - | R24: 1 | T24: - | V24: - | X24: - | Z24: 1 | AB24: -
A25: 岐阜 | B25: 21 | D25: 6 | F25: - | H25: - | J25: 1 | L25: 4 | N25: - | P25: - | R25: - | T25: - | V25: - | X25: - | Z25: 1 | AB25: -
A26: 静岡 | B26: 23 | D26: 3 | F26: - | H26: 1 | J26: - | L26: 1 | N26: - | P26: - | R26: - | T26: - | V26: - | X26: 1 | Z26: - | AB26: -
A27: 愛知 | B27: 38 | D27: 3 | F27: - | H27: 1 | J27: - | L27: - | N27: 1 | P27: - | R27: - | T27: - | V27: - | X27: 1 | Z27: - | AB27: -
A28: 三重 | B28: 14 | D28: - | F28: - | H28: - | J28: - | L28: - | N28: - | P28: - | R28: - | T28: - | V28: - | X28: - | Z28: - | AB28: -
A29: 滋賀 | B29: 13 | D29: - | F29: - | H29: - | J29: - | L29: - | N29: - | P29: - | R29: - | T29: - | V29: - | X29: - | Z29: - | AB29: -
A30: 京都 | B30: 15 | D30: 1 | F30: - | H30: - | J30: - | L30: - | N30: 1 | P30: - | R30: - | T30: - | V30: - | X30: - | Z30: - | AB30: -
A31: 大阪 | B31: 33 | D31: 4 | F31: - | H31: - | J31: - | L31: - | N31: 1 | P31: - | R31: - | T31: 1 | V31: 1 | X31: 1 | Z31: - | AB31: -
A32: 兵庫 | B32: 29 | D32: 4 | F32: - | H32: - | J32: - | L32: 1 | N32: - | P32: - | R32: - | T32: - | V32: - | X32: 2 | Z32: - | AB32: 1
A33: 奈良 | B33: 12 | D33: - | F33: - | H33: - | J33: - | L33: - | N33: - | P33: - | R33: - | T33: - | V33: - | X33: - | Z33: - | AB33: -
A34: 和歌山 | B34: 9 | D34: - | F34: - | H34: - | J34: - | L34: - | N34: - | P34: - | R34: - | T34: - | V34: - | X34: - | Z34: - | AB34: -
A35: 鳥取 | B35: 4 | D35: - | F35: - | H35: - | J35: - | L35: - | N35: - | P35: - | R35: - | T35: - | V35: - | X35: - | Z35: - | AB35: -
A36: 島根 | B36: 8 | D36: 1 | F36: - | H36: - | J36: - | L36: - | N36: - | P36: - | R36: - | T36: - | V36: - | X36: - | Z36: 1 | AB36: -
A37: 岡山 | B37: 15 | D37: 2 | F37: - | H37: - | J37: - | L37: 1 | N37: - | P37: - | R37: - | T37: - | V37: - | X37: 1 | Z37: - | AB37: -
A38: 広島 | B38: 14 | D38: 3 | F38: - | H38: - | J38: - | L38: 2 | N38: - | P38: - | R38: - | T38: - | V38: - | X38: - | Z38: 1 | AB38: -
A39: 山口 | B39: 13 | D39: 4 | F39: - | H39: - | J39: - | L39: 1 | N39: - | P39: 1 | R39: - | T39: - | V39: - | X39: - | Z39: 2 | AB39: -
A40: 徳島 | B40: 8 | D40: - | F40: - | H40: - | J40: - | L40: - | N40: - | P40: - | R40: - | T40: - | V40: - | X40: - | Z40: - | AB40: -
A41: 香川 | B41: 8 | D41: - | F41: - | H41: - | J41: - | L41: - | N41: - | P41: - | R41: - | T41: - | V41: - | X41: - | Z41: - | AB41: -
A42: 愛媛 | B42: 11 | D42: 3 | F42: - | H42: - | J42: - | L42: - | N42: 1 | P42: - | R42: - | T42: - | V42: - | X42: - | Z42: 2 | AB42: -
A43: 高知 | B43: 11 | D43: - | F43: - | H43: - | J43: - | L43: - | N43: - | P43: - | R43: - | T43: - | V43: - | X43: - | Z43: - | AB43: -
A44: 福岡 | B44: 29 | D44: 3 | F44: - | H44: - | J44: - | L44: 2 | N44: - | P44: - | R44: - | T44: - | V44: - | X44: 1 | Z44: - | AB44: -
A45: 佐賀 | B45: 10 | D45: - | F45: - | H45: - | J45: - | L45: - | N45: - | P45: - | R45: - | T45: - | V45: - | X45: - | Z45: - | AB45: -
A46: 長崎 | B46: 13 | D46: - | F46: - | H46: - | J46: - | L46: - | N46: - | P46: - | R46: - | T46: - | V46: - | X46: - | Z46: - | AB46: -
A47: 熊本 | B47: 14 | D47: - | F47: - | H47: - | J47: - | L47: - | N47: - | P47: - | R47: - | T47: - | V47: - | X47: - | Z47: - | AB47: -
A48: 大分 | B48: 14 | D48: - | F48: - | H48: - | J48: - | L48: - | N48: - | P48: - | R48: - | T48: - | V48: - | X48: - | Z48: - | AB48: -
A49: 宮崎 | B49: 9 | D49: - | F49: - | H49: - | J49: - | L49: - | N49: - | P49: - | R49: - | T49: - | V49: - | X49: - | Z49: - | AB49: -
A50: 鹿児島 | B50: 19 | D50: 3 | F50: - | H50: - | J50: - | L50: 1 | N50: - | P50: - | R50: - | T50: - | V50: - | X50: - | Z50: 2 | AB50: -
A51: 沖縄 | B51: 11 | D51: - | F51: - | H51: - | J51: - | L51: - | N51: - | P51: - | R51: - | T51: - | V51: - | X51: - | Z51: - | AB51: -
A52: 合計 | B52: 815 | C52: 23 | D52: 73 | F52: 2 | H52: 9 | J52: 6 | L52: 19 | N52: 6 | P52: 1 | R52: 1 | T52: 1 | V52: 3 | X52: 8 | Z52: 16 | AB52: 1
A53: ※東京都特別区は、市区欄に( )で内書きした。

Sheet ⑥
A2: （３）町村長 | O2: （令和元年１１月１日現在）
A3: 区分 | B3: 団 体 数 | C3: 任期満了 | D3: 月別任期満了団体数
C4: 団 体 数 | D4: １月 | E4: ２月 | F4: ３月 | G4: ４月 | H4: ５月 | I4: ６月 | J4: ７月 | K4: ８月 | L4: ９月 | M4: 10月 | N4: 11月 | O4: 12月
A5: 北海道 | B5: 144 | C5: 30 | D5: 1 | E5: 3 | F5: - | G5: 6 | H5: 1 | I5: 4 | J5: 3 | K5: 1 | L5: 2 | M5: 4 | N5: 3 | O5: 2
A6: 青森 | B6: 30 | C6: 6 | D6: 2 | E6: - | F6: - | G6: - | H6: - | I6: - | J6: - | K6: - | L6: - | M6: - | N6: 1 | O6: 3
A7: 岩手 | B7: 19 | C7: 2 | D7: - | E7: - | F7: - | G7: 1 | H7: - | I7: - | J7: 1 | K7: - | L7: - | M7: - | N7: - | O7: -
A8: 宮城 | B8: 21 | C8: 2 | D8: - | E8: - | F8: - | G8: - | H8: - | I8: - | J8: - | K8: - | L8: - | M8: 2 | N8: - | O8: -
A9: 秋田 | B9: 12 | C9: 3 | D9: - | E9: - | F9: - | G9: - | H9: - | I9: - | J9: - | K9: - | L9: 2 | M9: - | N9: 1 | O9: -
A10: 山形 | B10: 22 | C10: 8 | D10: - | E10: 1 | F10: 1 | G10: 2 | H10: - | I10: - | J10: - | K10: 1 | L10: - | M10: 1 | N10: 1 | O10: 1
A11: 福島 | B11: 46 | C11: 10 | D11: 1 | E11: - | F11: - | G11: 2 | H11: - | I11: - | J11: 1 | K11: - | L11: 2 | M11: 1 | N11: 2 | O11: 1
A12: 茨城 | B12: 12 | C12: 1 | D12: - | E12: - | F12: - | G12: - | H12: - | I12: - | J12: - | K12: - | L12: 1 | M12: - | N12: - | O12: -
A13: 栃木 | B13: 11 | C13: 2 | D13: - | E13: - | F13: - | G13: - | H13: - | I13: - | J13: - | K13: 2 | L13: - | M13: - | N13: - | O13: -
A14: 群馬 | B14: 23 | C14: 6 | D14: 1 | E14: - | F14: 1 | G14: - | H14: 1 | I14: - | J14: 1 | K14: - | L14: - | M14: - | N14: 1 | O14: 1
A15: 埼玉 | B15: 23 | C15: 5 | D15: - | E15: - | F15: - | G15: - | H15: 2 | I15: - | J15: 1 | K15: - | L15: 2 | M15: - | N15: - | O15: -
A16: 千葉 | B16: 17 | C16: 5 | D16: - | E16: - | F16: 1 | G16: - | H16: 1 | I16: - | J16: 2 | K16: - | L16: - | M16: - | N16: - | O16: 1
A17: 東京 | B17: 13 | C17: 2 | D17: - | E17: 1 | F17: - | G17: - | H17: 1 | I17: - | J17: - | K17: - | L17: - | M17: - | N17: - | O17: -
A18: 神奈川 | B18: 14 | C18: 3 | D18: 1 | E18: - | F18: - | G18: - | H18: - | I18: - | J18: - | K18: - | L18: 1 | M18: - | N18: 1 | O18: -
A19: 新潟 | B19: 10 | C19: 2 | D19: - | E19: 1 | F19: - | G19: - | H19: - | I19: - | J19: - | K19: - | L19: - | M19: - | N19: - | O19: 1
A20: 富山 | B20: 5 | C20: - | D20: - | E20: - | F20: - | G20: - | H20: - | I20: - | J20: - | K20: - | L20: - | M20: - | N20: - | O20: -
A21: 石川 | B21: 8 | C21: - | D21: - | E21: - | F21: - | G21: - | H21: - | I21: - | J21: - | K21: - | L21: - | M21: - | N21: - | O21: -
A22: 福井 | B22: 8 | C22: 1 | D22: - | E22: - | F22: - | G22: - | H22: 1 | I22: - | J22: - | K22: - | L22: - | M22: - | N22: - | O22: -
A23: 山梨 | B23: 14 | C23: 6 | D23: - | E23: 1 | F23: - | G23: - | H23: - | I23: 1 | J23: - | K23: - | L23: - | M23: 1 | N23: 2 | O23: 1
A24: 長野 | B24: 58 | C24: 11 | D24: - | E24: 1 | F24: 2 | G24: - | H24: 2 | I24: - | J24: 2 | K24: - | L24: - | M24: 1 | N24: 2 | O24: 1
A25: 岐阜 | B25: 21 | C25: 6 | D25: 1 | E25: - | F25: 1 | G25: - | H25: - | I25: 1 | J25: - | K25: - | L25: - | M25: - | N25: 2 | O25: 1
A26: 静岡 | B26: 12 | C26: 1 | D26: - | E26: - | F26: 1 | G26: - | H26: - | I26: - | J26: - | K26: - | L26: - | M26: - | N26: - | O26: -
A27: 愛知 | B27: 16 | C27: 3 | D27: - | E27: - | F27: - | G27: 1 | H27: 1 | I27: - | J27: - | K27: - | L27: - | M27: - | N27: 1 | O27: -
A28: 三重 | B28: 15 | C28: 1 | D28: - | E28: 1 | F28: - | G28: - | H28: - | I28: - | J28: - | K28: - | L28: - | M28: - | N28: - | O28: -
A29: 滋賀 | B29: 6 | C29: 3 | D29: - | E29: - | F29: 1 | G29: - | H29: - | I29: 1 | J29: 1 | K29: - | L29: - | M29: - | N29: - | O29: -
A30: 京都 | B30: 11 | C30: 2 | D30: - | E30: - | F30: 1 | G30: - | H30: - | I30: - | J30: - | K30: 1 | L30: - | M30: - | N30: - | O30: -
A31: 大阪 | B31: 10 | C31: 5 | D31: 1 | E31: - | F31: - | G31: 1 | H31: - | I31: - | J31: 1 | K31: - | L31: - | M31: 2 | N31: - | O31: -
A32: 兵庫 | B32: 12 | C32: 1 | D32: - | E32: - | F32: - | G32: - | H32: - | I32: - | J32: - | K32: 1 | L32: - | M32: - | N32: - | O32: -
A33: 奈良 | B33: 27 | C33: 7 | D33: 1 | E33: 1 | F33: 1 | G33: - | H33: - | I33: - | J33: 2 | K33: - | L33: - | M33: - | N33: 1 | O33: 1
A34: 和歌山 | B34: 21 | C34: 8 | D34: - | E34: 1 | F34: - | G34: - | H34: 2 | I34: 1 | J34: 1 | K34: 1 | L34: 1 | M34: 1 | N34: - | O34: -
A35: 鳥取 | B35: 15 | C35: 3 | D35: - | E35: - | F35: - | G35: - | H35: - | I35: 1 | J35: 1 | K35: - | L35: - | M35: 1 | N35: - | O35: -
A36: 島根 | B36: 11 | C36: 4 | D36: - | E36: 1 | F36: - | G36: - | H36: - | I36: - | J36: - | K36: - | L36: - | M36: 2 | N36: 1 | O36: -
A37: 岡山 | B37: 12 | C37: 2 | D37: - | E37: - | F37: - | G37: - | H37: - | I37: - | J37: 1 | K37: - | L37: - | M37: 1 | N37: - | O37: -
A38: 広島 | B38: 9 | C38: 5 | D38: - | E38: - | F38: - | G38: - | H38: - | I38: 1 | J38: - | K38: - | L38: - | M38: 2 | N38: 1 | O38: 1
A39: 山口 | B39: 6 | C39: 1 | D39: - | E39: - | F39: - | G39: - | H39: - | I39: - | J39: - | K39: - | L39: - | M39: - | N39: 1 | O39: -
A40: 徳島 | B40: 16 | C40: - | D40: - | E40: - | F40: - | G40: - | H40: - | I40: - | J40: - | K40: - | L40: - | M40: - | N40: - | O40: -
A41: 香川 | B41: 9 | C41: - | D41: - | E41: - | F41: - | G41: - | H41: - | I41: - | J41: - | K41: - | L41: - | M41: - | N41: - | O41: -
A42: 愛媛 | B42: 9 | C42: 5 | D42: - | E42: - | F42: - | G42: - | H42: - | I42: - | J42: - | K42: - | L42: 1 | M42: 2 | N42: 2 | O42: -
A43: 高知 | B43: 23 | C43: 5 | D43: - | E43: - | F43: - | G43: - | H43: 1 | I43: 1 | J43: - | K43: - | L43: - | M43: 1 | N43: 1 | O43: 1
A44: 福岡 | B44: 31 | C44: 3 | D44: 1 | E44: - | F44: - | G44: - | H44: - | I44: - | J44: - | K44: - | L44: - | M44: 1 | N44: 1 | O44: -
A45: 佐賀 | B45: 10 | C45: 2 | D45: - | E45: 2 | F45: - | G45: - | H45: - | I45: - | J45: - | K45: - | L45: - | M45: - | N45: - | O45: -
A46: 長崎 | B46: 8 | C46: 2 | D46: - | E46: - | F46: - | G46: - | H46: 1 | I46: - | J46: - | K46: 1 | L46: - | M46: - | N46: - | O46: -
A47: 熊本 | B47: 31 | C47: 4 | D47: - | E47: - | F47: 2 | G47: - | H47: - | I47: - | J47: - | K47: - | L47: 1 | M47: - | N47: - | O47: 1
A48: 大分 | B48: 4 | C48: 3 | D48: - | E48: - | F48: - | G48: - | H48: - | I48: - | J48: - | K48: - | L48: 1 | M48: 1 | N48: 1 | O48: -
A49: 宮崎 | B49: 17 | C49: 1 | D49: - | E49: - | F49: - | G49: - | H49: - | I49: - | J49: - | K49: - | L49: - | M49: - | N49: - | O49: 1
A50: 鹿児島 | B50: 24 | C50: 3 | D50: - | E50: - | F50: 1 | G50: - | H50: 1 | I50: - | J50: - | K50: - | L50: - | M50: 1 | N50: - | O50: -
A51: 沖縄 | B51: 30 | C51: 8 | D51: - | E51: - | F51: - | G51: 1 | H51: - | I51: - | J51: 2 | K51: 1 | L51: 1 | M51: 1 | N51: - | O51: 2
A52: 合計 | B52: 926 | C52: 193 | D52: 10 | E52: 14 | F52: 13 | G52: 14 | H52: 15 | I52: 11 | J52: 20 | K52: 9 | L52: 15 | M52: 26 | N52: 26 | O52: 20

Sheet ⑦
A2: （４）町村議会議員 | O2: （令和元年１１月１日現在）
A3: 区分 | B3: 団 体 数 | C3: 任期満了 | D3: 月別任期満了団体数
C4: 団 体 数 | D4: １月 | E4: ２月 | F4: ３月 | G4: ４月 | H4: ５月 | I4: ６月 | J4: ７月 | K4: ８月 | L4: ９月 | M4: 10月 | N4: 11月 | O4: 12月
A5: 北海道 | B5: 144 | C5: 6 | D5: - | E5: - | F5: - | G5: 3 | H5: - | I5: - | J5: - | K5: - | L5: 1 | M5: - | N5: 2 | O5: -
A6: 青森 | B6: 30 | C6: 8 | D6: - | E6: 2 | F6: 5 | G6: - | H6: - | I6: - | J6: 1 | K6: - | L6: - | M6: - | N6: - | O6: -
A7: 岩手 | B7: 19 | C7: 4 | D7: 1 | E7: 1 | F7: - | G7: 1 | H7: - | I7: - | J7: 1 | K7: - | L7: - | M7: - | N7: - | O7: -
A8: 宮城 | B8: 21 | C8: 4 | D8: - | E8: 1 | F8: 3 | G8: - | H8: - | I8: - | J8: - | K8: - | L8: - | M8: - | N8: - | O8: -
A9: 秋田 | B9: 12 | C9: 6 | D9: 1 | E9: - | F9: 4 | G9: - | H9: - | I9: - | J9: - | K9: - | L9: 1 | M9: - | N9: - | O9: -
A10: 山形 | B10: 22 | C10: - | D10: - | E10: - | F10: - | G10: - | H10: - | I10: - | J10: - | K10: - | L10: - | M10: - | N10: - | O10: -
A11: 福島 | B11: 46 | C11: 15 | D11: 1 | E11: 1 | F11: 11 | G11: 1 | H11: 1 | I11: - | J11: - | K11: - | L11: - | M11: - | N11: - | O11: -
A12: 茨城 | B12: 12 | C12: 4 | D12: 1 | E12: 1 | F12: 2 | G12: - | H12: - | I12: - | J12: - | K12: - | L12: - | M12: - | N12: - | O12: -
A13: 栃木 | B13: 11 | C13: 1 | D13: 1 | E13: - | F13: - | G13: - | H13: - | I13: - | J13: - | K13: - | L13: - | M13: - | N13: - | O13: -
A14: 群馬 | B14: 23 | C14: 1 | D14: - | E14: - | F14: 1 | G14: - | H14: - | I14: - | J14: - | K14: - | L14: - | M14: - | N14: - | O14: -
A15: 埼玉 | B15: 23 | C15: 3 | D15: - | E15: 2 | F15: - | G15: 1 | H15: - | I15: - | J15: - | K15: - | L15: - | M15: - | N15: - | O15: -
A16: 千葉 | B16: 17 | C16: 3 | D16: 1 | E16: 1 | F16: - | G16: 1 | H16: - | I16: - | J16: - | K16: - | L16: - | M16: - | N16: - | O16: -
A17: 東京 | B17: 13 | C17: 2 | D17: - | E17: 1 | F17: - | G17: - | H17: - | I17: - | J17: - | K17: - | L17: - | M17: 1 | N17: - | O17: -
A18: 神奈川 | B18: 14 | C18: 2 | D18: - | E18: - | F18: 1 | G18: - | H18: - | I18: - | J18: - | K18: - | L18: 1 | M18: - | N18: - | O18: -
A19: 新潟 | B19: 10 | C19: - | D19: - | E19: - | F19: - | G19: - | H19: - | I19: - | J19: - | K19: - | L19: - | M19: - | N19: - | O19: -
A20: 富山 | B20: 5 | C20: - | D20: - | E20: - | F20: - | G20: - | H20: - | I20: - | J20: - | K20: - | L20: - | M20: - | N20: - | O20: -
A21: 石川 | B21: 8 | C21: - | D21: - | E21: - | F21: - | G21: - | H21: - | I21: - | J21: - | K21: - | L21: - | M21: - | N21: - | O21: -
A22: 福井 | B22: 8 | C22: - | D22: - | E22: - | F22: - | G22: - | H22: - | I22: - | J22: - | K22: - | L22: - | M22: - | N22: - | O22: -
A23: 山梨 | B23: 14 | C23: 3 | D23: - | E23: - | F23: - | G23: - | H23: 1 | I23: - | J23: - | K23: - | L23: - | M23: 1 | N23: 1 | O23: -
A24: 長野 | B24: 58 | C24: 5 | D24: - | E24: - | F24: - | G24: 2 | H24: - | I24: - | J24: 1 | K24: - | L24: - | M24: - | N24: 2 | O24: -
A25: 岐阜 | B25: 21 | C25: 2 | D25: - | E25: - | F25: 2 | G25: - | H25: - | I25: - | J25: - | K25: - | L25: - | M25: - | N25: - | O25: -
A26: 静岡 | B26: 12 | C26: - | D26: - | E26: - | F26: - | G26: - | H26: - | I26: - | J26: - | K26: - | L26: - | M26: - | N26: - | O26: -
A27: 愛知 | B27: 16 | C27: 1 | D27: - | E27: - | F27: - | G27: - | H27: 1 | I27: - | J27: - | K27: - | L27: - | M27: - | N27: - | O27: -
A28: 三重 | B28: 15 | C28: 2 | D28: - | E28: 1 | F28: - | G28: - | H28: - | I28: - | J28: - | K28: - | L28: - | M28: - | N28: 1 | O28: -
A29: 滋賀 | B29: 6 | C29: 2 | D29: - | E29: 1 | F29: 1 | G29: - | H29: - | I29: - | J29: - | K29: - | L29: - | M29: - | N29: - | O29: -
A30: 京都 | B30: 11 | C30: 3 | D30: - | E30: - | F30: 1 | G30: - | H30: - | I30: - | J30: - | K30: - | L30: - | M30: 1 | N30: 1 | O30: -
A31: 大阪 | B31: 10 | C31: 2 | D31: - | E31: - | F31: - | G31: - | H31: - | I31: - | J31: - | K31: - | L31: - | M31: 2 | N31: - | O31: -
A32: 兵庫 | B32: 12 | C32: - | D32: - | E32: - | F32: - | G32: - | H32: - | I32: - | J32: - | K32: - | L32: - | M32: - | N32: - | O32: -
A33: 奈良 | B33: 27 | C33: 2 | D33: - | E33: - | F33: - | G33: 1 | H33: - | I33: - | J33: - | K33: - | L33: - | M33: - | N33: - | O33: 1
A34: 和歌山 | B34: 21 | C34: 2 | D34: - | E34: - | F34: - | G34: - | H34: - | I34: 1 | J34: - | K34: - | L34: - | M34: 1 | N34: - | O34: -
A35: 鳥取 | B35: 15 | C35: 1 | D35: - | E35: - | F35: - | G35: - | H35: - | I35: - | J35: - | K35: - | L35: - | M35: 1 | N35: - | O35: -
A36: 島根 | B36: 11 | C36: 1 | D36: - | E36: - | F36: - | G36: 1 | H36: - | I36: - | J36: - | K36: - | L36: - | M36: - | N36: - | O36: -
A37: 岡山 | B37: 12 | C37: 1 | D37: - | E37: - | F37: - | G37: - | H37: - | I37: - | J37: - | K37: - | L37: - | M37: 1 | N37: - | O37: -
A38: 広島 | B38: 9 | C38: 3 | D38: - | E38: - | F38: - | G38: - | H38: - | I38: - | J38: - | K38: - | L38: 1 | M38: 1 | N38: - | O38: 1
A39: 山口 | B39: 6 | C39: 1 | D39: - | E39: - | F39: - | G39: - | H39: - | I39: - | J39: - | K39: - | L39: - | M39: - | N39: 1 | O39: -
A40: 徳島 | B40: 16 | C40: 1 | D40: - | E40: 1 | F40: - | G40: - | H40: - | I40: - | J40: - | K40: - | L40: - | M40: - | N40: - | O40: -
A41: 香川 | B41: 9 | C41: - | D41: - | E41: - | F41: - | G41: - | H41: - | I41: - | J41: - | K41: - | L41: - | M41: - | N41: - | O41: -
A42: 愛媛 | B42: 9 | C42: 1 | D42: - | E42: - | F42: - | G42: - | H42: - | I42: - | J42: - | K42: - | L42: - | M42: - | N42: 1 | O42: -
A43: 高知 | B43: 23 | C43: 1 | D43: - | E43: - | F43: - | G43: - | H43: - | I43: - | J43: - | K43: - | L43: - | M43: 1 | N43: - | O43: -
A44: 福岡 | B44: 31 | C44: - | D44: - | E44: - | F44: - | G44: - | H44: - | I44: - | J44: - | K44: - | L44: - | M44: - | N44: - | O44: -
A45: 佐賀 | B45: 10 | C45: - | D45: - | E45: - | F45: - | G45: - | H45: - | I45: - | J45: - | K45: - | L45: - | M45: - | N45: - | O45: -
A46: 長崎 | B46: 8 | C46: 1 | D46: - | E46: - | F46: - | G46: - | H46: - | I46: - | J46: - | K46: - | L46: - | M46: 1 | N46: - | O46: -
A47: 熊本 | B47: 31 | C47: 3 | D47: - | E47: - | F47: - | G47: 1 | H47: - | I47: - | J47: - | K47: - | L47: 1 | M47: - | N47: 1 | O47: -
A48: 大分 | B48: 4 | C48: - | D48: - | E48: - | F48: - | G48: - | H48: - | I48: - | J48: - | K48: - | L48: - | M48: - | N48: - | O48: -
A49: 宮崎 | B49: 17 | C49: - | D49: - | E49: - | F49: - | G49: - | H49: - | I49: - | J49: - | K49: - | L49: - | M49: - | N49: - | O49: -
A50: 鹿児島 | B50: 24 | C50: 9 | D50: - | E50: - | F50: - | G50: - | H50: 1 | I50: 1 | J50: - | K50: - | L50: 5 | M50: 1 | N50: - | O50: 1
A51: 沖縄 | B51: 30 | C51: 1 | D51: - | E51: - | F51: - | G51: - | H51: - | I51: - | J51: - | K51: - | L51: - | M51: - | N51: - | O51: 1
A52: 合計 | B52: 926 | C52: 107 | D52: 6 | E52: 13 | F52: 31 | G52: 12 | H52: 4 | I52: 2 | J52: 3 | K52: 0 | L52: 10 | M52: 12 | N52: 10 | O52: 4

Sheet ⑧
A2: （５）市区町村計 | AC2: （令和元年１１月１日現在）
A3: 区分 | B3: 団 体 数 | D3: 任期満了 | F3: 月別任期満了団体数
D4: 団 体 数 | F4: １月 | H4: ２月 | J4: ３月 | L4: ４月 | N4: ５月 | P4: ６月 | R4: ７月 | T4: ８月 | V4: ９月 | X4: 10月 | Z4: 11月 | AB4: 12月
A5: 北海道 | B5: 179 | D5: 40 | F5: 1 | H5: 3 | J5: - | L5: 9 | N5: 1 | P5: 4 | R5: 3 | T5: 2 | V5: 4 | X5: 5 | Z5: 6 | AB5: 2
A6: 青森 | B6: 40 | D6: 16 | F6: 2 | H6: 2 | J6: 6 | L6: - | N6: - | P6: - | R6: 1 | T6: - | V6: - | X6: - | Z6: 2 | AB6: 3
A7: 岩手 | B7: 33 | D7: 8 | F7: 1 | H7: 1 | J7: 1 | L7: 2 | N7: 1 | P7: - | R7: 2 | T7: - | V7: - | X7: - | Z7: - | AB7: -
A8: 宮城 | B8: 35 | D8: 11 | F8: 2 | H8: 1 | J8: 3 | L8: - | N8: - | P8: - | R8: 1 | T8: 1 | V8: - | X8: 2 | Z8: 1 | AB8: -
A9: 秋田 | B9: 25 | D9: 9 | F9: 1 | H9: - | J9: 4 | L9: - | N9: - | P9: - | R9: - | T9: - | V9: 3 | X9: - | Z9: 1 | AB9: -
A10: 山形 | B10: 35 | D10: 10 | F10: - | H10: 1 | J10: 2 | L10: 2 | N10: - | P10: - | R10: - | T10: 1 | V10: - | X10: 1 | Z10: 1 | AB10: 2
A11: 福島 | B11: 59 | D11: 27 | F11: 2 | H11: 1 | J11: 11 | L11: 3 | N11: 1 | P11: - | R11: 1 | T11: 1 | V11: 3 | X11: 1 | Z11: 2 | AB11: 1
A12: 茨城 | B12: 44 | D12: 17 | F12: 1 | H12: 6 | J12: 3 | L12: 1 | N12: - | P12: - | R12: - | T12: 1 | V12: 1 | X12: - | Z12: 2 | AB12: 2
A13: 栃木 | B13: 25 | D13: 7 | F13: 1 | H13: - | J13: - | L13: 1 | N13: - | P13: 1 | R13: 1 | T13: 2 | V13: - | X13: - | Z13: 1 | AB13: -
A14: 群馬 | B14: 35 | D14: 8 | F14: 1 | H14: 1 | J14: 2 | L14: - | N14: 1 | P14: - | R14: 1 | T14: - | V14: - | X14: - | Z14: 1 | AB14: 1
A15: 埼玉 | B15: 63 | D15: 18 | F15: - | H15: 4 | J15: - | L15: 3 | N15: 4 | P15: - | R15: 2 | T15: 1 | V15: 2 | X15: - | Z15: 2 | AB15: -
A16: 千葉 | B16: 54 | D16: 15 | F16: 1 | H16: 1 | J16: 2 | L16: 2 | N16: 2 | P16: - | R16: 4 | T16: - | V16: - | X16: 1 | Z16: 1 | AB16: 1
A17: 東京 | B17: 62 | C17: 23 | D17: 12 | E17: 3 | F17: 1 | H17: 3 | J17: - | L17: 1 | M17: 1 | N17: 2 | P17: 1 | Q17: 1 | R17: - | T17: - | V17: - | X17: 2 | Z17: 1 | AA17: 1 | AB17: 1
A18: 神奈川 | B18: 33 | D18: 11 | F18: 1 | H18: 1 | J18: 1 | L18: - | N18: 1 | P18: - | R18: 1 | T18: - | V18: 5 | X18: - | Z18: 1 | AB18: -
A19: 新潟 | B19: 30 | D19: 12 | F19: - | H19: 1 | J19: - | L19: 5 | N19: - | P19: - | R19: - | T19: - | V19: - | X19: 2 | Z19: 1 | AB19: 3
A20: 富山 | B20: 15 | D20: 5 | F20: - | H20: - | J20: - | L20: - | N20: 2 | P20: - | R20: - | T20: - | V20: - | X20: - | Z20: 3 | AB20: -
A21: 石川 | B21: 19 | D21: 3 | F21: - | H21: - | J21: - | L21: 1 | N21: - | P21: - | R21: - | T21: - | V21: - | X21: 1 | Z21: 1 | AB21: -
A22: 福井 | B22: 17 | D22: 4 | F22: - | H22: - | J22: - | L22: - | N22: 1 | P22: - | R22: - | T22: 1 | V22: - | X22: 1 | Z22: - | AB22: 1
A23: 山梨 | B23: 27 | D23: 15 | F23: - | H23: 1 | J23: - | L23: - | N23: 1 | P23: 1 | R23: - | T23: - | V23: - | X23: 3 | Z23: 8 | AB23: 1
A24: 長野 | B24: 77 | D24: 26 | F24: 2 | H24: 1 | J24: 3 | L24: 4 | N24: 2 | P24: - | R24: 4 | T24: - | V24: - | X24: 2 | Z24: 7 | AB24: 1
A25: 岐阜 | B25: 42 | D25: 21 | F25: 2 | H25: - | J25: 6 | L25: 6 | N25: - | P25: 1 | R25: - | T25: - | V25: - | X25: - | Z25: 4 | AB25: 2
A26: 静岡 | B26: 35 | D26: 10 | F26: - | H26: 1 | J26: 1 | L26: 3 | N26: - | P26: 1 | R26: 1 | T26: - | V26: - | X26: 1 | Z26: - | AB26: 2
A27: 愛知 | B27: 54 | D27: 14 | F27: - | H27: 2 | J27: - | L27: 3 | N27: 3 | P27: - | R27: - | T27: - | V27: - | X27: 2 | Z27: 2 | AB27: 2
A28: 三重 | B28: 29 | D28: 7 | F28: - | H28: 2 | J28: - | L28: - | N28: - | P28: - | R28: - | T28: - | V28: - | X28: 1 | Z28: 2 | AB28: 2
A29: 滋賀 | B29: 19 | D29: 10 | F29: 1 | H29: 1 | J29: 3 | L29: - | N29: - | P29: 1 | R29: 1 | T29: - | V29: - | X29: 2 | Z29: 1 | AB29: -
A30: 京都 | B30: 26 | D30: 11 | F30: - | H30: 2 | J30: 2 | L30: - | N30: 2 | P30: 1 | R30: - | T30: 1 | V30: - | X30: 1 | Z30: 1 | AB30: 1
A31: 大阪 | B31: 43 | D31: 19 | F31: 1 | H31: - | J31: - | L31: 2 | N31: 2 | P31: - | R31: 3 | T31: 3 | V31: 1 | X31: 6 | Z31: 1 | AB31: -
A32: 兵庫 | B32: 41 | D32: 9 | F32: - | H32: - | J32: - | L32: 2 | N32: - | P32: 1 | R32: - | T32: 1 | V32: - | X32: 3 | Z32: - | AB32: 2
A33: 奈良 | B33: 39 | D33: 12 | F33: 1 | H33: 1 | J33: 1 | L33: 1 | N33: - | P33: 2 | R33: 2 | T33: - | V33: - | X33: 1 | Z33: 1 | AB33: 2
A34: 和歌山 | B34: 30 | D34: 13 | F34: - | H34: 1 | J34: - | L34: - | N34: 2 | P34: 3 | R34: 1 | T34: 1 | V34: 2 | X34: 3 | Z34: - | AB34: -
A35: 鳥取 | B35: 19 | D35: 5 | F35: - | H35: - | J35: - | L35: - | N35: - | P35: 1 | R35: 2 | T35: - | V35: - | X35: 2 | Z35: - | AB35: -
A36: 島根 | B36: 19 | D36: 9 | F36: - | H36: 1 | J36: - | L36: 1 | N36: - | P36: - | R36: - | T36: 1 | V36: - | X36: 3 | Z36: 3 | AB36: -
A37: 岡山 | B37: 27 | D37: 9 | F37: - | H37: - | J37: - | L37: 2 | N37: 1 | P37: - | R37: 1 | T37: - | V37: - | X37: 4 | Z37: - | AB37: 1
A38: 広島 | B38: 23 | D38: 14 | F38: - | H38: - | J38: - | L38: 3 | N38: - | P38: 1 | R38: - | T38: - | V38: 2 | X38: 3 | Z38: 2 | AB38: 3
A39: 山口 | B39: 19 | D39: 10 | F39: - | H39: 1 | J39: - | L39: 3 | N39: - | P39: 1 | R39: - | T39: - | V39: - | X39: - | Z39: 5 | AB39: -
A40: 徳島 | B40: 24 | D40: 3 | F40: - | H40: 1 | J40: - | L40: 1 | N40: - | P40: 1 | R40: - | T40: - | V40: - | X40: - | Z40: - | AB40: -
A41: 香川 | B41: 17 | D41: 0 | F41: - | H41: - | J41: - | L41: - | N41: - | P41: - | R41: - | T41: - | V41: - | X41: - | Z41: - | AB41: -
A42: 愛媛 | B42: 20 | D42: 13 | F42: - | H42: - | J42: - | L42: - | N42: 2 | P42: - | R42: - | T42: - | V42: 1 | X42: 2 | Z42: 8 | AB42: -
A43: 高知 | B43: 34 | D43: 8 | F43: 1 | H43: - | J43: - | L43: - | N43: 1 | P43: 1 | R43: 1 | T43: - | V43: - | X43: 2 | Z43: 1 | AB43: 1
A44: 福岡 | B44: 60 | D44: 10 | F44: 1 | H44: - | J44: - | L44: 2 | N44: - | P44: - | R44: 1 | T44: 1 | V44: - | X44: 3 | Z44: 2 | AB44: -
A45: 佐賀 | B45: 20 | D45: 2 | F45: - | H45: 2 | J45: - | L45: - | N45: - | P45: - | R45: - | T45: - | V45: - | X45: - | Z45: - | AB45: -
A46: 長崎 | B46: 21 | D46: 7 | F46: - | H46: - | J46: 1 | L46: 1 | N46: 1 | P46: - | R46: - | T46: 1 | V46: 1 | X46: 1 | Z46: - | AB46: 1
A47: 熊本 | B47: 45 | D47: 7 | F47: - | H47: - | J47: 2 | L47: 1 | N47: - | P47: - | R47: - | T47: - | V47: 2 | X47: - | Z47: 1 | AB47: 1
A48: 大分 | B48: 18 | D48: 3 | F48: - | H48: - | J48: - | L48: - | N48: - | P48: - | R48: - | T48: - | V48: 1 | X48: 1 | Z48: 1 | AB48: -
A49: 宮崎 | B49: 26 | D49: 3 | F49: - | H49: - | J49: 1 | L49: - | N49: - | P49: - | R49: - | T49: - | V49: - | X49: - | Z49: 1 | AB49: 1
A50: 鹿児島 | B50: 43 | D50: 18 | F50: - | H50: - | J50: 1 | L50: 1 | N50: 2 | P50: 1 | R50: - | T50: - | V50: 5 | X50: 2 | Z50: 4 | AB50: 2
A51: 沖縄 | B51: 41 | D51: 10 | F51: - | H51: - | J51: - | L51: 1 | N51: - | P51: - | R51: 3 | T51: 1 | V51: 1 | X51: 1 | Z51: - | AB51: 3
A52: 合計 | B52: 1741 | C52: 23 | D52: 531 | E52: 3 | F52: 24 | H52: 43 | J52: 56 | L52: 67 | M52: 1 | N52: 35 | P52: 23 | Q52: 1 | R52: 37 | T52: 20 | V52: 34 | X52: 65 | Z52: 82 | AA52: 1 | AB52: 45
A53: ※東京都特別区は、市区欄に( )で内書きした。

Sheet ⑨
A1: 令和２年中における地方公共団体の議会の議員及び長の任期満了に関する調（任期満了団体）
A2: （１）市区長
A4: 北海道 | B4: 登別市 | C4: (2.08.27) | E4: 岩見沢市 | F4: (2.09.08) | H4: 歌志内市 | I4: (2.10.25) | K4: 釧路市 | L4: (2.11.01)
A5: 青森県 | B5: 青森市 | C5: (2.11.26)
A6: 岩手県 | B6: 該当なし
A7: 宮城県 | B7: 名取市 | C7: (2.07.24) | E7: 角田市 | F7: (2.08.09) | H7: 白石市 | I7: (2.11.13)
A8: 秋田県 | B8: 該当なし
A9: 山形県 | B9: 天童市 | C9: (2.12.25)
A10: 福島県 | B10: 須賀川市 | C10: (2.08.10)
A11: 茨城県 | B11: 常陸大宮市 | C11: (2.04.22) | E11: 常総市 | F11: (2.08.02) | H11: つくば市 | I11: (2.11.16) | K11: 守谷市 | L11: (2.12.05) | N11: 古河市 | O11: (2.12.15)
A12: 栃木県 | B12: 矢板市 | C12: (2.04.16) | E12: 鹿沼市 | F12: (2.06.20) | H12: 小山市 | I12: (2.07.30) | K12: 宇都宮市 | L12: (2.11.27)
A13: 群馬県 | B13: 前橋市 | C13: (2.02.27)
A14: 埼玉県 | B14: 坂戸市 | C14: (2.05.11) | E14: 日高市 | F14: (2.05.19) | H14: 新座市 | I14: (2.07.25) | K14: 富士見市 | L14: (2.08.19) | N14: 入間市 | O14: (2.11.17)
B15: 白岡市 | C15: (2.11.25)
A16: 千葉県 | B16: 茂原市 | C16: (2.05.20) | E16: 野田市 | F16: (2.07.03) | H16: 印西市 | I16: (2.07.27) | K16: 富津市 | L16: (2.10.05)
A17: 東京都 | B17: 八王子市 | C17: (2.01.28) | E17: 府中市 | F17: (2.02.09) | H17: 目黒区 | I17: (2.04.24) | K17: 福生市 | L17: (2.05.20) | N17: 港区 | O17: (2.06.27)
B18: 昭島市 | C18: (2.10.20) | E18: 荒川区 | F18: (2.11.13) | H18: 国立市 | I18: (2.12.24)
A19: 神奈川県 | B19: 藤沢市 | C19: (2.02.25) | E19: 小田原市 | F19: (2.05.23) | H19: 綾瀬市 | I19: (2.07.24) | K19: 座間市 | L19: (2.09.30) | N19: 伊勢原市 | O19: (2.09.30)
A20: 新潟県 | B20: 佐渡市 | C20: (2.04.17) | E20: 阿賀野市 | F20: (2.04.24) | H20: 長岡市 | I20: (2.10.15) | K20: 南魚沼市 | L20: (2.11.27) | N20: 柏崎市 | O20: (2.12.05)
B21: 魚沼市 | C21: (2.12.11)
A22: 富山県 | B22: 魚津市 | C22: (2.05.09) | E22: 砺波市 | F22: (2.11.27) | H22: 南砺市 | I22: (2.11.27)
A23: 石川県 | B23: かほく市 | C23: (2.04.10) | E23: 羽咋市 | F23: (2.10.31) | H23: 七尾市 | I23: (2.11.06)
A24: 福井県 | B24: 小浜市 | C24: (2.08.04) | E24: 鯖江市 | F24: (2.10.16) | H24: 勝山市 | I24: (2.12.25)
A25: 山梨県 | B25: 甲斐市 | C25: (2,10.02) | E25: 笛吹市 | F25: (2.11.13) | H25: 北杜市 | I25: (2.11.27)
A26: 長野県 | B26: 須坂市 | C26: (2.01.23) | E26: 駒ヶ根市 | F26: (2.01.28) | H26: 松本市 | I26: (2.03.27) | K26: 小諸市 | L26: (2.04.18) | N26: 東御市 | O26: (2.04.24)
B27: 飯田市 | C27: (2.10.27) | E27: 千曲市 | F27: (2.11.10) | H27: 中野市 | I27: (2.11.22)
A28: 岐阜県 | B28: 中津川市 | C28: (2.01.21) | E28: 飛驒市 | F28: (2.03.06) | H28: 本巣市 | I28: (2.03.06) | K28: 郡上市 | L28: (2.04.10) | N28: 下呂市 | O28: (2.04.17)
B29: 恵那市 | C29: (2.11.27) | E29: 羽島市 | F29: (2.12.20)
A30: 静岡県 | B30: 御前崎市 | C30: (2.04.17) | E30: 伊豆市 | F30: (2.04.24) | H30: 藤枝市 | I30: (2.06.19) | K30: 下田市 | L30: (2.07.04) | N30: 湖西市 | O30: (2.12.05)
B31: 焼津市 | C31: (2.12.23)
A32: 愛知県 | B32: 豊田市 | C32: (2.02.18) | E32: 大府市 | F32: (2.04.12) | H32: 碧南市 | I32: (2.04.28) | K32: 岡崎市 | L32: (2.10.20) | N32: 豊橋市 | O32: (2.11.16)
B33: 稲沢市 | C33: (2.12.03) | E33: 知立市 | F33: (2.12.23)
A34: 三重県 | B34: 志摩市 | C34: (2.10.30) | E34: 伊賀市 | F34: (2.11.20) | H34: 桑名市 | I34: (2.12.18) | K34: 四日市市 | L34: (2.12.23)
A35: 滋賀県 | B35: 大津市 | C35: (2.01.24) | E35: 草津市 | F35: (2.03.20) | H35: 甲賀市 | I35: (2.10.30) | K35: 野洲市 | L35: (2.10.30) | N35: 湖南市 | O35: (2.11.06)
A36: 京都府 | B36: 京都市 | C36: (2.02.24) | E36: 八幡市 | F36: (2.02.26) | H36: 京丹後市 | I36: (2.05.15) | K36: 宇治市 | L36: (2.12.18) | N36: 福知山市 | O36: (2.06.19)
A37: 大阪府 | B37: 茨木市 | C37: (2.04.17) | E37: 大東市 | F37: (2.05.04) | H37: 門真市 | I37: (2.07.23) | K37: 羽曳野市 | L37: (2.07.24) | N37: 河内長野市 | O37: (2.08.02)
B38: 箕面市 | C38: (2.08.26) | E38: 摂津市 | F38: (2.10.11) | H38: 阪南市 | I38: (2.11.11)
A39: 兵庫県 | B39: 高砂市 | C39: (2.04.12) | E39: 相生市 | F39: (2.06.13) | H39: 養父市 | I39: (2.10.31) | K39: 丹波市 | L39: (2.12.04)
A40: 奈良県 | B40: 香芝市 | C40: (2.06.02) | E40: 御所市 | F40: (2.06.15) | H40: 葛城市 | I40: (2.10.30)
A41: 和歌山県 | B41: 御坊市 | C41: (2.06.10) | E41: 有田市 | F41: (2.09.16) | H41: 岩出市 | I41: (2.10.18)
A42: 鳥取県 | B42: 境港市 | C42: (2.07.24)
A43: 島根県 | B43: 益田市 | C43: (2.08.01) | E43: 安来市 | F43: (2.10.23) | H43: 雲南市 | I43: (2.11.27)
A44: 岡山県 | B44: 笠岡市 | C44: (2.04.23) | E44: 倉敷市 | F44: (2.05.18) | H44: 高梁市 | I44: (2.10.23) | K44: 新見市 | L44: (2.12.24)
A45: 広島県 | B45: 安芸高田市 | C45: (2.04.17) | E45: 福山市 | F45: (2.09.04) | H45: 江田島市 | I45: (2.12.04)
A46: 山口県 | B46: 岩国市 | C46: (2.02.09) | E46: 下松市 | F46: (2.04.24) | H46: 美祢市 | I46: (2.04.26) | K46: 光市 | L46: (2.11.13)
A47: 徳島県 | B47: 徳島市 | C47: (2.04.17) | E47: 美馬市 | F47: (2.06.18)
A48: 香川県 | B48: 該当なし
A49: 愛媛県 | B49: 西予市 | C49: (2.05.15) | E49: 東温市 | F49: (2.11.06) | H49: 新居浜市 | I49: (2.11.17) | K49: 西条市 | L49: (2.11.27)
A50: 高知県 | B50: 須崎市 | C50: (2.01.31) | E50: 香南市 | F50: (2.07.14)
A51: 福岡県 | B51: うきは市 | C51: (2.07.14) | E51: 那珂川市 | F51: (2.08.30) | H51: 八女市 | I51: (2.11.15) | K51: 大川市 | L51: (2.10.22)
A52: 佐賀県 | B52: 該当なし
A53: 長崎県 | B53: 対馬市 | C53: (2.03.27) | E53: 壱岐市 | F53: (2.04.17) | H53: 五島市 | I53: (2.09.04) | K53: 島原市 | L53: (2.12.17)
A54: 熊本県 | B54: 該当なし
A55: 大分県 | B55: 該当なし
A56: 宮崎県 | B56: 日向市 | C56: (2.03.30) | E56: 都城市 | F56: (2.11.21)
A57: 鹿児島県 | B57: 薩摩川内市 | C57: (2.11.06) | E57: 伊佐市 | F57: (2.11.29) | H57: 鹿児島市 | I57: (2.12.22)
A58: 沖縄県 | B58: 糸満市 | C58: (2.07.05)

Sheet ⑩
A2: （２）市区議会議員
A4: 北海道 | B4: 該当なし
A5: 青森県 | B5: 三沢市 | C5: (2.03.19)
A6: 岩手県 | B6: 北上市 | C6: (2.03.31) | E6: 大船渡市 | F6: (2.05.08)
A7: 宮城県 | B7: 岩沼市 | C7: (2.01.11) | E7: 名取市 | F7: (2.01.31)
A8: 秋田県 | B8: 該当なし
A9: 山形県 | B9: 南陽市 | C9: (2.03.31)
A10: 福島県 | B10: いわき市 | C10: (2.09.30)
A11: 茨城県 | B11: 潮来市 | C11: (2.02.10) | E11: 取手市 | F11: (2.02.14) | H11: 守谷市 | I11: (2.02.29) | K11: 神栖市 | L11: (2.02.29) | N11: つくばみらい市 | O11: (2.02.29)
B12: 那珂市 | C12: (2.03.09) | E12: つくば市 | F12: (2.11.29)
A13: 栃木県 | B13: 該当なし
A14: 群馬県 | B14: 該当なし
A15: 埼玉県 | B15: 吉川市 | C15: (2.02.04) | E15: 新座市 | F15: (2.02.25) | H15: 坂戸市 | I15: (2.04.20) | K15: 志木市 | L15: (2.04.22)
A16: 千葉県 | B16: 四街道市 | C16: (2.03.09) | E16: 富津市 | F16: (2.04.24) | H16: 袖ケ浦市 | I16: (2.11.02)
A17: 東京都 | B17: 該当なし
A18: 神奈川県 | B18: 座間市 | C18: (2.09.30)
A19: 新潟県 | B19: 佐渡市 | C19: (2.04.17) | E19: 村上市 | F19: (2.04.26) | H19: 上越市 | I19: (2.04.28) | K19: 阿賀野市 | L19: (2.10.31)
A20: 富山県 | B20: 魚津市 | C20: (2.05.09) | E20: 南砺市 | F20: (2.11.27)
A21: 石川県 | B21: 該当なし
A22: 福井県 | B22: 該当なし
A23: 山梨県 | B23: 笛吹市 | C23: (2.11.13) | E23: 南アルプス市 | F23: (2.11.27) | H23: 北杜市 | I23: (2.11.27)
A24: 長野県 | B24: 千曲市 | C24: (2.07.24) | E24: 東御市 | F24: (2.11.20)
A25: 岐阜県 | B25: 飛驒市 | C25: (2.03.06) | E25: 郡上市 | F25: (2.04.10) | H25: 下呂市 | I25: (2.04.17) | K25: 山県市 | L25: (2.04.30) | N25: 瑞穂市 | O25: (2.04.30)
B26: 恵那市 | C26: (2.11.27)
A27: 静岡県 | B27: 御殿場市 | C27: (2.02.10) | E27: 御前崎市 | F27: (2.04.17) | H27: 伊豆市 | I27: (2.10.31)
A28: 愛知県 | B28: 碧南市 | C28: (2.05.04) | E28: 弥富市 | F28: (2.02.29) | H28: 岡崎市 | I28: (2.10.25)
A29: 三重県 | B29: 該当なし
A30: 滋賀県 | B30: 該当なし
A31: 京都府 | B31: 京丹後市 | C31: (2.05.15)
A32: 大阪府 | B32: 大東市 | C32: (2.05.04) | E32: 箕面市 | F32: (2.08.28) | H32: 和泉市 | I32: (2.09.22) | K32: 泉南市 | L32: (2.10.27)
A33: 兵庫県 | B33: 丹後篠山市 | C33: (2.04.30) | E33: 三田市 | F33: (2.10.22) | H33: 養父市 | I33: (2.10.31) | K33: 丹波市 | L33: (2.12.04)
A34: 奈良県 | B34: 該当なし
A35: 和歌山県 | B35: 該当なし
A36: 鳥取県 | B36: 該当なし
A37: 島根県 | B37: 雲南市 | C37: (2.11.27)
A38: 岡山県 | B38: 笠岡市 | C38: (2.04.28) | E38: 高梁市 | F38: (2.10.23)
A39: 広島県 | B39: 三次市 | C39: (2.04.17) | E39: 福山市 | F39: (2.04.30) | H39: 安芸高田市 | I39: (2.11.30)
A40: 山口県 | B40: 美祢市 | C40: (2.04.26) | E40: 周南市 | F40: (2.06.19) | H40: 光市 | I40: (2.11.13) | K40: 防府市 | L40: (2.11.26)
A41: 徳島県 | B41: 該当なし
A42: 香川県 | B42: 該当なし
A43: 愛媛県 | B43: 西予市 | C43: (2.05.15) | E43: 東温市 | F43: (2.11.06) | H43: 四国中央市 | I43: (2.11.27)
A44: 高知県 | B44: 該当なし
A45: 福岡県 | B45: 豊前市 | C45: (2.04.09) | E45: 行橋市 | F45: (2.04.22) | H45: 宗像市 | I45: (2.10.31)
A46: 佐賀県 | B46: 該当なし
A47: 長崎県 | B47: 該当なし
A48: 熊本県 | B48: 該当なし
A49: 大分県 | B49: 該当なし
A50: 宮崎県 | B50: 該当なし
A51: 鹿児島県 | B51: 鹿児島市 | C51: (2.04.28) | E51: 薩摩川内市 | F51: (2.11.06) | H51: 伊佐市 | I51: (2.11.29)
A52: 沖縄県 | B52: 該当なし

Sheet ⑪
A2: （３）町村長
A4: 北海道 | B4: 泊村 | C4: (2.01.19) | E4: 当麻町 | F4: (2.02.01) | H4: 北竜町 | I4: (2.02.21) | K4: 東神楽町 | L4: (2.02.27) | N4: 松前町 | O4: (2.04.10)
B5: 上川町 | C5: (2.04.14) | E5: 木古内町 | F5: (2.04.25) | H5: 南富良野町 | I5: (2.04.29) | K5: 広尾町 | L5: (2.04.29) | N5: 浦臼町 | O5: (2.04.30)
B6: 鶴居村 | C6: (2.05.19) | E6: 置戸町 | F6: (2.06.09) | H6: 白糠町 | I6: (2.06.10) | K6: 積丹町 | L6: (2.06.15) | N6: 別海町 | O6: (2.06.18)
B7: 平取町 | C7: (2.07.02) | E7: 厚真町 | F7: (2.07.07) | H7: 喜茂別町 | I7: (2.07.21) | K7: 長沼町 | L7: (2.08.23) | N7: 佐呂間町 | O7: (2.09.11)
B8: 中標津町 | C8: (2.09.29) | E8: 月形町 | F8: (2.10.02) | H8: 森町 | I8: (2.10.18) | K8: 遠別町 | L8: (2.10.21) | N8: 池田町 | O8: (2.10.30)
B9: 鷹栖町 | C9: (2.11.04) | E9: 蘭越町 | F9: (2.11.12) | H9: 真狩村 | I9: (2.11.26) | K9: 弟子屈町 | L9: (2.12.23) | N9: 上富良野町 | O9: (2.12.26)
A10: 青森県 | B10: 田子町 | C10: (2.01.14) | E10: 六戸町 | F10: (2.01.27) | H10: 田舎館村 | I10: (2.11.17) | K10: 横浜町 | L10: (2.12.11) | N10: 三戸町 | O10: (2.12.15)
B11: 深浦町 | C11: (2.12.20)
A12: 岩手県 | B12: 九戸村 | C12: (2.04.19) | E12: 山田町 | F12: (2.07.14)
A13: 宮城県 | B13: 蔵王町 | C13: (2.10.05) | E13: 大河原町 | F13: (2.10.27)
A14: 秋田県 | B14: 大潟村 | C14: (2.09.04) | E14: 八郎潟町 | F14: (2.09.23) | H14: 美郷町 | I14: (2.11.27)
A15: 山形県 | B15: 舟形町 | C15: (2.02.25) | E15: 大江町 | F15: (2.03.05) | H15: 金山町 | I15: (2.04.26) | K15: 川西町 | L15: (2.04.28) | N15: 小国町 | O15: (2.08.01)
B16: 白鷹町 | C16: (2.10.25) | E16: 飯豊町 | F16: (2.11.06) | H16: 朝日町 | I16: (2.12.07)
A17: 福島県 | B17: 矢吹町 | C17: (2.01.10) | E17: 川内村 | F17: (2.04.24) | H17: 楢葉町 | I17: (2.04.29) | K17: 塙町 | L17: (2.07.14) | N17: 北塩原村 | O17: (2.09.05)
B18: 棚倉町 | C18: (2.09.07) | E18: 飯舘村 | F18: (2.10.26) | H18: 葛尾村 | I18: (2.11.11) | K18: 国見町 | L18: (2.11.26) | N18: 只見町 | O18: (2.12.15)
A19: 茨城県 | B19: 大洗町 | C19: (2.09.21)
A20: 栃木県 | B20: 野木町 | C20: (2.08.23) | E20: 塩谷町 | F20: (2.08.28)
A21: 群馬県 | B21: 玉村町 | C21: (2.01.31) | E21: 千代田町 | F21: (2.03.24) | H21: 昭和村 | I21: (2.05.30) | K21: 甘楽町 | L21: (2.07.22)
B22: 板倉町 | C22: (2.11.16) | E22: 下仁田町 | F22: (2.12.04)
A23: 埼玉県 | B23: 伊奈町 | C23: (2.05.13) | E23: 美里町 | F23: (2.05.16) | H23: 鳩山町 | I23: (2.07.15) | K23: 東秩父村 | L23: (2.09.06) | N23: 嵐山町 | O23: (2.09.08)
A24: 千葉県 | B24: 横芝光町 | C24: (2.03.24) | E24: 一宮町 | F24: (2.05.25) | H24: 長生村 | I24: (2.07.16) | K24: 睦沢町 | L24: (2.07.28) | N24: 御宿町 | O24: (2.12.23)
A25: 東京都 | B25: 三宅村 | C25: (2.02.14) | E25: 奥多摩町 | F25: (2.05.23)
A26: 神奈川県 | B26: 葉山町 | C26: (2.01.19) | E26: 真鶴町 | F26: (2.09.25) | H26: 箱根町 | I26: (2.11.14)
A27: 新潟県 | B27: 出雲崎町 | C27: (2.02.03) | E27: 刈羽村 | F27: (2.12.14)
A28: 富山県 | B28: 該当なし
A29: 石川県 | B29: 該当なし
A30: 福井県 | B30: 高浜町 | C30: (2.05.18)
A31: 山梨県 | B31: 鳴沢村 | C31: (2.02.19) | E31: 小菅村 | F31: (2.06.12) | H31: 身延町 | I31: (2.10.23) | K31: 早川町 | L31: (2.11.15) | N31: 西桂町 | O31: (2.11.24)
B32: 山中湖村 | C32: (2.12.26)
A33: 長野県 | B33: 川上村 | C33: (2.02.26) | E33: 松川村 | F33: (2,03.06) | H33: 池田町 | I33: (2,03.19) | K33: 南木曽町 | L33: (2.05.11) | N33: 栄村 | O33: (2.05.14)
B34: 売木村 | C34: (2.07.09) | E34: 下篠村 | F34: (2.07.24) | H34: 大桑村 | I34: (2.10.12) | K34: 天龍村 | L34: (2.11.10) | N34: 高山村 | O34: (2.11.14)
B35: 下諏訪町 | C35: (2.12.04)
A36: 岐阜県 | B36: 八百津町 | C36: (2.01.27) | E36: 北方町 | F36: (2.03.19) | H36: 富加町 | I36: (2.06.01) | K36: 岐南町 | L36: (2.11.15) | N36: 揖斐川町 | O36: (2.11.19)
B37: 関ケ原町 | C37: (2.12.25)
A38: 静岡県 | B38: 森町 | C38: (2.03.09)
A39: 愛知県 | B39: 飛鳥村 | C39: (2.04.09) | E39: 扶桑町 | F39: (2.05.12) | H39: 豊山町 | I39: (2.11.19)
A40: 三重県 | B40: 川越町 | C40: (2.02.13)
A41: 滋賀県 | B41: 多賀町 | C41: (2.03.17) | E41: 日野町 | F41: (2.07.10) | H41: 竜王町 | I41: (2.06.23)
A42: 京都府 | B42: 笠置町 | C42: (2.03.31) | E42: 久御山町 | F42: (2.08.27)
A43: 大阪府 | B43: 熊取町 | C43: (2.01.26) | E43: 太子町 | F43: (2.04.17) | H43: 千早赤阪村 | I43: (2.07.15) | K43: 能勢町 | L43: (2.10.23) | N43: 忠岡町 | O43: (2.10.23)
A44: 兵庫県 | B44: 太子町 | C44: (2.08.05)
A45: 奈良県 | B45: 田原本町 | C45: (2.01.30) | E45: 吉野町 | F45: (2.02.21) | H45: 高取町 | I45: (2.03.01) | K45: 川上村 | L45: (2.07.24) | N45: 三宅町 | O45: (2.07.27)
B46: 下市町 | C46: (2.11.26) | E46: 上北山村 | F46: (2.12.22)
A47: 和歌山県 | B47: 印南町 | C47: (2.02.23) | E47: 白浜町 | F47: (2.05.12) | H47: 由良町 | I47: (2.05.18) | K47: 古座川町 | L47: (2.06.14) | N47: 北山村 | O47: (2.07.25)
B48: 太地町 | C48: (2.08.07) | E48: 湯浅町 | F48: (2.09.18) | H48: みなべ町 | I48: (2.10.23)
A49: 鳥取県 | B49: 智頭町 | C49: (2.06.19) | E49: 江府町 | F49: (2.07.31) | H49: 南部町 | I49: (2.10.23)
A50: 島根県 | B50: 川本町 | C50: (2.02.21) | E50: 邑南町 | F50: (2.10.30) | H50: 隠岐の島町 | I50: (2.10.30) | K50: 知夫村 | L50: (2.11.13)
A51: 岡山県 | B51: 久米南町 | C51: (2.07.23) | E51: 吉備中央町 | F51: (2.10.23)
A52: 広島県 | B52: 府中町 | C52: (2.06.03) | E52: 安芸太田町 | F52: (2.10.23) | H52: 世羅町 | I52: (2.10.30) | K52: 熊野町 | L52: (2.11.29) | N52: 神石高原町 | O52: (2.12.04)
A53: 山口県 | B53: 周防大島町 | C53: (2.11.13)
A54: 徳島県 | B54: 該当なし
A55: 香川県 | B55: 該当なし
A56: 愛媛県 | B56: 久万高原町 | C56: (2.09.11) | E56: 伊方町 | F56: (2.10.01) | H56: 愛南町 | I56: (2.10.30) | K56: 上島町 | L56: (2.11.06) | N56: 松野町 | O56: (2.11.27)
A57: 高知県 | B57: 安田町 | C57: (2.05.25) | E57: 日高村 | F57: (2.06.01) | H57: いの町 | I57: (2.10.30) | K57: 芸西村 | L57: (2.11.09) | N57: 大豊町 | O57: (2.12.18)
A58: 福岡県 | B58: 太刀洗町 | C58: (2.01.29) | E58: 久山町 | F58: (2.10.27) | H58: 篠栗町 | I58: (2.11.29)
A59: 佐賀県 | B59: 基山町 | C59: (2.02.19) | E59: 江北町 | F59: (2.02.29)
A60: 長崎県 | B60: 長与町 | C60: (2.05.04) | E60: 新上五島町 | F60: (2.08.28)
A61: 熊本県 | B61: 相良村 | C61: (2.03.22) | E61: 球磨村 | F61: (2.03.24) | H61: 西原村 | I61: (2.09.15) | K61: 美里町 | L61: (2.12.04)
A62: 大分県 | B62: 日出町 | C62: (2.09.04) | E62: 九重町 | F62: (2.10.25) | H62: 姫島村 | I62: (2.11.25)
A63: 宮崎県 | B63: 国富町 | C63: (2.12.02)
A64: 鹿児島県 | B64: 東串良町 | C64: (2.03.04) | E64: 十島村 | F64: (2.05.15) | H64: 喜界町 | I64: (2.10.04)
A65: 沖縄県 | B65: 国頭村 | C65: (2.04.06) | E65: 中城村 | F65: (2.07.03) | H65: 栗国村 | I65: (2.07.31) | K65: 今帰仁村 | L65: (2.08.22) | N65: 竹富町 | O65: (2.09.13)
B66: 西原町 | C66: (2.10.05) | E66: 北中城村 | F66: (2.12.21) | H66: 宜野座村 | I66: (2.12.29)

Sheet ⑫
A2: （４）町村議会議員
A4: 北海道 | B4: 知内町 | C4: (2.04.08) | E4: 上川町 | F4: (2.04.24) | H4: 広尾町 | I4: (2.04.29) | K4: 中標津町 | L4: (2.09.02) | N4: 弟子屈町 | O4: (2.11.11)
B5: 豊浦町 | C5: (2.11.14)
A6: 青森県 | B6: 五戸町 | C6: (2.02.28) | E6: 鶴田町 | F6: (2.02.29) | H6: 板柳町 | I6: (2.03.09) | K6: 三戸町 | L6: (2.03.19) | N6: 鰺ヶ沢町 | O6: (2.03.30)
B7: 平内町 | C7: (2.03.30) | E7: 今別町 | F7: (2.03.30) | H7: 新郷村 | I7: (2.07.28)
A8: 岩手県 | B8: 葛巻町 | C8: (2.01.19) | E8: 金ケ崎町 | F8: (2.2.29) | H8: 平泉町 | I8: (2.04.14) | K8: 岩手町 | L8: (2.07.20)
A9: 宮城県 | B9: 色麻町 | C9: (2.02.04) | E9: 蔵王町 | F9: (2.03.05) | H9: 川崎町 | I9: (2.03.31) | K9: 大和町 | L9: (2.03.31)
A10: 秋田県 | B10: 井川町 | C10: (2.01.31) | E10: 藤里町 | F10: (2.03.30) | H10: 五城目町 | I10: (2.03.30) | K10: 羽後町 | L10: (2.03.31) | N10: 小坂町 | O10: (2.03.31)
B11: 大潟村 | C11: (2.09.04)
A12: 山形県 | B12: 該当なし
A13: 福島県 | B13: 小野町 | C13: (2.01.31) | E13: 猪苗代町 | F13: (2.02.29) | H13: 富岡町 | I13: (2.03.30) | K13: 天栄村 | L13: (2.03.30) | N13: 玉川村 | O13: (2.03.30)
B14: 柳津町 | C14: (2.03.30) | E14: 平田村 | F14: (2.03.30) | H14: 矢吹町 | I14: (2.03.30) | K14: 矢祭町 | L14: (2.03.30) | N14: 塙町 | O14: (2.03.30)
B15: 古殿町 | C15: (2.03.30) | E15: 下郷町 | F15: (2.03.31) | H15: 会津坂下町 | I15: (2.03.31) | K15: 只見町 | L15: (2.04.19) | N15: 三島町 | O15: (2.05.10)
A16: 茨城県 | B16: 東海村 | C16: (2.01.31) | E16: 河内町 | F16: (2.02.20) | H16: 大子町 | I16: (2.03.30) | K16: 阿見町 | L16: (2.03.31)
A17: 栃木県 | B17: 上三川町 | C17: (2.01.21)
A18: 群馬県 | B18: 千代田町 | C18: (2.03.30)
A19: 埼玉県 | B19: 宮代町 | C19: (2.02.28) | E19: 皆野町 | F19: (2.02.29) | H19: 松伏町 | I19: (2.04.19)
A20: 千葉県 | B20: 睦沢町 | C20: (2.01.19) | E20: 芝山町 | F20: (2.02.29) | H20: 栄町 | I20: (2.04.30)
A21: 東京都 | B21: 三宅村 | C21: (2.02.24) | E21: 利島村 | F21: (2.10.23)
A22: 神奈川県 | B22: 湯河原町 | C22: (2.03.31) | E22: 大井町 | F22: (2.09.30)
A23: 新潟県 | B23: 該当なし
A24: 富山県 | B24: 該当なし
A25: 石川県 | B25: 該当なし
A26: 福井県 | B26: 該当なし
A27: 山梨県 | B27: 道志村 | C27: (2.05.12) | E27: 南部町 | F27: (2.10,31) | H27: 西桂町 | I27: (2.11.24)
A28: 長野県 | B28: 宮田村 | C28: (2.04.02) | E28: 南木曽町 | F28: (2.04.22) | H28: 売木村 | I28: (2.07.24) | K28: 松川町 | L28: (2.11.29) | N28: 阿智村 | O28: (2.11.30)
A29: 岐阜県 | B29: 笠松町 | C29: (2.03.31) | E29: 池田町 | F29: (2.03.31)
A30: 静岡県 | B30: 該当なし
A31: 愛知県 | B31: 扶桑町 | C31: (2.05.12)
A32: 三重県 | B32: 東員町 | C32: (2.02.26) | E32: 菰野町 | F32: (2.11.18)
A33: 滋賀県 | B33: 甲良町 | C33: (2.02.04) | E33: 多賀町 | F33: (2.03.31)
A34: 京都府 | B34: 南山城村 | C34: (2.03.31) | E34: 宇治田原町 | F34: (2.11.14) | H34: 笠置町 | I34: (2.10.31)
A35: 大阪府 | B35: 河南町 | C35: (2.10.02) | E35: 太子町 | F35: (2.10.27)
A36: 兵庫県 | B36: 該当なし
A37: 奈良県 | B37: 広陵町 | C37: (2.04.14) | E37: 天川村 | F37: (2.12.15)
A38: 和歌山県 | B38: 古座川町 | C38: (2.06.29) | E38: みなべ町 | F38: (2.10.23)
A39: 鳥取県 | B39: 南部町 | C39: (2.10.23)
A40: 島根県 | B40: 川本町 | C40: (2.04.24)
A41: 岡山県 | B41: 吉備中央町 | C41: (2.10.23)
A42: 広島県 | B42: 府中町 | C42: (2.09.30) | E42: 世羅町 | F42: (2.10.30) | H42: 神石高原町 | I42: (2.12.04)
A43: 山口県 | B43: 周防大島町 | C43: (2.11.13)
A44: 徳島県 | B44: 藍住町 | C44: (2.02.28)
A45: 香川県 | B45: 該当なし
A46: 愛媛県 | B46: 上島町 | C46: (2.11.06)
A47: 高知県 | B47: 大月町 | C47: (2.10.06)
A48: 福岡県 | B48: 該当なし
A49: 佐賀県 | B49: 該当なし
A50: 長崎県 | B50: 波佐見町 | C50: (2.10.31)
A51: 熊本県 | B51: あさぎり町 | C51: (2.04.30) | E51: 西原村 | F51: (2.09.24) | H51: 湯前町 | I51: (2.11.25)
A52: 大分県 | B52: 該当なし
A53: 宮崎県 | B53: 該当なし
A54: 鹿児島県 | B54: 大和村 | C54: (2.05.29) | E54: 十島村 | F54: (2.06.09) | H54: 和泊町 | I54: (2.09.13) | K54: 宇検村 | L54: (2.09.13) | N54: 龍郷町 | O54: (2.09.13)
B55: 知名町 | C55: (2.09.13) | E55: 与論町 | F55: (2.09.13) | H55: 喜界町 | I55: (2.10.31) | K55: 瀬戸内町 | L55: (2.12.09)
A56: 沖縄県 | B56: 金武町 | C56: (2.12.10)
