Workbook
Name ef: #REF!

Sheet sheet01
A1: １ 激 甚 災 害 事 業 費 及 び 特 別 財 政 援 助 額（総括表）
A3: １． 総括表
A5: 区 分 | B5: 激 甚 災 害 事 業 費 | C5: 特 例 対 象 事 業 費 | D5: 特 別 財 政 援 助 額
A8: （ 都 道 府 県 ）
A10: 公共土木施設災害復旧事業 | B10: =B11+B12 -> 0 | C10: =C11+C12 -> 0 | D10: =D11+D12 -> 0
A11: 国 土 交 通 | B11: =[1]白パンⅡ!C76 -> 0 | C11: =[1]白パンⅡ!D76 -> 0 | D11: =[1]白パンⅡ!F76 -> 0
A12: 農 林 水 産 | B12: =[1]白パンⅡ!R76 -> 0 | C12: =[1]白パンⅡ!S76 -> 0 | D12: =[1]白パンⅡ!U76 -> 0
A13: 公共土木施設災害関連事業
A14: 国 土 交 通 | B14: =[1]白パンⅡ!AF76 -> 0 | C14: =[1]白パンⅡ!AG76 -> 0 | D14: =[1]白パンⅡ!AI76 -> 0
A15: 公立学校施設災害復旧事業 | B15: =[1]白パンⅡ!AV76 -> 0 | C15: =[1]白パンⅡ!AW76 -> 0 | D15: =[1]白パンⅡ!AY76 -> 0
A16: 公営住宅災害復旧事業 | B16: =[1]白パンⅡ!BL76 -> 0 | C16: =[1]白パンⅡ!BM76 -> 0 | D16: =[1]白パンⅡ!BO76 -> 0
A17: 生活保護施設災害復旧事業 | B17: =[1]白パンⅡ!BZ76 -> 0 | C17: =[1]白パンⅡ!CA76 -> 0 | D17: =[1]白パンⅡ!CC76 -> 0
A18: 児童福祉施設災害復旧事業 | B18: =[1]白パンⅡ!CF76 -> 0 | C18: =[1]白パンⅡ!CG76 -> 0 | D18: =[1]白パンⅡ!CI76 -> 0
A19: 幼保連携型認定こども園等災害復旧事業 | B19: =[1]白パンⅡ!CT76 -> 0 | C19: =[1]白パンⅡ!CU76 -> 0 | D19: =[1]白パンⅡ!CW76 -> 0
A20: 養護老人ホーム及び特別養護老人ホーム災害復旧事業 | B20: =[1]白パンⅡ!DB76 -> 0 | C20: =[1]白パンⅡ!DC76 -> 0 | D20: =[1]白パンⅡ!DE76 -> 0
A21: 障害者自立支援施設等災害復旧事業 | B21: =[1]白パンⅡ!DP76 -> 0 | C21: =[1]白パンⅡ!DQ76 -> 0 | D21: =[1]白パンⅡ!DS76 -> 0
A22: 感染症予防事業
A24: 小 計 | B24: =SUM(B10,B14,B15:B22) -> 0 | C24: =SUM(C10,C14,C15:C22) -> 0 | D24: =SUM(D10,D14,D15:D22) -> 0
A26: （ 市 町 村 ）
A28: 公共土木施設災害復旧事業 | B28: 98043235 | C28: 98043235 | D28: 11908926
A29: 国 土 交 通 | B29: 97400578 | C29: 97400578 | D29: 11825220
A30: 農 林 水 産 | B30: 642657 | C30: 642657 | D30: 83705.8
A31: 公共土木施設災害関連事業
A32: 国 土 交 通 | B32: 393620 | C32: 393620 | D32: 82104.7
A33: 公立学校施設災害復旧事業 | B33: 2058530 | C33: 2058530 | D33: 312567.8
A34: 公営住宅災害復旧事業 | B34: 218976 | C34: 218976 | D34: 54059.2
A35: 児童福祉施設災害復旧事業 | B35: 360331 | C35: 360331 | D35: 34492.1
A36: 養護老人ホーム及び特別養護老人ホーム災害復旧事業 | B36: 0 | C36: 0 | D36: 0
A37: 感染症予防事業 | B37: 7545 | C37: 7545 | D37: 198.3
A38: 堆積土砂排除事業 | B38: 163999 | C38: 163999 | D38: 25180.4
A40: 小 計 | B40: 101246236 | C40: 101246236 | D40: 12417528
A42: 合 計 | B42: 101246236 | C42: 101246236 | D42: 12417528
