Workbook
Name ______________________ＴＢＬ１: [1]CSS編集画面!$B$10:$F$22
Name ______________________ＴＢＬ２: [1]CSS編集画面!$B$24:$I$35
Name _____________________ＴＢＬ１: [1]CSS編集画面!$B$10:$F$22
Name _____________________ＴＢＬ２: [1]CSS編集画面!$B$24:$I$35
Name ____________________ＴＢＬ１: [1]CSS編集画面!$B$10:$F$22
Name ____________________ＴＢＬ２: [1]CSS編集画面!$B$24:$I$35
Name ___________________ＴＢＬ１: [1]CSS編集画面!$B$10:$F$22
Name ___________________ＴＢＬ２: [1]CSS編集画面!$B$24:$I$35
Name __________________ＴＢＬ１: [1]CSS編集画面!$B$10:$F$22
Name __________________ＴＢＬ２: [1]CSS編集画面!$B$24:$I$35
Name _________________ＴＢＬ１: [1]CSS編集画面!$B$10:$F$22
Name _________________ＴＢＬ２: [1]CSS編集画面!$B$24:$I$35
Name ________________ＴＢＬ１: [1]CSS編集画面!$B$10:$F$22
Name ________________ＴＢＬ２: [1]CSS編集画面!$B$24:$I$35
Name _______________ＴＢＬ１: [1]CSS編集画面!$B$10:$F$22
Name _______________ＴＢＬ２: [1]CSS編集画面!$B$24:$I$35
Name ______________ＴＢＬ１: [1]CSS編集画面!$B$10:$F$22
Name ______________ＴＢＬ２: [1]CSS編集画面!$B$24:$I$35
Name _____________ＴＢＬ１: [1]CSS編集画面!$B$10:$F$22
Name _____________ＴＢＬ２: [1]CSS編集画面!$B$24:$I$35
Name ____________ＴＢＬ１: [1]CSS編集画面!$B$10:$F$22
Name ____________ＴＢＬ２: [1]CSS編集画面!$B$24:$I$35
Name ___________ＴＢＬ１: [1]CSS編集画面!$B$10:$F$22
Name ___________ＴＢＬ２: [1]CSS編集画面!$B$24:$I$35
Name __________ＴＢＬ１: [1]CSS編集画面!$B$10:$F$22
Name __________ＴＢＬ２: [1]CSS編集画面!$B$24:$I$35
Name _________ＴＢＬ１: [1]CSS編集画面!$B$10:$F$22
Name _________ＴＢＬ２: [1]CSS編集画面!$B$24:$I$35
Name ________ＴＢＬ１: [1]CSS編集画面!$B$10:$F$22
Name ________ＴＢＬ２: [1]CSS編集画面!$B$24:$I$35
Name _______ＴＢＬ１: [1]CSS編集画面!$B$10:$F$22
Name _______ＴＢＬ２: [1]CSS編集画面!$B$24:$I$35
Name ______ＴＢＬ１: [1]CSS編集画面!$B$10:$F$22
Name ______ＴＢＬ２: [1]CSS編集画面!$B$24:$I$35
Name _____ＴＢＬ１: [1]CSS編集画面!$B$10:$F$22
Name _____ＴＢＬ２: [1]CSS編集画面!$B$24:$I$35
Name ____ＴＢＬ１: [1]CSS編集画面!$B$10:$F$22
Name ____ＴＢＬ２: [1]CSS編集画面!$B$24:$I$35
Name ___ＴＢＬ１: [1]CSS編集画面!$B$10:$F$22
Name ___ＴＢＬ２: [1]CSS編集画面!$B$24:$I$35
Name __ＴＢＬ１: [1]CSS編集画面!$B$10:$F$22
Name __ＴＢＬ２: [1]CSS編集画面!$B$24:$I$35
Name _ＴＢＬ１: [1]CSS編集画面!$B$10:$F$22
Name _ＴＢＬ２: [1]CSS編集画面!$B$24:$I$35
Name PAGE1: #REF!
Name PAGE10: #REF!
Name PAGE100: #REF!
Name PAGE1000: #REF!
Name PAGE1001: #REF!
Name PAGE1002: #REF!
Name PAGE1003: #REF!
Name PAGE1004: #REF!
Name PAGE1005: #REF!
Name PAGE1006: #REF!
Name PAGE1007: #REF!
Name PAGE1008: #REF!
Name PAGE1009: #REF!
Name PAGE101: #REF!
Name PAGE1010: #REF!
Name PAGE1011: #REF!

Sheet 2-2-3
A1: 表2－2－3 総資本経常利益率
L3: （単位：％）
B4: 資本金 | C4: 個 人 | D4: 法 人 | L4: 合 計
A5: 業種 | D5: 500万円未満 | E5: 500万円以上 1000万円未満 | F5: 1000万円以上 3000万円未満 | G5: 3000万円以上 5000万円未満 | H5: 5000万円以上 1億円未満 | I5: 1億円以上 3億円未満 | J5: 3億円以上 10億円未満 | K5: 10億円以上
A6: 一般土木建築 | B6: 一般土木建築工事業 | D6: 6.2222222 | E6: 16.590909 | F6: 5.4819491 | G6: 5.1257017 | H6: 5.4581833 | I6: 5.0907325 | J6: 7.4699993 | K6: 6.8525192 | L6: 6.4781382
A7: 土木 | B7: 土木工事業 | D7: 6.8040725 | E7: 8.7457627 | F7: 7.5632091 | G7: 5.7802943 | H7: 6.1091733 | I7: 5.0589753 | J7: 6.449639 | K7: 12.797059 | L7: 7.784039
B8: ほ装工事業 | D8: 5.5045317 | E8: -2.3759016 | F8: 8.0741022 | G8: 8.6422053 | H8: 5.3556955 | I8: 6.2667399 | J8: 7.1375203 | L8: 6.8512243
B9: しゅんせつ工事業 | D9: 45 | G9: 9.2848676 | H9: 3.8513881 | L9: 6.9767514
B10: 造園工事業 | D10: 10.15625 | E10: 8.7248322 | F10: 8.9364845 | G10: 6.4241151 | H10: 2.7978849 | I10: 7.984093 | L10: 7.0878662
B11: 水道施設工事業 | D11: 10.83151 | E11: 8.7692308 | F11: 0.91021613 | G11: 7.2381423 | H11: 5.5145414 | L11: 1.8328823
A12: 小 計 | D12: 7.0626025 | E12: 6.714753 | F12: 6.911387 | G12: 6.1114756 | H12: 5.920229 | I12: 5.1967253 | J12: 6.6256144 | K12: 12.797059 | L12: 7.3610608
A13: 建築 | B13: 建築工事業 | D13: 5.0172159 | E13: 6.8366793 | F13: 5.3800711 | G13: 6.00194 | H13: 6.1550911 | I13: 11.229155 | J13: 6.0674292 | K13: 7.7900232 | L13: 6.9650173
B14: 木造建築工事業 | D14: 8.5324232 | E14: 5.5489965 | F14: 4.2199382 | G14: 4.1068622 | H14: 3.3936652 | I14: 4.9429844 | J14: 5.4296312 | K14: 17.698771 | L14: 7.2829597
A15: 小 計 | D15: 5.5808692 | E15: 6.6098959 | F15: 5.2074732 | G15: 5.9155855 | H15: 5.9983831 | I15: 10.837508 | J15: 6.0084019 | K15: 8.2247141 | L15: 6.9911461
A16: 職別 | B16: 大工工事業 | D16: 2.1260997 | E16: 11.258278 | F16: 4.4415476 | G16: 3.2352941 | H16: 2.0713933 | I16: 11.325301 | L16: 4.3193308
B17: とび・土工・コンクリート工事業 | D17: 5.2942093 | E17: 9.8730606 | F17: 10.512573 | G17: 7.2289886 | H17: 8.5021708 | I17: 8.4148326 | J17: 6.6221562 | K17: 13.240518 | L17: 9.0293961
B18: 鋼構造物工事業 | D18: 12.770898 | E18: 9.3865484 | F18: 7.2542248 | G18: 11.36894 | H18: 8.7201579 | I18: 11.806658 | J18: 6.2354478 | K18: 6.2991821 | L18: 8.0584624
B19: 鉄筋工事業 | D19: 6.7961165 | E19: 3.8927336 | F19: 9.7548636 | G19: 6.7420406 | H19: 10.610611 | I19: 9.6114519 | L19: 8.0443276
B20: 解体工事業 | D20: 8.8109495 | E20: 6.25 | F20: 10.059043 | G20: 7.3516969 | H20: 7.0274458 | L20: 8.940493
B21: 躯体関係計 | D21: 5.9882063 | E21: 8.8653544 | F21: 8.6690969 | G21: 8.366233 | H21: 7.6375655 | I21: 10.1168 | J21: 6.4491875 | K21: 7.7299094 | L21: 8.1843825
B22: 左官工事業 | D22: -2.3890785 | E22: 18.245614 | F22: 6.1265053 | G22: 6.4497041 | H22: 3.9113429 | L22: 5.8965556
B23: 石工事業 | D23: -1.3157895 | E23: 7.4509804 | F23: 2.4925919 | G23: 6.899438 | H23: 6.9470657 | L23: 5.2718859
B24: 屋根工事業 | D24: 7.5903018 | E24: 4.975923 | F24: 5.8845507 | G24: 6.3045587 | H24: 1.6932271 | L24: 5.9990154
B25: タイル・れんが・ブロック工事業 | D25: 12.4871 | E25: 37.718397 | F25: 6.2151752 | G25: 7.2714234 | H25: 5.3890026 | L25: 8.8162945
B26: 板金工事業 | D26: 12.548114 | E26: 8.678017 | F26: 11.93145 | G26: 5.7066667 | H26: 5.4054054 | I26: 1.1078916 | L26: 10.004588
B27: ガラス工事業 | D27: -0.72992701 | E27: 50 | F27: 15.66358 | G27: 3.6775106 | H27: 0.79255686 | I27: -3.7406484 | L27: 10.936236
B28: 塗装工事業 | D28: 5.2192067 | E28: 5.7405281 | F28: 8.8635305 | G28: 2.9294023 | H28: 5.9249489 | I28: 9.1676482 | J28: 8.2699971 | L28: 7.3480411
B29: 防水工事業 | D29: 18.824228 | E29: 7.5734158 | F29: 7.1078992 | G29: 5.9666569 | H29: 5.0840798 | I29: 4.4235389 | J29: 5.707338 | L29: 5.2231068
B30: 内装仕上工事業 | D30: 11.220959 | E30: 10.33033 | F30: 2.6896414 | G30: 4.3790147 | H30: 6.8347828 | I30: 10.579385 | J30: 7.9607895 | K30: 10.585348 | L30: 3.7775857
B31: 建具工事業 | D31: 63.168755 | E31: 3.5429584 | F31: 7.2286617 | G31: 5.1149192 | H31: 5.5650148 | I31: 6.5363998 | L31: 11.324332
B32: 仕上関係計 | D32: 15.181285 | E32: 9.803408 | F32: 4.2711685 | G32: 5.237944 | H32: 6.0275352 | I32: 4.9574375 | J32: 7.9032798 | K32: 10.585348 | L32: 5.4569539
A33: 小 計 | D33: 10.169724 | E33: 9.3065457 | F33: 5.6997326 | G33: 6.6598269 | H33: 6.9225499 | I33: 5.41203 | J33: 7.1945235 | K33: 8.6290883 | L33: 6.4608222
A34: 設備 | B34: 電気工事業 | D34: 26.35605 | E34: 7.042957 | F34: 8.9220978 | G34: 7.2067382 | H34: 5.6634102 | I34: 6.2100524 | J34: 5.0965551 | K34: 5.4288444 | L34: 6.8788296
B35: 管工事業 | D35: 10.714286 | E35: 5.4811206 | F35: 8.5909808 | G35: 4.2988233 | H35: 8.3502085 | I35: 9.4533733 | J35: 5.5425574 | K35: 7.2066333 | L35: 7.3492307
B36: 機械器具設置工事 | D36: 8.583691 | E36: 3.4332085 | F36: 10.520224 | G36: 6.5585676 | H36: 7.2540565 | I36: 6.3993536 | J36: 6.7731006 | K36: 8.0508016 | L36: 8.2035247
B37: 熱絶縁工事 | D37: 21.447254 | E37: 15.076923 | F37: 9.1814638 | G37: 5.0041197 | H37: 10.349026 | J37: 21.356121 | L37: 11.173991
B38: 電気通信工事 | D38: 14.216867 | E38: 8.8863892 | F38: 8.3784821 | G38: 10.802284 | H38: 4.1367407 | I38: 16.778339 | J38: 4.5918084 | L38: 8.5441057
B39: さく井工事業 | D39: 5.1546392 | E39: 7.5907591 | F39: 7.0439315 | G39: 5.1569507 | H39: 3.0453564 | I39: 58.913043 | L39: 8.1319786
B40: 消防施設工事業 | D40: 31.932773 | E40: 23.076923 | F40: 12.780396 | G40: 9.2671314 | H40: 5.8693245 | L40: 12.964404
A41: 小 計 | D41: 17.853608 | E41: 6.4561492 | F41: 9.1166345 | G41: 6.0968166 | H41: 6.5437344 | I41: 7.7273194 | J41: 7.492723 | K41: 6.2677608 | L41: 7.4753427
A42: 合 計 | D42: 9.9447065 | E42: 7.4989681 | F42: 6.5913142 | G42: 6.0109717 | H42: 6.0865053 | I42: 7.1494917 | J42: 6.9739674 | K42: 7.6004401 | L42: 6.9893889
G43: （注） | H43: 1. 総資本経常利益率＝経常利益額／総資本額
H44: 2. 個人経営企業は集計に含まれていない。
H45: 3．無効回答企業 162社を除く

Sheet 2-2-4
A1: 表2－2－4 総資本経常利益率（経年変化）
V3: （単位：％）
B4: 資本金 | C4: 個 人 | E4: 法 人 | U4: 合 計
A5: 年度 | E5: 500万円未満 | G5: 500万円以上 1000万円未満 | I5: 1000万円以上 3000万円未満 | K5: 3000万円以上 5000万円未満 | M5: 5000万円以上 1億円未満 | O5: 1億円以上 3億円未満 | Q5: 3億円以上 10億円未満 | S5: 10億円以上
A6: R01年度 | E6: ='2-2-3'!$D$42 -> 9.9447065 | G6: ='2-2-3'!$E$42 -> 7.4989681 | I6: ='2-2-3'!$F$42 -> 6.5913142 | K6: ='2-2-3'!$G$42 -> 6.0109717 | M6: ='2-2-3'!$H$42 -> 6.0865053 | O6: ='2-2-3'!$I$42 -> 7.1494917 | Q6: ='2-2-3'!$J$42 -> 6.9739674 | S6: ='2-2-3'!$K$42 -> 7.6004401 | U6: ='2-2-3'!$L$42 -> 6.9893889
B7: 増減 | F7: =E6-E8 -> -2.9792735 | H7: =G6-G8 -> 3.6071417 | J7: =I6-I8 -> 6.4645959 | L7: =K6-K8 -> 3.0618964 | N7: =M6-M8 -> -0.60419202 | P7: =O6-O8 -> -4.8999973 | R7: =Q6-Q8 -> 1.9137253 | T7: =S6-S8 -> 4.1631831 | V7: =U6-U8 -> 6.5008198
A8: H26年度 | E8: 12.92398 | G8: 3.8918264 | I8: 0.12671829 | K8: 2.9490753 | M8: 6.6906974 | O8: 12.049489 | Q8: 5.0602421 | S8: 3.437257 | U8: 0.48856909
B9: 増減 | F9: =E8-E10 -> 10.718801 | H9: =G8-G10 -> 1.8923863 | J9: =I8-I10 -> -1.727954 | L9: =K8-K10 -> 1.2935854 | N9: =M8-M10 -> 4.498957 | P9: =O8-O10 -> 9.0701874 | R9: =Q8-Q10 -> 1.1950823 | T9: =S8-S10 -> 0.34321037 | V9: =U8-U10 -> -1.9291741
A10: H23年度 | E10: 2.2051785 | G10: 1.9994401 | I10: 1.8546723 | K10: 1.6554899 | M10: 2.1917403 | O10: 2.9793016 | Q10: 3.8651597 | S10: 3.0940467 | U10: 2.4177432
B11: 増減 | F11: =E10-E12 -> 0.30517853 | H11: =G10-G12 -> -0.000559913 | J11: =I10-I12 -> -0.74532768 | L11: =K10-K12 -> -0.54451012 | N11: =M10-M12 -> -0.40825969 | P11: =O10-O12 -> 0.079301554 | R11: =Q10-Q12 -> 1.5651597 | T11: =S10-S12 -> 1.6940467 | V11: =U10-U12 -> 0.41774321
A12: H20年度 | E12: 1.9 | G12: 2 | I12: 2.6 | K12: 2.2 | M12: 2.6 | O12: 2.9 | Q12: 2.3 | S12: 1.4 | U12: 2
B13: 増減 | F13: =E12-E14 -> -0.1 | H13: =G12-G14 -> -0.1 | J13: =I12-I14 -> 0.6 | L13: =K12-K14 -> 0.2 | N13: =M12-M14 -> -0.2 | P13: =O12-O14 -> 0.1 | R13: =Q12-Q14 -> -0.3 | T13: =S12-S14 -> -1 | V13: =U12-U14 -> 0
A14: H17年度 | E14: 2 | G14: 2.1 | I14: 2 | K14: 2 | M14: 2.8 | O14: 2.8 | Q14: 2.6 | S14: 2.4 | U14: 2
B15: 増減 | F15: =E14-E16 -> 0.67485845 | H15: =G14-G16 -> 2.9127538 | J15: =I14-I16 -> -3.9977398 | L15: =K14-K16 -> -2.3627367 | N15: =M14-M16 -> -0.76390882 | P15: =O14-O16 -> 0.17489796 | R15: =Q14-Q16 -> 1.6584049 | T15: =S14-S16 -> 2.1626267 | V15: =U14-U16 -> -1.2825968
A16: H14年度 | E16: 1.3251415 | G16: -0.8127538 | I16: 5.9977398 | K16: 4.3627367 | M16: 3.5639088 | O16: 2.625102 | Q16: 0.94159508 | S16: 0.23737329 | U16: 3.2825968
K17: （注） | L17: 1．総資本経常利益率＝経常利益／総資本額
L18: =SUBSTITUTE('2-2-3'!H45,"3．","2．") -> 2．無効回答企業 162社を除く
X19: （単位：％）
G20: 年度 | H20: R01年度 | K20: H26年度 | N20: H23年度 | Q20: H20年度 | T20: H17年度 | W20: H14年度
A21: 業種 | J21: 増減 | M21: 増減 | P21: 増減 | S21: 増減 | V21: 増減
A22: 一般土木建築 | C22: 一般土木建築工事業 | H22: ='2-2-3'!L6 -> 6.4781382 | J22: =H22-K22 -> 3.7982521 | K22: 2.679886 | M22: =K22-N22 -> 0.83556645 | N22: 1.8443196 | P22: =N22-Q22 -> 0.94431956 | Q22: 0.9 | S22: =Q22-T22 -> -0.9 | T22: 1.8 | V22: =T22-W22 -> 1.7646187 | W22: 0.035381336
A23: 土木 | C23: 土木工事業 | H23: ='2-2-3'!L7 -> 7.784039 | J23: =H23-K23 -> 2.5421807 | K23: 5.2418583 | M23: =K23-N23 -> 3.0388877 | N23: 2.2029706 | P23: =N23-Q23 -> 1.3029706 | Q23: 0.9 | S23: =Q23-T23 -> -0.6 | T23: 1.5 | V23: =T23-W23 -> -6.5429373 | W23: 8.0429373
C24: ほ装工事業 | H24: ='2-2-3'!L8 -> 6.8512243 | J24: =H24-K24 -> -0.96463568 | K24: 7.8158599 | M24: =K24-N24 -> 5.7220294 | N24: 2.0938305 | P24: =N24-Q24 -> -0.20616949 | Q24: 2.3 | S24: =Q24-T24 -> 1 | T24: 1.3 | V24: =T24-W24 -> -2.1720743 | W24: 3.4720743
C25: しゅんせつ工事業 | H25: ='2-2-3'!L9 -> 6.9767514 | J25: =H25-K25 -> 4.4971816 | K25: 2.4795697 | M25: =K25-N25 -> 0.94940003 | N25: 1.5301697 | P25: =N25-Q25 -> 0.33016972 | Q25: 1.2 | S25: =Q25-T25 -> -2.5 | T25: 3.7 | V25: =T25-W25 -> 0.80023212 | W25: 2.8997679
C26: 造園工事業 | H26: ='2-2-3'!L10 -> 7.0878662 | J26: =H26-K26 -> 5.7086921 | K26: 1.379174 | M26: =K26-N26 -> -0.56189558 | N26: 1.9410696 | P26: =N26-Q26 -> -0.35893037 | Q26: 2.3 | S26: =Q26-T26 -> -1 | T26: 3.3 | V26: =T26-W26 -> 0.56476979 | W26: 2.7352302
C27: 水道施設工事業 | H27: ='2-2-3'!L11 -> 1.8328823 | J27: =H27-K27 -> 0.42191656 | K27: 1.4109658 | M27: =K27-N27 -> -0.10734315 | N27: 1.5183089 | P27: =N27-Q27 -> -0.081691075 | Q27: 1.6 | S27: =Q27-T27 -> 0.1 | T27: 1.5 | V27: =T27-W27 -> 2.3972843 | W27: -0.89728427
A28: 小 計 | H28: ='2-2-3'!L12 -> 7.3610608 | J28: =H28-K28 -> 2.0289031 | K28: 5.3321577 | M28: =K28-N28 -> 3.1644533 | N28: 2.1677044 | P28: =N28-Q28 -> 1.1677044 | Q28: 1 | S28: =Q28-T28 -> -0.7 | T28: 1.7 | V28: =T28-W28 -> -5.9558404 | W28: 7.6558404
A29: 建築 | C29: 建築工事業 | H29: ='2-2-3'!L13 -> 6.9650173 | J29: =H29-K29 -> 6.8361697 | K29: 0.12884758 | M29: =K29-N29 -> -2.0014174 | N29: 2.130265 | P29: =N29-Q29 -> 0.73026496 | Q29: 1.4 | S29: =Q29-T29 -> -0.4 | T29: 1.8 | V29: =T29-W29 -> -0.27763624 | W29: 2.0776362
C30: 木造建築工事業 | H30: ='2-2-3'!L14 -> 7.2829597 | J30: =H30-K30 -> 2.1743895 | K30: 5.1085703 | M30: =K30-N30 -> 0.96820845 | N30: 4.1403618 | P30: =N30-Q30 -> 2.4403618 | Q30: 1.7 | S30: =Q30-T30 -> 0 | T30: 1.7 | V30: =T30-W30 -> 1.8842055 | W30: -0.18420547
A31: 小 計 | H31: ='2-2-3'!L15 -> 6.9911461 | J31: =H31-K31 -> 6.8445851 | K31: 0.14656103 | M31: =K31-N31 -> -2.2544834 | N31: 2.4010445 | P31: =N31-Q31 -> 1.0010445 | Q31: 1.4 | S31: =Q31-T31 -> -0.4 | T31: 1.8 | V31: =T31-W31 -> 0.012037325 | W31: 1.7879627
A32: 職別 | C32: 大工工事業 | H32: ='2-2-3'!L16 -> 4.3193308 | J32: =H32-K32 -> -0.048270772 | K32: 4.3676016 | M32: =K32-N32 -> 6.8109405 | N32: -2.443339 | P32: =N32-Q32 -> -5.043339 | Q32: 2.6 | S32: =Q32-T32 -> 0.2 | T32: 2.4 | V32: =T32-W32 -> 2.3375649 | W32: 0.062435068
C33: とび・土工・コンクリート工事業 | H33: ='2-2-3'!L17 -> 9.0293961 | J33: =H33-K33 -> 3.3447236 | K33: 5.6846725 | M33: =K33-N33 -> 4.444556 | N33: 1.2401165 | P33: =N33-Q33 -> -1.3598835 | Q33: 2.6 | S33: =Q33-T33 -> 1.1 | T33: 1.5 | V33: =T33-W33 -> -0.5634203 | W33: 2.0634203
C34: 鋼構造物工事業 | H34: ='2-2-3'!L18 -> 8.0584624 | J34: =H34-K34 -> 0.87525684 | K34: 7.1832056 | M34: =K34-N34 -> 5.7331259 | N34: 1.4500797 | P34: =N34-Q34 -> -0.049920257 | Q34: 1.5 | S34: =Q34-T34 -> -1.1 | T34: 2.6 | V34: =T34-W34 -> 2.8490285 | W34: -0.24902849
C35: 鉄筋工事業 | H35: ='2-2-3'!L19 -> 8.0443276 | J35: =H35-K35 -> 0.3173754 | K35: 7.7269522 | M35: =K35-N35 -> 6.2853645 | N35: 1.4415877 | P35: =N35-Q35 -> 0.041587724 | Q35: 1.4 | S35: =Q35-T35 -> 0 | T35: 1.4 | V35: =T35-W35 -> -0.55205414 | W35: 1.9520541
C36: 解体工事業 | H36: ='2-2-3'!L20 -> 8.940493 | J36: - | K36: - | M36: - | N36: - | P36: - | Q36: - | S36: - | T36: - | V36: - | W36: -
G37: 躯体関係計 | H37: ='2-2-3'!L21 -> 8.1843825 | J37: =H37-K37 -> 1.9817669 | K37: 6.2026157 | M37: =K37-N37 -> 5.3276426 | N37: 0.87497302 | P37: =N37-Q37 -> -1.125027 | Q37: 2 | S37: =Q37-T37 -> 0.2 | T37: 1.8 | V37: =T37-W37 -> 1.3368497 | W37: 0.46315026
C38: 左官工事業 | H38: ='2-2-3'!L22 -> 5.8965556 | J38: =H38-K38 -> -1.2551627 | K38: 7.1517182 | M38: =K38-N38 -> 9.7422796 | N38: -2.5905614 | P38: =N38-Q38 -> -4.5905614 | Q38: 2 | S38: =Q38-T38 -> -2 | T38: 4 | V38: =T38-W38 -> 4.0495232 | W38: -0.049523223
C39: 石工事業 | H39: ='2-2-3'!L23 -> 5.2718859 | J39: =H39-K39 -> 2.9722301 | K39: 2.2996557 | M39: =K39-N39 -> -0.63086526 | N39: 2.930521 | P39: =N39-Q39 -> 1.330521 | Q39: 1.6 | S39: =Q39-T39 -> 1.1 | T39: 0.5 | V39: =T39-W39 -> 0.76538542 | W39: -0.26538542
C40: 屋根工事業 | H40: ='2-2-3'!L24 -> 5.9990154 | J40: =H40-K40 -> -1.2577632 | K40: 7.2567786 | M40: =K40-N40 -> 5.8396571 | N40: 1.4171215 | P40: =N40-Q40 -> -0.18287846 | Q40: 1.6 | S40: =Q40-T40 -> -3.3 | T40: 4.9 | V40: =T40-W40 -> 4.8497655 | W40: 0.05023453
C41: タイル・れんが・ブロック工事業 | H41: ='2-2-3'!L25 -> 8.8162945 | J41: =H41-K41 -> 1.8187264 | K41: 6.9975681 | M41: =K41-N41 -> 6.8454058 | N41: 0.15216232 | P41: =N41-Q41 -> -2.6478377 | Q41: 2.8 | S41: =Q41-T41 -> 0.9 | T41: 1.9 | V41: =T41-W41 -> 0.20999243 | W41: 1.6900076
C42: 板金工事業 | H42: ='2-2-3'!L26 -> 10.004588 | J42: =H42-K42 -> 3.9026216 | K42: 6.1019663 | M42: =K42-N42 -> 5.8180725 | N42: 0.28389382 | P42: =N42-Q42 -> -1.9161062 | Q42: 2.2 | S42: =Q42-T42 -> -2 | T42: 4.2 | V42: =T42-W42 -> 1.5281517 | W42: 2.6718483
C43: ガラス工事業 | H43: ='2-2-3'!L27 -> 10.936236 | J43: =H43-K43 -> 8.6890067 | K43: 2.2472293 | M43: =K43-N43 -> 3.2167896 | N43: -0.96956032 | P43: =N43-Q43 -> -1.6695603 | Q43: 0.7 | S43: =Q43-T43 -> -0.4 | T43: 1.1 | V43: =T43-W43 -> 0.90205631 | W43: 0.19794369
C44: 塗装工事業 | H44: ='2-2-3'!L28 -> 7.3480411 | J44: =H44-K44 -> 2.4630464 | K44: 4.8849947 | M44: =K44-N44 -> 2.6436225 | N44: 2.2413722 | P44: =N44-Q44 -> -2.3586278 | Q44: 4.6 | S44: =Q44-T44 -> 0.9 | T44: 3.7 | V44: =T44-W44 -> 0.57722111 | W44: 3.1227789
C45: 防水工事業 | H45: ='2-2-3'!L29 -> 5.2231068 | J45: =H45-K45 -> -1.0566182 | K45: 6.279725 | M45: =K45-N45 -> 5.3021468 | N45: 0.97757825 | P45: =N45-Q45 -> -0.72242175 | Q45: 1.7 | S45: =Q45-T45 -> -2.5 | T45: 4.2 | V45: =T45-W45 -> 0.26814241 | W45: 3.9318576
C46: 内装仕上工事業 | H46: ='2-2-3'!L30 -> 3.7775857 | J46: =H46-K46 -> -1.9698592 | K46: 5.7474449 | M46: =K46-N46 -> 4.4619963 | N46: 1.2854486 | P46: =N46-Q46 -> -1.7145514 | Q46: 3 | S46: =Q46-T46 -> 1.4 | T46: 1.6 | V46: =T46-W46 -> 4.4237267 | W46: -2.8237267
C47: 建具工事業 | H47: ='2-2-3'!L31 -> 11.324332 | J47: =H47-K47 -> 6.8862078 | K47: 4.4381245 | M47: =K47-N47 -> 3.913614 | N47: 0.52451046 | P47: =N47-Q47 -> -0.57548954 | Q47: 1.1 | S47: =Q47-T47 -> -1 | T47: 2.1 | V47: =T47-W47 -> 0.87192986 | W47: 1.2280701
G48: 仕上関係計 | H48: ='2-2-3'!L32 -> 5.4569539 | J48: =H48-K48 -> -0.0011523059 | K48: 5.4581062 | M48: =K48-N48 -> 4.6512474 | N48: 0.8068588 | P48: =N48-Q48 -> -1.8931412 | Q48: 2.7 | S48: =Q48-T48 -> -0.2 | T48: 2.9 | V48: =T48-W48 -> 1.9552936 | W48: 0.94470638
A49: 小 計 | H49: ='2-2-3'!L33 -> 6.4608222 | J49: =H49-K49 -> 0.6368027 | K49: 5.8240195 | M49: =K49-N49 -> 4.9941304 | N49: 0.82988911 | P49: =N49-Q49 -> -1.5701109 | Q49: 2.4 | S49: =Q49-T49 -> -0.1 | T49: 2.5 | V49: =T49-W49 -> 1.7980648 | W49: 0.70193523
A50: 設備 | C50: 電気工事業 | H50: ='2-2-3'!L34 -> 6.8788296 | J50: =H50-K50 -> 1.4474913 | K50: 5.4313383 | M50: =K50-N50 -> 1.7138096 | N50: 3.7175286 | P50: =N50-Q50 -> -0.88247136 | Q50: 4.6 | S50: =Q50-T50 -> 2.6 | T50: 2 | V50: =T50-W50 -> -0.44938135 | W50: 2.4493814
C51: 管工事業 | H51: ='2-2-3'!L35 -> 7.3492307 | J51: =H51-K51 -> 3.6221752 | K51: 3.7270555 | M51: =K51-N51 -> 1.7251884 | N51: 2.0018671 | P51: =N51-Q51 -> -0.89813287 | Q51: 2.9 | S51: =Q51-T51 -> 1.9 | T51: 1 | V51: =T51-W51 -> -2.5069821 | W51: 3.5069821
C52: 機械器具設置工事 | H52: ='2-2-3'!L36 -> 8.2035247 | J52: =H52-K52 -> 2.6977419 | K52: 5.5057828 | M52: =K52-N52 -> -0.52224291 | N52: 6.0280257 | P52: =N52-Q52 -> 0.32802569 | Q52: 5.7 | S52: =Q52-T52 -> 0.5 | T52: 5.2 | V52: =T52-W52 -> 1.2337164 | W52: 3.9662836
C53: 熱絶縁工事 | H53: ='2-2-3'!L37 -> 11.173991 | J53: =H53-K53 -> 5.2923217 | K53: 5.8816689 | M53: =K53-N53 -> 1.7930142 | N53: 4.0886547 | P53: =N53-Q53 -> -1.3113453 | Q53: 5.4 | S53: =Q53-T53 -> 2.9 | T53: 2.5 | V53: =T53-W53 -> 1.5138053 | W53: 0.98619467
C54: 電気通信工事 | H54: ='2-2-3'!L38 -> 8.5441057 | J54: =H54-K54 -> -21.884958 | K54: 30.429063 | M54: =K54-N54 -> 26.428139 | N54: 4.0009245 | P54: =N54-Q54 -> -1.1990755 | Q54: 5.2 | S54: =Q54-T54 -> -1.3 | T54: 6.5 | V54: =T54-W54 -> 2.6339378 | W54: 3.8660622
C55: さく井工事業 | H55: ='2-2-3'!L39 -> 8.1319786 | J55: =H55-K55 -> -0.87627462 | K55: 9.0082533 | M55: =K55-N55 -> 7.8914462 | N55: 1.116807 | P55: =N55-Q55 -> -0.98319297 | Q55: 2.1 | S55: =Q55-T55 -> 2.6 | T55: -0.5 | V55: =T55-W55 -> 4.6719508 | W55: -5.1719508
C56: 消防施設工事業 | H56: ='2-2-3'!L40 -> 12.964404 | J56: =H56-K56 -> 7.6175101 | K56: 5.3468936 | M56: =K56-N56 -> 0.98699005 | N56: 4.3599036 | P56: =N56-Q56 -> -2.2400964 | Q56: 6.6 | S56: =Q56-T56 -> 4.6 | T56: 2 | V56: =T56-W56 -> 0.57300317 | W56: 1.4269968
A57: 小 計 | H57: ='2-2-3'!L41 -> 7.4753427 | J57: =H57-K57 -> 0.85040334 | K57: 6.6249394 | M57: =K57-N57 -> 2.579755 | N57: 4.0451844 | P57: =N57-Q57 -> -0.35481559 | Q57: 4.4 | S57: =Q57-T57 -> 2 | T57: 2.4 | V57: =T57-W57 -> -0.60541782 | W57: 3.0054178
A58: 合 計 | H58: ='2-2-3'!L42 -> 6.9893889 | J58: =H58-K58 -> 6.5008198 | K58: 0.48856909 | M58: =K58-N58 -> -1.9291741 | N58: 2.4177432 | P58: =N58-Q58 -> 0.41774321 | Q58: 2 | S58: =Q58-T58 -> 0 | T58: 2 | V58: =T58-W58 -> -1.2825968 | W58: 3.2825968
R59: =SUBSTITUTE( '2-2-3'!H45,"3．","（注）") -> （注）無効回答企業 162社を除く
