Workbook
Name ______________________ＴＢＬ１: [1]CSS編集画面!$B$10:$F$22
Name ______________________ＴＢＬ２: [1]CSS編集画面!$B$24:$I$35
Name _____________________ＴＢＬ１: [1]CSS編集画面!$B$10:$F$22
Name _____________________ＴＢＬ２: [1]CSS編集画面!$B$24:$I$35
Name ____________________ＴＢＬ１: [1]CSS編集画面!$B$10:$F$22
Name ____________________ＴＢＬ２: [1]CSS編集画面!$B$24:$I$35
Name ___________________ＴＢＬ１: [1]CSS編集画面!$B$10:$F$22
Name ___________________ＴＢＬ２: [1]CSS編集画面!$B$24:$I$35
Name __________________ＴＢＬ１: [1]CSS編集画面!$B$10:$F$22
Name __________________ＴＢＬ２: [1]CSS編集画面!$B$24:$I$35
Name _________________ＴＢＬ１: [1]CSS編集画面!$B$10:$F$22
Name _________________ＴＢＬ２: [1]CSS編集画面!$B$24:$I$35
Name ________________ＴＢＬ１: [1]CSS編集画面!$B$10:$F$22
Name ________________ＴＢＬ２: [1]CSS編集画面!$B$24:$I$35
Name _______________ＴＢＬ１: [1]CSS編集画面!$B$10:$F$22
Name _______________ＴＢＬ２: [1]CSS編集画面!$B$24:$I$35
Name ______________ＴＢＬ１: [1]CSS編集画面!$B$10:$F$22
Name ______________ＴＢＬ２: [1]CSS編集画面!$B$24:$I$35
Name _____________ＴＢＬ１: [1]CSS編集画面!$B$10:$F$22
Name _____________ＴＢＬ２: [1]CSS編集画面!$B$24:$I$35
Name ____________ＴＢＬ１: [1]CSS編集画面!$B$10:$F$22
Name ____________ＴＢＬ２: [1]CSS編集画面!$B$24:$I$35
Name ___________ＴＢＬ１: [1]CSS編集画面!$B$10:$F$22
Name ___________ＴＢＬ２: [1]CSS編集画面!$B$24:$I$35
Name __________ＴＢＬ１: [1]CSS編集画面!$B$10:$F$22
Name __________ＴＢＬ２: [1]CSS編集画面!$B$24:$I$35
Name _________ＴＢＬ１: [1]CSS編集画面!$B$10:$F$22
Name _________ＴＢＬ２: [1]CSS編集画面!$B$24:$I$35
Name ________ＴＢＬ１: [1]CSS編集画面!$B$10:$F$22
Name ________ＴＢＬ２: [1]CSS編集画面!$B$24:$I$35
Name _______ＴＢＬ１: [1]CSS編集画面!$B$10:$F$22
Name _______ＴＢＬ２: [1]CSS編集画面!$B$24:$I$35
Name ______ＴＢＬ１: [1]CSS編集画面!$B$10:$F$22
Name ______ＴＢＬ２: [1]CSS編集画面!$B$24:$I$35
Name _____ＴＢＬ１: [1]CSS編集画面!$B$10:$F$22
Name _____ＴＢＬ２: [1]CSS編集画面!$B$24:$I$35
Name ____ＴＢＬ１: [1]CSS編集画面!$B$10:$F$22
Name ____ＴＢＬ２: [1]CSS編集画面!$B$24:$I$35
Name ___ＴＢＬ１: [1]CSS編集画面!$B$10:$F$22
Name ___ＴＢＬ２: [1]CSS編集画面!$B$24:$I$35
Name __ＴＢＬ１: [1]CSS編集画面!$B$10:$F$22
Name __ＴＢＬ２: [1]CSS編集画面!$B$24:$I$35
Name _ＴＢＬ１: [1]CSS編集画面!$B$10:$F$22
Name _ＴＢＬ２: [1]CSS編集画面!$B$24:$I$35
Name PAGE1: #REF!
Name PAGE10: #REF!
Name PAGE100: #REF!
Name PAGE1000: #REF!
Name PAGE1001: #REF!
Name PAGE1002: #REF!
Name PAGE1003: #REF!
Name PAGE1004: #REF!
Name PAGE1005: #REF!
Name PAGE1006: #REF!
Name PAGE1007: #REF!
Name PAGE1008: #REF!
Name PAGE1009: #REF!
Name PAGE101: #REF!
Name PAGE1010: #REF!
Name PAGE1011: #REF!

Sheet 2-2-5
A1: 表2－2－5 売上高経常利益率
L3: （単位：％）
B4: 資本金 | C4: 個 人 | D4: 法 人 | L4: 合 計
A5: 業種 | D5: 500万円未満 | E5: 500万円以上 1000万円未満 | F5: 1000万円以上 3000万円未満 | G5: 3000万円以上 5000万円未満 | H5: 5000万円以上 1億円未満 | I5: 1億円以上 3億円未満 | J5: 3億円以上 10億円未満 | K5: 10億円以上
A6: 一般土木建築 | B6: 一般土木建築工事業 | C6: 4.2016807 | D6: 2.1671827 | E6: 7.5187266 | F6: 4.4882062 | G6: 4.2231853 | H6: 5.1391599 | I6: 4.584023 | J6: 5.5063854 | K6: 8.4218827 | L6: 7.1001472
A7: 土木 | B7: 土木工事業 | C7: 4.8892754 | D7: 6.0331825 | E7: 3.7218696 | F7: 6.5290888 | G7: 5.6387535 | H7: 5.427466 | I7: 5.2740136 | J7: 5.4353205 | K7: 69.442883 | L7: 7.7875355
B8: ほ装工事業 | C8: 9.3457944 | D8: 3.1188622 | E8: -1.3232514 | F8: 5.1223426 | G8: 6.6316504 | H8: 4.7386567 | I8: 4.7467943 | J8: 6.6165536 | L8: 4.8100211
B9: しゅんせつ工事業 | D9: 52.941176 | G9: 10.103181 | H9: 3.8519123 | L9: 7.2182722
B10: 造園工事業 | C10: 20 | D10: 4.7445255 | E10: 5.873494 | F10: 6.0319043 | G10: 5.1909159 | H10: 4.1932754 | I10: 8.5742444 | L10: 5.6264618
B11: 水道施設工事業 | C11: 7.6923077 | D11: 1.2330303 | E11: 4.8759624 | F11: 4.7024102 | G11: 6.0931651 | H11: 6.3067673 | L11: 3.5021974
A12: 小 計 | C12: 4.964387 | D12: 4.2551434 | E12: 3.1384676 | F12: 6.4019094 | G12: 5.7804235 | H12: 5.3503755 | I12: 5.2343767 | J12: 5.7165749 | K12: 69.442883 | L12: 7.3737097
A13: 建築 | B13: 建築工事業 | C13: 9.5703125 | D13: 3.0806403 | E13: 3.2101911 | F13: 4.2706088 | G13: 4.0701658 | H13: 4.5840847 | I13: 6.4927564 | J13: 4.1216719 | K13: 8.2511867 | L13: 5.667581
B14: 木造建築工事業 | C14: 86.289308 | D14: 2.4606299 | E14: 3.5960214 | F14: 2.7555153 | G14: 2.873479 | H14: 2.0277237 | I14: 4.5575561 | J14: 6.5628892 | K14: 13.938373 | L14: 8.4268187
A15: 小 計 | C15: 43.745134 | D15: 2.901417 | E15: 3.2619365 | F15: 4.015588 | G15: 4.0172397 | H15: 4.405754 | I15: 6.4153489 | J15: 4.254012 | K15: 8.5817427 | L15: 5.9490957
A16: 職別 | B16: 大工工事業 | C16: 16.69506 | D16: 1.0976533 | E16: 4.5348449 | F16: 3.9350612 | G16: 2.2984503 | H16: 0.88298807 | I16: 5.8132344 | L16: 3.4568925
B17: とび・土工・コンクリート工事業 | C17: 5.538695 | D17: 4.5181222 | E17: 6.095791 | F17: 7.5058747 | G17: 5.6887725 | H17: 8.6340688 | I17: 6.1221909 | J17: 6.5046875 | K17: 13.492491 | L17: 6.9539546
B18: 鋼構造物工事業 | C18: 23.868313 | D18: 6.3049293 | E18: 5.0557325 | F18: 6.4260372 | G18: 9.0397594 | H18: 8.3990084 | I18: 8.7999464 | J18: 5.7997042 | K18: 11.717909 | L18: 7.6628619
B19: 鉄筋工事業 | C19: 30.769231 | D19: 3.5775128 | E19: 3.5033087 | F19: 7.2602177 | G19: 6.0182032 | H19: 9.8148148 | I19: 5.6923698 | L19: 6.0299633
B20: 解体工事業 | F20: 23.15195 | G20: 21.163735 | H20: 14.076701 | L20: 24.218858
B21: 躯体関係計 | C21: 14.834902 | D21: 4.5397638 | E21: 5.5325947 | F21: 7.3849537 | G21: 7.437039 | H21: 6.7649373 | I21: 7.3685144 | J21: 6.1798278 | K21: 12.28853 | L21: 7.1289417
B22: 左官工事業 | C22: 10 | D22: -0.88272383 | E22: 9.1308165 | F22: 4.8018739 | G22: 8.3460949 | H22: 2.70807 | L22: 4.3253993
B23: 石工事業 | C23: 17.763158 | D23: -1.497006 | E23: 7.5396825 | F23: 2.9268293 | G23: 9.8313171 | H23: 10.757028 | L23: 7.1232947
B24: 屋根工事業 | C24: 16.728625 | D24: 4.4042492 | E24: 2.9356061 | F24: 4.3178127 | G24: 3.9066413 | H24: 2.301444 | L24: 4.4563446
B25: タイル・れんが・ブロック工事業 | C25: 15.789474 | D25: 4.9610496 | E25: 6.5652952 | F25: 4.0988951 | G25: 5.2511652 | H25: 5.5226677 | L25: 4.9076005
B26: 板金工事業 | C26: 18.678161 | D26: 6.8172313 | E26: 6.1746299 | F26: 8.380866 | G26: 5.2425282 | H26: 11.92053 | I26: 1.529052 | L26: 7.600915
B27: ガラス工事業 | D27: -0.27932961 | E27: 6.25 | F27: 11.190739 | G27: 2.3853211 | H27: 1.1330049 | I27: -1.8203883 | L27: 7.9557466
B28: 塗装工事業 | C28: 32.692308 | D28: 2.1853147 | E28: 2.4224806 | F28: 6.4197281 | G28: 3.0341463 | H28: 4.7092302 | I28: 6.0851663 | J28: 3.781631 | L28: 4.9511947
B29: 防水工事業 | C29: 20 | D29: 15.716411 | E29: 2.9411765 | F29: 4.7460526 | G29: 4.5538255 | H29: 5.2365343 | I29: 3.0820186 | J29: 4.4367842 | L29: 3.6774513
B30: 内装仕上工事業 | C30: 25.301205 | D30: 5.7996934 | E30: 3.8870056 | F30: 4.6567856 | G30: 2.998511 | H30: 5.8854606 | I30: 5.2310858 | J30: 4.4499595 | K30: 5.7674713 | L30: 4.8226821
B31: 建具工事業 | C31: 30 | D31: 47.22865 | E31: 1.748095 | F31: 4.7889979 | G31: 4.0151791 | H31: 4.510459 | I31: 3.7552156 | L31: 7.9815074
B32: 仕上関係計 | C32: 22.461726 | D32: 7.8916253 | E32: 4.0434145 | F32: 4.9863482 | G32: 4.4724211 | H32: 5.4814823 | I32: 3.4141254 | J32: 4.0931381 | K32: 5.7674713 | L32: 4.9668691
A33: 小 計 | C33: 17.626011 | D33: 6.3592982 | E33: 4.6796297 | F33: 5.9409406 | G33: 5.7903715 | H33: 6.2032675 | I33: 3.7451647 | J33: 4.8015214 | K33: 8.5529258 | L33: 5.7915588
A34: 設備 | B34: 電気工事業 | C34: 14.724712 | D34: 16.31511 | E34: 4.1446208 | F34: 7.2233956 | G34: 6.5336302 | H34: 5.7403298 | I34: 6.2883037 | J34: 4.9951028 | K34: 6.4179583 | L34: 6.8765768
B35: 管工事業 | C35: 12.469831 | D35: 6.6089109 | E35: 4.1322314 | F35: 6.9603288 | G35: 0.95102068 | H35: 7.4477127 | I35: 6.8532492 | J35: 3.8219076 | K35: 6.9167588 | L35: 4.3669138
B36: 機械器具設置工事 | C36: 25.423729 | D36: 4.8869884 | E36: 3.0589544 | F36: 10.16252 | G36: 8.9453589 | H36: 7.4228061 | I36: 4.9178801 | J36: 6.6555377 | K36: 8.9922978 | L36: 8.5017251
B37: 熱絶縁工事 | C37: 32.432432 | D37: 14.419695 | E37: 10.165975 | F37: 7.1168031 | G37: 7.9751379 | H37: 6.1033988 | J37: 17.018001 | L37: 10.549983
B38: 電気通信工事 | C38: 8.1081081 | D38: 7.2004966 | E38: 3.7889688 | F38: 5.2051309 | G38: 5.9657174 | H38: 3.5301943 | I38: 7.0323921 | J38: 3.461941 | L38: 5.2553273
B39: さく井工事業 | C39: 15.706806 | D39: 3.7940379 | E39: 5.0218341 | F39: 6.2195924 | G39: 4.5847176 | H39: 3.9297659 | I39: 16.325301 | L39: 6.824641
B40: 消防施設工事業 | D40: 10.050251 | E40: 4.4897959 | F40: 9.5641134 | G40: 7.9123113 | H40: 3.5076109 | L40: 8.2483872
A41: 小 計 | C41: 13.582425 | D41: 10.732647 | E41: 4.1267417 | F41: 7.3413017 | G41: 2.7074001 | H41: 6.322773 | I41: 6.2819774 | J41: 6.5269528 | K41: 6.9860611 | L41: 6.1798653
A42: 合 計 | C42: 23.433558 | D42: 5.8312677 | E42: 3.8613941 | F42: 5.8532887 | G42: 4.0951279 | H42: 5.2426816 | I42: 5.252663 | J42: 5.4551103 | K42: 9.1602945 | L42: 6.4070357
E43: （注） | F43: 1. 売上高経常利益率＝経常利益額／総売上高（国内・海外完工高＋兼業売上高）
F44: 2．無効回答企業 193社を除く

Sheet 2-2-6
A1: 表2－2－6 売上高経常利益率（経年変化）
V3: （単位：％）
B4: 資本金 | C4: 個 人 | E4: 法 人 | U4: 合 計
A5: 年度 | E5: 500万円未満 | G5: 500万円以上 1000万円未満 | I5: 1000万円以上 3000万円未満 | K5: 3000万円以上 5000万円未満 | M5: 5000万円以上 1億円未満 | O5: 1億円以上 3億円未満 | Q5: 3億円以上 10億円未満 | S5: 10億円以上
A6: R01年度 | C6: ='2-2-5'!$C$42 -> 23.433558 | E6: ='2-2-5'!$D$42 -> 5.8312677 | G6: ='2-2-5'!$E$42 -> 3.8613941 | I6: ='2-2-5'!$F$42 -> 5.8532887 | K6: ='2-2-5'!$G$42 -> 4.0951279 | M6: ='2-2-5'!$H$42 -> 5.2426816 | O6: ='2-2-5'!$I$42 -> 5.252663 | Q6: ='2-2-5'!$J$42 -> 5.4551103 | S6: ='2-2-5'!$K$42 -> 9.1602945 | U6: ='2-2-5'!$L$42 -> 6.4070357
B7: 増減 | D7: =C6-C8 -> 17.175683 | F7: =E6-E8 -> -0.073939836 | H7: =G6-G8 -> 0.93740457 | J7: =I6-I8 -> 2.8463517 | L7: =K6-K8 -> 1.752228 | N7: =M6-M8 -> 0.087904476 | P7: =O6-O8 -> 3.2455049 | R7: =Q6-Q8 -> 2.6260825 | T7: =S6-S8 -> 5.7285627 | V7: =U6-U8 -> 3.2494653
A8: H26年度 | C8: 6.2578749 | E8: 5.9052075 | G8: 2.9239895 | I8: 3.006937 | K8: 2.3428999 | M8: 5.1547771 | O8: 2.0071581 | Q8: 2.8290278 | S8: 3.4317318 | U8: 3.1575704
B9: 増減 | D9: =C8-C10 -> 0.24902784 | F9: =E8-E10 -> 4.9124184 | H9: =G8-G10 -> 2.0085992 | J9: =I8-I10 -> 1.5579042 | L9: =K8-K10 -> 1.133273 | N9: =M8-M10 -> 3.324378 | P9: =O8-O10 -> -0.57911435 | R9: =Q8-Q10 -> 0.016028992 | T9: =S8-S10 -> 0.51651965 | V9: =U8-U10 -> 1.1572869
A10: H23年度 | C10: 6.008847 | E10: 0.99278918 | G10: 0.91539025 | I10: 1.4490329 | K10: 1.2096269 | M10: 1.8303991 | O10: 2.5862725 | Q10: 2.8129988 | S10: 2.9152122 | U10: 2.0002835
B11: 増減 | D11: =C10-C12 -> -0.69115296 | F11: =E10-E12 -> 0.19278918 | H11: =G10-G12 -> -0.084609748 | J11: =I10-I12 -> -0.25096715 | L11: =K10-K12 -> -0.39037313 | N11: =M10-M12 -> -0.069600879 | P11: =O10-O12 -> 0.48627248 | R11: =Q10-Q12 -> 1.2129988 | T11: =S10-S12 -> 1.6152122 | V11: =U10-U12 -> 0.40028352
A12: H20年度 | C12: 6.7 | E12: 0.8 | G12: 1 | I12: 1.7 | K12: 1.6 | M12: 1.9 | O12: 2.1 | Q12: 1.6 | S12: 1.3 | U12: 1.6
B13: 増減 | D13: =C12-C14 -> -1.8 | F13: =E12-E14 -> 0.2 | H13: =G12-G14 -> 0.6 | J13: =I12-I14 -> 0.9 | L13: =K12-K14 -> 0.7 | N13: =M12-M14 -> 0.3 | P13: =O12-O14 -> 0.4 | R13: =Q12-Q14 -> -0.1 | T13: =S12-S14 -> -0.8 | V13: =U12-U14 -> -0.6
A14: H17年度 | C14: 8.5 | E14: 0.6 | G14: 0.4 | I14: 0.8 | K14: 0.9 | M14: 1.6 | O14: 1.7 | Q14: 1.7 | S14: 2.1 | U14: 2.2
B15: 増減 | D15: =C14-C16 -> -2.2 | F15: =E14-E16 -> 1.1 | H15: =G14-G16 -> 1 | J15: =I14-I16 -> -5.7 | L15: =K14-K16 -> -1.9 | N15: =M14-M16 -> -1.1 | P15: =O14-O16 -> -0.3 | R15: =Q14-Q16 -> 1.1 | T15: =S14-S16 -> 1.7 | V15: =U14-U16 -> -1
A16: H14年度 | C16: 10.7 | E16: -0.5 | G16: -0.6 | I16: 6.5 | K16: 2.8 | M16: 2.7 | O16: 2 | Q16: 0.6 | S16: 0.4 | U16: 3.2
K17: （注） | L17: 1．売上高経常利益率＝経常利益額／総売上高（国内・海外完工高＋兼業売上高）
L18: ='2-2-5'!F44 -> 2．無効回答企業 193社を除く
X19: （単位：％）
G20: 年度 | H20: R01年度 | K20: H26年度 | N20: H23年度 | Q20: H20年度 | T20: H17年度 | W20: H14年度
A21: 業種 | J21: 増減 | M21: 増減 | P21: 増減 | S21: 増減 | V21: 増減
A22: 一般土木建築 | C22: 一般土木建築工事業 | H22: ='2-2-5'!L6 -> 7.1001472 | J22: =H22-K22 -> 4.8157049 | K22: 2.2844424 | M22: =K22-N22 -> 0.51951156 | N22: 1.7649308 | P22: =N22-Q22 -> 0.96493081 | Q22: 0.8 | S22: =Q22-T22 -> -0.5 | T22: 1.3 | V22: =T22-W22 -> 1.1 | W22: 0.2
A23: 土木 | C23: 土木工事業 | H23: ='2-2-5'!L7 -> 7.7875355 | J23: =H23-K23 -> 3.1872529 | K23: 4.6002825 | M23: =K23-N23 -> 2.8921047 | N23: 1.7081779 | P23: =N23-Q23 -> 0.90817788 | Q23: 0.8 | S23: =Q23-T23 -> -0.8 | T23: 1.6 | V23: =T23-W23 -> -8.3126205 | W23: 9.9126205
C24: ほ装工事業 | H24: ='2-2-5'!L8 -> 4.8100211 | J24: =H24-K24 -> -0.46589124 | K24: 5.2759124 | M24: =K24-N24 -> 3.8080897 | N24: 1.4678226 | P24: =N24-Q24 -> -0.032177351 | Q24: 1.5 | S24: =Q24-T24 -> 0.6 | T24: 0.9 | V24: =T24-W24 -> -1.5671414 | W24: 2.4671414
C25: しゅんせつ工事業 | H25: ='2-2-5'!L9 -> 7.2182722 | J25: =H25-K25 -> 4.3327971 | K25: 2.8854751 | M25: =K25-N25 -> 1.7590692 | N25: 1.1264059 | P25: =N25-Q25 -> -0.073594082 | Q25: 1.2 | S25: =Q25-T25 -> -1.5 | T25: 2.7 | V25: =T25-W25 -> 0.26621051 | W25: 2.4337895
C26: 造園工事業 | H26: ='2-2-5'!L10 -> 5.6264618 | J26: =H26-K26 -> 4.3146617 | K26: 1.3118 | M26: =K26-N26 -> -0.11603963 | N26: 1.4278397 | P26: =N26-Q26 -> -0.57216035 | Q26: 2 | S26: =Q26-T26 -> -2 | T26: 4 | V26: =T26-W26 -> 2.1084805 | W26: 1.8915195
C27: 水道施設工事業 | H27: ='2-2-5'!L11 -> 3.5021974 | J27: =H27-K27 -> 2.3628645 | K27: 1.1393329 | M27: =K27-N27 -> 0.22072559 | N27: 0.91860728 | P27: =N27-Q27 -> -1.0813927 | Q27: 2 | S27: =Q27-T27 -> 0.6 | T27: 1.4 | V27: =T27-W27 -> 1.9602884 | W27: -0.56028843
A28: 小 計 | H28: ='2-2-5'!L12 -> 7.3737097 | J28: =H28-K28 -> 2.8694841 | K28: 4.5042256 | M28: =K28-N28 -> 2.8552606 | N28: 1.648965 | P28: =N28-Q28 -> 0.74896504 | Q28: 0.9 | S28: =Q28-T28 -> -0.9 | T28: 1.8 | V28: =T28-W28 -> -7.1311962 | W28: 8.9311962
A29: 建築 | C29: 建築工事業 | H29: ='2-2-5'!L13 -> 5.667581 | J29: =H29-K29 -> 2.7891975 | K29: 2.8783836 | M29: =K29-N29 -> 1.2983756 | N29: 1.580008 | P29: =N29-Q29 -> 0.38000798 | Q29: 1.2 | S29: =Q29-T29 -> -0.9 | T29: 2.1 | V29: =T29-W29 -> 0.38602815 | W29: 1.7139719
C30: 木造建築工事業 | H30: ='2-2-5'!L14 -> 8.4268187 | J30: =H30-K30 -> 5.077737 | K30: 3.3490817 | M30: =K30-N30 -> 0.41108511 | N30: 2.9379966 | P30: =N30-Q30 -> 1.4379966 | Q30: 1.5 | S30: =Q30-T30 -> -1.5 | T30: 3 | V30: =T30-W30 -> 2.1204354 | W30: 0.87956464
A31: 小 計 | H31: ='2-2-5'!L15 -> 5.9490957 | J31: =H31-K31 -> 3.0127954 | K31: 2.9363002 | M31: =K31-N31 -> 1.1485239 | N31: 1.7877764 | P31: =N31-Q31 -> 0.58777638 | Q31: 1.2 | S31: =Q31-T31 -> -1.1 | T31: 2.3 | V31: =T31-W31 -> 0.69964616 | W31: 1.6003538
A32: 職別 | C32: 大工工事業 | H32: ='2-2-5'!L16 -> 3.4568925 | J32: =H32-K32 -> 0.054005081 | K32: 3.4028874 | M32: =K32-N32 -> 4.520033 | N32: -1.1171457 | P32: =N32-Q32 -> -3.1171457 | Q32: 2 | S32: =Q32-T32 -> -3.4 | T32: 5.4 | V32: =T32-W32 -> 1.3203258 | W32: 4.0796742
C33: とび・土工・コンクリート工事業 | H33: ='2-2-5'!L17 -> 6.9539546 | J33: =H33-K33 -> 3.4868379 | K33: 3.4671167 | M33: =K33-N33 -> 2.6750813 | N33: 0.79203543 | P33: =N33-Q33 -> -0.80796457 | Q33: 1.6 | S33: =Q33-T33 -> 0.1 | T33: 1.5 | V33: =T33-W33 -> -0.20345843 | W33: 1.7034584
C34: 鋼構造物工事業 | H34: ='2-2-5'!L18 -> 7.6628619 | J34: =H34-K34 -> 1.8607124 | K34: 5.8021495 | M34: =K34-N34 -> 4.7048109 | N34: 1.0973386 | P34: =N34-Q34 -> -0.002661434 | Q34: 1.1 | S34: =Q34-T34 -> -1.9 | T34: 3 | V34: =T34-W34 -> 3.1070071 | W34: -0.10700708
C35: 鉄筋工事業 | H35: ='2-2-5'!L19 -> 6.0299633 | J35: =H35-K35 -> 0.7611729 | K35: 5.2687904 | M35: =K35-N35 -> 4.6773178 | N35: 0.59147258 | P35: =N35-Q35 -> -0.60852742 | Q35: 1.2 | S35: =Q35-T35 -> -1.6 | T35: 2.8 | V35: =T35-W35 -> 1.2574647 | W35: 1.5425353
C36: 解体工事業 | H36: ='2-2-5'!L20 -> 24.218858 | J36: - | K36: - | M36: - | N36: - | P36: - | Q36: - | S36: - | T36: - | V36: - | W36: -
G37: 躯体関係計 | H37: ='2-2-5'!L21 -> 7.1289417 | J37: =H37-K37 -> 2.8935203 | K37: 4.2354213 | M37: =K37-N37 -> 3.5940935 | N37: 0.64132783 | P37: =N37-Q37 -> -0.75867217 | Q37: 1.4 | S37: =Q37-T37 -> -1.4 | T37: 2.8 | V37: =T37-W37 -> 1.4150068 | W37: 1.3849932
C38: 左官工事業 | H38: ='2-2-5'!L22 -> 4.3253993 | J38: =H38-K38 -> -0.44215243 | K38: 4.7675517 | M38: =K38-N38 -> 6.8156302 | N38: -2.0480785 | P38: =N38-Q38 -> -3.4480785 | Q38: 1.4 | S38: =Q38-T38 -> -3 | T38: 4.4 | V38: =T38-W38 -> 4.1013735 | W38: 0.29862651
C39: 石工事業 | H39: ='2-2-5'!L23 -> 7.1232947 | J39: =H39-K39 -> 4.7462589 | K39: 2.3770358 | M39: =K39-N39 -> -0.72521996 | N39: 3.1022558 | P39: =N39-Q39 -> 1.5022558 | Q39: 1.6 | S39: =Q39-T39 -> -0.7 | T39: 2.3 | V39: =T39-W39 -> 2.4271871 | W39: -0.12718709
C40: 屋根工事業 | H40: ='2-2-5'!L24 -> 4.4563446 | J40: =H40-K40 -> 0.32860514 | K40: 4.1277395 | M40: =K40-N40 -> 2.8201011 | N40: 1.3076384 | P40: =N40-Q40 -> 0.10763835 | Q40: 1.2 | S40: =Q40-T40 -> -2.7 | T40: 3.9 | V40: =T40-W40 -> 3.603124 | W40: 0.29687604
C41: タイル・れんが・ブロック工事業 | H41: ='2-2-5'!L25 -> 4.9076005 | J41: =H41-K41 -> 0.80129958 | K41: 4.1063009 | M41: =K41-N41 -> 3.4052538 | N41: 0.70104714 | P41: =N41-Q41 -> -0.49895286 | Q41: 1.2 | S41: =Q41-T41 -> 2.2 | T41: -1 | V41: =T41-W41 -> -2.6976931 | W41: 1.6976931
C42: 板金工事業 | H42: ='2-2-5'!L26 -> 7.600915 | J42: =H42-K42 -> 2.6296342 | K42: 4.9712809 | M42: =K42-N42 -> 4.2484611 | N42: 0.72281977 | P42: =N42-Q42 -> -1.2771802 | Q42: 2 | S42: =Q42-T42 -> -2.7 | T42: 4.7 | V42: =T42-W42 -> 2.2170889 | W42: 2.4829111
C43: ガラス工事業 | H43: ='2-2-5'!L27 -> 7.9557466 | J43: =H43-K43 -> 6.0102111 | K43: 1.9455356 | M43: =K43-N43 -> -0.14358966 | N43: 2.0891252 | P43: =N43-Q43 -> 1.2891252 | Q43: 0.8 | S43: =Q43-T43 -> -1.6 | T43: 2.4 | V43: =T43-W43 -> 2.1066975 | W43: 0.29330248
C44: 塗装工事業 | H44: ='2-2-5'!L28 -> 4.9511947 | J44: =H44-K44 -> 1.4013626 | K44: 3.549832 | M44: =K44-N44 -> 1.8867234 | N44: 1.6631086 | P44: =N44-Q44 -> -1.2368914 | Q44: 2.9 | S44: =Q44-T44 -> -1.7 | T44: 4.6 | V44: =T44-W44 -> 4.8012695 | W44: -0.20126951
C45: 防水工事業 | H45: ='2-2-5'!L29 -> 3.6774513 | J45: =H45-K45 -> -0.29199739 | K45: 3.9694487 | M45: =K45-N45 -> 3.2499784 | N45: 0.71947031 | P45: =N45-Q45 -> -0.68052969 | Q45: 1.4 | S45: =Q45-T45 -> -1.6 | T45: 3 | V45: =T45-W45 -> 0.25112605 | W45: 2.7488739
C46: 内装仕上工事業 | H46: ='2-2-5'!L30 -> 4.8226821 | J46: =H46-K46 -> 1.6616392 | K46: 3.161043 | M46: =K46-N46 -> 2.461414 | N46: 0.69962892 | P46: =N46-Q46 -> -0.90037108 | Q46: 1.6 | S46: =Q46-T46 -> -0.3 | T46: 1.9 | V46: =T46-W46 -> 3.5387277 | W46: -1.6387277
C47: 建具工事業 | H47: ='2-2-5'!L31 -> 7.9815074 | J47: =H47-K47 -> 4.6676439 | K47: 3.3138634 | M47: =K47-N47 -> 2.9101776 | N47: 0.40368582 | P47: =N47-Q47 -> -0.49631418 | Q47: 0.9 | S47: =Q47-T47 -> 1 | T47: -0.1 | V47: =T47-W47 -> -1.4595107 | W47: 1.3595107
G48: 仕上関係計 | H48: ='2-2-5'!L32 -> 4.9668691 | J48: =H48-K48 -> 1.438375 | K48: 3.5284941 | M48: =K48-N48 -> 2.7513548 | N48: 0.77713925 | P48: =N48-Q48 -> -0.92286075 | Q48: 1.7 | S48: =Q48-T48 -> -1.1 | T48: 2.8 | V48: =T48-W48 -> 2.6268774 | W48: 0.1731226
A49: 小 計 | H49: ='2-2-5'!L33 -> 5.7915588 | J49: =H49-K49 -> 1.9335598 | K49: 3.857999 | M49: =K49-N49 -> 3.1344588 | N49: 0.72354018 | P49: =N49-Q49 -> -0.87645982 | Q49: 1.6 | S49: =Q49-T49 -> -1.2 | T49: 2.8 | V49: =T49-W49 -> 2.1388534 | W49: 0.66114664
A50: 設備 | C50: 電気工事業 | H50: ='2-2-5'!L34 -> 6.8765768 | J50: =H50-K50 -> 2.9115772 | K50: 3.9649996 | M50: =K50-N50 -> 0.73419437 | N50: 3.2308052 | P50: =N50-Q50 -> -0.36919477 | Q50: 3.6 | S50: =Q50-T50 -> 2 | T50: 1.6 | V50: =T50-W50 -> -0.57769313 | W50: 2.1776931
C51: 管工事業 | H51: ='2-2-5'!L35 -> 4.3669138 | J51: =H51-K51 -> 1.349053 | K51: 3.0178608 | M51: =K51-N51 -> 1.5278719 | N51: 1.4899889 | P51: =N51-Q51 -> -0.61001109 | Q51: 2.1 | S51: =Q51-T51 -> 0.5 | T51: 1.6 | V51: =T51-W51 -> -1.0068959 | W51: 2.6068959
C52: 機械器具設置工事 | H52: ='2-2-5'!L36 -> 8.5017251 | J52: =H52-K52 -> 2.7191031 | K52: 5.7826221 | M52: =K52-N52 -> -1.2148666 | N52: 6.9974887 | P52: =N52-Q52 -> 3.4974887 | Q52: 3.5 | S52: =Q52-T52 -> 0.2 | T52: 3.3 | V52: =T52-W52 -> 0.58219938 | W52: 2.7178006
C53: 熱絶縁工事 | H53: ='2-2-5'!L37 -> 10.549983 | J53: =H53-K53 -> 5.6196788 | K53: 4.9303041 | M53: =K53-N53 -> 1.4705568 | N53: 3.4597473 | P53: =N53-Q53 -> -1.9402527 | Q53: 5.4 | S53: =Q53-T53 -> 2.7 | T53: 2.7 | V53: =T53-W53 -> 1.7176769 | W53: 0.98232305
C54: 電気通信工事 | H54: ='2-2-5'!L38 -> 5.2553273 | J54: =H54-K54 -> 3.4798658 | K54: 1.7754615 | M54: =K54-N54 -> -0.55563916 | N54: 2.3311007 | P54: =N54-Q54 -> -0.5688993 | Q54: 2.9 | S54: =Q54-T54 -> -0.9 | T54: 3.8 | V54: =T54-W54 -> 1.5323453 | W54: 2.2676547
C55: さく井工事業 | H55: ='2-2-5'!L39 -> 6.824641 | J55: =H55-K55 -> -1.1936789 | K55: 8.01832 | M55: =K55-N55 -> 7.1505612 | N55: 0.86775875 | P55: =N55-Q55 -> -1.0322412 | Q55: 1.9 | S55: =Q55-T55 -> 0.9 | T55: 1 | V55: =T55-W55 -> 4.8400612 | W55: -3.8400612
C56: 消防施設工事業 | H56: ='2-2-5'!L40 -> 8.2483872 | J56: =H56-K56 -> 4.9662179 | K56: 3.2821693 | M56: =K56-N56 -> 0.56209355 | N56: 2.7200757 | P56: =N56-Q56 -> -2.2799243 | Q56: 5 | S56: =Q56-T56 -> 4.5 | T56: 0.5 | V56: =T56-W56 -> -0.56742775 | W56: 1.0674278
A57: 小 計 | H57: ='2-2-5'!L41 -> 6.1798653 | J57: =H57-K57 -> 3.2415769 | K57: 2.9382884 | M57: =K57-N57 -> -0.55519926 | N57: 3.4934877 | P57: =N57-Q57 -> 0.29348766 | Q57: 3.2 | S57: =Q57-T57 -> 1.3 | T57: 1.9 | V57: =T57-W57 -> -0.4 | W57: 2.3
A58: 合 計 | H58: ='2-2-5'!L42 -> 6.4070357 | J58: =H58-K58 -> 3.2494653 | K58: 3.1575704 | M58: =K58-N58 -> 1.1572869 | N58: 2.0002835 | P58: =N58-Q58 -> 0.40028352 | Q58: 1.6 | S58: =Q58-T58 -> -0.6 | T58: 2.2 | V58: =T58-W58 -> -1 | W58: 3.2
R59: =SUBSTITUTE('2-2-5'!F44,"2．","（注）") -> （注）無効回答企業 193社を除く
