Workbook
Name ______________________ＴＢＬ１: [1]CSS編集画面!$B$10:$F$22
Name ______________________ＴＢＬ２: [1]CSS編集画面!$B$24:$I$35
Name _____________________ＴＢＬ１: [1]CSS編集画面!$B$10:$F$22
Name _____________________ＴＢＬ２: [1]CSS編集画面!$B$24:$I$35
Name ____________________ＴＢＬ１: [1]CSS編集画面!$B$10:$F$22
Name ____________________ＴＢＬ２: [1]CSS編集画面!$B$24:$I$35
Name ___________________ＴＢＬ１: [1]CSS編集画面!$B$10:$F$22
Name ___________________ＴＢＬ２: [1]CSS編集画面!$B$24:$I$35
Name __________________ＴＢＬ１: [1]CSS編集画面!$B$10:$F$22
Name __________________ＴＢＬ２: [1]CSS編集画面!$B$24:$I$35
Name _________________ＴＢＬ１: [1]CSS編集画面!$B$10:$F$22
Name _________________ＴＢＬ２: [1]CSS編集画面!$B$24:$I$35
Name ________________ＴＢＬ１: [1]CSS編集画面!$B$10:$F$22
Name ________________ＴＢＬ２: [1]CSS編集画面!$B$24:$I$35
Name _______________ＴＢＬ１: [1]CSS編集画面!$B$10:$F$22
Name _______________ＴＢＬ２: [1]CSS編集画面!$B$24:$I$35
Name ______________ＴＢＬ１: [1]CSS編集画面!$B$10:$F$22
Name ______________ＴＢＬ２: [1]CSS編集画面!$B$24:$I$35
Name _____________ＴＢＬ１: [1]CSS編集画面!$B$10:$F$22
Name _____________ＴＢＬ２: [1]CSS編集画面!$B$24:$I$35
Name ____________ＴＢＬ１: [1]CSS編集画面!$B$10:$F$22
Name ____________ＴＢＬ２: [1]CSS編集画面!$B$24:$I$35
Name ___________ＴＢＬ１: [1]CSS編集画面!$B$10:$F$22
Name ___________ＴＢＬ２: [1]CSS編集画面!$B$24:$I$35
Name __________ＴＢＬ１: [1]CSS編集画面!$B$10:$F$22
Name __________ＴＢＬ２: [1]CSS編集画面!$B$24:$I$35
Name _________ＴＢＬ１: [1]CSS編集画面!$B$10:$F$22
Name _________ＴＢＬ２: [1]CSS編集画面!$B$24:$I$35
Name ________ＴＢＬ１: [1]CSS編集画面!$B$10:$F$22
Name ________ＴＢＬ２: [1]CSS編集画面!$B$24:$I$35
Name _______ＴＢＬ１: [1]CSS編集画面!$B$10:$F$22
Name _______ＴＢＬ２: [1]CSS編集画面!$B$24:$I$35
Name ______ＴＢＬ１: [1]CSS編集画面!$B$10:$F$22
Name ______ＴＢＬ２: [1]CSS編集画面!$B$24:$I$35
Name _____ＴＢＬ１: [1]CSS編集画面!$B$10:$F$22
Name _____ＴＢＬ２: [1]CSS編集画面!$B$24:$I$35
Name ____ＴＢＬ１: [1]CSS編集画面!$B$10:$F$22
Name ____ＴＢＬ２: [1]CSS編集画面!$B$24:$I$35
Name ___ＴＢＬ１: [1]CSS編集画面!$B$10:$F$22
Name ___ＴＢＬ２: [1]CSS編集画面!$B$24:$I$35
Name __ＴＢＬ１: [1]CSS編集画面!$B$10:$F$22
Name __ＴＢＬ２: [1]CSS編集画面!$B$24:$I$35
Name _ＴＢＬ１: [1]CSS編集画面!$B$10:$F$22
Name _ＴＢＬ２: [1]CSS編集画面!$B$24:$I$35
Name PAGE1: #REF!
Name PAGE10: #REF!
Name PAGE100: #REF!
Name PAGE1000: #REF!
Name PAGE1001: #REF!
Name PAGE1002: #REF!
Name PAGE1003: #REF!
Name PAGE1004: #REF!
Name PAGE1005: #REF!
Name PAGE1006: #REF!
Name PAGE1007: #REF!
Name PAGE1008: #REF!
Name PAGE1009: #REF!
Name PAGE101: #REF!
Name PAGE1010: #REF!
Name PAGE1011: #REF!

Sheet 2-6-1
A1: 表2－6－1 下請比率、下請次数別の企業分布状況（完成工事高による分析）
X3: （単位：社、％）
D4: 資本金 | E4: 個 人 | G4: 法 人 | W4: 合 計
A5: 業種 | C5: 下請比率 | D5: 下請次数 | G5: 500万円未満 | I5: 500万円以上 1000万円未満 | K5: 1000万円以上 3000万円未満 | M5: 3000万円以上 5000万円未満 | O5: 5000万円以上 1億円未満 | Q5: 1億円以上 3億円未満 | S5: 3億円以上 10億円未満 | U5: 10億円以上
A6: 一 般 土 木 建 築 | B6: 一般土木 建築工事業 | C6: ０％ | E6: 36 | F6: 50 | I6: 135 | J6: 38.461538 | K6: 198.87324 | L6: 15.384615 | M6: 182.64103 | N6: 22.666667 | O6: 83.822785 | P6: 18.181818 | Q6: 17.1 | R6: 18.367347 | S6: 2.5263158 | T6: 11.111111 | U6: 4.4117647 | V6: 9.6774194 | W6: 660.37513 | X6: 19.606975
C7: ０％超５０％未満 | E7: 36 | F7: 50 | G7: 134.5 | H7: 60 | I7: 162 | J7: 46.153846 | K7: 875.04225 | L7: 67.692308 | M7: 504.94872 | N7: 62.666667 | O7: 353.25316 | P7: 76.623377 | Q7: 74.1 | R7: 79.591837 | S7: 18.947368 | T7: 83.333333 | U7: 39.705882 | V7: 87.096774 | W7: 2198.4974 | X7: 65.274842
C8: ５０％以上 | G8: 89.666667 | H8: 40 | I8: 54 | J8: 15.384615 | K8: 218.76056 | L8: 16.923077 | M8: 118.17949 | N8: 14.666667 | O8: 23.949367 | P8: 5.1948052 | Q8: 1.9 | R8: 2.0408163 | S8: 1.2631579 | T8: 5.5555556 | U8: 1.4705882 | V8: 3.2258065 | W8: 509.18983 | X8: 15.118183
C9: １００％以下 | D9: 一次下請 | I9: 27 | J9: 7.6923077 | K9: 178.98592 | L9: 13.846154 | M9: 96.692308 | N9: 12 | O9: 23.949367 | P9: 5.1948052 | Q9: 1.9 | R9: 2.0408163 | S9: 1.2631579 | T9: 5.5555556 | U9: 1.4705882 | V9: 3.2258065 | W9: 331.26134 | X9: 9.8353683
D10: 二次下請 | G10: 89.666667 | H10: 40 | K10: 39.774648 | L10: 3.0769231 | M10: 21.487179 | N10: 2.6666667 | W10: 150.92849 | X10: 4.4811669
D11: 三次以下下請 | I11: 27 | J11: 7.6923077 | W11: 27 | X11: 0.80164787
B12: 小 計 | E12: 72 | F12: 100 | G12: 224.16667 | H12: 100 | I12: 351 | J12: 100 | K12: 1292.6761 | L12: 100 | M12: 805.76923 | N12: 100 | O12: 461.02532 | P12: 100 | Q12: 93.1 | R12: 100 | S12: 22.736842 | T12: 100 | U12: 45.588235 | V12: 100 | W12: 3368.0623 | X12: 100
D13: 一次下請 | E13: 36 | F13: 50 | G13: 134.5 | H13: 60 | I13: 189 | J13: 53.846154 | K13: 1054.0282 | L13: 81.538462 | M13: 580.15385 | N13: 72 | O13: 371.21519 | P13: 80.519481 | Q13: 74.1 | R13: 79.591837 | S13: 20.210526 | T13: 88.888889 | U13: 41.176471 | V13: 90.322581 | W13: 2500.3842 | X13: 74.238062
D14: 二次下請 | G14: 89.666667 | H14: 40 | K14: 39.774648 | L14: 3.0769231 | M14: 42.974359 | N14: 5.3333333 | O14: 5.9873418 | P14: 1.2987013 | Q14: 1.9 | R14: 2.0408163 | W14: 180.30302 | X14: 5.3533158
D15: 三次以下下請 | I15: 27 | J15: 7.6923077 | W15: 27 | X15: 0.80164787
A16: 土 木 | B16: 土木工事業 | C16: ０％ | E16: 363.14286 | F16: 30.769231 | G16: 972.2069 | H16: 23.529412 | I16: 517.48571 | J16: 11.764706 | K16: 2387.7209 | L16: 21.95122 | M16: 518.92683 | N16: 15.254237 | O16: 103.54167 | P16: 10.989011 | Q16: 3.7826087 | R16: 4.5454545 | W16: 4866.8075 | X16: 19.434326
C17: ０％超５０％未満 | E17: 181.57143 | F17: 15.384615 | G17: 324.06897 | H17: 7.8431373 | I17: 905.6 | J17: 20.588235 | K17: 5129.1783 | L17: 47.154472 | M17: 1672.0976 | N17: 49.152542 | O17: 569.47917 | P17: 60.43956 | Q17: 60.521739 | R17: 72.727273 | S17: 6.5454545 | T17: 60 | U17: 13.333333 | V17: 83.333333 | W17: 8862.3959 | X17: 35.389666
C18: ５０％以上 | E18: 635.5 | F18: 53.846154 | G18: 2835.6034 | H18: 68.627451 | I18: 2975.5429 | J18: 67.647059 | K18: 3360.4961 | L18: 30.894309 | M18: 1210.8293 | N18: 35.59322 | O18: 269.20833 | P18: 28.571429 | Q18: 18.913043 | R18: 22.727273 | S18: 4.3636364 | T18: 40 | U18: 2.6666667 | V18: 16.666667 | W18: 11313.123 | X18: 45.176007
C19: １００％以下 | D19: 一次下請 | E19: 272.35714 | F19: 23.076923 | G19: 1620.3448 | H19: 39.215686 | I19: 2199.3143 | J19: 50 | K19: 2564.5891 | L19: 23.577236 | M19: 980.19512 | N19: 28.813559 | O19: 248.5 | P19: 26.373626 | Q19: 18.913043 | R19: 22.727273 | S19: 4.3636364 | T19: 40 | U19: 2.6666667 | V19: 16.666667 | W19: 7911.2439 | X19: 31.591489
D20: 二次下請 | E20: 272.35714 | F20: 23.076923 | G20: 1134.2414 | H20: 27.45098 | I20: 776.22857 | J20: 17.647059 | K20: 707.47287 | L20: 6.504065 | M20: 201.80488 | N20: 5.9322034 | O20: 20.708333 | P20: 2.1978022 | W20: 3112.8132 | X20: 12.430207
D21: 三次以下下請 | E21: 90.785714 | F21: 7.6923077 | G21: 81.017241 | H21: 1.9607843 | K21: 88.434109 | L21: 0.81300813 | M21: 28.829268 | N21: 0.84745763 | W21: 289.06633 | X21: 1.154311
B22: 小 計 | E22: 1180.2143 | F22: 100 | G22: 4131.8793 | H22: 100 | I22: 4398.6286 | J22: 100 | K22: 10877.395 | L22: 100 | M22: 3401.8537 | N22: 100 | O22: 942.22917 | P22: 100 | Q22: 83.217391 | R22: 100 | S22: 10.909091 | T22: 100 | U22: 16 | V22: 100 | W22: 25042.327 | X22: 100
D23: 一次下請 | E23: 453.92857 | F23: 38.461538 | G23: 1944.4138 | H23: 47.058824 | I23: 2975.5429 | J23: 67.647059 | K23: 7605.3333 | L23: 69.918699 | M23: 2594.6341 | N23: 76.271186 | O23: 786.91667 | P23: 83.516484 | Q23: 79.434783 | R23: 95.454545 | S23: 10.909091 | T23: 100 | U23: 16 | V23: 100 | W23: 16467.113 | X23: 65.757121
D24: 二次下請 | E24: 272.35714 | F24: 23.076923 | G24: 1134.2414 | H24: 27.45098 | I24: 905.6 | J24: 20.588235 | K24: 795.90698 | L24: 7.3170732 | M24: 230.63415 | N24: 6.779661 | O24: 51.770833 | P24: 5.4945055 | W24: 3390.5105 | X24: 13.539119
D25: 三次以下下請 | E25: 90.785714 | F25: 7.6923077 | G25: 81.017241 | H25: 1.9607843 | K25: 88.434109 | L25: 0.81300813 | M25: 57.658537 | N25: 1.6949153 | W25: 317.8956 | X25: 1.2694332
B26: ほ装工事業 | C26: ０％ | E26: 6.8888889 | F26: 12.5 | I26: 44.166667 | J26: 8.3333333 | K26: 60.90566 | L26: 5.7692308 | M26: 9.1388889 | N26: 2.9411765 | O26: 3.4814815 | P26: 3.8461538 | W26: 124.58159 | X26: 4.6621065
C27: ０％超５０％未満 | G27: 32.166667 | H27: 5.2631579 | I27: 44.166667 | J27: 8.3333333 | K27: 263.92453 | L27: 25 | M27: 146.22222 | N27: 47.058824 | O27: 48.740741 | P27: 53.846154 | Q27: 15 | R27: 100 | S27: 4 | T27: 100 | W27: 554.22082 | X27: 20.740116
C28: ５０％以上 | E28: 48.222222 | F28: 87.5 | G28: 579 | H28: 94.736842 | I28: 441.66667 | J28: 83.333333 | K28: 730.86792 | L28: 69.230769 | M28: 155.36111 | N28: 50 | O28: 38.296296 | P28: 42.307692 | W28: 1993.4142 | X28: 74.597778
C29: １００％以下 | D29: 一次下請 | E29: 13.777778 | F29: 25 | G29: 321.66667 | H29: 52.631579 | I29: 309.16667 | J29: 58.333333 | K29: 588.75472 | L29: 55.769231 | M29: 127.94444 | N29: 41.176471 | O29: 34.814815 | P29: 38.461538 | W29: 1396.1251 | X29: 52.245955
D30: 二次下請 | E30: 20.666667 | F30: 37.5 | G30: 160.83333 | H30: 26.315789 | I30: 110.41667 | J30: 20.833333 | K30: 121.81132 | L30: 11.538462 | M30: 27.416667 | N30: 8.8235294 | O30: 3.4814815 | P30: 3.8461538 | W30: 444.62614 | X30: 16.638851
D31: 三次以下下請 | E31: 13.777778 | F31: 25 | G31: 96.5 | H31: 15.789474 | I31: 22.083333 | J31: 4.1666667 | K31: 20.301887 | L31: 1.9230769 | W31: 152.663 | X31: 5.7129724
B32: 小 計 | E32: 55.111111 | F32: 100 | G32: 611.16667 | H32: 100 | I32: 530 | J32: 100 | K32: 1055.6981 | L32: 100 | M32: 310.72222 | N32: 100 | O32: 90.518519 | P32: 100 | Q32: 15 | R32: 100 | S32: 4 | T32: 100 | W32: 2672.2166 | X32: 100
D33: 一次下請 | E33: 13.777778 | F33: 25 | G33: 353.83333 | H33: 57.894737 | I33: 353.33333 | J33: 66.666667 | K33: 832.37736 | L33: 78.846154 | M33: 269.59722 | N33: 86.764706 | O33: 83.555556 | P33: 92.307692 | Q33: 15 | R33: 100 | S33: 4 | T33: 100 | W33: 1925.4746 | X33: 72.055333
D34: 二次下請 | E34: 20.666667 | F34: 37.5 | G34: 160.83333 | H34: 26.315789 | I34: 110.41667 | J34: 20.833333 | K34: 142.11321 | L34: 13.461538 | M34: 31.986111 | N34: 10.294118 | O34: 3.4814815 | P34: 3.8461538 | W34: 469.49747 | X34: 17.569589
D35: 三次以下下請 | E35: 13.777778 | F35: 25 | G35: 96.5 | H35: 15.789474 | I35: 22.083333 | J35: 4.1666667 | K35: 20.301887 | L35: 1.9230769 | W35: 152.663 | X35: 5.7129724
B36: しゅんせつ 工事業 | C36: ０％
C37: ０％超５０％未満 | M37: 7.6666667 | N37: 33.333333 | O37: 4.5 | P37: 50 | W37: 12.166667 | X37: 11.16208
C38: ５０％以上 | G38: 77 | H38: 100 | M38: 15.333333 | N38: 66.666667 | O38: 4.5 | P38: 50 | W38: 96.833333 | X38: 88.83792
C39: １００％以下 | D39: 一次下請 | G39: 77 | H39: 100 | M39: 15.333333 | N39: 66.666667 | O39: 4.5 | P39: 50 | W39: 96.833333 | X39: 88.83792
D40: 二次下請
D41: 三次以下下請
...

Sheet 2-6-2
A1: 表2－6－2 下請比率、下請次数別の企業分布状況（完成工事高による分析）（経年変化）
T3: （単位：社、％）
C4: 年度 | D4: R01年度 | G4: H26年度 | J4: H23年度 | M4: H20年度 | P4: H17年度 | S4: H14年度
A5: 業種 | B5: 下請比率 | C5: 下請次数 | F5: 増減 | I5: 増減 | L5: 増減 | O5: 増減 | R5: 増減
A6: 一般土木建築 | B6: ０％ | D6: ='2-6-1'!W6 -> 660.37513 | E6: ='2-6-1'!X6 -> 19.606975 | F6: =E6-H6 -> -1.0633426 | G6: 864.87279 | H6: 20.670317 | I6: =H6-K6 -> 4.8703173 | J6: 596.8 | K6: 15.8 | L6: =K6-N6 -> 6.8 | M6: 450.74 | N6: 9 | O6: =N6-Q6 -> -0.5 | P6: 564 | Q6: 9.5 | R6: =Q6-T6 -> -2.5403936 | S6: 929.54382 | T6: =IF(ROUND(S9,0)=0,"",ROUND(S6,0)/ROUND(S9,0)*100) -> 12.040394
B7: ０％超５０％未満 | D7: ='2-6-1'!W7 -> 2198.4974 | E7: ='2-6-1'!X7 -> 65.274842 | F7: =E7-H7 -> -1.1650383 | G7: 2779.9305 | H7: 66.439881 | I7: =H7-K7 -> -7.8601194 | J7: 2804.35 | K7: 74.3 | L7: =K7-N7 -> 7.2 | M7: 3363.41 | N7: 67.1 | O7: =N7-Q7 -> -3.1 | P7: 4184 | Q7: 70.2 | R7: =Q7-T7 -> -1.4209218 | S7: 5532.4727 | T7: =IF(ROUND(S9,0)=0,"",ROUND(S7,0)/ROUND(S9,0)*100) -> 71.620922
B8: ５０％以上１００％以下 | D8: ='2-6-1'!W8 -> 509.18983 | E8: ='2-6-1'!X8 -> 15.118183 | F8: =E8-H8 -> 2.2283809 | G8: 539.32598 | H8: 12.889802 | I8: =H8-K8 -> 2.9898021 | J8: 374.28 | K8: 9.9 | L8: =K8-N8 -> -14 | M8: 1195.45 | N8: 23.9 | O8: =N8-Q8 -> 3.6 | P8: 1211 | Q8: 20.3 | R8: =Q8-T8 -> 3.9613154 | S8: 1262.1056 | T8: =IF(ROUND(S9,0)=0,"",ROUND(S8,0)/ROUND(S9,0)*100) -> 16.338685
A9: 小計 | D9: ='2-6-1'!W12 -> 3368.0623 | E9: ='2-6-1'!X12 -> 100 | F9: - | G9: 4184.1292 | H9: 100 | I9: - | J9: 3775.43 | K9: 100 | L9: - | M9: 5009.6 | N9: 100 | O9: - | P9: 5960 | Q9: 100 | R9: - | S9: 7724.1221 | T9: =IF(ROUND(S9,0)=0,"",ROUND(S9,0)/ROUND(S9,0)*100) -> 100
C10: 一次下請 | D10: ='2-6-1'!W13 -> 2500.3842 | E10: ='2-6-1'!X13 -> 74.238062 | F10: =E10-H10 -> -3.5052956 | G10: 3252.8825 | H10: 77.743357 | I10: =H10-K10 -> -0.85664274 | J10: 2968.23 | K10: 78.6 | L10: =K10-N10 -> -1.3 | M10: 4004.68 | N10: 79.9 | O10: =N10-Q10 -> -0.6 | P10: 4800 | Q10: 80.5 | R10: =Q10-T10 -> -1.5688762 | S10: 6339.1313 | T10: =IF(ROUND(S9,0)=0,"",ROUND(S10,0)/ROUND(S9,0)*100) -> 82.068876
C11: 二次下請 | D11: ='2-6-1'!W14 -> 180.30302 | E11: ='2-6-1'!X14 -> 5.3533158 | F11: =E11-H11 -> -0.52359432 | G11: 245.89752 | H11: 5.8769102 | I11: =H11-K11 -> 0.57691016 | J11: 199.66 | K11: 5.3 | L11: =K11-N11 -> -2.9 | M11: 409.3 | N11: 8.2 | O11: =N11-Q11 -> 1.5 | P11: 400 | Q11: 6.7 | R11: =Q11-T11 -> 2.1298291 | S11: 352.89371 | T11: =IF(ROUND(S9,0)=0,"",ROUND(S11,0)/ROUND(S9,0)*100) -> 4.5701709
C12: 三次以下下請 | D12: ='2-6-1'!W15 -> 27 | E12: ='2-6-1'!X15 -> 0.80164787 | F12: =E12-H12 -> 0.80164787 | G12: 0 | H12: 0 | I12: =H12-K12 -> -0.3 | J12: 10.74 | K12: 0.3 | L12: =K12-N12 -> -0.4 | M12: 33.9 | N12: 0.7 | O12: =N12-Q12 -> 0 | P12: 39 | Q12: 0.7 | R12: =Q12-T12 -> -0.63350596 | S12: 102.55329 | T12: =IF(ROUND(S9,0)=0,"",ROUND(S12,0)/ROUND(S9,0)*100) -> 1.333506
A13: 土木 | B13: ０％ | D13: ='2-6-1'!W66 -> 5422.5048 | E13: ='2-6-1'!X66 -> 17.631883 | F13: =E13-H13 -> 1.4470024 | G13: 6087.2611 | H13: 16.184881 | I13: =H13-K13 -> 1.984881 | J13: 4620.2 | K13: 14.2 | L13: =K13-N13 -> 0.8 | M13: 6195.76 | N13: 13.4 | O13: =N13-Q13 -> 0.3 | P13: 7537 | Q13: 13.1 | R13: =Q13-T13 -> 4.5862761 | S13: 5576.8208 | T13: =IF(ROUND(S16,0)=0,"",ROUND(S13,0)/ROUND(S16,0)*100) -> 8.5137239
B14: ０％超５０％未満 | D14: ='2-6-1'!W67 -> 11012.686 | E14: ='2-6-1'!X67 -> 35.808984 | F14: =E14-H14 -> -8.147773 | G14: 16532.482 | H14: 43.956757 | I14: =H14-K14 -> 1.5567567 | J14: 13756.4 | K14: 42.4 | L14: =K14-N14 -> -1.8 | M14: 20394.76 | N14: 44.2 | O14: =N14-Q14 -> -2.2 | P14: 26636 | Q14: 46.4 | R14: =Q14-T14 -> -1.8749672 | S14: 31622.5 | T14: =IF(ROUND(S16,0)=0,"",ROUND(S14,0)/ROUND(S16,0)*100) -> 48.274967
B15: ５０％以上１００％以下 | D15: ='2-6-1'!W68 -> 14318.784 | E15: ='2-6-1'!X68 -> 46.559133 | F15: =E15-H15 -> 6.7007706 | G15: 14991.044 | H15: 39.858362 | I15: =H15-K15 -> -3.5416377 | J15: 14082.24 | K15: 43.4 | L15: =K15-N15 -> 1.1 | M15: 19524.11 | N15: 42.3 | O15: =N15-Q15 -> 1.9 | P15: 23182 | Q15: 40.4 | R15: =Q15-T15 -> -2.8128355 | S15: 28306.973 | T15: =IF(ROUND(S16,0)=0,"",ROUND(S15,0)/ROUND(S16,0)*100) -> 43.212835
A16: 小計 | D16: ='2-6-1'!W72 -> 30753.974 | E16: ='2-6-1'!X72 -> 100 | F16: - | G16: 37610.787 | H16: 100 | I16: - | J16: 32458.84 | K16: 100 | L16: - | M16: 46114.63 | N16: 100 | O16: - | P16: 57355 | Q16: 100 | R16: - | S16: 65506.293 | T16: =IF(ROUND(S16,0)=0,"",ROUND(S16,0)/ROUND(S16,0)*100) -> 100
C17: 一次下請 | D17: ='2-6-1'!W73 -> 20713.959 | E17: ='2-6-1'!X73 -> 67.353763 | F17: =E17-H17 -> -4.6962431 | G17: 27098.574 | H17: 72.050006 | I17: =H17-K17 -> -0.14999418 | J17: 23435.21 | K17: 72.2 | L17: =K17-N17 -> 2.7 | M17: 32057.97 | N17: 69.5 | O17: =N17-Q17 -> -0.5 | P17: 40172 | Q17: 70 | R17: =Q17-T17 -> -5.9228162 | S17: 49734.043 | T17: =IF(ROUND(S16,0)=0,"",ROUND(S17,0)/ROUND(S16,0)*100) -> 75.922816
C18: 二次下請 | D18: ='2-6-1'!W74 -> 4114.7019 | E18: ='2-6-1'!X74 -> 13.379415 | F18: =E18-H18 -> -1.1072077 | G18: 5448.5329 | H18: 14.486623 | I18: =H18-K18 -> 2.586623 | J18: 3856.94 | K18: 11.9 | L18: =K18-N18 -> -0.8 | M18: 5836.57 | N18: 12.7 | O18: =N18-Q18 -> 0.8 | P18: 6829 | Q18: 11.9 | R18: =Q18-T18 -> -0.73548377 | S18: 8277.0811 | T18: =IF(ROUND(S16,0)=0,"",ROUND(S18,0)/ROUND(S16,0)*100) -> 12.635484
C19: 三次以下下請 | D19: ='2-6-1'!W75 -> 502.8086 | E19: ='2-6-1'!X75 -> 1.6349386 | F19: =E19-H19 -> -0.53123045 | G19: 814.71323 | H19: 2.1661691 | I19: =H19-K19 -> 0.46616907 | J19: 546.49 | K19: 1.7 | L19: =K19-N19 -> -0.7 | M19: 1125.15 | N19: 2.4 | O19: =N19-Q19 -> 0.5 | P19: 1097 | Q19: 1.9 | R19: =Q19-T19 -> -1.0279761 | S19: 1918.3475 | T19: =IF(ROUND(S16,0)=0,"",ROUND(S19,0)/ROUND(S16,0)*100) -> 2.9279761
A20: 建築 | B20: ０％ | D20: ='2-6-1'!W76 -> 11608.554 | E20: ='2-6-1'!X76 -> 43.977591 | F20: =E20-H20 -> 0.81403398 | G20: 13684.153 | H20: 43.163557 | I20: =H20-K20 -> 2.5635568 | J20: 12058.52 | K20: 40.6 | L20: =K20-N20 -> 7.7 | M20: 11375.18 | N20: 32.9 | O20: =N20-Q20 -> -8.1 | P20: 19476 | Q20: 41 | R20: =Q20-T20 -> -8.2648565 | S20: 24058.199 | T20: =IF(ROUND(S23,0)=0,"",ROUND(S20,0)/ROUND(S23,0)*100) -> 49.264856
B21: ０％超５０％未満 | D21: ='2-6-1'!W77 -> 8928.3884 | E21: ='2-6-1'!X77 -> 33.82411 | F21: =E21-H21 -> 0.43780054 | G21: 10584.47 | H21: 33.386309 | I21: =H21-K21 -> 1.0863094 | J21: 9601.35 | K21: 32.3 | L21: =K21-N21 -> -8.8 | M21: 14234.71 | N21: 41.1 | O21: =N21-Q21 -> 1.8 | P21: 18623 | Q21: 39.3 | R21: =Q21-T21 -> 5.2581439 | S21: 16623.531 | T21: =IF(ROUND(S23,0)=0,"",ROUND(S21,0)/ROUND(S23,0)*100) -> 34.041856
B22: ５０％以上１００％以下 | D22: ='2-6-1'!W78 -> 5859.5788 | E22: ='2-6-1'!X78 -> 22.198299 | F22: =E22-H22 -> -1.2518345 | G22: 7434.4016 | H22: 23.450134 | I22: =H22-K22 -> -3.5498662 | J22: 8031.46 | K22: 27 | L22: =K22-N22 -> 1 | M22: 8986.58 | N22: 26 | O22: =N22-Q22 -> 6.3 | P22: 9347 | Q22: 19.7 | R22: =Q22-T22 -> 3.0046648 | S22: 8152.6069 | T22: =IF(ROUND(S23,0)=0,"",ROUND(S22,0)/ROUND(S23,0)*100) -> 16.695335
A23: 小計 | D23: ='2-6-1'!W82 -> 26396.521 | E23: ='2-6-1'!X82 -> 100 | F23: - | G23: 31703.024 | H23: 100 | I23: - | J23: 29691.34 | K23: 100 | L23: - | M23: 34596.47 | N23: 100 | O23: - | P23: 47447 | Q23: 100 | R23: - | S23: 48834.34 | T23: =IF(ROUND(S23,0)=0,"",ROUND(S23,0)/ROUND(S23,0)*100) -> 100
C24: 一次下請 | D24: ='2-6-1'!W83 -> 13190.071 | E24: ='2-6-1'!X83 -> 49.968976 | F24: =E24-H24 -> -4.6937554 | G24: 17329.739 | H24: 54.662732 | I24: =H24-K24 -> 3.4627315 | J24: 15215 | K24: 51.2 | L24: =K24-N24 -> -7.3 | M24: 20252.18 | N24: 58.5 | O24: =N24-Q24 -> 10.6 | P24: 22746 | Q24: 47.9 | R24: =Q24-T24 -> 0.83238318 | S24: 22985.057 | T24: =IF(ROUND(S23,0)=0,"",ROUND(S24,0)/ROUND(S23,0)*100) -> 47.067617
C25: 二次下請 | D25: ='2-6-1'!W84 -> 1187.3441 | E25: ='2-6-1'!X84 -> 4.498108 | F25: =E25-H25 -> -3.2136773 | G25: 2444.8692 | H25: 7.7117853 | I25: =H25-K25 -> 0.31178529 | J25: 2205.44 | K25: 7.4 | L25: =K25-N25 -> 1.8 | M25: 1939.52 | N25: 5.6 | O25: =N25-Q25 -> 0.3 | P25: 2501 | Q25: 5.3 | R25: =Q25-T25 -> 1.90892 | S25: 1656.0443 | T25: =IF(ROUND(S23,0)=0,"",ROUND(S25,0)/ROUND(S23,0)*100) -> 3.39108
C26: 三次以下下請 | D26: ='2-6-1'!W85 -> 410.55172 | E26: ='2-6-1'!X85 -> 1.5553251 | F26: =E26-H26 -> -0.71385206 | G26: 719.39778 | H26: 2.2691772 | I26: =H26-K26 -> 1.5691772 | J26: 212.38 | K26: 0.7 | L26: =K26-N26 -> -0.5 | M26: 401 | N26: 1.2 | O26: =N26-Q26 -> -0.1 | P26: 618 | Q26: 1.3 | R26: =Q26-T26 -> 1.0235533 | S26: 135.03851 | T26: =IF(ROUND(S23,0)=0,"",ROUND(S26,0)/ROUND(S23,0)*100) -> 0.27644674
A27: 木造建築 | B27: ０％ | D27: ='2-6-1'!W86 -> 6739.895 | E27: ='2-6-1'!X86 -> 68.135105 | F27: =E27-H27 -> 0.49379346 | G27: 11014.29 | H27: 67.641312 | I27: =H27-K27 -> -0.55868836 | J27: 8122.1 | K27: 68.2 | L27: =K27-N27 -> 8.1 | M27: 9502.41 | N27: 60.1 | O27: =N27-Q27 -> 1.8 | P27: 11290 | Q27: 58.3 | R27: =Q27-T27 -> -6.7627256 | S27: 15144.353 | T27: =IF(ROUND(S30,0)=0,"",ROUND(S27,0)/ROUND(S30,0)*100) -> 65.062726
B28: ０％超５０％未満 | D28: ='2-6-1'!W87 -> 2319.5669 | E28: ='2-6-1'!X87 -> 23.449021 | F28: =E28-H28 -> 1.43836 | G28: 3584.0788 | H28: 22.010661 | I28: =H28-K28 -> 0.21066056 | J28: 2597.02 | K28: 21.8 | L28: =K28-N28 -> -4.7 | M28: 4191.01 | N28: 26.5 | O28: =N28-Q28 -> -2.6 | P28: 5629 | Q28: 29.1 | R28: =Q28-T28 -> 5.4361402 | S28: 5507.9604 | T28: =IF(ROUND(S30,0)=0,"",ROUND(S28,0)/ROUND(S30,0)*100) -> 23.66386
B29: ５０％以上１００％以下 | D29: ='2-6-1'!W88 -> 832.49463 | E29: ='2-6-1'!X88 -> 8.4158743 | F29: =E29-H29 -> -1.9321535 | G29: 1685.0083 | H29: 10.348028 | I29: =H29-K29 -> 0.3480278 | J29: 1190.39 | K29: 10 | L29: =K29-N29 -> -3.3 | M29: 2105.75 | N29: 13.3 | O29: =N29-Q29 -> 0.6 | P29: 2458 | Q29: 12.7 | R29: =Q29-T29 -> 1.4265853 | S29: 2623.9443 | T29: =IF(ROUND(S30,0)=0,"",ROUND(S29,0)/ROUND(S30,0)*100) -> 11.273415
A30: 小計 | D30: ='2-6-1'!W92 -> 9891.9565 | E30: ='2-6-1'!X92 -> 100 | F30: - | G30: 16283.377 | H30: 100 | I30: - | J30: 11909.51 | K30: 100 | L30: - | M30: 15799.17 | N30: 100 | O30: - | P30: 19377 | Q30: 100 | R30: - | S30: 23276.258 | T30: =IF(ROUND(S30,0)=0,"",ROUND(S30,0)/ROUND(S30,0)*100) -> 100
C31: 一次下請 | D31: ='2-6-1'!W93 -> 2731.2434 | E31: ='2-6-1'!X93 -> 27.61075 | F31: =E31-H31 -> -9.5653389 | G31: 6053.5225 | H31: 37.176089 | I31: =H31-K31 -> 10.976089 | J31: 3120.25 | K31: 26.2 | L31: =K31-N31 -> -9.6 | M31: 5654.35 | N31: 35.8 | O31: =N31-Q31 -> 4 | P31: 6163 | Q31: 31.8 | R31: =Q31-T31 -> 3.3973535 | S31: 6611.0737 | T31: =IF(ROUND(S30,0)=0,"",ROUND(S31,0)/ROUND(S30,0)*100) -> 28.402647
C32: 二次下請 | D32: ='2-6-1'!W94 -> 420.81818 | E32: ='2-6-1'!X94 -> 4.2541451 | F32: =E32-H32 -> 1.9939289 | G32: 368.0395 | H32: 2.2602161 | I32: =H32-K32 -> -2.6397839 | J32: 585.82 | K32: 4.9 | L32: =K32-N32 -> 3.8 | M32: 169.96 | N32: 1.1 | O32: =N32-Q32 -> -4.9 | P32: 1169 | Q32: 6 | R32: =Q32-T32 -> 0.75854958 | S32: 1220.3663 | T32: =IF(ROUND(S30,0)=0,"",ROUND(S32,0)/ROUND(S30,0)*100) -> 5.2414504
C33: 三次以下下請 | D33: ='2-6-1'!W95 -> 0 | E33: ='2-6-1'!X95 -> 0 | F33: =E33-H33 -> 0 | G33: 0 | H33: 0 | I33: =H33-K33 -> -0.7 | J33: 81.33 | K33: 0.7 | L33: =K33-N33 -> 0.5 | M33: 31.35 | N33: 0.2 | O33: =N33-Q33 -> -0.6 | P33: 161 | Q33: 0.8 | R33: =Q33-T33 -> -0.48888125 | S33: 300.46494 | T33: =IF(ROUND(S30,0)=0,"",ROUND(S33,0)/ROUND(S30,0)*100) -> 1.2888813
A34: 職別 | B34: ０％ | D34: ='2-6-1'!W276 -> 3007.9524 | E34: ='2-6-1'!X276 -> 7.2048417 | F34: =E34-H34 -> -2.4657653 | G34: 4591.3973 | H34: 9.6706071 | I34: =H34-K34 -> 2.8706071 | J34: 2402.93 | K34: 6.8 | L34: =K34-N34 -> 1.6 | M34: 2310.36 | N34: 5.2 | O34: =N34-Q34 -> -0.5 | P34: 2799 | Q34: 5.7 | R34: =Q34-T34 -> -0.017433888 | S34: 3269.1318 | T34: =IF(ROUND(S37,0)=0,"",ROUND(S34,0)/ROUND(S37,0)*100) -> 5.7174339
B35: ０％超５０％未満 | D35: ='2-6-1'!W277 -> 3945.1746 | E35: ='2-6-1'!X277 -> 9.4497368 | F35: =E35-H35 -> -2.2251585 | G35: 5542.9905 | H35: 11.674895 | I35: =H35-K35 -> 1.3748953 | J35: 3624.62 | K35: 10.3 | L35: =K35-N35 -> 0.5 | M35: 4343.47 | N35: 9.8 | O35: =N35-Q35 -> -3.3 | P35: 6422 | Q35: 13.1 | R35: =Q35-T35 -> -0.22377221 | S35: 7618.293 | T35: =IF(ROUND(S37,0)=0,"",ROUND(S35,0)/ROUND(S37,0)*100) -> 13.323772
B36: ５０％以上１００％以下 | D36: ='2-6-1'!W278 -> 34795.915 | E36: ='2-6-1'!X278 -> 83.345421 | F36: =E36-H36 -> 4.6909239 | G36: 37343.473 | H36: 78.654498 | I36: =H36-K36 -> -4.2455024 | J36: 29142.65 | K36: 82.9 | L36: =K36-N36 -> -2.1 | M36: 37558 | N36: 85 | O36: =N36-Q36 -> 3.8 | P36: 39873 | Q36: 81.2 | R36: =Q36-T36 -> 0.24295509 | S36: 46288.293 | T36: =IF(ROUND(S37,0)=0,"",ROUND(S36,0)/ROUND(S37,0)*100) -> 80.957045
A37: 小計 | D37: ='2-6-1'!W282 -> 41749.042 | E37: ='2-6-1'!X282 -> 100 | F37: - | G37: 47477.86 | H37: 100 | I37: - | J37: 35170.2 | K37: 100 | L37: - | M37: 44211.83 | N37: 100 | O37: - | P37: 49093 | Q37: 100 | R37: - | S37: 57175.719 | T37: =IF(ROUND(S37,0)=0,"",ROUND(S37,0)/ROUND(S37,0)*100) -> 100
C38: 一次下請 | D38: ='2-6-1'!W283 -> 28516.34 | E38: ='2-6-1'!X283 -> 68.304178 | F38: =E38-H38 -> -1.6350016 | G38: 33205.626 | H38: 69.939179 | I38: =H38-K38 -> -2.6608209 | J38: 25525.51 | K38: 72.6 | L38: =K38-N38 -> 4.9 | M38: 29942.1 | N38: 67.7 | O38: =N38-Q38 -> -0.8 | P38: 33641 | Q38: 68.5 | R38: =Q38-T38 -> -0.1774171 | S38: 39266.543 | T38: =IF(ROUND(S37,0)=0,"",ROUND(S38,0)/ROUND(S37,0)*100) -> 68.677417
C39: 二次下請 | D39: ='2-6-1'!W284 -> 8165.5477 | E39: ='2-6-1'!X284 -> 19.558647 | F39: =E39-H39 -> -1.3669638 | G39: 9935.0322 | H39: 20.925611 | I39: =H39-K39 -> 3.4256107 | J39: 6163.48 | K39: 17.5 | L39: =K39-N39 -> -2.7 | M39: 8940.21 | N39: 20.2 | O39: =N39-Q39 -> 1.7 | P39: 9085 | Q39: 18.5 | R39: =Q39-T39 -> -1.882678 | S39: 11654.09 | T39: =IF(ROUND(S37,0)=0,"",ROUND(S39,0)/ROUND(S37,0)*100) -> 20.382678
C40: 三次以下下請 | D40: ='2-6-1'!W285 -> 2059.2021 | E40: ='2-6-1'!X285 -> 4.9323338 | F40: =E40-H40 -> 1.3417238 | G40: 1704.7448 | H40: 3.5906099 | I40: =H40-K40 -> 0.49060994 | J40: 1078.28 | K40: 3.1 | L40: =K40-N40 -> -1.1 | M40: 1874.67 | N40: 4.2 | O40: =N40-Q40 -> 1.3 | P40: 1436 | Q40: 2.9 | R40: =Q40-T40 -> -2.322471 | S40: 2985.9553 | T40: =IF(ROUND(S37,0)=0,"",ROUND(S40,0)/ROUND(S37,0)*100) -> 5.222471
A41: 設備 | B41: ０％ | D41: ='2-6-1'!W356 -> 2208.4524 | E41: ='2-6-1'!X356 -> 6.6890481 | F41: =E41-H41 -> -1.5535858 | G41: 3144.277 | H41: 8.2426339 | I41: =H41-K41 -> 1.2426339 | J41: 2183.17 | K41: 7 | L41: =K41-N41 -> 1.1 | M41: 2245.6 | N41: 5.9 | O41: =N41-Q41 -> 0.9 | P41: 2101 | Q41: 5 | R41: =Q41-T41 -> 1.0245234 | S41: 1659.7336 | T41: =IF(ROUND(S44,0)=0,"",ROUND(S41,0)/ROUND(S44,0)*100) -> 3.9754766
...
