Workbook
Name ______________________ＴＢＬ１: [1]CSS編集画面!$B$10:$F$22
Name ______________________ＴＢＬ２: [1]CSS編集画面!$B$24:$I$35
Name _____________________ＴＢＬ１: [1]CSS編集画面!$B$10:$F$22
Name _____________________ＴＢＬ２: [1]CSS編集画面!$B$24:$I$35
Name ____________________ＴＢＬ１: [1]CSS編集画面!$B$10:$F$22
Name ____________________ＴＢＬ２: [1]CSS編集画面!$B$24:$I$35
Name ___________________ＴＢＬ１: [1]CSS編集画面!$B$10:$F$22
Name ___________________ＴＢＬ２: [1]CSS編集画面!$B$24:$I$35
Name __________________ＴＢＬ１: [1]CSS編集画面!$B$10:$F$22
Name __________________ＴＢＬ２: [1]CSS編集画面!$B$24:$I$35
Name _________________ＴＢＬ１: [1]CSS編集画面!$B$10:$F$22
Name _________________ＴＢＬ２: [1]CSS編集画面!$B$24:$I$35
Name ________________ＴＢＬ１: [1]CSS編集画面!$B$10:$F$22
Name ________________ＴＢＬ２: [1]CSS編集画面!$B$24:$I$35
Name _______________ＴＢＬ１: [1]CSS編集画面!$B$10:$F$22
Name _______________ＴＢＬ２: [1]CSS編集画面!$B$24:$I$35
Name ______________ＴＢＬ１: [1]CSS編集画面!$B$10:$F$22
Name ______________ＴＢＬ２: [1]CSS編集画面!$B$24:$I$35
Name _____________ＴＢＬ１: [1]CSS編集画面!$B$10:$F$22
Name _____________ＴＢＬ２: [1]CSS編集画面!$B$24:$I$35
Name ____________ＴＢＬ１: [1]CSS編集画面!$B$10:$F$22
Name ____________ＴＢＬ２: [1]CSS編集画面!$B$24:$I$35
Name ___________ＴＢＬ１: [1]CSS編集画面!$B$10:$F$22
Name ___________ＴＢＬ２: [1]CSS編集画面!$B$24:$I$35
Name __________ＴＢＬ１: [1]CSS編集画面!$B$10:$F$22
Name __________ＴＢＬ２: [1]CSS編集画面!$B$24:$I$35
Name _________ＴＢＬ１: [1]CSS編集画面!$B$10:$F$22
Name _________ＴＢＬ２: [1]CSS編集画面!$B$24:$I$35
Name ________ＴＢＬ１: [1]CSS編集画面!$B$10:$F$22
Name ________ＴＢＬ２: [1]CSS編集画面!$B$24:$I$35
Name _______ＴＢＬ１: [1]CSS編集画面!$B$10:$F$22
Name _______ＴＢＬ２: [1]CSS編集画面!$B$24:$I$35
Name ______ＴＢＬ１: [1]CSS編集画面!$B$10:$F$22
Name ______ＴＢＬ２: [1]CSS編集画面!$B$24:$I$35
Name _____ＴＢＬ１: [1]CSS編集画面!$B$10:$F$22
Name _____ＴＢＬ２: [1]CSS編集画面!$B$24:$I$35
Name ____ＴＢＬ１: [1]CSS編集画面!$B$10:$F$22
Name ____ＴＢＬ２: [1]CSS編集画面!$B$24:$I$35
Name ___ＴＢＬ１: [1]CSS編集画面!$B$10:$F$22
Name ___ＴＢＬ２: [1]CSS編集画面!$B$24:$I$35
Name __ＴＢＬ１: [1]CSS編集画面!$B$10:$F$22
Name __ＴＢＬ２: [1]CSS編集画面!$B$24:$I$35
Name _ＴＢＬ１: [1]CSS編集画面!$B$10:$F$22
Name _ＴＢＬ２: [1]CSS編集画面!$B$24:$I$35
Name PAGE1: #REF!
Name PAGE10: #REF!
Name PAGE100: #REF!
Name PAGE1000: #REF!
Name PAGE1001: #REF!
Name PAGE1002: #REF!
Name PAGE1003: #REF!
Name PAGE1004: #REF!
Name PAGE1005: #REF!
Name PAGE1006: #REF!
Name PAGE1007: #REF!
Name PAGE1008: #REF!
Name PAGE1009: #REF!
Name PAGE101: #REF!
Name PAGE1010: #REF!
Name PAGE1011: #REF!

Sheet 2-6-1
A1: 表2－6－1 下請比率、下請次数別の企業分布状況（完成工事高による分析）
X3: （単位：社、％）
D4: 資本金 | E4: 個 人 | G4: 法 人 | W4: 合 計
A5: 業種 | C5: 下請比率 | D5: 下請次数 | G5: 500万円未満 | I5: 500万円以上 1000万円未満 | K5: 1000万円以上 3000万円未満 | M5: 3000万円以上 5000万円未満 | O5: 5000万円以上 1億円未満 | Q5: 1億円以上 3億円未満 | S5: 3億円以上 10億円未満 | U5: 10億円以上
A6: 一 般 土 木 建 築 | B6: 一般土木 建築工事業 | C6: ０％ | E6: 36 | F6: 50 | I6: 135 | J6: 38.461538 | K6: 198.87324 | L6: 15.384615 | M6: 182.64103 | N6: 22.666667 | O6: 83.822785 | P6: 18.181818 | Q6: 17.1 | R6: 18.367347 | S6: 2.5263158 | T6: 11.111111 | U6: 4.4117647 | V6: 9.6774194 | W6: 660.37513 | X6: 19.606975
C7: ０％超５０％未満 | E7: 36 | F7: 50 | G7: 134.5 | H7: 60 | I7: 162 | J7: 46.153846 | K7: 875.04225 | L7: 67.692308 | M7: 504.94872 | N7: 62.666667 | O7: 353.25316 | P7: 76.623377 | Q7: 74.1 | R7: 79.591837 | S7: 18.947368 | T7: 83.333333 | U7: 39.705882 | V7: 87.096774 | W7: 2198.4974 | X7: 65.274842
C8: ５０％以上 | G8: 89.666667 | H8: 40 | I8: 54 | J8: 15.384615 | K8: 218.76056 | L8: 16.923077 | M8: 118.17949 | N8: 14.666667 | O8: 23.949367 | P8: 5.1948052 | Q8: 1.9 | R8: 2.0408163 | S8: 1.2631579 | T8: 5.5555556 | U8: 1.4705882 | V8: 3.2258065 | W8: 509.18983 | X8: 15.118183
C9: １００％以下 | D9: 一次下請 | I9: 27 | J9: 7.6923077 | K9: 178.98592 | L9: 13.846154 | M9: 96.692308 | N9: 12 | O9: 23.949367 | P9: 5.1948052 | Q9: 1.9 | R9: 2.0408163 | S9: 1.2631579 | T9: 5.5555556 | U9: 1.4705882 | V9: 3.2258065 | W9: 331.26134 | X9: 9.8353683
D10: 二次下請 | G10: 89.666667 | H10: 40 | K10: 39.774648 | L10: 3.0769231 | M10: 21.487179 | N10: 2.6666667 | W10: 150.92849 | X10: 4.4811669
D11: 三次以下下請 | I11: 27 | J11: 7.6923077 | W11: 27 | X11: 0.80164787
B12: 小 計 | E12: 72 | F12: 100 | G12: 224.16667 | H12: 100 | I12: 351 | J12: 100 | K12: 1292.6761 | L12: 100 | M12: 805.76923 | N12: 100 | O12: 461.02532 | P12: 100 | Q12: 93.1 | R12: 100 | S12: 22.736842 | T12: 100 | U12: 45.588235 | V12: 100 | W12: 3368.0623 | X12: 100
D13: 一次下請 | E13: 36 | F13: 50 | G13: 134.5 | H13: 60 | I13: 189 | J13: 53.846154 | K13: 1054.0282 | L13: 81.538462 | M13: 580.15385 | N13: 72 | O13: 371.21519 | P13: 80.519481 | Q13: 74.1 | R13: 79.591837 | S13: 20.210526 | T13: 88.888889 | U13: 41.176471 | V13: 90.322581 | W13: 2500.3842 | X13: 74.238062
D14: 二次下請 | G14: 89.666667 | H14: 40 | K14: 39.774648 | L14: 3.0769231 | M14: 42.974359 | N14: 5.3333333 | O14: 5.9873418 | P14: 1.2987013 | Q14: 1.9 | R14: 2.0408163 | W14: 180.30302 | X14: 5.3533158
D15: 三次以下下請 | I15: 27 | J15: 7.6923077 | W15: 27 | X15: 0.80164787
A16: 土 木 | B16: 土木工事業 | C16: ０％ | E16: 363.14286 | F16: 30.769231 | G16: 972.2069 | H16: 23.529412 | I16: 517.48571 | J16: 11.764706 | K16: 2387.7209 | L16: 21.95122 | M16: 518.92683 | N16: 15.254237 | O16: 103.54167 | P16: 10.989011 | Q16: 3.7826087 | R16: 4.5454545 | W16: 4866.8075 | X16: 19.434326
C17: ０％超５０％未満 | E17: 181.57143 | F17: 15.384615 | G17: 324.06897 | H17: 7.8431373 | I17: 905.6 | J17: 20.588235 | K17: 5129.1783 | L17: 47.154472 | M17: 1672.0976 | N17: 49.152542 | O17: 569.47917 | P17: 60.43956 | Q17: 60.521739 | R17: 72.727273 | S17: 6.5454545 | T17: 60 | U17: 13.333333 | V17: 83.333333 | W17: 8862.3959 | X17: 35.389666
C18: ５０％以上 | E18: 635.5 | F18: 53.846154 | G18: 2835.6034 | H18: 68.627451 | I18: 2975.5429 | J18: 67.647059 | K18: 3360.4961 | L18: 30.894309 | M18: 1210.8293 | N18: 35.59322 | O18: 269.20833 | P18: 28.571429 | Q18: 18.913043 | R18: 22.727273 | S18: 4.3636364 | T18: 40 | U18: 2.6666667 | V18: 16.666667 | W18: 11313.123 | X18: 45.176007
C19: １００％以下 | D19: 一次下請 | E19: 272.35714 | F19: 23.076923 | G19: 1620.3448 | H19: 39.215686 | I19: 2199.3143 | J19: 50 | K19: 2564.5891 | L19: 23.577236 | M19: 980.19512 | N19: 28.813559 | O19: 248.5 | P19: 26.373626 | Q19: 18.913043 | R19: 22.727273 | S19: 4.3636364 | T19: 40 | U19: 2.6666667 | V19: 16.666667 | W19: 7911.2439 | X19: 31.591489
D20: 二次下請 | E20: 272.35714 | F20: 23.076923 | G20: 1134.2414 | H20: 27.45098 | I20: 776.22857 | J20: 17.647059 | K20: 707.47287 | L20: 6.504065 | M20: 201.80488 | N20: 5.9322034 | O20: 20.708333 | P20: 2.1978022 | W20: 3112.8132 | X20: 12.430207
D21: 三次以下下請 | E21: 90.785714 | F21: 7.6923077 | G21: 81.017241 | H21: 1.9607843 | K21: 88.434109 | L21: 0.81300813 | M21: 28.829268 | N21: 0.84745763 | W21: 289.06633 | X21: 1.154311
B22: 小 計 | E22: 1180.2143 | F22: 100 | G22: 4131.8793 | H22: 100 | I22: 4398.6286 | J22: 100 | K22: 10877.395 | L22: 100 | M22: 3401.8537 | N22: 100 | O22: 942.22917 | P22: 100 | Q22: 83.217391 | R22: 100 | S22: 10.909091 | T22: 100 | U22: 16 | V22: 100 | W22: 25042.327 | X22: 100
D23: 一次下請 | E23: 453.92857 | F23: 38.461538 | G23: 1944.4138 | H23: 47.058824 | I23: 2975.5429 | J23: 67.647059 | K23: 7605.3333 | L23: 69.918699 | M23: 2594.6341 | N23: 76.271186 | O23: 786.91667 | P23: 83.516484 | Q23: 79.434783 | R23: 95.454545 | S23: 10.909091 | T23: 100 | U23: 16 | V23: 100 | W23: 16467.113 | X23: 65.757121
D24: 二次下請 | E24: 272.35714 | F24: 23.076923 | G24: 1134.2414 | H24: 27.45098 | I24: 905.6 | J24: 20.588235 | K24: 795.90698 | L24: 7.3170732 | M24: 230.63415 | N24: 6.779661 | O24: 51.770833 | P24: 5.4945055 | W24: 3390.5105 | X24: 13.539119
D25: 三次以下下請 | E25: 90.785714 | F25: 7.6923077 | G25: 81.017241 | H25: 1.9607843 | K25: 88.434109 | L25: 0.81300813 | M25: 57.658537 | N25: 1.6949153 | W25: 317.8956 | X25: 1.2694332
B26: ほ装工事業 | C26: ０％ | E26: 6.8888889 | F26: 12.5 | I26: 44.166667 | J26: 8.3333333 | K26: 60.90566 | L26: 5.7692308 | M26: 9.1388889 | N26: 2.9411765 | O26: 3.4814815 | P26: 3.8461538 | W26: 124.58159 | X26: 4.6621065
C27: ０％超５０％未満 | G27: 32.166667 | H27: 5.2631579 | I27: 44.166667 | J27: 8.3333333 | K27: 263.92453 | L27: 25 | M27: 146.22222 | N27: 47.058824 | O27: 48.740741 | P27: 53.846154 | Q27: 15 | R27: 100 | S27: 4 | T27: 100 | W27: 554.22082 | X27: 20.740116
C28: ５０％以上 | E28: 48.222222 | F28: 87.5 | G28: 579 | H28: 94.736842 | I28: 441.66667 | J28: 83.333333 | K28: 730.86792 | L28: 69.230769 | M28: 155.36111 | N28: 50 | O28: 38.296296 | P28: 42.307692 | W28: 1993.4142 | X28: 74.597778
C29: １００％以下 | D29: 一次下請 | E29: 13.777778 | F29: 25 | G29: 321.66667 | H29: 52.631579 | I29: 309.16667 | J29: 58.333333 | K29: 588.75472 | L29: 55.769231 | M29: 127.94444 | N29: 41.176471 | O29: 34.814815 | P29: 38.461538 | W29: 1396.1251 | X29: 52.245955
D30: 二次下請 | E30: 20.666667 | F30: 37.5 | G30: 160.83333 | H30: 26.315789 | I30: 110.41667 | J30: 20.833333 | K30: 121.81132 | L30: 11.538462 | M30: 27.416667 | N30: 8.8235294 | O30: 3.4814815 | P30: 3.8461538 | W30: 444.62614 | X30: 16.638851
D31: 三次以下下請 | E31: 13.777778 | F31: 25 | G31: 96.5 | H31: 15.789474 | I31: 22.083333 | J31: 4.1666667 | K31: 20.301887 | L31: 1.9230769 | W31: 152.663 | X31: 5.7129724
B32: 小 計 | E32: 55.111111 | F32: 100 | G32: 611.16667 | H32: 100 | I32: 530 | J32: 100 | K32: 1055.6981 | L32: 100 | M32: 310.72222 | N32: 100 | O32: 90.518519 | P32: 100 | Q32: 15 | R32: 100 | S32: 4 | T32: 100 | W32: 2672.2166 | X32: 100
D33: 一次下請 | E33: 13.777778 | F33: 25 | G33: 353.83333 | H33: 57.894737 | I33: 353.33333 | J33: 66.666667 | K33: 832.37736 | L33: 78.846154 | M33: 269.59722 | N33: 86.764706 | O33: 83.555556 | P33: 92.307692 | Q33: 15 | R33: 100 | S33: 4 | T33: 100 | W33: 1925.4746 | X33: 72.055333
D34: 二次下請 | E34: 20.666667 | F34: 37.5 | G34: 160.83333 | H34: 26.315789 | I34: 110.41667 | J34: 20.833333 | K34: 142.11321 | L34: 13.461538 | M34: 31.986111 | N34: 10.294118 | O34: 3.4814815 | P34: 3.8461538 | W34: 469.49747 | X34: 17.569589
D35: 三次以下下請 | E35: 13.777778 | F35: 25 | G35: 96.5 | H35: 15.789474 | I35: 22.083333 | J35: 4.1666667 | K35: 20.301887 | L35: 1.9230769 | W35: 152.663 | X35: 5.7129724
B36: しゅんせつ 工事業 | C36: ０％
C37: ０％超５０％未満 | M37: 7.6666667 | N37: 33.333333 | O37: 4.5 | P37: 50 | W37: 12.166667 | X37: 11.16208
C38: ５０％以上 | G38: 77 | H38: 100 | M38: 15.333333 | N38: 66.666667 | O38: 4.5 | P38: 50 | W38: 96.833333 | X38: 88.83792
C39: １００％以下 | D39: 一次下請 | G39: 77 | H39: 100 | M39: 15.333333 | N39: 66.666667 | O39: 4.5 | P39: 50 | W39: 96.833333 | X39: 88.83792
D40: 二次下請
D41: 三次以下下請
B42: 小 計 | G42: 77 | H42: 100 | M42: 23 | N42: 100 | O42: 9 | P42: 100 | W42: 109 | X42: 100
D43: 一次下請 | G43: 77 | H43: 100 | M43: 15.333333 | N43: 66.666667 | O43: 9 | P43: 100 | W43: 101.33333 | X43: 92.966361
D44: 二次下請 | M44: 7.6666667 | N44: 33.333333 | W44: 7.6666667 | X44: 7.0336391
D45: 三次以下下請
B46: 造園工事業 | C46: ０％ | G46: 97.5 | H46: 28.571429 | I46: 56 | J46: 14.285714 | K46: 64.258065 | L46: 10.714286 | M46: 12.5 | N46: 7.8431373 | W46: 230.25806 | X46: 14.672035
C47: ０％超５０％未満 | G47: 243.75 | H47: 71.428571 | I47: 168 | J47: 42.857143 | K47: 364.12903 | L47: 60.714286 | M47: 100 | N47: 62.745098 | O47: 23.125 | P47: 62.5 | W47: 899.00403 | X47: 57.284502
C48: ５０％以上 | E48: 38 | F48: 100 | I48: 168 | J48: 42.857143 | K48: 171.35484 | L48: 28.571429 | M48: 46.875 | N48: 29.411765 | O48: 13.875 | P48: 37.5 | Q48: 2 | R48: 100 | W48: 440.10484 | X48: 28.043463
C49: １００％以下 | D49: 一次下請 | I49: 112 | J49: 28.571429 | K49: 128.51613 | L49: 21.428571 | M49: 37.5 | N49: 23.529412 | O49: 13.875 | P49: 37.5 | Q49: 2 | R49: 100 | W49: 293.89113 | X49: 18.726731
D50: 二次下請 | E50: 38 | F50: 100 | I50: 56 | J50: 14.285714 | K50: 42.83871 | L50: 7.1428571 | M50: 3.125 | N50: 1.9607843 | W50: 139.96371 | X50: 8.9184821
D51: 三次以下下請 | M51: 6.25 | N51: 3.9215686 | W51: 6.25 | X51: 0.39824976
B52: 小 計 | E52: 38 | F52: 100 | G52: 341.25 | H52: 100 | I52: 392 | J52: 100 | K52: 599.74194 | L52: 100 | M52: 159.375 | N52: 100 | O52: 37 | P52: 100 | Q52: 2 | R52: 100 | W52: 1569.3669 | X52: 100
D53: 一次下請 | G53: 195 | H53: 57.142857 | I53: 280 | J53: 71.428571 | K53: 492.64516 | L53: 82.142857 | M53: 131.25 | N53: 82.352941 | O53: 34.6875 | P53: 93.75 | Q53: 2 | R53: 100 | W53: 1135.5827 | X53: 72.359283
D54: 二次下請 | E54: 38 | F54: 100 | G54: 48.75 | H54: 14.285714 | I54: 56 | J54: 14.285714 | K54: 42.83871 | L54: 7.1428571 | M54: 9.375 | N54: 5.8823529 | O54: 2.3125 | P54: 6.25 | W54: 197.27621 | X54: 12.570432
D55: 三次以下下請 | M55: 6.25 | N55: 3.9215686 | W55: 6.25 | X55: 0.39824976
A56: 土 木 | B56: 水道施設 工事業 | C56: ０％ | G56: 78 | H56: 30 | K56: 106.32432 | L56: 21.875 | M56: 16.533333 | N56: 13.793103 | W56: 200.85766 | X56: 14.757404
C57: ０％超５０％未満 | E57: 69 | F57: 50 | G57: 104 | H57: 40 | I57: 105.71429 | J57: 33.333333 | K57: 303.78378 | L57: 62.5 | M57: 74.4 | N57: 62.068966 | O57: 28 | P57: 70 | W57: 684.89807 | X57: 50.320799
C58: ５０％以上 | E58: 69 | F58: 50 | G58: 78 | H58: 30 | I58: 211.42857 | J58: 66.666667 | K58: 75.945946 | L58: 15.625 | M58: 28.933333 | N58: 24.137931 | O58: 12 | P58: 30 | W58: 475.30785 | X58: 34.921796
C59: １００％以下 | D59: 一次下請 | E59: 69 | F59: 50 | G59: 52 | H59: 20 | I59: 185 | J59: 58.333333 | K59: 60.756757 | L59: 12.5 | M59: 24.8 | N59: 20.689655 | O59: 12 | P59: 30 | W59: 403.55676 | X59: 29.650103
D60: 二次下請 | I60: 26.428571 | J60: 8.3333333 | K60: 15.189189 | L60: 3.125 | M60: 4.1333333 | N60: 3.4482759 | W60: 45.751094 | X60: 3.3614223
D61: 三次以下下請 | G61: 26 | H61: 10 | W61: 26 | X61: 1.9102708
B62: 小 計 | E62: 138 | F62: 100 | G62: 260 | H62: 100 | I62: 317.14286 | J62: 100 | K62: 486.05405 | L62: 100 | M62: 119.86667 | N62: 100 | O62: 40 | P62: 100 | W62: 1361.0636 | X62: 100
D63: 一次下請 | E63: 138 | F63: 100 | G63: 156 | H63: 60 | I63: 290.71429 | J63: 91.666667 | K63: 364.54054 | L63: 75 | M63: 99.2 | N63: 82.758621 | O63: 36 | P63: 90 | W63: 1084.4548 | X63: 79.677015
D64: 二次下請 | I64: 26.428571 | J64: 8.3333333 | K64: 15.189189 | L64: 3.125 | M64: 4.1333333 | N64: 3.4482759 | O64: 4 | P64: 10 | W64: 49.751094 | X64: 3.6553101
D65: 三次以下下請 | G65: 26 | H65: 10 | W65: 26 | X65: 1.9102708
B66: 小 計 | C66: ０％ | E66: 370.03175 | F66: 26.218741 | G66: 1147.7069 | H66: 21.170342 | I66: 617.65238 | J66: 10.955612 | K66: 2619.209 | L66: 20.118528 | M66: 557.09905 | N66: 13.876074 | O66: 107.02315 | P66: 9.5663347 | Q66: 3.7826087 | R66: 3.7744035 | W66: 5422.5048 | X66: 17.631883
C67: ０％超５０％未満 | E67: 250.57143 | F67: 17.754334 | G67: 703.98563 | H67: 12.98556 | I67: 1223.481 | J67: 21.7015 | K67: 6061.0156 | L67: 46.55555 | M67: 2000.3864 | N67: 49.82509 | O67: 673.84491 | P67: 60.232072 | Q67: 75.521739 | R67: 75.357918 | S67: 10.545455 | T67: 70.731707 | U67: 13.333333 | V67: 83.333333 | W67: 11012.686 | X67: 35.808984
C68: ５０％以上 | E68: 790.72222 | F68: 56.026925 | G68: 3569.6034 | H68: 65.844098 | I68: 3796.6381 | J68: 67.342888 | K68: 4338.6648 | L68: 33.325921 | M68: 1457.332 | N68: 36.298836 | O68: 337.87963 | P68: 30.201594 | Q68: 20.913043 | R68: 20.867679 | S68: 4.3636364 | T68: 29.268293 | U68: 2.6666667 | V68: 16.666667 | W68: 14318.784 | X68: 46.559133
C69: １００％以下 | D69: 一次下請 | E69: 355.13492 | F69: 25.16322 | G69: 2071.0115 | H69: 38.20141 | I69: 2805.481 | J69: 49.762233 | K69: 3342.6168 | L69: 25.67513 | M69: 1185.7729 | N69: 29.534914 | O69: 313.68981 | P69: 28.039371 | Q69: 20.913043 | R69: 20.867679 | S69: 4.3636364 | T69: 29.268293 | U69: 2.6666667 | V69: 16.666667 | W69: 10101.65 | X69: 32.84665
D70: 二次下請 | E70: 331.02381 | F70: 23.454818 | G70: 1295.0747 | H70: 23.888655 | I70: 969.07381 | J70: 17.188952 | K70: 887.31209 | L70: 6.8155743 | M70: 236.47988 | N70: 5.8901775 | O70: 24.189815 | P70: 2.1622226 | W70: 3743.1541 | X70: 12.171286
D71: 三次以下下請 | E71: 104.56349 | F71: 7.4088862 | G71: 203.51724 | H71: 3.754033 | I71: 22.083333 | J71: 0.39170324 | K71: 108.736 | L71: 0.83521713 | M71: 35.079268 | N71: 0.87374502 | W71: 473.97933 | X71: 1.541197
B72: 小 計 | E72: 1411.3254 | F72: 100 | G72: 5421.296 | H72: 100 | I72: 5637.7714 | J72: 100 | K72: 13018.889 | L72: 100 | M72: 4014.8175 | N72: 100 | O72: 1118.7477 | P72: 100 | Q72: 100.21739 | R72: 100 | S72: 14.909091 | T72: 100 | U72: 16 | V72: 100 | W72: 30753.974 | X72: 100
D73: 一次下請 | E73: 605.70635 | F73: 42.917555 | G73: 2726.2471 | H73: 50.287738 | I73: 3899.5905 | J73: 69.169006 | K73: 9294.8964 | L73: 71.395463 | M73: 3110.0147 | N73: 77.463413 | O73: 950.15972 | P73: 84.930654 | Q73: 96.434783 | R73: 96.225597 | S73: 14.909091 | T73: 100 | U73: 16 | V73: 100 | W73: 20713.959 | X73: 67.353763
D74: 二次下請 | E74: 331.02381 | F74: 23.454818 | G74: 1343.8247 | H74: 24.787887 | I74: 1098.4452 | J74: 19.483678 | K74: 996.04808 | L74: 7.6507915 | M74: 283.79526 | N74: 7.0686963 | O74: 61.564815 | P74: 5.5030116 | W74: 4114.7019 | X74: 13.379415
D75: 三次以下下請 | E75: 104.56349 | F75: 7.4088862 | G75: 203.51724 | H75: 3.754033 | I75: 22.083333 | J75: 0.39170324 | K75: 108.736 | L75: 0.83521713 | M75: 63.908537 | N75: 1.5918167 | W75: 502.8086 | X75: 1.6349386
A76: 建 築 | B76: 建築工事業 | C76: ０％ | E76: 2224 | F76: 61.538462 | G76: 2258.0345 | H76: 45.833333 | I76: 2034.1053 | J76: 44.444444 | K76: 3705 | L76: 37.864078 | M76: 959.01389 | N76: 40.84507 | O76: 369.9403 | P76: 41.538462 | Q76: 30.72 | R76: 16 | S76: 14.285714 | T76: 47.619048 | U76: 13.454545 | V76: 40 | W76: 11608.554 | X76: 43.977591
C77: ０％超５０％未満 | E77: 834 | F77: 23.076923 | G77: 1026.3793 | H77: 20.833333 | I77: 1525.5789 | J77: 33.333333 | K77: 3895 | L77: 39.805825 | M77: 992.08333 | N77: 42.253521 | O77: 465.85075 | P77: 52.307692 | Q77: 153.6 | R77: 80 | S77: 15.714286 | T77: 52.380952 | U77: 20.181818 | V77: 60 | W77: 8928.3884 | X77: 33.82411
C78: ５０％以上 | E78: 556 | F78: 15.384615 | G78: 1642.2069 | H78: 33.333333 | I78: 1017.0526 | J78: 22.222222 | K78: 2185 | L78: 22.330097 | M78: 396.83333 | N78: 16.901408 | O78: 54.80597 | P78: 6.1538462 | Q78: 7.68 | R78: 4 | W78: 5859.5788 | X78: 22.198299
C79: １００％以下 | D79: 一次下請 | E79: 556 | F79: 15.384615 | G79: 1026.3793 | H79: 20.833333 | I79: 762.78947 | J79: 16.666667 | K79: 1900 | L79: 19.417476 | M79: 363.76389 | N79: 15.492958 | O79: 41.104478 | P79: 4.6153846 | Q79: 7.68 | R79: 4 | W79: 4657.7172 | X79: 17.645193
D80: 二次下請 | G80: 205.27586 | H80: 4.1666667 | I80: 254.26316 | J80: 5.5555556 | K80: 285 | L80: 2.9126214 | M80: 33.069444 | N80: 1.4084507 | O80: 13.701493 | P80: 1.5384615 | W80: 791.30996 | X80: 2.9977812
D81: 三次以下下請 | G81: 410.55172 | H81: 8.3333333 | W81: 410.55172 | X81: 1.5553251
B82: 小 計 | E82: 3614 | F82: 100 | G82: 4926.6207 | H82: 100 | I82: 4576.7368 | J82: 100 | K82: 9785 | L82: 100 | M82: 2347.9306 | N82: 100 | O82: 890.59701 | P82: 100 | Q82: 192 | R82: 100 | S82: 30 | T82: 100 | U82: 33.636364 | V82: 100 | W82: 26396.521 | X82: 100
D83: 一次下請 | E83: 1390 | F83: 38.461538 | G83: 2052.7586 | H83: 41.666667 | I83: 2034.1053 | J83: 44.444444 | K83: 5700 | L83: 58.252427 | M83: 1322.7778 | N83: 56.338028 | O83: 493.25373 | P83: 55.384615 | Q83: 161.28 | R83: 84 | S83: 15.714286 | T83: 52.380952 | U83: 20.181818 | V83: 60 | W83: 13190.071 | X83: 49.968976
D84: 二次下請 | G84: 205.27586 | H84: 4.1666667 | I84: 508.52632 | J84: 11.111111 | K84: 380 | L84: 3.8834951 | M84: 66.138889 | N84: 2.8169014 | O84: 27.402985 | P84: 3.0769231 | W84: 1187.3441 | X84: 4.498108
D85: 三次以下下請 | G85: 410.55172 | H85: 8.3333333 | W85: 410.55172 | X85: 1.5553251
B86: 木造建築 工事業 | C86: ０％ | E86: 1582 | F86: 52.380952 | G86: 1904 | H86: 77.777778 | I86: 1419.2 | J86: 85.714286 | K86: 1591.1765 | L86: 64.935065 | M86: 155.51852 | N86: 76 | O86: 65 | P86: 72.222222 | Q86: 17 | R86: 100 | S86: 5 | T86: 100 | U86: 1 | V86: 100 | W86: 6739.895 | X86: 68.135105
C87: ０％超５０％未満 | E87: 1006.7273 | F87: 33.333333 | G87: 544 | H87: 22.222222 | I87: 118.26667 | J87: 7.1428571 | K87: 604.64706 | L87: 24.675325 | M87: 40.925926 | N87: 20 | O87: 5 | P87: 5.5555556 | W87: 2319.5669 | X87: 23.449021
C88: ５０％以上 | E88: 431.45455 | F88: 14.285714 | I88: 118.26667 | J88: 7.1428571 | K88: 254.58824 | L88: 10.38961 | M88: 8.1851852 | N88: 4 | O88: 20 | P88: 22.222222 | W88: 832.49463 | X88: 8.4158743
C89: １００％以下 | D89: 一次下請 | E89: 287.63636 | F89: 9.5238095 | I89: 118.26667 | J89: 7.1428571 | K89: 254.58824 | L89: 10.38961 | M89: 8.1851852 | N89: 4 | O89: 15 | P89: 16.666667 | W89: 683.67645 | X89: 6.9114381
D90: 二次下請 | E90: 143.81818 | F90: 4.7619048 | O90: 5 | P90: 5.5555556 | W90: 148.81818 | X90: 1.5044363
D91: 三次以下下請
B92: 小 計 | E92: 3020.1818 | F92: 100 | G92: 2448 | H92: 100 | I92: 1655.7333 | J92: 100 | K92: 2450.4118 | L92: 100 | M92: 204.62963 | N92: 100 | O92: 90 | P92: 100 | Q92: 17 | R92: 100 | S92: 5 | T92: 100 | U92: 1 | V92: 100 | W92: 9891.9565 | X92: 100
D93: 一次下請 | E93: 1294.3636 | F93: 42.857143 | G93: 272 | H93: 11.111111 | I93: 236.53333 | J93: 14.285714 | K93: 859.23529 | L93: 35.064935 | M93: 49.111111 | N93: 24 | O93: 20 | P93: 22.222222 | W93: 2731.2434 | X93: 27.61075
D94: 二次下請 | E94: 143.81818 | F94: 4.7619048 | G94: 272 | H94: 11.111111 | O94: 5 | P94: 5.5555556 | W94: 420.81818 | X94: 4.2541451
D95: 三次以下下請
B96: 小計 | C96: ０％ | E96: 3806 | F96: 57.369546 | G96: 4162.0345 | H96: 56.437269 | I96: 3453.3053 | J96: 55.408292 | K96: 5296.1765 | L96: 43.285641 | M96: 1114.5324 | N96: 43.663316 | O96: 434.9403 | P96: 44.354642 | Q96: 47.72 | R96: 22.832536 | S96: 19.285714 | T96: 55.102041 | U96: 14.454545 | V96: 41.732283 | W96: 18348.449 | X96: 50.562741
C97: ０％超５０％未満 | E97: 1840.7273 | F97: 27.746108 | G97: 1570.3793 | H97: 21.294374 | I97: 1643.8456 | J97: 26.375507 | K97: 4499.6471 | L97: 36.775608 | M97: 1033.0093 | N97: 40.469536 | O97: 470.85075 | P97: 48.016743 | Q97: 153.6 | R97: 73.492823 | S97: 15.714286 | T97: 44.897959 | U97: 20.181818 | V97: 58.267717 | W97: 11247.955 | X97: 30.995941
C98: ５０％以上 | E98: 987.45455 | F98: 14.884346 | G98: 1642.2069 | H98: 22.268357 | I98: 1135.3193 | J98: 18.216201 | K98: 2439.5882 | L98: 19.938751 | M98: 405.01852 | N98: 15.867149 | O98: 74.80597 | P98: 7.6286149 | Q98: 7.68 | R98: 3.6746411 | W98: 6692.0735 | X98: 18.441318
C99: １００％以下 | D99: 一次下請 | E99: 843.63636 | F99: 12.71651 | G99: 1026.3793 | H99: 13.917723 | I99: 881.05614 | J99: 14.136548 | K99: 2154.5882 | L99: 17.609446 | M99: 371.94907 | N99: 14.571608 | O99: 56.104478 | P99: 5.7214612 | Q99: 7.68 | R99: 3.6746411 | W99: 5341.3936 | X99: 14.719255
D100: 二次下請 | E100: 143.81818 | F100: 2.167836 | G100: 205.27586 | H100: 2.7835447 | I100: 254.26316 | J100: 4.079653 | K100: 285 | L100: 2.3293045 | M100: 33.069444 | N100: 1.2955402 | O100: 18.701493 | P100: 1.9071537 | W100: 940.12814 | X100: 2.590707
D101: 三次以下下請 | G101: 410.55172 | H101: 5.5670894 | W101: 410.55172 | X101: 1.1313556
...

Sheet 2-6-2
A1: 表2－6－2 下請比率、下請次数別の企業分布状況（完成工事高による分析）（経年変化）
T3: （単位：社、％）
C4: 年度 | D4: R01年度 | G4: H26年度 | J4: H23年度 | M4: H20年度 | P4: H17年度 | S4: H14年度
A5: 業種 | B5: 下請比率 | C5: 下請次数 | F5: 増減 | I5: 増減 | L5: 増減 | O5: 増減 | R5: 増減
A6: 一般土木建築 | B6: ０％ | D6: ='2-6-1'!W6 -> 660.37513 | E6: ='2-6-1'!X6 -> 19.606975 | F6: =E6-H6 -> -1.0633426 | G6: 864.87279 | H6: 20.670317 | I6: =H6-K6 -> 4.8703173 | J6: 596.8 | K6: 15.8 | L6: =K6-N6 -> 6.8 | M6: 450.74 | N6: 9 | O6: =N6-Q6 -> -0.5 | P6: 564 | Q6: 9.5 | R6: =Q6-T6 -> -2.5403936 | S6: 929.54382 | T6: =IF(ROUND(S9,0)=0,"",ROUND(S6,0)/ROUND(S9,0)*100) -> 12.040394
B7: ０％超５０％未満 | D7: ='2-6-1'!W7 -> 2198.4974 | E7: ='2-6-1'!X7 -> 65.274842 | F7: =E7-H7 -> -1.1650383 | G7: 2779.9305 | H7: 66.439881 | I7: =H7-K7 -> -7.8601194 | J7: 2804.35 | K7: 74.3 | L7: =K7-N7 -> 7.2 | M7: 3363.41 | N7: 67.1 | O7: =N7-Q7 -> -3.1 | P7: 4184 | Q7: 70.2 | R7: =Q7-T7 -> -1.4209218 | S7: 5532.4727 | T7: =IF(ROUND(S9,0)=0,"",ROUND(S7,0)/ROUND(S9,0)*100) -> 71.620922
B8: ５０％以上１００％以下 | D8: ='2-6-1'!W8 -> 509.18983 | E8: ='2-6-1'!X8 -> 15.118183 | F8: =E8-H8 -> 2.2283809 | G8: 539.32598 | H8: 12.889802 | I8: =H8-K8 -> 2.9898021 | J8: 374.28 | K8: 9.9 | L8: =K8-N8 -> -14 | M8: 1195.45 | N8: 23.9 | O8: =N8-Q8 -> 3.6 | P8: 1211 | Q8: 20.3 | R8: =Q8-T8 -> 3.9613154 | S8: 1262.1056 | T8: =IF(ROUND(S9,0)=0,"",ROUND(S8,0)/ROUND(S9,0)*100) -> 16.338685
A9: 小計 | D9: ='2-6-1'!W12 -> 3368.0623 | E9: ='2-6-1'!X12 -> 100 | F9: - | G9: 4184.1292 | H9: 100 | I9: - | J9: 3775.43 | K9: 100 | L9: - | M9: 5009.6 | N9: 100 | O9: - | P9: 5960 | Q9: 100 | R9: - | S9: 7724.1221 | T9: =IF(ROUND(S9,0)=0,"",ROUND(S9,0)/ROUND(S9,0)*100) -> 100
C10: 一次下請 | D10: ='2-6-1'!W13 -> 2500.3842 | E10: ='2-6-1'!X13 -> 74.238062 | F10: =E10-H10 -> -3.5052956 | G10: 3252.8825 | H10: 77.743357 | I10: =H10-K10 -> -0.85664274 | J10: 2968.23 | K10: 78.6 | L10: =K10-N10 -> -1.3 | M10: 4004.68 | N10: 79.9 | O10: =N10-Q10 -> -0.6 | P10: 4800 | Q10: 80.5 | R10: =Q10-T10 -> -1.5688762 | S10: 6339.1313 | T10: =IF(ROUND(S9,0)=0,"",ROUND(S10,0)/ROUND(S9,0)*100) -> 82.068876
C11: 二次下請 | D11: ='2-6-1'!W14 -> 180.30302 | E11: ='2-6-1'!X14 -> 5.3533158 | F11: =E11-H11 -> -0.52359432 | G11: 245.89752 | H11: 5.8769102 | I11: =H11-K11 -> 0.57691016 | J11: 199.66 | K11: 5.3 | L11: =K11-N11 -> -2.9 | M11: 409.3 | N11: 8.2 | O11: =N11-Q11 -> 1.5 | P11: 400 | Q11: 6.7 | R11: =Q11-T11 -> 2.1298291 | S11: 352.89371 | T11: =IF(ROUND(S9,0)=0,"",ROUND(S11,0)/ROUND(S9,0)*100) -> 4.5701709
C12: 三次以下下請 | D12: ='2-6-1'!W15 -> 27 | E12: ='2-6-1'!X15 -> 0.80164787 | F12: =E12-H12 -> 0.80164787 | G12: 0 | H12: 0 | I12: =H12-K12 -> -0.3 | J12: 10.74 | K12: 0.3 | L12: =K12-N12 -> -0.4 | M12: 33.9 | N12: 0.7 | O12: =N12-Q12 -> 0 | P12: 39 | Q12: 0.7 | R12: =Q12-T12 -> -0.63350596 | S12: 102.55329 | T12: =IF(ROUND(S9,0)=0,"",ROUND(S12,0)/ROUND(S9,0)*100) -> 1.333506
A13: 土木 | B13: ０％ | D13: ='2-6-1'!W66 -> 5422.5048 | E13: ='2-6-1'!X66 -> 17.631883 | F13: =E13-H13 -> 1.4470024 | G13: 6087.2611 | H13: 16.184881 | I13: =H13-K13 -> 1.984881 | J13: 4620.2 | K13: 14.2 | L13: =K13-N13 -> 0.8 | M13: 6195.76 | N13: 13.4 | O13: =N13-Q13 -> 0.3 | P13: 7537 | Q13: 13.1 | R13: =Q13-T13 -> 4.5862761 | S13: 5576.8208 | T13: =IF(ROUND(S16,0)=0,"",ROUND(S13,0)/ROUND(S16,0)*100) -> 8.5137239
B14: ０％超５０％未満 | D14: ='2-6-1'!W67 -> 11012.686 | E14: ='2-6-1'!X67 -> 35.808984 | F14: =E14-H14 -> -8.147773 | G14: 16532.482 | H14: 43.956757 | I14: =H14-K14 -> 1.5567567 | J14: 13756.4 | K14: 42.4 | L14: =K14-N14 -> -1.8 | M14: 20394.76 | N14: 44.2 | O14: =N14-Q14 -> -2.2 | P14: 26636 | Q14: 46.4 | R14: =Q14-T14 -> -1.8749672 | S14: 31622.5 | T14: =IF(ROUND(S16,0)=0,"",ROUND(S14,0)/ROUND(S16,0)*100) -> 48.274967
B15: ５０％以上１００％以下 | D15: ='2-6-1'!W68 -> 14318.784 | E15: ='2-6-1'!X68 -> 46.559133 | F15: =E15-H15 -> 6.7007706 | G15: 14991.044 | H15: 39.858362 | I15: =H15-K15 -> -3.5416377 | J15: 14082.24 | K15: 43.4 | L15: =K15-N15 -> 1.1 | M15: 19524.11 | N15: 42.3 | O15: =N15-Q15 -> 1.9 | P15: 23182 | Q15: 40.4 | R15: =Q15-T15 -> -2.8128355 | S15: 28306.973 | T15: =IF(ROUND(S16,0)=0,"",ROUND(S15,0)/ROUND(S16,0)*100) -> 43.212835
A16: 小計 | D16: ='2-6-1'!W72 -> 30753.974 | E16: ='2-6-1'!X72 -> 100 | F16: - | G16: 37610.787 | H16: 100 | I16: - | J16: 32458.84 | K16: 100 | L16: - | M16: 46114.63 | N16: 100 | O16: - | P16: 57355 | Q16: 100 | R16: - | S16: 65506.293 | T16: =IF(ROUND(S16,0)=0,"",ROUND(S16,0)/ROUND(S16,0)*100) -> 100
C17: 一次下請 | D17: ='2-6-1'!W73 -> 20713.959 | E17: ='2-6-1'!X73 -> 67.353763 | F17: =E17-H17 -> -4.6962431 | G17: 27098.574 | H17: 72.050006 | I17: =H17-K17 -> -0.14999418 | J17: 23435.21 | K17: 72.2 | L17: =K17-N17 -> 2.7 | M17: 32057.97 | N17: 69.5 | O17: =N17-Q17 -> -0.5 | P17: 40172 | Q17: 70 | R17: =Q17-T17 -> -5.9228162 | S17: 49734.043 | T17: =IF(ROUND(S16,0)=0,"",ROUND(S17,0)/ROUND(S16,0)*100) -> 75.922816
C18: 二次下請 | D18: ='2-6-1'!W74 -> 4114.7019 | E18: ='2-6-1'!X74 -> 13.379415 | F18: =E18-H18 -> -1.1072077 | G18: 5448.5329 | H18: 14.486623 | I18: =H18-K18 -> 2.586623 | J18: 3856.94 | K18: 11.9 | L18: =K18-N18 -> -0.8 | M18: 5836.57 | N18: 12.7 | O18: =N18-Q18 -> 0.8 | P18: 6829 | Q18: 11.9 | R18: =Q18-T18 -> -0.73548377 | S18: 8277.0811 | T18: =IF(ROUND(S16,0)=0,"",ROUND(S18,0)/ROUND(S16,0)*100) -> 12.635484
C19: 三次以下下請 | D19: ='2-6-1'!W75 -> 502.8086 | E19: ='2-6-1'!X75 -> 1.6349386 | F19: =E19-H19 -> -0.53123045 | G19: 814.71323 | H19: 2.1661691 | I19: =H19-K19 -> 0.46616907 | J19: 546.49 | K19: 1.7 | L19: =K19-N19 -> -0.7 | M19: 1125.15 | N19: 2.4 | O19: =N19-Q19 -> 0.5 | P19: 1097 | Q19: 1.9 | R19: =Q19-T19 -> -1.0279761 | S19: 1918.3475 | T19: =IF(ROUND(S16,0)=0,"",ROUND(S19,0)/ROUND(S16,0)*100) -> 2.9279761
A20: 建築 | B20: ０％ | D20: ='2-6-1'!W76 -> 11608.554 | E20: ='2-6-1'!X76 -> 43.977591 | F20: =E20-H20 -> 0.81403398 | G20: 13684.153 | H20: 43.163557 | I20: =H20-K20 -> 2.5635568 | J20: 12058.52 | K20: 40.6 | L20: =K20-N20 -> 7.7 | M20: 11375.18 | N20: 32.9 | O20: =N20-Q20 -> -8.1 | P20: 19476 | Q20: 41 | R20: =Q20-T20 -> -8.2648565 | S20: 24058.199 | T20: =IF(ROUND(S23,0)=0,"",ROUND(S20,0)/ROUND(S23,0)*100) -> 49.264856
B21: ０％超５０％未満 | D21: ='2-6-1'!W77 -> 8928.3884 | E21: ='2-6-1'!X77 -> 33.82411 | F21: =E21-H21 -> 0.43780054 | G21: 10584.47 | H21: 33.386309 | I21: =H21-K21 -> 1.0863094 | J21: 9601.35 | K21: 32.3 | L21: =K21-N21 -> -8.8 | M21: 14234.71 | N21: 41.1 | O21: =N21-Q21 -> 1.8 | P21: 18623 | Q21: 39.3 | R21: =Q21-T21 -> 5.2581439 | S21: 16623.531 | T21: =IF(ROUND(S23,0)=0,"",ROUND(S21,0)/ROUND(S23,0)*100) -> 34.041856
B22: ５０％以上１００％以下 | D22: ='2-6-1'!W78 -> 5859.5788 | E22: ='2-6-1'!X78 -> 22.198299 | F22: =E22-H22 -> -1.2518345 | G22: 7434.4016 | H22: 23.450134 | I22: =H22-K22 -> -3.5498662 | J22: 8031.46 | K22: 27 | L22: =K22-N22 -> 1 | M22: 8986.58 | N22: 26 | O22: =N22-Q22 -> 6.3 | P22: 9347 | Q22: 19.7 | R22: =Q22-T22 -> 3.0046648 | S22: 8152.6069 | T22: =IF(ROUND(S23,0)=0,"",ROUND(S22,0)/ROUND(S23,0)*100) -> 16.695335
A23: 小計 | D23: ='2-6-1'!W82 -> 26396.521 | E23: ='2-6-1'!X82 -> 100 | F23: - | G23: 31703.024 | H23: 100 | I23: - | J23: 29691.34 | K23: 100 | L23: - | M23: 34596.47 | N23: 100 | O23: - | P23: 47447 | Q23: 100 | R23: - | S23: 48834.34 | T23: =IF(ROUND(S23,0)=0,"",ROUND(S23,0)/ROUND(S23,0)*100) -> 100
C24: 一次下請 | D24: ='2-6-1'!W83 -> 13190.071 | E24: ='2-6-1'!X83 -> 49.968976 | F24: =E24-H24 -> -4.6937554 | G24: 17329.739 | H24: 54.662732 | I24: =H24-K24 -> 3.4627315 | J24: 15215 | K24: 51.2 | L24: =K24-N24 -> -7.3 | M24: 20252.18 | N24: 58.5 | O24: =N24-Q24 -> 10.6 | P24: 22746 | Q24: 47.9 | R24: =Q24-T24 -> 0.83238318 | S24: 22985.057 | T24: =IF(ROUND(S23,0)=0,"",ROUND(S24,0)/ROUND(S23,0)*100) -> 47.067617
C25: 二次下請 | D25: ='2-6-1'!W84 -> 1187.3441 | E25: ='2-6-1'!X84 -> 4.498108 | F25: =E25-H25 -> -3.2136773 | G25: 2444.8692 | H25: 7.7117853 | I25: =H25-K25 -> 0.31178529 | J25: 2205.44 | K25: 7.4 | L25: =K25-N25 -> 1.8 | M25: 1939.52 | N25: 5.6 | O25: =N25-Q25 -> 0.3 | P25: 2501 | Q25: 5.3 | R25: =Q25-T25 -> 1.90892 | S25: 1656.0443 | T25: =IF(ROUND(S23,0)=0,"",ROUND(S25,0)/ROUND(S23,0)*100) -> 3.39108
C26: 三次以下下請 | D26: ='2-6-1'!W85 -> 410.55172 | E26: ='2-6-1'!X85 -> 1.5553251 | F26: =E26-H26 -> -0.71385206 | G26: 719.39778 | H26: 2.2691772 | I26: =H26-K26 -> 1.5691772 | J26: 212.38 | K26: 0.7 | L26: =K26-N26 -> -0.5 | M26: 401 | N26: 1.2 | O26: =N26-Q26 -> -0.1 | P26: 618 | Q26: 1.3 | R26: =Q26-T26 -> 1.0235533 | S26: 135.03851 | T26: =IF(ROUND(S23,0)=0,"",ROUND(S26,0)/ROUND(S23,0)*100) -> 0.27644674
A27: 木造建築 | B27: ０％ | D27: ='2-6-1'!W86 -> 6739.895 | E27: ='2-6-1'!X86 -> 68.135105 | F27: =E27-H27 -> 0.49379346 | G27: 11014.29 | H27: 67.641312 | I27: =H27-K27 -> -0.55868836 | J27: 8122.1 | K27: 68.2 | L27: =K27-N27 -> 8.1 | M27: 9502.41 | N27: 60.1 | O27: =N27-Q27 -> 1.8 | P27: 11290 | Q27: 58.3 | R27: =Q27-T27 -> -6.7627256 | S27: 15144.353 | T27: =IF(ROUND(S30,0)=0,"",ROUND(S27,0)/ROUND(S30,0)*100) -> 65.062726
B28: ０％超５０％未満 | D28: ='2-6-1'!W87 -> 2319.5669 | E28: ='2-6-1'!X87 -> 23.449021 | F28: =E28-H28 -> 1.43836 | G28: 3584.0788 | H28: 22.010661 | I28: =H28-K28 -> 0.21066056 | J28: 2597.02 | K28: 21.8 | L28: =K28-N28 -> -4.7 | M28: 4191.01 | N28: 26.5 | O28: =N28-Q28 -> -2.6 | P28: 5629 | Q28: 29.1 | R28: =Q28-T28 -> 5.4361402 | S28: 5507.9604 | T28: =IF(ROUND(S30,0)=0,"",ROUND(S28,0)/ROUND(S30,0)*100) -> 23.66386
B29: ５０％以上１００％以下 | D29: ='2-6-1'!W88 -> 832.49463 | E29: ='2-6-1'!X88 -> 8.4158743 | F29: =E29-H29 -> -1.9321535 | G29: 1685.0083 | H29: 10.348028 | I29: =H29-K29 -> 0.3480278 | J29: 1190.39 | K29: 10 | L29: =K29-N29 -> -3.3 | M29: 2105.75 | N29: 13.3 | O29: =N29-Q29 -> 0.6 | P29: 2458 | Q29: 12.7 | R29: =Q29-T29 -> 1.4265853 | S29: 2623.9443 | T29: =IF(ROUND(S30,0)=0,"",ROUND(S29,0)/ROUND(S30,0)*100) -> 11.273415
A30: 小計 | D30: ='2-6-1'!W92 -> 9891.9565 | E30: ='2-6-1'!X92 -> 100 | F30: - | G30: 16283.377 | H30: 100 | I30: - | J30: 11909.51 | K30: 100 | L30: - | M30: 15799.17 | N30: 100 | O30: - | P30: 19377 | Q30: 100 | R30: - | S30: 23276.258 | T30: =IF(ROUND(S30,0)=0,"",ROUND(S30,0)/ROUND(S30,0)*100) -> 100
C31: 一次下請 | D31: ='2-6-1'!W93 -> 2731.2434 | E31: ='2-6-1'!X93 -> 27.61075 | F31: =E31-H31 -> -9.5653389 | G31: 6053.5225 | H31: 37.176089 | I31: =H31-K31 -> 10.976089 | J31: 3120.25 | K31: 26.2 | L31: =K31-N31 -> -9.6 | M31: 5654.35 | N31: 35.8 | O31: =N31-Q31 -> 4 | P31: 6163 | Q31: 31.8 | R31: =Q31-T31 -> 3.3973535 | S31: 6611.0737 | T31: =IF(ROUND(S30,0)=0,"",ROUND(S31,0)/ROUND(S30,0)*100) -> 28.402647
C32: 二次下請 | D32: ='2-6-1'!W94 -> 420.81818 | E32: ='2-6-1'!X94 -> 4.2541451 | F32: =E32-H32 -> 1.9939289 | G32: 368.0395 | H32: 2.2602161 | I32: =H32-K32 -> -2.6397839 | J32: 585.82 | K32: 4.9 | L32: =K32-N32 -> 3.8 | M32: 169.96 | N32: 1.1 | O32: =N32-Q32 -> -4.9 | P32: 1169 | Q32: 6 | R32: =Q32-T32 -> 0.75854958 | S32: 1220.3663 | T32: =IF(ROUND(S30,0)=0,"",ROUND(S32,0)/ROUND(S30,0)*100) -> 5.2414504
C33: 三次以下下請 | D33: ='2-6-1'!W95 -> 0 | E33: ='2-6-1'!X95 -> 0 | F33: =E33-H33 -> 0 | G33: 0 | H33: 0 | I33: =H33-K33 -> -0.7 | J33: 81.33 | K33: 0.7 | L33: =K33-N33 -> 0.5 | M33: 31.35 | N33: 0.2 | O33: =N33-Q33 -> -0.6 | P33: 161 | Q33: 0.8 | R33: =Q33-T33 -> -0.48888125 | S33: 300.46494 | T33: =IF(ROUND(S30,0)=0,"",ROUND(S33,0)/ROUND(S30,0)*100) -> 1.2888813
A34: 職別 | B34: ０％ | D34: ='2-6-1'!W276 -> 3007.9524 | E34: ='2-6-1'!X276 -> 7.2048417 | F34: =E34-H34 -> -2.4657653 | G34: 4591.3973 | H34: 9.6706071 | I34: =H34-K34 -> 2.8706071 | J34: 2402.93 | K34: 6.8 | L34: =K34-N34 -> 1.6 | M34: 2310.36 | N34: 5.2 | O34: =N34-Q34 -> -0.5 | P34: 2799 | Q34: 5.7 | R34: =Q34-T34 -> -0.017433888 | S34: 3269.1318 | T34: =IF(ROUND(S37,0)=0,"",ROUND(S34,0)/ROUND(S37,0)*100) -> 5.7174339
B35: ０％超５０％未満 | D35: ='2-6-1'!W277 -> 3945.1746 | E35: ='2-6-1'!X277 -> 9.4497368 | F35: =E35-H35 -> -2.2251585 | G35: 5542.9905 | H35: 11.674895 | I35: =H35-K35 -> 1.3748953 | J35: 3624.62 | K35: 10.3 | L35: =K35-N35 -> 0.5 | M35: 4343.47 | N35: 9.8 | O35: =N35-Q35 -> -3.3 | P35: 6422 | Q35: 13.1 | R35: =Q35-T35 -> -0.22377221 | S35: 7618.293 | T35: =IF(ROUND(S37,0)=0,"",ROUND(S35,0)/ROUND(S37,0)*100) -> 13.323772
B36: ５０％以上１００％以下 | D36: ='2-6-1'!W278 -> 34795.915 | E36: ='2-6-1'!X278 -> 83.345421 | F36: =E36-H36 -> 4.6909239 | G36: 37343.473 | H36: 78.654498 | I36: =H36-K36 -> -4.2455024 | J36: 29142.65 | K36: 82.9 | L36: =K36-N36 -> -2.1 | M36: 37558 | N36: 85 | O36: =N36-Q36 -> 3.8 | P36: 39873 | Q36: 81.2 | R36: =Q36-T36 -> 0.24295509 | S36: 46288.293 | T36: =IF(ROUND(S37,0)=0,"",ROUND(S36,0)/ROUND(S37,0)*100) -> 80.957045
A37: 小計 | D37: ='2-6-1'!W282 -> 41749.042 | E37: ='2-6-1'!X282 -> 100 | F37: - | G37: 47477.86 | H37: 100 | I37: - | J37: 35170.2 | K37: 100 | L37: - | M37: 44211.83 | N37: 100 | O37: - | P37: 49093 | Q37: 100 | R37: - | S37: 57175.719 | T37: =IF(ROUND(S37,0)=0,"",ROUND(S37,0)/ROUND(S37,0)*100) -> 100
C38: 一次下請 | D38: ='2-6-1'!W283 -> 28516.34 | E38: ='2-6-1'!X283 -> 68.304178 | F38: =E38-H38 -> -1.6350016 | G38: 33205.626 | H38: 69.939179 | I38: =H38-K38 -> -2.6608209 | J38: 25525.51 | K38: 72.6 | L38: =K38-N38 -> 4.9 | M38: 29942.1 | N38: 67.7 | O38: =N38-Q38 -> -0.8 | P38: 33641 | Q38: 68.5 | R38: =Q38-T38 -> -0.1774171 | S38: 39266.543 | T38: =IF(ROUND(S37,0)=0,"",ROUND(S38,0)/ROUND(S37,0)*100) -> 68.677417
C39: 二次下請 | D39: ='2-6-1'!W284 -> 8165.5477 | E39: ='2-6-1'!X284 -> 19.558647 | F39: =E39-H39 -> -1.3669638 | G39: 9935.0322 | H39: 20.925611 | I39: =H39-K39 -> 3.4256107 | J39: 6163.48 | K39: 17.5 | L39: =K39-N39 -> -2.7 | M39: 8940.21 | N39: 20.2 | O39: =N39-Q39 -> 1.7 | P39: 9085 | Q39: 18.5 | R39: =Q39-T39 -> -1.882678 | S39: 11654.09 | T39: =IF(ROUND(S37,0)=0,"",ROUND(S39,0)/ROUND(S37,0)*100) -> 20.382678
C40: 三次以下下請 | D40: ='2-6-1'!W285 -> 2059.2021 | E40: ='2-6-1'!X285 -> 4.9323338 | F40: =E40-H40 -> 1.3417238 | G40: 1704.7448 | H40: 3.5906099 | I40: =H40-K40 -> 0.49060994 | J40: 1078.28 | K40: 3.1 | L40: =K40-N40 -> -1.1 | M40: 1874.67 | N40: 4.2 | O40: =N40-Q40 -> 1.3 | P40: 1436 | Q40: 2.9 | R40: =Q40-T40 -> -2.322471 | S40: 2985.9553 | T40: =IF(ROUND(S37,0)=0,"",ROUND(S40,0)/ROUND(S37,0)*100) -> 5.222471
A41: 設備 | B41: ０％ | D41: ='2-6-1'!W356 -> 2208.4524 | E41: ='2-6-1'!X356 -> 6.6890481 | F41: =E41-H41 -> -1.5535858 | G41: 3144.277 | H41: 8.2426339 | I41: =H41-K41 -> 1.2426339 | J41: 2183.17 | K41: 7 | L41: =K41-N41 -> 1.1 | M41: 2245.6 | N41: 5.9 | O41: =N41-Q41 -> 0.9 | P41: 2101 | Q41: 5 | R41: =Q41-T41 -> 1.0245234 | S41: 1659.7336 | T41: =IF(ROUND(S44,0)=0,"",ROUND(S41,0)/ROUND(S44,0)*100) -> 3.9754766
B42: ０％超５０％未満 | D42: ='2-6-1'!W357 -> 7910.9324 | E42: ='2-6-1'!X357 -> 23.960945 | F42: =E42-H42 -> -1.3234851 | G42: 9645.1273 | H42: 25.28443 | I42: =H42-K42 -> -7.7155696 | J42: 10242.59 | K42: 33 | L42: =K42-N42 -> 7.2 | M42: 9776.86 | N42: 25.8 | O42: =N42-Q42 -> -3.5 | P42: 12348 | Q42: 29.3 | R42: =Q42-T42 -> 0.65261998 | S42: 11961.754 | T42: =IF(ROUND(S44,0)=0,"",ROUND(S42,0)/ROUND(S44,0)*100) -> 28.64738
B43: ５０％以上１００％以下 | D43: ='2-6-1'!W358 -> 22896.56 | E43: ='2-6-1'!X358 -> 69.350007 | F43: =E43-H43 -> 2.8770709 | G43: 25357.104 | H43: 66.472936 | I43: =H43-K43 -> 6.5729357 | J43: 18571.93 | K43: 59.9 | L43: =K43-N43 -> -8.4 | M43: 25943.62 | N43: 68.3 | O43: =N43-Q43 -> 2.6 | P43: 27662 | Q43: 65.7 | R43: =Q43-T43 -> -1.6771434 | S43: 28134.357 | T43: =IF(ROUND(S44,0)=0,"",ROUND(S43,0)/ROUND(S44,0)*100) -> 67.377143
A44: 小計 | D44: ='2-6-1'!W362 -> 33015.945 | E44: ='2-6-1'!X362 -> 100 | F44: - | G44: 38146.508 | H44: 100 | I44: - | J44: 30997.69 | K44: 100 | L44: - | M44: 37966.08 | N44: 100 | O44: - | P44: 42111 | Q44: 100 | R44: - | S44: 41755.844 | T44: =IF(ROUND(S44,0)=0,"",ROUND(S44,0)/ROUND(S44,0)*100) -> 100
C45: 一次下請 | D45: ='2-6-1'!W363 -> 22681.793 | E45: ='2-6-1'!X363 -> 68.699514 | F45: =E45-H45 -> -1.7335063 | G45: 26867.738 | H45: 70.43302 | I45: =H45-K45 -> -1.6669801 | J45: 22343.66 | K45: 72.1 | L45: =K45-N45 -> 4.2 | M45: 25768.31 | N45: 67.9 | O45: =N45-Q45 -> -0.5 | P45: 28825 | Q45: 68.4 | R45: =Q45-T45 -> -3.0915222 | S45: 29851.559 | T45: =IF(ROUND(S44,0)=0,"",ROUND(S45,0)/ROUND(S44,0)*100) -> 71.491522
C46: 二次下請 | D46: ='2-6-1'!W364 -> 6227.2456 | E46: ='2-6-1'!X364 -> 18.861328 | F46: =E46-H46 -> -1.5784922 | G46: 7797.0777 | H46: 20.43982 | I46: =H46-K46 -> 3.4398201 | J46: 5261.96 | K46: 17 | L46: =K46-N46 -> -1.2 | M46: 6903.47 | N46: 18.2 | O46: =N46-Q46 -> -0.7 | P46: 7952 | Q46: 18.9 | R46: =Q46-T46 -> 0.16017818 | S46: 7825.4888 | T46: =IF(ROUND(S44,0)=0,"",ROUND(S46,0)/ROUND(S44,0)*100) -> 18.739822
C47: 三次以下下請 | D47: ='2-6-1'!W365 -> 1898.4533 | E47: ='2-6-1'!X365 -> 5.7501104 | F47: =E47-H47 -> 0.39393784 | G47: 2043.1928 | H47: 5.3561725 | I47: =H47-K47 -> 1.4561725 | J47: 1208.9 | K47: 3.9 | L47: =K47-N47 -> -1.7 | M47: 2108.73 | N47: 5.6 | O47: =N47-Q47 -> 1.3 | P47: 1790 | Q47: 4.3 | R47: =Q47-T47 -> -1.4931794 | S47: 2419.0632 | T47: =IF(ROUND(S44,0)=0,"",ROUND(S47,0)/ROUND(S44,0)*100) -> 5.7931794
A48: 合計 | B48: ０％ | D48: ='2-6-1'!W366 -> 29647.734 | E48: ='2-6-1'!X366 -> 20.421995 | F48: =E48-H48 -> -2.0323798 | G48: 39386.251 | H48: 22.454375 | I48: =H48-K48 -> 1.6543751 | J48: 29983.72 | K48: 20.8 | L48: =K48-N48 -> 3.3 | M48: 32080.04 | N48: 17.5 | O48: =N48-Q48 -> -2.3 | P48: 43768 | Q48: 19.8 | R48: =Q48-T48 -> -0.93008478 | S48: 50637.781 | T48: =IF(ROUND(S51,0)=0,"",ROUND(S48,0)/ROUND(S51,0)*100) -> 20.730085
B49: ０％超５０％未満 | D49: ='2-6-1'!W367 -> 36315.245 | E49: ='2-6-1'!X367 -> 25.01472 | F49: =E49-H49 -> -2.7318598 | G49: 48669.079 | H49: 27.74658 | I49: =H49-K49 -> -1.85342 | J49: 42626.33 | K49: 29.6 | L49: =K49-N49 -> -1.1 | M49: 56304.22 | N49: 30.7 | O49: =N49-Q49 -> -2.7 | P49: 73843 | Q49: 33.4 | R49: =Q49-T49 -> 1.1135828 | S49: 78866.516 | T49: =IF(ROUND(S51,0)=0,"",ROUND(S49,0)/ROUND(S51,0)*100) -> 32.286417
B50: ５０％以上１００％以下 | D50: ='2-6-1'!W368 -> 79212.521 | E50: ='2-6-1'!X368 -> 54.563285 | F50: =E50-H50 -> 4.7642396 | G50: 87350.356 | H50: 49.799045 | I50: =H50-K50 -> 0.19904489 | J50: 71392.95 | K50: 49.6 | L50: =K50-N50 -> -2.3 | M50: 95313.51 | N50: 51.9 | O50: =N50-Q50 -> 5 | P50: 103732 | Q50: 46.9 | R50: =Q50-T50 -> -0.083497972 | S50: 114768.28 | T50: =IF(ROUND(S51,0)=0,"",ROUND(S50,0)/ROUND(S51,0)*100) -> 46.983498
D51: ='2-6-1'!W372 -> 145175.5 | E51: ='2-6-1'!X372 -> 100 | F51: - | G51: 175405.69 | H51: 100 | I51: - | J51: 144003 | K51: 100 | L51: - | M51: 183697.76 | N51: 100 | O51: - | P51: 221343 | Q51: 100 | R51: - | S51: 244272.58 | T51: =IF(ROUND(S51,0)=0,"",ROUND(S51,0)/ROUND(S51,0)*100) -> 100
C52: 一次下請 | D52: ='2-6-1'!W373 -> 90333.791 | E52: ='2-6-1'!X373 -> 62.223853 | F52: =E52-H52 -> -2.6589248 | G52: 113808.08 | H52: 64.882778 | I52: =H52-K52 -> 0.58277812 | J52: 92607.86 | K52: 64.3 | L52: =K52-N52 -> 0.2 | M52: 117679.58 | N52: 64.1 | O52: =N52-Q52 -> 2.5 | P52: 136346 | Q52: 61.6 | R52: =Q52-T52 -> -1.7663974 | S52: 154787.41 | T52: =IF(ROUND(S51,0)=0,"",ROUND(S52,0)/ROUND(S51,0)*100) -> 63.366397
C53: 二次下請 | D53: ='2-6-1'!W374 -> 20295.96 | E53: ='2-6-1'!X374 -> 13.980293 | F53: =E53-H53 -> -0.97899914 | G53: 26239.449 | H53: 14.959292 | I53: =H53-K53 -> 2.2592922 | J53: 18273.29 | K53: 12.7 | L53: =K53-N53 -> -0.5 | M53: 24199.03 | N53: 13.2 | O53: =N53-Q53 -> 0.6 | P53: 27936 | Q53: 12.6 | R53: =Q53-T53 -> -0.084987698 | S53: 30985.965 | T53: =IF(ROUND(S51,0)=0,"",ROUND(S53,0)/ROUND(S51,0)*100) -> 12.684988
C54: 三次以下下請 | D54: ='2-6-1'!W375 -> 4898.0157 | E54: ='2-6-1'!X375 -> 3.3738583 | F54: =E54-H54 -> 0.36252568 | G54: 5282.0486 | H54: 3.0113326 | I54: =H54-K54 -> 0.8113326 | J54: 3138.13 | K54: 2.2 | L54: =K54-N54 -> -0.8 | M54: 5574.81 | N54: 3 | O54: =N54-Q54 -> 0.7 | P54: 5142 | Q54: 2.3 | R54: =Q54-T54 -> -0.91812071 | S54: 7861.4229 | T54: =IF(ROUND(S51,0)=0,"",ROUND(S54,0)/ROUND(S51,0)*100) -> 3.2181207
N55: （注） | O55: 1. 各欄の小計は、下請0％を加えた総数である
O56: 2. ( )の数値は各合計を100とした場合の構成比
O57: ='2-6-1'!Q378 -> 3．無効回答企業 317社を除く
