Workbook
Name ______________________ＴＢＬ１: [1]CSS編集画面!$B$10:$F$22
Name ______________________ＴＢＬ２: [1]CSS編集画面!$B$24:$I$35
Name _____________________ＴＢＬ１: [1]CSS編集画面!$B$10:$F$22
Name _____________________ＴＢＬ２: [1]CSS編集画面!$B$24:$I$35
Name ____________________ＴＢＬ１: [1]CSS編集画面!$B$10:$F$22
Name ____________________ＴＢＬ２: [1]CSS編集画面!$B$24:$I$35
Name ___________________ＴＢＬ１: [1]CSS編集画面!$B$10:$F$22
Name ___________________ＴＢＬ２: [1]CSS編集画面!$B$24:$I$35
Name __________________ＴＢＬ１: [1]CSS編集画面!$B$10:$F$22
Name __________________ＴＢＬ２: [1]CSS編集画面!$B$24:$I$35
Name _________________ＴＢＬ１: [1]CSS編集画面!$B$10:$F$22
Name _________________ＴＢＬ２: [1]CSS編集画面!$B$24:$I$35
Name ________________ＴＢＬ１: [1]CSS編集画面!$B$10:$F$22
Name ________________ＴＢＬ２: [1]CSS編集画面!$B$24:$I$35
Name _______________ＴＢＬ１: [1]CSS編集画面!$B$10:$F$22
Name _______________ＴＢＬ２: [1]CSS編集画面!$B$24:$I$35
Name ______________ＴＢＬ１: [1]CSS編集画面!$B$10:$F$22
Name ______________ＴＢＬ２: [1]CSS編集画面!$B$24:$I$35
Name _____________ＴＢＬ１: [1]CSS編集画面!$B$10:$F$22
Name _____________ＴＢＬ２: [1]CSS編集画面!$B$24:$I$35
Name ____________ＴＢＬ１: [1]CSS編集画面!$B$10:$F$22
Name ____________ＴＢＬ２: [1]CSS編集画面!$B$24:$I$35
Name ___________ＴＢＬ１: [1]CSS編集画面!$B$10:$F$22
Name ___________ＴＢＬ２: [1]CSS編集画面!$B$24:$I$35
Name __________ＴＢＬ１: [1]CSS編集画面!$B$10:$F$22
Name __________ＴＢＬ２: [1]CSS編集画面!$B$24:$I$35
Name _________ＴＢＬ１: [1]CSS編集画面!$B$10:$F$22
Name _________ＴＢＬ２: [1]CSS編集画面!$B$24:$I$35
Name ________ＴＢＬ１: [1]CSS編集画面!$B$10:$F$22
Name ________ＴＢＬ２: [1]CSS編集画面!$B$24:$I$35
Name _______ＴＢＬ１: [1]CSS編集画面!$B$10:$F$22
Name _______ＴＢＬ２: [1]CSS編集画面!$B$24:$I$35
Name ______ＴＢＬ１: [1]CSS編集画面!$B$10:$F$22
Name ______ＴＢＬ２: [1]CSS編集画面!$B$24:$I$35
Name _____ＴＢＬ１: [1]CSS編集画面!$B$10:$F$22
Name _____ＴＢＬ２: [1]CSS編集画面!$B$24:$I$35
Name ____ＴＢＬ１: [1]CSS編集画面!$B$10:$F$22
Name ____ＴＢＬ２: [1]CSS編集画面!$B$24:$I$35
Name ___ＴＢＬ１: [1]CSS編集画面!$B$10:$F$22
Name ___ＴＢＬ２: [1]CSS編集画面!$B$24:$I$35
Name __ＴＢＬ１: [1]CSS編集画面!$B$10:$F$22
Name __ＴＢＬ２: [1]CSS編集画面!$B$24:$I$35
Name _ＴＢＬ１: [1]CSS編集画面!$B$10:$F$22
Name _ＴＢＬ２: [1]CSS編集画面!$B$24:$I$35
Name PAGE1: #REF!
Name PAGE10: #REF!
Name PAGE100: #REF!
Name PAGE1000: #REF!
Name PAGE1001: #REF!
Name PAGE1002: #REF!
Name PAGE1003: #REF!
Name PAGE1004: #REF!
Name PAGE1005: #REF!
Name PAGE1006: #REF!
Name PAGE1007: #REF!
Name PAGE1008: #REF!
Name PAGE1009: #REF!
Name PAGE101: #REF!
Name PAGE1010: #REF!
Name PAGE1011: #REF!

Sheet 2-12-1
A1: 表2－12－1 総工事件数に占める原価割れ工事件数の比率
W3: （単位：社、％）
C4: 資本金 | D4: 個 人 | F4: 法 人 | V4: 合 計
A5: 業種 | C5: 原価割れ比率 | F5: 500万円未満 | H5: 500万円以上 1000万円未満 | J5: 1000万円以上 3000万円未満 | L5: 3000万円以上 5000万円未満 | N5: 5000万円以上 1億円未満 | P5: 1億円以上 3億円未満 | R5: 3億円以上 10億円未満 | T5: 10億円以上
A6: 一般土木建築 | B6: 一般土木 建築工事業 | C6: 0% | D6: 36 | E6: 100 | F6: 89.666667 | G6: 40 | H6: 189 | I6: 63.636364 | J6: 636.39437 | K6: 45.714286 | L6: 290.07692 | M6: 35.064935 | N6: 179.62025 | O6: 38.461538 | P6: 26.6 | Q6: 28 | R6: 8.8421053 | S6: 36.842105 | T6: 7.3529412 | U6: 14.705882 | V6: 1463.5533 | W6: 42.887399
C7: 0%超 10%以下 | F7: 89.666667 | G7: 40 | H7: 54 | I7: 18.181818 | J7: 596.61972 | K7: 42.857143 | L7: 419 | M7: 50.649351 | N7: 257.4557 | O7: 55.128205 | P7: 62.7 | Q7: 66 | R7: 13.894737 | S7: 57.894737 | T7: 38.235294 | U7: 76.470588 | V7: 1531.5721 | W7: 44.880597
C8: 10%超 20%以下 | F8: 44.833333 | G8: 20 | H8: 54 | I8: 18.181818 | J8: 99.43662 | K8: 7.1428571 | L8: 85.948718 | M8: 10.38961 | N8: 23.949367 | O8: 5.1282051 | P8: 5.7 | Q8: 6 | R8: 1.2631579 | S8: 5.2631579 | T8: 2.9411765 | U8: 5.8823529 | V8: 318.07237 | W8: 9.3206699
C9: 20%超 30%以下 | J9: 39.774648 | K9: 2.8571429 | L9: 10.74359 | M9: 1.2987013 | V9: 50.518238 | W9: 1.4803669
C10: 30%超 40%以下 | L10: 10.74359 | M10: 1.2987013 | N10: 5.9873418 | O10: 1.2820513 | T10: 1.4705882 | U10: 2.9411765 | V10: 18.20152 | W10: 0.5333703
C11: 40%超 | J11: 19.887324 | K11: 1.4285714 | L11: 10.74359 | M11: 1.2987013 | V11: 30.630914 | W11: 0.89759646
C12: 小 計 | D12: 36 | E12: 100 | F12: 224.16667 | G12: 100 | H12: 297 | I12: 100 | J12: 1392.1127 | K12: 100 | L12: 827.25641 | M12: 100 | N12: 467.01266 | O12: 100 | P12: 95 | Q12: 100 | R12: 24 | S12: 100 | T12: 50 | U12: 100 | V12: 3412.5484 | W12: 100
A13: 土 木 | B13: 土木工事業 | C13: 0% | D13: 998.64286 | E13: 78.571429 | F13: 2754.5862 | G13: 65.384615 | H13: 1811.2 | I13: 40 | J13: 5217.6124 | K13: 47.2 | L13: 1816.2439 | M13: 52.5 | N13: 403.8125 | O13: 41.935484 | P13: 18.913043 | Q13: 21.73913 | R13: 1.0909091 | S13: 10 | T13: 5.3333333 | U13: 33.333333 | V13: 13027.435 | W13: 50.883412
C14: 0%超 10%以下 | D14: 90.785714 | E14: 7.1428571 | F14: 1053.2241 | G14: 25 | H14: 2587.4286 | I14: 57.142857 | J14: 3979.5349 | K14: 36 | L14: 1354.9756 | M14: 39.166667 | N14: 455.58333 | O14: 47.311828 | P14: 52.956522 | Q14: 60.869565 | R14: 9.8181818 | S14: 90 | T14: 8 | U14: 50 | V14: 9592.307 | W14: 37.466263
C15: 10%超 20%以下 | D15: 90.785714 | E15: 7.1428571 | F15: 324.06897 | G15: 7.6923077 | H15: 129.37143 | I15: 2.8571429 | J15: 1149.6434 | K15: 10.4 | L15: 201.80488 | M15: 5.8333333 | N15: 31.0625 | O15: 3.2258065 | P15: 11.347826 | Q15: 13.043478 | V15: 1938.0847 | W15: 7.5698986
C16: 20%超 30%以下 | F16: 81.017241 | G16: 1.9230769 | J16: 530.60465 | K16: 4.8 | L16: 57.658537 | M16: 1.6666667 | N16: 62.125 | O16: 6.4516129 | T16: 2.6666667 | U16: 16.666667 | V16: 734.0721 | W16: 2.867187
C17: 30%超 40%以下 | J17: 88.434109 | K17: 0.8 | L17: 28.829268 | M17: 0.83333333 | P17: 3.7826087 | Q17: 4.3478261 | V17: 121.04599 | W17: 0.47278936
C18: 40%超 | D18: 90.785714 | E18: 7.1428571 | J18: 88.434109 | K18: 0.8 | N18: 10.354167 | O18: 1.0752688 | V18: 189.57399 | W18: 0.74045054
C19: 小 計 | D19: 1271 | E19: 100 | F19: 4212.8966 | G19: 100 | H19: 4528 | I19: 100 | J19: 11054.264 | K19: 100 | L19: 3459.5122 | M19: 100 | N19: 962.9375 | O19: 100 | P19: 87 | Q19: 100 | R19: 10.909091 | S19: 100 | T19: 16 | U19: 100 | V19: 25602.519 | W19: 100
B20: ほ装工事業 | C20: 0% | D20: 41.333333 | E20: 85.714286 | F20: 418.16667 | G20: 59.090909 | H20: 265 | I20: 54.545455 | J20: 345.13208 | K20: 32.692308 | L20: 105.09722 | M20: 32.857143 | N20: 24.37037 | O20: 25.925926 | V20: 1199.0997 | W20: 43.918537
C21: 0%超 10%以下 | F21: 257.33333 | G21: 36.363636 | H21: 176.66667 | I21: 36.363636 | J21: 629.35849 | K21: 59.615385 | L21: 169.06944 | M21: 52.857143 | N21: 55.703704 | O21: 59.259259 | P21: 10 | Q21: 66.666667 | R21: 4 | S21: 100 | V21: 1302.1316 | W21: 47.692213
C22: 10%超 20%以下 | D22: 6.8888889 | E22: 14.285714 | F22: 32.166667 | G22: 4.5454545 | H22: 22.083333 | I22: 4.5454545 | J22: 60.90566 | K22: 5.7692308 | L22: 36.555556 | M22: 11.428571 | N22: 13.925926 | O22: 14.814815 | P22: 5 | Q22: 33.333333 | V22: 177.52603 | W22: 6.5021147
C23: 20%超 30%以下 | H23: 22.083333 | I23: 4.5454545 | L23: 4.5694444 | M23: 1.4285714 | V23: 26.652778 | W23: 0.97619159
C24: 30%超 40%以下 | J24: 20.301887 | K24: 1.9230769 | L24: 4.5694444 | M24: 1.4285714 | V24: 24.871331 | W24: 0.91094386
C25: 40%超
C26: 小 計 | D26: 48.222222 | E26: 100 | F26: 707.66667 | G26: 100 | H26: 485.83333 | I26: 100 | J26: 1055.6981 | K26: 100 | L26: 319.86111 | M26: 100 | N26: 94 | O26: 100 | P26: 15 | Q26: 100 | R26: 4 | S26: 100 | V26: 2730.2814 | W26: 100
B27: しゅんせつ 工事業 | C27: 0% | F27: 77 | G27: 100 | L27: 7.6666667 | M27: 33.333333 | V27: 84.666667 | W27: 77.675841
C28: 0%超 10%以下 | L28: 7.6666667 | M28: 33.333333 | N28: 4.5 | O28: 50 | V28: 12.166667 | W28: 11.16208
C29: 10%超 20%以下 | L29: 7.6666667 | M29: 33.333333 | N29: 4.5 | O29: 50 | V29: 12.166667 | W29: 11.16208
C30: 20%超 30%以下
C31: 30%超 40%以下
C32: 40%超
C33: 小 計 | F33: 77 | G33: 100 | L33: 23 | M33: 100 | N33: 9 | O33: 100 | V33: 109 | W33: 100
B34: 造園工事業 | C34: 0% | D34: 38 | E34: 100 | F34: 195 | G34: 57.142857 | H34: 224 | I34: 66.666667 | J34: 428.3871 | K34: 64.516129 | L34: 68.75 | M34: 42.307692 | N34: 9.25 | O34: 26.666667 | V34: 963.3871 | W34: 61.034225
C35: 0%超 10%以下 | F35: 146.25 | G35: 42.857143 | H35: 56 | I35: 16.666667 | J35: 235.6129 | K35: 35.483871 | L35: 81.25 | M35: 50 | N35: 16.1875 | O35: 46.666667 | P35: 2 | Q35: 100 | V35: 537.3004 | W35: 34.040018
C36: 10%超 20%以下 | H36: 56 | I36: 16.666667 | L36: 6.25 | M36: 3.8461538 | N36: 9.25 | O36: 26.666667 | V36: 71.5 | W36: 4.5297961
C37: 20%超 30%以下 | L37: 6.25 | M37: 3.8461538 | V37: 6.25 | W37: 0.3959612
C38: 30%超 40%以下
C39: 40%超
C40: 小 計 | D40: 38 | E40: 100 | F40: 341.25 | G40: 100 | H40: 336 | I40: 100 | J40: 664 | K40: 100 | L40: 162.5 | M40: 100 | N40: 34.6875 | O40: 100 | P40: 2 | Q40: 100 | V40: 1578.4375 | W40: 100
B41: 水道施設 工事業 | C41: 0% | D41: 207 | E41: 100 | F41: 182 | G41: 70 | H41: 158.57143 | I41: 46.153846 | J41: 243.02703 | K41: 44.444444 | L41: 49.6 | M41: 42.857143 | N41: 24 | O41: 60 | V41: 864.19846 | W41: 57.113843
...

Sheet 2-12-2
A1: 表2－12－2 総工事件数に占める原価割れ工事件数の比率（経年変化）
L3: （単位：％）
B4: 資本金 | C4: 個 人 | D4: 法 人 | L4: 合計
A5: 年度 | B5: 原価割れ比率 | D5: 500万円未満 | E5: 500万円以上 1000万円未満 | F5: 1000万円以上 3000万円未満 | G5: 3000万円以上 5000万円未満 | H5: 5000万円以上 1億円未満 | I5: 1億円以上 3億円未満 | J5: 3億円以上 10億円未満 | K5: 10億円以上
A6: R01 年度 | B6: 0% | C6: =IF('2-12-1'!E258<>"",'2-12-1'!E258," ") -> 69.742317 | D6: =IF('2-12-1'!G258<>"",'2-12-1'!G258," ") -> 59.178041 | E6: =IF('2-12-1'!I258<>"",'2-12-1'!I258," ") -> 51.732814 | F6: =IF('2-12-1'!K258<>"",'2-12-1'!K258," ") -> 46.086609 | G6: =IF('2-12-1'!M258<>"",'2-12-1'!M258," ") -> 47.158601 | H6: =IF('2-12-1'!O258<>"",'2-12-1'!O258," ") -> 41.14967 | I6: =IF('2-12-1'!Q258<>"",'2-12-1'!Q258," ") -> 25.646987 | J6: =IF('2-12-1'!S258<>"",'2-12-1'!S258," ") -> 26.162083 | K6: =IF('2-12-1'!U258<>"",'2-12-1'!U258," ") -> 15.000063 | L6: =IF('2-12-1'!W258<>"",'2-12-1'!W258," ") -> 53.018965
B7: 0%超 10%以下 | C7: =IF('2-12-1'!E259<>"",'2-12-1'!E259," ") -> 25.988883 | D7: =IF('2-12-1'!G259<>"",'2-12-1'!G259," ") -> 32.720628 | E7: =IF('2-12-1'!I259<>"",'2-12-1'!I259," ") -> 40.369836 | F7: =IF('2-12-1'!K259<>"",'2-12-1'!K259," ") -> 44.385791 | G7: =IF('2-12-1'!M259<>"",'2-12-1'!M259," ") -> 45.338661 | H7: =IF('2-12-1'!O259<>"",'2-12-1'!O259," ") -> 51.77246 | I7: =IF('2-12-1'!Q259<>"",'2-12-1'!Q259," ") -> 66.420978 | J7: =IF('2-12-1'!S259<>"",'2-12-1'!S259," ") -> 64.83536 | K7: =IF('2-12-1'!U259<>"",'2-12-1'!U259," ") -> 76.787731 | L7: =IF('2-12-1'!W259<>"",'2-12-1'!W259," ") -> 38.936543
B8: 10%超 20%以下 | C8: =IF('2-12-1'!E260<>"",'2-12-1'!E260," ") -> 2.5212763 | D8: =IF('2-12-1'!G260<>"",'2-12-1'!G260," ") -> 6.6989887 | E8: =IF('2-12-1'!I260<>"",'2-12-1'!I260," ") -> 5.5467165 | F8: =IF('2-12-1'!K260<>"",'2-12-1'!K260," ") -> 6.4473357 | G8: =IF('2-12-1'!M260<>"",'2-12-1'!M260," ") -> 5.4380712 | H8: =IF('2-12-1'!O260<>"",'2-12-1'!O260," ") -> 4.0750223 | I8: =IF('2-12-1'!Q260<>"",'2-12-1'!Q260," ") -> 7.2832177 | J8: =IF('2-12-1'!S260<>"",'2-12-1'!S260," ") -> 6.8919343 | K8: =IF('2-12-1'!U260<>"",'2-12-1'!U260," ") -> 2.6778448 | L8: =IF('2-12-1'!W260<>"",'2-12-1'!W260," ") -> 5.7499832
B9: 20%超 30%以下 | C9: =IF('2-12-1'!E261<>"",'2-12-1'!E261," ") -> 0.26546396 | D9: =IF('2-12-1'!G261<>"",'2-12-1'!G261," ") -> 0.88718437 | E9: =IF('2-12-1'!I261<>"",'2-12-1'!I261," ") -> 2.0234012 | F9: =IF('2-12-1'!K261<>"",'2-12-1'!K261," ") -> 2.2375458 | G9: =IF('2-12-1'!M261<>"",'2-12-1'!M261," ") -> 1.2723252 | H9: =IF('2-12-1'!O261<>"",'2-12-1'!O261," ") -> 1.9766983 | I9: =IF('2-12-1'!Q261<>"",'2-12-1'!Q261," ") | J9: =IF('2-12-1'!S261<>"",'2-12-1'!S261," ") -> 2.1106222 | K9: =IF('2-12-1'!U261<>"",'2-12-1'!U261," ") -> 1.6705821 | L9: =IF('2-12-1'!W261<>"",'2-12-1'!W261," ") -> 1.543155
B10: 30%超 40%以下 | C10: =IF('2-12-1'!E262<>"",'2-12-1'!E262," ") -> 0.029709956 | D10: =IF('2-12-1'!G262<>"",'2-12-1'!G262," ") -> 0.19871593 | E10: =IF('2-12-1'!I262<>"",'2-12-1'!I262," ") -> 0.0096650841 | F10: =IF('2-12-1'!K262<>"",'2-12-1'!K262," ") -> 0.52690869 | G10: =IF('2-12-1'!M262<>"",'2-12-1'!M262," ") -> 0.63929563 | H10: =IF('2-12-1'!O262<>"",'2-12-1'!O262," ") -> 0.57204644 | I10: =IF('2-12-1'!Q262<>"",'2-12-1'!Q262," ") -> 0.64881796 | J10: =IF('2-12-1'!S262<>"",'2-12-1'!S262," ") | K10: =IF('2-12-1'!U262<>"",'2-12-1'!U262," ") -> 1.7565679 | L10: =IF('2-12-1'!W262<>"",'2-12-1'!W262," ") -> 0.30483155
B11: 40%超 | C11: =IF('2-12-1'!E263<>"",'2-12-1'!E263," ") -> 1.4523503 | D11: =IF('2-12-1'!G263<>"",'2-12-1'!G263," ") -> 0.31644179 | E11: =IF('2-12-1'!I263<>"",'2-12-1'!I263," ") -> 0.31756676 | F11: =IF('2-12-1'!K263<>"",'2-12-1'!K263," ") -> 0.31580977 | G11: =IF('2-12-1'!M263<>"",'2-12-1'!M263," ") -> 0.15304602 | H11: =IF('2-12-1'!O263<>"",'2-12-1'!O263," ") -> 0.45410288 | I11: =IF('2-12-1'!Q263<>"",'2-12-1'!Q263," ") | J11: =IF('2-12-1'!S263<>"",'2-12-1'!S263," ") | K11: =IF('2-12-1'!U263<>"",'2-12-1'!U263," ") -> 2.1072115 | L11: =IF('2-12-1'!W263<>"",'2-12-1'!W263," ") -> 0.44652175
A12: 増減 | B12: 0% | C12: =IF(OR(C6=" ",C18=" "),"",C6-C18) -> 5.8525678 | D12: =IF(OR(D6=" ",D18=" "),"",D6-D18) -> 12.381886 | E12: =IF(OR(E6=" ",E18=" "),"",E6-E18) -> 6.146678 | F12: =IF(OR(F6=" ",F18=" "),"",F6-F18) -> 10.751498 | G12: =IF(OR(G6=" ",G18=" "),"",G6-G18) -> 10.336012 | H12: =IF(OR(H6=" ",H18=" "),"",H6-H18) -> 7.9679003 | I12: =IF(OR(I6=" ",I18=" "),"",I6-I18) -> 3.2647619 | J12: =IF(OR(J6=" ",J18=" "),"",J6-J18) -> 9.5212657 | ... L12: =IF(OR(L6=" ",L18=" "),"",L6-L18) -> 8.8726727
B13: 0%超 10%以下 | C13: =IF(OR(C7=" ",C19=" "),"",C7-C19) -> -2.7187536 | D13: =IF(OR(D7=" ",D19=" "),"",D7-D19) -> -7.7340604 | E13: =IF(OR(E7=" ",E19=" "),"",E7-E19) -> 0.036431043 | F13: =IF(OR(F7=" ",F19=" "),"",F7-F19) -> -5.2796407 | G13: =IF(OR(G7=" ",G19=" "),"",G7-G19) -> -0.18599854 | H13: =IF(OR(H7=" ",H19=" "),"",H7-H19) -> -1.1898045 | I13: =IF(OR(I7=" ",I19=" "),"",I7-I19) -> 0.67307023 | J13: =IF(OR(J7=" ",J19=" "),"",J7-J19) -> -8.6016375 | ... L13: =IF(OR(L7=" ",L19=" "),"",L7-L19) -> -3.6917936
B14: 10%超 20%以下 | C14: =IF(OR(C8=" ",C20=" "),"",C8-C20) -> -2.3193099 | D14: =IF(OR(D8=" ",D20=" "),"",D8-D20) -> -1.0564717 | E14: =IF(OR(E8=" ",E20=" "),"",E8-E20) -> -3.787507 | F14: =IF(OR(F8=" ",F20=" "),"",F8-F20) -> -3.6354934 | G14: =IF(OR(G8=" ",G20=" "),"",G8-G20) -> -5.8937474 | H14: =IF(OR(H8=" ",H20=" "),"",H8-H20) -> -4.828993 | I14: =IF(OR(I8=" ",I20=" "),"",I8-I20) -> -2.5318124 | J14: =IF(OR(J8=" ",J20=" "),"",J8-J20) -> 1.319905 | ... L14: =IF(OR(L8=" ",L20=" "),"",L8-L20) -> -2.8699705
B15: 20%超 30%以下 | C15: =IF(OR(C9=" ",C21=" "),"",C9-C21) -> -2.0863265 | D15: =IF(OR(D9=" ",D21=" "),"",D9-D21) -> -2.6949946 | E15: =IF(OR(E9=" ",E21=" "),"",E9-E21) -> -0.7675735 | F15: =IF(OR(F9=" ",F21=" "),"",F9-F21) -> -0.79343273 | G15: =IF(OR(G9=" ",G21=" "),"",G9-G21) -> -2.4903522 | H15: =IF(OR(H9=" ",H21=" "),"",H9-H21) -> -1.9440541 | I15: =IF(OR(I9=" ",I21=" "),"",I9-I21) | J15: =IF(OR(J9=" ",J21=" "),"",J9-J21) -> -0.60822492 | ... L15: =IF(OR(L9=" ",L21=" "),"",L9-L21) -> -1.5380171
B16: 30%超 40%以下 | C16: =IF(OR(C10=" ",C22=" "),"",C10-C22) -> -0.087213518 | D16: =IF(OR(D10=" ",D22=" "),"",D10-D22) -> -0.58573914 | E16: =IF(OR(E10=" ",E22=" "),"",E10-E22) -> -0.77603772 | F16: =IF(OR(F10=" ",F22=" "),"",F10-F22) -> -0.78242086 | G16: =IF(OR(G10=" ",G22=" "),"",G10-G22) -> -0.58894061 | H16: =IF(OR(H10=" ",H22=" "),"",H10-H22) -> 0.099313428 | I16: =IF(OR(I10=" ",I22=" "),"",I10-I22) | J16: =IF(OR(J10=" ",J22=" "),"",J10-J22) | ... L16: =IF(OR(L10=" ",L22=" "),"",L10-L22) -> -0.58088185
B17: 40%超 | C17: =IF(OR(C11=" ",C23=" "),"",C11-C23) -> 1.3590357 | D17: =IF(OR(D11=" ",D23=" "),"",D11-D23) -> -0.31062057 | E17: =IF(OR(E11=" ",E23=" "),"",E11-E23) -> -0.85199085 | F17: =IF(OR(F11=" ",F23=" "),"",F11-F23) -> -0.26051079 | G17: =IF(OR(G11=" ",G23=" "),"",G11-G23) -> -1.1769734 | H17: =IF(OR(H11=" ",H23=" "),"",H11-H23) -> -0.10436211 | I17: =IF(OR(I11=" ",I23=" "),"",I11-I23) | J17: =IF(OR(J11=" ",J23=" "),"",J11-J23) | ... L17: =IF(OR(L11=" ",L23=" "),"",L11-L23) -> -0.19200971
A18: H26 年度 | B18: 0% | C18: 63.889749 | D18: 46.796154 | E18: 45.586136 | F18: 35.335111 | G18: 36.822589 | H18: 33.18177 | I18: 22.382225 | J18: 16.640818 | K18: 4.7984891 | L18: 44.146293
B19: 0%超 10%以下 | C19: 28.707636 | D19: 40.454689 | E19: 40.333405 | F19: 49.665431 | G19: 45.524659 | H19: 52.962264 | I19: 65.747907 | J19: 73.436998 | K19: 74.080967 | L19: 42.628337
B20: 10%超 20%以下 | C20: 4.8405862 | D20: 7.7554604 | E20: 9.3342235 | F20: 10.082829 | G20: 11.331819 | H20: 8.9040153 | I20: 9.8150301 | J20: 5.5720294 | K20: 18.149769 | L20: 8.6199537
B21: 20%超 30%以下 | C21: 2.3517904 | D21: 3.5821789 | E21: 2.7909747 | F21: 3.0309785 | G21: 3.7626774 | H21: 3.9207524 | I21: 2.0548377 | J21: 2.7188471 | K21: 2.5934059 | L21: 3.081172
B22: 30%超 40%以下 | C22: 0.11692347 | D22: 0.78445506 | E22: 0.7857028 | F22: 1.3093296 | G22: 1.2282362 | H22: 0.47273301 | J22: 1.6313083 | L22: 0.8857134
B23: 40%超 | C23: 0.093314627 | D23: 0.62706236 | E23: 1.1695576 | F23: 0.57632056 | G23: 1.3300194 | H23: 0.55846499 | K23: 0.37736866 | L23: 0.63853145
A24: 増減 | B24: 0% | C24: =IF(OR(C18=" ",C30=" "),"",C18-C30) -> 12.789749 | D24: =IF(OR(D18=" ",D30=" "),"",D18-D30) -> 13.096154 | E24: =IF(OR(E18=" ",E30=" "),"",E18-E30) -> 15.286136 | F24: =IF(OR(F18=" ",F30=" "),"",F18-F30) -> 7.235111 | G24: =IF(OR(G18=" ",G30=" "),"",G18-G30) -> 13.022589 | H24: =IF(OR(H18=" ",H30=" "),"",H18-H30) -> 6.38177 | I24: =IF(OR(I18=" ",I30=" "),"",I18-I30) -> -6.9177753 | J24: =IF(OR(J18=" ",J30=" "),"",J18-J30) -> 3.9408175 | ... L24: =IF(OR(L18=" ",L30=" "),"",L18-L30) -> 10.946293
B25: 0%超 10%以下 | C25: =IF(OR(C19=" ",C31=" "),"",C19-C31) -> -7.0923639 | D25: =IF(OR(D19=" ",D31=" "),"",D19-D31) -> 2.0546888 | E25: =IF(OR(E19=" ",E31=" "),"",E19-E31) -> -3.266595 | F25: =IF(OR(F19=" ",F31=" "),"",F19-F31) -> 5.1654313 | G25: =IF(OR(G19=" ",G31=" "),"",G19-G31) -> -5.7753406 | H25: =IF(OR(H19=" ",H31=" "),"",H19-H31) -> 2.6622643 | I25: =IF(OR(I19=" ",I31=" "),"",I19-I31) -> 6.4479074 | J25: =IF(OR(J19=" ",J31=" "),"",J19-J31) -> 0.53699775 | ... L25: =IF(OR(L19=" ",L31=" "),"",L19-L31) -> 0.42833683
B26: 10%超 20%以下 | C26: =IF(OR(C20=" ",C32=" "),"",C20-C32) -> -1.6594138 | D26: =IF(OR(D20=" ",D32=" "),"",D20-D32) -> -7.0445396 | E26: =IF(OR(E20=" ",E32=" "),"",E20-E32) -> -3.9657765 | F26: =IF(OR(F20=" ",F32=" "),"",F20-F32) -> -5.6171709 | G26: =IF(OR(G20=" ",G32=" "),"",G20-G32) -> -3.2681814 | H26: =IF(OR(H20=" ",H32=" "),"",H20-H32) -> -5.9959847 | I26: =IF(OR(I20=" ",I32=" "),"",I20-I32) -> 2.6150301 | J26: =IF(OR(J20=" ",J32=" "),"",J20-J32) -> -7.6279706 | ... L26: =IF(OR(L20=" ",L32=" "),"",L20-L32) -> -4.8800463
B27: 20%超 30%以下 | C27: =IF(OR(C21=" ",C33=" "),"",C21-C33) -> -0.54820958 | D27: =IF(OR(D21=" ",D33=" "),"",D21-D33) -> -3.7178211 | E27: =IF(OR(E21=" ",E33=" "),"",E21-E33) -> -4.8090253 | F27: =IF(OR(F21=" ",F33=" "),"",F21-F33) -> -3.1690215 | G27: =IF(OR(G21=" ",G33=" "),"",G21-G33) -> -1.5373226 | H27: =IF(OR(H21=" ",H33=" "),"",H21-H33) -> -0.87924756 | I27: =IF(OR(I21=" ",I33=" "),"",I21-I33) -> -1.1451623 | J27: =IF(OR(J21=" ",J33=" "),"",J21-J33) | ... L27: =IF(OR(L21=" ",L33=" "),"",L21-L33) -> -2.918828
B28: 30%超 40%以下 | C28: =IF(OR(C22=" ",C34=" "),"",C22-C34) -> -1.0830765 | D28: =IF(OR(D22=" ",D34=" "),"",D22-D34) -> -1.7155449 | E28: =IF(OR(E22=" ",E34=" "),"",E22-E34) -> -1.8142972 | F28: =IF(OR(F22=" ",F34=" "),"",F22-F34) -> -1.1906704 | G28: =IF(OR(G22=" ",G34=" "),"",G22-G34) -> -0.97176377 | H28: =IF(OR(H22=" ",H34=" "),"",H22-H34) -> -1.627267 | I28: =IF(OR(I22=" ",I34=" "),"",I22-I34) | J28: =IF(OR(J22=" ",J34=" "),"",J22-J34) -> 0.43130826 | ... L28: =IF(OR(L22=" ",L34=" "),"",L22-L34) -> -1.4142866
B29: 40%超 | C29: =IF(OR(C23=" ",C35=" "),"",C23-C35) -> -2.4066854 | D29: =IF(OR(D23=" ",D35=" "),"",D23-D35) -> -2.6729376 | E29: =IF(OR(E23=" ",E35=" "),"",E23-E35) -> -1.4304424 | F29: =IF(OR(F23=" ",F35=" "),"",F23-F35) -> -2.4236794 | G29: =IF(OR(G23=" ",G35=" "),"",G23-G35) -> -1.4699806 | H29: =IF(OR(H23=" ",H35=" "),"",H23-H35) -> -0.54153501 | I29: =IF(OR(I23=" ",I35=" "),"",I23-I35) | J29: =IF(OR(J23=" ",J35=" "),"",J23-J35) | ... L29: =IF(OR(L23=" ",L35=" "),"",L23-L35) -> -2.2614685
A30: H23 年度 | B30: 0% | C30: 51.1 | D30: 33.7 | E30: 30.3 | F30: 28.1 | G30: 23.8 | H30: 26.8 | I30: 29.3 | J30: 12.7 | K30: 1.7 | L30: 33.2
B31: 0%超 10%以下 | C31: 35.8 | D31: 38.4 | E31: 43.6 | F31: 44.5 | G31: 51.3 | H31: 50.3 | I31: 59.3 | J31: 72.9 | K31: 80 | L31: 42.2
B32: 10%超 20%以下 | C32: 6.5 | D32: 14.8 | E32: 13.3 | F32: 15.7 | G32: 14.6 | H32: 14.9 | I32: 7.2 | J32: 13.2 | K32: 13.5 | L32: 13.5
B33: 20%超 30%以下 | C33: 2.9 | D33: 7.3 | E33: 7.6 | F33: 6.2 | G33: 5.3 | H33: 4.8 | I33: 3.2 | K33: 3.9 | L33: 6
B34: 30%超 40%以下 | C34: 1.2 | D34: 2.5 | E34: 2.6 | F34: 2.5 | G34: 2.2 | H34: 2.1 | I34: 1 | J34: 1.2 | K34: 0.8 | L34: 2.3
B35: 40%超 | C35: 2.5 | D35: 3.3 | E35: 2.6 | F35: 3 | G35: 2.8 | H35: 1.1 | L35: 2.9
A36: 増減 | B36: 0% | C36: =IF(OR(C30=" ",C42=" "),"",C30-C42) -> -1.6 | D36: =IF(OR(D30=" ",D42=" "),"",D30-D42) -> 1.3 | E36: =IF(OR(E30=" ",E42=" "),"",E30-E42) -> 0.2 | F36: =IF(OR(F30=" ",F42=" "),"",F30-F42) -> 3.8 | G36: =IF(OR(G30=" ",G42=" "),"",G30-G42) -> 1.8 | H36: =IF(OR(H30=" ",H42=" "),"",H30-H42) -> 4.2 | I36: =IF(OR(I30=" ",I42=" "),"",I30-I42) -> 10.1 | J36: =IF(OR(J30=" ",J42=" "),"",J30-J42) -> -1.3 | ... L36: =IF(OR(L30=" ",L42=" "),"",L30-L42) -> 1.7
B37: 0%超 10%以下 | C37: =IF(OR(C31=" ",C43=" "),"",C31-C43) -> 8.3 | D37: =IF(OR(D31=" ",D43=" "),"",D31-D43) -> -1 | E37: =IF(OR(E31=" ",E43=" "),"",E31-E43) -> 4.7 | F37: =IF(OR(F31=" ",F43=" "),"",F31-F43) -> -1 | G37: =IF(OR(G31=" ",G43=" "),"",G31-G43) -> 4.6 | H37: =IF(OR(H31=" ",H43=" "),"",H31-H43) -> -0.9 | I37: =IF(OR(I31=" ",I43=" "),"",I31-I43) -> -5.5 | J37: =IF(OR(J31=" ",J43=" "),"",J31-J43) -> 6.6 | ... L37: =IF(OR(L31=" ",L43=" "),"",L31-L43) -> 1.6
B38: 10%超 20%以下 | C38: =IF(OR(C32=" ",C44=" "),"",C32-C44) -> -6.9 | D38: =IF(OR(D32=" ",D44=" "),"",D32-D44) -> -1.9 | E38: =IF(OR(E32=" ",E44=" "),"",E32-E44) -> -2.6 | F38: =IF(OR(F32=" ",F44=" "),"",F32-F44) -> -1.4 | G38: =IF(OR(G32=" ",G44=" "),"",G32-G44) -> -2.1 | H38: =IF(OR(H32=" ",H44=" "),"",H32-H44) -> -0.8 | I38: =IF(OR(I32=" ",I44=" "),"",I32-I44) -> -3 | J38: =IF(OR(J32=" ",J44=" "),"",J32-J44) -> -1.9 | ... L38: =IF(OR(L32=" ",L44=" "),"",L32-L44) -> -2.6
B39: 20%超 30%以下 | C39: =IF(OR(C33=" ",C45=" "),"",C33-C45) -> -0.2 | D39: =IF(OR(D33=" ",D45=" "),"",D33-D45) -> 0.8 | E39: =IF(OR(E33=" ",E45=" "),"",E33-E45) -> 0.1 | F39: =IF(OR(F33=" ",F45=" "),"",F33-F45) -> -0.6 | G39: =IF(OR(G33=" ",G45=" "),"",G33-G45) -> -2.3 | H39: =IF(OR(H33=" ",H45=" "),"",H33-H45) -> -0.9 | I39: =IF(OR(I33=" ",I45=" "),"",I33-I45) -> -1.4 | J39: =IF(OR(J33=" ",J45=" "),"",J33-J45) | ... L39: =IF(OR(L33=" ",L45=" "),"",L33-L45) -> -0.2
B40: 30%超 40%以下 | C40: =IF(OR(C34=" ",C46=" "),"",C34-C46) -> 0.2 | D40: =IF(OR(D34=" ",D46=" "),"",D34-D46) -> -0.4 | E40: =IF(OR(E34=" ",E46=" "),"",E34-E46) -> -2 | F40: =IF(OR(F34=" ",F46=" "),"",F34-F46) -> -0.5 | G40: =IF(OR(G34=" ",G46=" "),"",G34-G46) -> -0.7 | H40: =IF(OR(H34=" ",H46=" "),"",H34-H46) -> 0.2 | I40: =IF(OR(I34=" ",I46=" "),"",I34-I46) -> 0.2 | J40: =IF(OR(J34=" ",J46=" "),"",J34-J46) | ... L40: =IF(OR(L34=" ",L46=" "),"",L34-L46) -> -0.5
B41: 40%超 | C41: =IF(OR(C35=" ",C47=" "),"",C35-C47) -> 0.2 | D41: =IF(OR(D35=" ",D47=" "),"",D35-D47) -> 1.2 | E41: =IF(OR(E35=" ",E47=" "),"",E35-E47) -> -0.4 | F41: =IF(OR(F35=" ",F47=" "),"",F35-F47) -> -0.3 | G41: =IF(OR(G35=" ",G47=" "),"",G35-G47) -> -1.2 | H41: =IF(OR(H35=" ",H47=" "),"",H35-H47) -> -1.8 | I41: =IF(OR(I35=" ",I47=" "),"",I35-I47) | J41: =IF(OR(J35=" ",J47=" "),"",J35-J47) | ... L41: =IF(OR(L35=" ",L47=" "),"",L35-L47) -> 0
...

Sheet 2-12-3
A1: 表2－12－3 総工事件数に占める原価割れ工事件数の状況（下請比率、次数別集計）
A3: （概要） | M3: （単位：社、％）
A4: 下請比率、次数 | B4: ０％超 50％未満 | D4: ５０％以上１００％以下 | L4: 合 計
A5: 原価割れ比率 | F5: 一次下請 | H5: 二次下請 | J5: 三次以下下請
A6: 0% | B6: =SUM(H19,P19,X19,H30,P30) -> 17548.219 | C6: =B6/$B$12*100 -> 49.029019 | D6: =SUM(F6,H6,J6) -> 38734.862 | E6: =D6/$D$12*100 -> 49.997689 | F6: =SUM(R30,B41,J41,R41,B52,J52) -> 27453.305 | G6: =F6/$F$12*100 -> 49.918284 | H6: =SUM(T30,D41,L41,T41,D52,L52) -> 8737.7793 | I6: =H6/$H$12*100 -> 48.551447 | J6: =SUM(V30,F41,N41,V41,F52,N52) -> 2543.777 | K6: =J6/$J$12*100 -> 56.782494 | L6: =X52 -> 56283.08 | M6: =L6/$L$12*100 -> 49.691591
A7: 0%超 10%以下 | B7: =SUM(H20,P20,X20,H31,P31) -> 14784.326 | C7: =B7/$B$12*100 -> 41.306816 | D7: =SUM(F7,H7,J7) -> 32440.836 | E7: =D7/$D$12*100 -> 41.873567 | F7: =SUM(R31,B42,J42,R42,B53,J53) -> 23229.617 | G7: =F7/$F$12*100 -> 42.23836 | H7: =SUM(T31,D42,L42,T42,D53,L53) -> 7437.0826 | I7: =H7/$H$12*100 -> 41.32413 | J7: =SUM(V31,F42,N42,V42,F53,N53) -> 1774.1365 | K7: =J7/$J$12*100 -> 39.602487 | L7: =X53 -> 47225.162 | M7: =L7/$L$12*100 -> 41.694475
A8: 10%超 20%以下 | B8: =SUM(H21,P21,X21,H32,P32) -> 2637.7092 | C8: =B8/$B$12*100 -> 7.3696539 | D8: =SUM(F8,H8,J8) -> 4407.8605 | E8: =D8/$D$12*100 -> 5.6895218 | F8: =SUM(R32,B43,J43,R43,B54,J54) -> 2982.4658 | G8: =F8/$F$12*100 -> 5.4230109 | H8: =SUM(T32,D43,L43,T43,D54,L54) -> 1284.8929 | I8: =H8/$H$12*100 -> 7.1395042 | J8: =SUM(V32,F43,N43,V43,F54,N54) -> 140.50173 | K8: =J8/$J$12*100 -> 3.1362963 | L8: =X54 -> 7045.5697 | M8: =L8/$L$12*100 -> 6.2204408
A9: 20%超 30%以下 | B9: =SUM(H22,P22,X22,H33,P33) -> 548.02306 | C9: =B9/$B$12*100 -> 1.5311545 | D9: =SUM(F9,H9,J9) -> 1372.1873 | E9: =D9/$D$12*100 -> 1.7711744 | F9: =SUM(R33,B44,J44,R44,B55,J55) -> 999.35033 | G9: =F9/$F$12*100 -> 1.8171165 | H9: =SUM(T33,D44,L44,T44,D55,L55) -> 372.83696 | I9: =H9/$H$12*100 -> 2.0716676 | J9: =SUM(V33,F44,N44,V44,F55,N55) -> 0 | K9: =J9/$J$12*100 -> 0 | L9: =X55 -> 1920.2103 | M9: =L9/$L$12*100 -> 1.6953285
A10: 30%超 40%以下 | B10: =SUM(H23,P23,X23,H34,P34) -> 118.22654 | C10: =B10/$B$12*100 -> 0.33032021 | D10: =SUM(F10,H10,J10) -> 313.73448 | E10: =D10/$D$12*100 -> 0.40495818 | F10: =SUM(R34,B45,J45,R45,B56,J56) -> 219.1178 | G10: =F10/$F$12*100 -> 0.3984214 | H10: =SUM(T34,D45,L45,T45,D56,L56) -> 75.437195 | I10: =H10/$H$12*100 -> 0.41916657 | J10: =SUM(V34,F45,N45,V45,F56,N56) -> 19.179487 | K10: =J10/$J$12*100 -> 0.4281268 | L10: =X56 -> 431.96102 | M10: =L10/$L$12*100 -> 0.3813727
A11: 40%超 | B11: =SUM(H24,P24,X24,H35,P35) -> 154.99015 | C11: =B11/$B$12*100 -> 0.43303627 | D11: =SUM(F11,H11,J11) -> 203.82378 | E11: =D11/$D$12*100 -> 0.26308905 | F11: =SUM(R35,B46,J46,R46,B57,J57) -> 112.63693 | G11: =F11/$F$12*100 -> 0.20480748 | H11: =SUM(T35,D46,L46,T46,D57,L57) -> 88.920182 | I11: =H11/$H$12*100 -> 0.49408476 | J11: =SUM(V35,F46,N46,V46,F57,N57) -> 2.2666667 | K11: =J11/$J$12*100 -> 0.050596803 | L11: =X57 -> 358.81393 | M11: =L11/$L$12*100 -> 0.3167921
A12: 合 計 | B12: =SUM(B6:B11) -> 35791.494 | C12: =B12/$B$12*100 -> 100 | D12: =SUM(D6:D11) -> 77473.304 | E12: =D12/$D$12*100 -> 100 | F12: =SUM(F6:F11) -> 54996.493 | G12: =F12/$F$12*100 -> 100 | H12: =SUM(H6:H11) -> 17996.949 | I12: =H12/$H$12*100 -> 100 | J12: =SUM(J6:J11) -> 4479.8614 | K12: =J12/$J$12*100 -> 100 | L12: =X58 -> 113264.8 | M12: =L12/$L$12*100 -> 100
F13: （注） | G13: 1. ( )の数値は各合計を100とした場合の構成比
G14: =S60 -> 2．無効回答企業 1,097社を除く
A16: （下請比率別詳細）
A17: 下請比率、次数 | B17: ０％超１０％未満 | J17: １０％以上２０％未満 | R17: ２０％以上３０％未満
A18: 原価割れ比率 | B18: 一次下請 | D18: 二次下請 | F18: 三次以下下請 | H18: 小 計 | J18: 一次下請 | L18: 二次下請 | N18: 三次以下下請 | P18: 小 計 | R18: 一次下請 | T18: 二次下請 | V18: 三次以下下請 | X18: 小 計
A19: 0% | B19: 5049.0006 | C19: 51.242442 | D19: 76.809559 | E19: 63.703651 | F19: 28.829268 | G19: 100 | H19: 5154.6395 | I19: 51.53318 | J19: 3753.1473 | K19: 51.480024 | L19: 317.00839 | M19: 62.002962 | N19: 27.507407 | O19: 100 | P19: 4097.6631 | Q19: 52.337679 | R19: 2633.7263 | S19: 45.358376 | T19: 185.33394 | U19: 46.827086 | X19: 2819.0602 | Y19: 45.452098
A20: 0%超 10%以下 | B20: 3744.5205 | C20: 38.003238 | D20: 42.513686 | E20: 35.259635 | H20: 3787.0342 | I20: 37.860634 | J20: 2788.4409 | K20: 38.247634 | L20: 191.95854 | M20: 37.544742 | P20: 2980.3994 | Q20: 38.067353 | R20: 2558.4299 | S20: 44.061612 | T20: 187.14456 | U20: 47.284563 | X20: 2745.5745 | Y20: 44.267278
A21: 10%超 20%以下 | B21: 807.71902 | C21: 8.1975618 | D21: 1.25 | E21: 1.0367142 | H21: 808.96902 | I21: 8.0876164 | J21: 488.92363 | K21: 6.7063183 | L21: 2.3125 | M21: 0.4522967 | P21: 491.23613 | Q21: 6.2743467 | R21: 500.15604 | S21: 8.6137522 | T21: 23.305128 | U21: 5.8883508 | X21: 523.46116 | Y21: 8.4398368
A22: 20%超 30%以下 | B22: 121.34227 | C22: 1.2315059 | H22: 121.34227 | I22: 1.2131116 | J22: 259.31403 | K22: 3.5568794 | P22: 259.31403 | Q22: 3.312106 | R22: 94.283213 | S22: 1.6237577 | X22: 94.283213 | Y22: 1.5201413
A23: 30%超 40%以下 | B23: 0.66666667 | C23: 0.0067660177 | H23: 0.66666667 | I23: 0.0066649576 | J23: 0.66666667 | K23: 0.0091443296 | P23: 0.66666667 | Q23: 0.0085150451
A24: 40%超 | B24: 129.91261 | C24: 1.3184865 | H24: 129.91261 | I24: 1.298793 | R24: 19.887324 | S24: 0.34250207 | X24: 19.887324 | Y24: 0.32064608
A25: 合 計 | B25: 9853.1617 | C25: 100 | D25: 120.57325 | E25: 100 | F25: 28.829268 | G25: 100 | H25: 10002.564 | I25: 100 | J25: 7290.4925 | K25: 100 | L25: 511.27944 | M25: 100 | N25: 27.507407 | O25: 100 | P25: 7829.2794 | Q25: 100 | R25: 5806.4828 | S25: 100 | T25: 395.78362 | U25: 100 | X25: 6202.2664 | Y25: 100
A28: 下請比率、次数 | B28: ３０％以上４０％未満 | J28: ４０％以上５０％未満 | R28: ５０％以上６０％未満
A29: 原価割れ比率 | B29: 一次下請 | D29: 二次下請 | F29: 三次以下下請 | H29: 小 計 | J29: 一次下請 | L29: 二次下請 | N29: 三次以下下請 | P29: 小 計 | R29: 一次下請 | T29: 二次下請 | V29: 三次以下下請 | X29: 小 計
A30: 0% | B30: 2547.1637 | C30: 44.564554 | D30: 267.6417 | E30: 57.408669 | H30: 2814.8055 | I30: 45.533189 | J30: 2334.6225 | K30: 46.575337 | L30: 312.71953 | M30: 69.595619 | N30: 14.708333 | O30: 12.947776 | P30: 2662.0503 | Q30: 47.745434 | R30: 2407.9012 | S30: 48.706451 | T30: 126.12948 | U30: 32.162133 | V30: 67.548546 | W30: 73.390993 | X30: 2601.5792 | Y30: 47.929688
A31: 0%超 10%以下 | B31: 2444.086 | C31: 42.761131 | D31: 167.39405 | E31: 35.905724 | H31: 2611.48 | I31: 42.244132 | J31: 2458.7309 | K31: 49.05128 | L31: 102.21842 | M31: 22.748673 | N31: 98.889036 | O31: 87.052224 | P31: 2659.8383 | Q31: 47.705761 | R31: 2288.414 | S31: 46.289494 | T31: 250.90007 | U31: 63.977761 | V31: 22.083333 | W31: 23.993377 | X31: 2561.3974 | Y31: 47.189407
A32: 10%超 20%以下 | B32: 562.55891 | C32: 9.8423931 | D32: 31.16859 | E32: 6.6856069 | H32: 593.7275 | I32: 9.604325 | J32: 185.91543 | K32: 3.7089825 | L32: 34.4 | M32: 7.6557077 | P32: 220.31543 | Q32: 3.9514865 | R32: 161.8157 | S32: 3.2731694 | T32: 15.138085 | U32: 3.8601057 | V32: 2.4074074 | W32: 2.6156302 | X32: 179.36119 | Y32: 3.304426
A33: 20%超 30%以下 | B33: 53.04989 | C33: 0.9281479 | H33: 53.04989 | I33: 0.85815191 | J33: 20.033662 | K33: 0.39966829 | P33: 20.033662 | Q33: 0.35931548 | R33: 49.279268 | S33: 0.9968093 | X33: 49.279268 | Y33: 0.90788701
A34: 30%超 40%以下 | B34: 103.6233 | C34: 1.8129679 | H34: 103.6233 | I34: 1.6762434 | J34: 13.269906 | K34: 0.26473245 | P34: 13.269906 | Q34: 0.23800354 | R34: 36.290523 | S34: 0.73407606 | X34: 36.290523 | Y34: 0.66859139
A35: 40%超 | B35: 5.1902174 | C35: 0.090806774 | H35: 5.1902174 | I35: 0.083958608
A36: 合 計 | B36: 5715.672 | C36: 100 | D36: 466.20434 | E36: 100 | H36: 6181.8764 | I36: 100 | J36: 5012.5724 | K36: 100 | L36: 449.33795 | M36: 100 | N36: 113.59737 | O36: 100 | P36: 5575.5077 | Q36: 100 | R36: 4943.7007 | S36: 100 | T36: 392.16763 | U36: 100 | V36: 92.039287 | W36: 100 | X36: 5427.9076 | Y36: 100
A39: 下請比率、次数 | B39: ６０％以上７０％未満 | J39: ７０％以上８０％未満 | R39: ８０％以上９０％未満
A40: 原価割れ比率 | B40: 一次下請 | D40: 二次下請 | F40: 三次以下下請 | H40: 小 計 | J40: 一次下請 | L40: 二次下請 | N40: 三次以下下請 | P40: 小 計 | R40: 一次下請 | T40: 二次下請 | V40: 三次以下下請 | X40: 小 計
A41: 0% | B41: 2590.9723 | C41: 48.583631 | D41: 314.2241 | E41: 52.795916 | H41: 2905.1964 | I41: 48.191478 | J41: 2366.3599 | K41: 49.556913 | L41: 408.32398 | M41: 47.536786 | N41: 89.804843 | O41: 72.29697 | P41: 2864.4887 | Q41: 49.746117 | R41: 2893.0204 | S41: 44.395966 | T41: 910.67109 | U41: 64.607694 | V41: 438.36324 | W41: 96.495578 | X41: 4242.0548 | Y41: 50.619809
A42: 0%超 10%以下 | B42: 2361.8912 | C42: 44.288105 | D42: 205.81965 | E42: 34.581806 | F42: 100.26197 | G42: 100 | H42: 2667.9728 | I42: 44.256407 | J42: 2018.9422 | K42: 42.281203 | L42: 397.72909 | M42: 46.303337 | N42: 34.411765 | O42: 27.70303 | P42: 2451.083 | Q42: 42.566711 | R42: 3259.0368 | S42: 50.012812 | T42: 400.73016 | U42: 28.42986 | V42: 15.92 | W42: 3.5044216 | X42: 3675.687 | Y42: 43.861426
A43: 10%超 20%以下 | B43: 202.77409 | C43: 3.8022412 | D43: 75.123685 | E43: 12.622278 | H43: 277.89777 | I43: 4.6097759 | J43: 219.41438 | K43: 4.5950321 | L43: 13.390921 | M43: 1.5589615 | P43: 232.8053 | Q43: 4.0430112 | R43: 327.29991 | S43: 5.0227076 | T43: 57.526794 | U43: 4.0812469 | X43: 384.8267 | Y43: 4.5920798
A44: 20%超 30%以下 | B44: 104.02673 | C44: 1.9506176 | H44: 104.02673 | I44: 1.7255982 | J44: 70.230585 | K44: 1.4707869 | L44: 32.350575 | M44: 3.7662308 | P44: 102.58116 | Q44: 1.7814748 | R44: 37.046706 | S44: 0.56851458 | T44: 38.049142 | U44: 2.699402 | X44: 75.095848 | Y44: 0.89610759
A45: 30%超 40%以下 | B45: 73.350567 | C45: 1.3754052 | H45: 73.350567 | I45: 1.2167412 | J45: 13.747059 | K45: 0.28789442 | L45: 7.1696429 | M45: 0.8346847 | P45: 20.916702 | Q45: 0.36324971 | T45: 2.5625 | U45: 0.18179694 | X45: 2.5625 | Y45: 0.030577931
A46: 40%超 | J46: 86.340778 | K46: 1.8081706 | P46: 86.340778 | Q46: 1.4994363
...

Sheet 2-12-4
A1: 表2－12－4 総工事件数に占める原価割れ工事件数の状況（上位１社）（専属比率別、下請比率、次数別集計）
N3: （単位：社、％）
B4: 下請比率、次数 | C4: ０％超 50％未満 | E4: 50％以上100％以下 | M4: 合 計
A5: 専属比率 | B5: 原価割れ比率 | G5: 一次下請 | I5: 二次下請 | K5: 三次以下下請
A6: １０％未満 | B6: 0% | C6: 5776.8733 | D6: 51.290709 | E6: 2455.4795 | F6: 48.77437 | G6: 1916.3741 | H6: 47.898122 | I6: 452.082 | J6: 50.787954 | K6: 87.023333 | L6: 60.732268 | M6: 8232.3528 | N6: 50.513395
B7: 0%超 10%以下 | C7: 4481.0952 | D7: 39.785977 | E7: 2211.8217 | F7: 43.934478 | G7: 1826.9714 | H7: 45.663577 | I7: 330.99093 | J7: 37.184299 | K7: 53.85937 | L7: 37.587639 | M7: 6692.9169 | N7: 41.067477
B8: 10%超 20%以下 | C8: 739.40693 | D8: 6.5649191 | E8: 322.03438 | F8: 6.3967237 | G8: 212.56363 | H8: 5.3128451 | I8: 107.06333 | J8: 12.027746 | K8: 2.4074074 | L8: 1.6800932 | M8: 1061.4413 | N8: 6.5129624
B9: 20%超 30%以下 | C9: 121.77686 | D9: 1.0812115 | E9: 31.281713 | F9: 0.62136372 | G9: 31.281713 | H9: 0.7818595 | M9: 153.05858 | N9: 0.93916146
B10: 30%超 40%以下 | C10: 13.936572 | D10: 0.12373764 | E10: 13.747059 | F10: 0.27306444 | G10: 13.747059 | H10: 0.3435959 | M10: 27.683631 | N10: 0.16986568
B11: 40%超 | C11: 129.91261 | D11: 1.1534457 | M11: 129.91261 | N11: 0.79713869
B12: 小 計 | C12: 11263.001 | D12: 100 | E12: 5034.3643 | F12: 100 | G12: 4000.9379 | H12: 100 | I12: 890.13627 | J12: 100 | K12: 143.29011 | L12: 100 | M12: 16297.366 | N12: 100
A13: １０％以上 | B13: 0% | C13: 4952.4283 | D13: 44.474787 | E13: 9603.8705 | F13: 42.625896 | G13: 7445.2912 | H13: 42.720121 | I13: 1985.3685 | J13: 42.418397 | K13: 173.2108 | L13: 41.036236 | M13: 14556.299 | N13: 43.237435
A14: ３０％未満 | B14: 0%超 10%以下 | C14: 4892.0239 | D14: 43.932331 | E14: 11608.36 | F14: 51.522638 | G14: 8977.9892 | H14: 51.514544 | I14: 2414.7779 | J14: 51.592946 | K14: 215.59289 | L14: 51.077187 | M14: 16500.384 | N14: 49.012066
B15: 10%超 20%以下 | C15: 1093.6641 | D15: 9.8215408 | E15: 1060.982 | F15: 4.7090709 | G15: 793.76209 | H15: 4.5545045 | I15: 233.93126 | J15: 4.9980592 | K15: 33.288636 | L15: 7.8865769 | M15: 2154.6461 | N15: 6.4000726
B16: 20%超 30%以下 | C16: 197.24527 | D16: 1.7713414 | E16: 163.15879 | F16: 0.72416527 | G16: 147.19298 | H16: 0.84457434 | I16: 15.965809 | J16: 0.34111754 | M16: 360.40406 | N16: 1.0705295
B17: 30%超 40%以下 | E17: 76.655355 | F17: 0.34022774 | G17: 59.83129 | H17: 0.34330423 | I17: 16.824065 | J17: 0.35945461 | M17: 76.655355 | N17: 0.22769393
B18: 40%超 | E18: 17.574468 | F18: 0.07800266 | G18: 4 | H18: 0.022951484 | I18: 13.574468 | J18: 0.29002535 | M18: 17.574468 | N18: 0.052202482
B19: 小 計 | C19: 11135.362 | D19: 100 | E19: 22530.601 | F19: 100 | G19: 17428.067 | H19: 100 | I19: 4680.442 | J19: 100 | K19: 422.09233 | L19: 100 | M19: 33665.963 | N19: 100
A20: ３０％以上 | B20: 0% | C20: 2743.2417 | D20: 46.962138 | E20: 9987.4017 | F20: 50.290144 | G20: 7186.4932 | H20: 51.339338 | I20: 2284.8242 | J20: 49.434112 | K20: 516.08436 | L20: 41.633892 | M20: 12730.643 | N20: 49.533745
A21: ５０％未満 | B21: 0%超 10%以下 | C21: 2664.4718 | D21: 45.613659 | E21: 7949.7066 | F21: 40.02962 | G21: 5454.2941 | H21: 38.964742 | I21: 1855.9224 | J21: 40.154457 | K21: 639.49012 | L21: 51.589362 | M21: 10614.178 | N21: 41.298777
B22: 10%超 20%以下 | C22: 306.88828 | D22: 5.2536857 | E22: 1420.3781 | F22: 7.1521126 | G22: 977.03004 | H22: 6.9797709 | I22: 378.52456 | J22: 8.1897003 | K22: 64.823529 | L22: 5.2294858 | M22: 1727.2664 | N22: 6.7206323
B23: 20%超 30%以下 | C23: 19.8734 | D23: 0.34021696 | E23: 368.24923 | F23: 1.8542667 | G23: 292.87129 | H23: 2.092233 | I23: 75.377937 | J23: 1.6308657 | M23: 388.12263 | N23: 1.5101489
B24: 30%超 40%以下 | C24: 104.28996 | D24: 1.7853621 | E24: 106.97886 | F24: 0.53867685 | G24: 71.489811 | H24: 0.51071357 | I24: 16.309559 | J24: 0.35287115 | K24: 19.179487 | L24: 1.54726 | M24: 211.26882 | N24: 0.82202726
B25: 40%超 | C25: 2.625 | D25: 0.044937934 | E25: 26.846154 | F25: 0.13518 | G25: 15.846154 | H25: 0.11320279 | I25: 11 | J25: 0.23799434 | M25: 29.471154 | N25: 0.11466951
B26: 小 計 | C26: 5841.3901 | D26: 100 | E26: 19859.561 | F26: 100 | G26: 13998.025 | H26: 100 | I26: 4621.9587 | J26: 100 | K26: 1239.5775 | L26: 100 | M26: 25700.951 | N26: 100
A27: ５０％以上 | B27: 0% | C27: 909.6545 | D27: 43.929246 | E27: 5608.6291 | F27: 49.916668 | G27: 3883.6679 | H27: 50.049239 | I27: 1454.5511 | J27: 48.273488 | K27: 270.4102 | L27: 58.385804 | M27: 6518.2836 | N27: 48.984934
A28: ７０％未満 | B28: 0%超 10%以下 | C28: 703.27156 | D28: 33.962553 | E28: 4494.7778 | F28: 40.003417 | G28: 3072.7034 | H28: 39.598254 | I28: 1271.5897 | J28: 42.201386 | K28: 150.48473 | L28: 32.492013 | M28: 5198.0494 | N28: 39.063367
B29: 10%超 20%以下 | C29: 318.48964 | D29: 15.380576 | E29: 545.37752 | F29: 4.8538472 | G29: 315.11873 | H29: 4.0609684 | I29: 190.27664 | J29: 6.3148813 | K29: 39.982154 | L29: 8.632774 | M29: 863.86717 | N29: 6.4919661
B30: 20%超 30%以下 | C30: 119.42338 | D30: 5.7672214 | E30: 440.62755 | F30: 3.9215749 | G30: 362.5565 | H30: 4.672304 | I30: 78.071054 | J30: 2.591014 | M30: 560.05093 | N30: 4.2087855
B31: 30%超 40%以下 | E31: 40.931909 | F31: 0.36429303 | G31: 39.306909 | H31: 0.5065523 | I31: 1.625 | J31: 0.05393033 | M31: 40.931909 | N31: 0.3076035
B32: 40%超 | C32: 19.887324 | D32: 0.96040326 | E32: 105.64078 | F32: 0.94020044 | G32: 86.340778 | H32: 1.1126827 | I32: 17.033333 | J32: 0.56530048 | K32: 2.2666667 | L32: 0.48940888 | M32: 125.5281 | N32: 0.94334431
B33: 小 計 | C33: 2070.7264 | D33: 100 | E33: 11235.985 | F33: 100 | G33: 7759.6941 | H33: 100 | I33: 3013.1468 | J33: 100 | K33: 463.14375 | L33: 100 | M33: 13306.711 | N33: 100
A34: ７０％以上 | B34: 0% | C34: 2787.6667 | D34: 58.334194 | E34: 10249.937 | F34: 58.001433 | G34: 6377.3599 | H34: 57.838633 | I34: 2516.1398 | J34: 54.154041 | K34: 1356.4378 | L34: 67.839509 | M34: 13037.604 | N34: 58.072263
B35: 0%超 10%以下 | C35: 1719.5903 | D35: 35.983827 | E35: 5989.6963 | F35: 33.89396 | G35: 3790.4836 | H35: 34.377296 | I35: 1556.17 | J35: 33.49293 | K35: 643.04275 | L35: 32.160491 | M35: 7709.2867 | N35: 34.338803
B36: 10%超 20%以下 | C36: 179.26031 | D36: 3.7511678 | E36: 966.53259 | F36: 5.4693285 | G36: 683.99133 | H36: 6.2033701 | I36: 282.54127 | J36: 6.0810417 | M36: 1145.7929 | N36: 5.1036054
B37: 20%超 30%以下 | C37: 89.704146 | D37: 1.8771322 | E37: 368.87 | F37: 2.0873287 | G37: 165.44785 | H37: 1.5005077 | I37: 203.42216 | J37: 4.3781875 | M37: 458.57415 | N37: 2.0425868
B38: 30%超 40%以下 | E38: 43.070728 | F38: 0.2437248 | G38: 2.3921569 | H38: 0.021695354 | I38: 40.678571 | J38: 0.87551137 | M38: 43.070728 | N38: 0.19184619
B39: 40%超 | C39: 2.5652174 | D39: 0.053679261 | E39: 53.762381 | F39: 0.30422577 | G39: 6.45 | H39: 0.058497433 | I39: 47.312381 | J39: 1.0182886 | M39: 56.327598 | N39: 0.25089511
B40: 小 計 | C40: 4778.7867 | D40: 100 | E40: 17671.87 | F40: 100 | G40: 11026.125 | H40: 100 | I40: 4646.2642 | J40: 100 | K40: 1999.4805 | L40: 100 | M40: 22450.656 | N40: 100
A41: 合 計 | B41: 0% | C41: 17169.865 | D41: 48.931957 | E41: 37905.318 | F41: 49.658242 | G41: 26809.186 | H41: 49.451721 | I41: 8692.9656 | J41: 48.694773 | K41: 2403.1664 | L41: 56.312104 | M41: 55075.183 | N41: 49.429518
...

Sheet 2-12-5
A1: 表2－12－5 総工事件数に占める原価割れ工事件数の状況（上位２社）（専属比率別、下請比率、次数別集計）
N3: （単位：社、％）
B4: 下請比率、次数 | C4: ０％超 50％未満 | E4: 50％以上100％以下 | M4: 合 計
A5: 専属比率 | B5: 原価割れ比率 | G5: 一次下請 | I5: 二次下請 | K5: 三次以下下請
A6: １０％未満 | B6: 0% | C6: 5323.8871 | D6: 53.28213 | E6: 1621.2764 | F6: 56.14533 | G6: 1333.8185 | H6: 58.085815 | I6: 284.93162 | J6: 51.855829 | K6: 2.5263158 | L6: 6.0316768 | M6: 6945.1636 | N6: 53.924072
B7: 0%超 10%以下 | C7: 3768.5979 | D7: 37.7166 | E7: 1116.9683 | F7: 38.680976 | G7: 842.43328 | H7: 36.686718 | I7: 235.17722 | J7: 42.800829 | K7: 39.357822 | L7: 93.968323 | M7: 4885.5662 | N7: 37.932817
B8: 10%超 20%以下 | C8: 677.30235 | D8: 6.7785268 | E8: 120.35906 | F8: 4.1680735 | G8: 90.999064 | H8: 3.962874 | I8: 29.36 | J8: 5.3433422 | M8: 797.66141 | N8: 6.1932524
B9: 20%超 30%以下 | C9: 109.54365 | D9: 1.0963266 | E9: 29.038723 | F9: 1.0056204 | G9: 29.038723 | H9: 1.2645932 | M9: 138.58238 | N9: 1.0759899
B10: 30%超 40%以下 | C10: 11.410256 | D10: 0.11419528 | M10: 11.410256 | N10: 0.088592223
B11: 40%超 | C11: 101.13988 | D11: 1.0122206 | M11: 101.13988 | N11: 0.78527656
B12: 小 計 | C12: 9991.8811 | D12: 100 | E12: 2887.6425 | F12: 100 | G12: 2296.2896 | H12: 100 | I12: 549.46883 | J12: 100 | K12: 41.884137 | L12: 100 | M12: 12879.524 | N12: 100
A13: １０％以上 | B13: 0% | C13: 4639.0578 | D13: 50.377303 | E13: 6229.4646 | F13: 41.518017 | G13: 4535.8983 | H13: 40.10705 | I13: 1318.5435 | J13: 41.982983 | K13: 375.02284 | L13: 67.68098 | M13: 10868.522 | N13: 44.887376
A14: ３０％未満 | B14: 0%超 10%以下 | C14: 3957.153 | D14: 42.972238 | E14: 7826.058 | F14: 52.158962 | G14: 6079.2821 | H14: 53.753867 | I14: 1570.1024 | J14: 49.992724 | K14: 176.67349 | L14: 31.884552 | M14: 11783.211 | N14: 48.665072
B15: 10%超 20%以下 | C15: 524.43784 | D15: 5.695071 | E15: 807.13138 | F15: 5.3793538 | G15: 581.53856 | H15: 5.1420457 | I15: 223.18542 | J15: 7.1063181 | K15: 2.4074074 | L15: 0.43446871 | M15: 1331.5692 | N15: 5.4994272
B16: 20%超 30%以下 | C16: 85.451745 | D16: 0.92795318 | E16: 100.972 | F16: 0.67295628 | G16: 81.311151 | H16: 0.71896463 | I16: 19.660852 | J16: 0.62600985 | M16: 186.42375 | N16: 0.76993657
B17: 30%超 40%以下 | C17: 2.5263158 | D17: 0.027434229 | E17: 36.618194 | F17: 0.24405224 | G17: 27.448551 | H17: 0.24270395 | I17: 9.1696429 | J17: 0.29196531 | M17: 39.14451 | N17: 0.16166819
B18: 40%超 | E18: 4 | F18: 0.026659124 | G18: 4 | H18: 0.035368562 | M18: 4 | N18: 0.016520139
B19: 小 計 | C19: 9208.6268 | D19: 100 | E19: 15004.244 | F19: 100 | G19: 11309.479 | H19: 100 | I19: 3140.6618 | J19: 100 | K19: 554.10375 | L19: 100 | M19: 24212.871 | N19: 100
A20: ３０％以上 | B20: 0% | C20: 2141.2552 | D20: 41.864325 | E20: 8109.3288 | F20: 44.035929 | G20: 6177.2851 | H20: 44.372245 | I20: 1614.3037 | J20: 45.146955 | K20: 317.74007 | L20: 34.609036 | M20: 10250.584 | N20: 43.563885
A21: ５０％未満 | B21: 0%超 10%以下 | C21: 2261.7919 | D21: 44.220975 | E21: 8872.9738 | F21: 48.182736 | G21: 6573.0118 | H21: 47.214802 | I21: 1764.7331 | J21: 49.353988 | K21: 535.2289 | L21: 58.298457 | M21: 11134.766 | N21: 47.321562
B22: 10%超 20%以下 | C22: 582.88188 | D22: 11.396099 | E22: 923.78829 | F22: 5.0164294 | G22: 749.11646 | H22: 5.3810013 | I22: 128.73613 | J22: 3.6003414 | K22: 45.935695 | L22: 5.0034297 | M22: 1506.6702 | N22: 6.4031869
B23: 20%超 30%以下 | C23: 126.19509 | D23: 2.4672783 | E23: 306.99679 | F23: 1.6670786 | G23: 271.33401 | H23: 1.9490276 | I23: 35.662779 | J23: 0.99737482 | M23: 433.19188 | N23: 1.8410191
B24: 30%超 40%以下 | E24: 94.585788 | F24: 0.51362735 | G24: 67.751879 | H24: 0.48667059 | I24: 7.6544218 | J24: 0.2140699 | K24: 19.179487 | L24: 2.0890773 | M24: 94.585788 | N24: 0.40197947
B25: 40%超 | C25: 2.625 | D25: 0.051322166 | E25: 107.58191 | F25: 0.58419995 | G25: 83.007444 | H25: 0.59625331 | I25: 24.574468 | J25: 0.68726994 | M25: 110.20691 | N25: 0.46836758
B26: 小 計 | C26: 5114.7491 | D26: 100 | E26: 18415.255 | F26: 100 | G26: 13921.507 | H26: 100 | I26: 3575.6646 | J26: 100 | K26: 918.08415 | L26: 100 | M26: 23530.004 | N26: 100
A27: ５０％以上 | B27: 0% | C27: 1335.33 | D27: 38.24662 | E27: 7606.5095 | F27: 52.578456 | G27: 5379.5391 | H27: 51.499199 | I27: 2159.5441 | J27: 57.238058 | K27: 67.426262 | L27: 27.167846 | M27: 8941.8394 | N27: 49.792135
A28: ７０％未満 | B28: 0%超 10%以下 | C28: 1686.3406 | D28: 48.300292 | E28: 5427.1613 | F28: 37.514154 | G28: 3973.3501 | H28: 38.037525 | I28: 1332.8614 | J28: 35.327085 | K28: 120.94975 | L28: 48.73389 | M28: 7113.5019 | N28: 39.611139
B29: 10%超 20%以下 | C29: 221.62838 | D29: 6.3478966 | E29: 987.07098 | F29: 6.8229283 | G29: 800.09982 | H29: 7.6594853 | I29: 127.16312 | J29: 3.3704195 | K29: 59.80805 | L29: 24.098264 | M29: 1208.6994 | N29: 6.7305751
B30: 20%超 30%以下 | C30: 95.784986 | D30: 2.7434807 | E30: 346.86886 | F30: 2.3976608 | G30: 226.8639 | H30: 2.1718049 | I30: 120.00496 | J30: 3.1806949 | M30: 442.65385 | N30: 2.4648933
B31: 30%超 40%以下 | C31: 103.6233 | D31: 2.9679862 | E31: 82.325919 | F31: 0.56906124 | G31: 66.01636 | H31: 0.63198532 | I31: 16.309559 | J31: 0.43227987 | M31: 185.94922 | N31: 1.0354479
B32: 40%超 | C32: 48.660051 | D32: 1.3937248 | E32: 17.033333 | F32: 0.11773947 | I32: 17.033333 | J32: 0.4514633 | M32: 65.693385 | N32: 0.36580995
B33: 小 計 | C33: 3491.3673 | D33: 100 | E33: 14466.97 | F33: 100 | G33: 10445.869 | H33: 100 | I33: 3772.9165 | J33: 100 | K33: 248.18406 | L33: 100 | M33: 17958.337 | N33: 100
A34: ７０％以上 | B34: 0% | C34: 3656.4203 | D34: 50.828117 | E34: 14004.188 | F34: 55.766156 | G34: 9150.5319 | H34: 57.133072 | I34: 3232.9018 | J34: 48.905279 | K34: 1620.754 | L34: 65.204928 | M34: 17660.608 | N34: 54.666586
B35: 0%超 10%以下 | C35: 2781.8918 | D35: 38.671244 | E35: 8989.7215 | F35: 35.798021 | G35: 5664.4086 | H35: 35.366804 | I35: 2495.0531 | J35: 37.743574 | K35: 830.2599 | L35: 33.402378 | M35: 11771.613 | N35: 36.437812
B36: 10%超 20%以下 | C36: 631.4588 | D36: 8.7779465 | E36: 1387.0592 | F36: 5.5234165 | G36: 759.25038 | H36: 4.740523 | I36: 595.45829 | J36: 9.0077137 | K36: 32.350575 | L36: 1.3015034 | M36: 2018.5181 | N36: 6.2481139
B37: 20%超 30%以下 | C37: 120.69341 | D37: 1.6777663 | E37: 588.31091 | F37: 2.3427162 | G37: 390.80255 | H37: 2.4400494 | I37: 197.50836 | J37: 2.9877807 | M37: 709.00433 | N37: 2.1946496
B38: 30%超 40%以下 | C38: 0.66666667 | D38: 0.0092673731 | E38: 67.854008 | F38: 0.27020183 | G38: 25.550436 | H38: 0.15952897 | I38: 42.303571 | J38: 0.63994148 | M38: 68.520674 | N38: 0.21209866
B39: 40%超 | C39: 2.5652174 | D39: 0.03565924 | E39: 75.208535 | F39: 0.29948834 | G39: 25.629487 | H39: 0.16002254 | I39: 47.312381 | J39: 0.71571156 | K39: 2.2666667 | L39: 0.09119079 | M39: 77.773752 | N39: 0.24074061
B40: 小 計 | C40: 7193.6962 | D40: 100 | E40: 25112.342 | F40: 100 | G40: 16016.173 | H40: 100 | I40: 6610.5375 | J40: 100 | K40: 2485.6311 | L40: 100 | M40: 32306.038 | N40: 100
A41: 合 計 | B41: 0% | C41: 17095.95 | D41: 48.845125 | E41: 37570.767 | F41: 49.509188 | G41: 26577.073 | H41: 49.22654 | I41: 8610.2248 | J41: 48.785218 | K41: 2383.4695 | L41: 56.109528 | M41: 54666.717 | N41: 49.299583
...
