Workbook
Name ______________________ＴＢＬ１: [1]CSS編集画面!$B$10:$F$22
Name ______________________ＴＢＬ２: [1]CSS編集画面!$B$24:$I$35
Name _____________________ＴＢＬ１: [1]CSS編集画面!$B$10:$F$22
Name _____________________ＴＢＬ２: [1]CSS編集画面!$B$24:$I$35
Name ____________________ＴＢＬ１: [1]CSS編集画面!$B$10:$F$22
Name ____________________ＴＢＬ２: [1]CSS編集画面!$B$24:$I$35
Name ___________________ＴＢＬ１: [1]CSS編集画面!$B$10:$F$22
Name ___________________ＴＢＬ２: [1]CSS編集画面!$B$24:$I$35
Name __________________ＴＢＬ１: [1]CSS編集画面!$B$10:$F$22
Name __________________ＴＢＬ２: [1]CSS編集画面!$B$24:$I$35
Name _________________ＴＢＬ１: [1]CSS編集画面!$B$10:$F$22
Name _________________ＴＢＬ２: [1]CSS編集画面!$B$24:$I$35
Name ________________ＴＢＬ１: [1]CSS編集画面!$B$10:$F$22
Name ________________ＴＢＬ２: [1]CSS編集画面!$B$24:$I$35
Name _______________ＴＢＬ１: [1]CSS編集画面!$B$10:$F$22
Name _______________ＴＢＬ２: [1]CSS編集画面!$B$24:$I$35
Name ______________ＴＢＬ１: [1]CSS編集画面!$B$10:$F$22
Name ______________ＴＢＬ２: [1]CSS編集画面!$B$24:$I$35
Name _____________ＴＢＬ１: [1]CSS編集画面!$B$10:$F$22
Name _____________ＴＢＬ２: [1]CSS編集画面!$B$24:$I$35
Name ____________ＴＢＬ１: [1]CSS編集画面!$B$10:$F$22
Name ____________ＴＢＬ２: [1]CSS編集画面!$B$24:$I$35
Name ___________ＴＢＬ１: [1]CSS編集画面!$B$10:$F$22
Name ___________ＴＢＬ２: [1]CSS編集画面!$B$24:$I$35
Name __________ＴＢＬ１: [1]CSS編集画面!$B$10:$F$22
Name __________ＴＢＬ２: [1]CSS編集画面!$B$24:$I$35
Name _________ＴＢＬ１: [1]CSS編集画面!$B$10:$F$22
Name _________ＴＢＬ２: [1]CSS編集画面!$B$24:$I$35
Name ________ＴＢＬ１: [1]CSS編集画面!$B$10:$F$22
Name ________ＴＢＬ２: [1]CSS編集画面!$B$24:$I$35
Name _______ＴＢＬ１: [1]CSS編集画面!$B$10:$F$22
Name _______ＴＢＬ２: [1]CSS編集画面!$B$24:$I$35
Name ______ＴＢＬ１: [1]CSS編集画面!$B$10:$F$22
Name ______ＴＢＬ２: [1]CSS編集画面!$B$24:$I$35
Name _____ＴＢＬ１: [1]CSS編集画面!$B$10:$F$22
Name _____ＴＢＬ２: [1]CSS編集画面!$B$24:$I$35
Name ____ＴＢＬ１: [1]CSS編集画面!$B$10:$F$22
Name ____ＴＢＬ２: [1]CSS編集画面!$B$24:$I$35
Name ___ＴＢＬ１: [1]CSS編集画面!$B$10:$F$22
Name ___ＴＢＬ２: [1]CSS編集画面!$B$24:$I$35
Name __ＴＢＬ１: [1]CSS編集画面!$B$10:$F$22
Name __ＴＢＬ２: [1]CSS編集画面!$B$24:$I$35
Name _ＴＢＬ１: [1]CSS編集画面!$B$10:$F$22
Name _ＴＢＬ２: [1]CSS編集画面!$B$24:$I$35
Name PAGE1: #REF!
Name PAGE10: #REF!
Name PAGE100: #REF!
Name PAGE1000: #REF!
Name PAGE1001: #REF!
Name PAGE1002: #REF!
Name PAGE1003: #REF!
Name PAGE1004: #REF!
Name PAGE1005: #REF!
Name PAGE1006: #REF!
Name PAGE1007: #REF!
Name PAGE1008: #REF!
Name PAGE1009: #REF!
Name PAGE101: #REF!
Name PAGE1010: #REF!
Name PAGE1011: #REF!

Sheet 2-12-1
A1: 表2－12－1 総工事件数に占める原価割れ工事件数の比率
W3: （単位：社、％）
C4: 資本金 | D4: 個 人 | F4: 法 人 | V4: 合 計
A5: 業種 | C5: 原価割れ比率 | F5: 500万円未満 | H5: 500万円以上 1000万円未満 | J5: 1000万円以上 3000万円未満 | L5: 3000万円以上 5000万円未満 | N5: 5000万円以上 1億円未満 | P5: 1億円以上 3億円未満 | R5: 3億円以上 10億円未満 | T5: 10億円以上
A6: 一般土木建築 | B6: 一般土木 建築工事業 | C6: 0% | D6: 36 | E6: 100 | F6: 89.666667 | G6: 40 | H6: 189 | I6: 63.636364 | J6: 636.39437 | K6: 45.714286 | L6: 290.07692 | M6: 35.064935 | N6: 179.62025 | O6: 38.461538 | P6: 26.6 | Q6: 28 | R6: 8.8421053 | S6: 36.842105 | T6: 7.3529412 | U6: 14.705882 | V6: 1463.5533 | W6: 42.887399
C7: 0%超 10%以下 | F7: 89.666667 | G7: 40 | H7: 54 | I7: 18.181818 | J7: 596.61972 | K7: 42.857143 | L7: 419 | M7: 50.649351 | N7: 257.4557 | O7: 55.128205 | P7: 62.7 | Q7: 66 | R7: 13.894737 | S7: 57.894737 | T7: 38.235294 | U7: 76.470588 | V7: 1531.5721 | W7: 44.880597
C8: 10%超 20%以下 | F8: 44.833333 | G8: 20 | H8: 54 | I8: 18.181818 | J8: 99.43662 | K8: 7.1428571 | L8: 85.948718 | M8: 10.38961 | N8: 23.949367 | O8: 5.1282051 | P8: 5.7 | Q8: 6 | R8: 1.2631579 | S8: 5.2631579 | T8: 2.9411765 | U8: 5.8823529 | V8: 318.07237 | W8: 9.3206699
C9: 20%超 30%以下 | J9: 39.774648 | K9: 2.8571429 | L9: 10.74359 | M9: 1.2987013 | V9: 50.518238 | W9: 1.4803669
C10: 30%超 40%以下 | L10: 10.74359 | M10: 1.2987013 | N10: 5.9873418 | O10: 1.2820513 | T10: 1.4705882 | U10: 2.9411765 | V10: 18.20152 | W10: 0.5333703
C11: 40%超 | J11: 19.887324 | K11: 1.4285714 | L11: 10.74359 | M11: 1.2987013 | V11: 30.630914 | W11: 0.89759646
C12: 小 計 | D12: 36 | E12: 100 | F12: 224.16667 | G12: 100 | H12: 297 | I12: 100 | J12: 1392.1127 | K12: 100 | L12: 827.25641 | M12: 100 | N12: 467.01266 | O12: 100 | P12: 95 | Q12: 100 | R12: 24 | S12: 100 | T12: 50 | U12: 100 | V12: 3412.5484 | W12: 100
A13: 土 木 | B13: 土木工事業 | C13: 0% | D13: 998.64286 | E13: 78.571429 | F13: 2754.5862 | G13: 65.384615 | H13: 1811.2 | I13: 40 | J13: 5217.6124 | K13: 47.2 | L13: 1816.2439 | M13: 52.5 | N13: 403.8125 | O13: 41.935484 | P13: 18.913043 | Q13: 21.73913 | R13: 1.0909091 | S13: 10 | T13: 5.3333333 | U13: 33.333333 | V13: 13027.435 | W13: 50.883412
C14: 0%超 10%以下 | D14: 90.785714 | E14: 7.1428571 | F14: 1053.2241 | G14: 25 | H14: 2587.4286 | I14: 57.142857 | J14: 3979.5349 | K14: 36 | L14: 1354.9756 | M14: 39.166667 | N14: 455.58333 | O14: 47.311828 | P14: 52.956522 | Q14: 60.869565 | R14: 9.8181818 | S14: 90 | T14: 8 | U14: 50 | V14: 9592.307 | W14: 37.466263
C15: 10%超 20%以下 | D15: 90.785714 | E15: 7.1428571 | F15: 324.06897 | G15: 7.6923077 | H15: 129.37143 | I15: 2.8571429 | J15: 1149.6434 | K15: 10.4 | L15: 201.80488 | M15: 5.8333333 | N15: 31.0625 | O15: 3.2258065 | P15: 11.347826 | Q15: 13.043478 | V15: 1938.0847 | W15: 7.5698986
C16: 20%超 30%以下 | F16: 81.017241 | G16: 1.9230769 | J16: 530.60465 | K16: 4.8 | L16: 57.658537 | M16: 1.6666667 | N16: 62.125 | O16: 6.4516129 | T16: 2.6666667 | U16: 16.666667 | V16: 734.0721 | W16: 2.867187
C17: 30%超 40%以下 | J17: 88.434109 | K17: 0.8 | L17: 28.829268 | M17: 0.83333333 | P17: 3.7826087 | Q17: 4.3478261 | V17: 121.04599 | W17: 0.47278936
C18: 40%超 | D18: 90.785714 | E18: 7.1428571 | J18: 88.434109 | K18: 0.8 | N18: 10.354167 | O18: 1.0752688 | V18: 189.57399 | W18: 0.74045054
C19: 小 計 | D19: 1271 | E19: 100 | F19: 4212.8966 | G19: 100 | H19: 4528 | I19: 100 | J19: 11054.264 | K19: 100 | L19: 3459.5122 | M19: 100 | N19: 962.9375 | O19: 100 | P19: 87 | Q19: 100 | R19: 10.909091 | S19: 100 | T19: 16 | U19: 100 | V19: 25602.519 | W19: 100
B20: ほ装工事業 | C20: 0% | D20: 41.333333 | E20: 85.714286 | F20: 418.16667 | G20: 59.090909 | H20: 265 | I20: 54.545455 | J20: 345.13208 | K20: 32.692308 | L20: 105.09722 | M20: 32.857143 | N20: 24.37037 | O20: 25.925926 | V20: 1199.0997 | W20: 43.918537
C21: 0%超 10%以下 | F21: 257.33333 | G21: 36.363636 | H21: 176.66667 | I21: 36.363636 | J21: 629.35849 | K21: 59.615385 | L21: 169.06944 | M21: 52.857143 | N21: 55.703704 | O21: 59.259259 | P21: 10 | Q21: 66.666667 | R21: 4 | S21: 100 | V21: 1302.1316 | W21: 47.692213
C22: 10%超 20%以下 | D22: 6.8888889 | E22: 14.285714 | F22: 32.166667 | G22: 4.5454545 | H22: 22.083333 | I22: 4.5454545 | J22: 60.90566 | K22: 5.7692308 | L22: 36.555556 | M22: 11.428571 | N22: 13.925926 | O22: 14.814815 | P22: 5 | Q22: 33.333333 | V22: 177.52603 | W22: 6.5021147
C23: 20%超 30%以下 | H23: 22.083333 | I23: 4.5454545 | L23: 4.5694444 | M23: 1.4285714 | V23: 26.652778 | W23: 0.97619159
C24: 30%超 40%以下 | J24: 20.301887 | K24: 1.9230769 | L24: 4.5694444 | M24: 1.4285714 | V24: 24.871331 | W24: 0.91094386
C25: 40%超
C26: 小 計 | D26: 48.222222 | E26: 100 | F26: 707.66667 | G26: 100 | H26: 485.83333 | I26: 100 | J26: 1055.6981 | K26: 100 | L26: 319.86111 | M26: 100 | N26: 94 | O26: 100 | P26: 15 | Q26: 100 | R26: 4 | S26: 100 | V26: 2730.2814 | W26: 100
B27: しゅんせつ 工事業 | C27: 0% | F27: 77 | G27: 100 | L27: 7.6666667 | M27: 33.333333 | V27: 84.666667 | W27: 77.675841
C28: 0%超 10%以下 | L28: 7.6666667 | M28: 33.333333 | N28: 4.5 | O28: 50 | V28: 12.166667 | W28: 11.16208
C29: 10%超 20%以下 | L29: 7.6666667 | M29: 33.333333 | N29: 4.5 | O29: 50 | V29: 12.166667 | W29: 11.16208
C30: 20%超 30%以下
C31: 30%超 40%以下
C32: 40%超
C33: 小 計 | F33: 77 | G33: 100 | L33: 23 | M33: 100 | N33: 9 | O33: 100 | V33: 109 | W33: 100
B34: 造園工事業 | C34: 0% | D34: 38 | E34: 100 | F34: 195 | G34: 57.142857 | H34: 224 | I34: 66.666667 | J34: 428.3871 | K34: 64.516129 | L34: 68.75 | M34: 42.307692 | N34: 9.25 | O34: 26.666667 | V34: 963.3871 | W34: 61.034225
C35: 0%超 10%以下 | F35: 146.25 | G35: 42.857143 | H35: 56 | I35: 16.666667 | J35: 235.6129 | K35: 35.483871 | L35: 81.25 | M35: 50 | N35: 16.1875 | O35: 46.666667 | P35: 2 | Q35: 100 | V35: 537.3004 | W35: 34.040018
C36: 10%超 20%以下 | H36: 56 | I36: 16.666667 | L36: 6.25 | M36: 3.8461538 | N36: 9.25 | O36: 26.666667 | V36: 71.5 | W36: 4.5297961
C37: 20%超 30%以下 | L37: 6.25 | M37: 3.8461538 | V37: 6.25 | W37: 0.3959612
C38: 30%超 40%以下
C39: 40%超
C40: 小 計 | D40: 38 | E40: 100 | F40: 341.25 | G40: 100 | H40: 336 | I40: 100 | J40: 664 | K40: 100 | L40: 162.5 | M40: 100 | N40: 34.6875 | O40: 100 | P40: 2 | Q40: 100 | V40: 1578.4375 | W40: 100
B41: 水道施設 工事業 | C41: 0% | D41: 207 | E41: 100 | F41: 182 | G41: 70 | H41: 158.57143 | I41: 46.153846 | J41: 243.02703 | K41: 44.444444 | L41: 49.6 | M41: 42.857143 | N41: 24 | O41: 60 | V41: 864.19846 | W41: 57.113843
C42: 0%超 10%以下 | F42: 52 | G42: 20 | H42: 185 | I42: 53.846154 | J42: 212.64865 | K42: 38.888889 | L42: 57.866667 | M42: 50 | N42: 12 | O42: 30 | V42: 519.51532 | W42: 34.334146
C43: 10%超 20%以下 | F43: 26 | G43: 10 | J43: 60.756757 | K43: 11.111111 | L43: 4.1333333 | M43: 3.5714286 | N43: 4 | O43: 10 | V43: 94.89009 | W43: 6.2711727
C44: 20%超 30%以下 | J44: 15.189189 | K44: 2.7777778 | L44: 4.1333333 | M44: 3.5714286 | V44: 19.322523 | W44: 1.2770024
C45: 30%超 40%以下 | J45: 15.189189 | K45: 2.7777778 | V45: 15.189189 | W45: 1.0038354
C46: 40%超
C47: 小 計 | D47: 207 | E47: 100 | F47: 260 | G47: 100 | H47: 343.57143 | I47: 100 | J47: 546.81081 | K47: 100 | L47: 115.73333 | M47: 100 | N47: 40 | O47: 100 | V47: 1513.1156 | W47: 100
A48: 土 木 | B48: 小 計 | C48: 0% | D48: 1284.9762 | E48: 82.147931 | F48: 3626.7529 | G48: 64.777172 | H48: 2458.7714 | I48: 43.18631 | J48: 6234.1586 | K48: 46.800278 | L48: 2047.3578 | M48: 50.172878 | N48: 461.43287 | O48: 40.454389 | P48: 18.913043 | Q48: 18.185619 | R48: 1.0909091 | S48: 7.3170732 | T48: 5.3333333 | U48: 33.333333 | V48: 16138.787 | W48: 51.180053
C49: 0%超 10%以下 | D49: 90.785714 | E49: 5.8038885 | F49: 1508.8075 | G49: 26.948702 | H49: 3005.0952 | I49: 52.782041 | J49: 5057.1549 | K49: 37.964427 | L49: 1670.8284 | M49: 40.945588 | N49: 543.97454 | O49: 47.690918 | P49: 64.956522 | Q49: 62.458194 | R49: 13.818182 | S49: 92.682927 | T49: 8 | U49: 50 | V49: 11963.421 | W49: 37.938943
C50: 10%超 20%以下 | D50: 97.674603 | E50: 6.244292 | F50: 382.23563 | G50: 6.8270831 | H50: 207.45476 | I50: 3.6437733 | J50: 1271.3058 | K50: 9.5437846 | L50: 256.41043 | M50: 6.2836352 | N50: 62.738426 | O50: 5.5003551 | P50: 16.347826 | Q50: 15.719064 | V50: 2294.1675 | W50: 7.275368
C51: 20%超 30%以下 | F51: 81.017241 | G51: 1.4470431 | H51: 22.083333 | I51: 0.3878757 | J51: 545.79384 | K51: 4.0973137 | L51: 72.611314 | M51: 1.7794245 | N51: 62.125 | O51: 5.4465753 | T51: 2.6666667 | U51: 16.666667 | V51: 786.2974 | W51: 2.493542
C52: 30%超 40%以下 | J52: 123.92518 | K52: 0.9303153 | L52: 33.398713 | M52: 0.8184742 | P52: 3.7826087 | Q52: 3.6371237 | V52: 161.10651 | W52: 0.51090826
C53: 40%超 | D53: 90.785714 | E53: 5.8038885 | J53: 88.434109 | K53: 0.66388123 | N53: 10.354167 | O53: 0.90776256 | V53: 189.57399 | W53: 0.60118563
C54: 小 計 | D54: 1564.2222 | E54: 100 | F54: 5598.8132 | G54: 100 | H54: 5693.4048 | I54: 100 | J54: 13320.772 | K54: 100 | L54: 4080.6066 | M54: 100 | N54: 1140.625 | O54: 100 | P54: 104 | Q54: 100 | R54: 14.909091 | S54: 100 | T54: 16 | U54: 100 | V54: 31533.353 | W54: 100
A55: 建 築 | B55: 建築工事業 | C55: 0% | D55: 3058 | E55: 78.571429 | F55: 3694.9655 | G55: 64.285714 | H55: 2796.8947 | I55: 64.705882 | J55: 4845 | K55: 47.222222 | L55: 1256.6389 | M55: 53.521127 | N55: 438.44776 | O55: 47.761194 | P55: 30.72 | Q55: 16 | R55: 14.285714 | S55: 47.619048 | T55: 10.090909 | U55: 27.272727 | V55: 16145.044 | W55: 58.186358
C56: 0%超 10%以下 | D56: 834 | E56: 21.428571 | F56: 1642.2069 | G56: 28.571429 | H56: 1271.3158 | I56: 29.411765 | J56: 4940 | K56: 48.148148 | L56: 1058.2222 | M56: 45.070423 | N56: 452.14925 | O56: 49.253731 | P56: 153.6 | Q56: 80 | R56: 14.285714 | S56: 47.619048 | T56: 23.545455 | U56: 63.636364 | V56: 10389.325 | W56: 37.442885
C57: 10%超 20%以下 | F57: 410.55172 | G57: 7.1428571 | H57: 254.26316 | I57: 5.8823529 | J57: 380 | K57: 3.7037037 | L57: 33.069444 | M57: 1.4084507 | N57: 13.701493 | O57: 1.4925373 | P57: 7.68 | Q57: 4 | V57: 1099.2658 | W57: 3.9617282
C58: 20%超 30%以下 | J58: 95 | K58: 0.92592593 | R58: 1.4285714 | S58: 4.7619048 | V58: 96.428571 | W58: 0.34752631
C59: 30%超 40%以下 | N59: 13.701493 | O59: 1.4925373 | V59: 13.701493 | W59: 0.049379858
C60: 40%超 | T60: 3.3636364 | U60: 9.0909091 | V60: 3.3636364 | W60: 0.012122467
C61: 小 計 | D61: 3892 | E61: 100 | F61: 5747.7241 | G61: 100 | H61: 4322.4737 | I61: 100 | J61: 10260 | K61: 100 | L61: 2347.9306 | M61: 100 | N61: 918 | O61: 100 | P61: 192 | Q61: 100 | R61: 30 | S61: 100 | T61: 37 | U61: 100 | V61: 27747.128 | W61: 100
B62: 木造建築 工事業 | C62: 0% | D62: 1582 | E62: 52.380952 | F62: 1768 | G62: 68.421053 | H62: 1064.4 | I62: 60 | J62: 1845.7647 | K62: 71.604938 | L62: 106.40741 | M62: 48.148148 | N62: 55 | O62: 61.111111 | P62: 12.75 | Q62: 75 | T62: 0.5 | U62: 50 | V62: 6434.8221 | W62: 62.535397
C63: 0%超 10%以下 | D63: 1294.3636 | E63: 42.857143 | F63: 680 | G63: 26.315789 | H63: 591.33333 | I63: 33.333333 | J63: 636.47059 | K63: 24.691358 | L63: 98.222222 | M63: 44.444444 | N63: 35 | O63: 38.888889 | P63: 4.25 | Q63: 25 | R63: 5 | S63: 100 | T63: 0.5 | U63: 50 | V63: 3345.1398 | W63: 32.509002
C64: 10%超 20%以下 | F64: 136 | G64: 5.2631579 | H64: 118.26667 | I64: 6.6666667 | J64: 95.470588 | K64: 3.7037037 | L64: 8.1851852 | M64: 3.7037037 | V64: 357.92244 | W64: 3.4783901
C65: 20%超 30%以下 | L65: 8.1851852 | M65: 3.7037037 | V65: 8.1851852 | W65: 0.079545914
C66: 30%超 40%以下
C67: 40%超 | D67: 143.81818 | E67: 4.7619048 | V67: 143.81818 | W67: 1.3976652
C68: 小 計 | D68: 3020.1818 | E68: 100 | F68: 2584 | G68: 100 | H68: 1774 | I68: 100 | J68: 2577.7059 | K68: 100 | L68: 221 | M68: 100 | N68: 90 | O68: 100 | P68: 17 | Q68: 100 | R68: 5 | S68: 100 | T68: 1 | U68: 100 | V68: 10289.888 | W68: 100
B69: 小 計 | C69: 0% | D69: 4640 | E69: 67.127864 | F69: 5462.9655 | G69: 65.568248 | H69: 3861.2947 | I69: 63.336528 | J69: 6690.7647 | K69: 52.118071 | L69: 1363.0463 | M69: 53.0589 | N69: 493.44776 | O69: 48.953151 | P69: 43.47 | Q69: 20.799043 | R69: 14.285714 | S69: 40.816327 | T69: 10.590909 | U69: 27.870813 | V69: 22579.866 | W69: 59.362873
C70: 0%超 10%以下 | D70: 2128.3636 | E70: 30.791488 | F70: 2322.2069 | G70: 27.871865 | H70: 1862.6491 | I70: 30.552894 | J70: 5576.4706 | K70: 43.438217 | L70: 1156.4444 | M70: 45.016571 | N70: 487.14925 | O70: 48.328299 | P70: 157.85 | Q70: 75.526316 | R70: 19.285714 | S70: 55.102041 | T70: 24.045455 | U70: 63.277512 | V70: 13734.465 | W70: 36.108156
C71: 10%超 20%以下 | F71: 546.55172 | G71: 6.5598874 | H71: 372.52982 | I71: 6.1105787 | J71: 475.47059 | K71: 3.7037037 | L71: 41.25463 | M71: 1.6059068 | N71: 13.701493 | O71: 1.3592751 | P71: 7.68 | Q71: 3.6746411 | V71: 1457.1883 | W71: 3.8309742
C72: 20%超 30%以下 | J72: 95 | K72: 0.74000761 | L72: 8.1851852 | M72: 0.31862228 | R72: 1.4285714 | S72: 4.0816327 | V72: 104.61376 | W72: 0.27503145
C73: 30%超 40%以下 | N73: 13.701493 | O73: 1.3592751 | V73: 13.701493 | W73: 0.036021471
C74: 40%超 | D74: 143.81818 | E74: 2.0806481 | T74: 3.3636364 | U74: 8.8516746 | V74: 147.18182 | W74: 0.38694365
C75: 小 計 | D75: 6912.1818 | E75: 100 | F75: 8331.7241 | G75: 100 | H75: 6096.4737 | I75: 100 | J75: 12837.706 | K75: 100 | L75: 2568.9306 | M75: 100 | N75: 1008 | O75: 100 | P75: 209 | Q75: 100 | R75: 35 | S75: 100 | T75: 38 | U75: 100 | V75: 38037.016 | W75: 100
A76: 職 別 | B76: 大工工事業 | C76: 0% | D76: 1123.5484 | E76: 66.666667 | F76: 569.5 | G76: 51.851852 | H76: 441.33333 | I76: 66.666667 | J76: 213.36986 | K76: 31.884058 | L76: 20 | M76: 40 | N76: 10.230769 | O76: 53.846154 | V76: 2377.9824 | W76: 56.823605
C77: 0%超 10%以下 | D77: 499.35484 | E77: 29.62963 | F77: 366.10714 | G77: 33.333333 | H77: 220.66667 | I77: 33.333333 | J77: 358.84932 | K77: 53.623188 | L77: 20 | M77: 40 | N77: 7.3076923 | O77: 38.461538 | P77: 1 | Q77: 100 | V77: 1473.2857 | W77: 35.205224
C78: 10%超 20%以下 | D78: 62.419355 | E78: 3.7037037 | F78: 122.03571 | G78: 11.111111 | J78: 38.794521 | K78: 5.7971014 | L78: 10 | M78: 20 | N78: 1.4615385 | O78: 7.6923077 | V78: 234.71113 | W78: 5.6085919
C79: 20%超 30%以下 | J79: 38.794521 | K79: 5.7971014 | V79: 38.794521 | W79: 0.92702308
C80: 30%超 40%以下 | F80: 40.678571 | G80: 3.7037037 | J80: 9.6986301 | K80: 1.4492754 | V80: 50.377202 | W80: 1.2037996
C81: 40%超 | J81: 9.6986301 | K81: 1.4492754 | V81: 9.6986301 | W81: 0.23175577
C82: 小 計 | D82: 1685.3226 | E82: 100 | F82: 1098.3214 | G82: 100 | H82: 662 | I82: 100 | J82: 669.20548 | K82: 100 | L82: 50 | M82: 100 | N82: 19 | O82: 100 | P82: 1 | Q82: 100 | V82: 4184.8495 | W82: 100
B83: とび・土工・ コンクリート 工事業 | C83: 0% | D83: 345.27273 | E83: 54.545455 | F83: 1559.8485 | G83: 55.03876 | H83: 940.25806 | I83: 45.16129 | J83: 893.55882 | K83: 38.690476 | L83: 91.962617 | M83: 39.423077 | N83: 51.209877 | O83: 41.975309 | P83: 8.8888889 | Q83: 55.555556 | R83: 0.4 | S83: 20 | V83: 3891.3995 | W83: 47.255154
C84: 0%超 10%以下 | D84: 230.18182 | E84: 36.363636 | F84: 1032.5758 | G84: 36.434109 | H84: 805.93548 | I84: 38.709677 | J84: 1195.9941 | K84: 51.785714 | L84: 132.33645 | M84: 56.730769 | N84: 60.246914 | O84: 49.382716 | P84: 7.1111111 | Q84: 44.444444 | R84: 1.2 | S84: 60 | T84: 3 | U84: 100 | V84: 3468.5817 | W84: 42.120672
C85: 10%超 20%以下 | D85: 28.772727 | E85: 4.5454545 | F85: 241.66667 | G85: 8.5271318 | H85: 67.16129 | I85: 3.2258065 | J85: 137.47059 | K85: 5.952381 | L85: 4.4859813 | M85: 1.9230769 | N85: 9.037037 | O85: 7.4074074 | R85: 0.4 | S85: 20 | V85: 488.99429 | W85: 5.9380952
C86: 20%超 30%以下 | H86: 201.48387 | I86: 9.6774194 | J86: 54.988235 | K86: 2.3809524 | L86: 4.4859813 | M86: 1.9230769 | N86: 1.5061728 | O86: 1.2345679 | V86: 262.46426 | W86: 3.187231
C87: 30%超 40%以下 | J87: 27.494118 | K87: 1.1904762 | V87: 27.494118 | W87: 0.33387443
C88: 40%超 | D88: 28.772727 | E88: 4.5454545 | H88: 67.16129 | I88: 3.2258065 | V88: 95.934018 | W88: 1.1649734
C89: 小 計 | D89: 633 | E89: 100 | F89: 2834.0909 | G89: 100 | H89: 2082 | I89: 100 | J89: 2309.5059 | K89: 100 | L89: 233.27103 | M89: 100 | N89: 122 | O89: 100 | P89: 16 | Q89: 100 | R89: 2 | S89: 100 | T89: 3 | U89: 100 | V89: 8234.8678 | W89: 100
A90: 職 別 | B90: 鋼構造物 工事業 | C90: 0% | D90: 262.85714 | E90: 76.923077 | F90: 437.32 | G90: 52 | H90: 206.47059 | I90: 37.5 | J90: 661.875 | K90: 48.387097 | L90: 58.9375 | M90: 48.93617 | N90: 27.625 | O90: 42.5 | P90: 5 | Q90: 50 | R90: 1.25 | S90: 25 | T90: 0.66666667 | U90: 16.666667 | V90: 1662.0019 | W90: 50.278145
C91: 0%超 10%以下 | D91: 78.857143 | E91: 23.076923 | F91: 302.76 | G91: 36 | H91: 240.88235 | I91: 43.75 | J91: 529.5 | K91: 38.709677 | L91: 48.6875 | M91: 40.425532 | N91: 32.5 | O91: 50 | P91: 5 | Q91: 50 | R91: 1.25 | S91: 25 | T91: 0.66666667 | U91: 16.666667 | V91: 1240.1037 | W91: 37.515066
C92: 10%超 20%以下 | F92: 100.92 | G92: 12 | H92: 103.23529 | I92: 18.75 | J92: 147.08333 | K92: 10.752688 | L92: 10.25 | M92: 8.5106383 | N92: 3.25 | O92: 5 | R92: 1.25 | S92: 25 | T92: 1.3333333 | U92: 33.333333 | V92: 367.32196 | W92: 11.112061
C93: 20%超 30%以下 | J93: 14.708333 | K93: 1.0752688 | R93: 1.25 | S93: 25 | V93: 15.958333 | W93: 0.48276442
C94: 30%超 40%以下 | J94: 14.708333 | K94: 1.0752688 | L94: 2.5625 | M94: 2.1276596 | N94: 1.625 | O94: 2.5 | T94: 1.3333333 | U94: 33.333333 | V94: 20.229167 | W94: 0.61196378
C95: 40%超
C96: 小 計 | D96: 341.71429 | E96: 100 | F96: 841 | G96: 100 | H96: 550.58824 | I96: 100 | J96: 1367.875 | K96: 100 | L96: 120.4375 | M96: 100 | N96: 65 | O96: 100 | P96: 10 | Q96: 100 | R96: 5 | S96: 100 | T96: 4 | U96: 100 | V96: 3305.615 | W96: 100
B97: 鉄筋工事業 | C97: 0% | D97: 37.6 | E97: 80 | F97: 255.5 | G97: 51.724138 | H97: 225.6 | I97: 60 | J97: 154.8 | K97: 40.677966 | L97: 11.666667 | M97: 38.888889 | P97: 1 | Q97: 100 | V97: 686.16667 | W97: 51.378368
C98: 0%超 10%以下 | D98: 9.4 | E98: 20 | F98: 187.36667 | G98: 37.931034 | H98: 94 | I98: 25 | J98: 167.7 | K98: 44.067797 | L98: 13.333333 | M98: 44.444444 | N98: 7 | O98: 100 | V98: 478.8 | W98: 35.851294
C99: 10%超 20%以下 | F99: 17.033333 | G99: 3.4482759 | H99: 37.6 | I99: 10 | J99: 32.25 | K99: 8.4745763 | L99: 5 | M99: 16.666667 | V99: 91.883333 | W99: 6.879984
C100: 20%超 30%以下 | F100: 17.033333 | G100: 3.4482759 | H100: 18.8 | I100: 5 | J100: 6.45 | K100: 1.6949153 | V100: 42.283333 | W100: 3.1660656
C101: 30%超 40%以下 | J101: 12.9 | K101: 3.3898305 | V101: 12.9 | W101: 0.96591831
...

Sheet 2-12-2
A1: 表2－12－2 総工事件数に占める原価割れ工事件数の比率（経年変化）
L3: （単位：％）
B4: 資本金 | C4: 個 人 | D4: 法 人 | L4: 合計
A5: 年度 | B5: 原価割れ比率 | D5: 500万円未満 | E5: 500万円以上 1000万円未満 | F5: 1000万円以上 3000万円未満 | G5: 3000万円以上 5000万円未満 | H5: 5000万円以上 1億円未満 | I5: 1億円以上 3億円未満 | J5: 3億円以上 10億円未満 | K5: 10億円以上
A6: R01 年度 | B6: 0% | C6: =IF('2-12-1'!E258<>"",'2-12-1'!E258," ") -> 69.742317 | D6: =IF('2-12-1'!G258<>"",'2-12-1'!G258," ") -> 59.178041 | E6: =IF('2-12-1'!I258<>"",'2-12-1'!I258," ") -> 51.732814 | F6: =IF('2-12-1'!K258<>"",'2-12-1'!K258," ") -> 46.086609 | G6: =IF('2-12-1'!M258<>"",'2-12-1'!M258," ") -> 47.158601 | H6: =IF('2-12-1'!O258<>"",'2-12-1'!O258," ") -> 41.14967 | I6: =IF('2-12-1'!Q258<>"",'2-12-1'!Q258," ") -> 25.646987 | J6: =IF('2-12-1'!S258<>"",'2-12-1'!S258," ") -> 26.162083 | K6: =IF('2-12-1'!U258<>"",'2-12-1'!U258," ") -> 15.000063 | L6: =IF('2-12-1'!W258<>"",'2-12-1'!W258," ") -> 53.018965
B7: 0%超 10%以下 | C7: =IF('2-12-1'!E259<>"",'2-12-1'!E259," ") -> 25.988883 | D7: =IF('2-12-1'!G259<>"",'2-12-1'!G259," ") -> 32.720628 | E7: =IF('2-12-1'!I259<>"",'2-12-1'!I259," ") -> 40.369836 | F7: =IF('2-12-1'!K259<>"",'2-12-1'!K259," ") -> 44.385791 | G7: =IF('2-12-1'!M259<>"",'2-12-1'!M259," ") -> 45.338661 | H7: =IF('2-12-1'!O259<>"",'2-12-1'!O259," ") -> 51.77246 | I7: =IF('2-12-1'!Q259<>"",'2-12-1'!Q259," ") -> 66.420978 | J7: =IF('2-12-1'!S259<>"",'2-12-1'!S259," ") -> 64.83536 | K7: =IF('2-12-1'!U259<>"",'2-12-1'!U259," ") -> 76.787731 | L7: =IF('2-12-1'!W259<>"",'2-12-1'!W259," ") -> 38.936543
B8: 10%超 20%以下 | C8: =IF('2-12-1'!E260<>"",'2-12-1'!E260," ") -> 2.5212763 | D8: =IF('2-12-1'!G260<>"",'2-12-1'!G260," ") -> 6.6989887 | E8: =IF('2-12-1'!I260<>"",'2-12-1'!I260," ") -> 5.5467165 | F8: =IF('2-12-1'!K260<>"",'2-12-1'!K260," ") -> 6.4473357 | G8: =IF('2-12-1'!M260<>"",'2-12-1'!M260," ") -> 5.4380712 | H8: =IF('2-12-1'!O260<>"",'2-12-1'!O260," ") -> 4.0750223 | I8: =IF('2-12-1'!Q260<>"",'2-12-1'!Q260," ") -> 7.2832177 | J8: =IF('2-12-1'!S260<>"",'2-12-1'!S260," ") -> 6.8919343 | K8: =IF('2-12-1'!U260<>"",'2-12-1'!U260," ") -> 2.6778448 | L8: =IF('2-12-1'!W260<>"",'2-12-1'!W260," ") -> 5.7499832
B9: 20%超 30%以下 | C9: =IF('2-12-1'!E261<>"",'2-12-1'!E261," ") -> 0.26546396 | D9: =IF('2-12-1'!G261<>"",'2-12-1'!G261," ") -> 0.88718437 | E9: =IF('2-12-1'!I261<>"",'2-12-1'!I261," ") -> 2.0234012 | F9: =IF('2-12-1'!K261<>"",'2-12-1'!K261," ") -> 2.2375458 | G9: =IF('2-12-1'!M261<>"",'2-12-1'!M261," ") -> 1.2723252 | H9: =IF('2-12-1'!O261<>"",'2-12-1'!O261," ") -> 1.9766983 | I9: =IF('2-12-1'!Q261<>"",'2-12-1'!Q261," ") | J9: =IF('2-12-1'!S261<>"",'2-12-1'!S261," ") -> 2.1106222 | K9: =IF('2-12-1'!U261<>"",'2-12-1'!U261," ") -> 1.6705821 | L9: =IF('2-12-1'!W261<>"",'2-12-1'!W261," ") -> 1.543155
B10: 30%超 40%以下 | C10: =IF('2-12-1'!E262<>"",'2-12-1'!E262," ") -> 0.029709956 | D10: =IF('2-12-1'!G262<>"",'2-12-1'!G262," ") -> 0.19871593 | E10: =IF('2-12-1'!I262<>"",'2-12-1'!I262," ") -> 0.0096650841 | F10: =IF('2-12-1'!K262<>"",'2-12-1'!K262," ") -> 0.52690869 | G10: =IF('2-12-1'!M262<>"",'2-12-1'!M262," ") -> 0.63929563 | H10: =IF('2-12-1'!O262<>"",'2-12-1'!O262," ") -> 0.57204644 | I10: =IF('2-12-1'!Q262<>"",'2-12-1'!Q262," ") -> 0.64881796 | J10: =IF('2-12-1'!S262<>"",'2-12-1'!S262," ") | K10: =IF('2-12-1'!U262<>"",'2-12-1'!U262," ") -> 1.7565679 | L10: =IF('2-12-1'!W262<>"",'2-12-1'!W262," ") -> 0.30483155
B11: 40%超 | C11: =IF('2-12-1'!E263<>"",'2-12-1'!E263," ") -> 1.4523503 | D11: =IF('2-12-1'!G263<>"",'2-12-1'!G263," ") -> 0.31644179 | E11: =IF('2-12-1'!I263<>"",'2-12-1'!I263," ") -> 0.31756676 | F11: =IF('2-12-1'!K263<>"",'2-12-1'!K263," ") -> 0.31580977 | G11: =IF('2-12-1'!M263<>"",'2-12-1'!M263," ") -> 0.15304602 | H11: =IF('2-12-1'!O263<>"",'2-12-1'!O263," ") -> 0.45410288 | I11: =IF('2-12-1'!Q263<>"",'2-12-1'!Q263," ") | J11: =IF('2-12-1'!S263<>"",'2-12-1'!S263," ") | K11: =IF('2-12-1'!U263<>"",'2-12-1'!U263," ") -> 2.1072115 | L11: =IF('2-12-1'!W263<>"",'2-12-1'!W263," ") -> 0.44652175
A12: 増減 | B12: 0% | C12: =IF(OR(C6=" ",C18=" "),"",C6-C18) -> 5.8525678 | D12: =IF(OR(D6=" ",D18=" "),"",D6-D18) -> 12.381886 | E12: =IF(OR(E6=" ",E18=" "),"",E6-E18) -> 6.146678 | F12: =IF(OR(F6=" ",F18=" "),"",F6-F18) -> 10.751498 | G12: =IF(OR(G6=" ",G18=" "),"",G6-G18) -> 10.336012 | H12: =IF(OR(H6=" ",H18=" "),"",H6-H18) -> 7.9679003 | I12: =IF(OR(I6=" ",I18=" "),"",I6-I18) -> 3.2647619 | J12: =IF(OR(J6=" ",J18=" "),"",J6-J18) -> 9.5212657 | ... L12: =IF(OR(L6=" ",L18=" "),"",L6-L18) -> 8.8726727
B13: 0%超 10%以下 | C13: =IF(OR(C7=" ",C19=" "),"",C7-C19) -> -2.7187536 | D13: =IF(OR(D7=" ",D19=" "),"",D7-D19) -> -7.7340604 | E13: =IF(OR(E7=" ",E19=" "),"",E7-E19) -> 0.036431043 | F13: =IF(OR(F7=" ",F19=" "),"",F7-F19) -> -5.2796407 | G13: =IF(OR(G7=" ",G19=" "),"",G7-G19) -> -0.18599854 | H13: =IF(OR(H7=" ",H19=" "),"",H7-H19) -> -1.1898045 | I13: =IF(OR(I7=" ",I19=" "),"",I7-I19) -> 0.67307023 | J13: =IF(OR(J7=" ",J19=" "),"",J7-J19) -> -8.6016375 | ... L13: =IF(OR(L7=" ",L19=" "),"",L7-L19) -> -3.6917936
B14: 10%超 20%以下 | C14: =IF(OR(C8=" ",C20=" "),"",C8-C20) -> -2.3193099 | D14: =IF(OR(D8=" ",D20=" "),"",D8-D20) -> -1.0564717 | E14: =IF(OR(E8=" ",E20=" "),"",E8-E20) -> -3.787507 | F14: =IF(OR(F8=" ",F20=" "),"",F8-F20) -> -3.6354934 | G14: =IF(OR(G8=" ",G20=" "),"",G8-G20) -> -5.8937474 | H14: =IF(OR(H8=" ",H20=" "),"",H8-H20) -> -4.828993 | I14: =IF(OR(I8=" ",I20=" "),"",I8-I20) -> -2.5318124 | J14: =IF(OR(J8=" ",J20=" "),"",J8-J20) -> 1.319905 | ... L14: =IF(OR(L8=" ",L20=" "),"",L8-L20) -> -2.8699705
B15: 20%超 30%以下 | C15: =IF(OR(C9=" ",C21=" "),"",C9-C21) -> -2.0863265 | D15: =IF(OR(D9=" ",D21=" "),"",D9-D21) -> -2.6949946 | E15: =IF(OR(E9=" ",E21=" "),"",E9-E21) -> -0.7675735 | F15: =IF(OR(F9=" ",F21=" "),"",F9-F21) -> -0.79343273 | G15: =IF(OR(G9=" ",G21=" "),"",G9-G21) -> -2.4903522 | H15: =IF(OR(H9=" ",H21=" "),"",H9-H21) -> -1.9440541 | I15: =IF(OR(I9=" ",I21=" "),"",I9-I21) | J15: =IF(OR(J9=" ",J21=" "),"",J9-J21) -> -0.60822492 | ... L15: =IF(OR(L9=" ",L21=" "),"",L9-L21) -> -1.5380171
B16: 30%超 40%以下 | C16: =IF(OR(C10=" ",C22=" "),"",C10-C22) -> -0.087213518 | D16: =IF(OR(D10=" ",D22=" "),"",D10-D22) -> -0.58573914 | E16: =IF(OR(E10=" ",E22=" "),"",E10-E22) -> -0.77603772 | F16: =IF(OR(F10=" ",F22=" "),"",F10-F22) -> -0.78242086 | G16: =IF(OR(G10=" ",G22=" "),"",G10-G22) -> -0.58894061 | H16: =IF(OR(H10=" ",H22=" "),"",H10-H22) -> 0.099313428 | I16: =IF(OR(I10=" ",I22=" "),"",I10-I22) | J16: =IF(OR(J10=" ",J22=" "),"",J10-J22) | ... L16: =IF(OR(L10=" ",L22=" "),"",L10-L22) -> -0.58088185
B17: 40%超 | C17: =IF(OR(C11=" ",C23=" "),"",C11-C23) -> 1.3590357 | D17: =IF(OR(D11=" ",D23=" "),"",D11-D23) -> -0.31062057 | E17: =IF(OR(E11=" ",E23=" "),"",E11-E23) -> -0.85199085 | F17: =IF(OR(F11=" ",F23=" "),"",F11-F23) -> -0.26051079 | G17: =IF(OR(G11=" ",G23=" "),"",G11-G23) -> -1.1769734 | H17: =IF(OR(H11=" ",H23=" "),"",H11-H23) -> -0.10436211 | I17: =IF(OR(I11=" ",I23=" "),"",I11-I23) | J17: =IF(OR(J11=" ",J23=" "),"",J11-J23) | ... L17: =IF(OR(L11=" ",L23=" "),"",L11-L23) -> -0.19200971
A18: H26 年度 | B18: 0% | C18: 63.889749 | D18: 46.796154 | E18: 45.586136 | F18: 35.335111 | G18: 36.822589 | H18: 33.18177 | I18: 22.382225 | J18: 16.640818 | K18: 4.7984891 | L18: 44.146293
B19: 0%超 10%以下 | C19: 28.707636 | D19: 40.454689 | E19: 40.333405 | F19: 49.665431 | G19: 45.524659 | H19: 52.962264 | I19: 65.747907 | J19: 73.436998 | K19: 74.080967 | L19: 42.628337
B20: 10%超 20%以下 | C20: 4.8405862 | D20: 7.7554604 | E20: 9.3342235 | F20: 10.082829 | G20: 11.331819 | H20: 8.9040153 | I20: 9.8150301 | J20: 5.5720294 | K20: 18.149769 | L20: 8.6199537
B21: 20%超 30%以下 | C21: 2.3517904 | D21: 3.5821789 | E21: 2.7909747 | F21: 3.0309785 | G21: 3.7626774 | H21: 3.9207524 | I21: 2.0548377 | J21: 2.7188471 | K21: 2.5934059 | L21: 3.081172
B22: 30%超 40%以下 | C22: 0.11692347 | D22: 0.78445506 | E22: 0.7857028 | F22: 1.3093296 | G22: 1.2282362 | H22: 0.47273301 | J22: 1.6313083 | L22: 0.8857134
B23: 40%超 | C23: 0.093314627 | D23: 0.62706236 | E23: 1.1695576 | F23: 0.57632056 | G23: 1.3300194 | H23: 0.55846499 | K23: 0.37736866 | L23: 0.63853145
A24: 増減 | B24: 0% | C24: =IF(OR(C18=" ",C30=" "),"",C18-C30) -> 12.789749 | D24: =IF(OR(D18=" ",D30=" "),"",D18-D30) -> 13.096154 | E24: =IF(OR(E18=" ",E30=" "),"",E18-E30) -> 15.286136 | F24: =IF(OR(F18=" ",F30=" "),"",F18-F30) -> 7.235111 | G24: =IF(OR(G18=" ",G30=" "),"",G18-G30) -> 13.022589 | H24: =IF(OR(H18=" ",H30=" "),"",H18-H30) -> 6.38177 | I24: =IF(OR(I18=" ",I30=" "),"",I18-I30) -> -6.9177753 | J24: =IF(OR(J18=" ",J30=" "),"",J18-J30) -> 3.9408175 | ... L24: =IF(OR(L18=" ",L30=" "),"",L18-L30) -> 10.946293
B25: 0%超 10%以下 | C25: =IF(OR(C19=" ",C31=" "),"",C19-C31) -> -7.0923639 | D25: =IF(OR(D19=" ",D31=" "),"",D19-D31) -> 2.0546888 | E25: =IF(OR(E19=" ",E31=" "),"",E19-E31) -> -3.266595 | F25: =IF(OR(F19=" ",F31=" "),"",F19-F31) -> 5.1654313 | G25: =IF(OR(G19=" ",G31=" "),"",G19-G31) -> -5.7753406 | H25: =IF(OR(H19=" ",H31=" "),"",H19-H31) -> 2.6622643 | I25: =IF(OR(I19=" ",I31=" "),"",I19-I31) -> 6.4479074 | J25: =IF(OR(J19=" ",J31=" "),"",J19-J31) -> 0.53699775 | ... L25: =IF(OR(L19=" ",L31=" "),"",L19-L31) -> 0.42833683
B26: 10%超 20%以下 | C26: =IF(OR(C20=" ",C32=" "),"",C20-C32) -> -1.6594138 | D26: =IF(OR(D20=" ",D32=" "),"",D20-D32) -> -7.0445396 | E26: =IF(OR(E20=" ",E32=" "),"",E20-E32) -> -3.9657765 | F26: =IF(OR(F20=" ",F32=" "),"",F20-F32) -> -5.6171709 | G26: =IF(OR(G20=" ",G32=" "),"",G20-G32) -> -3.2681814 | H26: =IF(OR(H20=" ",H32=" "),"",H20-H32) -> -5.9959847 | I26: =IF(OR(I20=" ",I32=" "),"",I20-I32) -> 2.6150301 | J26: =IF(OR(J20=" ",J32=" "),"",J20-J32) -> -7.6279706 | ... L26: =IF(OR(L20=" ",L32=" "),"",L20-L32) -> -4.8800463
B27: 20%超 30%以下 | C27: =IF(OR(C21=" ",C33=" "),"",C21-C33) -> -0.54820958 | D27: =IF(OR(D21=" ",D33=" "),"",D21-D33) -> -3.7178211 | E27: =IF(OR(E21=" ",E33=" "),"",E21-E33) -> -4.8090253 | F27: =IF(OR(F21=" ",F33=" "),"",F21-F33) -> -3.1690215 | G27: =IF(OR(G21=" ",G33=" "),"",G21-G33) -> -1.5373226 | H27: =IF(OR(H21=" ",H33=" "),"",H21-H33) -> -0.87924756 | I27: =IF(OR(I21=" ",I33=" "),"",I21-I33) -> -1.1451623 | J27: =IF(OR(J21=" ",J33=" "),"",J21-J33) | ... L27: =IF(OR(L21=" ",L33=" "),"",L21-L33) -> -2.918828
B28: 30%超 40%以下 | C28: =IF(OR(C22=" ",C34=" "),"",C22-C34) -> -1.0830765 | D28: =IF(OR(D22=" ",D34=" "),"",D22-D34) -> -1.7155449 | E28: =IF(OR(E22=" ",E34=" "),"",E22-E34) -> -1.8142972 | F28: =IF(OR(F22=" ",F34=" "),"",F22-F34) -> -1.1906704 | G28: =IF(OR(G22=" ",G34=" "),"",G22-G34) -> -0.97176377 | H28: =IF(OR(H22=" ",H34=" "),"",H22-H34) -> -1.627267 | I28: =IF(OR(I22=" ",I34=" "),"",I22-I34) | J28: =IF(OR(J22=" ",J34=" "),"",J22-J34) -> 0.43130826 | ... L28: =IF(OR(L22=" ",L34=" "),"",L22-L34) -> -1.4142866
B29: 40%超 | C29: =IF(OR(C23=" ",C35=" "),"",C23-C35) -> -2.4066854 | D29: =IF(OR(D23=" ",D35=" "),"",D23-D35) -> -2.6729376 | E29: =IF(OR(E23=" ",E35=" "),"",E23-E35) -> -1.4304424 | F29: =IF(OR(F23=" ",F35=" "),"",F23-F35) -> -2.4236794 | G29: =IF(OR(G23=" ",G35=" "),"",G23-G35) -> -1.4699806 | H29: =IF(OR(H23=" ",H35=" "),"",H23-H35) -> -0.54153501 | I29: =IF(OR(I23=" ",I35=" "),"",I23-I35) | J29: =IF(OR(J23=" ",J35=" "),"",J23-J35) | ... L29: =IF(OR(L23=" ",L35=" "),"",L23-L35) -> -2.2614685
A30: H23 年度 | B30: 0% | C30: 51.1 | D30: 33.7 | E30: 30.3 | F30: 28.1 | G30: 23.8 | H30: 26.8 | I30: 29.3 | J30: 12.7 | K30: 1.7 | L30: 33.2
B31: 0%超 10%以下 | C31: 35.8 | D31: 38.4 | E31: 43.6 | F31: 44.5 | G31: 51.3 | H31: 50.3 | I31: 59.3 | J31: 72.9 | K31: 80 | L31: 42.2
B32: 10%超 20%以下 | C32: 6.5 | D32: 14.8 | E32: 13.3 | F32: 15.7 | G32: 14.6 | H32: 14.9 | I32: 7.2 | J32: 13.2 | K32: 13.5 | L32: 13.5
B33: 20%超 30%以下 | C33: 2.9 | D33: 7.3 | E33: 7.6 | F33: 6.2 | G33: 5.3 | H33: 4.8 | I33: 3.2 | K33: 3.9 | L33: 6
B34: 30%超 40%以下 | C34: 1.2 | D34: 2.5 | E34: 2.6 | F34: 2.5 | G34: 2.2 | H34: 2.1 | I34: 1 | J34: 1.2 | K34: 0.8 | L34: 2.3
B35: 40%超 | C35: 2.5 | D35: 3.3 | E35: 2.6 | F35: 3 | G35: 2.8 | H35: 1.1 | L35: 2.9
A36: 増減 | B36: 0% | C36: =IF(OR(C30=" ",C42=" "),"",C30-C42) -> -1.6 | D36: =IF(OR(D30=" ",D42=" "),"",D30-D42) -> 1.3 | E36: =IF(OR(E30=" ",E42=" "),"",E30-E42) -> 0.2 | F36: =IF(OR(F30=" ",F42=" "),"",F30-F42) -> 3.8 | G36: =IF(OR(G30=" ",G42=" "),"",G30-G42) -> 1.8 | H36: =IF(OR(H30=" ",H42=" "),"",H30-H42) -> 4.2 | I36: =IF(OR(I30=" ",I42=" "),"",I30-I42) -> 10.1 | J36: =IF(OR(J30=" ",J42=" "),"",J30-J42) -> -1.3 | ... L36: =IF(OR(L30=" ",L42=" "),"",L30-L42) -> 1.7
B37: 0%超 10%以下 | C37: =IF(OR(C31=" ",C43=" "),"",C31-C43) -> 8.3 | D37: =IF(OR(D31=" ",D43=" "),"",D31-D43) -> -1 | E37: =IF(OR(E31=" ",E43=" "),"",E31-E43) -> 4.7 | F37: =IF(OR(F31=" ",F43=" "),"",F31-F43) -> -1 | G37: =IF(OR(G31=" ",G43=" "),"",G31-G43) -> 4.6 | H37: =IF(OR(H31=" ",H43=" "),"",H31-H43) -> -0.9 | I37: =IF(OR(I31=" ",I43=" "),"",I31-I43) -> -5.5 | J37: =IF(OR(J31=" ",J43=" "),"",J31-J43) -> 6.6 | ... L37: =IF(OR(L31=" ",L43=" "),"",L31-L43) -> 1.6
B38: 10%超 20%以下 | C38: =IF(OR(C32=" ",C44=" "),"",C32-C44) -> -6.9 | D38: =IF(OR(D32=" ",D44=" "),"",D32-D44) -> -1.9 | E38: =IF(OR(E32=" ",E44=" "),"",E32-E44) -> -2.6 | F38: =IF(OR(F32=" ",F44=" "),"",F32-F44) -> -1.4 | G38: =IF(OR(G32=" ",G44=" "),"",G32-G44) -> -2.1 | H38: =IF(OR(H32=" ",H44=" "),"",H32-H44) -> -0.8 | I38: =IF(OR(I32=" ",I44=" "),"",I32-I44) -> -3 | J38: =IF(OR(J32=" ",J44=" "),"",J32-J44) -> -1.9 | ... L38: =IF(OR(L32=" ",L44=" "),"",L32-L44) -> -2.6
B39: 20%超 30%以下 | C39: =IF(OR(C33=" ",C45=" "),"",C33-C45) -> -0.2 | D39: =IF(OR(D33=" ",D45=" "),"",D33-D45) -> 0.8 | E39: =IF(OR(E33=" ",E45=" "),"",E33-E45) -> 0.1 | F39: =IF(OR(F33=" ",F45=" "),"",F33-F45) -> -0.6 | G39: =IF(OR(G33=" ",G45=" "),"",G33-G45) -> -2.3 | H39: =IF(OR(H33=" ",H45=" "),"",H33-H45) -> -0.9 | I39: =IF(OR(I33=" ",I45=" "),"",I33-I45) -> -1.4 | J39: =IF(OR(J33=" ",J45=" "),"",J33-J45) | ... L39: =IF(OR(L33=" ",L45=" "),"",L33-L45) -> -0.2
B40: 30%超 40%以下 | C40: =IF(OR(C34=" ",C46=" "),"",C34-C46) -> 0.2 | D40: =IF(OR(D34=" ",D46=" "),"",D34-D46) -> -0.4 | E40: =IF(OR(E34=" ",E46=" "),"",E34-E46) -> -2 | F40: =IF(OR(F34=" ",F46=" "),"",F34-F46) -> -0.5 | G40: =IF(OR(G34=" ",G46=" "),"",G34-G46) -> -0.7 | H40: =IF(OR(H34=" ",H46=" "),"",H34-H46) -> 0.2 | I40: =IF(OR(I34=" ",I46=" "),"",I34-I46) -> 0.2 | J40: =IF(OR(J34=" ",J46=" "),"",J34-J46) | ... L40: =IF(OR(L34=" ",L46=" "),"",L34-L46) -> -0.5
B41: 40%超 | C41: =IF(OR(C35=" ",C47=" "),"",C35-C47) -> 0.2 | D41: =IF(OR(D35=" ",D47=" "),"",D35-D47) -> 1.2 | E41: =IF(OR(E35=" ",E47=" "),"",E35-E47) -> -0.4 | F41: =IF(OR(F35=" ",F47=" "),"",F35-F47) -> -0.3 | G41: =IF(OR(G35=" ",G47=" "),"",G35-G47) -> -1.2 | H41: =IF(OR(H35=" ",H47=" "),"",H35-H47) -> -1.8 | I41: =IF(OR(I35=" ",I47=" "),"",I35-I47) | J41: =IF(OR(J35=" ",J47=" "),"",J35-J47) | ... L41: =IF(OR(L35=" ",L47=" "),"",L35-L47) -> 0
A42: H20 年度 | B42: 0% | C42: 52.7 | D42: 32.4 | E42: 30.1 | F42: 24.3 | G42: 22 | H42: 22.6 | I42: 19.2 | J42: 14 | K42: 3.8 | L42: 31.5
B43: 0%超 10%以下 | C43: 27.5 | D43: 39.4 | E43: 38.9 | F43: 45.5 | G43: 46.7 | H43: 51.2 | I43: 64.8 | J43: 66.3 | K43: 79.5 | L43: 40.6
B44: 10%超 20%以下 | C44: 13.4 | D44: 16.7 | E44: 15.9 | F44: 17.1 | G44: 16.7 | H44: 15.7 | I44: 10.2 | J44: 15.1 | K44: 11.6 | L44: 16.1
B45: 20%超 30%以下 | C45: 3.1 | D45: 6.5 | E45: 7.5 | F45: 6.8 | G45: 7.6 | H45: 5.7 | I45: 4.6 | J45: 3 | K45: 3.4 | L45: 6.2
B46: 30%超 40%以下 | C46: 1 | D46: 2.9 | E46: 4.6 | F46: 3 | G46: 2.9 | H46: 1.9 | I46: 0.8 | K46: 0.9 | L46: 2.8
B47: 40%超 | C47: 2.3 | D47: 2.1 | E47: 3 | F47: 3.3 | G47: 4 | H47: 2.9 | I47: 0.4 | J47: 1.6 | K47: 0.9 | L47: 2.9
A48: 増減 | B48: 0% | C48: =IF(OR(C42=" ",C54=" "),"",C42-C54) -> -1.2 | D48: =IF(OR(D42=" ",D54=" "),"",D42-D54) -> -5.9 | E48: =IF(OR(E42=" ",E54=" "),"",E42-E54) -> -5.7 | F48: =IF(OR(F42=" ",F54=" "),"",F42-F54) -> -3.8 | G48: =IF(OR(G42=" ",G54=" "),"",G42-G54) -> -4.1 | H48: =IF(OR(H42=" ",H54=" "),"",H42-H54) -> -2.3 | I48: =IF(OR(I42=" ",I54=" "),"",I42-I54) -> 0 | J48: =IF(OR(J42=" ",J54=" "),"",J42-J54) -> 5.2 | ... L48: =IF(OR(L42=" ",L54=" "),"",L42-L54) -> -4.6
B49: 0%超 10%以下 | C49: =IF(OR(C43=" ",C55=" "),"",C43-C55) -> -0.2 | D49: =IF(OR(D43=" ",D55=" "),"",D43-D55) -> 4.4 | E49: =IF(OR(E43=" ",E55=" "),"",E43-E55) -> -2.2 | F49: =IF(OR(F43=" ",F55=" "),"",F43-F55) -> -0.5 | G49: =IF(OR(G43=" ",G55=" "),"",G43-G55) -> 0 | H49: =IF(OR(H43=" ",H55=" "),"",H43-H55) -> -1 | I49: =IF(OR(I43=" ",I55=" "),"",I43-I55) -> 1 | J49: =IF(OR(J43=" ",J55=" "),"",J43-J55) -> -2.8 | ... L49: =IF(OR(L43=" ",L55=" "),"",L43-L55) -> 0.9
B50: 10%超 20%以下 | C50: =IF(OR(C44=" ",C56=" "),"",C44-C56) -> 1.5 | D50: =IF(OR(D44=" ",D56=" "),"",D44-D56) -> 0.8 | E50: =IF(OR(E44=" ",E56=" "),"",E44-E56) -> 1.9 | F50: =IF(OR(F44=" ",F56=" "),"",F44-F56) -> 2.3 | G50: =IF(OR(G44=" ",G56=" "),"",G44-G56) -> 0.8 | H50: =IF(OR(H44=" ",H56=" "),"",H44-H56) -> 0.4 | I50: =IF(OR(I44=" ",I56=" "),"",I44-I56) -> -1.2 | J50: =IF(OR(J44=" ",J56=" "),"",J44-J56) -> -2.2 | ... L50: =IF(OR(L44=" ",L56=" "),"",L44-L56) -> 1.6
B51: 20%超 30%以下 | C51: =IF(OR(C45=" ",C57=" "),"",C45-C57) -> -0.4 | D51: =IF(OR(D45=" ",D57=" "),"",D45-D57) -> 1.4 | E51: =IF(OR(E45=" ",E57=" "),"",E45-E57) -> 3.4 | F51: =IF(OR(F45=" ",F57=" "),"",F45-F57) -> 0.7 | G51: =IF(OR(G45=" ",G57=" "),"",G45-G57) -> 1.1 | H51: =IF(OR(H45=" ",H57=" "),"",H45-H57) -> 1.2 | I51: =IF(OR(I45=" ",I57=" "),"",I45-I57) -> 0.9 | J51: =IF(OR(J45=" ",J57=" "),"",J45-J57) -> -1.1 | ... L51: =IF(OR(L45=" ",L57=" "),"",L45-L57) -> 1.1
B52: 30%超 40%以下 | C52: =IF(OR(C46=" ",C58=" "),"",C46-C58) -> -0.5 | D52: =IF(OR(D46=" ",D58=" "),"",D46-D58) -> -0.1 | E52: =IF(OR(E46=" ",E58=" "),"",E46-E58) -> 1.9 | F52: =IF(OR(F46=" ",F58=" "),"",F46-F58) -> 0.2 | G52: =IF(OR(G46=" ",G58=" "),"",G46-G58) -> 0.5 | H52: =IF(OR(H46=" ",H58=" "),"",H46-H58) -> 0.2 | I52: =IF(OR(I46=" ",I58=" "),"",I46-I58) -> -1 | J52: =IF(OR(J46=" ",J58=" "),"",J46-J58) | ... L52: =IF(OR(L46=" ",L58=" "),"",L46-L58) -> 0.3
B53: 40%超 | C53: =IF(OR(C47=" ",C59=" "),"",C47-C59) -> 0.9 | D53: =IF(OR(D47=" ",D59=" "),"",D47-D59) -> -0.6 | E53: =IF(OR(E47=" ",E59=" "),"",E47-E59) -> 0.8 | F53: =IF(OR(F47=" ",F59=" "),"",F47-F59) -> 1.3 | G53: =IF(OR(G47=" ",G59=" "),"",G47-G59) -> 1.5 | H53: =IF(OR(H47=" ",H59=" "),"",H47-H59) -> 1.5 | I53: =IF(OR(I47=" ",I59=" "),"",I47-I59) -> 0.3 | J53: =IF(OR(J47=" ",J59=" "),"",J47-J59) -> 1.6 | ... L53: =IF(OR(L47=" ",L59=" "),"",L47-L59) -> 0.8
A54: H17 年度 | B54: 0% | C54: 53.9 | D54: 38.3 | E54: 35.8 | F54: 28.1 | G54: 26.1 | H54: 24.9 | I54: 19.2 | J54: 8.8 | K54: 5.2 | L54: 36.1
B55: 0%超 10%以下 | C55: 27.7 | D55: 35 | E55: 41.1 | F55: 46 | G55: 46.7 | H55: 52.2 | I55: 63.8 | J55: 69.1 | K55: 75.2 | L55: 39.7
B56: 10%超 20%以下 | C56: 11.9 | D56: 15.9 | E56: 14 | F56: 14.8 | G56: 15.9 | H56: 15.3 | I56: 11.4 | J56: 17.3 | K56: 14.3 | L56: 14.5
B57: 20%超 30%以下 | C57: 3.5 | D57: 5.1 | E57: 4.1 | F57: 6.1 | G57: 6.5 | H57: 4.5 | I57: 3.7 | J57: 4.1 | K57: 1.5 | L57: 5.1
B58: 30%超 40%以下 | C58: 1.5 | D58: 3 | E58: 2.7 | F58: 2.8 | G58: 2.4 | H58: 1.7 | I58: 1.8 | J58: 0.7 | K58: 2.7 | L58: 2.5
B59: 40%超 | C59: 1.4 | D59: 2.7 | E59: 2.2 | F59: 2 | G59: 2.5 | H59: 1.4 | I59: 0.1 | K59: 1.1 | L59: 2.1
A60: 増減 | B60: 0% | C60: =C54-C66 -> 7.8802094 | D60: =D54-D66 -> 6.5685204 | E60: =E54-E66 -> 10.474145 | F60: =F54-F66 -> 6.4559952 | G60: =G54-G66 -> 2.5239025 | H60: =H54-H66 -> 6.3213371 | I60: =I54-I66 -> 2.2964928 | J60: =J54-J66 -> 1.5143807 | ... L60: =L54-L66 -> 6.9341827
B61: 0%超 10%以下 | C61: =C55-C67 -> -6.3868378 | D61: =D55-D67 -> -4.1216469 | E61: =E55-E67 -> -0.43881073 | F61: =F55-F67 -> -2.9513321 | G61: =G55-G67 -> -8.138028 | H61: =H55-H67 -> -6.2188614 | I61: =I55-I67 -> -6.4483597 | J61: =J55-J67 -> -1.8011383 | ... L61: =L55-L67 -> -3.9212006
B62: 10%超 20%以下 | C62: =C56-C68 -> -1.1831842 | D62: =D56-D68 -> 0.35395184 | E62: =E56-E68 -> -2.5466003 | F62: =F56-F68 -> -2.3781464 | G62: =G56-G68 -> 3.2303289 | H62: =H56-H68 -> 0.045279312 | I62: =I56-I68 -> 2.0389666 | J62: =J56-J68 -> -0.053578568 | ... L62: =L56-L68 -> -1.0817928
B63: 20%超 30%以下 | C63: =C57-C69 -> -1.304884 | D63: =D57-D69 -> -1.6912836 | E63: =E57-E69 -> -5.0818714 | F63: =F57-F69 -> -1.6800035 | G63: =G57-G69 -> 1.1123834 | H63: =H57-H69 -> -0.27433681 | I63: =I57-I69 -> 1.9384444 | J63: =J57-J69 -> 1.3452738 | ... L63: =L57-L69 -> -1.7974204
B64: 30%超 40%以下 | C64: =C58-C70 -> 0.6195389 | D64: =D58-D70 -> -0.8017602 | E64: =E58-E70 -> -1.6785329 | F64: =F58-F70 -> 0.24361353 | G64: =G58-G70 -> 0.40689495 | H64: =H58-H70 -> -0.23667221 | I64: =I58-I70 -> 0.42437308 | J64: =J58-J70 -> 0.13254703 | ... L64: =L58-L70 -> -0.16054749
B65: 40%超 | C65: =C59-C71 -> 0.27515867 | D65: =D59-D71 -> -0.30778246 | E65: =E59-E71 -> -0.82832842 | F65: =F59-F71 -> 0.10987484 | G65: =G59-G71 -> 0.96451879 | H65: =H59-H71 -> 0.36325541 | I65: =I59-I71 -> -0.24991693 | J65: =J59-J71 -> -1.1374853 | ... L65: =L59-L71 -> 0.026779747
A66: H14 年度 | B66: 0% | C66: 46.019791 | D66: 31.73148 | E66: 25.325855 | F66: 21.644005 | G66: 23.576097 | H66: 18.578663 | I66: 16.903507 | J66: 7.2856193 | K66: 2.7315598 | L66: 29.165817
B67: 0%超 10%以下 | C67: 34.086838 | D67: 39.121647 | E67: 41.538811 | F67: 48.951332 | G67: 54.838028 | H67: 58.418861 | I67: 70.24836 | J67: 70.901138 | K67: 66.053978 | L67: 43.621201
B68: 10%超 20%以下 | C68: 13.083184 | D68: 15.546048 | E68: 16.5466 | F68: 17.178146 | G68: 12.669671 | H68: 15.254721 | I68: 9.3610334 | J68: 17.353579 | K68: 21.388222 | L68: 15.581793
B69: 20%超 30%以下 | C69: 4.804884 | D69: 6.7912836 | E69: 9.1818714 | F69: 7.7800035 | G69: 5.3876166 | H69: 4.7743368 | I69: 1.7615556 | J69: 2.7547262 | K69: 6.3019543 | L69: 6.8974204
B70: 30%超 40%以下 | C70: 0.8804611 | D70: 3.8017602 | E70: 4.3785329 | F70: 2.5563865 | G70: 1.9931051 | H70: 1.9366722 | I70: 1.3756269 | J70: 0.56745297 | K70: 2.4501812 | L70: 2.6605475
B71: 40%超 | C71: 1.1248413 | D71: 3.0077825 | E71: 3.0283284 | F71: 1.8901252 | G71: 1.5354812 | H71: 1.0367446 | I71: 0.34991693 | J71: 1.1374853 | K71: 1.0741016 | L71: 2.0732203
I72: =$Q$127 -> （注）無効回答企業 167社を除く
S74: （単位：社、％）
B75: 年度 | C75: R01年度 | F75: H26年度 | I75: H23年度 | L75: H20年度 | O75: H17年度 | R75: H14年度
A77: 業 種 | B77: 原価割れ比率 | E77: 増減 | H77: 増減 | K77: 増減 | N77: 増減 | Q77: 増減
A78: 一般 土木 建築 | B78: ０％ | C78: ='2-12-1'!V6 -> 1463.5533 | D78: ='2-12-1'!W6 -> 42.887399 | E78: =IF(OR(D78=" ",G78=" "),"",D78-G78) -> 14.935379 | F78: 1154.6343 | G78: 27.95202 | H78: =IF(OR(G78=" ",J78=" "),"",G78-J78) -> 1.9520197 | I78: 1110.26 | J78: 26 | K78: =IF(OR(J78=" ",M78=" "),"",J78-M78) -> 9.2 | L78: 813.58 | M78: 16.8 | N78: =IF(OR(M78=" ",P78=" "),"",M78-P78) -> -7.2 | O78: 1371 | P78: 24 | Q78: =P78-S78 -> 8.0078074 | R78: 1229.2654 | S78: =IF(ROUND(R84,0)=0,"",ROUND(R78,0)/ROUND(R84,0)*100) -> 15.992193
B79: ０％超 １０％以下 | C79: ='2-12-1'!V7 -> 1531.5721 | D79: ='2-12-1'!W7 -> 44.880597 | E79: =IF(OR(D79=" ",G79=" "),"",D79-G79) -> -5.3686799 | F79: 2075.6833 | G79: 50.249277 | H79: =IF(OR(G79=" ",J79=" "),"",G79-J79) -> 7.1492772 | I79: 1840.34 | J79: 43.1 | K79: =IF(OR(J79=" ",M79=" "),"",J79-M79) -> -6.9 | L79: 2418.14 | M79: 50 | N79: =IF(OR(M79=" ",P79=" "),"",M79-P79) -> 0 | O79: 2854 | P79: 50 | Q79: =P79-S79 -> -9.2713077 | R79: 4555.3638 | S79: =IF(ROUND(R84,0)=0,"",ROUND(R79,0)/ROUND(R84,0)*100) -> 59.271308
B80: １０％超 ２０％以下 | C80: ='2-12-1'!V8 -> 318.07237 | D80: ='2-12-1'!W8 -> 9.3206699 | E80: =IF(OR(D80=" ",G80=" "),"",D80-G80) -> -7.6005608 | F80: 698.97754 | G80: 16.921231 | H80: =IF(OR(G80=" ",J80=" "),"",G80-J80) -> -3.4787693 | I80: 871.61 | J80: 20.4 | K80: =IF(OR(J80=" ",M80=" "),"",J80-M80) -> 1.9 | L80: 893.38 | M80: 18.5 | N80: =IF(OR(M80=" ",P80=" "),"",M80-P80) -> 2.1 | O80: 938 | P80: 16.4 | Q80: =P80-S80 -> 0.60299284 | R80: 1214.1608 | S80: =IF(ROUND(R84,0)=0,"",ROUND(R80,0)/ROUND(R84,0)*100) -> 15.797007
B81: ２０％超 ３０％以下 | C81: ='2-12-1'!V9 -> 50.518238 | D81: ='2-12-1'!W9 -> 1.4803669 | E81: =IF(OR(D81=" ",G81=" "),"",D81-G81) -> -2.537988 | F81: 165.9891 | G81: 4.0183549 | H81: =IF(OR(G81=" ",J81=" "),"",G81-J81) -> -0.18164508 | I81: 179.14 | J81: 4.2 | K81: =IF(OR(J81=" ",M81=" "),"",J81-M81) -> -3.3 | L81: 361.88 | M81: 7.5 | N81: =IF(OR(M81=" ",P81=" "),"",M81-P81) -> 2.4 | O81: 293 | P81: 5.1 | Q81: =P81-S81 -> -2.056799 | R81: 549.52924 | S81: =IF(ROUND(R84,0)=0,"",ROUND(R81,0)/ROUND(R84,0)*100) -> 7.156799
B82: ３０％超 ４０％以下 | C82: ='2-12-1'!V10 -> 18.20152 | D82: ='2-12-1'!W10 -> 0.5333703 | E82: =IF(OR(D82=" ",G82=" "),"",D82-G82) -> 0.24928446 | F82: 11.73494 | G82: 0.28408584 | H82: =IF(OR(G82=" ",J82=" "),"",G82-J82) -> -4.5159142 | I82: 203.81 | J82: 4.8 | K82: =IF(OR(J82=" ",M82=" "),"",J82-M82) -> 1.5 | L82: 158.44 | M82: 3.3 | N82: =IF(OR(M82=" ",P82=" "),"",M82-P82) -> 1.1 | O82: 127 | P82: 2.2 | Q82: =P82-S82 -> 1.1329863 | R82: 82.101257 | S82: =IF(ROUND(R84,0)=0,"",ROUND(R82,0)/ROUND(R84,0)*100) -> 1.0670137
B83: ４０％超 | C83: ='2-12-1'!V11 -> 30.630914 | D83: ='2-12-1'!W11 -> 0.89759646 | E83: =IF(OR(D83=" ",G83=" "),"",D83-G83) -> 0.32256487 | F83: 23.753247 | G83: 0.57503159 | H83: =IF(OR(G83=" ",J83=" "),"",G83-J83) -> -0.82496841 | I83: 61.65 | J83: 1.4 | K83: =IF(OR(J83=" ",M83=" "),"",J83-M83) -> -2.6 | L83: 194.61 | M83: 4 | N83: =IF(OR(M83=" ",P83=" "),"",M83-P83) -> 1.7 | O83: 130 | P83: 2.3 | Q83: =P83-S83 -> 1.5973325 | R83: 54.457054 | S83: =IF(ROUND(R84,0)=0,"",ROUND(R83,0)/ROUND(R84,0)*100) -> 0.70266753
B84: 小 計 | C84: ='2-12-1'!V12 -> 3412.5484 | D84: ='2-12-1'!W12 -> 100 | E84: - | F84: 4130.7725 | G84: 100 | H84: - | I84: 4266.82 | J84: 100 | K84: - | L84: 4840.04 | M84: 100 | N84: - | O84: 5713 | P84: 100 | Q84: - | R84: 7684.8774 | S84: =IF(ROUND(R84,0)=0,"",ROUND(R84,0)/ROUND(R84,0)*100) -> 100
A85: 土木 | B85: ０％ | C85: ='2-12-1'!V48 -> 16138.787 | D85: ='2-12-1'!W48 -> 51.180053 | E85: =IF(OR(D85=" ",G85=" "),"",D85-G85) -> 13.709321 | F85: 13615.832 | G85: 37.470732 | H85: =IF(OR(G85=" ",J85=" "),"",G85-J85) -> 8.4707318 | I85: 11120.12 | J85: 29 | K85: =IF(OR(J85=" ",M85=" "),"",J85-M85) -> 5 | L85: 10674.72 | M85: 24 | N85: =IF(OR(M85=" ",P85=" "),"",M85-P85) -> -8.6 | O85: 17787 | P85: 32.6 | Q85: =P85-S85 -> 8.4159117 | R85: 15050.241 | S85: =IF(ROUND(R91,0)=0,"",ROUND(R85,0)/ROUND(R91,0)*100) -> 24.184088
B86: ０％超 １０％以下 | C86: ='2-12-1'!V49 -> 11963.421 | D86: ='2-12-1'!W49 -> 37.938943 | E86: =IF(OR(D86=" ",G86=" "),"",D86-G86) -> -6.620788 | F86: 16191.779 | G86: 44.559731 | H86: =IF(OR(G86=" ",J86=" "),"",G86-J86) -> 4.059731 | I86: 15569.18 | J86: 40.5 | K86: =IF(OR(J86=" ",M86=" "),"",J86-M86) -> 5.3 | L86: 15630.85 | M86: 35.2 | N86: =IF(OR(M86=" ",P86=" "),"",M86-P86) -> -1.9 | O86: 20250 | P86: 37.1 | Q86: =P86-S86 -> -8.0864826 | R86: 28120.004 | S86: =IF(ROUND(R91,0)=0,"",ROUND(R86,0)/ROUND(R91,0)*100) -> 45.186483
B87: １０％超 ２０％以下 | C87: ='2-12-1'!V50 -> 2294.1675 | D87: ='2-12-1'!W50 -> 7.275368 | E87: =IF(OR(D87=" ",G87=" "),"",D87-G87) -> -2.9664964 | F87: 3721.6115 | G87: 10.241864 | H87: =IF(OR(G87=" ",J87=" "),"",G87-J87) -> -7.3581355 | I87: 6765.88 | J87: 17.6 | K87: =IF(OR(J87=" ",M87=" "),"",J87-M87) -> -3.1 | L87: 9191.97 | M87: 20.7 | N87: =IF(OR(M87=" ",P87=" "),"",M87-P87) -> 4.6 | O87: 8821 | P87: 16.1 | Q87: =P87-S87 -> -0.50105092 | R87: 10330.776 | S87: =IF(ROUND(R91,0)=0,"",ROUND(R87,0)/ROUND(R91,0)*100) -> 16.601051
B88: ２０％超 ３０％以下 | C88: ='2-12-1'!V51 -> 786.2974 | D88: ='2-12-1'!W51 -> 2.493542 | E88: =IF(OR(D88=" ",G88=" "),"",D88-G88) -> -1.8819722 | F88: 1589.9413 | G88: 4.3755141 | H88: =IF(OR(G88=" ",J88=" "),"",G88-J88) -> -2.2244859 | I88: 2548.77 | J88: 6.6 | K88: =IF(OR(J88=" ",M88=" "),"",J88-M88) -> -3.1 | L88: 4316.69 | M88: 9.7 | N88: =IF(OR(M88=" ",P88=" "),"",M88-P88) -> 1.8 | O88: 4313 | P88: 7.9 | Q88: =P88-S88 -> -0.10565634 | R88: 4982.0776 | S88: =IF(ROUND(R91,0)=0,"",ROUND(R88,0)/ROUND(R91,0)*100) -> 8.0056563
B89: ３０％超 ４０％以下 | C89: ='2-12-1'!V52 -> 161.10651 | D89: ='2-12-1'!W52 -> 0.51090826 | E89: =IF(OR(D89=" ",G89=" "),"",D89-G89) -> -1.3791504 | F89: 686.79525 | G89: 1.8900586 | H89: =IF(OR(G89=" ",J89=" "),"",G89-J89) -> -1.0099414 | I89: 1129.56 | J89: 2.9 | K89: =IF(OR(J89=" ",M89=" "),"",J89-M89) -> -1.8 | L89: 2067.06 | M89: 4.7 | N89: =IF(OR(M89=" ",P89=" "),"",M89-P89) -> 1.5 | O89: 1742 | P89: 3.2 | Q89: =P89-S89 -> -0.31111183 | R89: 2185.1702 | S89: =IF(ROUND(R91,0)=0,"",ROUND(R89,0)/ROUND(R91,0)*100) -> 3.5111118
B90: ４０％超 | C90: ='2-12-1'!V53 -> 189.57399 | D90: ='2-12-1'!W53 -> 0.60118563 | E90: =IF(OR(D90=" ",G90=" "),"",D90-G90) -> -0.86091429 | F90: 531.28685 | G90: 1.4620999 | H90: =IF(OR(G90=" ",J90=" "),"",G90-J90) -> -1.8379001 | I90: 1265.51 | J90: 3.3 | K90: =IF(OR(J90=" ",M90=" "),"",J90-M90) -> -2.4 | L90: 2553.34 | M90: 5.7 | N90: =IF(OR(M90=" ",P90=" "),"",M90-P90) -> 2.6 | O90: 1710 | P90: 3.1 | Q90: =P90-S90 -> 0.58839003 | R90: 1563.115 | S90: =IF(ROUND(R91,0)=0,"",ROUND(R90,0)/ROUND(R91,0)*100) -> 2.51161
B91: 小 計 | C91: ='2-12-1'!V54 -> 31533.353 | D91: ='2-12-1'!W54 -> 100 | E91: - | F91: 36337.246 | G91: 100 | H91: - | I91: 38399.02 | J91: 100 | K91: - | L91: 44434.63 | M91: 100 | N91: - | O91: 54622 | P91: 100 | Q91: - | R91: 62231.383 | S91: =IF(ROUND(R91,0)=0,"",ROUND(R91,0)/ROUND(R91,0)*100) -> 100
A92: 建築 | B92: ０％ | C92: ='2-12-1'!V55 -> 16145.044 | D92: ='2-12-1'!W55 -> 58.186358 | E92: =IF(OR(D92=" ",G92=" "),"",D92-G92) -> 6.4071611 | F92: 16437.582 | G92: 51.779197 | H92: =IF(OR(G92=" ",J92=" "),"",G92-J92) -> 15.479197 | I92: 12454.34 | J92: 36.3 | K92: =IF(OR(J92=" ",M92=" "),"",J92-M92) -> -6.6 | L92: 14332.04 | M92: 42.9 | N92: =IF(OR(M92=" ",P92=" "),"",M92-P92) -> -1.6 | O92: 20534 | P92: 44.5 | Q92: =P92-S92 -> 4.2477247 | R92: 17647.188 | S92: =IF(ROUND(R98,0)=0,"",ROUND(R92,0)/ROUND(R98,0)*100) -> 40.252275
B93: ０％超 １０％以下 | C93: ='2-12-1'!V56 -> 10389.325 | D93: ='2-12-1'!W56 -> 37.442885 | E93: =IF(OR(D93=" ",G93=" "),"",D93-G93) -> -3.0572357 | F93: 12856.979 | G93: 40.500121 | H93: =IF(OR(G93=" ",J93=" "),"",G93-J93) -> -6.5998794 | I93: 16170.46 | J93: 47.1 | K93: =IF(OR(J93=" ",M93=" "),"",J93-M93) -> 6.6 | L93: 13536.93 | M93: 40.5 | N93: =IF(OR(M93=" ",P93=" "),"",M93-P93) -> -0.5 | O93: 18889 | P93: 41 | Q93: =P93-S93 -> 0.015533405 | R93: 17967.502 | S93: =IF(ROUND(R98,0)=0,"",ROUND(R93,0)/ROUND(R98,0)*100) -> 40.984467
B94: １０％超 ２０％以下 | C94: ='2-12-1'!V57 -> 1099.2658 | D94: ='2-12-1'!W57 -> 3.9617282 | E94: =IF(OR(D94=" ",G94=" "),"",D94-G94) -> -0.53635996 | F94: 1427.942 | G94: 4.4980882 | H94: =IF(OR(G94=" ",J94=" "),"",G94-J94) -> -3.6019118 | I94: 2772.89 | J94: 8.1 | K94: =IF(OR(J94=" ",M94=" "),"",J94-M94) -> -1.3 | L94: 3135.13 | M94: 9.4 | N94: =IF(OR(M94=" ",P94=" "),"",M94-P94) -> -1.6 | O94: 5065 | P94: 11 | Q94: =P94-S94 -> -1.2282795 | R94: 5360.6562 | S94: =IF(ROUND(R98,0)=0,"",ROUND(R94,0)/ROUND(R98,0)*100) -> 12.228279
B95: ２０％超 ３０％以下 | C95: ='2-12-1'!V58 -> 96.428571 | D95: ='2-12-1'!W58 -> 0.34752631 | E95: =IF(OR(D95=" ",G95=" "),"",D95-G95) -> -2.2069789 | F95: 810.94127 | G95: 2.5545052 | H95: =IF(OR(G95=" ",J95=" "),"",G95-J95) -> -1.7454948 | I95: 1460.5 | J95: 4.3 | K95: =IF(OR(J95=" ",M95=" "),"",J95-M95) -> -0.4 | L95: 1571.93 | M95: 4.7 | N95: =IF(OR(M95=" ",P95=" "),"",M95-P95) -> 2.8 | O95: 885 | P95: 1.9 | Q95: =P95-S95 -> -1.2751101 | R95: 1392.0183 | S95: =IF(ROUND(R98,0)=0,"",ROUND(R95,0)/ROUND(R98,0)*100) -> 3.1751101
B96: ３０％超 ４０％以下 | C96: ='2-12-1'!V59 -> 13.701493 | D96: ='2-12-1'!W59 -> 0.049379858 | E96: =IF(OR(D96=" ",G96=" "),"",D96-G96) -> -0.49181276 | F96: 171.80448 | G96: 0.54119262 | H96: =IF(OR(G96=" ",J96=" "),"",G96-J96) -> -0.45880738 | I96: 326.94 | J96: 1 | K96: =IF(OR(J96=" ",M96=" "),"",J96-M96) -> -0.2 | L96: 415.94 | M96: 1.2 | N96: =IF(OR(M96=" ",P96=" "),"",M96-P96) -> 0.3 | O96: 423 | P96: 0.9 | Q96: =P96-S96 -> -0.57122557 | R96: 644.99048 | S96: =IF(ROUND(R98,0)=0,"",ROUND(R96,0)/ROUND(R98,0)*100) -> 1.4712256
B97: ４０％超 | C97: ='2-12-1'!V60 -> 3.3636364 | D97: ='2-12-1'!W60 -> 0.012122467 | E97: =IF(OR(D97=" ",G97=" "),"",D97-G97) -> -0.11477378 | F97: 40.283887 | G97: 0.12689624 | H97: =IF(OR(G97=" ",J97=" "),"",G97-J97) -> -3.2731038 | I97: 1154.62 | J97: 3.4 | K97: =IF(OR(J97=" ",M97=" "),"",J97-M97) -> 2.1 | L97: 427.41 | M97: 1.3 | N97: =IF(OR(M97=" ",P97=" "),"",M97-P97) -> 0.6 | O97: 312 | P97: 0.7 | Q97: =P97-S97 -> -1.190924 | R97: 828.71912 | S97: =IF(ROUND(R98,0)=0,"",ROUND(R97,0)/ROUND(R98,0)*100) -> 1.890924
B98: 小 計 | C98: ='2-12-1'!V61 -> 27747.128 | D98: ='2-12-1'!W61 -> 100 | E98: - | F98: 31745.532 | G98: 100 | H98: - | I98: 34339.74 | J98: 100 | K98: - | L98: 33419.38 | M98: 100 | N98: - | O98: 46108 | P98: 100 | Q98: - | R98: 43841.074 | S98: =IF(ROUND(R98,0)=0,"",ROUND(R98,0)/ROUND(R98,0)*100) -> 100
A99: 木造 建築 | B99: ０％ | C99: ='2-12-1'!V62 -> 6434.8221 | D99: ='2-12-1'!W62 -> 62.535397 | E99: =IF(OR(D99=" ",G99=" "),"",D99-G99) -> -2.2118 | F99: 10389.987 | G99: 64.747197 | H99: =IF(OR(G99=" ",J99=" "),"",G99-J99) -> 7.5471969 | I99: 7739.96 | J99: 57.2 | K99: =IF(OR(J99=" ",M99=" "),"",J99-M99) -> 8 | L99: 7295.84 | M99: 49.2 | N99: =IF(OR(M99=" ",P99=" "),"",M99-P99) -> -9.7 | O99: 11160 | P99: 58.9 | Q99: =P99-S99 -> 7.4690236 | R99: 10386.736 | S99: =IF(ROUND(R105,0)=0,"",ROUND(R99,0)/ROUND(R105,0)*100) -> 51.430976
B100: ０％超 １０％以下 | C100: ='2-12-1'!V63 -> 3345.1398 | D100: ='2-12-1'!W63 -> 32.509002 | E100: =IF(OR(D100=" ",G100=" "),"",D100-G100) -> 3.1710452 | F100: 4707.8639 | G100: 29.337957 | H100: =IF(OR(G100=" ",J100=" "),"",G100-J100) -> 1.1379566 | I100: 3807.45 | J100: 28.2 | K100: =IF(OR(J100=" ",M100=" "),"",J100-M100) -> -4.4 | L100: 4838.37 | M100: 32.6 | N100: =IF(OR(M100=" ",P100=" "),"",M100-P100) -> 6.1 | O100: 5019 | P100: 26.5 | Q100: =P100-S100 -> -8.7198455 | R100: 7112.7441 | S100: =IF(ROUND(R105,0)=0,"",ROUND(R100,0)/ROUND(R105,0)*100) -> 35.219846
B101: １０％超 ２０％以下 | C101: ='2-12-1'!V64 -> 357.92244 | D101: ='2-12-1'!W64 -> 3.4783901 | E101: =IF(OR(D101=" ",G101=" "),"",D101-G101) -> -1.01992 | F101: 721.84412 | G101: 4.4983101 | H101: =IF(OR(G101=" ",J101=" "),"",G101-J101) -> -5.0016899 | I101: 1282.65 | J101: 9.5 | K101: =IF(OR(J101=" ",M101=" "),"",J101-M101) -> -3.4 | L101: 1918.35 | M101: 12.9 | N101: =IF(OR(M101=" ",P101=" "),"",M101-P101) -> 2.2 | O101: 2032 | P101: 10.7 | Q101: =P101-S101 -> 1.4357893 | R101: 1870.7793 | S101: =IF(ROUND(R105,0)=0,"",ROUND(R101,0)/ROUND(R105,0)*100) -> 9.2642107
B102: ２０％超 ３０％以下 | C102: ='2-12-1'!V65 -> 8.1851852 | D102: ='2-12-1'!W65 -> 0.079545914 | E102: =IF(OR(D102=" ",G102=" "),"",D102-G102) -> -1.0571724 | F102: 182.40926 | G102: 1.1367183 | H102: =IF(OR(G102=" ",J102=" "),"",G102-J102) -> -1.8632817 | I102: 403.63 | J102: 3 | K102: =IF(OR(J102=" ",M102=" "),"",J102-M102) -> -0.2 | L102: 468.65 | M102: 3.2 | N102: =IF(OR(M102=" ",P102=" "),"",M102-P102) -> 1.6 | O102: 310 | P102: 1.6 | Q102: =P102-S102 -> -1.2718558 | R102: 579.91913 | S102: =IF(ROUND(R105,0)=0,"",ROUND(R102,0)/ROUND(R105,0)*100) -> 2.8718558
B103: ３０％超 ４０％以下 | C103: ='2-12-1'!V66 -> 0 | D103: ='2-12-1'!W66 -> 0 | E103: =IF(OR(D103=" ",G103=" "),"",D103-G103) -> 0 | F103: 0 | G103: 0 | H103: =IF(OR(G103=" ",J103=" "),"",G103-J103) -> -2.1 | I103: 285.88 | J103: 2.1 | K103: =IF(OR(J103=" ",M103=" "),"",J103-M103) | N103: =IF(OR(M103=" ",P103=" "),"",M103-P103) | O103: 104 | P103: 0.5 | Q103: =P103-S103 -> -0.28728461 | R103: 158.61339 | S103: =IF(ROUND(R105,0)=0,"",ROUND(R103,0)/ROUND(R105,0)*100) -> 0.78728461
...

Sheet 2-12-3
A1: 表2－12－3 総工事件数に占める原価割れ工事件数の状況（下請比率、次数別集計）
A3: （概要） | M3: （単位：社、％）
A4: 下請比率、次数 | B4: ０％超 50％未満 | D4: ５０％以上１００％以下 | L4: 合 計
A5: 原価割れ比率 | F5: 一次下請 | H5: 二次下請 | J5: 三次以下下請
A6: 0% | B6: =SUM(H19,P19,X19,H30,P30) -> 17548.219 | C6: =B6/$B$12*100 -> 49.029019 | D6: =SUM(F6,H6,J6) -> 38734.862 | E6: =D6/$D$12*100 -> 49.997689 | F6: =SUM(R30,B41,J41,R41,B52,J52) -> 27453.305 | G6: =F6/$F$12*100 -> 49.918284 | H6: =SUM(T30,D41,L41,T41,D52,L52) -> 8737.7793 | I6: =H6/$H$12*100 -> 48.551447 | J6: =SUM(V30,F41,N41,V41,F52,N52) -> 2543.777 | K6: =J6/$J$12*100 -> 56.782494 | L6: =X52 -> 56283.08 | M6: =L6/$L$12*100 -> 49.691591
A7: 0%超 10%以下 | B7: =SUM(H20,P20,X20,H31,P31) -> 14784.326 | C7: =B7/$B$12*100 -> 41.306816 | D7: =SUM(F7,H7,J7) -> 32440.836 | E7: =D7/$D$12*100 -> 41.873567 | F7: =SUM(R31,B42,J42,R42,B53,J53) -> 23229.617 | G7: =F7/$F$12*100 -> 42.23836 | H7: =SUM(T31,D42,L42,T42,D53,L53) -> 7437.0826 | I7: =H7/$H$12*100 -> 41.32413 | J7: =SUM(V31,F42,N42,V42,F53,N53) -> 1774.1365 | K7: =J7/$J$12*100 -> 39.602487 | L7: =X53 -> 47225.162 | M7: =L7/$L$12*100 -> 41.694475
A8: 10%超 20%以下 | B8: =SUM(H21,P21,X21,H32,P32) -> 2637.7092 | C8: =B8/$B$12*100 -> 7.3696539 | D8: =SUM(F8,H8,J8) -> 4407.8605 | E8: =D8/$D$12*100 -> 5.6895218 | F8: =SUM(R32,B43,J43,R43,B54,J54) -> 2982.4658 | G8: =F8/$F$12*100 -> 5.4230109 | H8: =SUM(T32,D43,L43,T43,D54,L54) -> 1284.8929 | I8: =H8/$H$12*100 -> 7.1395042 | J8: =SUM(V32,F43,N43,V43,F54,N54) -> 140.50173 | K8: =J8/$J$12*100 -> 3.1362963 | L8: =X54 -> 7045.5697 | M8: =L8/$L$12*100 -> 6.2204408
A9: 20%超 30%以下 | B9: =SUM(H22,P22,X22,H33,P33) -> 548.02306 | C9: =B9/$B$12*100 -> 1.5311545 | D9: =SUM(F9,H9,J9) -> 1372.1873 | E9: =D9/$D$12*100 -> 1.7711744 | F9: =SUM(R33,B44,J44,R44,B55,J55) -> 999.35033 | G9: =F9/$F$12*100 -> 1.8171165 | H9: =SUM(T33,D44,L44,T44,D55,L55) -> 372.83696 | I9: =H9/$H$12*100 -> 2.0716676 | J9: =SUM(V33,F44,N44,V44,F55,N55) -> 0 | K9: =J9/$J$12*100 -> 0 | L9: =X55 -> 1920.2103 | M9: =L9/$L$12*100 -> 1.6953285
A10: 30%超 40%以下 | B10: =SUM(H23,P23,X23,H34,P34) -> 118.22654 | C10: =B10/$B$12*100 -> 0.33032021 | D10: =SUM(F10,H10,J10) -> 313.73448 | E10: =D10/$D$12*100 -> 0.40495818 | F10: =SUM(R34,B45,J45,R45,B56,J56) -> 219.1178 | G10: =F10/$F$12*100 -> 0.3984214 | H10: =SUM(T34,D45,L45,T45,D56,L56) -> 75.437195 | I10: =H10/$H$12*100 -> 0.41916657 | J10: =SUM(V34,F45,N45,V45,F56,N56) -> 19.179487 | K10: =J10/$J$12*100 -> 0.4281268 | L10: =X56 -> 431.96102 | M10: =L10/$L$12*100 -> 0.3813727
A11: 40%超 | B11: =SUM(H24,P24,X24,H35,P35) -> 154.99015 | C11: =B11/$B$12*100 -> 0.43303627 | D11: =SUM(F11,H11,J11) -> 203.82378 | E11: =D11/$D$12*100 -> 0.26308905 | F11: =SUM(R35,B46,J46,R46,B57,J57) -> 112.63693 | G11: =F11/$F$12*100 -> 0.20480748 | H11: =SUM(T35,D46,L46,T46,D57,L57) -> 88.920182 | I11: =H11/$H$12*100 -> 0.49408476 | J11: =SUM(V35,F46,N46,V46,F57,N57) -> 2.2666667 | K11: =J11/$J$12*100 -> 0.050596803 | L11: =X57 -> 358.81393 | M11: =L11/$L$12*100 -> 0.3167921
A12: 合 計 | B12: =SUM(B6:B11) -> 35791.494 | C12: =B12/$B$12*100 -> 100 | D12: =SUM(D6:D11) -> 77473.304 | E12: =D12/$D$12*100 -> 100 | F12: =SUM(F6:F11) -> 54996.493 | G12: =F12/$F$12*100 -> 100 | H12: =SUM(H6:H11) -> 17996.949 | I12: =H12/$H$12*100 -> 100 | J12: =SUM(J6:J11) -> 4479.8614 | K12: =J12/$J$12*100 -> 100 | L12: =X58 -> 113264.8 | M12: =L12/$L$12*100 -> 100
F13: （注） | G13: 1. ( )の数値は各合計を100とした場合の構成比
G14: =S60 -> 2．無効回答企業 1,097社を除く
A16: （下請比率別詳細）
A17: 下請比率、次数 | B17: ０％超１０％未満 | J17: １０％以上２０％未満 | R17: ２０％以上３０％未満
A18: 原価割れ比率 | B18: 一次下請 | D18: 二次下請 | F18: 三次以下下請 | H18: 小 計 | J18: 一次下請 | L18: 二次下請 | N18: 三次以下下請 | P18: 小 計 | R18: 一次下請 | T18: 二次下請 | V18: 三次以下下請 | X18: 小 計
A19: 0% | B19: 5049.0006 | C19: 51.242442 | D19: 76.809559 | E19: 63.703651 | F19: 28.829268 | G19: 100 | H19: 5154.6395 | I19: 51.53318 | J19: 3753.1473 | K19: 51.480024 | L19: 317.00839 | M19: 62.002962 | N19: 27.507407 | O19: 100 | P19: 4097.6631 | Q19: 52.337679 | R19: 2633.7263 | S19: 45.358376 | T19: 185.33394 | U19: 46.827086 | X19: 2819.0602 | Y19: 45.452098
A20: 0%超 10%以下 | B20: 3744.5205 | C20: 38.003238 | D20: 42.513686 | E20: 35.259635 | H20: 3787.0342 | I20: 37.860634 | J20: 2788.4409 | K20: 38.247634 | L20: 191.95854 | M20: 37.544742 | P20: 2980.3994 | Q20: 38.067353 | R20: 2558.4299 | S20: 44.061612 | T20: 187.14456 | U20: 47.284563 | X20: 2745.5745 | Y20: 44.267278
A21: 10%超 20%以下 | B21: 807.71902 | C21: 8.1975618 | D21: 1.25 | E21: 1.0367142 | H21: 808.96902 | I21: 8.0876164 | J21: 488.92363 | K21: 6.7063183 | L21: 2.3125 | M21: 0.4522967 | P21: 491.23613 | Q21: 6.2743467 | R21: 500.15604 | S21: 8.6137522 | T21: 23.305128 | U21: 5.8883508 | X21: 523.46116 | Y21: 8.4398368
A22: 20%超 30%以下 | B22: 121.34227 | C22: 1.2315059 | H22: 121.34227 | I22: 1.2131116 | J22: 259.31403 | K22: 3.5568794 | P22: 259.31403 | Q22: 3.312106 | R22: 94.283213 | S22: 1.6237577 | X22: 94.283213 | Y22: 1.5201413
A23: 30%超 40%以下 | B23: 0.66666667 | C23: 0.0067660177 | H23: 0.66666667 | I23: 0.0066649576 | J23: 0.66666667 | K23: 0.0091443296 | P23: 0.66666667 | Q23: 0.0085150451
A24: 40%超 | B24: 129.91261 | C24: 1.3184865 | H24: 129.91261 | I24: 1.298793 | R24: 19.887324 | S24: 0.34250207 | X24: 19.887324 | Y24: 0.32064608
A25: 合 計 | B25: 9853.1617 | C25: 100 | D25: 120.57325 | E25: 100 | F25: 28.829268 | G25: 100 | H25: 10002.564 | I25: 100 | J25: 7290.4925 | K25: 100 | L25: 511.27944 | M25: 100 | N25: 27.507407 | O25: 100 | P25: 7829.2794 | Q25: 100 | R25: 5806.4828 | S25: 100 | T25: 395.78362 | U25: 100 | X25: 6202.2664 | Y25: 100
A28: 下請比率、次数 | B28: ３０％以上４０％未満 | J28: ４０％以上５０％未満 | R28: ５０％以上６０％未満
A29: 原価割れ比率 | B29: 一次下請 | D29: 二次下請 | F29: 三次以下下請 | H29: 小 計 | J29: 一次下請 | L29: 二次下請 | N29: 三次以下下請 | P29: 小 計 | R29: 一次下請 | T29: 二次下請 | V29: 三次以下下請 | X29: 小 計
A30: 0% | B30: 2547.1637 | C30: 44.564554 | D30: 267.6417 | E30: 57.408669 | H30: 2814.8055 | I30: 45.533189 | J30: 2334.6225 | K30: 46.575337 | L30: 312.71953 | M30: 69.595619 | N30: 14.708333 | O30: 12.947776 | P30: 2662.0503 | Q30: 47.745434 | R30: 2407.9012 | S30: 48.706451 | T30: 126.12948 | U30: 32.162133 | V30: 67.548546 | W30: 73.390993 | X30: 2601.5792 | Y30: 47.929688
A31: 0%超 10%以下 | B31: 2444.086 | C31: 42.761131 | D31: 167.39405 | E31: 35.905724 | H31: 2611.48 | I31: 42.244132 | J31: 2458.7309 | K31: 49.05128 | L31: 102.21842 | M31: 22.748673 | N31: 98.889036 | O31: 87.052224 | P31: 2659.8383 | Q31: 47.705761 | R31: 2288.414 | S31: 46.289494 | T31: 250.90007 | U31: 63.977761 | V31: 22.083333 | W31: 23.993377 | X31: 2561.3974 | Y31: 47.189407
A32: 10%超 20%以下 | B32: 562.55891 | C32: 9.8423931 | D32: 31.16859 | E32: 6.6856069 | H32: 593.7275 | I32: 9.604325 | J32: 185.91543 | K32: 3.7089825 | L32: 34.4 | M32: 7.6557077 | P32: 220.31543 | Q32: 3.9514865 | R32: 161.8157 | S32: 3.2731694 | T32: 15.138085 | U32: 3.8601057 | V32: 2.4074074 | W32: 2.6156302 | X32: 179.36119 | Y32: 3.304426
A33: 20%超 30%以下 | B33: 53.04989 | C33: 0.9281479 | H33: 53.04989 | I33: 0.85815191 | J33: 20.033662 | K33: 0.39966829 | P33: 20.033662 | Q33: 0.35931548 | R33: 49.279268 | S33: 0.9968093 | X33: 49.279268 | Y33: 0.90788701
A34: 30%超 40%以下 | B34: 103.6233 | C34: 1.8129679 | H34: 103.6233 | I34: 1.6762434 | J34: 13.269906 | K34: 0.26473245 | P34: 13.269906 | Q34: 0.23800354 | R34: 36.290523 | S34: 0.73407606 | X34: 36.290523 | Y34: 0.66859139
A35: 40%超 | B35: 5.1902174 | C35: 0.090806774 | H35: 5.1902174 | I35: 0.083958608
A36: 合 計 | B36: 5715.672 | C36: 100 | D36: 466.20434 | E36: 100 | H36: 6181.8764 | I36: 100 | J36: 5012.5724 | K36: 100 | L36: 449.33795 | M36: 100 | N36: 113.59737 | O36: 100 | P36: 5575.5077 | Q36: 100 | R36: 4943.7007 | S36: 100 | T36: 392.16763 | U36: 100 | V36: 92.039287 | W36: 100 | X36: 5427.9076 | Y36: 100
A39: 下請比率、次数 | B39: ６０％以上７０％未満 | J39: ７０％以上８０％未満 | R39: ８０％以上９０％未満
A40: 原価割れ比率 | B40: 一次下請 | D40: 二次下請 | F40: 三次以下下請 | H40: 小 計 | J40: 一次下請 | L40: 二次下請 | N40: 三次以下下請 | P40: 小 計 | R40: 一次下請 | T40: 二次下請 | V40: 三次以下下請 | X40: 小 計
A41: 0% | B41: 2590.9723 | C41: 48.583631 | D41: 314.2241 | E41: 52.795916 | H41: 2905.1964 | I41: 48.191478 | J41: 2366.3599 | K41: 49.556913 | L41: 408.32398 | M41: 47.536786 | N41: 89.804843 | O41: 72.29697 | P41: 2864.4887 | Q41: 49.746117 | R41: 2893.0204 | S41: 44.395966 | T41: 910.67109 | U41: 64.607694 | V41: 438.36324 | W41: 96.495578 | X41: 4242.0548 | Y41: 50.619809
A42: 0%超 10%以下 | B42: 2361.8912 | C42: 44.288105 | D42: 205.81965 | E42: 34.581806 | F42: 100.26197 | G42: 100 | H42: 2667.9728 | I42: 44.256407 | J42: 2018.9422 | K42: 42.281203 | L42: 397.72909 | M42: 46.303337 | N42: 34.411765 | O42: 27.70303 | P42: 2451.083 | Q42: 42.566711 | R42: 3259.0368 | S42: 50.012812 | T42: 400.73016 | U42: 28.42986 | V42: 15.92 | W42: 3.5044216 | X42: 3675.687 | Y42: 43.861426
A43: 10%超 20%以下 | B43: 202.77409 | C43: 3.8022412 | D43: 75.123685 | E43: 12.622278 | H43: 277.89777 | I43: 4.6097759 | J43: 219.41438 | K43: 4.5950321 | L43: 13.390921 | M43: 1.5589615 | P43: 232.8053 | Q43: 4.0430112 | R43: 327.29991 | S43: 5.0227076 | T43: 57.526794 | U43: 4.0812469 | X43: 384.8267 | Y43: 4.5920798
A44: 20%超 30%以下 | B44: 104.02673 | C44: 1.9506176 | H44: 104.02673 | I44: 1.7255982 | J44: 70.230585 | K44: 1.4707869 | L44: 32.350575 | M44: 3.7662308 | P44: 102.58116 | Q44: 1.7814748 | R44: 37.046706 | S44: 0.56851458 | T44: 38.049142 | U44: 2.699402 | X44: 75.095848 | Y44: 0.89610759
A45: 30%超 40%以下 | B45: 73.350567 | C45: 1.3754052 | H45: 73.350567 | I45: 1.2167412 | J45: 13.747059 | K45: 0.28789442 | L45: 7.1696429 | M45: 0.8346847 | P45: 20.916702 | Q45: 0.36324971 | T45: 2.5625 | U45: 0.18179694 | X45: 2.5625 | Y45: 0.030577931
A46: 40%超 | J46: 86.340778 | K46: 1.8081706 | P46: 86.340778 | Q46: 1.4994363
A47: 合 計 | B47: 5333.0149 | C47: 100 | D47: 595.16743 | E47: 100 | F47: 100.26197 | G47: 100 | H47: 6028.4443 | I47: 100 | J47: 4775.0348 | K47: 100 | L47: 858.96421 | M47: 100 | N47: 124.21661 | O47: 100 | P47: 5758.2157 | Q47: 100 | R47: 6516.4039 | S47: 100 | T47: 1409.5397 | U47: 100 | V47: 454.28324 | W47: 100 | X47: 8380.2268 | Y47: 100
A50: 下請比率、次数 | B50: ９０％以上１００％未満 | J50: １００％ | R50: 合 計
A51: 原価割れ比率 | B51: 一次下請 | D51: 二次下請 | F51: 三次以下下請 | H51: 小 計 | J51: 一次下請 | L51: 二次下請 | N51: 三次以下下請 | P51: 小 計 | R51: 一次下請 | T51: 二次下請 | V51: 三次以下下請
A52: 0% | B52: 3421.6487 | C52: 40.162453 | D52: 1510.1488 | E52: 57.427688 | F52: 71.147195 | G52: 34.991157 | H52: 5002.9448 | I52: 44.069089 | J52: 13773.403 | K52: 55.29529 | L52: 5468.2818 | M52: 45.14966 | N52: 1876.9132 | O52: 53.538422 | P52: 21118.598 | Q52: 52.111224 | R52: 43770.966 | S52: 49.361182 | T52: 9897.2924 | U52: 49.63505 | V52: 2614.822 | W52: 56.235205 | X52: 56283.08 | Y52: 49.691591
A53: 0%超 10%以下 | B53: 4292.1524 | C53: 50.380206 | D53: 786.94346 | E53: 29.925754 | F53: 87.184242 | G53: 42.878395 | H53: 5166.2801 | I53: 45.50785 | J53: 9009.1803 | K53: 36.168639 | L53: 5394.9601 | M53: 44.544269 | N53: 1514.2752 | O53: 43.194275 | P53: 15918.416 | Q53: 39.279507 | R53: 37223.825 | S53: 41.977872 | T53: 8128.3118 | U53: 40.76359 | V53: 1873.0256 | W53: 40.281891 | X53: 47225.162 | Y53: 41.694475
A54: 10%超 20%以下 | B54: 580.96007 | C54: 6.8191632 | D54: 222.66384 | E54: 8.4674232 | F54: 44.997634 | G54: 22.130448 | H54: 848.62154 | I54: 7.4751931 | J54: 1490.2017 | K54: 5.9826271 | L54: 901.04961 | M54: 7.4396465 | N54: 93.096686 | O54: 2.6555568 | P54: 2484.348 | Q54: 6.1302561 | R54: 5527.7388 | S54: 6.2337149 | T54: 1377.3292 | U54: 6.9073236 | V54: 140.50173 | W54: 3.0216754 | X54: 7045.5697 | Y54: 6.2204408
A55: 20%超 30%以下 | B55: 215.0615 | C55: 2.5243379 | D55: 107.89672 | E55: 4.1030785 | H55: 322.95822 | I55: 2.8448195 | J55: 523.70554 | K55: 2.1024906 | L55: 194.54052 | M55: 1.606252 | P55: 718.24606 | Q55: 1.772309 | R55: 1547.3734 | S55: 1.7449964 | T55: 372.83696 | U55: 1.8697822 | X55: 1920.2103 | Y55: 1.6953285
A56: 30%超 40%以下 | B56: 9.6986301 | C56: 0.11384008 | D56: 2 | E56: 0.076055666 | H56: 11.69863 | I56: 0.1030489 | J56: 86.031022 | K56: 0.3453838 | L56: 63.705052 | M56: 0.52598998 | N56: 19.179487 | O56: 0.54708949 | P56: 168.91556 | Q56: 0.41680782 | R56: 337.34434 | S56: 0.38042832 | T56: 75.437195 | U56: 0.37831851 | V56: 19.179487 | W56: 0.41248023 | X56: 431.96102 | Y56: 0.3813727
A57: 40%超 | J57: 26.296154 | K57: 0.10556966 | L57: 88.920182 | M57: 0.73418235 | N57: 2.2666667 | O57: 0.06465603 | P57: 117.483 | Q57: 0.28989534 | R57: 267.62708 | S57: 0.30180711 | T57: 88.920182 | U57: 0.44593587 | V57: 2.2666667 | W57: 0.048747664 | X57: 358.81393 | Y57: 0.3167921
A58: 合 計 | B58: 8519.5213 | C58: 100 | D58: 2629.6529 | E58: 100 | F58: 203.32907 | G58: 100 | H58: 11352.503 | I58: 100 | J58: 24908.818 | K58: 100 | L58: 12111.457 | M58: 100 | N58: 3505.7313 | O58: 100 | P58: 40526.006 | Q58: 100 | R58: 88674.875 | S58: 100 | T58: 19940.128 | U58: 100 | V58: 4649.7955 | W58: 100 | X58: 113264.8 | Y58: 100
R59: （注） | S59: 1. ( )の数値は各合計を100とした場合の構成比
S60: 2．無効回答企業 1,097社を除く

Sheet 2-12-4
A1: 表2－12－4 総工事件数に占める原価割れ工事件数の状況（上位１社）（専属比率別、下請比率、次数別集計）
N3: （単位：社、％）
B4: 下請比率、次数 | C4: ０％超 50％未満 | E4: 50％以上100％以下 | M4: 合 計
A5: 専属比率 | B5: 原価割れ比率 | G5: 一次下請 | I5: 二次下請 | K5: 三次以下下請
A6: １０％未満 | B6: 0% | C6: 5776.8733 | D6: 51.290709 | E6: 2455.4795 | F6: 48.77437 | G6: 1916.3741 | H6: 47.898122 | I6: 452.082 | J6: 50.787954 | K6: 87.023333 | L6: 60.732268 | M6: 8232.3528 | N6: 50.513395
B7: 0%超 10%以下 | C7: 4481.0952 | D7: 39.785977 | E7: 2211.8217 | F7: 43.934478 | G7: 1826.9714 | H7: 45.663577 | I7: 330.99093 | J7: 37.184299 | K7: 53.85937 | L7: 37.587639 | M7: 6692.9169 | N7: 41.067477
B8: 10%超 20%以下 | C8: 739.40693 | D8: 6.5649191 | E8: 322.03438 | F8: 6.3967237 | G8: 212.56363 | H8: 5.3128451 | I8: 107.06333 | J8: 12.027746 | K8: 2.4074074 | L8: 1.6800932 | M8: 1061.4413 | N8: 6.5129624
B9: 20%超 30%以下 | C9: 121.77686 | D9: 1.0812115 | E9: 31.281713 | F9: 0.62136372 | G9: 31.281713 | H9: 0.7818595 | M9: 153.05858 | N9: 0.93916146
B10: 30%超 40%以下 | C10: 13.936572 | D10: 0.12373764 | E10: 13.747059 | F10: 0.27306444 | G10: 13.747059 | H10: 0.3435959 | M10: 27.683631 | N10: 0.16986568
B11: 40%超 | C11: 129.91261 | D11: 1.1534457 | M11: 129.91261 | N11: 0.79713869
B12: 小 計 | C12: 11263.001 | D12: 100 | E12: 5034.3643 | F12: 100 | G12: 4000.9379 | H12: 100 | I12: 890.13627 | J12: 100 | K12: 143.29011 | L12: 100 | M12: 16297.366 | N12: 100
A13: １０％以上 | B13: 0% | C13: 4952.4283 | D13: 44.474787 | E13: 9603.8705 | F13: 42.625896 | G13: 7445.2912 | H13: 42.720121 | I13: 1985.3685 | J13: 42.418397 | K13: 173.2108 | L13: 41.036236 | M13: 14556.299 | N13: 43.237435
A14: ３０％未満 | B14: 0%超 10%以下 | C14: 4892.0239 | D14: 43.932331 | E14: 11608.36 | F14: 51.522638 | G14: 8977.9892 | H14: 51.514544 | I14: 2414.7779 | J14: 51.592946 | K14: 215.59289 | L14: 51.077187 | M14: 16500.384 | N14: 49.012066
B15: 10%超 20%以下 | C15: 1093.6641 | D15: 9.8215408 | E15: 1060.982 | F15: 4.7090709 | G15: 793.76209 | H15: 4.5545045 | I15: 233.93126 | J15: 4.9980592 | K15: 33.288636 | L15: 7.8865769 | M15: 2154.6461 | N15: 6.4000726
B16: 20%超 30%以下 | C16: 197.24527 | D16: 1.7713414 | E16: 163.15879 | F16: 0.72416527 | G16: 147.19298 | H16: 0.84457434 | I16: 15.965809 | J16: 0.34111754 | M16: 360.40406 | N16: 1.0705295
B17: 30%超 40%以下 | E17: 76.655355 | F17: 0.34022774 | G17: 59.83129 | H17: 0.34330423 | I17: 16.824065 | J17: 0.35945461 | M17: 76.655355 | N17: 0.22769393
B18: 40%超 | E18: 17.574468 | F18: 0.07800266 | G18: 4 | H18: 0.022951484 | I18: 13.574468 | J18: 0.29002535 | M18: 17.574468 | N18: 0.052202482
B19: 小 計 | C19: 11135.362 | D19: 100 | E19: 22530.601 | F19: 100 | G19: 17428.067 | H19: 100 | I19: 4680.442 | J19: 100 | K19: 422.09233 | L19: 100 | M19: 33665.963 | N19: 100
A20: ３０％以上 | B20: 0% | C20: 2743.2417 | D20: 46.962138 | E20: 9987.4017 | F20: 50.290144 | G20: 7186.4932 | H20: 51.339338 | I20: 2284.8242 | J20: 49.434112 | K20: 516.08436 | L20: 41.633892 | M20: 12730.643 | N20: 49.533745
A21: ５０％未満 | B21: 0%超 10%以下 | C21: 2664.4718 | D21: 45.613659 | E21: 7949.7066 | F21: 40.02962 | G21: 5454.2941 | H21: 38.964742 | I21: 1855.9224 | J21: 40.154457 | K21: 639.49012 | L21: 51.589362 | M21: 10614.178 | N21: 41.298777
B22: 10%超 20%以下 | C22: 306.88828 | D22: 5.2536857 | E22: 1420.3781 | F22: 7.1521126 | G22: 977.03004 | H22: 6.9797709 | I22: 378.52456 | J22: 8.1897003 | K22: 64.823529 | L22: 5.2294858 | M22: 1727.2664 | N22: 6.7206323
B23: 20%超 30%以下 | C23: 19.8734 | D23: 0.34021696 | E23: 368.24923 | F23: 1.8542667 | G23: 292.87129 | H23: 2.092233 | I23: 75.377937 | J23: 1.6308657 | M23: 388.12263 | N23: 1.5101489
B24: 30%超 40%以下 | C24: 104.28996 | D24: 1.7853621 | E24: 106.97886 | F24: 0.53867685 | G24: 71.489811 | H24: 0.51071357 | I24: 16.309559 | J24: 0.35287115 | K24: 19.179487 | L24: 1.54726 | M24: 211.26882 | N24: 0.82202726
B25: 40%超 | C25: 2.625 | D25: 0.044937934 | E25: 26.846154 | F25: 0.13518 | G25: 15.846154 | H25: 0.11320279 | I25: 11 | J25: 0.23799434 | M25: 29.471154 | N25: 0.11466951
B26: 小 計 | C26: 5841.3901 | D26: 100 | E26: 19859.561 | F26: 100 | G26: 13998.025 | H26: 100 | I26: 4621.9587 | J26: 100 | K26: 1239.5775 | L26: 100 | M26: 25700.951 | N26: 100
A27: ５０％以上 | B27: 0% | C27: 909.6545 | D27: 43.929246 | E27: 5608.6291 | F27: 49.916668 | G27: 3883.6679 | H27: 50.049239 | I27: 1454.5511 | J27: 48.273488 | K27: 270.4102 | L27: 58.385804 | M27: 6518.2836 | N27: 48.984934
A28: ７０％未満 | B28: 0%超 10%以下 | C28: 703.27156 | D28: 33.962553 | E28: 4494.7778 | F28: 40.003417 | G28: 3072.7034 | H28: 39.598254 | I28: 1271.5897 | J28: 42.201386 | K28: 150.48473 | L28: 32.492013 | M28: 5198.0494 | N28: 39.063367
B29: 10%超 20%以下 | C29: 318.48964 | D29: 15.380576 | E29: 545.37752 | F29: 4.8538472 | G29: 315.11873 | H29: 4.0609684 | I29: 190.27664 | J29: 6.3148813 | K29: 39.982154 | L29: 8.632774 | M29: 863.86717 | N29: 6.4919661
B30: 20%超 30%以下 | C30: 119.42338 | D30: 5.7672214 | E30: 440.62755 | F30: 3.9215749 | G30: 362.5565 | H30: 4.672304 | I30: 78.071054 | J30: 2.591014 | M30: 560.05093 | N30: 4.2087855
B31: 30%超 40%以下 | E31: 40.931909 | F31: 0.36429303 | G31: 39.306909 | H31: 0.5065523 | I31: 1.625 | J31: 0.05393033 | M31: 40.931909 | N31: 0.3076035
B32: 40%超 | C32: 19.887324 | D32: 0.96040326 | E32: 105.64078 | F32: 0.94020044 | G32: 86.340778 | H32: 1.1126827 | I32: 17.033333 | J32: 0.56530048 | K32: 2.2666667 | L32: 0.48940888 | M32: 125.5281 | N32: 0.94334431
B33: 小 計 | C33: 2070.7264 | D33: 100 | E33: 11235.985 | F33: 100 | G33: 7759.6941 | H33: 100 | I33: 3013.1468 | J33: 100 | K33: 463.14375 | L33: 100 | M33: 13306.711 | N33: 100
A34: ７０％以上 | B34: 0% | C34: 2787.6667 | D34: 58.334194 | E34: 10249.937 | F34: 58.001433 | G34: 6377.3599 | H34: 57.838633 | I34: 2516.1398 | J34: 54.154041 | K34: 1356.4378 | L34: 67.839509 | M34: 13037.604 | N34: 58.072263
B35: 0%超 10%以下 | C35: 1719.5903 | D35: 35.983827 | E35: 5989.6963 | F35: 33.89396 | G35: 3790.4836 | H35: 34.377296 | I35: 1556.17 | J35: 33.49293 | K35: 643.04275 | L35: 32.160491 | M35: 7709.2867 | N35: 34.338803
B36: 10%超 20%以下 | C36: 179.26031 | D36: 3.7511678 | E36: 966.53259 | F36: 5.4693285 | G36: 683.99133 | H36: 6.2033701 | I36: 282.54127 | J36: 6.0810417 | M36: 1145.7929 | N36: 5.1036054
B37: 20%超 30%以下 | C37: 89.704146 | D37: 1.8771322 | E37: 368.87 | F37: 2.0873287 | G37: 165.44785 | H37: 1.5005077 | I37: 203.42216 | J37: 4.3781875 | M37: 458.57415 | N37: 2.0425868
B38: 30%超 40%以下 | E38: 43.070728 | F38: 0.2437248 | G38: 2.3921569 | H38: 0.021695354 | I38: 40.678571 | J38: 0.87551137 | M38: 43.070728 | N38: 0.19184619
B39: 40%超 | C39: 2.5652174 | D39: 0.053679261 | E39: 53.762381 | F39: 0.30422577 | G39: 6.45 | H39: 0.058497433 | I39: 47.312381 | J39: 1.0182886 | M39: 56.327598 | N39: 0.25089511
B40: 小 計 | C40: 4778.7867 | D40: 100 | E40: 17671.87 | F40: 100 | G40: 11026.125 | H40: 100 | I40: 4646.2642 | J40: 100 | K40: 1999.4805 | L40: 100 | M40: 22450.656 | N40: 100
A41: 合 計 | B41: 0% | C41: 17169.865 | D41: 48.931957 | E41: 37905.318 | F41: 49.658242 | G41: 26809.186 | H41: 49.451721 | I41: 8692.9656 | J41: 48.694773 | K41: 2403.1664 | L41: 56.312104 | M41: 55075.183 | N41: 49.429518
B42: 0%超 10%以下 | C42: 14460.453 | D42: 41.210473 | E42: 32254.362 | F42: 42.255151 | G42: 23122.442 | H42: 42.651221 | I42: 7429.451 | J42: 41.617033 | K42: 1702.4699 | L42: 39.893059 | M42: 46714.815 | N42: 41.926158
B43: 10%超 20%以下 | C43: 2637.7092 | D43: 7.5171399 | E43: 4315.3046 | F43: 5.6533081 | G43: 2982.4658 | H43: 5.5014003 | I43: 1192.3371 | J43: 6.6790306 | K43: 140.50173 | L43: 3.2923012 | M43: 6953.0139 | N43: 6.240272
B44: 20%超 30%以下 | C44: 548.02306 | D44: 1.5617969 | E44: 1372.1873 | F44: 1.7976477 | G44: 999.35033 | H44: 1.8433828 | I44: 372.83696 | J44: 2.0884945 | M44: 1920.2103 | N44: 1.7233728
B45: 30%超 40%以下 | C45: 118.22654 | D45: 0.33693077 | E45: 281.38391 | F45: 0.36862981 | G45: 186.76723 | H45: 0.34450731 | I45: 75.437195 | J45: 0.42257122 | K45: 19.179487 | L45: 0.44942259 | M45: 399.61044 | N45: 0.35864705
B46: 40%超 | C46: 154.99015 | D46: 0.44170245 | E46: 203.82378 | F46: 0.26702139 | G46: 112.63693 | H46: 0.20776796 | I46: 88.920182 | J46: 0.49809793 | K46: 2.2666667 | L46: 0.053113578 | M46: 358.81393 | N46: 0.32203251
C47: 35089.266 | D47: 100 | E47: 76332.38 | F47: 100 | G47: 54212.848 | H47: 100 | I47: 17851.948 | J47: 100 | K47: 4267.5842 | L47: 100 | M47: 111421.65 | N47: 100
G48: （注） | H48: 1. ( )の数値は各合計を100とした場合の構成比
H49: 2．無効回答企業 1,153社を除く

Sheet 2-12-5
A1: 表2－12－5 総工事件数に占める原価割れ工事件数の状況（上位２社）（専属比率別、下請比率、次数別集計）
N3: （単位：社、％）
B4: 下請比率、次数 | C4: ０％超 50％未満 | E4: 50％以上100％以下 | M4: 合 計
A5: 専属比率 | B5: 原価割れ比率 | G5: 一次下請 | I5: 二次下請 | K5: 三次以下下請
A6: １０％未満 | B6: 0% | C6: 5323.8871 | D6: 53.28213 | E6: 1621.2764 | F6: 56.14533 | G6: 1333.8185 | H6: 58.085815 | I6: 284.93162 | J6: 51.855829 | K6: 2.5263158 | L6: 6.0316768 | M6: 6945.1636 | N6: 53.924072
B7: 0%超 10%以下 | C7: 3768.5979 | D7: 37.7166 | E7: 1116.9683 | F7: 38.680976 | G7: 842.43328 | H7: 36.686718 | I7: 235.17722 | J7: 42.800829 | K7: 39.357822 | L7: 93.968323 | M7: 4885.5662 | N7: 37.932817
B8: 10%超 20%以下 | C8: 677.30235 | D8: 6.7785268 | E8: 120.35906 | F8: 4.1680735 | G8: 90.999064 | H8: 3.962874 | I8: 29.36 | J8: 5.3433422 | M8: 797.66141 | N8: 6.1932524
B9: 20%超 30%以下 | C9: 109.54365 | D9: 1.0963266 | E9: 29.038723 | F9: 1.0056204 | G9: 29.038723 | H9: 1.2645932 | M9: 138.58238 | N9: 1.0759899
B10: 30%超 40%以下 | C10: 11.410256 | D10: 0.11419528 | M10: 11.410256 | N10: 0.088592223
B11: 40%超 | C11: 101.13988 | D11: 1.0122206 | M11: 101.13988 | N11: 0.78527656
B12: 小 計 | C12: 9991.8811 | D12: 100 | E12: 2887.6425 | F12: 100 | G12: 2296.2896 | H12: 100 | I12: 549.46883 | J12: 100 | K12: 41.884137 | L12: 100 | M12: 12879.524 | N12: 100
A13: １０％以上 | B13: 0% | C13: 4639.0578 | D13: 50.377303 | E13: 6229.4646 | F13: 41.518017 | G13: 4535.8983 | H13: 40.10705 | I13: 1318.5435 | J13: 41.982983 | K13: 375.02284 | L13: 67.68098 | M13: 10868.522 | N13: 44.887376
A14: ３０％未満 | B14: 0%超 10%以下 | C14: 3957.153 | D14: 42.972238 | E14: 7826.058 | F14: 52.158962 | G14: 6079.2821 | H14: 53.753867 | I14: 1570.1024 | J14: 49.992724 | K14: 176.67349 | L14: 31.884552 | M14: 11783.211 | N14: 48.665072
B15: 10%超 20%以下 | C15: 524.43784 | D15: 5.695071 | E15: 807.13138 | F15: 5.3793538 | G15: 581.53856 | H15: 5.1420457 | I15: 223.18542 | J15: 7.1063181 | K15: 2.4074074 | L15: 0.43446871 | M15: 1331.5692 | N15: 5.4994272
B16: 20%超 30%以下 | C16: 85.451745 | D16: 0.92795318 | E16: 100.972 | F16: 0.67295628 | G16: 81.311151 | H16: 0.71896463 | I16: 19.660852 | J16: 0.62600985 | M16: 186.42375 | N16: 0.76993657
B17: 30%超 40%以下 | C17: 2.5263158 | D17: 0.027434229 | E17: 36.618194 | F17: 0.24405224 | G17: 27.448551 | H17: 0.24270395 | I17: 9.1696429 | J17: 0.29196531 | M17: 39.14451 | N17: 0.16166819
B18: 40%超 | E18: 4 | F18: 0.026659124 | G18: 4 | H18: 0.035368562 | M18: 4 | N18: 0.016520139
B19: 小 計 | C19: 9208.6268 | D19: 100 | E19: 15004.244 | F19: 100 | G19: 11309.479 | H19: 100 | I19: 3140.6618 | J19: 100 | K19: 554.10375 | L19: 100 | M19: 24212.871 | N19: 100
A20: ３０％以上 | B20: 0% | C20: 2141.2552 | D20: 41.864325 | E20: 8109.3288 | F20: 44.035929 | G20: 6177.2851 | H20: 44.372245 | I20: 1614.3037 | J20: 45.146955 | K20: 317.74007 | L20: 34.609036 | M20: 10250.584 | N20: 43.563885
A21: ５０％未満 | B21: 0%超 10%以下 | C21: 2261.7919 | D21: 44.220975 | E21: 8872.9738 | F21: 48.182736 | G21: 6573.0118 | H21: 47.214802 | I21: 1764.7331 | J21: 49.353988 | K21: 535.2289 | L21: 58.298457 | M21: 11134.766 | N21: 47.321562
B22: 10%超 20%以下 | C22: 582.88188 | D22: 11.396099 | E22: 923.78829 | F22: 5.0164294 | G22: 749.11646 | H22: 5.3810013 | I22: 128.73613 | J22: 3.6003414 | K22: 45.935695 | L22: 5.0034297 | M22: 1506.6702 | N22: 6.4031869
B23: 20%超 30%以下 | C23: 126.19509 | D23: 2.4672783 | E23: 306.99679 | F23: 1.6670786 | G23: 271.33401 | H23: 1.9490276 | I23: 35.662779 | J23: 0.99737482 | M23: 433.19188 | N23: 1.8410191
B24: 30%超 40%以下 | E24: 94.585788 | F24: 0.51362735 | G24: 67.751879 | H24: 0.48667059 | I24: 7.6544218 | J24: 0.2140699 | K24: 19.179487 | L24: 2.0890773 | M24: 94.585788 | N24: 0.40197947
B25: 40%超 | C25: 2.625 | D25: 0.051322166 | E25: 107.58191 | F25: 0.58419995 | G25: 83.007444 | H25: 0.59625331 | I25: 24.574468 | J25: 0.68726994 | M25: 110.20691 | N25: 0.46836758
B26: 小 計 | C26: 5114.7491 | D26: 100 | E26: 18415.255 | F26: 100 | G26: 13921.507 | H26: 100 | I26: 3575.6646 | J26: 100 | K26: 918.08415 | L26: 100 | M26: 23530.004 | N26: 100
A27: ５０％以上 | B27: 0% | C27: 1335.33 | D27: 38.24662 | E27: 7606.5095 | F27: 52.578456 | G27: 5379.5391 | H27: 51.499199 | I27: 2159.5441 | J27: 57.238058 | K27: 67.426262 | L27: 27.167846 | M27: 8941.8394 | N27: 49.792135
A28: ７０％未満 | B28: 0%超 10%以下 | C28: 1686.3406 | D28: 48.300292 | E28: 5427.1613 | F28: 37.514154 | G28: 3973.3501 | H28: 38.037525 | I28: 1332.8614 | J28: 35.327085 | K28: 120.94975 | L28: 48.73389 | M28: 7113.5019 | N28: 39.611139
B29: 10%超 20%以下 | C29: 221.62838 | D29: 6.3478966 | E29: 987.07098 | F29: 6.8229283 | G29: 800.09982 | H29: 7.6594853 | I29: 127.16312 | J29: 3.3704195 | K29: 59.80805 | L29: 24.098264 | M29: 1208.6994 | N29: 6.7305751
B30: 20%超 30%以下 | C30: 95.784986 | D30: 2.7434807 | E30: 346.86886 | F30: 2.3976608 | G30: 226.8639 | H30: 2.1718049 | I30: 120.00496 | J30: 3.1806949 | M30: 442.65385 | N30: 2.4648933
B31: 30%超 40%以下 | C31: 103.6233 | D31: 2.9679862 | E31: 82.325919 | F31: 0.56906124 | G31: 66.01636 | H31: 0.63198532 | I31: 16.309559 | J31: 0.43227987 | M31: 185.94922 | N31: 1.0354479
B32: 40%超 | C32: 48.660051 | D32: 1.3937248 | E32: 17.033333 | F32: 0.11773947 | I32: 17.033333 | J32: 0.4514633 | M32: 65.693385 | N32: 0.36580995
B33: 小 計 | C33: 3491.3673 | D33: 100 | E33: 14466.97 | F33: 100 | G33: 10445.869 | H33: 100 | I33: 3772.9165 | J33: 100 | K33: 248.18406 | L33: 100 | M33: 17958.337 | N33: 100
A34: ７０％以上 | B34: 0% | C34: 3656.4203 | D34: 50.828117 | E34: 14004.188 | F34: 55.766156 | G34: 9150.5319 | H34: 57.133072 | I34: 3232.9018 | J34: 48.905279 | K34: 1620.754 | L34: 65.204928 | M34: 17660.608 | N34: 54.666586
B35: 0%超 10%以下 | C35: 2781.8918 | D35: 38.671244 | E35: 8989.7215 | F35: 35.798021 | G35: 5664.4086 | H35: 35.366804 | I35: 2495.0531 | J35: 37.743574 | K35: 830.2599 | L35: 33.402378 | M35: 11771.613 | N35: 36.437812
B36: 10%超 20%以下 | C36: 631.4588 | D36: 8.7779465 | E36: 1387.0592 | F36: 5.5234165 | G36: 759.25038 | H36: 4.740523 | I36: 595.45829 | J36: 9.0077137 | K36: 32.350575 | L36: 1.3015034 | M36: 2018.5181 | N36: 6.2481139
B37: 20%超 30%以下 | C37: 120.69341 | D37: 1.6777663 | E37: 588.31091 | F37: 2.3427162 | G37: 390.80255 | H37: 2.4400494 | I37: 197.50836 | J37: 2.9877807 | M37: 709.00433 | N37: 2.1946496
B38: 30%超 40%以下 | C38: 0.66666667 | D38: 0.0092673731 | E38: 67.854008 | F38: 0.27020183 | G38: 25.550436 | H38: 0.15952897 | I38: 42.303571 | J38: 0.63994148 | M38: 68.520674 | N38: 0.21209866
B39: 40%超 | C39: 2.5652174 | D39: 0.03565924 | E39: 75.208535 | F39: 0.29948834 | G39: 25.629487 | H39: 0.16002254 | I39: 47.312381 | J39: 0.71571156 | K39: 2.2666667 | L39: 0.09119079 | M39: 77.773752 | N39: 0.24074061
B40: 小 計 | C40: 7193.6962 | D40: 100 | E40: 25112.342 | F40: 100 | G40: 16016.173 | H40: 100 | I40: 6610.5375 | J40: 100 | K40: 2485.6311 | L40: 100 | M40: 32306.038 | N40: 100
A41: 合 計 | B41: 0% | C41: 17095.95 | D41: 48.845125 | E41: 37570.767 | F41: 49.509188 | G41: 26577.073 | H41: 49.22654 | I41: 8610.2248 | J41: 48.785218 | K41: 2383.4695 | L41: 56.109528 | M41: 54666.717 | N41: 49.299583
B42: 0%超 10%以下 | C42: 14455.775 | D42: 41.301837 | E42: 32232.883 | F42: 42.475147 | G42: 23132.486 | H42: 42.846413 | I42: 7397.9272 | J42: 41.916385 | K42: 1702.4699 | L42: 40.078038 | M42: 46688.658 | N42: 42.104803
B43: 10%超 20%以下 | C43: 2637.7092 | D43: 7.5362431 | E43: 4225.409 | F43: 5.5680675 | G43: 2981.0043 | H43: 5.5214706 | I43: 1103.903 | J43: 6.2546737 | K43: 140.50173 | L43: 3.3075673 | M43: 6863.1182 | N43: 6.1893028
B44: 20%超 30%以下 | C44: 537.66889 | D44: 1.5361828 | E44: 1372.1873 | F44: 1.8082111 | G44: 999.35033 | H44: 1.8510149 | I44: 372.83696 | J44: 2.1124805 | M44: 1909.8562 | N44: 1.722348
B45: 30%超 40%以下 | C45: 118.22654 | D45: 0.33778701 | E45: 281.38391 | F45: 0.37079596 | G45: 186.76723 | H45: 0.34593367 | I45: 75.437195 | J45: 0.42742438 | K45: 19.179487 | L45: 0.45150651 | M45: 399.61044 | N45: 0.36037701
B46: 40%超 | C46: 154.99015 | D46: 0.44282494 | E46: 203.82378 | F46: 0.26859047 | G46: 112.63693 | H46: 0.20862818 | I46: 88.920182 | J46: 0.5038185 | K46: 2.2666667 | L46: 0.05335986 | M46: 358.81393 | N46: 0.32358587
C47: 35000.32 | D47: 100 | E47: 75886.454 | F47: 100 | G47: 53989.317 | H47: 100 | I47: 17649.249 | J47: 100 | K47: 4247.8872 | L47: 100 | M47: 110886.77 | N47: 100
G48: （注） | H48: 1. ( )の数値は各合計を100とした場合の構成比
H49: 2．無効回答企業 1,167社を除く
