Workbook
Name ______________________ＴＢＬ１: [1]CSS編集画面!$B$10:$F$22
Name ______________________ＴＢＬ２: [1]CSS編集画面!$B$24:$I$35
Name _____________________ＴＢＬ１: [1]CSS編集画面!$B$10:$F$22
Name _____________________ＴＢＬ２: [1]CSS編集画面!$B$24:$I$35
Name ____________________ＴＢＬ１: [1]CSS編集画面!$B$10:$F$22
Name ____________________ＴＢＬ２: [1]CSS編集画面!$B$24:$I$35
Name ___________________ＴＢＬ１: [1]CSS編集画面!$B$10:$F$22
Name ___________________ＴＢＬ２: [1]CSS編集画面!$B$24:$I$35
Name __________________ＴＢＬ１: [1]CSS編集画面!$B$10:$F$22
Name __________________ＴＢＬ２: [1]CSS編集画面!$B$24:$I$35
Name _________________ＴＢＬ１: [1]CSS編集画面!$B$10:$F$22
Name _________________ＴＢＬ２: [1]CSS編集画面!$B$24:$I$35
Name ________________ＴＢＬ１: [1]CSS編集画面!$B$10:$F$22
Name ________________ＴＢＬ２: [1]CSS編集画面!$B$24:$I$35
Name _______________ＴＢＬ１: [1]CSS編集画面!$B$10:$F$22
Name _______________ＴＢＬ２: [1]CSS編集画面!$B$24:$I$35
Name ______________ＴＢＬ１: [1]CSS編集画面!$B$10:$F$22
Name ______________ＴＢＬ２: [1]CSS編集画面!$B$24:$I$35
Name _____________ＴＢＬ１: [1]CSS編集画面!$B$10:$F$22
Name _____________ＴＢＬ２: [1]CSS編集画面!$B$24:$I$35
Name ____________ＴＢＬ１: [1]CSS編集画面!$B$10:$F$22
Name ____________ＴＢＬ２: [1]CSS編集画面!$B$24:$I$35
Name ___________ＴＢＬ１: [1]CSS編集画面!$B$10:$F$22
Name ___________ＴＢＬ２: [1]CSS編集画面!$B$24:$I$35
Name __________ＴＢＬ１: [1]CSS編集画面!$B$10:$F$22
Name __________ＴＢＬ２: [1]CSS編集画面!$B$24:$I$35
Name _________ＴＢＬ１: [1]CSS編集画面!$B$10:$F$22
Name _________ＴＢＬ２: [1]CSS編集画面!$B$24:$I$35
Name ________ＴＢＬ１: [1]CSS編集画面!$B$10:$F$22
Name ________ＴＢＬ２: [1]CSS編集画面!$B$24:$I$35
Name _______ＴＢＬ１: [1]CSS編集画面!$B$10:$F$22
Name _______ＴＢＬ２: [1]CSS編集画面!$B$24:$I$35
Name ______ＴＢＬ１: [1]CSS編集画面!$B$10:$F$22
Name ______ＴＢＬ２: [1]CSS編集画面!$B$24:$I$35
Name _____ＴＢＬ１: [1]CSS編集画面!$B$10:$F$22
Name _____ＴＢＬ２: [1]CSS編集画面!$B$24:$I$35
Name ____ＴＢＬ１: [1]CSS編集画面!$B$10:$F$22
Name ____ＴＢＬ２: [1]CSS編集画面!$B$24:$I$35
Name ___ＴＢＬ１: [1]CSS編集画面!$B$10:$F$22
Name ___ＴＢＬ２: [1]CSS編集画面!$B$24:$I$35
Name __ＴＢＬ１: [1]CSS編集画面!$B$10:$F$22
Name __ＴＢＬ２: [1]CSS編集画面!$B$24:$I$35
Name _ＴＢＬ１: [1]CSS編集画面!$B$10:$F$22
Name _ＴＢＬ２: [1]CSS編集画面!$B$24:$I$35
Name PAGE1: #REF!
Name PAGE10: #REF!
Name PAGE100: #REF!
Name PAGE1000: #REF!
Name PAGE1001: #REF!
Name PAGE1002: #REF!
Name PAGE1003: #REF!
Name PAGE1004: #REF!
Name PAGE1005: #REF!
Name PAGE1006: #REF!
Name PAGE1007: #REF!
Name PAGE1008: #REF!
Name PAGE1009: #REF!
Name PAGE101: #REF!
Name PAGE1010: #REF!
Name PAGE1011: #REF!

Sheet 7-1-1
A1: 表7－1－1 社団法人への加入状況
W3: （単位：社、％）
C4: 資本金 | D4: 個 人 | F4: 法 人 | V4: 合 計
A5: 業種 | C5: 種別 | F5: 500万円未満 | H5: 500万円以上 1000万円未満 | J5: 1000万円以上 3000万円未満 | L5: 3000万円以上 5000万円未満 | N5: 5000万円以上 1億円未満 | P5: 1億円以上 3億円未満 | R5: 3億円以上 10億円未満 | T5: 10億円以上
A6: 一般土木建築 | B6: 一般土木建築 工事業 | C6: 加入 | F6: 44.833333 | G6: 16.666667 | H6: 81 | I6: 23.076923 | J6: 994.3662 | K6: 70.422535 | L6: 655.35897 | M6: 79.220779 | N6: 431.08861 | O6: 91.139241 | P6: 87.4 | Q6: 92 | R6: 21.473684 | S6: 89.473684 | T6: 48.529412 | U6: 97.058824 | V6: 2364.0502 | W6: 66.159546
C7: 未加入 | D7: 72 | E7: 100 | F7: 224.16667 | G7: 83.333333 | H7: 270 | I7: 76.923077 | J7: 417.6338 | K7: 29.577465 | L7: 171.89744 | M7: 20.779221 | N7: 41.911392 | O7: 8.8607595 | P7: 7.6 | Q7: 8 | R7: 2.5263158 | S7: 10.526316 | T7: 1.4705882 | U7: 2.9411765 | V7: 1209.2062 | W7: 33.840454
A8: 土木 | B8: 土木工事業 | C8: 加入 | D8: 272.35714 | E8: 27.272727 | F8: 405.08621 | G8: 9.2592593 | H8: 1811.2 | I8: 40 | J8: 5482.9147 | K8: 48.818898 | L8: 2219.8537 | M8: 63.114754 | N8: 755.85417 | O8: 77.659574 | P8: 64.304348 | Q8: 77.272727 | R8: 7.6363636 | S8: 70 | T8: 13.333333 | U8: 83.333333 | V8: 11032.54 | W8: 42.872629
C9: 未加入 | D9: 726.28571 | E9: 72.727273 | F9: 3969.8448 | G9: 90.740741 | H9: 2716.8 | I9: 60 | J9: 5748.2171 | K9: 51.181102 | L9: 1297.3171 | M9: 36.885246 | N9: 217.4375 | O9: 22.340426 | P9: 18.913043 | Q9: 22.727273 | R9: 3.2727273 | S9: 30 | T9: 2.6666667 | U9: 16.666667 | V9: 14700.755 | W9: 57.127371
B10: ほ装工事業 | C10: 加入 | H10: 132.5 | I10: 26.086957 | J10: 507.54717 | K10: 47.169811 | L10: 210.19444 | M10: 64.788732 | N10: 66.148148 | O10: 76 | P10: 15 | Q10: 100 | R10: 4 | S10: 100 | V10: 935.38976 | W10: 33.295846
C11: 未加入 | D11: 55.111111 | E11: 100 | F11: 739.83333 | G11: 100 | H11: 375.41667 | I11: 73.913043 | J11: 568.45283 | K11: 52.830189 | L11: 114.23611 | M11: 35.211268 | N11: 20.888889 | O11: 24 | V11: 1873.9389 | W11: 66.704154
B12: しゅんせつ 工事業 | C12: 加入 | L12: 15.333333 | M12: 66.666667 | N12: 9 | O12: 100 | V12: 24.333333 | W12: 76.041667
C13: 未加入 | L13: 7.6666667 | M13: 33.333333 | V13: 7.6666667 | W13: 23.958333
B14: 造園工事業 | C14: 加入 | F14: 146.25 | G14: 37.5 | H14: 224 | I14: 80 | J14: 535.48387 | K14: 80.645161 | L14: 125 | M14: 72.727273 | N14: 27.75 | O14: 75 | P14: 2 | Q14: 100 | V14: 1060.4839 | W14: 66.997323
C15: 未加入 | D15: 38 | E15: 100 | F15: 243.75 | G15: 62.5 | H15: 56 | I15: 20 | J15: 128.51613 | K15: 19.354839 | L15: 46.875 | M15: 27.272727 | N15: 9.25 | O15: 25 | V15: 522.39113 | W15: 33.002677
B16: 水道施設工事業 | C16: 加入 | H16: 52.857143 | I16: 14.285714 | J16: 167.08108 | K16: 30.555556 | L16: 57.866667 | M16: 46.666667 | N16: 28 | O16: 70 | V16: 305.80489 | W16: 20.321816
C17: 未加入 | D17: 138 | E17: 100 | F17: 286 | G17: 100 | H17: 317.14286 | I17: 85.714286 | J17: 379.72973 | K17: 69.444444 | L17: 66.133333 | M17: 53.333333 | N17: 12 | O17: 30 | V17: 1199.0059 | W17: 79.678184
A18: 小 計 | C18: 加入 | D18: 272.35714 | E18: 22.147287 | F18: 551.33621 | G18: 9.5209574 | H18: 2220.5571 | I18: 39.053635 | J18: 6693.0269 | K18: 49.512171 | L18: 2628.2481 | M18: 63.171808 | N18: 886.75231 | O18: 77.35585 | P18: 81.304348 | Q18: 81.127983 | R18: 11.636364 | S18: 78.04878 | T18: 13.333333 | U18: 83.333333 | V18: 13358.552 | W18: 42.190706
C19: 未加入 | D19: 957.39683 | E19: 77.852713 | F19: 5239.4282 | G19: 90.479043 | H19: 3465.3595 | I19: 60.946365 | J19: 6824.9157 | K19: 50.487829 | L19: 1532.2282 | M19: 36.828192 | N19: 259.57639 | O19: 22.64415 | P19: 18.913043 | Q19: 18.872017 | R19: 3.2727273 | S19: 21.95122 | T19: 2.6666667 | U19: 16.666667 | V19: 18303.757 | W19: 57.809294
A20: 建築 | B20: 建築工事業 | C20: 加入 | D20: 556 | E20: 14.285714 | F20: 1436.931 | G20: 26.923077 | H20: 1779.8421 | I20: 38.888889 | J20: 4560 | K20: 45.714286 | L20: 1322.7778 | M20: 57.142857 | N20: 712.47761 | O20: 80 | P20: 161.28 | Q20: 84 | R20: 18.571429 | S20: 61.904762 | T20: 33.636364 | U20: 90.909091 | V20: 10581.516 | W20: 38.837855
C21: 未加入 | D21: 3336 | E21: 85.714286 | F21: 3900.2414 | G21: 73.076923 | H21: 2796.8947 | I21: 61.111111 | J21: 5415 | K21: 54.285714 | L21: 992.08333 | M21: 42.857143 | N21: 178.1194 | O21: 20 | P21: 30.72 | Q21: 16 | R21: 11.428571 | S21: 38.095238 | T21: 3.3636364 | U21: 9.0909091 | V21: 16663.851 | W21: 61.162145
B22: 木造建築工事業 | C22: 加入 | D22: 719.09091 | E22: 25 | F22: 408 | G22: 15 | H22: 473.06667 | I22: 28.571429 | J22: 636.47059 | K22: 24.691358 | L22: 114.59259 | M22: 53.846154 | N22: 50 | O22: 58.823529 | P22: 17 | Q22: 100 | R22: 5 | S22: 100 | T22: 1 | U22: 100 | V22: 2424.2208 | W22: 23.882495
C23: 未加入 | D23: 2157.2727 | E23: 75 | F23: 2312 | G23: 85 | H23: 1182.6667 | I23: 71.428571 | J23: 1941.2353 | K23: 75.308642 | L23: 98.222222 | M23: 46.153846 | N23: 35 | O23: 41.176471 | V23: 7726.3969 | W23: 76.117505
A24: 小 計 | C24: 加入 | D24: 1275.0909 | E24: 18.838984 | F24: 1844.931 | G24: 22.897996 | H24: 2252.9088 | I24: 36.147927 | J24: 5196.4706 | K24: 41.397215 | L24: 1437.3704 | M24: 56.865295 | N24: 762.47761 | O24: 78.154976 | P24: 178.28 | Q24: 85.301435 | R24: 23.571429 | S24: 67.346939 | T24: 34.636364 | U24: 91.148325 | V24: 13005.737 | W24: 34.778432
C25: 未加入 | D25: 5493.2727 | E25: 81.161016 | F25: 6212.2414 | G25: 77.102004 | H25: 3979.5614 | I25: 63.852073 | J25: 7356.2353 | K25: 58.602785 | L25: 1090.3056 | M25: 43.134705 | N25: 213.1194 | O25: 21.845024 | P25: 30.72 | Q25: 14.698565 | R25: 11.428571 | S25: 32.653061 | T25: 3.3636364 | U25: 8.8516746 | V25: 24390.248 | W25: 65.221568
A26: 職別 | B26: 大工工事業 | C26: 加入 | D26: 187.25806 | E26: 10.344828 | F26: 162.71429 | G26: 14.814815 | H26: 94.571429 | I26: 14.285714 | J26: 252.16438 | K26: 36.111111 | L26: 26.666667 | M26: 53.333333 | N26: 10.230769 | O26: 53.846154 | V26: 733.6056 | W26: 16.908092
C27: 未加入 | D27: 1622.9032 | E27: 89.655172 | F27: 935.60714 | G27: 85.185185 | H27: 567.42857 | I27: 85.714286 | J27: 446.13699 | K27: 63.888889 | L27: 23.333333 | M27: 46.666667 | N27: 8.7692308 | O27: 46.153846 | P27: 1 | Q27: 100 | V27: 3605.1785 | W27: 83.091908
B28: とび・土工・ コンクリート 工事業 | C28: 加入 | D28: 172.63636 | E28: 30 | F28: 329.54545 | G28: 11.811024 | H28: 537.29032 | I28: 26.666667 | J28: 728.59412 | K28: 32.515337 | L28: 116.63551 | M28: 50.980392 | N28: 70.790123 | O28: 59.493671 | P28: 9.7777778 | Q28: 61.111111 | R28: 2 | S28: 100 | T28: 3 | U28: 100 | V28: 1970.2697 | W28: 24.659232
C29: 未加入 | D29: 402.81818 | E29: 70 | F29: 2460.6061 | G29: 88.188976 | H29: 1477.5484 | I29: 73.333333 | J29: 1512.1765 | K29: 67.484663 | L29: 112.14953 | M29: 49.019608 | N29: 48.197531 | O29: 40.506329 | P29: 6.2222222 | Q29: 38.888889 | V29: 6019.7184 | W29: 75.340768
B30: 鋼構造物工事業 | C30: 加入 | D30: 52.571429 | E30: 16.666667 | F30: 67.28 | G30: 8.3333333 | H30: 172.05882 | I30: 31.25 | J30: 500.08333 | K30: 36.170213 | L30: 43.5625 | M30: 37.777778 | N30: 26 | O30: 40 | P30: 8.3333333 | Q30: 83.333333 | R30: 5 | S30: 100 | T30: 4 | U30: 100 | V30: 878.88942 | W30: 26.99895
C31: 未加入 | D31: 262.85714 | E31: 83.333333 | F31: 740.08 | G31: 91.666667 | H31: 378.52941 | I31: 68.75 | J31: 882.5 | K31: 63.829787 | L31: 71.75 | M31: 62.222222 | N31: 39 | O31: 60 | P31: 1.6666667 | Q31: 16.666667 | V31: 2376.3832 | W31: 73.00105
B32: 鉄筋工事業 | C32: 加入 | F32: 136.26667 | G32: 27.586207 | H32: 75.2 | I32: 22.222222 | J32: 161.25 | K32: 42.372881 | L32: 13.333333 | M32: 47.058824 | N32: 3.5 | O32: 50 | V32: 389.55 | W32: 30.271593
C33: 未加入 | D33: 37.6 | E33: 100 | F33: 357.7 | G33: 72.413793 | H33: 263.2 | I33: 77.777778 | J33: 219.3 | K33: 57.627119 | L33: 15 | M33: 52.941176 | N33: 3.5 | O33: 50 | P33: 1 | Q33: 100 | V33: 897.3 | W33: 69.728407
B34: 解体工事業 | C34: 加入 | F34: 81.473684 | G34: 17.647059 | H34: 206.5 | I34: 50 | J34: 179.61538 | K34: 43.478261 | L34: 34.285714 | M34: 42.857143 | N34: 11.2 | O34: 50 | V34: 513.07478 | W34: 34.545847
C35: 未加入 | D35: 95 | E35: 100 | F35: 380.21053 | G35: 82.352941 | H35: 206.5 | I35: 50 | J35: 233.5 | K35: 56.521739 | L35: 45.714286 | M35: 57.142857 | N35: 11.2 | O35: 50 | V35: 972.12481 | W35: 65.454153
B36: 躯体関係計 | C36: 加入 | D36: 412.46586 | E36: 14.55602 | F36: 777.28009 | G36: 13.753558 | H36: 1085.6206 | I36: 27.284941 | J36: 1821.7072 | K36: 35.612767 | L36: 234.48373 | M36: 46.669848 | N36: 121.72089 | O36: 52.378382 | P36: 18.111111 | Q36: 64.68254 | R36: 7 | S36: 100 | T36: 7 | U36: 100 | V36: 4485.3895 | W36: 24.435424
C37: 未加入 | D37: 2421.1786 | E37: 85.44398 | F37: 4874.2037 | G37: 86.246442 | H37: 2893.2064 | I37: 72.715059 | J37: 3293.6135 | K37: 64.387233 | L37: 267.94715 | M37: 53.330152 | N37: 110.66676 | O37: 47.621618 | P37: 9.8888889 | Q37: 35.31746 | V37: 13870.705 | W37: 75.564576
B38: 左官工事業 | C38: 加入 | D38: 36.142857 | E38: 16.666667 | F38: 221.33333 | G38: 33.333333 | H38: 47.538462 | I38: 27.272727 | J38: 210.73684 | K38: 36.842105 | L38: 9 | M38: 50 | N38: 4 | O38: 50 | V38: 528.75149 | W38: 31.984197
C39: 未加入 | D39: 180.71429 | E39: 83.333333 | F39: 442.66667 | G39: 66.666667 | H39: 126.76923 | I39: 72.727273 | J39: 361.26316 | K39: 63.157895 | L39: 9 | M39: 50 | N39: 4 | O39: 50 | V39: 1124.4133 | W39: 68.015803
B40: 石工事業 | C40: 加入 | D40: 23 | E40: 14.285714 | F40: 40.142857 | G40: 16.666667 | J40: 95 | K40: 47.619048 | N40: 9 | O40: 50 | V40: 167.14286 | W40: 16.237596
C41: 未加入 | D41: 138 | E41: 85.714286 | F41: 200.71429 | G41: 83.333333 | H41: 376 | I41: 100 | J41: 104.5 | K41: 52.380952 | L41: 34 | M41: 100 | N41: 9 | O41: 50 | V41: 862.21429 | W41: 83.762404
...

Sheet 7-1-2
A1: 表7－1－2 社団法人への加入状況（経年変化）
A3: （経年変化①） | S3: （単位：社、％）
B4: 年度 | C4: R01年度 | F4: H26年度 | I4: H23年度 | L4: H20年度 | O4: H17年度 | R4: H14年度
A6: 業種 | E6: 増減 | H6: 増減 | K6: 増減 | N6: 増減 | Q6: 増減
A7: 一般土木建築 | B7: 加入 | C7: =IF('7-1-1'!V6<>"",'7-1-1'!V6,"") -> 2364.0502 | D7: =IF('7-1-1'!W6<>"",'7-1-1'!W6,"") -> 66.159546 | E7: =IF(AND(ISNUMBER(D7),ISNUMBER(G7)),D7-G7,"") -> -3.7140795 | F7: 2845.3414 | G7: 69.873625 | H7: =IF(AND(ISNUMBER(G7),ISNUMBER(J7)),G7-J7,"") -> 7.8736252 | I7: 2655.98 | J7: 62 | K7: =J7-M7 -> -2.5 | L7: 3164 | M7: 64.5 | N7: =M7-P7 -> -3.6 | O7: 3909 | P7: 68.1 | Q7: =P7-S7 -> 5.3183275 | R7: 5015.1172 | S7: =IF(ROUND((R7+R8),0)=0,"",ROUND(R7,0)/ROUND((R7+R8),0)*100) -> 62.781673
B8: 未加入 | C8: =IF('7-1-1'!V7<>"",'7-1-1'!V7,"") -> 1209.2062 | D8: =IF('7-1-1'!W7<>"",'7-1-1'!W7,"") -> 33.840454 | E8: =IF(AND(ISNUMBER(D8),ISNUMBER(G8)),D8-G8,"") -> 3.7140795 | F8: 1226.7836 | G8: 30.126375 | H8: =IF(AND(ISNUMBER(G8),ISNUMBER(J8)),G8-J8,"") -> -7.8736252 | I8: 1625.02 | J8: 38 | K8: =J8-M8 -> 2.5 | L8: 1742 | M8: 35.5 | N8: =M8-P8 -> 3.6 | O8: 1828 | P8: 31.9 | Q8: =P8-S8 -> -5.3183275 | R8: 2972.8831 | S8: =IF(ROUND((R7+R8),0)=0,"",ROUND(R8,0)/ROUND((R7+R8),0)*100) -> 37.218327
A9: 土木 | B9: 加入 | C9: =IF('7-1-1'!V18<>"",'7-1-1'!V18,"") -> 13358.552 | D9: =IF('7-1-1'!W18<>"",'7-1-1'!W18,"") -> 42.190706 | E9: =IF(AND(ISNUMBER(D9),ISNUMBER(G9)),D9-G9,"") -> -6.4388709 | F9: 17494.398 | G9: 48.629577 | H9: =IF(AND(ISNUMBER(G9),ISNUMBER(J9)),G9-J9,"") -> 3.0295771 | I9: 17174.24 | J9: 45.6 | K9: =J9-M9 -> -4.2 | L9: 21750 | M9: 49.8 | N9: =M9-P9 -> -1.4 | O9: 27686 | P9: 51.2 | Q9: =P9-S9 -> 2.1181723 | R9: 33115.523 | S9: =IF(ROUND((R9+R10),0)=0,"",ROUND(R9,0)/ROUND((R9+R10),0)*100) -> 49.081828
B10: 未加入 | C10: =IF('7-1-1'!V19<>"",'7-1-1'!V19,"") -> 18303.757 | D10: =IF('7-1-1'!W19<>"",'7-1-1'!W19,"") -> 57.809294 | E10: =IF(AND(ISNUMBER(D10),ISNUMBER(G10)),D10-G10,"") -> 6.4388709 | F10: 18480.412 | G10: 51.370423 | H10: =IF(AND(ISNUMBER(G10),ISNUMBER(J10)),G10-J10,"") -> -3.0295771 | I10: 20466.83 | J10: 54.4 | K10: =J10-M10 -> 4.2 | L10: 21912 | M10: 50.2 | N10: =M10-P10 -> 1.4 | O10: 26429 | P10: 48.8 | Q10: =P10-S10 -> -2.1181723 | R10: 34355.48 | S10: =IF(ROUND((R9+R10),0)=0,"",ROUND(R10,0)/ROUND((R9+R10),0)*100) -> 50.918172
A11: 建築 | B11: 加入 | C11: =IF('7-1-1'!V20<>"",'7-1-1'!V20,"") -> 10581.516 | D11: =IF('7-1-1'!W20<>"",'7-1-1'!W20,"") -> 38.837855 | E11: =IF(AND(ISNUMBER(D11),ISNUMBER(G11)),D11-G11,"") -> 7.1097326 | F11: 9478.9718 | G11: 31.728123 | H11: =IF(AND(ISNUMBER(G11),ISNUMBER(J11)),G11-J11,"") -> -4.1718775 | I11: 11386.4 | J11: 35.9 | K11: =J11-M11 -> -2.4 | L11: 12618 | M11: 38.3 | N11: =M11-P11 -> 4 | O11: 13849 | P11: 34.3 | Q11: =P11-S11 -> 1.9833428 | R11: 16581.598 | S11: =IF(ROUND((R11+R12),0)=0,"",ROUND(R11,0)/ROUND((R11+R12),0)*100) -> 32.316657
B12: 未加入 | C12: =IF('7-1-1'!V21<>"",'7-1-1'!V21,"") -> 16663.851 | D12: =IF('7-1-1'!W21<>"",'7-1-1'!W21,"") -> 61.162145 | E12: =IF(AND(ISNUMBER(D12),ISNUMBER(G12)),D12-G12,"") -> -7.1097326 | F12: 20396.643 | G12: 68.271877 | H12: =IF(AND(ISNUMBER(G12),ISNUMBER(J12)),G12-J12,"") -> 4.1718775 | I12: 20294.95 | J12: 64.1 | K12: =J12-M12 -> 2.4 | L12: 20333 | M12: 61.7 | N12: =M12-P12 -> -4 | O12: 26548 | P12: 65.7 | Q12: =P12-S12 -> -1.9833428 | R12: 34729.402 | S12: =IF(ROUND((R11+R12),0)=0,"",ROUND(R12,0)/ROUND((R11+R12),0)*100) -> 67.683343
A13: 木造建築 | B13: 加入 | C13: =IF('7-1-1'!V22<>"",'7-1-1'!V22,"") -> 2424.2208 | D13: =IF('7-1-1'!W22<>"",'7-1-1'!W22,"") -> 23.882495 | E13: =IF(AND(ISNUMBER(D13),ISNUMBER(G13)),D13-G13,"") -> -1.0263137 | F13: 3446.1809 | G13: 24.908809 | H13: =IF(AND(ISNUMBER(G13),ISNUMBER(J13)),G13-J13,"") -> 2.5088087 | I13: 2798.34 | J13: 22.4 | K13: =J13-M13 -> 3.9 | L13: 2507 | M13: 18.5 | N13: =M13-P13 -> -6.1 | O13: 4057 | P13: 24.6 | Q13: =P13-S13 -> 4.0014658 | R13: 5058.6753 | S13: =IF(ROUND((R13+R14),0)=0,"",ROUND(R13,0)/ROUND((R13+R14),0)*100) -> 20.598534
B14: 未加入 | C14: =IF('7-1-1'!V23<>"",'7-1-1'!V23,"") -> 7726.3969 | D14: =IF('7-1-1'!W23<>"",'7-1-1'!W23,"") -> 76.117505 | E14: =IF(AND(ISNUMBER(D14),ISNUMBER(G14)),D14-G14,"") -> 1.0263137 | F14: 10389.009 | G14: 75.091191 | H14: =IF(AND(ISNUMBER(G14),ISNUMBER(J14)),G14-J14,"") -> -2.5088087 | I14: 9719.89 | J14: 77.6 | K14: =J14-M14 -> -3.9 | L14: 11072 | M14: 81.5 | N14: =M14-P14 -> 6.1 | O14: 12458 | P14: 75.4 | Q14: =P14-S14 -> -4.0014658 | R14: 19501.324 | S14: =IF(ROUND((R13+R14),0)=0,"",ROUND(R14,0)/ROUND((R13+R14),0)*100) -> 79.401466
A15: 職別 | B15: 加入 | C15: =IF('7-1-1'!V60<>"",'7-1-1'!V60,"") -> 10861.523 | D15: =IF('7-1-1'!W60<>"",'7-1-1'!W60,"") -> 25.103685 | E15: =IF(AND(ISNUMBER(D15),ISNUMBER(G15)),D15-G15,"") -> 1.8617388 | F15: 9923.9238 | G15: 23.241946 | H15: =IF(AND(ISNUMBER(G15),ISNUMBER(J15)),G15-J15,"") -> -0.65805431 | I15: 9216.94 | J15: 23.9 | K15: =J15-M15 -> -1.1 | L15: 10103 | M15: 25 | N15: =M15-P15 -> -0.5 | O15: 11185 | P15: 25.5 | Q15: =P15-S15 -> 2.2251836 | R15: 13814.892 | S15: =IF(ROUND((R15+R16),0)=0,"",ROUND(R15,0)/ROUND((R15+R16),0)*100) -> 23.274816
B16: 未加入 | C16: =IF('7-1-1'!V61<>"",'7-1-1'!V61,"") -> 32405.126 | D16: =IF('7-1-1'!W61<>"",'7-1-1'!W61,"") -> 74.896315 | E16: =IF(AND(ISNUMBER(D16),ISNUMBER(G16)),D16-G16,"") -> -1.8617388 | F16: 32774.411 | G16: 76.758054 | H16: =IF(AND(ISNUMBER(G16),ISNUMBER(J16)),G16-J16,"") -> 0.65805431 | I16: 29402.56 | J16: 76.1 | K16: =J16-M16 -> 1.1 | L16: 30266 | M16: 75 | N16: =M16-P16 -> 0.5 | O16: 32662 | P16: 74.5 | Q16: =P16-S16 -> -2.2251836 | R16: 45541.109 | S16: =IF(ROUND((R15+R16),0)=0,"",ROUND(R16,0)/ROUND((R15+R16),0)*100) -> 76.725184
A17: 設備 | B17: 加入 | C17: =IF('7-1-1'!V76<>"",'7-1-1'!V76,"") -> 9804.7893 | D17: =IF('7-1-1'!W76<>"",'7-1-1'!W76,"") -> 29.49378 | E17: =IF(AND(ISNUMBER(D17),ISNUMBER(G17)),D17-G17,"") -> -0.9453878 | F17: 10300.226 | G17: 30.439168 | H17: =IF(AND(ISNUMBER(G17),ISNUMBER(J17)),G17-J17,"") -> -0.16083222 | I17: 10182.92 | J17: 30.6 | K17: =J17-M17 -> -2.3 | L17: 11238 | M17: 32.9 | N17: =M17-P17 -> -1.9 | O17: 12682 | P17: 34.8 | Q17: =P17-S17 -> 3.6844272 | R17: 13483.316 | S17: =IF(ROUND((R17+R18),0)=0,"",ROUND(R17,0)/ROUND((R17+R18),0)*100) -> 31.115573
B18: 未加入 | C18: =IF('7-1-1'!V77<>"",'7-1-1'!V77,"") -> 23438.794 | D18: =IF('7-1-1'!W77<>"",'7-1-1'!W77,"") -> 70.50622 | E18: =IF(AND(ISNUMBER(D18),ISNUMBER(G18)),D18-G18,"") -> 0.9453878 | F18: 23538.498 | G18: 69.560832 | H18: =IF(AND(ISNUMBER(G18),ISNUMBER(J18)),G18-J18,"") -> 0.16083222 | I18: 23122.51 | J18: 69.4 | K18: =J18-M18 -> 2.3 | L18: 22893 | M18: 67.1 | N18: =M18-P18 -> 1.9 | O18: 23752 | P18: 65.2 | Q18: =P18-S18 -> -3.6844272 | R18: 29848.684 | S18: =IF(ROUND((R17+R18),0)=0,"",ROUND(R18,0)/ROUND((R17+R18),0)*100) -> 68.884427
A19: 合 計 | B19: 加入 | C19: =IF('7-1-1'!V78<>"",'7-1-1'!V78,"") -> 49394.652 | D19: =IF('7-1-1'!W78<>"",'7-1-1'!W78,"") -> 33.119258 | E19: =IF(AND(ISNUMBER(D19),ISNUMBER(G19)),D19-G19,"") -> -0.24991091 | F19: 53489.041 | G19: 33.369169 | H19: =IF(AND(ISNUMBER(G19),ISNUMBER(J19)),G19-J19,"") -> -0.43083134 | I19: 53414.81 | J19: 33.8 | K19: =J19-M19 -> -2.4 | L19: 61380 | M19: 36.2 | N19: =M19-P19 -> -1 | O19: 73369 | P19: 37.2 | Q19: =P19-S19 -> 2.9232952 | R19: 87069.117 | S19: =IF(ROUND((R19+R20),0)=0,"",ROUND(R19,0)/ROUND((R19+R20),0)*100) -> 34.276705
B20: 未加入 | C20: =IF('7-1-1'!V79<>"",'7-1-1'!V79,"") -> 99747.132 | D20: =IF('7-1-1'!W79<>"",'7-1-1'!W79,"") -> 66.880742 | E20: =IF(AND(ISNUMBER(D20),ISNUMBER(G20)),D20-G20,"") -> 0.24991091 | F20: 106805.76 | G20: 66.630831 | H20: =IF(AND(ISNUMBER(G20),ISNUMBER(J20)),G20-J20,"") -> 0.43083134 | I20: 104631.76 | J20: 66.2 | K20: =J20-M20 -> 2.4 | L20: 108218 | M20: 63.8 | N20: =M20-P20 -> 1 | O20: 123676 | P20: 62.8 | Q20: =P20-S20 -> -2.9232952 | R20: 166948.88 | S20: =IF(ROUND((R19+R20),0)=0,"",ROUND(R20,0)/ROUND((R19+R20),0)*100) -> 65.723295
O21: （注） | P21: 1．( )の数値は加入＋未加入を100とした場合の構成比
P22: =P51 -> 2．無効回答企業 197社を除く
A24: （経年変化②） | V24: （単位：社、％）
B25: 資本金 | C25: 個人 | E25: 法 人 | U25: 合 計
E26: 500万円未満 | G26: 500万円以上 1000万円未満 | I26: 1000万円以上 3000万円未満 | K26: 3000万円以上 5000万円未満 | M26: 5000万円以上 1億円未満 | O26: 1億円以上 3億円未満 | Q26: 3億円以上 10億円未満 | S26: 10億円以上
A27: 年度
A28: R01年度 | B28: 加入 | C28: =IF('7-1-1'!D78<>"",'7-1-1'!D78,"") -> 2738.892 | D28: =IF('7-1-1'!E78<>"",'7-1-1'!E78,"") -> 15.618703 | E28: =IF('7-1-1'!F78<>"",'7-1-1'!F78,"") -> 6412.314 | F28: =IF('7-1-1'!G78<>"",'7-1-1'!G78,"") -> 17.295737 | G28: =IF('7-1-1'!H78<>"",'7-1-1'!H78,"") -> 8166.0209 | H28: =IF('7-1-1'!I78<>"",'7-1-1'!I78,"") -> 30.976405 | I28: =IF('7-1-1'!J78<>"",'7-1-1'!J78,"") -> 22652.27 | J28: =IF('7-1-1'!K78<>"",'7-1-1'!K78,"") -> 42.436482 | ... V28: =IF('7-1-1'!W78<>"",'7-1-1'!W78,"") -> 33.119258
B29: 未加入 | C29: =IF('7-1-1'!D79<>"",'7-1-1'!D79,"") -> 14797.084 | D29: =IF('7-1-1'!E79<>"",'7-1-1'!E79,"") -> 84.381297 | E29: =IF('7-1-1'!F79<>"",'7-1-1'!F79,"") -> 30662.22 | F29: =IF('7-1-1'!G79<>"",'7-1-1'!G79,"") -> 82.704263 | G29: =IF('7-1-1'!H79<>"",'7-1-1'!H79,"") -> 18196.047 | H29: =IF('7-1-1'!I79<>"",'7-1-1'!I79,"") -> 69.023595 | I29: =IF('7-1-1'!J79<>"",'7-1-1'!J79,"") -> 30726.966 | J29: =IF('7-1-1'!K79<>"",'7-1-1'!K79,"") -> 57.563518 | ... V29: =IF('7-1-1'!W79<>"",'7-1-1'!W79,"") -> 66.880742
A30: 増減 | B30: 加入 | D30: =IF(AND(ISNUMBER(D28),ISNUMBER(D32)),D28-D32,"") -> -3.2009255 | F30: =IF(AND(ISNUMBER(F28),ISNUMBER(F32)),F28-F32,"") -> 0.25586604 | H30: =IF(AND(ISNUMBER(H28),ISNUMBER(H32)),H28-H32,"") -> 10.171389 | J30: =IF(AND(ISNUMBER(J28),ISNUMBER(J32)),J28-J32,"") -> -4.2592741 | L30: =IF(AND(ISNUMBER(L28),ISNUMBER(L32)),L28-L32,"") -> 0.46409168 | N30: =IF(AND(ISNUMBER(N28),ISNUMBER(N32)),N28-N32,"") -> 3.6237808 | P30: =IF(AND(ISNUMBER(P28),ISNUMBER(P32)),P28-P32,"") -> 6.2116171 | R30: =IF(AND(ISNUMBER(R28),ISNUMBER(R32)),R28-R32,"") -> -8.8364305 | T30: =IF(AND(ISNUMBER(T28),ISNUMBER(T32)),T28-T32,"") -> -1.7976441 | V30: =IF(AND(ISNUMBER(V28),ISNUMBER(V32)),V28-V32,"") -> -0.24991091
B31: 未加入 | D31: =IF(AND(ISNUMBER(D29),ISNUMBER(D33)),D29-D33,"") -> 3.2009255 | F31: =IF(AND(ISNUMBER(F29),ISNUMBER(F33)),F29-F33,"") -> -0.25586604 | H31: =IF(AND(ISNUMBER(H29),ISNUMBER(H33)),H29-H33,"") -> -10.171389 | J31: =IF(AND(ISNUMBER(J29),ISNUMBER(J33)),J29-J33,"") -> 4.2592741 | L31: =IF(AND(ISNUMBER(L29),ISNUMBER(L33)),L29-L33,"") -> -0.46409168 | N31: =IF(AND(ISNUMBER(N29),ISNUMBER(N33)),N29-N33,"") -> -3.6237808 | P31: =IF(AND(ISNUMBER(P29),ISNUMBER(P33)),P29-P33,"") -> -6.2116171 | R31: =IF(AND(ISNUMBER(R29),ISNUMBER(R33)),R29-R33,"") -> 8.8364305 | T31: =IF(AND(ISNUMBER(T29),ISNUMBER(T33)),T29-T33,"") -> 1.7976441 | V31: =IF(AND(ISNUMBER(V29),ISNUMBER(V33)),V29-V33,"") -> 0.24991091
A32: H26年度 | B32: 加入 | C32: 4275.5411 | D32: 18.819629 | E32: 6619.2362 | F32: 17.039871 | G32: 4749.6296 | H32: 20.805016 | I32: 28287.693 | J32: 46.695756 | K32: 6248.454 | L32: 58.82489 | M32: 2593.648 | N32: 68.758474 | O32: 436.0206 | P32: 71.622562 | Q32: 108.06667 | R32: 77.007126 | S32: 170.75177 | T32: 95.192156 | U32: 53489.041 | V32: 33.369169
B33: 未加入 | C33: 18442.979 | D33: 81.180371 | E33: 32226.34 | F33: 82.960129 | G33: 18079.623 | H33: 79.194984 | I33: 32291.031 | J33: 53.304244 | K33: 4373.6722 | L33: 41.17511 | M33: 1178.466 | N33: 31.241526 | O33: 172.75489 | P33: 28.377438 | Q33: 32.266667 | R33: 22.992874 | S33: 8.6241135 | T33: 4.8078444 | U33: 106805.76 | V33: 66.630831
A34: 増減 | B34: 加入 | D34: =D32-D36 -> 3.3196286 | F34: =F32-F36 -> -3.1601286 | H34: =H32-H36 -> -1.994984 | J34: =J32-J36 -> 0.39575632 | L34: =L32-L36 -> -0.075110238 | N34: =N32-N36 -> 0.55847399 | P34: =P32-P36 -> 3.1225621 | R34: =R32-R36 -> -0.79287411 | T34: =T32-T36 -> -1.0078444 | V34: =V32-V36 -> -0.43083134
B35: 未加入 | D35: =D33-D37 -> -3.3196286 | F35: =F33-F37 -> 3.1601286 | H35: =H33-H37 -> 1.994984 | J35: =J33-J37 -> -0.39575632 | L35: =L33-L37 -> 0.075110238 | N35: =N33-N37 -> -0.55847399 | P35: =P33-P37 -> -3.1225621 | R35: =R33-R37 -> 0.79287411 | T35: =T33-T37 -> 1.0078444 | V35: =V33-V37 -> 0.43083134
A36: H23年度 | B36: 加入 | C36: 3558.34 | D36: 15.5 | E36: 7848.34 | F36: 20.2 | G36: 4827.14 | H36: 22.8 | I36: 27695.17 | J36: 46.3 | K36: 6300.1 | L36: 58.9 | M36: 2473.71 | N36: 68.2 | O36: 409.65 | P36: 68.5 | Q36: 121.54 | R36: 77.8 | S36: 180.83 | T36: 96.2 | U36: 53414.81 | V36: 33.8
B37: 未加入 | C37: 19428.57 | D37: 84.5 | E37: 31021.36 | F37: 79.8 | G37: 16319.66 | H37: 77.2 | I37: 32078.23 | J37: 53.7 | K37: 4400.81 | L37: 41.1 | M37: 1152.48 | N37: 31.8 | O37: 188.8 | P37: 31.5 | Q37: 34.76 | R37: 22.2 | S37: 7.08 | T37: 3.8 | U37: 104631.76 | V37: 66.2
A38: 増減 | B38: 加入 | D38: =D36-D40 -> -0.7 | F38: =F36-F40 -> 2.9 | H38: =H36-H40 -> -0.9 | J38: =J36-J40 -> -5.4 | L38: =L36-L40 -> -3.3 | N38: =N36-N40 -> 1.5 | P38: =P36-P40 -> -3.3 | R38: =R36-R40 -> 0.1 | T38: =T36-T40 -> 2.8 | V38: =V36-V40 -> -2.4
B39: 未加入 | D39: =D37-D41 -> 0.7 | F39: =F37-F41 -> -2.9 | H39: =H37-H41 -> 0.9 | J39: =J37-J41 -> 5.4 | L39: =L37-L41 -> 3.3 | N39: =N37-N41 -> -1.5 | P39: =P37-P41 -> 3.3 | R39: =R37-R41 -> -0.1 | T39: =T37-T41 -> -2.8 | V39: =V37-V41 -> 2.4
A40: H20年度 | B40: 加入 | C40: 4704 | D40: 16.2 | E40: 6298 | F40: 17.3 | G40: 4780 | H40: 23.7 | I40: 34677 | J40: 51.7 | K40: 7484 | L40: 62.2 | M40: 2607 | N40: 66.7 | O40: 497 | P40: 71.8 | Q40: 141 | R40: 77.7 | S40: 192 | T40: 93.4 | U40: 61380 | V40: 36.2
B41: 未加入 | C41: 24297 | D41: 83.8 | E41: 30024 | F41: 82.7 | G41: 15406 | H41: 76.3 | I41: 32391 | J41: 48.3 | K41: 4549 | L41: 37.8 | M41: 1301 | N41: 33.3 | O41: 195 | P41: 28.2 | Q41: 41 | R41: 22.3 | S41: 13 | T41: 6.6 | U41: 108218 | V41: 63.8
A42: 増減 | B42: 加入 | D42: =D40-D44 -> 2.8 | F42: =F40-F44 -> -3.9 | H42: =H40-H44 -> 0.3 | J42: =J40-J44 -> -2.2 | L42: =L40-L44 -> -3.8 | N42: =N40-N44 -> -2.6 | P42: =P40-P44 -> -4.4 | R42: =R40-R44 -> -4.8 | T42: =T40-T44 -> 1.2 | V42: =V40-V44 -> -1
B43: 未加入 | D43: =D41-D45 -> -2.8 | F43: =F41-F45 -> 3.9 | H43: =H41-H45 -> -0.3 | J43: =J41-J45 -> 2.2 | L43: =L41-L45 -> 3.8 | N43: =N41-N45 -> 2.6 | P43: =P41-P45 -> 4.4 | R43: =R41-R45 -> 4.8 | T43: =T41-T45 -> -1.2 | V43: =V41-V45 -> 1
...

Sheet 7-1-3
A1: 表7－1－3 社団法人への加入状況（下請比率、次数別集計）
A3: （概要） | M3: （単位：社、％）
A4: 下請比率、次数 | B4: ０％超 50％未満 | D4: ５０％以上１００％以下 | L4: 合 計
F5: 一次下請 | H5: 二次下請 | J5: 三次以下下請
A6: 加入 | B6: 20105.514 | C6: 56.054161 | D6: 18995.327 | E6: 24.66131 | F6: 15149.687 | G6: 27.653239 | H6: 3434.4858 | I6: 19.577827 | J6: 411.15349 | K6: 8.7524503 | L6: 39100.841 | M6: 34.635365
A7: 未加入 | B7: 15762.5 | C7: 43.945839 | D7: 58029.482 | E7: 75.33869 | F7: 39634.807 | G7: 72.346761 | H7: 14108.246 | I7: 80.422173 | J7: 4286.4281 | K7: 91.24755 | L7: 73791.981 | M7: 65.364635
F8: （注） | G8: 1．( )の数値は加入＋未加入を100とした場合の構成比
G9: =R35 -> 2．無効回答企業 1,118社を除く
A11: （下請比率別詳細）
A12: 下請比率、次数 | B12: ０％超１０％未満 | J12: １０％以上２０％未満 | R12: ２０％以上３０％未満
B13: 一次下請 | D13: 二次下請 | F13: 三次以下下請 | H13: 小 計 | J13: 一次下請 | L13: 二次下請 | N13: 三次以下下請 | P13: 小 計 | R13: 一次下請 | T13: 二次下請 | V13: 三次以下下請 | X13: 小 計
A14: 加入 | B14: 5729.3731 | C14: 57.178477 | D14: 83.253229 | E14: 69.047847 | H14: 5812.6263 | I14: 57.15711 | J14: 4610.3252 | K14: 64.149364 | L14: 198.54525 | M14: 38.833021 | N14: 2.4074074 | O14: 8.7518514 | P14: 4811.2778 | Q14: 62.276696 | R14: 2804.9061 | S14: 48.503605 | T14: 311.57202 | U14: 78.722818 | X14: 3116.4782 | Y14: 50.439341
A15: 未加入 | B15: 4290.7838 | C15: 42.821523 | D15: 37.320016 | E15: 30.952153 | F15: 28.829268 | G15: 100 | H15: 4356.9331 | I15: 42.84289 | J15: 2576.5351 | K15: 35.850636 | L15: 312.73419 | M15: 61.166979 | N15: 25.1 | O15: 91.248149 | P15: 2914.3693 | Q15: 37.723304 | R15: 2977.9757 | S15: 51.496395 | T15: 84.211601 | U15: 21.277182 | X15: 3062.1873 | Y15: 49.560659
A18: 下請比率、次数 | B18: ３０％以上４０％未満 | J18: ４０％以上５０％未満 | R18: ５０％以上６０％未満
B19: 一次下請 | D19: 二次下請 | F19: 三次以下下請 | H19: 小 計 | J19: 一次下請 | L19: 二次下請 | N19: 三次以下下請 | P19: 小 計 | R19: 一次下請 | T19: 二次下請 | V19: 三次以下下請 | X19: 小 計
A20: 加入 | B20: 3304.5233 | C20: 57.289826 | D20: 147.6646 | E20: 31.673793 | H20: 3452.1879 | I20: 55.37424 | J20: 2718.5689 | K20: 54.404877 | L20: 162.0243 | M20: 36.058451 | N20: 32.350575 | O20: 28.478278 | P20: 2912.9437 | Q20: 52.392426 | R20: 1832.0182 | S20: 36.955681 | T20: 199.54654 | U20: 50.882971 | V20: 2.2429907 | W20: 2.4369926 | X20: 2033.8077 | Y20: 37.375553
A21: 未加入 | B21: 2463.5572 | C21: 42.710174 | D21: 318.53974 | E21: 68.326207 | H21: 2782.097 | I21: 44.62576 | J21: 2278.3524 | K21: 45.595123 | L21: 287.31365 | M21: 63.941549 | N21: 81.246795 | O21: 71.521722 | P21: 2646.9129 | Q21: 47.607574 | R21: 3125.3204 | S21: 63.044319 | T21: 192.62109 | U21: 49.117029 | V21: 89.796296 | W21: 97.563007 | X21: 3407.7378 | Y21: 62.624447
A24: 下請比率、次数 | B24: ６０％以上７０％未満 | J24: ７０％以上８０％未満 | R24: ８０％以上９０％未満
B25: 一次下請 | D25: 二次下請 | F25: 三次以下下請 | H25: 小 計 | J25: 一次下請 | L25: 二次下請 | N25: 三次以下下請 | P25: 小 計 | R25: 一次下請 | T25: 二次下請 | V25: 三次以下下請 | X25: 小 計
A26: 加入 | B26: 1792.2663 | C26: 33.44117 | D26: 188.87845 | E26: 31.815863 | H26: 1981.1447 | I26: 32.72789 | J26: 1921.4262 | K26: 40.53192 | L26: 293.89849 | M26: 33.6233 | N26: 32.350575 | O26: 26.043679 | P26: 2247.6752 | Q26: 39.166059 | R26: 2087.4678 | S26: 31.785872 | T26: 408.81056 | U26: 29.410845 | V26: 3.1012658 | W26: 0.68267229 | X26: 2499.3796 | Y26: 29.713612
A27: 未加入 | B27: 3567.1942 | C27: 66.55883 | D27: 404.7828 | E27: 68.184137 | F27: 100.26197 | G27: 100 | H27: 4072.239 | I27: 67.27211 | J27: 2819.0998 | K27: 59.46808 | L27: 580.19325 | M27: 66.3767 | N27: 91.866033 | O27: 73.956321 | P27: 3491.1591 | Q27: 60.833941 | R27: 4479.8141 | S27: 68.214128 | T27: 981.18883 | U27: 70.589155 | V27: 451.18198 | W27: 99.317328 | X27: 5912.1849 | Y27: 70.286388
A30: 下請比率、次数 | B30: ９０％以上１００％未満 | J30: １００％ | R30: 合 計
B31: 一次下請 | D31: 二次下請 | F31: 三次以下下請 | H31: 小 計 | J31: 一次下請 | L31: 二次下請 | N31: 三次以下下請 | P31: 小 計 | R31: 一次下請 | T31: 二次下請 | V31: 三次以下下請
A32: 加入 | B32: 2236.887 | C32: 25.369206 | D32: 697.24204 | E32: 26.227801 | F32: 16.947059 | G32: 8.3347938 | H32: 2951.0761 | I32: 25.268077 | J32: 5279.6218 | K32: 21.688855 | L32: 1646.1098 | M32: 14.148638 | N32: 356.5116 | O32: 9.5747618 | P32: 7282.2432 | Q32: 18.342992 | R32: 34317.384 | S32: 38.759451 | T32: 4337.5452 | U32: 22.259905 | V32: 445.91148 | W32: 9.1609665 | X32: 39100.841 | Y32: 34.635365
A33: 未加入 | B33: 6580.4446 | C33: 74.630794 | D33: 1961.1662 | E33: 73.772199 | F33: 186.38201 | G33: 91.665206 | H33: 8727.9928 | I33: 74.731923 | J33: 19062.934 | K33: 78.311145 | L33: 9988.2943 | M33: 85.851362 | N33: 3366.9398 | O33: 90.425238 | P33: 32418.168 | Q33: 81.657008 | R33: 54222.012 | S33: 61.240549 | T33: 15148.366 | U33: 77.740095 | V33: 4421.6042 | W33: 90.839034 | X33: 73791.981 | Y33: 65.364635
Q34: （注） | R34: 1．( )の数値は加入＋未加入を100とした場合の構成比
R35: 2．無効回答企業 1,118社を除く
