Workbook
Name ______________________ＴＢＬ１: [1]CSS編集画面!$B$10:$F$22
Name ______________________ＴＢＬ２: [1]CSS編集画面!$B$24:$I$35
Name _____________________ＴＢＬ１: [1]CSS編集画面!$B$10:$F$22
Name _____________________ＴＢＬ２: [1]CSS編集画面!$B$24:$I$35
Name ____________________ＴＢＬ１: [1]CSS編集画面!$B$10:$F$22
Name ____________________ＴＢＬ２: [1]CSS編集画面!$B$24:$I$35
Name ___________________ＴＢＬ１: [1]CSS編集画面!$B$10:$F$22
Name ___________________ＴＢＬ２: [1]CSS編集画面!$B$24:$I$35
Name __________________ＴＢＬ１: [1]CSS編集画面!$B$10:$F$22
Name __________________ＴＢＬ２: [1]CSS編集画面!$B$24:$I$35
Name _________________ＴＢＬ１: [1]CSS編集画面!$B$10:$F$22
Name _________________ＴＢＬ２: [1]CSS編集画面!$B$24:$I$35
Name ________________ＴＢＬ１: [1]CSS編集画面!$B$10:$F$22
Name ________________ＴＢＬ２: [1]CSS編集画面!$B$24:$I$35
Name _______________ＴＢＬ１: [1]CSS編集画面!$B$10:$F$22
Name _______________ＴＢＬ２: [1]CSS編集画面!$B$24:$I$35
Name ______________ＴＢＬ１: [1]CSS編集画面!$B$10:$F$22
Name ______________ＴＢＬ２: [1]CSS編集画面!$B$24:$I$35
Name _____________ＴＢＬ１: [1]CSS編集画面!$B$10:$F$22
Name _____________ＴＢＬ２: [1]CSS編集画面!$B$24:$I$35
Name ____________ＴＢＬ１: [1]CSS編集画面!$B$10:$F$22
Name ____________ＴＢＬ２: [1]CSS編集画面!$B$24:$I$35
Name ___________ＴＢＬ１: [1]CSS編集画面!$B$10:$F$22
Name ___________ＴＢＬ２: [1]CSS編集画面!$B$24:$I$35
Name __________ＴＢＬ１: [1]CSS編集画面!$B$10:$F$22
Name __________ＴＢＬ２: [1]CSS編集画面!$B$24:$I$35
Name _________ＴＢＬ１: [1]CSS編集画面!$B$10:$F$22
Name _________ＴＢＬ２: [1]CSS編集画面!$B$24:$I$35
Name ________ＴＢＬ１: [1]CSS編集画面!$B$10:$F$22
Name ________ＴＢＬ２: [1]CSS編集画面!$B$24:$I$35
Name _______ＴＢＬ１: [1]CSS編集画面!$B$10:$F$22
Name _______ＴＢＬ２: [1]CSS編集画面!$B$24:$I$35
Name ______ＴＢＬ１: [1]CSS編集画面!$B$10:$F$22
Name ______ＴＢＬ２: [1]CSS編集画面!$B$24:$I$35
Name _____ＴＢＬ１: [1]CSS編集画面!$B$10:$F$22
Name _____ＴＢＬ２: [1]CSS編集画面!$B$24:$I$35
Name ____ＴＢＬ１: [1]CSS編集画面!$B$10:$F$22
Name ____ＴＢＬ２: [1]CSS編集画面!$B$24:$I$35
Name ___ＴＢＬ１: [1]CSS編集画面!$B$10:$F$22
Name ___ＴＢＬ２: [1]CSS編集画面!$B$24:$I$35
Name __ＴＢＬ１: [1]CSS編集画面!$B$10:$F$22
Name __ＴＢＬ２: [1]CSS編集画面!$B$24:$I$35
Name _ＴＢＬ１: [1]CSS編集画面!$B$10:$F$22
Name _ＴＢＬ２: [1]CSS編集画面!$B$24:$I$35
Name PAGE1: #REF!
Name PAGE10: #REF!
Name PAGE100: #REF!
Name PAGE1000: #REF!
Name PAGE1001: #REF!
Name PAGE1002: #REF!
Name PAGE1003: #REF!
Name PAGE1004: #REF!
Name PAGE1005: #REF!
Name PAGE1006: #REF!
Name PAGE1007: #REF!
Name PAGE1008: #REF!
Name PAGE1009: #REF!
Name PAGE101: #REF!
Name PAGE1010: #REF!
Name PAGE1011: #REF!

Sheet 7-2-1
A1: 表7－2－1 事業協同組合への加入状況
W3: （単位：社、％）
C4: 資本金 | D4: 個 人 | F4: 法 人 | V4: 合 計
A5: 業種 | C5: 種別 | F5: 500万円未満 | H5: 500万円以上 1000万円未満 | J5: 1000万円以上 3000万円未満 | L5: 3000万円以上 5000万円未満 | N5: 5000万円以上 1億円未満 | P5: 1億円以上 3億円未満 | R5: 3億円以上 10億円未満 | T5: 10億円以上
A6: 一般土木建築 | B6: 一般土木建築 工事業 | C6: 加入 | D6: 36 | E6: 50 | F6: 44.833333 | G6: 16.666667 | H6: 135 | I6: 38.461538 | J6: 755.71831 | K6: 53.521127 | L6: 451.23077 | M6: 54.545455 | N6: 281.40506 | O6: 59.493671 | P6: 41.8 | Q6: 44 | R6: 8.8421053 | S6: 36.842105 | T6: 16.176471 | U6: 32.352941 | V6: 1771.0061 | W6: 49.562803
C7: 未加入 | D7: 36 | E7: 50 | F7: 224.16667 | G7: 83.333333 | H7: 216 | I7: 61.538462 | J7: 656.28169 | K7: 46.478873 | L7: 376.02564 | M7: 45.454545 | N7: 191.59494 | O7: 40.506329 | P7: 53.2 | Q7: 56 | R7: 15.157895 | S7: 63.157895 | T7: 33.823529 | U7: 67.647059 | V7: 1802.2504 | W7: 50.437197
A8: 土木 | B8: 土木工事業 | C8: 加入 | D8: 272.35714 | E8: 27.272727 | F8: 1134.2414 | G8: 25.925926 | H8: 1423.0857 | I8: 31.428571 | J8: 4863.876 | K8: 43.307087 | L8: 1729.7561 | M8: 49.180328 | N8: 538.41667 | O8: 55.319149 | P8: 26.478261 | Q8: 31.818182 | R8: 3.2727273 | S8: 30 | T8: 8 | U8: 50 | V8: 9999.484 | W8: 38.858157
C9: 未加入 | D9: 726.28571 | E9: 72.727273 | F9: 3240.6897 | G9: 74.074074 | H9: 3104.9143 | I9: 68.571429 | J9: 6367.2558 | K9: 56.692913 | L9: 1787.4146 | M9: 50.819672 | N9: 434.875 | O9: 44.680851 | P9: 56.73913 | Q9: 68.181818 | R9: 7.6363636 | S9: 70 | T9: 8 | U9: 50 | V9: 15733.811 | W9: 61.141843
B10: ほ装工事業 | C10: 加入 | F10: 64.333333 | G10: 8.6956522 | H10: 154.58333 | I10: 30.434783 | J10: 446.64151 | K10: 41.509434 | L10: 182.77778 | M10: 56.338028 | N10: 38.296296 | O10: 44 | P10: 5 | Q10: 33.333333 | R10: 2.6666667 | S10: 66.666667 | V10: 894.29892 | W10: 31.833189
C11: 未加入 | D11: 55.111111 | E11: 100 | F11: 675.5 | G11: 91.304348 | H11: 353.33333 | I11: 69.565217 | J11: 629.35849 | K11: 58.490566 | L11: 141.65278 | M11: 43.661972 | N11: 48.740741 | O11: 56 | P11: 10 | Q11: 66.666667 | R11: 1.3333333 | S11: 33.333333 | V11: 1915.0298 | W11: 68.166811
B12: しゅんせつ 工事業 | C12: 加入 | L12: 7.6666667 | M12: 33.333333 | N12: 4.5 | O12: 50 | V12: 12.166667 | W12: 38.020833
C13: 未加入 | L13: 15.333333 | M13: 66.666667 | N13: 4.5 | O13: 50 | V13: 19.833333 | W13: 61.979167
B14: 造園工事業 | C14: 加入 | F14: 195 | G14: 50 | H14: 280 | I14: 100 | J14: 385.54839 | K14: 58.064516 | L14: 87.5 | M14: 50.909091 | N14: 25.4375 | O14: 68.75 | V14: 973.48589 | W14: 61.501122
C15: 未加入 | D15: 38 | E15: 100 | F15: 195 | G15: 50 | J15: 278.45161 | K15: 41.935484 | L15: 84.375 | M15: 49.090909 | N15: 11.5625 | O15: 31.25 | P15: 2 | Q15: 100 | V15: 609.38911 | W15: 38.498878
B16: 水道施設工事業 | C16: 加入 | F16: 156 | G16: 54.545455 | H16: 290.71429 | I16: 78.571429 | J16: 379.72973 | K16: 69.444444 | L16: 99.2 | M16: 80 | N16: 16 | O16: 40 | V16: 941.64402 | W16: 62.575575
C17: 未加入 | D17: 138 | E17: 100 | F17: 130 | G17: 45.454545 | H17: 79.285714 | I17: 21.428571 | J17: 167.08108 | K17: 30.555556 | L17: 24.8 | M17: 20 | N17: 24 | O17: 60 | V17: 563.1668 | W17: 37.424425
A18: 小 計 | C18: 加入 | D18: 272.35714 | E18: 22.147287 | F18: 1549.5747 | G18: 26.759416 | H18: 2148.3833 | I18: 37.784292 | J18: 6075.7956 | K18: 44.946156 | L18: 2106.9005 | M18: 50.64085 | N18: 622.65046 | O18: 54.316922 | P18: 31.478261 | Q18: 31.409978 | R18: 5.9393939 | S18: 39.837398 | T18: 8 | U18: 50 | V18: 12821.079 | W18: 40.493191
C19: 未加入 | D19: 957.39683 | E19: 77.852713 | F19: 4241.1897 | G19: 73.240584 | H19: 3537.5333 | I19: 62.215708 | J19: 7442.147 | K19: 55.053844 | L19: 2053.5757 | M19: 49.35915 | N19: 523.67824 | O19: 45.683078 | P19: 68.73913 | Q19: 68.590022 | R19: 8.969697 | S19: 60.162602 | T19: 8 | U19: 50 | V19: 18841.23 | W19: 59.506809
A20: 建築 | B20: 建築工事業 | C20: 加入 | D20: 1946 | E20: 50 | F20: 1026.3793 | G20: 19.230769 | H20: 1779.8421 | I20: 38.888889 | J20: 3895 | K20: 39.047619 | L20: 1091.2917 | M20: 47.142857 | N20: 356.23881 | O20: 40 | P20: 84.48 | Q20: 44 | R20: 10 | S20: 33.333333 | T20: 6.7272727 | U20: 18.181818 | V20: 10195.959 | W20: 37.422726
C21: 未加入 | D21: 1946 | E21: 50 | F21: 4310.7931 | G21: 80.769231 | H21: 2796.8947 | I21: 61.111111 | J21: 6080 | K21: 60.952381 | L21: 1223.5694 | M21: 52.857143 | N21: 534.35821 | O21: 60 | P21: 107.52 | Q21: 56 | R21: 20 | S21: 66.666667 | T21: 30.272727 | U21: 81.818182 | V21: 17049.408 | W21: 62.577274
B22: 木造建築工事業 | C22: 加入 | D22: 1294.3636 | E22: 45 | F22: 680 | G22: 25 | H22: 709.6 | I22: 42.857143 | J22: 954.70588 | K22: 37.037037 | L22: 73.666667 | M22: 34.615385 | N22: 40 | O22: 47.058824 | P22: 4.25 | Q22: 25 | R22: 5 | S22: 100 | V22: 3761.5862 | W22: 37.057707
C23: 未加入 | D23: 1582 | E23: 55 | F23: 2040 | G23: 75 | H23: 946.13333 | I23: 57.142857 | J23: 1623 | K23: 62.962963 | L23: 139.14815 | M23: 65.384615 | N23: 45 | O23: 52.941176 | P23: 12.75 | Q23: 75 | T23: 1 | U23: 100 | V23: 6389.0315 | W23: 62.942293
A24: 小 計 | C24: 加入 | D24: 3240.3636 | E24: 47.875141 | F24: 1706.3793 | G24: 21.178389 | H24: 2489.4421 | I24: 39.943105 | J24: 4849.7059 | K24: 38.634745 | L24: 1164.9583 | M24: 46.088121 | N24: 396.23881 | O24: 40.615008 | P24: 88.73 | Q24: 42.454545 | R24: 15 | S24: 42.857143 | T24: 6.7272727 | U24: 17.703349 | V24: 13957.545 | W24: 37.323647
C25: 未加入 | D25: 3528 | E25: 52.124859 | F25: 6350.7931 | G25: 78.821611 | H25: 3743.0281 | I25: 60.056895 | J25: 7703 | K25: 61.365255 | L25: 1362.7176 | M25: 53.911879 | N25: 579.35821 | O25: 59.384992 | P25: 120.27 | Q25: 57.545455 | R25: 20 | S25: 57.142857 | T25: 31.272727 | U25: 82.296651 | V25: 23438.44 | W25: 62.676353
A26: 職別 | B26: 大工工事業 | C26: 加入 | D26: 624.19355 | E26: 34.482759 | F26: 244.07143 | G26: 22.222222 | H26: 252.19048 | I26: 38.095238 | J26: 300.65753 | K26: 43.055556 | L26: 20 | M26: 40 | N26: 5.8461538 | O26: 30.769231 | V26: 1446.9591 | W26: 33.349416
C27: 未加入 | D27: 1185.9677 | E27: 65.517241 | F27: 854.25 | G27: 77.777778 | H27: 409.80952 | I27: 61.904762 | J27: 397.64384 | K27: 56.944444 | L27: 30 | M27: 60 | N27: 13.153846 | O27: 69.230769 | P27: 1 | Q27: 100 | V27: 2891.8249 | W27: 66.650584
B28: とび・土工・ コンクリート 工事業 | C28: 加入 | D28: 115.09091 | E28: 20 | F28: 637.12121 | G28: 22.834646 | H28: 671.6129 | I28: 33.333333 | J28: 673.60588 | K28: 30.06135 | L28: 76.261682 | M28: 33.333333 | N28: 54.222222 | O28: 45.56962 | P28: 8 | Q28: 50 | R28: 0.4 | S28: 20 | T28: 3 | U28: 100 | V28: 2239.3148 | W28: 28.02651
C29: 未加入 | D29: 460.36364 | E29: 80 | F29: 2153.0303 | G29: 77.165354 | H29: 1343.2258 | I29: 66.666667 | J29: 1567.1647 | K29: 69.93865 | L29: 152.52336 | M29: 66.666667 | N29: 64.765432 | O29: 54.43038 | P29: 8 | Q29: 50 | R29: 1.6 | S29: 80 | V29: 5750.6732 | W29: 71.97349
B30: 鋼構造物工事業 | C30: 加入 | D30: 131.42857 | E30: 41.666667 | F30: 235.48 | G30: 29.166667 | H30: 240.88235 | I30: 43.75 | J30: 647.16667 | K30: 46.808511 | L30: 58.9375 | M30: 51.111111 | N30: 30.875 | O30: 47.5 | P30: 1.6666667 | Q30: 16.666667 | R30: 1.25 | S30: 25 | T30: 1.3333333 | U30: 33.333333 | V30: 1349.0201 | W30: 41.441079
C31: 未加入 | D31: 184 | E31: 58.333333 | F31: 571.88 | G31: 70.833333 | H31: 309.70588 | I31: 56.25 | J31: 735.41667 | K31: 53.191489 | L31: 56.375 | M31: 48.888889 | N31: 34.125 | O31: 52.5 | P31: 8.3333333 | Q31: 83.333333 | R31: 3.75 | S31: 75 | T31: 2.6666667 | U31: 66.666667 | V31: 1906.2525 | W31: 58.558921
B32: 鉄筋工事業 | C32: 加入 | D32: 9.4 | E32: 25 | F32: 255.5 | G32: 51.724138 | H32: 188 | I32: 55.555556 | J32: 277.35 | K32: 72.881356 | L32: 20 | M32: 70.588235 | N32: 3.5 | O32: 50 | V32: 753.75 | W32: 58.57326
C33: 未加入 | D33: 28.2 | E33: 75 | F33: 238.46667 | G33: 48.275862 | H33: 150.4 | I33: 44.444444 | J33: 103.2 | K33: 27.118644 | L33: 8.3333333 | M33: 29.411765 | N33: 3.5 | O33: 50 | P33: 1 | Q33: 100 | V33: 533.1 | W33: 41.42674
B34: 解体工事業 | C34: 加入 | F34: 81.473684 | G34: 17.647059 | H34: 206.5 | I34: 50 | J34: 107.76923 | K34: 26.086957 | L34: 17.142857 | M34: 21.428571 | N34: 11.2 | O34: 50 | V34: 424.08577 | W34: 28.554127
C35: 未加入 | D35: 95 | E35: 100 | F35: 380.21053 | G35: 82.352941 | H35: 206.5 | I35: 50 | J35: 305.34615 | K35: 73.913043 | L35: 62.857143 | M35: 78.571429 | N35: 11.2 | O35: 50 | V35: 1061.1138 | W35: 71.445873
B36: 躯体関係計 | C36: 加入 | D36: 880.11303 | E36: 31.059403 | F36: 1453.6463 | G36: 25.721498 | H36: 1559.1857 | I36: 39.187071 | J36: 2006.5493 | K36: 39.226266 | L36: 192.34204 | M36: 38.282289 | N36: 105.64338 | O36: 45.459978 | P36: 9.6666667 | Q36: 34.52381 | R36: 1.65 | S36: 23.571429 | T36: 4.3333333 | U36: 61.904762 | V36: 6213.1298 | W36: 33.847777
C37: 未加入 | D37: 1953.5314 | E37: 68.940597 | F37: 4197.8375 | G37: 74.278502 | H37: 2419.6412 | I37: 60.812929 | J37: 3108.7714 | K37: 60.773734 | L37: 310.08884 | M37: 61.717711 | N37: 126.74428 | O37: 54.540022 | P37: 18.333333 | Q37: 65.47619 | R37: 5.35 | S37: 76.428571 | T37: 2.6666667 | U37: 38.095238 | V37: 12142.965 | W37: 66.152223
B38: 左官工事業 | C38: 加入 | D38: 144.57143 | E38: 66.666667 | F38: 498 | G38: 75 | H38: 47.538462 | I38: 27.272727 | J38: 406.42105 | K38: 71.052632 | L38: 18 | M38: 100 | N38: 6 | O38: 75 | V38: 1120.5309 | W38: 67.780957
C39: 未加入 | D39: 72.285714 | E39: 33.333333 | F39: 166 | G39: 25 | H39: 126.76923 | I39: 72.727273 | J39: 165.57895 | K39: 28.947368 | N39: 2 | O39: 25 | V39: 532.63389 | W39: 32.219043
B40: 石工事業 | C40: 加入 | D40: 46 | E40: 28.571429 | F40: 40.142857 | G40: 16.666667 | J40: 38 | K40: 19.047619 | N40: 3 | O40: 16.666667 | V40: 127.14286 | W40: 12.351676
C41: 未加入 | D41: 115 | E41: 71.428571 | F41: 200.71429 | G41: 83.333333 | H41: 376 | I41: 100 | J41: 161.5 | K41: 80.952381 | L41: 34 | M41: 100 | N41: 15 | O41: 83.333333 | V41: 902.21429 | W41: 87.648324
...

Sheet 7-2-2
A1: 表7－2－2 事業協同組合への加入状況（経年変化）
A3: （経年変化①） | S3: （単位：社、％）
B4: 年度 | C4: R01年度 | F4: H26年度 | I4: H23年度 | L4: H20年度 | O4: H17年度 | R4: H14年度
A6: 業種 | E6: 増減 | H6: 増減 | K6: 増減 | N6: 増減 | Q6: 増減
A7: 一般土木建築 | B7: 加入 | C7: =IF('7-2-1'!V6<>"",'7-2-1'!V6,"") -> 1771.0061 | D7: =IF('7-2-1'!W6<>"",'7-2-1'!W6,"") -> 49.562803 | E7: =IF(AND(ISNUMBER(D7),ISNUMBER(G7)),D7-G7,"") -> -1.0477099 | F7: 1985.2264 | G7: 50.610513 | H7: =IF(AND(ISNUMBER(G7),ISNUMBER(J7)),G7-J7,"") -> 2.1105133 | I7: 2002.5 | J7: 48.5 | K7: =J7-M7 -> -1.5 | L7: 2480 | M7: 50 | N7: =M7-P7 -> -1.7 | O7: 2895 | P7: 51.7 | Q7: =P7-S7 -> 11.139159 | R7: 3239.7124 | S7: =IF((ROUND(R7,0)+ROUND(R8,0))=0,"",ROUND(R7,0)/(ROUND(R7,0)+ROUND(R8,0))*100) -> 40.560841
B8: 未加入 | C8: =IF('7-2-1'!V7<>"",'7-2-1'!V7,"") -> 1802.2504 | D8: =IF('7-2-1'!W7<>"",'7-2-1'!W7,"") -> 50.437197 | E8: =IF(AND(ISNUMBER(D8),ISNUMBER(G8)),D8-G8,"") -> 1.0477099 | F8: 1937.3309 | G8: 49.389487 | H8: =IF(AND(ISNUMBER(G8),ISNUMBER(J8)),G8-J8,"") -> -2.1105133 | I8: 2122.55 | J8: 51.5 | K8: =J8-M8 -> 1.5 | L8: 2477 | M8: 50 | N8: =M8-P8 -> 1.7 | O8: 2701 | P8: 48.3 | Q8: =P8-S8 -> -11.139159 | R8: 4748.2876 | S8: =IF((ROUND(R7,0)+ROUND(R8,0))=0,"",ROUND(R8,0)/(ROUND(R7,0)+ROUND(R8,0))*100) -> 59.439159
A9: 土木 | B9: 加入 | C9: =IF('7-2-1'!V18<>"",'7-2-1'!V18,"") -> 12821.079 | D9: =IF('7-2-1'!W18<>"",'7-2-1'!W18,"") -> 40.493191 | E9: =IF(AND(ISNUMBER(D9),ISNUMBER(G9)),D9-G9,"") -> -2.3777697 | F9: 15283.669 | G9: 42.870961 | H9: =IF(AND(ISNUMBER(G9),ISNUMBER(J9)),G9-J9,"") -> 0.67096116 | I9: 16232.85 | J9: 42.2 | K9: =J9-M9 -> -1.9 | L9: 19891 | M9: 44.1 | N9: =M9-P9 -> 0.6 | O9: 22983 | P9: 43.5 | Q9: =P9-S9 -> 6.2988321 | R9: 25100.488 | S9: =IF((ROUND(R9,0)+ROUND(R10,0))=0,"",ROUND(R9,0)/(ROUND(R9,0)+ROUND(R10,0))*100) -> 37.201168
B10: 未加入 | C10: =IF('7-2-1'!V19<>"",'7-2-1'!V19,"") -> 18841.23 | D10: =IF('7-2-1'!W19<>"",'7-2-1'!W19,"") -> 59.506809 | E10: =IF(AND(ISNUMBER(D10),ISNUMBER(G10)),D10-G10,"") -> 2.3777697 | F10: 20366.73 | G10: 57.129039 | H10: =IF(AND(ISNUMBER(G10),ISNUMBER(J10)),G10-J10,"") -> -0.67096116 | I10: 22210.55 | J10: 57.8 | K10: =J10-M10 -> 1.9 | L10: 25218 | M10: 55.9 | N10: =M10-P10 -> -0.6 | O10: 29894 | P10: 56.5 | Q10: =P10-S10 -> -6.2988321 | R10: 42370.512 | S10: =IF((ROUND(R9,0)+ROUND(R10,0))=0,"",ROUND(R10,0)/(ROUND(R9,0)+ROUND(R10,0))*100) -> 62.798832
A11: 建築 | B11: 加入 | C11: =IF('7-2-1'!V20<>"",'7-2-1'!V20,"") -> 10195.959 | D11: =IF('7-2-1'!W20<>"",'7-2-1'!W20,"") -> 37.422726 | E11: =IF(AND(ISNUMBER(D11),ISNUMBER(G11)),D11-G11,"") -> 8.7964404 | F11: 8625.0574 | G11: 28.626286 | H11: =IF(AND(ISNUMBER(G11),ISNUMBER(J11)),G11-J11,"") -> -7.1737144 | I11: 12035.98 | J11: 35.8 | K11: =J11-M11 -> 4.1 | L11: 10831 | M11: 31.7 | N11: =M11-P11 -> -7.4 | O11: 16394 | P11: 39.1 | Q11: =P11-S11 -> 5.0780529 | R11: 17424.08 | S11: =IF((ROUND(R11,0)+ROUND(R12,0))=0,"",ROUND(R11,0)/(ROUND(R11,0)+ROUND(R12,0))*100) -> 34.021947
B12: 未加入 | C12: =IF('7-2-1'!V21<>"",'7-2-1'!V21,"") -> 17049.408 | D12: =IF('7-2-1'!W21<>"",'7-2-1'!W21,"") -> 62.577274 | E12: =IF(AND(ISNUMBER(D12),ISNUMBER(G12)),D12-G12,"") -> -8.7964404 | F12: 21504.794 | G12: 71.373714 | H12: =IF(AND(ISNUMBER(G12),ISNUMBER(J12)),G12-J12,"") -> 7.1737144 | I12: 21589.17 | J12: 64.2 | K12: =J12-M12 -> -4.1 | L12: 23318 | M12: 68.3 | N12: =M12-P12 -> 7.4 | O12: 25549 | P12: 60.9 | Q12: =P12-S12 -> -5.0780529 | R12: 33789.902 | S12: =IF((ROUND(R11,0)+ROUND(R12,0))=0,"",ROUND(R12,0)/(ROUND(R11,0)+ROUND(R12,0))*100) -> 65.978053
A13: 木造建築 | B13: 加入 | C13: =IF('7-2-1'!V22<>"",'7-2-1'!V22,"") -> 3761.5862 | D13: =IF('7-2-1'!W22<>"",'7-2-1'!W22,"") -> 37.057707 | E13: =IF(AND(ISNUMBER(D13),ISNUMBER(G13)),D13-G13,"") -> 4.3218187 | F13: 4816.489 | G13: 32.735889 | H13: =IF(AND(ISNUMBER(G13),ISNUMBER(J13)),G13-J13,"") -> -0.36411134 | I13: 4432.61 | J13: 33.1 | K13: =J13-M13 -> 1.7 | L13: 4628 | M13: 31.4 | N13: =M13-P13 -> -3.8 | O13: 6092 | P13: 35.2 | Q13: =P13-S13 -> 4.0558632 | R13: 7648.666 | S13: =IF((ROUND(R13,0)+ROUND(R14,0))=0,"",ROUND(R13,0)/(ROUND(R13,0)+ROUND(R14,0))*100) -> 31.144137
B14: 未加入 | C14: =IF('7-2-1'!V23<>"",'7-2-1'!V23,"") -> 6389.0315 | D14: =IF('7-2-1'!W23<>"",'7-2-1'!W23,"") -> 62.942293 | E14: =IF(AND(ISNUMBER(D14),ISNUMBER(G14)),D14-G14,"") -> -4.3218187 | F14: 9896.6872 | G14: 67.264111 | H14: =IF(AND(ISNUMBER(G14),ISNUMBER(J14)),G14-J14,"") -> 0.36411134 | I14: 8943.32 | J14: 66.9 | K14: =J14-M14 -> -1.7 | L14: 10091 | M14: 68.6 | N14: =M14-P14 -> 3.8 | O14: 11226 | P14: 64.8 | Q14: =P14-S14 -> -4.0558632 | R14: 16911.334 | S14: =IF((ROUND(R13,0)+ROUND(R14,0))=0,"",ROUND(R14,0)/(ROUND(R13,0)+ROUND(R14,0))*100) -> 68.855863
A15: 職別 | B15: 加入 | C15: =IF('7-2-1'!V60<>"",'7-2-1'!V60,"") -> 17299.474 | D15: =IF('7-2-1'!W60<>"",'7-2-1'!W60,"") -> 39.983392 | E15: =IF(AND(ISNUMBER(D15),ISNUMBER(G15)),D15-G15,"") -> 6.032042 | F15: 15028.118 | G15: 33.95135 | H15: =IF(AND(ISNUMBER(G15),ISNUMBER(J15)),G15-J15,"") -> -6.0486498 | I15: 16679.56 | J15: 40 | K15: =J15-M15 -> 3 | L15: 15789 | M15: 37 | N15: =M15-P15 -> -0.9 | O15: 17388 | P15: 37.9 | Q15: =P15-S15 -> -1.5500977 | R15: 23416.203 | S15: =IF((ROUND(R15,0)+ROUND(R16,0))=0,"",ROUND(R15,0)/(ROUND(R15,0)+ROUND(R16,0))*100) -> 39.450098
B16: 未加入 | C16: =IF('7-2-1'!V61<>"",'7-2-1'!V61,"") -> 25967.175 | D16: =IF('7-2-1'!W61<>"",'7-2-1'!W61,"") -> 60.016608 | E16: =IF(AND(ISNUMBER(D16),ISNUMBER(G16)),D16-G16,"") -> -6.032042 | F16: 29235.565 | G16: 66.04865 | H16: =IF(AND(ISNUMBER(G16),ISNUMBER(J16)),G16-J16,"") -> 6.0486498 | I16: 25068.4 | J16: 60 | K16: =J16-M16 -> -3 | L16: 26909 | M16: 63 | N16: =M16-P16 -> 0.9 | O16: 28461 | P16: 62.1 | Q16: =P16-S16 -> 1.5500977 | R16: 35939.797 | S16: =IF((ROUND(R15,0)+ROUND(R16,0))=0,"",ROUND(R16,0)/(ROUND(R15,0)+ROUND(R16,0))*100) -> 60.549902
A17: 設備 | B17: 加入 | C17: =IF('7-2-1'!V76<>"",'7-2-1'!V76,"") -> 16488.033 | D17: =IF('7-2-1'!W76<>"",'7-2-1'!W76,"") -> 49.597642 | E17: =IF(AND(ISNUMBER(D17),ISNUMBER(G17)),D17-G17,"") -> 0.64595622 | F17: 17959.898 | G17: 48.951686 | H17: =IF(AND(ISNUMBER(G17),ISNUMBER(J17)),G17-J17,"") -> -5.0483143 | I17: 19557.39 | J17: 54 | K17: =J17-M17 -> -1.4 | L17: 20366 | M17: 55.4 | N17: =M17-P17 -> -1.1 | O17: 22763 | P17: 56.5 | Q17: =P17-S17 -> -0.19943691 | R17: 24569.039 | S17: =IF((ROUND(R17,0)+ROUND(R18,0))=0,"",ROUND(R17,0)/(ROUND(R17,0)+ROUND(R18,0))*100) -> 56.699437
B18: 未加入 | C18: =IF('7-2-1'!V77<>"",'7-2-1'!V77,"") -> 16755.55 | D18: =IF('7-2-1'!W77<>"",'7-2-1'!W77,"") -> 50.402358 | E18: =IF(AND(ISNUMBER(D18),ISNUMBER(G18)),D18-G18,"") -> -0.64595622 | F18: 18729.13 | G18: 51.048314 | H18: =IF(AND(ISNUMBER(G18),ISNUMBER(J18)),G18-J18,"") -> 5.0483143 | I18: 16652.25 | J18: 46 | K18: =J18-M18 -> 1.4 | L18: 16423 | M18: 44.6 | N18: =M18-P18 -> 1.1 | O18: 17558 | P18: 43.5 | Q18: =P18-S18 -> 0.19943691 | R18: 18762.961 | S18: =IF((ROUND(R17,0)+ROUND(R18,0))=0,"",ROUND(R18,0)/(ROUND(R17,0)+ROUND(R18,0))*100) -> 43.300563
A19: 合 計 | B19: 加入 | C19: =IF('7-2-1'!V78<>"",'7-2-1'!V78,"") -> 62337.138 | D19: =IF('7-2-1'!W78<>"",'7-2-1'!W78,"") -> 41.797233 | E19: =IF(AND(ISNUMBER(D19),ISNUMBER(G19)),D19-G19,"") -> 3.2781788 | F19: 63698.457 | G19: 38.519054 | H19: =IF(AND(ISNUMBER(G19),ISNUMBER(J19)),G19-J19,"") -> -3.7809459 | I19: 70940.89 | J19: 42.3 | K19: =J19-M19 -> 0.8 | L19: 73986 | M19: 41.5 | N19: =M19-P19 -> -1.9 | O19: 88514 | P19: 43.4 | Q19: =P19-S19 -> 3.4671075 | R19: 101398.19 | S19: =IF((ROUND(R19,0)+ROUND(R20,0))=0,"",ROUND(R19,0)/(ROUND(R19,0)+ROUND(R20,0))*100) -> 39.932893
B20: 未加入 | C20: =IF('7-2-1'!V79<>"",'7-2-1'!V79,"") -> 86804.645 | D20: =IF('7-2-1'!W79<>"",'7-2-1'!W79,"") -> 58.202767 | E20: =IF(AND(ISNUMBER(D20),ISNUMBER(G20)),D20-G20,"") -> -3.2781788 | F20: 101670.24 | G20: 61.480946 | H20: =IF(AND(ISNUMBER(G20),ISNUMBER(J20)),G20-J20,"") -> 3.7809459 | I20: 96586.25 | J20: 57.7 | K20: =J20-M20 -> -0.8 | L20: 104436 | M20: 58.5 | N20: =M20-P20 -> 1.9 | O20: 115389 | P20: 56.6 | Q20: =P20-S20 -> -3.4671075 | R20: 152522.8 | S20: =IF((ROUND(R19,0)+ROUND(R20,0))=0,"",ROUND(R20,0)/(ROUND(R19,0)+ROUND(R20,0))*100) -> 60.067107
P21: （注） | Q21: 1．( )の数値は加入＋未加入を100とした場合の構成比
Q22: =Q51 -> 2．無効回答企業 197社を除く
A24: （経年変化②） | V24: （単位：社、％）
B25: 資本金 | C25: 個人 | E25: 法 人 | U25: 合 計
E26: 500万円未満 | G26: 500万円以上 1000万円未満 | I26: 1000万円以上 3000万円未満 | K26: 3000万円以上 5000万円未満 | M26: 5000万円以上 1億円未満 | O26: 1億円以上 3億円未満 | Q26: 3億円以上 10億円未満 | S26: 10億円以上
A27: 年度
A28: R01年度 | B28: 加入 | C28: =IF('7-2-1'!D78<>"",'7-2-1'!D78,"") -> 7593.3355 | D28: =IF('7-2-1'!E78<>"",'7-2-1'!E78,"") -> 43.301471 | E28: =IF('7-2-1'!F78<>"",'7-2-1'!F78,"") -> 11703.217 | F28: =IF('7-2-1'!G78<>"",'7-2-1'!G78,"") -> 31.566727 | G28: =IF('7-2-1'!H78<>"",'7-2-1'!H78,"") -> 10910.756 | H28: =IF('7-2-1'!I78<>"",'7-2-1'!I78,"") -> 41.388088 | I28: =IF('7-2-1'!J78<>"",'7-2-1'!J78,"") -> 24604.131 | J28: =IF('7-2-1'!K78<>"",'7-2-1'!K78,"") -> 46.093074 | ... V28: =IF('7-2-1'!W78<>"",'7-2-1'!W78,"") -> 41.797233
B29: 未加入 | C29: =IF('7-2-1'!D79<>"",'7-2-1'!D79,"") -> 9942.6406 | D29: =IF('7-2-1'!E79<>"",'7-2-1'!E79,"") -> 56.698529 | E29: =IF('7-2-1'!F79<>"",'7-2-1'!F79,"") -> 25371.317 | F29: =IF('7-2-1'!G79<>"",'7-2-1'!G79,"") -> 68.433273 | G29: =IF('7-2-1'!H79<>"",'7-2-1'!H79,"") -> 15451.312 | H29: =IF('7-2-1'!I79<>"",'7-2-1'!I79,"") -> 58.611912 | I29: =IF('7-2-1'!J79<>"",'7-2-1'!J79,"") -> 28775.105 | J29: =IF('7-2-1'!K79<>"",'7-2-1'!K79,"") -> 53.906926 | ... V29: =IF('7-2-1'!W79<>"",'7-2-1'!W79,"") -> 58.202767
A30: 増減 | B30: 加入 | D30: =IF(AND(ISNUMBER(D28),ISNUMBER(D32)),D28-D32,"") -> 11.198738 | F30: =IF(AND(ISNUMBER(F28),ISNUMBER(F32)),F28-F32,"") -> 2.6457622 | H30: =IF(AND(ISNUMBER(H28),ISNUMBER(H32)),H28-H32,"") -> 7.6902982 | J30: =IF(AND(ISNUMBER(J28),ISNUMBER(J32)),J28-J32,"") -> -1.1174955 | L30: =IF(AND(ISNUMBER(L28),ISNUMBER(L32)),L28-L32,"") -> 1.7565974 | N30: =IF(AND(ISNUMBER(N28),ISNUMBER(N32)),N28-N32,"") -> 5.0317774 | P30: =IF(AND(ISNUMBER(P28),ISNUMBER(P32)),P28-P32,"") -> 6.9571278 | R30: =IF(AND(ISNUMBER(R28),ISNUMBER(R32)),R28-R32,"") -> -1.7351888 | T30: =IF(AND(ISNUMBER(T28),ISNUMBER(T32)),T28-T32,"") -> 10.273126 | V30: =IF(AND(ISNUMBER(V28),ISNUMBER(V32)),V28-V32,"") -> 3.2781788
B31: 未加入 | D31: =IF(AND(ISNUMBER(D29),ISNUMBER(D33)),D29-D33,"") -> -11.198738 | F31: =IF(AND(ISNUMBER(F29),ISNUMBER(F33)),F29-F33,"") -> -2.6457622 | H31: =IF(AND(ISNUMBER(H29),ISNUMBER(H33)),H29-H33,"") -> -7.6902982 | J31: =IF(AND(ISNUMBER(J29),ISNUMBER(J33)),J29-J33,"") -> 1.1174955 | L31: =IF(AND(ISNUMBER(L29),ISNUMBER(L33)),L29-L33,"") -> -1.7565974 | N31: =IF(AND(ISNUMBER(N29),ISNUMBER(N33)),N29-N33,"") -> -5.0317774 | P31: =IF(AND(ISNUMBER(P29),ISNUMBER(P33)),P29-P33,"") -> -6.9571278 | R31: =IF(AND(ISNUMBER(R29),ISNUMBER(R33)),R29-R33,"") -> 1.7351888 | T31: =IF(AND(ISNUMBER(T29),ISNUMBER(T33)),T29-T33,"") -> -10.273126 | V31: =IF(AND(ISNUMBER(V29),ISNUMBER(V33)),V29-V33,"") -> -3.2781788
A32: H26年度 | B32: 加入 | C32: 8183.8348 | D32: 32.102732 | E32: 11724.75 | F32: 28.920964 | G32: 8061.5713 | H32: 33.69779 | I32: 28456.667 | J32: 47.21057 | K32: 5266.3728 | L32: 49.956664 | M32: 1695.8782 | N32: 45.985884 | O32: 210.73747 | P32: 35.656426 | Q32: 45.092912 | R32: 31.886561 | S32: 53.552736 | T32: 30.768279 | U32: 63698.457 | V32: 38.519054
B33: 未加入 | C33: 17308.808 | D33: 67.897268 | E33: 28815.91 | F33: 71.079036 | G33: 15861.574 | H33: 66.30221 | I33: 31819.384 | J33: 52.78943 | K33: 5275.5096 | L33: 50.043336 | M33: 1991.9452 | N33: 54.014116 | O33: 380.28495 | P33: 64.343574 | Q33: 96.323755 | R33: 68.113439 | S33: 120.49904 | T33: 69.231721 | U33: 101670.24 | V33: 61.480946
A34: 増減 | B34: 加入 | D34: =IF(AND(ISNUMBER(D32),ISNUMBER(D36)),D32-D36,"") -> -8.4972676 | F34: =IF(AND(ISNUMBER(F32),ISNUMBER(F36)),F32-F36,"") -> -5.3790356 | H34: =IF(AND(ISNUMBER(H32),ISNUMBER(H36)),H32-H36,"") -> -2.9022099 | J34: =IF(AND(ISNUMBER(J32),ISNUMBER(J36)),J32-J36,"") -> -1.1894302 | L34: =IF(AND(ISNUMBER(L32),ISNUMBER(L36)),L32-L36,"") -> -3.6433357 | N34: =IF(AND(ISNUMBER(N32),ISNUMBER(N36)),N32-N36,"") -> -4.1141157 | P34: =IF(AND(ISNUMBER(P32),ISNUMBER(P36)),P32-P36,"") -> 0.25642589 | R34: =IF(AND(ISNUMBER(R32),ISNUMBER(R36)),R32-R36,"") -> 1.8865611 | T34: =IF(AND(ISNUMBER(T32),ISNUMBER(T36)),T32-T36,"") -> 6.0682792 | V34: =IF(AND(ISNUMBER(V32),ISNUMBER(V36)),V32-V36,"") -> -3.7809459
B35: 未加入 | D35: =IF(AND(ISNUMBER(D33),ISNUMBER(D37)),D33-D37,"") -> 8.4972676 | F35: =IF(AND(ISNUMBER(F33),ISNUMBER(F37)),F33-F37,"") -> 5.3790356 | H35: =IF(AND(ISNUMBER(H33),ISNUMBER(H37)),H33-H37,"") -> 2.9022099 | J35: =IF(AND(ISNUMBER(J33),ISNUMBER(J37)),J33-J37,"") -> 1.1894302 | L35: =IF(AND(ISNUMBER(L33),ISNUMBER(L37)),L33-L37,"") -> 3.6433357 | N35: =IF(AND(ISNUMBER(N33),ISNUMBER(N37)),N33-N37,"") -> 4.1141157 | P35: =IF(AND(ISNUMBER(P33),ISNUMBER(P37)),P33-P37,"") -> -0.25642589 | R35: =IF(AND(ISNUMBER(R33),ISNUMBER(R37)),R33-R37,"") -> -1.8865611 | T35: =IF(AND(ISNUMBER(T33),ISNUMBER(T37)),T33-T37,"") -> -6.0682792 | V35: =IF(AND(ISNUMBER(V33),ISNUMBER(V37)),V33-V37,"") -> 3.7809459
A36: H23年度 | B36: 加入 | C36: 11029.36 | D36: 40.6 | E36: 14056.93 | F36: 34.3 | G36: 8262.92 | H36: 36.6 | I36: 29671.3 | J36: 48.4 | K36: 5802.15 | L36: 53.6 | M36: 1818.5 | N36: 50.1 | O36: 209.97 | P36: 35.4 | Q36: 45.62 | R36: 30 | S36: 44.13 | T36: 24.7 | U36: 70940.89 | V36: 42.3
B37: 未加入 | C37: 16165.9 | D37: 59.4 | E37: 26948.88 | F37: 65.7 | G37: 14341.72 | H37: 63.4 | I37: 31663.18 | J37: 51.6 | K37: 5029.35 | L37: 46.4 | M37: 1813.26 | N37: 49.9 | O37: 382.87 | P37: 64.6 | Q37: 106.37 | R37: 70 | S37: 134.71 | T37: 75.3 | U37: 96586.25 | V37: 57.7
A38: 増減 | B38: 加入 | D38: =D36-D40 -> 13.1 | F38: =F36-F40 -> -1 | H38: =H36-H40 -> 1.5 | J38: =J36-J40 -> -2.3 | L38: =L36-L40 -> 0.4 | N38: =N36-N40 -> 1.6 | P38: =P36-P40 -> -4.8 | R38: =R36-R40 -> -0.7 | T38: =T36-T40 -> -10.5 | V38: =V36-V40 -> 0.8
B39: 未加入 | D39: =D37-D41 -> -13.1 | F39: =F37-F41 -> 1 | H39: =H37-H41 -> -1.5 | J39: =J37-J41 -> 2.3 | L39: =L37-L41 -> -0.4 | N39: =N37-N41 -> -1.6 | P39: =P37-P41 -> 4.8 | R39: =R37-R41 -> 0.7 | T39: =T37-T41 -> 10.5 | V39: =V37-V41 -> -0.8
A40: H20年度 | B40: 加入 | C40: 8686 | D40: 27.5 | E40: 13767 | F40: 35.3 | G40: 7364 | H40: 35.1 | I40: 35368 | J40: 50.7 | K40: 6506 | L40: 53.2 | M40: 1892 | N40: 48.5 | O40: 277 | P40: 40.2 | Q40: 55 | R40: 30.7 | S40: 71 | T40: 35.2 | U40: 73986 | V40: 41.5
B41: 未加入 | C41: 22842 | D41: 72.5 | E41: 25183 | F41: 64.7 | G41: 13614 | H41: 64.9 | I41: 34410 | J41: 49.3 | K41: 5712 | L41: 46.8 | M41: 2006 | N41: 51.5 | O41: 412 | P41: 59.8 | Q41: 124 | R41: 69.3 | S41: 132 | T41: 64.8 | U41: 104436 | V41: 58.5
A42: 増減 | B42: 加入 | D42: =D40-D44 -> -13.3 | F42: =F40-F44 -> 2.4 | H42: =H40-H44 -> -0.4 | J42: =J40-J44 -> -0.9 | L42: =L40-L44 -> -0.6 | N42: =N40-N44 -> -3 | P42: =P40-P44 -> -7.7 | R42: =R40-R44 -> -8.1 | T42: =T40-T44 -> 11.2 | V42: =V40-V44 -> -1.9
B43: 未加入 | D43: =D41-D45 -> 13.3 | F43: =F41-F45 -> -2.4 | H43: =H41-H45 -> 0.4 | J43: =J41-J45 -> 0.9 | L43: =L41-L45 -> 0.6 | N43: =N41-N45 -> 3 | P43: =P41-P45 -> 7.7 | R43: =R41-R45 -> 8.1 | T43: =T41-T45 -> -11.2 | V43: =V41-V45 -> 1.9
...

Sheet 7-2-3
A1: 表7－2－3 事業協同組合への加入状況（下請比率、次数別集計）
A3: （概要） | M3: （単位：社、％）
A4: 下請比率、次数 | B4: ０％超 50％未満 | D4: ５０％以上１００％以下 | L4: 合 計
F5: 一次下請 | H5: 二次下請 | J5: 三次以下下請
A6: 加入 | B6: 18721.742 | C6: 52.196206 | D6: 29966.498 | E6: 38.904996 | F6: 23367.041 | G6: 42.652655 | H6: 5729.4284 | I6: 32.659841 | J6: 870.02865 | K6: 18.520778 | L6: 48688.241 | M6: 43.127845
A7: 未加入 | B7: 17146.271 | C7: 47.803794 | D7: 47058.31 | E7: 61.095004 | F7: 31417.453 | G7: 57.347345 | H7: 11813.304 | I7: 67.340159 | J7: 3827.553 | K7: 81.479222 | L7: 64204.581 | M7: 56.872155
F8: （注） | G8: 1．( )の数値は加入＋未加入を100とした場合の構成比
G9: =R35 -> 2．無効回答企業 1,118社を除く
A11: （下請比率別詳細）
A12: 下請比率、次数 | B12: ０％超１０％未満 | J12: １０％以上２０％未満 | R12: ２０％以上３０％未満
B13: 一次下請 | D13: 二次下請 | F13: 三次以下下請 | H13: 小 計 | J13: 一次下請 | L13: 二次下請 | N13: 三次以下下請 | P13: 小 計 | R13: 一次下請 | T13: 二次下請 | V13: 三次以下下請 | X13: 小 計
A14: 加入 | B14: 4498.2604 | C14: 44.892115 | D14: 60.79817 | E14: 50.424263 | F14: 28.829268 | G14: 100 | H14: 4587.8878 | I14: 45.113929 | J14: 3971.2007 | K14: 55.256406 | L14: 315.08554 | M14: 61.626876 | N14: 25.407407 | O14: 92.365693 | P14: 4311.6937 | Q14: 55.81013 | R14: 2946.1898 | S14: 50.94674 | T14: 198.08958 | U14: 50.049969 | X14: 3144.2793 | Y14: 50.889296
A15: 未加入 | B15: 5521.8965 | C15: 55.107885 | D15: 59.775075 | E15: 49.575737 | H15: 5581.6716 | I15: 54.886071 | J15: 3215.6596 | K15: 44.743594 | L15: 196.19389 | M15: 38.373124 | N15: 2.1 | O15: 7.6343073 | P15: 3413.9535 | Q15: 44.18987 | R15: 2836.6921 | S15: 49.05326 | T15: 197.69404 | U15: 49.950031 | X15: 3034.3861 | Y15: 49.110704
A18: 下請比率、次数 | B18: ３０％以上４０％未満 | J18: ４０％以上５０％未満 | R18: ５０％以上６０％未満
B19: 一次下請 | D19: 二次下請 | F19: 三次以下下請 | H19: 小 計 | J19: 一次下請 | L19: 二次下請 | N19: 三次以下下請 | P19: 小 計 | R19: 一次下請 | T19: 二次下請 | V19: 三次以下下請 | X19: 小 計
A20: 加入 | B20: 3270.0757 | C20: 56.692616 | D20: 158.82338 | E20: 34.067332 | H20: 3428.8991 | I20: 55.000681 | J20: 2984.6565 | K20: 59.729908 | L20: 231.97535 | M20: 51.626032 | N20: 32.350575 | O20: 28.478278 | P20: 3248.9824 | Q20: 58.436443 | R20: 2640.2464 | S20: 53.259353 | T20: 265.48686 | U20: 67.697291 | V20: 67.548546 | W20: 73.390993 | X20: 2973.2818 | Y20: 54.640393
A21: 未加入 | B21: 2498.0048 | C21: 43.307384 | D21: 307.38096 | E21: 65.932668 | H21: 2805.3858 | I21: 44.999319 | J21: 2012.2648 | K21: 40.270092 | L21: 217.3626 | M21: 48.373968 | N21: 81.246795 | O21: 71.521722 | P21: 2310.8742 | Q21: 41.563557 | R21: 2317.0921 | S21: 46.740647 | T21: 126.68077 | U21: 32.302709 | V21: 24.490741 | W21: 26.609007 | X21: 2468.2637 | Y21: 45.359607
A24: 下請比率、次数 | B24: ６０％以上７０％未満 | J24: ７０％以上８０％未満 | R24: ８０％以上９０％未満
B25: 一次下請 | D25: 二次下請 | F25: 三次以下下請 | H25: 小 計 | J25: 一次下請 | L25: 二次下請 | N25: 三次以下下請 | P25: 小 計 | R25: 一次下請 | T25: 二次下請 | V25: 三次以下下請 | X25: 小 計
A26: 加入 | B26: 2811.1771 | C26: 52.452614 | D26: 210.8914 | E26: 35.523861 | F26: 3.125 | G26: 3.1168348 | H26: 3025.1935 | I26: 49.975248 | J26: 2184.1527 | K26: 46.074058 | L26: 414.56441 | M26: 47.428021 | P26: 2598.7171 | Q26: 45.283013 | R26: 3309.471 | S26: 50.393314 | T26: 645.31425 | U26: 46.425505 | V26: 80.541266 | W26: 17.729306 | X26: 4035.3265 | Y26: 47.973555
A27: 未加入 | B27: 2548.2834 | C27: 47.547386 | D27: 382.76986 | E27: 64.476139 | F27: 97.13697 | G27: 96.883165 | H27: 3028.1902 | I27: 50.024752 | J27: 2556.3733 | K27: 53.925942 | L27: 459.52733 | M27: 52.571979 | N27: 124.21661 | O27: 100 | P27: 3140.1172 | Q27: 54.716987 | R27: 3257.8109 | S27: 49.606686 | T27: 744.68515 | U27: 53.574495 | V27: 373.74198 | W27: 82.270694 | X27: 4376.238 | Y27: 52.026445
A30: 下請比率、次数 | B30: ９０％以上１００％未満 | J30: １００％ | R30: 合 計
B31: 一次下請 | D31: 二次下請 | F31: 三次以下下請 | H31: 小 計 | J31: 一次下請 | L31: 二次下請 | N31: 三次以下下請 | P31: 小 計 | R31: 一次下請 | T31: 二次下請 | V31: 三次以下下請
A32: 加入 | B32: 4182.9252 | C32: 47.439809 | D32: 1059.3455 | E32: 39.848865 | F32: 20.147059 | G32: 9.9085973 | H32: 5262.4178 | I32: 45.058539 | J32: 8239.0689 | K32: 33.846359 | L32: 3133.826 | M32: 26.935853 | N32: 698.66678 | O32: 18.763956 | P32: 12071.562 | Q32: 30.406641 | R32: 41037.424 | S32: 46.349339 | T32: 6694.2005 | U32: 34.354054 | V32: 956.6159 | W32: 19.653063 | X32: 48688.241 | Y32: 43.127845
A33: 未加入 | B33: 4634.4063 | C33: 52.560191 | D33: 1599.0627 | E33: 60.151135 | F33: 183.18201 | G33: 90.091403 | H33: 6416.6511 | I33: 54.941461 | J33: 16103.487 | K33: 66.153641 | L33: 8500.5781 | M33: 73.064147 | N33: 3024.7847 | O33: 81.236044 | P33: 27628.85 | Q33: 69.593359 | R33: 47501.971 | S33: 53.650661 | T33: 12791.71 | U33: 65.645946 | V33: 3910.8998 | W33: 80.346937 | X33: 64204.581 | Y33: 56.872155
Q34: （注） | R34: 1．( )の数値は加入＋未加入を100とした場合の構成比
R35: 2．無効回答企業 1,118社を除く
