Workbook
Name ______________________ＴＢＬ１: [1]CSS編集画面!$B$10:$F$22
Name ______________________ＴＢＬ２: [1]CSS編集画面!$B$24:$I$35
Name _____________________ＴＢＬ１: [1]CSS編集画面!$B$10:$F$22
Name _____________________ＴＢＬ２: [1]CSS編集画面!$B$24:$I$35
Name ____________________ＴＢＬ１: [1]CSS編集画面!$B$10:$F$22
Name ____________________ＴＢＬ２: [1]CSS編集画面!$B$24:$I$35
Name ___________________ＴＢＬ１: [1]CSS編集画面!$B$10:$F$22
Name ___________________ＴＢＬ２: [1]CSS編集画面!$B$24:$I$35
Name __________________ＴＢＬ１: [1]CSS編集画面!$B$10:$F$22
Name __________________ＴＢＬ２: [1]CSS編集画面!$B$24:$I$35
Name _________________ＴＢＬ１: [1]CSS編集画面!$B$10:$F$22
Name _________________ＴＢＬ２: [1]CSS編集画面!$B$24:$I$35
Name ________________ＴＢＬ１: [1]CSS編集画面!$B$10:$F$22
Name ________________ＴＢＬ２: [1]CSS編集画面!$B$24:$I$35
Name _______________ＴＢＬ１: [1]CSS編集画面!$B$10:$F$22
Name _______________ＴＢＬ２: [1]CSS編集画面!$B$24:$I$35
Name ______________ＴＢＬ１: [1]CSS編集画面!$B$10:$F$22
Name ______________ＴＢＬ２: [1]CSS編集画面!$B$24:$I$35
Name _____________ＴＢＬ１: [1]CSS編集画面!$B$10:$F$22
Name _____________ＴＢＬ２: [1]CSS編集画面!$B$24:$I$35
Name ____________ＴＢＬ１: [1]CSS編集画面!$B$10:$F$22
Name ____________ＴＢＬ２: [1]CSS編集画面!$B$24:$I$35
Name ___________ＴＢＬ１: [1]CSS編集画面!$B$10:$F$22
Name ___________ＴＢＬ２: [1]CSS編集画面!$B$24:$I$35
Name __________ＴＢＬ１: [1]CSS編集画面!$B$10:$F$22
Name __________ＴＢＬ２: [1]CSS編集画面!$B$24:$I$35
Name _________ＴＢＬ１: [1]CSS編集画面!$B$10:$F$22
Name _________ＴＢＬ２: [1]CSS編集画面!$B$24:$I$35
Name ________ＴＢＬ１: [1]CSS編集画面!$B$10:$F$22
Name ________ＴＢＬ２: [1]CSS編集画面!$B$24:$I$35
Name _______ＴＢＬ１: [1]CSS編集画面!$B$10:$F$22
Name _______ＴＢＬ２: [1]CSS編集画面!$B$24:$I$35
Name ______ＴＢＬ１: [1]CSS編集画面!$B$10:$F$22
Name ______ＴＢＬ２: [1]CSS編集画面!$B$24:$I$35
Name _____ＴＢＬ１: [1]CSS編集画面!$B$10:$F$22
Name _____ＴＢＬ２: [1]CSS編集画面!$B$24:$I$35
Name ____ＴＢＬ１: [1]CSS編集画面!$B$10:$F$22
Name ____ＴＢＬ２: [1]CSS編集画面!$B$24:$I$35
Name ___ＴＢＬ１: [1]CSS編集画面!$B$10:$F$22
Name ___ＴＢＬ２: [1]CSS編集画面!$B$24:$I$35
Name __ＴＢＬ１: [1]CSS編集画面!$B$10:$F$22
Name __ＴＢＬ２: [1]CSS編集画面!$B$24:$I$35
Name _ＴＢＬ１: [1]CSS編集画面!$B$10:$F$22
Name _ＴＢＬ２: [1]CSS編集画面!$B$24:$I$35
Name PAGE1: #REF!
Name PAGE10: #REF!
Name PAGE100: #REF!
Name PAGE1000: #REF!
Name PAGE1001: #REF!
Name PAGE1002: #REF!
Name PAGE1003: #REF!
Name PAGE1004: #REF!
Name PAGE1005: #REF!
Name PAGE1006: #REF!
Name PAGE1007: #REF!
Name PAGE1008: #REF!
Name PAGE1009: #REF!
Name PAGE101: #REF!
Name PAGE1010: #REF!
Name PAGE1011: #REF!

Sheet 7-3-1
A1: 表7－3－1 利用している共同事業の種類（６業種別集計）（事業協同組合の組合員になっている企業のみ対象）
W3: （単位：社、％）
C4: 資本金 | D4: 個 人 | F4: 法 人 | V4: 合 計
A5: 業種 | C5: 利用事業種類 | F5: 500万円未満 | H5: 500万円以上 1000万円未満 | J5: 1000万円以上 3000万円未満 | L5: 3000万円以上 5000万円未満 | N5: 5000万円以上 1億円未満 | P5: 1億円以上 3億円未満 | R5: 3億円以上 10億円未満 | T5: 10億円以上
A6: 一 般 土 木 建 築 | C6: 共同購入 | J6: 119.32394 | K6: 15.789474 | L6: 96.692308 | M6: 21.428571 | N6: 59.873418 | O6: 21.276596 | P6: 11.4 | Q6: 27.272727 | R6: 1.2631579 | S6: 14.285714 | V6: 288.55283 | W6: 16.293159
C7: 機械等の共同利用 | L7: 10.74359 | M7: 2.3809524 | N7: 5.9873418 | O7: 2.1276596 | P7: 5.7 | Q7: 13.636364 | V7: 22.430932 | W7: 1.2665644
C8: 金融（斡旋・転貸） | L8: 32.230769 | M8: 7.1428571 | N8: 23.949367 | O8: 8.5106383 | V8: 56.180136 | W8: 3.1722159
C9: 教育訓練 | F9: 44.833333 | G9: 100 | H9: 81 | I9: 60 | J9: 517.07042 | K9: 68.421053 | L9: 343.79487 | M9: 76.190476 | N9: 173.63291 | O9: 61.702128 | P9: 32.3 | Q9: 77.272727 | R9: 3.7894737 | S9: 42.857143 | T9: 10.294118 | U9: 63.636364 | V9: 1206.7151 | W9: 68.137267
C10: 情報交換 | D10: 36 | E10: 100 | F10: 44.833333 | G10: 100 | H10: 54 | I10: 40 | J10: 616.50704 | K10: 81.578947 | L10: 386.76923 | M10: 85.714286 | N10: 233.50633 | O10: 82.978723 | P10: 34.2 | Q10: 81.818182 | R10: 8.8421053 | S10: 100 | T10: 14.705882 | U10: 90.909091 | V10: 1429.3639 | W10: 80.70915
C11: 福利厚生 | D11: 36 | E11: 100 | J11: 79.549296 | K11: 10.526316 | L11: 107.4359 | M11: 23.809524 | N11: 71.848101 | O11: 25.531915 | P11: 7.6 | Q11: 18.181818 | V11: 302.43329 | W11: 17.07692
C12: 経営・施工管理の指導 | H12: 27 | I12: 20 | J12: 79.549296 | K12: 10.526316 | L12: 96.692308 | M12: 21.428571 | N12: 53.886076 | O12: 19.148936 | P12: 3.8 | Q12: 9.0909091 | R12: 2.5263158 | S12: 28.571429 | V12: 263.454 | W12: 14.875951
C13: 共同受注 | J13: 79.549296 | K13: 10.526316 | L13: 53.717949 | M13: 11.904762 | N13: 23.949367 | O13: 8.5106383 | P13: 5.7 | Q13: 13.636364 | V13: 162.91661 | W13: 9.1990997
C14: 新事業分野への進出支援
C15: その他 | H15: 81 | I15: 60 | J15: 99.43662 | K15: 13.157895 | L15: 42.974359 | M15: 9.5238095 | N15: 17.962025 | O15: 6.3829787 | P15: 1.9 | Q15: 4.5454545 | R15: 1.2631579 | S15: 14.285714 | T15: 2.9411765 | U15: 18.181818 | V15: 247.47734 | W15: 13.973828
B16: 小 計 | D16: 36 | E16: 100 | F16: 44.833333 | G16: 100 | H16: 135 | I16: 100 | J16: 755.71831 | K16: 100 | L16: 451.23077 | M16: 100 | N16: 281.40506 | O16: 100 | P16: 41.8 | Q16: 100 | R16: 8.8421053 | S16: 100 | T16: 16.176471 | U16: 100 | V16: 1771.0061 | W16: 100
A17: 土 木 | C17: 共同購入 | F17: 230.51724 | G17: 14.876162 | H17: 210.22619 | I17: 9.7853203 | J17: 1552.887 | K17: 25.558578 | L17: 463.82493 | M17: 22.014562 | N17: 100.1088 | O17: 16.077848 | V17: 2557.5641 | W17: 19.948119
C18: 機械等の共同利用 | F18: 74.75 | G18: 4.8239042 | J18: 140.23184 | K18: 2.3080408 | L18: 4.1333333 | M18: 0.19618075 | N18: 24.708333 | O18: 3.968251 | V18: 243.82351 | W18: 1.9017393
C19: 金融（斡旋・転貸） | D19: 90.785714 | E19: 33.333333 | J19: 176.86822 | K19: 2.9110297 | R19: 1.0909091 | S19: 18.367347 | V19: 268.74484 | W19: 2.0961171
C20: 教育訓練 | D20: 90.785714 | E20: 33.333333 | F20: 519.30172 | G20: 33.512532 | H20: 1277.9071 | I20: 59.482269 | J20: 3469.829 | K20: 57.109048 | L20: 1258.7481 | M20: 59.744068 | N20: 357.4537 | O20: 57.408406 | P20: 18.913043 | Q20: 60.082873 | R20: 1.3333333 | S20: 22.44898 | V20: 6994.2718 | W20: 54.552909
C21: 情報交換 | D21: 272.35714 | E21: 100 | F21: 904.5546 | G21: 58.374378 | H21: 1658.9 | I21: 77.216201 | J21: 4730.0341 | K21: 77.850449 | L21: 1593.6797 | M21: 75.640954 | N21: 523.08565 | O21: 84.009517 | P21: 22.695652 | Q21: 72.099448 | R21: 4.8484848 | S21: 81.632653 | T21: 8 | U21: 100 | V21: 9718.1553 | W21: 75.798262
C22: 福利厚生 | D22: 181.57143 | E22: 66.666667 | F22: 434.23563 | G22: 28.022891 | H22: 208.65714 | I22: 9.7122864 | J22: 1142.3612 | K22: 18.801837 | L22: 304.72581 | M22: 14.463227 | N22: 75.400463 | O22: 12.109597 | V22: 2346.9517 | W22: 18.305414
C23: 経営・施工管理の指導 | D23: 90.785714 | E23: 33.333333 | F23: 126.75 | G23: 8.1796637 | H23: 367.6 | I23: 17.11054 | J23: 1224.593 | K23: 20.155269 | L23: 370.31084 | M23: 17.576095 | N23: 61.564815 | O23: 9.8875402 | R23: 1.0909091 | S23: 18.367347 | V23: 2242.6952 | W23: 17.49225
C24: 共同受注 | F24: 78 | G24: 5.0336392 | H24: 420.45714 | I24: 19.570862 | J24: 792.49891 | K24: 13.043541 | L24: 292.49397 | M24: 13.882666 | N24: 80.543981 | O24: 12.935666 | P24: 5 | Q24: 15.883978 | V24: 1668.994 | W24: 13.017578
C25: 新事業分野への進出支援 | L25: 42.101491 | M25: 1.9982666 | N25: 20.708333 | O25: 3.325836 | V25: 62.809824 | W25: 0.48989497
C26: その他 | F26: 291.80172 | G26: 18.831085 | H26: 26.428571 | I26: 1.2301609 | J26: 490.09412 | K26: 8.0663365 | L26: 228.5895 | M26: 10.849563 | N26: 73.712963 | O26: 11.838578 | P26: 3.7826087 | Q26: 12.016575 | V26: 1114.4095 | W26: 8.6920098
B27: 小 計 | D27: 272.35714 | E27: 100 | F27: 1549.5747 | G27: 100 | H27: 2148.3833 | I27: 100 | J27: 6075.7956 | K27: 100 | L27: 2106.9005 | M27: 100 | N27: 622.65046 | O27: 100 | P27: 31.478261 | Q27: 100 | R27: 5.9393939 | S27: 100 | T27: 8 | U27: 100 | V27: 12821.079 | W27: 100
A28: 建 築 | B28: 建 築 | C28: 共同購入 | J28: 570 | K28: 14.634146 | L28: 99.208333 | M28: 9.0909091 | N28: 54.80597 | O28: 15.384615 | P28: 7.68 | Q28: 9.0909091 | V28: 731.6943 | W28: 7.1763165
C29: 機械等の共同利用 | J29: 95 | K29: 2.4390244 | V29: 95 | W29: 0.93174167
C30: 金融（斡旋・転貸） | H30: 254.26316 | I30: 14.285714 | J30: 95 | K30: 2.4390244 | L30: 33.069444 | M30: 3.030303 | P30: 7.68 | Q30: 9.0909091 | V30: 390.0126 | W30: 3.8251683
C31: 教育訓練 | H31: 1017.0526 | I31: 57.142857 | J31: 2565 | K31: 65.853659 | L31: 496.04167 | M31: 45.454545 | N31: 150.71642 | O31: 42.307692 | P31: 61.44 | Q31: 72.727273 | R31: 5.7142857 | S31: 57.142857 | T31: 3.3636364 | U31: 50 | V31: 4299.3286 | W31: 42.166986
C32: 情報交換 | D32: 1112 | E32: 57.142857 | F32: 410.55172 | G32: 40 | H32: 1271.3158 | I32: 71.428571 | J32: 2945 | K32: 75.609756 | L32: 694.45833 | M32: 63.636364 | N32: 274.02985 | O32: 76.923077 | P32: 84.48 | Q32: 100 | R32: 8.5714286 | S32: 85.714286 | T32: 6.7272727 | U32: 100 | V32: 6807.1344 | W32: 66.763061
C33: 福利厚生 | D33: 834 | E33: 42.857143 | F33: 205.27586 | G33: 20 | H33: 508.52632 | I33: 28.571429 | J33: 855 | K33: 21.95122 | L33: 132.27778 | M33: 12.121212 | N33: 27.402985 | O33: 7.6923077 | P33: 15.36 | Q33: 18.181818 | V33: 2577.8429 | W33: 25.282986
C34: 経営・施工管理の指導 | D34: 556 | E34: 28.571429 | H34: 254.26316 | I34: 14.285714 | J34: 760 | K34: 19.512195 | L34: 99.208333 | M34: 9.0909091 | N34: 54.80597 | O34: 15.384615 | P34: 15.36 | Q34: 18.181818 | R34: 2.8571429 | S34: 28.571429 | V34: 1742.4946 | W34: 17.090051
C35: 共同受注 | F35: 205.27586 | G35: 20 | J35: 285 | K35: 7.3170732 | L35: 165.34722 | M35: 15.151515 | N35: 13.701493 | O35: 3.8461538 | P35: 7.68 | Q35: 9.0909091 | V35: 677.00458 | W35: 6.6399303
C36: 新事業分野への進出支援 | L36: 33.069444 | M36: 3.030303 | V36: 33.069444 | W36: 0.32433873
C37: その他 | D37: 556 | E37: 28.571429 | J37: 950 | K37: 24.390244 | L37: 231.48611 | M37: 21.212121 | N37: 137.01493 | O37: 38.461538 | P37: 7.68 | Q37: 9.0909091 | R37: 1.4285714 | S37: 14.285714 | V37: 1883.6096 | W37: 18.47408
B38: 小 計 | D38: 1946 | E38: 100 | F38: 1026.3793 | G38: 100 | H38: 1779.8421 | I38: 100 | J38: 3895 | K38: 100 | L38: 1091.2917 | M38: 100 | N38: 356.23881 | O38: 100 | P38: 84.48 | Q38: 100 | R38: 10 | S38: 100 | T38: 6.7272727 | U38: 100 | V38: 10195.959 | W38: 100
B39: 木 造 建 築 | C39: 共同購入 | F39: 136 | G39: 20 | J39: 31.823529 | K39: 3.3333333 | N39: 10 | O39: 25 | V39: 177.82353 | W39: 4.7273549
C40: 機械等の共同利用
C41: 金融（斡旋・転貸）
C42: 教育訓練 | D42: 287.63636 | E42: 22.222222 | F42: 272 | G42: 40 | H42: 591.33333 | I42: 83.333333 | J42: 350.05882 | K42: 36.666667 | L42: 24.555556 | M42: 33.333333 | N42: 10 | O42: 25 | V42: 1535.5841 | W42: 40.822781
C43: 情報交換 | D43: 431.45455 | E43: 33.333333 | F43: 408 | G43: 60 | H43: 591.33333 | I43: 83.333333 | J43: 700.11765 | K43: 73.333333 | L43: 57.296296 | M43: 77.777778 | N43: 35 | O43: 87.5 | P43: 4.25 | Q43: 100 | V43: 2227.4518 | W43: 59.215759
C44: 福利厚生 | D44: 862.90909 | E44: 66.666667 | F44: 272 | G44: 40 | H44: 354.8 | I44: 50 | J44: 190.94118 | K44: 20 | L44: 8.1851852 | M44: 11.111111 | N44: 5 | O44: 12.5 | P44: 4.25 | Q44: 100 | V44: 1698.0855 | W44: 45.142803
C45: 経営・施工管理の指導 | D45: 287.63636 | E45: 22.222222 | F45: 136 | G45: 20 | H45: 118.26667 | I45: 16.666667 | J45: 127.29412 | K45: 13.333333 | L45: 16.37037 | M45: 22.222222 | N45: 5 | O45: 12.5 | V45: 690.56752 | W45: 18.358413
C46: 共同受注 | D46: 143.81818 | E46: 11.111111 | J46: 95.470588 | K46: 10 | V46: 239.28877 | W46: 6.3613794
C47: 新事業分野への進出支援 | D47: 143.81818 | E47: 11.111111 | J47: 63.647059 | K47: 6.6666667 | L47: 8.1851852 | M47: 11.111111 | V47: 215.65043 | W47: 5.7329652
C48: その他 | D48: 431.45455 | E48: 33.333333 | F48: 272 | G48: 40 | H48: 118.26667 | I48: 16.666667 | J48: 190.94118 | K48: 20 | L48: 8.1851852 | M48: 11.111111 | R48: 5 | S48: 100 | V48: 1025.8476 | W48: 27.271675
B49: 小 計 | D49: 1294.3636 | E49: 100 | F49: 680 | G49: 100 | H49: 709.6 | I49: 100 | J49: 954.70588 | K49: 100 | L49: 73.666667 | M49: 100 | N49: 40 | O49: 100 | P49: 4.25 | Q49: 100 | R49: 5 | S49: 100 | V49: 3761.5862 | W49: 100
A50: 小 計 | C50: 共同購入 | F50: 136 | G50: 7.9700919 | J50: 601.82353 | K50: 12.409485 | L50: 99.208333 | M50: 8.5160413 | N50: 64.80597 | O50: 16.355281 | P50: 7.68 | Q50: 8.6554717 | V50: 909.51783 | W50: 6.5163165
C51: 機械等の共同利用 | J51: 95 | K51: 1.9588817 | V51: 95 | W51: 0.68063544
C52: 金融（斡旋・転貸） | H52: 254.26316 | I52: 10.21366 | J52: 95 | K52: 1.9588817 | L52: 33.069444 | M52: 2.8386804 | P52: 7.68 | Q52: 8.6554717 | V52: 390.0126 | W52: 2.7942779
C53: 教育訓練 | D53: 287.63636 | E53: 8.8766693 | F53: 272 | G53: 15.940184 | H53: 1608.386 | I53: 64.60829 | J53: 2915.0588 | K53: 60.107951 | L53: 520.59722 | M53: 44.688055 | N53: 160.71642 | O53: 40.560494 | P53: 61.44 | Q53: 69.243773 | R53: 5.7142857 | S53: 38.095238 | T53: 3.3636364 | U53: 50 | V53: 5834.9127 | W53: 41.80472
C54: 情報交換 | D54: 1543.4545 | E54: 47.63214 | F54: 818.55172 | G54: 47.970092 | H54: 1862.6491 | I54: 74.82195 | J54: 3645.1176 | K54: 75.161623 | L54: 751.75463 | M54: 64.530602 | N54: 309.02985 | O54: 77.990809 | P54: 88.73 | Q54: 100 | R54: 8.5714286 | S54: 57.142857 | T54: 6.7272727 | U54: 100 | V54: 9034.5862 | W54: 64.729048
C55: 福利厚生 | D55: 1696.9091 | E55: 52.36786 | F55: 477.27586 | G55: 27.970092 | H55: 863.32632 | I55: 34.67951 | J55: 1045.9412 | K55: 21.567105 | L55: 140.46296 | M55: 12.057338 | N55: 32.402985 | O55: 8.1776405 | P55: 19.61 | Q55: 22.100755 | V55: 4275.9284 | W55: 30.635246
C56: 経営・施工管理の指導 | D56: 843.63636 | E56: 26.035237 | F56: 136 | G56: 7.9700919 | H56: 372.52982 | I56: 14.96439 | J56: 887.29412 | K56: 18.295834 | L56: 115.5787 | M56: 9.9212736 | N56: 59.80597 | O56: 15.093416 | P56: 15.36 | Q56: 17.310943 | R56: 2.8571429 | S56: 19.047619 | V56: 2433.0621 | W56: 17.431877
C57: 共同受注 | D57: 143.81818 | E57: 4.4383346 | F57: 205.27586 | G57: 12.029908 | J57: 380.47059 | K57: 7.8452302 | L57: 165.34722 | M57: 14.193402 | N57: 13.701493 | O57: 3.4578876 | P57: 7.68 | Q57: 8.6554717 | V57: 916.29335 | W57: 6.5648603
C58: 新事業分野への進出支援 | D58: 143.81818 | E58: 4.4383346 | J58: 63.647059 | K58: 1.3123901 | L58: 41.25463 | M58: 3.5412966 | V58: 248.71987 | W58: 1.7819743
C59: その他 | D59: 987.45455 | E59: 30.473572 | F59: 272 | G59: 15.940184 | H59: 118.26667 | I59: 4.7507297 | J59: 1140.9412 | K59: 23.525987 | L59: 239.6713 | M59: 20.573379 | N59: 137.01493 | O59: 34.578876 | P59: 7.68 | Q59: 8.6554717 | R59: 6.4285714 | S59: 42.857143 | V59: 2909.4572 | W59: 20.845049
A60: 小 計 | D60: 3240.3636 | E60: 100 | F60: 1706.3793 | G60: 100 | H60: 2489.4421 | I60: 100 | J60: 4849.7059 | K60: 100 | L60: 1164.9583 | M60: 100 | N60: 396.23881 | O60: 100 | P60: 88.73 | Q60: 100 | R60: 15 | S60: 100 | T60: 6.7272727 | U60: 100 | V60: 13957.545 | W60: 100
A61: 職 別 | B61: 躯 体 関 係 計 | C61: 共同購入 | F61: 78.006061 | G61: 5.3662338 | H61: 120.37306 | I61: 7.7202512 | J61: 491.87904 | K61: 24.513678 | L61: 35.69412 | M61: 18.557628 | N61: 18.493519 | O61: 17.505611 | V61: 744.44579 | W61: 11.981816
C62: 機械等の共同利用 | J62: 34.905392 | K62: 1.7395731 | L62: 2.2429907 | M62: 1.1661469 | N62: 3.1311728 | O62: 2.9639083 | V62: 40.279556 | W62: 0.64829735
C63: 金融（斡旋・転貸） | D63: 62.419355 | E63: 7.0921976 | F63: 43.939394 | G63: 3.0227018 | J63: 74.872323 | K63: 3.7313971 | L63: 2.5625 | M63: 1.3322621 | V63: 183.79357 | W63: 2.9581479
C64: 教育訓練 | D64: 234.95559 | E64: 26.69607 | F64: 808.81788 | G64: 55.640624 | H64: 873.20976 | I64: 56.004217 | J64: 1296.4198 | K64: 64.609418 | L64: 125.42106 | M64: 65.207306 | N64: 62.944611 | O64: 59.582165 | P64: 7.8888889 | Q64: 81.609195 | R64: 0.4 | S64: 24.242424 | T64: 0.66666667 | U64: 15.384615 | V64: 3410.7243 | W64: 54.895429
C65: 情報交換 | D65: 568.46418 | E65: 64.589906 | F65: 917.24815 | G65: 63.099816 | H65: 966.55547 | I65: 61.991041 | J65: 1682.5985 | K65: 83.855327 | L65: 172.98826 | M65: 89.937833 | N65: 80.225475 | O65: 75.939901 | P65: 7.8888889 | Q65: 81.609195 | R65: 1.25 | S65: 75.757576 | T65: 4.3333333 | U65: 100 | V65: 4401.5522 | W65: 70.842754
C66: 福利厚生 | D66: 364.6682 | E66: 41.434247 | F66: 326.23183 | G66: 22.442311 | H66: 444.35815 | I66: 28.499373 | J66: 335.73026 | K66: 16.731722 | L66: 25.950935 | M66: 13.492076 | N66: 18.005864 | O66: 17.044007 | P66: 0.88888889 | Q66: 9.1954023 | T66: 0.66666667 | U66: 15.384615 | V66: 1516.5008 | W66: 24.408001
C67: 経営・施工管理の指導 | D67: 251.71651 | E67: 28.600475 | F67: 40.678571 | G67: 2.7983816 | H67: 355.77978 | I67: 22.818306 | J67: 451.05639 | K67: 22.479208 | L67: 27.235787 | M67: 14.16008 | N67: 13.98623 | O67: 13.239098 | P67: 1.7777778 | Q67: 18.390805 | R67: 0.4 | S67: 24.242424 | V67: 1142.631 | W67: 18.390587
C68: 共同受注 | F68: 33.64 | G68: 2.3141805 | H68: 85.96129 | I68: 5.5132168 | J68: 166.4301 | K68: 8.294344 | L68: 11.853972 | M68: 6.1629647 | N68: 3.1311728 | O68: 2.9639083 | V68: 301.01654 | W68: 4.8448455
C69: 新事業分野への進出支援 | F69: 34.066667 | G69: 2.343532 | J69: 29.416667 | K69: 1.4660326 | L69: 2.5625 | M69: 1.3322621 | V69: 66.045833 | W69: 1.0630042
C70: その他 | D70: 98.105069 | E70: 11.146872 | F70: 204.71305 | G70: 14.082727 | H70: 184.64639 | I70: 11.842488 | J70: 216.40864 | K70: 10.785114 | L70: 8.715148 | M70: 4.5310677 | N70: 9.037037 | O70: 8.5542865 | V70: 721.62533 | W70: 11.614522
B71: 小 計 | D71: 880.11303 | E71: 100 | F71: 1453.6463 | G71: 100 | H71: 1559.1857 | I71: 100 | J71: 2006.5493 | K71: 100 | L71: 192.34204 | M71: 100 | N71: 105.64338 | O71: 100 | P71: 9.6666667 | Q71: 100 | R71: 1.65 | S71: 100 | T71: 4.3333333 | U71: 100 | V71: 6213.1298 | W71: 100
B72: 仕 上 関 係 計 | C72: 共同購入 | D72: 309.02721 | E72: 19.360709 | F72: 657.92776 | G72: 21.169665 | H72: 328.78084 | I72: 15.847775 | J72: 584.93515 | K72: 15.229691 | L72: 53.437599 | M72: 17.186571 | N72: 32.600694 | O72: 24.758565 | P72: 3.5 | Q72: 18.75 | V72: 1970.2093 | W72: 17.771496
C73: 機械等の共同利用 | D73: 5.3877551 | E73: 0.33754555 | H73: 40.42 | I73: 1.9483102 | J73: 37.991163 | K73: 0.98915864 | L73: 9.625 | M73: 3.0955871 | N73: 2 | O73: 1.518898 | V73: 95.423918 | W73: 0.86073385
C74: 金融（斡旋・転貸） | F74: 107.5098 | G74: 3.4592651 | J74: 19.488261 | K74: 0.507407 | L74: 11.875 | M74: 3.8192309 | N74: 8.5940171 | O74: 6.5267176 | V74: 147.46708 | W74: 1.3301687
C75: 教育訓練 | D75: 790.73605 | E75: 49.540009 | F75: 1605.5719 | G75: 51.661324 | H75: 905.35664 | I75: 43.639672 | J75: 2320.9634 | K75: 60.42987 | L75: 215.06743 | M75: 69.169866 | N75: 87.3336 | O75: 66.325415 | P75: 13.5 | Q75: 72.321429 | R75: 1.6666667 | S75: 62.5 | V75: 5940.1957 | W75: 53.581195
C76: 情報交換 | D76: 1279.6993 | E76: 80.173802 | F76: 2152.3314 | G76: 69.25401 | H76: 1204.8303 | I76: 58.074791 | J76: 3041.8047 | K76: 79.198087 | L76: 253.30245 | M76: 81.466994 | N76: 105.46261 | O76: 80.093471 | P76: 15.666667 | Q76: 83.928571 | R76: 2.3333333 | S76: 87.5 | T76: 3 | U76: 100 | V76: 8058.4308 | W76: 72.6879
C77: 福利厚生 | D77: 502.80884 | E77: 31.501225 | F77: 834.77364 | G77: 26.859907 | H77: 492.81883 | I77: 23.754674 | J77: 854.54036 | K77: 22.249279 | L77: 70.640321 | M77: 22.719301 | N77: 32.538194 | O77: 24.711099 | P77: 3.1666667 | Q77: 16.964286 | T77: 3 | U77: 100 | V77: 2794.2868 | W77: 25.204764
C78: 経営・施工管理の指導 | D78: 21.55102 | E78: 1.3501822 | F78: 253.70526 | G78: 8.1632903 | H78: 182.18772 | I78: 8.7817462 | J78: 708.26555 | K78: 18.440788 | L78: 74.612157 | M78: 23.99672 | N78: 21.326389 | O78: 16.196305 | P78: 5 | Q78: 26.785714 | V78: 1266.6481 | W78: 11.4253
C79: 共同受注 | D79: 190.44218 | E79: 11.931298 | F79: 215.85176 | G79: 6.9453056 | H79: 138.71386 | I79: 6.6862351 | J79: 170.30269 | K79: 4.4340936 | L79: 18.767917 | M79: 6.0361271 | N79: 9.8854167 | O79: 7.5074697 | V79: 743.96381 | W79: 6.7106325
C80: 新事業分野への進出支援 | D80: 5.3877551 | E80: 0.33754555 | F80: 7.6315789 | G80: 0.24555579 | H80: 15.846154 | I80: 0.76381055 | J80: 103.78484 | K80: 2.7021988 | L80: 5.38 | M80: 1.7303126 | N80: 2.3333333 | O80: 1.7720477 | V80: 140.36366 | W80: 1.2660951
C81: その他 | D81: 112.16054 | E81: 7.0269141 | F81: 440.10275 | G81: 14.160867 | H81: 401.98591 | I81: 19.376379 | J81: 462.57373 | K81: 12.043822 | L81: 25.360466 | M81: 8.1564191 | N81: 14.649573 | O81: 11.125603 | P81: 1.5 | Q81: 8.0357143 | V81: 1458.333 | W81: 13.154318
B82: 小 計 | D82: 1596.1565 | E82: 100 | F82: 3107.8799 | G82: 100 | H82: 2074.6184 | I82: 100 | J82: 3840.7553 | K82: 100 | L82: 310.92648 | M82: 100 | N82: 131.67441 | O82: 100 | P82: 18.666667 | Q82: 100 | R82: 2.6666667 | S82: 100 | T82: 3 | U82: 100 | V82: 11086.344 | W82: 100
A83: 小 計 | C83: 共同購入 | D83: 309.02721 | E83: 12.479547 | F83: 735.93382 | G83: 16.1335 | H83: 449.15389 | I83: 12.360432 | J83: 1076.8142 | K83: 18.415565 | L83: 89.131719 | M83: 17.710569 | N83: 51.094213 | O83: 21.529871 | P83: 3.5 | Q83: 12.352941 | V83: 2714.655 | W83: 15.692125
C84: 機械等の共同利用 | D84: 5.3877551 | E84: 0.21757547 | H84: 40.42 | I84: 1.1123329 | J84: 72.896555 | K84: 1.2466694 | L84: 11.867991 | M84: 2.3581826 | N84: 5.1311728 | O84: 2.1621526 | V84: 135.70347 | W84: 0.78443699
C85: 金融（斡旋・転貸） | D85: 62.419355 | E85: 2.5207012 | F85: 151.4492 | G85: 3.3201431 | J85: 94.360584 | K85: 1.613745 | L85: 14.4375 | M85: 2.8687469 | N85: 8.5940171 | O85: 3.6213118 | V85: 331.26065 | W85: 1.9148597
C86: 教育訓練 | D86: 1025.6916 | E86: 41.420841 | F86: 2414.3898 | G86: 52.929429 | H86: 1778.5664 | I86: 48.945027 | J86: 3617.3832 | K86: 61.864115 | L86: 340.48849 | M86: 67.655432 | N86: 150.27821 | O86: 63.323619 | P86: 21.388889 | Q86: 75.490196 | R86: 2.0666667 | S86: 47.876448 | T86: 0.66666667 | U86: 9.0909091 | V86: 9350.92 | W86: 54.053204
C87: 情報交換 | D87: 1848.1635 | E87: 74.634991 | F87: 3069.5796 | G87: 67.292819 | H87: 2171.3858 | I87: 59.755168 | J87: 4724.4032 | K87: 80.796256 | L87: 426.29072 | M87: 84.704428 | N87: 185.68808 | O87: 78.244485 | P87: 23.555556 | Q87: 83.137255 | R87: 3.5833333 | S87: 83.011583 | T87: 7.3333333 | U87: 100 | V87: 12459.983 | W87: 72.025213
C88: 福利厚生 | D88: 867.47705 | E88: 35.031609 | F88: 1161.0055 | G88: 25.452128 | H88: 937.17699 | I88: 25.79052 | J88: 1190.2706 | K88: 20.355885 | L88: 96.591255 | M88: 19.192787 | N88: 50.544059 | O88: 21.298049 | P88: 4.0555556 | Q88: 14.313725 | T88: 3.6666667 | U88: 50 | V88: 4310.7877 | W88: 24.918605
C89: 経営・施工管理の指導 | D89: 273.26753 | E89: 11.035452 | F89: 294.38383 | G89: 6.4536257 | H89: 537.9675 | I89: 14.804527 | J89: 1159.3219 | K89: 19.826604 | L89: 101.84794 | M89: 20.237297 | N89: 35.312619 | O89: 14.879887 | P89: 6.7777778 | Q89: 23.921569 | R89: 0.4 | S89: 9.2664093 | V89: 2409.2791 | W89: 13.926892
C90: 共同受注 | D90: 190.44218 | E90: 7.6906887 | F90: 249.49176 | G90: 5.4694798 | H90: 224.67515 | I90: 6.1829186 | J90: 336.73279 | K90: 5.7587694 | L90: 30.621889 | M90: 6.0846026 | N90: 13.01659 | O90: 5.4848773 | V90: 1044.9804 | W90: 6.0405325
C91: 新事業分野への進出支援 | D91: 5.3877551 | E91: 0.21757547 | F91: 41.698246 | G91: 0.91412925 | H91: 15.846154 | I91: 0.43607617 | J91: 133.20151 | K91: 2.2779985 | L91: 7.9425 | M91: 1.5781834 | N91: 2.3333333 | O91: 0.98321047 | V91: 206.4095 | W91: 1.1931548
C92: その他 | D92: 210.26561 | E92: 8.491225 | F92: 644.8158 | G92: 14.135966 | H92: 586.6323 | I92: 16.143751 | J92: 678.98237 | K92: 11.611886 | L92: 34.075614 | M92: 6.7708615 | N92: 23.68661 | O92: 9.9809668 | P92: 1.5 | Q92: 5.2941176 | V92: 2179.9583 | W92: 12.601298
A93: 小 計 | D93: 2476.2695 | E93: 100 | F93: 4561.5262 | G93: 100 | H93: 3633.8041 | I93: 100 | J93: 5847.3046 | K93: 100 | L93: 503.26852 | M93: 100 | N93: 237.31779 | O93: 100 | P93: 28.333333 | Q93: 100 | R93: 4.3166667 | S93: 100 | T93: 7.3333333 | U93: 100 | V93: 17299.474 | W93: 100
A94: 設 備 | C94: 共同購入 | D94: 364.5 | E94: 23.241056 | F94: 610.28531 | G94: 15.88911 | H94: 501.07786 | I94: 20.010086 | J94: 2145.5975 | K94: 30.323867 | L94: 280.91621 | M94: 26.327815 | N94: 79.517699 | O94: 23.062552 | P94: 6.9166667 | Q94: 12.610149 | R94: 1 | S94: 24 | V94: 3989.8113 | W94: 24.198224
C95: 機械等の共同利用 | D95: 109.3 | E95: 6.9691288 | F95: 306.23871 | G95: 7.9730911 | H95: 350.36757 | I95: 13.991609 | J95: 723.75038 | K95: 10.22881 | L95: 68.22903 | M95: 6.3945091 | N95: 8.2317006 | O95: 2.3874436 | V95: 1566.1174 | W95: 9.4985092
C96: 金融（斡旋・転貸） | D96: 109.3 | E96: 6.9691288 | F96: 20.359788 | G96: 0.53007815 | H96: 132.51712 | I96: 5.2919499 | J96: 129.029 | K96: 1.8235751 | L96: 25.589815 | M96: 2.3983091 | N96: 2.5853659 | O96: 0.74983476 | V96: 419.38108 | W96: 2.5435482
C97: 教育訓練 | D97: 1080.85 | E97: 68.916586 | F97: 2207.3696 | G97: 57.470066 | H97: 1712.2038 | I97: 68.375293 | J97: 5300.6743 | K97: 74.91477 | L97: 822.73657 | M97: 77.107888 | N97: 232.22944 | O97: 67.353604 | P97: 37.8 | Q97: 68.915223 | R97: 3.1666667 | S97: 76 | T97: 11.708333 | U97: 41.445428 | V97: 11408.739 | W97: 69.194054
C98: 情報交換 | D98: 993.83095 | E98: 63.368124 | F98: 2134.4864 | G98: 55.572512 | H98: 1883.5244 | I98: 75.216827 | J98: 5551.4432 | K98: 78.458903 | L98: 832.23919 | M98: 77.998486 | N98: 289.02755 | O98: 83.826783 | P98: 50.133333 | Q98: 91.40079 | R98: 4.1666667 | S98: 100 | T98: 28.25 | U98: 100 | V98: 11767.102 | W98: 71.367527
C99: 福利厚生 | D99: 561.86429 | E99: 35.825294 | F99: 938.18295 | G99: 24.426103 | H99: 837.04497 | I99: 33.426626 | J99: 2142.3835 | K99: 30.278443 | L99: 398.10104 | M99: 37.310521 | N99: 98.089339 | O99: 28.448893 | P99: 14.4 | Q99: 26.253418 | V99: 4990.0661 | W99: 30.264774
C100: 経営・施工管理の指導 | D100: 1.2222222 | E100: 0.077930687 | F100: 174.41168 | G100: 4.5409029 | H100: 349.62568 | I100: 13.961982 | J100: 1431.5404 | K100: 20.232052 | L100: 212.99858 | M100: 19.96249 | N100: 43.838745 | O100: 12.71457 | P100: 4.8 | Q100: 8.7511395 | T100: 4.6666667 | U100: 16.519174 | V100: 2223.1039 | W100: 13.483136
C101: 共同受注 | D101: 218.6 | E101: 13.938258 | F101: 399.73077 | G101: 10.407208 | H101: 307.7009 | I101: 12.287754 | J101: 614.32278 | K101: 8.6822632 | L101: 114.26682 | M101: 10.709227 | N101: 29.440468 | O101: 8.5386313 | R101: 2.1666667 | S101: 52 | V101: 1686.2284 | W101: 10.226983
...

Sheet 7-3-2
A1: 表7－3－2 利用している共同事業の種類（３０業種別集計）（事業協同組合の組合員になっている企業のみ対象）
X3: （単位：社、％）
B4: 利用事業種類 | C4: 共同購入 | E4: 機械等の 共同利用 | G4: 金融 （斡旋・転貸） | I4: 教育訓練 | K4: 情報交換 | M4: 福利厚生 | O4: 経営・施工 管理の指導 | Q4: 共同受注 | S4: 新事業分野 への進出支援 | U4: その他 | W4: 合 計
A5: 業種
A6: 一般土木建築 | B6: 一般土木建築工事業 | C6: 288.55283 | D6: 16.293159 | E6: 22.430932 | F6: 1.2665644 | G6: 56.180136 | H6: 3.1722159 | I6: 1206.7151 | J6: 68.137267 | K6: 1429.3639 | L6: 80.70915 | M6: 302.43329 | N6: 17.07692 | O6: 263.454 | P6: 14.875951 | Q6: 162.91661 | R6: 9.1990997 | U6: 247.47734 | V6: 13.973828 | W6: 1771.0061 | X6: 100
A7: 土木 | B7: 土木工事業 | C7: 1865.1427 | D7: 18.652389 | E7: 109.14244 | F7: 1.0914807 | G7: 268.74484 | H7: 2.6875871 | I7: 5296.995 | J7: 52.972684 | K7: 7572.7403 | L7: 75.731311 | M7: 1812.1121 | N7: 18.122056 | O7: 1780.7216 | P7: 17.808135 | Q7: 1199.37 | R7: 11.994319 | S7: 49.537602 | T7: 0.49540158 | U7: 835.67138 | V7: 8.357145 | W7: 9999.484 | X7: 100
B8: ほ装工事業 | C8: 101.63618 | D8: 11.3649 | I8: 375.19846 | J8: 41.95448 | K8: 670.65522 | L8: 74.992288 | M8: 147.75384 | N8: 16.521751 | O8: 121.24458 | P8: 13.557501 | Q8: 78.526031 | R8: 8.7807364 | S8: 9.1388889 | T8: 1.0219054 | U8: 63.820405 | V8: 7.1363617 | W8: 894.29892 | X8: 100
B9: しゅんせつ工事業 | K9: 4.5 | L9: 36.986301 | U9: 7.6666667 | V9: 63.013699 | W9: 12.166667 | X9: 100
B10: 造園工事業 | C10: 248.19556 | D10: 25.495548 | E10: 70.169355 | F10: 7.2080505 | I10: 667.75605 | J10: 68.594322 | K10: 786.51411 | L10: 80.793581 | M10: 109.86492 | N10: 11.285723 | O10: 140.98185 | P10: 14.482167 | Q10: 99.981855 | R10: 10.270499 | U10: 142.17742 | V10: 14.60498 | W10: 973.48589 | X10: 100
B11: 水道施設工事業 | C11: 342.5897 | D11: 36.382083 | E11: 64.511712 | F11: 6.850966 | I11: 654.32227 | J11: 69.487222 | K11: 683.74569 | L11: 72.611908 | M11: 277.22085 | N11: 29.44009 | O11: 199.74723 | P11: 21.212606 | Q11: 291.11609 | R11: 30.915726 | S11: 4.1333333 | T11: 0.43894861 | U11: 65.073616 | V11: 6.9106388 | W11: 941.64402 | X11: 100
A12: 小 計 | C12: 2557.5641 | D12: 19.948119 | E12: 243.82351 | F12: 1.9017393 | G12: 268.74484 | H12: 2.0961171 | I12: 6994.2718 | J12: 54.552909 | K12: 9718.1553 | L12: 75.798262 | M12: 2346.9517 | N12: 18.305414 | O12: 2242.6952 | P12: 17.49225 | Q12: 1668.994 | R12: 13.017578 | S12: 62.809824 | T12: 0.48989497 | U12: 1114.4095 | V12: 8.6920098 | W12: 12821.079 | X12: 100
A13: 建築 | B13: 建築工事業 | C13: 731.6943 | D13: 7.1763165 | E13: 95 | F13: 0.93174167 | G13: 390.0126 | H13: 3.8251683 | I13: 4299.3286 | J13: 42.166986 | K13: 6807.1344 | L13: 66.763061 | M13: 2577.8429 | N13: 25.282986 | O13: 1742.4946 | P13: 17.090051 | Q13: 677.00458 | R13: 6.6399303 | S13: 33.069444 | T13: 0.32433873 | U13: 1883.6096 | V13: 18.47408 | W13: 10195.959 | X13: 100
B14: 木造建築工事業 | C14: 177.82353 | D14: 4.7273549 | I14: 1535.5841 | J14: 40.822781 | K14: 2227.4518 | L14: 59.215759 | M14: 1698.0855 | N14: 45.142803 | O14: 690.56752 | P14: 18.358413 | Q14: 239.28877 | R14: 6.3613794 | S14: 215.65043 | T14: 5.7329652 | U14: 1025.8476 | V14: 27.271675 | W14: 3761.5862 | X14: 100
A15: 小 計 | C15: 909.51783 | D15: 6.5163165 | E15: 95 | F15: 0.68063544 | G15: 390.0126 | H15: 2.7942779 | I15: 5834.9127 | J15: 41.80472 | K15: 9034.5862 | L15: 64.729048 | M15: 4275.9284 | N15: 30.635246 | O15: 2433.0621 | P15: 17.431877 | Q15: 916.29335 | R15: 6.5648603 | S15: 248.71987 | T15: 1.7819743 | U15: 2909.4572 | V15: 20.845049 | W15: 13957.545 | X15: 100
A16: 職別 | B16: 大工工事業 | C16: 64.858447 | D16: 4.4823966 | G16: 62.419355 | H16: 4.3138298 | I16: 515.80342 | J16: 35.647408 | K16: 1011.293 | L16: 69.890914 | M16: 421.20962 | N16: 29.109987 | O16: 375.79609 | P16: 25.971437 | Q16: 19.39726 | R16: 1.3405534 | U16: 123.03905 | V16: 8.5032847 | W16: 1446.9591 | X16: 100
B17: とび・土工・コンクリート工事業 | C17: 264.30474 | D17: 11.802929 | E17: 17.496222 | F17: 0.78132035 | G17: 71.433512 | H17: 3.1899718 | I17: 1273.7764 | J17: 56.882417 | K17: 1505.9145 | L17: 67.248898 | M17: 466.14701 | N17: 20.816502 | O17: 170.33968 | P17: 7.6067766 | Q17: 116.63761 | R17: 5.2086295 | U17: 353.9235 | V17: 15.804991 | W17: 2239.3148 | X17: 100
B18: 鋼構造物工事業 | C18: 258.01593 | D18: 19.126174 | E18: 16.333333 | F18: 1.2107554 | G18: 31.979167 | H18: 2.3705478 | I18: 935.06035 | J18: 69.314042 | K18: 1120.3978 | L18: 83.052716 | M18: 243.59653 | N18: 18.057294 | O18: 486.99527 | P18: 36.099927 | Q18: 113.93167 | R18: 8.445513 | S18: 31.979167 | T18: 2.3705478 | U18: 121.32155 | V18: 8.9933092 | W18: 1349.0201 | X18: 100
B19: 鉄筋工事業 | C19: 151.66667 | D19: 20.121614 | E19: 6.45 | F19: 0.85572139 | I19: 521.45 | J19: 69.180763 | K19: 642.2 | L19: 85.200663 | M19: 110.36667 | N19: 14.642344 | O19: 109.5 | P19: 14.527363 | Q19: 51.05 | R19: 6.7728027 | S19: 34.066667 | T19: 4.5196241 | U19: 96.183333 | V19: 12.760641 | W19: 753.75 | X19: 100
B20: 解体工事業 | C20: 5.6 | D20: 1.3204876 | G20: 17.961538 | H20: 4.2353551 | I20: 164.63412 | J20: 38.82095 | K20: 121.74691 | L20: 28.708085 | M20: 275.18097 | N20: 64.888046 | U20: 27.157895 | V20: 6.4038684 | W20: 424.08577 | X20: 100
B21: 躯体関係計 | C21: 744.44579 | D21: 11.981816 | E21: 40.279556 | F21: 0.64829735 | G21: 183.79357 | H21: 2.9581479 | I21: 3410.7243 | J21: 54.895429 | K21: 4401.5522 | L21: 70.842754 | M21: 1516.5008 | N21: 24.408001 | O21: 1142.631 | P21: 18.390587 | Q21: 301.01654 | R21: 4.8448455 | S21: 66.045833 | T21: 1.0630042 | U21: 721.62533 | V21: 11.614522 | W21: 6213.1298 | X21: 100
B22: 左官工事業 | C22: 341.99711 | D22: 30.520987 | E22: 2 | F22: 0.17848682 | G22: 55.333333 | H22: 4.9381352 | I22: 784.99807 | J22: 70.055903 | K22: 897.66474 | L22: 80.11066 | M22: 327.42607 | N22: 29.220618 | O22: 187.92982 | P22: 16.771498 | S22: 45.951417 | T22: 4.1008611 | U22: 67.041643 | V22: 5.9830247 | W22: 1120.5309 | X22: 100
B23: 石工事業 | C23: 12.5 | D23: 9.8314607 | I23: 35.5 | J23: 27.921348 | K23: 87 | L23: 68.426966 | M23: 23 | N23: 18.089888 | Q23: 62.142857 | R23: 48.876404 | U23: 32.5 | V23: 25.561798 | W23: 127.14286 | X23: 100
B24: 屋根工事業 | C24: 190.72637 | D24: 15.286332 | E24: 15.92 | F24: 1.2759557 | G24: 17.574468 | H24: 1.408558 | I24: 754.22717 | J24: 60.449779 | K24: 851.27009 | L24: 68.227573 | M24: 456.66435 | N24: 36.600723 | O24: 40.753955 | P24: 3.2663469 | Q24: 64.248423 | R24: 5.149381 | U24: 159.96351 | V24: 12.820751 | W24: 1247.6922 | X24: 100
B25: タイル・れんが・ブロック工事業 | C25: 13.333333 | D25: 6.2992126 | G25: 2.3333333 | H25: 1.1023622 | I25: 111.1 | J25: 52.488189 | K25: 176.6 | L25: 83.433071 | M25: 91.933333 | N25: 43.433071 | O25: 47.7 | P25: 22.535433 | Q25: 13.1 | R25: 6.1889764 | S25: 2.1 | T25: 0.99212598 | U25: 21.733333 | V25: 10.267717 | W25: 211.66667 | X25: 100
B26: 板金工事業 | C26: 71.206193 | D26: 11.558601 | E26: 5.3877551 | F26: 0.87457153 | G26: 5.9137931 | H26: 0.95996105 | I26: 312.84662 | J26: 50.783071 | K26: 361.05708 | L26: 58.60887 | M26: 248.31466 | N26: 40.30787 | O26: 94.420954 | P26: 15.326955 | Q26: 26.272637 | R26: 4.2647261 | S26: 13.019334 | T26: 2.1133735 | U26: 74.125582 | V26: 12.032493 | W26: 616.04511 | X26: 100
B27: ガラス工事業 | E27: 7 | F27: 4.0395713 | I27: 38.571429 | J27: 22.258862 | K27: 173.28571 | L27: 100 | M27: 27.571429 | N27: 15.910965 | O27: 27.571429 | P27: 15.910965 | W27: 173.28571 | X27: 100
B28: 塗装工事業 | C28: 495.14072 | D28: 19.57147 | E28: 27.568627 | F28: 1.0897075 | G28: 2.3333333 | H28: 0.092229867 | I28: 1295.0554 | J28: 51.189768 | K28: 1658.9839 | L28: 65.574801 | M28: 514.49831 | N28: 20.336619 | O28: 457.61713 | P28: 18.088272 | Q28: 299.01445 | R28: 11.81917 | S28: 16.117647 | T28: 0.63708362 | U28: 357.59517 | V28: 14.134695 | W28: 2529.9108 | X28: 100
B29: 防水工事業 | C29: 205.39501 | D29: 27.946407 | E29: 13.047535 | F29: 1.7752707 | G29: 9.2638889 | H29: 1.2604611 | I29: 537.1753 | J29: 73.089019 | K29: 646.48884 | L29: 87.962412 | M29: 112.49052 | N29: 15.305659 | O29: 210.75612 | P29: 28.675849 | Q29: 20.84507 | R29: 2.8362171 | S29: 31.267606 | T29: 4.2543256 | U29: 95.437989 | V29: 12.985461 | W29: 734.96034 | X29: 100
B30: 内装仕上工事業 | C30: 458.09696 | D30: 16.270107 | G30: 52.176471 | H30: 1.8531377 | I30: 1345.9669 | J30: 47.804345 | K30: 1982.3988 | L30: 70.408323 | M30: 789.70964 | N30: 28.047905 | O30: 103.44048 | P30: 3.6738677 | Q30: 190.65582 | R30: 6.7714715 | S30: 31.90766 | T30: 1.1332558 | U30: 579.46987 | V30: 20.580875 | W30: 2815.5744 | X30: 100
B31: 建具工事業 | C31: 181.81356 | D31: 12.04434 | E31: 24.5 | F31: 1.6230161 | G31: 2.5384615 | H31: 0.1681618 | I31: 724.75476 | J31: 48.011782 | K31: 1223.6817 | L31: 81.063471 | M31: 202.67854 | N31: 13.426552 | O31: 96.458201 | P31: 6.3899272 | Q31: 67.684556 | R31: 4.483801 | U31: 70.465875 | V31: 4.6680511 | W31: 1509.5352 | X31: 100
B32: 仕上関係計 | C32: 1970.2093 | D32: 17.771496 | E32: 95.423918 | F32: 0.86073385 | G32: 147.46708 | H32: 1.3301687 | I32: 5940.1957 | J32: 53.581195 | K32: 8058.4308 | L32: 72.6879 | M32: 2794.2868 | N32: 25.204764 | O32: 1266.6481 | P32: 11.4253 | Q32: 743.96381 | R32: 6.7106325 | S32: 140.36366 | T32: 1.2660951 | U32: 1458.333 | V32: 13.154318 | W32: 11086.344 | X32: 100
A33: 小 計 | C33: 2714.655 | D33: 15.692125 | E33: 135.70347 | F33: 0.78443699 | G33: 331.26065 | H33: 1.9148597 | I33: 9350.92 | J33: 54.053204 | K33: 12459.983 | L33: 72.025213 | M33: 4310.7877 | N33: 24.918605 | O33: 2409.2791 | P33: 13.926892 | Q33: 1044.9804 | R33: 6.0405325 | S33: 206.4095 | T33: 1.1931548 | U33: 2179.9583 | V33: 12.601298 | W33: 17299.474 | X33: 100
A34: 設備 | B34: 電気工事業 | C34: 2354.5028 | D34: 25.599075 | E34: 919.85199 | F34: 10.00099 | G34: 175.19101 | H34: 1.9047452 | I34: 7437.072 | J34: 80.858754 | K34: 6478.2554 | L34: 70.434125 | M34: 3027.0086 | N34: 32.91082 | O34: 1183.1871 | P34: 12.864073 | Q34: 750.02666 | R34: 8.1545831 | S34: 39.520218 | T34: 0.42967926 | U34: 1401.3896 | V34: 15.236456 | W34: 9197.6089 | X34: 100
B35: 管工事業 | C35: 1373.9162 | D35: 25.881981 | E35: 609.93222 | F35: 11.489968 | G35: 160.07277 | H35: 3.015468 | I35: 2979.7798 | J35: 56.133411 | K35: 3968.2558 | L35: 74.754426 | M35: 1315.8455 | N35: 24.788038 | O35: 850.6019 | P35: 16.023729 | Q35: 836.79244 | R35: 15.763585 | S35: 65.680602 | T35: 1.2372982 | U35: 599.31451 | V35: 11.289951 | W35: 5308.389 | X35: 100
B36: 機械器具設置工事業 | C36: 99.166545 | D36: 13.313378 | E36: 15.988636 | F36: 2.1465178 | G36: 34.562639 | H36: 4.640128 | I36: 433.52551 | J36: 58.201976 | K36: 457.54824 | L36: 61.427092 | M36: 234.50921 | N36: 31.483497 | O36: 41.345694 | P36: 5.5507715 | Q36: 23.258213 | R36: 3.1224781 | U36: 141.99067 | V36: 19.062632 | W36: 744.86391 | X36: 100
B37: 熱絶縁工事業 | E37: 17.952381 | F37: 4.3029354 | G37: 20.413919 | H37: 4.8929318 | I37: 178.51192 | J37: 42.786817 | K37: 258.15277 | L37: 61.875618 | M37: 135.95953 | N37: 32.587604 | O37: 46.947745 | P37: 11.25272 | U37: 28.509284 | V37: 6.8332778 | W37: 417.21242 | X37: 100
B38: 電気通信工事業 | C38: 72.697273 | D38: 12.592836 | G38: 26.733333 | H38: 4.630827 | I38: 285.20242 | J38: 49.403607 | K38: 457.88156 | L38: 79.315597 | M38: 199.9858 | N38: 34.642131 | O38: 61.357576 | P38: 10.628541 | Q38: 50.85697 | R38: 8.8095946 | S38: 24.123636 | T38: 4.1787676 | U38: 102.23186 | V38: 17.708905 | W38: 577.29069 | X38: 100
B39: さく井工事業業 | C39: 12.244353 | D39: 14.140073 | E39: 2.3921569 | F39: 2.7625202 | G39: 2.4074074 | H39: 2.7801319 | I39: 47.105836 | J39: 54.398951 | K39: 65.016856 | L39: 75.083027 | M39: 17.013416 | N39: 19.647501 | O39: 8.4139434 | P39: 9.7166239 | U39: 15.472767 | V39: 17.868323 | W39: 86.593281 | X39: 100
B40: 消防施設工事業 | C40: 77.284034 | D40: 49.517174 | I40: 47.541176 | J40: 30.460428 | K40: 81.991176 | L40: 52.533119 | M40: 59.744118 | N40: 38.279056 | O40: 31.25 | P40: 20.022398 | Q40: 25.294118 | R40: 16.206365 | U40: 12.647059 | V40: 8.1031823 | W40: 156.07521 | X40: 100
A41: 小 計 | C41: 3989.8113 | D41: 24.198224 | E41: 1566.1174 | F41: 9.4985092 | G41: 419.38108 | H41: 2.5435482 | I41: 11408.739 | J41: 69.194054 | K41: 11767.102 | L41: 71.367527 | M41: 4990.0661 | N41: 30.264774 | O41: 2223.1039 | P41: 13.483136 | Q41: 1686.2284 | R41: 10.226983 | S41: 129.32446 | T41: 0.78435343 | U41: 2301.5558 | V41: 13.958947 | W41: 16488.033 | X41: 100
A42: 合 計 | C42: 10460.101 | D42: 16.779887 | E42: 2063.0753 | F42: 3.3095444 | G42: 1465.5793 | H42: 2.3510532 | I42: 34795.558 | J42: 55.818344 | K42: 44409.19 | L42: 71.240342 | M42: 16226.167 | N42: 26.029695 | O42: 9571.5944 | P42: 15.354562 | Q42: 5479.4127 | R42: 8.7899651 | S42: 647.26365 | T42: 1.0383275 | U42: 8752.8581 | V42: 14.041161 | W42: 62337.138 | X42: 100
K43: （注） | L43: 1．( )の数値は、事業共同組合に加入している企業数を100とした場合の構成比（複数回答）
L44: 2．無効回答企業 0社を除く

Sheet 7-3-3
A1: 表7－3－3 利用している共同事業の種類（経年変化①：6業種別）（事業協同組合の組合員になっている企業のみ対象）
S3: （単位：社、％）
B4: 年度 | C4: R01年度 | F4: H26年度 | I4: H23年度 | L4: H20年度 | O4: H17年度 | R4: H14年度
A6: 業種 | B6: 利用事業種類 | E6: 増減 | H6: 増減 | K6: 増減 | N6: 増減 | Q6: 増減
A7: 一般土木建築 | B7: 共同購入 | C7: =IF('7-3-1'!V6<>"",'7-3-1'!V6,"") -> 288.55283 | D7: =IF('7-3-1'!W6<>"",'7-3-1'!W6,"") -> 16.293159 | E7: =IF(AND(ISNUMBER(D7),ISNUMBER(G7)),D7-G7,"") -> -6.6964003 | F7: 455.29011 | G7: 22.989559 | H7: =IF(AND(ISNUMBER(G7),ISNUMBER(J7)),G7-J7,"") -> 3.489559 | I7: 389.59 | J7: 19.5 | K7: =J7-M7 -> -5.9 | L7: 621 | M7: 25.4 | N7: =M7-P7 -> -2.8 | O7: 800 | P7: 28.2 | Q7: =P7-S7 -> 13.592217 | R7: 472.94415 | S7: =IF(ROUND(R17,0)=0,"",ROUND(R7,0)/ROUND(R17,0)*100) -> 14.607783
B8: 機械等の共同利用 | C8: =IF('7-3-1'!V7<>"",'7-3-1'!V7,"") -> 22.430932 | D8: =IF('7-3-1'!W7<>"",'7-3-1'!W7,"") -> 1.2665644 | E8: =IF(AND(ISNUMBER(D8),ISNUMBER(G8)),D8-G8,"") -> -0.45559773 | F8: 34.106064 | G8: 1.7221621 | H8: =IF(AND(ISNUMBER(G8),ISNUMBER(J8)),G8-J8,"") -> 1.4221621 | I8: 6.92 | J8: 0.3 | K8: =J8-M8 -> -4.7 | L8: 121 | M8: 5 | N8: =M8-P8 -> 2.5 | O8: 70 | P8: 2.5 | Q8: =P8-S8 -> 0.95583694 | R8: 49.994049 | S8: =IF(ROUND(R17,0)=0,"",ROUND(R8,0)/ROUND(R17,0)*100) -> 1.5441631
B9: 金融（斡旋・転貸） | C9: =IF('7-3-1'!V8<>"",'7-3-1'!V8,"") -> 56.180136 | D9: =IF('7-3-1'!W8<>"",'7-3-1'!W8,"") -> 3.1722159 | E9: =IF(AND(ISNUMBER(D9),ISNUMBER(G9)),D9-G9,"") -> -3.0243753 | F9: 122.71861 | G9: 6.1965913 | H9: =IF(AND(ISNUMBER(G9),ISNUMBER(J9)),G9-J9,"") -> 2.2965913 | I9: 77.5 | J9: 3.9 | K9: =J9-M9 -> -1 | L9: 120 | M9: 4.9 | N9: =M9-P9 -> -0.3 | O9: 147 | P9: 5.2 | Q9: =P9-S9 -> 2.5440395 | R9: 86.236938 | S9: =IF(ROUND(R17,0)=0,"",ROUND(R9,0)/ROUND(R17,0)*100) -> 2.6559605
B10: 教育訓練 | C10: =IF('7-3-1'!V9<>"",'7-3-1'!V9,"") -> 1206.7151 | D10: =IF('7-3-1'!W9<>"",'7-3-1'!W9,"") -> 68.137267 | E10: =IF(AND(ISNUMBER(D10),ISNUMBER(G10)),D10-G10,"") -> 6.062409 | F10: 1229.3437 | G10: 62.074858 | H10: =IF(AND(ISNUMBER(G10),ISNUMBER(J10)),G10-J10,"") -> 1.2748584 | I10: 1213 | J10: 60.8 | K10: =J10-M10 -> -4.3 | L10: 1591 | M10: 65.1 | N10: =M10-P10 -> -1 | O10: 1874 | P10: 66.1 | Q10: =P10-S10 -> 17.088264 | R10: 1587.4337 | S10: =IF(ROUND(R17,0)=0,"",ROUND(R10,0)/ROUND(R17,0)*100) -> 49.011736
B11: 情報交換 | C11: =IF('7-3-1'!V10<>"",'7-3-1'!V10,"") -> 1429.3639 | D11: =IF('7-3-1'!W10<>"",'7-3-1'!W10,"") -> 80.70915 | E11: =IF(AND(ISNUMBER(D11),ISNUMBER(G11)),D11-G11,"") -> 8.8803902 | F11: 1422.512 | G11: 71.828759 | H11: =IF(AND(ISNUMBER(G11),ISNUMBER(J11)),G11-J11,"") -> -3.5712406 | I11: 1504.06 | J11: 75.4 | K11: =J11-M11 -> 1.1 | L11: 1815 | M11: 74.3 | N11: =M11-P11 -> -4.7 | O11: 2240 | P11: 79 | Q11: =P11-S11 -> 1.7918468 | R11: 2499.7346 | S11: =IF(ROUND(R17,0)=0,"",ROUND(R11,0)/ROUND(R17,0)*100) -> 77.208153
B12: 福利厚生 | C12: =IF('7-3-1'!V11<>"",'7-3-1'!V11,"") -> 302.43329 | D12: =IF('7-3-1'!W11<>"",'7-3-1'!W11,"") -> 17.07692 | E12: =IF(AND(ISNUMBER(D12),ISNUMBER(G12)),D12-G12,"") -> -4.7645492 | F12: 432.55311 | G12: 21.84147 | H12: =IF(AND(ISNUMBER(G12),ISNUMBER(J12)),G12-J12,"") -> 2.9414697 | I12: 377.03 | J12: 18.9 | K12: =J12-M12 -> 0.1 | L12: 459 | M12: 18.8 | N12: =M12-P12 -> -4.9 | O12: 673 | P12: 23.7 | Q12: =P12-S12 -> -6.0714639 | R12: 964.45294 | S12: =IF(ROUND(R17,0)=0,"",ROUND(R12,0)/ROUND(R17,0)*100) -> 29.771464
B13: 経営・施工管理の指導 | C13: =IF('7-3-1'!V12<>"",'7-3-1'!V12,"") -> 263.454 | D13: =IF('7-3-1'!W12<>"",'7-3-1'!W12,"") -> 14.875951 | E13: =IF(AND(ISNUMBER(D13),ISNUMBER(G13)),D13-G13,"") -> -11.411191 | F13: 520.59616 | G13: 26.287143 | H13: =IF(AND(ISNUMBER(G13),ISNUMBER(J13)),G13-J13,"") -> 3.4871426 | I13: 455.4 | J13: 22.8 | K13: =J13-M13 -> -1.4 | L13: 591 | M13: 24.2 | N13: =M13-P13 -> -4.3 | O13: 808 | P13: 28.5 | Q13: =P13-S13 -> -0.99351452 | R13: 954.95062 | S13: =IF(ROUND(R17,0)=0,"",ROUND(R13,0)/ROUND(R17,0)*100) -> 29.493515
B14: 共同受注 | C14: =IF('7-3-1'!V13<>"",'7-3-1'!V13,"") -> 162.91661 | D14: =IF('7-3-1'!W13<>"",'7-3-1'!W13,"") -> 9.1990997 | E14: =IF(AND(ISNUMBER(D14),ISNUMBER(G14)),D14-G14,"") -> 1.825101 | F14: 146.03624 | G14: 7.3739986 | H14: =IF(AND(ISNUMBER(G14),ISNUMBER(J14)),G14-J14,"") -> 4.2739986 | I14: 61.05 | J14: 3.1 | K14: =J14-M14 -> -10.5 | L14: 333 | M14: 13.6 | N14: =M14-P14 -> 5.1 | O14: 240 | P14: 8.5 | Q14: =P14-S14 -> -5.8298332 | R14: 463.73242 | S14: =IF(ROUND(R17,0)=0,"",ROUND(R14,0)/ROUND(R17,0)*100) -> 14.329833
B15: 新事業分野への進出支援 | C15: =IF('7-3-1'!V14<>"",'7-3-1'!V14,"") | D15: =IF('7-3-1'!W14<>"",'7-3-1'!W14,"") | E15: =IF(AND(ISNUMBER(D15),ISNUMBER(G15)),D15-G15,"") | F15: 118.88528 | G15: 6.0030297 | H15: =IF(AND(ISNUMBER(G15),ISNUMBER(J15)),G15-J15,"") -> 4.9030297 | I15: 21.03 | J15: 1.1 | K15: =J15-M15 -> -2.2 | L15: 81 | M15: 3.3 | N15: =M15-P15 -> -1.2 | O15: 128 | P15: 4.5 | Q15: =P15-S15 -> 3.3882026 | R15: 36.340374 | S15: =IF(ROUND(R17,0)=0,"",ROUND(R15,0)/ROUND(R17,0)*100) -> 1.1117974
B16: その他 | C16: =IF('7-3-1'!V15<>"",'7-3-1'!V15,"") -> 247.47734 | D16: =IF('7-3-1'!W15<>"",'7-3-1'!W15,"") -> 13.973828 | E16: =IF(AND(ISNUMBER(D16),ISNUMBER(G16)),D16-G16,"") -> 3.8771673 | F16: 199.95641 | G16: 10.096661 | H16: =IF(AND(ISNUMBER(G16),ISNUMBER(J16)),G16-J16,"") -> -1.0033394 | I16: 222.28 | J16: 11.1 | K16: =J16-M16 -> -2.3 | L16: 328 | M16: 13.4 | N16: =M16-P16 -> 1.3 | O16: 342 | P16: 12.1 | Q16: =P16-S16 -> 1.5379246 | R16: 341.78168 | S16: =IF(ROUND(R17,0)=0,"",ROUND(R16,0)/ROUND(R17,0)*100) -> 10.562075
B17: 小 計 | C17: =IF('7-3-1'!V16<>"",'7-3-1'!V16,"") -> 1771.0061 | D17: =IF('7-3-1'!W16<>"",'7-3-1'!W16,"") -> 100 | E17: - | F17: 1980.4213 | G17: 100 | H17: - | I17: 1994.03 | J17: 100 | K17: - | L17: 2443 | M17: 100 | N17: - | O17: 2834 | P17: 100 | Q17: - | R17: 3238.4751 | S17: =IF(ROUND(R17,0)=0,"",ROUND(R17,0)/ROUND(R17,0)*100) -> 100
A18: 土 木 | B18: 共同購入 | C18: =IF('7-3-1'!V17<>"",'7-3-1'!V17,"") -> 2557.5641 | D18: =IF('7-3-1'!W17<>"",'7-3-1'!W17,"") -> 19.948119 | E18: =IF(AND(ISNUMBER(D18),ISNUMBER(G18)),D18-G18,"") -> -4.9723391 | F18: 3732.6953 | G18: 24.920458 | H18: =IF(AND(ISNUMBER(G18),ISNUMBER(J18)),G18-J18,"") -> 1.5204578 | I18: 3669.06 | J18: 23.4 | K18: =J18-M18 -> 3.1 | L18: 3964 | M18: 20.3 | N18: =M18-P18 -> -7.8 | O18: 6286 | P18: 28.1 | Q18: =P18-S18 -> 6.0282901 | R18: 5490.8491 | S18: =IF(ROUND(R28,0)=0,"",ROUND(R18,0)/ROUND(R28,0)*100) -> 22.07171
B19: 機械等の共同利用 | C19: =IF('7-3-1'!V18<>"",'7-3-1'!V18,"") -> 243.82351 | D19: =IF('7-3-1'!W18<>"",'7-3-1'!W18,"") -> 1.9017393 | E19: =IF(AND(ISNUMBER(D19),ISNUMBER(G19)),D19-G19,"") -> -1.2283072 | F19: 468.83207 | G19: 3.1300465 | H19: =IF(AND(ISNUMBER(G19),ISNUMBER(J19)),G19-J19,"") -> -0.66995353 | I19: 600.27 | J19: 3.8 | K19: =J19-M19 -> 0.9 | L19: 574 | M19: 2.9 | N19: =M19-P19 -> -0.2 | O19: 704 | P19: 3.1 | Q19: =P19-S19 -> -0.42520299 | R19: 877.42761 | S19: =IF(ROUND(R28,0)=0,"",ROUND(R19,0)/ROUND(R28,0)*100) -> 3.525203
B20: 金融（斡旋・転貸） | C20: =IF('7-3-1'!V19<>"",'7-3-1'!V19,"") -> 268.74484 | D20: =IF('7-3-1'!W19<>"",'7-3-1'!W19,"") -> 2.0961171 | E20: =IF(AND(ISNUMBER(D20),ISNUMBER(G20)),D20-G20,"") -> -1.1178614 | F20: 481.40377 | G20: 3.2139785 | H20: =IF(AND(ISNUMBER(G20),ISNUMBER(J20)),G20-J20,"") -> 1.3139785 | I20: 297.73 | J20: 1.9 | K20: =J20-M20 -> -1.1 | L20: 597 | M20: 3 | N20: =M20-P20 -> -0.9 | O20: 873 | P20: 3.9 | Q20: =P20-S20 -> -0.2402042 | R20: 1030.2697 | S20: =IF(ROUND(R28,0)=0,"",ROUND(R20,0)/ROUND(R28,0)*100) -> 4.1402042
B21: 教育訓練 | C21: =IF('7-3-1'!V20<>"",'7-3-1'!V20,"") -> 6994.2718 | D21: =IF('7-3-1'!W20<>"",'7-3-1'!W20,"") -> 54.552909 | E21: =IF(AND(ISNUMBER(D21),ISNUMBER(G21)),D21-G21,"") -> 1.4350003 | F21: 7956.233 | G21: 53.117909 | H21: =IF(AND(ISNUMBER(G21),ISNUMBER(J21)),G21-J21,"") -> -6.7820913 | I21: 9388.67 | J21: 59.9 | K21: =J21-M21 -> 1.2 | L21: 11491 | M21: 58.7 | N21: =M21-P21 -> -2.6 | O21: 13691 | P21: 61.3 | Q21: =P21-S21 -> 11.135196 | R21: 12479.753 | S21: =IF(ROUND(R28,0)=0,"",ROUND(R21,0)/ROUND(R28,0)*100) -> 50.164804
B22: 情報交換 | C22: =IF('7-3-1'!V21<>"",'7-3-1'!V21,"") -> 9718.1553 | D22: =IF('7-3-1'!W21<>"",'7-3-1'!W21,"") -> 75.798262 | E22: =IF(AND(ISNUMBER(D22),ISNUMBER(G22)),D22-G22,"") -> 8.9592296 | F22: 10011.443 | G22: 66.839032 | H22: =IF(AND(ISNUMBER(G22),ISNUMBER(J22)),G22-J22,"") -> -6.160968 | I22: 11448.38 | J22: 73 | K22: =J22-M22 -> -3.6 | L22: 15000 | M22: 76.6 | N22: =M22-P22 -> 3.7 | O22: 16288 | P22: 72.9 | Q22: =P22-S22 -> 7.774186 | R22: 16201.662 | S22: =IF(ROUND(R28,0)=0,"",ROUND(R22,0)/ROUND(R28,0)*100) -> 65.125814
B23: 福利厚生 | C23: =IF('7-3-1'!V22<>"",'7-3-1'!V22,"") -> 2346.9517 | D23: =IF('7-3-1'!W22<>"",'7-3-1'!W22,"") -> 18.305414 | E23: =IF(AND(ISNUMBER(D23),ISNUMBER(G23)),D23-G23,"") -> -7.0664725 | F23: 3800.3123 | G23: 25.371886 | H23: =IF(AND(ISNUMBER(G23),ISNUMBER(J23)),G23-J23,"") -> 6.6718864 | I23: 2930.86 | J23: 18.7 | K23: =J23-M23 -> -2.4 | L23: 4135 | M23: 21.1 | N23: =M23-P23 -> -1.8 | O23: 5128 | P23: 22.9 | Q23: =P23-S23 -> -0.20073157 | R23: 5747.0806 | S23: =IF(ROUND(R28,0)=0,"",ROUND(R23,0)/ROUND(R28,0)*100) -> 23.100732
B24: 経営・施工管理の指導 | C24: =IF('7-3-1'!V23<>"",'7-3-1'!V23,"") -> 2242.6952 | D24: =IF('7-3-1'!W23<>"",'7-3-1'!W23,"") -> 17.49225 | E24: =IF(AND(ISNUMBER(D24),ISNUMBER(G24)),D24-G24,"") -> -0.83315257 | F24: 2744.859 | G24: 18.325402 | H24: =IF(AND(ISNUMBER(G24),ISNUMBER(J24)),G24-J24,"") -> 2.8254023 | I24: 2428.36 | J24: 15.5 | K24: =J24-M24 -> -9.7 | L24: 4936 | M24: 25.2 | N24: =M24-P24 -> -0.4 | O24: 5719 | P24: 25.6 | Q24: =P24-S24 -> 1.7476003 | R24: 5933.645 | S24: =IF(ROUND(R28,0)=0,"",ROUND(R24,0)/ROUND(R28,0)*100) -> 23.8524
B25: 共同受注 | C25: =IF('7-3-1'!V24<>"",'7-3-1'!V24,"") -> 1668.994 | D25: =IF('7-3-1'!W24<>"",'7-3-1'!W24,"") -> 13.017578 | E25: =IF(AND(ISNUMBER(D25),ISNUMBER(G25)),D25-G25,"") -> 0.59327584 | F25: 1860.9664 | G25: 12.424302 | H25: =IF(AND(ISNUMBER(G25),ISNUMBER(J25)),G25-J25,"") -> 2.6243021 | I25: 1542.1 | J25: 9.8 | K25: =J25-M25 -> 0.5 | L25: 1830 | M25: 9.3 | N25: =M25-P25 -> 0 | O25: 2071 | P25: 9.3 | Q25: =P25-S25 -> -3.9164965 | R25: 3288.4004 | S25: =IF(ROUND(R28,0)=0,"",ROUND(R25,0)/ROUND(R28,0)*100) -> 13.216497
B26: 新事業分野への進出支援 | C26: =IF('7-3-1'!V25<>"",'7-3-1'!V25,"") -> 62.809824 | D26: =IF('7-3-1'!W25<>"",'7-3-1'!W25,"") -> 0.48989497 | E26: =IF(AND(ISNUMBER(D26),ISNUMBER(G26)),D26-G26,"") -> -2.6461698 | F26: 469.73352 | G26: 3.1360648 | H26: =IF(AND(ISNUMBER(G26),ISNUMBER(J26)),G26-J26,"") -> -0.36393522 | I26: 546.71 | J26: 3.5 | K26: =J26-M26 -> -0.6 | L26: 796 | M26: 4.1 | N26: =M26-P26 -> -0.2 | O26: 963 | P26: 4.3 | Q26: =P26-S26 -> 1.7314656 | R26: 638.91357 | S26: =IF(ROUND(R28,0)=0,"",ROUND(R26,0)/ROUND(R28,0)*100) -> 2.5685344
B27: その他 | C27: =IF('7-3-1'!V26<>"",'7-3-1'!V26,"") -> 1114.4095 | D27: =IF('7-3-1'!W26<>"",'7-3-1'!W26,"") -> 8.6920098 | E27: =IF(AND(ISNUMBER(D27),ISNUMBER(G27)),D27-G27,"") -> -7.232533 | F27: 2385.2478 | G27: 15.924543 | H27: =IF(AND(ISNUMBER(G27),ISNUMBER(J27)),G27-J27,"") -> 2.7245428 | I27: 2061.94 | J27: 13.2 | K27: =J27-M27 -> -0.8 | L27: 2732 | M27: 14 | N27: =M27-P27 -> 0.3 | O27: 3066 | P27: 13.7 | Q27: =P27-S27 -> -0.16365463 | R27: 3449.1746 | S27: =IF(ROUND(R28,0)=0,"",ROUND(R27,0)/ROUND(R28,0)*100) -> 13.863655
B28: 小 計 | C28: =IF('7-3-1'!V27<>"",'7-3-1'!V27,"") -> 12821.079 | D28: =IF('7-3-1'!W27<>"",'7-3-1'!W27,"") -> 100 | E28: - | F28: 14978.438 | G28: 100 | H28: - | I28: 15676.84 | J28: 100 | K28: - | L28: 19575 | M28: 100 | N28: - | O28: 22349 | P28: 100 | Q28: - | R28: 24878.002 | S28: =IF(ROUND(R28,0)=0,"",ROUND(R28,0)/ROUND(R28,0)*100) -> 100
A29: 建 築 | B29: 共同購入 | C29: =IF('7-3-1'!V28<>"",'7-3-1'!V28,"") -> 731.6943 | D29: =IF('7-3-1'!W28<>"",'7-3-1'!W28,"") -> 7.1763165 | E29: =IF(AND(ISNUMBER(D29),ISNUMBER(G29)),D29-G29,"") -> -2.3953184 | F29: 795.08727 | G29: 9.571635 | H29: =IF(AND(ISNUMBER(G29),ISNUMBER(J29)),G29-J29,"") -> -3.528365 | I29: 1532.84 | J29: 13.1 | K29: =J29-M29 -> -2.4 | L29: 1658 | M29: 15.5 | N29: =M29-P29 -> 4.3 | O29: 1802 | P29: 11.2 | Q29: =P29-S29 -> -2.7692378 | R29: 2434.4126 | S29: =IF(ROUND(R39,0)=0,"",ROUND(R29,0)/ROUND(R39,0)*100) -> 13.969238
B30: 機械等の共同利用 | C30: =IF('7-3-1'!V29<>"",'7-3-1'!V29,"") -> 95 | D30: =IF('7-3-1'!W29<>"",'7-3-1'!W29,"") -> 0.93174167 | E30: =IF(AND(ISNUMBER(D30),ISNUMBER(G30)),D30-G30,"") -> -1.7303221 | F30: 221.12972 | G30: 2.6620637 | H30: =IF(AND(ISNUMBER(G30),ISNUMBER(J30)),G30-J30,"") -> 2.5620637 | I30: 12.57 | J30: 0.1 | K30: =J30-M30 -> -1.9 | L30: 212 | M30: 2 | N30: =M30-P30 -> 0.7 | O30: 213 | P30: 1.3 | Q30: =P30-S30 -> -0.40454545 | R30: 296.83395 | S30: =IF(ROUND(R39,0)=0,"",ROUND(R30,0)/ROUND(R39,0)*100) -> 1.7045455
B31: 金融（斡旋・転貸） | C31: =IF('7-3-1'!V30<>"",'7-3-1'!V30,"") -> 390.0126 | D31: =IF('7-3-1'!W30<>"",'7-3-1'!W30,"") -> 3.8251683 | E31: =IF(AND(ISNUMBER(D31),ISNUMBER(G31)),D31-G31,"") -> 0.1768389 | F31: 303.05588 | G31: 3.6483294 | H31: =IF(AND(ISNUMBER(G31),ISNUMBER(J31)),G31-J31,"") -> 2.3483294 | I31: 156.27 | J31: 1.3 | K31: =J31-M31 -> -1.8 | L31: 332 | M31: 3.1 | N31: =M31-P31 -> 1 | O31: 333 | P31: 2.1 | Q31: =P31-S31 -> 0.34954086 | R31: 304.79614 | S31: =IF(ROUND(R39,0)=0,"",ROUND(R31,0)/ROUND(R39,0)*100) -> 1.7504591
B32: 教育訓練 | C32: =IF('7-3-1'!V31<>"",'7-3-1'!V31,"") -> 4299.3286 | D32: =IF('7-3-1'!W31<>"",'7-3-1'!W31,"") -> 42.166986 | E32: =IF(AND(ISNUMBER(D32),ISNUMBER(G32)),D32-G32,"") -> -6.2958122 | F32: 4025.6606 | G32: 48.462798 | H32: =IF(AND(ISNUMBER(G32),ISNUMBER(J32)),G32-J32,"") -> -0.23720214 | I32: 5701.1 | J32: 48.7 | K32: =J32-M32 -> -10 | L32: 6276 | M32: 58.7 | N32: =M32-P32 -> 7.8 | O32: 8156 | P32: 50.9 | Q32: =P32-S32 -> 14.536364 | R32: 6336.0747 | S32: =IF(ROUND(R39,0)=0,"",ROUND(R32,0)/ROUND(R39,0)*100) -> 36.363636
B33: 情報交換 | C33: =IF('7-3-1'!V32<>"",'7-3-1'!V32,"") -> 6807.1344 | D33: =IF('7-3-1'!W32<>"",'7-3-1'!W32,"") -> 66.763061 | E33: =IF(AND(ISNUMBER(D33),ISNUMBER(G33)),D33-G33,"") -> -9.9858785 | F33: 6375.3062 | G33: 76.748939 | H33: =IF(AND(ISNUMBER(G33),ISNUMBER(J33)),G33-J33,"") -> -0.65106081 | I33: 9066.98 | J33: 77.4 | K33: =J33-M33 -> 5.7 | L33: 7666 | M33: 71.7 | N33: =M33-P33 -> -0.9 | O33: 11634 | P33: 72.6 | Q33: =P33-S33 -> 21.142241 | R33: 8965.6094 | S33: =IF(ROUND(R39,0)=0,"",ROUND(R33,0)/ROUND(R39,0)*100) -> 51.457759
B34: 福利厚生 | C34: =IF('7-3-1'!V33<>"",'7-3-1'!V33,"") -> 2577.8429 | D34: =IF('7-3-1'!W33<>"",'7-3-1'!W33,"") -> 25.282986 | E34: =IF(AND(ISNUMBER(D34),ISNUMBER(G34)),D34-G34,"") -> -4.341229 | F34: 2460.7955 | G34: 29.624215 | H34: =IF(AND(ISNUMBER(G34),ISNUMBER(J34)),G34-J34,"") -> 3.4242152 | I34: 3068.6 | J34: 26.2 | K34: =J34-M34 -> 1.6 | L34: 2633 | M34: 24.6 | N34: =M34-P34 -> -2.7 | O34: 4372 | P34: 27.3 | Q34: =P34-S34 -> -4.5870523 | R34: 5556.1182 | S34: =IF(ROUND(R39,0)=0,"",ROUND(R34,0)/ROUND(R39,0)*100) -> 31.887052
B35: 経営・施工管理の指導 | C35: =IF('7-3-1'!V34<>"",'7-3-1'!V34,"") -> 1742.4946 | D35: =IF('7-3-1'!W34<>"",'7-3-1'!W34,"") -> 17.090051 | E35: =IF(AND(ISNUMBER(D35),ISNUMBER(G35)),D35-G35,"") -> -7.3407812 | F35: 2029.3966 | G35: 24.430832 | H35: =IF(AND(ISNUMBER(G35),ISNUMBER(J35)),G35-J35,"") -> 3.130832 | I35: 2497.9 | J35: 21.3 | K35: =J35-M35 -> -1 | L35: 2383 | M35: 22.3 | N35: =M35-P35 -> 0.7 | O35: 3462 | P35: 21.6 | Q35: =P35-S35 -> 3.4927916 | R35: 3154.6021 | S35: =IF(ROUND(R39,0)=0,"",ROUND(R35,0)/ROUND(R39,0)*100) -> 18.107208
B36: 共同受注 | C36: =IF('7-3-1'!V35<>"",'7-3-1'!V35,"") -> 677.00458 | D36: =IF('7-3-1'!W35<>"",'7-3-1'!W35,"") -> 6.6399303 | E36: =IF(AND(ISNUMBER(D36),ISNUMBER(G36)),D36-G36,"") -> 0.24811876 | F36: 530.94878 | G36: 6.3918115 | H36: =IF(AND(ISNUMBER(G36),ISNUMBER(J36)),G36-J36,"") -> -4.8081885 | I36: 1315.5 | J36: 11.2 | K36: =J36-M36 -> 5.9 | L36: 566 | M36: 5.3 | N36: =M36-P36 -> -3.2 | O36: 1365 | P36: 8.5 | Q36: =P36-S36 -> 2.7206152 | R36: 1006.5302 | S36: =IF(ROUND(R39,0)=0,"",ROUND(R36,0)/ROUND(R39,0)*100) -> 5.7793848
B37: 新事業分野への進出支援 | C37: =IF('7-3-1'!V36<>"",'7-3-1'!V36,"") -> 33.069444 | D37: =IF('7-3-1'!W36<>"",'7-3-1'!W36,"") -> 0.32433873 | E37: =IF(AND(ISNUMBER(D37),ISNUMBER(G37)),D37-G37,"") -> -2.7870679 | F37: 258.4553 | G37: 3.1114066 | H37: =IF(AND(ISNUMBER(G37),ISNUMBER(J37)),G37-J37,"") -> 1.4114066 | I37: 204.24 | J37: 1.7 | K37: =J37-M37 -> -2.3 | L37: 426 | M37: 4 | N37: =M37-P37 -> 1.7 | O37: 363 | P37: 2.3 | Q37: =P37-S37 -> -0.69012856 | R37: 521.27185 | S37: =IF(ROUND(R39,0)=0,"",ROUND(R37,0)/ROUND(R39,0)*100) -> 2.9901286
B38: その他 | C38: =IF('7-3-1'!V37<>"",'7-3-1'!V37,"") -> 1883.6096 | D38: =IF('7-3-1'!W37<>"",'7-3-1'!W37,"") -> 18.47408 | E38: =IF(AND(ISNUMBER(D38),ISNUMBER(G38)),D38-G38,"") -> -0.26308297 | F38: 1556.4404 | G38: 18.737163 | H38: =IF(AND(ISNUMBER(G38),ISNUMBER(J38)),G38-J38,"") -> 5.8371625 | I38: 1506.12 | J38: 12.9 | K38: =J38-M38 -> -2.8 | L38: 1680 | M38: 15.7 | N38: =M38-P38 -> 0.8 | O38: 2394 | P38: 14.9 | Q38: =P38-S38 -> -6.9663912 | R38: 3809.6389 | S38: =IF(ROUND(R39,0)=0,"",ROUND(R38,0)/ROUND(R39,0)*100) -> 21.866391
B39: 小 計 | C39: =IF('7-3-1'!V38<>"",'7-3-1'!V38,"") -> 10195.959 | D39: =IF('7-3-1'!W38<>"",'7-3-1'!W38,"") -> 100 | E39: - | F39: 8306.7028 | G39: 100 | H39: - | I39: 11710.87 | J39: 100 | K39: - | L39: 10689 | M39: 100 | N39: - | O39: 16035 | P39: 100 | Q39: - | R39: 17424.08 | S39: =IF(ROUND(R39,0)=0,"",ROUND(R39,0)/ROUND(R39,0)*100) -> 100
A40: 木 造 建 築 | B40: 共同購入 | C40: =IF('7-3-1'!V39<>"",'7-3-1'!V39,"") -> 177.82353 | D40: =IF('7-3-1'!W39<>"",'7-3-1'!W39,"") -> 4.7273549 | E40: =IF(AND(ISNUMBER(D40),ISNUMBER(G40)),D40-G40,"") -> 3.4117576 | F40: 62.285103 | G40: 1.3155974 | H40: =IF(AND(ISNUMBER(G40),ISNUMBER(J40)),G40-J40,"") -> -0.48440265 | I40: 75.25 | J40: 1.8 | K40: =J40-M40 -> -4.3 | L40: 251 | M40: 6.1 | N40: =M40-P40 -> -6.7 | O40: 736 | P40: 12.8 | Q40: =P40-S40 -> 8.5261575 | R40: 323.93173 | S40: =IF(ROUND(R50,0)=0,"",ROUND(R40,0)/ROUND(R50,0)*100) -> 4.2738425
B41: 機械等の共同利用 | C41: =IF('7-3-1'!V40<>"",'7-3-1'!V40,"") | D41: =IF('7-3-1'!W40<>"",'7-3-1'!W40,"") | E41: =IF(AND(ISNUMBER(D41),ISNUMBER(G41)),D41-G41,"") | H41: =IF(AND(ISNUMBER(G41),ISNUMBER(J41)),G41-J41,"") | L41: 115 | M41: 2.8 | N41: =M41-P41 -> -2.7 | O41: 317 | P41: 5.5 | Q41: =P41-S41 -> 5.5
B42: 金融（斡旋・転貸） | C42: =IF('7-3-1'!V41<>"",'7-3-1'!V41,"") | D42: =IF('7-3-1'!W41<>"",'7-3-1'!W41,"") | E42: =IF(AND(ISNUMBER(D42),ISNUMBER(G42)),D42-G42,"") | H42: =IF(AND(ISNUMBER(G42),ISNUMBER(J42)),G42-J42,"") | I42: 126.65 | J42: 3 | K42: =J42-M42 -> -2.6 | L42: 230 | M42: 5.6 | N42: =M42-P42 -> 5.1 | O42: 27 | P42: 0.5 | Q42: =P42-S42 -> 0.44723651 | R42: 3.5925925 | S42: =IF(ROUND(R50,0)=0,"",ROUND(R42,0)/ROUND(R50,0)*100) -> 0.052763488
B43: 教育訓練 | C43: =IF('7-3-1'!V42<>"",'7-3-1'!V42,"") -> 1535.5841 | D43: =IF('7-3-1'!W42<>"",'7-3-1'!W42,"") -> 40.822781 | E43: =IF(AND(ISNUMBER(D43),ISNUMBER(G43)),D43-G43,"") -> 1.3847567 | F43: 1867.1377 | G43: 39.438024 | H43: =IF(AND(ISNUMBER(G43),ISNUMBER(J43)),G43-J43,"") -> 9.1380239 | I43: 1268.27 | J43: 30.3 | K43: =J43-M43 -> -7.8 | L43: 1580 | M43: 38.1 | N43: =M43-P43 -> 1.5 | O43: 2098 | P43: 36.6 | Q43: =P43-S43 -> 1.8420525 | R43: 2635.3816 | S43: =IF(ROUND(R50,0)=0,"",ROUND(R43,0)/ROUND(R50,0)*100) -> 34.757948
B44: 情報交換 | C44: =IF('7-3-1'!V43<>"",'7-3-1'!V43,"") -> 2227.4518 | D44: =IF('7-3-1'!W43<>"",'7-3-1'!W43,"") -> 59.215759 | E44: =IF(AND(ISNUMBER(D44),ISNUMBER(G44)),D44-G44,"") -> -7.5536224 | F44: 3161.1023 | G44: 66.769382 | H44: =IF(AND(ISNUMBER(G44),ISNUMBER(J44)),G44-J44,"") -> 2.3693817 | I44: 2697.97 | J44: 64.4 | K44: =J44-M44 -> 3 | L44: 2545 | M44: 61.4 | N44: =M44-P44 -> -1.7 | O44: 3613 | P44: 63.1 | Q44: =P44-S44 -> 15.612861 | R44: 3599.6624 | S44: =IF(ROUND(R50,0)=0,"",ROUND(R44,0)/ROUND(R50,0)*100) -> 47.487139
B45: 福利厚生 | C45: =IF('7-3-1'!V44<>"",'7-3-1'!V44,"") -> 1698.0855 | D45: =IF('7-3-1'!W44<>"",'7-3-1'!W44,"") -> 45.142803 | E45: =IF(AND(ISNUMBER(D45),ISNUMBER(G45)),D45-G45,"") -> 9.5184856 | F45: 1686.5831 | G45: 35.624318 | H45: =IF(AND(ISNUMBER(G45),ISNUMBER(J45)),G45-J45,"") -> -7.3756823 | I45: 1801.42 | J45: 43 | K45: =J45-M45 -> 10.6 | L45: 1342 | M45: 32.4 | N45: =M45-P45 -> -1.3 | O45: 1929 | P45: 33.7 | Q45: =P45-S45 -> -13.80033 | R45: 3601.0964 | S45: =IF(ROUND(R50,0)=0,"",ROUND(R45,0)/ROUND(R50,0)*100) -> 47.50033
B46: 経営・施工管理の指導 | C46: =IF('7-3-1'!V45<>"",'7-3-1'!V45,"") -> 690.56752 | D46: =IF('7-3-1'!W45<>"",'7-3-1'!W45,"") -> 18.358413 | E46: =IF(AND(ISNUMBER(D46),ISNUMBER(G46)),D46-G46,"") -> -7.7202595 | F46: 1234.658 | G46: 26.078672 | H46: =IF(AND(ISNUMBER(G46),ISNUMBER(J46)),G46-J46,"") -> 17.778672 | I46: 346.84 | J46: 8.3 | K46: =J46-M46 -> -22.8 | L46: 1290 | M46: 31.1 | N46: =M46-P46 -> 10.6 | O46: 1175 | P46: 20.5 | Q46: =P46-S46 -> 6.3330036 | R46: 1074.3091 | S46: =IF(ROUND(R50,0)=0,"",ROUND(R46,0)/ROUND(R50,0)*100) -> 14.166996
B47: 共同受注 | C47: =IF('7-3-1'!V46<>"",'7-3-1'!V46,"") -> 239.28877 | D47: =IF('7-3-1'!W46<>"",'7-3-1'!W46,"") -> 6.3613794 | E47: =IF(AND(ISNUMBER(D47),ISNUMBER(G47)),D47-G47,"") -> 3.9749248 | F47: 112.98333 | G47: 2.3864547 | H47: =IF(AND(ISNUMBER(G47),ISNUMBER(J47)),G47-J47,"") -> 0.78645466 | I47: 69.05 | J47: 1.6 | K47: =J47-M47 -> -7.7 | L47: 385 | M47: 9.3 | N47: =M47-P47 -> 8.4 | O47: 53 | P47: 0.9 | Q47: =P47-S47 -> -3.1495977 | R47: 306.76724 | S47: =IF(ROUND(R50,0)=0,"",ROUND(R47,0)/ROUND(R50,0)*100) -> 4.0495977
B48: 新事業分野への進出支援 | C48: =IF('7-3-1'!V47<>"",'7-3-1'!V47,"") -> 215.65043 | D48: =IF('7-3-1'!W47<>"",'7-3-1'!W47,"") -> 5.7329652 | E48: =IF(AND(ISNUMBER(D48),ISNUMBER(G48)),D48-G48,"") -> 4.6520339 | F48: 51.175166 | G48: 1.0809312 | H48: =IF(AND(ISNUMBER(G48),ISNUMBER(J48)),G48-J48,"") -> -5.7190688 | I48: 285.88 | J48: 6.8 | K48: =J48-M48 -> 4 | L48: 117 | M48: 2.8 | N48: =M48-P48 -> 2.2 | O48: 35 | P48: 0.6 | Q48: =P48-S48 -> 0.53404564 | R48: 5.3846154 | S48: =IF(ROUND(R50,0)=0,"",ROUND(R48,0)/ROUND(R50,0)*100) -> 0.06595436
B49: その他 | C49: =IF('7-3-1'!V48<>"",'7-3-1'!V48,"") -> 1025.8476 | D49: =IF('7-3-1'!W48<>"",'7-3-1'!W48,"") -> 27.271675 | E49: =IF(AND(ISNUMBER(D49),ISNUMBER(G49)),D49-G49,"") -> 4.9234168 | F49: 1058.0468 | G49: 22.348259 | H49: =IF(AND(ISNUMBER(G49),ISNUMBER(J49)),G49-J49,"") -> 9.3482585 | I49: 544.59 | J49: 13 | K49: =J49-M49 -> -4.9 | L49: 743 | M49: 17.9 | N49: =M49-P49 -> -2.4 | O49: 1165 | P49: 20.3 | Q49: =P49-S49 -> -2.5861628 | R49: 1734.7343 | S49: =IF(ROUND(R50,0)=0,"",ROUND(R49,0)/ROUND(R50,0)*100) -> 22.886163
B50: 小 計 | C50: =IF('7-3-1'!V49<>"",'7-3-1'!V49,"") -> 3761.5862 | D50: =IF('7-3-1'!W49<>"",'7-3-1'!W49,"") -> 100 | E50: - | F50: 4734.3591 | G50: 100 | H50: - | I50: 4192.05 | J50: 100 | K50: - | L50: 4143 | M50: 100 | N50: - | O50: 5726 | P50: 100 | Q50: - | R50: 7581.1396 | S50: =IF(ROUND(R50,0)=0,"",ROUND(R50,0)/ROUND(R50,0)*100) -> 100
A51: 職 別 | B51: 共同購入 | C51: =IF('7-3-1'!V83<>"",'7-3-1'!V83,"") -> 2714.655 | D51: =IF('7-3-1'!W83<>"",'7-3-1'!W83,"") -> 15.692125 | E51: =IF(AND(ISNUMBER(D51),ISNUMBER(G51)),D51-G51,"") -> -0.85344963 | F51: 2397.874 | G51: 16.545574 | H51: =IF(AND(ISNUMBER(G51),ISNUMBER(J51)),G51-J51,"") -> 0.84557438 | I51: 2535.86 | J51: 15.7 | K51: =J51-M51 -> -1.3 | L51: 2582 | M51: 17 | N51: =M51-P51 -> -3.1 | O51: 3429 | P51: 20.1 | Q51: =P51-S51 -> 1.7330895 | R51: 4294.3413 | S51: =IF(ROUND(R61,0)=0,"",ROUND(R51,0)/ROUND(R61,0)*100) -> 18.36691
B52: 機械等の共同利用 | C52: =IF('7-3-1'!V84<>"",'7-3-1'!V84,"") -> 135.70347 | D52: =IF('7-3-1'!W84<>"",'7-3-1'!W84,"") -> 0.78443699 | E52: =IF(AND(ISNUMBER(D52),ISNUMBER(G52)),D52-G52,"") -> -0.60626657 | F52: 201.54827 | G52: 1.3907036 | H52: =IF(AND(ISNUMBER(G52),ISNUMBER(J52)),G52-J52,"") -> 0.29070356 | I52: 173.88 | J52: 1.1 | K52: =J52-M52 -> -3 | L52: 620 | M52: 4.1 | N52: =M52-P52 -> 1 | O52: 521 | P52: 3.1 | Q52: =P52-S52 -> 0.51648488 | R52: 604.14606 | S52: =IF(ROUND(R61,0)=0,"",ROUND(R52,0)/ROUND(R61,0)*100) -> 2.5835151
B53: 金融（斡旋・転貸） | C53: =IF('7-3-1'!V85<>"",'7-3-1'!V85,"") -> 331.26065 | D53: =IF('7-3-1'!W85<>"",'7-3-1'!W85,"") -> 1.9148597 | E53: =IF(AND(ISNUMBER(D53),ISNUMBER(G53)),D53-G53,"") -> 0.26993101 | F53: 238.39195 | G53: 1.6449287 | H53: =IF(AND(ISNUMBER(G53),ISNUMBER(J53)),G53-J53,"") -> 0.44492867 | I53: 193.98 | J53: 1.2 | K53: =J53-M53 -> -1.7 | L53: 448 | M53: 2.9 | N53: =M53-P53 -> 0.5 | O53: 402 | P53: 2.4 | Q53: =P53-S53 -> -2.6344326 | R53: 1177.2911 | S53: =IF(ROUND(R61,0)=0,"",ROUND(R53,0)/ROUND(R61,0)*100) -> 5.0344326
B54: 教育訓練 | C54: =IF('7-3-1'!V86<>"",'7-3-1'!V86,"") -> 9350.92 | D54: =IF('7-3-1'!W86<>"",'7-3-1'!W86,"") -> 54.053204 | E54: =IF(AND(ISNUMBER(D54),ISNUMBER(G54)),D54-G54,"") -> -0.3527035 | F54: 7884.7981 | G54: 54.405908 | H54: =IF(AND(ISNUMBER(G54),ISNUMBER(J54)),G54-J54,"") -> -0.89409244 | I54: 8931.93 | J54: 55.3 | K54: =J54-M54 -> -4.4 | L54: 9077 | M54: 59.7 | N54: =M54-P54 -> 2.1 | O54: 9818 | P54: 57.6 | Q54: =P54-S54 -> 12.867548 | R54: 10458.288 | S54: =IF(ROUND(R61,0)=0,"",ROUND(R54,0)/ROUND(R61,0)*100) -> 44.732452
B55: 情報交換 | C55: =IF('7-3-1'!V87<>"",'7-3-1'!V87,"") -> 12459.983 | D55: =IF('7-3-1'!W87<>"",'7-3-1'!W87,"") -> 72.025213 | E55: =IF(AND(ISNUMBER(D55),ISNUMBER(G55)),D55-G55,"") -> -0.28715126 | F55: 10479.899 | G55: 72.312365 | H55: =IF(AND(ISNUMBER(G55),ISNUMBER(J55)),G55-J55,"") -> -0.18763549 | I55: 11718.32 | J55: 72.5 | K55: =J55-M55 -> -0.6 | L55: 11123 | M55: 73.1 | N55: =M55-P55 -> 4.5 | O55: 11703 | P55: 68.6 | Q55: =P55-S55 -> 5.1926686 | R55: 14823.746 | S55: =IF(ROUND(R61,0)=0,"",ROUND(R55,0)/ROUND(R61,0)*100) -> 63.407331
B56: 福利厚生 | C56: =IF('7-3-1'!V88<>"",'7-3-1'!V88,"") -> 4310.7877 | D56: =IF('7-3-1'!W88<>"",'7-3-1'!W88,"") -> 24.918605 | E56: =IF(AND(ISNUMBER(D56),ISNUMBER(G56)),D56-G56,"") -> -5.6683971 | F56: 4432.8336 | G56: 30.587002 | H56: =IF(AND(ISNUMBER(G56),ISNUMBER(J56)),G56-J56,"") -> 5.9870024 | I56: 3983.45 | J56: 24.6 | K56: =J56-M56 -> -2.7 | L56: 4157 | M56: 27.3 | N56: =M56-P56 -> -2.8 | O56: 5131 | P56: 30.1 | Q56: =P56-S56 -> 2.9902006 | R56: 6338.3823 | S56: =IF(ROUND(R61,0)=0,"",ROUND(R56,0)/ROUND(R61,0)*100) -> 27.109799
B57: 経営・施工管理の指導 | C57: =IF('7-3-1'!V89<>"",'7-3-1'!V89,"") -> 2409.2791 | D57: =IF('7-3-1'!W89<>"",'7-3-1'!W89,"") -> 13.926892 | E57: =IF(AND(ISNUMBER(D57),ISNUMBER(G57)),D57-G57,"") -> -4.231811 | F57: 2631.6574 | G57: 18.158703 | H57: =IF(AND(ISNUMBER(G57),ISNUMBER(J57)),G57-J57,"") -> -1.2412966 | I57: 3133.98 | J57: 19.4 | K57: =J57-M57 -> -3.5 | L57: 3483 | M57: 22.9 | N57: =M57-P57 -> -3.2 | O57: 4448 | P57: 26.1 | Q57: =P57-S57 -> 6.6765858 | R57: 4541.2822 | S57: =IF(ROUND(R61,0)=0,"",ROUND(R57,0)/ROUND(R61,0)*100) -> 19.423414
B58: 共同受注 | C58: =IF('7-3-1'!V90<>"",'7-3-1'!V90,"") -> 1044.9804 | D58: =IF('7-3-1'!W90<>"",'7-3-1'!W90,"") -> 6.0405325 | E58: =IF(AND(ISNUMBER(D58),ISNUMBER(G58)),D58-G58,"") -> -1.3273036 | F58: 1067.7866 | G58: 7.3678361 | H58: =IF(AND(ISNUMBER(G58),ISNUMBER(J58)),G58-J58,"") -> 1.5678361 | I58: 940.91 | J58: 5.8 | K58: =J58-M58 -> -2.2 | L58: 1218 | M58: 8 | N58: =M58-P58 -> -2.4 | O58: 1779 | P58: 10.4 | Q58: =P58-S58 -> -0.40884555 | R58: 2527.283 | S58: =IF(ROUND(R61,0)=0,"",ROUND(R58,0)/ROUND(R61,0)*100) -> 10.808846
B59: 新事業分野への進出支援 | C59: =IF('7-3-1'!V91<>"",'7-3-1'!V91,"") -> 206.4095 | D59: =IF('7-3-1'!W91<>"",'7-3-1'!W91,"") -> 1.1931548 | E59: =IF(AND(ISNUMBER(D59),ISNUMBER(G59)),D59-G59,"") -> -1.2279449 | F59: 350.87884 | G59: 2.4210996 | H59: =IF(AND(ISNUMBER(G59),ISNUMBER(J59)),G59-J59,"") -> -0.67890037 | I59: 500.34 | J59: 3.1 | K59: =J59-M59 -> 1 | L59: 323 | M59: 2.1 | N59: =M59-P59 -> -2.4 | O59: 775 | P59: 4.5 | Q59: =P59-S59 -> 2.1517387 | R59: 548.74609 | S59: =IF(ROUND(R61,0)=0,"",ROUND(R59,0)/ROUND(R61,0)*100) -> 2.3482613
B60: その他 | C60: =IF('7-3-1'!V92<>"",'7-3-1'!V92,"") -> 2179.9583 | D60: =IF('7-3-1'!W92<>"",'7-3-1'!W92,"") -> 12.601298 | E60: =IF(AND(ISNUMBER(D60),ISNUMBER(G60)),D60-G60,"") -> 0.13221583 | F60: 1807.0868 | G60: 12.469082 | H60: =IF(AND(ISNUMBER(G60),ISNUMBER(J60)),G60-J60,"") -> -1.8309177 | I60: 2307.52 | J60: 14.3 | K60: =J60-M60 -> 0.3 | L60: 2129 | M60: 14 | N60: =M60-P60 -> 2.3 | O60: 1995 | P60: 11.7 | Q60: =P60-S60 -> -3.8096454 | R60: 3626.2351 | S60: =IF(ROUND(R61,0)=0,"",ROUND(R60,0)/ROUND(R61,0)*100) -> 15.509645
B61: 小 計 | C61: =IF('7-3-1'!V93<>"",'7-3-1'!V93,"") -> 17299.474 | D61: =IF('7-3-1'!W93<>"",'7-3-1'!W93,"") -> 100 | E61: - | F61: 14492.54 | G61: 100 | H61: - | I61: 16163.35 | J61: 100 | K61: - | L61: 15207 | M61: 100 | N61: - | O61: 17061 | P61: 100 | Q61: - | R61: 23378.773 | S61: =IF(ROUND(R61,0)=0,"",ROUND(R61,0)/ROUND(R61,0)*100) -> 100
A62: 設 備 | B62: 共同購入 | C62: =IF('7-3-1'!V94<>"",'7-3-1'!V94,"") -> 3989.8113 | D62: =IF('7-3-1'!W94<>"",'7-3-1'!W94,"") -> 24.198224 | E62: =IF(AND(ISNUMBER(D62),ISNUMBER(G62)),D62-G62,"") -> 0.20239313 | F62: 4243.4299 | G62: 23.995831 | H62: =IF(AND(ISNUMBER(G62),ISNUMBER(J62)),G62-J62,"") -> -2.9041691 | I62: 5139.1 | J62: 26.9 | K62: =J62-M62 -> -1.9 | L62: 5756 | M62: 28.8 | N62: =M62-P62 -> 2.2 | O62: 5919 | P62: 26.6 | Q62: =P62-S62 -> 0.34815301 | R62: 6396.4873 | S62: =IF(ROUND(R72,0)=0,"",ROUND(R62,0)/ROUND(R72,0)*100) -> 26.251847
B63: 機械等の共同利用 | C63: =IF('7-3-1'!V95<>"",'7-3-1'!V95,"") -> 1566.1174 | D63: =IF('7-3-1'!W95<>"",'7-3-1'!W95,"") -> 9.4985092 | E63: =IF(AND(ISNUMBER(D63),ISNUMBER(G63)),D63-G63,"") -> 1.2711727 | F63: 1454.9246 | G63: 8.2273366 | H63: =IF(AND(ISNUMBER(G63),ISNUMBER(J63)),G63-J63,"") -> -0.17266341 | I63: 1608.83 | J63: 8.4 | K63: =J63-M63 -> -0.3 | L63: 1736 | M63: 8.7 | N63: =M63-P63 -> 2.3 | O63: 1427 | P63: 6.4 | Q63: =P63-S63 -> -1.1767526 | R63: 1846.3715 | S63: =IF(ROUND(R72,0)=0,"",ROUND(R63,0)/ROUND(R72,0)*100) -> 7.5767526
B64: 金融（斡旋・転貸） | C64: =IF('7-3-1'!V96<>"",'7-3-1'!V96,"") -> 419.38108 | D64: =IF('7-3-1'!W96<>"",'7-3-1'!W96,"") -> 2.5435482 | E64: =IF(AND(ISNUMBER(D64),ISNUMBER(G64)),D64-G64,"") -> -0.39082004 | F64: 518.91456 | G64: 2.9343683 | H64: =IF(AND(ISNUMBER(G64),ISNUMBER(J64)),G64-J64,"") -> -0.76563173 | I64: 714.39 | J64: 3.7 | K64: =J64-M64 -> 0.4 | L64: 656 | M64: 3.3 | N64: =M64-P64 -> 1.3 | O64: 449 | P64: 2 | Q64: =P64-S64 -> -1.9566574 | R64: 963.52332 | S64: =IF(ROUND(R72,0)=0,"",ROUND(R64,0)/ROUND(R72,0)*100) -> 3.9566574
B65: 教育訓練 | C65: =IF('7-3-1'!V97<>"",'7-3-1'!V97,"") -> 11408.739 | D65: =IF('7-3-1'!W97<>"",'7-3-1'!W97,"") -> 69.194054 | E65: =IF(AND(ISNUMBER(D65),ISNUMBER(G65)),D65-G65,"") -> 5.1005623 | F65: 11334.312 | G65: 64.093491 | H65: =IF(AND(ISNUMBER(G65),ISNUMBER(J65)),G65-J65,"") -> -0.80650877 | I65: 12396.76 | J65: 64.9 | K65: =J65-M65 -> -0.8 | L65: 13126 | M65: 65.7 | N65: =M65-P65 -> 1.2 | O65: 14351 | P65: 64.5 | Q65: =P65-S65 -> 3.2046462 | R65: 14934.145 | S65: =IF(ROUND(R72,0)=0,"",ROUND(R65,0)/ROUND(R72,0)*100) -> 61.295354
B66: 情報交換 | C66: =IF('7-3-1'!V98<>"",'7-3-1'!V98,"") -> 11767.102 | D66: =IF('7-3-1'!W98<>"",'7-3-1'!W98,"") -> 71.367527 | E66: =IF(AND(ISNUMBER(D66),ISNUMBER(G66)),D66-G66,"") -> -0.28795777 | F66: 12671.577 | G66: 71.655485 | H66: =IF(AND(ISNUMBER(G66),ISNUMBER(J66)),G66-J66,"") -> -3.7445152 | I66: 14400.38 | J66: 75.4 | K66: =J66-M66 -> -0.8 | L66: 15212 | M66: 76.2 | N66: =M66-P66 -> 1.1 | O66: 16690 | P66: 75.1 | Q66: =P66-S66 -> 4.713364 | R66: 17148.873 | S66: =IF(ROUND(R72,0)=0,"",ROUND(R66,0)/ROUND(R72,0)*100) -> 70.386636
B67: 福利厚生 | C67: =IF('7-3-1'!V99<>"",'7-3-1'!V99,"") -> 4990.0661 | D67: =IF('7-3-1'!W99<>"",'7-3-1'!W99,"") -> 30.264774 | E67: =IF(AND(ISNUMBER(D67),ISNUMBER(G67)),D67-G67,"") -> -3.8620986 | F67: 6035.0063 | G67: 34.126873 | H67: =IF(AND(ISNUMBER(G67),ISNUMBER(J67)),G67-J67,"") -> 4.2268729 | I67: 5715.41 | J67: 29.9 | K67: =J67-M67 -> -4.5 | L67: 6876 | M67: 34.4 | N67: =M67-P67 -> -1.3 | O67: 7937 | P67: 35.7 | Q67: =P67-S67 -> 2.0314727 | R67: 8203.3867 | S67: =IF(ROUND(R72,0)=0,"",ROUND(R67,0)/ROUND(R72,0)*100) -> 33.668527
B68: 経営・施工管理の指導 | C68: =IF('7-3-1'!V100<>"",'7-3-1'!V100,"") -> 2223.1039 | D68: =IF('7-3-1'!W100<>"",'7-3-1'!W100,"") -> 13.483136 | E68: =IF(AND(ISNUMBER(D68),ISNUMBER(G68)),D68-G68,"") -> 0.88209373 | F68: 2228.372 | G68: 12.601042 | H68: =IF(AND(ISNUMBER(G68),ISNUMBER(J68)),G68-J68,"") -> -7.9989579 | I68: 3932.69 | J68: 20.6 | K68: =J68-M68 -> -0.1 | L68: 4135 | M68: 20.7 | N68: =M68-P68 -> -0.4 | O68: 4694 | P68: 21.1 | Q68: =P68-S68 -> 2.5398293 | R68: 4522.2515 | S68: =IF(ROUND(R72,0)=0,"",ROUND(R68,0)/ROUND(R72,0)*100) -> 18.560171
B69: 共同受注 | C69: =IF('7-3-1'!V101<>"",'7-3-1'!V101,"") -> 1686.2284 | D69: =IF('7-3-1'!W101<>"",'7-3-1'!W101,"") -> 10.226983 | E69: =IF(AND(ISNUMBER(D69),ISNUMBER(G69)),D69-G69,"") -> -2.8758995 | F69: 2317.1177 | G69: 13.102883 | H69: =IF(AND(ISNUMBER(G69),ISNUMBER(J69)),G69-J69,"") -> -1.5971173 | I69: 2809.83 | J69: 14.7 | K69: =J69-M69 -> 3.5 | L69: 2227 | M69: 11.2 | N69: =M69-P69 -> 1 | O69: 2274 | P69: 10.2 | Q69: =P69-S69 -> 0.93222788 | R69: 2257.5166 | S69: =IF(ROUND(R72,0)=0,"",ROUND(R69,0)/ROUND(R72,0)*100) -> 9.2677721
B70: 新事業分野への進出支援 | C70: =IF('7-3-1'!V102<>"",'7-3-1'!V102,"") -> 129.32446 | D70: =IF('7-3-1'!W102<>"",'7-3-1'!W102,"") -> 0.78435343 | E70: =IF(AND(ISNUMBER(D70),ISNUMBER(G70)),D70-G70,"") -> -1.875181 | F70: 470.31285 | G70: 2.6595344 | H70: =IF(AND(ISNUMBER(G70),ISNUMBER(J70)),G70-J70,"") -> -0.14046561 | I70: 543.43 | J70: 2.8 | K70: =J70-M70 -> 0.6 | L70: 435 | M70: 2.2 | N70: =M70-P70 -> -0.8 | O70: 658 | P70: 3 | Q70: =P70-S70 -> 0.14332622 | R70: 695.79034 | S70: =IF(ROUND(R72,0)=0,"",ROUND(R70,0)/ROUND(R72,0)*100) -> 2.8566738
B71: その他 | C71: =IF('7-3-1'!V103<>"",'7-3-1'!V103,"") -> 2301.5558 | D71: =IF('7-3-1'!W103<>"",'7-3-1'!W103,"") -> 13.958947 | E71: =IF(AND(ISNUMBER(D71),ISNUMBER(G71)),D71-G71,"") -> -3.0655312 | F71: 3010.6137 | G71: 17.024478 | H71: =IF(AND(ISNUMBER(G71),ISNUMBER(J71)),G71-J71,"") -> -0.3755222 | I71: 3322.21 | J71: 17.4 | K71: =J71-M71 -> 0.2 | L71: 3438 | M71: 17.2 | N71: =M71-P71 -> 0.5 | O71: 3703 | P71: 16.7 | Q71: =P71-S71 -> 1.5013462 | R71: 3702.6599 | S71: =IF(ROUND(R72,0)=0,"",ROUND(R71,0)/ROUND(R72,0)*100) -> 15.198654
B72: 小 計 | C72: =IF('7-3-1'!V104<>"",'7-3-1'!V104,"") -> 16488.033 | D72: =IF('7-3-1'!W104<>"",'7-3-1'!W104,"") -> 100 | E72: - | F72: 17684.03 | G72: 100 | H72: - | I72: 19107.87 | J72: 100 | K72: - | L72: 19965 | M72: 100 | N72: - | O72: 22235 | P72: 100 | Q72: - | R72: 24363.891 | S72: =IF(ROUND(R72,0)=0,"",ROUND(R72,0)/ROUND(R72,0)*100) -> 100
A73: 合 計 | B73: 共同購入 | C73: =IF('7-3-1'!V105<>"",'7-3-1'!V105,"") -> 10460.101 | D73: =IF('7-3-1'!W105<>"",'7-3-1'!W105,"") -> 16.779887 | E73: =IF(AND(ISNUMBER(D73),ISNUMBER(G73)),D73-G73,"") -> -2.0160626 | F73: 11686.662 | G73: 18.795949 | H73: =IF(AND(ISNUMBER(G73),ISNUMBER(J73)),G73-J73,"") -> -0.60405077 | I73: 13341.71 | J73: 19.4 | K73: =J73-M73 -> -1.2 | L73: 14832 | M73: 20.6 | N73: =M73-P73 -> -1.4 | O73: 18970 | P73: 22 | Q73: =P73-S73 -> 2.7532916 | R73: 19412.967 | S73: =IF(ROUND(R83,0)=0,"",ROUND(R73,0)/ROUND(R83,0)*100) -> 19.246708
B74: 機械等の共同利用 | C74: =IF('7-3-1'!V106<>"",'7-3-1'!V106,"") -> 2063.0753 | D74: =IF('7-3-1'!W106<>"",'7-3-1'!W106,"") -> 3.3095444 | E74: =IF(AND(ISNUMBER(D74),ISNUMBER(G74)),D74-G74,"") -> -0.51913861 | F74: 2380.5408 | G74: 3.828683 | H74: =IF(AND(ISNUMBER(G74),ISNUMBER(J74)),G74-J74,"") -> 0.32868305 | I74: 2402.46 | J74: 3.5 | K74: =J74-M74 -> -1.2 | L74: 3378 | M74: 4.7 | N74: =M74-P74 -> 0.9 | O74: 3251 | P74: 3.8 | Q74: =P74-S74 -> 0.15648001 | R74: 3674.7732 | S74: =IF(ROUND(R83,0)=0,"",ROUND(R74,0)/ROUND(R83,0)*100) -> 3.64352
B75: 金融（斡旋・転貸） | C75: =IF('7-3-1'!V107<>"",'7-3-1'!V107,"") -> 1465.5793 | D75: =IF('7-3-1'!W107<>"",'7-3-1'!W107,"") -> 2.3510532 | E75: =IF(AND(ISNUMBER(D75),ISNUMBER(G75)),D75-G75,"") -> -0.32597909 | F75: 1664.4848 | G75: 2.6770323 | H75: =IF(AND(ISNUMBER(G75),ISNUMBER(J75)),G75-J75,"") -> 0.37703234 | I75: 1566.53 | J75: 2.3 | K75: =J75-M75 -> -1 | L75: 2383 | M75: 3.3 | N75: =M75-P75 -> 0.7 | O75: 2231 | P75: 2.6 | Q75: =P75-S75 -> -0.93545368 | R75: 3565.7097 | S75: =IF(ROUND(R83,0)=0,"",ROUND(R75,0)/ROUND(R83,0)*100) -> 3.5354537
B76: 教育訓練 | C76: =IF('7-3-1'!V108<>"",'7-3-1'!V108,"") -> 34795.558 | D76: =IF('7-3-1'!W108<>"",'7-3-1'!W108,"") -> 55.818344 | E76: =IF(AND(ISNUMBER(D76),ISNUMBER(G76)),D76-G76,"") -> 0.65684419 | F76: 34297.485 | G76: 55.1615 | H76: =IF(AND(ISNUMBER(G76),ISNUMBER(J76)),G76-J76,"") -> -1.3385001 | I76: 38899.74 | J76: 56.5 | K76: =J76-M76 -> -3.4 | L76: 43140 | M76: 59.9 | N76: =M76-P76 -> 1.9 | O76: 49989 | P76: 58 | Q76: =P76-S76 -> 9.9838595 | R76: 48431.078 | S76: =IF(ROUND(R83,0)=0,"",ROUND(R76,0)/ROUND(R83,0)*100) -> 48.016141
B77: 情報交換 | C77: =IF('7-3-1'!V109<>"",'7-3-1'!V109,"") -> 44409.19 | D77: =IF('7-3-1'!W109<>"",'7-3-1'!W109,"") -> 71.240342 | E77: =IF(AND(ISNUMBER(D77),ISNUMBER(G77)),D77-G77,"") -> 0.27808796 | F77: 44121.839 | G77: 70.962254 | H77: =IF(AND(ISNUMBER(G77),ISNUMBER(J77)),G77-J77,"") -> -2.8377464 | I77: 50836.08 | J77: 73.8 | K77: =J77-M77 -> -0.3 | L77: 53361 | M77: 74.1 | N77: =M77-P77 -> 2 | O77: 62168 | P77: 72.1 | Q77: =P77-S77 -> 9.4027046 | R77: 63239.289 | S77: =IF(ROUND(R83,0)=0,"",ROUND(R77,0)/ROUND(R83,0)*100) -> 62.697295
B78: 福利厚生 | C78: =IF('7-3-1'!V110<>"",'7-3-1'!V110,"") -> 16226.167 | D78: =IF('7-3-1'!W110<>"",'7-3-1'!W110,"") -> 26.029695 | E78: =IF(AND(ISNUMBER(D78),ISNUMBER(G78)),D78-G78,"") -> -4.2841479 | F78: 18848.084 | G78: 30.313843 | H78: =IF(AND(ISNUMBER(G78),ISNUMBER(J78)),G78-J78,"") -> 4.3138431 | I78: 17876.75 | J78: 26 | K78: =J78-M78 -> -1.2 | L78: 19603 | M78: 27.2 | N78: =M78-P78 -> -2 | O78: 25169 | P78: 29.2 | Q78: =P78-S78 -> -0.95049968 | R78: 30410.518 | S78: =IF(ROUND(R83,0)=0,"",ROUND(R78,0)/ROUND(R83,0)*100) -> 30.1505
B79: 経営・施工管理の指導 | C79: =IF('7-3-1'!V111<>"",'7-3-1'!V111,"") -> 9571.5944 | D79: =IF('7-3-1'!W111<>"",'7-3-1'!W111,"") -> 15.354562 | E79: =IF(AND(ISNUMBER(D79),ISNUMBER(G79)),D79-G79,"") -> -2.9635179 | F79: 11389.539 | G79: 18.31808 | H79: =IF(AND(ISNUMBER(G79),ISNUMBER(J79)),G79-J79,"") -> -0.28192027 | I79: 12795.17 | J79: 18.6 | K79: =J79-M79 -> -4.8 | L79: 16818 | M79: 23.4 | N79: =M79-P79 -> -0.1 | O79: 20306 | P79: 23.5 | Q79: =P79-S79 -> 3.4918702 | R79: 20181.041 | S79: =IF(ROUND(R83,0)=0,"",ROUND(R79,0)/ROUND(R83,0)*100) -> 20.00813
B80: 共同受注 | C80: =IF('7-3-1'!V112<>"",'7-3-1'!V112,"") -> 5479.4127 | D80: =IF('7-3-1'!W112<>"",'7-3-1'!W112,"") -> 8.7899651 | E80: =IF(AND(ISNUMBER(D80),ISNUMBER(G80)),D80-G80,"") -> -0.91762516 | F80: 6035.839 | G80: 9.7075903 | H80: =IF(AND(ISNUMBER(G80),ISNUMBER(J80)),G80-J80,"") -> -0.092409713 | I80: 6738.44 | J80: 9.8 | K80: =J80-M80 -> 0.7 | L80: 6560 | M80: 9.1 | N80: =M80-P80 -> 0.1 | O80: 7782 | P80: 9 | Q80: =P80-S80 -> -0.765625 | R80: 9850.2295 | S80: =IF(ROUND(R83,0)=0,"",ROUND(R80,0)/ROUND(R83,0)*100) -> 9.765625
B81: 新事業分野への進出支援 | C81: =IF('7-3-1'!V113<>"",'7-3-1'!V113,"") -> 647.26365 | D81: =IF('7-3-1'!W113<>"",'7-3-1'!W113,"") -> 1.0383275 | E81: =IF(AND(ISNUMBER(D81),ISNUMBER(G81)),D81-G81,"") -> -1.7270922 | F81: 1719.4409 | G81: 2.7654197 | H81: =IF(AND(ISNUMBER(G81),ISNUMBER(J81)),G81-J81,"") -> -0.33458028 | I81: 2101.63 | J81: 3.1 | K81: =J81-M81 -> 0.1 | L81: 2178 | M81: 3 | N81: =M81-P81 -> -0.4 | O81: 2921 | P81: 3.4 | Q81: =P81-S81 -> 0.97495241 | R81: 2446.4468 | S81: =IF(ROUND(R83,0)=0,"",ROUND(R81,0)/ROUND(R83,0)*100) -> 2.4250476
B82: その他 | C82: =IF('7-3-1'!V114<>"",'7-3-1'!V114,"") -> 8752.8581 | D82: =IF('7-3-1'!W114<>"",'7-3-1'!W114,"") -> 14.041161 | E82: =IF(AND(ISNUMBER(D82),ISNUMBER(G82)),D82-G82,"") -> -2.0700598 | F82: 10017.392 | G82: 16.111221 | H82: =IF(AND(ISNUMBER(G82),ISNUMBER(J82)),G82-J82,"") -> 1.611221 | I82: 9964.66 | J82: 14.5 | K82: =J82-M82 -> -0.8 | L82: 11049 | M82: 15.3 | N82: =M82-P82 -> 0.6 | O82: 12665 | P82: 14.7 | Q82: =P82-S82 -> -1.8212563 | R82: 16664.225 | S82: =IF(ROUND(R83,0)=0,"",ROUND(R82,0)/ROUND(R83,0)*100) -> 16.521256
C83: =IF('7-3-1'!V115<>"",'7-3-1'!V115,"") -> 62337.138 | D83: =IF('7-3-1'!W115<>"",'7-3-1'!W115,"") -> 100 | E83: - | F83: 62176.491 | G83: 100 | H83: - | I83: 68845.02 | J83: 100 | K83: - | L83: 72024 | M83: 100 | N83: - | O83: 86239 | P83: 100 | Q83: - | R83: 100864.36 | S83: =IF(ROUND(R83,0)=0,"",ROUND(R83,0)/ROUND(R83,0)*100) -> 100
Q84: =SUBSTITUTE('7-3-1'!K117,"2．","（注）") -> （注）無効回答企業 0社を除く

Sheet 7-3-4
A1: 表7－3－4 利用している共同事業の種類（経年変化②：資本金別）（事業協同組合の組合員になっている企業のみ対象）
V3: （単位：社、％）
B4: 資本金 | C4: 個人 | E4: 法 人 | U4: 合 計
E5: 500万円未満 | G5: 500万円以上 1000万円以下 | I5: 1000万円以上 3000万円未満 | K5: 3000万円以上 5000万円未満 | M5: 5000万円以上 1億円未満 | O5: 1億円以上 3億円未満 | Q5: 3億円以上 10億円未満 | S5: 10億円以上
A6: 年度 | B6: 利用事業種類
A7: R01 年度 | B7: 共同購入 | C7: =IF('7-3-1'!D105<>"",'7-3-1'!D105,"") -> 673.52721 | D7: =IF('7-3-1'!E105<>"",'7-3-1'!E105,"") -> 8.8699783 | E7: =IF('7-3-1'!F105<>"",'7-3-1'!F105,"") -> 1712.7364 | F7: =IF('7-3-1'!G105<>"",'7-3-1'!G105,"") -> 14.634749 | G7: =IF('7-3-1'!H105<>"",'7-3-1'!H105,"") -> 1160.4579 | H7: =IF('7-3-1'!I105<>"",'7-3-1'!I105,"") -> 10.635908 | I7: =IF('7-3-1'!J105<>"",'7-3-1'!J105,"") -> 5496.4462 | J7: =IF('7-3-1'!K105<>"",'7-3-1'!K105,"") -> 22.339526 | ... V7: =IF('7-3-1'!W105<>"",'7-3-1'!W105,"") -> 16.779887
B8: 機械等の共同利用 | C8: =IF('7-3-1'!D106<>"",'7-3-1'!D106,"") -> 114.68776 | D8: =IF('7-3-1'!E106<>"",'7-3-1'!E106,"") -> 1.5103739 | E8: =IF('7-3-1'!F106<>"",'7-3-1'!F106,"") -> 380.98871 | F8: =IF('7-3-1'!G106<>"",'7-3-1'!G106,"") -> 3.2554187 | G8: =IF('7-3-1'!H106<>"",'7-3-1'!H106,"") -> 390.78757 | H8: =IF('7-3-1'!I106<>"",'7-3-1'!I106,"") -> 3.5816727 | I8: =IF('7-3-1'!J106<>"",'7-3-1'!J106,"") -> 1031.8788 | J8: =IF('7-3-1'!K106<>"",'7-3-1'!K106,"") -> 4.1939249 | ... V8: =IF('7-3-1'!W106<>"",'7-3-1'!W106,"") -> 3.3095444
B9: 金融（斡旋・転貸） | C9: =IF('7-3-1'!D107<>"",'7-3-1'!D107,"") -> 262.50507 | D9: =IF('7-3-1'!E107<>"",'7-3-1'!E107,"") -> 3.4570456 | E9: =IF('7-3-1'!F107<>"",'7-3-1'!F107,"") -> 171.80899 | F9: =IF('7-3-1'!G107<>"",'7-3-1'!G107,"") -> 1.4680493 | G9: =IF('7-3-1'!H107<>"",'7-3-1'!H107,"") -> 386.78028 | H9: =IF('7-3-1'!I107<>"",'7-3-1'!I107,"") -> 3.5449448 | I9: =IF('7-3-1'!J107<>"",'7-3-1'!J107,"") -> 495.2578 | J9: =IF('7-3-1'!K107<>"",'7-3-1'!K107,"") -> 2.0129051 | ... V9: =IF('7-3-1'!W107<>"",'7-3-1'!W107,"") -> 2.3510532
B10: 教育訓練 | C10: =IF('7-3-1'!D108<>"",'7-3-1'!D108,"") -> 2484.9637 | D10: =IF('7-3-1'!E108<>"",'7-3-1'!E108,"") -> 32.725588 | E10: =IF('7-3-1'!F108<>"",'7-3-1'!F108,"") -> 5457.8944 | F10: =IF('7-3-1'!G108<>"",'7-3-1'!G108,"") -> 46.635849 | G10: =IF('7-3-1'!H108<>"",'7-3-1'!H108,"") -> 6458.0633 | H10: =IF('7-3-1'!I108<>"",'7-3-1'!I108,"") -> 59.189879 | I10: =IF('7-3-1'!J108<>"",'7-3-1'!J108,"") -> 15820.016 | J10: =IF('7-3-1'!K108<>"",'7-3-1'!K108,"") -> 64.29821 | ... V10: =IF('7-3-1'!W108<>"",'7-3-1'!W108,"") -> 55.818344
B11: 情報交換 | C11: =IF('7-3-1'!D109<>"",'7-3-1'!D109,"") -> 4693.8061 | D11: =IF('7-3-1'!E109<>"",'7-3-1'!E109,"") -> 61.814813 | E11: =IF('7-3-1'!F109<>"",'7-3-1'!F109,"") -> 6972.0056 | F11: =IF('7-3-1'!G109<>"",'7-3-1'!G109,"") -> 59.573413 | G11: =IF('7-3-1'!H109<>"",'7-3-1'!H109,"") -> 7630.4593 | H11: =IF('7-3-1'!I109<>"",'7-3-1'!I109,"") -> 69.935203 | I11: =IF('7-3-1'!J109<>"",'7-3-1'!J109,"") -> 19267.505 | J11: =IF('7-3-1'!K109<>"",'7-3-1'!K109,"") -> 78.310042 | ... V11: =IF('7-3-1'!W109<>"",'7-3-1'!W109,"") -> 71.240342
B12: 福利厚生 | C12: =IF('7-3-1'!D110<>"",'7-3-1'!D110,"") -> 3343.8219 | D12: =IF('7-3-1'!E110<>"",'7-3-1'!E110,"") -> 44.036272 | E12: =IF('7-3-1'!F110<>"",'7-3-1'!F110,"") -> 3010.6999 | F12: =IF('7-3-1'!G110<>"",'7-3-1'!G110,"") -> 25.725405 | G12: =IF('7-3-1'!H110<>"",'7-3-1'!H110,"") -> 2846.2054 | H12: =IF('7-3-1'!I110<>"",'7-3-1'!I110,"") -> 26.086235 | I12: =IF('7-3-1'!J110<>"",'7-3-1'!J110,"") -> 5600.5058 | J12: =IF('7-3-1'!K110<>"",'7-3-1'!K110,"") -> 22.762461 | ... V12: =IF('7-3-1'!W110<>"",'7-3-1'!W110,"") -> 26.029695
B13: 経営・施工管理の指導 | C13: =IF('7-3-1'!D111<>"",'7-3-1'!D111,"") -> 1208.9118 | D13: =IF('7-3-1'!E111<>"",'7-3-1'!E111,"") -> 15.920696 | E13: =IF('7-3-1'!F111<>"",'7-3-1'!F111,"") -> 731.54551 | F13: =IF('7-3-1'!G111<>"",'7-3-1'!G111,"") -> 6.2508072 | G13: =IF('7-3-1'!H111<>"",'7-3-1'!H111,"") -> 1654.723 | H13: =IF('7-3-1'!I111<>"",'7-3-1'!I111,"") -> 15.165979 | I13: =IF('7-3-1'!J111<>"",'7-3-1'!J111,"") -> 4782.2987 | J13: =IF('7-3-1'!K111<>"",'7-3-1'!K111,"") -> 19.436975 | ... V13: =IF('7-3-1'!W111<>"",'7-3-1'!W111,"") -> 15.354562
B14: 共同受注 | C14: =IF('7-3-1'!D112<>"",'7-3-1'!D112,"") -> 552.86036 | D14: =IF('7-3-1'!E112<>"",'7-3-1'!E112,"") -> 7.280863 | E14: =IF('7-3-1'!F112<>"",'7-3-1'!F112,"") -> 932.49839 | F14: =IF('7-3-1'!G112<>"",'7-3-1'!G112,"") -> 7.9678811 | G14: =IF('7-3-1'!H112<>"",'7-3-1'!H112,"") -> 952.83319 | H14: =IF('7-3-1'!I112<>"",'7-3-1'!I112,"") -> 8.7329714 | I14: =IF('7-3-1'!J112<>"",'7-3-1'!J112,"") -> 2203.5744 | J14: =IF('7-3-1'!K112<>"",'7-3-1'!K112,"") -> 8.9561154 | ... V14: =IF('7-3-1'!W112<>"",'7-3-1'!W112,"") -> 8.7899651
B15: 新事業分野への進出支援 | C15: =IF('7-3-1'!D113<>"",'7-3-1'!D113,"") -> 149.20594 | D15: =IF('7-3-1'!E113<>"",'7-3-1'!E113,"") -> 1.9649591 | E15: =IF('7-3-1'!F113<>"",'7-3-1'!F113,"") -> 41.698246 | F15: =IF('7-3-1'!G113<>"",'7-3-1'!G113,"") -> 0.3562973 | G15: =IF('7-3-1'!H113<>"",'7-3-1'!H113,"") -> 15.846154 | H15: =IF('7-3-1'!I113<>"",'7-3-1'!I113,"") -> 0.14523424 | I15: =IF('7-3-1'!J113<>"",'7-3-1'!J113,"") -> 312.0115 | J15: =IF('7-3-1'!K113<>"",'7-3-1'!K113,"") -> 1.2681265 | ... V15: =IF('7-3-1'!W113<>"",'7-3-1'!W113,"") -> 1.0383275
B16: その他 | C16: =IF('7-3-1'!D114<>"",'7-3-1'!D114,"") -> 1560.5067 | D16: =IF('7-3-1'!E114<>"",'7-3-1'!E114,"") -> 20.551004 | E16: =IF('7-3-1'!F114<>"",'7-3-1'!F114,"") -> 1959.3839 | F16: =IF('7-3-1'!G114<>"",'7-3-1'!G114,"") -> 16.742268 | G16: =IF('7-3-1'!H114<>"",'7-3-1'!H114,"") -> 1167.0365 | H16: =IF('7-3-1'!I114<>"",'7-3-1'!I114,"") -> 10.696202 | I16: =IF('7-3-1'!J114<>"",'7-3-1'!J114,"") -> 3094.1845 | J16: =IF('7-3-1'!K114<>"",'7-3-1'!K114,"") -> 12.575874 | ... V16: =IF('7-3-1'!W114<>"",'7-3-1'!W114,"") -> 14.041161
C17: =IF('7-3-1'!D115<>"",'7-3-1'!D115,"") -> 7593.3355 | D17: =IF('7-3-1'!E115<>"",'7-3-1'!E115,"") -> 100 | E17: =IF('7-3-1'!F115<>"",'7-3-1'!F115,"") -> 11703.217 | F17: =IF('7-3-1'!G115<>"",'7-3-1'!G115,"") -> 100 | G17: =IF('7-3-1'!H115<>"",'7-3-1'!H115,"") -> 10910.756 | H17: =IF('7-3-1'!I115<>"",'7-3-1'!I115,"") -> 100 | I17: =IF('7-3-1'!J115<>"",'7-3-1'!J115,"") -> 24604.131 | J17: =IF('7-3-1'!K115<>"",'7-3-1'!K115,"") -> 100 | ... V17: =IF('7-3-1'!W115<>"",'7-3-1'!W115,"") -> 100
A18: 増減 | B18: 共同購入 | D18: =IF(AND(ISNUMBER(D7),ISNUMBER(D29)),D7-D29,"") -> -2.2310259 | F18: =IF(AND(ISNUMBER(F7),ISNUMBER(F29)),F7-F29,"") -> -0.65590771 | H18: =IF(AND(ISNUMBER(H7),ISNUMBER(H29)),H7-H29,"") -> -11.54767 | J18: =IF(AND(ISNUMBER(J7),ISNUMBER(J29)),J7-J29,"") -> 0.67763389 | L18: =IF(AND(ISNUMBER(L7),ISNUMBER(L29)),L7-L29,"") -> 0.32321089 | N18: =IF(AND(ISNUMBER(N7),ISNUMBER(N29)),N7-N29,"") -> 1.9380415 | P18: =IF(AND(ISNUMBER(P7),ISNUMBER(P29)),P7-P29,"") -> 2.4732924 | R18: =IF(AND(ISNUMBER(R7),ISNUMBER(R29)),R7-R29,"") -> -13.438231 | T18: =IF(AND(ISNUMBER(T7),ISNUMBER(T29)),T7-T29,"") | V18: =IF(AND(ISNUMBER(V7),ISNUMBER(V29)),V7-V29,"") -> -2.0160626
B19: 機械等の共同利用 | D19: =IF(AND(ISNUMBER(D8),ISNUMBER(D30)),D8-D30,"") -> -0.83081053 | F19: =IF(AND(ISNUMBER(F8),ISNUMBER(F30)),F8-F30,"") -> -2.7607431 | H19: =IF(AND(ISNUMBER(H8),ISNUMBER(H30)),H8-H30,"") -> -0.060173321 | J19: =IF(AND(ISNUMBER(J8),ISNUMBER(J30)),J8-J30,"") -> 0.63596156 | L19: =IF(AND(ISNUMBER(L8),ISNUMBER(L30)),L8-L30,"") -> -1.6130897 | N19: =IF(AND(ISNUMBER(N8),ISNUMBER(N30)),N8-N30,"") -> -0.49474761 | P19: =IF(AND(ISNUMBER(P8),ISNUMBER(P30)),P8-P30,"") -> -0.18312233 | R19: =IF(AND(ISNUMBER(R8),ISNUMBER(R30)),R8-R30,"") | T19: =IF(AND(ISNUMBER(T8),ISNUMBER(T30)),T8-T30,"") | V19: =IF(AND(ISNUMBER(V8),ISNUMBER(V30)),V8-V30,"") -> -0.51913861
B20: 金融（斡旋・転貸） | D20: =IF(AND(ISNUMBER(D9),ISNUMBER(D31)),D9-D31,"") -> -0.55946652 | F20: =IF(AND(ISNUMBER(F9),ISNUMBER(F31)),F9-F31,"") -> -0.041536982 | H20: =IF(AND(ISNUMBER(H9),ISNUMBER(H31)),H9-H31,"") -> 1.5264664 | J20: =IF(AND(ISNUMBER(J9),ISNUMBER(J31)),J9-J31,"") -> -0.98017545 | L20: =IF(AND(ISNUMBER(L9),ISNUMBER(L31)),L9-L31,"") -> -0.33978369 | N20: =IF(AND(ISNUMBER(N9),ISNUMBER(N31)),N9-N31,"") -> -1.0078068 | P20: =IF(AND(ISNUMBER(P9),ISNUMBER(P31)),P9-P31,"") -> -0.87334143 | R20: =IF(AND(ISNUMBER(R9),ISNUMBER(R31)),R9-R31,"") -> -2.0137471 | T20: =IF(AND(ISNUMBER(T9),ISNUMBER(T31)),T9-T31,"") | V20: =IF(AND(ISNUMBER(V9),ISNUMBER(V31)),V9-V31,"") -> -0.32597909
B21: 教育訓練 | D21: =IF(AND(ISNUMBER(D10),ISNUMBER(D32)),D10-D32,"") -> -8.24781 | F21: =IF(AND(ISNUMBER(F10),ISNUMBER(F32)),F10-F32,"") -> -3.8018279 | H21: =IF(AND(ISNUMBER(H10),ISNUMBER(H32)),H10-H32,"") -> 9.1591126 | J21: =IF(AND(ISNUMBER(J10),ISNUMBER(J32)),J10-J32,"") -> 3.1184574 | L21: =IF(AND(ISNUMBER(L10),ISNUMBER(L32)),L10-L32,"") -> 1.1198955 | N21: =IF(AND(ISNUMBER(N10),ISNUMBER(N32)),N10-N32,"") -> -3.7272553 | P21: =IF(AND(ISNUMBER(P10),ISNUMBER(P32)),P10-P32,"") -> 3.8029082 | R21: =IF(AND(ISNUMBER(R10),ISNUMBER(R32)),R10-R32,"") -> -18.249282 | T21: =IF(AND(ISNUMBER(T10),ISNUMBER(T32)),T10-T32,"") -> 1.8283286 | V21: =IF(AND(ISNUMBER(V10),ISNUMBER(V32)),V10-V32,"") -> 0.65684419
B22: 情報交換 | D22: =IF(AND(ISNUMBER(D11),ISNUMBER(D33)),D11-D33,"") -> -2.1625414 | F22: =IF(AND(ISNUMBER(F11),ISNUMBER(F33)),F11-F33,"") -> -3.8444782 | H22: =IF(AND(ISNUMBER(H11),ISNUMBER(H33)),H11-H33,"") -> -1.7190856 | J22: =IF(AND(ISNUMBER(J11),ISNUMBER(J33)),J11-J33,"") -> 4.181372 | L22: =IF(AND(ISNUMBER(L11),ISNUMBER(L33)),L11-L33,"") -> -1.7318599 | N22: =IF(AND(ISNUMBER(N11),ISNUMBER(N33)),N11-N33,"") -> 2.7936819 | P22: =IF(AND(ISNUMBER(P11),ISNUMBER(P33)),P11-P33,"") -> 6.4961979 | R22: =IF(AND(ISNUMBER(R11),ISNUMBER(R33)),R11-R33,"") -> -3.3995271 | T22: =IF(AND(ISNUMBER(T11),ISNUMBER(T33)),T11-T33,"") -> 11.269937 | V22: =IF(AND(ISNUMBER(V11),ISNUMBER(V33)),V11-V33,"") -> 0.27808796
B23: 福利厚生 | D23: =IF(AND(ISNUMBER(D12),ISNUMBER(D34)),D12-D34,"") -> 10.697855 | F23: =IF(AND(ISNUMBER(F12),ISNUMBER(F34)),F12-F34,"") -> -6.4779582 | H23: =IF(AND(ISNUMBER(H12),ISNUMBER(H34)),H12-H34,"") -> -6.0875211 | J23: =IF(AND(ISNUMBER(J12),ISNUMBER(J34)),J12-J34,"") -> -6.9093376 | L23: =IF(AND(ISNUMBER(L12),ISNUMBER(L34)),L12-L34,"") -> -6.5241376 | N23: =IF(AND(ISNUMBER(N12),ISNUMBER(N34)),N12-N34,"") -> -1.5571353 | P23: =IF(AND(ISNUMBER(P12),ISNUMBER(P34)),P12-P34,"") -> -1.4682231 | R23: =IF(AND(ISNUMBER(R12),ISNUMBER(R34)),R12-R34,"") | T23: =IF(AND(ISNUMBER(T12),ISNUMBER(T34)),T12-T34,"") -> -6.3740202 | V23: =IF(AND(ISNUMBER(V12),ISNUMBER(V34)),V12-V34,"") -> -4.2841479
B24: 経営・施工管理の指導 | D24: =IF(AND(ISNUMBER(D13),ISNUMBER(D35)),D13-D35,"") -> -5.5625268 | F24: =IF(AND(ISNUMBER(F13),ISNUMBER(F35)),F13-F35,"") -> -10.225651 | H24: =IF(AND(ISNUMBER(H13),ISNUMBER(H35)),H13-H35,"") -> -1.2081029 | J24: =IF(AND(ISNUMBER(J13),ISNUMBER(J35)),J13-J35,"") -> 1.2438715 | L24: =IF(AND(ISNUMBER(L13),ISNUMBER(L35)),L13-L35,"") -> -3.7635354 | N24: =IF(AND(ISNUMBER(N13),ISNUMBER(N35)),N13-N35,"") -> -5.6663181 | P24: =IF(AND(ISNUMBER(P13),ISNUMBER(P35)),P13-P35,"") -> -3.8361423 | R24: =IF(AND(ISNUMBER(R13),ISNUMBER(R35)),R13-R35,"") -> -18.499721 | T24: =IF(AND(ISNUMBER(T13),ISNUMBER(T35)),T13-T35,"") -> -2.026478 | V24: =IF(AND(ISNUMBER(V13),ISNUMBER(V35)),V13-V35,"") -> -2.9635179
B25: 共同受注 | D25: =IF(AND(ISNUMBER(D14),ISNUMBER(D36)),D14-D36,"") -> -2.1745038 | F25: =IF(AND(ISNUMBER(F14),ISNUMBER(F36)),F14-F36,"") -> -4.887939 | H25: =IF(AND(ISNUMBER(H14),ISNUMBER(H36)),H14-H36,"") -> 1.1256892 | J25: =IF(AND(ISNUMBER(J14),ISNUMBER(J36)),J14-J36,"") -> 0.21628062 | L25: =IF(AND(ISNUMBER(L14),ISNUMBER(L36)),L14-L36,"") -> 0.053487018 | N25: =IF(AND(ISNUMBER(N14),ISNUMBER(N36)),N14-N36,"") -> 1.5065761 | P25: =IF(AND(ISNUMBER(P14),ISNUMBER(P36)),P14-P36,"") -> -1.9612993 | R25: =IF(AND(ISNUMBER(R14),ISNUMBER(R36)),R14-R36,"") -> -5.8383121 | T25: =IF(AND(ISNUMBER(T14),ISNUMBER(T36)),T14-T36,"") | V25: =IF(AND(ISNUMBER(V14),ISNUMBER(V36)),V14-V36,"") -> -0.91762516
B26: 新事業分野への進出支援 | D26: =IF(AND(ISNUMBER(D15),ISNUMBER(D37)),D15-D37,"") -> -2.0479172 | F26: =IF(AND(ISNUMBER(F15),ISNUMBER(F37)),F15-F37,"") -> -1.4915558 | H26: =IF(AND(ISNUMBER(H15),ISNUMBER(H37)),H15-H37,"") -> -4.5284418 | J26: =IF(AND(ISNUMBER(J15),ISNUMBER(J37)),J15-J37,"") -> -0.67078005 | L26: =IF(AND(ISNUMBER(L15),ISNUMBER(L37)),L15-L37,"") -> -2.259058 | N26: =IF(AND(ISNUMBER(N15),ISNUMBER(N37)),N15-N37,"") -> -1.6865827 | P26: =IF(AND(ISNUMBER(P15),ISNUMBER(P37)),P15-P37,"") | R26: =IF(AND(ISNUMBER(R15),ISNUMBER(R37)),R15-R37,"") | T26: =IF(AND(ISNUMBER(T15),ISNUMBER(T37)),T15-T37,"") | V26: =IF(AND(ISNUMBER(V15),ISNUMBER(V37)),V15-V37,"") -> -1.7270922
B27: その他 | D27: =IF(AND(ISNUMBER(D16),ISNUMBER(D38)),D16-D38,"") -> -3.8058016 | F27: =IF(AND(ISNUMBER(F16),ISNUMBER(F38)),F16-F38,"") -> 1.8205414 | H27: =IF(AND(ISNUMBER(H16),ISNUMBER(H38)),H16-H38,"") -> -4.4035824 | J27: =IF(AND(ISNUMBER(J16),ISNUMBER(J38)),J16-J38,"") -> -3.1070088 | L27: =IF(AND(ISNUMBER(L16),ISNUMBER(L38)),L16-L38,"") -> 1.7996273 | N27: =IF(AND(ISNUMBER(N16),ISNUMBER(N38)),N16-N38,"") -> 1.082103 | P27: =IF(AND(ISNUMBER(P16),ISNUMBER(P38)),P16-P38,"") -> -3.4493734 | R27: =IF(AND(ISNUMBER(R16),ISNUMBER(R38)),R16-R38,"") -> 1.260736 | T27: =IF(AND(ISNUMBER(T16),ISNUMBER(T38)),T16-T38,"") -> -2.8699858 | V27: =IF(AND(ISNUMBER(V16),ISNUMBER(V38)),V16-V38,"") -> -2.0700598
D28: - | F28: - | H28: - | J28: - | L28: - | N28: - | P28: - | R28: - | T28: - | V28: -
A29: H26 年度 | B29: 共同購入 | C29: 900.22721 | D29: 11.101004 | E29: 1739.9768 | F29: 15.290657 | G29: 1713.2798 | H29: 22.183578 | I29: 6022.9074 | J29: 21.661892 | K29: 1000.804 | L29: 19.130879 | M29: 276.50282 | N29: 16.942081 | O29: 19.643557 | P29: 9.5567557 | Q29: 7.5143678 | R29: 19.35269 | S29: 5.8056738 | T29: 11.038391 | U29: 11686.662 | V29: 18.795949
B30: 機械等の共同利用 | C30: 189.85651 | D30: 2.3411844 | E30: 684.59992 | F30: 6.0161618 | G30: 281.26667 | H30: 3.641846 | I30: 989.26187 | J30: 3.5579633 | K30: 178.248 | L30: 3.4073013 | M30: 46.273363 | N30: 2.8352951 | O30: 5.1547619 | P30: 2.507835 | Q30: 2.3888889 | R30: 6.152404 | S30: 3.4907801 | T30: 6.6370586 | U30: 2380.5408 | V30: 3.828683
B31: 金融（斡旋・転貸） | C31: 325.71589 | D31: 4.0165121 | E31: 171.78105 | F31: 1.5095862 | G31: 155.89091 | H31: 2.0184784 | I31: 832.20094 | J31: 2.9930805 | K31: 121.86918 | L31: 2.3295914 | M31: 46.904581 | N31: 2.8739715 | O31: 8.2333333 | P31: 4.0055858 | Q31: 1.8888889 | R31: 4.8646915 | U31: 1664.4848 | V31: 2.6770323
B32: 教育訓練 | C32: 3322.7055 | D32: 40.973398 | E32: 5739.4781 | F32: 50.437676 | G32: 3863.9709 | H32: 50.030767 | I32: 17010.517 | J32: 61.179753 | K32: 3189.2882 | L32: 60.964869 | M32: 992.26003 | N32: 60.798477 | O32: 136.23988 | P32: 66.281849 | Q32: 23.393103 | R32: 60.247182 | S32: 19.631864 | T32: 37.326279 | U32: 34297.485 | V32: 55.1615
B33: 情報交換 | C33: 5188.1933 | D33: 63.977354 | E33: 7216.5418 | F33: 63.417891 | G33: 5533.9965 | H33: 71.654288 | I33: 20610.855 | J33: 74.12867 | K33: 4034.592 | L33: 77.123281 | M33: 1289.8814 | N33: 79.034546 | O33: 170.50064 | P33: 82.949993 | Q33: 31.774138 | R33: 81.831907 | S33: 45.504509 | T33: 86.518222 | U33: 44121.839 | V33: 70.962254
B34: 福利厚生 | C34: 2703.5527 | D34: 33.338417 | E34: 3664.5324 | F34: 32.203363 | G34: 2484.8401 | H34: 32.173756 | I34: 8249.9948 | J34: 29.671799 | K34: 1376.3511 | L34: 26.309652 | M34: 310.03687 | N34: 18.996804 | O34: 41.29972 | P34: 20.092661 | Q34: 11.22318 | R34: 28.904458 | S34: 6.2529889 | T34: 11.888876 | U34: 18848.084 | V34: 30.313843
B35: 経営・施工管理の指導 | C35: 1742.165 | D35: 21.483222 | E35: 1874.9133 | F35: 16.476458 | G35: 1264.6014 | H35: 16.374082 | I35: 5058.4398 | J35: 18.193103 | K35: 1083.8012 | L35: 20.717411 | M35: 313.04943 | N35: 19.181392 | O35: 33.652801 | P35: 16.37237 | Q35: 14.158812 | R35: 36.464958 | S35: 4.7574468 | T35: 9.0453859 | U35: 11389.539 | V35: 18.31808
B36: 共同受注 | C36: 766.77554 | D36: 9.4553668 | E36: 1462.9084 | F36: 12.85582 | G36: 587.52482 | H36: 7.6072822 | I36: 2430.0378 | J36: 8.7398348 | K36: 645.96115 | L36: 12.347876 | M36: 114.69747 | N36: 7.0278266 | O36: 19.439496 | P36: 9.457478 | Q36: 4.4655172 | R36: 11.500604 | S36: 4.0288754 | T36: 7.660145 | U36: 6035.839 | V36: 9.7075903
B37: 新事業分野への進出支援 | C37: 325.42105 | D37: 4.0128763 | E37: 210.27362 | F37: 1.8478531 | G37: 360.95686 | H37: 4.673676 | I37: 539.0967 | J37: 1.9389065 | K37: 217.7344 | L37: 4.162104 | M37: 51.599774 | N37: 3.1616588 | O37: 9.3704482 | P37: 4.5588018 | Q37: 1.9166667 | R37: 4.9362311 | S37: 3.0714286 | T37: 5.8397409 | U37: 1719.4409 | V37: 2.7654197
B38: その他 | C38: 1975.196 | D38: 24.356805 | E38: 1697.995 | F38: 14.921727 | G38: 1166.185 | H38: 15.099785 | I38: 4360.494 | J38: 15.682883 | K38: 545.82317 | L38: 10.433688 | M38: 235.20661 | N38: 14.41175 | O38: 23.461625 | P38: 11.414277 | Q38: 7.3155172 | R38: 18.840565 | S38: 5.7148936 | T38: 10.86579 | U38: 10017.392 | V38: 16.111221
C39: 8109.4214 | D39: 100 | E39: 11379.347 | F39: 100 | G39: 7723.1895 | H39: 100 | I39: 27804.161 | J39: 100 | K39: 5231.3542 | L39: 100 | M39: 1632.0475 | N39: 100 | O39: 205.5463 | P39: 100 | Q39: 38.828544 | R39: 100 | S39: 52.595289 | T39: 100 | U39: 62176.491 | V39: 100
A40: 増減 | B40: 共同購入 | D40: =IF(AND(ISNUMBER(D29),ISNUMBER(D51)),D29-D51,"") -> 6.8010042 | F40: =IF(AND(ISNUMBER(F29),ISNUMBER(F51)),F29-F51,"") -> -8.1093435 | H40: =IF(AND(ISNUMBER(H29),ISNUMBER(H51)),H29-H51,"") -> 2.983578 | J40: =IF(AND(ISNUMBER(J29),ISNUMBER(J51)),J29-J51,"") -> -1.9381081 | L40: =IF(AND(ISNUMBER(L29),ISNUMBER(L51)),L29-L51,"") -> 1.6308792 | N40: =IF(AND(ISNUMBER(N29),ISNUMBER(N51)),N29-N51,"") -> -1.1579188 | P40: =IF(AND(ISNUMBER(P29),ISNUMBER(P51)),P29-P51,"") -> -7.6432443 | R40: =IF(AND(ISNUMBER(R29),ISNUMBER(R51)),R29-R51,"") -> 6.4526901 | T40: =IF(AND(ISNUMBER(T29),ISNUMBER(T51)),T29-T51,"") -> -6.8616087 | V40: =IF(AND(ISNUMBER(V29),ISNUMBER(V51)),V29-V51,"") -> -0.60405077
B41: 機械等の共同利用 | D41: =IF(AND(ISNUMBER(D30),ISNUMBER(D52)),D30-D52,"") -> 0.3411844 | F41: =IF(AND(ISNUMBER(F30),ISNUMBER(F52)),F30-F52,"") -> 0.11616184 | H41: =IF(AND(ISNUMBER(H30),ISNUMBER(H52)),H30-H52,"") -> -0.15815398 | J41: =IF(AND(ISNUMBER(J30),ISNUMBER(J52)),J30-J52,"") -> 0.85796335 | L41: =IF(AND(ISNUMBER(L30),ISNUMBER(L52)),L30-L52,"") -> -1.1926987 | N41: =IF(AND(ISNUMBER(N30),ISNUMBER(N52)),N30-N52,"") -> 0.2352951 | P41: =IF(AND(ISNUMBER(P30),ISNUMBER(P52)),P30-P52,"") -> 0.70783497 | R41: =IF(AND(ISNUMBER(R30),ISNUMBER(R52)),R30-R52,"") | T41: =IF(AND(ISNUMBER(T30),ISNUMBER(T52)),T30-T52,"") | V41: =IF(AND(ISNUMBER(V30),ISNUMBER(V52)),V30-V52,"") -> 0.32868305
B42: 金融（斡旋・転貸） | D42: =IF(AND(ISNUMBER(D31),ISNUMBER(D53)),D31-D53,"") -> -0.18348791 | F42: =IF(AND(ISNUMBER(F31),ISNUMBER(F53)),F31-F53,"") -> -0.69041376 | H42: =IF(AND(ISNUMBER(H31),ISNUMBER(H53)),H31-H53,"") -> -0.18152163 | J42: =IF(AND(ISNUMBER(J31),ISNUMBER(J53)),J31-J53,"") -> 1.2930805 | L42: =IF(AND(ISNUMBER(L31),ISNUMBER(L53)),L31-L53,"") -> 0.62959137 | N42: =IF(AND(ISNUMBER(N31),ISNUMBER(N53)),N31-N53,"") -> 0.57397152 | P42: =IF(AND(ISNUMBER(P31),ISNUMBER(P53)),P31-P53,"") -> -0.69441416 | R42: =IF(AND(ISNUMBER(R31),ISNUMBER(R53)),R31-R53,"") | T42: =IF(AND(ISNUMBER(T31),ISNUMBER(T53)),T31-T53,"") | V42: =IF(AND(ISNUMBER(V31),ISNUMBER(V53)),V31-V53,"") -> 0.37703234
B43: 教育訓練 | D43: =IF(AND(ISNUMBER(D32),ISNUMBER(D54)),D32-D54,"") -> 2.1733984 | F43: =IF(AND(ISNUMBER(F32),ISNUMBER(F54)),F32-F54,"") -> -0.46232356 | H43: =IF(AND(ISNUMBER(H32),ISNUMBER(H54)),H32-H54,"") -> -4.4692332 | J43: =IF(AND(ISNUMBER(J32),ISNUMBER(J54)),J32-J54,"") -> -2.7202471 | L43: =IF(AND(ISNUMBER(L32),ISNUMBER(L54)),L32-L54,"") -> -5.2351308 | N43: =IF(AND(ISNUMBER(N32),ISNUMBER(N54)),N32-N54,"") -> -2.6015234 | P43: =IF(AND(ISNUMBER(P32),ISNUMBER(P54)),P32-P54,"") -> 3.2818486 | R43: =IF(AND(ISNUMBER(R32),ISNUMBER(R54)),R32-R54,"") -> -7.5528184 | T43: =IF(AND(ISNUMBER(T32),ISNUMBER(T54)),T32-T54,"") -> -9.073721 | V43: =IF(AND(ISNUMBER(V32),ISNUMBER(V54)),V32-V54,"") -> -1.3385001
B44: 情報交換 | D44: =IF(AND(ISNUMBER(D33),ISNUMBER(D55)),D33-D55,"") -> -3.9226456 | F44: =IF(AND(ISNUMBER(F33),ISNUMBER(F55)),F33-F55,"") -> -5.8821088 | H44: =IF(AND(ISNUMBER(H33),ISNUMBER(H55)),H33-H55,"") -> -4.9457115 | J44: =IF(AND(ISNUMBER(J33),ISNUMBER(J55)),J33-J55,"") -> -2.27133 | L44: =IF(AND(ISNUMBER(L33),ISNUMBER(L55)),L33-L55,"") -> -1.2767191 | N44: =IF(AND(ISNUMBER(N33),ISNUMBER(N55)),N33-N55,"") -> 3.5345463 | P44: =IF(AND(ISNUMBER(P33),ISNUMBER(P55)),P33-P55,"") -> 4.9499928 | R44: =IF(AND(ISNUMBER(R33),ISNUMBER(R55)),R33-R55,"") -> 4.4319067 | T44: =IF(AND(ISNUMBER(T33),ISNUMBER(T55)),T33-T55,"") -> 10.418222 | V44: =IF(AND(ISNUMBER(V33),ISNUMBER(V55)),V33-V55,"") -> -2.8377464
B45: 福利厚生 | D45: =IF(AND(ISNUMBER(D34),ISNUMBER(D56)),D34-D56,"") -> -0.46158336 | F45: =IF(AND(ISNUMBER(F34),ISNUMBER(F56)),F34-F56,"") -> 1.4033634 | H45: =IF(AND(ISNUMBER(H34),ISNUMBER(H56)),H34-H56,"") -> 4.5737559 | J45: =IF(AND(ISNUMBER(J34),ISNUMBER(J56)),J34-J56,"") -> 7.5717989 | L45: =IF(AND(ISNUMBER(L34),ISNUMBER(L56)),L34-L56,"") -> 7.309652 | N45: =IF(AND(ISNUMBER(N34),ISNUMBER(N56)),N34-N56,"") -> -0.40319565 | P45: =IF(AND(ISNUMBER(P34),ISNUMBER(P56)),P34-P56,"") -> -4.9073393 | R45: =IF(AND(ISNUMBER(R34),ISNUMBER(R56)),R34-R56,"") -> -2.8955423 | T45: =IF(AND(ISNUMBER(T34),ISNUMBER(T56)),T34-T56,"") -> -8.7111236 | V45: =IF(AND(ISNUMBER(V34),ISNUMBER(V56)),V34-V56,"") -> 4.3138431
B46: 経営・施工管理の指導 | D46: =IF(AND(ISNUMBER(D35),ISNUMBER(D57)),D35-D57,"") -> -6.9167776 | F46: =IF(AND(ISNUMBER(F35),ISNUMBER(F57)),F35-F57,"") -> 6.1764581 | H46: =IF(AND(ISNUMBER(H35),ISNUMBER(H57)),H35-H57,"") -> -0.32591772 | J46: =IF(AND(ISNUMBER(J35),ISNUMBER(J57)),J35-J57,"") -> 0.093103216 | L46: =IF(AND(ISNUMBER(L35),ISNUMBER(L57)),L35-L57,"") -> -4.9825885 | N46: =IF(AND(ISNUMBER(N35),ISNUMBER(N57)),N35-N57,"") -> 1.5813918 | P46: =IF(AND(ISNUMBER(P35),ISNUMBER(P57)),P35-P57,"") -> -2.0276295 | R46: =IF(AND(ISNUMBER(R35),ISNUMBER(R57)),R35-R57,"") -> 5.7649579 | T46: =IF(AND(ISNUMBER(T35),ISNUMBER(T57)),T35-T57,"") -> 3.5453859 | V46: =IF(AND(ISNUMBER(V35),ISNUMBER(V57)),V35-V57,"") -> -0.28192027
B47: 共同受注 | D47: =IF(AND(ISNUMBER(D36),ISNUMBER(D58)),D36-D58,"") -> 7.8553668 | F47: =IF(AND(ISNUMBER(F36),ISNUMBER(F58)),F36-F58,"") -> -2.44418 | H47: =IF(AND(ISNUMBER(H36),ISNUMBER(H58)),H36-H58,"") -> -0.29271781 | J47: =IF(AND(ISNUMBER(J36),ISNUMBER(J58)),J36-J58,"") -> -1.8601652 | L47: =IF(AND(ISNUMBER(L36),ISNUMBER(L58)),L36-L58,"") -> 1.4478765 | N47: =IF(AND(ISNUMBER(N36),ISNUMBER(N58)),N36-N58,"") -> -2.4721734 | P47: =IF(AND(ISNUMBER(P36),ISNUMBER(P58)),P36-P58,"") -> 7.257478 | R47: =IF(AND(ISNUMBER(R36),ISNUMBER(R58)),R36-R58,"") -> 0.50060439 | T47: =IF(AND(ISNUMBER(T36),ISNUMBER(T58)),T36-T58,"") | V47: =IF(AND(ISNUMBER(V36),ISNUMBER(V58)),V36-V58,"") -> -0.092409713
B48: 新事業分野への進出支援 | D48: =IF(AND(ISNUMBER(D37),ISNUMBER(D59)),D37-D59,"") -> -0.48712365 | F48: =IF(AND(ISNUMBER(F37),ISNUMBER(F59)),F37-F59,"") -> -0.75214685 | H48: =IF(AND(ISNUMBER(H37),ISNUMBER(H59)),H37-H59,"") -> 2.773676 | J48: =IF(AND(ISNUMBER(J37),ISNUMBER(J59)),J37-J59,"") -> -0.86109348 | L48: =IF(AND(ISNUMBER(L37),ISNUMBER(L59)),L37-L59,"") -> -0.43789598 | N48: =IF(AND(ISNUMBER(N37),ISNUMBER(N59)),N37-N59,"") -> 0.76165881 | P48: =IF(AND(ISNUMBER(P37),ISNUMBER(P59)),P37-P59,"") -> 2.5588018 | R48: =IF(AND(ISNUMBER(R37),ISNUMBER(R59)),R37-R59,"") -> -2.0637689 | T48: =IF(AND(ISNUMBER(T37),ISNUMBER(T59)),T37-T59,"") | V48: =IF(AND(ISNUMBER(V37),ISNUMBER(V59)),V37-V59,"") -> -0.33458028
B49: その他 | D49: =IF(AND(ISNUMBER(D38),ISNUMBER(D60)),D38-D60,"") -> 4.5568054 | F49: =IF(AND(ISNUMBER(F38),ISNUMBER(F60)),F38-F60,"") -> -1.3782734 | H49: =IF(AND(ISNUMBER(H38),ISNUMBER(H60)),H38-H60,"") -> 1.1997849 | J49: =IF(AND(ISNUMBER(J38),ISNUMBER(J60)),J38-J60,"") -> 2.7828828 | L49: =IF(AND(ISNUMBER(L38),ISNUMBER(L60)),L38-L60,"") -> 0.33368788 | N49: =IF(AND(ISNUMBER(N38),ISNUMBER(N60)),N38-N60,"") -> 1.61175 | P49: =IF(AND(ISNUMBER(P38),ISNUMBER(P60)),P38-P60,"") -> 2.8142775 | R49: =IF(AND(ISNUMBER(R38),ISNUMBER(R60)),R38-R60,"") -> 7.4405654 | T49: =IF(AND(ISNUMBER(T38),ISNUMBER(T60)),T38-T60,"") -> 3.66579 | V49: =IF(AND(ISNUMBER(V38),ISNUMBER(V60)),V38-V60,"") -> 1.611221
D50: - | F50: - | H50: - | J50: - | L50: - | N50: - | P50: - | R50: - | T50: - | V50: -
A51: H23 年度 | B51: 共同購入 | C51: 456.94 | D51: 4.3 | E51: 3193.46 | F51: 23.4 | G51: 1553.17 | H51: 19.2 | I51: 6765.78 | J51: 23.6 | K51: 998.66 | L51: 17.5 | M51: 324.79 | N51: 18.1 | O51: 35.41 | P51: 17.2 | Q51: 5.87 | R51: 12.9 | S51: 7.63 | T51: 17.9 | U51: 13341.71 | V51: 19.4
B52: 機械等の共同利用 | C52: 207.87 | D52: 2 | E52: 799.22 | F52: 5.9 | G52: 309.81 | H52: 3.8 | I52: 775.84 | J52: 2.7 | K52: 259.99 | L52: 4.6 | M52: 46.09 | N52: 2.6 | O52: 3.64 | P52: 1.8 | U52: 2402.46 | V52: 3.5
B53: 金融（斡旋・転貸） | C53: 448.71 | D53: 4.2 | E53: 295.78 | F53: 2.2 | G53: 174.38 | H53: 2.2 | I53: 499.22 | J53: 1.7 | K53: 98.3 | L53: 1.7 | M53: 40.46 | N53: 2.3 | O53: 9.68 | P53: 4.7 | U53: 1566.53 | V53: 2.3
B54: 教育訓練 | C54: 4120.33 | D54: 38.8 | E54: 6952.93 | F54: 50.9 | G54: 4396.14 | H54: 54.5 | I54: 18342.07 | J54: 63.9 | K54: 3773.1 | L54: 66.2 | M54: 1134.74 | N54: 63.4 | O54: 129.74 | P54: 63 | Q54: 30.95 | R54: 67.8 | S54: 19.74 | T54: 46.4 | U54: 38899.74 | V54: 56.5
B55: 情報交換 | C55: 7216.61 | D55: 67.9 | E55: 9462.04 | F55: 69.3 | G55: 6176.86 | H55: 76.6 | I55: 21928.22 | J55: 76.4 | K55: 4471.82 | L55: 78.4 | M55: 1352.2 | N55: 75.5 | O55: 160.63 | P55: 78 | Q55: 35.3 | R55: 77.4 | S55: 32.41 | T55: 76.1 | U55: 50836.08 | V55: 73.8
B56: 福利厚生 | C56: 3594.87 | D56: 33.8 | E56: 4203.44 | F56: 30.8 | G56: 2227.27 | H56: 27.6 | I56: 6343.74 | J56: 22.1 | K56: 1084.78 | L56: 19 | M56: 347.87 | N56: 19.4 | O56: 51.5 | P56: 25 | Q56: 14.52 | R56: 31.8 | S56: 8.76 | T56: 20.6 | U56: 17876.75 | V56: 26
B57: 経営・施工管理の指導 | C57: 3019.62 | D57: 28.4 | E57: 1408.86 | F57: 10.3 | G57: 1345.75 | H57: 16.7 | I57: 5184.78 | J57: 18.1 | K57: 1467.04 | L57: 25.7 | M57: 314.86 | N57: 17.6 | O57: 37.9 | P57: 18.4 | Q57: 14.02 | R57: 30.7 | S57: 2.33 | T57: 5.5 | U57: 12795.17 | V57: 18.6
B58: 共同受注 | C58: 169.03 | D58: 1.6 | E58: 2087.82 | F58: 15.3 | G58: 636.16 | H58: 7.9 | I58: 3043.47 | J58: 10.6 | K58: 622.6 | L58: 10.9 | M58: 169.84 | N58: 9.5 | O58: 4.52 | P58: 2.2 | Q58: 5 | R58: 11 | U58: 6738.44 | V58: 9.8
B59: 新事業分野への進出支援 | C59: 481.99 | D59: 4.5 | E59: 349.35 | F59: 2.6 | G59: 151.27 | H59: 1.9 | I59: 806.5 | J59: 2.8 | K59: 263.12 | L59: 4.6 | M59: 42.19 | N59: 2.4 | O59: 4.03 | P59: 2 | Q59: 3.17 | R59: 7 | U59: 2101.63 | V59: 3.1
B60: その他 | C60: 2100.27 | D60: 19.8 | E60: 2220.74 | F60: 16.3 | G60: 1120.26 | H60: 13.9 | I60: 3695.3 | J60: 12.9 | K60: 573.73 | L60: 10.1 | M60: 228.32 | N60: 12.8 | O60: 17.78 | P60: 8.6 | Q60: 5.19 | R60: 11.4 | S60: 3.08 | T60: 7.2 | U60: 9964.66 | V60: 14.5
C61: 10621.96 | D61: 100 | E61: 13649.48 | F61: 100 | G61: 8068.5 | H61: 100 | I61: 28719.84 | J61: 100 | K61: 5700.68 | L61: 100 | M61: 1790.41 | N61: 100 | O61: 205.95 | P61: 100 | Q61: 45.62 | R61: 100 | S61: 42.58 | T61: 100 | U61: 68845.02 | V61: 100
A62: 増減 | B62: 共同購入 | D62: =IF(AND(ISNUMBER(D51),ISNUMBER(D73)),D51-D73,"") -> -7.3 | F62: =IF(AND(ISNUMBER(F51),ISNUMBER(F73)),F51-F73,"") -> 1.3 | H62: =IF(AND(ISNUMBER(H51),ISNUMBER(H73)),H51-H73,"") -> 1.7 | J62: =IF(AND(ISNUMBER(J51),ISNUMBER(J73)),J51-J73,"") -> 1 | L62: =IF(AND(ISNUMBER(L51),ISNUMBER(L73)),L51-L73,"") -> -3.9 | N62: =IF(AND(ISNUMBER(N51),ISNUMBER(N73)),N51-N73,"") -> -3.2 | P62: =IF(AND(ISNUMBER(P51),ISNUMBER(P73)),P51-P73,"") -> -1.5 | R62: =IF(AND(ISNUMBER(R51),ISNUMBER(R73)),R51-R73,"") -> 1.2 | T62: =IF(AND(ISNUMBER(T51),ISNUMBER(T73)),T51-T73,"") -> 12 | V62: =IF(AND(ISNUMBER(V51),ISNUMBER(V73)),V51-V73,"") -> -1.2
B63: 機械等の共同利用 | D63: =IF(AND(ISNUMBER(D52),ISNUMBER(D74)),D52-D74,"") -> -3.1 | F63: =IF(AND(ISNUMBER(F52),ISNUMBER(F74)),F52-F74,"") -> -2 | H63: =IF(AND(ISNUMBER(H52),ISNUMBER(H74)),H52-H74,"") -> -0.4 | J63: =IF(AND(ISNUMBER(J52),ISNUMBER(J74)),J52-J74,"") -> -1.2 | L63: =IF(AND(ISNUMBER(L52),ISNUMBER(L74)),L52-L74,"") -> 1.6 | N63: =IF(AND(ISNUMBER(N52),ISNUMBER(N74)),N52-N74,"") -> -1.1 | P63: =IF(AND(ISNUMBER(P52),ISNUMBER(P74)),P52-P74,"") -> -0.8 | R63: =IF(AND(ISNUMBER(R52),ISNUMBER(R74)),R52-R74,"") | T63: =IF(AND(ISNUMBER(T52),ISNUMBER(T74)),T52-T74,"") | V63: =IF(AND(ISNUMBER(V52),ISNUMBER(V74)),V52-V74,"") -> -1.2
B64: 金融（斡旋・転貸） | D64: =IF(AND(ISNUMBER(D53),ISNUMBER(D75)),D53-D75,"") -> -0.9 | F64: =IF(AND(ISNUMBER(F53),ISNUMBER(F75)),F53-F75,"") -> -1.6 | H64: =IF(AND(ISNUMBER(H53),ISNUMBER(H75)),H53-H75,"") -> 0 | J64: =IF(AND(ISNUMBER(J53),ISNUMBER(J75)),J53-J75,"") -> -1.2 | L64: =IF(AND(ISNUMBER(L53),ISNUMBER(L75)),L53-L75,"") -> -1.3 | N64: =IF(AND(ISNUMBER(N53),ISNUMBER(N75)),N53-N75,"") -> -2 | P64: =IF(AND(ISNUMBER(P53),ISNUMBER(P75)),P53-P75,"") -> 0.6 | R64: =IF(AND(ISNUMBER(R53),ISNUMBER(R75)),R53-R75,"") | T64: =IF(AND(ISNUMBER(T53),ISNUMBER(T75)),T53-T75,"") | V64: =IF(AND(ISNUMBER(V53),ISNUMBER(V75)),V53-V75,"") -> -1
B65: 教育訓練 | D65: =IF(AND(ISNUMBER(D54),ISNUMBER(D76)),D54-D76,"") -> -15.8 | F65: =IF(AND(ISNUMBER(F54),ISNUMBER(F76)),F54-F76,"") -> -3.6 | H65: =IF(AND(ISNUMBER(H54),ISNUMBER(H76)),H54-H76,"") -> 0.8 | J65: =IF(AND(ISNUMBER(J54),ISNUMBER(J76)),J54-J76,"") -> 0.8 | L65: =IF(AND(ISNUMBER(L54),ISNUMBER(L76)),L54-L76,"") -> 0.1 | N65: =IF(AND(ISNUMBER(N54),ISNUMBER(N76)),N54-N76,"") -> -2.3 | P65: =IF(AND(ISNUMBER(P54),ISNUMBER(P76)),P54-P76,"") -> 6.3 | R65: =IF(AND(ISNUMBER(R54),ISNUMBER(R76)),R54-R76,"") -> 10.1 | T65: =IF(AND(ISNUMBER(T54),ISNUMBER(T76)),T54-T76,"") -> 16.9 | V65: =IF(AND(ISNUMBER(V54),ISNUMBER(V76)),V54-V76,"") -> -3.4
B66: 情報交換 | D66: =IF(AND(ISNUMBER(D55),ISNUMBER(D77)),D55-D77,"") -> 2 | F66: =IF(AND(ISNUMBER(F55),ISNUMBER(F77)),F55-F77,"") -> 1.4 | H66: =IF(AND(ISNUMBER(H55),ISNUMBER(H77)),H55-H77,"") -> 4.1 | J66: =IF(AND(ISNUMBER(J55),ISNUMBER(J77)),J55-J77,"") -> -1.1 | L66: =IF(AND(ISNUMBER(L55),ISNUMBER(L77)),L55-L77,"") -> -0.6 | N66: =IF(AND(ISNUMBER(N55),ISNUMBER(N77)),N55-N77,"") -> -3.1 | P66: =IF(AND(ISNUMBER(P55),ISNUMBER(P77)),P55-P77,"") -> -0.9 | R66: =IF(AND(ISNUMBER(R55),ISNUMBER(R77)),R55-R77,"") -> -5 | T66: =IF(AND(ISNUMBER(T55),ISNUMBER(T77)),T55-T77,"") -> 22.7 | V66: =IF(AND(ISNUMBER(V55),ISNUMBER(V77)),V55-V77,"") -> -0.3
B67: 福利厚生 | D67: =IF(AND(ISNUMBER(D56),ISNUMBER(D78)),D56-D78,"") -> -6.4 | F67: =IF(AND(ISNUMBER(F56),ISNUMBER(F78)),F56-F78,"") -> 5.4 | H67: =IF(AND(ISNUMBER(H56),ISNUMBER(H78)),H56-H78,"") -> -1.2 | J67: =IF(AND(ISNUMBER(J56),ISNUMBER(J78)),J56-J78,"") -> -2.9 | L67: =IF(AND(ISNUMBER(L56),ISNUMBER(L78)),L56-L78,"") -> -6.5 | N67: =IF(AND(ISNUMBER(N56),ISNUMBER(N78)),N56-N78,"") -> -6.2 | P67: =IF(AND(ISNUMBER(P56),ISNUMBER(P78)),P56-P78,"") -> 2.7 | R67: =IF(AND(ISNUMBER(R56),ISNUMBER(R78)),R56-R78,"") -> 11.5 | T67: =IF(AND(ISNUMBER(T56),ISNUMBER(T78)),T56-T78,"") -> 10.9 | V67: =IF(AND(ISNUMBER(V56),ISNUMBER(V78)),V56-V78,"") -> -1.2
B68: 経営・施工管理の指導 | D68: =IF(AND(ISNUMBER(D57),ISNUMBER(D79)),D57-D79,"") -> 3 | F68: =IF(AND(ISNUMBER(F57),ISNUMBER(F79)),F57-F79,"") -> -11.9 | H68: =IF(AND(ISNUMBER(H57),ISNUMBER(H79)),H57-H79,"") -> -6.7 | J68: =IF(AND(ISNUMBER(J57),ISNUMBER(J79)),J57-J79,"") -> -4.5 | L68: =IF(AND(ISNUMBER(L57),ISNUMBER(L79)),L57-L79,"") -> -0.7 | N68: =IF(AND(ISNUMBER(N57),ISNUMBER(N79)),N57-N79,"") -> -9 | P68: =IF(AND(ISNUMBER(P57),ISNUMBER(P79)),P57-P79,"") -> 0.8 | R68: =IF(AND(ISNUMBER(R57),ISNUMBER(R79)),R57-R79,"") -> 6.8 | T68: =IF(AND(ISNUMBER(T57),ISNUMBER(T79)),T57-T79,"") -> -16.7 | V68: =IF(AND(ISNUMBER(V57),ISNUMBER(V79)),V57-V79,"") -> -4.8
B69: 共同受注 | D69: =IF(AND(ISNUMBER(D58),ISNUMBER(D80)),D58-D80,"") -> -5.5 | F69: =IF(AND(ISNUMBER(F58),ISNUMBER(F80)),F58-F80,"") -> 5.3 | H69: =IF(AND(ISNUMBER(H58),ISNUMBER(H80)),H58-H80,"") -> -2.2 | J69: =IF(AND(ISNUMBER(J58),ISNUMBER(J80)),J58-J80,"") -> 1.8 | L69: =IF(AND(ISNUMBER(L58),ISNUMBER(L80)),L58-L80,"") -> 0.1 | N69: =IF(AND(ISNUMBER(N58),ISNUMBER(N80)),N58-N80,"") -> 1.1 | P69: =IF(AND(ISNUMBER(P58),ISNUMBER(P80)),P58-P80,"") -> -4.6 | R69: =IF(AND(ISNUMBER(R58),ISNUMBER(R80)),R58-R80,"") | T69: =IF(AND(ISNUMBER(T58),ISNUMBER(T80)),T58-T80,"") | V69: =IF(AND(ISNUMBER(V58),ISNUMBER(V80)),V58-V80,"") -> 0.7
B70: 新事業分野への進出支援 | D70: =IF(AND(ISNUMBER(D59),ISNUMBER(D81)),D59-D81,"") -> 2.9 | F70: =IF(AND(ISNUMBER(F59),ISNUMBER(F81)),F59-F81,"") -> -1.3 | H70: =IF(AND(ISNUMBER(H59),ISNUMBER(H81)),H59-H81,"") -> 0.7 | J70: =IF(AND(ISNUMBER(J59),ISNUMBER(J81)),J59-J81,"") -> -0.3 | L70: =IF(AND(ISNUMBER(L59),ISNUMBER(L81)),L59-L81,"") -> 0.6 | N70: =IF(AND(ISNUMBER(N59),ISNUMBER(N81)),N59-N81,"") -> -1.5 | P70: =IF(AND(ISNUMBER(P59),ISNUMBER(P81)),P59-P81,"") -> -0.9 | R70: =IF(AND(ISNUMBER(R59),ISNUMBER(R81)),R59-R81,"") | T70: =IF(AND(ISNUMBER(T59),ISNUMBER(T81)),T59-T81,"") | V70: =IF(AND(ISNUMBER(V59),ISNUMBER(V81)),V59-V81,"") -> 0.1
B71: その他 | D71: =IF(AND(ISNUMBER(D60),ISNUMBER(D82)),D60-D82,"") -> 4.1 | F71: =IF(AND(ISNUMBER(F60),ISNUMBER(F82)),F60-F82,"") -> -3 | H71: =IF(AND(ISNUMBER(H60),ISNUMBER(H82)),H60-H82,"") -> -2.8 | J71: =IF(AND(ISNUMBER(J60),ISNUMBER(J82)),J60-J82,"") -> -1.1 | L71: =IF(AND(ISNUMBER(L60),ISNUMBER(L82)),L60-L82,"") -> -3.6 | N71: =IF(AND(ISNUMBER(N60),ISNUMBER(N82)),N60-N82,"") -> -0.1 | P71: =IF(AND(ISNUMBER(P60),ISNUMBER(P82)),P60-P82,"") -> -2.3 | R71: =IF(AND(ISNUMBER(R60),ISNUMBER(R82)),R60-R82,"") -> 1.8 | T71: =IF(AND(ISNUMBER(T60),ISNUMBER(T82)),T60-T82,"") -> -7.7 | V71: =IF(AND(ISNUMBER(V60),ISNUMBER(V82)),V60-V82,"") -> -0.8
D72: - | F72: - | H72: - | J72: - | L72: - | N72: - | P72: - | R72: - | T72: - | V72: -
A73: H20 年度 | B73: 共同購入 | C73: 950 | D73: 11.6 | E73: 2889 | F73: 22.1 | G73: 1256 | H73: 17.5 | I73: 7903 | J73: 22.6 | K73: 1370 | L73: 21.4 | M73: 402 | N73: 21.3 | O73: 50 | P73: 18.7 | Q73: 6 | R73: 11.7 | S73: 4 | T73: 5.9 | U73: 14832 | V73: 20.6
B74: 機械等の共同利用 | C74: 414 | D74: 5.1 | E74: 1031 | F74: 7.9 | G74: 300 | H74: 4.2 | I74: 1360 | J74: 3.9 | K74: 192 | L74: 3 | M74: 70 | N74: 3.7 | O74: 7 | P74: 2.6 | Q74: 1 | R74: 2.5 | S74: 3 | T74: 4 | U74: 3378 | V74: 4.7
B75: 金融（斡旋・転貸） | C75: 419 | D75: 5.1 | E75: 496 | F75: 3.8 | G75: 157 | H75: 2.2 | I75: 1027 | J75: 2.9 | K75: 191 | L75: 3 | M75: 81 | N75: 4.3 | O75: 11 | P75: 4.1 | S75: 1 | T75: 2.1 | U75: 2383 | V75: 3.3
B76: 教育訓練 | C76: 4463 | D76: 54.6 | E76: 7126 | F76: 54.5 | G76: 3858 | H76: 53.7 | I76: 22015 | J76: 63.1 | K76: 4232 | L76: 66.1 | M76: 1241 | N76: 65.7 | O76: 153 | P76: 56.7 | Q76: 32 | R76: 57.7 | S76: 21 | T76: 29.5 | U76: 43140 | V76: 59.9
B77: 情報交換 | C77: 5387 | D77: 65.9 | E77: 8879 | F77: 67.9 | G77: 5212 | H77: 72.5 | I77: 27044 | J77: 77.5 | K77: 5058 | L77: 79 | M77: 1485 | N77: 78.6 | O77: 212 | P77: 78.9 | Q77: 45 | R77: 82.4 | S77: 38 | T77: 53.4 | U77: 53361 | V77: 74.1
B78: 福利厚生 | C78: 3283 | D78: 40.2 | E78: 3325 | F78: 25.4 | G78: 2069 | H78: 28.8 | I78: 8731 | J78: 25 | K78: 1633 | L78: 25.5 | M78: 483 | N78: 25.6 | O78: 60 | P78: 22.3 | Q78: 11 | R78: 20.3 | S78: 7 | T78: 9.7 | U78: 19603 | V78: 27.2
B79: 経営・施工管理の指導 | C79: 2075 | D79: 25.4 | E79: 2903 | F79: 22.2 | G79: 1679 | H79: 23.4 | I79: 7888 | J79: 22.6 | K79: 1693 | L79: 26.4 | M79: 503 | N79: 26.6 | O79: 47 | P79: 17.6 | Q79: 13 | R79: 23.9 | S79: 16 | T79: 22.2 | U79: 16818 | V79: 23.4
B80: 共同受注 | C80: 583 | D80: 7.1 | E80: 1305 | F80: 10 | G80: 728 | H80: 10.1 | I80: 3073 | J80: 8.8 | K80: 694 | L80: 10.8 | M80: 159 | N80: 8.4 | O80: 18 | P80: 6.8 | U80: 6560 | V80: 9.1
B81: 新事業分野への進出支援 | C81: 134 | D81: 1.6 | E81: 510 | F81: 3.9 | G81: 83 | H81: 1.2 | I81: 1086 | J81: 3.1 | K81: 256 | L81: 4 | M81: 74 | N81: 3.9 | O81: 8 | P81: 2.9 | S81: 28 | T81: 38.6 | U81: 2178 | V81: 3
B82: その他 | C82: 1283 | D82: 15.7 | E82: 2523 | F82: 19.3 | G82: 1197 | H82: 16.7 | I82: 4880 | J82: 14 | K82: 876 | L82: 13.7 | M82: 244 | N82: 12.9 | O82: 29 | P82: 10.9 | Q82: 5 | R82: 9.6 | S82: 11 | T82: 14.9 | U82: 11049 | V82: 15.3
C83: 8169 | D83: 100 | E83: 13069 | F83: 100 | G83: 7189 | H83: 100 | I83: 34912 | J83: 100 | K83: 6401 | L83: 100 | M83: 1888 | N83: 100 | O83: 269 | P83: 100 | Q83: 55 | R83: 100 | S83: 71 | T83: 100 | U83: 72024 | V83: 100
A84: 増減 | B84: 共同購入 | D84: =D73-D95 -> 0.8 | F84: =F73-F95 -> 0.1 | H84: =H73-H95 -> -3.6 | J84: =J73-J95 -> -3.4 | L84: =L73-L95 -> -3.3 | N84: =N73-N95 -> -1.5 | P84: =P73-P95 -> -3.5 | R84: =R73-R95 -> -2.4 | T84: =T73-T95 -> -3.6 | V84: =V73-V95 -> -1.4
B85: 機械等の共同利用 | D85: =D74-D96 -> 1.2 | F85: =F74-F96 -> 2.4 | H85: =H74-H96 -> 0.7 | J85: =J74-J96 -> 0.8 | L85: =L74-L96 -> -1.2 | N85: =N74-N96 -> 1 | P85: =P74-P96 -> -1 | R85: =R74-R96 -> 1.4 | T85: =T74-T96 -> -1.4 | V85: =V74-V96 -> 0.9
B86: 金融（斡旋・転貸） | D86: =D75-D97 -> 4.1 | F86: =F75-F97 -> 2 | H86: =H75-H97 -> -0.3 | J86: =J75-J97 -> -0.3 | L86: =L75-L97 -> -0.7 | N86: =N75-N97 -> -0.4 | P86: =P75-P97 -> 0 | R86: =R75-R97 -> -2.8 | T86: =T75-T97 -> 2.1 | V86: =V75-V97 -> 0.7
B87: 教育訓練 | D87: =D76-D98 -> 10.4 | F87: =F76-F98 -> 2 | H87: =H76-H98 -> 0.2 | J87: =J76-J98 -> -1.4 | L87: =L76-L98 -> 0.7 | N87: =N76-N98 -> -1.7 | P87: =P76-P98 -> -6.3 | R87: =R76-R98 -> -5.7 | T87: =T76-T98 -> -7.1 | V87: =V76-V98 -> 1.9
B88: 情報交換 | D88: =D77-D99 -> 1.8 | F88: =F77-F99 -> 1.2 | H88: =H77-H99 -> -1.5 | J88: =J77-J99 -> 2.1 | L88: =L77-L99 -> 1.9 | N88: =N77-N99 -> 0 | P88: =P77-P99 -> -0.6 | R88: =R77-R99 -> 7.9 | T88: =T77-T99 -> -21.5 | V88: =V77-V99 -> 2
B89: 福利厚生 | D89: =D78-D100 -> 7.5 | F89: =F78-F100 -> -7.6 | H89: =H78-H100 -> -0.2 | J89: =J78-J100 -> -2.2 | L89: =L78-L100 -> -0.3 | N89: =N78-N100 -> -0.6 | P89: =P78-P100 -> -9.5 | R89: =R78-R100 -> -7.4 | T89: =T78-T100 -> -17.6 | V89: =V78-V100 -> -2
B90: 経営・施工管理の指導 | D90: =D79-D101 -> -1.8 | F90: =F79-F101 -> 3.8 | H90: =H79-H101 -> 1.3 | J90: =J79-J101 -> -1.2 | L90: =L79-L101 -> 0 | N90: =N79-N101 -> -0.5 | P90: =P79-P101 -> -1.4 | R90: =R79-R101 -> 5 | T90: =T79-T101 -> 2.7 | V90: =V79-V101 -> -0.1
B91: 共同受注 | D91: =D80-D102 -> 0.3 | F91: =F80-F102 -> 0.9 | H91: =H80-H102 -> 0.8 | J91: =J80-J102 -> -0.5 | L91: =L80-L102 -> -0.7 | N91: =N80-N102 -> -2.1 | P91: =P80-P102 -> -3.7 | R91: =R80-R102 -> -5.3 | T91: =T80-T102 -> -2.7 | V91: =V80-V102 -> 0.1
B92: 新事業分野への進出支援 | D92: =D81-D103 -> -1.4 | F92: =F81-F103 -> 1 | H92: =H81-H103 -> -2 | J92: =J81-J103 -> -0.5 | L92: =L81-L103 -> 0.1 | N92: =N81-N103 -> -0.7 | P92: =P81-P103 -> -1.4 | R92: =R81-R103 -> -1.3 | T92: =T81-T103 -> 24.2 | V92: =V81-V103 -> -0.4
B93: その他 | D93: =D82-D104 -> -2.8 | F93: =F82-F104 -> 1.6 | H93: =H82-H104 -> 2.8 | J93: =J82-J104 -> 0.9 | L93: =L82-L104 -> 2.3 | N93: =N82-N104 -> 3 | P93: =P82-P104 -> -1.2 | R93: =R82-R104 -> -12.4 | T93: =T82-T104 -> 0.2 | V93: =V82-V104 -> 0.6
D94: - | F94: - | H94: - | J94: - | L94: - | N94: - | P94: - | R94: - | T94: - | V94: -
A95: H17 年度 | B95: 共同購入 | C95: 1589 | D95: 10.8 | E95: 3234 | F95: 22 | G95: 1895 | H95: 21.1 | I95: 9967 | J95: 26 | K95: 1715 | L95: 24.7 | M95: 472 | N95: 22.8 | O95: 82 | P95: 22.2 | Q95: 11 | R95: 14.1 | S95: 5 | T95: 9.5 | U95: 18970 | V95: 22
B96: 機械等の共同利用 | C96: 574 | D96: 3.9 | E96: 805 | F96: 5.5 | G96: 311 | H96: 3.5 | I96: 1197 | J96: 3.1 | K96: 292 | L96: 4.2 | M96: 55 | N96: 2.7 | O96: 13 | P96: 3.6 | Q96: 1 | R96: 1.1 | S96: 3 | T96: 5.4 | U96: 3251 | V96: 3.8
B97: 金融（斡旋・転貸） | C97: 149 | D97: 1 | E97: 270 | F97: 1.8 | G97: 225 | H97: 2.5 | I97: 1215 | J97: 3.2 | K97: 257 | L97: 3.7 | M97: 97 | N97: 4.7 | O97: 15 | P97: 4.1 | Q97: 2 | R97: 2.8 | U97: 2231 | V97: 2.6
B98: 教育訓練 | C98: 6497 | D98: 44.2 | E98: 7718 | F98: 52.5 | G98: 4805 | H98: 53.5 | I98: 24720 | J98: 64.5 | K98: 4549 | L98: 65.4 | M98: 1398 | N98: 67.4 | O98: 233 | P98: 63 | Q98: 49 | R98: 63.4 | S98: 20 | T98: 36.6 | U98: 49989 | V98: 58
B99: 情報交換 | C99: 9426 | D99: 64.1 | E99: 9798 | F99: 66.7 | G99: 6653 | H99: 74 | I99: 28909 | J99: 75.4 | K99: 5360 | L99: 77.1 | M99: 1630 | N99: 78.6 | O99: 294 | P99: 79.5 | Q99: 58 | R99: 74.5 | S99: 40 | T99: 74.9 | U99: 62168 | V99: 72.1
B100: 福利厚生 | C100: 4801 | D100: 32.7 | E100: 4843 | F100: 33 | G100: 2606 | H100: 29 | I100: 10426 | J100: 27.2 | K100: 1795 | L100: 25.8 | M100: 544 | N100: 26.2 | O100: 118 | P100: 31.8 | Q100: 21 | R100: 27.7 | S100: 15 | T100: 27.3 | U100: 25169 | V100: 29.2
B101: 経営・施工管理の指導 | C101: 4001 | D101: 27.2 | E101: 2702 | F101: 18.4 | G101: 1988 | H101: 22.1 | I101: 9122 | J101: 23.8 | K101: 1837 | L101: 26.4 | M101: 562 | N101: 27.1 | O101: 70 | P101: 19 | Q101: 15 | R101: 18.9 | S101: 11 | T101: 19.5 | U101: 20306 | V101: 23.5
...
