Workbook
Name ______________________ＴＢＬ１: [1]CSS編集画面!$B$10:$F$22
Name ______________________ＴＢＬ２: [1]CSS編集画面!$B$24:$I$35
Name _____________________ＴＢＬ１: [1]CSS編集画面!$B$10:$F$22
Name _____________________ＴＢＬ２: [1]CSS編集画面!$B$24:$I$35
Name ____________________ＴＢＬ１: [1]CSS編集画面!$B$10:$F$22
Name ____________________ＴＢＬ２: [1]CSS編集画面!$B$24:$I$35
Name ___________________ＴＢＬ１: [1]CSS編集画面!$B$10:$F$22
Name ___________________ＴＢＬ２: [1]CSS編集画面!$B$24:$I$35
Name __________________ＴＢＬ１: [1]CSS編集画面!$B$10:$F$22
Name __________________ＴＢＬ２: [1]CSS編集画面!$B$24:$I$35
Name _________________ＴＢＬ１: [1]CSS編集画面!$B$10:$F$22
Name _________________ＴＢＬ２: [1]CSS編集画面!$B$24:$I$35
Name ________________ＴＢＬ１: [1]CSS編集画面!$B$10:$F$22
Name ________________ＴＢＬ２: [1]CSS編集画面!$B$24:$I$35
Name _______________ＴＢＬ１: [1]CSS編集画面!$B$10:$F$22
Name _______________ＴＢＬ２: [1]CSS編集画面!$B$24:$I$35
Name ______________ＴＢＬ１: [1]CSS編集画面!$B$10:$F$22
Name ______________ＴＢＬ２: [1]CSS編集画面!$B$24:$I$35
Name _____________ＴＢＬ１: [1]CSS編集画面!$B$10:$F$22
Name _____________ＴＢＬ２: [1]CSS編集画面!$B$24:$I$35
Name ____________ＴＢＬ１: [1]CSS編集画面!$B$10:$F$22
Name ____________ＴＢＬ２: [1]CSS編集画面!$B$24:$I$35
Name ___________ＴＢＬ１: [1]CSS編集画面!$B$10:$F$22
Name ___________ＴＢＬ２: [1]CSS編集画面!$B$24:$I$35
Name __________ＴＢＬ１: [1]CSS編集画面!$B$10:$F$22
Name __________ＴＢＬ２: [1]CSS編集画面!$B$24:$I$35
Name _________ＴＢＬ１: [1]CSS編集画面!$B$10:$F$22
Name _________ＴＢＬ２: [1]CSS編集画面!$B$24:$I$35
Name ________ＴＢＬ１: [1]CSS編集画面!$B$10:$F$22
Name ________ＴＢＬ２: [1]CSS編集画面!$B$24:$I$35
Name _______ＴＢＬ１: [1]CSS編集画面!$B$10:$F$22
Name _______ＴＢＬ２: [1]CSS編集画面!$B$24:$I$35
Name ______ＴＢＬ１: [1]CSS編集画面!$B$10:$F$22
Name ______ＴＢＬ２: [1]CSS編集画面!$B$24:$I$35
Name _____ＴＢＬ１: [1]CSS編集画面!$B$10:$F$22
Name _____ＴＢＬ２: [1]CSS編集画面!$B$24:$I$35
Name ____ＴＢＬ１: [1]CSS編集画面!$B$10:$F$22
Name ____ＴＢＬ２: [1]CSS編集画面!$B$24:$I$35
Name ___ＴＢＬ１: [1]CSS編集画面!$B$10:$F$22
Name ___ＴＢＬ２: [1]CSS編集画面!$B$24:$I$35
Name __ＴＢＬ１: [1]CSS編集画面!$B$10:$F$22
Name __ＴＢＬ２: [1]CSS編集画面!$B$24:$I$35
Name _ＴＢＬ１: [1]CSS編集画面!$B$10:$F$22
Name _ＴＢＬ２: [1]CSS編集画面!$B$24:$I$35
Name PAGE1: #REF!
Name PAGE10: #REF!
Name PAGE100: #REF!
Name PAGE1000: #REF!
Name PAGE1001: #REF!
Name PAGE1002: #REF!
Name PAGE1003: #REF!
Name PAGE1004: #REF!
Name PAGE1005: #REF!
Name PAGE1006: #REF!
Name PAGE1007: #REF!
Name PAGE1008: #REF!
Name PAGE1009: #REF!
Name PAGE101: #REF!
Name PAGE1010: #REF!
Name PAGE1011: #REF!

Sheet 7-3-1
A1: 表7－3－1 利用している共同事業の種類（６業種別集計）（事業協同組合の組合員になっている企業のみ対象）
W3: （単位：社、％）
C4: 資本金 | D4: 個 人 | F4: 法 人 | V4: 合 計
A5: 業種 | C5: 利用事業種類 | F5: 500万円未満 | H5: 500万円以上 1000万円未満 | J5: 1000万円以上 3000万円未満 | L5: 3000万円以上 5000万円未満 | N5: 5000万円以上 1億円未満 | P5: 1億円以上 3億円未満 | R5: 3億円以上 10億円未満 | T5: 10億円以上
A6: 一 般 土 木 建 築 | C6: 共同購入 | J6: 119.32394 | K6: 15.789474 | L6: 96.692308 | M6: 21.428571 | N6: 59.873418 | O6: 21.276596 | P6: 11.4 | Q6: 27.272727 | R6: 1.2631579 | S6: 14.285714 | V6: 288.55283 | W6: 16.293159
C7: 機械等の共同利用 | L7: 10.74359 | M7: 2.3809524 | N7: 5.9873418 | O7: 2.1276596 | P7: 5.7 | Q7: 13.636364 | V7: 22.430932 | W7: 1.2665644
C8: 金融（斡旋・転貸） | L8: 32.230769 | M8: 7.1428571 | N8: 23.949367 | O8: 8.5106383 | V8: 56.180136 | W8: 3.1722159
C9: 教育訓練 | F9: 44.833333 | G9: 100 | H9: 81 | I9: 60 | J9: 517.07042 | K9: 68.421053 | L9: 343.79487 | M9: 76.190476 | N9: 173.63291 | O9: 61.702128 | P9: 32.3 | Q9: 77.272727 | R9: 3.7894737 | S9: 42.857143 | T9: 10.294118 | U9: 63.636364 | V9: 1206.7151 | W9: 68.137267
C10: 情報交換 | D10: 36 | E10: 100 | F10: 44.833333 | G10: 100 | H10: 54 | I10: 40 | J10: 616.50704 | K10: 81.578947 | L10: 386.76923 | M10: 85.714286 | N10: 233.50633 | O10: 82.978723 | P10: 34.2 | Q10: 81.818182 | R10: 8.8421053 | S10: 100 | T10: 14.705882 | U10: 90.909091 | V10: 1429.3639 | W10: 80.70915
C11: 福利厚生 | D11: 36 | E11: 100 | J11: 79.549296 | K11: 10.526316 | L11: 107.4359 | M11: 23.809524 | N11: 71.848101 | O11: 25.531915 | P11: 7.6 | Q11: 18.181818 | V11: 302.43329 | W11: 17.07692
C12: 経営・施工管理の指導 | H12: 27 | I12: 20 | J12: 79.549296 | K12: 10.526316 | L12: 96.692308 | M12: 21.428571 | N12: 53.886076 | O12: 19.148936 | P12: 3.8 | Q12: 9.0909091 | R12: 2.5263158 | S12: 28.571429 | V12: 263.454 | W12: 14.875951
C13: 共同受注 | J13: 79.549296 | K13: 10.526316 | L13: 53.717949 | M13: 11.904762 | N13: 23.949367 | O13: 8.5106383 | P13: 5.7 | Q13: 13.636364 | V13: 162.91661 | W13: 9.1990997
C14: 新事業分野への進出支援
C15: その他 | H15: 81 | I15: 60 | J15: 99.43662 | K15: 13.157895 | L15: 42.974359 | M15: 9.5238095 | N15: 17.962025 | O15: 6.3829787 | P15: 1.9 | Q15: 4.5454545 | R15: 1.2631579 | S15: 14.285714 | T15: 2.9411765 | U15: 18.181818 | V15: 247.47734 | W15: 13.973828
B16: 小 計 | D16: 36 | E16: 100 | F16: 44.833333 | G16: 100 | H16: 135 | I16: 100 | J16: 755.71831 | K16: 100 | L16: 451.23077 | M16: 100 | N16: 281.40506 | O16: 100 | P16: 41.8 | Q16: 100 | R16: 8.8421053 | S16: 100 | T16: 16.176471 | U16: 100 | V16: 1771.0061 | W16: 100
A17: 土 木 | C17: 共同購入 | F17: 230.51724 | G17: 14.876162 | H17: 210.22619 | I17: 9.7853203 | J17: 1552.887 | K17: 25.558578 | L17: 463.82493 | M17: 22.014562 | N17: 100.1088 | O17: 16.077848 | V17: 2557.5641 | W17: 19.948119
C18: 機械等の共同利用 | F18: 74.75 | G18: 4.8239042 | J18: 140.23184 | K18: 2.3080408 | L18: 4.1333333 | M18: 0.19618075 | N18: 24.708333 | O18: 3.968251 | V18: 243.82351 | W18: 1.9017393
C19: 金融（斡旋・転貸） | D19: 90.785714 | E19: 33.333333 | J19: 176.86822 | K19: 2.9110297 | R19: 1.0909091 | S19: 18.367347 | V19: 268.74484 | W19: 2.0961171
C20: 教育訓練 | D20: 90.785714 | E20: 33.333333 | F20: 519.30172 | G20: 33.512532 | H20: 1277.9071 | I20: 59.482269 | J20: 3469.829 | K20: 57.109048 | L20: 1258.7481 | M20: 59.744068 | N20: 357.4537 | O20: 57.408406 | P20: 18.913043 | Q20: 60.082873 | R20: 1.3333333 | S20: 22.44898 | V20: 6994.2718 | W20: 54.552909
C21: 情報交換 | D21: 272.35714 | E21: 100 | F21: 904.5546 | G21: 58.374378 | H21: 1658.9 | I21: 77.216201 | J21: 4730.0341 | K21: 77.850449 | L21: 1593.6797 | M21: 75.640954 | N21: 523.08565 | O21: 84.009517 | P21: 22.695652 | Q21: 72.099448 | R21: 4.8484848 | S21: 81.632653 | T21: 8 | U21: 100 | V21: 9718.1553 | W21: 75.798262
C22: 福利厚生 | D22: 181.57143 | E22: 66.666667 | F22: 434.23563 | G22: 28.022891 | H22: 208.65714 | I22: 9.7122864 | J22: 1142.3612 | K22: 18.801837 | L22: 304.72581 | M22: 14.463227 | N22: 75.400463 | O22: 12.109597 | V22: 2346.9517 | W22: 18.305414
C23: 経営・施工管理の指導 | D23: 90.785714 | E23: 33.333333 | F23: 126.75 | G23: 8.1796637 | H23: 367.6 | I23: 17.11054 | J23: 1224.593 | K23: 20.155269 | L23: 370.31084 | M23: 17.576095 | N23: 61.564815 | O23: 9.8875402 | R23: 1.0909091 | S23: 18.367347 | V23: 2242.6952 | W23: 17.49225
C24: 共同受注 | F24: 78 | G24: 5.0336392 | H24: 420.45714 | I24: 19.570862 | J24: 792.49891 | K24: 13.043541 | L24: 292.49397 | M24: 13.882666 | N24: 80.543981 | O24: 12.935666 | P24: 5 | Q24: 15.883978 | V24: 1668.994 | W24: 13.017578
C25: 新事業分野への進出支援 | L25: 42.101491 | M25: 1.9982666 | N25: 20.708333 | O25: 3.325836 | V25: 62.809824 | W25: 0.48989497
C26: その他 | F26: 291.80172 | G26: 18.831085 | H26: 26.428571 | I26: 1.2301609 | J26: 490.09412 | K26: 8.0663365 | L26: 228.5895 | M26: 10.849563 | N26: 73.712963 | O26: 11.838578 | P26: 3.7826087 | Q26: 12.016575 | V26: 1114.4095 | W26: 8.6920098
B27: 小 計 | D27: 272.35714 | E27: 100 | F27: 1549.5747 | G27: 100 | H27: 2148.3833 | I27: 100 | J27: 6075.7956 | K27: 100 | L27: 2106.9005 | M27: 100 | N27: 622.65046 | O27: 100 | P27: 31.478261 | Q27: 100 | R27: 5.9393939 | S27: 100 | T27: 8 | U27: 100 | V27: 12821.079 | W27: 100
A28: 建 築 | B28: 建 築 | C28: 共同購入 | J28: 570 | K28: 14.634146 | L28: 99.208333 | M28: 9.0909091 | N28: 54.80597 | O28: 15.384615 | P28: 7.68 | Q28: 9.0909091 | V28: 731.6943 | W28: 7.1763165
C29: 機械等の共同利用 | J29: 95 | K29: 2.4390244 | V29: 95 | W29: 0.93174167
C30: 金融（斡旋・転貸） | H30: 254.26316 | I30: 14.285714 | J30: 95 | K30: 2.4390244 | L30: 33.069444 | M30: 3.030303 | P30: 7.68 | Q30: 9.0909091 | V30: 390.0126 | W30: 3.8251683
C31: 教育訓練 | H31: 1017.0526 | I31: 57.142857 | J31: 2565 | K31: 65.853659 | L31: 496.04167 | M31: 45.454545 | N31: 150.71642 | O31: 42.307692 | P31: 61.44 | Q31: 72.727273 | R31: 5.7142857 | S31: 57.142857 | T31: 3.3636364 | U31: 50 | V31: 4299.3286 | W31: 42.166986
C32: 情報交換 | D32: 1112 | E32: 57.142857 | F32: 410.55172 | G32: 40 | H32: 1271.3158 | I32: 71.428571 | J32: 2945 | K32: 75.609756 | L32: 694.45833 | M32: 63.636364 | N32: 274.02985 | O32: 76.923077 | P32: 84.48 | Q32: 100 | R32: 8.5714286 | S32: 85.714286 | T32: 6.7272727 | U32: 100 | V32: 6807.1344 | W32: 66.763061
C33: 福利厚生 | D33: 834 | E33: 42.857143 | F33: 205.27586 | G33: 20 | H33: 508.52632 | I33: 28.571429 | J33: 855 | K33: 21.95122 | L33: 132.27778 | M33: 12.121212 | N33: 27.402985 | O33: 7.6923077 | P33: 15.36 | Q33: 18.181818 | V33: 2577.8429 | W33: 25.282986
C34: 経営・施工管理の指導 | D34: 556 | E34: 28.571429 | H34: 254.26316 | I34: 14.285714 | J34: 760 | K34: 19.512195 | L34: 99.208333 | M34: 9.0909091 | N34: 54.80597 | O34: 15.384615 | P34: 15.36 | Q34: 18.181818 | R34: 2.8571429 | S34: 28.571429 | V34: 1742.4946 | W34: 17.090051
C35: 共同受注 | F35: 205.27586 | G35: 20 | J35: 285 | K35: 7.3170732 | L35: 165.34722 | M35: 15.151515 | N35: 13.701493 | O35: 3.8461538 | P35: 7.68 | Q35: 9.0909091 | V35: 677.00458 | W35: 6.6399303
C36: 新事業分野への進出支援 | L36: 33.069444 | M36: 3.030303 | V36: 33.069444 | W36: 0.32433873
C37: その他 | D37: 556 | E37: 28.571429 | J37: 950 | K37: 24.390244 | L37: 231.48611 | M37: 21.212121 | N37: 137.01493 | O37: 38.461538 | P37: 7.68 | Q37: 9.0909091 | R37: 1.4285714 | S37: 14.285714 | V37: 1883.6096 | W37: 18.47408
B38: 小 計 | D38: 1946 | E38: 100 | F38: 1026.3793 | G38: 100 | H38: 1779.8421 | I38: 100 | J38: 3895 | K38: 100 | L38: 1091.2917 | M38: 100 | N38: 356.23881 | O38: 100 | P38: 84.48 | Q38: 100 | R38: 10 | S38: 100 | T38: 6.7272727 | U38: 100 | V38: 10195.959 | W38: 100
B39: 木 造 建 築 | C39: 共同購入 | F39: 136 | G39: 20 | J39: 31.823529 | K39: 3.3333333 | N39: 10 | O39: 25 | V39: 177.82353 | W39: 4.7273549
C40: 機械等の共同利用
C41: 金融（斡旋・転貸）
...

Sheet 7-3-2
A1: 表7－3－2 利用している共同事業の種類（３０業種別集計）（事業協同組合の組合員になっている企業のみ対象）
X3: （単位：社、％）
B4: 利用事業種類 | C4: 共同購入 | E4: 機械等の 共同利用 | G4: 金融 （斡旋・転貸） | I4: 教育訓練 | K4: 情報交換 | M4: 福利厚生 | O4: 経営・施工 管理の指導 | Q4: 共同受注 | S4: 新事業分野 への進出支援 | U4: その他 | W4: 合 計
A5: 業種
A6: 一般土木建築 | B6: 一般土木建築工事業 | C6: 288.55283 | D6: 16.293159 | E6: 22.430932 | F6: 1.2665644 | G6: 56.180136 | H6: 3.1722159 | I6: 1206.7151 | J6: 68.137267 | K6: 1429.3639 | L6: 80.70915 | M6: 302.43329 | N6: 17.07692 | O6: 263.454 | P6: 14.875951 | Q6: 162.91661 | R6: 9.1990997 | U6: 247.47734 | V6: 13.973828 | W6: 1771.0061 | X6: 100
A7: 土木 | B7: 土木工事業 | C7: 1865.1427 | D7: 18.652389 | E7: 109.14244 | F7: 1.0914807 | G7: 268.74484 | H7: 2.6875871 | I7: 5296.995 | J7: 52.972684 | K7: 7572.7403 | L7: 75.731311 | M7: 1812.1121 | N7: 18.122056 | O7: 1780.7216 | P7: 17.808135 | Q7: 1199.37 | R7: 11.994319 | S7: 49.537602 | T7: 0.49540158 | U7: 835.67138 | V7: 8.357145 | W7: 9999.484 | X7: 100
B8: ほ装工事業 | C8: 101.63618 | D8: 11.3649 | I8: 375.19846 | J8: 41.95448 | K8: 670.65522 | L8: 74.992288 | M8: 147.75384 | N8: 16.521751 | O8: 121.24458 | P8: 13.557501 | Q8: 78.526031 | R8: 8.7807364 | S8: 9.1388889 | T8: 1.0219054 | U8: 63.820405 | V8: 7.1363617 | W8: 894.29892 | X8: 100
B9: しゅんせつ工事業 | K9: 4.5 | L9: 36.986301 | U9: 7.6666667 | V9: 63.013699 | W9: 12.166667 | X9: 100
B10: 造園工事業 | C10: 248.19556 | D10: 25.495548 | E10: 70.169355 | F10: 7.2080505 | I10: 667.75605 | J10: 68.594322 | K10: 786.51411 | L10: 80.793581 | M10: 109.86492 | N10: 11.285723 | O10: 140.98185 | P10: 14.482167 | Q10: 99.981855 | R10: 10.270499 | U10: 142.17742 | V10: 14.60498 | W10: 973.48589 | X10: 100
B11: 水道施設工事業 | C11: 342.5897 | D11: 36.382083 | E11: 64.511712 | F11: 6.850966 | I11: 654.32227 | J11: 69.487222 | K11: 683.74569 | L11: 72.611908 | M11: 277.22085 | N11: 29.44009 | O11: 199.74723 | P11: 21.212606 | Q11: 291.11609 | R11: 30.915726 | S11: 4.1333333 | T11: 0.43894861 | U11: 65.073616 | V11: 6.9106388 | W11: 941.64402 | X11: 100
A12: 小 計 | C12: 2557.5641 | D12: 19.948119 | E12: 243.82351 | F12: 1.9017393 | G12: 268.74484 | H12: 2.0961171 | I12: 6994.2718 | J12: 54.552909 | K12: 9718.1553 | L12: 75.798262 | M12: 2346.9517 | N12: 18.305414 | O12: 2242.6952 | P12: 17.49225 | Q12: 1668.994 | R12: 13.017578 | S12: 62.809824 | T12: 0.48989497 | U12: 1114.4095 | V12: 8.6920098 | W12: 12821.079 | X12: 100
A13: 建築 | B13: 建築工事業 | C13: 731.6943 | D13: 7.1763165 | E13: 95 | F13: 0.93174167 | G13: 390.0126 | H13: 3.8251683 | I13: 4299.3286 | J13: 42.166986 | K13: 6807.1344 | L13: 66.763061 | M13: 2577.8429 | N13: 25.282986 | O13: 1742.4946 | P13: 17.090051 | Q13: 677.00458 | R13: 6.6399303 | S13: 33.069444 | T13: 0.32433873 | U13: 1883.6096 | V13: 18.47408 | W13: 10195.959 | X13: 100
B14: 木造建築工事業 | C14: 177.82353 | D14: 4.7273549 | I14: 1535.5841 | J14: 40.822781 | K14: 2227.4518 | L14: 59.215759 | M14: 1698.0855 | N14: 45.142803 | O14: 690.56752 | P14: 18.358413 | Q14: 239.28877 | R14: 6.3613794 | S14: 215.65043 | T14: 5.7329652 | U14: 1025.8476 | V14: 27.271675 | W14: 3761.5862 | X14: 100
A15: 小 計 | C15: 909.51783 | D15: 6.5163165 | E15: 95 | F15: 0.68063544 | G15: 390.0126 | H15: 2.7942779 | I15: 5834.9127 | J15: 41.80472 | K15: 9034.5862 | L15: 64.729048 | M15: 4275.9284 | N15: 30.635246 | O15: 2433.0621 | P15: 17.431877 | Q15: 916.29335 | R15: 6.5648603 | S15: 248.71987 | T15: 1.7819743 | U15: 2909.4572 | V15: 20.845049 | W15: 13957.545 | X15: 100
A16: 職別 | B16: 大工工事業 | C16: 64.858447 | D16: 4.4823966 | G16: 62.419355 | H16: 4.3138298 | I16: 515.80342 | J16: 35.647408 | K16: 1011.293 | L16: 69.890914 | M16: 421.20962 | N16: 29.109987 | O16: 375.79609 | P16: 25.971437 | Q16: 19.39726 | R16: 1.3405534 | U16: 123.03905 | V16: 8.5032847 | W16: 1446.9591 | X16: 100
B17: とび・土工・コンクリート工事業 | C17: 264.30474 | D17: 11.802929 | E17: 17.496222 | F17: 0.78132035 | G17: 71.433512 | H17: 3.1899718 | I17: 1273.7764 | J17: 56.882417 | K17: 1505.9145 | L17: 67.248898 | M17: 466.14701 | N17: 20.816502 | O17: 170.33968 | P17: 7.6067766 | Q17: 116.63761 | R17: 5.2086295 | U17: 353.9235 | V17: 15.804991 | W17: 2239.3148 | X17: 100
B18: 鋼構造物工事業 | C18: 258.01593 | D18: 19.126174 | E18: 16.333333 | F18: 1.2107554 | G18: 31.979167 | H18: 2.3705478 | I18: 935.06035 | J18: 69.314042 | K18: 1120.3978 | L18: 83.052716 | M18: 243.59653 | N18: 18.057294 | O18: 486.99527 | P18: 36.099927 | Q18: 113.93167 | R18: 8.445513 | S18: 31.979167 | T18: 2.3705478 | U18: 121.32155 | V18: 8.9933092 | W18: 1349.0201 | X18: 100
B19: 鉄筋工事業 | C19: 151.66667 | D19: 20.121614 | E19: 6.45 | F19: 0.85572139 | I19: 521.45 | J19: 69.180763 | K19: 642.2 | L19: 85.200663 | M19: 110.36667 | N19: 14.642344 | O19: 109.5 | P19: 14.527363 | Q19: 51.05 | R19: 6.7728027 | S19: 34.066667 | T19: 4.5196241 | U19: 96.183333 | V19: 12.760641 | W19: 753.75 | X19: 100
B20: 解体工事業 | C20: 5.6 | D20: 1.3204876 | G20: 17.961538 | H20: 4.2353551 | I20: 164.63412 | J20: 38.82095 | K20: 121.74691 | L20: 28.708085 | M20: 275.18097 | N20: 64.888046 | U20: 27.157895 | V20: 6.4038684 | W20: 424.08577 | X20: 100
B21: 躯体関係計 | C21: 744.44579 | D21: 11.981816 | E21: 40.279556 | F21: 0.64829735 | G21: 183.79357 | H21: 2.9581479 | I21: 3410.7243 | J21: 54.895429 | K21: 4401.5522 | L21: 70.842754 | M21: 1516.5008 | N21: 24.408001 | O21: 1142.631 | P21: 18.390587 | Q21: 301.01654 | R21: 4.8448455 | S21: 66.045833 | T21: 1.0630042 | U21: 721.62533 | V21: 11.614522 | W21: 6213.1298 | X21: 100
B22: 左官工事業 | C22: 341.99711 | D22: 30.520987 | E22: 2 | F22: 0.17848682 | G22: 55.333333 | H22: 4.9381352 | I22: 784.99807 | J22: 70.055903 | K22: 897.66474 | L22: 80.11066 | M22: 327.42607 | N22: 29.220618 | O22: 187.92982 | P22: 16.771498 | S22: 45.951417 | T22: 4.1008611 | U22: 67.041643 | V22: 5.9830247 | W22: 1120.5309 | X22: 100
B23: 石工事業 | C23: 12.5 | D23: 9.8314607 | I23: 35.5 | J23: 27.921348 | K23: 87 | L23: 68.426966 | M23: 23 | N23: 18.089888 | Q23: 62.142857 | R23: 48.876404 | U23: 32.5 | V23: 25.561798 | W23: 127.14286 | X23: 100
B24: 屋根工事業 | C24: 190.72637 | D24: 15.286332 | E24: 15.92 | F24: 1.2759557 | G24: 17.574468 | H24: 1.408558 | I24: 754.22717 | J24: 60.449779 | K24: 851.27009 | L24: 68.227573 | M24: 456.66435 | N24: 36.600723 | O24: 40.753955 | P24: 3.2663469 | Q24: 64.248423 | R24: 5.149381 | U24: 159.96351 | V24: 12.820751 | W24: 1247.6922 | X24: 100
B25: タイル・れんが・ブロック工事業 | C25: 13.333333 | D25: 6.2992126 | G25: 2.3333333 | H25: 1.1023622 | I25: 111.1 | J25: 52.488189 | K25: 176.6 | L25: 83.433071 | M25: 91.933333 | N25: 43.433071 | O25: 47.7 | P25: 22.535433 | Q25: 13.1 | R25: 6.1889764 | S25: 2.1 | T25: 0.99212598 | U25: 21.733333 | V25: 10.267717 | W25: 211.66667 | X25: 100
B26: 板金工事業 | C26: 71.206193 | D26: 11.558601 | E26: 5.3877551 | F26: 0.87457153 | G26: 5.9137931 | H26: 0.95996105 | I26: 312.84662 | J26: 50.783071 | K26: 361.05708 | L26: 58.60887 | M26: 248.31466 | N26: 40.30787 | O26: 94.420954 | P26: 15.326955 | Q26: 26.272637 | R26: 4.2647261 | S26: 13.019334 | T26: 2.1133735 | U26: 74.125582 | V26: 12.032493 | W26: 616.04511 | X26: 100
B27: ガラス工事業 | E27: 7 | F27: 4.0395713 | I27: 38.571429 | J27: 22.258862 | K27: 173.28571 | L27: 100 | M27: 27.571429 | N27: 15.910965 | O27: 27.571429 | P27: 15.910965 | W27: 173.28571 | X27: 100
B28: 塗装工事業 | C28: 495.14072 | D28: 19.57147 | E28: 27.568627 | F28: 1.0897075 | G28: 2.3333333 | H28: 0.092229867 | I28: 1295.0554 | J28: 51.189768 | K28: 1658.9839 | L28: 65.574801 | M28: 514.49831 | N28: 20.336619 | O28: 457.61713 | P28: 18.088272 | Q28: 299.01445 | R28: 11.81917 | S28: 16.117647 | T28: 0.63708362 | U28: 357.59517 | V28: 14.134695 | W28: 2529.9108 | X28: 100
B29: 防水工事業 | C29: 205.39501 | D29: 27.946407 | E29: 13.047535 | F29: 1.7752707 | G29: 9.2638889 | H29: 1.2604611 | I29: 537.1753 | J29: 73.089019 | K29: 646.48884 | L29: 87.962412 | M29: 112.49052 | N29: 15.305659 | O29: 210.75612 | P29: 28.675849 | Q29: 20.84507 | R29: 2.8362171 | S29: 31.267606 | T29: 4.2543256 | U29: 95.437989 | V29: 12.985461 | W29: 734.96034 | X29: 100
B30: 内装仕上工事業 | C30: 458.09696 | D30: 16.270107 | G30: 52.176471 | H30: 1.8531377 | I30: 1345.9669 | J30: 47.804345 | K30: 1982.3988 | L30: 70.408323 | M30: 789.70964 | N30: 28.047905 | O30: 103.44048 | P30: 3.6738677 | Q30: 190.65582 | R30: 6.7714715 | S30: 31.90766 | T30: 1.1332558 | U30: 579.46987 | V30: 20.580875 | W30: 2815.5744 | X30: 100
B31: 建具工事業 | C31: 181.81356 | D31: 12.04434 | E31: 24.5 | F31: 1.6230161 | G31: 2.5384615 | H31: 0.1681618 | I31: 724.75476 | J31: 48.011782 | K31: 1223.6817 | L31: 81.063471 | M31: 202.67854 | N31: 13.426552 | O31: 96.458201 | P31: 6.3899272 | Q31: 67.684556 | R31: 4.483801 | U31: 70.465875 | V31: 4.6680511 | W31: 1509.5352 | X31: 100
B32: 仕上関係計 | C32: 1970.2093 | D32: 17.771496 | E32: 95.423918 | F32: 0.86073385 | G32: 147.46708 | H32: 1.3301687 | I32: 5940.1957 | J32: 53.581195 | K32: 8058.4308 | L32: 72.6879 | M32: 2794.2868 | N32: 25.204764 | O32: 1266.6481 | P32: 11.4253 | Q32: 743.96381 | R32: 6.7106325 | S32: 140.36366 | T32: 1.2660951 | U32: 1458.333 | V32: 13.154318 | W32: 11086.344 | X32: 100
A33: 小 計 | C33: 2714.655 | D33: 15.692125 | E33: 135.70347 | F33: 0.78443699 | G33: 331.26065 | H33: 1.9148597 | I33: 9350.92 | J33: 54.053204 | K33: 12459.983 | L33: 72.025213 | M33: 4310.7877 | N33: 24.918605 | O33: 2409.2791 | P33: 13.926892 | Q33: 1044.9804 | R33: 6.0405325 | S33: 206.4095 | T33: 1.1931548 | U33: 2179.9583 | V33: 12.601298 | W33: 17299.474 | X33: 100
A34: 設備 | B34: 電気工事業 | C34: 2354.5028 | D34: 25.599075 | E34: 919.85199 | F34: 10.00099 | G34: 175.19101 | H34: 1.9047452 | I34: 7437.072 | J34: 80.858754 | K34: 6478.2554 | L34: 70.434125 | M34: 3027.0086 | N34: 32.91082 | O34: 1183.1871 | P34: 12.864073 | Q34: 750.02666 | R34: 8.1545831 | S34: 39.520218 | T34: 0.42967926 | U34: 1401.3896 | V34: 15.236456 | W34: 9197.6089 | X34: 100
B35: 管工事業 | C35: 1373.9162 | D35: 25.881981 | E35: 609.93222 | F35: 11.489968 | G35: 160.07277 | H35: 3.015468 | I35: 2979.7798 | J35: 56.133411 | K35: 3968.2558 | L35: 74.754426 | M35: 1315.8455 | N35: 24.788038 | O35: 850.6019 | P35: 16.023729 | Q35: 836.79244 | R35: 15.763585 | S35: 65.680602 | T35: 1.2372982 | U35: 599.31451 | V35: 11.289951 | W35: 5308.389 | X35: 100
B36: 機械器具設置工事業 | C36: 99.166545 | D36: 13.313378 | E36: 15.988636 | F36: 2.1465178 | G36: 34.562639 | H36: 4.640128 | I36: 433.52551 | J36: 58.201976 | K36: 457.54824 | L36: 61.427092 | M36: 234.50921 | N36: 31.483497 | O36: 41.345694 | P36: 5.5507715 | Q36: 23.258213 | R36: 3.1224781 | U36: 141.99067 | V36: 19.062632 | W36: 744.86391 | X36: 100
B37: 熱絶縁工事業 | E37: 17.952381 | F37: 4.3029354 | G37: 20.413919 | H37: 4.8929318 | I37: 178.51192 | J37: 42.786817 | K37: 258.15277 | L37: 61.875618 | M37: 135.95953 | N37: 32.587604 | O37: 46.947745 | P37: 11.25272 | U37: 28.509284 | V37: 6.8332778 | W37: 417.21242 | X37: 100
B38: 電気通信工事業 | C38: 72.697273 | D38: 12.592836 | G38: 26.733333 | H38: 4.630827 | I38: 285.20242 | J38: 49.403607 | K38: 457.88156 | L38: 79.315597 | M38: 199.9858 | N38: 34.642131 | O38: 61.357576 | P38: 10.628541 | Q38: 50.85697 | R38: 8.8095946 | S38: 24.123636 | T38: 4.1787676 | U38: 102.23186 | V38: 17.708905 | W38: 577.29069 | X38: 100
B39: さく井工事業業 | C39: 12.244353 | D39: 14.140073 | E39: 2.3921569 | F39: 2.7625202 | G39: 2.4074074 | H39: 2.7801319 | I39: 47.105836 | J39: 54.398951 | K39: 65.016856 | L39: 75.083027 | M39: 17.013416 | N39: 19.647501 | O39: 8.4139434 | P39: 9.7166239 | U39: 15.472767 | V39: 17.868323 | W39: 86.593281 | X39: 100
B40: 消防施設工事業 | C40: 77.284034 | D40: 49.517174 | I40: 47.541176 | J40: 30.460428 | K40: 81.991176 | L40: 52.533119 | M40: 59.744118 | N40: 38.279056 | O40: 31.25 | P40: 20.022398 | Q40: 25.294118 | R40: 16.206365 | U40: 12.647059 | V40: 8.1031823 | W40: 156.07521 | X40: 100
A41: 小 計 | C41: 3989.8113 | D41: 24.198224 | E41: 1566.1174 | F41: 9.4985092 | G41: 419.38108 | H41: 2.5435482 | I41: 11408.739 | J41: 69.194054 | K41: 11767.102 | L41: 71.367527 | M41: 4990.0661 | N41: 30.264774 | O41: 2223.1039 | P41: 13.483136 | Q41: 1686.2284 | R41: 10.226983 | S41: 129.32446 | T41: 0.78435343 | U41: 2301.5558 | V41: 13.958947 | W41: 16488.033 | X41: 100
...

Sheet 7-3-3
A1: 表7－3－3 利用している共同事業の種類（経年変化①：6業種別）（事業協同組合の組合員になっている企業のみ対象）
S3: （単位：社、％）
B4: 年度 | C4: R01年度 | F4: H26年度 | I4: H23年度 | L4: H20年度 | O4: H17年度 | R4: H14年度
A6: 業種 | B6: 利用事業種類 | E6: 増減 | H6: 増減 | K6: 増減 | N6: 増減 | Q6: 増減
A7: 一般土木建築 | B7: 共同購入 | C7: =IF('7-3-1'!V6<>"",'7-3-1'!V6,"") -> 288.55283 | D7: =IF('7-3-1'!W6<>"",'7-3-1'!W6,"") -> 16.293159 | E7: =IF(AND(ISNUMBER(D7),ISNUMBER(G7)),D7-G7,"") -> -6.6964003 | F7: 455.29011 | G7: 22.989559 | H7: =IF(AND(ISNUMBER(G7),ISNUMBER(J7)),G7-J7,"") -> 3.489559 | I7: 389.59 | J7: 19.5 | K7: =J7-M7 -> -5.9 | L7: 621 | M7: 25.4 | N7: =M7-P7 -> -2.8 | O7: 800 | P7: 28.2 | Q7: =P7-S7 -> 13.592217 | R7: 472.94415 | S7: =IF(ROUND(R17,0)=0,"",ROUND(R7,0)/ROUND(R17,0)*100) -> 14.607783
B8: 機械等の共同利用 | C8: =IF('7-3-1'!V7<>"",'7-3-1'!V7,"") -> 22.430932 | D8: =IF('7-3-1'!W7<>"",'7-3-1'!W7,"") -> 1.2665644 | E8: =IF(AND(ISNUMBER(D8),ISNUMBER(G8)),D8-G8,"") -> -0.45559773 | F8: 34.106064 | G8: 1.7221621 | H8: =IF(AND(ISNUMBER(G8),ISNUMBER(J8)),G8-J8,"") -> 1.4221621 | I8: 6.92 | J8: 0.3 | K8: =J8-M8 -> -4.7 | L8: 121 | M8: 5 | N8: =M8-P8 -> 2.5 | O8: 70 | P8: 2.5 | Q8: =P8-S8 -> 0.95583694 | R8: 49.994049 | S8: =IF(ROUND(R17,0)=0,"",ROUND(R8,0)/ROUND(R17,0)*100) -> 1.5441631
B9: 金融（斡旋・転貸） | C9: =IF('7-3-1'!V8<>"",'7-3-1'!V8,"") -> 56.180136 | D9: =IF('7-3-1'!W8<>"",'7-3-1'!W8,"") -> 3.1722159 | E9: =IF(AND(ISNUMBER(D9),ISNUMBER(G9)),D9-G9,"") -> -3.0243753 | F9: 122.71861 | G9: 6.1965913 | H9: =IF(AND(ISNUMBER(G9),ISNUMBER(J9)),G9-J9,"") -> 2.2965913 | I9: 77.5 | J9: 3.9 | K9: =J9-M9 -> -1 | L9: 120 | M9: 4.9 | N9: =M9-P9 -> -0.3 | O9: 147 | P9: 5.2 | Q9: =P9-S9 -> 2.5440395 | R9: 86.236938 | S9: =IF(ROUND(R17,0)=0,"",ROUND(R9,0)/ROUND(R17,0)*100) -> 2.6559605
B10: 教育訓練 | C10: =IF('7-3-1'!V9<>"",'7-3-1'!V9,"") -> 1206.7151 | D10: =IF('7-3-1'!W9<>"",'7-3-1'!W9,"") -> 68.137267 | E10: =IF(AND(ISNUMBER(D10),ISNUMBER(G10)),D10-G10,"") -> 6.062409 | F10: 1229.3437 | G10: 62.074858 | H10: =IF(AND(ISNUMBER(G10),ISNUMBER(J10)),G10-J10,"") -> 1.2748584 | I10: 1213 | J10: 60.8 | K10: =J10-M10 -> -4.3 | L10: 1591 | M10: 65.1 | N10: =M10-P10 -> -1 | O10: 1874 | P10: 66.1 | Q10: =P10-S10 -> 17.088264 | R10: 1587.4337 | S10: =IF(ROUND(R17,0)=0,"",ROUND(R10,0)/ROUND(R17,0)*100) -> 49.011736
B11: 情報交換 | C11: =IF('7-3-1'!V10<>"",'7-3-1'!V10,"") -> 1429.3639 | D11: =IF('7-3-1'!W10<>"",'7-3-1'!W10,"") -> 80.70915 | E11: =IF(AND(ISNUMBER(D11),ISNUMBER(G11)),D11-G11,"") -> 8.8803902 | F11: 1422.512 | G11: 71.828759 | H11: =IF(AND(ISNUMBER(G11),ISNUMBER(J11)),G11-J11,"") -> -3.5712406 | I11: 1504.06 | J11: 75.4 | K11: =J11-M11 -> 1.1 | L11: 1815 | M11: 74.3 | N11: =M11-P11 -> -4.7 | O11: 2240 | P11: 79 | Q11: =P11-S11 -> 1.7918468 | R11: 2499.7346 | S11: =IF(ROUND(R17,0)=0,"",ROUND(R11,0)/ROUND(R17,0)*100) -> 77.208153
B12: 福利厚生 | C12: =IF('7-3-1'!V11<>"",'7-3-1'!V11,"") -> 302.43329 | D12: =IF('7-3-1'!W11<>"",'7-3-1'!W11,"") -> 17.07692 | E12: =IF(AND(ISNUMBER(D12),ISNUMBER(G12)),D12-G12,"") -> -4.7645492 | F12: 432.55311 | G12: 21.84147 | H12: =IF(AND(ISNUMBER(G12),ISNUMBER(J12)),G12-J12,"") -> 2.9414697 | I12: 377.03 | J12: 18.9 | K12: =J12-M12 -> 0.1 | L12: 459 | M12: 18.8 | N12: =M12-P12 -> -4.9 | O12: 673 | P12: 23.7 | Q12: =P12-S12 -> -6.0714639 | R12: 964.45294 | S12: =IF(ROUND(R17,0)=0,"",ROUND(R12,0)/ROUND(R17,0)*100) -> 29.771464
B13: 経営・施工管理の指導 | C13: =IF('7-3-1'!V12<>"",'7-3-1'!V12,"") -> 263.454 | D13: =IF('7-3-1'!W12<>"",'7-3-1'!W12,"") -> 14.875951 | E13: =IF(AND(ISNUMBER(D13),ISNUMBER(G13)),D13-G13,"") -> -11.411191 | F13: 520.59616 | G13: 26.287143 | H13: =IF(AND(ISNUMBER(G13),ISNUMBER(J13)),G13-J13,"") -> 3.4871426 | I13: 455.4 | J13: 22.8 | K13: =J13-M13 -> -1.4 | L13: 591 | M13: 24.2 | N13: =M13-P13 -> -4.3 | O13: 808 | P13: 28.5 | Q13: =P13-S13 -> -0.99351452 | R13: 954.95062 | S13: =IF(ROUND(R17,0)=0,"",ROUND(R13,0)/ROUND(R17,0)*100) -> 29.493515
B14: 共同受注 | C14: =IF('7-3-1'!V13<>"",'7-3-1'!V13,"") -> 162.91661 | D14: =IF('7-3-1'!W13<>"",'7-3-1'!W13,"") -> 9.1990997 | E14: =IF(AND(ISNUMBER(D14),ISNUMBER(G14)),D14-G14,"") -> 1.825101 | F14: 146.03624 | G14: 7.3739986 | H14: =IF(AND(ISNUMBER(G14),ISNUMBER(J14)),G14-J14,"") -> 4.2739986 | I14: 61.05 | J14: 3.1 | K14: =J14-M14 -> -10.5 | L14: 333 | M14: 13.6 | N14: =M14-P14 -> 5.1 | O14: 240 | P14: 8.5 | Q14: =P14-S14 -> -5.8298332 | R14: 463.73242 | S14: =IF(ROUND(R17,0)=0,"",ROUND(R14,0)/ROUND(R17,0)*100) -> 14.329833
B15: 新事業分野への進出支援 | C15: =IF('7-3-1'!V14<>"",'7-3-1'!V14,"") | D15: =IF('7-3-1'!W14<>"",'7-3-1'!W14,"") | E15: =IF(AND(ISNUMBER(D15),ISNUMBER(G15)),D15-G15,"") | F15: 118.88528 | G15: 6.0030297 | H15: =IF(AND(ISNUMBER(G15),ISNUMBER(J15)),G15-J15,"") -> 4.9030297 | I15: 21.03 | J15: 1.1 | K15: =J15-M15 -> -2.2 | L15: 81 | M15: 3.3 | N15: =M15-P15 -> -1.2 | O15: 128 | P15: 4.5 | Q15: =P15-S15 -> 3.3882026 | R15: 36.340374 | S15: =IF(ROUND(R17,0)=0,"",ROUND(R15,0)/ROUND(R17,0)*100) -> 1.1117974
B16: その他 | C16: =IF('7-3-1'!V15<>"",'7-3-1'!V15,"") -> 247.47734 | D16: =IF('7-3-1'!W15<>"",'7-3-1'!W15,"") -> 13.973828 | E16: =IF(AND(ISNUMBER(D16),ISNUMBER(G16)),D16-G16,"") -> 3.8771673 | F16: 199.95641 | G16: 10.096661 | H16: =IF(AND(ISNUMBER(G16),ISNUMBER(J16)),G16-J16,"") -> -1.0033394 | I16: 222.28 | J16: 11.1 | K16: =J16-M16 -> -2.3 | L16: 328 | M16: 13.4 | N16: =M16-P16 -> 1.3 | O16: 342 | P16: 12.1 | Q16: =P16-S16 -> 1.5379246 | R16: 341.78168 | S16: =IF(ROUND(R17,0)=0,"",ROUND(R16,0)/ROUND(R17,0)*100) -> 10.562075
B17: 小 計 | C17: =IF('7-3-1'!V16<>"",'7-3-1'!V16,"") -> 1771.0061 | D17: =IF('7-3-1'!W16<>"",'7-3-1'!W16,"") -> 100 | E17: - | F17: 1980.4213 | G17: 100 | H17: - | I17: 1994.03 | J17: 100 | K17: - | L17: 2443 | M17: 100 | N17: - | O17: 2834 | P17: 100 | Q17: - | R17: 3238.4751 | S17: =IF(ROUND(R17,0)=0,"",ROUND(R17,0)/ROUND(R17,0)*100) -> 100
A18: 土 木 | B18: 共同購入 | C18: =IF('7-3-1'!V17<>"",'7-3-1'!V17,"") -> 2557.5641 | D18: =IF('7-3-1'!W17<>"",'7-3-1'!W17,"") -> 19.948119 | E18: =IF(AND(ISNUMBER(D18),ISNUMBER(G18)),D18-G18,"") -> -4.9723391 | F18: 3732.6953 | G18: 24.920458 | H18: =IF(AND(ISNUMBER(G18),ISNUMBER(J18)),G18-J18,"") -> 1.5204578 | I18: 3669.06 | J18: 23.4 | K18: =J18-M18 -> 3.1 | L18: 3964 | M18: 20.3 | N18: =M18-P18 -> -7.8 | O18: 6286 | P18: 28.1 | Q18: =P18-S18 -> 6.0282901 | R18: 5490.8491 | S18: =IF(ROUND(R28,0)=0,"",ROUND(R18,0)/ROUND(R28,0)*100) -> 22.07171
B19: 機械等の共同利用 | C19: =IF('7-3-1'!V18<>"",'7-3-1'!V18,"") -> 243.82351 | D19: =IF('7-3-1'!W18<>"",'7-3-1'!W18,"") -> 1.9017393 | E19: =IF(AND(ISNUMBER(D19),ISNUMBER(G19)),D19-G19,"") -> -1.2283072 | F19: 468.83207 | G19: 3.1300465 | H19: =IF(AND(ISNUMBER(G19),ISNUMBER(J19)),G19-J19,"") -> -0.66995353 | I19: 600.27 | J19: 3.8 | K19: =J19-M19 -> 0.9 | L19: 574 | M19: 2.9 | N19: =M19-P19 -> -0.2 | O19: 704 | P19: 3.1 | Q19: =P19-S19 -> -0.42520299 | R19: 877.42761 | S19: =IF(ROUND(R28,0)=0,"",ROUND(R19,0)/ROUND(R28,0)*100) -> 3.525203
B20: 金融（斡旋・転貸） | C20: =IF('7-3-1'!V19<>"",'7-3-1'!V19,"") -> 268.74484 | D20: =IF('7-3-1'!W19<>"",'7-3-1'!W19,"") -> 2.0961171 | E20: =IF(AND(ISNUMBER(D20),ISNUMBER(G20)),D20-G20,"") -> -1.1178614 | F20: 481.40377 | G20: 3.2139785 | H20: =IF(AND(ISNUMBER(G20),ISNUMBER(J20)),G20-J20,"") -> 1.3139785 | I20: 297.73 | J20: 1.9 | K20: =J20-M20 -> -1.1 | L20: 597 | M20: 3 | N20: =M20-P20 -> -0.9 | O20: 873 | P20: 3.9 | Q20: =P20-S20 -> -0.2402042 | R20: 1030.2697 | S20: =IF(ROUND(R28,0)=0,"",ROUND(R20,0)/ROUND(R28,0)*100) -> 4.1402042
B21: 教育訓練 | C21: =IF('7-3-1'!V20<>"",'7-3-1'!V20,"") -> 6994.2718 | D21: =IF('7-3-1'!W20<>"",'7-3-1'!W20,"") -> 54.552909 | E21: =IF(AND(ISNUMBER(D21),ISNUMBER(G21)),D21-G21,"") -> 1.4350003 | F21: 7956.233 | G21: 53.117909 | H21: =IF(AND(ISNUMBER(G21),ISNUMBER(J21)),G21-J21,"") -> -6.7820913 | I21: 9388.67 | J21: 59.9 | K21: =J21-M21 -> 1.2 | L21: 11491 | M21: 58.7 | N21: =M21-P21 -> -2.6 | O21: 13691 | P21: 61.3 | Q21: =P21-S21 -> 11.135196 | R21: 12479.753 | S21: =IF(ROUND(R28,0)=0,"",ROUND(R21,0)/ROUND(R28,0)*100) -> 50.164804
B22: 情報交換 | C22: =IF('7-3-1'!V21<>"",'7-3-1'!V21,"") -> 9718.1553 | D22: =IF('7-3-1'!W21<>"",'7-3-1'!W21,"") -> 75.798262 | E22: =IF(AND(ISNUMBER(D22),ISNUMBER(G22)),D22-G22,"") -> 8.9592296 | F22: 10011.443 | G22: 66.839032 | H22: =IF(AND(ISNUMBER(G22),ISNUMBER(J22)),G22-J22,"") -> -6.160968 | I22: 11448.38 | J22: 73 | K22: =J22-M22 -> -3.6 | L22: 15000 | M22: 76.6 | N22: =M22-P22 -> 3.7 | O22: 16288 | P22: 72.9 | Q22: =P22-S22 -> 7.774186 | R22: 16201.662 | S22: =IF(ROUND(R28,0)=0,"",ROUND(R22,0)/ROUND(R28,0)*100) -> 65.125814
B23: 福利厚生 | C23: =IF('7-3-1'!V22<>"",'7-3-1'!V22,"") -> 2346.9517 | D23: =IF('7-3-1'!W22<>"",'7-3-1'!W22,"") -> 18.305414 | E23: =IF(AND(ISNUMBER(D23),ISNUMBER(G23)),D23-G23,"") -> -7.0664725 | F23: 3800.3123 | G23: 25.371886 | H23: =IF(AND(ISNUMBER(G23),ISNUMBER(J23)),G23-J23,"") -> 6.6718864 | I23: 2930.86 | J23: 18.7 | K23: =J23-M23 -> -2.4 | L23: 4135 | M23: 21.1 | N23: =M23-P23 -> -1.8 | O23: 5128 | P23: 22.9 | Q23: =P23-S23 -> -0.20073157 | R23: 5747.0806 | S23: =IF(ROUND(R28,0)=0,"",ROUND(R23,0)/ROUND(R28,0)*100) -> 23.100732
B24: 経営・施工管理の指導 | C24: =IF('7-3-1'!V23<>"",'7-3-1'!V23,"") -> 2242.6952 | D24: =IF('7-3-1'!W23<>"",'7-3-1'!W23,"") -> 17.49225 | E24: =IF(AND(ISNUMBER(D24),ISNUMBER(G24)),D24-G24,"") -> -0.83315257 | F24: 2744.859 | G24: 18.325402 | H24: =IF(AND(ISNUMBER(G24),ISNUMBER(J24)),G24-J24,"") -> 2.8254023 | I24: 2428.36 | J24: 15.5 | K24: =J24-M24 -> -9.7 | L24: 4936 | M24: 25.2 | N24: =M24-P24 -> -0.4 | O24: 5719 | P24: 25.6 | Q24: =P24-S24 -> 1.7476003 | R24: 5933.645 | S24: =IF(ROUND(R28,0)=0,"",ROUND(R24,0)/ROUND(R28,0)*100) -> 23.8524
B25: 共同受注 | C25: =IF('7-3-1'!V24<>"",'7-3-1'!V24,"") -> 1668.994 | D25: =IF('7-3-1'!W24<>"",'7-3-1'!W24,"") -> 13.017578 | E25: =IF(AND(ISNUMBER(D25),ISNUMBER(G25)),D25-G25,"") -> 0.59327584 | F25: 1860.9664 | G25: 12.424302 | H25: =IF(AND(ISNUMBER(G25),ISNUMBER(J25)),G25-J25,"") -> 2.6243021 | I25: 1542.1 | J25: 9.8 | K25: =J25-M25 -> 0.5 | L25: 1830 | M25: 9.3 | N25: =M25-P25 -> 0 | O25: 2071 | P25: 9.3 | Q25: =P25-S25 -> -3.9164965 | R25: 3288.4004 | S25: =IF(ROUND(R28,0)=0,"",ROUND(R25,0)/ROUND(R28,0)*100) -> 13.216497
B26: 新事業分野への進出支援 | C26: =IF('7-3-1'!V25<>"",'7-3-1'!V25,"") -> 62.809824 | D26: =IF('7-3-1'!W25<>"",'7-3-1'!W25,"") -> 0.48989497 | E26: =IF(AND(ISNUMBER(D26),ISNUMBER(G26)),D26-G26,"") -> -2.6461698 | F26: 469.73352 | G26: 3.1360648 | H26: =IF(AND(ISNUMBER(G26),ISNUMBER(J26)),G26-J26,"") -> -0.36393522 | I26: 546.71 | J26: 3.5 | K26: =J26-M26 -> -0.6 | L26: 796 | M26: 4.1 | N26: =M26-P26 -> -0.2 | O26: 963 | P26: 4.3 | Q26: =P26-S26 -> 1.7314656 | R26: 638.91357 | S26: =IF(ROUND(R28,0)=0,"",ROUND(R26,0)/ROUND(R28,0)*100) -> 2.5685344
B27: その他 | C27: =IF('7-3-1'!V26<>"",'7-3-1'!V26,"") -> 1114.4095 | D27: =IF('7-3-1'!W26<>"",'7-3-1'!W26,"") -> 8.6920098 | E27: =IF(AND(ISNUMBER(D27),ISNUMBER(G27)),D27-G27,"") -> -7.232533 | F27: 2385.2478 | G27: 15.924543 | H27: =IF(AND(ISNUMBER(G27),ISNUMBER(J27)),G27-J27,"") -> 2.7245428 | I27: 2061.94 | J27: 13.2 | K27: =J27-M27 -> -0.8 | L27: 2732 | M27: 14 | N27: =M27-P27 -> 0.3 | O27: 3066 | P27: 13.7 | Q27: =P27-S27 -> -0.16365463 | R27: 3449.1746 | S27: =IF(ROUND(R28,0)=0,"",ROUND(R27,0)/ROUND(R28,0)*100) -> 13.863655
B28: 小 計 | C28: =IF('7-3-1'!V27<>"",'7-3-1'!V27,"") -> 12821.079 | D28: =IF('7-3-1'!W27<>"",'7-3-1'!W27,"") -> 100 | E28: - | F28: 14978.438 | G28: 100 | H28: - | I28: 15676.84 | J28: 100 | K28: - | L28: 19575 | M28: 100 | N28: - | O28: 22349 | P28: 100 | Q28: - | R28: 24878.002 | S28: =IF(ROUND(R28,0)=0,"",ROUND(R28,0)/ROUND(R28,0)*100) -> 100
A29: 建 築 | B29: 共同購入 | C29: =IF('7-3-1'!V28<>"",'7-3-1'!V28,"") -> 731.6943 | D29: =IF('7-3-1'!W28<>"",'7-3-1'!W28,"") -> 7.1763165 | E29: =IF(AND(ISNUMBER(D29),ISNUMBER(G29)),D29-G29,"") -> -2.3953184 | F29: 795.08727 | G29: 9.571635 | H29: =IF(AND(ISNUMBER(G29),ISNUMBER(J29)),G29-J29,"") -> -3.528365 | I29: 1532.84 | J29: 13.1 | K29: =J29-M29 -> -2.4 | L29: 1658 | M29: 15.5 | N29: =M29-P29 -> 4.3 | O29: 1802 | P29: 11.2 | Q29: =P29-S29 -> -2.7692378 | R29: 2434.4126 | S29: =IF(ROUND(R39,0)=0,"",ROUND(R29,0)/ROUND(R39,0)*100) -> 13.969238
B30: 機械等の共同利用 | C30: =IF('7-3-1'!V29<>"",'7-3-1'!V29,"") -> 95 | D30: =IF('7-3-1'!W29<>"",'7-3-1'!W29,"") -> 0.93174167 | E30: =IF(AND(ISNUMBER(D30),ISNUMBER(G30)),D30-G30,"") -> -1.7303221 | F30: 221.12972 | G30: 2.6620637 | H30: =IF(AND(ISNUMBER(G30),ISNUMBER(J30)),G30-J30,"") -> 2.5620637 | I30: 12.57 | J30: 0.1 | K30: =J30-M30 -> -1.9 | L30: 212 | M30: 2 | N30: =M30-P30 -> 0.7 | O30: 213 | P30: 1.3 | Q30: =P30-S30 -> -0.40454545 | R30: 296.83395 | S30: =IF(ROUND(R39,0)=0,"",ROUND(R30,0)/ROUND(R39,0)*100) -> 1.7045455
B31: 金融（斡旋・転貸） | C31: =IF('7-3-1'!V30<>"",'7-3-1'!V30,"") -> 390.0126 | D31: =IF('7-3-1'!W30<>"",'7-3-1'!W30,"") -> 3.8251683 | E31: =IF(AND(ISNUMBER(D31),ISNUMBER(G31)),D31-G31,"") -> 0.1768389 | F31: 303.05588 | G31: 3.6483294 | H31: =IF(AND(ISNUMBER(G31),ISNUMBER(J31)),G31-J31,"") -> 2.3483294 | I31: 156.27 | J31: 1.3 | K31: =J31-M31 -> -1.8 | L31: 332 | M31: 3.1 | N31: =M31-P31 -> 1 | O31: 333 | P31: 2.1 | Q31: =P31-S31 -> 0.34954086 | R31: 304.79614 | S31: =IF(ROUND(R39,0)=0,"",ROUND(R31,0)/ROUND(R39,0)*100) -> 1.7504591
B32: 教育訓練 | C32: =IF('7-3-1'!V31<>"",'7-3-1'!V31,"") -> 4299.3286 | D32: =IF('7-3-1'!W31<>"",'7-3-1'!W31,"") -> 42.166986 | E32: =IF(AND(ISNUMBER(D32),ISNUMBER(G32)),D32-G32,"") -> -6.2958122 | F32: 4025.6606 | G32: 48.462798 | H32: =IF(AND(ISNUMBER(G32),ISNUMBER(J32)),G32-J32,"") -> -0.23720214 | I32: 5701.1 | J32: 48.7 | K32: =J32-M32 -> -10 | L32: 6276 | M32: 58.7 | N32: =M32-P32 -> 7.8 | O32: 8156 | P32: 50.9 | Q32: =P32-S32 -> 14.536364 | R32: 6336.0747 | S32: =IF(ROUND(R39,0)=0,"",ROUND(R32,0)/ROUND(R39,0)*100) -> 36.363636
B33: 情報交換 | C33: =IF('7-3-1'!V32<>"",'7-3-1'!V32,"") -> 6807.1344 | D33: =IF('7-3-1'!W32<>"",'7-3-1'!W32,"") -> 66.763061 | E33: =IF(AND(ISNUMBER(D33),ISNUMBER(G33)),D33-G33,"") -> -9.9858785 | F33: 6375.3062 | G33: 76.748939 | H33: =IF(AND(ISNUMBER(G33),ISNUMBER(J33)),G33-J33,"") -> -0.65106081 | I33: 9066.98 | J33: 77.4 | K33: =J33-M33 -> 5.7 | L33: 7666 | M33: 71.7 | N33: =M33-P33 -> -0.9 | O33: 11634 | P33: 72.6 | Q33: =P33-S33 -> 21.142241 | R33: 8965.6094 | S33: =IF(ROUND(R39,0)=0,"",ROUND(R33,0)/ROUND(R39,0)*100) -> 51.457759
B34: 福利厚生 | C34: =IF('7-3-1'!V33<>"",'7-3-1'!V33,"") -> 2577.8429 | D34: =IF('7-3-1'!W33<>"",'7-3-1'!W33,"") -> 25.282986 | E34: =IF(AND(ISNUMBER(D34),ISNUMBER(G34)),D34-G34,"") -> -4.341229 | F34: 2460.7955 | G34: 29.624215 | H34: =IF(AND(ISNUMBER(G34),ISNUMBER(J34)),G34-J34,"") -> 3.4242152 | I34: 3068.6 | J34: 26.2 | K34: =J34-M34 -> 1.6 | L34: 2633 | M34: 24.6 | N34: =M34-P34 -> -2.7 | O34: 4372 | P34: 27.3 | Q34: =P34-S34 -> -4.5870523 | R34: 5556.1182 | S34: =IF(ROUND(R39,0)=0,"",ROUND(R34,0)/ROUND(R39,0)*100) -> 31.887052
B35: 経営・施工管理の指導 | C35: =IF('7-3-1'!V34<>"",'7-3-1'!V34,"") -> 1742.4946 | D35: =IF('7-3-1'!W34<>"",'7-3-1'!W34,"") -> 17.090051 | E35: =IF(AND(ISNUMBER(D35),ISNUMBER(G35)),D35-G35,"") -> -7.3407812 | F35: 2029.3966 | G35: 24.430832 | H35: =IF(AND(ISNUMBER(G35),ISNUMBER(J35)),G35-J35,"") -> 3.130832 | I35: 2497.9 | J35: 21.3 | K35: =J35-M35 -> -1 | L35: 2383 | M35: 22.3 | N35: =M35-P35 -> 0.7 | O35: 3462 | P35: 21.6 | Q35: =P35-S35 -> 3.4927916 | R35: 3154.6021 | S35: =IF(ROUND(R39,0)=0,"",ROUND(R35,0)/ROUND(R39,0)*100) -> 18.107208
B36: 共同受注 | C36: =IF('7-3-1'!V35<>"",'7-3-1'!V35,"") -> 677.00458 | D36: =IF('7-3-1'!W35<>"",'7-3-1'!W35,"") -> 6.6399303 | E36: =IF(AND(ISNUMBER(D36),ISNUMBER(G36)),D36-G36,"") -> 0.24811876 | F36: 530.94878 | G36: 6.3918115 | H36: =IF(AND(ISNUMBER(G36),ISNUMBER(J36)),G36-J36,"") -> -4.8081885 | I36: 1315.5 | J36: 11.2 | K36: =J36-M36 -> 5.9 | L36: 566 | M36: 5.3 | N36: =M36-P36 -> -3.2 | O36: 1365 | P36: 8.5 | Q36: =P36-S36 -> 2.7206152 | R36: 1006.5302 | S36: =IF(ROUND(R39,0)=0,"",ROUND(R36,0)/ROUND(R39,0)*100) -> 5.7793848
B37: 新事業分野への進出支援 | C37: =IF('7-3-1'!V36<>"",'7-3-1'!V36,"") -> 33.069444 | D37: =IF('7-3-1'!W36<>"",'7-3-1'!W36,"") -> 0.32433873 | E37: =IF(AND(ISNUMBER(D37),ISNUMBER(G37)),D37-G37,"") -> -2.7870679 | F37: 258.4553 | G37: 3.1114066 | H37: =IF(AND(ISNUMBER(G37),ISNUMBER(J37)),G37-J37,"") -> 1.4114066 | I37: 204.24 | J37: 1.7 | K37: =J37-M37 -> -2.3 | L37: 426 | M37: 4 | N37: =M37-P37 -> 1.7 | O37: 363 | P37: 2.3 | Q37: =P37-S37 -> -0.69012856 | R37: 521.27185 | S37: =IF(ROUND(R39,0)=0,"",ROUND(R37,0)/ROUND(R39,0)*100) -> 2.9901286
B38: その他 | C38: =IF('7-3-1'!V37<>"",'7-3-1'!V37,"") -> 1883.6096 | D38: =IF('7-3-1'!W37<>"",'7-3-1'!W37,"") -> 18.47408 | E38: =IF(AND(ISNUMBER(D38),ISNUMBER(G38)),D38-G38,"") -> -0.26308297 | F38: 1556.4404 | G38: 18.737163 | H38: =IF(AND(ISNUMBER(G38),ISNUMBER(J38)),G38-J38,"") -> 5.8371625 | I38: 1506.12 | J38: 12.9 | K38: =J38-M38 -> -2.8 | L38: 1680 | M38: 15.7 | N38: =M38-P38 -> 0.8 | O38: 2394 | P38: 14.9 | Q38: =P38-S38 -> -6.9663912 | R38: 3809.6389 | S38: =IF(ROUND(R39,0)=0,"",ROUND(R38,0)/ROUND(R39,0)*100) -> 21.866391
B39: 小 計 | C39: =IF('7-3-1'!V38<>"",'7-3-1'!V38,"") -> 10195.959 | D39: =IF('7-3-1'!W38<>"",'7-3-1'!W38,"") -> 100 | E39: - | F39: 8306.7028 | G39: 100 | H39: - | I39: 11710.87 | J39: 100 | K39: - | L39: 10689 | M39: 100 | N39: - | O39: 16035 | P39: 100 | Q39: - | R39: 17424.08 | S39: =IF(ROUND(R39,0)=0,"",ROUND(R39,0)/ROUND(R39,0)*100) -> 100
A40: 木 造 建 築 | B40: 共同購入 | C40: =IF('7-3-1'!V39<>"",'7-3-1'!V39,"") -> 177.82353 | D40: =IF('7-3-1'!W39<>"",'7-3-1'!W39,"") -> 4.7273549 | E40: =IF(AND(ISNUMBER(D40),ISNUMBER(G40)),D40-G40,"") -> 3.4117576 | F40: 62.285103 | G40: 1.3155974 | H40: =IF(AND(ISNUMBER(G40),ISNUMBER(J40)),G40-J40,"") -> -0.48440265 | I40: 75.25 | J40: 1.8 | K40: =J40-M40 -> -4.3 | L40: 251 | M40: 6.1 | N40: =M40-P40 -> -6.7 | O40: 736 | P40: 12.8 | Q40: =P40-S40 -> 8.5261575 | R40: 323.93173 | S40: =IF(ROUND(R50,0)=0,"",ROUND(R40,0)/ROUND(R50,0)*100) -> 4.2738425
B41: 機械等の共同利用 | C41: =IF('7-3-1'!V40<>"",'7-3-1'!V40,"") | D41: =IF('7-3-1'!W40<>"",'7-3-1'!W40,"") | E41: =IF(AND(ISNUMBER(D41),ISNUMBER(G41)),D41-G41,"") | H41: =IF(AND(ISNUMBER(G41),ISNUMBER(J41)),G41-J41,"") | L41: 115 | M41: 2.8 | N41: =M41-P41 -> -2.7 | O41: 317 | P41: 5.5 | Q41: =P41-S41 -> 5.5
B42: 金融（斡旋・転貸） | C42: =IF('7-3-1'!V41<>"",'7-3-1'!V41,"") | D42: =IF('7-3-1'!W41<>"",'7-3-1'!W41,"") | E42: =IF(AND(ISNUMBER(D42),ISNUMBER(G42)),D42-G42,"") | H42: =IF(AND(ISNUMBER(G42),ISNUMBER(J42)),G42-J42,"") | I42: 126.65 | J42: 3 | K42: =J42-M42 -> -2.6 | L42: 230 | M42: 5.6 | N42: =M42-P42 -> 5.1 | O42: 27 | P42: 0.5 | Q42: =P42-S42 -> 0.44723651 | R42: 3.5925925 | S42: =IF(ROUND(R50,0)=0,"",ROUND(R42,0)/ROUND(R50,0)*100) -> 0.052763488
...

Sheet 7-3-4
A1: 表7－3－4 利用している共同事業の種類（経年変化②：資本金別）（事業協同組合の組合員になっている企業のみ対象）
V3: （単位：社、％）
B4: 資本金 | C4: 個人 | E4: 法 人 | U4: 合 計
E5: 500万円未満 | G5: 500万円以上 1000万円以下 | I5: 1000万円以上 3000万円未満 | K5: 3000万円以上 5000万円未満 | M5: 5000万円以上 1億円未満 | O5: 1億円以上 3億円未満 | Q5: 3億円以上 10億円未満 | S5: 10億円以上
A6: 年度 | B6: 利用事業種類
A7: R01 年度 | B7: 共同購入 | C7: =IF('7-3-1'!D105<>"",'7-3-1'!D105,"") -> 673.52721 | D7: =IF('7-3-1'!E105<>"",'7-3-1'!E105,"") -> 8.8699783 | E7: =IF('7-3-1'!F105<>"",'7-3-1'!F105,"") -> 1712.7364 | F7: =IF('7-3-1'!G105<>"",'7-3-1'!G105,"") -> 14.634749 | G7: =IF('7-3-1'!H105<>"",'7-3-1'!H105,"") -> 1160.4579 | H7: =IF('7-3-1'!I105<>"",'7-3-1'!I105,"") -> 10.635908 | I7: =IF('7-3-1'!J105<>"",'7-3-1'!J105,"") -> 5496.4462 | J7: =IF('7-3-1'!K105<>"",'7-3-1'!K105,"") -> 22.339526 | ... V7: =IF('7-3-1'!W105<>"",'7-3-1'!W105,"") -> 16.779887
B8: 機械等の共同利用 | C8: =IF('7-3-1'!D106<>"",'7-3-1'!D106,"") -> 114.68776 | D8: =IF('7-3-1'!E106<>"",'7-3-1'!E106,"") -> 1.5103739 | E8: =IF('7-3-1'!F106<>"",'7-3-1'!F106,"") -> 380.98871 | F8: =IF('7-3-1'!G106<>"",'7-3-1'!G106,"") -> 3.2554187 | G8: =IF('7-3-1'!H106<>"",'7-3-1'!H106,"") -> 390.78757 | H8: =IF('7-3-1'!I106<>"",'7-3-1'!I106,"") -> 3.5816727 | I8: =IF('7-3-1'!J106<>"",'7-3-1'!J106,"") -> 1031.8788 | J8: =IF('7-3-1'!K106<>"",'7-3-1'!K106,"") -> 4.1939249 | ... V8: =IF('7-3-1'!W106<>"",'7-3-1'!W106,"") -> 3.3095444
B9: 金融（斡旋・転貸） | C9: =IF('7-3-1'!D107<>"",'7-3-1'!D107,"") -> 262.50507 | D9: =IF('7-3-1'!E107<>"",'7-3-1'!E107,"") -> 3.4570456 | E9: =IF('7-3-1'!F107<>"",'7-3-1'!F107,"") -> 171.80899 | F9: =IF('7-3-1'!G107<>"",'7-3-1'!G107,"") -> 1.4680493 | G9: =IF('7-3-1'!H107<>"",'7-3-1'!H107,"") -> 386.78028 | H9: =IF('7-3-1'!I107<>"",'7-3-1'!I107,"") -> 3.5449448 | I9: =IF('7-3-1'!J107<>"",'7-3-1'!J107,"") -> 495.2578 | J9: =IF('7-3-1'!K107<>"",'7-3-1'!K107,"") -> 2.0129051 | ... V9: =IF('7-3-1'!W107<>"",'7-3-1'!W107,"") -> 2.3510532
B10: 教育訓練 | C10: =IF('7-3-1'!D108<>"",'7-3-1'!D108,"") -> 2484.9637 | D10: =IF('7-3-1'!E108<>"",'7-3-1'!E108,"") -> 32.725588 | E10: =IF('7-3-1'!F108<>"",'7-3-1'!F108,"") -> 5457.8944 | F10: =IF('7-3-1'!G108<>"",'7-3-1'!G108,"") -> 46.635849 | G10: =IF('7-3-1'!H108<>"",'7-3-1'!H108,"") -> 6458.0633 | H10: =IF('7-3-1'!I108<>"",'7-3-1'!I108,"") -> 59.189879 | I10: =IF('7-3-1'!J108<>"",'7-3-1'!J108,"") -> 15820.016 | J10: =IF('7-3-1'!K108<>"",'7-3-1'!K108,"") -> 64.29821 | ... V10: =IF('7-3-1'!W108<>"",'7-3-1'!W108,"") -> 55.818344
B11: 情報交換 | C11: =IF('7-3-1'!D109<>"",'7-3-1'!D109,"") -> 4693.8061 | D11: =IF('7-3-1'!E109<>"",'7-3-1'!E109,"") -> 61.814813 | E11: =IF('7-3-1'!F109<>"",'7-3-1'!F109,"") -> 6972.0056 | F11: =IF('7-3-1'!G109<>"",'7-3-1'!G109,"") -> 59.573413 | G11: =IF('7-3-1'!H109<>"",'7-3-1'!H109,"") -> 7630.4593 | H11: =IF('7-3-1'!I109<>"",'7-3-1'!I109,"") -> 69.935203 | I11: =IF('7-3-1'!J109<>"",'7-3-1'!J109,"") -> 19267.505 | J11: =IF('7-3-1'!K109<>"",'7-3-1'!K109,"") -> 78.310042 | ... V11: =IF('7-3-1'!W109<>"",'7-3-1'!W109,"") -> 71.240342
B12: 福利厚生 | C12: =IF('7-3-1'!D110<>"",'7-3-1'!D110,"") -> 3343.8219 | D12: =IF('7-3-1'!E110<>"",'7-3-1'!E110,"") -> 44.036272 | E12: =IF('7-3-1'!F110<>"",'7-3-1'!F110,"") -> 3010.6999 | F12: =IF('7-3-1'!G110<>"",'7-3-1'!G110,"") -> 25.725405 | G12: =IF('7-3-1'!H110<>"",'7-3-1'!H110,"") -> 2846.2054 | H12: =IF('7-3-1'!I110<>"",'7-3-1'!I110,"") -> 26.086235 | I12: =IF('7-3-1'!J110<>"",'7-3-1'!J110,"") -> 5600.5058 | J12: =IF('7-3-1'!K110<>"",'7-3-1'!K110,"") -> 22.762461 | ... V12: =IF('7-3-1'!W110<>"",'7-3-1'!W110,"") -> 26.029695
B13: 経営・施工管理の指導 | C13: =IF('7-3-1'!D111<>"",'7-3-1'!D111,"") -> 1208.9118 | D13: =IF('7-3-1'!E111<>"",'7-3-1'!E111,"") -> 15.920696 | E13: =IF('7-3-1'!F111<>"",'7-3-1'!F111,"") -> 731.54551 | F13: =IF('7-3-1'!G111<>"",'7-3-1'!G111,"") -> 6.2508072 | G13: =IF('7-3-1'!H111<>"",'7-3-1'!H111,"") -> 1654.723 | H13: =IF('7-3-1'!I111<>"",'7-3-1'!I111,"") -> 15.165979 | I13: =IF('7-3-1'!J111<>"",'7-3-1'!J111,"") -> 4782.2987 | J13: =IF('7-3-1'!K111<>"",'7-3-1'!K111,"") -> 19.436975 | ... V13: =IF('7-3-1'!W111<>"",'7-3-1'!W111,"") -> 15.354562
B14: 共同受注 | C14: =IF('7-3-1'!D112<>"",'7-3-1'!D112,"") -> 552.86036 | D14: =IF('7-3-1'!E112<>"",'7-3-1'!E112,"") -> 7.280863 | E14: =IF('7-3-1'!F112<>"",'7-3-1'!F112,"") -> 932.49839 | F14: =IF('7-3-1'!G112<>"",'7-3-1'!G112,"") -> 7.9678811 | G14: =IF('7-3-1'!H112<>"",'7-3-1'!H112,"") -> 952.83319 | H14: =IF('7-3-1'!I112<>"",'7-3-1'!I112,"") -> 8.7329714 | I14: =IF('7-3-1'!J112<>"",'7-3-1'!J112,"") -> 2203.5744 | J14: =IF('7-3-1'!K112<>"",'7-3-1'!K112,"") -> 8.9561154 | ... V14: =IF('7-3-1'!W112<>"",'7-3-1'!W112,"") -> 8.7899651
B15: 新事業分野への進出支援 | C15: =IF('7-3-1'!D113<>"",'7-3-1'!D113,"") -> 149.20594 | D15: =IF('7-3-1'!E113<>"",'7-3-1'!E113,"") -> 1.9649591 | E15: =IF('7-3-1'!F113<>"",'7-3-1'!F113,"") -> 41.698246 | F15: =IF('7-3-1'!G113<>"",'7-3-1'!G113,"") -> 0.3562973 | G15: =IF('7-3-1'!H113<>"",'7-3-1'!H113,"") -> 15.846154 | H15: =IF('7-3-1'!I113<>"",'7-3-1'!I113,"") -> 0.14523424 | I15: =IF('7-3-1'!J113<>"",'7-3-1'!J113,"") -> 312.0115 | J15: =IF('7-3-1'!K113<>"",'7-3-1'!K113,"") -> 1.2681265 | ... V15: =IF('7-3-1'!W113<>"",'7-3-1'!W113,"") -> 1.0383275
B16: その他 | C16: =IF('7-3-1'!D114<>"",'7-3-1'!D114,"") -> 1560.5067 | D16: =IF('7-3-1'!E114<>"",'7-3-1'!E114,"") -> 20.551004 | E16: =IF('7-3-1'!F114<>"",'7-3-1'!F114,"") -> 1959.3839 | F16: =IF('7-3-1'!G114<>"",'7-3-1'!G114,"") -> 16.742268 | G16: =IF('7-3-1'!H114<>"",'7-3-1'!H114,"") -> 1167.0365 | H16: =IF('7-3-1'!I114<>"",'7-3-1'!I114,"") -> 10.696202 | I16: =IF('7-3-1'!J114<>"",'7-3-1'!J114,"") -> 3094.1845 | J16: =IF('7-3-1'!K114<>"",'7-3-1'!K114,"") -> 12.575874 | ... V16: =IF('7-3-1'!W114<>"",'7-3-1'!W114,"") -> 14.041161
C17: =IF('7-3-1'!D115<>"",'7-3-1'!D115,"") -> 7593.3355 | D17: =IF('7-3-1'!E115<>"",'7-3-1'!E115,"") -> 100 | E17: =IF('7-3-1'!F115<>"",'7-3-1'!F115,"") -> 11703.217 | F17: =IF('7-3-1'!G115<>"",'7-3-1'!G115,"") -> 100 | G17: =IF('7-3-1'!H115<>"",'7-3-1'!H115,"") -> 10910.756 | H17: =IF('7-3-1'!I115<>"",'7-3-1'!I115,"") -> 100 | I17: =IF('7-3-1'!J115<>"",'7-3-1'!J115,"") -> 24604.131 | J17: =IF('7-3-1'!K115<>"",'7-3-1'!K115,"") -> 100 | ... V17: =IF('7-3-1'!W115<>"",'7-3-1'!W115,"") -> 100
A18: 増減 | B18: 共同購入 | D18: =IF(AND(ISNUMBER(D7),ISNUMBER(D29)),D7-D29,"") -> -2.2310259 | F18: =IF(AND(ISNUMBER(F7),ISNUMBER(F29)),F7-F29,"") -> -0.65590771 | H18: =IF(AND(ISNUMBER(H7),ISNUMBER(H29)),H7-H29,"") -> -11.54767 | J18: =IF(AND(ISNUMBER(J7),ISNUMBER(J29)),J7-J29,"") -> 0.67763389 | L18: =IF(AND(ISNUMBER(L7),ISNUMBER(L29)),L7-L29,"") -> 0.32321089 | N18: =IF(AND(ISNUMBER(N7),ISNUMBER(N29)),N7-N29,"") -> 1.9380415 | P18: =IF(AND(ISNUMBER(P7),ISNUMBER(P29)),P7-P29,"") -> 2.4732924 | R18: =IF(AND(ISNUMBER(R7),ISNUMBER(R29)),R7-R29,"") -> -13.438231 | T18: =IF(AND(ISNUMBER(T7),ISNUMBER(T29)),T7-T29,"") | V18: =IF(AND(ISNUMBER(V7),ISNUMBER(V29)),V7-V29,"") -> -2.0160626
B19: 機械等の共同利用 | D19: =IF(AND(ISNUMBER(D8),ISNUMBER(D30)),D8-D30,"") -> -0.83081053 | F19: =IF(AND(ISNUMBER(F8),ISNUMBER(F30)),F8-F30,"") -> -2.7607431 | H19: =IF(AND(ISNUMBER(H8),ISNUMBER(H30)),H8-H30,"") -> -0.060173321 | J19: =IF(AND(ISNUMBER(J8),ISNUMBER(J30)),J8-J30,"") -> 0.63596156 | L19: =IF(AND(ISNUMBER(L8),ISNUMBER(L30)),L8-L30,"") -> -1.6130897 | N19: =IF(AND(ISNUMBER(N8),ISNUMBER(N30)),N8-N30,"") -> -0.49474761 | P19: =IF(AND(ISNUMBER(P8),ISNUMBER(P30)),P8-P30,"") -> -0.18312233 | R19: =IF(AND(ISNUMBER(R8),ISNUMBER(R30)),R8-R30,"") | T19: =IF(AND(ISNUMBER(T8),ISNUMBER(T30)),T8-T30,"") | V19: =IF(AND(ISNUMBER(V8),ISNUMBER(V30)),V8-V30,"") -> -0.51913861
B20: 金融（斡旋・転貸） | D20: =IF(AND(ISNUMBER(D9),ISNUMBER(D31)),D9-D31,"") -> -0.55946652 | F20: =IF(AND(ISNUMBER(F9),ISNUMBER(F31)),F9-F31,"") -> -0.041536982 | H20: =IF(AND(ISNUMBER(H9),ISNUMBER(H31)),H9-H31,"") -> 1.5264664 | J20: =IF(AND(ISNUMBER(J9),ISNUMBER(J31)),J9-J31,"") -> -0.98017545 | L20: =IF(AND(ISNUMBER(L9),ISNUMBER(L31)),L9-L31,"") -> -0.33978369 | N20: =IF(AND(ISNUMBER(N9),ISNUMBER(N31)),N9-N31,"") -> -1.0078068 | P20: =IF(AND(ISNUMBER(P9),ISNUMBER(P31)),P9-P31,"") -> -0.87334143 | R20: =IF(AND(ISNUMBER(R9),ISNUMBER(R31)),R9-R31,"") -> -2.0137471 | T20: =IF(AND(ISNUMBER(T9),ISNUMBER(T31)),T9-T31,"") | V20: =IF(AND(ISNUMBER(V9),ISNUMBER(V31)),V9-V31,"") -> -0.32597909
B21: 教育訓練 | D21: =IF(AND(ISNUMBER(D10),ISNUMBER(D32)),D10-D32,"") -> -8.24781 | F21: =IF(AND(ISNUMBER(F10),ISNUMBER(F32)),F10-F32,"") -> -3.8018279 | H21: =IF(AND(ISNUMBER(H10),ISNUMBER(H32)),H10-H32,"") -> 9.1591126 | J21: =IF(AND(ISNUMBER(J10),ISNUMBER(J32)),J10-J32,"") -> 3.1184574 | L21: =IF(AND(ISNUMBER(L10),ISNUMBER(L32)),L10-L32,"") -> 1.1198955 | N21: =IF(AND(ISNUMBER(N10),ISNUMBER(N32)),N10-N32,"") -> -3.7272553 | P21: =IF(AND(ISNUMBER(P10),ISNUMBER(P32)),P10-P32,"") -> 3.8029082 | R21: =IF(AND(ISNUMBER(R10),ISNUMBER(R32)),R10-R32,"") -> -18.249282 | T21: =IF(AND(ISNUMBER(T10),ISNUMBER(T32)),T10-T32,"") -> 1.8283286 | V21: =IF(AND(ISNUMBER(V10),ISNUMBER(V32)),V10-V32,"") -> 0.65684419
B22: 情報交換 | D22: =IF(AND(ISNUMBER(D11),ISNUMBER(D33)),D11-D33,"") -> -2.1625414 | F22: =IF(AND(ISNUMBER(F11),ISNUMBER(F33)),F11-F33,"") -> -3.8444782 | H22: =IF(AND(ISNUMBER(H11),ISNUMBER(H33)),H11-H33,"") -> -1.7190856 | J22: =IF(AND(ISNUMBER(J11),ISNUMBER(J33)),J11-J33,"") -> 4.181372 | L22: =IF(AND(ISNUMBER(L11),ISNUMBER(L33)),L11-L33,"") -> -1.7318599 | N22: =IF(AND(ISNUMBER(N11),ISNUMBER(N33)),N11-N33,"") -> 2.7936819 | P22: =IF(AND(ISNUMBER(P11),ISNUMBER(P33)),P11-P33,"") -> 6.4961979 | R22: =IF(AND(ISNUMBER(R11),ISNUMBER(R33)),R11-R33,"") -> -3.3995271 | T22: =IF(AND(ISNUMBER(T11),ISNUMBER(T33)),T11-T33,"") -> 11.269937 | V22: =IF(AND(ISNUMBER(V11),ISNUMBER(V33)),V11-V33,"") -> 0.27808796
B23: 福利厚生 | D23: =IF(AND(ISNUMBER(D12),ISNUMBER(D34)),D12-D34,"") -> 10.697855 | F23: =IF(AND(ISNUMBER(F12),ISNUMBER(F34)),F12-F34,"") -> -6.4779582 | H23: =IF(AND(ISNUMBER(H12),ISNUMBER(H34)),H12-H34,"") -> -6.0875211 | J23: =IF(AND(ISNUMBER(J12),ISNUMBER(J34)),J12-J34,"") -> -6.9093376 | L23: =IF(AND(ISNUMBER(L12),ISNUMBER(L34)),L12-L34,"") -> -6.5241376 | N23: =IF(AND(ISNUMBER(N12),ISNUMBER(N34)),N12-N34,"") -> -1.5571353 | P23: =IF(AND(ISNUMBER(P12),ISNUMBER(P34)),P12-P34,"") -> -1.4682231 | R23: =IF(AND(ISNUMBER(R12),ISNUMBER(R34)),R12-R34,"") | T23: =IF(AND(ISNUMBER(T12),ISNUMBER(T34)),T12-T34,"") -> -6.3740202 | V23: =IF(AND(ISNUMBER(V12),ISNUMBER(V34)),V12-V34,"") -> -4.2841479
B24: 経営・施工管理の指導 | D24: =IF(AND(ISNUMBER(D13),ISNUMBER(D35)),D13-D35,"") -> -5.5625268 | F24: =IF(AND(ISNUMBER(F13),ISNUMBER(F35)),F13-F35,"") -> -10.225651 | H24: =IF(AND(ISNUMBER(H13),ISNUMBER(H35)),H13-H35,"") -> -1.2081029 | J24: =IF(AND(ISNUMBER(J13),ISNUMBER(J35)),J13-J35,"") -> 1.2438715 | L24: =IF(AND(ISNUMBER(L13),ISNUMBER(L35)),L13-L35,"") -> -3.7635354 | N24: =IF(AND(ISNUMBER(N13),ISNUMBER(N35)),N13-N35,"") -> -5.6663181 | P24: =IF(AND(ISNUMBER(P13),ISNUMBER(P35)),P13-P35,"") -> -3.8361423 | R24: =IF(AND(ISNUMBER(R13),ISNUMBER(R35)),R13-R35,"") -> -18.499721 | T24: =IF(AND(ISNUMBER(T13),ISNUMBER(T35)),T13-T35,"") -> -2.026478 | V24: =IF(AND(ISNUMBER(V13),ISNUMBER(V35)),V13-V35,"") -> -2.9635179
B25: 共同受注 | D25: =IF(AND(ISNUMBER(D14),ISNUMBER(D36)),D14-D36,"") -> -2.1745038 | F25: =IF(AND(ISNUMBER(F14),ISNUMBER(F36)),F14-F36,"") -> -4.887939 | H25: =IF(AND(ISNUMBER(H14),ISNUMBER(H36)),H14-H36,"") -> 1.1256892 | J25: =IF(AND(ISNUMBER(J14),ISNUMBER(J36)),J14-J36,"") -> 0.21628062 | L25: =IF(AND(ISNUMBER(L14),ISNUMBER(L36)),L14-L36,"") -> 0.053487018 | N25: =IF(AND(ISNUMBER(N14),ISNUMBER(N36)),N14-N36,"") -> 1.5065761 | P25: =IF(AND(ISNUMBER(P14),ISNUMBER(P36)),P14-P36,"") -> -1.9612993 | R25: =IF(AND(ISNUMBER(R14),ISNUMBER(R36)),R14-R36,"") -> -5.8383121 | T25: =IF(AND(ISNUMBER(T14),ISNUMBER(T36)),T14-T36,"") | V25: =IF(AND(ISNUMBER(V14),ISNUMBER(V36)),V14-V36,"") -> -0.91762516
B26: 新事業分野への進出支援 | D26: =IF(AND(ISNUMBER(D15),ISNUMBER(D37)),D15-D37,"") -> -2.0479172 | F26: =IF(AND(ISNUMBER(F15),ISNUMBER(F37)),F15-F37,"") -> -1.4915558 | H26: =IF(AND(ISNUMBER(H15),ISNUMBER(H37)),H15-H37,"") -> -4.5284418 | J26: =IF(AND(ISNUMBER(J15),ISNUMBER(J37)),J15-J37,"") -> -0.67078005 | L26: =IF(AND(ISNUMBER(L15),ISNUMBER(L37)),L15-L37,"") -> -2.259058 | N26: =IF(AND(ISNUMBER(N15),ISNUMBER(N37)),N15-N37,"") -> -1.6865827 | P26: =IF(AND(ISNUMBER(P15),ISNUMBER(P37)),P15-P37,"") | R26: =IF(AND(ISNUMBER(R15),ISNUMBER(R37)),R15-R37,"") | T26: =IF(AND(ISNUMBER(T15),ISNUMBER(T37)),T15-T37,"") | V26: =IF(AND(ISNUMBER(V15),ISNUMBER(V37)),V15-V37,"") -> -1.7270922
B27: その他 | D27: =IF(AND(ISNUMBER(D16),ISNUMBER(D38)),D16-D38,"") -> -3.8058016 | F27: =IF(AND(ISNUMBER(F16),ISNUMBER(F38)),F16-F38,"") -> 1.8205414 | H27: =IF(AND(ISNUMBER(H16),ISNUMBER(H38)),H16-H38,"") -> -4.4035824 | J27: =IF(AND(ISNUMBER(J16),ISNUMBER(J38)),J16-J38,"") -> -3.1070088 | L27: =IF(AND(ISNUMBER(L16),ISNUMBER(L38)),L16-L38,"") -> 1.7996273 | N27: =IF(AND(ISNUMBER(N16),ISNUMBER(N38)),N16-N38,"") -> 1.082103 | P27: =IF(AND(ISNUMBER(P16),ISNUMBER(P38)),P16-P38,"") -> -3.4493734 | R27: =IF(AND(ISNUMBER(R16),ISNUMBER(R38)),R16-R38,"") -> 1.260736 | T27: =IF(AND(ISNUMBER(T16),ISNUMBER(T38)),T16-T38,"") -> -2.8699858 | V27: =IF(AND(ISNUMBER(V16),ISNUMBER(V38)),V16-V38,"") -> -2.0700598
D28: - | F28: - | H28: - | J28: - | L28: - | N28: - | P28: - | R28: - | T28: - | V28: -
A29: H26 年度 | B29: 共同購入 | C29: 900.22721 | D29: 11.101004 | E29: 1739.9768 | F29: 15.290657 | G29: 1713.2798 | H29: 22.183578 | I29: 6022.9074 | J29: 21.661892 | K29: 1000.804 | L29: 19.130879 | M29: 276.50282 | N29: 16.942081 | O29: 19.643557 | P29: 9.5567557 | Q29: 7.5143678 | R29: 19.35269 | S29: 5.8056738 | T29: 11.038391 | U29: 11686.662 | V29: 18.795949
B30: 機械等の共同利用 | C30: 189.85651 | D30: 2.3411844 | E30: 684.59992 | F30: 6.0161618 | G30: 281.26667 | H30: 3.641846 | I30: 989.26187 | J30: 3.5579633 | K30: 178.248 | L30: 3.4073013 | M30: 46.273363 | N30: 2.8352951 | O30: 5.1547619 | P30: 2.507835 | Q30: 2.3888889 | R30: 6.152404 | S30: 3.4907801 | T30: 6.6370586 | U30: 2380.5408 | V30: 3.828683
B31: 金融（斡旋・転貸） | C31: 325.71589 | D31: 4.0165121 | E31: 171.78105 | F31: 1.5095862 | G31: 155.89091 | H31: 2.0184784 | I31: 832.20094 | J31: 2.9930805 | K31: 121.86918 | L31: 2.3295914 | M31: 46.904581 | N31: 2.8739715 | O31: 8.2333333 | P31: 4.0055858 | Q31: 1.8888889 | R31: 4.8646915 | U31: 1664.4848 | V31: 2.6770323
B32: 教育訓練 | C32: 3322.7055 | D32: 40.973398 | E32: 5739.4781 | F32: 50.437676 | G32: 3863.9709 | H32: 50.030767 | I32: 17010.517 | J32: 61.179753 | K32: 3189.2882 | L32: 60.964869 | M32: 992.26003 | N32: 60.798477 | O32: 136.23988 | P32: 66.281849 | Q32: 23.393103 | R32: 60.247182 | S32: 19.631864 | T32: 37.326279 | U32: 34297.485 | V32: 55.1615
B33: 情報交換 | C33: 5188.1933 | D33: 63.977354 | E33: 7216.5418 | F33: 63.417891 | G33: 5533.9965 | H33: 71.654288 | I33: 20610.855 | J33: 74.12867 | K33: 4034.592 | L33: 77.123281 | M33: 1289.8814 | N33: 79.034546 | O33: 170.50064 | P33: 82.949993 | Q33: 31.774138 | R33: 81.831907 | S33: 45.504509 | T33: 86.518222 | U33: 44121.839 | V33: 70.962254
B34: 福利厚生 | C34: 2703.5527 | D34: 33.338417 | E34: 3664.5324 | F34: 32.203363 | G34: 2484.8401 | H34: 32.173756 | I34: 8249.9948 | J34: 29.671799 | K34: 1376.3511 | L34: 26.309652 | M34: 310.03687 | N34: 18.996804 | O34: 41.29972 | P34: 20.092661 | Q34: 11.22318 | R34: 28.904458 | S34: 6.2529889 | T34: 11.888876 | U34: 18848.084 | V34: 30.313843
B35: 経営・施工管理の指導 | C35: 1742.165 | D35: 21.483222 | E35: 1874.9133 | F35: 16.476458 | G35: 1264.6014 | H35: 16.374082 | I35: 5058.4398 | J35: 18.193103 | K35: 1083.8012 | L35: 20.717411 | M35: 313.04943 | N35: 19.181392 | O35: 33.652801 | P35: 16.37237 | Q35: 14.158812 | R35: 36.464958 | S35: 4.7574468 | T35: 9.0453859 | U35: 11389.539 | V35: 18.31808
B36: 共同受注 | C36: 766.77554 | D36: 9.4553668 | E36: 1462.9084 | F36: 12.85582 | G36: 587.52482 | H36: 7.6072822 | I36: 2430.0378 | J36: 8.7398348 | K36: 645.96115 | L36: 12.347876 | M36: 114.69747 | N36: 7.0278266 | O36: 19.439496 | P36: 9.457478 | Q36: 4.4655172 | R36: 11.500604 | S36: 4.0288754 | T36: 7.660145 | U36: 6035.839 | V36: 9.7075903
B37: 新事業分野への進出支援 | C37: 325.42105 | D37: 4.0128763 | E37: 210.27362 | F37: 1.8478531 | G37: 360.95686 | H37: 4.673676 | I37: 539.0967 | J37: 1.9389065 | K37: 217.7344 | L37: 4.162104 | M37: 51.599774 | N37: 3.1616588 | O37: 9.3704482 | P37: 4.5588018 | Q37: 1.9166667 | R37: 4.9362311 | S37: 3.0714286 | T37: 5.8397409 | U37: 1719.4409 | V37: 2.7654197
B38: その他 | C38: 1975.196 | D38: 24.356805 | E38: 1697.995 | F38: 14.921727 | G38: 1166.185 | H38: 15.099785 | I38: 4360.494 | J38: 15.682883 | K38: 545.82317 | L38: 10.433688 | M38: 235.20661 | N38: 14.41175 | O38: 23.461625 | P38: 11.414277 | Q38: 7.3155172 | R38: 18.840565 | S38: 5.7148936 | T38: 10.86579 | U38: 10017.392 | V38: 16.111221
C39: 8109.4214 | D39: 100 | E39: 11379.347 | F39: 100 | G39: 7723.1895 | H39: 100 | I39: 27804.161 | J39: 100 | K39: 5231.3542 | L39: 100 | M39: 1632.0475 | N39: 100 | O39: 205.5463 | P39: 100 | Q39: 38.828544 | R39: 100 | S39: 52.595289 | T39: 100 | U39: 62176.491 | V39: 100
A40: 増減 | B40: 共同購入 | D40: =IF(AND(ISNUMBER(D29),ISNUMBER(D51)),D29-D51,"") -> 6.8010042 | F40: =IF(AND(ISNUMBER(F29),ISNUMBER(F51)),F29-F51,"") -> -8.1093435 | H40: =IF(AND(ISNUMBER(H29),ISNUMBER(H51)),H29-H51,"") -> 2.983578 | J40: =IF(AND(ISNUMBER(J29),ISNUMBER(J51)),J29-J51,"") -> -1.9381081 | L40: =IF(AND(ISNUMBER(L29),ISNUMBER(L51)),L29-L51,"") -> 1.6308792 | N40: =IF(AND(ISNUMBER(N29),ISNUMBER(N51)),N29-N51,"") -> -1.1579188 | P40: =IF(AND(ISNUMBER(P29),ISNUMBER(P51)),P29-P51,"") -> -7.6432443 | R40: =IF(AND(ISNUMBER(R29),ISNUMBER(R51)),R29-R51,"") -> 6.4526901 | T40: =IF(AND(ISNUMBER(T29),ISNUMBER(T51)),T29-T51,"") -> -6.8616087 | V40: =IF(AND(ISNUMBER(V29),ISNUMBER(V51)),V29-V51,"") -> -0.60405077
B41: 機械等の共同利用 | D41: =IF(AND(ISNUMBER(D30),ISNUMBER(D52)),D30-D52,"") -> 0.3411844 | F41: =IF(AND(ISNUMBER(F30),ISNUMBER(F52)),F30-F52,"") -> 0.11616184 | H41: =IF(AND(ISNUMBER(H30),ISNUMBER(H52)),H30-H52,"") -> -0.15815398 | J41: =IF(AND(ISNUMBER(J30),ISNUMBER(J52)),J30-J52,"") -> 0.85796335 | L41: =IF(AND(ISNUMBER(L30),ISNUMBER(L52)),L30-L52,"") -> -1.1926987 | N41: =IF(AND(ISNUMBER(N30),ISNUMBER(N52)),N30-N52,"") -> 0.2352951 | P41: =IF(AND(ISNUMBER(P30),ISNUMBER(P52)),P30-P52,"") -> 0.70783497 | R41: =IF(AND(ISNUMBER(R30),ISNUMBER(R52)),R30-R52,"") | T41: =IF(AND(ISNUMBER(T30),ISNUMBER(T52)),T30-T52,"") | V41: =IF(AND(ISNUMBER(V30),ISNUMBER(V52)),V30-V52,"") -> 0.32868305
...
