Workbook
Name ______________________ＴＢＬ１: [1]CSS編集画面!$B$10:$F$22
Name ______________________ＴＢＬ２: [1]CSS編集画面!$B$24:$I$35
Name _____________________ＴＢＬ１: [1]CSS編集画面!$B$10:$F$22
Name _____________________ＴＢＬ２: [1]CSS編集画面!$B$24:$I$35
Name ____________________ＴＢＬ１: [1]CSS編集画面!$B$10:$F$22
Name ____________________ＴＢＬ２: [1]CSS編集画面!$B$24:$I$35
Name ___________________ＴＢＬ１: [1]CSS編集画面!$B$10:$F$22
Name ___________________ＴＢＬ２: [1]CSS編集画面!$B$24:$I$35
Name __________________ＴＢＬ１: [1]CSS編集画面!$B$10:$F$22
Name __________________ＴＢＬ２: [1]CSS編集画面!$B$24:$I$35
Name _________________ＴＢＬ１: [1]CSS編集画面!$B$10:$F$22
Name _________________ＴＢＬ２: [1]CSS編集画面!$B$24:$I$35
Name ________________ＴＢＬ１: [1]CSS編集画面!$B$10:$F$22
Name ________________ＴＢＬ２: [1]CSS編集画面!$B$24:$I$35
Name _______________ＴＢＬ１: [1]CSS編集画面!$B$10:$F$22
Name _______________ＴＢＬ２: [1]CSS編集画面!$B$24:$I$35
Name ______________ＴＢＬ１: [1]CSS編集画面!$B$10:$F$22
Name ______________ＴＢＬ２: [1]CSS編集画面!$B$24:$I$35
Name _____________ＴＢＬ１: [1]CSS編集画面!$B$10:$F$22
Name _____________ＴＢＬ２: [1]CSS編集画面!$B$24:$I$35
Name ____________ＴＢＬ１: [1]CSS編集画面!$B$10:$F$22
Name ____________ＴＢＬ２: [1]CSS編集画面!$B$24:$I$35
Name ___________ＴＢＬ１: [1]CSS編集画面!$B$10:$F$22
Name ___________ＴＢＬ２: [1]CSS編集画面!$B$24:$I$35
Name __________ＴＢＬ１: [1]CSS編集画面!$B$10:$F$22
Name __________ＴＢＬ２: [1]CSS編集画面!$B$24:$I$35
Name _________ＴＢＬ１: [1]CSS編集画面!$B$10:$F$22
Name _________ＴＢＬ２: [1]CSS編集画面!$B$24:$I$35
Name ________ＴＢＬ１: [1]CSS編集画面!$B$10:$F$22
Name ________ＴＢＬ２: [1]CSS編集画面!$B$24:$I$35
Name _______ＴＢＬ１: [1]CSS編集画面!$B$10:$F$22
Name _______ＴＢＬ２: [1]CSS編集画面!$B$24:$I$35
Name ______ＴＢＬ１: [1]CSS編集画面!$B$10:$F$22
Name ______ＴＢＬ２: [1]CSS編集画面!$B$24:$I$35
Name _____ＴＢＬ１: [1]CSS編集画面!$B$10:$F$22
Name _____ＴＢＬ２: [1]CSS編集画面!$B$24:$I$35
Name ____ＴＢＬ１: [1]CSS編集画面!$B$10:$F$22
Name ____ＴＢＬ２: [1]CSS編集画面!$B$24:$I$35
Name ___ＴＢＬ１: [1]CSS編集画面!$B$10:$F$22
Name ___ＴＢＬ２: [1]CSS編集画面!$B$24:$I$35
Name __ＴＢＬ１: [1]CSS編集画面!$B$10:$F$22
Name __ＴＢＬ２: [1]CSS編集画面!$B$24:$I$35
Name _ＴＢＬ１: [1]CSS編集画面!$B$10:$F$22
Name _ＴＢＬ２: [1]CSS編集画面!$B$24:$I$35
Name PAGE1: #REF!
Name PAGE10: #REF!
Name PAGE100: #REF!
Name PAGE1000: #REF!
Name PAGE1001: #REF!
Name PAGE1002: #REF!
Name PAGE1003: #REF!
Name PAGE1004: #REF!
Name PAGE1005: #REF!
Name PAGE1006: #REF!
Name PAGE1007: #REF!
Name PAGE1008: #REF!
Name PAGE1009: #REF!
Name PAGE101: #REF!
Name PAGE1010: #REF!
Name PAGE1011: #REF!

Sheet 7-4-1
A1: 表7－4－1 組織変更等の意向（６業種別集計）
W3: （単位：社、％）
C4: 資本金 | D4: 個 人 | F4: 法 人 | V4: 合 計
A5: 業種 | C5: 意向 | F5: 500万円未満 | H5: 500万円以上 1000万円未満 | J5: 1000万円以上 3000万円未満 | L5: 3000万円以上 5000万円未満 | N5: 5000万円以上 1億円未満 | P5: 1億円以上 3億円未満 | R5: 3億円以上 10億円未満 | T5: 10億円以上
A6: 一 般 土 木 建 築 | C6: 他社との協業化や業務提携、企業連携 | D6: 36 | E6: 100 | J6: 79.549296 | K6: 5.7142857 | L6: 42.974359 | M6: 5.1948052 | N6: 23.949367 | O6: 5.0632911 | P6: 17.1 | Q6: 18 | R6: 1.2631579 | S6: 5.2631579 | T6: 16.176471 | U6: 32.352941 | V6: 217.01265 | W6: 6.2494
C7: 他社との合併 | J7: 19.887324 | K7: 1.4285714 | L7: 10.74359 | M7: 1.2987013 | N7: 5.9873418 | O7: 1.2658228 | P7: 3.8 | Q7: 4 | T7: 1.4705882 | U7: 2.9411765 | V7: 41.888844 | W7: 1.2062898
C8: 特定部門の別法人化（分社化） | L8: 32.230769 | M8: 3.8961039 | N8: 5.9873418 | O8: 1.2658228 | P8: 3.8 | Q8: 4 | T8: 1.4705882 | U8: 2.9411765 | V8: 43.488699 | W8: 1.2523615
C9: 協力会社の組織強化、協力会社への取込強化 | J9: 99.43662 | K9: 7.1428571 | L9: 75.205128 | M9: 9.0909091 | N9: 119.74684 | O9: 25.316456 | P9: 22.8 | Q9: 24 | R9: 8.8421053 | S9: 36.842105 | T9: 16.176471 | U9: 32.352941 | V9: 342.20716 | W9: 9.8546763
C10: 持ち株会社化 | L10: 21.487179 | M10: 2.5974026 | N10: 41.911392 | O10: 8.8607595 | P10: 17.1 | Q10: 18 | T10: 2.9411765 | U10: 5.8823529 | V10: 83.439748 | W10: 2.4028478
C11: アウトソーシング | J11: 39.774648 | K11: 2.8571429 | L11: 32.230769 | M11: 3.8961039 | N11: 29.936709 | O11: 6.3291139 | P11: 13.3 | Q11: 14 | R11: 1.2631579 | S11: 5.2631579 | T11: 16.176471 | U11: 32.352941 | V11: 132.68175 | W11: 3.8208895
C12: 同業団体、協同組合等への加入（複数加入） | D12: 36 | E12: 100 | F12: 44.833333 | G12: 20 | H12: 54 | I12: 15.384615 | J12: 238.64789 | K12: 17.142857 | L12: 118.17949 | M12: 14.285714 | N12: 143.6962 | O12: 30.379747 | P12: 34.2 | Q12: 36 | R12: 8.8421053 | S12: 36.842105 | T12: 17.647059 | U12: 35.294118 | V12: 696.04607 | W12: 20.044317
C13: 社内の組織改編 | J13: 178.98592 | K13: 12.857143 | L13: 85.948718 | M13: 10.38961 | N13: 89.810127 | O13: 18.987342 | P13: 26.6 | Q13: 28 | R13: 8.8421053 | S13: 36.842105 | T13: 22.058824 | U13: 44.117647 | V13: 412.24569 | W13: 11.871604
C14: 技能労働者の直用化、常用化 | H14: 54 | I14: 15.384615 | J14: 238.64789 | K14: 17.142857 | L14: 139.66667 | M14: 16.883117 | N14: 131.72152 | O14: 27.848101 | P14: 20.9 | Q14: 22 | R14: 5.0526316 | S14: 21.052632 | V14: 589.9887 | W14: 16.990141
C15: 技能労働者の多能工化 | H15: 54 | I15: 15.384615 | J15: 258.53521 | K15: 18.571429 | L15: 128.92308 | M15: 15.584416 | N15: 77.835443 | O15: 16.455696 | P15: 11.4 | Q15: 12 | R15: 2.5263158 | S15: 10.526316 | V15: 533.22005 | W15: 15.355351
C16: 直用の技能労働者の独立支援 | L16: 21.487179 | M16: 2.5974026 | N16: 5.9873418 | O16: 1.2658228 | P16: 5.7 | Q16: 6 | V16: 33.174521 | W16: 0.95533995
C17: 特に考えていない | F17: 179.33333 | G17: 80 | H17: 270 | I17: 76.923077 | J17: 835.26761 | K17: 60 | L17: 483.46154 | M17: 58.441558 | N17: 221.53165 | O17: 46.835443 | P17: 34.2 | Q17: 36 | R17: 6.3157895 | S17: 26.315789 | T17: 19.117647 | U17: 38.235294 | V17: 2049.2276 | W17: 59.012425
B18: 小 計 | D18: 36 | E18: 100 | F18: 224.16667 | G18: 100 | H18: 351 | I18: 100 | J18: 1392.1127 | K18: 100 | L18: 827.25641 | M18: 100 | N18: 473 | O18: 100 | P18: 95 | Q18: 100 | R18: 24 | S18: 100 | T18: 50 | U18: 100 | V18: 3472.5358 | W18: 100
A19: 土 木 | C19: 他社との協業化や業務提携、企業連携 | D19: 90.785714 | E19: 7.8212711 | F19: 307.38506 | G19: 5.2348642 | H19: 636.59286 | I19: 11.563363 | J19: 529.58042 | K19: 3.9235036 | L19: 303.74953 | M19: 7.4191743 | N19: 55.300926 | O19: 4.7244811 | P19: 13.347826 | Q19: 13.318872 | R19: 2.1818182 | S19: 14.634146 | T19: 5.3333333 | U19: 33.333333 | V19: 1944.2575 | W19: 6.185738
C20: 他社との合併 | F20: 81.017241 | G20: 1.3797491 | L20: 9.1388889 | M20: 0.22322013 | N20: 3.4814815 | O20: 0.2974307 | R20: 1.0909091 | S20: 7.3170732 | V20: 94.728521 | W20: 0.30138282
C21: 特定部門の別法人化（分社化） | L21: 45.226491 | M21: 1.1046707 | N21: 17.31713 | O21: 1.4794409 | P21: 6.2826087 | Q21: 6.2689805 | T21: 2.6666667 | U21: 16.666667 | V21: 71.492896 | W21: 0.22745769
C22: 協力会社の組織強化、協力会社への取込強化 | F22: 133.01724 | G22: 2.2653254 | H22: 695.36905 | I22: 12.631 | J22: 1084.3611 | K22: 8.0337086 | L22: 523.80014 | M22: 12.793977 | N22: 132.51157 | O22: 11.320758 | P22: 30.978261 | Q22: 30.911063 | R22: 7.030303 | S22: 47.154472 | V22: 2607.0677 | W22: 8.2944968
C23: 持ち株会社化 | H23: 52.857143 | I23: 0.96012123 | J23: 587.63615 | K23: 4.3536213 | L23: 172.37134 | M23: 4.2102223 | N23: 82.833333 | O23: 7.0766359 | P23: 6.2826087 | Q23: 6.2689805 | R23: 4.8484848 | S23: 32.520325 | V23: 906.82907 | W23: 2.8851153
C24: アウトソーシング | H24: 155.8 | I24: 2.8300222 | J24: 374.03832 | K24: 2.7711385 | L24: 185.07134 | M24: 4.5204236 | N24: 44.402778 | O24: 3.793428 | P24: 7.5652174 | Q24: 7.5488069 | R24: 2.1818182 | S24: 14.634146 | T24: 2.6666667 | U24: 16.666667 | V24: 771.72614 | W24: 2.4552796
C25: 同業団体、協同組合等への加入（複数加入） | D25: 181.57143 | E25: 15.642542 | F25: 159.01724 | G25: 2.7081136 | H25: 541.1381 | I25: 9.829479 | J25: 1640.3247 | K25: 12.152677 | L25: 804.70224 | M25: 19.655096 | N25: 202.63657 | O25: 17.311693 | P25: 27.195652 | Q25: 27.136659 | R25: 7.030303 | S25: 47.154472 | T25: 2.6666667 | U25: 16.666667 | V25: 3566.2829 | W25: 11.346281
C26: 社内の組織改編 | F26: 81.017241 | G26: 1.3797491 | H26: 155.8 | I26: 2.8300222 | J26: 586.39761 | K26: 4.3444453 | L26: 242.79783 | M26: 5.9304107 | N26: 166.90046 | O26: 14.258678 | P26: 35.26087 | Q26: 35.184382 | R26: 8.3636364 | S26: 56.097561 | T26: 2.6666667 | U26: 16.666667 | V26: 1279.2043 | W26: 4.069843
C27: 技能労働者の直用化、常用化 | D27: 376.92063 | E27: 32.472052 | F27: 854.70402 | G27: 14.555878 | H27: 1275.1357 | I27: 23.162146 | J27: 3213.7835 | K27: 23.809965 | L27: 1321.9844 | M27: 32.28987 | N27: 298.83565 | O27: 25.530194 | P27: 41.543478 | Q27: 41.453362 | R27: 7.030303 | S27: 47.154472 | V27: 7389.9378 | W27: 23.511402
C28: 技能労働者の多能工化 | D28: 363.14286 | E28: 31.285084 | F28: 489.1523 | G28: 8.3304175 | H28: 855.88095 | I28: 15.546612 | J28: 2336.0818 | K28: 17.307335 | L28: 816.29411 | M28: 19.938231 | N28: 192.30787 | O28: 16.429289 | P28: 25.195652 | Q28: 25.140998 | R28: 2.4242424 | S28: 16.260163 | V28: 5080.4798 | W28: 16.163763
C29: 直用の技能労働者の独立支援 | D29: 90.785714 | E29: 7.8212711 | F29: 32.166667 | G29: 0.54780845 | H29: 26.428571 | I29: 0.48006062 | J29: 130.15535 | K29: 0.96428223 | L29: 209.90339 | M29: 5.1269539 | N29: 29.333333 | O29: 2.5060119 | V29: 518.77302 | W29: 1.6504985
C30: 特に考えていない | D30: 602.2619 | E30: 51.885406 | F30: 4615.1092 | G30: 78.596761 | H30: 3540.6714 | I30: 64.31437 | J30: 8717.2435 | K30: 64.583461 | L30: 2237.211 | M30: 54.644557 | N30: 636.90509 | O30: 54.412218 | P30: 27.695652 | Q30: 27.635575 | R30: 3.2727273 | S30: 21.95122 | T30: 8 | U30: 50 | V30: 20388.37 | W30: 64.866469
B31: 小 計 | D31: 1160.754 | E31: 100 | F31: 5871.8822 | G31: 100 | H31: 5505.2571 | I31: 100 | J31: 13497.641 | K31: 100 | L31: 4094.115 | M31: 100 | N31: 1170.5185 | O31: 100 | P31: 100.21739 | Q31: 100 | R31: 14.909091 | S31: 100 | T31: 16 | U31: 100 | V31: 31431.294 | W31: 100
A32: 建 築 | B32: 建 築 | C32: 他社との協業化や業務提携、企業連携 | F32: 205.27586 | G32: 3.5714286 | H32: 508.52632 | I32: 11.764706 | J32: 475 | K32: 4.8076923 | L32: 66.138889 | M32: 2.8571429 | N32: 41.104478 | O32: 4.6875 | P32: 38.4 | Q32: 20.833333 | R32: 4.2857143 | S32: 14.285714 | T32: 3.3636364 | U32: 9.0909091 | V32: 1342.0949 | W32: 5.0738383
C33: 他社との合併
C34: 特定部門の別法人化（分社化） | H34: 254.26316 | I34: 5.8823529 | J34: 95 | K34: 0.96153846 | L34: 33.069444 | M34: 1.4285714 | N34: 27.402985 | O34: 3.125 | T34: 3.3636364 | U34: 9.0909091 | V34: 413.09922 | W34: 1.5617366
C35: 協力会社の組織強化、協力会社への取込強化 | D35: 278 | E35: 9.0909091 | H35: 508.52632 | I35: 11.764706 | J35: 950 | K35: 9.6153846 | L35: 264.55556 | M35: 11.428571 | N35: 123.31343 | O35: 14.0625 | P35: 46.08 | Q35: 25 | R35: 11.428571 | S35: 38.095238 | T35: 16.818182 | U35: 45.454545 | V35: 2198.7221 | W35: 8.3123483
C36: 持ち株会社化 | H36: 254.26316 | I36: 5.8823529 | J36: 380 | K36: 3.8461538 | L36: 231.48611 | M36: 10 | N36: 123.31343 | O36: 14.0625 | P36: 23.04 | Q36: 12.5 | R36: 4.2857143 | S36: 14.285714 | T36: 3.3636364 | U36: 9.0909091 | V36: 1019.7521 | W36: 3.8552095
C37: アウトソーシング | J37: 190 | K37: 1.9230769 | L37: 33.069444 | M37: 1.4285714 | N37: 54.80597 | O37: 6.25 | P37: 23.04 | Q37: 12.5 | R37: 7.1428571 | S37: 23.809524 | T37: 3.3636364 | U37: 9.0909091 | V37: 311.42191 | W37: 1.1773418
C38: 同業団体、協同組合等への加入（複数加入） | F38: 205.27586 | G38: 3.5714286 | H38: 254.26316 | I38: 5.8823529 | J38: 855 | K38: 8.6538462 | L38: 198.41667 | M38: 8.5714286 | N38: 205.52239 | O38: 23.4375 | P38: 61.44 | Q38: 33.333333 | R38: 5.7142857 | S38: 19.047619 | T38: 10.090909 | U38: 27.272727 | V38: 1795.7233 | W38: 6.7887968
C39: 社内の組織改編 | J39: 570 | K39: 5.7692308 | L39: 99.208333 | M39: 4.2857143 | N39: 137.01493 | O39: 15.625 | P39: 84.48 | Q39: 45.833333 | R39: 7.1428571 | S39: 23.809524 | T39: 13.454545 | U39: 36.363636 | V39: 911.30066 | W39: 3.4452051
C40: 技能労働者の直用化、常用化 | F40: 615.82759 | G40: 10.714286 | H40: 762.78947 | I40: 17.647059 | J40: 1425 | K40: 14.423077 | L40: 429.90278 | M40: 18.571429 | N40: 54.80597 | O40: 6.25 | P40: 30.72 | Q40: 16.666667 | R40: 7.1428571 | S40: 23.809524 | T40: 3.3636364 | U40: 9.0909091 | V40: 3329.5523 | W40: 12.587493
C41: 技能労働者の多能工化 | F41: 205.27586 | G41: 3.5714286 | H41: 508.52632 | I41: 11.764706 | J41: 1330 | K41: 13.461538 | L41: 198.41667 | M41: 8.5714286 | N41: 41.104478 | O41: 4.6875 | P41: 23.04 | Q41: 12.5 | R41: 2.8571429 | S41: 9.5238095 | T41: 3.3636364 | U41: 9.0909091 | V41: 2312.5841 | W41: 8.7428079
...

Sheet 7-4-2
A1: 表7－4－2 組織変更等の意向（経年変化①：６業種別）
T3: （単位：社、％）
C4: 年度 | D4: R01年度 | G4: H26年度 | J4: H23年度 | M4: H20年度 | P4: H17年度 | S4: H14年度
A5: 業種 | C5: 意向 | F5: 増減 | I5: 増減 | L5: 増減 | O5: 増減 | R5: 増減
A6: 一 般 土 木 建 築 | C6: 他社との協業化や業務提携、企業連携 | D6: =IF('7-4-1'!V6<>"",'7-4-1'!V6,"") -> 217.01265 | E6: =IF('7-4-1'!W6<>"",'7-4-1'!W6,"") -> 6.2494 | F6: =IF(AND(ISNUMBER(E6),ISNUMBER(H6)),E6-H6,"") -> 1.826297 | G6: 177.18501 | H6: 4.4231031 | I6: =IF(AND(ISNUMBER(H6),ISNUMBER(K6)),H6-K6,"") -> 2.2231031 | J6: 93.5 | K6: 2.2 | L6: =K6-N6 -> -2.5 | M6: 239 | N6: 4.7 | O6: =N6-Q6 -> -0.3 | P6: 301 | Q6: 5 | R6: =Q6-T6 -> -8.9584377 | S6: 1115.4695 | T6: =IF(ROUND(S18,0)=0,"",ROUND(S6,0)/ROUND(S18,0)*100) -> 13.958438
C7: 他社との合併 | D7: =IF('7-4-1'!V7<>"",'7-4-1'!V7,"") -> 41.888844 | E7: =IF('7-4-1'!W7<>"",'7-4-1'!W7,"") -> 1.2062898 | F7: =IF(AND(ISNUMBER(E7),ISNUMBER(H7)),E7-H7,"") -> 0.91032096 | G7: 11.85621 | H7: 0.29596882 | I7: =IF(AND(ISNUMBER(H7),ISNUMBER(K7)),H7-K7,"") -> -1.1040312 | J7: 56.56 | K7: 1.4 | L7: =K7-N7 -> 0.6 | M7: 43 | N7: 0.8 | O7: =N7-Q7 -> -0.4 | P7: 70 | Q7: 1.2 | R7: =Q7-T7 -> -5.9982974 | S7: 575.19623 | T7: =IF(ROUND(S18,0)=0,"",ROUND(S7,0)/ROUND(S18,0)*100) -> 7.1982974
C8: 特定部門の別法人化（分社化） | D8: =IF('7-4-1'!V8<>"",'7-4-1'!V8,"") -> 43.488699 | E8: =IF('7-4-1'!W8<>"",'7-4-1'!W8,"") -> 1.2523615 | F8: =IF(AND(ISNUMBER(E8),ISNUMBER(H8)),E8-H8,"") -> -0.9111405 | G8: 86.667689 | H8: 2.1635019 | I8: =IF(AND(ISNUMBER(H8),ISNUMBER(K8)),H8-K8,"") -> 0.36350195 | J8: 76.16 | K8: 1.8 | L8: =K8-N8 -> -0.2 | M8: 101 | N8: 2 | O8: =N8-Q8 -> -0.2 | P8: 132 | Q8: 2.2 | R8: =Q8-T8 -> -1.5305959 | S8: 297.62823 | T8: =IF(ROUND(S18,0)=0,"",ROUND(S8,0)/ROUND(S18,0)*100) -> 3.7305959
C9: 協力会社の組織強化、協力会社への取込強化 | D9: =IF('7-4-1'!V9<>"",'7-4-1'!V9,"") -> 342.20716 | E9: =IF('7-4-1'!W9<>"",'7-4-1'!W9,"") -> 9.8546763 | F9: =IF(AND(ISNUMBER(E9),ISNUMBER(H9)),E9-H9,"") -> -2.2905626 | G9: 486.52593 | H9: 12.145239 | I9: =IF(AND(ISNUMBER(H9),ISNUMBER(K9)),H9-K9,"") -> 1.745239 | J9: 434 | K9: 10.4 | L9: =K9-N9 -> 0 | M9: 535 | N9: 10.4 | O9: =N9-Q9 -> 2.8 | P9: 460 | Q9: 7.6 | R9: =Q9-T9 -> -6.1080621 | S9: 1094.5696 | T9: =IF(ROUND(S18,0)=0,"",ROUND(S9,0)/ROUND(S18,0)*100) -> 13.708062
C10: 持ち株会社化 | D10: =IF('7-4-1'!V10<>"",'7-4-1'!V10,"") -> 83.439748 | E10: =IF('7-4-1'!W10<>"",'7-4-1'!W10,"") -> 2.4028478 | F10: =IF(AND(ISNUMBER(E10),ISNUMBER(H10)),E10-H10,"") -> -0.85161407 | G10: 130.37043 | H10: 3.2544619 | I10: =IF(AND(ISNUMBER(H10),ISNUMBER(K10)),H10-K10,"") -> 0.95446186 | J10: 96.91 | K10: 2.3 | L10: =K10-N10 -> -0.2 | M10: 128 | N10: 2.5 | O10: =N10-Q10 -> 1.6 | P10: 54 | Q10: 0.9 | R10: =Q10-T10 -> 0.19894842 | S10: 55.794788 | T10: =IF(ROUND(S18,0)=0,"",ROUND(S10,0)/ROUND(S18,0)*100) -> 0.70105158
C11: アウトソーシング | D11: =IF('7-4-1'!V11<>"",'7-4-1'!V11,"") -> 132.68175 | E11: =IF('7-4-1'!W11<>"",'7-4-1'!W11,"") -> 3.8208895 | F11: =IF(AND(ISNUMBER(E11),ISNUMBER(H11)),E11-H11,"") -> -0.022795052 | G11: 153.9741 | H11: 3.8436846 | I11: =IF(AND(ISNUMBER(H11),ISNUMBER(K11)),H11-K11,"") -> 2.8436846 | J11: 43.19 | K11: 1 | L11: =K11-N11 -> -0.7 | M11: 86 | N11: 1.7 | O11: =N11-Q11 -> -0.2 | P11: 113 | Q11: 1.9 | R11: =Q11-T11 -> -1.2672509 | S11: 252.95073 | T11: =IF(ROUND(S18,0)=0,"",ROUND(S11,0)/ROUND(S18,0)*100) -> 3.1672509
C12: 同業団体、協同組合等への加入（複数加入） | D12: =IF('7-4-1'!V12<>"",'7-4-1'!V12,"") -> 696.04607 | E12: =IF('7-4-1'!W12<>"",'7-4-1'!W12,"") -> 20.044317 | F12: =IF(AND(ISNUMBER(E12),ISNUMBER(H12)),E12-H12,"") -> 0.71443922 | G12: 774.33526 | H12: 19.329878 | I12: =IF(AND(ISNUMBER(H12),ISNUMBER(K12)),H12-K12,"") -> 3.1298778 | J12: 672.76 | K12: 16.2 | L12: =K12-N12 -> -2.1 | M12: 940 | N12: 18.3 | O12: =N12-Q12 -> 6.9 | P12: 689 | Q12: 11.4 | R12: =Q12-T12 -> 9.422033 | S12: 157.99281 | T12: =IF(ROUND(S18,0)=0,"",ROUND(S12,0)/ROUND(S18,0)*100) -> 1.977967
C13: 社内の組織改編 | D13: =IF('7-4-1'!V13<>"",'7-4-1'!V13,"") -> 412.24569 | E13: =IF('7-4-1'!W13<>"",'7-4-1'!W13,"") -> 11.871604 | F13: =IF(AND(ISNUMBER(E13),ISNUMBER(H13)),E13-H13,"") -> 0.85532805 | G13: 441.30081 | H13: 11.016276 | I13: =IF(AND(ISNUMBER(H13),ISNUMBER(K13)),H13-K13,"") -> 3.0162758 | J13: 331.53 | K13: 8 | L13: =K13-N13 -> -4.1 | M13: 622 | N13: 12.1 | O13: =N13-Q13 -> -2.1 | P13: 858 | Q13: 14.2 | R13: =Q13-T13 -> -20.364347 | S13: 2760.5056 | T13: =IF(ROUND(S18,0)=0,"",ROUND(S13,0)/ROUND(S18,0)*100) -> 34.564347
C14: 技能労働者の直用化、常用化 | D14: =IF('7-4-1'!V14<>"",'7-4-1'!V14,"") -> 589.9887 | E14: =IF('7-4-1'!W14<>"",'7-4-1'!W14,"") -> 16.990141 | F14: =IF(AND(ISNUMBER(E14),ISNUMBER(H14)),E14-H14,"") -> -9.1243808 | G14: 1046.1212 | H14: 26.114521 | I14: =IF(AND(ISNUMBER(H14),ISNUMBER(K14)),H14-K14,"") -> 6.3145213 | J14: 821.95 | K14: 19.8 | L14: =K14-N14 -> -4.2 | M14: 1231 | N14: 24 | O14: =N14-Q14 -> 12 | P14: 723 | Q14: 12 | R14: =Q14-T14 -> 3.1116675 | S14: 710.43823 | T14: =IF(ROUND(S18,0)=0,"",ROUND(S14,0)/ROUND(S18,0)*100) -> 8.8883325
C15: 技能労働者の多能工化 | D15: =IF('7-4-1'!V15<>"",'7-4-1'!V15,"") -> 533.22005 | E15: =IF('7-4-1'!W15<>"",'7-4-1'!W15,"") -> 15.355351 | F15: =IF(AND(ISNUMBER(E15),ISNUMBER(H15)),E15-H15,"") -> -5.4229299 | G15: 832.35681 | H15: 20.778281 | I15: =IF(AND(ISNUMBER(H15),ISNUMBER(K15)),H15-K15,"") -> 8.9782808 | J15: 491.66 | K15: 11.8 | L15: =K15-N15 -> -2.9 | M15: 752 | N15: 14.7 | O15: =N15-Q15 -> 2.5 | P15: 739 | Q15: 12.2 | R15: =Q15-T15 -> -10.584176 | S15: 1820.1854 | T15: =IF(ROUND(S18,0)=0,"",ROUND(S15,0)/ROUND(S18,0)*100) -> 22.784176
C16: 直用の技能労働者の独立支援 | D16: =IF('7-4-1'!V16<>"",'7-4-1'!V16,"") -> 33.174521 | E16: =IF('7-4-1'!W16<>"",'7-4-1'!W16,"") -> 0.95533995 | F16: =IF(AND(ISNUMBER(E16),ISNUMBER(H16)),E16-H16,"") -> -3.6612026 | G16: 184.934 | H16: 4.6165426 | I16: =IF(AND(ISNUMBER(H16),ISNUMBER(K16)),H16-K16,"") -> 2.1165426 | J16: 102.75 | K16: 2.5 | L16: =K16-N16 -> 1 | M16: 75 | N16: 1.5 | O16: =N16-Q16 -> 0.1 | P16: 84 | Q16: 1.4 | R16: =Q16-T16 -> -0.039659489 | S16: 114.81625 | T16: =IF(ROUND(S18,0)=0,"",ROUND(S16,0)/ROUND(S18,0)*100) -> 1.4396595
C17: 特に考えていない | D17: =IF('7-4-1'!V17<>"",'7-4-1'!V17,"") -> 2049.2276 | E17: =IF('7-4-1'!W17<>"",'7-4-1'!W17,"") -> 59.012425 | F17: =IF(AND(ISNUMBER(E17),ISNUMBER(H17)),E17-H17,"") -> 2.6723712 | G17: 2256.9253 | H17: 56.340054 | I17: =IF(AND(ISNUMBER(H17),ISNUMBER(K17)),H17-K17,"") -> -6.7599462 | J17: 2627.14 | K17: 63.1 | L17: =K17-N17 -> 6.9 | M17: 2878 | N17: 56.2 | O17: =N17-Q17 -> -5.4 | P17: 3717 | Q17: 61.6 | R17: =Q17-T17 -> 20.713671 | S17: 3265.6819 | T17: =IF(ROUND(S18,0)=0,"",ROUND(S17,0)/ROUND(S18,0)*100) -> 40.886329
B18: 小 計 | D18: =IF('7-4-1'!V18<>"",'7-4-1'!V18,"") -> 3472.5358 | E18: =IF('7-4-1'!W18<>"",'7-4-1'!W18,"") -> 100 | F18: - | G18: 4005.8984 | H18: 100 | I18: - | J18: 4160.16 | K18: 100 | L18: - | M18: 5122 | N18: 100 | O18: - | P18: 6038 | Q18: 100 | R18: - | S18: 7988 | T18: =IF(ROUND(S18,0)=0,"",ROUND(S18,0)/ROUND(S18,0)*100) -> 100
A19: 土 木 | C19: 他社との協業化や業務提携、企業連携 | D19: =IF('7-4-1'!V19<>"",'7-4-1'!V19,"") -> 1944.2575 | E19: =IF('7-4-1'!W19<>"",'7-4-1'!W19,"") -> 6.185738 | F19: =IF(AND(ISNUMBER(E19),ISNUMBER(H19)),E19-H19,"") -> 1.5503452 | G19: 1736.8713 | H19: 4.6353928 | I19: =IF(AND(ISNUMBER(H19),ISNUMBER(K19)),H19-K19,"") -> -0.26460721 | J19: 1850.9 | K19: 4.9 | L19: =K19-N19 -> -0.1 | M19: 2393 | N19: 5 | O19: =N19-Q19 -> 0.6 | P19: 2618 | Q19: 4.4 | R19: =Q19-T19 -> -10.052135 | S19: 9750.9033 | T19: =IF(ROUND(S31,0)=0,"",ROUND(S19,0)/ROUND(S31,0)*100) -> 14.452135
C20: 他社との合併 | D20: =IF('7-4-1'!V20<>"",'7-4-1'!V20,"") -> 94.728521 | E20: =IF('7-4-1'!W20<>"",'7-4-1'!W20,"") -> 0.30138282 | F20: =IF(AND(ISNUMBER(E20),ISNUMBER(H20)),E20-H20,"") -> -0.33159678 | G20: 237.17604 | H20: 0.6329796 | I20: =IF(AND(ISNUMBER(H20),ISNUMBER(K20)),H20-K20,"") -> -0.067020396 | J20: 257 | K20: 0.7 | L20: =K20-N20 -> 0.3 | M20: 212 | N20: 0.4 | O20: =N20-Q20 -> -0.4 | P20: 465 | Q20: 0.8 | R20: =Q20-T20 -> -4.6126958 | S20: 3651.9675 | T20: =IF(ROUND(S31,0)=0,"",ROUND(S20,0)/ROUND(S31,0)*100) -> 5.4126958
C21: 特定部門の別法人化（分社化） | D21: =IF('7-4-1'!V21<>"",'7-4-1'!V21,"") -> 71.492896 | E21: =IF('7-4-1'!W21<>"",'7-4-1'!W21,"") -> 0.22745769 | F21: =IF(AND(ISNUMBER(E21),ISNUMBER(H21)),E21-H21,"") -> -0.67368382 | G21: 337.6557 | H21: 0.90114151 | I21: =IF(AND(ISNUMBER(H21),ISNUMBER(K21)),H21-K21,"") -> 0.70114151 | J21: 61.91 | K21: 0.2 | L21: =K21-N21 -> -0.9 | M21: 539 | N21: 1.1 | O21: =N21-Q21 -> 0.4 | P21: 436 | Q21: 0.7 | R21: =Q21-T21 -> -1.2134147 | S21: 1291.1785 | T21: =IF(ROUND(S31,0)=0,"",ROUND(S21,0)/ROUND(S31,0)*100) -> 1.9134147
C22: 協力会社の組織強化、協力会社への取込強化 | D22: =IF('7-4-1'!V22<>"",'7-4-1'!V22,"") -> 2607.0677 | E22: =IF('7-4-1'!W22<>"",'7-4-1'!W22,"") -> 8.2944968 | F22: =IF(AND(ISNUMBER(E22),ISNUMBER(H22)),E22-H22,"") -> 1.6889829 | G22: 2475.0713 | H22: 6.605514 | I22: =IF(AND(ISNUMBER(H22),ISNUMBER(K22)),H22-K22,"") -> 1.605514 | J22: 1903.53 | K22: 5 | L22: =K22-N22 -> -0.2 | M22: 2506 | N22: 5.2 | O22: =N22-Q22 -> 0.6 | P22: 2722 | Q22: 4.6 | R22: =Q22-T22 -> -6.1809281 | S22: 7273.7593 | T22: =IF(ROUND(S31,0)=0,"",ROUND(S22,0)/ROUND(S31,0)*100) -> 10.780928
C23: 持ち株会社化 | D23: =IF('7-4-1'!V23<>"",'7-4-1'!V23,"") -> 906.82907 | E23: =IF('7-4-1'!W23<>"",'7-4-1'!W23,"") -> 2.8851153 | F23: =IF(AND(ISNUMBER(E23),ISNUMBER(H23)),E23-H23,"") -> 1.3372123 | G23: 579.99576 | H23: 1.5479029 | I23: =IF(AND(ISNUMBER(H23),ISNUMBER(K23)),H23-K23,"") -> -0.65209706 | J23: 853.15 | K23: 2.2 | L23: =K23-N23 -> 0.6 | M23: 758 | N23: 1.6 | O23: =N23-Q23 -> 1.1 | P23: 293 | Q23: 0.5 | R23: =Q23-T23 -> -0.17732804 | S23: 457.31726 | T23: =IF(ROUND(S31,0)=0,"",ROUND(S23,0)/ROUND(S31,0)*100) -> 0.67732804
C24: アウトソーシング | D24: =IF('7-4-1'!V24<>"",'7-4-1'!V24,"") -> 771.72614 | E24: =IF('7-4-1'!W24<>"",'7-4-1'!W24,"") -> 2.4552796 | F24: =IF(AND(ISNUMBER(E24),ISNUMBER(H24)),E24-H24,"") -> 1.5729 | G24: 330.62566 | H24: 0.88237962 | I24: =IF(AND(ISNUMBER(H24),ISNUMBER(K24)),H24-K24,"") -> -0.41762038 | J24: 502.87 | K24: 1.3 | L24: =K24-N24 -> 0.3 | M24: 501 | N24: 1 | O24: =N24-Q24 -> 0 | P24: 618 | Q24: 1 | R24: =Q24-T24 -> -0.39022691 | S24: 937.55475 | T24: =IF(ROUND(S31,0)=0,"",ROUND(S24,0)/ROUND(S31,0)*100) -> 1.3902269
C25: 同業団体、協同組合等への加入（複数加入） | D25: =IF('7-4-1'!V25<>"",'7-4-1'!V25,"") -> 3566.2829 | E25: =IF('7-4-1'!W25<>"",'7-4-1'!W25,"") -> 11.346281 | F25: =IF(AND(ISNUMBER(E25),ISNUMBER(H25)),E25-H25,"") -> -3.2689187 | G25: 5476.2825 | H25: 14.6152 | I25: =IF(AND(ISNUMBER(H25),ISNUMBER(K25)),H25-K25,"") -> 0.61519958 | J25: 5290.94 | K25: 14 | L25: =K25-N25 -> -0.3 | M25: 6850 | N25: 14.3 | O25: =N25-Q25 -> 6 | P25: 4880 | Q25: 8.3 | R25: =Q25-T25 -> 4.2997629 | S25: 2698.533 | T25: =IF(ROUND(S31,0)=0,"",ROUND(S25,0)/ROUND(S31,0)*100) -> 4.0002371
C26: 社内の組織改編 | D26: =IF('7-4-1'!V26<>"",'7-4-1'!V26,"") -> 1279.2043 | E26: =IF('7-4-1'!W26<>"",'7-4-1'!W26,"") -> 4.069843 | F26: =IF(AND(ISNUMBER(E26),ISNUMBER(H26)),E26-H26,"") -> -1.082393 | G26: 1930.5313 | H26: 5.152236 | I26: =IF(AND(ISNUMBER(H26),ISNUMBER(K26)),H26-K26,"") -> 1.152236 | J26: 1506.57 | K26: 4 | L26: =K26-N26 -> -1.1 | M26: 2435 | N26: 5.1 | O26: =N26-Q26 -> -2.1 | P26: 4256 | Q26: 7.2 | R26: =Q26-T26 -> -15.698727 | S26: 15449.914 | T26: =IF(ROUND(S31,0)=0,"",ROUND(S26,0)/ROUND(S31,0)*100) -> 22.898727
C27: 技能労働者の直用化、常用化 | D27: =IF('7-4-1'!V27<>"",'7-4-1'!V27,"") -> 7389.9378 | E27: =IF('7-4-1'!W27<>"",'7-4-1'!W27,"") -> 23.511402 | F27: =IF(AND(ISNUMBER(E27),ISNUMBER(H27)),E27-H27,"") -> 0.44105752 | G27: 8644.4062 | H27: 23.070344 | I27: =IF(AND(ISNUMBER(H27),ISNUMBER(K27)),H27-K27,"") -> 0.57034408 | J27: 8545.91 | K27: 22.5 | L27: =K27-N27 -> 1.4 | M27: 10124 | N27: 21.1 | O27: =N27-Q27 -> 8.7 | P27: 7312 | Q27: 12.4 | R27: =Q27-T27 -> 1.8073009 | S27: 7146.689 | T27: =IF(ROUND(S31,0)=0,"",ROUND(S27,0)/ROUND(S31,0)*100) -> 10.592699
C28: 技能労働者の多能工化 | D28: =IF('7-4-1'!V28<>"",'7-4-1'!V28,"") -> 5080.4798 | E28: =IF('7-4-1'!W28<>"",'7-4-1'!W28,"") -> 16.163763 | F28: =IF(AND(ISNUMBER(E28),ISNUMBER(H28)),E28-H28,"") -> 1.5538846 | G28: 5474.2886 | H28: 14.609878 | I28: =IF(AND(ISNUMBER(H28),ISNUMBER(K28)),H28-K28,"") -> -0.090121717 | J28: 5585.03 | K28: 14.7 | L28: =K28-N28 -> 1.2 | M28: 6475 | N28: 13.5 | O28: =N28-Q28 -> 3.3 | P28: 6033 | Q28: 10.2 | R28: =Q28-T28 -> -8.6436513 | S28: 12713.718 | T28: =IF(ROUND(S31,0)=0,"",ROUND(S28,0)/ROUND(S31,0)*100) -> 18.843651
C29: 直用の技能労働者の独立支援 | D29: =IF('7-4-1'!V29<>"",'7-4-1'!V29,"") -> 518.77302 | E29: =IF('7-4-1'!W29<>"",'7-4-1'!W29,"") -> 1.6504985 | F29: =IF(AND(ISNUMBER(E29),ISNUMBER(H29)),E29-H29,"") -> -0.64422704 | G29: 859.8285 | H29: 2.2947255 | I29: =IF(AND(ISNUMBER(H29),ISNUMBER(K29)),H29-K29,"") -> -0.4052745 | J29: 1031.21 | K29: 2.7 | L29: =K29-N29 -> 0.5 | M29: 1038 | N29: 2.2 | O29: =N29-Q29 -> 0.9 | P29: 780 | Q29: 1.3 | R29: =Q29-T29 -> -0.86389264 | S29: 1459.8392 | T29: =IF(ROUND(S31,0)=0,"",ROUND(S29,0)/ROUND(S31,0)*100) -> 2.1638926
C30: 特に考えていない | D30: =IF('7-4-1'!V30<>"",'7-4-1'!V30,"") -> 20388.37 | E30: =IF('7-4-1'!W30<>"",'7-4-1'!W30,"") -> 64.866469 | F30: =IF(AND(ISNUMBER(E30),ISNUMBER(H30)),E30-H30,"") -> -0.18027361 | G30: 24372.868 | H30: 65.046742 | I30: =IF(AND(ISNUMBER(H30),ISNUMBER(K30)),H30-K30,"") -> 2.0467423 | J30: 23883.32 | K30: 63 | L30: =K30-N30 -> -3.1 | M30: 31695 | N30: 66.1 | O30: =N30-Q30 -> -4.2 | P30: 41378 | Q30: 70.3 | R30: =Q30-T30 -> 20.039888 | S30: 33910.707 | T30: =IF(ROUND(S31,0)=0,"",ROUND(S30,0)/ROUND(S31,0)*100) -> 50.260112
B31: 小 計 | D31: =IF('7-4-1'!V31<>"",'7-4-1'!V31,"") -> 31431.294 | E31: =IF('7-4-1'!W31<>"",'7-4-1'!W31,"") -> 100 | F31: - | G31: 37469.776 | H31: 100 | I31: - | J31: 37923.66 | K31: 100 | L31: - | M31: 47923 | N31: 100 | O31: - | P31: 58890 | Q31: 100 | R31: - | S31: 67471 | T31: =IF(ROUND(S31,0)=0,"",ROUND(S31,0)/ROUND(S31,0)*100) -> 100
A32: 建 築 | B32: 建 築 | C32: 他社との協業化や業務提携、企業連携 | D32: =IF('7-4-1'!V32<>"",'7-4-1'!V32,"") -> 1342.0949 | E32: =IF('7-4-1'!W32<>"",'7-4-1'!W32,"") -> 5.0738383 | F32: =IF(AND(ISNUMBER(E32),ISNUMBER(H32)),E32-H32,"") -> -1.2839376 | G32: 1977.1125 | H32: 6.3577759 | I32: =IF(AND(ISNUMBER(H32),ISNUMBER(K32)),H32-K32,"") -> 2.9577759 | J32: 1162.43 | K32: 3.4 | L32: =K32-N32 -> 1.4 | M32: 703 | N32: 2 | O32: =N32-Q32 -> -0.7 | P32: 1321 | Q32: 2.7 | R32: =Q32-T32 -> -5.764072 | S32: 4342.8032 | T32: =IF(ROUND(S44,0)=0,"",ROUND(S32,0)/ROUND(S44,0)*100) -> 8.464072
C33: 他社との合併 | D33: =IF('7-4-1'!V33<>"",'7-4-1'!V33,"") | E33: =IF('7-4-1'!W33<>"",'7-4-1'!W33,"") | F33: =IF(AND(ISNUMBER(E33),ISNUMBER(H33)),E33-H33,"") | G33: 1.9166667 | H33: 0.0061634011 | I33: =IF(AND(ISNUMBER(H33),ISNUMBER(K33)),H33-K33,"") -> -0.093836599 | J33: 19.64 | K33: 0.1 | L33: =K33-N33 -> -0.2 | M33: 102 | N33: 0.3 | O33: =N33-Q33 -> 0.2 | P33: 73 | Q33: 0.1 | R33: =Q33-T33 -> -1.8878778 | S33: 1019.5921 | T33: =IF(ROUND(S44,0)=0,"",ROUND(S33,0)/ROUND(S44,0)*100) -> 1.9878778
C34: 特定部門の別法人化（分社化） | D34: =IF('7-4-1'!V34<>"",'7-4-1'!V34,"") -> 413.09922 | E34: =IF('7-4-1'!W34<>"",'7-4-1'!W34,"") -> 1.5617366 | F34: =IF(AND(ISNUMBER(E34),ISNUMBER(H34)),E34-H34,"") -> 1.4321962 | G34: 40.283887 | H34: 0.12954039 | I34: =IF(AND(ISNUMBER(H34),ISNUMBER(K34)),H34-K34,"") -> -0.57045961 | J34: 223.55 | K34: 0.7 | L34: =K34-N34 -> 0.2 | M34: 182 | N34: 0.5 | O34: =N34-Q34 -> 0 | P34: 241 | Q34: 0.5 | R34: =Q34-T34 -> -1.1663094 | S34: 855.35303 | T34: =IF(ROUND(S44,0)=0,"",ROUND(S34,0)/ROUND(S44,0)*100) -> 1.6663094
C35: 協力会社の組織強化、協力会社への取込強化 | D35: =IF('7-4-1'!V35<>"",'7-4-1'!V35,"") -> 2198.7221 | E35: =IF('7-4-1'!W35<>"",'7-4-1'!W35,"") -> 8.3123483 | F35: =IF(AND(ISNUMBER(E35),ISNUMBER(H35)),E35-H35,"") -> -0.31912449 | G35: 2684.1765 | H35: 8.6314728 | I35: =IF(AND(ISNUMBER(H35),ISNUMBER(K35)),H35-K35,"") -> 1.4314728 | J35: 2463.95 | K35: 7.2 | L35: =K35-N35 -> -0.4 | M35: 2738 | N35: 7.6 | O35: =N35-Q35 -> 3.7 | P35: 1911 | Q35: 3.9 | R35: =Q35-T35 -> -3.162813 | S35: 3623.5552 | T35: =IF(ROUND(S44,0)=0,"",ROUND(S35,0)/ROUND(S44,0)*100) -> 7.062813
C36: 持ち株会社化 | D36: =IF('7-4-1'!V36<>"",'7-4-1'!V36,"") -> 1019.7521 | E36: =IF('7-4-1'!W36<>"",'7-4-1'!W36,"") -> 3.8552095 | F36: =IF(AND(ISNUMBER(E36),ISNUMBER(H36)),E36-H36,"") -> 1.6293806 | G36: 692.17823 | H36: 2.2258289 | I36: =IF(AND(ISNUMBER(H36),ISNUMBER(K36)),H36-K36,"") -> 0.92582891 | J36: 454.37 | K36: 1.3 | L36: =K36-N36 -> 0 | M36: 474 | N36: 1.3 | O36: =N36-Q36 -> 1 | P36: 131 | Q36: 0.3 | R36: =Q36-T36 -> -0.22425406 | S36: 269.00549 | T36: =IF(ROUND(S44,0)=0,"",ROUND(S36,0)/ROUND(S44,0)*100) -> 0.52425406
C37: アウトソーシング | D37: =IF('7-4-1'!V37<>"",'7-4-1'!V37,"") -> 311.42191 | E37: =IF('7-4-1'!W37<>"",'7-4-1'!W37,"") -> 1.1773418 | F37: =IF(AND(ISNUMBER(E37),ISNUMBER(H37)),E37-H37,"") -> -1.4630812 | G37: 821.10682 | H37: 2.640423 | I37: =IF(AND(ISNUMBER(H37),ISNUMBER(K37)),H37-K37,"") -> 1.640423 | J37: 331.46 | K37: 1 | L37: =K37-N37 -> 0.2 | M37: 290 | N37: 0.8 | O37: =N37-Q37 -> -0.5 | P37: 654 | Q37: 1.3 | R37: =Q37-T37 -> -1.132227 | S37: 1247.9843 | T37: =IF(ROUND(S44,0)=0,"",ROUND(S37,0)/ROUND(S44,0)*100) -> 2.432227
C38: 同業団体、協同組合等への加入（複数加入） | D38: =IF('7-4-1'!V38<>"",'7-4-1'!V38,"") -> 1795.7233 | E38: =IF('7-4-1'!W38<>"",'7-4-1'!W38,"") -> 6.7887968 | F38: =IF(AND(ISNUMBER(E38),ISNUMBER(H38)),E38-H38,"") -> -2.6793535 | G38: 2944.3627 | H38: 9.4681503 | I38: =IF(AND(ISNUMBER(H38),ISNUMBER(K38)),H38-K38,"") -> 0.86815029 | J38: 2938.5 | K38: 8.6 | L38: =K38-N38 -> -0.6 | M38: 3333 | N38: 9.2 | O38: =N38-Q38 -> 2.9 | P38: 3059 | Q38: 6.3 | R38: =Q38-T38 -> 3.6163649 | S38: 1376.6349 | T38: =IF(ROUND(S44,0)=0,"",ROUND(S38,0)/ROUND(S44,0)*100) -> 2.6836351
C39: 社内の組織改編 | D39: =IF('7-4-1'!V39<>"",'7-4-1'!V39,"") -> 911.30066 | E39: =IF('7-4-1'!W39<>"",'7-4-1'!W39,"") -> 3.4452051 | F39: =IF(AND(ISNUMBER(E39),ISNUMBER(H39)),E39-H39,"") -> 0.074941272 | G39: 1048.0694 | H39: 3.3702638 | I39: =IF(AND(ISNUMBER(H39),ISNUMBER(K39)),H39-K39,"") -> 0.67026385 | J39: 922.82 | K39: 2.7 | L39: =K39-N39 -> -3.1 | M39: 2101 | N39: 5.8 | O39: =N39-Q39 -> 0.4 | P39: 2612 | Q39: 5.4 | R39: =Q39-T39 -> -8.6808014 | S39: 7225.0605 | T39: =IF(ROUND(S44,0)=0,"",ROUND(S39,0)/ROUND(S44,0)*100) -> 14.080801
C40: 技能労働者の直用化、常用化 | D40: =IF('7-4-1'!V40<>"",'7-4-1'!V40,"") -> 3329.5523 | E40: =IF('7-4-1'!W40<>"",'7-4-1'!W40,"") -> 12.587493 | F40: =IF(AND(ISNUMBER(E40),ISNUMBER(H40)),E40-H40,"") -> 2.0920048 | G40: 3263.8395 | H40: 10.495488 | I40: =IF(AND(ISNUMBER(H40),ISNUMBER(K40)),H40-K40,"") -> -0.80451191 | J40: 3852.87 | K40: 11.3 | L40: =K40-N40 -> -2.2 | M40: 4881 | N40: 13.5 | O40: =N40-Q40 -> 7.9 | P40: 2729 | Q40: 5.6 | R40: =Q40-T40 -> -0.41040713 | S40: 3083.6001 | T40: =IF(ROUND(S44,0)=0,"",ROUND(S40,0)/ROUND(S44,0)*100) -> 6.0104071
C41: 技能労働者の多能工化 | D41: =IF('7-4-1'!V41<>"",'7-4-1'!V41,"") -> 2312.5841 | E41: =IF('7-4-1'!W41<>"",'7-4-1'!W41,"") -> 8.7428079 | F41: =IF(AND(ISNUMBER(E41),ISNUMBER(H41)),E41-H41,"") -> 0.75285562 | G41: 2484.6793 | H41: 7.9899522 | I41: =IF(AND(ISNUMBER(H41),ISNUMBER(K41)),H41-K41,"") -> 2.3899522 | J41: 1909.82 | K41: 5.6 | L41: =K41-N41 -> -5.9 | M41: 4159 | N41: 11.5 | O41: =N41-Q41 -> 5.2 | P41: 3055 | Q41: 6.3 | R41: =Q41-T41 -> -5.2296915 | S41: 5916.4438 | T41: =IF(ROUND(S44,0)=0,"",ROUND(S41,0)/ROUND(S44,0)*100) -> 11.529691
...

Sheet 7-4-3
A1: 表7－4－3 組織変更等の意向（経年変化②：資本金別集計）
V3: （単位：社、％）
B4: 資本金 | C4: 個人 | E4: 法 人 | U4: 合 計
E5: 500万円未満 | G5: 500万円以上 1000万円以下 | I5: 1000万円以上 3000万円未満 | K5: 3000万円以上 5000万円未満 | M5: 5000万円以上 1億円未満 | O5: 1億円以上 3億円未満 | Q5: 3億円以上 10億円未満 | S5: 10億円以上
A6: 年度 | B6: 意向
A7: R01年度 | B7: 他社との協業化や業務提携、企業連携 | C7: =IF('7-4-1'!D123<>"",'7-4-1'!D123,"") -> 941.72125 | D7: =IF('7-4-1'!E123<>"",'7-4-1'!E123,"") -> 5.8639779 | E7: =IF('7-4-1'!F123<>"",'7-4-1'!F123,"") -> 1851.9748 | F7: =IF('7-4-1'!G123<>"",'7-4-1'!G123,"") -> 4.9367444 | G7: =IF('7-4-1'!H123<>"",'7-4-1'!H123,"") -> 1697.1718 | H7: =IF('7-4-1'!I123<>"",'7-4-1'!I123,"") -> 6.5767412 | I7: =IF('7-4-1'!J123<>"",'7-4-1'!J123,"") -> 2872.9645 | J7: =IF('7-4-1'!K123<>"",'7-4-1'!K123,"") -> 5.4435719 | ... V7: =IF('7-4-1'!W123<>"",'7-4-1'!W123,"") -> 5.7034337
B8: 他社との合併 | C8: =IF('7-4-1'!D124<>"",'7-4-1'!D124,"") | D8: =IF('7-4-1'!E124<>"",'7-4-1'!E124,"") | E8: =IF('7-4-1'!F124<>"",'7-4-1'!F124,"") -> 110.37724 | F8: =IF('7-4-1'!G124<>"",'7-4-1'!G124,"") -> 0.29422875 | G8: =IF('7-4-1'!H124<>"",'7-4-1'!H124,"") -> 15.846154 | H8: =IF('7-4-1'!I124<>"",'7-4-1'!I124,"") -> 0.061405717 | I8: =IF('7-4-1'!J124<>"",'7-4-1'!J124,"") -> 78.498405 | J8: =IF('7-4-1'!K124<>"",'7-4-1'!K124,"") -> 0.14873547 | ... V8: =IF('7-4-1'!W124<>"",'7-4-1'!W124,"") -> 0.19377396
B9: 特定部門の別法人化（分社化） | C9: =IF('7-4-1'!D125<>"",'7-4-1'!D125,"") | D9: =IF('7-4-1'!E125<>"",'7-4-1'!E125,"") | E9: =IF('7-4-1'!F125<>"",'7-4-1'!F125,"") -> 124.47888 | F9: =IF('7-4-1'!G125<>"",'7-4-1'!G125,"") -> 0.331819 | G9: =IF('7-4-1'!H125<>"",'7-4-1'!H125,"") -> 254.26316 | H9: =IF('7-4-1'!I125<>"",'7-4-1'!I125,"") -> 0.98529976 | I9: =IF('7-4-1'!J125<>"",'7-4-1'!J125,"") -> 276.5532 | J9: =IF('7-4-1'!K125<>"",'7-4-1'!K125,"") -> 0.52400133 | ... V9: =IF('7-4-1'!W125<>"",'7-4-1'!W125,"") -> 0.62754055
B10: 協力会社の組織強化、協力会社への取込強化 | C10: =IF('7-4-1'!D126<>"",'7-4-1'!D126,"") -> 553.26036 | D10: =IF('7-4-1'!E126<>"",'7-4-1'!E126,"") -> 3.4450816 | E10: =IF('7-4-1'!F126<>"",'7-4-1'!F126,"") -> 1107.3003 | F10: =IF('7-4-1'!G126<>"",'7-4-1'!G126,"") -> 2.9516916 | G10: =IF('7-4-1'!H126<>"",'7-4-1'!H126,"") -> 2104.9335 | H10: =IF('7-4-1'!I126<>"",'7-4-1'!I126,"") -> 8.1568658 | I10: =IF('7-4-1'!J126<>"",'7-4-1'!J126,"") -> 4263.7407 | J10: =IF('7-4-1'!K126<>"",'7-4-1'!K126,"") -> 8.078756 | ... V10: =IF('7-4-1'!W126<>"",'7-4-1'!W126,"") -> 6.9063611
B11: 持ち株会社化 | C11: =IF('7-4-1'!D127<>"",'7-4-1'!D127,"") -> 26.285714 | D11: =IF('7-4-1'!E127<>"",'7-4-1'!E127,"") -> 0.16367778 | E11: =IF('7-4-1'!F127<>"",'7-4-1'!F127,"") -> 732.70345 | F11: =IF('7-4-1'!G127<>"",'7-4-1'!G127,"") -> 1.953142 | G11: =IF('7-4-1'!H127<>"",'7-4-1'!H127,"") -> 866.27835 | H11: =IF('7-4-1'!I127<>"",'7-4-1'!I127,"") -> 3.3569309 | I11: =IF('7-4-1'!J127<>"",'7-4-1'!J127,"") -> 2051.1776 | J11: =IF('7-4-1'!K127<>"",'7-4-1'!K127,"") -> 3.8864847 | ... V11: =IF('7-4-1'!W127<>"",'7-4-1'!W127,"") -> 3.1939097
B12: アウトソーシング | C12: =IF('7-4-1'!D128<>"",'7-4-1'!D128,"") -> 62.419355 | D12: =IF('7-4-1'!E128<>"",'7-4-1'!E128,"") -> 0.38867735 | E12: =IF('7-4-1'!F128<>"",'7-4-1'!F128,"") -> 246.54592 | F12: =IF('7-4-1'!G128<>"",'7-4-1'!G128,"") -> 0.65720883 | G12: =IF('7-4-1'!H128<>"",'7-4-1'!H128,"") -> 284.95965 | H12: =IF('7-4-1'!I128<>"",'7-4-1'!I128,"") -> 1.1042523 | I12: =IF('7-4-1'!J128<>"",'7-4-1'!J128,"") -> 1487.6046 | J12: =IF('7-4-1'!K128<>"",'7-4-1'!K128,"") -> 2.8186505 | ... V12: =IF('7-4-1'!W128<>"",'7-4-1'!W128,"") -> 1.9265715
B13: 同業団体、協同組合等への加入（複数加入） | C13: =IF('7-4-1'!D129<>"",'7-4-1'!D129,"") -> 1386.0993 | D13: =IF('7-4-1'!E129<>"",'7-4-1'!E129,"") -> 8.631063 | E13: =IF('7-4-1'!F129<>"",'7-4-1'!F129,"") -> 2512.2931 | F13: =IF('7-4-1'!G129<>"",'7-4-1'!G129,"") -> 6.6969318 | G13: =IF('7-4-1'!H129<>"",'7-4-1'!H129,"") -> 2857.4575 | H13: =IF('7-4-1'!I129<>"",'7-4-1'!I129,"") -> 11.072985 | I13: =IF('7-4-1'!J129<>"",'7-4-1'!J129,"") -> 7457.7304 | J13: =IF('7-4-1'!K129<>"",'7-4-1'!K129,"") -> 14.130593 | ... V13: =IF('7-4-1'!W129<>"",'7-4-1'!W129,"") -> 11.594841
B14: 社内の組織改編 | C14: =IF('7-4-1'!D130<>"",'7-4-1'!D130,"") -> 207.61818 | D14: =IF('7-4-1'!E130<>"",'7-4-1'!E130,"") -> 1.2928119 | E14: =IF('7-4-1'!F130<>"",'7-4-1'!F130,"") -> 575.26524 | F14: =IF('7-4-1'!G130<>"",'7-4-1'!G130,"") -> 1.5334644 | G14: =IF('7-4-1'!H130<>"",'7-4-1'!H130,"") -> 776.67014 | H14: =IF('7-4-1'!I130<>"",'7-4-1'!I130,"") -> 3.0096885 | I14: =IF('7-4-1'!J130<>"",'7-4-1'!J130,"") -> 3155.6826 | J14: =IF('7-4-1'!K130<>"",'7-4-1'!K130,"") -> 5.9792543 | ... V14: =IF('7-4-1'!W130<>"",'7-4-1'!W130,"") -> 4.3128809
B15: 技能労働者の直用化、常用化 | C15: =IF('7-4-1'!D131<>"",'7-4-1'!D131,"") -> 1417.1169 | D15: =IF('7-4-1'!E131<>"",'7-4-1'!E131,"") -> 8.8242062 | E15: =IF('7-4-1'!F131<>"",'7-4-1'!F131,"") -> 4597.2563 | F15: =IF('7-4-1'!G131<>"",'7-4-1'!G131,"") -> 12.254745 | G15: =IF('7-4-1'!H131<>"",'7-4-1'!H131,"") -> 4984.3183 | H15: =IF('7-4-1'!I131<>"",'7-4-1'!I131,"") -> 19.314822 | I15: =IF('7-4-1'!J131<>"",'7-4-1'!J131,"") -> 11727.912 | J15: =IF('7-4-1'!K131<>"",'7-4-1'!K131,"") -> 22.221553 | ... V15: =IF('7-4-1'!W131<>"",'7-4-1'!W131,"") -> 18.067677
B16: 技能労働者の多能工化 | C16: =IF('7-4-1'!D132<>"",'7-4-1'!D132,"") -> 871.44539 | D16: =IF('7-4-1'!E132<>"",'7-4-1'!E132,"") -> 5.4263791 | E16: =IF('7-4-1'!F132<>"",'7-4-1'!F132,"") -> 2805.8412 | F16: =IF('7-4-1'!G132<>"",'7-4-1'!G132,"") -> 7.4794328 | G16: =IF('7-4-1'!H132<>"",'7-4-1'!H132,"") -> 3147.5602 | H16: =IF('7-4-1'!I132<>"",'7-4-1'!I132,"") -> 12.197167 | I16: =IF('7-4-1'!J132<>"",'7-4-1'!J132,"") -> 8579.9756 | J16: =IF('7-4-1'!K132<>"",'7-4-1'!K132,"") -> 16.256976 | ... V16: =IF('7-4-1'!W132<>"",'7-4-1'!W132,"") -> 12.060235
B17: 直用の技能労働者の独立支援 | C17: =IF('7-4-1'!D133<>"",'7-4-1'!D133,"") -> 773.40049 | D17: =IF('7-4-1'!E133<>"",'7-4-1'!E133,"") -> 4.8158661 | E17: =IF('7-4-1'!F133<>"",'7-4-1'!F133,"") -> 841.28133 | F17: =IF('7-4-1'!G133<>"",'7-4-1'!G133,"") -> 2.2425742 | G17: =IF('7-4-1'!H133<>"",'7-4-1'!H133,"") -> 946.46169 | H17: =IF('7-4-1'!I133<>"",'7-4-1'!I133,"") -> 3.6676508 | I17: =IF('7-4-1'!J133<>"",'7-4-1'!J133,"") -> 1471.9791 | J17: =IF('7-4-1'!K133<>"",'7-4-1'!K133,"") -> 2.789044 | ... V17: =IF('7-4-1'!W133<>"",'7-4-1'!W133,"") -> 3.1552095
B18: 特に考えていない | C18: =IF('7-4-1'!D134<>"",'7-4-1'!D134,"") -> 12616.719 | D18: =IF('7-4-1'!E134<>"",'7-4-1'!E134,"") -> 78.562698 | E18: =IF('7-4-1'!F134<>"",'7-4-1'!F134,"") -> 29005.816 | F18: =IF('7-4-1'!G134<>"",'7-4-1'!G134,"") -> 77.319789 | G18: =IF('7-4-1'!H134<>"",'7-4-1'!H134,"") -> 17626.407 | H18: =IF('7-4-1'!I134<>"",'7-4-1'!I134,"") -> 68.304406 | I18: =IF('7-4-1'!J134<>"",'7-4-1'!J134,"") -> 33216.819 | J18: =IF('7-4-1'!K134<>"",'7-4-1'!K134,"") -> 62.937827 | ... V18: =IF('7-4-1'!W134<>"",'7-4-1'!W134,"") -> 68.38455
C19: =IF('7-4-1'!D135<>"",'7-4-1'!D135,"") -> 16059.427 | D19: =IF('7-4-1'!E135<>"",'7-4-1'!E135,"") -> 100 | E19: =IF('7-4-1'!F135<>"",'7-4-1'!F135,"") -> 37514.091 | F19: =IF('7-4-1'!G135<>"",'7-4-1'!G135,"") -> 100 | G19: =IF('7-4-1'!H135<>"",'7-4-1'!H135,"") -> 25805.665 | H19: =IF('7-4-1'!I135<>"",'7-4-1'!I135,"") -> 100 | I19: =IF('7-4-1'!J135<>"",'7-4-1'!J135,"") -> 52777.194 | J19: =IF('7-4-1'!K135<>"",'7-4-1'!K135,"") -> 100 | ... V19: =IF('7-4-1'!W135<>"",'7-4-1'!W135,"") -> 100
A20: 増減 | B20: 他社との協業化や業務提携、企業連携 | D20: =IF(AND(ISNUMBER(D7),ISNUMBER(D33)),D7-D33,"") -> 0.59076935 | F20: =IF(AND(ISNUMBER(F7),ISNUMBER(F33)),F7-F33,"") -> -0.31091905 | H20: =IF(AND(ISNUMBER(H7),ISNUMBER(H33)),H7-H33,"") -> 1.3621726 | J20: =IF(AND(ISNUMBER(J7),ISNUMBER(J33)),J7-J33,"") -> 0.89478758 | L20: =IF(AND(ISNUMBER(L7),ISNUMBER(L33)),L7-L33,"") -> -0.75852233 | N20: =IF(AND(ISNUMBER(N7),ISNUMBER(N33)),N7-N33,"") -> -0.75505558 | P20: =IF(AND(ISNUMBER(P7),ISNUMBER(P33)),P7-P33,"") -> 9.7710923 | R20: =IF(AND(ISNUMBER(R7),ISNUMBER(R33)),R7-R33,"") -> 1.8137595 | T20: =IF(AND(ISNUMBER(T7),ISNUMBER(T33)),T7-T33,"") -> 9.3200693 | V20: =IF(AND(ISNUMBER(V7),ISNUMBER(V33)),V7-V33,"") -> 0.54450618
B21: 他社との合併 | D21: =IF(AND(ISNUMBER(D8),ISNUMBER(D34)),D8-D34,"") | F21: =IF(AND(ISNUMBER(F8),ISNUMBER(F34)),F8-F34,"") -> -0.033515891 | H21: =IF(AND(ISNUMBER(H8),ISNUMBER(H34)),H8-H34,"") | J21: =IF(AND(ISNUMBER(J8),ISNUMBER(J34)),J8-J34,"") -> -0.15494528 | L21: =IF(AND(ISNUMBER(L8),ISNUMBER(L34)),L8-L34,"") -> -0.71129667 | N21: =IF(AND(ISNUMBER(N8),ISNUMBER(N34)),N8-N34,"") -> 0.047192568 | P21: =IF(AND(ISNUMBER(P8),ISNUMBER(P34)),P8-P34,"") -> 1.4507086 | R21: =IF(AND(ISNUMBER(R8),ISNUMBER(R34)),R8-R34,"") -> -0.90513954 | T21: =IF(AND(ISNUMBER(T8),ISNUMBER(T34)),T8-T34,"") -> -0.60542847 | V21: =IF(AND(ISNUMBER(V8),ISNUMBER(V34)),V8-V34,"") -> -0.12091728
B22: 特定部門の別法人化（分社化） | D22: =IF(AND(ISNUMBER(D9),ISNUMBER(D35)),D9-D35,"") | F22: =IF(AND(ISNUMBER(F9),ISNUMBER(F35)),F9-F35,"") -> 0.16674633 | H22: =IF(AND(ISNUMBER(H9),ISNUMBER(H35)),H9-H35,"") -> 0.7032852 | J22: =IF(AND(ISNUMBER(J9),ISNUMBER(J35)),J9-J35,"") -> -0.086589395 | L22: =IF(AND(ISNUMBER(L9),ISNUMBER(L35)),L9-L35,"") -> 0.70219409 | N22: =IF(AND(ISNUMBER(N9),ISNUMBER(N35)),N9-N35,"") -> 0.44536181 | P22: =IF(AND(ISNUMBER(P9),ISNUMBER(P35)),P9-P35,"") -> -0.12354958 | R22: =IF(AND(ISNUMBER(R9),ISNUMBER(R35)),R9-R35,"") -> 0.081251835 | T22: =IF(AND(ISNUMBER(T9),ISNUMBER(T35)),T9-T35,"") -> 4.1960365 | V22: =IF(AND(ISNUMBER(V9),ISNUMBER(V35)),V9-V35,"") -> 0.1469034
B23: 協力会社の組織強化、協力会社への取込強化 | D23: =IF(AND(ISNUMBER(D10),ISNUMBER(D36)),D10-D36,"") -> -0.18519341 | F23: =IF(AND(ISNUMBER(F10),ISNUMBER(F36)),F10-F36,"") -> -2.1290181 | H23: =IF(AND(ISNUMBER(H10),ISNUMBER(H36)),H10-H36,"") -> 2.5116133 | J23: =IF(AND(ISNUMBER(J10),ISNUMBER(J36)),J10-J36,"") -> -0.91132612 | L23: =IF(AND(ISNUMBER(L10),ISNUMBER(L36)),L10-L36,"") -> 0.11881729 | N23: =IF(AND(ISNUMBER(N10),ISNUMBER(N36)),N10-N36,"") -> 0.48073816 | P23: =IF(AND(ISNUMBER(P10),ISNUMBER(P36)),P10-P36,"") -> 3.4846314 | R23: =IF(AND(ISNUMBER(R10),ISNUMBER(R36)),R10-R36,"") -> 3.1330961 | T23: =IF(AND(ISNUMBER(T10),ISNUMBER(T36)),T10-T36,"") -> 0.47928786 | V23: =IF(AND(ISNUMBER(V10),ISNUMBER(V36)),V10-V36,"") -> -0.30301519
B24: 持ち株会社化 | D24: =IF(AND(ISNUMBER(D11),ISNUMBER(D37)),D11-D37,"") -> -0.26597659 | F24: =IF(AND(ISNUMBER(F11),ISNUMBER(F37)),F11-F37,"") -> 0.59770158 | H24: =IF(AND(ISNUMBER(H11),ISNUMBER(H37)),H11-H37,"") -> 1.4723038 | J24: =IF(AND(ISNUMBER(J11),ISNUMBER(J37)),J11-J37,"") -> 1.4728862 | L24: =IF(AND(ISNUMBER(L11),ISNUMBER(L37)),L11-L37,"") -> 0.46336433 | N24: =IF(AND(ISNUMBER(N11),ISNUMBER(N37)),N11-N37,"") -> 5.184085 | P24: =IF(AND(ISNUMBER(P11),ISNUMBER(P37)),P11-P37,"") -> 3.4751288 | R24: =IF(AND(ISNUMBER(R11),ISNUMBER(R37)),R11-R37,"") -> 3.6413241 | T24: =IF(AND(ISNUMBER(T11),ISNUMBER(T37)),T11-T37,"") -> 4.5740923 | V24: =IF(AND(ISNUMBER(V11),ISNUMBER(V37)),V11-V37,"") -> 1.1692689
B25: アウトソーシング | D25: =IF(AND(ISNUMBER(D12),ISNUMBER(D38)),D12-D38,"") -> -0.56925486 | F25: =IF(AND(ISNUMBER(F12),ISNUMBER(F38)),F12-F38,"") -> 0.33777576 | H25: =IF(AND(ISNUMBER(H12),ISNUMBER(H38)),H12-H38,"") -> -0.095827397 | J25: =IF(AND(ISNUMBER(J12),ISNUMBER(J38)),J12-J38,"") -> 0.91967014 | L25: =IF(AND(ISNUMBER(L12),ISNUMBER(L38)),L12-L38,"") -> 0.021082172 | N25: =IF(AND(ISNUMBER(N12),ISNUMBER(N38)),N12-N38,"") -> 1.3894917 | P25: =IF(AND(ISNUMBER(P12),ISNUMBER(P38)),P12-P38,"") -> 2.1456038 | R25: =IF(AND(ISNUMBER(R12),ISNUMBER(R38)),R12-R38,"") -> 2.0168587 | T25: =IF(AND(ISNUMBER(T12),ISNUMBER(T38)),T12-T38,"") -> 8.2902664 | V25: =IF(AND(ISNUMBER(V12),ISNUMBER(V38)),V12-V38,"") -> 0.4146203
B26: 同業団体、協同組合等への加入（複数加入） | D26: =IF(AND(ISNUMBER(D13),ISNUMBER(D39)),D13-D39,"") -> -0.13893696 | F26: =IF(AND(ISNUMBER(F13),ISNUMBER(F39)),F13-F39,"") -> -1.3073375 | H26: =IF(AND(ISNUMBER(H13),ISNUMBER(H39)),H13-H39,"") -> 2.2082666 | J26: =IF(AND(ISNUMBER(J13),ISNUMBER(J39)),J13-J39,"") -> -2.2678785 | L26: =IF(AND(ISNUMBER(L13),ISNUMBER(L39)),L13-L39,"") -> -3.0688496 | N26: =IF(AND(ISNUMBER(N13),ISNUMBER(N39)),N13-N39,"") -> 3.1840035 | P26: =IF(AND(ISNUMBER(P13),ISNUMBER(P39)),P13-P39,"") -> 7.3448851 | R26: =IF(AND(ISNUMBER(R13),ISNUMBER(R39)),R13-R39,"") -> -0.16041962 | T26: =IF(AND(ISNUMBER(T13),ISNUMBER(T39)),T13-T39,"") -> -13.510593 | V26: =IF(AND(ISNUMBER(V13),ISNUMBER(V39)),V13-V39,"") -> -0.88761646
B27: 社内の組織改編 | D27: =IF(AND(ISNUMBER(D14),ISNUMBER(D40)),D14-D40,"") -> -0.27321813 | F27: =IF(AND(ISNUMBER(F14),ISNUMBER(F40)),F14-F40,"") -> -0.52909341 | H27: =IF(AND(ISNUMBER(H14),ISNUMBER(H40)),H14-H40,"") -> 1.1571665 | J27: =IF(AND(ISNUMBER(J14),ISNUMBER(J40)),J14-J40,"") -> 0.10110029 | L27: =IF(AND(ISNUMBER(L14),ISNUMBER(L40)),L14-L40,"") -> -2.6599248 | N27: =IF(AND(ISNUMBER(N14),ISNUMBER(N40)),N14-N40,"") -> 0.7712639 | P27: =IF(AND(ISNUMBER(P14),ISNUMBER(P40)),P14-P40,"") -> 7.7554452 | R27: =IF(AND(ISNUMBER(R14),ISNUMBER(R40)),R14-R40,"") -> 5.5418168 | T27: =IF(AND(ISNUMBER(T14),ISNUMBER(T40)),T14-T40,"") -> -3.5675981 | V27: =IF(AND(ISNUMBER(V14),ISNUMBER(V40)),V14-V40,"") -> 0.00066149276
B28: 技能労働者の直用化、常用化 | D28: =IF(AND(ISNUMBER(D15),ISNUMBER(D41)),D15-D41,"") -> 1.1481955 | F28: =IF(AND(ISNUMBER(F15),ISNUMBER(F41)),F15-F41,"") -> -2.712415 | H28: =IF(AND(ISNUMBER(H15),ISNUMBER(H41)),H15-H41,"") -> 5.1951239 | J28: =IF(AND(ISNUMBER(J15),ISNUMBER(J41)),J15-J41,"") -> -2.6001054 | L28: =IF(AND(ISNUMBER(L15),ISNUMBER(L41)),L15-L41,"") -> 1.3458959 | N28: =IF(AND(ISNUMBER(N15),ISNUMBER(N41)),N15-N41,"") -> -4.5177417 | P28: =IF(AND(ISNUMBER(P15),ISNUMBER(P41)),P15-P41,"") -> 3.777655 | R28: =IF(AND(ISNUMBER(R15),ISNUMBER(R41)),R15-R41,"") -> 1.5894377 | T28: =IF(AND(ISNUMBER(T15),ISNUMBER(T41)),T15-T41,"") -> -9.8083731 | V28: =IF(AND(ISNUMBER(V15),ISNUMBER(V41)),V15-V41,"") -> -0.35010364
B29: 技能労働者の多能工化 | D29: =IF(AND(ISNUMBER(D16),ISNUMBER(D42)),D16-D42,"") -> 0.93214503 | F29: =IF(AND(ISNUMBER(F16),ISNUMBER(F42)),F16-F42,"") -> -3.1112294 | H29: =IF(AND(ISNUMBER(H16),ISNUMBER(H42)),H16-H42,"") -> 2.8602332 | J29: =IF(AND(ISNUMBER(J16),ISNUMBER(J42)),J16-J42,"") -> 0.85886866 | L29: =IF(AND(ISNUMBER(L16),ISNUMBER(L42)),L16-L42,"") -> -1.1793173 | N29: =IF(AND(ISNUMBER(N16),ISNUMBER(N42)),N16-N42,"") -> -3.614169 | P29: =IF(AND(ISNUMBER(P16),ISNUMBER(P42)),P16-P42,"") -> 1.7425854 | R29: =IF(AND(ISNUMBER(R16),ISNUMBER(R42)),R16-R42,"") -> 3.8117172 | T29: =IF(AND(ISNUMBER(T16),ISNUMBER(T42)),T16-T42,"") -> -7.5875773 | V29: =IF(AND(ISNUMBER(V16),ISNUMBER(V42)),V16-V42,"") -> 0.15869955
B30: 直用の技能労働者の独立支援 | D30: =IF(AND(ISNUMBER(D17),ISNUMBER(D43)),D17-D43,"") -> 2.8972772 | F30: =IF(AND(ISNUMBER(F17),ISNUMBER(F43)),F17-F43,"") -> -0.65020255 | H30: =IF(AND(ISNUMBER(H17),ISNUMBER(H43)),H17-H43,"") -> 1.3917894 | J30: =IF(AND(ISNUMBER(J17),ISNUMBER(J43)),J17-J43,"") -> -0.30455818 | L30: =IF(AND(ISNUMBER(L17),ISNUMBER(L43)),L17-L43,"") -> 0.47682675 | N30: =IF(AND(ISNUMBER(N17),ISNUMBER(N43)),N17-N43,"") -> -0.83002683 | P30: =IF(AND(ISNUMBER(P17),ISNUMBER(P43)),P17-P43,"") -> 2.0894489 | R30: =IF(AND(ISNUMBER(R17),ISNUMBER(R43)),R17-R43,"") -> -2.1735428 | T30: =IF(AND(ISNUMBER(T17),ISNUMBER(T43)),T17-T43,"") | V30: =IF(AND(ISNUMBER(V17),ISNUMBER(V43)),V17-V43,"") -> 0.32867073
B31: 特に考えていない | D31: =IF(AND(ISNUMBER(D18),ISNUMBER(D44)),D18-D44,"") -> 0.31136821 | F31: =IF(AND(ISNUMBER(F18),ISNUMBER(F44)),F18-F44,"") -> 3.3719026 | H31: =IF(AND(ISNUMBER(H18),ISNUMBER(H44)),H18-H44,"") -> -4.4896342 | J31: =IF(AND(ISNUMBER(J18),ISNUMBER(J44)),J18-J44,"") -> 0.99612682 | L31: =IF(AND(ISNUMBER(L18),ISNUMBER(L44)),L18-L44,"") -> 2.311723 | N31: =IF(AND(ISNUMBER(N18),ISNUMBER(N44)),N18-N44,"") -> -1.7493134 | P31: =IF(AND(ISNUMBER(P18),ISNUMBER(P44)),P18-P44,"") -> -0.6155245 | R31: =IF(AND(ISNUMBER(R18),ISNUMBER(R44)),R18-R44,"") -> -8.7301856 | T31: =IF(AND(ISNUMBER(T18),ISNUMBER(T44)),T18-T44,"") -> 6.5063606 | V31: =IF(AND(ISNUMBER(V18),ISNUMBER(V44)),V18-V44,"") -> 0.32030201
D32: - | F32: - | H32: - | J32: - | L32: - | N32: - | P32: - | R32: - | T32: - | V32: -
A33: H26年度 | B33: 他社との協業化や業務提携、企業連携 | C33: 1342.3514 | D33: 5.2732086 | E33: 2187.9267 | F33: 5.2476635 | G33: 1267.7858 | H33: 5.2145686 | I33: 2863.3124 | J33: 4.5487843 | K33: 770.44263 | L33: 7.072847 | M33: 253.61797 | N33: 6.7246759 | O33: 33.705275 | P33: 5.566504 | Q33: 14.879885 | R33: 10.51582 | S33: 36.121226 | T33: 20.137169 | U33: 8770.1433 | V33: 5.1589275
B34: 他社との合併 | C34: 53.684211 | D34: 0.21088966 | E34: 136.64772 | F34: 0.32774464 | I34: 191.15719 | J34: 0.30368074 | K34: 113.21329 | L34: 1.039325 | M34: 27.583464 | N34: 0.73137504 | O34: 4.8574074 | P34: 0.80221204 | Q34: 3.3333333 | R34: 2.3557126 | S34: 4.4964539 | T34: 2.5067215 | U34: 534.97307 | V34: 0.31469124
B35: 特定部門の別法人化（分社化） | C35: 112.98333 | D35: 0.44383659 | E35: 68.824324 | F35: 0.16507267 | G35: 68.564456 | H35: 0.28201456 | I35: 384.34708 | J35: 0.61059072 | K35: 112.35126 | L35: 1.0314114 | M35: 47.751561 | N35: 1.2661318 | O35: 18.676455 | P35: 3.0844597 | Q35: 1 | R35: 0.70671378 | S35: 2.5815603 | T35: 1.4391903 | U35: 817.08003 | V35: 0.48063715
B36: 協力会社の組織強化、協力会社への取込強化 | C36: 924.12518 | D36: 3.630275 | E36: 2118.3181 | F36: 5.0807097 | G36: 1372.4953 | H36: 5.6452524 | I36: 5658.9655 | J36: 8.9900822 | K36: 1375.9057 | L36: 12.631142 | M36: 571.4157 | N36: 15.151077 | O36: 126.2643 | P36: 20.852841 | Q36: 49.56954 | R36: 35.031477 | S36: 58.833739 | T36: 32.799135 | U36: 12255.893 | V36: 7.2093763
B37: 持ち株会社化 | C37: 109.3731 | D37: 0.42965437 | E37: 565.12851 | F37: 1.3554404 | G37: 458.19772 | H37: 1.884627 | I37: 1519.2821 | J37: 2.4135986 | K37: 578.19298 | L37: 5.3079494 | M37: 154.74053 | N37: 4.1029421 | O37: 40.825739 | P37: 6.742465 | Q37: 8.7298851 | R37: 6.1695301 | S37: 7.4056738 | T37: 4.1285782 | U37: 3441.8762 | V37: 2.0246408
B38: アウトソーシング | C38: 243.85185 | D38: 0.95793221 | E38: 133.18235 | F38: 0.31943307 | G38: 291.76795 | H38: 1.2000797 | I38: 1195.3466 | J38: 1.8989804 | K38: 421.07848 | L38: 3.8656008 | M38: 178.66765 | N38: 4.7373694 | O38: 65.4892 | P38: 10.815693 | Q38: 18.893103 | R38: 13.352017 | S38: 22.030091 | T38: 12.281523 | U38: 2570.3073 | V38: 1.5119512
B39: 同業団体、協同組合等への加入（複数加入） | C39: 2232.4969 | D39: 8.7699999 | E39: 3337.248 | F39: 8.0042693 | G39: 2155.2242 | H39: 8.8647186 | I39: 10322.307 | J39: 16.398471 | K39: 2207.9057 | L39: 20.269101 | M39: 705.15539 | N39: 18.697182 | O39: 141.11324 | P39: 23.305178 | Q39: 33.828544 | R39: 23.907098 | S39: 84.818592 | T39: 47.285392 | U39: 21220.097 | V39: 12.482458
B40: 社内の組織改編 | C40: 398.64963 | D40: 1.56603 | E40: 859.94946 | F40: 2.0625578 | G40: 450.39223 | H40: 1.852522 | I40: 3700.1075 | J40: 5.878154 | K40: 1098.9159 | L40: 10.08831 | M40: 537.09234 | N40: 14.240993 | O40: 164.2939 | P40: 27.133517 | Q40: 41.642912 | R40: 29.42962 | S40: 79.701064 | T40: 44.432429 | U40: 7330.7449 | V40: 4.3122194
B41: 技能労働者の直用化、常用化 | C41: 1954.0103 | D41: 7.6760107 | E41: 6240.3105 | F41: 14.96716 | G41: 3432.8348 | H41: 14.119698 | I41: 15624.43 | J41: 24.821658 | K41: 2833.9713 | L41: 26.016532 | M41: 1011.9876 | N41: 26.832833 | O41: 142.76678 | P41: 23.578262 | Q41: 34.480843 | R41: 24.368087 | S41: 35.315198 | T41: 19.687818 | U41: 31310.107 | V41: 18.41778
...

Sheet 7-4-4
A1: 表7－4－4 組織変更等の意向（３０業種別集計）
AB3: （単位：社、％）
B4: 意向 | C4: 他社との協業化や業務提携、企業連携 | E4: 他社との合併 | G4: 特定部門の別法人化（分社化） | I4: 協力会社の組織強化、協力会社への取込強化 | K4: 持ち株会社化 | M4: アウト ソーシング | O4: 同業団体、協同組合等への加入（複数加入） | Q4: 社内の組織改編 | S4: 技能労働者の直用化、常用化 | U4: 技能労働者の多能工化 | W4: 直用の技能労働者の独立支援 | Y4: 特に考えていない | AA4: 合 計
A5: 業種
A6: 一般土木建築 | B6: 一般土木建築工事業 | C6: 217.01265 | D6: 6.2494 | E6: 41.888844 | F6: 1.2062898 | G6: 43.488699 | H6: 1.2523615 | I6: 342.20716 | J6: 9.8546763 | K6: 83.439748 | L6: 2.4028478 | M6: 132.68175 | N6: 3.8208895 | O6: 696.04607 | P6: 20.044317 | Q6: 412.24569 | R6: 11.871604 | S6: 589.9887 | T6: 16.990141 | U6: 533.22005 | V6: 15.355351 | W6: 33.174521 | X6: 0.95533995 | Y6: 2049.2276 | Z6: 59.012425 | AA6: 3472.5358 | AB6: 100
A7: 土木 | B7: 土木工事業 | C7: 1514.4485 | D7: 5.9158985 | E7: 82.10815 | F7: 0.32073952 | G7: 45.63271 | H7: 0.17825531 | I7: 2267.4722 | J7: 8.8574391 | K7: 675.11464 | L7: 2.6372041 | M7: 660.37624 | N7: 2.5796314 | O7: 2806.8511 | P7: 10.964418 | Q7: 1106.5726 | R7: 4.3226107 | S7: 5772.5178 | T7: 22.549218 | U7: 4150.6209 | V7: 16.213593 | W7: 372.90377 | X7: 1.456676 | Y7: 16800.207 | Z7: 65.626742 | AA7: 25599.636 | AB7: 100
B8: ほ装工事業 | C8: 243.99458 | D8: 8.7835592 | E8: 12.62037 | F8: 0.45432062 | G8: 18.601852 | H8: 0.66964792 | I8: 171.5594 | J8: 6.1759655 | K8: 100.08255 | L8: 3.6028709 | M8: 58.162998 | N8: 2.0938093 | O8: 270.80206 | P8: 9.7486014 | Q8: 93.122292 | R8: 3.3523087 | S8: 695.46812 | T8: 25.036152 | U8: 313.34836 | V8: 11.280225 | W8: 70.746331 | X8: 2.5467966 | Y8: 1856.6799 | Z8: 66.838604 | AA8: 2777.8555 | AB8: 100
B9: しゅんせつ工事業 | Y9: 32 | Z9: 100 | AA9: 32 | AB9: 100
B10: 造園工事業 | C10: 90.445565 | D10: 5.6879531 | G10: 3.125 | H10: 0.19652543 | I10: 38.5625 | J10: 2.4251238 | K10: 70.508065 | L10: 4.4341209 | M10: 18.625 | N10: 1.1712916 | O10: 202.11492 | P10: 12.710631 | Q10: 29.625 | R10: 1.8630611 | S10: 538.77419 | T10: 33.882506 | U10: 398.77419 | V10: 25.078166 | W10: 32.294355 | X10: 2.0309318 | Y10: 877.20968 | Z10: 55.166083 | AA10: 1590.125 | AB10: 100
B11: 水道施設工事業 | C11: 95.368855 | D11: 6.6613365 | G11: 4.1333333 | H11: 0.28870562 | I11: 129.47362 | J11: 9.0434905 | K11: 61.12381 | L11: 4.269384 | M11: 34.561905 | N11: 2.4140845 | O11: 286.5148 | P11: 20.012524 | Q11: 49.884427 | R11: 3.4843342 | S11: 383.17761 | T11: 26.764241 | U11: 217.73642 | V11: 15.208483 | W11: 42.828571 | X11: 2.9914958 | Y11: 822.27387 | Z11: 57.434296 | AA11: 1431.6775 | AB11: 100
A12: 小 計 | C12: 1944.2575 | D12: 6.185738 | E12: 94.728521 | F12: 0.30138282 | G12: 71.492896 | H12: 0.22745769 | I12: 2607.0677 | J12: 8.2944968 | K12: 906.82907 | L12: 2.8851153 | M12: 771.72614 | N12: 2.4552796 | O12: 3566.2829 | P12: 11.346281 | Q12: 1279.2043 | R12: 4.069843 | S12: 7389.9378 | T12: 23.511402 | U12: 5080.4798 | V12: 16.163763 | W12: 518.77302 | X12: 1.6504985 | Y12: 20388.37 | Z12: 64.866469 | AA12: 31431.294 | AB12: 100
A13: 建築 | B13: 建築工事業 | C13: 1342.0949 | D13: 5.0738383 | G13: 413.09922 | H13: 1.5617366 | I13: 2198.7221 | J13: 8.3123483 | K13: 1019.7521 | L13: 3.8552095 | M13: 311.42191 | N13: 1.1773418 | O13: 1795.7233 | P13: 6.7887968 | Q13: 911.30066 | R13: 3.4452051 | S13: 3329.5523 | T13: 12.587493 | U13: 2312.5841 | V13: 8.7428079 | W13: 1212.9127 | X13: 4.5854602 | Y13: 19467.102 | Z13: 73.596085 | AA13: 26451.274 | AB13: 100
B14: 木造建築工事業 | C14: 401.60695 | D14: 4.0056906 | E14: 4.25 | F14: 0.042390165 | G14: 57.4439 | H14: 0.57295445 | I14: 356.49138 | J14: 3.5557009 | K14: 26.685185 | L14: 0.26616222 | M14: 85.332244 | N14: 0.85111716 | O14: 521.6331 | P14: 5.2028502 | Q14: 282.84433 | R14: 2.8211336 | S14: 466.76753 | T14: 4.6556124 | U14: 300.66786 | V14: 2.9989083 | W14: 161.25337 | X14: 1.6083663 | Y14: 8503.4235 | Z14: 84.814477 | AA14: 10025.91 | AB14: 100
A15: 小 計 | C15: 1743.7018 | D15: 4.7802533 | E15: 4.25 | F15: 0.011651118 | G15: 470.54312 | H15: 1.2899656 | I15: 2555.2134 | J15: 7.0049634 | K15: 1046.4372 | L15: 2.8687445 | M15: 396.75415 | N15: 1.0876776 | O15: 2317.3564 | P15: 6.3528926 | Q15: 1194.145 | R15: 3.2736764 | S15: 3796.3198 | T15: 10.407382 | U15: 2613.252 | V15: 7.1640725 | W15: 1374.166 | X15: 3.7671932 | Y15: 27970.526 | Z15: 76.679508 | AA15: 36477.185 | AB15: 100
A16: 職別 | B16: 大工工事業 | C16: 106.00875 | D16: 2.5523822 | G16: 9.6986301 | H16: 0.2335148 | I16: 189.20094 | J16: 4.5554082 | K16: 63.953033 | L16: 1.539803 | M16: 81.707729 | N16: 1.9672844 | O16: 245.69128 | P16: 5.9155314 | Q16: 87.195883 | R16: 2.0994232 | S16: 570.90336 | T16: 13.745692 | U16: 200.48225 | V16: 4.8270293 | W16: 80.825744 | X16: 1.9460488 | Y16: 3158.6732 | Z16: 76.051661 | AA16: 4153.3257 | AB16: 100
B17: とび・土工・ｺﾝｸﾘｰﾄ工事業 | C17: 480.3428 | D17: 6.1225512 | E17: 2.2429907 | F17: 0.028589635 | G17: 95.041422 | H17: 1.2114181 | I17: 548.16787 | J17: 6.987064 | K17: 249.35453 | L17: 3.1783257 | M17: 184.04874 | N17: 2.3459242 | O17: 831.99552 | P17: 10.604791 | Q17: 378.834 | R17: 4.8286985 | S17: 1491.25 | T17: 19.007788 | U17: 1021.917 | V17: 13.025571 | W17: 190.45754 | X17: 2.4276122 | Y17: 5224.0428 | Z17: 66.586757 | AA17: 7845.468 | AB17: 100
B18: 鋼構造物工事業 | C18: 207.17186 | D18: 6.2292275 | E18: 14.708333 | F18: 0.44224902 | G18: 1.6666667 | H18: 0.050113204 | I18: 178.97917 | J18: 5.3815317 | K18: 116.30655 | L18: 3.4970962 | M18: 77.9375 | N18: 2.3434187 | O18: 474.50029 | P18: 14.267238 | Q18: 229.6777 | R18: 6.9059311 | S18: 647.99726 | T18: 19.483931 | U18: 673.36444 | V18: 20.24667 | W18: 116.32843 | X18: 3.4977542 | Y18: 2128.1699 | Z18: 63.989646 | AA18: 3325.8035 | AB18: 100
B19: 鉄筋工事業 | C19: 209.56667 | D19: 16.533859 | E19: 6.45 | F19: 0.50887574 | G19: 9.7833333 | H19: 0.77186062 | I19: 134.16667 | J19: 10.585141 | K19: 78.116667 | L19: 6.1630506 | M19: 6.45 | N19: 0.50887574 | O19: 230.58333 | P19: 18.191979 | Q19: 135.61667 | R19: 10.69954 | S19: 452.48333 | T19: 35.698882 | U19: 172.51667 | V19: 13.610782 | W19: 87.9 | X19: 6.9349112 | Y19: 683.51667 | Z19: 53.926364 | AA19: 1267.5 | AB19: 100
B20: 解体工事業 | C20: 47.351648 | D20: 3.2272642 | I20: 58.665934 | J20: 3.9983923 | K20: 35.923077 | L20: 2.4483469 | M20: 60.030075 | N20: 4.0913657 | O20: 41.637363 | P20: 2.8378055 | Q20: 47.351648 | R20: 3.2272642 | S20: 244.31249 | T20: 16.651183 | U20: 181.23152 | V20: 12.351883 | W20: 17.961538 | X20: 1.2241734 | Y20: 1067.3735 | Z20: 72.747126 | AA20: 1467.2381 | AB20: 100
B21: 躯体関係計 | C21: 1050.4417 | D21: 5.8166135 | E21: 23.401324 | F21: 0.12958021 | G21: 116.19005 | H21: 0.64337945 | I21: 1109.1806 | J21: 6.1418683 | K21: 543.65385 | L21: 3.0103758 | M21: 410.17404 | N21: 2.2712577 | O21: 1824.4078 | P21: 10.102298 | Q21: 878.67589 | R21: 4.8654941 | S21: 3406.9464 | T21: 18.865292 | U21: 2249.5119 | V21: 12.456228 | W21: 493.47325 | X21: 2.7325106 | Y21: 12261.776 | Z21: 67.897161 | AA21: 18059.335 | AB21: 100
B22: 左官工事業 | C22: 203.67573 | D22: 13.12445 | E22: 15.846154 | F22: 1.021094 | I22: 49.157895 | J22: 3.1676349 | M22: 17.052632 | N22: 1.0988369 | O22: 309.93792 | P22: 19.97177 | Q22: 30.105263 | R22: 1.939922 | S22: 528.76653 | T22: 34.072641 | U22: 210.24022 | V22: 13.547452 | W22: 78.05668 | X22: 5.0298139 | Y22: 856.13148 | Z22: 55.167373 | AA22: 1551.8801 | AB22: 100
B23: 石工事業 | C23: 46.833333 | D23: 4.6537488 | I23: 43.142857 | J23: 4.2870324 | O23: 107.14286 | P23: 10.646604 | Q23: 12.5 | R23: 1.2421038 | S23: 339.21905 | T23: 33.707621 | U23: 143.84286 | V23: 14.29342 | W23: 59.142857 | X23: 5.8769253 | Y23: 598.30476 | Z23: 59.452528 | AA23: 1006.3571 | AB23: 100
B24: 屋根工事業 | C24: 100.8834 | D24: 4.6871248 | G24: 19.179487 | H24: 0.89109453 | I24: 101.39736 | J24: 4.7110036 | K24: 53.76 | L24: 2.4977332 | M24: 31.148936 | N24: 1.4472048 | O24: 429.2623 | P24: 19.943875 | Q24: 36.953955 | R24: 1.7169107 | S24: 509.49783 | T24: 23.671682 | U24: 216.11585 | V24: 10.040918 | W24: 135.36135 | X24: 6.2889982 | Y24: 1371.5639 | Z24: 63.72397 | AA24: 2152.3516 | AB24: 100
B25: タイル・れんが・ブロック工事業 | C25: 107.5 | D25: 9.1047684 | G25: 32 | H25: 2.7102566 | I25: 71.3 | J25: 6.0387905 | M25: 15.2 | N25: 1.2873719 | O25: 39.3 | P25: 3.3285339 | Q25: 4.2 | R25: 0.35572118 | S25: 189.16667 | T25: 16.021569 | U25: 95.633333 | V25: 8.0997149 | W25: 98.6 | X25: 8.3509782 | Y25: 842.63333 | Z25: 71.367268 | AA25: 1180.7 | AB25: 100
B26: 板金工事業 | C26: 73.306085 | D26: 5.8333072 | I26: 66.908753 | J26: 5.3242416 | K26: 42.353902 | L26: 3.3702976 | M26: 31.286751 | N26: 2.4896328 | O26: 137.5398 | P26: 10.944684 | Q26: 27.324713 | R26: 2.1743549 | S26: 130.72676 | T26: 10.402538 | U26: 95.425642 | V26: 7.5934635 | W26: 37.340216 | X26: 2.9713352 | Y26: 934.59184 | Z26: 74.369833 | AA26: 1256.6814 | AB26: 100
B27: ガラス工事業 | I27: 8 | J27: 2.018018 | O27: 38.571429 | P27: 9.7297297 | S27: 32.571429 | T27: 8.2162162 | U27: 31.571429 | V27: 7.963964 | Y27: 345.85714 | Z27: 87.243243 | AA27: 396.42857 | AB27: 100
B28: 塗装工事業 | C28: 456.93366 | D28: 9.0781657 | E28: 2.3333333 | F28: 0.046357685 | I28: 477.01556 | J28: 9.4771444 | K28: 380.49713 | L28: 7.5595568 | M28: 37.27451 | N28: 0.74055427 | O28: 717.98386 | P28: 14.264601 | Q28: 85.705882 | R28: 1.7027684 | S28: 1071.1581 | T28: 21.281319 | U28: 756.63203 | V28: 15.032447 | W28: 349.61529 | X28: 6.9460095 | Y28: 3050.5813 | Z28: 60.607665 | AA28: 5033.3259 | AB28: 100
B29: 防水工事業 | C29: 83.617676 | D29: 4.5074305 | G29: 1.3888889 | H29: 0.074868382 | I29: 107.81299 | J29: 5.8116845 | K29: 58.751565 | L29: 3.1670169 | M29: 15.825313 | N29: 0.85306722 | O29: 239.26643 | P29: 12.897713 | Q29: 72.08705 | R29: 3.8858694 | S29: 374.06595 | T29: 20.164113 | U29: 257.83414 | V29: 13.89861 | W29: 99.344343 | X29: 5.3551801 | Y29: 1204.9251 | Z29: 64.95177 | AA29: 1855.1074 | AB29: 100
