Workbook
Name ______________________ＴＢＬ１: [1]CSS編集画面!$B$10:$F$22
Name ______________________ＴＢＬ２: [1]CSS編集画面!$B$24:$I$35
Name _____________________ＴＢＬ１: [1]CSS編集画面!$B$10:$F$22
Name _____________________ＴＢＬ２: [1]CSS編集画面!$B$24:$I$35
Name ____________________ＴＢＬ１: [1]CSS編集画面!$B$10:$F$22
Name ____________________ＴＢＬ２: [1]CSS編集画面!$B$24:$I$35
Name ___________________ＴＢＬ１: [1]CSS編集画面!$B$10:$F$22
Name ___________________ＴＢＬ２: [1]CSS編集画面!$B$24:$I$35
Name __________________ＴＢＬ１: [1]CSS編集画面!$B$10:$F$22
Name __________________ＴＢＬ２: [1]CSS編集画面!$B$24:$I$35
Name _________________ＴＢＬ１: [1]CSS編集画面!$B$10:$F$22
Name _________________ＴＢＬ２: [1]CSS編集画面!$B$24:$I$35
Name ________________ＴＢＬ１: [1]CSS編集画面!$B$10:$F$22
Name ________________ＴＢＬ２: [1]CSS編集画面!$B$24:$I$35
Name _______________ＴＢＬ１: [1]CSS編集画面!$B$10:$F$22
Name _______________ＴＢＬ２: [1]CSS編集画面!$B$24:$I$35
Name ______________ＴＢＬ１: [1]CSS編集画面!$B$10:$F$22
Name ______________ＴＢＬ２: [1]CSS編集画面!$B$24:$I$35
Name _____________ＴＢＬ１: [1]CSS編集画面!$B$10:$F$22
Name _____________ＴＢＬ２: [1]CSS編集画面!$B$24:$I$35
Name ____________ＴＢＬ１: [1]CSS編集画面!$B$10:$F$22
Name ____________ＴＢＬ２: [1]CSS編集画面!$B$24:$I$35
Name ___________ＴＢＬ１: [1]CSS編集画面!$B$10:$F$22
Name ___________ＴＢＬ２: [1]CSS編集画面!$B$24:$I$35
Name __________ＴＢＬ１: [1]CSS編集画面!$B$10:$F$22
Name __________ＴＢＬ２: [1]CSS編集画面!$B$24:$I$35
Name _________ＴＢＬ１: [1]CSS編集画面!$B$10:$F$22
Name _________ＴＢＬ２: [1]CSS編集画面!$B$24:$I$35
Name ________ＴＢＬ１: [1]CSS編集画面!$B$10:$F$22
Name ________ＴＢＬ２: [1]CSS編集画面!$B$24:$I$35
Name _______ＴＢＬ１: [1]CSS編集画面!$B$10:$F$22
Name _______ＴＢＬ２: [1]CSS編集画面!$B$24:$I$35
Name ______ＴＢＬ１: [1]CSS編集画面!$B$10:$F$22
Name ______ＴＢＬ２: [1]CSS編集画面!$B$24:$I$35
Name _____ＴＢＬ１: [1]CSS編集画面!$B$10:$F$22
Name _____ＴＢＬ２: [1]CSS編集画面!$B$24:$I$35
Name ____ＴＢＬ１: [1]CSS編集画面!$B$10:$F$22
Name ____ＴＢＬ２: [1]CSS編集画面!$B$24:$I$35
Name ___ＴＢＬ１: [1]CSS編集画面!$B$10:$F$22
Name ___ＴＢＬ２: [1]CSS編集画面!$B$24:$I$35
Name __ＴＢＬ１: [1]CSS編集画面!$B$10:$F$22
Name __ＴＢＬ２: [1]CSS編集画面!$B$24:$I$35
Name _ＴＢＬ１: [1]CSS編集画面!$B$10:$F$22
Name _ＴＢＬ２: [1]CSS編集画面!$B$24:$I$35
Name PAGE1: #REF!
Name PAGE10: #REF!
Name PAGE100: #REF!
Name PAGE1000: #REF!
Name PAGE1001: #REF!
Name PAGE1002: #REF!
Name PAGE1003: #REF!
Name PAGE1004: #REF!
Name PAGE1005: #REF!
Name PAGE1006: #REF!
Name PAGE1007: #REF!
Name PAGE1008: #REF!
Name PAGE1009: #REF!
Name PAGE101: #REF!
Name PAGE1010: #REF!
Name PAGE1011: #REF!

Sheet 7-4-1
A1: 表7－4－1 組織変更等の意向（６業種別集計）
W3: （単位：社、％）
C4: 資本金 | D4: 個 人 | F4: 法 人 | V4: 合 計
A5: 業種 | C5: 意向 | F5: 500万円未満 | H5: 500万円以上 1000万円未満 | J5: 1000万円以上 3000万円未満 | L5: 3000万円以上 5000万円未満 | N5: 5000万円以上 1億円未満 | P5: 1億円以上 3億円未満 | R5: 3億円以上 10億円未満 | T5: 10億円以上
A6: 一 般 土 木 建 築 | C6: 他社との協業化や業務提携、企業連携 | D6: 36 | E6: 100 | J6: 79.549296 | K6: 5.7142857 | L6: 42.974359 | M6: 5.1948052 | N6: 23.949367 | O6: 5.0632911 | P6: 17.1 | Q6: 18 | R6: 1.2631579 | S6: 5.2631579 | T6: 16.176471 | U6: 32.352941 | V6: 217.01265 | W6: 6.2494
C7: 他社との合併 | J7: 19.887324 | K7: 1.4285714 | L7: 10.74359 | M7: 1.2987013 | N7: 5.9873418 | O7: 1.2658228 | P7: 3.8 | Q7: 4 | T7: 1.4705882 | U7: 2.9411765 | V7: 41.888844 | W7: 1.2062898
C8: 特定部門の別法人化（分社化） | L8: 32.230769 | M8: 3.8961039 | N8: 5.9873418 | O8: 1.2658228 | P8: 3.8 | Q8: 4 | T8: 1.4705882 | U8: 2.9411765 | V8: 43.488699 | W8: 1.2523615
C9: 協力会社の組織強化、協力会社への取込強化 | J9: 99.43662 | K9: 7.1428571 | L9: 75.205128 | M9: 9.0909091 | N9: 119.74684 | O9: 25.316456 | P9: 22.8 | Q9: 24 | R9: 8.8421053 | S9: 36.842105 | T9: 16.176471 | U9: 32.352941 | V9: 342.20716 | W9: 9.8546763
C10: 持ち株会社化 | L10: 21.487179 | M10: 2.5974026 | N10: 41.911392 | O10: 8.8607595 | P10: 17.1 | Q10: 18 | T10: 2.9411765 | U10: 5.8823529 | V10: 83.439748 | W10: 2.4028478
C11: アウトソーシング | J11: 39.774648 | K11: 2.8571429 | L11: 32.230769 | M11: 3.8961039 | N11: 29.936709 | O11: 6.3291139 | P11: 13.3 | Q11: 14 | R11: 1.2631579 | S11: 5.2631579 | T11: 16.176471 | U11: 32.352941 | V11: 132.68175 | W11: 3.8208895
C12: 同業団体、協同組合等への加入（複数加入） | D12: 36 | E12: 100 | F12: 44.833333 | G12: 20 | H12: 54 | I12: 15.384615 | J12: 238.64789 | K12: 17.142857 | L12: 118.17949 | M12: 14.285714 | N12: 143.6962 | O12: 30.379747 | P12: 34.2 | Q12: 36 | R12: 8.8421053 | S12: 36.842105 | T12: 17.647059 | U12: 35.294118 | V12: 696.04607 | W12: 20.044317
C13: 社内の組織改編 | J13: 178.98592 | K13: 12.857143 | L13: 85.948718 | M13: 10.38961 | N13: 89.810127 | O13: 18.987342 | P13: 26.6 | Q13: 28 | R13: 8.8421053 | S13: 36.842105 | T13: 22.058824 | U13: 44.117647 | V13: 412.24569 | W13: 11.871604
C14: 技能労働者の直用化、常用化 | H14: 54 | I14: 15.384615 | J14: 238.64789 | K14: 17.142857 | L14: 139.66667 | M14: 16.883117 | N14: 131.72152 | O14: 27.848101 | P14: 20.9 | Q14: 22 | R14: 5.0526316 | S14: 21.052632 | V14: 589.9887 | W14: 16.990141
C15: 技能労働者の多能工化 | H15: 54 | I15: 15.384615 | J15: 258.53521 | K15: 18.571429 | L15: 128.92308 | M15: 15.584416 | N15: 77.835443 | O15: 16.455696 | P15: 11.4 | Q15: 12 | R15: 2.5263158 | S15: 10.526316 | V15: 533.22005 | W15: 15.355351
C16: 直用の技能労働者の独立支援 | L16: 21.487179 | M16: 2.5974026 | N16: 5.9873418 | O16: 1.2658228 | P16: 5.7 | Q16: 6 | V16: 33.174521 | W16: 0.95533995
C17: 特に考えていない | F17: 179.33333 | G17: 80 | H17: 270 | I17: 76.923077 | J17: 835.26761 | K17: 60 | L17: 483.46154 | M17: 58.441558 | N17: 221.53165 | O17: 46.835443 | P17: 34.2 | Q17: 36 | R17: 6.3157895 | S17: 26.315789 | T17: 19.117647 | U17: 38.235294 | V17: 2049.2276 | W17: 59.012425
B18: 小 計 | D18: 36 | E18: 100 | F18: 224.16667 | G18: 100 | H18: 351 | I18: 100 | J18: 1392.1127 | K18: 100 | L18: 827.25641 | M18: 100 | N18: 473 | O18: 100 | P18: 95 | Q18: 100 | R18: 24 | S18: 100 | T18: 50 | U18: 100 | V18: 3472.5358 | W18: 100
A19: 土 木 | C19: 他社との協業化や業務提携、企業連携 | D19: 90.785714 | E19: 7.8212711 | F19: 307.38506 | G19: 5.2348642 | H19: 636.59286 | I19: 11.563363 | J19: 529.58042 | K19: 3.9235036 | L19: 303.74953 | M19: 7.4191743 | N19: 55.300926 | O19: 4.7244811 | P19: 13.347826 | Q19: 13.318872 | R19: 2.1818182 | S19: 14.634146 | T19: 5.3333333 | U19: 33.333333 | V19: 1944.2575 | W19: 6.185738
C20: 他社との合併 | F20: 81.017241 | G20: 1.3797491 | L20: 9.1388889 | M20: 0.22322013 | N20: 3.4814815 | O20: 0.2974307 | R20: 1.0909091 | S20: 7.3170732 | V20: 94.728521 | W20: 0.30138282
C21: 特定部門の別法人化（分社化） | L21: 45.226491 | M21: 1.1046707 | N21: 17.31713 | O21: 1.4794409 | P21: 6.2826087 | Q21: 6.2689805 | T21: 2.6666667 | U21: 16.666667 | V21: 71.492896 | W21: 0.22745769
C22: 協力会社の組織強化、協力会社への取込強化 | F22: 133.01724 | G22: 2.2653254 | H22: 695.36905 | I22: 12.631 | J22: 1084.3611 | K22: 8.0337086 | L22: 523.80014 | M22: 12.793977 | N22: 132.51157 | O22: 11.320758 | P22: 30.978261 | Q22: 30.911063 | R22: 7.030303 | S22: 47.154472 | V22: 2607.0677 | W22: 8.2944968
C23: 持ち株会社化 | H23: 52.857143 | I23: 0.96012123 | J23: 587.63615 | K23: 4.3536213 | L23: 172.37134 | M23: 4.2102223 | N23: 82.833333 | O23: 7.0766359 | P23: 6.2826087 | Q23: 6.2689805 | R23: 4.8484848 | S23: 32.520325 | V23: 906.82907 | W23: 2.8851153
C24: アウトソーシング | H24: 155.8 | I24: 2.8300222 | J24: 374.03832 | K24: 2.7711385 | L24: 185.07134 | M24: 4.5204236 | N24: 44.402778 | O24: 3.793428 | P24: 7.5652174 | Q24: 7.5488069 | R24: 2.1818182 | S24: 14.634146 | T24: 2.6666667 | U24: 16.666667 | V24: 771.72614 | W24: 2.4552796
C25: 同業団体、協同組合等への加入（複数加入） | D25: 181.57143 | E25: 15.642542 | F25: 159.01724 | G25: 2.7081136 | H25: 541.1381 | I25: 9.829479 | J25: 1640.3247 | K25: 12.152677 | L25: 804.70224 | M25: 19.655096 | N25: 202.63657 | O25: 17.311693 | P25: 27.195652 | Q25: 27.136659 | R25: 7.030303 | S25: 47.154472 | T25: 2.6666667 | U25: 16.666667 | V25: 3566.2829 | W25: 11.346281
C26: 社内の組織改編 | F26: 81.017241 | G26: 1.3797491 | H26: 155.8 | I26: 2.8300222 | J26: 586.39761 | K26: 4.3444453 | L26: 242.79783 | M26: 5.9304107 | N26: 166.90046 | O26: 14.258678 | P26: 35.26087 | Q26: 35.184382 | R26: 8.3636364 | S26: 56.097561 | T26: 2.6666667 | U26: 16.666667 | V26: 1279.2043 | W26: 4.069843
C27: 技能労働者の直用化、常用化 | D27: 376.92063 | E27: 32.472052 | F27: 854.70402 | G27: 14.555878 | H27: 1275.1357 | I27: 23.162146 | J27: 3213.7835 | K27: 23.809965 | L27: 1321.9844 | M27: 32.28987 | N27: 298.83565 | O27: 25.530194 | P27: 41.543478 | Q27: 41.453362 | R27: 7.030303 | S27: 47.154472 | V27: 7389.9378 | W27: 23.511402
C28: 技能労働者の多能工化 | D28: 363.14286 | E28: 31.285084 | F28: 489.1523 | G28: 8.3304175 | H28: 855.88095 | I28: 15.546612 | J28: 2336.0818 | K28: 17.307335 | L28: 816.29411 | M28: 19.938231 | N28: 192.30787 | O28: 16.429289 | P28: 25.195652 | Q28: 25.140998 | R28: 2.4242424 | S28: 16.260163 | V28: 5080.4798 | W28: 16.163763
C29: 直用の技能労働者の独立支援 | D29: 90.785714 | E29: 7.8212711 | F29: 32.166667 | G29: 0.54780845 | H29: 26.428571 | I29: 0.48006062 | J29: 130.15535 | K29: 0.96428223 | L29: 209.90339 | M29: 5.1269539 | N29: 29.333333 | O29: 2.5060119 | V29: 518.77302 | W29: 1.6504985
C30: 特に考えていない | D30: 602.2619 | E30: 51.885406 | F30: 4615.1092 | G30: 78.596761 | H30: 3540.6714 | I30: 64.31437 | J30: 8717.2435 | K30: 64.583461 | L30: 2237.211 | M30: 54.644557 | N30: 636.90509 | O30: 54.412218 | P30: 27.695652 | Q30: 27.635575 | R30: 3.2727273 | S30: 21.95122 | T30: 8 | U30: 50 | V30: 20388.37 | W30: 64.866469
B31: 小 計 | D31: 1160.754 | E31: 100 | F31: 5871.8822 | G31: 100 | H31: 5505.2571 | I31: 100 | J31: 13497.641 | K31: 100 | L31: 4094.115 | M31: 100 | N31: 1170.5185 | O31: 100 | P31: 100.21739 | Q31: 100 | R31: 14.909091 | S31: 100 | T31: 16 | U31: 100 | V31: 31431.294 | W31: 100
A32: 建 築 | B32: 建 築 | C32: 他社との協業化や業務提携、企業連携 | F32: 205.27586 | G32: 3.5714286 | H32: 508.52632 | I32: 11.764706 | J32: 475 | K32: 4.8076923 | L32: 66.138889 | M32: 2.8571429 | N32: 41.104478 | O32: 4.6875 | P32: 38.4 | Q32: 20.833333 | R32: 4.2857143 | S32: 14.285714 | T32: 3.3636364 | U32: 9.0909091 | V32: 1342.0949 | W32: 5.0738383
C33: 他社との合併
C34: 特定部門の別法人化（分社化） | H34: 254.26316 | I34: 5.8823529 | J34: 95 | K34: 0.96153846 | L34: 33.069444 | M34: 1.4285714 | N34: 27.402985 | O34: 3.125 | T34: 3.3636364 | U34: 9.0909091 | V34: 413.09922 | W34: 1.5617366
C35: 協力会社の組織強化、協力会社への取込強化 | D35: 278 | E35: 9.0909091 | H35: 508.52632 | I35: 11.764706 | J35: 950 | K35: 9.6153846 | L35: 264.55556 | M35: 11.428571 | N35: 123.31343 | O35: 14.0625 | P35: 46.08 | Q35: 25 | R35: 11.428571 | S35: 38.095238 | T35: 16.818182 | U35: 45.454545 | V35: 2198.7221 | W35: 8.3123483
C36: 持ち株会社化 | H36: 254.26316 | I36: 5.8823529 | J36: 380 | K36: 3.8461538 | L36: 231.48611 | M36: 10 | N36: 123.31343 | O36: 14.0625 | P36: 23.04 | Q36: 12.5 | R36: 4.2857143 | S36: 14.285714 | T36: 3.3636364 | U36: 9.0909091 | V36: 1019.7521 | W36: 3.8552095
C37: アウトソーシング | J37: 190 | K37: 1.9230769 | L37: 33.069444 | M37: 1.4285714 | N37: 54.80597 | O37: 6.25 | P37: 23.04 | Q37: 12.5 | R37: 7.1428571 | S37: 23.809524 | T37: 3.3636364 | U37: 9.0909091 | V37: 311.42191 | W37: 1.1773418
C38: 同業団体、協同組合等への加入（複数加入） | F38: 205.27586 | G38: 3.5714286 | H38: 254.26316 | I38: 5.8823529 | J38: 855 | K38: 8.6538462 | L38: 198.41667 | M38: 8.5714286 | N38: 205.52239 | O38: 23.4375 | P38: 61.44 | Q38: 33.333333 | R38: 5.7142857 | S38: 19.047619 | T38: 10.090909 | U38: 27.272727 | V38: 1795.7233 | W38: 6.7887968
C39: 社内の組織改編 | J39: 570 | K39: 5.7692308 | L39: 99.208333 | M39: 4.2857143 | N39: 137.01493 | O39: 15.625 | P39: 84.48 | Q39: 45.833333 | R39: 7.1428571 | S39: 23.809524 | T39: 13.454545 | U39: 36.363636 | V39: 911.30066 | W39: 3.4452051
C40: 技能労働者の直用化、常用化 | F40: 615.82759 | G40: 10.714286 | H40: 762.78947 | I40: 17.647059 | J40: 1425 | K40: 14.423077 | L40: 429.90278 | M40: 18.571429 | N40: 54.80597 | O40: 6.25 | P40: 30.72 | Q40: 16.666667 | R40: 7.1428571 | S40: 23.809524 | T40: 3.3636364 | U40: 9.0909091 | V40: 3329.5523 | W40: 12.587493
C41: 技能労働者の多能工化 | F41: 205.27586 | G41: 3.5714286 | H41: 508.52632 | I41: 11.764706 | J41: 1330 | K41: 13.461538 | L41: 198.41667 | M41: 8.5714286 | N41: 41.104478 | O41: 4.6875 | P41: 23.04 | Q41: 12.5 | R41: 2.8571429 | S41: 9.5238095 | T41: 3.3636364 | U41: 9.0909091 | V41: 2312.5841 | W41: 8.7428079
C42: 直用の技能労働者の独立支援 | D42: 278 | E42: 9.0909091 | H42: 508.52632 | I42: 11.764706 | J42: 285 | K42: 2.8846154 | L42: 132.27778 | M42: 5.7142857 | P42: 7.68 | Q42: 4.1666667 | R42: 1.4285714 | S42: 4.7619048 | V42: 1212.9127 | W42: 4.5854602
C43: 特に考えていない | D43: 2780 | E43: 90.909091 | F43: 4721.3448 | G43: 82.142857 | H43: 2796.8947 | I43: 64.705882 | J43: 7030 | K43: 71.153846 | L43: 1554.2639 | M43: 67.142857 | N43: 479.55224 | O43: 54.6875 | P43: 76.8 | Q43: 41.666667 | R43: 11.428571 | S43: 38.095238 | T43: 16.818182 | U43: 45.454545 | V43: 19467.102 | W43: 73.596085
B44: 小 計 | D44: 3058 | E44: 100 | F44: 5747.7241 | G44: 100 | H44: 4322.4737 | I44: 100 | J44: 9880 | K44: 100 | L44: 2314.8611 | M44: 100 | N44: 876.89552 | O44: 100 | P44: 184.32 | Q44: 100 | R44: 30 | S44: 100 | T44: 37 | U44: 100 | V44: 26451.274 | W44: 100
B45: 木 造 建 築 | C45: 他社との協業化や業務提携、企業連携 | D45: 287.63636 | E45: 10.526316 | J45: 95.470588 | K45: 3.8461538 | N45: 10 | O45: 11.111111 | P45: 8.5 | Q45: 50 | V45: 401.60695 | W45: 4.0056906
C46: 他社との合併 | P46: 4.25 | Q46: 25 | V46: 4.25 | W46: 0.042390165
C47: 特定部門の別法人化（分社化） | J47: 31.823529 | K47: 1.2820513 | L47: 16.37037 | M47: 8 | N47: 5 | O47: 5.5555556 | P47: 4.25 | Q47: 25 | V47: 57.4439 | W47: 0.57295445
C48: 協力会社の組織強化、協力会社への取込強化 | D48: 143.81818 | E48: 5.2631579 | J48: 159.11765 | K48: 6.4102564 | L48: 24.555556 | M48: 12 | N48: 15 | O48: 16.666667 | P48: 8.5 | Q48: 50 | R48: 5 | S48: 100 | T48: 0.5 | U48: 100 | V48: 356.49138 | W48: 3.5557009
C49: 持ち株会社化 | L49: 8.1851852 | M49: 4 | N49: 10 | O49: 11.111111 | P49: 8.5 | Q49: 50 | V49: 26.685185 | W49: 0.26616222
C50: アウトソーシング | J50: 63.647059 | K50: 2.5641026 | L50: 8.1851852 | M50: 4 | N50: 5 | O50: 5.5555556 | P50: 8.5 | Q50: 50 | V50: 85.332244 | W50: 0.85111716
C51: 同業団体、協同組合等への加入（複数加入） | D51: 287.63636 | E51: 10.526316 | J51: 190.94118 | K51: 7.6923077 | L51: 24.555556 | M51: 12 | N51: 5 | O51: 5.5555556 | P51: 8.5 | Q51: 50 | R51: 5 | S51: 100 | V51: 521.6331 | W51: 5.2028502
C52: 社内の組織改編 | D52: 143.81818 | E52: 5.2631579 | J52: 95.470588 | K52: 3.8461538 | L52: 24.555556 | M52: 12 | N52: 10 | O52: 11.111111 | P52: 8.5 | Q52: 50 | T52: 0.5 | U52: 100 | V52: 282.84433 | W52: 2.8211336
C53: 技能労働者の直用化、常用化 | D53: 143.81818 | E53: 5.2631579 | J53: 254.58824 | K53: 10.25641 | L53: 49.111111 | M53: 24 | N53: 10 | O53: 11.111111 | P53: 4.25 | Q53: 25 | R53: 5 | S53: 100 | V53: 466.76753 | W53: 4.6556124
C54: 技能労働者の多能工化 | D54: 143.81818 | E54: 5.2631579 | J54: 127.29412 | K54: 5.1282051 | L54: 24.555556 | M54: 12 | N54: 5 | O54: 5.5555556 | V54: 300.66786 | W54: 2.9989083
C55: 直用の技能労働者の独立支援 | D55: 143.81818 | E55: 5.2631579 | L55: 8.1851852 | M55: 4 | N55: 5 | O55: 5.5555556 | P55: 4.25 | Q55: 25 | V55: 161.25337 | W55: 1.6083663
C56: 特に考えていない | D56: 2013.4545 | E56: 73.684211 | F56: 2720 | G56: 100 | H56: 1774 | I56: 100 | J56: 1813.9412 | K56: 73.076923 | L56: 122.77778 | M56: 60 | N56: 55 | O56: 61.111111 | P56: 4.25 | Q56: 25 | V56: 8503.4235 | W56: 84.814477
B57: 小 計 | D57: 2732.5455 | E57: 100 | F57: 2720 | G57: 100 | H57: 1774 | I57: 100 | J57: 2482.2353 | K57: 100 | L57: 204.62963 | M57: 100 | N57: 90 | O57: 100 | P57: 17 | Q57: 100 | R57: 5 | S57: 100 | T57: 0.5 | U57: 100 | V57: 10025.91 | W57: 100
A58: 小 計 | C58: 他社との協業化や業務提携、企業連携 | D58: 287.63636 | E58: 4.9673449 | F58: 205.27586 | G58: 2.4242153 | H58: 508.52632 | I58: 8.341319 | J58: 570.47059 | K58: 4.6146233 | L58: 66.138889 | M58: 2.6250896 | N58: 51.104478 | O58: 5.2854188 | P58: 46.9 | Q58: 23.296245 | R58: 4.2857143 | S58: 12.244898 | T58: 3.3636364 | U58: 8.969697 | V58: 1743.7018 | W58: 4.7802533
C59: 他社との合併 | P59: 4.25 | Q59: 2.111067 | V59: 4.25 | W59: 0.011651118
C60: 特定部門の別法人化（分社化） | H60: 254.26316 | I60: 4.1706595 | J60: 126.82353 | K60: 1.0258948 | L60: 49.439815 | M60: 1.962294 | N60: 32.402985 | O60: 3.3512395 | P60: 4.25 | Q60: 2.111067 | T60: 3.3636364 | U60: 8.969697 | V60: 470.54312 | W60: 1.2899656
C61: 協力会社の組織強化、協力会社への取込強化 | D61: 421.81818 | E61: 7.2846019 | H61: 508.52632 | I61: 8.341319 | J61: 1109.1176 | K61: 8.9718212 | L61: 289.11111 | M61: 11.474982 | N61: 138.31343 | O61: 14.3049 | P61: 54.58 | Q61: 27.111067 | R61: 16.428571 | S61: 46.938776 | T61: 17.318182 | U61: 46.181818 | V61: 2555.2134 | W61: 7.0049634
C62: 持ち株会社化 | H62: 254.26316 | I62: 4.1706595 | J62: 380 | K62: 3.0738777 | L62: 239.6713 | M62: 9.5126881 | N62: 133.31343 | O62: 13.787781 | P62: 31.54 | Q62: 15.6666 | R62: 4.2857143 | S62: 12.244898 | T62: 3.3636364 | U62: 8.969697 | V62: 1046.4372 | W62: 2.8687445
C63: アウトソーシング | J63: 253.64706 | K63: 2.0517896 | L63: 41.25463 | M63: 1.6374194 | N63: 59.80597 | O63: 6.1853601 | P63: 31.54 | Q63: 15.6666 | R63: 7.1428571 | S63: 20.408163 | T63: 3.3636364 | U63: 8.969697 | V63: 396.75415 | W63: 1.0876776
C64: 同業団体、協同組合等への加入（複数加入） | D64: 287.63636 | E64: 4.9673449 | F64: 205.27586 | G64: 2.4242153 | H64: 254.26316 | I64: 4.1706595 | J64: 1045.9412 | K64: 8.4607771 | L64: 222.97222 | M64: 8.8498925 | N64: 210.52239 | O64: 21.773023 | P64: 69.94 | Q64: 34.740711 | R64: 10.714286 | S64: 30.612245 | T64: 10.090909 | U64: 26.909091 | V64: 2317.3564 | W64: 6.3528926
C65: 社内の組織改編 | D65: 143.81818 | E65: 2.4836724 | J65: 665.47059 | K65: 5.3830927 | L65: 123.76389 | M65: 4.9122581 | N65: 147.01493 | O65: 15.204841 | P65: 92.98 | Q65: 46.185178 | R65: 7.1428571 | S65: 20.408163 | T65: 13.954545 | U65: 37.212121 | V65: 1194.145 | W65: 3.2736764
C66: 技能労働者の直用化、常用化 | D66: 143.81818 | E66: 2.4836724 | F66: 615.82759 | G66: 7.2726458 | H66: 762.78947 | I66: 12.511978 | J66: 1679.5882 | K66: 13.586444 | L66: 479.01389 | M66: 19.01233 | N66: 64.80597 | O66: 6.7024791 | P66: 34.97 | Q66: 17.370356 | R66: 12.142857 | S66: 34.693878 | T66: 3.3636364 | U66: 8.969697 | V66: 3796.3198 | W66: 10.407382
C67: 技能労働者の多能工化 | D67: 143.81818 | E67: 2.4836724 | F67: 205.27586 | G67: 2.4242153 | H67: 508.52632 | I67: 8.341319 | J67: 1457.2941 | K67: 11.788274 | L67: 222.97222 | M67: 8.8498925 | N67: 46.104478 | O67: 4.7682998 | P67: 23.04 | Q67: 11.444467 | R67: 2.8571429 | S67: 8.1632653 | T67: 3.3636364 | U67: 8.969697 | V67: 2613.252 | W67: 7.1640725
C68: 直用の技能労働者の独立支援 | D68: 421.81818 | E68: 7.2846019 | H68: 508.52632 | I68: 8.341319 | J68: 285 | K68: 2.3054083 | L68: 140.46296 | M68: 5.5750537 | N68: 5 | O68: 0.51711895 | P68: 11.93 | Q68: 5.9258891 | R68: 1.4285714 | S68: 4.0816327 | V68: 1374.166 | W68: 3.7671932
C69: 特に考えていない | D69: 4793.4545 | E69: 82.780708 | F69: 7441.3448 | G69: 87.878924 | H69: 4570.8947 | I69: 74.976043 | J69: 8843.9412 | K69: 71.539984 | L69: 1677.0417 | M69: 66.562724 | N69: 534.55224 | O69: 55.285419 | P69: 81.05 | Q69: 40.259289 | R69: 11.428571 | S69: 32.653061 | T69: 16.818182 | U69: 44.848485 | V69: 27970.526 | W69: 76.679508
A70: 小 計 | D70: 5790.5455 | E70: 100 | F70: 8467.7241 | G70: 100 | H70: 6096.4737 | I70: 100 | J70: 12362.235 | K70: 100 | L70: 2519.4907 | M70: 100 | N70: 966.89552 | O70: 100 | P70: 201.32 | Q70: 100 | R70: 35 | S70: 100 | T70: 37.5 | U70: 100 | V70: 36477.185 | W70: 100
A71: 職 別 | B71: 躯 体 関 係 計 | C71: 他社との協業化や業務提携、企業連携 | D71: 62.419355 | E71: 2.3565383 | F71: 316.53394 | G71: 5.5792109 | H71: 192.38482 | I71: 4.9146043 | J71: 406.17936 | K71: 8.0433555 | L71: 45.198821 | M71: 8.9560453 | N71: 20.142094 | O71: 8.9121754 | P71: 3.3333333 | Q71: 11.904762 | R71: 1.25 | S71: 17.857143 | T71: 3 | U71: 42.857143 | V71: 1050.4417 | W71: 5.8166135
C72: 他社との合併 | J72: 21.158333 | K72: 0.41898731 | L72: 2.2429907 | M72: 0.44444359 | V72: 23.401324 | W72: 0.12958021
C73: 特定部門の別法人化（分社化） | F73: 43.939394 | G73: 0.7744735 | J73: 57.389807 | K73: 1.1364601 | L73: 12.305296 | M73: 2.4382669 | P73: 2.5555556 | Q73: 9.1269841 | V73: 116.19005 | W73: 0.64337945
C74: 協力会社の組織強化、協力会社への取込強化 | F74: 291.18139 | G74: 5.1323481 | H74: 222.24639 | I74: 5.6774389 | J74: 487.06535 | K74: 9.645098 | L74: 66.68394 | M74: 13.213274 | N74: 34.647958 | O74: 15.330515 | P74: 5.2222222 | Q74: 18.650794 | R74: 0.8 | S74: 11.428571 | T74: 1.3333333 | U74: 19.047619 | V74: 1109.1806 | W74: 6.1418683
C75: 持ち株会社化 | D75: 26.285714 | E75: 0.99237315 | F75: 121.94545 | G75: 2.1494043 | H75: 136.2851 | I75: 3.4814979 | J75: 227.49299 | K75: 4.5049236 | L75: 11.020833 | M75: 2.1837535 | N75: 18.66821 | O75: 8.260033 | P75: 0.88888889 | Q75: 3.1746032 | R75: 0.4 | S75: 5.7142857 | T75: 0.66666667 | U75: 9.5238095 | V75: 543.65385 | W75: 3.0103758
C76: アウトソーシング | D76: 62.419355 | E76: 2.3565383 | F76: 120.22488 | G76: 2.1190776 | J76: 171.21138 | K76: 3.3904085 | L76: 29.040415 | M76: 5.7542934 | N76: 24.72246 | O76: 10.938828 | P76: 2.5555556 | Q76: 9.1269841 | V76: 410.17404 | W76: 2.2712577
C77: 同業団体、協同組合等への加入（複数加入） | D77: 62.419355 | E77: 2.3565383 | F77: 218.23372 | G77: 3.8465764 | H77: 545.76556 | I77: 13.941961 | J77: 876.35409 | K77: 17.353977 | L77: 72.80385 | M77: 14.42592 | N77: 41.364554 | O77: 18.302375 | P77: 5.3333333 | Q77: 19.047619 | R77: 0.8 | S77: 11.428571 | T77: 1.3333333 | U77: 19.047619 | V77: 1824.4078 | W77: 10.102298
C78: 社内の組織改編 | F78: 118.68463 | G78: 2.0919292 | H78: 291.06992 | I78: 7.4355839 | J78: 374.36435 | K78: 7.4133397 | L78: 52.247302 | M78: 10.352686 | N78: 33.804131 | O78: 14.957151 | P78: 4.7222222 | Q78: 16.865079 | R78: 2.45 | S78: 35 | T78: 1.3333333 | U78: 19.047619 | V78: 878.67589 | W78: 4.8654941
C79: 技能労働者の直用化、常用化 | D79: 239.82949 | E79: 9.0543611 | F79: 803.93432 | G79: 14.170105 | H79: 549.25407 | I79: 14.031078 | J79: 1560.0219 | K79: 30.892291 | L79: 149.98768 | M79: 29.719723 | N79: 91.285589 | O79: 40.390695 | P79: 8.6666667 | Q79: 30.952381 | R79: 3.3 | S79: 47.142857 | T79: 0.66666667 | U79: 9.5238095 | V79: 3406.9464 | W79: 18.865292
C80: 技能労働者の多能工化 | D80: 26.285714 | E80: 0.99237315 | F80: 490.40937 | G80: 8.6439303 | H80: 416.29345 | I80: 10.634506 | J80: 1129.3027 | K80: 22.362986 | L80: 107.81498 | M80: 21.363297 | N80: 70.172341 | O80: 31.048818 | P80: 5 | Q80: 17.857143 | R80: 2.9 | S80: 41.428571 | T80: 1.3333333 | U80: 19.047619 | V80: 2249.5119 | W80: 12.456228
C81: 直用の技能労働者の独立支援 | F81: 118.68463 | G81: 2.0919292 | H81: 139.17306 | I81: 3.5552727 | J81: 188.48733 | K81: 3.7325151 | L81: 33.068925 | M81: 6.5525337 | N81: 13.659307 | O81: 6.0437677 | R81: 0.4 | S81: 5.7142857 | V81: 493.47325 | W81: 2.7325106
C82: 特に考えていない | D82: 2346.5244 | E82: 88.589101 | F82: 4194.2643 | G82: 73.927886 | H82: 2811.2241 | I82: 71.814679 | J82: 2554.5788 | K82: 50.586976 | L82: 255.84894 | M82: 50.695895 | N82: 85.424359 | O82: 37.797305 | P82: 9.2777778 | Q82: 33.134921 | R82: 3.3 | S82: 47.142857 | T82: 1.3333333 | U82: 19.047619 | V82: 12261.776 | W82: 67.897161
B83: 小 計 | D83: 2648.7732 | E83: 100 | F83: 5673.4535 | G83: 100 | H83: 3914.5536 | I83: 100 | J83: 5049.8745 | K83: 100 | L83: 504.67387 | M83: 100 | N83: 226.00648 | O83: 100 | P83: 28 | Q83: 100 | R83: 7 | S83: 100 | T83: 7 | U83: 100 | V83: 18059.335 | W83: 100
B84: 仕 上 関 係 計 | C84: 他社との協業化や業務提携、企業連携 | D84: 352.0068 | E84: 11.74718 | F84: 622.50682 | G84: 7.854111 | H84: 206.87594 | I84: 4.5183579 | J84: 441.93588 | K84: 5.5210992 | L84: 47.68907 | M84: 7.5411953 | N84: 26.261378 | O84: 9.9128315 | P84: 2 | Q84: 5.2863436 | V84: 1699.2759 | W84: 6.950121
C85: 他社との合併 | H85: 15.846154 | I85: 0.34609435 | J85: 16.414286 | K85: 0.20506346 | N85: 4.8717949 | O85: 1.838947 | V85: 37.132234 | W85: 0.15187265
C86: 特定部門の別法人化（分社化） | F86: 51.179487 | G86: 0.64572686 | N86: 1.3888889 | O86: 0.52426119 | V86: 52.568376 | W86: 0.21500722
C87: 協力会社の組織強化、協力会社への取込強化 | D87: 10.77551 | E87: 0.3596006 | F87: 430.52837 | G87: 5.4319366 | H87: 207.04939 | I87: 4.5221461 | J87: 555.18942 | K87: 6.9359742 | L87: 73.611375 | M87: 11.640356 | N87: 43.566239 | O87: 16.444864 | P87: 8.5 | Q87: 22.46696 | R87: 3.3333333 | S87: 55.555556 | V87: 1332.5536 | W87: 5.4502092
C88: 持ち株会社化 | F88: 269.3976 | G88: 3.3989646 | H88: 200.68105 | I88: 4.383056 | J88: 208.10238 | K88: 2.5998203 | L88: 31.227403 | M88: 4.9380696 | N88: 8.1597222 | O88: 3.0800345 | V88: 717.56815 | W88: 2.9348887
C89: アウトソーシング | F89: 7.6315789 | G89: 0.096286926 | J89: 233.55945 | K89: 2.9178552 | L89: 19.414486 | M89: 3.0700626 | N89: 16.100694 | O89: 6.0774979 | P89: 2 | Q89: 5.2863436 | R89: 1 | S89: 16.666667 | V89: 279.70621 | W89: 1.144012
C90: 同業団体、協同組合等への加入（複数加入） | D90: 536.07211 | E90: 17.889812 | F90: 921.52144 | G90: 11.626751 | H90: 395.81302 | I90: 8.6449149 | J90: 1253.2677 | K90: 15.657057 | L90: 121.28976 | M90: 19.179862 | N90: 65.835417 | O90: 24.850767 | P90: 5.5 | Q90: 14.537445 | R90: 1 | S90: 16.666667 | V90: 3300.2994 | W90: 13.498385
C91: 社内の組織改編 | F91: 123.53243 | G91: 1.5585972 | H91: 38.208333 | I91: 0.83450461 | J91: 359.29053 | K91: 4.4886119 | L91: 38.228188 | M91: 6.0451216 | N91: 30.763034 | O91: 11.612063 | P91: 10.666667 | Q91: 28.193833 | R91: 2 | S91: 33.333333 | T91: 3 | U91: 100 | V91: 605.68918 | W91: 2.4772982
C92: 技能労働者の直用化、常用化 | D92: 174.31769 | E92: 5.8173342 | F92: 1351.3424 | G92: 17.049763 | H92: 1073.7098 | I92: 23.450795 | J92: 1801.4166 | K92: 22.505074 | L92: 156.22309 | M92: 24.703959 | N92: 61.595246 | O92: 23.250238 | P92: 7.6666667 | Q92: 20.264317 | R92: 0.33333333 | S92: 5.5555556 | V92: 4626.6048 | W92: 18.923039
C93: 技能労働者の多能工化 | D93: 53.017687 | E93: 1.7693076 | F93: 996.56798 | G93: 12.573606 | H93: 531.06563 | I93: 11.598954 | J93: 1226.9918 | K93: 15.328793 | L93: 80.415347 | M93: 12.716286 | N93: 37.006624 | O93: 13.968819 | P93: 2.6666667 | Q93: 7.0484581 | R93: 0.33333333 | S93: 5.5555556 | V93: 2928.0651 | W93: 11.975929
C94: 直用の技能労働者の独立支援 | D94: 105.9966 | E94: 3.5373212 | F94: 553.78819 | G94: 6.9870944 | H94: 120.28375 | I94: 2.627106 | J94: 461.41747 | K94: 5.7644824 | L94: 22.198972 | M94: 3.5103805 | N94: 17.375 | O94: 6.5585075 | P94: 1.1666667 | Q94: 3.0837004 | V94: 1282.2266 | W94: 5.2443693
C95: 特に考えていない | D95: 2215.8497 | E95: 73.947391 | F95: 5427.8312 | G95: 68.482445 | H95: 2984.3963 | I95: 65.181919 | J95: 5119.6079 | K95: 63.959196 | L95: 354.55793 | M95: 56.067158 | N95: 119.86661 | O95: 45.245818 | P95: 19.666667 | Q95: 51.982379 | R95: 1.6666667 | S95: 27.777778 | V95: 16243.443 | W95: 66.436472
B96: 小 計 | D96: 2996.5218 | E96: 100 | F96: 7925.8724 | G96: 100 | H96: 4578.5647 | I96: 100 | J96: 8004.4908 | K96: 100 | L96: 632.38078 | M96: 100 | N96: 264.92308 | O96: 100 | P96: 37.833333 | Q96: 100 | R96: 6 | S96: 100 | T96: 3 | U96: 100 | V96: 24449.587 | W96: 100
A97: 小 計 | C97: 他社との協業化や業務提携、企業連携 | D97: 414.42616 | E97: 7.3410895 | F97: 939.04076 | G97: 6.9050537 | H97: 399.26076 | I97: 4.7009914 | J97: 848.11524 | K97: 6.4967941 | L97: 92.887891 | M97: 8.1691667 | N97: 46.403472 | O97: 9.4521651 | P97: 5.3333333 | Q97: 8.1012658 | R97: 1.25 | S97: 9.6153846 | T97: 3 | U97: 30 | V97: 2749.7176 | W97: 6.4685658
C98: 他社との合併 | H98: 15.846154 | I98: 0.18657639 | J98: 37.572619 | K98: 0.28781651 | L98: 2.2429907 | M98: 0.19726322 | N98: 4.8717949 | O98: 0.99236128 | V98: 60.533558 | W98: 0.14240201
C99: 特定部門の別法人化（分社化） | F99: 95.118881 | G99: 0.6994382 | J99: 57.389807 | K99: 0.43962158 | L99: 12.305296 | M99: 1.082208 | N99: 1.3888889 | O99: 0.28291002 | P99: 2.5555556 | Q99: 3.8818565 | V99: 168.75843 | W99: 0.39699531
C100: 協力会社の組織強化、協力会社への取込強化 | D100: 10.77551 | E100: 0.19087595 | F100: 721.70975 | G100: 5.3069524 | H100: 429.29578 | I100: 5.0546308 | J100: 1042.2548 | K100: 7.9839559 | L100: 140.29531 | M100: 12.338485 | N100: 78.214198 | O100: 15.931857 | P100: 13.722222 | Q100: 20.843882 | R100: 4.1333333 | S100: 31.794872 | T100: 1.3333333 | U100: 13.333333 | V100: 2441.7342 | W100: 5.7440511
C101: 持ち株会社化 | D101: 26.285714 | E101: 0.46562162 | F101: 391.34306 | G101: 2.8776651 | H101: 336.96615 | I101: 3.9675198 | J101: 435.59536 | K101: 3.3367793 | L101: 42.248237 | M101: 3.7155854 | N101: 26.827932 | O101: 5.4647213 | P101: 0.88888889 | Q101: 1.350211 | R101: 0.4 | S101: 3.0769231 | T101: 0.66666667 | U101: 6.6666667 | V101: 1261.222 | W101: 2.9669583
...

Sheet 7-4-2
A1: 表7－4－2 組織変更等の意向（経年変化①：６業種別）
T3: （単位：社、％）
C4: 年度 | D4: R01年度 | G4: H26年度 | J4: H23年度 | M4: H20年度 | P4: H17年度 | S4: H14年度
A5: 業種 | C5: 意向 | F5: 増減 | I5: 増減 | L5: 増減 | O5: 増減 | R5: 増減
A6: 一 般 土 木 建 築 | C6: 他社との協業化や業務提携、企業連携 | D6: =IF('7-4-1'!V6<>"",'7-4-1'!V6,"") -> 217.01265 | E6: =IF('7-4-1'!W6<>"",'7-4-1'!W6,"") -> 6.2494 | F6: =IF(AND(ISNUMBER(E6),ISNUMBER(H6)),E6-H6,"") -> 1.826297 | G6: 177.18501 | H6: 4.4231031 | I6: =IF(AND(ISNUMBER(H6),ISNUMBER(K6)),H6-K6,"") -> 2.2231031 | J6: 93.5 | K6: 2.2 | L6: =K6-N6 -> -2.5 | M6: 239 | N6: 4.7 | O6: =N6-Q6 -> -0.3 | P6: 301 | Q6: 5 | R6: =Q6-T6 -> -8.9584377 | S6: 1115.4695 | T6: =IF(ROUND(S18,0)=0,"",ROUND(S6,0)/ROUND(S18,0)*100) -> 13.958438
C7: 他社との合併 | D7: =IF('7-4-1'!V7<>"",'7-4-1'!V7,"") -> 41.888844 | E7: =IF('7-4-1'!W7<>"",'7-4-1'!W7,"") -> 1.2062898 | F7: =IF(AND(ISNUMBER(E7),ISNUMBER(H7)),E7-H7,"") -> 0.91032096 | G7: 11.85621 | H7: 0.29596882 | I7: =IF(AND(ISNUMBER(H7),ISNUMBER(K7)),H7-K7,"") -> -1.1040312 | J7: 56.56 | K7: 1.4 | L7: =K7-N7 -> 0.6 | M7: 43 | N7: 0.8 | O7: =N7-Q7 -> -0.4 | P7: 70 | Q7: 1.2 | R7: =Q7-T7 -> -5.9982974 | S7: 575.19623 | T7: =IF(ROUND(S18,0)=0,"",ROUND(S7,0)/ROUND(S18,0)*100) -> 7.1982974
C8: 特定部門の別法人化（分社化） | D8: =IF('7-4-1'!V8<>"",'7-4-1'!V8,"") -> 43.488699 | E8: =IF('7-4-1'!W8<>"",'7-4-1'!W8,"") -> 1.2523615 | F8: =IF(AND(ISNUMBER(E8),ISNUMBER(H8)),E8-H8,"") -> -0.9111405 | G8: 86.667689 | H8: 2.1635019 | I8: =IF(AND(ISNUMBER(H8),ISNUMBER(K8)),H8-K8,"") -> 0.36350195 | J8: 76.16 | K8: 1.8 | L8: =K8-N8 -> -0.2 | M8: 101 | N8: 2 | O8: =N8-Q8 -> -0.2 | P8: 132 | Q8: 2.2 | R8: =Q8-T8 -> -1.5305959 | S8: 297.62823 | T8: =IF(ROUND(S18,0)=0,"",ROUND(S8,0)/ROUND(S18,0)*100) -> 3.7305959
C9: 協力会社の組織強化、協力会社への取込強化 | D9: =IF('7-4-1'!V9<>"",'7-4-1'!V9,"") -> 342.20716 | E9: =IF('7-4-1'!W9<>"",'7-4-1'!W9,"") -> 9.8546763 | F9: =IF(AND(ISNUMBER(E9),ISNUMBER(H9)),E9-H9,"") -> -2.2905626 | G9: 486.52593 | H9: 12.145239 | I9: =IF(AND(ISNUMBER(H9),ISNUMBER(K9)),H9-K9,"") -> 1.745239 | J9: 434 | K9: 10.4 | L9: =K9-N9 -> 0 | M9: 535 | N9: 10.4 | O9: =N9-Q9 -> 2.8 | P9: 460 | Q9: 7.6 | R9: =Q9-T9 -> -6.1080621 | S9: 1094.5696 | T9: =IF(ROUND(S18,0)=0,"",ROUND(S9,0)/ROUND(S18,0)*100) -> 13.708062
C10: 持ち株会社化 | D10: =IF('7-4-1'!V10<>"",'7-4-1'!V10,"") -> 83.439748 | E10: =IF('7-4-1'!W10<>"",'7-4-1'!W10,"") -> 2.4028478 | F10: =IF(AND(ISNUMBER(E10),ISNUMBER(H10)),E10-H10,"") -> -0.85161407 | G10: 130.37043 | H10: 3.2544619 | I10: =IF(AND(ISNUMBER(H10),ISNUMBER(K10)),H10-K10,"") -> 0.95446186 | J10: 96.91 | K10: 2.3 | L10: =K10-N10 -> -0.2 | M10: 128 | N10: 2.5 | O10: =N10-Q10 -> 1.6 | P10: 54 | Q10: 0.9 | R10: =Q10-T10 -> 0.19894842 | S10: 55.794788 | T10: =IF(ROUND(S18,0)=0,"",ROUND(S10,0)/ROUND(S18,0)*100) -> 0.70105158
C11: アウトソーシング | D11: =IF('7-4-1'!V11<>"",'7-4-1'!V11,"") -> 132.68175 | E11: =IF('7-4-1'!W11<>"",'7-4-1'!W11,"") -> 3.8208895 | F11: =IF(AND(ISNUMBER(E11),ISNUMBER(H11)),E11-H11,"") -> -0.022795052 | G11: 153.9741 | H11: 3.8436846 | I11: =IF(AND(ISNUMBER(H11),ISNUMBER(K11)),H11-K11,"") -> 2.8436846 | J11: 43.19 | K11: 1 | L11: =K11-N11 -> -0.7 | M11: 86 | N11: 1.7 | O11: =N11-Q11 -> -0.2 | P11: 113 | Q11: 1.9 | R11: =Q11-T11 -> -1.2672509 | S11: 252.95073 | T11: =IF(ROUND(S18,0)=0,"",ROUND(S11,0)/ROUND(S18,0)*100) -> 3.1672509
C12: 同業団体、協同組合等への加入（複数加入） | D12: =IF('7-4-1'!V12<>"",'7-4-1'!V12,"") -> 696.04607 | E12: =IF('7-4-1'!W12<>"",'7-4-1'!W12,"") -> 20.044317 | F12: =IF(AND(ISNUMBER(E12),ISNUMBER(H12)),E12-H12,"") -> 0.71443922 | G12: 774.33526 | H12: 19.329878 | I12: =IF(AND(ISNUMBER(H12),ISNUMBER(K12)),H12-K12,"") -> 3.1298778 | J12: 672.76 | K12: 16.2 | L12: =K12-N12 -> -2.1 | M12: 940 | N12: 18.3 | O12: =N12-Q12 -> 6.9 | P12: 689 | Q12: 11.4 | R12: =Q12-T12 -> 9.422033 | S12: 157.99281 | T12: =IF(ROUND(S18,0)=0,"",ROUND(S12,0)/ROUND(S18,0)*100) -> 1.977967
C13: 社内の組織改編 | D13: =IF('7-4-1'!V13<>"",'7-4-1'!V13,"") -> 412.24569 | E13: =IF('7-4-1'!W13<>"",'7-4-1'!W13,"") -> 11.871604 | F13: =IF(AND(ISNUMBER(E13),ISNUMBER(H13)),E13-H13,"") -> 0.85532805 | G13: 441.30081 | H13: 11.016276 | I13: =IF(AND(ISNUMBER(H13),ISNUMBER(K13)),H13-K13,"") -> 3.0162758 | J13: 331.53 | K13: 8 | L13: =K13-N13 -> -4.1 | M13: 622 | N13: 12.1 | O13: =N13-Q13 -> -2.1 | P13: 858 | Q13: 14.2 | R13: =Q13-T13 -> -20.364347 | S13: 2760.5056 | T13: =IF(ROUND(S18,0)=0,"",ROUND(S13,0)/ROUND(S18,0)*100) -> 34.564347
C14: 技能労働者の直用化、常用化 | D14: =IF('7-4-1'!V14<>"",'7-4-1'!V14,"") -> 589.9887 | E14: =IF('7-4-1'!W14<>"",'7-4-1'!W14,"") -> 16.990141 | F14: =IF(AND(ISNUMBER(E14),ISNUMBER(H14)),E14-H14,"") -> -9.1243808 | G14: 1046.1212 | H14: 26.114521 | I14: =IF(AND(ISNUMBER(H14),ISNUMBER(K14)),H14-K14,"") -> 6.3145213 | J14: 821.95 | K14: 19.8 | L14: =K14-N14 -> -4.2 | M14: 1231 | N14: 24 | O14: =N14-Q14 -> 12 | P14: 723 | Q14: 12 | R14: =Q14-T14 -> 3.1116675 | S14: 710.43823 | T14: =IF(ROUND(S18,0)=0,"",ROUND(S14,0)/ROUND(S18,0)*100) -> 8.8883325
C15: 技能労働者の多能工化 | D15: =IF('7-4-1'!V15<>"",'7-4-1'!V15,"") -> 533.22005 | E15: =IF('7-4-1'!W15<>"",'7-4-1'!W15,"") -> 15.355351 | F15: =IF(AND(ISNUMBER(E15),ISNUMBER(H15)),E15-H15,"") -> -5.4229299 | G15: 832.35681 | H15: 20.778281 | I15: =IF(AND(ISNUMBER(H15),ISNUMBER(K15)),H15-K15,"") -> 8.9782808 | J15: 491.66 | K15: 11.8 | L15: =K15-N15 -> -2.9 | M15: 752 | N15: 14.7 | O15: =N15-Q15 -> 2.5 | P15: 739 | Q15: 12.2 | R15: =Q15-T15 -> -10.584176 | S15: 1820.1854 | T15: =IF(ROUND(S18,0)=0,"",ROUND(S15,0)/ROUND(S18,0)*100) -> 22.784176
C16: 直用の技能労働者の独立支援 | D16: =IF('7-4-1'!V16<>"",'7-4-1'!V16,"") -> 33.174521 | E16: =IF('7-4-1'!W16<>"",'7-4-1'!W16,"") -> 0.95533995 | F16: =IF(AND(ISNUMBER(E16),ISNUMBER(H16)),E16-H16,"") -> -3.6612026 | G16: 184.934 | H16: 4.6165426 | I16: =IF(AND(ISNUMBER(H16),ISNUMBER(K16)),H16-K16,"") -> 2.1165426 | J16: 102.75 | K16: 2.5 | L16: =K16-N16 -> 1 | M16: 75 | N16: 1.5 | O16: =N16-Q16 -> 0.1 | P16: 84 | Q16: 1.4 | R16: =Q16-T16 -> -0.039659489 | S16: 114.81625 | T16: =IF(ROUND(S18,0)=0,"",ROUND(S16,0)/ROUND(S18,0)*100) -> 1.4396595
C17: 特に考えていない | D17: =IF('7-4-1'!V17<>"",'7-4-1'!V17,"") -> 2049.2276 | E17: =IF('7-4-1'!W17<>"",'7-4-1'!W17,"") -> 59.012425 | F17: =IF(AND(ISNUMBER(E17),ISNUMBER(H17)),E17-H17,"") -> 2.6723712 | G17: 2256.9253 | H17: 56.340054 | I17: =IF(AND(ISNUMBER(H17),ISNUMBER(K17)),H17-K17,"") -> -6.7599462 | J17: 2627.14 | K17: 63.1 | L17: =K17-N17 -> 6.9 | M17: 2878 | N17: 56.2 | O17: =N17-Q17 -> -5.4 | P17: 3717 | Q17: 61.6 | R17: =Q17-T17 -> 20.713671 | S17: 3265.6819 | T17: =IF(ROUND(S18,0)=0,"",ROUND(S17,0)/ROUND(S18,0)*100) -> 40.886329
B18: 小 計 | D18: =IF('7-4-1'!V18<>"",'7-4-1'!V18,"") -> 3472.5358 | E18: =IF('7-4-1'!W18<>"",'7-4-1'!W18,"") -> 100 | F18: - | G18: 4005.8984 | H18: 100 | I18: - | J18: 4160.16 | K18: 100 | L18: - | M18: 5122 | N18: 100 | O18: - | P18: 6038 | Q18: 100 | R18: - | S18: 7988 | T18: =IF(ROUND(S18,0)=0,"",ROUND(S18,0)/ROUND(S18,0)*100) -> 100
A19: 土 木 | C19: 他社との協業化や業務提携、企業連携 | D19: =IF('7-4-1'!V19<>"",'7-4-1'!V19,"") -> 1944.2575 | E19: =IF('7-4-1'!W19<>"",'7-4-1'!W19,"") -> 6.185738 | F19: =IF(AND(ISNUMBER(E19),ISNUMBER(H19)),E19-H19,"") -> 1.5503452 | G19: 1736.8713 | H19: 4.6353928 | I19: =IF(AND(ISNUMBER(H19),ISNUMBER(K19)),H19-K19,"") -> -0.26460721 | J19: 1850.9 | K19: 4.9 | L19: =K19-N19 -> -0.1 | M19: 2393 | N19: 5 | O19: =N19-Q19 -> 0.6 | P19: 2618 | Q19: 4.4 | R19: =Q19-T19 -> -10.052135 | S19: 9750.9033 | T19: =IF(ROUND(S31,0)=0,"",ROUND(S19,0)/ROUND(S31,0)*100) -> 14.452135
C20: 他社との合併 | D20: =IF('7-4-1'!V20<>"",'7-4-1'!V20,"") -> 94.728521 | E20: =IF('7-4-1'!W20<>"",'7-4-1'!W20,"") -> 0.30138282 | F20: =IF(AND(ISNUMBER(E20),ISNUMBER(H20)),E20-H20,"") -> -0.33159678 | G20: 237.17604 | H20: 0.6329796 | I20: =IF(AND(ISNUMBER(H20),ISNUMBER(K20)),H20-K20,"") -> -0.067020396 | J20: 257 | K20: 0.7 | L20: =K20-N20 -> 0.3 | M20: 212 | N20: 0.4 | O20: =N20-Q20 -> -0.4 | P20: 465 | Q20: 0.8 | R20: =Q20-T20 -> -4.6126958 | S20: 3651.9675 | T20: =IF(ROUND(S31,0)=0,"",ROUND(S20,0)/ROUND(S31,0)*100) -> 5.4126958
C21: 特定部門の別法人化（分社化） | D21: =IF('7-4-1'!V21<>"",'7-4-1'!V21,"") -> 71.492896 | E21: =IF('7-4-1'!W21<>"",'7-4-1'!W21,"") -> 0.22745769 | F21: =IF(AND(ISNUMBER(E21),ISNUMBER(H21)),E21-H21,"") -> -0.67368382 | G21: 337.6557 | H21: 0.90114151 | I21: =IF(AND(ISNUMBER(H21),ISNUMBER(K21)),H21-K21,"") -> 0.70114151 | J21: 61.91 | K21: 0.2 | L21: =K21-N21 -> -0.9 | M21: 539 | N21: 1.1 | O21: =N21-Q21 -> 0.4 | P21: 436 | Q21: 0.7 | R21: =Q21-T21 -> -1.2134147 | S21: 1291.1785 | T21: =IF(ROUND(S31,0)=0,"",ROUND(S21,0)/ROUND(S31,0)*100) -> 1.9134147
C22: 協力会社の組織強化、協力会社への取込強化 | D22: =IF('7-4-1'!V22<>"",'7-4-1'!V22,"") -> 2607.0677 | E22: =IF('7-4-1'!W22<>"",'7-4-1'!W22,"") -> 8.2944968 | F22: =IF(AND(ISNUMBER(E22),ISNUMBER(H22)),E22-H22,"") -> 1.6889829 | G22: 2475.0713 | H22: 6.605514 | I22: =IF(AND(ISNUMBER(H22),ISNUMBER(K22)),H22-K22,"") -> 1.605514 | J22: 1903.53 | K22: 5 | L22: =K22-N22 -> -0.2 | M22: 2506 | N22: 5.2 | O22: =N22-Q22 -> 0.6 | P22: 2722 | Q22: 4.6 | R22: =Q22-T22 -> -6.1809281 | S22: 7273.7593 | T22: =IF(ROUND(S31,0)=0,"",ROUND(S22,0)/ROUND(S31,0)*100) -> 10.780928
C23: 持ち株会社化 | D23: =IF('7-4-1'!V23<>"",'7-4-1'!V23,"") -> 906.82907 | E23: =IF('7-4-1'!W23<>"",'7-4-1'!W23,"") -> 2.8851153 | F23: =IF(AND(ISNUMBER(E23),ISNUMBER(H23)),E23-H23,"") -> 1.3372123 | G23: 579.99576 | H23: 1.5479029 | I23: =IF(AND(ISNUMBER(H23),ISNUMBER(K23)),H23-K23,"") -> -0.65209706 | J23: 853.15 | K23: 2.2 | L23: =K23-N23 -> 0.6 | M23: 758 | N23: 1.6 | O23: =N23-Q23 -> 1.1 | P23: 293 | Q23: 0.5 | R23: =Q23-T23 -> -0.17732804 | S23: 457.31726 | T23: =IF(ROUND(S31,0)=0,"",ROUND(S23,0)/ROUND(S31,0)*100) -> 0.67732804
C24: アウトソーシング | D24: =IF('7-4-1'!V24<>"",'7-4-1'!V24,"") -> 771.72614 | E24: =IF('7-4-1'!W24<>"",'7-4-1'!W24,"") -> 2.4552796 | F24: =IF(AND(ISNUMBER(E24),ISNUMBER(H24)),E24-H24,"") -> 1.5729 | G24: 330.62566 | H24: 0.88237962 | I24: =IF(AND(ISNUMBER(H24),ISNUMBER(K24)),H24-K24,"") -> -0.41762038 | J24: 502.87 | K24: 1.3 | L24: =K24-N24 -> 0.3 | M24: 501 | N24: 1 | O24: =N24-Q24 -> 0 | P24: 618 | Q24: 1 | R24: =Q24-T24 -> -0.39022691 | S24: 937.55475 | T24: =IF(ROUND(S31,0)=0,"",ROUND(S24,0)/ROUND(S31,0)*100) -> 1.3902269
C25: 同業団体、協同組合等への加入（複数加入） | D25: =IF('7-4-1'!V25<>"",'7-4-1'!V25,"") -> 3566.2829 | E25: =IF('7-4-1'!W25<>"",'7-4-1'!W25,"") -> 11.346281 | F25: =IF(AND(ISNUMBER(E25),ISNUMBER(H25)),E25-H25,"") -> -3.2689187 | G25: 5476.2825 | H25: 14.6152 | I25: =IF(AND(ISNUMBER(H25),ISNUMBER(K25)),H25-K25,"") -> 0.61519958 | J25: 5290.94 | K25: 14 | L25: =K25-N25 -> -0.3 | M25: 6850 | N25: 14.3 | O25: =N25-Q25 -> 6 | P25: 4880 | Q25: 8.3 | R25: =Q25-T25 -> 4.2997629 | S25: 2698.533 | T25: =IF(ROUND(S31,0)=0,"",ROUND(S25,0)/ROUND(S31,0)*100) -> 4.0002371
C26: 社内の組織改編 | D26: =IF('7-4-1'!V26<>"",'7-4-1'!V26,"") -> 1279.2043 | E26: =IF('7-4-1'!W26<>"",'7-4-1'!W26,"") -> 4.069843 | F26: =IF(AND(ISNUMBER(E26),ISNUMBER(H26)),E26-H26,"") -> -1.082393 | G26: 1930.5313 | H26: 5.152236 | I26: =IF(AND(ISNUMBER(H26),ISNUMBER(K26)),H26-K26,"") -> 1.152236 | J26: 1506.57 | K26: 4 | L26: =K26-N26 -> -1.1 | M26: 2435 | N26: 5.1 | O26: =N26-Q26 -> -2.1 | P26: 4256 | Q26: 7.2 | R26: =Q26-T26 -> -15.698727 | S26: 15449.914 | T26: =IF(ROUND(S31,0)=0,"",ROUND(S26,0)/ROUND(S31,0)*100) -> 22.898727
C27: 技能労働者の直用化、常用化 | D27: =IF('7-4-1'!V27<>"",'7-4-1'!V27,"") -> 7389.9378 | E27: =IF('7-4-1'!W27<>"",'7-4-1'!W27,"") -> 23.511402 | F27: =IF(AND(ISNUMBER(E27),ISNUMBER(H27)),E27-H27,"") -> 0.44105752 | G27: 8644.4062 | H27: 23.070344 | I27: =IF(AND(ISNUMBER(H27),ISNUMBER(K27)),H27-K27,"") -> 0.57034408 | J27: 8545.91 | K27: 22.5 | L27: =K27-N27 -> 1.4 | M27: 10124 | N27: 21.1 | O27: =N27-Q27 -> 8.7 | P27: 7312 | Q27: 12.4 | R27: =Q27-T27 -> 1.8073009 | S27: 7146.689 | T27: =IF(ROUND(S31,0)=0,"",ROUND(S27,0)/ROUND(S31,0)*100) -> 10.592699
C28: 技能労働者の多能工化 | D28: =IF('7-4-1'!V28<>"",'7-4-1'!V28,"") -> 5080.4798 | E28: =IF('7-4-1'!W28<>"",'7-4-1'!W28,"") -> 16.163763 | F28: =IF(AND(ISNUMBER(E28),ISNUMBER(H28)),E28-H28,"") -> 1.5538846 | G28: 5474.2886 | H28: 14.609878 | I28: =IF(AND(ISNUMBER(H28),ISNUMBER(K28)),H28-K28,"") -> -0.090121717 | J28: 5585.03 | K28: 14.7 | L28: =K28-N28 -> 1.2 | M28: 6475 | N28: 13.5 | O28: =N28-Q28 -> 3.3 | P28: 6033 | Q28: 10.2 | R28: =Q28-T28 -> -8.6436513 | S28: 12713.718 | T28: =IF(ROUND(S31,0)=0,"",ROUND(S28,0)/ROUND(S31,0)*100) -> 18.843651
C29: 直用の技能労働者の独立支援 | D29: =IF('7-4-1'!V29<>"",'7-4-1'!V29,"") -> 518.77302 | E29: =IF('7-4-1'!W29<>"",'7-4-1'!W29,"") -> 1.6504985 | F29: =IF(AND(ISNUMBER(E29),ISNUMBER(H29)),E29-H29,"") -> -0.64422704 | G29: 859.8285 | H29: 2.2947255 | I29: =IF(AND(ISNUMBER(H29),ISNUMBER(K29)),H29-K29,"") -> -0.4052745 | J29: 1031.21 | K29: 2.7 | L29: =K29-N29 -> 0.5 | M29: 1038 | N29: 2.2 | O29: =N29-Q29 -> 0.9 | P29: 780 | Q29: 1.3 | R29: =Q29-T29 -> -0.86389264 | S29: 1459.8392 | T29: =IF(ROUND(S31,0)=0,"",ROUND(S29,0)/ROUND(S31,0)*100) -> 2.1638926
C30: 特に考えていない | D30: =IF('7-4-1'!V30<>"",'7-4-1'!V30,"") -> 20388.37 | E30: =IF('7-4-1'!W30<>"",'7-4-1'!W30,"") -> 64.866469 | F30: =IF(AND(ISNUMBER(E30),ISNUMBER(H30)),E30-H30,"") -> -0.18027361 | G30: 24372.868 | H30: 65.046742 | I30: =IF(AND(ISNUMBER(H30),ISNUMBER(K30)),H30-K30,"") -> 2.0467423 | J30: 23883.32 | K30: 63 | L30: =K30-N30 -> -3.1 | M30: 31695 | N30: 66.1 | O30: =N30-Q30 -> -4.2 | P30: 41378 | Q30: 70.3 | R30: =Q30-T30 -> 20.039888 | S30: 33910.707 | T30: =IF(ROUND(S31,0)=0,"",ROUND(S30,0)/ROUND(S31,0)*100) -> 50.260112
B31: 小 計 | D31: =IF('7-4-1'!V31<>"",'7-4-1'!V31,"") -> 31431.294 | E31: =IF('7-4-1'!W31<>"",'7-4-1'!W31,"") -> 100 | F31: - | G31: 37469.776 | H31: 100 | I31: - | J31: 37923.66 | K31: 100 | L31: - | M31: 47923 | N31: 100 | O31: - | P31: 58890 | Q31: 100 | R31: - | S31: 67471 | T31: =IF(ROUND(S31,0)=0,"",ROUND(S31,0)/ROUND(S31,0)*100) -> 100
A32: 建 築 | B32: 建 築 | C32: 他社との協業化や業務提携、企業連携 | D32: =IF('7-4-1'!V32<>"",'7-4-1'!V32,"") -> 1342.0949 | E32: =IF('7-4-1'!W32<>"",'7-4-1'!W32,"") -> 5.0738383 | F32: =IF(AND(ISNUMBER(E32),ISNUMBER(H32)),E32-H32,"") -> -1.2839376 | G32: 1977.1125 | H32: 6.3577759 | I32: =IF(AND(ISNUMBER(H32),ISNUMBER(K32)),H32-K32,"") -> 2.9577759 | J32: 1162.43 | K32: 3.4 | L32: =K32-N32 -> 1.4 | M32: 703 | N32: 2 | O32: =N32-Q32 -> -0.7 | P32: 1321 | Q32: 2.7 | R32: =Q32-T32 -> -5.764072 | S32: 4342.8032 | T32: =IF(ROUND(S44,0)=0,"",ROUND(S32,0)/ROUND(S44,0)*100) -> 8.464072
C33: 他社との合併 | D33: =IF('7-4-1'!V33<>"",'7-4-1'!V33,"") | E33: =IF('7-4-1'!W33<>"",'7-4-1'!W33,"") | F33: =IF(AND(ISNUMBER(E33),ISNUMBER(H33)),E33-H33,"") | G33: 1.9166667 | H33: 0.0061634011 | I33: =IF(AND(ISNUMBER(H33),ISNUMBER(K33)),H33-K33,"") -> -0.093836599 | J33: 19.64 | K33: 0.1 | L33: =K33-N33 -> -0.2 | M33: 102 | N33: 0.3 | O33: =N33-Q33 -> 0.2 | P33: 73 | Q33: 0.1 | R33: =Q33-T33 -> -1.8878778 | S33: 1019.5921 | T33: =IF(ROUND(S44,0)=0,"",ROUND(S33,0)/ROUND(S44,0)*100) -> 1.9878778
C34: 特定部門の別法人化（分社化） | D34: =IF('7-4-1'!V34<>"",'7-4-1'!V34,"") -> 413.09922 | E34: =IF('7-4-1'!W34<>"",'7-4-1'!W34,"") -> 1.5617366 | F34: =IF(AND(ISNUMBER(E34),ISNUMBER(H34)),E34-H34,"") -> 1.4321962 | G34: 40.283887 | H34: 0.12954039 | I34: =IF(AND(ISNUMBER(H34),ISNUMBER(K34)),H34-K34,"") -> -0.57045961 | J34: 223.55 | K34: 0.7 | L34: =K34-N34 -> 0.2 | M34: 182 | N34: 0.5 | O34: =N34-Q34 -> 0 | P34: 241 | Q34: 0.5 | R34: =Q34-T34 -> -1.1663094 | S34: 855.35303 | T34: =IF(ROUND(S44,0)=0,"",ROUND(S34,0)/ROUND(S44,0)*100) -> 1.6663094
C35: 協力会社の組織強化、協力会社への取込強化 | D35: =IF('7-4-1'!V35<>"",'7-4-1'!V35,"") -> 2198.7221 | E35: =IF('7-4-1'!W35<>"",'7-4-1'!W35,"") -> 8.3123483 | F35: =IF(AND(ISNUMBER(E35),ISNUMBER(H35)),E35-H35,"") -> -0.31912449 | G35: 2684.1765 | H35: 8.6314728 | I35: =IF(AND(ISNUMBER(H35),ISNUMBER(K35)),H35-K35,"") -> 1.4314728 | J35: 2463.95 | K35: 7.2 | L35: =K35-N35 -> -0.4 | M35: 2738 | N35: 7.6 | O35: =N35-Q35 -> 3.7 | P35: 1911 | Q35: 3.9 | R35: =Q35-T35 -> -3.162813 | S35: 3623.5552 | T35: =IF(ROUND(S44,0)=0,"",ROUND(S35,0)/ROUND(S44,0)*100) -> 7.062813
C36: 持ち株会社化 | D36: =IF('7-4-1'!V36<>"",'7-4-1'!V36,"") -> 1019.7521 | E36: =IF('7-4-1'!W36<>"",'7-4-1'!W36,"") -> 3.8552095 | F36: =IF(AND(ISNUMBER(E36),ISNUMBER(H36)),E36-H36,"") -> 1.6293806 | G36: 692.17823 | H36: 2.2258289 | I36: =IF(AND(ISNUMBER(H36),ISNUMBER(K36)),H36-K36,"") -> 0.92582891 | J36: 454.37 | K36: 1.3 | L36: =K36-N36 -> 0 | M36: 474 | N36: 1.3 | O36: =N36-Q36 -> 1 | P36: 131 | Q36: 0.3 | R36: =Q36-T36 -> -0.22425406 | S36: 269.00549 | T36: =IF(ROUND(S44,0)=0,"",ROUND(S36,0)/ROUND(S44,0)*100) -> 0.52425406
C37: アウトソーシング | D37: =IF('7-4-1'!V37<>"",'7-4-1'!V37,"") -> 311.42191 | E37: =IF('7-4-1'!W37<>"",'7-4-1'!W37,"") -> 1.1773418 | F37: =IF(AND(ISNUMBER(E37),ISNUMBER(H37)),E37-H37,"") -> -1.4630812 | G37: 821.10682 | H37: 2.640423 | I37: =IF(AND(ISNUMBER(H37),ISNUMBER(K37)),H37-K37,"") -> 1.640423 | J37: 331.46 | K37: 1 | L37: =K37-N37 -> 0.2 | M37: 290 | N37: 0.8 | O37: =N37-Q37 -> -0.5 | P37: 654 | Q37: 1.3 | R37: =Q37-T37 -> -1.132227 | S37: 1247.9843 | T37: =IF(ROUND(S44,0)=0,"",ROUND(S37,0)/ROUND(S44,0)*100) -> 2.432227
C38: 同業団体、協同組合等への加入（複数加入） | D38: =IF('7-4-1'!V38<>"",'7-4-1'!V38,"") -> 1795.7233 | E38: =IF('7-4-1'!W38<>"",'7-4-1'!W38,"") -> 6.7887968 | F38: =IF(AND(ISNUMBER(E38),ISNUMBER(H38)),E38-H38,"") -> -2.6793535 | G38: 2944.3627 | H38: 9.4681503 | I38: =IF(AND(ISNUMBER(H38),ISNUMBER(K38)),H38-K38,"") -> 0.86815029 | J38: 2938.5 | K38: 8.6 | L38: =K38-N38 -> -0.6 | M38: 3333 | N38: 9.2 | O38: =N38-Q38 -> 2.9 | P38: 3059 | Q38: 6.3 | R38: =Q38-T38 -> 3.6163649 | S38: 1376.6349 | T38: =IF(ROUND(S44,0)=0,"",ROUND(S38,0)/ROUND(S44,0)*100) -> 2.6836351
C39: 社内の組織改編 | D39: =IF('7-4-1'!V39<>"",'7-4-1'!V39,"") -> 911.30066 | E39: =IF('7-4-1'!W39<>"",'7-4-1'!W39,"") -> 3.4452051 | F39: =IF(AND(ISNUMBER(E39),ISNUMBER(H39)),E39-H39,"") -> 0.074941272 | G39: 1048.0694 | H39: 3.3702638 | I39: =IF(AND(ISNUMBER(H39),ISNUMBER(K39)),H39-K39,"") -> 0.67026385 | J39: 922.82 | K39: 2.7 | L39: =K39-N39 -> -3.1 | M39: 2101 | N39: 5.8 | O39: =N39-Q39 -> 0.4 | P39: 2612 | Q39: 5.4 | R39: =Q39-T39 -> -8.6808014 | S39: 7225.0605 | T39: =IF(ROUND(S44,0)=0,"",ROUND(S39,0)/ROUND(S44,0)*100) -> 14.080801
C40: 技能労働者の直用化、常用化 | D40: =IF('7-4-1'!V40<>"",'7-4-1'!V40,"") -> 3329.5523 | E40: =IF('7-4-1'!W40<>"",'7-4-1'!W40,"") -> 12.587493 | F40: =IF(AND(ISNUMBER(E40),ISNUMBER(H40)),E40-H40,"") -> 2.0920048 | G40: 3263.8395 | H40: 10.495488 | I40: =IF(AND(ISNUMBER(H40),ISNUMBER(K40)),H40-K40,"") -> -0.80451191 | J40: 3852.87 | K40: 11.3 | L40: =K40-N40 -> -2.2 | M40: 4881 | N40: 13.5 | O40: =N40-Q40 -> 7.9 | P40: 2729 | Q40: 5.6 | R40: =Q40-T40 -> -0.41040713 | S40: 3083.6001 | T40: =IF(ROUND(S44,0)=0,"",ROUND(S40,0)/ROUND(S44,0)*100) -> 6.0104071
C41: 技能労働者の多能工化 | D41: =IF('7-4-1'!V41<>"",'7-4-1'!V41,"") -> 2312.5841 | E41: =IF('7-4-1'!W41<>"",'7-4-1'!W41,"") -> 8.7428079 | F41: =IF(AND(ISNUMBER(E41),ISNUMBER(H41)),E41-H41,"") -> 0.75285562 | G41: 2484.6793 | H41: 7.9899522 | I41: =IF(AND(ISNUMBER(H41),ISNUMBER(K41)),H41-K41,"") -> 2.3899522 | J41: 1909.82 | K41: 5.6 | L41: =K41-N41 -> -5.9 | M41: 4159 | N41: 11.5 | O41: =N41-Q41 -> 5.2 | P41: 3055 | Q41: 6.3 | R41: =Q41-T41 -> -5.2296915 | S41: 5916.4438 | T41: =IF(ROUND(S44,0)=0,"",ROUND(S41,0)/ROUND(S44,0)*100) -> 11.529691
C42: 直用の技能労働者の独立支援 | D42: =IF('7-4-1'!V42<>"",'7-4-1'!V42,"") -> 1212.9127 | E42: =IF('7-4-1'!W42<>"",'7-4-1'!W42,"") -> 4.5854602 | F42: =IF(AND(ISNUMBER(E42),ISNUMBER(H42)),E42-H42,"") -> 2.0383722 | G42: 792.08194 | H42: 2.547088 | I42: =IF(AND(ISNUMBER(H42),ISNUMBER(K42)),H42-K42,"") -> 0.647088 | J42: 652.98 | K42: 1.9 | L42: =K42-N42 -> -0.1 | M42: 735 | N42: 2 | O42: =N42-Q42 -> 0.8 | P42: 607 | Q42: 1.2 | R42: =Q42-T42 -> -3.8632418 | S42: 2597.9419 | T42: =IF(ROUND(S44,0)=0,"",ROUND(S42,0)/ROUND(S44,0)*100) -> 5.0632418
C43: 特に考えていない | D43: =IF('7-4-1'!V43<>"",'7-4-1'!V43,"") -> 19467.102 | E43: =IF('7-4-1'!W43<>"",'7-4-1'!W43,"") -> 73.596085 | F43: =IF(AND(ISNUMBER(E43),ISNUMBER(H43)),E43-H43,"") -> 0.61813677 | G43: 22694.353 | H43: 72.977948 | I43: =IF(AND(ISNUMBER(H43),ISNUMBER(K43)),H43-K43,"") -> -0.72205172 | J43: 25207.82 | K43: 73.7 | L43: =K43-N43 -> 2.3 | M43: 25753 | N43: 71.4 | O43: =N43-Q43 -> -7.8 | P43: 38538 | Q43: 79.2 | R43: =Q43-T43 -> 16.342133 | S43: 32252.561 | T43: =IF(ROUND(S44,0)=0,"",ROUND(S43,0)/ROUND(S44,0)*100) -> 62.857867
B44: 小 計 | D44: =IF('7-4-1'!V44<>"",'7-4-1'!V44,"") -> 26451.274 | E44: =IF('7-4-1'!W44<>"",'7-4-1'!W44,"") -> 100 | F44: - | G44: 31097.549 | H44: 100 | I44: - | J44: 34221.43 | K44: 100 | L44: - | M44: 36048 | N44: 100 | O44: - | P44: 48685 | Q44: 100 | R44: - | S44: 51311 | T44: =IF(ROUND(S44,0)=0,"",ROUND(S44,0)/ROUND(S44,0)*100) -> 100
B45: 木 造 建 築 | C45: 他社との協業化や業務提携、企業連携 | D45: =IF('7-4-1'!V45<>"",'7-4-1'!V45,"") -> 401.60695 | E45: =IF('7-4-1'!W45<>"",'7-4-1'!W45,"") -> 4.0056906 | F45: =IF(AND(ISNUMBER(E45),ISNUMBER(H45)),E45-H45,"") -> -0.61878258 | G45: 702.39237 | H45: 4.6244732 | I45: =IF(AND(ISNUMBER(H45),ISNUMBER(K45)),H45-K45,"") -> 2.0244732 | J45: 326.03 | K45: 2.6 | L45: =K45-N45 -> 0 | M45: 440 | N45: 2.6 | O45: =N45-Q45 -> -0.3 | P45: 621 | Q45: 2.9 | R45: =Q45-T45 -> -1.6480456 | S45: 1116.9528 | T45: =IF(ROUND(S57,0)=0,"",ROUND(S45,0)/ROUND(S57,0)*100) -> 4.5480456
C46: 他社との合併 | D46: =IF('7-4-1'!V46<>"",'7-4-1'!V46,"") -> 4.25 | E46: =IF('7-4-1'!W46<>"",'7-4-1'!W46,"") -> 0.042390165 | F46: =IF(AND(ISNUMBER(E46),ISNUMBER(H46)),E46-H46,"") -> 0.010542518 | G46: 4.8372093 | H46: 0.031847648 | I46: =IF(AND(ISNUMBER(H46),ISNUMBER(K46)),H46-K46,"") | P46: 11 | Q46: 0.1 | R46: =Q46-T46 -> -0.73061889 | S46: 203.66534 | T46: =IF(ROUND(S57,0)=0,"",ROUND(S46,0)/ROUND(S57,0)*100) -> 0.83061889
C47: 特定部門の別法人化（分社化） | D47: =IF('7-4-1'!V47<>"",'7-4-1'!V47,"") -> 57.4439 | E47: =IF('7-4-1'!W47<>"",'7-4-1'!W47,"") -> 0.57295445 | F47: =IF(AND(ISNUMBER(E47),ISNUMBER(H47)),E47-H47,"") -> -0.20470963 | G47: 118.11622 | H47: 0.77766408 | I47: =IF(AND(ISNUMBER(H47),ISNUMBER(K47)),H47-K47,"") -> 0.67766408 | J47: 8.49 | K47: 0.1 | L47: =K47-N47 -> -0.5 | M47: 94 | N47: 0.6 | O47: =N47-Q47 -> 0.4 | P47: 49 | Q47: 0.2 | R47: =Q47-T47 -> -0.52068404 | S47: 177.00352 | T47: =IF(ROUND(S57,0)=0,"",ROUND(S47,0)/ROUND(S57,0)*100) -> 0.72068404
C48: 協力会社の組織強化、協力会社への取込強化 | D48: =IF('7-4-1'!V48<>"",'7-4-1'!V48,"") -> 356.49138 | E48: =IF('7-4-1'!W48<>"",'7-4-1'!W48,"") -> 3.5557009 | F48: =IF(AND(ISNUMBER(E48),ISNUMBER(H48)),E48-H48,"") -> -1.9414075 | G48: 834.93336 | H48: 5.4971084 | I48: =IF(AND(ISNUMBER(H48),ISNUMBER(K48)),H48-K48,"") -> 0.79710837 | J48: 584.63 | K48: 4.7 | L48: =K48-N48 -> 1.4 | M48: 557 | N48: 3.3 | O48: =N48-Q48 -> 0.3 | P48: 639 | Q48: 3 | R48: =Q48-T48 -> 0.003257329 | S48: 736.0191 | T48: =IF(ROUND(S57,0)=0,"",ROUND(S48,0)/ROUND(S57,0)*100) -> 2.9967427
C49: 持ち株会社化 | D49: =IF('7-4-1'!V49<>"",'7-4-1'!V49,"") -> 26.685185 | E49: =IF('7-4-1'!W49<>"",'7-4-1'!W49,"") -> 0.26616222 | F49: =IF(AND(ISNUMBER(E49),ISNUMBER(H49)),E49-H49,"") -> -1.1177309 | G49: 210.19388 | H49: 1.3838931 | I49: =IF(AND(ISNUMBER(H49),ISNUMBER(K49)),H49-K49,"") -> 0.2838931 | J49: 138.28 | K49: 1.1 | L49: =K49-N49 -> 0.4 | M49: 117 | N49: 0.7 | O49: =N49-Q49 -> 0.6 | P49: 20 | Q49: 0.1 | R49: =Q49-T49 -> -0.33566775 | S49: 107.11891 | T49: =IF(ROUND(S57,0)=0,"",ROUND(S49,0)/ROUND(S57,0)*100) -> 0.43566775
C50: アウトソーシング | D50: =IF('7-4-1'!V50<>"",'7-4-1'!V50,"") -> 85.332244 | E50: =IF('7-4-1'!W50<>"",'7-4-1'!W50,"") -> 0.85111716 | F50: =IF(AND(ISNUMBER(E50),ISNUMBER(H50)),E50-H50,"") -> 0.43065205 | G50: 63.86273 | H50: 0.42046511 | I50: =IF(AND(ISNUMBER(H50),ISNUMBER(K50)),H50-K50,"") -> -0.27953489 | J50: 86.54 | K50: 0.7 | L50: =K50-N50 -> -0.9 | M50: 268 | N50: 1.6 | O50: =N50-Q50 -> 1.3 | P50: 67 | Q50: 0.3 | R50: =Q50-T50 -> -0.18859935 | S50: 119.76183 | T50: =IF(ROUND(S57,0)=0,"",ROUND(S50,0)/ROUND(S57,0)*100) -> 0.48859935
C51: 同業団体、協同組合等への加入（複数加入） | D51: =IF('7-4-1'!V51<>"",'7-4-1'!V51,"") -> 521.6331 | E51: =IF('7-4-1'!W51<>"",'7-4-1'!W51,"") -> 5.2028502 | F51: =IF(AND(ISNUMBER(E51),ISNUMBER(H51)),E51-H51,"") -> -2.4621499 | G51: 1164.2056 | H51: 7.665 | I51: =IF(AND(ISNUMBER(H51),ISNUMBER(K51)),H51-K51,"") -> 0.46500003 | J51: 908.12 | K51: 7.2 | L51: =K51-N51 -> -0.4 | M51: 1279 | N51: 7.6 | O51: =N51-Q51 -> 1.3 | P51: 1346 | Q51: 6.3 | R51: =Q51-T51 -> 3.8081433 | S51: 611.61371 | T51: =IF(ROUND(S57,0)=0,"",ROUND(S51,0)/ROUND(S57,0)*100) -> 2.4918567
C52: 社内の組織改編 | D52: =IF('7-4-1'!V52<>"",'7-4-1'!V52,"") -> 282.84433 | E52: =IF('7-4-1'!W52<>"",'7-4-1'!W52,"") -> 2.8211336 | F52: =IF(AND(ISNUMBER(E52),ISNUMBER(H52)),E52-H52,"") -> 0.83291911 | G52: 301.98179 | H52: 1.9882145 | I52: =IF(AND(ISNUMBER(H52),ISNUMBER(K52)),H52-K52,"") -> -0.81178552 | J52: 357.5 | K52: 2.8 | L52: =K52-N52 -> 0.2 | M52: 443 | N52: 2.6 | O52: =N52-Q52 -> 0.2 | P52: 505 | Q52: 2.4 | R52: =Q52-T52 -> -4.0210098 | S52: 1577.175 | T52: =IF(ROUND(S57,0)=0,"",ROUND(S52,0)/ROUND(S57,0)*100) -> 6.4210098
C53: 技能労働者の直用化、常用化 | D53: =IF('7-4-1'!V53<>"",'7-4-1'!V53,"") -> 466.76753 | E53: =IF('7-4-1'!W53<>"",'7-4-1'!W53,"") -> 4.6556124 | F53: =IF(AND(ISNUMBER(E53),ISNUMBER(H53)),E53-H53,"") -> -5.2695363 | G53: 1507.4903 | H53: 9.9251487 | I53: =IF(AND(ISNUMBER(H53),ISNUMBER(K53)),H53-K53,"") -> -0.5748513 | J53: 1317.16 | K53: 10.5 | L53: =K53-N53 -> 1.2 | M53: 1571 | N53: 9.3 | O53: =N53-Q53 -> 2.9 | P53: 1364 | Q53: 6.4 | R53: =Q53-T53 -> 0.85846906 | S53: 1360.937 | T53: =IF(ROUND(S57,0)=0,"",ROUND(S53,0)/ROUND(S57,0)*100) -> 5.5415309
C54: 技能労働者の多能工化 | D54: =IF('7-4-1'!V54<>"",'7-4-1'!V54,"") -> 300.66786 | E54: =IF('7-4-1'!W54<>"",'7-4-1'!W54,"") -> 2.9989083 | F54: =IF(AND(ISNUMBER(E54),ISNUMBER(H54)),E54-H54,"") -> -2.2895409 | G54: 803.24097 | H54: 5.2884492 | I54: =IF(AND(ISNUMBER(H54),ISNUMBER(K54)),H54-K54,"") -> -0.91155079 | J54: 777.78 | K54: 6.2 | L54: =K54-N54 -> 2.6 | M54: 605 | N54: 3.6 | O54: =N54-Q54 -> 0.8 | P54: 586 | Q54: 2.8 | R54: =Q54-T54 -> -3.0713355 | S54: 1441.5798 | T54: =IF(ROUND(S57,0)=0,"",ROUND(S54,0)/ROUND(S57,0)*100) -> 5.8713355
C55: 直用の技能労働者の独立支援 | D55: =IF('7-4-1'!V55<>"",'7-4-1'!V55,"") -> 161.25337 | E55: =IF('7-4-1'!W55<>"",'7-4-1'!W55,"") -> 1.6083663 | F55: =IF(AND(ISNUMBER(E55),ISNUMBER(H55)),E55-H55,"") -> -0.53210046 | G55: 325.10677 | H55: 2.1404668 | I55: =IF(AND(ISNUMBER(H55),ISNUMBER(K55)),H55-K55,"") -> 0.3404668 | J55: 228.3 | K55: 1.8 | L55: =K55-N55 -> 1 | M55: 131 | N55: 0.8 | O55: =N55-Q55 -> -1.5 | P55: 499 | Q55: 2.3 | R55: =Q55-T55 -> 0.34153094 | S55: 481.41245 | T55: =IF(ROUND(S57,0)=0,"",ROUND(S55,0)/ROUND(S57,0)*100) -> 1.9584691
C56: 特に考えていない | D56: =IF('7-4-1'!V56<>"",'7-4-1'!V56,"") -> 8503.4235 | E56: =IF('7-4-1'!W56<>"",'7-4-1'!W56,"") -> 84.814477 | F56: =IF(AND(ISNUMBER(E56),ISNUMBER(H56)),E56-H56,"") -> 9.755501 | G56: 11400.402 | H56: 75.058976 | I56: =IF(AND(ISNUMBER(H56),ISNUMBER(K56)),H56-K56,"") -> -6.2410235 | J56: 10217.21 | K56: 81.3 | L56: =K56-N56 -> 3.4 | M56: 13116 | N56: 77.9 | O56: =N56-Q56 -> -2.7 | P56: 17116 | Q56: 80.6 | R56: =Q56-T56 -> -0.95537459 | S56: 20030.039 | T56: =IF(ROUND(S57,0)=0,"",ROUND(S56,0)/ROUND(S57,0)*100) -> 81.555375
B57: 小 計 | D57: =IF('7-4-1'!V57<>"",'7-4-1'!V57,"") -> 10025.91 | E57: =IF('7-4-1'!W57<>"",'7-4-1'!W57,"") -> 100 | F57: - | G57: 15188.592 | H57: 100 | I57: - | J57: 12567.7 | K57: 100 | L57: - | M57: 16842 | N57: 100 | O57: - | P57: 21233 | Q57: 100 | R57: - | S57: 24560 | T57: =IF(ROUND(S57,0)=0,"",ROUND(S57,0)/ROUND(S57,0)*100) -> 100
A58: 小 計 | C58: 他社との協業化や業務提携、企業連携 | D58: =IF('7-4-1'!V58<>"",'7-4-1'!V58,"") -> 1743.7018 | E58: =IF('7-4-1'!W58<>"",'7-4-1'!W58,"") -> 4.7802533 | F58: =IF(AND(ISNUMBER(E58),ISNUMBER(H58)),E58-H58,"") -> -1.008747 | G58: 2679.5048 | H58: 5.7890003 | I58: =IF(AND(ISNUMBER(H58),ISNUMBER(K58)),H58-K58,"") -> 2.5890003 | J58: 1488.46 | K58: 3.2 | L58: =K58-N58 -> 1 | M58: 1143 | N58: 2.2 | O58: =N58-Q58 -> -0.6 | P58: 1942 | Q58: 2.8 | R58: =Q58-T58 -> -4.3964255 | S58: 5459.7559 | T58: =IF(ROUND(S70,0)=0,"",ROUND(S58,0)/ROUND(S70,0)*100) -> 7.1964255
C59: 他社との合併 | D59: =IF('7-4-1'!V59<>"",'7-4-1'!V59,"") -> 4.25 | E59: =IF('7-4-1'!W59<>"",'7-4-1'!W59,"") -> 0.011651118 | F59: =IF(AND(ISNUMBER(E59),ISNUMBER(H59)),E59-H59,"") -> -0.0029404544 | G59: 6.753876 | H59: 0.014591573 | I59: =IF(AND(ISNUMBER(H59),ISNUMBER(K59)),H59-K59,"") -> 0.014591573 | J59: 19.64 | K59: 0 | L59: =K59-N59 -> -0.2 | M59: 102 | N59: 0.2 | O59: =N59-Q59 -> 0.1 | P59: 84 | Q59: 0.1 | R59: =Q59-T59 -> -1.5119466 | S59: 1223.2574 | T59: =IF(ROUND(S70,0)=0,"",ROUND(S59,0)/ROUND(S70,0)*100) -> 1.6119466
C60: 特定部門の別法人化（分社化） | D60: =IF('7-4-1'!V60<>"",'7-4-1'!V60,"") -> 470.54312 | E60: =IF('7-4-1'!W60<>"",'7-4-1'!W60,"") -> 1.2899656 | F60: =IF(AND(ISNUMBER(E60),ISNUMBER(H60)),E60-H60,"") -> 0.94774626 | G60: 158.40011 | H60: 0.34221931 | I60: =IF(AND(ISNUMBER(H60),ISNUMBER(K60)),H60-K60,"") -> -0.15778069 | J60: 232.04 | K60: 0.5 | L60: =K60-N60 -> 0 | M60: 275 | N60: 0.5 | O60: =N60-Q60 -> 0.1 | P60: 289 | Q60: 0.4 | R60: =Q60-T60 -> -0.9602035 | S60: 1032.3566 | T60: =IF(ROUND(S70,0)=0,"",ROUND(S60,0)/ROUND(S70,0)*100) -> 1.3602035
C61: 協力会社の組織強化、協力会社への取込強化 | D61: =IF('7-4-1'!V61<>"",'7-4-1'!V61,"") -> 2555.2134 | E61: =IF('7-4-1'!W61<>"",'7-4-1'!W61,"") -> 7.0049634 | F61: =IF(AND(ISNUMBER(E61),ISNUMBER(H61)),E61-H61,"") -> -0.5979816 | G61: 3519.1098 | H61: 7.602945 | I61: =IF(AND(ISNUMBER(H61),ISNUMBER(K61)),H61-K61,"") -> 1.102945 | J61: 3048.58 | K61: 6.5 | L61: =K61-N61 -> 0.3 | M61: 3295 | N61: 6.2 | O61: =N61-Q61 -> 2.6 | P61: 2550 | Q61: 3.6 | R61: =Q61-T61 -> -2.1465962 | S61: 4359.5742 | T61: =IF(ROUND(S70,0)=0,"",ROUND(S61,0)/ROUND(S70,0)*100) -> 5.7465962
C62: 持ち株会社化 | D62: =IF('7-4-1'!V62<>"",'7-4-1'!V62,"") -> 1046.4372 | E62: =IF('7-4-1'!W62<>"",'7-4-1'!W62,"") -> 2.8687445 | F62: =IF(AND(ISNUMBER(E62),ISNUMBER(H62)),E62-H62,"") -> 0.9191931 | G62: 902.37211 | H62: 1.9495514 | I62: =IF(AND(ISNUMBER(H62),ISNUMBER(K62)),H62-K62,"") -> 0.64955141 | J62: 592.65 | K62: 1.3 | L62: =K62-N62 -> 0.2 | M62: 591 | N62: 1.1 | O62: =N62-Q62 -> 0.9 | P62: 151 | Q62: 0.2 | R62: =Q62-T62 -> -0.29557802 | S62: 376.12439 | T62: =IF(ROUND(S70,0)=0,"",ROUND(S62,0)/ROUND(S70,0)*100) -> 0.49557802
C63: アウトソーシング | D63: =IF('7-4-1'!V63<>"",'7-4-1'!V63,"") -> 396.75415 | E63: =IF('7-4-1'!W63<>"",'7-4-1'!W63,"") -> 1.0876776 | F63: =IF(AND(ISNUMBER(E63),ISNUMBER(H63)),E63-H63,"") -> -0.82427607 | G63: 884.96955 | H63: 1.9119536 | I63: =IF(AND(ISNUMBER(H63),ISNUMBER(K63)),H63-K63,"") -> 1.0119536 | J63: 418.01 | K63: 0.9 | L63: =K63-N63 -> -0.2 | M63: 558 | N63: 1.1 | O63: =N63-Q63 -> 0.1 | P63: 721 | Q63: 1 | R63: =Q63-T63 -> -0.80306046 | S63: 1367.7461 | T63: =IF(ROUND(S70,0)=0,"",ROUND(S63,0)/ROUND(S70,0)*100) -> 1.8030605
C64: 同業団体、協同組合等への加入（複数加入） | D64: =IF('7-4-1'!V64<>"",'7-4-1'!V64,"") -> 2317.3564 | E64: =IF('7-4-1'!W64<>"",'7-4-1'!W64,"") -> 6.3528926 | F64: =IF(AND(ISNUMBER(E64),ISNUMBER(H64)),E64-H64,"") -> -2.523562 | G64: 4108.5682 | H64: 8.8764545 | I64: =IF(AND(ISNUMBER(H64),ISNUMBER(K64)),H64-K64,"") -> 0.67645452 | J64: 3846.61 | K64: 8.2 | L64: =K64-N64 -> -0.5 | M64: 4612 | N64: 8.7 | O64: =N64-Q64 -> 2.4 | P64: 4405 | Q64: 6.3 | R64: =Q64-T64 -> 3.679763 | S64: 1988.2485 | T64: =IF(ROUND(S70,0)=0,"",ROUND(S64,0)/ROUND(S70,0)*100) -> 2.620237
C65: 社内の組織改編 | D65: =IF('7-4-1'!V65<>"",'7-4-1'!V65,"") -> 1194.145 | E65: =IF('7-4-1'!W65<>"",'7-4-1'!W65,"") -> 3.2736764 | F65: =IF(AND(ISNUMBER(E65),ISNUMBER(H65)),E65-H65,"") -> 0.35692591 | G65: 1350.0512 | H65: 2.9167505 | I65: =IF(AND(ISNUMBER(H65),ISNUMBER(K65)),H65-K65,"") -> 0.21675047 | J65: 1280.33 | K65: 2.7 | L65: =K65-N65 -> -2.1 | M65: 2545 | N65: 4.8 | O65: =N65-Q65 -> 0.3 | P65: 3117 | Q65: 4.5 | R65: =Q65-T65 -> -7.1012706 | S65: 8802.2354 | T65: =IF(ROUND(S70,0)=0,"",ROUND(S65,0)/ROUND(S70,0)*100) -> 11.601271
C66: 技能労働者の直用化、常用化 | D66: =IF('7-4-1'!V66<>"",'7-4-1'!V66,"") -> 3796.3198 | E66: =IF('7-4-1'!W66<>"",'7-4-1'!W66,"") -> 10.407382 | F66: =IF(AND(ISNUMBER(E66),ISNUMBER(H66)),E66-H66,"") -> 0.099047873 | G66: 4771.3299 | H66: 10.308334 | I66: =IF(AND(ISNUMBER(H66),ISNUMBER(K66)),H66-K66,"") -> -0.69166625 | J66: 5170.03 | K66: 11 | L66: =K66-N66 -> -1.2 | M66: 6452 | N66: 12.2 | O66: =N66-Q66 -> 6.3 | P66: 4092 | Q66: 5.9 | R66: =Q66-T66 -> 0.041371539 | S66: 4444.5371 | T66: =IF(ROUND(S70,0)=0,"",ROUND(S66,0)/ROUND(S70,0)*100) -> 5.8586285
C67: 技能労働者の多能工化 | D67: =IF('7-4-1'!V67<>"",'7-4-1'!V67,"") -> 2613.252 | E67: =IF('7-4-1'!W67<>"",'7-4-1'!W67,"") -> 7.1640725 | F67: =IF(AND(ISNUMBER(E67),ISNUMBER(H67)),E67-H67,"") -> 0.060606476 | G67: 3287.9203 | H67: 7.103466 | I67: =IF(AND(ISNUMBER(H67),ISNUMBER(K67)),H67-K67,"") -> 1.403466 | J67: 2687.6 | K67: 5.7 | L67: =K67-N67 -> -3.3 | M67: 4764 | N67: 9 | O67: =N67-Q67 -> 3.8 | P67: 3641 | Q67: 5.2 | R67: =Q67-T67 -> -4.4980401 | S67: 7358.0234 | T67: =IF(ROUND(S70,0)=0,"",ROUND(S67,0)/ROUND(S70,0)*100) -> 9.6980401
C68: 直用の技能労働者の独立支援 | D68: =IF('7-4-1'!V68<>"",'7-4-1'!V68,"") -> 1374.166 | E68: =IF('7-4-1'!W68<>"",'7-4-1'!W68,"") -> 3.7671932 | F68: =IF(AND(ISNUMBER(E68),ISNUMBER(H68)),E68-H68,"") -> 1.3535362 | G68: 1117.1887 | H68: 2.4136571 | I68: =IF(AND(ISNUMBER(H68),ISNUMBER(K68)),H68-K68,"") -> 0.51365705 | J68: 881.28 | K68: 1.9 | L68: =K68-N68 -> 0.3 | M68: 866 | N68: 1.6 | O68: =N68-Q68 -> 0 | P68: 1106 | Q68: 1.6 | R68: =Q68-T68 -> -2.4582041 | S68: 3079.3545 | T68: =IF(ROUND(S70,0)=0,"",ROUND(S68,0)/ROUND(S70,0)*100) -> 4.0582041
C69: 特に考えていない | D69: =IF('7-4-1'!V69<>"",'7-4-1'!V69,"") -> 27970.526 | E69: =IF('7-4-1'!W69<>"",'7-4-1'!W69,"") -> 76.679508 | F69: =IF(AND(ISNUMBER(E69),ISNUMBER(H69)),E69-H69,"") -> 3.0186798 | G69: 34094.755 | H69: 73.660828 | I69: =IF(AND(ISNUMBER(H69),ISNUMBER(K69)),H69-K69,"") -> -2.0391715 | J69: 35425.03 | K69: 75.7 | L69: =K69-N69 -> 2.2 | M69: 38868 | N69: 73.5 | O69: =N69-Q69 -> -6.1 | P69: 55654 | Q69: 79.6 | R69: =Q69-T69 -> 10.689613 | S69: 52282.598 | T69: =IF(ROUND(S70,0)=0,"",ROUND(S69,0)/ROUND(S70,0)*100) -> 68.910387
A70: 小 計 | D70: =IF('7-4-1'!V70<>"",'7-4-1'!V70,"") -> 36477.185 | E70: =IF('7-4-1'!W70<>"",'7-4-1'!W70,"") -> 100 | F70: - | G70: 46286.141 | H70: 100 | I70: - | J70: 46789.14 | K70: 100 | L70: - | M70: 52890 | N70: 100 | O70: - | P70: 69918 | Q70: 100 | R70: - | S70: 75871 | T70: =IF(ROUND(S70,0)=0,"",ROUND(S70,0)/ROUND(S70,0)*100) -> 100
A71: 職 別 | B71: 躯 体 関 係 計 | C71: 他社との協業化や業務提携、企業連携 | D71: =IF('7-4-1'!V71<>"",'7-4-1'!V71,"") -> 1050.4417 | E71: =IF('7-4-1'!W71<>"",'7-4-1'!W71,"") -> 5.8166135 | F71: =IF(AND(ISNUMBER(E71),ISNUMBER(H71)),E71-H71,"") -> 1.2228658 | G71: 860.0399 | H71: 4.5937477 | I71: =IF(AND(ISNUMBER(H71),ISNUMBER(K71)),H71-K71,"") -> -1.4062523 | J71: 978.99 | K71: 6 | L71: =K71-N71 -> 1.6 | M71: 816 | N71: 4.4 | O71: =N71-Q71 -> 0.1 | P71: 828 | Q71: 4.3 | R71: =Q71-T71 -> -0.90829092 | S71: 1278.7146 | T71: =IF(ROUND(S83,0)=0,"",ROUND(S71,0)/ROUND(S83,0)*100) -> 5.2082909
C72: 他社との合併 | D72: =IF('7-4-1'!V72<>"",'7-4-1'!V72,"") -> 23.401324 | E72: =IF('7-4-1'!W72<>"",'7-4-1'!W72,"") -> 0.12958021 | F72: =IF(AND(ISNUMBER(E72),ISNUMBER(H72)),E72-H72,"") -> -0.34414987 | G72: 88.691587 | H72: 0.47373008 | I72: =IF(AND(ISNUMBER(H72),ISNUMBER(K72)),H72-K72,"") -> -0.42626992 | J72: 143.58 | K72: 0.9 | L72: =K72-N72 -> 0.8 | M72: 16 | N72: 0.1 | O72: =N72-Q72 -> 0 | P72: 15 | Q72: 0.1 | R72: =Q72-T72 -> -1.1949465 | S72: 318.40582 | T72: =IF(ROUND(S83,0)=0,"",ROUND(S72,0)/ROUND(S83,0)*100) -> 1.2949465
C73: 特定部門の別法人化（分社化） | D73: =IF('7-4-1'!V73<>"",'7-4-1'!V73,"") -> 116.19005 | E73: =IF('7-4-1'!W73<>"",'7-4-1'!W73,"") -> 0.64337945 | F73: =IF(AND(ISNUMBER(E73),ISNUMBER(H73)),E73-H73,"") -> 0.23382247 | G73: 76.677121 | H73: 0.40955698 | I73: =IF(AND(ISNUMBER(H73),ISNUMBER(K73)),H73-K73,"") -> -0.090443018 | J73: 74.2 | K73: 0.5 | L73: =K73-N73 -> -0.2 | M73: 129 | N73: 0.7 | O73: =N73-Q73 -> 0.1 | P73: 115 | Q73: 0.6 | R73: =Q73-T73 -> 0.23350572 | S73: 90.123817 | T73: =IF(ROUND(S83,0)=0,"",ROUND(S73,0)/ROUND(S83,0)*100) -> 0.36649428
C74: 協力会社の組織強化、協力会社への取込強化 | D74: =IF('7-4-1'!V74<>"",'7-4-1'!V74,"") -> 1109.1806 | E74: =IF('7-4-1'!W74<>"",'7-4-1'!W74,"") -> 6.1418683 | F74: =IF(AND(ISNUMBER(E74),ISNUMBER(H74)),E74-H74,"") -> -0.45071412 | G74: 1234.2611 | H74: 6.5925824 | I74: =IF(AND(ISNUMBER(H74),ISNUMBER(K74)),H74-K74,"") -> 0.59258237 | J74: 978.14 | K74: 6 | L74: =K74-N74 -> -1.6 | M74: 1417 | N74: 7.6 | O74: =N74-Q74 -> 3.7 | P74: 740 | Q74: 3.9 | R74: =Q74-T74 -> -3.6375657 | S74: 1851.1776 | T74: =IF(ROUND(S83,0)=0,"",ROUND(S74,0)/ROUND(S83,0)*100) -> 7.5375657
C75: 持ち株会社化 | D75: =IF('7-4-1'!V75<>"",'7-4-1'!V75,"") -> 543.65385 | E75: =IF('7-4-1'!W75<>"",'7-4-1'!W75,"") -> 3.0103758 | F75: =IF(AND(ISNUMBER(E75),ISNUMBER(H75)),E75-H75,"") -> 0.97000665 | G75: 381.99723 | H75: 2.0403691 | I75: =IF(AND(ISNUMBER(H75),ISNUMBER(K75)),H75-K75,"") -> 0.34036913 | J75: 284.89 | K75: 1.7 | L75: =K75-N75 -> 0.6 | M75: 212 | N75: 1.1 | O75: =N75-Q75 -> 0.7 | P75: 73 | Q75: 0.4 | R75: =Q75-T75 -> 0.19639207 | S75: 50.209328 | T75: =IF(ROUND(S83,0)=0,"",ROUND(S75,0)/ROUND(S83,0)*100) -> 0.20360793
C76: アウトソーシング | D76: =IF('7-4-1'!V76<>"",'7-4-1'!V76,"") -> 410.17404 | E76: =IF('7-4-1'!W76<>"",'7-4-1'!W76,"") -> 2.2712577 | F76: =IF(AND(ISNUMBER(E76),ISNUMBER(H76)),E76-H76,"") -> 1.4282011 | G76: 157.83677 | H76: 0.8430566 | I76: =IF(AND(ISNUMBER(H76),ISNUMBER(K76)),H76-K76,"") -> -0.4569434 | J76: 208.44 | K76: 1.3 | L76: =K76-N76 -> 0.2 | M76: 197 | N76: 1.1 | O76: =N76-Q76 -> 0.3 | P76: 146 | Q76: 0.8 | R76: =Q76-T76 -> 0.29505233 | S76: 124.39261 | T76: =IF(ROUND(S83,0)=0,"",ROUND(S76,0)/ROUND(S83,0)*100) -> 0.50494767
C77: 同業団体、協同組合等への加入（複数加入） | D77: =IF('7-4-1'!V77<>"",'7-4-1'!V77,"") -> 1824.4078 | E77: =IF('7-4-1'!W77<>"",'7-4-1'!W77,"") -> 10.102298 | F77: =IF(AND(ISNUMBER(E77),ISNUMBER(H77)),E77-H77,"") -> 0.24587892 | G77: 1845.3154 | H77: 9.8564187 | I77: =IF(AND(ISNUMBER(H77),ISNUMBER(K77)),H77-K77,"") -> 0.35641868 | J77: 1554.2 | K77: 9.5 | L77: =K77-N77 -> -0.6 | M77: 1870 | N77: 10.1 | O77: =N77-Q77 -> 4 | P77: 1164 | Q77: 6.1 | R77: =Q77-T77 -> 3.583406 | S77: 617.62012 | T77: =IF(ROUND(S83,0)=0,"",ROUND(S77,0)/ROUND(S83,0)*100) -> 2.516594
C78: 社内の組織改編 | D78: =IF('7-4-1'!V78<>"",'7-4-1'!V78,"") -> 878.67589 | E78: =IF('7-4-1'!W78<>"",'7-4-1'!W78,"") -> 4.8654941 | F78: =IF(AND(ISNUMBER(E78),ISNUMBER(H78)),E78-H78,"") -> 0.93532509 | G78: 735.80493 | H78: 3.930169 | I78: =IF(AND(ISNUMBER(H78),ISNUMBER(K78)),H78-K78,"") -> -0.26983097 | J78: 677.5 | K78: 4.2 | L78: =K78-N78 -> -0.1 | M78: 799 | N78: 4.3 | O78: =N78-Q78 -> -0.3 | P78: 887 | Q78: 4.6 | R78: =Q78-T78 -> -6.6065806 | S78: 2752.0278 | T78: =IF(ROUND(S83,0)=0,"",ROUND(S78,0)/ROUND(S83,0)*100) -> 11.206581
C79: 技能労働者の直用化、常用化 | D79: =IF('7-4-1'!V79<>"",'7-4-1'!V79,"") -> 3406.9464 | E79: =IF('7-4-1'!W79<>"",'7-4-1'!W79,"") -> 18.865292 | F79: =IF(AND(ISNUMBER(E79),ISNUMBER(H79)),E79-H79,"") -> 0.11581258 | G79: 3510.2714 | H79: 18.74948 | I79: =IF(AND(ISNUMBER(H79),ISNUMBER(K79)),H79-K79,"") -> 1.1494799 | J79: 2871.57 | K79: 17.6 | L79: =K79-N79 -> -1.9 | M79: 3616 | N79: 19.5 | O79: =N79-Q79 -> 9.9 | P79: 1844 | Q79: 9.6 | R79: =Q79-T79 -> 0.82857027 | S79: 2153.6855 | T79: =IF(ROUND(S83,0)=0,"",ROUND(S79,0)/ROUND(S83,0)*100) -> 8.7714297
C80: 技能労働者の多能工化 | D80: =IF('7-4-1'!V80<>"",'7-4-1'!V80,"") -> 2249.5119 | E80: =IF('7-4-1'!W80<>"",'7-4-1'!W80,"") -> 12.456228 | F80: =IF(AND(ISNUMBER(E80),ISNUMBER(H80)),E80-H80,"") -> -0.23223326 | G80: 2375.5294 | H80: 12.688461 | I80: =IF(AND(ISNUMBER(H80),ISNUMBER(K80)),H80-K80,"") -> 2.088461 | J80: 1721.06 | K80: 10.6 | L80: =K80-N80 -> -5.1 | M80: 2909 | N80: 15.7 | O80: =N80-Q80 -> 7.7 | P80: 1527 | Q80: 8 | R80: =Q80-T80 -> -6.9611109 | S80: 3673.9072 | T80: =IF(ROUND(S83,0)=0,"",ROUND(S80,0)/ROUND(S83,0)*100) -> 14.961111
C81: 直用の技能労働者の独立支援 | D81: =IF('7-4-1'!V81<>"",'7-4-1'!V81,"") -> 493.47325 | E81: =IF('7-4-1'!W81<>"",'7-4-1'!W81,"") -> 2.7325106 | F81: =IF(AND(ISNUMBER(E81),ISNUMBER(H81)),E81-H81,"") -> -0.036734713 | G81: 518.45718 | H81: 2.7692453 | I81: =IF(AND(ISNUMBER(H81),ISNUMBER(K81)),H81-K81,"") -> -0.83075468 | J81: 590.23 | K81: 3.6 | L81: =K81-N81 -> 0 | M81: 673 | N81: 3.6 | O81: =N81-Q81 -> 1.9 | P81: 322 | Q81: 1.7 | R81: =Q81-T81 -> -1.6350979 | S81: 819.20325 | T81: =IF(ROUND(S83,0)=0,"",ROUND(S81,0)/ROUND(S83,0)*100) -> 3.3350979
C82: 特に考えていない | D82: =IF('7-4-1'!V82<>"",'7-4-1'!V82,"") -> 12261.776 | E82: =IF('7-4-1'!W82<>"",'7-4-1'!W82,"") -> 67.897161 | F82: =IF(AND(ISNUMBER(E82),ISNUMBER(H82)),E82-H82,"") -> -1.6570205 | G82: 13021.911 | H82: 69.554182 | I82: =IF(AND(ISNUMBER(H82),ISNUMBER(K82)),H82-K82,"") -> -1.1458181 | J82: 11526.67 | K82: 70.7 | L82: =K82-N82 -> 1.6 | M82: 12813 | N82: 69.1 | O82: =N82-Q82 -> -7.6 | P82: 14675 | Q82: 76.7 | R82: =Q82-T82 -> 9.1021664 | S82: 16600.146 | T82: =IF(ROUND(S83,0)=0,"",ROUND(S82,0)/ROUND(S83,0)*100) -> 67.597834
B83: 小 計 | D83: =IF('7-4-1'!V83<>"",'7-4-1'!V83,"") -> 18059.335 | E83: =IF('7-4-1'!W83<>"",'7-4-1'!W83,"") -> 100 | F83: - | G83: 18721.967 | H83: 100 | I83: - | J83: 16311.44 | K83: 100 | L83: - | M83: 18541 | N83: 100 | O83: - | P83: 19143 | Q83: 100 | R83: - | S83: 24557 | T83: =IF(ROUND(S83,0)=0,"",ROUND(S83,0)/ROUND(S83,0)*100) -> 100
B84: 仕 上 関 係 計 | C84: 他社との協業化や業務提携、企業連携 | D84: =IF('7-4-1'!V84<>"",'7-4-1'!V84,"") -> 1699.2759 | E84: =IF('7-4-1'!W84<>"",'7-4-1'!W84,"") -> 6.950121 | F84: =IF(AND(ISNUMBER(E84),ISNUMBER(H84)),E84-H84,"") -> 2.5718479 | G84: 1153.7625 | H84: 4.3782731 | I84: =IF(AND(ISNUMBER(H84),ISNUMBER(K84)),H84-K84,"") -> 0.078273138 | J84: 1052.03 | K84: 4.3 | L84: =K84-N84 -> 0.2 | M84: 1148 | N84: 4.1 | O84: =N84-Q84 -> 0.6 | P84: 1164 | Q84: 3.5 | R84: =Q84-T84 -> -3.1668582 | S84: 2319.6345 | T84: =IF(ROUND(S96,0)=0,"",ROUND(S84,0)/ROUND(S96,0)*100) -> 6.6668582
C85: 他社との合併 | D85: =IF('7-4-1'!V85<>"",'7-4-1'!V85,"") -> 37.132234 | E85: =IF('7-4-1'!W85<>"",'7-4-1'!W85,"") -> 0.15187265 | F85: =IF(AND(ISNUMBER(E85),ISNUMBER(H85)),E85-H85,"") -> -0.012821904 | G85: 43.400307 | H85: 0.16469455 | I85: =IF(AND(ISNUMBER(H85),ISNUMBER(K85)),H85-K85,"") -> -0.035305451 | J85: 59.9 | K85: 0.2 | L85: =K85-N85 -> 0.2 | M85: 9 | N85: 0 | O85: =N85-Q85 -> -0.2 | P85: 76 | Q85: 0.2 | R85: =Q85-T85 -> -1.2626857 | S85: 508.9437 | T85: =IF(ROUND(S96,0)=0,"",ROUND(S85,0)/ROUND(S96,0)*100) -> 1.4626857
C86: 特定部門の別法人化（分社化） | D86: =IF('7-4-1'!V86<>"",'7-4-1'!V86,"") -> 52.568376 | E86: =IF('7-4-1'!W86<>"",'7-4-1'!W86,"") -> 0.21500722 | F86: =IF(AND(ISNUMBER(E86),ISNUMBER(H86)),E86-H86,"") -> -0.061116354 | G86: 72.764082 | H86: 0.27612357 | I86: =IF(AND(ISNUMBER(H86),ISNUMBER(K86)),H86-K86,"") -> -0.22387643 | J86: 123.02 | K86: 0.5 | L86: =K86-N86 -> 0.1 | M86: 111 | N86: 0.4 | O86: =N86-Q86 -> 0.2 | P86: 82 | Q86: 0.2 | R86: =Q86-T86 -> -0.85750165 | S86: 367.73679 | T86: =IF(ROUND(S96,0)=0,"",ROUND(S86,0)/ROUND(S96,0)*100) -> 1.0575017
C87: 協力会社の組織強化、協力会社への取込強化 | D87: =IF('7-4-1'!V87<>"",'7-4-1'!V87,"") -> 1332.5536 | E87: =IF('7-4-1'!W87<>"",'7-4-1'!W87,"") -> 5.4502092 | F87: =IF(AND(ISNUMBER(E87),ISNUMBER(H87)),E87-H87,"") -> 0.9634462 | G87: 1182.3518 | H87: 4.486763 | I87: =IF(AND(ISNUMBER(H87),ISNUMBER(K87)),H87-K87,"") -> -1.813237 | J87: 1565.19 | K87: 6.3 | L87: =K87-N87 -> 0.9 | M87: 1511 | N87: 5.4 | O87: =N87-Q87 -> 1.1 | P87: 1440 | Q87: 4.3 | R87: =Q87-T87 -> -1.9961579 | S87: 2191.4319 | T87: =IF(ROUND(S96,0)=0,"",ROUND(S87,0)/ROUND(S96,0)*100) -> 6.2961579
C88: 持ち株会社化 | D88: =IF('7-4-1'!V88<>"",'7-4-1'!V88,"") -> 717.56815 | E88: =IF('7-4-1'!W88<>"",'7-4-1'!W88,"") -> 2.9348887 | F88: =IF(AND(ISNUMBER(E88),ISNUMBER(H88)),E88-H88,"") -> 0.84717089 | G88: 550.15538 | H88: 2.0877178 | I88: =IF(AND(ISNUMBER(H88),ISNUMBER(K88)),H88-K88,"") -> 0.88771778 | J88: 295.58 | K88: 1.2 | L88: =K88-N88 -> 0.3 | M88: 263 | N88: 0.9 | O88: =N88-Q88 -> 0.7 | P88: 74 | Q88: 0.2 | R88: =Q88-T88 -> -0.3459927 | S88: 190.48793 | T88: =IF(ROUND(S96,0)=0,"",ROUND(S88,0)/ROUND(S96,0)*100) -> 0.5459927
C89: アウトソーシング | D89: =IF('7-4-1'!V89<>"",'7-4-1'!V89,"") -> 279.70621 | E89: =IF('7-4-1'!W89<>"",'7-4-1'!W89,"") -> 1.144012 | F89: =IF(AND(ISNUMBER(E89),ISNUMBER(H89)),E89-H89,"") -> -0.37331896 | G89: 399.84706 | H89: 1.517331 | I89: =IF(AND(ISNUMBER(H89),ISNUMBER(K89)),H89-K89,"") -> 0.31733098 | J89: 293.66 | K89: 1.2 | L89: =K89-N89 -> 0.4 | M89: 225 | N89: 0.8 | O89: =N89-Q89 -> -0.6 | P89: 477 | Q89: 1.4 | R89: =Q89-T89 -> -0.50810081 | S89: 664.44196 | T89: =IF(ROUND(S96,0)=0,"",ROUND(S89,0)/ROUND(S96,0)*100) -> 1.9081008
C90: 同業団体、協同組合等への加入（複数加入） | D90: =IF('7-4-1'!V90<>"",'7-4-1'!V90,"") -> 3300.2994 | E90: =IF('7-4-1'!W90<>"",'7-4-1'!W90,"") -> 13.498385 | F90: =IF(AND(ISNUMBER(E90),ISNUMBER(H90)),E90-H90,"") -> 2.0667236 | G90: 3012.4714 | H90: 11.431662 | I90: =IF(AND(ISNUMBER(H90),ISNUMBER(K90)),H90-K90,"") -> -3.8683384 | J90: 3779.11 | K90: 15.3 | L90: =K90-N90 -> 3.7 | M90: 3269 | N90: 11.6 | O90: =N90-Q90 -> 2.3 | P90: 3090 | Q90: 9.3 | R90: =Q90-T90 -> 5.5067876 | S90: 1319.5148 | T90: =IF(ROUND(S96,0)=0,"",ROUND(S90,0)/ROUND(S96,0)*100) -> 3.7932124
C91: 社内の組織改編 | D91: =IF('7-4-1'!V91<>"",'7-4-1'!V91,"") -> 605.68918 | E91: =IF('7-4-1'!W91<>"",'7-4-1'!W91,"") -> 2.4772982 | F91: =IF(AND(ISNUMBER(E91),ISNUMBER(H91)),E91-H91,"") -> -0.4603599 | G91: 774.13166 | H91: 2.9376581 | I91: =IF(AND(ISNUMBER(H91),ISNUMBER(K91)),H91-K91,"") -> -0.96234189 | J91: 964.24 | K91: 3.9 | L91: =K91-N91 -> 0.7 | M91: 901 | N91: 3.2 | O91: =N91-Q91 -> -0.8 | P91: 1324 | Q91: 4 | R91: =Q91-T91 -> -9.7992471 | S91: 4801.5098 | T91: =IF(ROUND(S96,0)=0,"",ROUND(S91,0)/ROUND(S96,0)*100) -> 13.799247
C92: 技能労働者の直用化、常用化 | D92: =IF('7-4-1'!V92<>"",'7-4-1'!V92,"") -> 4626.6048 | E92: =IF('7-4-1'!W92<>"",'7-4-1'!W92,"") -> 18.923039 | F92: =IF(AND(ISNUMBER(E92),ISNUMBER(H92)),E92-H92,"") -> 0.68340929 | G92: 4806.5071 | H92: 18.23963 | I92: =IF(AND(ISNUMBER(H92),ISNUMBER(K92)),H92-K92,"") -> -0.66037039 | J92: 4668.17 | K92: 18.9 | L92: =K92-N92 -> 4.4 | M92: 4087 | N92: 14.5 | O92: =N92-Q92 -> 3 | P92: 3809 | Q92: 11.5 | R92: =Q92-T92 -> 4.2296761 | S92: 2529.8684 | T92: =IF(ROUND(S96,0)=0,"",ROUND(S92,0)/ROUND(S96,0)*100) -> 7.2703239
C93: 技能労働者の多能工化 | D93: =IF('7-4-1'!V93<>"",'7-4-1'!V93,"") -> 2928.0651 | E93: =IF('7-4-1'!W93<>"",'7-4-1'!W93,"") -> 11.975929 | F93: =IF(AND(ISNUMBER(E93),ISNUMBER(H93)),E93-H93,"") -> 1.1187662 | G93: 2861.0794 | H93: 10.857162 | I93: =IF(AND(ISNUMBER(H93),ISNUMBER(K93)),H93-K93,"") -> -1.2428375 | J93: 2989.45 | K93: 12.1 | L93: =K93-N93 -> 2.2 | M93: 2788 | N93: 9.9 | O93: =N93-Q93 -> 1.3 | P93: 2856 | Q93: 8.6 | R93: =Q93-T93 -> -7.5211529 | S93: 5609.8779 | T93: =IF(ROUND(S96,0)=0,"",ROUND(S93,0)/ROUND(S96,0)*100) -> 16.121153
C94: 直用の技能労働者の独立支援 | D94: =IF('7-4-1'!V94<>"",'7-4-1'!V94,"") -> 1282.2266 | E94: =IF('7-4-1'!W94<>"",'7-4-1'!W94,"") -> 5.2443693 | F94: =IF(AND(ISNUMBER(E94),ISNUMBER(H94)),E94-H94,"") -> 1.6349047 | G94: 951.16611 | H94: 3.6094646 | I94: =IF(AND(ISNUMBER(H94),ISNUMBER(K94)),H94-K94,"") -> -2.0905354 | J94: 1398.33 | K94: 5.7 | L94: =K94-N94 -> 2.3 | M94: 945 | N94: 3.4 | O94: =N94-Q94 -> 0 | P94: 1143 | Q94: 3.4 | R94: =Q94-T94 -> -0.55701026 | S94: 1376.7092 | T94: =IF(ROUND(S96,0)=0,"",ROUND(S94,0)/ROUND(S96,0)*100) -> 3.9570103
C95: 特に考えていない | D95: =IF('7-4-1'!V95<>"",'7-4-1'!V95,"") -> 16243.443 | E95: =IF('7-4-1'!W95<>"",'7-4-1'!W95,"") -> 66.436472 | F95: =IF(AND(ISNUMBER(E95),ISNUMBER(H95)),E95-H95,"") -> -3.2439066 | G95: 18362.173 | H95: 69.680379 | I95: =IF(AND(ISNUMBER(H95),ISNUMBER(K95)),H95-K95,"") -> 2.2803789 | J95: 16665.58 | K95: 67.4 | L95: =K95-N95 -> -4.7 | M95: 20322 | N95: 72.1 | O95: =N95-Q95 -> 0.9 | P95: 23645 | Q95: 71.2 | R95: =Q95-T95 -> 4.925107 | S95: 23062.5 | T95: =IF(ROUND(S96,0)=0,"",ROUND(S95,0)/ROUND(S96,0)*100) -> 66.274893
B96: 小 計 | D96: =IF('7-4-1'!V96<>"",'7-4-1'!V96,"") -> 24449.587 | E96: =IF('7-4-1'!W96<>"",'7-4-1'!W96,"") -> 100 | F96: - | G96: 26352 | H96: 100 | I96: - | J96: 24721.56 | K96: 100 | L96: - | M96: 28167 | N96: 100 | O96: - | P96: 33227 | Q96: 100 | R96: - | S96: 34799 | T96: =IF(ROUND(S96,0)=0,"",ROUND(S96,0)/ROUND(S96,0)*100) -> 100
A97: 小 計 | C97: 他社との協業化や業務提携、企業連携 | D97: =IF('7-4-1'!V97<>"",'7-4-1'!V97,"") -> 2749.7176 | E97: =IF('7-4-1'!W97<>"",'7-4-1'!W97,"") -> 6.4685658 | F97: =IF(AND(ISNUMBER(E97),ISNUMBER(H97)),E97-H97,"") -> 2.000793 | G97: 2013.8024 | H97: 4.4677728 | I97: =IF(AND(ISNUMBER(H97),ISNUMBER(K97)),H97-K97,"") -> -0.43222715 | J97: 2031.01 | K97: 4.9 | L97: =K97-N97 -> 0.7 | M97: 1964 | N97: 4.2 | O97: =N97-Q97 -> 0.4 | P97: 1991 | Q97: 3.8 | R97: =Q97-T97 -> -2.2617292 | S97: 3598.3491 | T97: =IF(ROUND(S109,0)=0,"",ROUND(S97,0)/ROUND(S109,0)*100) -> 6.0617292
C98: 他社との合併 | D98: =IF('7-4-1'!V98<>"",'7-4-1'!V98,"") -> 60.533558 | E98: =IF('7-4-1'!W98<>"",'7-4-1'!W98,"") -> 0.14240201 | F98: =IF(AND(ISNUMBER(E98),ISNUMBER(H98)),E98-H98,"") -> -0.15065384 | G98: 132.09189 | H98: 0.29305585 | I98: =IF(AND(ISNUMBER(H98),ISNUMBER(K98)),H98-K98,"") -> -0.20694415 | J98: 203.48 | K98: 0.5 | L98: =K98-N98 -> 0.4 | M98: 25 | N98: 0.1 | O98: =N98-Q98 -> -0.1 | P98: 92 | Q98: 0.2 | R98: =Q98-T98 -> -1.193288 | S98: 827.34949 | T98: =IF(ROUND(S109,0)=0,"",ROUND(S98,0)/ROUND(S109,0)*100) -> 1.393288
C99: 特定部門の別法人化（分社化） | D99: =IF('7-4-1'!V99<>"",'7-4-1'!V99,"") -> 168.75843 | E99: =IF('7-4-1'!W99<>"",'7-4-1'!W99,"") -> 0.39699531 | F99: =IF(AND(ISNUMBER(E99),ISNUMBER(H99)),E99-H99,"") -> 0.06544871 | G99: 149.4412 | H99: 0.3315466 | I99: =IF(AND(ISNUMBER(H99),ISNUMBER(K99)),H99-K99,"") -> -0.1684534 | J99: 197.22 | K99: 0.5 | L99: =K99-N99 -> 0 | M99: 241 | N99: 0.5 | O99: =N99-Q99 -> 0.1 | P99: 198 | Q99: 0.4 | R99: =Q99-T99 -> -0.37161534 | S99: 457.8606 | T99: =IF(ROUND(S109,0)=0,"",ROUND(S99,0)/ROUND(S109,0)*100) -> 0.77161534
C100: 協力会社の組織強化、協力会社への取込強化 | D100: =IF('7-4-1'!V100<>"",'7-4-1'!V100,"") -> 2441.7342 | E100: =IF('7-4-1'!W100<>"",'7-4-1'!W100,"") -> 5.7440511 | F100: =IF(AND(ISNUMBER(E100),ISNUMBER(H100)),E100-H100,"") -> 0.38261292 | G100: 2416.6128 | H100: 5.3614382 | I100: =IF(AND(ISNUMBER(H100),ISNUMBER(K100)),H100-K100,"") -> -0.83856182 | J100: 2543.33 | K100: 6.2 | L100: =K100-N100 -> -0.1 | M100: 2928 | N100: 6.3 | O100: =N100-Q100 -> 2.1 | P100: 2180 | Q100: 4.2 | R100: =Q100-T100 -> -2.6114428 | S100: 4042.6096 | T100: =IF(ROUND(S109,0)=0,"",ROUND(S100,0)/ROUND(S109,0)*100) -> 6.8114428
C101: 持ち株会社化 | D101: =IF('7-4-1'!V101<>"",'7-4-1'!V101,"") -> 1261.222 | E101: =IF('7-4-1'!W101<>"",'7-4-1'!W101,"") -> 2.9669583 | F101: =IF(AND(ISNUMBER(E101),ISNUMBER(H101)),E101-H101,"") -> 0.89890734 | G101: 932.15261 | H101: 2.068051 | I101: =IF(AND(ISNUMBER(H101),ISNUMBER(K101)),H101-K101,"") -> 0.668051 | J101: 580.47 | K101: 1.4 | L101: =K101-N101 -> 0.4 | M101: 475 | N101: 1 | O101: =N101-Q101 -> 0.7 | P101: 146 | Q101: 0.3 | R101: =Q101-T101 -> -0.10602466 | S101: 240.69727 | T101: =IF(ROUND(S109,0)=0,"",ROUND(S101,0)/ROUND(S109,0)*100) -> 0.40602466
...

Sheet 7-4-3
A1: 表7－4－3 組織変更等の意向（経年変化②：資本金別集計）
V3: （単位：社、％）
B4: 資本金 | C4: 個人 | E4: 法 人 | U4: 合 計
E5: 500万円未満 | G5: 500万円以上 1000万円以下 | I5: 1000万円以上 3000万円未満 | K5: 3000万円以上 5000万円未満 | M5: 5000万円以上 1億円未満 | O5: 1億円以上 3億円未満 | Q5: 3億円以上 10億円未満 | S5: 10億円以上
A6: 年度 | B6: 意向
A7: R01年度 | B7: 他社との協業化や業務提携、企業連携 | C7: =IF('7-4-1'!D123<>"",'7-4-1'!D123,"") -> 941.72125 | D7: =IF('7-4-1'!E123<>"",'7-4-1'!E123,"") -> 5.8639779 | E7: =IF('7-4-1'!F123<>"",'7-4-1'!F123,"") -> 1851.9748 | F7: =IF('7-4-1'!G123<>"",'7-4-1'!G123,"") -> 4.9367444 | G7: =IF('7-4-1'!H123<>"",'7-4-1'!H123,"") -> 1697.1718 | H7: =IF('7-4-1'!I123<>"",'7-4-1'!I123,"") -> 6.5767412 | I7: =IF('7-4-1'!J123<>"",'7-4-1'!J123,"") -> 2872.9645 | J7: =IF('7-4-1'!K123<>"",'7-4-1'!K123,"") -> 5.4435719 | ... V7: =IF('7-4-1'!W123<>"",'7-4-1'!W123,"") -> 5.7034337
B8: 他社との合併 | C8: =IF('7-4-1'!D124<>"",'7-4-1'!D124,"") | D8: =IF('7-4-1'!E124<>"",'7-4-1'!E124,"") | E8: =IF('7-4-1'!F124<>"",'7-4-1'!F124,"") -> 110.37724 | F8: =IF('7-4-1'!G124<>"",'7-4-1'!G124,"") -> 0.29422875 | G8: =IF('7-4-1'!H124<>"",'7-4-1'!H124,"") -> 15.846154 | H8: =IF('7-4-1'!I124<>"",'7-4-1'!I124,"") -> 0.061405717 | I8: =IF('7-4-1'!J124<>"",'7-4-1'!J124,"") -> 78.498405 | J8: =IF('7-4-1'!K124<>"",'7-4-1'!K124,"") -> 0.14873547 | ... V8: =IF('7-4-1'!W124<>"",'7-4-1'!W124,"") -> 0.19377396
B9: 特定部門の別法人化（分社化） | C9: =IF('7-4-1'!D125<>"",'7-4-1'!D125,"") | D9: =IF('7-4-1'!E125<>"",'7-4-1'!E125,"") | E9: =IF('7-4-1'!F125<>"",'7-4-1'!F125,"") -> 124.47888 | F9: =IF('7-4-1'!G125<>"",'7-4-1'!G125,"") -> 0.331819 | G9: =IF('7-4-1'!H125<>"",'7-4-1'!H125,"") -> 254.26316 | H9: =IF('7-4-1'!I125<>"",'7-4-1'!I125,"") -> 0.98529976 | I9: =IF('7-4-1'!J125<>"",'7-4-1'!J125,"") -> 276.5532 | J9: =IF('7-4-1'!K125<>"",'7-4-1'!K125,"") -> 0.52400133 | ... V9: =IF('7-4-1'!W125<>"",'7-4-1'!W125,"") -> 0.62754055
B10: 協力会社の組織強化、協力会社への取込強化 | C10: =IF('7-4-1'!D126<>"",'7-4-1'!D126,"") -> 553.26036 | D10: =IF('7-4-1'!E126<>"",'7-4-1'!E126,"") -> 3.4450816 | E10: =IF('7-4-1'!F126<>"",'7-4-1'!F126,"") -> 1107.3003 | F10: =IF('7-4-1'!G126<>"",'7-4-1'!G126,"") -> 2.9516916 | G10: =IF('7-4-1'!H126<>"",'7-4-1'!H126,"") -> 2104.9335 | H10: =IF('7-4-1'!I126<>"",'7-4-1'!I126,"") -> 8.1568658 | I10: =IF('7-4-1'!J126<>"",'7-4-1'!J126,"") -> 4263.7407 | J10: =IF('7-4-1'!K126<>"",'7-4-1'!K126,"") -> 8.078756 | ... V10: =IF('7-4-1'!W126<>"",'7-4-1'!W126,"") -> 6.9063611
B11: 持ち株会社化 | C11: =IF('7-4-1'!D127<>"",'7-4-1'!D127,"") -> 26.285714 | D11: =IF('7-4-1'!E127<>"",'7-4-1'!E127,"") -> 0.16367778 | E11: =IF('7-4-1'!F127<>"",'7-4-1'!F127,"") -> 732.70345 | F11: =IF('7-4-1'!G127<>"",'7-4-1'!G127,"") -> 1.953142 | G11: =IF('7-4-1'!H127<>"",'7-4-1'!H127,"") -> 866.27835 | H11: =IF('7-4-1'!I127<>"",'7-4-1'!I127,"") -> 3.3569309 | I11: =IF('7-4-1'!J127<>"",'7-4-1'!J127,"") -> 2051.1776 | J11: =IF('7-4-1'!K127<>"",'7-4-1'!K127,"") -> 3.8864847 | ... V11: =IF('7-4-1'!W127<>"",'7-4-1'!W127,"") -> 3.1939097
B12: アウトソーシング | C12: =IF('7-4-1'!D128<>"",'7-4-1'!D128,"") -> 62.419355 | D12: =IF('7-4-1'!E128<>"",'7-4-1'!E128,"") -> 0.38867735 | E12: =IF('7-4-1'!F128<>"",'7-4-1'!F128,"") -> 246.54592 | F12: =IF('7-4-1'!G128<>"",'7-4-1'!G128,"") -> 0.65720883 | G12: =IF('7-4-1'!H128<>"",'7-4-1'!H128,"") -> 284.95965 | H12: =IF('7-4-1'!I128<>"",'7-4-1'!I128,"") -> 1.1042523 | I12: =IF('7-4-1'!J128<>"",'7-4-1'!J128,"") -> 1487.6046 | J12: =IF('7-4-1'!K128<>"",'7-4-1'!K128,"") -> 2.8186505 | ... V12: =IF('7-4-1'!W128<>"",'7-4-1'!W128,"") -> 1.9265715
B13: 同業団体、協同組合等への加入（複数加入） | C13: =IF('7-4-1'!D129<>"",'7-4-1'!D129,"") -> 1386.0993 | D13: =IF('7-4-1'!E129<>"",'7-4-1'!E129,"") -> 8.631063 | E13: =IF('7-4-1'!F129<>"",'7-4-1'!F129,"") -> 2512.2931 | F13: =IF('7-4-1'!G129<>"",'7-4-1'!G129,"") -> 6.6969318 | G13: =IF('7-4-1'!H129<>"",'7-4-1'!H129,"") -> 2857.4575 | H13: =IF('7-4-1'!I129<>"",'7-4-1'!I129,"") -> 11.072985 | I13: =IF('7-4-1'!J129<>"",'7-4-1'!J129,"") -> 7457.7304 | J13: =IF('7-4-1'!K129<>"",'7-4-1'!K129,"") -> 14.130593 | ... V13: =IF('7-4-1'!W129<>"",'7-4-1'!W129,"") -> 11.594841
B14: 社内の組織改編 | C14: =IF('7-4-1'!D130<>"",'7-4-1'!D130,"") -> 207.61818 | D14: =IF('7-4-1'!E130<>"",'7-4-1'!E130,"") -> 1.2928119 | E14: =IF('7-4-1'!F130<>"",'7-4-1'!F130,"") -> 575.26524 | F14: =IF('7-4-1'!G130<>"",'7-4-1'!G130,"") -> 1.5334644 | G14: =IF('7-4-1'!H130<>"",'7-4-1'!H130,"") -> 776.67014 | H14: =IF('7-4-1'!I130<>"",'7-4-1'!I130,"") -> 3.0096885 | I14: =IF('7-4-1'!J130<>"",'7-4-1'!J130,"") -> 3155.6826 | J14: =IF('7-4-1'!K130<>"",'7-4-1'!K130,"") -> 5.9792543 | ... V14: =IF('7-4-1'!W130<>"",'7-4-1'!W130,"") -> 4.3128809
B15: 技能労働者の直用化、常用化 | C15: =IF('7-4-1'!D131<>"",'7-4-1'!D131,"") -> 1417.1169 | D15: =IF('7-4-1'!E131<>"",'7-4-1'!E131,"") -> 8.8242062 | E15: =IF('7-4-1'!F131<>"",'7-4-1'!F131,"") -> 4597.2563 | F15: =IF('7-4-1'!G131<>"",'7-4-1'!G131,"") -> 12.254745 | G15: =IF('7-4-1'!H131<>"",'7-4-1'!H131,"") -> 4984.3183 | H15: =IF('7-4-1'!I131<>"",'7-4-1'!I131,"") -> 19.314822 | I15: =IF('7-4-1'!J131<>"",'7-4-1'!J131,"") -> 11727.912 | J15: =IF('7-4-1'!K131<>"",'7-4-1'!K131,"") -> 22.221553 | ... V15: =IF('7-4-1'!W131<>"",'7-4-1'!W131,"") -> 18.067677
B16: 技能労働者の多能工化 | C16: =IF('7-4-1'!D132<>"",'7-4-1'!D132,"") -> 871.44539 | D16: =IF('7-4-1'!E132<>"",'7-4-1'!E132,"") -> 5.4263791 | E16: =IF('7-4-1'!F132<>"",'7-4-1'!F132,"") -> 2805.8412 | F16: =IF('7-4-1'!G132<>"",'7-4-1'!G132,"") -> 7.4794328 | G16: =IF('7-4-1'!H132<>"",'7-4-1'!H132,"") -> 3147.5602 | H16: =IF('7-4-1'!I132<>"",'7-4-1'!I132,"") -> 12.197167 | I16: =IF('7-4-1'!J132<>"",'7-4-1'!J132,"") -> 8579.9756 | J16: =IF('7-4-1'!K132<>"",'7-4-1'!K132,"") -> 16.256976 | ... V16: =IF('7-4-1'!W132<>"",'7-4-1'!W132,"") -> 12.060235
B17: 直用の技能労働者の独立支援 | C17: =IF('7-4-1'!D133<>"",'7-4-1'!D133,"") -> 773.40049 | D17: =IF('7-4-1'!E133<>"",'7-4-1'!E133,"") -> 4.8158661 | E17: =IF('7-4-1'!F133<>"",'7-4-1'!F133,"") -> 841.28133 | F17: =IF('7-4-1'!G133<>"",'7-4-1'!G133,"") -> 2.2425742 | G17: =IF('7-4-1'!H133<>"",'7-4-1'!H133,"") -> 946.46169 | H17: =IF('7-4-1'!I133<>"",'7-4-1'!I133,"") -> 3.6676508 | I17: =IF('7-4-1'!J133<>"",'7-4-1'!J133,"") -> 1471.9791 | J17: =IF('7-4-1'!K133<>"",'7-4-1'!K133,"") -> 2.789044 | ... V17: =IF('7-4-1'!W133<>"",'7-4-1'!W133,"") -> 3.1552095
B18: 特に考えていない | C18: =IF('7-4-1'!D134<>"",'7-4-1'!D134,"") -> 12616.719 | D18: =IF('7-4-1'!E134<>"",'7-4-1'!E134,"") -> 78.562698 | E18: =IF('7-4-1'!F134<>"",'7-4-1'!F134,"") -> 29005.816 | F18: =IF('7-4-1'!G134<>"",'7-4-1'!G134,"") -> 77.319789 | G18: =IF('7-4-1'!H134<>"",'7-4-1'!H134,"") -> 17626.407 | H18: =IF('7-4-1'!I134<>"",'7-4-1'!I134,"") -> 68.304406 | I18: =IF('7-4-1'!J134<>"",'7-4-1'!J134,"") -> 33216.819 | J18: =IF('7-4-1'!K134<>"",'7-4-1'!K134,"") -> 62.937827 | ... V18: =IF('7-4-1'!W134<>"",'7-4-1'!W134,"") -> 68.38455
C19: =IF('7-4-1'!D135<>"",'7-4-1'!D135,"") -> 16059.427 | D19: =IF('7-4-1'!E135<>"",'7-4-1'!E135,"") -> 100 | E19: =IF('7-4-1'!F135<>"",'7-4-1'!F135,"") -> 37514.091 | F19: =IF('7-4-1'!G135<>"",'7-4-1'!G135,"") -> 100 | G19: =IF('7-4-1'!H135<>"",'7-4-1'!H135,"") -> 25805.665 | H19: =IF('7-4-1'!I135<>"",'7-4-1'!I135,"") -> 100 | I19: =IF('7-4-1'!J135<>"",'7-4-1'!J135,"") -> 52777.194 | J19: =IF('7-4-1'!K135<>"",'7-4-1'!K135,"") -> 100 | ... V19: =IF('7-4-1'!W135<>"",'7-4-1'!W135,"") -> 100
A20: 増減 | B20: 他社との協業化や業務提携、企業連携 | D20: =IF(AND(ISNUMBER(D7),ISNUMBER(D33)),D7-D33,"") -> 0.59076935 | F20: =IF(AND(ISNUMBER(F7),ISNUMBER(F33)),F7-F33,"") -> -0.31091905 | H20: =IF(AND(ISNUMBER(H7),ISNUMBER(H33)),H7-H33,"") -> 1.3621726 | J20: =IF(AND(ISNUMBER(J7),ISNUMBER(J33)),J7-J33,"") -> 0.89478758 | L20: =IF(AND(ISNUMBER(L7),ISNUMBER(L33)),L7-L33,"") -> -0.75852233 | N20: =IF(AND(ISNUMBER(N7),ISNUMBER(N33)),N7-N33,"") -> -0.75505558 | P20: =IF(AND(ISNUMBER(P7),ISNUMBER(P33)),P7-P33,"") -> 9.7710923 | R20: =IF(AND(ISNUMBER(R7),ISNUMBER(R33)),R7-R33,"") -> 1.8137595 | T20: =IF(AND(ISNUMBER(T7),ISNUMBER(T33)),T7-T33,"") -> 9.3200693 | V20: =IF(AND(ISNUMBER(V7),ISNUMBER(V33)),V7-V33,"") -> 0.54450618
B21: 他社との合併 | D21: =IF(AND(ISNUMBER(D8),ISNUMBER(D34)),D8-D34,"") | F21: =IF(AND(ISNUMBER(F8),ISNUMBER(F34)),F8-F34,"") -> -0.033515891 | H21: =IF(AND(ISNUMBER(H8),ISNUMBER(H34)),H8-H34,"") | J21: =IF(AND(ISNUMBER(J8),ISNUMBER(J34)),J8-J34,"") -> -0.15494528 | L21: =IF(AND(ISNUMBER(L8),ISNUMBER(L34)),L8-L34,"") -> -0.71129667 | N21: =IF(AND(ISNUMBER(N8),ISNUMBER(N34)),N8-N34,"") -> 0.047192568 | P21: =IF(AND(ISNUMBER(P8),ISNUMBER(P34)),P8-P34,"") -> 1.4507086 | R21: =IF(AND(ISNUMBER(R8),ISNUMBER(R34)),R8-R34,"") -> -0.90513954 | T21: =IF(AND(ISNUMBER(T8),ISNUMBER(T34)),T8-T34,"") -> -0.60542847 | V21: =IF(AND(ISNUMBER(V8),ISNUMBER(V34)),V8-V34,"") -> -0.12091728
B22: 特定部門の別法人化（分社化） | D22: =IF(AND(ISNUMBER(D9),ISNUMBER(D35)),D9-D35,"") | F22: =IF(AND(ISNUMBER(F9),ISNUMBER(F35)),F9-F35,"") -> 0.16674633 | H22: =IF(AND(ISNUMBER(H9),ISNUMBER(H35)),H9-H35,"") -> 0.7032852 | J22: =IF(AND(ISNUMBER(J9),ISNUMBER(J35)),J9-J35,"") -> -0.086589395 | L22: =IF(AND(ISNUMBER(L9),ISNUMBER(L35)),L9-L35,"") -> 0.70219409 | N22: =IF(AND(ISNUMBER(N9),ISNUMBER(N35)),N9-N35,"") -> 0.44536181 | P22: =IF(AND(ISNUMBER(P9),ISNUMBER(P35)),P9-P35,"") -> -0.12354958 | R22: =IF(AND(ISNUMBER(R9),ISNUMBER(R35)),R9-R35,"") -> 0.081251835 | T22: =IF(AND(ISNUMBER(T9),ISNUMBER(T35)),T9-T35,"") -> 4.1960365 | V22: =IF(AND(ISNUMBER(V9),ISNUMBER(V35)),V9-V35,"") -> 0.1469034
B23: 協力会社の組織強化、協力会社への取込強化 | D23: =IF(AND(ISNUMBER(D10),ISNUMBER(D36)),D10-D36,"") -> -0.18519341 | F23: =IF(AND(ISNUMBER(F10),ISNUMBER(F36)),F10-F36,"") -> -2.1290181 | H23: =IF(AND(ISNUMBER(H10),ISNUMBER(H36)),H10-H36,"") -> 2.5116133 | J23: =IF(AND(ISNUMBER(J10),ISNUMBER(J36)),J10-J36,"") -> -0.91132612 | L23: =IF(AND(ISNUMBER(L10),ISNUMBER(L36)),L10-L36,"") -> 0.11881729 | N23: =IF(AND(ISNUMBER(N10),ISNUMBER(N36)),N10-N36,"") -> 0.48073816 | P23: =IF(AND(ISNUMBER(P10),ISNUMBER(P36)),P10-P36,"") -> 3.4846314 | R23: =IF(AND(ISNUMBER(R10),ISNUMBER(R36)),R10-R36,"") -> 3.1330961 | T23: =IF(AND(ISNUMBER(T10),ISNUMBER(T36)),T10-T36,"") -> 0.47928786 | V23: =IF(AND(ISNUMBER(V10),ISNUMBER(V36)),V10-V36,"") -> -0.30301519
B24: 持ち株会社化 | D24: =IF(AND(ISNUMBER(D11),ISNUMBER(D37)),D11-D37,"") -> -0.26597659 | F24: =IF(AND(ISNUMBER(F11),ISNUMBER(F37)),F11-F37,"") -> 0.59770158 | H24: =IF(AND(ISNUMBER(H11),ISNUMBER(H37)),H11-H37,"") -> 1.4723038 | J24: =IF(AND(ISNUMBER(J11),ISNUMBER(J37)),J11-J37,"") -> 1.4728862 | L24: =IF(AND(ISNUMBER(L11),ISNUMBER(L37)),L11-L37,"") -> 0.46336433 | N24: =IF(AND(ISNUMBER(N11),ISNUMBER(N37)),N11-N37,"") -> 5.184085 | P24: =IF(AND(ISNUMBER(P11),ISNUMBER(P37)),P11-P37,"") -> 3.4751288 | R24: =IF(AND(ISNUMBER(R11),ISNUMBER(R37)),R11-R37,"") -> 3.6413241 | T24: =IF(AND(ISNUMBER(T11),ISNUMBER(T37)),T11-T37,"") -> 4.5740923 | V24: =IF(AND(ISNUMBER(V11),ISNUMBER(V37)),V11-V37,"") -> 1.1692689
B25: アウトソーシング | D25: =IF(AND(ISNUMBER(D12),ISNUMBER(D38)),D12-D38,"") -> -0.56925486 | F25: =IF(AND(ISNUMBER(F12),ISNUMBER(F38)),F12-F38,"") -> 0.33777576 | H25: =IF(AND(ISNUMBER(H12),ISNUMBER(H38)),H12-H38,"") -> -0.095827397 | J25: =IF(AND(ISNUMBER(J12),ISNUMBER(J38)),J12-J38,"") -> 0.91967014 | L25: =IF(AND(ISNUMBER(L12),ISNUMBER(L38)),L12-L38,"") -> 0.021082172 | N25: =IF(AND(ISNUMBER(N12),ISNUMBER(N38)),N12-N38,"") -> 1.3894917 | P25: =IF(AND(ISNUMBER(P12),ISNUMBER(P38)),P12-P38,"") -> 2.1456038 | R25: =IF(AND(ISNUMBER(R12),ISNUMBER(R38)),R12-R38,"") -> 2.0168587 | T25: =IF(AND(ISNUMBER(T12),ISNUMBER(T38)),T12-T38,"") -> 8.2902664 | V25: =IF(AND(ISNUMBER(V12),ISNUMBER(V38)),V12-V38,"") -> 0.4146203
B26: 同業団体、協同組合等への加入（複数加入） | D26: =IF(AND(ISNUMBER(D13),ISNUMBER(D39)),D13-D39,"") -> -0.13893696 | F26: =IF(AND(ISNUMBER(F13),ISNUMBER(F39)),F13-F39,"") -> -1.3073375 | H26: =IF(AND(ISNUMBER(H13),ISNUMBER(H39)),H13-H39,"") -> 2.2082666 | J26: =IF(AND(ISNUMBER(J13),ISNUMBER(J39)),J13-J39,"") -> -2.2678785 | L26: =IF(AND(ISNUMBER(L13),ISNUMBER(L39)),L13-L39,"") -> -3.0688496 | N26: =IF(AND(ISNUMBER(N13),ISNUMBER(N39)),N13-N39,"") -> 3.1840035 | P26: =IF(AND(ISNUMBER(P13),ISNUMBER(P39)),P13-P39,"") -> 7.3448851 | R26: =IF(AND(ISNUMBER(R13),ISNUMBER(R39)),R13-R39,"") -> -0.16041962 | T26: =IF(AND(ISNUMBER(T13),ISNUMBER(T39)),T13-T39,"") -> -13.510593 | V26: =IF(AND(ISNUMBER(V13),ISNUMBER(V39)),V13-V39,"") -> -0.88761646
B27: 社内の組織改編 | D27: =IF(AND(ISNUMBER(D14),ISNUMBER(D40)),D14-D40,"") -> -0.27321813 | F27: =IF(AND(ISNUMBER(F14),ISNUMBER(F40)),F14-F40,"") -> -0.52909341 | H27: =IF(AND(ISNUMBER(H14),ISNUMBER(H40)),H14-H40,"") -> 1.1571665 | J27: =IF(AND(ISNUMBER(J14),ISNUMBER(J40)),J14-J40,"") -> 0.10110029 | L27: =IF(AND(ISNUMBER(L14),ISNUMBER(L40)),L14-L40,"") -> -2.6599248 | N27: =IF(AND(ISNUMBER(N14),ISNUMBER(N40)),N14-N40,"") -> 0.7712639 | P27: =IF(AND(ISNUMBER(P14),ISNUMBER(P40)),P14-P40,"") -> 7.7554452 | R27: =IF(AND(ISNUMBER(R14),ISNUMBER(R40)),R14-R40,"") -> 5.5418168 | T27: =IF(AND(ISNUMBER(T14),ISNUMBER(T40)),T14-T40,"") -> -3.5675981 | V27: =IF(AND(ISNUMBER(V14),ISNUMBER(V40)),V14-V40,"") -> 0.00066149276
B28: 技能労働者の直用化、常用化 | D28: =IF(AND(ISNUMBER(D15),ISNUMBER(D41)),D15-D41,"") -> 1.1481955 | F28: =IF(AND(ISNUMBER(F15),ISNUMBER(F41)),F15-F41,"") -> -2.712415 | H28: =IF(AND(ISNUMBER(H15),ISNUMBER(H41)),H15-H41,"") -> 5.1951239 | J28: =IF(AND(ISNUMBER(J15),ISNUMBER(J41)),J15-J41,"") -> -2.6001054 | L28: =IF(AND(ISNUMBER(L15),ISNUMBER(L41)),L15-L41,"") -> 1.3458959 | N28: =IF(AND(ISNUMBER(N15),ISNUMBER(N41)),N15-N41,"") -> -4.5177417 | P28: =IF(AND(ISNUMBER(P15),ISNUMBER(P41)),P15-P41,"") -> 3.777655 | R28: =IF(AND(ISNUMBER(R15),ISNUMBER(R41)),R15-R41,"") -> 1.5894377 | T28: =IF(AND(ISNUMBER(T15),ISNUMBER(T41)),T15-T41,"") -> -9.8083731 | V28: =IF(AND(ISNUMBER(V15),ISNUMBER(V41)),V15-V41,"") -> -0.35010364
B29: 技能労働者の多能工化 | D29: =IF(AND(ISNUMBER(D16),ISNUMBER(D42)),D16-D42,"") -> 0.93214503 | F29: =IF(AND(ISNUMBER(F16),ISNUMBER(F42)),F16-F42,"") -> -3.1112294 | H29: =IF(AND(ISNUMBER(H16),ISNUMBER(H42)),H16-H42,"") -> 2.8602332 | J29: =IF(AND(ISNUMBER(J16),ISNUMBER(J42)),J16-J42,"") -> 0.85886866 | L29: =IF(AND(ISNUMBER(L16),ISNUMBER(L42)),L16-L42,"") -> -1.1793173 | N29: =IF(AND(ISNUMBER(N16),ISNUMBER(N42)),N16-N42,"") -> -3.614169 | P29: =IF(AND(ISNUMBER(P16),ISNUMBER(P42)),P16-P42,"") -> 1.7425854 | R29: =IF(AND(ISNUMBER(R16),ISNUMBER(R42)),R16-R42,"") -> 3.8117172 | T29: =IF(AND(ISNUMBER(T16),ISNUMBER(T42)),T16-T42,"") -> -7.5875773 | V29: =IF(AND(ISNUMBER(V16),ISNUMBER(V42)),V16-V42,"") -> 0.15869955
B30: 直用の技能労働者の独立支援 | D30: =IF(AND(ISNUMBER(D17),ISNUMBER(D43)),D17-D43,"") -> 2.8972772 | F30: =IF(AND(ISNUMBER(F17),ISNUMBER(F43)),F17-F43,"") -> -0.65020255 | H30: =IF(AND(ISNUMBER(H17),ISNUMBER(H43)),H17-H43,"") -> 1.3917894 | J30: =IF(AND(ISNUMBER(J17),ISNUMBER(J43)),J17-J43,"") -> -0.30455818 | L30: =IF(AND(ISNUMBER(L17),ISNUMBER(L43)),L17-L43,"") -> 0.47682675 | N30: =IF(AND(ISNUMBER(N17),ISNUMBER(N43)),N17-N43,"") -> -0.83002683 | P30: =IF(AND(ISNUMBER(P17),ISNUMBER(P43)),P17-P43,"") -> 2.0894489 | R30: =IF(AND(ISNUMBER(R17),ISNUMBER(R43)),R17-R43,"") -> -2.1735428 | T30: =IF(AND(ISNUMBER(T17),ISNUMBER(T43)),T17-T43,"") | V30: =IF(AND(ISNUMBER(V17),ISNUMBER(V43)),V17-V43,"") -> 0.32867073
B31: 特に考えていない | D31: =IF(AND(ISNUMBER(D18),ISNUMBER(D44)),D18-D44,"") -> 0.31136821 | F31: =IF(AND(ISNUMBER(F18),ISNUMBER(F44)),F18-F44,"") -> 3.3719026 | H31: =IF(AND(ISNUMBER(H18),ISNUMBER(H44)),H18-H44,"") -> -4.4896342 | J31: =IF(AND(ISNUMBER(J18),ISNUMBER(J44)),J18-J44,"") -> 0.99612682 | L31: =IF(AND(ISNUMBER(L18),ISNUMBER(L44)),L18-L44,"") -> 2.311723 | N31: =IF(AND(ISNUMBER(N18),ISNUMBER(N44)),N18-N44,"") -> -1.7493134 | P31: =IF(AND(ISNUMBER(P18),ISNUMBER(P44)),P18-P44,"") -> -0.6155245 | R31: =IF(AND(ISNUMBER(R18),ISNUMBER(R44)),R18-R44,"") -> -8.7301856 | T31: =IF(AND(ISNUMBER(T18),ISNUMBER(T44)),T18-T44,"") -> 6.5063606 | V31: =IF(AND(ISNUMBER(V18),ISNUMBER(V44)),V18-V44,"") -> 0.32030201
D32: - | F32: - | H32: - | J32: - | L32: - | N32: - | P32: - | R32: - | T32: - | V32: -
A33: H26年度 | B33: 他社との協業化や業務提携、企業連携 | C33: 1342.3514 | D33: 5.2732086 | E33: 2187.9267 | F33: 5.2476635 | G33: 1267.7858 | H33: 5.2145686 | I33: 2863.3124 | J33: 4.5487843 | K33: 770.44263 | L33: 7.072847 | M33: 253.61797 | N33: 6.7246759 | O33: 33.705275 | P33: 5.566504 | Q33: 14.879885 | R33: 10.51582 | S33: 36.121226 | T33: 20.137169 | U33: 8770.1433 | V33: 5.1589275
B34: 他社との合併 | C34: 53.684211 | D34: 0.21088966 | E34: 136.64772 | F34: 0.32774464 | I34: 191.15719 | J34: 0.30368074 | K34: 113.21329 | L34: 1.039325 | M34: 27.583464 | N34: 0.73137504 | O34: 4.8574074 | P34: 0.80221204 | Q34: 3.3333333 | R34: 2.3557126 | S34: 4.4964539 | T34: 2.5067215 | U34: 534.97307 | V34: 0.31469124
B35: 特定部門の別法人化（分社化） | C35: 112.98333 | D35: 0.44383659 | E35: 68.824324 | F35: 0.16507267 | G35: 68.564456 | H35: 0.28201456 | I35: 384.34708 | J35: 0.61059072 | K35: 112.35126 | L35: 1.0314114 | M35: 47.751561 | N35: 1.2661318 | O35: 18.676455 | P35: 3.0844597 | Q35: 1 | R35: 0.70671378 | S35: 2.5815603 | T35: 1.4391903 | U35: 817.08003 | V35: 0.48063715
B36: 協力会社の組織強化、協力会社への取込強化 | C36: 924.12518 | D36: 3.630275 | E36: 2118.3181 | F36: 5.0807097 | G36: 1372.4953 | H36: 5.6452524 | I36: 5658.9655 | J36: 8.9900822 | K36: 1375.9057 | L36: 12.631142 | M36: 571.4157 | N36: 15.151077 | O36: 126.2643 | P36: 20.852841 | Q36: 49.56954 | R36: 35.031477 | S36: 58.833739 | T36: 32.799135 | U36: 12255.893 | V36: 7.2093763
B37: 持ち株会社化 | C37: 109.3731 | D37: 0.42965437 | E37: 565.12851 | F37: 1.3554404 | G37: 458.19772 | H37: 1.884627 | I37: 1519.2821 | J37: 2.4135986 | K37: 578.19298 | L37: 5.3079494 | M37: 154.74053 | N37: 4.1029421 | O37: 40.825739 | P37: 6.742465 | Q37: 8.7298851 | R37: 6.1695301 | S37: 7.4056738 | T37: 4.1285782 | U37: 3441.8762 | V37: 2.0246408
B38: アウトソーシング | C38: 243.85185 | D38: 0.95793221 | E38: 133.18235 | F38: 0.31943307 | G38: 291.76795 | H38: 1.2000797 | I38: 1195.3466 | J38: 1.8989804 | K38: 421.07848 | L38: 3.8656008 | M38: 178.66765 | N38: 4.7373694 | O38: 65.4892 | P38: 10.815693 | Q38: 18.893103 | R38: 13.352017 | S38: 22.030091 | T38: 12.281523 | U38: 2570.3073 | V38: 1.5119512
B39: 同業団体、協同組合等への加入（複数加入） | C39: 2232.4969 | D39: 8.7699999 | E39: 3337.248 | F39: 8.0042693 | G39: 2155.2242 | H39: 8.8647186 | I39: 10322.307 | J39: 16.398471 | K39: 2207.9057 | L39: 20.269101 | M39: 705.15539 | N39: 18.697182 | O39: 141.11324 | P39: 23.305178 | Q39: 33.828544 | R39: 23.907098 | S39: 84.818592 | T39: 47.285392 | U39: 21220.097 | V39: 12.482458
B40: 社内の組織改編 | C40: 398.64963 | D40: 1.56603 | E40: 859.94946 | F40: 2.0625578 | G40: 450.39223 | H40: 1.852522 | I40: 3700.1075 | J40: 5.878154 | K40: 1098.9159 | L40: 10.08831 | M40: 537.09234 | N40: 14.240993 | O40: 164.2939 | P40: 27.133517 | Q40: 41.642912 | R40: 29.42962 | S40: 79.701064 | T40: 44.432429 | U40: 7330.7449 | V40: 4.3122194
B41: 技能労働者の直用化、常用化 | C41: 1954.0103 | D41: 7.6760107 | E41: 6240.3105 | F41: 14.96716 | G41: 3432.8348 | H41: 14.119698 | I41: 15624.43 | J41: 24.821658 | K41: 2833.9713 | L41: 26.016532 | M41: 1011.9876 | N41: 26.832833 | O41: 142.76678 | P41: 23.578262 | Q41: 34.480843 | R41: 24.368087 | S41: 35.315198 | T41: 19.687818 | U41: 31310.107 | V41: 18.41778
B42: 技能労働者の多能工化 | C42: 1144.0552 | D42: 4.4942341 | E42: 4415.6019 | F42: 10.590662 | G42: 2270.0311 | H42: 9.3369343 | I42: 9692.6096 | J42: 15.398107 | K42: 1898.7187 | L42: 17.430691 | M42: 675.05041 | N42: 17.898949 | O42: 91.487877 | P42: 15.109434 | Q42: 21.783142 | R42: 15.394446 | S42: 23.195846 | T42: 12.931418 | U42: 20232.534 | V42: 11.901536
B43: 直用の技能労働者の独立支援 | C43: 488.39724 | D43: 1.9185888 | E43: 1206.0955 | F43: 2.8927768 | G43: 553.3161 | H43: 2.2758614 | I43: 1947.3223 | J43: 3.0936022 | K43: 460.94964 | L43: 4.2316276 | M43: 130.50398 | N43: 3.4603105 | O43: 12.398413 | P43: 2.0476265 | Q43: 5.1143678 | R43: 3.6143942 | S43: 1 | T43: 0.55748853 | U43: 4805.0976 | V43: 2.8265388
B44: 特に考えていない | C44: 19919.71 | D44: 78.25133 | E44: 30831.351 | F44: 73.947886 | G44: 17697.965 | H44: 72.79404 | I44: 38990.293 | J44: 61.9417 | K44: 5941.0056 | L44: 54.539847 | M44: 1981.7789 | N44: 52.54683 | O44: 243.30039 | P44: 40.181621 | Q44: 55.168582 | R44: 38.988397 | S44: 48.207194 | T44: 26.874958 | U44: 115708.78 | V44: 68.064248
C45: 25456.066 | D45: 100 | E45: 41693.35 | F45: 100 | G45: 24312.382 | H45: 100 | I45: 62946.76 | J45: 100 | K45: 10892.963 | L45: 100 | M45: 3771.4528 | N45: 100 | O45: 605.50168 | P45: 100 | Q45: 141.5 | R45: 100 | S45: 179.37589 | T45: 100 | U45: 169999.35 | V45: 100
A46: 増減 | B46: 他社との協業化や業務提携、企業連携 | D46: =IF(AND(ISNUMBER(D33),ISNUMBER(D59)),D33-D59,"") -> 2.5732086 | F46: =IF(AND(ISNUMBER(F33),ISNUMBER(F59)),F33-F59,"") -> 1.9476635 | H46: =IF(AND(ISNUMBER(H33),ISNUMBER(H59)),H33-H59,"") -> 0.51456863 | J46: =IF(AND(ISNUMBER(J33),ISNUMBER(J59)),J33-J59,"") -> -0.75121565 | L46: =IF(AND(ISNUMBER(L33),ISNUMBER(L59)),L33-L59,"") -> 2.472847 | N46: =IF(AND(ISNUMBER(N33),ISNUMBER(N59)),N33-N59,"") -> 0.32467588 | P46: =IF(AND(ISNUMBER(P33),ISNUMBER(P59)),P33-P59,"") -> -1.033496 | R46: =IF(AND(ISNUMBER(R33),ISNUMBER(R59)),R33-R59,"") -> -6.3841802 | T46: =IF(AND(ISNUMBER(T33),ISNUMBER(T59)),T33-T59,"") -> 1.9371693 | V46: =IF(AND(ISNUMBER(V33),ISNUMBER(V59)),V33-V59,"") -> 0.85892753
B47: 他社との合併 | D47: =IF(AND(ISNUMBER(D34),ISNUMBER(D60)),D34-D60,"") -> -0.28911034 | F47: =IF(AND(ISNUMBER(F34),ISNUMBER(F60)),F34-F60,"") | H47: =IF(AND(ISNUMBER(H34),ISNUMBER(H60)),H34-H60,"") | J47: =IF(AND(ISNUMBER(J34),ISNUMBER(J60)),J34-J60,"") -> 0.0036807422 | L47: =IF(AND(ISNUMBER(L34),ISNUMBER(L60)),L34-L60,"") -> 0.13932497 | N47: =IF(AND(ISNUMBER(N34),ISNUMBER(N60)),N34-N60,"") -> -0.86862496 | P47: =IF(AND(ISNUMBER(P34),ISNUMBER(P60)),P34-P60,"") -> -1.397788 | R47: =IF(AND(ISNUMBER(R34),ISNUMBER(R60)),R34-R60,"") -> -1.5442874 | T47: =IF(AND(ISNUMBER(T34),ISNUMBER(T60)),T34-T60,"") -> 0.60672149 | V47: =IF(AND(ISNUMBER(V34),ISNUMBER(V60)),V34-V60,"") -> 0.014691241
B48: 特定部門の別法人化（分社化） | D48: =IF(AND(ISNUMBER(D35),ISNUMBER(D61)),D35-D61,"") | F48: =IF(AND(ISNUMBER(F35),ISNUMBER(F61)),F35-F61,"") | H48: =IF(AND(ISNUMBER(H35),ISNUMBER(H61)),H35-H61,"") -> -0.11798544 | J48: =IF(AND(ISNUMBER(J35),ISNUMBER(J61)),J35-J61,"") -> 0.11059072 | L48: =IF(AND(ISNUMBER(L35),ISNUMBER(L61)),L35-L61,"") -> -0.16858861 | N48: =IF(AND(ISNUMBER(N35),ISNUMBER(N61)),N35-N61,"") -> -1.1338682 | P48: =IF(AND(ISNUMBER(P35),ISNUMBER(P61)),P35-P61,"") -> 0.68445965 | R48: =IF(AND(ISNUMBER(R35),ISNUMBER(R61)),R35-R61,"") -> -5.1932862 | T48: =IF(AND(ISNUMBER(T35),ISNUMBER(T61)),T35-T61,"") -> -5.2608097 | V48: =IF(AND(ISNUMBER(V35),ISNUMBER(V61)),V35-V61,"") -> 0.080637149
B49: 協力会社の組織強化、協力会社への取込強化 | D49: =IF(AND(ISNUMBER(D36),ISNUMBER(D62)),D36-D62,"") -> -0.46972502 | F49: =IF(AND(ISNUMBER(F36),ISNUMBER(F62)),F36-F62,"") -> 0.48070967 | H49: =IF(AND(ISNUMBER(H36),ISNUMBER(H62)),H36-H62,"") -> 1.0452524 | J49: =IF(AND(ISNUMBER(J36),ISNUMBER(J62)),J36-J62,"") -> 1.8900822 | L49: =IF(AND(ISNUMBER(L36),ISNUMBER(L62)),L36-L62,"") -> 2.1311422 | N49: =IF(AND(ISNUMBER(N36),ISNUMBER(N62)),N36-N62,"") -> -1.1489233 | P49: =IF(AND(ISNUMBER(P36),ISNUMBER(P62)),P36-P62,"") -> 1.0528408 | R49: =IF(AND(ISNUMBER(R36),ISNUMBER(R62)),R36-R62,"") -> 5.2314772 | T49: =IF(AND(ISNUMBER(T36),ISNUMBER(T62)),T36-T62,"") -> -2.4008653 | V49: =IF(AND(ISNUMBER(V36),ISNUMBER(V62)),V36-V62,"") -> 1.0093763
B50: 持ち株会社化 | D50: =IF(AND(ISNUMBER(D37),ISNUMBER(D63)),D37-D63,"") -> 0.42965437 | F50: =IF(AND(ISNUMBER(F37),ISNUMBER(F63)),F37-F63,"") -> 0.6554404 | H50: =IF(AND(ISNUMBER(H37),ISNUMBER(H63)),H37-H63,"") -> 0.88462704 | J50: =IF(AND(ISNUMBER(J37),ISNUMBER(J63)),J37-J63,"") -> -0.086401442 | L50: =IF(AND(ISNUMBER(L37),ISNUMBER(L63)),L37-L63,"") -> 1.5079494 | N50: =IF(AND(ISNUMBER(N37),ISNUMBER(N63)),N37-N63,"") -> -0.69705785 | P50: =IF(AND(ISNUMBER(P37),ISNUMBER(P63)),P37-P63,"") -> 1.442465 | R50: =IF(AND(ISNUMBER(R37),ISNUMBER(R63)),R37-R63,"") -> -3.7304699 | T50: =IF(AND(ISNUMBER(T37),ISNUMBER(T63)),T37-T63,"") -> -1.7714218 | V50: =IF(AND(ISNUMBER(V37),ISNUMBER(V63)),V37-V63,"") -> 0.4246408
B51: アウトソーシング | D51: =IF(AND(ISNUMBER(D38),ISNUMBER(D64)),D38-D64,"") -> 0.85793221 | F51: =IF(AND(ISNUMBER(F38),ISNUMBER(F64)),F38-F64,"") -> -0.58056693 | H51: =IF(AND(ISNUMBER(H38),ISNUMBER(H64)),H38-H64,"") -> 0.20007968 | J51: =IF(AND(ISNUMBER(J38),ISNUMBER(J64)),J38-J64,"") -> 0.59898035 | L51: =IF(AND(ISNUMBER(L38),ISNUMBER(L64)),L38-L64,"") -> 2.1656008 | N51: =IF(AND(ISNUMBER(N38),ISNUMBER(N64)),N38-N64,"") -> -0.062630594 | P51: =IF(AND(ISNUMBER(P38),ISNUMBER(P64)),P38-P64,"") -> 0.41569254 | R51: =IF(AND(ISNUMBER(R38),ISNUMBER(R64)),R38-R64,"") -> -2.1479834 | T51: =IF(AND(ISNUMBER(T38),ISNUMBER(T64)),T38-T64,"") -> -3.5184768 | V51: =IF(AND(ISNUMBER(V38),ISNUMBER(V64)),V38-V64,"") -> 0.41195123
B52: 同業団体、協同組合等への加入（複数加入） | D52: =IF(AND(ISNUMBER(D39),ISNUMBER(D65)),D39-D65,"") -> 0.26999994 | F52: =IF(AND(ISNUMBER(F39),ISNUMBER(F65)),F39-F65,"") -> -0.29573067 | H52: =IF(AND(ISNUMBER(H39),ISNUMBER(H65)),H39-H65,"") -> -2.2352814 | J52: =IF(AND(ISNUMBER(J39),ISNUMBER(J65)),J39-J65,"") -> 0.99847146 | L52: =IF(AND(ISNUMBER(L39),ISNUMBER(L65)),L39-L65,"") -> -0.53089945 | N52: =IF(AND(ISNUMBER(N39),ISNUMBER(N65)),N39-N65,"") -> -0.40281786 | P52: =IF(AND(ISNUMBER(P39),ISNUMBER(P65)),P39-P65,"") -> 3.0051778 | R52: =IF(AND(ISNUMBER(R39),ISNUMBER(R65)),R39-R65,"") -> 2.8070983 | T52: =IF(AND(ISNUMBER(T39),ISNUMBER(T65)),T39-T65,"") -> -1.0146077 | V52: =IF(AND(ISNUMBER(V39),ISNUMBER(V65)),V39-V65,"") -> -0.017542265
B53: 社内の組織改編 | D53: =IF(AND(ISNUMBER(D40),ISNUMBER(D66)),D40-D66,"") -> 1.26603 | F53: =IF(AND(ISNUMBER(F40),ISNUMBER(F66)),F40-F66,"") -> -0.037442154 | H53: =IF(AND(ISNUMBER(H40),ISNUMBER(H66)),H40-H66,"") -> -0.64747797 | J53: =IF(AND(ISNUMBER(J40),ISNUMBER(J66)),J40-J66,"") -> 0.17815402 | L53: =IF(AND(ISNUMBER(L40),ISNUMBER(L66)),L40-L66,"") -> -0.51169026 | N53: =IF(AND(ISNUMBER(N40),ISNUMBER(N66)),N40-N66,"") -> -1.6590065 | P53: =IF(AND(ISNUMBER(P40),ISNUMBER(P66)),P40-P66,"") -> -0.66648328 | R53: =IF(AND(ISNUMBER(R40),ISNUMBER(R66)),R40-R66,"") -> -4.6703803 | T53: =IF(AND(ISNUMBER(T40),ISNUMBER(T66)),T40-T66,"") -> -13.867571 | V53: =IF(AND(ISNUMBER(V40),ISNUMBER(V66)),V40-V66,"") -> 0.012219362
B54: 技能労働者の直用化、常用化 | D54: =IF(AND(ISNUMBER(D41),ISNUMBER(D67)),D41-D67,"") -> -0.12398927 | F54: =IF(AND(ISNUMBER(F41),ISNUMBER(F67)),F41-F67,"") -> -0.23283975 | H54: =IF(AND(ISNUMBER(H41),ISNUMBER(H67)),H41-H67,"") -> 0.5196979 | J54: =IF(AND(ISNUMBER(J41),ISNUMBER(J67)),J41-J67,"") -> 0.021657886 | L54: =IF(AND(ISNUMBER(L41),ISNUMBER(L67)),L41-L67,"") -> -1.0834678 | N54: =IF(AND(ISNUMBER(N41),ISNUMBER(N67)),N41-N67,"") -> 2.0328328 | P54: =IF(AND(ISNUMBER(P41),ISNUMBER(P67)),P41-P67,"") -> -0.42173752 | R54: =IF(AND(ISNUMBER(R41),ISNUMBER(R67)),R41-R67,"") -> 8.9680869 | T54: =IF(AND(ISNUMBER(T41),ISNUMBER(T67)),T41-T67,"") -> 0.58781772 | V54: =IF(AND(ISNUMBER(V41),ISNUMBER(V67)),V41-V67,"") -> 0.017780237
B55: 技能労働者の多能工化 | D55: =IF(AND(ISNUMBER(D42),ISNUMBER(D68)),D42-D68,"") -> -0.1057659 | F55: =IF(AND(ISNUMBER(F42),ISNUMBER(F68)),F42-F68,"") -> 0.29066226 | H55: =IF(AND(ISNUMBER(H42),ISNUMBER(H68)),H42-H68,"") -> 1.3369343 | J55: =IF(AND(ISNUMBER(J42),ISNUMBER(J68)),J42-J68,"") -> -1.5018929 | L55: =IF(AND(ISNUMBER(L42),ISNUMBER(L68)),L42-L68,"") -> 3.3306906 | N55: =IF(AND(ISNUMBER(N42),ISNUMBER(N68)),N42-N68,"") -> 1.998949 | P55: =IF(AND(ISNUMBER(P42),ISNUMBER(P68)),P42-P68,"") -> 0.20943409 | R55: =IF(AND(ISNUMBER(R42),ISNUMBER(R68)),R42-R68,"") -> 2.5944465 | T55: =IF(AND(ISNUMBER(T42),ISNUMBER(T68)),T42-T68,"") -> -1.3685818 | V55: =IF(AND(ISNUMBER(V42),ISNUMBER(V68)),V42-V68,"") -> -0.098464146
B56: 直用の技能労働者の独立支援 | D56: =IF(AND(ISNUMBER(D43),ISNUMBER(D69)),D43-D69,"") -> -0.98141116 | F56: =IF(AND(ISNUMBER(F43),ISNUMBER(F69)),F43-F69,"") -> -1.1072232 | H56: =IF(AND(ISNUMBER(H43),ISNUMBER(H69)),H43-H69,"") -> 0.17586139 | J56: =IF(AND(ISNUMBER(J43),ISNUMBER(J69)),J43-J69,"") -> -0.60639783 | L56: =IF(AND(ISNUMBER(L43),ISNUMBER(L69)),L43-L69,"") -> 1.5316276 | N56: =IF(AND(ISNUMBER(N43),ISNUMBER(N69)),N43-N69,"") -> 0.56031047 | P56: =IF(AND(ISNUMBER(P43),ISNUMBER(P69)),P43-P69,"") -> 0.34762647 | R56: =IF(AND(ISNUMBER(R43),ISNUMBER(R69)),R43-R69,"") -> 2.5143942 | T56: =IF(AND(ISNUMBER(T43),ISNUMBER(T69)),T43-T69,"") -> 0.15748853 | V56: =IF(AND(ISNUMBER(V43),ISNUMBER(V69)),V43-V69,"") -> -0.4734612
B57: 特に考えていない | D57: =IF(AND(ISNUMBER(D44),ISNUMBER(D70)),D44-D70,"") -> -2.8486705 | F57: =IF(AND(ISNUMBER(F44),ISNUMBER(F70)),F44-F70,"") -> -0.4521136 | H57: =IF(AND(ISNUMBER(H44),ISNUMBER(H70)),H44-H70,"") -> 1.1940405 | J57: =IF(AND(ISNUMBER(J44),ISNUMBER(J70)),J44-J70,"") -> 2.5416999 | L57: =IF(AND(ISNUMBER(L44),ISNUMBER(L70)),L44-L70,"") -> -2.5601528 | N57: =IF(AND(ISNUMBER(N44),ISNUMBER(N70)),N44-N70,"") -> 0.6468303 | P57: =IF(AND(ISNUMBER(P44),ISNUMBER(P70)),P44-P70,"") -> -4.8183792 | R57: =IF(AND(ISNUMBER(R44),ISNUMBER(R70)),R44-R70,"") -> 2.2883974 | T57: =IF(AND(ISNUMBER(T44),ISNUMBER(T70)),T44-T70,"") -> 6.8749576 | V57: =IF(AND(ISNUMBER(V44),ISNUMBER(V70)),V44-V70,"") -> 0.46424788
D58: - | F58: - | H58: - | J58: - | L58: - | N58: - | P58: - | R58: - | T58: - | V58: -
A59: H23年度 | B59: 他社との協業化や業務提携、企業連携 | C59: 698.85 | D59: 2.7 | E59: 1299.15 | F59: 3.3 | G59: 1063.5 | H59: 4.7 | I59: 3261.58 | J59: 5.3 | K59: 501.44 | L59: 4.6 | M59: 235.96 | N59: 6.4 | O59: 39.73 | P59: 6.6 | Q59: 26.48 | R59: 16.9 | S59: 33.03 | T59: 18.2 | U59: 7159.72 | V59: 4.3
B60: 他社との合併 | C60: 118.69 | D60: 0.5 | G60: 62.62 | H60: 0.3 | I60: 194.56 | J60: 0.3 | K60: 94.17 | L60: 0.9 | M60: 58.97 | N60: 1.6 | O60: 13.06 | P60: 2.2 | Q60: 6.19 | R60: 3.9 | S60: 3.44 | T60: 1.9 | U60: 551.69 | V60: 0.3
B61: 特定部門の別法人化（分社化） | G61: 95.49 | H61: 0.4 | I61: 308.41 | J61: 0.5 | K61: 133.09 | L61: 1.2 | M61: 88.4 | N61: 2.4 | O61: 14.22 | P61: 2.4 | Q61: 9.23 | R61: 5.9 | S61: 12.21 | T61: 6.7 | U61: 661.06 | V61: 0.4
B62: 協力会社の組織強化、協力会社への取込強化 | C62: 1038.24 | D62: 4.1 | E62: 1829.4 | F62: 4.6 | G62: 1031.59 | H62: 4.6 | I62: 4393.8 | J62: 7.1 | K62: 1151.71 | L62: 10.5 | M62: 602.99 | N62: 16.3 | O62: 118.47 | P62: 19.8 | Q62: 46.78 | R62: 29.8 | S62: 63.77 | T62: 35.2 | U62: 10276.75 | V62: 6.2
B63: 持ち株会社化 | C63: 8.22 | D63: 0 | E63: 271.05 | F63: 0.7 | G63: 219.72 | H63: 1 | I63: 1546.75 | J63: 2.5 | K63: 410.04 | L63: 3.8 | M63: 176.22 | N63: 4.8 | O63: 31.44 | P63: 5.3 | Q63: 15.5 | R63: 9.9 | S63: 10.67 | T63: 5.9 | U63: 2689.61 | V63: 1.6
B64: アウトソーシング | C64: 17.52 | D64: 0.1 | E64: 350.62 | F64: 0.9 | G64: 214.7 | H64: 1 | I64: 832.52 | J64: 1.3 | K64: 184.13 | L64: 1.7 | M64: 179.69 | N64: 4.8 | O64: 62.45 | P64: 10.4 | Q64: 24.24 | R64: 15.5 | S64: 28.58 | T64: 15.8 | U64: 1894.47 | V64: 1.1
B65: 同業団体、協同組合等への加入（複数加入） | C65: 2170.95 | D65: 8.5 | E65: 3308.04 | F65: 8.3 | G65: 2487.91 | H65: 11.1 | I65: 9516.4 | J65: 15.4 | K65: 2270.71 | L65: 20.8 | M65: 709.06 | N65: 19.1 | O65: 121.18 | P65: 20.3 | Q65: 33.12 | R65: 21.1 | S65: 87.49 | T65: 48.3 | U65: 20704.87 | V65: 12.5
B66: 社内の組織改編 | C66: 71.55 | D66: 0.3 | E66: 851.31 | F66: 2.1 | G66: 569.26 | H66: 2.5 | I66: 3516.24 | J66: 5.7 | K66: 1152.3 | L66: 10.6 | M66: 588.49 | N66: 15.9 | O66: 166.34 | P66: 27.8 | Q66: 53.53 | R66: 34.1 | S66: 105.46 | T66: 58.3 | U66: 7074.47 | V66: 4.3
B67: 技能労働者の直用化、常用化 | C67: 1990.67 | D67: 7.8 | E67: 6041.05 | F67: 15.2 | G67: 3064.71 | H67: 13.6 | I67: 15306.16 | J67: 24.8 | K67: 2958.26 | L67: 27.1 | M67: 917.85 | N67: 24.8 | O67: 143.5 | P67: 24 | Q67: 24.21 | R67: 15.4 | S67: 34.53 | T67: 19.1 | U67: 30480.95 | V67: 18.4
B68: 技能労働者の多能工化 | C68: 1179.91 | D68: 4.6 | E68: 4081.86 | F68: 10.3 | G68: 1792.47 | H68: 8 | I68: 10447.8 | J68: 16.9 | K68: 1545.13 | L68: 14.1 | M68: 588.96 | N68: 15.9 | O68: 88.84 | P68: 14.9 | Q68: 20.07 | R68: 12.8 | S68: 25.97 | T68: 14.3 | U68: 19771.02 | V68: 12
B69: 直用の技能労働者の独立支援 | C69: 747.34 | D69: 2.9 | E69: 1602.89 | F69: 4 | G69: 481.9 | H69: 2.1 | I69: 2268.99 | J69: 3.7 | K69: 292.84 | L69: 2.7 | M69: 107.79 | N69: 2.9 | O69: 10.3 | P69: 1.7 | Q69: 1.75 | R69: 1.1 | S69: 0.67 | T69: 0.4 | U69: 5514.46 | V69: 3.3
B70: 特に考えていない | C70: 20688.05 | D70: 81.1 | E70: 29643.57 | F70: 74.4 | G70: 16096.07 | H70: 71.6 | I70: 36741.79 | J70: 59.4 | K70: 6234.34 | L70: 57.1 | M70: 1923.11 | N70: 51.9 | O70: 269.02 | P70: 45 | Q70: 57.47 | R70: 36.7 | S70: 36.13 | T70: 20 | U70: 111689.55 | V70: 67.6
C71: 25521.03 | D71: 100 | E71: 39822.22 | F71: 100 | G71: 22476.65 | H71: 100 | I71: 61827.47 | J71: 100 | K71: 10921.93 | L71: 100 | M71: 3705.09 | N71: 100 | O71: 598.23 | P71: 100 | Q71: 156.78 | R71: 100 | S71: 181.03 | T71: 100 | U71: 165210.43 | V71: 100
A72: 増減 | B72: 他社との協業化や業務提携、企業連携 | D72: =IF(AND(ISNUMBER(D59),ISNUMBER(D85)),D59-D85,"") -> 0.4 | F72: =IF(AND(ISNUMBER(F59),ISNUMBER(F85)),F59-F85,"") -> -1.3 | H72: =IF(AND(ISNUMBER(H59),ISNUMBER(H85)),H59-H85,"") -> 0.2 | J72: =IF(AND(ISNUMBER(J59),ISNUMBER(J85)),J59-J85,"") -> 1.3 | L72: =IF(AND(ISNUMBER(L59),ISNUMBER(L85)),L59-L85,"") -> -0.9 | N72: =IF(AND(ISNUMBER(N59),ISNUMBER(N85)),N59-N85,"") -> -0.8 | P72: =IF(AND(ISNUMBER(P59),ISNUMBER(P85)),P59-P85,"") -> 0.1 | R72: =IF(AND(ISNUMBER(R59),ISNUMBER(R85)),R59-R85,"") -> 10.7 | T72: =IF(AND(ISNUMBER(T59),ISNUMBER(T85)),T59-T85,"") -> -16.1 | V72: =IF(AND(ISNUMBER(V59),ISNUMBER(V85)),V59-V85,"") -> 0.2
B73: 他社との合併 | D73: =IF(AND(ISNUMBER(D60),ISNUMBER(D86)),D60-D86,"") -> 0.4 | F73: =IF(AND(ISNUMBER(F60),ISNUMBER(F86)),F60-F86,"") | H73: =IF(AND(ISNUMBER(H60),ISNUMBER(H86)),H60-H86,"") -> 0.1 | J73: =IF(AND(ISNUMBER(J60),ISNUMBER(J86)),J60-J86,"") -> 0.1 | L73: =IF(AND(ISNUMBER(L60),ISNUMBER(L86)),L60-L86,"") -> 0.2 | N73: =IF(AND(ISNUMBER(N60),ISNUMBER(N86)),N60-N86,"") -> 0.3 | P73: =IF(AND(ISNUMBER(P60),ISNUMBER(P86)),P60-P86,"") -> 0.8 | R73: =IF(AND(ISNUMBER(R60),ISNUMBER(R86)),R60-R86,"") -> -3.3 | T73: =IF(AND(ISNUMBER(T60),ISNUMBER(T86)),T60-T86,"") -> -2.6 | V73: =IF(AND(ISNUMBER(V60),ISNUMBER(V86)),V60-V86,"") -> 0
B74: 特定部門の別法人化（分社化） | D74: =IF(AND(ISNUMBER(D61),ISNUMBER(D87)),D61-D87,"") | F74: =IF(AND(ISNUMBER(F61),ISNUMBER(F87)),F61-F87,"") | H74: =IF(AND(ISNUMBER(H61),ISNUMBER(H87)),H61-H87,"") -> -0.3 | J74: =IF(AND(ISNUMBER(J61),ISNUMBER(J87)),J61-J87,"") -> -0.6 | L74: =IF(AND(ISNUMBER(L61),ISNUMBER(L87)),L61-L87,"") -> -0.1 | N74: =IF(AND(ISNUMBER(N61),ISNUMBER(N87)),N61-N87,"") -> -0.7 | P74: =IF(AND(ISNUMBER(P61),ISNUMBER(P87)),P61-P87,"") -> -1.3 | R74: =IF(AND(ISNUMBER(R61),ISNUMBER(R87)),R61-R87,"") -> -1.9 | T74: =IF(AND(ISNUMBER(T61),ISNUMBER(T87)),T61-T87,"") -> 2.2 | V74: =IF(AND(ISNUMBER(V61),ISNUMBER(V87)),V61-V87,"") -> -0.4
B75: 協力会社の組織強化、協力会社への取込強化 | D75: =IF(AND(ISNUMBER(D62),ISNUMBER(D88)),D62-D88,"") -> 0.6 | F75: =IF(AND(ISNUMBER(F62),ISNUMBER(F88)),F62-F88,"") -> -1.4 | H75: =IF(AND(ISNUMBER(H62),ISNUMBER(H88)),H62-H88,"") -> -0.1 | J75: =IF(AND(ISNUMBER(J62),ISNUMBER(J88)),J62-J88,"") -> 0.5 | L75: =IF(AND(ISNUMBER(L62),ISNUMBER(L88)),L62-L88,"") -> 1 | N75: =IF(AND(ISNUMBER(N62),ISNUMBER(N88)),N62-N88,"") -> 2.1 | P75: =IF(AND(ISNUMBER(P62),ISNUMBER(P88)),P62-P88,"") -> 1 | R75: =IF(AND(ISNUMBER(R62),ISNUMBER(R88)),R62-R88,"") -> 1.1 | T75: =IF(AND(ISNUMBER(T62),ISNUMBER(T88)),T62-T88,"") -> 5 | V75: =IF(AND(ISNUMBER(V62),ISNUMBER(V88)),V62-V88,"") -> 0.1
B76: 持ち株会社化 | D76: =IF(AND(ISNUMBER(D63),ISNUMBER(D89)),D63-D89,"") | F76: =IF(AND(ISNUMBER(F63),ISNUMBER(F89)),F63-F89,"") -> -0.2 | H76: =IF(AND(ISNUMBER(H63),ISNUMBER(H89)),H63-H89,"") -> 0.1 | J76: =IF(AND(ISNUMBER(J63),ISNUMBER(J89)),J63-J89,"") -> 0.2 | L76: =IF(AND(ISNUMBER(L63),ISNUMBER(L89)),L63-L89,"") -> 1.2 | N76: =IF(AND(ISNUMBER(N63),ISNUMBER(N89)),N63-N89,"") -> 2.2 | P76: =IF(AND(ISNUMBER(P63),ISNUMBER(P89)),P63-P89,"") -> 0.8 | R76: =IF(AND(ISNUMBER(R63),ISNUMBER(R89)),R63-R89,"") -> -2.1 | T76: =IF(AND(ISNUMBER(T63),ISNUMBER(T89)),T63-T89,"") -> 0 | V76: =IF(AND(ISNUMBER(V63),ISNUMBER(V89)),V63-V89,"") -> 0.2
B77: アウトソーシング | D77: =IF(AND(ISNUMBER(D64),ISNUMBER(D90)),D64-D90,"") -> -0.6 | F77: =IF(AND(ISNUMBER(F64),ISNUMBER(F90)),F64-F90,"") -> 0.5 | H77: =IF(AND(ISNUMBER(H64),ISNUMBER(H90)),H64-H90,"") -> 0.4 | J77: =IF(AND(ISNUMBER(J64),ISNUMBER(J90)),J64-J90,"") -> -0.1 | L77: =IF(AND(ISNUMBER(L64),ISNUMBER(L90)),L64-L90,"") -> -0.6 | N77: =IF(AND(ISNUMBER(N64),ISNUMBER(N90)),N64-N90,"") -> -0.3 | P77: =IF(AND(ISNUMBER(P64),ISNUMBER(P90)),P64-P90,"") -> 4.8 | R77: =IF(AND(ISNUMBER(R64),ISNUMBER(R90)),R64-R90,"") -> 5 | T77: =IF(AND(ISNUMBER(T64),ISNUMBER(T90)),T64-T90,"") -> 0.7 | V77: =IF(AND(ISNUMBER(V64),ISNUMBER(V90)),V64-V90,"") -> 0
B78: 同業団体、協同組合等への加入（複数加入） | D78: =IF(AND(ISNUMBER(D65),ISNUMBER(D91)),D65-D91,"") -> 1.3 | F78: =IF(AND(ISNUMBER(F65),ISNUMBER(F91)),F65-F91,"") -> -0.3 | H78: =IF(AND(ISNUMBER(H65),ISNUMBER(H91)),H65-H91,"") -> 1.3 | J78: =IF(AND(ISNUMBER(J65),ISNUMBER(J91)),J65-J91,"") -> -2.7 | L78: =IF(AND(ISNUMBER(L65),ISNUMBER(L91)),L65-L91,"") -> 3.1 | N78: =IF(AND(ISNUMBER(N65),ISNUMBER(N91)),N65-N91,"") -> -2.1 | P78: =IF(AND(ISNUMBER(P65),ISNUMBER(P91)),P65-P91,"") -> -4.8 | R78: =IF(AND(ISNUMBER(R65),ISNUMBER(R91)),R65-R91,"") -> -0.2 | T78: =IF(AND(ISNUMBER(T65),ISNUMBER(T91)),T65-T91,"") -> 9 | V78: =IF(AND(ISNUMBER(V65),ISNUMBER(V91)),V65-V91,"") -> -0.6
B79: 社内の組織改編 | D79: =IF(AND(ISNUMBER(D66),ISNUMBER(D92)),D66-D92,"") -> -0.6 | F79: =IF(AND(ISNUMBER(F66),ISNUMBER(F92)),F66-F92,"") -> -0.9 | H79: =IF(AND(ISNUMBER(H66),ISNUMBER(H92)),H66-H92,"") -> -0.1 | J79: =IF(AND(ISNUMBER(J66),ISNUMBER(J92)),J66-J92,"") -> -1.5 | L79: =IF(AND(ISNUMBER(L66),ISNUMBER(L92)),L66-L92,"") -> 0.3 | N79: =IF(AND(ISNUMBER(N66),ISNUMBER(N92)),N66-N92,"") -> -1.4 | P79: =IF(AND(ISNUMBER(P66),ISNUMBER(P92)),P66-P92,"") -> 1.9 | R79: =IF(AND(ISNUMBER(R66),ISNUMBER(R92)),R66-R92,"") -> -4.1 | T79: =IF(AND(ISNUMBER(T66),ISNUMBER(T92)),T66-T92,"") -> 10.6 | V79: =IF(AND(ISNUMBER(V66),ISNUMBER(V92)),V66-V92,"") -> -0.8
B80: 技能労働者の直用化、常用化 | D80: =IF(AND(ISNUMBER(D67),ISNUMBER(D93)),D67-D93,"") -> -0.8 | F80: =IF(AND(ISNUMBER(F67),ISNUMBER(F93)),F67-F93,"") -> 2 | H80: =IF(AND(ISNUMBER(H67),ISNUMBER(H93)),H67-H93,"") -> -3.4 | J80: =IF(AND(ISNUMBER(J67),ISNUMBER(J93)),J67-J93,"") -> 1.7 | L80: =IF(AND(ISNUMBER(L67),ISNUMBER(L93)),L67-L93,"") -> 1.4 | N80: =IF(AND(ISNUMBER(N67),ISNUMBER(N93)),N67-N93,"") -> -2.7 | P80: =IF(AND(ISNUMBER(P67),ISNUMBER(P93)),P67-P93,"") -> 2.4 | R80: =IF(AND(ISNUMBER(R67),ISNUMBER(R93)),R67-R93,"") -> -7.2 | T80: =IF(AND(ISNUMBER(T67),ISNUMBER(T93)),T67-T93,"") -> -0.5 | V80: =IF(AND(ISNUMBER(V67),ISNUMBER(V93)),V67-V93,"") -> 0.7
B81: 技能労働者の多能工化 | D81: =IF(AND(ISNUMBER(D68),ISNUMBER(D94)),D68-D94,"") -> -1.2 | F81: =IF(AND(ISNUMBER(F68),ISNUMBER(F94)),F68-F94,"") -> 0.1 | H81: =IF(AND(ISNUMBER(H68),ISNUMBER(H94)),H68-H94,"") -> -3.3 | J81: =IF(AND(ISNUMBER(J68),ISNUMBER(J94)),J68-J94,"") -> 0.9 | L81: =IF(AND(ISNUMBER(L68),ISNUMBER(L94)),L68-L94,"") -> -3.1 | N81: =IF(AND(ISNUMBER(N68),ISNUMBER(N94)),N68-N94,"") -> -2 | P81: =IF(AND(ISNUMBER(P68),ISNUMBER(P94)),P68-P94,"") -> -4 | R81: =IF(AND(ISNUMBER(R68),ISNUMBER(R94)),R68-R94,"") -> 1 | T81: =IF(AND(ISNUMBER(T68),ISNUMBER(T94)),T68-T94,"") -> -2.7 | V81: =IF(AND(ISNUMBER(V68),ISNUMBER(V94)),V68-V94,"") -> -0.4
B82: 直用の技能労働者の独立支援 | D82: =IF(AND(ISNUMBER(D69),ISNUMBER(D95)),D69-D95,"") -> 2.3 | F82: =IF(AND(ISNUMBER(F69),ISNUMBER(F95)),F69-F95,"") -> 0.6 | H82: =IF(AND(ISNUMBER(H69),ISNUMBER(H95)),H69-H95,"") -> 0.1 | J82: =IF(AND(ISNUMBER(J69),ISNUMBER(J95)),J69-J95,"") -> 0.4 | L82: =IF(AND(ISNUMBER(L69),ISNUMBER(L95)),L69-L95,"") -> -0.1 | N82: =IF(AND(ISNUMBER(N69),ISNUMBER(N95)),N69-N95,"") -> -1.9 | P82: =IF(AND(ISNUMBER(P69),ISNUMBER(P95)),P69-P95,"") -> -3.6 | R82: =IF(AND(ISNUMBER(R69),ISNUMBER(R95)),R69-R95,"") -> -0.1 | T82: =IF(AND(ISNUMBER(T69),ISNUMBER(T95)),T69-T95,"") -> -1.2 | V82: =IF(AND(ISNUMBER(V69),ISNUMBER(V95)),V69-V95,"") -> 0.6
B83: 特に考えていない | D83: =IF(AND(ISNUMBER(D70),ISNUMBER(D96)),D70-D96,"") -> -1.1 | F83: =IF(AND(ISNUMBER(F70),ISNUMBER(F96)),F70-F96,"") -> -0.3 | H83: =IF(AND(ISNUMBER(H70),ISNUMBER(H96)),H70-H96,"") -> 2 | J83: =IF(AND(ISNUMBER(J70),ISNUMBER(J96)),J70-J96,"") -> -0.9 | L83: =IF(AND(ISNUMBER(L70),ISNUMBER(L96)),L70-L96,"") -> 1.6 | N83: =IF(AND(ISNUMBER(N70),ISNUMBER(N96)),N70-N96,"") -> 3.6 | P83: =IF(AND(ISNUMBER(P70),ISNUMBER(P96)),P70-P96,"") -> -0.4 | R83: =IF(AND(ISNUMBER(R70),ISNUMBER(R96)),R70-R96,"") -> 5.2 | T83: =IF(AND(ISNUMBER(T70),ISNUMBER(T96)),T70-T96,"") -> -2.8 | V83: =IF(AND(ISNUMBER(V70),ISNUMBER(V96)),V70-V96,"") -> -0.4
D84: - | F84: - | H84: - | J84: - | L84: - | N84: - | P84: - | R84: - | T84: - | V84: -
A85: H20年度 | B85: 他社との協業化や業務提携、企業連携 | C85: 801 | D85: 2.3 | E85: 1986 | F85: 4.6 | G85: 1027 | H85: 4.5 | I85: 2946 | J85: 4 | K85: 697 | L85: 5.5 | M85: 291 | N85: 7.2 | O85: 45 | P85: 6.5 | Q85: 11 | R85: 6.2 | S85: 72 | T85: 34.3 | U85: 7876 | V85: 4.1
B86: 他社との合併 | C86: 37 | D86: 0.1 | E86: 111 | F86: 0.3 | G86: 46 | H86: 0.2 | I86: 155 | J86: 0.2 | K86: 94 | L86: 0.7 | M86: 53 | N86: 1.3 | O86: 10 | P86: 1.4 | Q86: 13 | R86: 7.2 | S86: 9 | T86: 4.5 | U86: 528 | V86: 0.3
B87: 特定部門の別法人化（分社化） | C87: 51 | D87: 0.1 | E87: 126 | F87: 0.3 | G87: 154 | H87: 0.7 | I87: 827 | J87: 1.1 | K87: 169 | L87: 1.3 | M87: 124 | N87: 3.1 | O87: 26 | P87: 3.7 | Q87: 14 | R87: 7.8 | S87: 9 | T87: 4.5 | U87: 1501 | V87: 0.8
B88: 協力会社の組織強化、協力会社への取込強化 | C88: 1233 | D88: 3.5 | E88: 2573 | F88: 6 | G88: 1065 | H88: 4.7 | I88: 4824 | J88: 6.6 | K88: 1213 | L88: 9.5 | M88: 574 | N88: 14.2 | O88: 132 | P88: 18.8 | Q88: 53 | R88: 28.7 | S88: 63 | T88: 30.2 | U88: 11729 | V88: 6.1
B89: 持ち株会社化 | E89: 367 | F89: 0.9 | G89: 199 | H89: 0.9 | I89: 1707 | J89: 2.3 | K89: 334 | L89: 2.6 | M89: 107 | N89: 2.6 | O89: 32 | P89: 4.5 | Q89: 22 | R89: 12 | S89: 12 | T89: 5.9 | U89: 2780 | V89: 1.4
B90: アウトソーシング | C90: 248 | D90: 0.7 | E90: 165 | F90: 0.4 | G90: 138 | H90: 0.6 | I90: 1013 | J90: 1.4 | K90: 288 | L90: 2.3 | M90: 206 | N90: 5.1 | O90: 39 | P90: 5.6 | Q90: 19 | R90: 10.5 | S90: 32 | T90: 15.1 | U90: 2149 | V90: 1.1
B91: 同業団体、協同組合等への加入（複数加入） | C91: 2522 | D91: 7.2 | E91: 3718 | F91: 8.6 | G91: 2247 | H91: 9.8 | I91: 13186 | J91: 18.1 | K91: 2253 | L91: 17.7 | M91: 855 | N91: 21.2 | O91: 176 | P91: 25.1 | Q91: 39 | R91: 21.3 | S91: 82 | T91: 39.3 | U91: 25077 | V91: 13.1
B92: 社内の組織改編 | C92: 324 | D92: 0.9 | E92: 1288 | F92: 3 | G92: 599 | H92: 2.6 | I92: 5248 | J92: 7.2 | K92: 1313 | L92: 10.3 | M92: 699 | N92: 17.3 | O92: 181 | P92: 25.9 | Q92: 70 | R92: 38.2 | S92: 100 | T92: 47.7 | U92: 9822 | V92: 5.1
B93: 技能労働者の直用化、常用化 | C93: 3036 | D93: 8.6 | E93: 5697 | F93: 13.2 | G93: 3886 | H93: 17 | I93: 16834 | J93: 23.1 | K93: 3260 | L93: 25.7 | M93: 1111 | N93: 27.5 | O93: 151 | P93: 21.6 | Q93: 41 | R93: 22.6 | S93: 41 | T93: 19.6 | U93: 34059 | V93: 17.7
B94: 技能労働者の多能工化 | C94: 2051 | D94: 5.8 | E94: 4405 | F94: 10.2 | G94: 2581 | H94: 11.3 | I94: 11659 | J94: 16 | K94: 2181 | L94: 17.2 | M94: 721 | N94: 17.9 | O94: 132 | P94: 18.9 | Q94: 22 | R94: 11.8 | S94: 35 | T94: 17 | U94: 23787 | V94: 12.4
B95: 直用の技能労働者の独立支援 | C95: 221 | D95: 0.6 | E95: 1447 | F95: 3.4 | G95: 460 | H95: 2 | I95: 2416 | J95: 3.3 | K95: 350 | L95: 2.8 | M95: 193 | N95: 4.8 | O95: 37 | P95: 5.3 | Q95: 2 | R95: 1.2 | S95: 3 | T95: 1.6 | U95: 5128 | V95: 2.7
B96: 特に考えていない | C96: 28944 | D96: 82.2 | E96: 32205 | F96: 74.7 | G96: 15938 | H96: 69.6 | I96: 43933 | J96: 60.3 | K96: 7057 | L96: 55.5 | M96: 1949 | N96: 48.3 | O96: 318 | P96: 45.4 | Q96: 58 | R96: 31.5 | S96: 48 | T96: 22.8 | U96: 130450 | V96: 68
C97: 35225 | D97: 100 | E97: 43090 | F97: 100 | G97: 22891 | H97: 100 | I97: 72840 | J97: 100 | K97: 12710 | L97: 100 | M97: 4036 | N97: 100 | O97: 700 | P97: 100 | Q97: 183 | R97: 100 | S97: 209 | T97: 100 | U97: 191884 | V97: 100
A98: 増減 | B98: 他社との協業化や業務提携、企業連携 | D98: =D85-D111 -> 0 | F98: =F85-F111 -> 0.7 | H98: =H85-H111 -> 1.9 | J98: =J85-J111 -> -0.4 | L98: =L85-L111 -> 0.5 | N98: =N85-N111 -> 1.5 | P98: =P85-P111 -> -1.6 | R98: =R85-R111 -> -5.7 | T98: =T85-T111 -> 7.5 | V98: =V85-V111 -> 0.3
B99: 他社との合併 | D99: =D86-D112 -> 0.1 | F99: =F86-F112 -> 0.1 | H99: =H86-H112 -> 0.1 | J99: =J86-J112 -> -0.3 | L99: =L86-L112 -> -0.4 | N99: =N86-N112 -> -0.3 | P99: =P86-P112 -> 0 | R99: =R86-R112 -> 1.7 | T99: =T86-T112 -> -1.3 | V99: =V86-V112 -> 0
B100: 特定部門の別法人化（分社化） | D100: =D87-D113 -> 0.1 | F100: =F87-F113 -> 0.2 | H100: =H87-H113 -> 0.7 | J100: =J87-J113 -> 0.3 | L100: =L87-L113 -> -0.5 | N100: =N87-N113 -> 0.5 | P100: =P87-P113 -> 1.5 | R100: =R87-R113 -> 3.4 | T100: =T87-T113 -> -10.2 | V100: =V87-V113 -> 0.3
B101: 協力会社の組織強化、協力会社への取込強化 | D101: =D88-D114 -> 1.9 | F101: =F88-F114 -> 3.4 | H101: =H88-H114 -> 1.7 | J101: =J88-J114 -> 0.4 | L101: =L88-L114 -> 1.9 | N101: =N88-N114 -> 1.3 | P101: =P88-P114 -> -1.1 | R101: =R88-R114 -> 10.4 | T101: =T88-T114 -> 3.8 | V101: =V88-V114 -> 1.7
...

Sheet 7-4-4
A1: 表7－4－4 組織変更等の意向（３０業種別集計）
AB3: （単位：社、％）
B4: 意向 | C4: 他社との協業化や業務提携、企業連携 | E4: 他社との合併 | G4: 特定部門の別法人化（分社化） | I4: 協力会社の組織強化、協力会社への取込強化 | K4: 持ち株会社化 | M4: アウト ソーシング | O4: 同業団体、協同組合等への加入（複数加入） | Q4: 社内の組織改編 | S4: 技能労働者の直用化、常用化 | U4: 技能労働者の多能工化 | W4: 直用の技能労働者の独立支援 | Y4: 特に考えていない | AA4: 合 計
A5: 業種
A6: 一般土木建築 | B6: 一般土木建築工事業 | C6: 217.01265 | D6: 6.2494 | E6: 41.888844 | F6: 1.2062898 | G6: 43.488699 | H6: 1.2523615 | I6: 342.20716 | J6: 9.8546763 | K6: 83.439748 | L6: 2.4028478 | M6: 132.68175 | N6: 3.8208895 | O6: 696.04607 | P6: 20.044317 | Q6: 412.24569 | R6: 11.871604 | S6: 589.9887 | T6: 16.990141 | U6: 533.22005 | V6: 15.355351 | W6: 33.174521 | X6: 0.95533995 | Y6: 2049.2276 | Z6: 59.012425 | AA6: 3472.5358 | AB6: 100
A7: 土木 | B7: 土木工事業 | C7: 1514.4485 | D7: 5.9158985 | E7: 82.10815 | F7: 0.32073952 | G7: 45.63271 | H7: 0.17825531 | I7: 2267.4722 | J7: 8.8574391 | K7: 675.11464 | L7: 2.6372041 | M7: 660.37624 | N7: 2.5796314 | O7: 2806.8511 | P7: 10.964418 | Q7: 1106.5726 | R7: 4.3226107 | S7: 5772.5178 | T7: 22.549218 | U7: 4150.6209 | V7: 16.213593 | W7: 372.90377 | X7: 1.456676 | Y7: 16800.207 | Z7: 65.626742 | AA7: 25599.636 | AB7: 100
B8: ほ装工事業 | C8: 243.99458 | D8: 8.7835592 | E8: 12.62037 | F8: 0.45432062 | G8: 18.601852 | H8: 0.66964792 | I8: 171.5594 | J8: 6.1759655 | K8: 100.08255 | L8: 3.6028709 | M8: 58.162998 | N8: 2.0938093 | O8: 270.80206 | P8: 9.7486014 | Q8: 93.122292 | R8: 3.3523087 | S8: 695.46812 | T8: 25.036152 | U8: 313.34836 | V8: 11.280225 | W8: 70.746331 | X8: 2.5467966 | Y8: 1856.6799 | Z8: 66.838604 | AA8: 2777.8555 | AB8: 100
B9: しゅんせつ工事業 | Y9: 32 | Z9: 100 | AA9: 32 | AB9: 100
B10: 造園工事業 | C10: 90.445565 | D10: 5.6879531 | G10: 3.125 | H10: 0.19652543 | I10: 38.5625 | J10: 2.4251238 | K10: 70.508065 | L10: 4.4341209 | M10: 18.625 | N10: 1.1712916 | O10: 202.11492 | P10: 12.710631 | Q10: 29.625 | R10: 1.8630611 | S10: 538.77419 | T10: 33.882506 | U10: 398.77419 | V10: 25.078166 | W10: 32.294355 | X10: 2.0309318 | Y10: 877.20968 | Z10: 55.166083 | AA10: 1590.125 | AB10: 100
B11: 水道施設工事業 | C11: 95.368855 | D11: 6.6613365 | G11: 4.1333333 | H11: 0.28870562 | I11: 129.47362 | J11: 9.0434905 | K11: 61.12381 | L11: 4.269384 | M11: 34.561905 | N11: 2.4140845 | O11: 286.5148 | P11: 20.012524 | Q11: 49.884427 | R11: 3.4843342 | S11: 383.17761 | T11: 26.764241 | U11: 217.73642 | V11: 15.208483 | W11: 42.828571 | X11: 2.9914958 | Y11: 822.27387 | Z11: 57.434296 | AA11: 1431.6775 | AB11: 100
A12: 小 計 | C12: 1944.2575 | D12: 6.185738 | E12: 94.728521 | F12: 0.30138282 | G12: 71.492896 | H12: 0.22745769 | I12: 2607.0677 | J12: 8.2944968 | K12: 906.82907 | L12: 2.8851153 | M12: 771.72614 | N12: 2.4552796 | O12: 3566.2829 | P12: 11.346281 | Q12: 1279.2043 | R12: 4.069843 | S12: 7389.9378 | T12: 23.511402 | U12: 5080.4798 | V12: 16.163763 | W12: 518.77302 | X12: 1.6504985 | Y12: 20388.37 | Z12: 64.866469 | AA12: 31431.294 | AB12: 100
A13: 建築 | B13: 建築工事業 | C13: 1342.0949 | D13: 5.0738383 | G13: 413.09922 | H13: 1.5617366 | I13: 2198.7221 | J13: 8.3123483 | K13: 1019.7521 | L13: 3.8552095 | M13: 311.42191 | N13: 1.1773418 | O13: 1795.7233 | P13: 6.7887968 | Q13: 911.30066 | R13: 3.4452051 | S13: 3329.5523 | T13: 12.587493 | U13: 2312.5841 | V13: 8.7428079 | W13: 1212.9127 | X13: 4.5854602 | Y13: 19467.102 | Z13: 73.596085 | AA13: 26451.274 | AB13: 100
B14: 木造建築工事業 | C14: 401.60695 | D14: 4.0056906 | E14: 4.25 | F14: 0.042390165 | G14: 57.4439 | H14: 0.57295445 | I14: 356.49138 | J14: 3.5557009 | K14: 26.685185 | L14: 0.26616222 | M14: 85.332244 | N14: 0.85111716 | O14: 521.6331 | P14: 5.2028502 | Q14: 282.84433 | R14: 2.8211336 | S14: 466.76753 | T14: 4.6556124 | U14: 300.66786 | V14: 2.9989083 | W14: 161.25337 | X14: 1.6083663 | Y14: 8503.4235 | Z14: 84.814477 | AA14: 10025.91 | AB14: 100
A15: 小 計 | C15: 1743.7018 | D15: 4.7802533 | E15: 4.25 | F15: 0.011651118 | G15: 470.54312 | H15: 1.2899656 | I15: 2555.2134 | J15: 7.0049634 | K15: 1046.4372 | L15: 2.8687445 | M15: 396.75415 | N15: 1.0876776 | O15: 2317.3564 | P15: 6.3528926 | Q15: 1194.145 | R15: 3.2736764 | S15: 3796.3198 | T15: 10.407382 | U15: 2613.252 | V15: 7.1640725 | W15: 1374.166 | X15: 3.7671932 | Y15: 27970.526 | Z15: 76.679508 | AA15: 36477.185 | AB15: 100
A16: 職別 | B16: 大工工事業 | C16: 106.00875 | D16: 2.5523822 | G16: 9.6986301 | H16: 0.2335148 | I16: 189.20094 | J16: 4.5554082 | K16: 63.953033 | L16: 1.539803 | M16: 81.707729 | N16: 1.9672844 | O16: 245.69128 | P16: 5.9155314 | Q16: 87.195883 | R16: 2.0994232 | S16: 570.90336 | T16: 13.745692 | U16: 200.48225 | V16: 4.8270293 | W16: 80.825744 | X16: 1.9460488 | Y16: 3158.6732 | Z16: 76.051661 | AA16: 4153.3257 | AB16: 100
B17: とび・土工・ｺﾝｸﾘｰﾄ工事業 | C17: 480.3428 | D17: 6.1225512 | E17: 2.2429907 | F17: 0.028589635 | G17: 95.041422 | H17: 1.2114181 | I17: 548.16787 | J17: 6.987064 | K17: 249.35453 | L17: 3.1783257 | M17: 184.04874 | N17: 2.3459242 | O17: 831.99552 | P17: 10.604791 | Q17: 378.834 | R17: 4.8286985 | S17: 1491.25 | T17: 19.007788 | U17: 1021.917 | V17: 13.025571 | W17: 190.45754 | X17: 2.4276122 | Y17: 5224.0428 | Z17: 66.586757 | AA17: 7845.468 | AB17: 100
B18: 鋼構造物工事業 | C18: 207.17186 | D18: 6.2292275 | E18: 14.708333 | F18: 0.44224902 | G18: 1.6666667 | H18: 0.050113204 | I18: 178.97917 | J18: 5.3815317 | K18: 116.30655 | L18: 3.4970962 | M18: 77.9375 | N18: 2.3434187 | O18: 474.50029 | P18: 14.267238 | Q18: 229.6777 | R18: 6.9059311 | S18: 647.99726 | T18: 19.483931 | U18: 673.36444 | V18: 20.24667 | W18: 116.32843 | X18: 3.4977542 | Y18: 2128.1699 | Z18: 63.989646 | AA18: 3325.8035 | AB18: 100
B19: 鉄筋工事業 | C19: 209.56667 | D19: 16.533859 | E19: 6.45 | F19: 0.50887574 | G19: 9.7833333 | H19: 0.77186062 | I19: 134.16667 | J19: 10.585141 | K19: 78.116667 | L19: 6.1630506 | M19: 6.45 | N19: 0.50887574 | O19: 230.58333 | P19: 18.191979 | Q19: 135.61667 | R19: 10.69954 | S19: 452.48333 | T19: 35.698882 | U19: 172.51667 | V19: 13.610782 | W19: 87.9 | X19: 6.9349112 | Y19: 683.51667 | Z19: 53.926364 | AA19: 1267.5 | AB19: 100
B20: 解体工事業 | C20: 47.351648 | D20: 3.2272642 | I20: 58.665934 | J20: 3.9983923 | K20: 35.923077 | L20: 2.4483469 | M20: 60.030075 | N20: 4.0913657 | O20: 41.637363 | P20: 2.8378055 | Q20: 47.351648 | R20: 3.2272642 | S20: 244.31249 | T20: 16.651183 | U20: 181.23152 | V20: 12.351883 | W20: 17.961538 | X20: 1.2241734 | Y20: 1067.3735 | Z20: 72.747126 | AA20: 1467.2381 | AB20: 100
B21: 躯体関係計 | C21: 1050.4417 | D21: 5.8166135 | E21: 23.401324 | F21: 0.12958021 | G21: 116.19005 | H21: 0.64337945 | I21: 1109.1806 | J21: 6.1418683 | K21: 543.65385 | L21: 3.0103758 | M21: 410.17404 | N21: 2.2712577 | O21: 1824.4078 | P21: 10.102298 | Q21: 878.67589 | R21: 4.8654941 | S21: 3406.9464 | T21: 18.865292 | U21: 2249.5119 | V21: 12.456228 | W21: 493.47325 | X21: 2.7325106 | Y21: 12261.776 | Z21: 67.897161 | AA21: 18059.335 | AB21: 100
B22: 左官工事業 | C22: 203.67573 | D22: 13.12445 | E22: 15.846154 | F22: 1.021094 | I22: 49.157895 | J22: 3.1676349 | M22: 17.052632 | N22: 1.0988369 | O22: 309.93792 | P22: 19.97177 | Q22: 30.105263 | R22: 1.939922 | S22: 528.76653 | T22: 34.072641 | U22: 210.24022 | V22: 13.547452 | W22: 78.05668 | X22: 5.0298139 | Y22: 856.13148 | Z22: 55.167373 | AA22: 1551.8801 | AB22: 100
B23: 石工事業 | C23: 46.833333 | D23: 4.6537488 | I23: 43.142857 | J23: 4.2870324 | O23: 107.14286 | P23: 10.646604 | Q23: 12.5 | R23: 1.2421038 | S23: 339.21905 | T23: 33.707621 | U23: 143.84286 | V23: 14.29342 | W23: 59.142857 | X23: 5.8769253 | Y23: 598.30476 | Z23: 59.452528 | AA23: 1006.3571 | AB23: 100
B24: 屋根工事業 | C24: 100.8834 | D24: 4.6871248 | G24: 19.179487 | H24: 0.89109453 | I24: 101.39736 | J24: 4.7110036 | K24: 53.76 | L24: 2.4977332 | M24: 31.148936 | N24: 1.4472048 | O24: 429.2623 | P24: 19.943875 | Q24: 36.953955 | R24: 1.7169107 | S24: 509.49783 | T24: 23.671682 | U24: 216.11585 | V24: 10.040918 | W24: 135.36135 | X24: 6.2889982 | Y24: 1371.5639 | Z24: 63.72397 | AA24: 2152.3516 | AB24: 100
B25: タイル・れんが・ブロック工事業 | C25: 107.5 | D25: 9.1047684 | G25: 32 | H25: 2.7102566 | I25: 71.3 | J25: 6.0387905 | M25: 15.2 | N25: 1.2873719 | O25: 39.3 | P25: 3.3285339 | Q25: 4.2 | R25: 0.35572118 | S25: 189.16667 | T25: 16.021569 | U25: 95.633333 | V25: 8.0997149 | W25: 98.6 | X25: 8.3509782 | Y25: 842.63333 | Z25: 71.367268 | AA25: 1180.7 | AB25: 100
B26: 板金工事業 | C26: 73.306085 | D26: 5.8333072 | I26: 66.908753 | J26: 5.3242416 | K26: 42.353902 | L26: 3.3702976 | M26: 31.286751 | N26: 2.4896328 | O26: 137.5398 | P26: 10.944684 | Q26: 27.324713 | R26: 2.1743549 | S26: 130.72676 | T26: 10.402538 | U26: 95.425642 | V26: 7.5934635 | W26: 37.340216 | X26: 2.9713352 | Y26: 934.59184 | Z26: 74.369833 | AA26: 1256.6814 | AB26: 100
B27: ガラス工事業 | I27: 8 | J27: 2.018018 | O27: 38.571429 | P27: 9.7297297 | S27: 32.571429 | T27: 8.2162162 | U27: 31.571429 | V27: 7.963964 | Y27: 345.85714 | Z27: 87.243243 | AA27: 396.42857 | AB27: 100
B28: 塗装工事業 | C28: 456.93366 | D28: 9.0781657 | E28: 2.3333333 | F28: 0.046357685 | I28: 477.01556 | J28: 9.4771444 | K28: 380.49713 | L28: 7.5595568 | M28: 37.27451 | N28: 0.74055427 | O28: 717.98386 | P28: 14.264601 | Q28: 85.705882 | R28: 1.7027684 | S28: 1071.1581 | T28: 21.281319 | U28: 756.63203 | V28: 15.032447 | W28: 349.61529 | X28: 6.9460095 | Y28: 3050.5813 | Z28: 60.607665 | AA28: 5033.3259 | AB28: 100
B29: 防水工事業 | C29: 83.617676 | D29: 4.5074305 | G29: 1.3888889 | H29: 0.074868382 | I29: 107.81299 | J29: 5.8116845 | K29: 58.751565 | L29: 3.1670169 | M29: 15.825313 | N29: 0.85306722 | O29: 239.26643 | P29: 12.897713 | Q29: 72.08705 | R29: 3.8858694 | S29: 374.06595 | T29: 20.164113 | U29: 257.83414 | V29: 13.89861 | W29: 99.344343 | X29: 5.3551801 | Y29: 1204.9251 | Z29: 64.95177 | AA29: 1855.1074 | AB29: 100
B30: 内装仕上工事業 | C30: 474.75969 | D30: 7.0710405 | I30: 257.81243 | J30: 3.8398419 | K30: 88.52163 | L30: 1.3184355 | M30: 96.819229 | N30: 1.4420194 | O30: 670.71288 | P30: 9.9895549 | Q30: 306.1139 | R30: 4.5592409 | S30: 984.0828 | T30: 14.656866 | U30: 755.6682 | V30: 11.254874 | W30: 354.4153 | X30: 5.2786389 | Y30: 4842.7163 | Z30: 72.127107 | AA30: 6714.1418 | AB30: 100
B31: 建具工事業 | C31: 151.7663 | D31: 4.5953402 | E31: 18.952747 | F31: 0.57387127 | I31: 150.00579 | J31: 4.5420334 | K31: 93.683927 | L31: 2.8366607 | M31: 35.098842 | N31: 1.0627597 | O31: 610.58194 | P31: 18.487844 | Q31: 30.698416 | R31: 0.92951901 | S31: 467.3497 | T31: 14.150907 | U31: 365.10139 | V31: 11.054925 | W31: 70.350593 | X31: 2.1301495 | Y31: 2196.138 | Z31: 66.496981 | AA31: 3302.613 | AB31: 100
B32: 仕上関係計 | C32: 1699.2759 | D32: 6.950121 | E32: 37.132234 | F32: 0.15187265 | G32: 52.568376 | H32: 0.21500722 | I32: 1332.5536 | J32: 5.4502092 | K32: 717.56815 | L32: 2.9348887 | M32: 279.70621 | N32: 1.144012 | O32: 3300.2994 | P32: 13.498385 | Q32: 605.68918 | R32: 2.4772982 | S32: 4626.6048 | T32: 18.923039 | U32: 2928.0651 | V32: 11.975929 | W32: 1282.2266 | X32: 5.2443693 | Y32: 16243.443 | Z32: 66.436472 | AA32: 24449.587 | AB32: 100
A33: 小 計 | C33: 2749.7176 | D33: 6.4685658 | E33: 60.533558 | F33: 0.14240201 | G33: 168.75843 | H33: 0.39699531 | I33: 2441.7342 | J33: 5.7440511 | K33: 1261.222 | L33: 2.9669583 | M33: 689.88025 | N33: 1.622907 | O33: 5124.7072 | P33: 12.055604 | Q33: 1484.3651 | R33: 3.4918906 | S33: 8033.5512 | T33: 18.898506 | U33: 5177.577 | V33: 12.179977 | W33: 1775.6999 | X33: 4.1772404 | Y33: 28505.219 | Z33: 67.057026 | AA33: 42508.922 | AB33: 100
A34: 設備 | B34: 電気工事業 | C34: 848.07149 | D34: 5.8341345 | E34: 11.770464 | F34: 0.080972503 | G34: 20.541817 | H34: 0.14131324 | I34: 809.45274 | J34: 5.5684647 | K34: 756.20403 | L34: 5.2021511 | M34: 475.97522 | N34: 3.2743743 | O34: 2858.7649 | P34: 19.666289 | Q34: 937.5958 | R34: 6.4499988 | S34: 2645.4527 | T34: 18.198851 | U34: 1631.7684 | V34: 11.225417 | W34: 437.34467 | X34: 3.0086233 | Y34: 9375.8482 | Z34: 64.499232 | AA34: 14536.372 | AB34: 100
B35: 管工事業 | C35: 500.60338 | D35: 4.6782995 | E35: 30.331508 | F35: 0.28345769 | G35: 77.298871 | H35: 0.7223828 | I35: 719.30502 | J35: 6.7221366 | K35: 441.21849 | L35: 4.1233286 | M35: 116.94293 | N35: 1.0928693 | O35: 1775.094 | P35: 16.588824 | Q35: 529.8702 | R35: 4.9518074 | S35: 2471.9759 | T35: 23.10141 | U35: 1608.7697 | V35: 15.03447 | W35: 246.66701 | X35: 2.3051825 | Y35: 6951.0662 | Z35: 64.959948 | AA35: 10700.541 | AB35: 100
B36: 機械器具設置工事業 | C36: 151.60339 | D36: 4.637946 | E36: 4.1853659 | F36: 0.12804134 | G36: 10.968421 | H36: 0.33555282 | I36: 215.61303 | J36: 6.5961693 | K36: 132.3673 | L36: 4.0494636 | M36: 89.120491 | N36: 2.72643 | O36: 233.31088 | P36: 7.137593 | Q36: 226.99549 | R36: 6.9443885 | S36: 656.12682 | T36: 20.072644 | U36: 444.13025 | V36: 13.587112 | W36: 93.005062 | X36: 2.8452692 | Y36: 2222.7087 | Z36: 67.998502 | AA36: 3268.7614 | AB36: 100
B37: 熱絶縁工事業 | C37: 68.111785 | D37: 6.0795999 | G37: 11.793103 | H37: 1.0526424 | I37: 153.84622 | J37: 13.732183 | K37: 11.793103 | L37: 1.0526424 | M37: 5.4615385 | N37: 0.48749228 | O37: 160.55954 | P37: 14.331408 | Q37: 18.96618 | R37: 1.6929051 | S37: 229.07858 | T37: 20.447359 | U37: 126.77382 | V37: 11.315723 | W37: 62.438588 | X37: 5.5732152 | Y37: 744.46127 | Z37: 66.449979 | AA37: 1120.3333 | AB37: 100
B38: 電気通信工事業 | C38: 113.10312 | D38: 4.4158817 | E38: 36.91 | F38: 1.441076 | G38: 29.36 | H38: 1.1463016 | I38: 264.14242 | J38: 10.312905 | K38: 29.193636 | L38: 1.1398063 | M38: 131.06455 | N38: 5.1171492 | O38: 246.39515 | P38: 9.6199987 | Q38: 243.40273 | R38: 9.5031655 | S38: 627.00095 | T38: 24.47998 | U38: 415.95944 | V38: 16.240292 | W38: 26.283636 | X38: 1.0261912 | Y38: 1622.7655 | Z38: 63.357587 | AA38: 2561.2805 | AB38: 100
B39: さく井工事業業 | C39: 12.028322 | D39: 4.5739992 | G39: 4.7843137 | H39: 1.8193266 | I39: 9.583878 | J39: 3.6444525 | K39: 9.583878 | L39: 3.6444525 | M39: 7.3258801 | N39: 2.7858057 | O39: 25.678821 | P39: 9.7648619 | Q39: 4.3921569 | R39: 1.6702015 | S39: 39.804266 | T39: 15.136332 | U39: 24.101479 | V39: 9.1650475 | W39: 6.7995643 | X39: 2.5856641 | Y39: 192.72515 | Z39: 73.287416 | AA39: 262.97168 | AB39: 100
B40: 消防施設工事業 | C40: 28.494118 | D40: 5.3654446 | G40: 12.647059 | H40: 2.3814422 | I40: 25.294118 | J40: 4.7628843 | K40: 12.647059 | L40: 2.3814422 | M40: 12.647059 | N40: 2.3814422 | O40: 25.294118 | P40: 4.7628843 | Q40: 3.2 | R40: 0.60256025 | S40: 56.988235 | T40: 10.730889 | U40: 56.988235 | V40: 10.730889 | W40: 59.744118 | X40: 11.249822 | Y40: 414.33487 | Z40: 78.019289 | AA40: 531.06723 | AB40: 100
A41: 小 計 | C41: 1722.0156 | D41: 5.2211834 | E41: 83.197338 | F41: 0.25225588 | G41: 167.39359 | H41: 0.50754047 | I41: 2197.2374 | J41: 6.6620649 | K41: 1393.0075 | L41: 4.2236247 | M41: 838.53766 | N41: 2.5424618 | O41: 5325.0974 | P41: 16.145795 | Q41: 1964.4226 | R41: 5.9561658 | S41: 6726.4275 | T41: 20.394654 | U41: 4308.4913 | V41: 13.063426 | W41: 932.28266 | X41: 2.8266984 | Y41: 21523.91 | Z41: 65.260896 | AA41: 32981.327 | AB41: 100
A42: 合 計 | C42: 8376.7052 | D42: 5.7034337 | E42: 284.59826 | F42: 0.19377396 | G42: 921.67673 | H42: 0.62754055 | I42: 10143.46 | J42: 6.9063611 | K42: 4690.9356 | L42: 3.1939097 | M42: 2829.58 | N42: 1.9265715 | O42: 17029.49 | P42: 11.594841 | Q42: 6334.3826 | R42: 4.3128809 | S42: 26536.225 | T42: 18.067677 | U42: 17713.02 | V42: 12.060235 | W42: 4634.0961 | X42: 3.1552095 | Y42: 100437.25 | Z42: 68.38455 | AA42: 146871.26 | AB42: 100
R43: （注） | S43: 1．( )の数値は各合計を100とした場合の構成比（複数回答）
S44: 2．無効回答企業 257社を除く
