Workbook

Sheet hyo43
A1: （参考）
F2: １．明治以降の水害被害額等の推移（表－４３） | L2: 西暦(年号) | M2: 死者 | N2: 行方不明者 | O2: 負傷者 | P2: 計 | Q2: 水害被害額 | S2: 治水投資額 | U2: 災害復旧額
A3: 西暦(年号) | B3: 死者 | C3: 行方不明者 | D3: 負傷者 | E3: 計 | F3: 水害被害額 | H3: 治水投資額 | J3: 災害復旧額 | Q3: 名目 | R3: 実質 | S3: 名目 | T3: 実質 | U3: 名目 | V3: 実質 | X3: 桁合わせ(ﾃﾞﾌﾚｰﾀ資料の表示に合わせた) | AC3: 元の値
F4: 名目 | G4: 実質 | H4: 名目 | I4: 実質 | J4: 名目 | K4: 実質 | M4: 人 | N4: 人 | O4: 人 | P4: 人 | Q4: 千円 | R4: 億円 | S4: 千円 | T4: 億円 | U4: 千円 | V4: 億円 | X4: H7水害ﾃﾞﾌ | Y4: H7水害ﾃﾞﾌ | Z4: H2治水ﾃﾞﾌ | AA4: H7治水ﾃﾞﾌ | AC4: H7水害ﾃﾞﾌ | AD4: H7水害ﾃﾞﾌ | AE4: H2治水ﾃﾞﾌ | AF4: H7治水ﾃﾞﾌ
B5: 人 | C5: 人 | D5: 人 | E5: 人 | F5: 千円 | G5: 億円 | H5: 千円 | I5: 億円 | J5: 千円 | K5: 億円 | L5: 1943( 18) | M5: － | N5: － | O5: － | P5: =IF(SUM(M5:O5)=0,"－",SUM(M5:O5)) -> － | S5: 104796 | T5: =[1]hyo43旧!T6*'hyo43'!$AA$23 -> 888.38 | U5: 65714 | V5: =[1]hyo43旧!V6*'hyo43'!$AA$23 -> 556.787 | Y5: =ROUND(AD5,1) -> 659.9 | AD5: 659.86936
A6: 1875(明 8) | E6: =IF(SUM(B6:D6)=0,"",SUM(B6:D6)) | F6: 3208 | G6: =[1]hyo43旧!G6*'hyo43'!$X$8 -> 148.05 | H6: 1671 | I6: =[1]hyo43旧!I6*'hyo43'!$AA$23 -> 73.343 | J6: 1180 | K6: =[1]hyo43旧!K6*'hyo43'!$AA$23 -> 51.65 | L6: 1944( 19) | M6: － | N6: － | O6: － | P6: =IF(SUM(M6:O6)=0,"－",SUM(M6:O6)) -> － | S6: 105344 | T6: =[1]hyo43旧!T7*'hyo43'!$AA$23 -> 650.79 | U6: 79531 | V6: =[1]hyo43旧!V7*'hyo43'!$AA$23 -> 491.708 | Y6: =ROUND(AD6,1) -> 572.2 | AD6: 572.17908
A7: 1876( 9) | E7: =IF(SUM(B7:D7)=0,"",SUM(B7:D7)) | F7: 2174 | G7: =[1]hyo43旧!G7*'hyo43'!$X$8 -> 100.8 | H7: 1009 | I7: =[1]hyo43旧!I7*'hyo43'!$AA$23 -> 44.419 | J7: 654 | K7: =ROUND([1]hyo43旧!K7*'hyo43'!$AA$23,0) -> 29 | L7: 1945( 20) | M7: － | N7: － | O7: － | P7: =IF(SUM(M7:O7)=0,"－",SUM(M7:O7)) -> － | S7: 113388 | T7: =[1]hyo43旧!T8*'hyo43'!$AA$23 -> 188.006 | U7: 104427 | V7: =[1]hyo43旧!V8*'hyo43'!$AA$23 -> 173.544 | Y7: =ROUND(AD7,1) -> 465.5 | AD7: 465.47541
A8: 1877( 10) | E8: =IF(SUM(B8:D8)=0,"",SUM(B8:D8)) | F8: 911 | G8: =[1]hyo43旧!G8*'hyo43'!$X$8 -> 42 | H8: 1141 | I8: =[1]hyo43旧!I8*'hyo43'!$AA$23 -> 49.584 | J8: 724 | K8: =[1]hyo43旧!K8*'hyo43'!$AA$23 -> 32.023 | Q8: 百万円 | S8: 百万円 | U8: 百万円 | X8: =ROUND(AC8,3) -> 1.05 | Y8: － | AC8: =AD54 -> 1.0504202 | AD8: －
A9: 1878( 11) | E9: =IF(SUM(B9:D9)=0,"",SUM(B9:D9)) | F9: 3023 | G9: =F9*$X9/100000 -> 138.96429 | H9: 1255 | I9: =[1]hyo43旧!I9*'hyo43'!$AA$23 -> 54.749 | J9: 796 | K9: =[1]hyo43旧!K9*'hyo43'!$AA$23 -> 35.122 | L9: 1946( 21) | M9: 73 | N9: 32 | O9: 144 | P9: =IF(SUM(M9:O9)=0,"－",SUM(M9:O9)) -> 249 | Q9: 8083 | R9: =+Q9*Y10/100 -> 3200.2214 | S9: 377 | T9: =[1]hyo43旧!T10*'hyo43'!$AA$23 -> 307.834 | U9: 429 | V9: =[1]hyo43旧!V10*'hyo43'!$AA$23 -> 350.187 | X9: =ROUND(AC9,1) -> 4596.9 | AC9: 4596.8641
A10: 1879( 12) | E10: =IF(SUM(B10:D10)=0,"",SUM(B10:D10)) | F10: 2912 | G10: =F10*$X10/100000 -> 115.79859 | H10: 1406 | I10: =[1]hyo43旧!I10*'hyo43'!$AA$23 -> 53.716 | J10: 835 | K10: =[1]hyo43旧!K10*'hyo43'!$AA$23 -> 32.023 | L10: 1947( 22) | M10: 1475 | N10: 304 | O10: 6091 | P10: =IF(SUM(M10:O10)=0,"－",SUM(M10:O10)) -> 7870 | Q10: 99093 | R10: =+Q10*Y11/100 -> 15528.864 | S10: 800 | T10: =[1]hyo43旧!T11*'hyo43'!$AA$23 -> 275.811 | U10: 2116 | V10: =[1]hyo43旧!V11*'hyo43'!$AA$23 -> 729.298 | X10: =ROUND(AC10,1) -> 3976.6 | Y10: =ROUND(AD10,3) -> 39.592 | AC10: 3976.5643 | AD10: 39.592161
A11: 1880( 13) | E11: =IF(SUM(B11:D11)=0,"",SUM(B11:D11)) | F11: 4188 | G11: =F11*$X11/100000 -> 139.62373 | H11: 2082 | I11: =[1]hyo43旧!I11*'hyo43'!$AA$23 -> 66.112 | J11: 1297 | K11: =[1]hyo43旧!K11*'hyo43'!$AA$23 -> 41.32 | L11: 1948( 23) | M11: 761 | N11: 400 | O11: 2079 | P11: =IF(SUM(M11:O11)=0,"－",SUM(M11:O11)) -> 3240 | Q11: 134709 | R11: =+Q11*Y12/100 -> 12153.446 | S11: 5202 | T11: =[1]hyo43旧!T12*'hyo43'!$AA$23 -> 903.875 | U11: 6320 | V11: =[1]hyo43旧!V12*'hyo43'!$AA$23 -> 1098.079 | X11: =ROUND(AC11,1) -> 3333.9 | Y11: =ROUND(AD11,3) -> 15.671 | AC11: 3333.8873 | AD11: 15.671147
A12: 1881( 14) | E12: =IF(SUM(B12:D12)=0,"",SUM(B12:D12)) | F12: 4067 | G12: =F12*$X12/100000 -> 122.70139 | H12: 1866 | I12: =[1]hyo43旧!I12*'hyo43'!$AA$23 -> 53.716 | J12: 1054 | K12: =[1]hyo43旧!K12*'hyo43'!$AA$23 -> 29.957 | L12: 1949( 24) | M12: 697 | N12: 386 | O12: 2450 | P12: =IF(SUM(M12:O12)=0,"－",SUM(M12:O12)) -> 3533 | Q12: 151615 | R12: =+Q12*Y13/100 -> 11337.77 | S12: 9264 | T12: =[1]hyo43旧!T13*'hyo43'!$AA$23 -> 1161.092 | U12: 15924 | V12: =[1]hyo43旧!V13*'hyo43'!$AA$23 -> 1996.789 | X12: =ROUND(AC12,1) -> 3017 | Y12: =ROUND(AD12,3) -> 9.022 | AC12: 3016.9547 | AD12: 9.0217864
A13: 1882( 15) | E13: =IF(SUM(B13:D13)=0,"",SUM(B13:D13)) | F13: 9797 | G13: =F13*$X13/100000 -> 324.00638 | H13: 2558 | I13: =[1]hyo43旧!I13*'hyo43'!$AA$23 -> 80.574 | J13: 1546 | K13: =[1]hyo43旧!K13*'hyo43'!$AA$23 -> 48.551 | L13: 1950( 25) | M13: 615 | N13: 281 | O13: 10329 | P13: =IF(SUM(M13:O13)=0,"－",SUM(M13:O13)) -> 11225 | Q13: 198877 | R13: =+Q13*Y14/100 -> 14325.11 | S13: 22830 | T13: =[1]hyo43旧!T14*'hyo43'!$AA$23 -> 2484.365 | U13: 22619 | V13: =[1]hyo43旧!V14*'hyo43'!$AA$23 -> 2461.639 | X13: =ROUND(AC13,1) -> 3307.2 | Y13: =ROUND(AD13,3) -> 7.478 | AC13: 3307.1627 | AD13: 7.4783284
A14: 1883( 16) | E14: =IF(SUM(B14:D14)=0,"",SUM(B14:D14)) | F14: 1444 | G14: =F14*$X14/100000 -> 61.10286 | H14: 2310 | I14: =[1]hyo43旧!I14*'hyo43'!$AA$23 -> 92.97 | J14: 1318 | K14: =[1]hyo43旧!K14*'hyo43'!$AA$23 -> 53.716 | L14: 1951( 26) | M14: 920 | N14: 453 | O14: 7193 | P14: =IF(SUM(M14:O14)=0,"－",SUM(M14:O14)) -> 8566 | Q14: 196339 | R14: =+Q14*Y15/100 -> 11786.23 | S14: 27150 | T14: =[1]hyo43旧!T15*'hyo43'!$AA$23 -> 2290.161 | U14: 19417 | V14: =[1]hyo43旧!V15*'hyo43'!$AA$23 -> 1637.305 | X14: =ROUND(AC14,1) -> 4231.5 | Y14: =ROUND(AD14,3) -> 7.203 | AC14: 4231.4723 | AD14: 7.2030908
A15: 1884( 17) | E15: =IF(SUM(B15:D15)=0,"",SUM(B15:D15)) | F15: 9865 | G15: =F15*$X15/100000 -> 500.92497 | H15: 2364 | I15: =[1]hyo43旧!I15*'hyo43'!$AA$23 -> 114.663 | J15: 1359 | K15: =[1]hyo43旧!K15*'hyo43'!$AA$23 -> 66.112 | L15: 1952( 27) | M15: 256 | N15: 110 | O15: 1208 | P15: =IF(SUM(M15:O15)=0,"－",SUM(M15:O15)) -> 1574 | Q15: 105365 | R15: =+Q15*Y16/100 -> 6064.8094 | S15: 32779 | T15: =[1]hyo43旧!T16*'hyo43'!$AA$23 -> 2450.276 | U15: 24392 | V15: =[1]hyo43旧!V16*'hyo43'!$AA$23 -> 1823.245 | X15: =ROUND(AC15,1) -> 5077.8 | Y15: =ROUND(AD15,3) -> 6.003 | AC15: 5077.7668 | AD15: 6.0029941
A16: 1885( 18) | E16: =IF(SUM(B16:D16)=0,"",SUM(B16:D16)) | F16: 27337 | G16: =F16*$X16/100000 -> 1322.9741 | H16: 3010 | I16: =[1]hyo43旧!I16*'hyo43'!$AA$23 -> 139.455 | J16: 1798 | K16: =[1]hyo43旧!K16*'hyo43'!$AA$23 -> 82.64 | L16: 1953( 28) | M16: 2497 | N16: 480 | O16: 12240 | P16: =IF(SUM(M16:O16)=0,"－",SUM(M16:O16)) -> 15217 | Q16: 594082 | R16: =+Q16*Y17/100 -> 32401.232 | S16: 37764 | T16: =[1]hyo43旧!T17*'hyo43'!$AA$23 -> 2591.797 | U16: 35050 | V16: =[1]hyo43旧!V17*'hyo43'!$AA$23 -> 2405.857 | X16: =ROUND(AC16,1) -> 4839.5 | Y16: =ROUND(AD16,3) -> 5.756 | AC16: 4839.5138 | AD16: 5.7562133
A17: 1886( 19) | E17: =IF(SUM(B17:D17)=0,"",SUM(B17:D17)) | F17: 6815 | G17: =F17*$X17/100000 -> 359.31406 | H17: 2473 | I17: =[1]hyo43旧!I17*'hyo43'!$AA$23 -> 122.927 | J17: 1487 | K17: =[1]hyo43旧!K17*'hyo43'!$AA$23 -> 74.376 | L17: 1954( 29) | M17: 1826 | N17: 477 | O17: 2380 | P17: =IF(SUM(M17:O17)=0,"－",SUM(M17:O17)) -> 4683 | Q17: 210331 | R17: =+Q17*Y18/100 -> 11054.997 | S17: 40842 | T17: =[1]hyo43旧!T18*'hyo43'!$AA$23 -> 2771.539 | U17: 27070 | V17: =[1]hyo43旧!V18*'hyo43'!$AA$23 -> 1836.674 | X17: =ROUND(AC17,1) -> 5272.4 | Y17: =ROUND(AD17,3) -> 5.454 | AC17: 5272.4415 | AD17: 5.4536384
A18: 1887( 20) | E18: =IF(SUM(B18:D18)=0,"",SUM(B18:D18)) | F18: 3080 | G18: =F18*$X18/100000 -> 157.85308 | H18: 2970 | I18: =[1]hyo43旧!I18*'hyo43'!$AA$23 -> 145.653 | J18: 1492 | K18: =[1]hyo43旧!K18*'hyo43'!$AA$23 -> 73.343 | L18: 1955( 30) | M18: 355 | N18: 58 | O18: 651 | P18: =IF(SUM(M18:O18)=0,"－",SUM(M18:O18)) -> 1064 | Q18: 97594 | R18: =+Q18*Y19/100 -> 5137.3482 | S18: 41582 | T18: =[1]hyo43旧!T19*'hyo43'!$AA$23 -> 2837.651 | U18: 22811 | V18: =[1]hyo43旧!V19*'hyo43'!$AA$23 -> 1556.731 | X18: =ROUND(AC18,1) -> 5125.1 | Y18: =ROUND(AD18,3) -> 5.256 | AC18: 5125.0752 | AD18: 5.2555966
A19: 1888( 21) | E19: =IF(SUM(B19:D19)=0,"",SUM(B19:D19)) | F19: 6073 | G19: =F19*$X19/100000 -> 308.37479 | H19: 2866 | I19: =[1]hyo43旧!I19*'hyo43'!$AA$23 -> 138.422 | J19: 1483 | K19: =[1]hyo43旧!K19*'hyo43'!$AA$23 -> 72.31 | L19: 1956( 31) | M19: 262 | N19: 51 | O19: 638 | P19: =IF(SUM(M19:O19)=0,"－",SUM(M19:O19)) -> 951 | Q19: 80740 | R19: =+Q19*Y20/100 -> 4043.4592 | S19: 40720 | T19: =[1]hyo43旧!T20*'hyo43'!$AA$23 -> 2557.708 | U19: 17685 | V19: =[1]hyo43旧!V20*'hyo43'!$AA$23 -> 1110.475 | X19: =ROUND(AC19,1) -> 5077.8 | Y19: =ROUND(AD19,3) -> 5.264 | AC19: 5077.7668 | AD19: 5.2636278
A20: 1889( 22) | E20: =IF(SUM(B20:D20)=0,"",SUM(B20:D20)) | F20: 33294 | G20: =F20*$X20/100000 -> 1552.0997 | H20: 4153 | I20: =[1]hyo43旧!I20*'hyo43'!$AA$23 -> 184.907 | J20: 2492 | K20: =[1]hyo43旧!K20*'hyo43'!$AA$23 -> 110.531 | L20: 1957( 32) | M20: 1077 | N20: 71 | O20: 4108 | P20: =IF(SUM(M20:O20)=0,"－",SUM(M20:O20)) -> 5256 | Q20: 122135 | R20: =+Q20*Y21/100 -> 5762.3293 | S20: 45028 | T20: =[1]hyo43旧!T21*'hyo43'!$AA$23 -> 2671.338 | U20: 19692 | V20: =[1]hyo43旧!V21*'hyo43'!$AA$23 -> 1168.323 | X20: =ROUND(AC20,1) -> 4661.8 | Y20: =ROUND(AD20,3) -> 5.008 | AC20: 4661.7915 | AD20: 5.008113
A21: 1890( 23) | E21: =IF(SUM(B21:D21)=0,"",SUM(B21:D21)) | F21: 22431 | G21: =F21*$X21/100000 -> 911.75286 | H21: 4194 | I21: =[1]hyo43旧!I21*'hyo43'!$AA$23 -> 162.181 | J21: 2455 | K21: =[1]hyo43旧!K21*'hyo43'!$AA$23 -> 95.036 | L21: 1958( 33) | M21: 1121 | N21: 522 | O21: 1897 | P21: =IF(SUM(M21:O21)=0,"－",SUM(M21:O21)) -> 3540 | Q21: 258809 | R21: =+Q21*Y22/100 -> 12404.715 | S21: 45442 | T21: =[1]hyo43旧!T22*'hyo43'!$AA$23 -> 2722.988 | U21: 28074 | V21: =[1]hyo43旧!V22*'hyo43'!$AA$23 -> 1682.757 | X21: =ROUND(AC21,1) -> 4064.7 | Y21: =ROUND(AD21,3) -> 4.718 | AC21: 4064.7148 | AD21: 4.71766
A22: 1891( 24) | E22: =IF(SUM(B22:D22)=0,"",SUM(B22:D22)) | F22: 12729 | G22: =F22*$X22/100000 -> 552.79501 | H22: 4290 | I22: =[1]hyo43旧!I22*'hyo43'!$AA$23 -> 177.676 | J22: 2609 | K22: =[1]hyo43旧!K22*'hyo43'!$AA$23 -> 108.465 | L22: 1959( 34) | M22: 5169 | N22: 396 | O22: 41706 | P22: =IF(SUM(M22:O22)=0,"－",SUM(M22:O22)) -> 47271 | Q22: 509025 | R22: =+Q22*Y23/100 -> 23679.843 | S22: 54513 | T22: =[1]hyo43旧!T23*'hyo43'!$AA$23 -> 3140.32 | U22: 42329 | V22: =[1]hyo43旧!V23*'hyo43'!$AA$23 -> 2438.913 | X22: =ROUND(AC22,1) -> 4342.8 | Y22: =ROUND(AD22,3) -> 4.793 | AC22: 4342.8268 | AD22: 4.7934795
A23: 1892( 25) | E23: =IF(SUM(B23:D23)=0,"",SUM(B23:D23)) | F23: 20751 | G23: =F23*$X23/100000 -> 878.07857 | H23: 3768 | I23: =[1]hyo43旧!I23*'hyo43'!$AA$23 -> 151.851 | J23: 2293 | K23: =[1]hyo43旧!K23*'hyo43'!$AA$23 -> 92.97 | L23: 1960( 35) | M23: 300 | N23: 40 | O23: 1116 | P23: =IF(SUM(M23:O23)=0,"－",SUM(M23:O23)) -> 1456 | Q23: 113529 | R23: =+Q23*Y24/100 -> 4996.4113 | S23: 78983 | T23: =+S23/$AA24 -> 4729.521 | U23: 46706 | V23: =+U23/$AA24 -> 2796.7665 | X23: =ROUND(AC23,1) -> 4231.5 | Y23: =ROUND(AD23,3) -> 4.652 | AA23: =ROUND(AF23,3) -> 1.033 | AC23: 4231.4723 | AD23: 4.6522505 | AF23: =AE54/AF54 -> 1.033
A24: 1893( 26) | E24: =IF(SUM(B24:D24)=0,"",SUM(B24:D24)) | F24: 44157 | G24: =F24*$X24/100000 -> 2013.0293 | H24: 4774 | I24: =[1]hyo43旧!I24*'hyo43'!$AA$23 -> 207.633 | J24: 2865 | K24: =[1]hyo43旧!K24*'hyo43'!$AA$23 -> 124.993 | L24: 1961( 36) | M24: 654 | N24: 84 | O24: 6653 | P24: =IF(SUM(M24:O24)=0,"－",SUM(M24:O24)) -> 7391 | Q24: 304715 | R24: =+Q24*Y25/100 -> 12432.372 | S24: 85048 | T24: =+S24/$AA25 -> 4523.8298 | U24: 56483 | V24: =+U24/$AA25 -> 3004.4149 | X24: =ROUND(AC24,1) -> 4558.8 | Y24: =ROUND(AD24,3) -> 4.401 | Z24: =ROUND(AE24,1) -> 17.6 | AA24: =ROUND(AF24,1) -> 16.7 | AC24: 4558.7685 | AD24: 4.4005714 | AE24: 17.615658 | AF24: 16.656534
A25: 1894( 27) | E25: =IF(SUM(B25:D25)=0,"",SUM(B25:D25)) | F25: 17726 | G25: =F25*$X25/100000 -> 765.78093 | H25: 4748 | I25: =[1]hyo43旧!I25*'hyo43'!$AA$23 -> 196.27 | J25: 3016 | K25: =[1]hyo43旧!K25*'hyo43'!$AA$23 -> 123.96 | L25: 1962( 37) | M25: 219 | N25: 22 | O25: 329 | P25: =IF(SUM(M25:O25)=0,"－",SUM(M25:O25)) -> 570 | Q25: 103705 | R25: =+Q25*Y26/100 -> 4081.8288 | S25: 108771 | T25: =+S25/$AA26 -> 5465.8794 | U25: 64597 | V25: =+U25/$AA26 -> 3246.0804 | X25: =ROUND(AC25,1) -> 4320.1 | Y25: =ROUND(AD25,3) -> 4.08 | Z25: =ROUND(AE25,1) -> 19.8 | AA25: =ROUND(AF25,1) -> 18.8 | AC25: 4320.0895 | AD25: 4.0795571 | AE25: 19.839858 | AF25: 18.759632
A26: 1895( 28) | E26: =IF(SUM(B26:D26)=0,"",SUM(B26:D26)) | F26: 14241 | G26: =F26*$X26/100000 -> 573.21449 | H26: 4260 | I26: =[1]hyo43旧!I26*'hyo43'!$AA$23 -> 163.214 | J26: 2424 | K26: =[1]hyo43旧!K26*'hyo43'!$AA$23 -> 92.97 | L26: 1963( 38) | M26: 169 | N26: 48 | O26: 322 | P26: =IF(SUM(M26:O26)=0,"－",SUM(M26:O26)) -> 539 | Q26: 100467 | R26: =+Q26*Y27/100 -> 3787.6059 | S26: 119728 | T26: =+S26/$AA27 -> 5840.3902 | U26: 56687 | V26: =+U26/$AA27 -> 2765.2195 | X26: =ROUND(AC26,1) -> 4025.1 | Y26: =ROUND(AD26,3) -> 3.936 | Z26: =ROUND(AE26,1) -> 21 | AA26: =ROUND(AF26,1) -> 19.9 | AC26: 4025.059 | AD26: 3.9359949 | AE26: 20.996441 | AF26: 19.853243
A27: 1896( 29) | E27: =IF(SUM(B27:D27)=0,"",SUM(B27:D27)) | F27: 137695 | G27: =F27*$X27/100000 -> 5129.4141 | H27: 7914 | I27: =[1]hyo43旧!I27*'hyo43'!$AA$23 -> 280.976 | J27: 4660 | K27: =[1]hyo43旧!K27*'hyo43'!$AA$23 -> 165.28 | L27: 1964( 39) | M27: 237 | N27: 18 | O27: 953 | P27: =IF(SUM(M27:O27)=0,"－",SUM(M27:O27)) -> 1208 | Q27: 140981 | R27: =+Q27*Y28/100 -> 5086.5945 | S27: 139314 | T27: =+S27/$AA28 -> 6420 | U27: 56634 | V27: =+U27/$AA28 -> 2609.8618 | X27: =ROUND(AC27,1) -> 3725.2 | Y27: =ROUND(AD27,3) -> 3.77 | Z27: =ROUND(AE27,1) -> 21.7 | AA27: =ROUND(AF27,1) -> 20.5 | AC27: 3725.2239 | AD27: 3.7701524 | AE27: 21.708185 | AF27: 20.526234
A28: 1897( 30) | E28: =IF(SUM(B28:D28)=0,"",SUM(B28:D28)) | F28: 44342 | G28: =F28*$X28/100000 -> 1493.3942 | H28: 13920 | I28: =[1]hyo43旧!I28*'hyo43'!$AA$23 -> 447.289 | J28: 6288 | K28: =[1]hyo43旧!K28*'hyo43'!$AA$23 -> 202.468 | L28: 1965( 40) | M28: 320 | N28: 19 | O28: 2062 | P28: =IF(SUM(M28:O28)=0,"－",SUM(M28:O28)) -> 2401 | Q28: 212359 | R28: =+Q28*Y29/100 -> 7317.8911 | S28: 145671 | T28: =+S28/$AA29 -> 6417.2247 | U28: 68136 | V28: =+U28/$AA29 -> 3001.5859 | X28: =ROUND(AC28,1) -> 3367.9 | Y28: =ROUND(AD28,3) -> 3.608 | Z28: =ROUND(AE28,1) -> 23 | AA28: =ROUND(AF28,1) -> 21.7 | AC28: 3367.9065 | AD28: 3.6079954 | AE28: 22.953737 | AF28: 21.703969
A29: 1898( 31) | E29: =IF(SUM(B29:D29)=0,"",SUM(B29:D29)) | F29: 58590 | G29: =F29*$X29/100000 -> 1873.8254 | H29: 10599 | I29: =[1]hyo43旧!I29*'hyo43'!$AA$23 -> 323.329 | J29: 5030 | K29: =[1]hyo43旧!K29*'hyo43'!$AA$23 -> 153.917 | L29: 1966( 41) | M29: 480 | N29: 62 | O29: 1411 | P29: =IF(SUM(M29:O29)=0,"－",SUM(M29:O29)) -> 1953 | Q29: 196803 | R29: =+Q29*Y30/100 -> 6445.2982 | S29: 180336 | T29: =+S29/$AA30 -> 7390.8197 | U29: 82602 | V29: =+U29/$AA30 -> 3385.3279 | X29: =ROUND(AC29,1) -> 3198.2 | Y29: =ROUND(AD29,3) -> 3.446 | Z29: =ROUND(AE29,1) -> 24 | AA29: =ROUND(AF29,1) -> 22.7 | AC29: 3198.2058 | AD29: 3.4458903 | AE29: 24.021352 | AF29: 22.713456
A30: 1899( 32) | E30: =IF(SUM(B30:D30)=0,"",SUM(B30:D30)) | F30: 36769 | G30: =F30*$X30/100000 -> 1169.1439 | H30: 10404 | I30: =[1]hyo43旧!I30*'hyo43'!$AA$23 -> 316.098 | J30: 5216 | K30: =[1]hyo43旧!K30*'hyo43'!$AA$23 -> 158.049 | L30: 1967( 42) | M30: 538 | N30: 47 | O30: 918 | P30: =IF(SUM(M30:O30)=0,"－",SUM(M30:O30)) -> 1503 | Q30: 194666 | R30: =+Q30*Y31/100 -> 6038.5393 | S30: 208945 | T30: =+S30/$AA31 -> 7944.6768 | U30: 83463 | V30: =+U30/$AA31 -> 3173.4981 | X30: =ROUND(AC30,1) -> 3179.7 | Y30: =ROUND(AD30,3) -> 3.275 | Z30: =ROUND(AE30,1) -> 25.8 | AA30: =ROUND(AF30,1) -> 24.4 | AC30: 3179.7191 | AD30: 3.2746034 | AE30: 25.800712 | AF30: 24.395934
A31: 1900( 33) | E31: =IF(SUM(B31:D31)=0,"",SUM(B31:D31)) | F31: 10436 | G31: =F31*$X31/100000 -> 309.75092 | H31: 9039 | I31: =[1]hyo43旧!I31*'hyo43'!$AA$23 -> 256.184 | J31: 4246 | K31: =[1]hyo43旧!K31*'hyo43'!$AA$23 -> 119.828 | L31: 1968( 43) | M31: 170 | N31: 25 | O31: 252 | P31: =IF(SUM(M31:O31)=0,"－",SUM(M31:O31)) -> 447 | Q31: 89691 | R31: =+Q31*Y32/100 -> 2636.0185 | S31: 254463 | T31: =+S31/$AA32 -> 9219.6739 | U31: 75372 | V31: =+U31/$AA32 -> 2730.8696 | X31: =ROUND(AC31,1) -> 2968.1 | Y31: =ROUND(AD31,3) -> 3.102 | Z31: =ROUND(AE31,1) -> 27.8 | AA31: =ROUND(AF31,1) -> 26.3 | AC31: 2968.1191 | AD31: 3.1022558 | AE31: 27.846975 | AF31: 26.330784
A32: 1901( 34) | E32: =IF(SUM(B32:D32)=0,"",SUM(B32:D32)) | F32: 7442 | G32: =F32*$X32/100000 -> 231.72155 | H32: 9452 | I32: =[1]hyo43旧!I32*'hyo43'!$AA$23 -> 280.976 | J32: 1393 | K32: =[1]hyo43旧!K32*'hyo43'!$AA$23 -> 41.32 | L32: 1969( 44) | M32: 139 | N32: 23 | O32: 500 | P32: =IF(SUM(M32:O32)=0,"－",SUM(M32:O32)) -> 662 | Q32: 165676 | R32: =+Q32*Y33/100 -> 4650.5253 | S32: 290665 | T32: =+S32/$AA33 -> 9819.7635 | U32: 71178 | V32: =+U32/$AA33 -> 2404.6622 | X32: =ROUND(AC32,1) -> 3113.7 | Y32: =ROUND(AD32,3) -> 2.939 | Z32: =ROUND(AE32,1) -> 29.2 | AA32: =ROUND(AF32,1) -> 27.6 | AC32: 3113.7249 | AD32: 2.9394077 | AE32: 29.181495 | AF32: 27.592643
A33: 1902( 35) | B33: 506 | C33: － | D33: 473 | E33: =IF(SUM(B33:D33)=0,"",SUM(B33:D33)) -> 979 | F33: 29130 | G33: =F33*$X33/100000 -> 898.54398 | H33: 9765 | I33: =[1]hyo43旧!I33*'hyo43'!$AA$23 -> 287.174 | J33: 2205 | K33: =[1]hyo43旧!K33*'hyo43'!$AA$23 -> 65.079 | L33: 1970( 45) | M33: 98 | N33: 7 | O33: 1087 | P33: =IF(SUM(M33:O33)=0,"－",SUM(M33:O33)) -> 1192 | Q33: 163504 | R33: =+Q33*Y34/100 -> 4396.6226 | S33: 333394 | T33: =+S33/$AA34 -> 10386.106 | U33: 71432 | V33: =+U33/$AA34 -> 2225.296 | X33: =ROUND(AC33,1) -> 3084.6 | Y33: =ROUND(AD33,3) -> 2.807 | Z33: =ROUND(AE33,1) -> 31.3 | AA33: =ROUND(AF33,1) -> 29.6 | AC33: 3084.6247 | AD33: 2.8068029 | AE33: 31.316726 | AF33: 29.611617
A34: 1903( 36) | B34: 217 | C34: － | D34: 236 | E34: =IF(SUM(B34:D34)=0,"",SUM(B34:D34)) -> 453 | F34: 22259 | G34: =F34*$X34/100000 -> 645.57778 | H34: 8538 | I34: =[1]hyo43旧!I34*'hyo43'!$AA$23 -> 427.662 | J34: 5607 | K34: =[1]hyo43旧!K34*'hyo43'!$AA$23 -> 280.976 | L34: 1971( 46) | M34: 302 | N34: 18 | O34: 664 | P34: =IF(SUM(M34:O34)=0,"－",SUM(M34:O34)) -> 984 | Q34: 272686 | R34: =+Q34*Y35/100 -> 6939.8587 | S34: 443598 | T34: =+S34/$AA35 -> 13241.731 | U34: 83837 | V34: =+U34/$AA35 -> 2502.597 | X34: =ROUND(AC34,1) -> 2900.3 | Y34: =ROUND(AD34,3) -> 2.689 | Z34: =ROUND(AE34,1) -> 34 | AA34: =ROUND(AF34,1) -> 32.1 | AC34: 2900.3062 | AD34: 2.688946 | AE34: 33.985765 | AF34: 32.135334
A35: 1904( 37) | B35: 296 | C35: － | D35: 180 | E35: =IF(SUM(B35:D35)=0,"",SUM(B35:D35)) -> 476 | F35: 17933 | G35: =F35*$X35/100000 -> 494.05415 | H35: 5709 | I35: =[1]hyo43旧!I35*'hyo43'!$AA$23 -> 294.405 | J35: 3470 | K35: =[1]hyo43旧!K35*'hyo43'!$AA$23 -> 178.709 | L35: 1972( 47) | M35: 556 | N35: 37 | O35: 1055 | P35: =IF(SUM(M35:O35)=0,"－",SUM(M35:O35)) -> 1648 | Q35: 570885 | R35: =+Q35*Y36/100 -> 13758.329 | S35: 588722 | T35: =+S35/$AA36 -> 16444.749 | U35: 172559 | V35: =+U35/$AA36 -> 4820.0838 | X35: =ROUND(AC35,1) -> 2755 | Y35: =ROUND(AD35,3) -> 2.545 | Z35: =ROUND(AE35,1) -> 35.4 | AA35: =ROUND(AF35,1) -> 33.5 | AC35: 2755.0487 | AD35: 2.5450122 | AE35: 35.409253 | AF35: 33.481317
A36: 1905( 38) | B36: 143 | C36: － | D36: 85 | E36: =IF(SUM(B36:D36)=0,"",SUM(B36:D36)) -> 228 | F36: 21473 | G36: =F36*$X36/100000 -> 551.96347 | H36: 5544 | I36: =[1]hyo43旧!I36*'hyo43'!$AA$23 -> 271.679 | J36: 3134 | K36: =[1]hyo43旧!K36*'hyo43'!$AA$23 -> 152.884 | L36: 1973( 48) | M36: 64 | N36: 8 | O36: 94 | P36: =IF(SUM(M36:O36)=0,"－",SUM(M36:O36)) -> 166 | Q36: 105306 | R36: =+Q36*Y37/100 -> 2252.4953 | S36: 577400 | T36: =+S36/$AA37 -> 12774.336 | U36: 159100 | V36: =+U36/$AA37 -> 3519.9115 | X36: =ROUND(AC36,1) -> 2570.5 | Y36: =ROUND(AD36,3) -> 2.41 | Z36: =ROUND(AE36,1) -> 37.9 | AA36: =ROUND(AF36,1) -> 35.8 | AC36: 2570.5206 | AD36: 2.4101382 | AE36: 37.900356 | AF36: 35.836786
A37: 1906( 39) | B37: 78 | C37: － | D37: 97 | E37: =IF(SUM(B37:D37)=0,"",SUM(B37:D37)) -> 175 | F37: 20648 | G37: =F37*$X37/100000 -> 514.73399 | H37: 7114 | I37: =[1]hyo43旧!I37*'hyo43'!$AA$23 -> 324.362 | J37: 3518 | K37: =[1]hyo43旧!K37*'hyo43'!$AA$23 -> 160.115 | L37: 1974( 49) | M37: 177 | N37: 1 | O37: 391 | P37: =IF(SUM(M37:O37)=0,"－",SUM(M37:O37)) -> 569 | Q37: 511208 | R37: =+Q37*Y38/100 -> 9063.7178 | S37: 676261 | T37: =+S37/$AA38 -> 12295.655 | U37: 192786 | V37: =+U37/$AA38 -> 3505.2 | X37: =ROUND(AC37,1) -> 2492.9 | Y37: =ROUND(AD37,3) -> 2.139 | Z37: =ROUND(AE37,1) -> 47.8 | AA37: =ROUND(AF37,1) -> 45.2 | AC37: 2492.8613 | AD37: 2.1390593 | AE37: 47.775801 | AF37: 45.17454
A38: 1907( 40) | B38: 752 | C38: － | D38: 879 | E38: =IF(SUM(B38:D38)=0,"",SUM(B38:D38)) -> 1631 | F38: 62491 | G38: =F38*$X38/100000 -> 1444.3545 | H38: 9526 | I38: =[1]hyo43旧!I38*'hyo43'!$AA$23 -> 385.309 | J38: 6578 | K38: =[1]hyo43旧!K38*'hyo43'!$AA$23 -> 265.481 | L38: 1975( 50) | M38: 178 | N38: 13 | O38: 545 | P38: =IF(SUM(M38:O38)=0,"－",SUM(M38:O38)) -> 736 | Q38: 632975 | R38: =+Q38*Y39/100 -> 10456.747 | S38: 796024 | T38: =+S38/$AA39 -> 14164.128 | U38: 247902 | V38: =+U38/$AA39 -> 4411.0676 | X38: =ROUND(AC38,1) -> 2311.3 | Y38: =ROUND(AD38,3) -> 1.773 | Z38: =ROUND(AE38,1) -> 58.2 | AA38: =ROUND(AF38,1) -> 55 | AC38: 2311.3084 | AD38: 1.7728814 | AE38: 58.185053 | AF38: 55.017038
A39: 1908( 41) | B39: 51 | C39: － | D39: 18 | E39: =IF(SUM(B39:D39)=0,"",SUM(B39:D39)) -> 69 | F39: 5617 | G39: =F39*$X39/100000 -> 134.92596 | H39: 12557 | I39: =[1]hyo43旧!I39*'hyo43'!$AA$23 -> 475.18 | J39: 7982 | K39: =[1]hyo43旧!K39*'hyo43'!$AA$23 -> 301.636 | L39: 1976( 51) | M39: 222 | N39: 12 | O39: 544 | P39: =IF(SUM(M39:O39)=0,"－",SUM(M39:O39)) -> 778 | Q39: 915887 | R39: =+Q39*Y40/100 -> 14022.23 | S39: 892914 | T39: =+S39/$AA40 -> 14857.138 | U39: 334817 | V39: =+U39/$AA40 -> 5570.9983 | X39: =ROUND(AC39,1) -> 2402.1 | Y39: =ROUND(AD39,3) -> 1.652 | Z39: =ROUND(AE39,1) -> 59.4 | AA39: =ROUND(AF39,1) -> 56.2 | AC39: 2402.1459 | AD39: 1.6524487 | AE39: 59.430605 | AF39: 56.194773
A40: 1909( 42) | B40: 57 | C40: － | D40: 57 | E40: =IF(SUM(B40:D40)=0,"",SUM(B40:D40)) -> 114 | F40: 11317 | G40: =F40*$X40/100000 -> 284.70177 | H40: 12028 | I40: =[1]hyo43旧!I40*'hyo43'!$AA$23 -> 465.883 | J40: 3954 | K40: =[1]hyo43旧!K40*'hyo43'!$AA$23 -> 152.884 | L40: 1977( 52) | M40: 48 | N40: 1 | O40: 208 | P40: =IF(SUM(M40:O40)=0,"－",SUM(M40:O40)) -> 257 | Q40: 267808 | R40: =+Q40*Y41/100 -> 3843.0448 | S40: 1177327 | T40: =+S40/$AA41 -> 18482.37 | U40: 330120 | V40: =+U40/$AA41 -> 5182.4176 | X40: =ROUND(AC40,1) -> 2515.7 | Y40: =ROUND(AD40,3) -> 1.531 | Z40: =ROUND(AE40,1) -> 63.6 | AA40: =ROUND(AF40,1) -> 60.1 | AC40: 2515.6619 | AD40: 1.5314788 | AE40: 63.6121 | AF40: 60.148596
A41: 1910( 43) | B41: 1257 | C41: － | D41: 1105 | E41: =IF(SUM(B41:D41)=0,"",SUM(B41:D41)) -> 2362 | F41: 119336 | G41: =F41*$X41/100000 -> 2965.9769 | H41: 12371 | I41: =[1]hyo43旧!I41*'hyo43'!$AA$23 -> 480.345 | J41: 9093 | K41: =[1]hyo43旧!K41*'hyo43'!$AA$23 -> 352.253 | L41: 1978( 53) | M41: 36 | N41: 2 | O41: 180 | P41: =IF(SUM(M41:O41)=0,"－",SUM(M41:O41)) -> 218 | Q41: 277971 | R41: =+Q41*Y42/100 -> 3810.9824 | S41: 1427981 | T41: =+S41/$AA42 -> 20846.438 | U41: 189200 | V41: =+U41/$AA42 -> 2762.0438 | X41: =ROUND(AC41,1) -> 2485.4 | Y41: =ROUND(AD41,3) -> 1.435 | Z41: =ROUND(AE41,1) -> 67.3 | AA41: =ROUND(AF41,1) -> 63.7 | AC41: 2485.3527 | AD41: 1.4348422 | AE41: 67.348754 | AF41: 63.681801
A42: 1911( 44) | B42: 237 | C42: － | D42: 273 | E42: =IF(SUM(B42:D42)=0,"",SUM(B42:D42)) -> 510 | F42: 42348 | G42: =F42*$X42/100000 -> 1014.3193 | H42: 18710 | I42: =[1]hyo43旧!I42*'hyo43'!$AA$23 -> 685.912 | J42: 16999 | K42: =[1]hyo43旧!K42*'hyo43'!$AA$23 -> 623.932 | L42: 1979( 54) | M42: 125 | N42: 63 | O42: 652 | P42: =IF(SUM(M42:O42)=0,"－",SUM(M42:O42)) -> 840 | Q42: 637555 | R42: =+Q42*Y43/100 -> 8504.9837 | S42: 1528063 | T42: =+S42/$AA43 -> 20401.375 | U42: 215973 | V42: =+U42/$AA43 -> 2883.4846 | X42: =ROUND(AC42,1) -> 2395.2 | Y42: =ROUND(AD42,3) -> 1.371 | Z42: =ROUND(AE42,1) -> 72.4 | AA42: =ROUND(AF42,1) -> 68.5 | AC42: 2395.173 | AD42: 1.3709043 | AE42: 72.419929 | AF42: 68.476864
A43: 1912(大 1) | B43: 377 | C43: － | D43: 335 | E43: =IF(SUM(B43:D43)=0,"",SUM(B43:D43)) -> 712 | F43: 52860 | G43: =F43*$X43/100000 -> 1194.9532 | H43: 24943 | I43: =[1]hyo43旧!I43*'hyo43'!$AA$23 -> 864.621 | J43: 5586 | K43: =[1]hyo43旧!K43*'hyo43'!$AA$23 -> 193.171 | L43: 1980( 55) | M43: 57 | N43: 38 | O43: 231 | P43: =IF(SUM(M43:O43)=0,"－",SUM(M43:O43)) -> 326 | Q43: 436103 | R43: =+Q43*Y44/100 -> 5569.0353 | S43: 1675787 | T43: =+S43/$AA44 -> 20361.932 | U43: 254407 | V43: =+U43/$AA44 -> 3091.2151 | X43: =ROUND(AC43,1) -> 2260.6 | Y43: =ROUND(AD43,3) -> 1.334 | Z43: =ROUND(AE43,1) -> 79.2 | AA43: =ROUND(AF43,1) -> 74.9 | AC43: 2260.6496 | AD43: 1.3341837 | AE43: 79.181495 | AF43: 74.870281
A44: 1913( 2) | B44: 245 | C44: － | D44: 314 | E44: =IF(SUM(B44:D44)=0,"",SUM(B44:D44)) -> 559 | F44: 63364 | G44: =F44*$X44/100000 -> 1430.5057 | H44: 15986 | I44: =[1]hyo43旧!I44*'hyo43'!$AA$23 -> 553.688 | J44: 7236 | K44: =[1]hyo43旧!K44*'hyo43'!$AA$23 -> 249.986 | L44: 1981( 56) | M44: 89 | N44: 1 | O44: 309 | P44: =IF(SUM(M44:O44)=0,"－",SUM(M44:O44)) -> 399 | Q44: 852438 | R44: =+Q44*Y45/100 -> 10433.841 | S44: 1721880 | T44: =+S44/$AA45 -> 20547.494 | U44: 337536 | V44: =+U44/$AA45 -> 4027.8759 | X44: =ROUND(AC44,1) -> 2257.6 | Y44: =ROUND(AD44,3) -> 1.277 | Z44: =ROUND(AE44,1) -> 87 | AA44: =ROUND(AF44,1) -> 82.3 | AC44: 2257.557 | AD44: 1.2771392 | AE44: 87.010676 | AF44: 82.273185
... A60: 1929( 4) | B60: 53 | C60: － | D60: 76 | E60: =IF(SUM(B60:D60)=0,"",SUM(B60:D60)) -> 129 | F60: 39304 | G60: =F60*$X60/100000 -> 534.73092 | H60: 45602 | I60: =[1]hyo43旧!I60*'hyo43'!$AA$23 -> 679.714 | J60: 12535 | K60: =[1]hyo43旧!K60*'hyo43'!$AA$23 -> 186.973 | L60: 1997( 9) | M60: 46 | N60: 1 | O60: 171 | P60: =IF(SUM(M60:O60)=0,"－",SUM(M60:O60)) -> 218 | Q60: 499294 | R60: =+Q60*Y61/100 -> 5012.9118 | S60: 3339978 | T60: =+S60/$AA61 -> 33299.88 | U60: 255526 | V60: =+U60/$AA61 -> 2547.6171 | X60: =ROUND(AC60,1) -> 1360.5 | Y60: =ROUND(AD60,3) -> 1.008 | Z60: =ROUND(AE60,1) -> 103.7 | AA60: =ROUND(AF60,1) -> 99.7 | AC60: 1360.4899 | AD60: 1.0080645 | AE60: 103.7 | AF60: 99.665635
A61: 1930( 5) | B61: 106 | C61: － | D61: 16 | E61: =IF(SUM(B61:D61)=0,"",SUM(B61:D61)) -> 122 | F61: 56863 | G61: =F61*$X61/100000 -> 1028.936 | H61: 37754 | I61: =[1]hyo43旧!I61*'hyo43'!$AA$23 -> 694.176 | J61: 10419 | K61: =[1]hyo43旧!K61*'hyo43'!$AA$23 -> 191.105 | L61: 1998( 10) | M61: 74 | N61: 3 | O61: 795 | P61: =SUM(M61:O61) -> 872 | Q61: 1045180 | R61: =+Q61*Y62/100 -> 10504.059 | S61: 3472743 | T61: =+S61/$AA62 -> 35328.006 | U61: 336224 | V61: =+U61/$AA62 -> 3420.3866 | X61: =ROUND(AC61,1) -> 1809.5 | Y61: =ROUND(AD61,3) -> 1.004 | Z61: =ROUND(AE61,1) -> 104.6 | AA61: =ROUND(AF61,1) -> 100.3 | AC61: 1809.5112 | AD61: 1.0040161 | AE61: 104.6 | AF61: 100.26967
A62: 1931( 6) | B62: 63 | C62: － | D62: 118 | E62: =IF(SUM(B62:D62)=0,"",SUM(B62:D62)) -> 181 | F62: 35535 | G62: =F62*$X62/100000 -> 760.59114 | H62: 34938 | I62: =[1]hyo43旧!I62*'hyo43'!$AA$23 -> 712.77 | J62: 10020 | K62: =[1]hyo43旧!K62*'hyo43'!$AA$23 -> 204.534 | L62: 1999( 11) | M62: 103 | N62: 4 | O62: 952 | P62: =SUM(M62:O62) -> 1059 | Q62: 911988 | R62: =+Q62*Y63/100 -> 9293.1577 | S62: － | T62: － | U62: － | V62: － | X62: =ROUND(AC62,1) -> 2140.4 | Y62: =ROUND(AD62,3) -> 1.005 | Z62: =ROUND(AE62,1) -> 103.6 | AA62: =ROUND(AF62,1) -> 98.3 | AC62: 2140.4335 | AD62: 1.0050251 | AE62: 103.6 | AF62: 98.3
A63: 1932( 7) | B63: 151 | C63: － | D63: 478 | E63: 627 | F63: 87978 | G63: =F63*$X63/100000 -> 1698.0634 | H63: 60515 | I63: =[1]hyo43旧!I63*'hyo43'!$AA$23 -> 1251.996 | J63: 11397 | K63: =[1]hyo43旧!K63*'hyo43'!$AA$23 -> 235.524 | L63: 2000( 12) | M63: 14 | N63: 0 | O63: 177 | P63: =SUM(M63:O63) -> 191 | Q63: 996381 | R63: =+Q63*Y64/100 -> 10322.507 | S63: － | T63: － | U63: － | V63: － | X63: =ROUND(AC63,1) -> 1930.1 | Y63: =ROUND(AD63,3) -> 1.019 | Z63: =ROUND(AE63,1) -> 103 | AA63: =ROUND(AF63,1) -> 97.1 | AC63: 1930.1453 | AD63: 1.0188487 | AE63: 103 | AF63: 97.1
A64: 1933( 8) | B64: 18 | C64: － | D64: 22 | E64: =IF(SUM(B64:D64)=0,"",SUM(B64:D64)) -> 40 | F64: 39151 | G64: =F64*$X64/100000 -> 659.30284 | H64: 67747 | I64: =[1]hyo43旧!I64*'hyo43'!$AA$23 -> 1376.989 | J64: 10965 | K64: =[1]hyo43旧!K64*'hyo43'!$AA$23 -> 223.128 | L64: S21-H12計 | M64: =SUM(M9:M63) -> 24018 | N64: =SUM(N9:N63) -> 4663 | O64: =SUM(O9:O63) -> 121149 | P64: =SUM(P9:P63) -> 149830 | Q64: =SUM(Q9:Q63) -> 23335622 | R64: =SUM(R9:R63) -> 461460.49 | S64: =SUM(S9:S63) -> 58866054 | T64: =SUM(T9:T63) -> 768496.7 | ... V64: =SUM(V9:V63) -> 162729.87 | X64: =ROUND(AC64,1) -> 1684 | Y64: =ROUND(AD64,3) -> 1.036 | AA64: =ROUND(AF64,1) -> 96.8 | AC64: 1683.9533 | AD64: 1.036001 | AF64: 96.8
A65: 1934( 9) | B65: 973 | C65: － | D65: 5529 | E65: =IF(SUM(B65:D65)=0,"",SUM(B65:D65)) -> 6502 | F65: 537401 | G65: =F65*$X65/100000 -> 8868.7287 | H65: 55457 | I65: =[1]hyo43旧!I65*'hyo43'!$AA$23 -> 1127.003 | J65: 15213 | K65: =[1]hyo43旧!K65*'hyo43'!$AA$23 -> 308.867 | L65: 同 平均 | M65: =AVERAGE(M9:M63) -> 436.69091 | N65: =AVERAGE(N9:N63) -> 84.781818 | O65: =AVERAGE(O9:O63) -> 2202.7091 | P65: =AVERAGE(P9:P63) -> 2724.1818 | Q65: =AVERAGE(Q9:Q63) -> 424284.04 | R65: =AVERAGE(R9:R63) -> 8390.1906 | S65: =AVERAGE(S9:S63) -> 1110680.3 | T65: =AVERAGE(T9:T63) -> 14499.938 | ... V65: =AVERAGE(V9:V63) -> 3070.375 | X65: =ROUND(AC65,1) -> 1650.3 | AC65: 1650.2742
A66: 1935( 10) | B66: 532 | C66: － | D66: 949 | E66: =IF(SUM(B66:D66)=0,"",SUM(B66:D66)) -> 1481 | F66: 322422 | G66: =F66*$X66/100000 -> 5228.7176 | H66: 48617 | I66: =[1]hyo43旧!I66*'hyo43'!$AA$23 -> 982.383 | J66: 28185 | K66: =[1]hyo43旧!K66*'hyo43'!$AA$23 -> 569.183 | L66: （注）1.死者・行方不明者・負傷者数については、明治35年～昭和16年は「戦後水害被害額推計」（河川局）、昭和21年～昭和27年は | X66: =ROUND(AC66,1) -> 1621.7 | AC66: 1621.6692
A67: 1936( 11) | B67: 93 | C67: － | D67: 158 | E67: =IF(SUM(B67:D67)=0,"",SUM(B67:D67)) -> 251 | F67: 90548 | G67: =F67*$X67/100000 -> 1409.2891 | H67: 50161 | I67: =[1]hyo43旧!I67*'hyo43'!$AA$23 -> 1007.175 | J67: 34869 | K67: =[1]hyo43旧!K67*'hyo43'!$AA$23 -> 700.374 | L67: 「災害統計」（河川局）、昭和28年以降は警察庁調べによる。 | X67: =ROUND(AC67,1) -> 1556.4 | AC67: 1556.3773
A68: 1937( 12) | B68: 178 | C68: － | D68: 383 | E68: =IF(SUM(B68:D68)=0,"",SUM(B68:D68)) -> 561 | F68: 106431 | G68: =F68*$X68/100000 -> 1364.0197 | H68: 64166 | I68: =[1]hyo43旧!I68*'hyo43'!$AA$23 -> 1088.782 | J68: 26432 | K68: =[1]hyo43旧!K68*'hyo43'!$AA$23 -> 448.322 | L68: 2.水害被害額については、明治8年～昭和20年は「内務省土木局第30回統計年報」、昭和21年～昭和35年は「戦後水害被害額推 | X68: =ROUND(AC68,1) -> 1281.6 | AC68: 1281.5813
A69: 1938( 13) | B69: 1053 | C69: － | D69: 4838 | E69: =IF(SUM(B69:D69)=0,"",SUM(B69:D69)) -> 5891 | F69: 420662 | G69: =F69*$X69/100000 -> 5111.464 | H69: 52293 | I69: =[1]hyo43旧!I69*'hyo43'!$AA$23 -> 798.509 | J69: 40166 | K69: =[1]hyo43旧!K69*'hyo43'!$AA$23 -> 612.569 | L69: 計」、昭和36年以降は「水害統計」による。 | X69: =ROUND(AC69,1) -> 1215.1 | AC69: 1215.0665
A70: 1939( 14) | B70: 216 | C70: － | D70: 429 | E70: =IF(SUM(B70:D70)=0,"",SUM(B70:D70)) -> 645 | F70: 72064 | G70: =F70*$X70/100000 -> 771.30099 | H70: 78751 | I70: =[1]hyo43旧!I70*'hyo43'!$AA$23 -> 1020.604 | J70: 34934 | K70: =[1]hyo43旧!K70*'hyo43'!$AA$23 -> 452.454 | L70: 3.治水投資額及び災害復旧額については、明治8年度～昭和35年度は「治水事業費、治水粗資産額等資料」（河川局）、昭和36年 | X70: =ROUND(AC70,1) -> 1070.3 | AC70: 1070.3225
A71: 1940( 15) | B71: 87 | C71: － | D71: 150 | E71: 237 | F71: 102445 | G71: =F71*$X71/100000 -> 934.09351 | H71: 91695 | I71: =[1]hyo43旧!I71*'hyo43'!$AA$23 -> 1033 | J71: 27427 | K71: =[1]hyo43旧!K71*'hyo43'!$AA$23 -> 308.867 | L71: 以降は「建設業務統計年報」（総合政策局）による。 | X71: =ROUND(AC71,1) -> 911.8 | AC71: 911.79973
A72: 1941( 16) | B72: 444 | C72: － | D72: 561 | E72: =IF(SUM(B72:D72)=0,"－",SUM(B72:D72)) -> 1005 | F72: 423094 | G72: =F72*$X72/100000 -> 3575.1443 | H72: 106790 | I72: =[1]hyo43旧!I72*'hyo43'!$AA$23 -> 1082.584 | J72: 43781 | K72: =[1]hyo43旧!K72*'hyo43'!$AA$23 -> 444.19 | L72: 4.換算指数は、水害被害額については水害被害額デフレーター、治水投資額及び災害復旧額については治水事業費指数である。 | X72: =ROUND(AC72,1) -> 845 | AC72: 845.04876
A73: 1942( 17) | B73: － | C73: － | D73: － | E73: =IF(SUM(B73:D73)=0,"－",SUM(B73:D73)) -> － | H73: 110520 | I73: =[1]hyo43旧!T5*'hyo43'!$AA$23 -> 1079.485 | J73: 56840 | K73: =[1]hyo43旧!V5*'hyo43'!$AA$23 -> 554.721 | L73: 5.死者・行方不明者・負傷者及び水害被害額は歴年の値であり、治水投資額及び災害復旧額は年度の値である。
L74: 6.明治8年度～平成10年度の治水投資額累計及び災害復旧額累計（平成7年価格）は、802,610億円及び177,775億円である。 | Y74: 治水投資H7 | Z74: 復旧額H7
L75: 7.治水投資額及び災害復旧額の計及び平均は昭和21年～平成10年の数値である。 | X75: M8-H10 | Y75: =SUM(T5:T7)+SUM(I6:I73)+T64 -> 802607.39 | Z75: =SUM(V5:V7)+SUM(K6:K73)+V64 -> 177773.53
