Workbook

Sheet 第1表
A1: 第１表 家内労働従事者数、家内労働者数、補助者数及び委託者数の推移
AS2: ↓資料登録時はここを消す予定
A3: 区 分 | E3: 昭和45年 | F3: 46年 | G3: 47年 | H3: 48年 | I3: 49年 | J3: 50年 | K3: 51年 | L3: 52年 | M3: 53年 | N3: 54年 | O3: 55年 | P3: 56年 | Q3: 57年 | R3: 58年 | S3: 59年 | T3: 60年 | U3: 61年 | V3: 62年 | W3: 63年 | X3: 平成元年 | Y3: 平成2年 | Z3: 3年 | AA3: 4年 | AB3: 5年 | AC3: 6年 | AD3: 7年 | AE3: 8年 | AF3: 9年 | AG3: 10年 | AH3: 11年 | AI3: 12年 | AJ3: 13年 | AK3: 14年 | AL3: 15年 | AM3: 16年 | AN3: 17年 | AO3: 19年 | AP3: 20年 | AQ3: 21年 | AR3: 22年 | AS3: 26年 | AT3: 27年 | AU3: 28年 | AV3: 29年 | AW3: 30年 | AX3: 令和元年 | AY3: 令和２年 | AZ3: ３年 | BA3: ４年
E5: 人 | H5: 人 | J5: 人 | K5: 人 | L5: 人 | M5: 人 | N5: 人 | O5: 人 | P5: 人 | Q5: 人 | R5: 人 | S5: 人 | T5: 人 | U5: 人 | V5: 人 | W5: 人 | X5: 人 | Y5: 人 | Z5: 人 | AA5: 人 | AB5: 人 | AC5: 人 | AD5: 人 | AE5: 人 | AF5: 人 | AG5: 人 | AH5: 人 | AI5: 人 | AJ5: 人 | AK5: 人 | AL5: 人 | AM5: 人 | AN5: 人 | AO5: 人 | AP5: 人 | AQ5: 人 | AR5: 人 | AS5: 人 | AT5: 人 | AU5: 人 | AV5: 人 | AW5: 人 | AX5: 人 | AY5: 人 | AZ5: 人 | BA5: 人
A6: 家内労働 従事者数 （対前年比率） | E6: 2017100 | F6: 2015000 | G6: 2037200 | H6: 2041200 | I6: 1833200 | J6: 1725700 | K6: 1619600 | L6: 1544300 | M6: 1451300 | N6: 1443400 | O6: 1415500 | P6: 1388100 | Q6: 1317600 | R6: 1285400 | S6: 1263100 | T6: 1223200 | U6: 1147800 | V6: 1087800 | W6: 1055600 | X6: 1012300 | Y6: 951800 | Z6: 891600 | AA6: 816500 | AB6: 745000 | AC6: 657272 | AD6: 576701 | AE6: 532477 | AF6: 485193 | AG6: 439082 | AH6: 382447 | AI6: 347084 | AJ6: 311530 | AK6: 269815 | AL6: 246476 | AM6: 226670 | AN6: 216625 | AO6: 189338 | AP6: 179496 | AQ6: 151950 | AR6: 141131 | AS6: 117061 | AT6: 114655 | AU6: 110989 | AV6: 111616 | AW6: 114511 | AX6: 108293 | AY6: =AY8+AY20 -> 108539 | AZ6: 100462 | BA6: =BA8+BA20 -> 98339
F7: =(F6-E6)/E6*100 -> -0.10410986 | G7: =(G6-F6)/F6*100 -> 1.101737 | H7: =(H6-G6)/G6*100 -> 0.19634793 | I7: =(I6-H6)/H6*100 -> -10.190084 | J7: =(J6-I6)/I6*100 -> -5.8640628 | K7: =(K6-J6)/J6*100 -> -6.1482297 | L7: =(L6-K6)/K6*100 -> -4.6492961 | M7: =(M6-L6)/L6*100 -> -6.022146 | ... BA7: =(BA6-AZ6)/AZ6*100 -> -2.1132368
A8: 家内労働 者 数 （対前年比率） | E8: 1811200 | F8: 1805800 | G8: 1840900 | H8: 1844400 | I8: 1654500 | J8: 1563700 | K8: 1500700 | L8: 1434500 | M8: 1348400 | N8: 1342000 | O8: 1313900 | P8: 1289700 | Q8: 1227100 | R8: 1201700 | S8: 1186500 | T8: 1149000 | U8: 1080400 | V8: 1025000 | W8: 997700 | X8: 957900 | Y8: 903400 | Z8: 848200 | AA8: 778300 | AB8: 710300 | AC8: 626617 | AD8: 549585 | AE8: 506864 | AF8: 462280 | AG8: 419014 | AH8: 365147 | AI8: 331831 | AJ8: 297200 | AK8: 257270 | AL8: 234717 | AM8: 216324 | AN8: 207142 | AO8: 181196 | AP8: 171705 | AQ8: 145151 | AR8: 136289 | AS8: 113027 | AT8: 111038 | AU8: 107747 | AV8: 108275 | AW8: 110812 | AX8: 105054 | AY8: 105301 | AZ8: 97122 | BA8: =[1]全国集計!F$24 -> 95108
F9: =(F8-E8)/E8*100 -> -0.29814488 | G9: =(G8-F8)/F8*100 -> 1.9437368 | H9: =(H8-G8)/G8*100 -> 0.1901244 | I9: =(I8-H8)/H8*100 -> -10.296031 | J9: =(J8-I8)/I8*100 -> -5.4880629 | K9: =(K8-J8)/J8*100 -> -4.0289058 | L9: =(L8-K8)/K8*100 -> -4.4112747 | M9: =(M8-L8)/L8*100 -> -6.0020913 | ... BA9: =(BA8-AZ8)/AZ8*100 -> -2.0736805
C10: 性別 | D10: 男性 | E10: 139500 | F10: 144700 | G10: 134200 | H10: 136600 | I10: 129100 | J10: 125200 | K10: 112200 | L10: 106400 | M10: 99500 | N10: 101600 | O10: 101900 | P10: 99600 | Q10: 90000 | R10: 83900 | S10: 79500 | T10: 78100 | U10: 71700 | V10: 67600 | W10: 64700 | X10: 61400 | Y10: 58500 | Z10: 53700 | AA10: 49100 | AB10: 44900 | AC10: 40870 | AD10: 36443 | AE10: 34627 | AF10: 31772 | AG10: 29513 | AH10: 26043 | AI10: 23888 | AJ10: 23142 | AK10: 21444 | AL10: 19684 | AM10: 18819 | AN10: 18758 | AO10: 17146 | AP10: 16383 | AQ10: 14274 | AR10: 13191 | AS10: 11166 | AT10: 11840 | AU10: 11250 | AV10: 11335 | AW10: 13324 | AX10: 11033 | AY10: 11220 | AZ10: 11146 | BA10: =[1]全国集計!G$24 -> 11141
E11: =E10/(E10+E12)* 100 -> 7.702076 | F11: =F10/(F10+F12)* 100 -> 8.013069 | G11: =G10/(G10+G12)* 100 -> 7.2899125 | H11: =H10/(H10+H12)* 100 -> 7.4062026 | I11: =I10/(I10+I12)* 100 -> 7.8029616 | J11: =J10/(J10+J12)* 100 -> 8.0066509 | K11: =K10/(K10+K12)* 100 -> 7.476511 | L11: =L10/(L10+L12)* 100 -> 7.4172185 | ... BA11: =BA10/(BA10+BA12)* 100 -> 11.714051
D12: 女性 | E12: 1671700 | F12: 1661100 | G12: 1706700 | H12: 1707800 | I12: 1525400 | J12: 1438500 | K12: 1388500 | L12: 1328100 | M12: 1248900 | N12: 1240400 | O12: 1212000 | P12: 1190100 | Q12: 1137100 | R12: 1117800 | S12: 1107000 | T12: 1070900 | U12: 1008700 | V12: 957400 | W12: 933000 | X12: 896500 | Y12: 844800 | Z12: 794500 | AA12: 729200 | AB12: 665400 | AC12: 585747 | AD12: 513142 | AE12: 472237 | AF12: 430508 | AG12: 389501 | AH12: 339104 | AI12: 307943 | AJ12: 274058 | AK12: 235826 | AL12: 215033 | AM12: 197505 | AN12: 188384 | AO12: 164050 | AP12: 155322 | AQ12: 130877 | AR12: 123098 | AS12: 101861 | AT12: 99198 | AU12: 96497 | AV12: 96940 | AW12: 97488 | AX12: 94021 | AY12: 94081 | AZ12: 85976 | BA12: =[1]全国集計!H$24 -> 83967
E13: =100-E11 -> 92.297924 | F13: =100-F11 -> 91.986931 | G13: =100-G11 -> 92.710087 | H13: =100-H11 -> 92.593797 | I13: =100-I11 -> 92.197038 | J13: =100-J11 -> 91.993349 | K13: =100-K11 -> 92.523489 | L13: =100-L11 -> 92.582781 | ... BA13: =100-BA11 -> 88.285949
C14: 類型別 | D14: 専業 | E14: 171000 | F14: 164100 | G14: 164600 | H14: 171000 | I14: 144800 | J14: 134800 | K14: 116000 | L14: 105400 | M14: 103200 | N14: 102500 | O14: 101400 | P14: 97800 | Q14: 93100 | R14: 85600 | S14: 75700 | T14: 76200 | U14: 70200 | V14: 65000 | W14: 59400 | X14: 56300 | Y14: 50400 | Z14: 46700 | AA14: 43400 | AB14: 39900 | AC14: 35593 | AD14: 31848 | AE14: 30359 | AF14: 25711 | AG14: 24221 | AH14: 21058 | AI14: 16914 | AJ14: 14657 | AK14: 12516 | AL14: 11676 | AM14: 10249 | AN14: 10813 | AO14: 8893 | AP14: 8335 | AQ14: 7348 | AR14: 5900 | AS14: 5169 | AT14: 5343 | AU14: 4759 | AV14: 4510 | AW14: 4890 | AX14: 4741 | AY14: 4905 | AZ14: 4512 | BA14: =[1]全国集計!I$24 -> 4308
E15: =E14/(E14+E16+E18)* 100 -> 9.4412544 | F15: =F14/(F14+F16+F18)* 100 -> 9.0873851 | G15: =G14/(G14+G16+G18)* 100 -> 8.9412787 | H15: =H14/(H14+H16+H18)* 100 -> 9.2713077 | I15: =I14/(I14+I16+I18)* 100 -> 8.7518888 | J15: =J14/(J14+J16+J18)* 100 -> 8.6205794 | K15: =K14/(K14+K16+K18)* 100 -> 7.7297261 | L15: =L14/(L14+L16+L18)* 100 -> 7.3475078 | ... AJ15: =AJ14/(AJ14+AJ16+AJ18)* 100 -> 4.9316958 | AK15: 4.8 | AL15: =AL14/(AL14+AL16+AL18)* 100 -> 4.9745012 | AM15: =AM14/(AM14+AM16+AM18)* 100 -> 4.7378007 | AN15: =AN14/(AN14+AN16+AN18)* 100 -> 5.2200906 | AO15: =AO14/(AO14+AO16+AO18)* 100 -> 4.907945 | AP15: =AP14/(AP14+AP16+AP18)* 100 -> 4.8542558 | AQ15: =AQ14/(AQ14+AQ16+AQ18)* 100 -> 5.0623144 | AR15: =AR14/(AR14+AR16+AR18)* 100 -> 4.3290361 | AS15: =AS14/(AS14+AS16+AS18)* 100 -> 4.5732436 | ... BA15: =BA14/(BA14+BA16+BA18)* 100 -> 4.5295874
D16: 内職 | E16: 1597200 | F16: 1605700 | G16: 1636300 | H16: 1633600 | I16: 1477700 | J16: 1393800 | K16: 1356500 | L16: 1305500 | M16: 1221200 | N16: 1216600 | O16: 1189500 | P16: 1168300 | Q16: 1115400 | R16: 1098100 | S16: 1094200 | T16: 1058500 | U16: 997900 | V16: 946500 | W16: 926800 | X16: 890800 | Y16: 843500 | Z16: 792300 | AA16: 727200 | AB16: 663000 | AC16: 585011 | AD16: 512900 | AE16: 471890 | AF16: 432620 | AG16: 390798 | AH16: 340507 | AI16: 311835 | AJ16: 279680 | AK16: 241983 | AL16: 220365 | AM16: 203513 | AN16: 193778 | AO16: 170402 | AP16: 161644 | AQ16: 136541 | AR16: 129577 | AS16: 107246 | AT16: 104929 | AU16: 102068 | AV16: 102755 | AW16: 104818 | AX16: 99056 | AY16: 99244 | AZ16: 91508 | BA16: =[1]全国集計!$J$24 -> 89278
E17: =E16/(E14+E16+E18)* 100 -> 88.184629 | F17: =F16/(F14+F16+F18)* 100 -> 88.919039 | G17: =G16/(G14+G16+G18)* 100 -> 88.885871 | H17: =H16/(H14+H16+H18)* 100 -> 88.570809 | I17: =I16/(I14+I16+I18)* 100 -> 89.313992 | J17: =J16/(J14+J16+J18)* 100 -> 89.134745 | K17: =K16/(K14+K16+K18)* 100 -> 90.391151 | L17: =L16/(L14+L16+L18)* 100 -> 91.00732 | ... AJ17: =AJ16/(AJ14+AJ16+AJ18)* 100 -> 94.10498 | AK17: 94 | AL17: =AL16/(AL14+AL16+AL18)* 100 -> 93.885402 | AM17: =AM16/(AM14+AM16+AM18)* 100 -> 94.077865 | AN17: 93.6 | AO17: =AO16/(AO14+AO16+AO18)* 100 -> 94.042915 | AP17: =AP16/(AP14+AP16+AP18)* 100 -> 94.140532 | AQ17: =AQ16/(AQ14+AQ16+AQ18)* 100 -> 94.068246 | AR17: =AR16/(AR14+AR16+AR18)* 100 -> 95.075171 | AS17: =AS16/(AS14+AS16+AS18)* 100 -> 94.885293 | AT17: =AT16/(AT14+AT16+AT18)* 100 -> 94.49828 | AU17: =AU16/(AU14+AU16+AU18)* 100 -> 94.72932 | AV17: =AV16/(AV14+AV16+AV18)* 100 -> 94.90187 | ... BA17: =BA16/(BA14+BA16+BA18)* 100 -> 93.870127
D18: 副業 | E18: 43000 | F18: 36000 | G18: 40000 | H18: 39800 | I18: 32000 | J18: 35100 | K18: 28200 | L18: 23600 | M18: 24000 | N18: 22900 | O18: 23000 | P18: 23600 | Q18: 18600 | R18: 18000 | S18: 16600 | T18: 14300 | U18: 12300 | V18: 13500 | W18: 11500 | X18: 10800 | Y18: 9400 | Z18: 9200 | AA18: 7700 | AB18: 7300 | AC18: 6013 | AD18: 4837 | AE18: 4615 | AF18: 3949 | AG18: 3995 | AH18: 3582 | AI18: 3082 | AJ18: 2863 | AK18: 2771 | AL18: 2676 | AM18: 2562 | AN18: 2551 | AO18: 1901 | AP18: 1726 | AQ18: 1262 | AR18: 812 | AS18: 612 | AT18: 766 | AU18: 920 | AV18: 1010 | AW18: 1104 | AX18: 1257 | AY18: 1152 | AZ18: 1102 | BA18: =[1]全国集計!$K$24 -> 1522
E19: =E18/(E14+E16+E18)* 100 -> 2.3741166 | F19: =F18/(F14+F16+F18)* 100 -> 1.9935763 | G19: =G18/(G14+G16+G18)* 100 -> 2.1728502 | H19: =H18/(H14+H16+H18)* 100 -> 2.1578833 | I19: =I18/(I14+I16+I18)* 100 -> 1.9341191 | J19: =J18/(J14+J16+J18)* 100 -> 2.2446761 | K19: =K18/(K14+K16+K18)* 100 -> 1.8791231 | L19: =L18/(L14+L16+L18)* 100 -> 1.6451725 | ... AJ19: =AJ18/(AJ14+AJ16+AJ18)* 100 -> 0.96332436 | AK19: 1 | AL19: =AL18/(AL14+AL16+AL18)* 100 -> 1.1400964 | AM19: =AM18/(AM14+AM16+AM18)* 100 -> 1.1843346 | AN19: =AN18/(AN14+AN16+AN18)* 100 -> 1.2315223 | AO19: =AO18/(AO14+AO16+AO18)* 100 -> 1.0491402 | AP19: =AP18/(AP14+AP16+AP18)* 100 -> 1.0052124 | AQ19: =AQ18/(AQ14+AQ16+AQ18)* 100 -> 0.86943941 | AR19: =AR18/(AR14+AR16+AR18)* 100 -> 0.59579276 | AS19: =AS18/(AS14+AS16+AS18)* 100 -> 0.54146354 | ... BA19: =BA18/(BA14+BA16+BA18)* 100 -> 1.600286
A20: 補助者数 | E20: 205900 | F20: 209200 | G20: 196300 | H20: 196800 | I20: 178700 | J20: 162000 | K20: 118900 | L20: 109800 | M20: 102900 | N20: 101400 | O20: 101600 | P20: 98400 | Q20: 90500 | R20: 83700 | S20: 76600 | T20: 74200 | U20: 67400 | V20: 62800 | W20: 57900 | X20: 54400 | Y20: 48400 | Z20: 43400 | AA20: 38300 | AB20: 34700 | AC20: 30655 | AD20: 27116 | AE20: 25613 | AF20: 22913 | AG20: 20068 | AH20: 17300 | AI20: 15253 | AJ20: 14330 | AK20: 12545 | AL20: 11759 | AM20: 10346 | AN20: 9483 | AO20: 8142 | AP20: 7791 | AQ20: 6799 | AR20: 4842 | AS20: 4034 | AT20: 3617 | AU20: 3242 | AV20: 3341 | AW20: 3699 | AX20: 3239 | AY20: 3238 | AZ20: 3340 | BA20: =[1]全国集計!$L$24 -> 3231
A21: 委託者数 | E21: 113100 | F21: 115400 | H21: 110900 | I21: 108000 | J21: 106100 | K21: 102400 | L21: 97500 | M21: 93000 | N21: 91700 | O21: 90100 | P21: 89800 | Q21: 85000 | R21: 83200 | S21: 81600 | T21: 80600 | U21: 75700 | V21: 71500 | W21: 66000 | X21: 63300 | Y21: 59800 | Z21: 55700 | AA21: 51600 | AB21: 47900 | AC21: 42833 | AD21: 38538 | AE21: 35774 | AF21: 32345 | AG21: 29462 | AH21: 26158 | AI21: 24116 | AJ21: 21798 | AK21: 19347 | AL21: 17400 | AM21: 15589 | AN21: 15010 | AO21: 12968 | AP21: 12153 | AQ21: 10982 | AR21: 10447 | AS21: 8113 | AT21: 7760 | AU21: 7516 | AV21: 7499 | AW21: 7654 | AX21: 7328 | AY21: 7500 | AZ21: 7139 | BA21: =[1]全国集計!$B$24 -> 7017
A22: 注1： | C22: 「家内労働従事者数」は、「家内労働者数」と「補助者数」の合計をいう。
A23: 注2： | C23: [ ]は、性及び類型別の構成比である。
A24: 注3： | C24: 昭和45年から平成2年までの数値は下2桁で四捨五入してあるため、内訳の数値を積み上げた数値は、合計の数値と一致しない場合がある。
