Workbook

Sheet 第5表
A1: 第５表 業種別委託者数、代理人数及び１委託者当たりの平均家内労働者数
A4: 業 種 | B4: 委託者数 | E4: 代理人数 | F4: １委託者当たりの平均家内労働者数
B5: 総数 | C5: 製造・販売業者 | D5: 請負業者
E8: 人 | F8: 人
A9: 総数 | B9: =SUM(B11,B13,B15,B17,B19,B21,B23,B25,B27,B29,B31,B33,B35,B37) -> 7017 | C9: =SUM(C11,C13,C15,C17,C19,C21,C23,C25,C27,C29,C31,C33,C35,C37) -> 6593 | D9: =SUM(D11,D13,D15,D17,D19,D21,D23,D25,D27,D29,D31,D33,D35,D37) -> 424 | E9: =SUM(E11,E13,E15,E17,E19,E21,E23,E25,E27,E29,E31,E33,E35,E37) -> 351 | F9: =ROUND([1]全国集計!F24/[1]全国集計!B24,1) -> 13.6
B10: =B9/B9 -> 1 | C10: =C9/C9 -> 1 | D10: =D9/D9 -> 1 | E10: =E9/E9 -> 1
A11: 食料品製造業 | B11: =SUM(C11:D11) -> 128 | C11: =[1]全国集計!C10 -> 127 | D11: =[1]全国集計!D10 -> 1 | E11: =[1]全国集計!E10 -> 2 | F11: =ROUND([1]全国集計!F10/[1]全国集計!B10,1) -> 13.6
B12: =B11/B9 -> 0.018241414 | C12: =C11/C9 -> 0.019262855 | D12: =D11/D9 -> 0.0023584906 | E12: =E11/E9 -> 0.0056980057
A13: 繊維工業 | B13: =SUM(C13:D13) -> 2404 | C13: =[1]全国集計!C11 -> 2228 | D13: =[1]全国集計!D11 -> 176 | E13: =[1]全国集計!E11 -> 68 | F13: =ROUND([1]全国集計!F11/[1]全国集計!B11,1) -> 9
B14: =B13/B9 -> 0.34259655 | C14: =C13/C9 -> 0.33793417 | D14: =D13/D9 -> 0.41509434 | E14: =E13/E9 -> 0.19373219
A15: 木材・木製品、家具・装備品製造業 | B15: =SUM(C15:D15) -> 72 | C15: =[1]全国集計!C12 -> 68 | D15: =[1]全国集計!D12 -> 4 | E15: =[1]全国集計!E12 -> 1 | F15: =ROUND([1]全国集計!F12/[1]全国集計!B12,1) -> 14.6
B16: =B15/B9 -> 0.010260795 | C16: =C15/C9 -> 0.010313969 | D16: =D15/D9 -> 0.0094339623 | E16: =E15/E9 -> 0.0028490028
A17: 紙・紙加工品製造業 | B17: =SUM(C17:D17) -> 383 | C17: =[1]全国集計!C13 -> 378 | D17: =[1]全国集計!D13 -> 5 | E17: =[1]全国集計!E13 -> 25 | F17: =ROUND([1]全国集計!F13/[1]全国集計!B13,1) -> 16.2
B18: =B17/B9 -> 0.05458173 | C18: =C17/C9 -> 0.057333536 | D18: =D17/D9 -> 0.011792453 | E18: =E17/E9 -> 0.071225071
A19: 印刷・同関連及び出版業 | B19: =SUM(C19:D19) -> 178 | C19: =[1]全国集計!C14 -> 168 | D19: =[1]全国集計!D14 -> 10 | E19: =[1]全国集計!E14 -> 3 | F19: =ROUND([1]全国集計!F14/[1]全国集計!B14,1) -> 15.6
B20: =B19/B9 -> 0.025366966 | C20: =C19/C9 -> 0.025481571 | D20: =D19/D9 -> 0.023584906 | E20: =E19/E9 -> 0.0085470085
A21: ゴム製品製造業 | B21: =SUM(C21:D21) -> 258 | C21: =[1]全国集計!C15 -> 236 | D21: =[1]全国集計!D15 -> 22 | E21: =[1]全国集計!E15 -> 12 | F21: =ROUND([1]全国集計!F15/[1]全国集計!B15,1) -> 23.4
B22: =B21/B9 -> 0.03676785 | C22: =C21/C9 -> 0.035795541 | D22: =D21/D9 -> 0.051886792 | E22: =E21/E9 -> 0.034188034
A23: 皮革製品製造業 | B23: =SUM(C23:D23) -> 190 | C23: =[1]全国集計!C16 -> 187 | D23: =[1]全国集計!D16 -> 3 | E23: =[1]全国集計!E16 -> 15 | F23: =ROUND([1]全国集計!F16/[1]全国集計!B16,1) -> 9.4
B24: =B23/B9 -> 0.027077098 | C24: =C23/C9 -> 0.028363416 | D24: =D23/D9 -> 0.0070754717 | E24: =E23/E9 -> 0.042735043
A25: 窯業・土石製品製造業 | B25: =SUM(C25:D25) -> 75 | C25: =[1]全国集計!C17 -> 73 | D25: =[1]全国集計!D17 -> 2 | E25: =[1]全国集計!E17 -> 0 | F25: =ROUND([1]全国集計!F17/[1]全国集計!B17,1) -> 9.8
B26: =B25/B9 -> 0.010688328 | C26: =C25/C9 -> 0.011072349 | D26: =D25/D9 -> 0.0047169811 | E26: =E25/E9 -> 0
A27: 金属製品製造業 | B27: =SUM(C27:D27) -> 308 | C27: =[1]全国集計!C18 -> 299 | D27: =[1]全国集計!D18 -> 9 | E27: =[1]全国集計!E18 -> 0 | F27: =ROUND([1]全国集計!F18/[1]全国集計!B18,1) -> 10.3
B28: =B27/B9 -> 0.043893402 | C28: =C27/C9 -> 0.04535113 | D28: =D27/D9 -> 0.021226415 | E28: =E27/E9 -> 0
A29: 電子部品・デバイス製造業 | B29: =SUM(C29:D29) -> 381 | C29: =[1]全国集計!C19 -> 362 | D29: =[1]全国集計!D19 -> 19 | E29: =[1]全国集計!E19 -> 2 | F29: =ROUND([1]全国集計!F19/[1]全国集計!B19,1) -> 10.9
B30: =B29/B9 -> 0.054296708 | C30: =C29/C9 -> 0.054906719 | D30: =D29/D9 -> 0.044811321 | E30: =E29/E9 -> 0.0056980057
A31: 電気機械器具製造業 | B31: =SUM(C31:D31) -> 783 | C31: =[1]全国集計!C20 -> 718 | D31: =[1]全国集計!D20 -> 65 | E31: =[1]全国集計!E20 -> 46 | F31: =ROUND([1]全国集計!F20/[1]全国集計!B20,1) -> 16
B32: =B31/B9 -> 0.11158615 | C32: =C31/C9 -> 0.10890338 | D32: =D31/D9 -> 0.15330189 | E32: =E31/E9 -> 0.13105413
A33: 情報通信機械器具製造業 | B33: =SUM(C33:D33) -> 50 | C33: =[1]全国集計!C21 -> 44 | D33: =[1]全国集計!D21 -> 6 | E33: =[1]全国集計!E21 -> 11 | F33: =ROUND([1]全国集計!F21/[1]全国集計!B21,1) -> 11.3
B34: =B33/B9 -> 0.0071255522 | C34: =C33/C9 -> 0.0066737449 | D34: =D33/D9 -> 0.014150943 | E34: =E33/E9 -> 0.031339031
A35: 機械器具等製造業 | B35: =SUM(C35:D35) -> 441 | C35: =[1]全国集計!C22 -> 412 | D35: =[1]全国集計!D22 -> 29 | E35: =[1]全国集計!E22 -> 10 | F35: =ROUND([1]全国集計!F22/[1]全国集計!B22,1) -> 12
B36: =B35/B9 -> 0.062847371 | C36: =C35/C9 -> 0.06249052 | D36: =D35/D9 -> 0.068396226 | E36: =E35/E9 -> 0.028490028
A37: その他（雑貨等） | B37: =SUM(C37:D37) -> 1366 | C37: =[1]全国集計!C23 -> 1293 | D37: =[1]全国集計!D23 -> 73 | E37: =[1]全国集計!E23 -> 156 | F37: =ROUND([1]全国集計!F23/[1]全国集計!B23,1) -> 20.1
B38: =B37/B9 -> 0.19467009 | C38: =C37/C9 -> 0.19611709 | D38: =D37/D9 -> 0.17216981 | E38: =E37/E9 -> 0.44444444
