Workbook

Sheet ○３級・随時３級（第５表）
B1: 第５表 職種別 受検申請者数、合格者数及び合格率（３級・随時３級、令和３年度）
C3: ３級 | F3: 随時３級 | I3: ３級・随時３級計
B4: 職種名（※） | C4: 申請者 | D4: 合格者 | E4: 合格率 | F4: 申請者 | G4: 合格者 | H4: 合格率 | I4: 申請者 | J4: 合格者 | K4: 合格率
B5: 作業名 | C5: （人） | D5: （人） | E5: （％） | F5: （人） | G5: （人） | H5: （％） | I5: （人） | J5: （人） | K5: （％）
A6: 1 | B6: ウェブデザイン | C6: =SUM(C7) -> 3428 | D6: =SUM(D7) -> 1824 | E6: =D6/C6*100 -> 53.208868 | F6: - | G6: - | H6: - | I6: =SUM(C6,F6) -> 3428 | J6: =SUM(D6,G6) -> 1824 | K6: =J6/I6*100 -> 53.208868
B7: ウェブデザイン作業 | C7: ='[1]シート1・様式 (実施状況)'!$O$52 -> 3428 | D7: ='[1]シート1・様式 (実施状況)'!$T$52 -> 1824 | E7: =D7/C7*100 -> 53.208868 | F7: - | G7: - | H7: - | I7: =SUM(C7,F7) -> 3428 | J7: =SUM(D7,G7) -> 1824 | K7: =J7/I7*100 -> 53.208868
A8: 3 | B8: ピアノ調律 | C8: =SUM(C9) -> 203 | D8: =SUM(D9) -> 78 | E8: =D8/C8*100 -> 38.423645 | F8: - | G8: - | H8: - | I8: =SUM(C8,F8) -> 203 | J8: =SUM(D8,G8) -> 78 | K8: =J8/I8*100 -> 38.423645
B9: ピアノ調律作業 | C9: 203 | D9: 78 | E9: =D9/C9*100 -> 38.423645 | F9: - | G9: - | H9: - | I9: =SUM(C9,F9) -> 203 | J9: =SUM(D9,G9) -> 78 | K9: =J9/I9*100 -> 38.423645
A10: 4 | B10: ファイナンシャル・プランニング | C10: =SUM(C11:C14) -> 274433 | D10: =SUM(D11:D14) -> 128734 | E10: =D10/C10*100 -> 46.909082 | F10: - | G10: - | H10: - | I10: =SUM(C10,F10) -> 274433 | J10: =SUM(D10,G10) -> 128734 | K10: =J10/I10*100 -> 46.909082
B11: 資産設計提案業務 | C11: ='[2]FP（金財）'!$O$46+'[2]FP（協会）'!$O$44 -> 149807 | D11: ='[2]FP（金財）'!$T$46+'[2]FP（協会）'!$T$44 -> 91334 | E11: =D11/C11*100 -> 60.967779 | F11: - | G11: - | H11: - | I11: =SUM(C11,F11) -> 149807 | J11: =SUM(D11,G11) -> 91334 | K11: =J11/I11*100 -> 60.967779
B12: 個人資産相談業務 | C12: ='[2]FP（金財）'!$O$44+'[2]FP（協会）'!$O$45 -> 44730 | D12: ='[2]FP（金財）'!$T$44+'[2]FP（協会）'!$T$45 -> 18744 | E12: =D12/C12*100 -> 41.904762 | F12: - | G12: - | H12: - | I12: =SUM(C12,F12) -> 44730 | J12: =SUM(D12,G12) -> 18744 | K12: =J12/I12*100 -> 41.904762
B13: 保険顧客資産相談業務 | C13: ='[2]FP（金財）'!$O$45+'[2]FP（協会）'!$O$46 -> 74970 | D13: ='[2]FP（金財）'!$T$45+'[2]FP（協会）'!$T$46 -> 18656 | E13: =D13/C13*100 -> 24.884621 | F13: - | G13: - | H13: - | I13: =SUM(C13,F13) -> 74970 | J13: =SUM(D13,G13) -> 18656 | K13: =J13/I13*100 -> 24.884621
B14: 学科試験のみ | C14: ='[2]FP（金財）'!$O$47 -> 4926 | D14: - | E14: - | F14: - | G14: - | H14: - | I14: =SUM(C14,F14) -> 4926 | J14: - | K14: -
A15: 5 | B15: 知的財産管理 | C15: =SUM(C16) -> 8312 | D15: =SUM(D16) -> 4894 | E15: =D15/C15*100 -> 58.87873 | F15: - | G15: - | H15: - | I15: =SUM(C15,F15) -> 8312 | J15: =SUM(D15,G15) -> 4894 | K15: =J15/I15*100 -> 58.87873
B16: 管理業務 | C16: =[2]知財!$O$44 -> 8312 | D16: =[2]知財!$T$44 -> 4894 | E16: =D16/C16*100 -> 58.87873 | F16: - | G16: - | H16: - | I16: =SUM(C16,F16) -> 8312 | J16: =SUM(D16,G16) -> 4894 | K16: =J16/I16*100 -> 58.87873
A17: 6 | B17: 金融窓口サービス | C17: =SUM(C18:C20) -> 3580 | D17: =SUM(D18:D20) -> 1186 | E17: =D17/C17*100 -> 33.128492 | F17: - | G17: - | H17: - | I17: =SUM(C17,F17) -> 3580 | J17: =SUM(D17,G17) -> 1186 | K17: =J17/I17*100 -> 33.128492
B18: 金融商品コンサルティング業務 | C18: =[2]金融窓口!$O$45 -> 669 | D18: =[2]金融窓口!$T$45 -> 305 | E18: =D18/C18*100 -> 45.590433 | F18: - | G18: - | H18: - | I18: =SUM(C18,F18) -> 669 | J18: =SUM(D18,G18) -> 305 | K18: =J18/I18*100 -> 45.590433
B19: テラー業務 | C19: =[2]金融窓口!$O$44 -> 2735 | D19: =[2]金融窓口!$T$44 -> 881 | E19: =D19/C19*100 -> 32.212066 | F19: - | G19: - | H19: - | I19: =SUM(C19,F19) -> 2735 | J19: =SUM(D19,G19) -> 881 | K19: =J19/I19*100 -> 32.212066
B20: 学科試験のみ | C20: =[2]金融窓口!$O$46 -> 176 | D20: - | E20: - | F20: - | G20: - | H20: - | I20: =SUM(C20,F20) -> 176 | J20: - | K20: -
A21: 7 | B21: ブライダルコーディネート | C21: =SUM(C22) -> 4204 | D21: =SUM(D22) -> 2962 | E21: =D21/C21*100 -> 70.456708 | F21: - | G21: - | H21: - | I21: =SUM(C21,F21) -> 4204 | J21: =SUM(D21,G21) -> 2962 | K21: =J21/I21*100 -> 70.456708
B22: ブライダルコーディネート作業 | C22: =[2]ブライダル!$O$44 -> 4204 | D22: =[2]ブライダル!$T$44 -> 2962 | E22: =D22/C22*100 -> 70.456708 | F22: - | G22: - | H22: - | I22: =SUM(C22,F22) -> 4204 | J22: =SUM(D22,G22) -> 2962 | K22: =J22/I22*100 -> 70.456708
A23: 8 | B23: 接客販売 | C23: =SUM(C24:C26) -> 208 | D23: =SUM(D24:D26) -> 117 | E23: =D23/C23*100 -> 56.25 | F23: - | G23: - | H23: - | I23: =SUM(C23,F23) -> 208 | J23: =SUM(D23,G23) -> 117 | K23: =J23/I23*100 -> 56.25
B24: レディスファッション販売作業 | C24: =[2]接客・販売!$O$44 -> 52 | D24: =[2]接客・販売!$T$44 -> 16 | E24: =D24/C24*100 -> 30.769231 | F24: - | G24: - | H24: - | I24: =SUM(C24,F24) -> 52 | J24: =SUM(D24,G24) -> 16 | K24: =J24/I24*100 -> 30.769231
B25: メンズファッション販売作業 | C25: =[2]接客・販売!$O$45 -> 48 | D25: =[2]接客・販売!$T$45 -> 13 | E25: =D25/C25*100 -> 27.083333 | F25: - | G25: - | H25: - | I25: =SUM(C25,F25) -> 48 | J25: =SUM(D25,G25) -> 13 | K25: =J25/I25*100 -> 27.083333
B26: ギフト販売作業 | C26: =[2]接客・販売!$O$46 -> 108 | D26: =[2]接客・販売!$T$46 -> 88 | E26: =D26/C26*100 -> 81.481481 | F26: - | G26: - | H26: - | I26: =SUM(C26,F26) -> 108 | J26: =SUM(D26,G26) -> 88 | K26: =J26/I26*100 -> 81.481481
A27: 10 | B27: ホテル・マネジメント | C27: =SUM(C28) -> 453 | D27: =SUM(D28) -> 198 | E27: =D27/C27*100 -> 43.708609 | F27: - | G27: - | H27: - | I27: =SUM(C27,F27) -> 453 | J27: =SUM(D27,G27) -> 198 | K27: =J27/I27*100 -> 43.708609
B28: ホテル・マネジメント作業 | C28: =[2]ホテル!$O$44 -> 453 | D28: =[2]ホテル!$T$44 -> 198 | E28: =D28/C28*100 -> 43.708609 | F28: - | G28: - | H28: - | I28: =SUM(C28,F28) -> 453 | J28: =SUM(D28,G28) -> 198 | K28: =J28/I28*100 -> 43.708609
A29: 11 | B29: レストランサービス | C29: =SUM(C30) -> 3727 | D29: =SUM(D30) -> 2095 | E29: =D29/C29*100 -> 56.21143 | F29: - | G29: - | H29: - | I29: =SUM(C29,F29) -> 3727 | J29: =SUM(D29,G29) -> 2095 | K29: =J29/I29*100 -> 56.21143
B30: レストランサービス作業 | C30: =[2]レストラン!$O$44 -> 3727 | D30: =[2]レストラン!$T$44 -> 2095 | E30: =D30/C30*100 -> 56.21143 | F30: - | G30: - | H30: - | I30: =SUM(C30,F30) -> 3727 | J30: =SUM(D30,G30) -> 2095 | K30: =J30/I30*100 -> 56.21143
A31: 12 | B31: フィットネスクラブ・マネジメント | C31: =SUM(C32) -> 2329 | D31: =SUM(D32) -> 1074 | E31: =D31/C31*100 -> 46.114212 | F31: - | G31: - | H31: - | I31: =SUM(C31,F31) -> 2329 | J31: =SUM(D31,G31) -> 1074 | K31: =J31/I31*100 -> 46.114212
B32: フィットネスクラブ・マネジメント作業 | C32: =[2]フィットネス!$O$44 -> 2329 | D32: =[2]フィットネス!$T$44 -> 1074 | E32: =D32/C32*100 -> 46.114212 | F32: - | G32: - | H32: - | I32: =SUM(C32,F32) -> 2329 | J32: =SUM(D32,G32) -> 1074 | K32: =J32/I32*100 -> 46.114212
A33: 14 | B33: 園芸装飾 | C33: =SUM(C34) -> 935 | D33: =SUM(D34) -> 689 | E33: =D33/C33*100 -> 73.68984 | F33: - | G33: - | H33: - | I33: =SUM(C33,F33) -> 935 | J33: =SUM(D33,G33) -> 689 | K33: =J33/I33*100 -> 73.68984
B34: 室内園芸装飾作業 | C34: 935 | D34: 689 | E34: =D34/C34*100 -> 73.68984 | F34: - | G34: - | H34: - | I34: =SUM(C34,F34) -> 935 | J34: =SUM(D34,G34) -> 689 | K34: =J34/I34*100 -> 73.68984
A35: 15 | B35: 造園 | C35: =SUM(C36) -> 1961 | D35: =SUM(D36) -> 1295 | E35: =D35/C35*100 -> 66.037736 | F35: - | G35: - | H35: - | I35: =SUM(C35,F35) -> 1961 | J35: =SUM(D35,G35) -> 1295 | K35: =J35/I35*100 -> 66.037736
B36: 造園工事作業 | C36: 1961 | D36: 1295 | E36: =D36/C36*100 -> 66.037736 | F36: - | G36: - | H36: - | I36: =SUM(C36,F36) -> 1961 | J36: =SUM(D36,G36) -> 1295 | K36: =J36/I36*100 -> 66.037736
A37: 16 | B37: さく井 | C37: - | D37: - | E37: - | F37: =SUM(F38:F39) -> 181 | G37: =SUM(G38:G39) -> 53 | H37: =G37/F37*100 -> 29.281768 | I37: =SUM(C37,F37) -> 181 | J37: =SUM(D37,G37) -> 53 | K37: =J37/I37*100 -> 29.281768
B38: パーカッション式さく井工事作業 | C38: - | D38: - | E38: - | F38: 39 | G38: 11 | H38: =G38/F38*100 -> 28.205128 | I38: =SUM(C38,F38) -> 39 | J38: =SUM(D38,G38) -> 11 | K38: =J38/I38*100 -> 28.205128
B39: ロータリー式さく井工事作業 | C39: - | D39: - | E39: - | F39: 142 | G39: 42 | H39: =G39/F39*100 -> 29.577465 | I39: =SUM(C39,F39) -> 142 | J39: =SUM(D39,G39) -> 42 | K39: =J39/I39*100 -> 29.577465
A40: 18 | B40: 鋳造 | C40: =SUM(C41:C42) -> 201 | D40: =SUM(D41:D42) -> 173 | E40: =D40/C40*100 -> 86.069652 | F40: =SUM(F41:F42) -> 1559 | G40: =SUM(G41:G42) -> 352 | H40: =G40/F40*100 -> 22.578576 | I40: =SUM(C40,F40) -> 1760 | J40: =SUM(D40,G40) -> 525 | K40: =J40/I40*100 -> 29.829545
B41: 鋳鉄鋳物鋳造作業 | C41: 201 | D41: 173 | E41: =D41/C41*100 -> 86.069652 | F41: 1050 | G41: 215 | H41: =G41/F41*100 -> 20.47619 | I41: =SUM(C41,F41) -> 1251 | J41: =SUM(D41,G41) -> 388 | K41: =J41/I41*100 -> 31.015188
...
