Workbook

Sheet ○３級・随時３級（第５表）
B1: 第５表 職種別 受検申請者数、合格者数及び合格率（３級・随時３級、令和３年度）
C3: ３級 | F3: 随時３級 | I3: ３級・随時３級計
B4: 職種名（※） | C4: 申請者 | D4: 合格者 | E4: 合格率 | F4: 申請者 | G4: 合格者 | H4: 合格率 | I4: 申請者 | J4: 合格者 | K4: 合格率
B5: 作業名 | C5: （人） | D5: （人） | E5: （％） | F5: （人） | G5: （人） | H5: （％） | I5: （人） | J5: （人） | K5: （％）
A6: 1 | B6: ウェブデザイン | C6: =SUM(C7) -> 3428 | D6: =SUM(D7) -> 1824 | E6: =D6/C6*100 -> 53.208868 | F6: - | G6: - | H6: - | I6: =SUM(C6,F6) -> 3428 | J6: =SUM(D6,G6) -> 1824 | K6: =J6/I6*100 -> 53.208868
B7: ウェブデザイン作業 | C7: ='[1]シート1・様式 (実施状況)'!$O$52 -> 3428 | D7: ='[1]シート1・様式 (実施状況)'!$T$52 -> 1824 | E7: =D7/C7*100 -> 53.208868 | F7: - | G7: - | H7: - | I7: =SUM(C7,F7) -> 3428 | J7: =SUM(D7,G7) -> 1824 | K7: =J7/I7*100 -> 53.208868
A8: 3 | B8: ピアノ調律 | C8: =SUM(C9) -> 203 | D8: =SUM(D9) -> 78 | E8: =D8/C8*100 -> 38.423645 | F8: - | G8: - | H8: - | I8: =SUM(C8,F8) -> 203 | J8: =SUM(D8,G8) -> 78 | K8: =J8/I8*100 -> 38.423645
B9: ピアノ調律作業 | C9: 203 | D9: 78 | E9: =D9/C9*100 -> 38.423645 | F9: - | G9: - | H9: - | I9: =SUM(C9,F9) -> 203 | J9: =SUM(D9,G9) -> 78 | K9: =J9/I9*100 -> 38.423645
A10: 4 | B10: ファイナンシャル・プランニング | C10: =SUM(C11:C14) -> 274433 | D10: =SUM(D11:D14) -> 128734 | E10: =D10/C10*100 -> 46.909082 | F10: - | G10: - | H10: - | I10: =SUM(C10,F10) -> 274433 | J10: =SUM(D10,G10) -> 128734 | K10: =J10/I10*100 -> 46.909082
B11: 資産設計提案業務 | C11: ='[2]FP（金財）'!$O$46+'[2]FP（協会）'!$O$44 -> 149807 | D11: ='[2]FP（金財）'!$T$46+'[2]FP（協会）'!$T$44 -> 91334 | E11: =D11/C11*100 -> 60.967779 | F11: - | G11: - | H11: - | I11: =SUM(C11,F11) -> 149807 | J11: =SUM(D11,G11) -> 91334 | K11: =J11/I11*100 -> 60.967779
B12: 個人資産相談業務 | C12: ='[2]FP（金財）'!$O$44+'[2]FP（協会）'!$O$45 -> 44730 | D12: ='[2]FP（金財）'!$T$44+'[2]FP（協会）'!$T$45 -> 18744 | E12: =D12/C12*100 -> 41.904762 | F12: - | G12: - | H12: - | I12: =SUM(C12,F12) -> 44730 | J12: =SUM(D12,G12) -> 18744 | K12: =J12/I12*100 -> 41.904762
B13: 保険顧客資産相談業務 | C13: ='[2]FP（金財）'!$O$45+'[2]FP（協会）'!$O$46 -> 74970 | D13: ='[2]FP（金財）'!$T$45+'[2]FP（協会）'!$T$46 -> 18656 | E13: =D13/C13*100 -> 24.884621 | F13: - | G13: - | H13: - | I13: =SUM(C13,F13) -> 74970 | J13: =SUM(D13,G13) -> 18656 | K13: =J13/I13*100 -> 24.884621
B14: 学科試験のみ | C14: ='[2]FP（金財）'!$O$47 -> 4926 | D14: - | E14: - | F14: - | G14: - | H14: - | I14: =SUM(C14,F14) -> 4926 | J14: - | K14: -
A15: 5 | B15: 知的財産管理 | C15: =SUM(C16) -> 8312 | D15: =SUM(D16) -> 4894 | E15: =D15/C15*100 -> 58.87873 | F15: - | G15: - | H15: - | I15: =SUM(C15,F15) -> 8312 | J15: =SUM(D15,G15) -> 4894 | K15: =J15/I15*100 -> 58.87873
B16: 管理業務 | C16: =[2]知財!$O$44 -> 8312 | D16: =[2]知財!$T$44 -> 4894 | E16: =D16/C16*100 -> 58.87873 | F16: - | G16: - | H16: - | I16: =SUM(C16,F16) -> 8312 | J16: =SUM(D16,G16) -> 4894 | K16: =J16/I16*100 -> 58.87873
A17: 6 | B17: 金融窓口サービス | C17: =SUM(C18:C20) -> 3580 | D17: =SUM(D18:D20) -> 1186 | E17: =D17/C17*100 -> 33.128492 | F17: - | G17: - | H17: - | I17: =SUM(C17,F17) -> 3580 | J17: =SUM(D17,G17) -> 1186 | K17: =J17/I17*100 -> 33.128492
B18: 金融商品コンサルティング業務 | C18: =[2]金融窓口!$O$45 -> 669 | D18: =[2]金融窓口!$T$45 -> 305 | E18: =D18/C18*100 -> 45.590433 | F18: - | G18: - | H18: - | I18: =SUM(C18,F18) -> 669 | J18: =SUM(D18,G18) -> 305 | K18: =J18/I18*100 -> 45.590433
B19: テラー業務 | C19: =[2]金融窓口!$O$44 -> 2735 | D19: =[2]金融窓口!$T$44 -> 881 | E19: =D19/C19*100 -> 32.212066 | F19: - | G19: - | H19: - | I19: =SUM(C19,F19) -> 2735 | J19: =SUM(D19,G19) -> 881 | K19: =J19/I19*100 -> 32.212066
B20: 学科試験のみ | C20: =[2]金融窓口!$O$46 -> 176 | D20: - | E20: - | F20: - | G20: - | H20: - | I20: =SUM(C20,F20) -> 176 | J20: - | K20: -
A21: 7 | B21: ブライダルコーディネート | C21: =SUM(C22) -> 4204 | D21: =SUM(D22) -> 2962 | E21: =D21/C21*100 -> 70.456708 | F21: - | G21: - | H21: - | I21: =SUM(C21,F21) -> 4204 | J21: =SUM(D21,G21) -> 2962 | K21: =J21/I21*100 -> 70.456708
B22: ブライダルコーディネート作業 | C22: =[2]ブライダル!$O$44 -> 4204 | D22: =[2]ブライダル!$T$44 -> 2962 | E22: =D22/C22*100 -> 70.456708 | F22: - | G22: - | H22: - | I22: =SUM(C22,F22) -> 4204 | J22: =SUM(D22,G22) -> 2962 | K22: =J22/I22*100 -> 70.456708
A23: 8 | B23: 接客販売 | C23: =SUM(C24:C26) -> 208 | D23: =SUM(D24:D26) -> 117 | E23: =D23/C23*100 -> 56.25 | F23: - | G23: - | H23: - | I23: =SUM(C23,F23) -> 208 | J23: =SUM(D23,G23) -> 117 | K23: =J23/I23*100 -> 56.25
B24: レディスファッション販売作業 | C24: =[2]接客・販売!$O$44 -> 52 | D24: =[2]接客・販売!$T$44 -> 16 | E24: =D24/C24*100 -> 30.769231 | F24: - | G24: - | H24: - | I24: =SUM(C24,F24) -> 52 | J24: =SUM(D24,G24) -> 16 | K24: =J24/I24*100 -> 30.769231
B25: メンズファッション販売作業 | C25: =[2]接客・販売!$O$45 -> 48 | D25: =[2]接客・販売!$T$45 -> 13 | E25: =D25/C25*100 -> 27.083333 | F25: - | G25: - | H25: - | I25: =SUM(C25,F25) -> 48 | J25: =SUM(D25,G25) -> 13 | K25: =J25/I25*100 -> 27.083333
B26: ギフト販売作業 | C26: =[2]接客・販売!$O$46 -> 108 | D26: =[2]接客・販売!$T$46 -> 88 | E26: =D26/C26*100 -> 81.481481 | F26: - | G26: - | H26: - | I26: =SUM(C26,F26) -> 108 | J26: =SUM(D26,G26) -> 88 | K26: =J26/I26*100 -> 81.481481
A27: 10 | B27: ホテル・マネジメント | C27: =SUM(C28) -> 453 | D27: =SUM(D28) -> 198 | E27: =D27/C27*100 -> 43.708609 | F27: - | G27: - | H27: - | I27: =SUM(C27,F27) -> 453 | J27: =SUM(D27,G27) -> 198 | K27: =J27/I27*100 -> 43.708609
B28: ホテル・マネジメント作業 | C28: =[2]ホテル!$O$44 -> 453 | D28: =[2]ホテル!$T$44 -> 198 | E28: =D28/C28*100 -> 43.708609 | F28: - | G28: - | H28: - | I28: =SUM(C28,F28) -> 453 | J28: =SUM(D28,G28) -> 198 | K28: =J28/I28*100 -> 43.708609
A29: 11 | B29: レストランサービス | C29: =SUM(C30) -> 3727 | D29: =SUM(D30) -> 2095 | E29: =D29/C29*100 -> 56.21143 | F29: - | G29: - | H29: - | I29: =SUM(C29,F29) -> 3727 | J29: =SUM(D29,G29) -> 2095 | K29: =J29/I29*100 -> 56.21143
B30: レストランサービス作業 | C30: =[2]レストラン!$O$44 -> 3727 | D30: =[2]レストラン!$T$44 -> 2095 | E30: =D30/C30*100 -> 56.21143 | F30: - | G30: - | H30: - | I30: =SUM(C30,F30) -> 3727 | J30: =SUM(D30,G30) -> 2095 | K30: =J30/I30*100 -> 56.21143
A31: 12 | B31: フィットネスクラブ・マネジメント | C31: =SUM(C32) -> 2329 | D31: =SUM(D32) -> 1074 | E31: =D31/C31*100 -> 46.114212 | F31: - | G31: - | H31: - | I31: =SUM(C31,F31) -> 2329 | J31: =SUM(D31,G31) -> 1074 | K31: =J31/I31*100 -> 46.114212
B32: フィットネスクラブ・マネジメント作業 | C32: =[2]フィットネス!$O$44 -> 2329 | D32: =[2]フィットネス!$T$44 -> 1074 | E32: =D32/C32*100 -> 46.114212 | F32: - | G32: - | H32: - | I32: =SUM(C32,F32) -> 2329 | J32: =SUM(D32,G32) -> 1074 | K32: =J32/I32*100 -> 46.114212
A33: 14 | B33: 園芸装飾 | C33: =SUM(C34) -> 935 | D33: =SUM(D34) -> 689 | E33: =D33/C33*100 -> 73.68984 | F33: - | G33: - | H33: - | I33: =SUM(C33,F33) -> 935 | J33: =SUM(D33,G33) -> 689 | K33: =J33/I33*100 -> 73.68984
B34: 室内園芸装飾作業 | C34: 935 | D34: 689 | E34: =D34/C34*100 -> 73.68984 | F34: - | G34: - | H34: - | I34: =SUM(C34,F34) -> 935 | J34: =SUM(D34,G34) -> 689 | K34: =J34/I34*100 -> 73.68984
A35: 15 | B35: 造園 | C35: =SUM(C36) -> 1961 | D35: =SUM(D36) -> 1295 | E35: =D35/C35*100 -> 66.037736 | F35: - | G35: - | H35: - | I35: =SUM(C35,F35) -> 1961 | J35: =SUM(D35,G35) -> 1295 | K35: =J35/I35*100 -> 66.037736
B36: 造園工事作業 | C36: 1961 | D36: 1295 | E36: =D36/C36*100 -> 66.037736 | F36: - | G36: - | H36: - | I36: =SUM(C36,F36) -> 1961 | J36: =SUM(D36,G36) -> 1295 | K36: =J36/I36*100 -> 66.037736
A37: 16 | B37: さく井 | C37: - | D37: - | E37: - | F37: =SUM(F38:F39) -> 181 | G37: =SUM(G38:G39) -> 53 | H37: =G37/F37*100 -> 29.281768 | I37: =SUM(C37,F37) -> 181 | J37: =SUM(D37,G37) -> 53 | K37: =J37/I37*100 -> 29.281768
B38: パーカッション式さく井工事作業 | C38: - | D38: - | E38: - | F38: 39 | G38: 11 | H38: =G38/F38*100 -> 28.205128 | I38: =SUM(C38,F38) -> 39 | J38: =SUM(D38,G38) -> 11 | K38: =J38/I38*100 -> 28.205128
B39: ロータリー式さく井工事作業 | C39: - | D39: - | E39: - | F39: 142 | G39: 42 | H39: =G39/F39*100 -> 29.577465 | I39: =SUM(C39,F39) -> 142 | J39: =SUM(D39,G39) -> 42 | K39: =J39/I39*100 -> 29.577465
A40: 18 | B40: 鋳造 | C40: =SUM(C41:C42) -> 201 | D40: =SUM(D41:D42) -> 173 | E40: =D40/C40*100 -> 86.069652 | F40: =SUM(F41:F42) -> 1559 | G40: =SUM(G41:G42) -> 352 | H40: =G40/F40*100 -> 22.578576 | I40: =SUM(C40,F40) -> 1760 | J40: =SUM(D40,G40) -> 525 | K40: =J40/I40*100 -> 29.829545
B41: 鋳鉄鋳物鋳造作業 | C41: 201 | D41: 173 | E41: =D41/C41*100 -> 86.069652 | F41: 1050 | G41: 215 | H41: =G41/F41*100 -> 20.47619 | I41: =SUM(C41,F41) -> 1251 | J41: =SUM(D41,G41) -> 388 | K41: =J41/I41*100 -> 31.015188
B42: 非鉄金属鋳物鋳造作業 | C42: - | D42: - | E42: - | F42: 509 | G42: 137 | H42: =G42/F42*100 -> 26.915521 | I42: =SUM(C42,F42) -> 509 | J42: =SUM(D42,G42) -> 137 | K42: =J42/I42*100 -> 26.915521
A43: 19 | B43: 鍛造 | C43: - | D43: - | E43: - | F43: =SUM(F44:F45) -> 182 | G43: =SUM(G44:G45) -> 60 | H43: =G43/F43*100 -> 32.967033 | I43: =SUM(C43,F43) -> 182 | J43: =SUM(D43,G43) -> 60 | K43: =J43/I43*100 -> 32.967033
B44: ハンマ型鍛造作業 | C44: - | D44: - | E44: - | F44: 41 | G44: 22 | H44: =G44/F44*100 -> 53.658537 | I44: =SUM(C44,F44) -> 41 | J44: =SUM(D44,G44) -> 22 | K44: =J44/I44*100 -> 53.658537
B45: プレス型鍛造作業 | C45: - | D45: - | E45: - | F45: 141 | G45: 38 | H45: =G45/F45*100 -> 26.950355 | I45: =SUM(C45,F45) -> 141 | J45: =SUM(D45,G45) -> 38 | K45: =J45/I45*100 -> 26.950355
A46: 20 | B46: 金属熱処理 | C46: =SUM(C47:C49) -> 961 | D46: =SUM(D47:D49) -> 624 | E46: =D46/C46*100 -> 64.932362 | F46: - | G46: - | H46: - | I46: =SUM(C46,F46) -> 961 | J46: =SUM(D46,G46) -> 624 | K46: =J46/I46*100 -> 64.932362
B47: 一般熱処理作業 | C47: 872 | D47: 567 | E47: =D47/C47*100 -> 65.022936 | F47: - | G47: - | H47: - | I47: =SUM(C47,F47) -> 872 | J47: =SUM(D47,G47) -> 567 | K47: =J47/I47*100 -> 65.022936
B48: 浸炭・浸炭窒化・窒化処理作業 | C48: 50 | D48: 34 | E48: =D48/C48*100 -> 68 | F48: - | G48: - | H48: - | I48: =SUM(C48,F48) -> 50 | J48: =SUM(D48,G48) -> 34 | K48: =J48/I48*100 -> 68
B49: 高周波・炎熱処理作業 | C49: 39 | D49: 23 | E49: =D49/C49*100 -> 58.974359 | F49: - | G49: - | H49: - | I49: =SUM(C49,F49) -> 39 | J49: =SUM(D49,G49) -> 23 | K49: =J49/I49*100 -> 58.974359
A50: 22 | B50: 機械加工 | C50: =SUM(C51:C55) -> 5367 | D50: =SUM(D51:D55) -> 3839 | E50: =D50/C50*100 -> 71.529719 | F50: =SUM(F51:F55) -> 5553 | G50: =SUM(G51:G55) -> 1209 | H50: =G50/F50*100 -> 21.772015 | I50: =SUM(I51:I55) -> 10920 | J50: =SUM(J51:J55) -> 5048 | K50: =J50/I50*100 -> 46.227106
B51: 普通旋盤作業 | C51: 4182 | D51: 2937 | E51: =D51/C51*100 -> 70.229555 | F51: 1800 | G51: 416 | H51: =G51/F51*100 -> 23.111111 | I51: =SUM(C51,F51) -> 5982 | J51: =SUM(D51,G51) -> 3353 | K51: =J51/I51*100 -> 56.051488
B52: 数値制御旋盤作業 | C52: 273 | D52: 208 | E52: =D52/C52*100 -> 76.190476 | F52: 1612 | G52: 256 | H52: =G52/F52*100 -> 15.880893 | I52: =SUM(C52,F52) -> 1885 | J52: =SUM(D52,G52) -> 464 | K52: =J52/I52*100 -> 24.615385
B53: フライス盤作業 | C53: 440 | D53: 304 | E53: =D53/C53*100 -> 69.090909 | F53: 1123 | G53: 211 | H53: =G53/F53*100 -> 18.788958 | I53: =SUM(C53,F53) -> 1563 | J53: =SUM(D53,G53) -> 515 | K53: =J53/I53*100 -> 32.949456
B54: 平面研削盤作業 | C54: 19 | D54: 17 | E54: =D54/C54*100 -> 89.473684 | F54: - | G54: - | H54: - | I54: =SUM(C54,F54) -> 19 | J54: =SUM(D54,G54) -> 17 | K54: =J54/I54*100 -> 89.473684
B55: マシニングセンタ作業 | C55: 453 | D55: 373 | E55: =D55/C55*100 -> 82.339956 | F55: 1018 | G55: 326 | H55: =G55/F55*100 -> 32.023576 | I55: =SUM(C55,F55) -> 1471 | J55: =SUM(D55,G55) -> 699 | K55: 81.425891
B56: けがき作業 | C56: - | D56: - | E56: - | F56: - | G56: - | H56: - | I56: - | J56: - | K56: -
A57: 25 | B57: 金属プレス加工 | C57: - | D57: - | E57: - | F57: =SUM(F58) -> 3944 | G57: =SUM(G58) -> 779 | H57: =G57/F57*100 -> 19.751521 | I57: =SUM(I58) -> 3944 | J57: =SUM(J58) -> 779 | K57: =J57/I57*100 -> 19.751521
B58: 金属プレス作業 | C58: - | D58: - | E58: - | F58: 3944 | G58: 779 | H58: =G58/F58*100 -> 19.751521 | I58: =SUM(C58,F58) -> 3944 | J58: =SUM(D58,G58) -> 779 | K58: =J58/I58*100 -> 19.751521
A59: 26 | B59: 鉄工 | C59: - | D59: - | E59: - | F59: =SUM(F60) -> 1690 | G59: =SUM(G60) -> 409 | H59: =G59/F59*100 -> 24.201183 | I59: =SUM(I60) -> 1690 | J59: =SUM(J60) -> 409 | K59: =J59/I59*100 -> 24.201183
B60: 構造物鉄工作業 | C60: - | D60: - | E60: - | F60: 1690 | G60: 409 | H60: =G60/F60*100 -> 24.201183 | I60: =SUM(C60,F60) -> 1690 | J60: =SUM(D60,G60) -> 409 | K60: =J60/I60*100 -> 24.201183
A61: 27 | B61: 建築板金 | C61: - | D61: - | E61: - | F61: =SUM(F62:F63) -> 683 | G61: =SUM(G62:G63) -> 216 | H61: =G61/F61*100 -> 31.625183 | I61: =SUM(I62:I63) -> 683 | J61: =SUM(J62:J63) -> 216 | K61: =J61/I61*100 -> 31.625183
B62: 内外装板金作業 | F62: 377 | G62: 127 | H62: =G62/F62*100 -> 33.687003 | I62: =SUM(C62,F62) -> 377 | J62: =SUM(D62,G62) -> 127 | K62: =J62/I62*100 -> 33.687003
B63: ダクト板金作業 | C63: - | D63: - | E63: - | F63: 306 | G63: 89 | H63: =G63/F63*100 -> 29.084967 | I63: =SUM(C63,F63) -> 306 | J63: =SUM(D63,G63) -> 89 | K63: =J63/I63*100 -> 29.084967
A64: 28 | B64: 工場板金 | C64: =SUM(C65:C67) -> 30 | D64: =SUM(D65:D67) -> 9 | E64: =D64/C64*100 -> 30 | F64: =SUM(F65:F67) -> 1467 | G64: =SUM(G65:G67) -> 463 | H64: =SUM(H65:H67) -> 31.561009 | I64: =SUM(I65:I67) -> 1497 | J64: =SUM(J65:J67) -> 472 | K64: =J64/I64*100 -> 31.529726
B65: 曲げ板金作業 | C65: 20 | D65: =SUM(O65:P65) -> 0 | E65: =D65/C65*100 -> 0 | F65: - | G65: - | H65: - | I65: =SUM(C65,F65) -> 20 | J65: =SUM(D65,G65) -> 0 | K65: =J65/I65*100 -> 0
B66: 打出し板金作業 | C66: 10 | D66: 9 | E66: =D66/C66*100 -> 90 | F66: - | G66: - | H66: - | I66: =SUM(C66,F66) -> 10 | J66: =SUM(D66,G66) -> 9 | K66: =J66/I66*100 -> 90
B67: 機械板金作業 | C67: - | D67: - | E67: - | F67: 1467 | G67: 463 | H67: =G67/F67*100 -> 31.561009 | I67: =SUM(C67,F67) -> 1467 | J67: =SUM(D67,G67) -> 463 | K67: =J67/I67*100 -> 31.561009
A68: 29 | B68: めっき | C68: =SUM(C69:C70) -> 96 | D68: =SUM(D69:D70) -> 78 | E68: =D68/C68*100 -> 81.25 | F68: =SUM(F69:F70) -> 1057 | G68: =SUM(G69:G70) -> 318 | H68: =G68/F68*100 -> 30.085147 | I68: =SUM(I69:I70) -> 1153 | J68: =SUM(J69:J70) -> 396 | K68: =J68/I68*100 -> 34.345186
B69: 電気めっき作業 | C69: 96 | D69: 78 | E69: =D69/C69*100 -> 81.25 | F69: 827 | G69: 219 | H69: =G69/F69*100 -> 26.481258 | I69: =SUM(C69,F69) -> 923 | J69: =SUM(D69,G69) -> 297 | K69: =J69/I69*100 -> 32.177681
B70: 溶融亜鉛めっき作業 | C70: - | D70: - | E70: - | F70: 230 | G70: 99 | H70: =G70/F70*100 -> 43.043478 | I70: =SUM(C70,F70) -> 230 | J70: =SUM(D70,G70) -> 99 | K70: =J70/I70*100 -> 43.043478
A71: 30 | B71: アルミニウム陽極酸化処理 | C71: - | D71: - | E71: - | F71: =SUM(F72) -> 144 | G71: =SUM(G72) -> 45 | H71: =G71/F71*100 -> 31.25 | I71: =SUM(I72) -> 144 | J71: =SUM(J72) -> 45 | K71: =J71/I71*100 -> 31.25
B72: 陽極酸化処理作業 | C72: - | D72: - | E72: - | F72: 144 | G72: 45 | H72: =G72/F72*100 -> 31.25 | I72: =SUM(C72,F72) -> 144 | J72: =SUM(D72,G72) -> 45 | K72: =J72/I72*100 -> 31.25
A73: 34 | B73: 仕上げ | C73: =SUM(C74:C76) -> 139 | D73: =SUM(D74:D76) -> 68 | E73: =D73/C73*100 -> 48.920863 | F73: =SUM(F74:F76) -> 1256 | G73: =SUM(G74:G76) -> 156 | H73: =G73/F73*100 -> 12.420382 | I73: =SUM(I74:I76) -> 1395 | J73: =SUM(J74:J76) -> 224 | K73: =J73/I73*100 -> 16.057348
B74: 治工具仕上げ作業 | C74: - | D74: - | E74: - | F74: 151 | G74: 23 | H74: =G74/F74*100 -> 15.231788 | I74: =SUM(C74,F74) -> 151 | J74: =SUM(D74,G74) -> 23 | K74: =J74/I74*100 -> 15.231788
B75: 金型仕上げ作業 | C75: - | D75: - | E75: - | F75: 206 | G75: 34 | H75: =G75/F75*100 -> 16.504854 | I75: =SUM(C75,F75) -> 206 | J75: =SUM(D75,G75) -> 34 | K75: =J75/I75*100 -> 16.504854
B76: 機械組立仕上げ作業 | C76: 139 | D76: 68 | E76: =D76/C76*100 -> 48.920863 | F76: 899 | G76: 99 | H76: =G76/F76*100 -> 11.012236 | I76: =SUM(C76,F76) -> 1038 | J76: =SUM(D76,G76) -> 167 | K76: =J76/I76*100 -> 16.088632
A77: 36 | B77: 機械検査 | C77: =SUM(C78) -> 8444 | D77: =SUM(D78) -> 5729 | E77: =D77/C77*100 -> 67.846992 | F77: =SUM(F78) -> 3050 | G77: =SUM(G78) -> 453 | H77: =G77/F77*100 -> 14.852459 | I77: =SUM(I78) -> 11494 | J77: =SUM(J78) -> 6182 | K77: =J77/I77*100 -> 53.784583
B78: 機械検査作業 | C78: 8444 | D78: 5729 | E78: =D78/C78*100 -> 67.846992 | F78: 3050 | G78: 453 | H78: =G78/F78*100 -> 14.852459 | I78: =SUM(C78,F78) -> 11494 | J78: =SUM(D78,G78) -> 6182 | K78: =J78/I78*100 -> 53.784583
A79: 37 | B79: ダイカスト | C79: - | D79: - | E79: - | F79: =SUM(F80:F81) -> 684 | G79: =SUM(G80:G81) -> 208 | H79: =G79/F79*100 -> 30.409357 | I79: =SUM(I80:I81) -> 684 | J79: =SUM(J80:J81) -> 208 | K79: =J79/I79*100 -> 30.409357
B80: ホットチャンバダイカスト作業 | C80: - | D80: - | E80: - | F80: 56 | G80: 16 | H80: =G80/F80*100 -> 28.571429 | I80: =SUM(C80,F80) -> 56 | J80: =SUM(D80,G80) -> 16 | K80: =J80/I80*100 -> 28.571429
B81: コールドチャンバダイカスト作業 | C81: - | D81: - | E81: - | F81: 628 | G81: 192 | H81: =G81/F81*100 -> 30.573248 | I81: =SUM(C81,F81) -> 628 | J81: =SUM(D81,G81) -> 192 | K81: =J81/I81*100 -> 30.573248
A82: 38 | B82: 機械保全 | C82: =SUM(C83:C84) -> 8605 | D82: =SUM(D83:D84) -> 6134 | E82: =D82/C82*100 -> 71.284137 | F82: =SUM(F83:F84) -> 1319 | G82: =SUM(G83:G84) -> 247 | H82: =G82/F82*100 -> 18.726308 | I82: =SUM(C82,F82) -> 9924 | J82: =SUM(D82,G82) -> 6381 | K82: =J82/I82*100 -> 64.29867
B83: 機械系保全作業 | C83: ='[2]機械保全（定期）'!$O$57 -> 7338 | D83: ='[2]機械保全（定期）'!$T$57 -> 5438 | E83: =D83/C83*100 -> 74.107386 | F83: ='[2]機械保全（随時）'!$O$30 -> 1319 | G83: ='[2]機械保全（随時）'!$T$30 -> 247 | H83: =G83/F83*100 -> 18.726308 | I83: =SUM(C83,F83) -> 8657 | J83: =SUM(D83,G83) -> 5685 | K83: =J83/I83*100 -> 65.6694
B84: 電気系保全作業 | C84: ='[2]機械保全（定期）'!$O$58 -> 1267 | D84: ='[2]機械保全（定期）'!$T$58 -> 696 | E84: =D84/C84*100 -> 54.932912 | F84: - | G84: - | H84: - | I84: =SUM(C84,F84) -> 1267 | J84: =SUM(D84,G84) -> 696 | K84: =J84/I84*100 -> 54.932912
A85: 40 | B85: 電子機器組立て | C85: =SUM(C86) -> 3019 | D85: =SUM(D86) -> 2008 | E85: =D85/C85*100 -> 66.51209 | F85: =SUM(F86) -> 4217 | G85: =SUM(G86) -> 714 | H85: =G85/F85*100 -> 16.931468 | I85: =SUM(I86) -> 7236 | J85: =SUM(J86) -> 2722 | K85: =J85/I85*100 -> 37.617468
B86: 電子機器組立て作業 | C86: 3019 | D86: 2008 | E86: =D86/C86*100 -> 66.51209 | F86: 4217 | G86: 714 | H86: =G86/F86*100 -> 16.931468 | I86: =SUM(C86,F86) -> 7236 | J86: =SUM(D86,G86) -> 2722 | K86: =J86/I86*100 -> 37.617468
A87: 41 | B87: 電気機器組立て | C87: =SUM(C88:C93) -> 2353 | D87: =SUM(D88:D93) -> 1370 | E87: =D87/C87*100 -> 58.223544 | F87: =SUM(F88:F93) -> 986 | G87: =SUM(G88:G93) -> 251 | H87: =G87/F87*100 -> 25.456389 | I87: =SUM(I88:I93) -> 3339 | J87: =SUM(J88:J93) -> 1621 | K87: =J87/I87*100 -> 48.547469
B88: 回転電機組立て作業 | C88: - | D88: - | E88: - | F88: 191 | G88: 42 | H88: =G88/F88*100 -> 21.989529 | I88: =SUM(C88,F88) -> 191 | J88: =SUM(D88,G88) -> 42 | K88: =J88/I88*100 -> 21.989529
B89: 変圧器組立て作業 | C89: - | D89: - | E89: - | F89: 26 | G89: 2 | H89: =G89/F89*100 -> 7.6923077 | I89: =SUM(C89,F89) -> 26 | J89: =SUM(D89,G89) -> 2 | K89: =J89/I89*100 -> 7.6923077
B90: 配電盤・制御盤組立て作業 | C90: 118 | D90: 72 | E90: =D90/C90*100 -> 61.016949 | F90: 532 | G90: 151 | H90: =G90/F90*100 -> 28.383459 | I90: =SUM(C90,F90) -> 650 | J90: =SUM(D90,G90) -> 223 | K90: =J90/I90*100 -> 34.307692
B91: 開閉制御器具組立て作業 | C91: - | D91: - | E91: - | F91: 146 | G91: 45 | H91: =G91/F91*100 -> 30.821918 | I91: =SUM(C91,F91) -> 146 | J91: =SUM(D91,G91) -> 45 | K91: =J91/I91*100 -> 30.821918
B92: 回転電機巻線製作作業 | C92: - | D92: - | E92: - | F92: 91 | G92: 11 | H92: =G92/F92*100 -> 12.087912 | I92: =SUM(C92,F92) -> 91 | J92: =SUM(D92,G92) -> 11 | K92: =J92/I92*100 -> 12.087912
B93: シーケンス制御作業 | C93: 2235 | D93: 1298 | E93: =D93/C93*100 -> 58.076063 | F93: - | G93: - | H93: - | I93: =SUM(C93,F93) -> 2235 | J93: =SUM(D93,G93) -> 1298 | K93: =J93/I93*100 -> 58.076063
A94: 43 | B94: プリント配線板製造 | C94: =SUM(C95:C96) -> 13 | D94: =SUM(D95:D96) -> 11 | E94: =D94/C94*100 -> 84.615385 | F94: =SUM(F95:F96) -> 472 | G94: =SUM(G95:G96) -> 156 | H94: =G94/F94*100 -> 33.050847 | I94: =SUM(I95:I96) -> 485 | J94: =SUM(J95:J96) -> 167 | K94: =J94/I94*100 -> 34.43299
B95: プリント配線板設計作業 | C95: 9 | D95: 7 | E95: =D95/C95*100 -> 77.777778 | F95: 8 | G95: 0 | H95: =G95/F95*100 -> 0 | I95: =SUM(C95,F95) -> 17 | J95: =SUM(D95,G95) -> 7 | K95: =J95/I95*100 -> 41.176471
B96: プリント配線板製造作業 | C96: 4 | D96: 4 | E96: =D96/C96*100 -> 100 | F96: 464 | G96: 156 | H96: =G96/F96*100 -> 33.62069 | I96: =SUM(C96,F96) -> 468 | J96: =SUM(D96,G96) -> 160 | K96: =J96/I96*100 -> 34.188034
A97: 47 | B97: 時計修理 | C97: =SUM(C98) -> 386 | D97: =SUM(D98) -> 240 | E97: =D97/C97*100 -> 62.176166 | F97: - | G97: - | H97: - | I97: =SUM(I98) -> 386 | J97: =SUM(J98) -> 240 | K97: =J97/I97*100 -> 62.176166
B98: 時計修理作業 | C98: 386 | D98: 240 | E98: =D98/C98*100 -> 62.176166 | F98: - | G98: - | H98: - | I98: =SUM(C98,F98) -> 386 | J98: =SUM(D98,G98) -> 240 | K98: =J98/I98*100 -> 62.176166
A99: 49 | B99: 内燃機関組立て | C99: =SUM(C100) -> 126 | D99: =SUM(D100) -> 65 | E99: =D99/C99*100 -> 51.587302 | F99: - | G99: - | H99: - | I99: =SUM(C99,F99) -> 126 | J99: =SUM(D99,G99) -> 65 | K99: =J99/I99*100 -> 51.587302
B100: 量産形内燃機関組立て作業 | C100: 126 | D100: 65 | E100: =D100/C100*100 -> 51.587302 | F100: - | G100: - | H100: - | I100: =SUM(C100,F100) -> 126 | J100: =SUM(D100,G100) -> 65 | K100: =J100/I100*100 -> 51.587302
A101: 55 | B101: 冷凍空気調和機器施工 | C101: =SUM(C102) -> 239 | D101: =SUM(D102) -> 174 | E101: =D101/C101*100 -> 72.803347 | F101: =SUM(F102) -> 357 | G101: =SUM(G102) -> 119 | H101: =G101/F101*100 -> 33.333333 | I101: =SUM(I102) -> 596 | J101: =SUM(J102) -> 293 | K101: =J101/I101*100 -> 49.161074
...
