Workbook

Sheet ○単一等級（第７表）
B1: 第７表 職種別 受検申請者数、合格者数及び合格率（単一等級、令和3年度）
A3: 職種名（※） | C3: 申請者 | D3: 合格者 | E3: 合格率
A4: 作業名 | C4: （人） | D4: （人） | E4: （％）
A5: 31 | B5: 溶射 | C5: =SUM(C6:C7) -> 132 | D5: =SUM(D6:D7) -> 50 | E5: =(D5/C5)*100 -> 37.878788
B6: 防食溶射作業 | C6: 132 | D6: 50 | E6: =(D6/C6)*100 -> 37.878788
B7: 肉盛溶射作業
A8: 39 | B8: 電子回路接続 | C8: =C9 -> 157 | D8: =D9 -> 63 | E8: =(D8/C8)*100 -> 40.127389
B9: 電子回路接続作業 | C9: 157 | D9: 63 | E9: =(D9/C9)*100 -> 40.127389
A10: 77 | B10: 製麺 | C10: =SUM(C11:C13) -> 243 | D10: =SUM(D11:D13) -> 139 | E10: =(D10/C10)*100 -> 57.201646
B11: 機械生麺製造作業 | C11: 147 | D11: 99 | E11: =(D11/C11)*100 -> 67.346939
B12: 機械乾麺製造作業
B13: 手延べ干し麺製造作業 | C13: 96 | D13: 40 | E13: =(D13/C13)*100 -> 41.666667
A14: 84 | B14: 枠組壁建築 | C14: =SUM(C15) -> 68 | D14: =SUM(D15) -> 25 | E14: =(D14/C14)*100 -> 36.764706
B15: 枠組壁工事作業 | C15: 68 | D15: 25 | E15: =(D15/C15)*100 -> 36.764706
A16: 90 | B16: エーエルシーパネル施工
B17: エーエルシーパネル工事作業
A18: 105 | B18: バルコニー施工 | C18: =C19 -> 91 | D18: =D19 -> 71 | E18: =(D18/C18)*100 -> 78.021978
B19: 金属製バルコニー工事作業 | C19: 91 | D19: 71 | E19: =(D19/C19)*100 -> 78.021978
A20: 118 | B20: 路面標示施工 | C20: =SUM(C21:C22) -> 785 | D20: =SUM(D21:D22) -> 426 | E20: =(D20/C20)*100 -> 54.267516
B21: 溶融ペイントハンドマーカー工事作業 | C21: 705 | D21: 392 | E21: =(D21/C21)*100 -> 55.602837
B22: 加熱ペイントマシンマーカー工事作業 | C22: 80 | D22: 34 | E22: =(D22/C22)*100 -> 42.5
A23: 119 | B23: 塗料調色 | C23: =SUM(C24) -> 78 | D23: =SUM(D24) -> 33 | E23: =(D23/C23)*100 -> 42.307692
B24: 調色作業 | C24: 78 | D24: 33 | E24: =(D24/C24)*100 -> 42.307692
A25: 125 | B25: 調理 | C25: =SUM(C26:C31) -> 740 | D25: =SUM(D26:D31) -> 357 | E25: =(D25/C25)*100 -> 48.243243
B26: 日本料理調理作業 | C26: =[1]調理!$O$19 -> 172 | D26: =[1]調理!$T$19 -> 115 | E26: =(D26/C26)*100 -> 66.860465
B27: すし料理調理作業 | C27: =[1]調理!$O$16 -> 19 | D27: =[1]調理!$T$16 -> 10 | E27: =(D27/C27)*100 -> 52.631579
B28: 西洋料理調理作業 | C28: =[1]調理!$O$20 -> 121 | D28: =[1]調理!$T$20 -> 59 | E28: =(D28/C28)*100 -> 48.760331
B29: 中国料理調理作業 | C29: =[1]調理!$O$17 -> 49 | D29: =[1]調理!$T$17 -> 26 | E29: =(D29/C29)*100 -> 53.061224
B30: 麺料理調理作業 | C30: =[1]調理!$O$21 -> 12 | D30: =[1]調理!$T$21 -> 6 | E30: =(D30/C30)*100 -> 50
B31: 給食用特殊料理調理作業 | C31: =[1]調理!$O$18 -> 367 | D31: =[1]調理!$T$18 -> 141 | E31: =(D31/C31)*100 -> 38.419619
A32: 127 | B32: ハウスクリーニング | C32: =C33 -> 146 | D32: =D33 -> 50 | E32: =(D32/C32)*100 -> 34.246575
B33: ハウスクリーニング作業 | C33: =[1]ハウスクリーニング!$O$16 -> 146 | D33: =[1]ハウスクリーニング!$T$24 -> 50 | E33: =(D33/C33)*100 -> 34.246575
A34: 128 | B34: 産業洗浄 | C34: =SUM(C35:C36) -> 553 | D34: =SUM(D35:D36) -> 370 | E34: =(D34/C34)*100 -> 66.907776
B35: 高圧洗浄作業 | C35: 553 | D35: 370 | E35: =(D35/C35)*100 -> 66.907776
B36: 化学洗浄作業
A38: 合 計 | C38: =SUM(C5:C36)/2 -> 2993 | D38: =SUM(D5:D36)/2 -> 1584 | E38: =(D38/C38)*100 -> 52.923488
B39: ※：職種名における番号は、省令順に便宜的に付与したものである。
B40: ※：休止において計上されている人数は、受検者区分Ｂ又はＤに係るものである。
B41: ※：受検者区分Ｂは、実技試験についてのみ、免除の資格を取得している者である。
B42: ※：受検者区分Ｄは、学科試験及び実技試験の両方の免除の資格を取得している者である。
...
