Workbook

Sheet 表1.1
B2: 表1.1 届出件数 年度別・施設種類別－全国（ばい煙発生施設）
B4: 令別表 第１の 項番号 | C4: ばい煙発生施設の種類 | D4: 平成30年度 | I4: 令和元年度 | N4: 令和２年度 | S4: 令和３年度 | X4: 令和４年度
D5: 全施設 （注1) | I5: 全施設 （注1) | N5: 全施設 （注1) | S5: 全施設 （注1) | X5: 全施設 （注1)
E6: 大気 | F6: 電気 | G6: ガス | H6: 鉱山 | J6: 大気 | K6: 電気 | L6: ガス | M6: 鉱山 | O6: 大気 | P6: 電気 | Q6: ガス | R6: 鉱山 | T6: 大気 | U6: 電気 | V6: ガス | W6: 鉱山 | Y6: 大気 | Z6: 電気 | AA6: ガス | AB6: 鉱山
B7: 1 | C7: ボイラー | D7: =SUM(E7:H7) -> 132675 | E7: 131155 | F7: 1268 | G7: 174 | H7: 78 | I7: =SUM(J7:M7) -> 131979 | J7: 130423 | K7: 1281 | L7: 197 | M7: 78 | N7: =SUM(O7:R7) -> 131225 | O7: 129682 | P7: 1273 | Q7: 191 | R7: 79 | S7: =SUM(T7:W7) -> 130173 | T7: 128617 | U7: 1283 | V7: 195 | W7: 78 | X7: =SUM(Y7:AB7) -> 114950 | Y7: ='表1.2'!J11 -> 113403 | Z7: ='表1.2'!L11 -> 1276 | AA7: ='表1.2'!M11 -> 190 | AB7: ='表1.2'!N11 -> 81
B8: 2 | C8: ガス発生炉・ガス加熱炉 | D8: =SUM(E8:H8) -> 168 | E8: 143 | F8: 14 | G8: 11 | H8: 0 | I8: =SUM(J8:M8) -> 180 | J8: 149 | K8: 17 | L8: 14 | M8: 0 | N8: =SUM(O8:R8) -> 184 | O8: 156 | P8: 16 | Q8: 12 | R8: 0 | S8: =SUM(T8:W8) -> 185 | T8: 157 | U8: 15 | V8: 13 | W8: 0 | X8: =SUM(Y8:AB8) -> 189 | Y8: ='表1.2'!J12 -> 159 | Z8: ='表1.2'!L12 -> 19 | AA8: ='表1.2'!M12 -> 11 | AB8: ='表1.2'!N12 -> 0
B9: 3 | C9: 焙焼炉・焼結炉・煆焼炉 | D9: =SUM(E9:H9) -> 205 | E9: 203 | F9: 0 | G9: 0 | H9: 2 | I9: =SUM(J9:M9) -> 204 | J9: 203 | K9: 0 | L9: 0 | M9: 1 | N9: =SUM(O9:R9) -> 199 | O9: 197 | P9: 0 | Q9: 0 | R9: 2 | S9: =SUM(T9:W9) -> 193 | T9: 191 | U9: 0 | V9: 0 | W9: 2 | X9: =SUM(Y9:AB9) -> 192 | Y9: ='表1.2'!J13 -> 190 | Z9: ='表1.2'!L13 -> 0 | AA9: ='表1.2'!M13 -> 0 | AB9: ='表1.2'!N13 -> 2
B10: 4 | C10: 溶鉱炉・転炉・平炉 | D10: =SUM(E10:H10) -> 130 | E10: 123 | F10: 0 | G10: 0 | H10: 7 | I10: =SUM(J10:M10) -> 123 | J10: 116 | K10: 0 | L10: 0 | M10: 7 | N10: =SUM(O10:R10) -> 120 | O10: 114 | P10: 0 | Q10: 0 | R10: 6 | S10: =SUM(T10:W10) -> 113 | T10: 107 | U10: 0 | V10: 0 | W10: 6 | X10: =SUM(Y10:AB10) -> 113 | Y10: ='表1.2'!J14 -> 107 | Z10: ='表1.2'!L14 -> 0 | AA10: ='表1.2'!M14 -> 0 | AB10: ='表1.2'!N14 -> 6
B11: 5 | C11: 金属溶解炉 | D11: =SUM(E11:H11) -> 3845 | E11: 3821 | F11: 0 | G11: 0 | H11: 24 | I11: =SUM(J11:M11) -> 3736 | J11: 3712 | K11: 0 | L11: 0 | M11: 24 | N11: =SUM(O11:R11) -> 3728 | O11: 3703 | P11: 0 | Q11: 0 | R11: 25 | S11: =SUM(T11:W11) -> 3695 | T11: 3670 | U11: 0 | V11: 0 | W11: 25 | X11: =SUM(Y11:AB11) -> 3662 | Y11: ='表1.2'!J15 -> 3638 | Z11: ='表1.2'!L15 -> 0 | AA11: ='表1.2'!M15 -> 0 | AB11: ='表1.2'!N15 -> 24
B12: 6 | C12: 金属鍛造・圧延加熱・熱処理炉 | D12: =SUM(E12:H12) -> 7494 | E12: 7494 | F12: 0 | G12: 0 | H12: 0 | I12: =SUM(J12:M12) -> 7397 | J12: 7396 | K12: 1 | L12: 0 | M12: 0 | N12: =SUM(O12:R12) -> 7376 | O12: 7375 | P12: 1 | Q12: 0 | R12: 0 | S12: =SUM(T12:W12) -> 7312 | T12: 7311 | U12: 1 | V12: 0 | W12: 0 | X12: =SUM(Y12:AB12) -> 7249 | Y12: ='表1.2'!J16 -> 7248 | Z12: ='表1.2'!L16 -> 1 | AA12: ='表1.2'!M16 -> 0 | AB12: ='表1.2'!N16 -> 0
B13: 7 | C13: 石油加熱炉 | D13: =SUM(E13:H13) -> 1287 | E13: 1287 | F13: 0 | G13: 0 | H13: 0 | I13: =SUM(J13:M13) -> 1287 | J13: 1287 | K13: 0 | L13: 0 | M13: 0 | N13: =SUM(O13:R13) -> 1249 | O13: 1249 | P13: 0 | Q13: 0 | R13: 0 | S13: =SUM(T13:W13) -> 1228 | T13: 1228 | U13: 0 | V13: 0 | W13: 0 | X13: =SUM(Y13:AB13) -> 1224 | Y13: ='表1.2'!J17 -> 1224 | Z13: ='表1.2'!L17 -> 0 | AA13: ='表1.2'!M17 -> 0 | AB13: ='表1.2'!N17 -> 0
B14: 8 | C14: 触媒再生塔 | D14: =SUM(E14:H14) -> 27 | E14: 27 | F14: 0 | G14: 0 | H14: 0 | I14: =SUM(J14:M14) -> 27 | J14: 27 | K14: 0 | L14: 0 | M14: 0 | N14: =SUM(O14:R14) -> 25 | O14: 25 | P14: 0 | Q14: 0 | R14: 0 | S14: =SUM(T14:W14) -> 25 | T14: 25 | U14: 0 | V14: 0 | W14: 0 | X14: =SUM(Y14:AB14) -> 24 | Y14: ='表1.2'!J18 -> 24 | Z14: ='表1.2'!L18 -> 0 | AA14: ='表1.2'!M18 -> 0 | AB14: ='表1.2'!N18 -> 0
B15: 8の2 | C15: 燃焼炉 | D15: =SUM(E15:H15) -> 63 | E15: 62 | F15: 1 | G15: 0 | H15: 0 | I15: =SUM(J15:M15) -> 62 | J15: 61 | K15: 1 | L15: 0 | M15: 0 | N15: =SUM(O15:R15) -> 59 | O15: 58 | P15: 1 | Q15: 0 | R15: 0 | S15: =SUM(T15:W15) -> 59 | T15: 58 | U15: 1 | V15: 0 | W15: 0 | X15: =SUM(Y15:AB15) -> 59 | Y15: ='表1.2'!J19 -> 58 | Z15: ='表1.2'!L19 -> 1 | AA15: ='表1.2'!M19 -> 0 | AB15: ='表1.2'!N19 -> 0
B16: 9 | C16: 窯業焼成炉・溶融炉 | D16: =SUM(E16:H16) -> 3214 | E16: 3170 | F16: 0 | G16: 0 | H16: 44 | I16: =SUM(J16:M16) -> 3288 | J16: 3244 | K16: 0 | L16: 0 | M16: 44 | N16: =SUM(O16:R16) -> 3303 | O16: 3261 | P16: 0 | Q16: 0 | R16: 42 | S16: =SUM(T16:W16) -> 2902 | T16: 2861 | U16: 0 | V16: 0 | W16: 41 | X16: =SUM(Y16:AB16) -> 2880 | Y16: ='表1.2'!J20 -> 2838 | Z16: ='表1.2'!L20 -> 0 | AA16: ='表1.2'!M20 -> 0 | AB16: ='表1.2'!N20 -> 42
B17: 10 | C17: 反応炉・直火炉 | D17: =SUM(E17:H17) -> 805 | E17: 803 | F17: 0 | G17: 0 | H17: 2 | I17: =SUM(J17:M17) -> 818 | J17: 816 | K17: 0 | L17: 0 | M17: 2 | N17: =SUM(O17:R17) -> 829 | O17: 827 | P17: 0 | Q17: 0 | R17: 2 | S17: =SUM(T17:W17) -> 827 | T17: 825 | U17: 0 | V17: 0 | W17: 2 | X17: =SUM(Y17:AB17) -> 805 | Y17: ='表1.2'!J21 -> 803 | Z17: ='表1.2'!L21 -> 0 | AA17: ='表1.2'!M21 -> 0 | AB17: ='表1.2'!N21 -> 2
B18: 11 | C18: 乾燥炉 | D18: =SUM(E18:H18) -> 6598 | E18: 6546 | F18: 3 | G18: 0 | H18: 49 | I18: =SUM(J18:M18) -> 6567 | J18: 6517 | K18: 3 | L18: 0 | M18: 47 | N18: =SUM(O18:R18) -> 6535 | O18: 6486 | P18: 4 | Q18: 0 | R18: 45 | S18: =SUM(T18:W18) -> 6510 | T18: 6459 | U18: 4 | V18: 0 | W18: 47 | X18: =SUM(Y18:AB18) -> 6429 | Y18: ='表1.2'!J22 -> 6379 | Z18: ='表1.2'!L22 -> 3 | AA18: ='表1.2'!M22 -> 0 | AB18: ='表1.2'!N22 -> 47
B19: 12 | C19: 電気炉 | D19: =SUM(E19:H19) -> 341 | E19: 341 | F19: 0 | G19: 0 | H19: 0 | I19: =SUM(J19:M19) -> 322 | J19: 322 | K19: 0 | L19: 0 | M19: 0 | N19: =SUM(O19:R19) -> 317 | O19: 317 | P19: 0 | Q19: 0 | R19: 0 | S19: =SUM(T19:W19) -> 311 | T19: 311 | U19: 0 | V19: 0 | W19: 0 | X19: =SUM(Y19:AB19) -> 310 | Y19: ='表1.2'!J23 -> 310 | Z19: ='表1.2'!L23 -> 0 | AA19: ='表1.2'!M23 -> 0 | AB19: ='表1.2'!N23 -> 0
B20: 13 | C20: 廃棄物焼却炉 | D20: =SUM(E20:H20) -> 4623 | E20: 4614 | F20: 7 | G20: 0 | H20: 2 | I20: =SUM(J20:M20) -> 4545 | J20: 4535 | K20: 9 | L20: 0 | M20: 1 | N20: =SUM(O20:R20) -> 4484 | O20: 4476 | P20: 7 | Q20: 0 | R20: 1 | S20: =SUM(T20:W20) -> 4405 | T20: 4396 | U20: 8 | V20: 0 | W20: 1 | X20: =SUM(Y20:AB20) -> 4352 | Y20: ='表1.2'!J24 -> 4344 | Z20: ='表1.2'!L24 -> 7 | AA20: ='表1.2'!M24 -> 0 | AB20: ='表1.2'!N24 -> 1
B21: 14 | C21: 銅・鉛・亜鉛の精錬用焙焼炉等 | D21: =SUM(E21:H21) -> 196 | E21: 116 | F21: 0 | G21: 0 | H21: 80 | I21: =SUM(J21:M21) -> 195 | J21: 115 | K21: 0 | L21: 0 | M21: 80 | N21: =SUM(O21:R21) -> 193 | O21: 113 | P21: 0 | Q21: 0 | R21: 80 | S21: =SUM(T21:W21) -> 196 | T21: 117 | U21: 0 | V21: 0 | W21: 79 | X21: =SUM(Y21:AB21) -> 198 | Y21: ='表1.2'!J25 -> 119 | Z21: ='表1.2'!L25 -> 0 | AA21: ='表1.2'!M25 -> 0 | AB21: ='表1.2'!N25 -> 79
B22: 15 | C22: 乾燥施設（カドミウム系顔料等製造用） | D22: =SUM(E22:H22) -> 0 | E22: 0 | F22: 0 | G22: 0 | H22: 0 | I22: =SUM(J22:M22) -> 0 | J22: 0 | K22: 0 | L22: 0 | M22: 0 | N22: =SUM(O22:R22) -> 0 | O22: 0 | P22: 0 | Q22: 0 | R22: 0 | S22: =SUM(T22:W22) -> 3 | T22: 3 | U22: 0 | V22: 0 | W22: 0 | X22: =SUM(Y22:AB22) -> 3 | Y22: ='表1.2'!J26 -> 3 | Z22: ='表1.2'!L26 -> 0 | AA22: ='表1.2'!M26 -> 0 | AB22: ='表1.2'!N26 -> 0
B23: 16 | C23: 塩素急速冷却施設 | D23: =SUM(E23:H23) -> 7 | E23: 7 | F23: 0 | G23: 0 | H23: 0 | I23: =SUM(J23:M23) -> 7 | J23: 7 | K23: 0 | L23: 0 | M23: 0 | N23: =SUM(O23:R23) -> 7 | O23: 7 | P23: 0 | Q23: 0 | R23: 0 | S23: =SUM(T23:W23) -> 7 | T23: 7 | U23: 0 | V23: 0 | W23: 0 | X23: =SUM(Y23:AB23) -> 7 | Y23: ='表1.2'!J27 -> 7 | Z23: ='表1.2'!L27 -> 0 | AA23: ='表1.2'!M27 -> 0 | AB23: ='表1.2'!N27 -> 0
B24: 17 | C24: 溶解槽（塩化第二鉄製造用） | D24: =SUM(E24:H24) -> 25 | E24: 25 | F24: 0 | G24: 0 | H24: 0 | I24: =SUM(J24:M24) -> 25 | J24: 25 | K24: 0 | L24: 0 | M24: 0 | N24: =SUM(O24:R24) -> 23 | O24: 23 | P24: 0 | Q24: 0 | R24: 0 | S24: =SUM(T24:W24) -> 21 | T24: 21 | U24: 0 | V24: 0 | W24: 0 | X24: =SUM(Y24:AB24) -> 19 | Y24: ='表1.2'!J28 -> 19 | Z24: ='表1.2'!L28 -> 0 | AA24: ='表1.2'!M28 -> 0 | AB24: ='表1.2'!N28 -> 0
B25: 18 | C25: 活性炭製造用反応炉 | D25: =SUM(E25:H25) -> 5 | E25: 5 | F25: 0 | G25: 0 | H25: 0 | I25: =SUM(J25:M25) -> 5 | J25: 5 | K25: 0 | L25: 0 | M25: 0 | N25: =SUM(O25:R25) -> 5 | O25: 5 | P25: 0 | Q25: 0 | R25: 0 | S25: =SUM(T25:W25) -> 5 | T25: 5 | U25: 0 | V25: 0 | W25: 0 | X25: =SUM(Y25:AB25) -> 5 | Y25: ='表1.2'!J29 -> 5 | Z25: ='表1.2'!L29 -> 0 | AA25: ='表1.2'!M29 -> 0 | AB25: ='表1.2'!N29 -> 0
B26: 19 | C26: 塩素・塩化水素反応施設等 | D26: =SUM(E26:H26) -> 767 | E26: 767 | F26: 0 | G26: 0 | H26: 0 | I26: =SUM(J26:M26) -> 766 | J26: 766 | K26: 0 | L26: 0 | M26: 0 | N26: =SUM(O26:R26) -> 764 | O26: 764 | P26: 0 | Q26: 0 | R26: 0 | S26: =SUM(T26:W26) -> 765 | T26: 765 | U26: 0 | V26: 0 | W26: 0 | X26: =SUM(Y26:AB26) -> 746 | Y26: ='表1.2'!J30 -> 746 | Z26: ='表1.2'!L30 -> 0 | AA26: ='表1.2'!M30 -> 0 | AB26: ='表1.2'!N30 -> 0
B27: 20 | C27: 電解炉（アルミ精錬用） | D27: =SUM(E27:H27) -> 4 | E27: 4 | F27: 0 | G27: 0 | H27: 0 | I27: =SUM(J27:M27) -> 4 | J27: 4 | K27: 0 | L27: 0 | M27: 0 | N27: =SUM(O27:R27) -> 4 | O27: 4 | P27: 0 | Q27: 0 | R27: 0 | S27: =SUM(T27:W27) -> 4 | T27: 4 | U27: 0 | V27: 0 | W27: 0 | X27: =SUM(Y27:AB27) -> 4 | Y27: ='表1.2'!J31 -> 4 | Z27: ='表1.2'!L31 -> 0 | AA27: ='表1.2'!M31 -> 0 | AB27: ='表1.2'!N31 -> 0
... B39: 32 | C39: ガソリン機関 | D39: =SUM(E39:H39) -> 84 | E39: 81 | F39: 3 | G39: 0 | H39: 0 | I39: =SUM(J39:M39) -> 85 | J39: 81 | K39: 4 | L39: 0 | M39: 0 | N39: =SUM(O39:R39) -> 14 | O39: 1 | P39: 13 | Q39: 0 | R39: 0 | S39: =SUM(T39:W39) -> 5 | T39: 2 | U39: 3 | V39: 0 | W39: 0 | X39: =SUM(Y39:AB39) -> 4 | Y39: ='表1.2'!J43 -> 1 | Z39: ='表1.2'!L43 -> 3 | AA39: ='表1.2'!M43 -> 0 | AB39: ='表1.2'!N43 -> 0
B40: 施設種類不明 | D40: =SUM(E40:H40) -> 193 | E40: 192 | F40: 1 | G40: 0 | H40: 0 | I40: =SUM(J40:M40) -> 171 | J40: 166 | K40: 5 | L40: 0 | M40: 0 | N40: =SUM(O40:R40) -> 152 | O40: 147 | P40: 5 | Q40: 0 | R40: 0 | S40: =SUM(T40:W40) -> 155 | T40: 151 | U40: 4 | V40: 0 | W40: 0 | X40: =SUM(Y40:AB40) -> 151 | Y40: ='表1.2'!J44 -> 147 | Z40: ='表1.2'!L44 -> 4 | AA40: ='表1.2'!M44 -> 0 | AB40: ='表1.2'!N44 -> 0
B41: 施設合計 | D41: =SUM(D7:D40) -> 217091 | E41: =SUM(E7:E40) -> 168221 | F41: =SUM(F7:F40) -> 48253 | G41: =SUM(G7:G40) -> 248 | H41: =SUM(H7:H40) -> 369 | I41: =SUM(I7:I40) -> 217170 | J41: =SUM(J7:J40) -> 166731 | K41: =SUM(K7:K40) -> 49806 | ... AB41: =SUM(AB7:AB40) -> 390
B42: 届出工場・事業場合計 | D42: 86384 | E42: 65353 | F42: 32149 | G42: 87 | H42: 126 | I42: 86634 | J42: 64319 | K42: 33018 | L42: 91 | M42: 85 | N42: 86029 | O42: 63636 | P42: 33400 | Q42: 94 | R42: 83 | S42: 86194 | T42: 63084 | U42: 33958 | V42: 100 | W42: 86 | X42: ='表1.2'!O46 -> 81318 | Y42: ='表1.2'!J46 -> 57607 | Z42: ='表1.2'!L46 -> 34453 | AA42: ='表1.2'!M46 -> 91 | AB42: ='表1.2'!N46 -> 88
B43: （注1）「大気」：大気汚染防止法届出ばい煙発生施設、「電気」：電気事業法に係るばい煙発生施設、「ガス」：ガス事業法に係るばい煙発生施設、「鉱山」：鉱山保安法に係るばい煙発生施設を示す。
B44: （注2）「届出工場・事業場合計」の「全施設数」は、「大気」、「電気」、「ガス」、「鉱山」で重複する工場・事業場を除いた実数である。

Sheet 表1.2
B2: 表1.2 届出件数 届出種類別・施設種類別－全国（ばい煙発生施設）
B4: 令別表 第１の 項番号 | C4: ばい煙発生施設の種類 | D4: 前年度末 現在の 届出施設数 | E4: 大気汚染防止法に係る 年度中の届出数 | I4: 届出以外の 理由による 年度中の 増減 | J4: 年度末 現在の 届出施設数 (F)= (A)+(E)+(E') | K4: 変更 届出 (法第8条） | L4: 年度末現在の電気事業法・ ガス事業法・鉱山保安法に係る ばい煙発生施設数 | O4: 合 計
E7: 設置届出 (法第６条) | F7: 使用届出 (法第７条) | G7: 使用廃止 届出 (法第11条) | H7: 年度中の 増減 (E)= (B)+(C)-(D) | L7: 電気 | M7: ガス | N7: 鉱山 | O7: (K)= (F)+(H)+ (I)+(J)
D10: （A) | E10: (B) | F10: (C) | G10: (D) | I10: (E') | K10: (G) | L10: (H) | M10: (I) | N10: (J)
B11: 1 | C11: ボイラー | D11: 128617 | E11: 3439 | F11: 3 | G11: 4765 | H11: =E11+F11-G11 -> -1323 | I11: -13891 | J11: =D11+H11+I11 -> 113403 | K11: 466 | L11: 1276 | M11: 190 | N11: 81 | O11: =J11+L11+M11+N11 -> 114950
B12: 2 | C12: ガス発生炉・ガス加熱炉 | D12: 157 | E12: 4 | F12: 0 | G12: 2 | H12: =E12+F12-G12 -> 2 | I12: 0 | J12: =D12+H12+I12 -> 159 | K12: 1 | L12: 19 | M12: 11 | N12: 0 | O12: =J12+L12+M12+N12 -> 189
B13: 3 | C13: 焙焼炉・焼結炉・煆焼炉 | D13: 191 | E13: 2 | F13: 0 | G13: 2 | H13: =E13+F13-G13 -> 0 | I13: -1 | J13: =D13+H13+I13 -> 190 | K13: 19 | L13: 0 | M13: 0 | N13: 2 | O13: =J13+L13+M13+N13 -> 192
B14: 4 | C14: 溶鉱炉・転炉・平炉 | D14: 107 | E14: 0 | F14: 0 | G14: 2 | H14: =E14+F14-G14 -> -2 | I14: 2 | J14: =D14+H14+I14 -> 107 | K14: 3 | L14: 0 | M14: 0 | N14: 6 | O14: =J14+L14+M14+N14 -> 113
B15: 5 | C15: 金属溶解炉 | D15: 3670 | E15: 55 | F15: 0 | G15: 88 | H15: =E15+F15-G15 -> -33 | I15: 1 | J15: =D15+H15+I15 -> 3638 | K15: 58 | L15: 0 | M15: 0 | N15: 24 | O15: =J15+L15+M15+N15 -> 3662
B16: 6 | C16: 金属鍛造・圧延加熱・熱処理炉 | D16: 7311 | E16: 96 | F16: 0 | G16: 166 | H16: =E16+F16-G16 -> -70 | I16: 7 | J16: =D16+H16+I16 -> 7248 | K16: 103 | L16: 1 | M16: 0 | N16: 0 | O16: =J16+L16+M16+N16 -> 7249
B17: 7 | C17: 石油加熱炉 | D17: 1228 | E17: 1 | F17: 0 | G17: 7 | H17: =E17+F17-G17 -> -6 | I17: 2 | J17: =D17+H17+I17 -> 1224 | K17: 19 | L17: 0 | M17: 0 | N17: 0 | O17: =J17+L17+M17+N17 -> 1224
B18: 8 | C18: 触媒再生塔 | D18: 25 | E18: 0 | F18: 0 | G18: 1 | H18: =E18+F18-G18 -> -1 | I18: 0 | J18: =D18+H18+I18 -> 24 | K18: 0 | L18: 0 | M18: 0 | N18: 0 | O18: =J18+L18+M18+N18 -> 24
B19: 8の2 | C19: 燃焼炉 | D19: 58 | E19: 0 | F19: 0 | G19: 0 | H19: =E19+F19-G19 -> 0 | I19: 0 | J19: =D19+H19+I19 -> 58 | K19: 1 | L19: 1 | M19: 0 | N19: 0 | O19: =J19+L19+M19+N19 -> 59
B20: 9 | C20: 窯業焼成炉・溶融炉 | D20: 2861 | E20: 50 | F20: 0 | G20: 63 | H20: =E20+F20-G20 -> -13 | I20: -10 | J20: =D20+H20+I20 -> 2838 | K20: 76 | L20: 0 | M20: 0 | N20: 42 | O20: =J20+L20+M20+N20 -> 2880
B21: 10 | C21: 反応炉・直火炉 | D21: 825 | E21: 16 | F21: 0 | G21: 38 | H21: =E21+F21-G21 -> -22 | I21: 0 | J21: =D21+H21+I21 -> 803 | K21: 49 | L21: 0 | M21: 0 | N21: 2 | O21: =J21+L21+M21+N21 -> 805
B22: 11 | C22: 乾燥炉 | D22: 6459 | E22: 98 | F22: 0 | G22: 139 | H22: =E22+F22-G22 -> -41 | I22: -39 | J22: =D22+H22+I22 -> 6379 | K22: 116 | L22: 3 | M22: 0 | N22: 47 | O22: =J22+L22+M22+N22 -> 6429
B23: 12 | C23: 電気炉 | D23: 311 | E23: 0 | F23: 0 | G23: 4 | H23: =E23+F23-G23 -> -4 | I23: 3 | J23: =D23+H23+I23 -> 310 | K23: 16 | L23: 0 | M23: 0 | N23: 0 | O23: =J23+L23+M23+N23 -> 310
B24: 13 | C24: 廃棄物焼却炉 | D24: 4396 | E24: 59 | F24: 1 | G24: 111 | H24: =E24+F24-G24 -> -51 | I24: -1 | J24: =D24+H24+I24 -> 4344 | K24: 89 | L24: 7 | M24: 0 | N24: 1 | O24: =J24+L24+M24+N24 -> 4352
B25: 14 | C25: 銅・鉛・亜鉛の精錬用焙焼炉等 | D25: 117 | E25: 3 | F25: 0 | G25: 1 | H25: =E25+F25-G25 -> 2 | I25: 0 | J25: =D25+H25+I25 -> 119 | K25: 13 | L25: 0 | M25: 0 | N25: 79 | O25: =J25+L25+M25+N25 -> 198
B26: 15 | C26: 乾燥施設（カドミウム系顔料等製造用） | D26: 3 | E26: 0 | F26: 0 | G26: 0 | H26: =E26+F26-G26 -> 0 | I26: 0 | J26: =D26+H26+I26 -> 3 | K26: 0 | L26: 0 | M26: 0 | N26: 0 | O26: =J26+L26+M26+N26 -> 3
B27: 16 | C27: 塩素急速冷却施設 | D27: 7 | E27: 0 | F27: 0 | G27: 0 | H27: =E27+F27-G27 -> 0 | I27: 0 | J27: =D27+H27+I27 -> 7 | K27: 0 | L27: 0 | M27: 0 | N27: 0 | O27: =J27+L27+M27+N27 -> 7
B28: 17 | C28: 溶解槽（塩化第二鉄製造用） | D28: 21 | E28: 0 | F28: 0 | G28: 2 | H28: =E28+F28-G28 -> -2 | I28: 0 | J28: =D28+H28+I28 -> 19 | K28: 1 | L28: 0 | M28: 0 | N28: 0 | O28: =J28+L28+M28+N28 -> 19
B29: 18 | C29: 活性炭製造用反応炉 | D29: 5 | E29: 0 | F29: 0 | G29: 0 | H29: =E29+F29-G29 -> 0 | I29: 0 | J29: =D29+H29+I29 -> 5 | K29: 2 | L29: 0 | M29: 0 | N29: 0 | O29: =J29+L29+M29+N29 -> 5
B30: 19 | C30: 塩素・塩化水素反応施設等 | D30: 765 | E30: 11 | F30: 0 | G30: 29 | H30: =E30+F30-G30 -> -18 | I30: -1 | J30: =D30+H30+I30 -> 746 | K30: 25 | L30: 0 | M30: 0 | N30: 0 | O30: =J30+L30+M30+N30 -> 746
B31: 20 | C31: 電解炉（アルミ精錬用） | D31: 4 | E31: 0 | F31: 0 | G31: 0 | H31: =E31+F31-G31 -> 0 | I31: 0 | J31: =D31+H31+I31 -> 4 | K31: 0 | L31: 0 | M31: 0 | N31: 0 | O31: =J31+L31+M31+N31 -> 4
... B43: 32 | C43: ガソリン機関 | D43: 2 | E43: 0 | F43: 0 | G43: 0 | H43: =E43+F43-G43 -> 0 | I43: -1 | J43: =D43+H43+I43 -> 1 | K43: 0 | L43: 3 | M43: 0 | N43: 0 | O43: =J43+L43+M43+N43 -> 4
B44: 施設種類不明 | D44: 151 | E44: 0 | F44: 0 | G44: 0 | H44: =E44+F44-G44 -> 0 | I44: -4 | J44: =D44+H44+I44 -> 147 | K44: 0 | L44: 4 | M44: 0 | N44: 0 | O44: =J44+L44+M44+N44 -> 151
B45: 施設合計 | D45: =SUM(D11:D44) -> 164310 | E45: =SUM(E11:E44) -> 4041 | F45: =SUM(F11:F44) -> 9 | G45: =SUM(G11:G44) -> 5545 | H45: =E45+F45-G45 -> -1495 | I45: =SUM(I11:I44) -> -13981 | J45: =SUM(J11:J44) -> 148834 | K45: =SUM(K11:K44) -> 1103 | L45: =SUM(L11:L44) -> 52083 | M45: =SUM(M11:M44) -> 261 | N45: =SUM(N11:N44) -> 390 | O45: =SUM(O11:O44) -> 201568
B46: 届出工場・事業場合計（注1） | D46: 63084 | J46: 57607 | L46: 34453 | M46: 91 | N46: 88 | O46: 81318
B47: （注1）「届出工場・事業場合計」の「合計(Ｋ)」は、「年度末現在の届出施設数(Ｆ)」、「電気(Ｈ)」、「ガス(Ｉ)」、「鉱山(Ｊ)」で重複する工場・事業場を除いた実数である。

Sheet 表1.3
B2: 表1.3(1) 届出件数 届出種類別・都道府県市別（ばい煙発生施設） | P2: 表1.3(2) 届出件数 届出種類別・都道府県市別（ばい煙発生施設） | AD2: 表1.3(3) 届出件数 届出種類別・都道府県市別（ばい煙発生施設）
B4: 自治体名 | C4: 前年度末現在の届出施設数 | D4: 年度中の大気汚染防止法に係る届出数 | H4: 届出以外の理由による年度中の増減 | I4: 年度末現在の届出 施設数 | J4: 年度中の変更届出 施設数 (法第8条) | K4: 年度末現在の電気事業法･ ガス事業法・鉱山保安法 に係るばい煙発生施設数 | N4: 合計 | P4: 自治体名 | Q4: 前年度末現在の届出施設数 | R4: 年度中の大気汚染防止法に係る届出数 | V4: 届出以外の理由による年度中の増減 | W4: 年度末現在の届出 施設数 | X4: 年度中の変更届出 施設数 (法第8条) | Y4: 年度末現在の電気事業法･ ガス事業法・鉱山保安法 に係るばい煙発生施設数 | AB4: 合計 | AD4: 自治体名 | AE4: 前年度末現在の届出施設数 | AF4: 年度中の大気汚染防止法に係る届出数 | AJ4: 届出以外の理由による年度中の増減 | AK4: 年度末現在の届出 施設数 | AL4: 年度中の変更届出 施設数 (法第8条) | AM4: 年度末現在の電気事業法･ ガス事業法・鉱山保安法 に係るばい煙発生施設数 | AP4: 合計
D6: 設置届出 (法第6条) | E6: 使用届出 (法第7条) | F6: 使用廃止 届出 (法第11条) | G6: 年度中の増減 | R6: 設置届出 (法第6条) | S6: 使用届出 (法第7条) | T6: 使用廃止 届出 (法第11条) | U6: 年度中の増減 | AF6: 設置届出 (法第6条) | AG6: 使用届出 (法第7条) | AH6: 使用廃止 届出 (法第11条) | AI6: 年度中の増減
K8: 電気 | L8: ガス | M8: 鉱山 | N8: (K)= | Y8: 電気 | Z8: ガス | AA8: 鉱山 | AB8: (K)= | AM8: 電気 | AN8: ガス | AO8: 鉱山 | AP8: (K)=
G9: (E)= | I9: (F)= | N9: (F)+(H)+ | U9: (E)= | W9: (F)= | AB9: (F)+(H)+ | AI9: (E)= | AK9: (F)= | AP9: (F)+(H)+
C10: (A) | D10: (B) | E10: (C) | F10: (D) | G10: (B)+(C)-(D) | H10: (E') | I10: (E)+(E')+(A) | J10: (G) | K10: (H) | L10: (I) | M10: (J) | N10: (I)+(J) | Q10: (A) | R10: (B) | S10: (C) | T10: (D) | U10: (B)+(C)-(D) | V10: (E') | W10: (E)+(E')+(A) | X10: (G) | Y10: (H) | Z10: (I) | AA10: (J) | AB10: (I)+(J) | AE10: (A) | AF10: (B) | AG10: (C) | AH10: (D) | AI10: (B)+(C)-(D) | AJ10: (E') | AK10: (E)+(E')+(A) | AL10: (G) | AM10: (H) | AN10: (I) | AO10: (J) | AP10: (I)+(J)
B11: 北海道計 | C11: =SUM(C12:C18) -> 14474 | D11: =SUM(D12:D18) -> 343 | E11: =SUM(E12:E18) -> 0 | F11: =SUM(F12:F18) -> 392 | G11: =SUM(G12:G18) -> -49 | H11: =SUM(H12:H18) -> -630 | I11: =SUM(I12:I18) -> 13795 | J11: =SUM(J12:J18) -> 17 | ... N11: =SUM(N12:N18) -> 15915 | P11: 新潟県計 | Q11: =SUM(Q12:Q13) -> 4502 | R11: =SUM(R12:R13) -> 108 | S11: =SUM(S12:S13) -> 0 | T11: =SUM(T12:T13) -> 130 | U11: =SUM(U12:U13) -> -22 | V11: =SUM(V12:V13) -> -456 | W11: =SUM(W12:W13) -> 4024 | X11: =SUM(X12:X13) -> 38 | ... AB11: =SUM(AB12:AB13) -> 5237 | AD11: 和歌山県計 | AE11: =SUM(AE12:AE13) -> 1365 | AF11: =SUM(AF12:AF13) -> 52 | AG11: =SUM(AG12:AG13) -> 0 | AH11: =SUM(AH12:AH13) -> 46 | AI11: =SUM(AI12:AI13) -> 6 | AJ11: =SUM(AJ12:AJ13) -> -25 | AK11: =SUM(AK12:AK13) -> 1346 | AL11: =SUM(AL12:AL13) -> 4 | ... AP11: =SUM(AP12:AP13) -> 1779
B12: 札幌市 | C12: 2991 | D12: 87 | E12: 0 | F12: 106 | G12: =D12+E12-F12 -> -19 | H12: -347 | I12: =C12+G12+H12 -> 2625 | J12: 4 | K12: 627 | L12: 2 | M12: 2 | N12: =I12+SUM(K12:M12) -> 3256 | P12: 新潟市 | Q12: 1006 | R12: 20 | S12: 0 | T12: 22 | U12: =R12+S12-T12 -> -2 | V12: -180 | W12: =Q12+U12+V12 -> 824 | X12: 7 | Y12: 359 | Z12: 0 | AA12: 11 | AB12: =W12+SUM(Y12:AA12) -> 1194 | AD12: 和歌山市 | AE12: 660 | AF12: 14 | AG12: 0 | AH12: 18 | AI12: =AF12+AG12-AH12 -> -4 | AJ12: 0 | AK12: =AE12+AI12+AJ12 -> 656 | AL12: 1 | AM12: 193 | AN12: 0 | AO12: 0 | AP12: =AK12+SUM(AM12:AO12) -> 849
B13: 函館市 | C13: 489 | D13: 7 | E13: 0 | F13: 20 | G13: =D13+E13-F13 -> -13 | H13: -66 | I13: =C13+G13+H13 -> 410 | J13: 0 | K13: 78 | L13: 5 | M13: 0 | N13: =I13+SUM(K13:M13) -> 493 | P13: その他・新潟県 | Q13: 3496 | R13: 88 | S13: 0 | T13: 108 | U13: =R13+S13-T13 -> -20 | V13: -276 | W13: =Q13+U13+V13 -> 3200 | X13: 31 | Y13: 743 | Z13: 17 | AA13: 83 | AB13: =W13+SUM(Y13:AA13) -> 4043 | AD13: その他・和歌山県 | AE13: 705 | AF13: 38 | AG13: 0 | AH13: 28 | AI13: =AF13+AG13-AH13 -> 10 | AJ13: -25 | AK13: =AE13+AI13+AJ13 -> 690 | AL13: 3 | AM13: 240 | AN13: 0 | AO13: 0 | AP13: =AK13+SUM(AM13:AO13) -> 930
B14: 小樽市 | C14: 204 | D14: 5 | E14: 0 | F14: 21 | G14: =D14+E14-F14 -> -16 | H14: -23 | I14: =C14+G14+H14 -> 165 | J14: 0 | K14: 31 | L14: 0 | M14: 0 | N14: =I14+SUM(K14:M14) -> 196 | P14: 富山県計 | Q14: =SUM(Q15:Q16) -> 2738 | R14: =SUM(R15:R16) -> 48 | S14: =SUM(S15:S16) -> 0 | T14: =SUM(T15:T16) -> 41 | U14: =SUM(U15:U16) -> 7 | V14: =SUM(V15:V16) -> -209 | W14: =SUM(W15:W16) -> 2536 | X14: =SUM(X15:X16) -> 22 | ... AB14: =SUM(AB15:AB16) -> 3016 | AD14: 鳥取県計 | AE14: =SUM(AE15:AE16) -> 849 | AF14: =SUM(AF15:AF16) -> 9 | AG14: =SUM(AG15:AG16) -> 0 | AH14: =SUM(AH15:AH16) -> 31 | AI14: =SUM(AI15:AI16) -> -22 | AJ14: =SUM(AJ15:AJ16) -> -58 | AK14: =SUM(AK15:AK16) -> 769 | AL14: =SUM(AL15:AL16) -> 3 | ... AP14: =SUM(AP15:AP16) -> 1007
B15: 旭川市 | C15: 657 | D15: 11 | E15: 0 | F15: 21 | G15: =D15+E15-F15 -> -10 | H15: -85 | I15: =C15+G15+H15 -> 562 | J15: 0 | K15: 83 | L15: 3 | M15: 0 | N15: =I15+SUM(K15:M15) -> 648 | P15: 富山市 | Q15: 1074 | R15: 18 | S15: 0 | T15: 10 | U15: =R15+S15-T15 -> 8 | V15: -99 | W15: =Q15+U15+V15 -> 983 | X15: 4 | Y15: 214 | Z15: 8 | AA15: 0 | AB15: =W15+SUM(Y15:AA15) -> 1205 | AD15: 鳥取市 | AE15: 219 | AF15: 4 | AG15: 0 | AH15: 9 | AI15: =AF15+AG15-AH15 -> -5 | AJ15: -18 | AK15: =AE15+AI15+AJ15 -> 196 | AL15: 2 | AM15: 80 | AN15: 0 | AO15: 0 | AP15: =AK15+SUM(AM15:AO15) -> 276
B16: 室蘭市 | C16: 141 | D16: 3 | E16: 0 | F16: 1 | G16: =D16+E16-F16 -> 2 | H16: -10 | I16: =C16+G16+H16 -> 133 | J16: 0 | K16: 0 | L16: 0 | M16: 0 | N16: =I16+SUM(K16:M16) -> 133 | P16: その他・富山県 | Q16: 1664 | R16: 30 | S16: 0 | T16: 31 | U16: =R16+S16-T16 -> -1 | V16: -110 | W16: =Q16+U16+V16 -> 1553 | X16: 18 | Y16: 258 | Z16: 0 | AA16: 0 | AB16: =W16+SUM(Y16:AA16) -> 1811 | AD16: その他・鳥取県 | AE16: 630 | AF16: 5 | AG16: 0 | AH16: 22 | AI16: =AF16+AG16-AH16 -> -17 | AJ16: -40 | AK16: =AE16+AI16+AJ16 -> 573 | AL16: 1 | AM16: 158 | AN16: 0 | AO16: 0 | AP16: =AK16+SUM(AM16:AO16) -> 731
B17: 苫小牧市 | C17: 280 | D17: 3 | E17: 0 | F17: 10 | G17: =D17+E17-F17 -> -7 | H17: -24 | I17: =C17+G17+H17 -> 249 | J17: 0 | K17: 54 | L17: 0 | M17: 20 | N17: =I17+SUM(K17:M17) -> 323 | P17: 石川県計 | Q17: =SUM(Q18:Q19) -> 2065 | R17: =SUM(R18:R19) -> 48 | S17: =SUM(S18:S19) -> 0 | T17: =SUM(T18:T19) -> 84 | U17: =SUM(U18:U19) -> -36 | V17: =SUM(V18:V19) -> -70 | W17: =SUM(W18:W19) -> 1959 | X17: =SUM(X18:X19) -> 7 | ... AB17: =SUM(AB18:AB19) -> 2418 | AD17: 島根県計 | AE17: =SUM(AE18:AE19) -> 1109 | AF17: =SUM(AF18:AF19) -> 37 | AG17: =SUM(AG18:AG19) -> 0 | AH17: =SUM(AH18:AH19) -> 41 | AI17: =SUM(AI18:AI19) -> -4 | AJ17: =SUM(AJ18:AJ19) -> -70 | AK17: =SUM(AK18:AK19) -> 1035 | AL17: =SUM(AL18:AL19) -> 7 | ... AP17: =SUM(AP18:AP19) -> 1322
B18: その他・北海道 | C18: 9712 | D18: 227 | E18: 0 | F18: 213 | G18: =D18+E18-F18 -> 14 | H18: -75 | I18: =C18+G18+H18 -> 9651 | J18: 13 | K18: 1190 | L18: 5 | M18: 20 | N18: =I18+SUM(K18:M18) -> 10866 | P18: 金沢市 | Q18: 775 | R18: 18 | S18: 0 | T18: 27 | U18: =R18+S18-T18 -> -9 | V18: 29 | W18: =Q18+U18+V18 -> 795 | X18: 2 | Y18: 158 | Z18: 4 | AA18: 0 | AB18: =W18+SUM(Y18:AA18) -> 957 | AD18: 松江市 | AE18: 231 | AF18: 7 | AG18: 0 | AH18: 11 | AI18: =AF18+AG18-AH18 -> -4 | AJ18: -17 | AK18: =AE18+AI18+AJ18 -> 210 | AL18: 1 | AM18: 128 | AN18: 0 | AO18: 0 | AP18: =AK18+SUM(AM18:AO18) -> 338
B19: 青森県計 | C19: =SUM(C20:C22) -> 2918 | D19: =SUM(D20:D22) -> 66 | E19: =SUM(E20:E22) -> 0 | F19: =SUM(F20:F22) -> 71 | G19: =SUM(G20:G22) -> -5 | H19: =SUM(H20:H22) -> -227 | I19: =SUM(I20:I22) -> 2686 | J19: =SUM(J20:J22) -> 11 | ... N19: =SUM(N20:N22) -> 3244 | P19: その他・石川県 | Q19: 1290 | R19: 30 | S19: 0 | T19: 57 | U19: =R19+S19-T19 -> -27 | V19: -99 | W19: =Q19+U19+V19 -> 1164 | X19: 5 | Y19: 297 | Z19: 0 | AA19: 0 | AB19: =W19+SUM(Y19:AA19) -> 1461 | AD19: その他・島根県 | AE19: 878 | AF19: 30 | AG19: 0 | AH19: 30 | AI19: =AF19+AG19-AH19 -> 0 | AJ19: -53 | AK19: =AE19+AI19+AJ19 -> 825 | AL19: 6 | AM19: 159 | AN19: 0 | AO19: 0 | AP19: =AK19+SUM(AM19:AO19) -> 984
B20: 青森市 | C20: 664 | D20: 12 | E20: 0 | F20: 13 | G20: =D20+E20-F20 -> -1 | H20: -39 | I20: =C20+G20+H20 -> 624 | J20: 0 | K20: 152 | L20: 3 | M20: 0 | N20: =I20+SUM(K20:M20) -> 779 | P20: 福井県計 | Q20: =SUM(Q21:Q22) -> 1495 | R20: =SUM(R21:R22) -> 38 | S20: =SUM(S21:S22) -> 0 | T20: =SUM(T21:T22) -> 43 | U20: =SUM(U21:U22) -> -5 | V20: =SUM(V21:V22) -> -110 | W20: =SUM(W21:W22) -> 1380 | X20: =SUM(X21:X22) -> 8 | ... AB20: =SUM(AB21:AB22) -> 1822 | AD20: 岡山県計 | AE20: =SUM(AE21:AE23) -> 2938 | AF20: =SUM(AF21:AF23) -> 48 | AG20: =SUM(AG21:AG23) -> 0 | AH20: =SUM(AH21:AH23) -> 107 | AI20: =SUM(AI21:AI23) -> -59 | AJ20: =SUM(AJ21:AJ23) -> -177 | AK20: =SUM(AK21:AK23) -> 2702 | AL20: =SUM(AL21:AL23) -> 39 | ... AP20: =SUM(AP21:AP23) -> 3482
B21: 八戸市 | C21: 562 | D21: 11 | E21: 0 | F21: 20 | G21: =D21+E21-F21 -> -9 | H21: -40 | I21: =C21+G21+H21 -> 513 | J21: 9 | K21: 134 | L21: 8 | M21: 1 | N21: =I21+SUM(K21:M21) -> 656 | P21: 福井市 | Q21: 470 | R21: 7 | S21: 0 | T21: 7 | U21: =R21+S21-T21 -> 0 | V21: -41 | W21: =Q21+U21+V21 -> 429 | X21: 0 | Y21: 137 | Z21: 0 | AA21: 0 | AB21: =W21+SUM(Y21:AA21) -> 566 | AD21: 岡山市 | AE21: 744 | AF21: 7 | AG21: 0 | AH21: 24 | AI21: =AF21+AG21-AH21 -> -17 | AJ21: -76 | AK21: =AE21+AI21+AJ21 -> 651 | AL21: 17 | AM21: 316 | AN21: 2 | AO21: 0 | AP21: =AK21+SUM(AM21:AO21) -> 969
B22: その他・青森県 | C22: 1692 | D22: 43 | E22: 0 | F22: 38 | G22: =D22+E22-F22 -> 5 | H22: -148 | I22: =C22+G22+H22 -> 1549 | J22: 2 | K22: 260 | L22: 0 | M22: 0 | N22: =I22+SUM(K22:M22) -> 1809 | P22: その他・福井県 | Q22: 1025 | R22: 31 | S22: 0 | T22: 36 | U22: =R22+S22-T22 -> -5 | V22: -69 | W22: =Q22+U22+V22 -> 951 | X22: 8 | Y22: 305 | Z22: 0 | AA22: 0 | AB22: =W22+SUM(Y22:AA22) -> 1256 | AD22: 倉敷市 | AE22: 942 | AF22: 8 | AG22: 0 | AH22: 20 | AI22: =AF22+AG22-AH22 -> -12 | AJ22: -39 | AK22: =AE22+AI22+AJ22 -> 891 | AL22: 14 | AM22: 193 | AN22: 2 | AO22: 0 | AP22: =AK22+SUM(AM22:AO22) -> 1086
B23: 岩手県計 | C23: =SUM(C24:C25) -> 3011 | D23: =SUM(D24:D25) -> 93 | E23: =SUM(E24:E25) -> 0 | F23: =SUM(F24:F25) -> 54 | G23: =SUM(G24:G25) -> 39 | H23: =SUM(H24:H25) -> 0 | I23: =SUM(I24:I25) -> 3050 | J23: =SUM(J24:J25) -> 2 | ... N23: =SUM(N24:N25) -> 3595 | P23: 山梨県計 | Q23: =SUM(Q24:Q25) -> 1710 | R23: =SUM(R24:R25) -> 35 | S23: =SUM(S24:S25) -> 0 | T23: =SUM(T24:T25) -> 50 | U23: =SUM(U24:U25) -> -15 | V23: =SUM(V24:V25) -> -162 | W23: =SUM(W24:W25) -> 1533 | X23: =SUM(X24:X25) -> 10 | ... AB23: =SUM(AB24:AB25) -> 1870 | AD23: その他・岡山県 | AE23: 1252 | AF23: 33 | AG23: 0 | AH23: 63 | AI23: =AF23+AG23-AH23 -> -30 | AJ23: -62 | AK23: =AE23+AI23+AJ23 -> 1160 | AL23: 8 | AM23: 259 | AN23: 0 | AO23: 8 | AP23: =AK23+SUM(AM23:AO23) -> 1427
B24: 盛岡市 | C24: 433 | D24: 16 | E24: 0 | F24: 15 | G24: =D24+E24-F24 -> 1 | H24: 0 | I24: =C24+G24+H24 -> 434 | J24: 0 | K24: 137 | L24: 0 | M24: 0 | N24: =I24+SUM(K24:M24) -> 571 | P24: 甲府市 | Q24: 209 | R24: 6 | S24: 0 | T24: 11 | U24: =R24+S24-T24 -> -5 | V24: -40 | W24: =Q24+U24+V24 -> 164 | X24: 3 | Y24: 82 | Z24: 0 | AA24: 0 | AB24: =W24+SUM(Y24:AA24) -> 246 | AD24: 広島県計 | AE24: =SUM(AE25:AE28) -> 3160 | AF24: =SUM(AF25:AF28) -> 51 | AG24: =SUM(AG25:AG28) -> 1 | AH24: =SUM(AH25:AH28) -> 113 | AI24: =SUM(AI25:AI28) -> -61 | AJ24: =SUM(AJ25:AJ28) -> -277 | AK24: =SUM(AK25:AK28) -> 2822 | AL24: =SUM(AL25:AL28) -> 11 | ... AP24: =SUM(AP25:AP28) -> 4072
B25: その他・岩手県 | C25: 2578 | D25: 77 | E25: 0 | F25: 39 | G25: =D25+E25-F25 -> 38 | H25: 0 | I25: =C25+G25+H25 -> 2616 | J25: 2 | K25: 395 | L25: 4 | M25: 9 | N25: =I25+SUM(K25:M25) -> 3024 | P25: その他・山梨県 | Q25: 1501 | R25: 29 | S25: 0 | T25: 39 | U25: =R25+S25-T25 -> -10 | V25: -122 | W25: =Q25+U25+V25 -> 1369 | X25: 7 | Y25: 253 | Z25: 2 | AA25: 0 | AB25: =W25+SUM(Y25:AA25) -> 1624 | AD25: 広島市 | AE25: 852 | AF25: 21 | AG25: 0 | AH25: 46 | AI25: =AF25+AG25-AH25 -> -25 | AJ25: -140 | AK25: =AE25+AI25+AJ25 -> 687 | AL25: 1 | AM25: 490 | AN25: 0 | AO25: 0 | AP25: =AK25+SUM(AM25:AO25) -> 1177
B26: 宮城県計 | C26: =SUM(C27:C28) -> 3278 | D26: =SUM(D27:D28) -> 82 | E26: =SUM(E27:E28) -> 0 | F26: =SUM(F27:F28) -> 81 | G26: =SUM(G27:G28) -> 1 | H26: =SUM(H27:H28) -> -307 | I26: =SUM(I27:I28) -> 2972 | J26: =SUM(J27:J28) -> 42 | ... N26: =SUM(N27:N28) -> 4065 | P26: 長野県計 | Q26: =SUM(Q27:Q29) -> 4452 | R26: =SUM(R27:R29) -> 46 | S26: =SUM(S27:S29) -> 0 | T26: =SUM(T27:T29) -> 59 | U26: =SUM(U27:U29) -> -13 | V26: =SUM(V27:V29) -> -255 | W26: =SUM(W27:W29) -> 4184 | X26: =SUM(X27:X29) -> 8 | ... AB26: =SUM(AB27:AB29) -> 4955 | AD26: 呉市 | AE26: 278 | AF26: 0 | AG26: 1 | AH26: 1 | AI26: =AF26+AG26-AH26 -> 0 | AJ26: -27 | AK26: =AE26+AI26+AJ26 -> 251 | AL26: 4 | AM26: 99 | AN26: 0 | AO26: 0 | AP26: =AK26+SUM(AM26:AO26) -> 350
B27: 仙台市 | C27: 1050 | D27: 26 | E27: 0 | F27: 25 | G27: =D27+E27-F27 -> 1 | H27: -161 | I27: =C27+G27+H27 -> 890 | J27: 1 | K27: 536 | L27: 5 | M27: 2 | N27: =I27+SUM(K27:M27) -> 1433 | P27: 長野市 | Q27: 648 | R27: 4 | S27: 0 | T27: 0 | U27: =R27+S27-T27 -> 4 | V27: -58 | W27: =Q27+U27+V27 -> 594 | X27: 0 | Y27: 174 | Z27: 0 | AA27: 0 | AB27: =W27+SUM(Y27:AA27) -> 768 | AD27: 福山市 | AE27: 539 | AF27: 11 | AG27: 0 | AH27: 41 | AI27: =AF27+AG27-AH27 -> -30 | AJ27: 0 | AK27: =AE27+AI27+AJ27 -> 509 | AL27: 2 | AM27: 129 | AN27: 0 | AO27: 0 | AP27: =AK27+SUM(AM27:AO27) -> 638
B28: その他・宮城県 | C28: 2228 | D28: 56 | E28: 0 | F28: 56 | G28: =D28+E28-F28 -> 0 | H28: -146 | I28: =C28+G28+H28 -> 2082 | J28: 41 | K28: 532 | L28: 4 | M28: 14 | N28: =I28+SUM(K28:M28) -> 2632 | P28: 松本市 | Q28: 381 | R28: 3 | S28: 0 | T28: 8 | U28: =R28+S28-T28 -> -5 | V28: -33 | W28: =Q28+U28+V28 -> 343 | X28: 2 | Y28: 94 | Z28: 0 | AA28: 0 | AB28: =W28+SUM(Y28:AA28) -> 437 | AD28: その他・広島県 | AE28: 1491 | AF28: 19 | AG28: 0 | AH28: 25 | AI28: =AF28+AG28-AH28 -> -6 | AJ28: -110 | AK28: =AE28+AI28+AJ28 -> 1375 | AL28: 4 | AM28: 450 | AN28: 13 | AO28: 69 | AP28: =AK28+SUM(AM28:AO28) -> 1907
B29: 秋田県計 | C29: =SUM(C30:C31) -> 2134 | D29: =SUM(D30:D31) -> 51 | E29: =SUM(E30:E31) -> 0 | F29: =SUM(F30:F31) -> 74 | G29: =SUM(G30:G31) -> -23 | H29: =SUM(H30:H31) -> -137 | I29: =SUM(I30:I31) -> 1974 | J29: =SUM(J30:J31) -> 8 | ... N29: =SUM(N30:N31) -> 2409 | P29: その他・長野県 | Q29: 3423 | R29: 39 | S29: 0 | T29: 51 | U29: =R29+S29-T29 -> -12 | V29: -164 | W29: =Q29+U29+V29 -> 3247 | X29: 6 | Y29: 503 | Z29: 0 | AA29: 0 | AB29: =W29+SUM(Y29:AA29) -> 3750 | AD29: 山口県計 | AE29: =SUM(AE30:AE31) -> 2634 | AF29: =SUM(AF30:AF31) -> 41 | AG29: =SUM(AG30:AG31) -> 0 | AH29: =SUM(AH30:AH31) -> 63 | AI29: =SUM(AI30:AI31) -> -22 | AJ29: =SUM(AJ30:AJ31) -> -16 | AK29: =SUM(AK30:AK31) -> 2596 | AL29: =SUM(AL30:AL31) -> 43 | ... AP29: =SUM(AP30:AP31) -> 3258
B30: 秋田市 | C30: 629 | D30: 12 | E30: 0 | F30: 21 | G30: =D30+E30-F30 -> -9 | H30: -63 | I30: =C30+G30+H30 -> 557 | J30: 2 | K30: 162 | L30: 4 | M30: 3 | N30: =I30+SUM(K30:M30) -> 726 | P30: 岐阜県計 | Q30: =SUM(Q31:Q32) -> 3617 | R30: =SUM(R31:R32) -> 77 | S30: =SUM(S31:S32) -> 0 | T30: =SUM(T31:T32) -> 210 | U30: =SUM(U31:U32) -> -133 | V30: =SUM(V31:V32) -> -262 | W30: =SUM(W31:W32) -> 3222 | X30: =SUM(X31:X32) -> 31 | ... AB30: =SUM(AB31:AB32) -> 3780 | AD30: 下関市 | AE30: 433 | AF30: 12 | AG30: 0 | AH30: 15 | AI30: =AF30+AG30-AH30 -> -3 | AJ30: -22 | AK30: =AE30+AI30+AJ30 -> 408 | AL30: 2 | AM30: 105 | AN30: 0 | AO30: 0 | AP30: =AK30+SUM(AM30:AO30) -> 513
B31: その他・秋田県 | C31: 1505 | D31: 39 | E31: 0 | F31: 53 | G31: =D31+E31-F31 -> -14 | H31: -74 | I31: =C31+G31+H31 -> 1417 | J31: 6 | K31: 232 | L31: 0 | M31: 34 | N31: =I31+SUM(K31:M31) -> 1683 | P31: 岐阜市 | Q31: 396 | R31: 1 | S31: 0 | T31: 25 | U31: =R31+S31-T31 -> -24 | V31: -91 | W31: =Q31+U31+V31 -> 281 | X31: 2 | Y31: 175 | Z31: 0 | AA31: 0 | AB31: =W31+SUM(Y31:AA31) -> 456 | AD31: その他・山口県 | AE31: 2201 | AF31: 29 | AG31: 0 | AH31: 48 | AI31: =AF31+AG31-AH31 -> -19 | AJ31: 6 | AK31: =AE31+AI31+AJ31 -> 2188 | AL31: 41 | AM31: 552 | AN31: 4 | AO31: 1 | AP31: =AK31+SUM(AM31:AO31) -> 2745
B32: 山形県計 | C32: =SUM(C33:C34) -> 2132 | D32: =SUM(D33:D34) -> 60 | E32: =SUM(E33:E34) -> 0 | F32: =SUM(F33:F34) -> 69 | G32: =SUM(G33:G34) -> -9 | H32: =SUM(H33:H34) -> -132 | I32: =SUM(I33:I34) -> 1991 | J32: =SUM(J33:J34) -> 5 | ... N32: =SUM(N33:N34) -> 2410 | P32: その他・岐阜県 | Q32: 3221 | R32: 76 | S32: 0 | T32: 185 | U32: =R32+S32-T32 -> -109 | V32: -171 | W32: =Q32+U32+V32 -> 2941 | X32: 29 | Y32: 365 | Z32: 0 | AA32: 18 | AB32: =W32+SUM(Y32:AA32) -> 3324 | AD32: 徳島県計 | AE32: =AE33 -> 1244 | AF32: =AF33 -> 25 | AG32: =AG33 -> 0 | AH32: =AH33 -> 48 | AI32: =AI33 -> -23 | AJ32: =AJ33 -> -74 | AK32: =AK33 -> 1147 | AL32: =AL33 -> 32 | ... AP32: =AP33 -> 1494
B33: 山形市 | C33: 426 | D33: 3 | E33: 0 | F33: 14 | G33: =D33+E33-F33 -> -11 | H33: -40 | I33: =C33+G33+H33 -> 375 | J33: 1 | K33: 81 | L33: 0 | M33: 0 | N33: =I33+SUM(K33:M33) -> 456 | P33: 静岡県計 | Q33: =SUM(Q34:Q36) -> 5655 | R33: =SUM(R34:R36) -> 169 | S33: =SUM(S34:S36) -> 0 | T33: =SUM(T34:T36) -> 241 | U33: =SUM(U34:U36) -> -72 | V33: =SUM(V34:V36) -> -378 | W33: =SUM(W34:W36) -> 5205 | X33: =SUM(X34:X36) -> 52 | ... AB33: =SUM(AB34:AB36) -> 6663 | AD33: 徳島県 | AE33: 1244 | AF33: 25 | AG33: 0 | AH33: 48 | AI33: =AF33+AG33-AH33 -> -23 | AJ33: -74 | AK33: =AE33+AI33+AJ33 -> 1147 | AL33: 32 | AM33: 345 | AN33: 2 | AO33: 0 | AP33: =AK33+SUM(AM33:AO33) -> 1494
B34: その他・山形県 | C34: 1706 | D34: 57 | E34: 0 | F34: 55 | G34: =D34+E34-F34 -> 2 | H34: -92 | I34: =C34+G34+H34 -> 1616 | J34: 4 | K34: 329 | L34: 3 | M34: 6 | N34: =I34+SUM(K34:M34) -> 1954 | P34: 静岡市 | Q34: 695 | R34: 17 | S34: 0 | T34: 24 | U34: =R34+S34-T34 -> -7 | V34: -106 | W34: =Q34+U34+V34 -> 582 | X34: 8 | Y34: 279 | Z34: 0 | AA34: 0 | AB34: =W34+SUM(Y34:AA34) -> 861 | AD34: 香川県計 | AE34: =SUM(AE35:AE36) -> 1456 | AF34: =SUM(AF35:AF36) -> 35 | AG34: =SUM(AG35:AG36) -> 1 | AH34: =SUM(AH35:AH36) -> 39 | AI34: =SUM(AI35:AI36) -> -3 | AJ34: =SUM(AJ35:AJ36) -> -124 | AK34: =SUM(AK35:AK36) -> 1329 | AL34: =SUM(AL35:AL36) -> 13 | ... AP34: =SUM(AP35:AP36) -> 1748
B35: 福島県計 | C35: =SUM(C36:C39) -> 3998 | D35: =SUM(D36:D39) -> 114 | E35: =SUM(E36:E39) -> 2 | F35: =SUM(F36:F39) -> 180 | G35: =SUM(G36:G39) -> -64 | H35: =SUM(H36:H39) -> -160 | I35: =SUM(I36:I39) -> 3774 | J35: =SUM(J36:J39) -> 19 | ... N35: =SUM(N36:N39) -> 4516 | P35: 浜松市 | Q35: 719 | R35: 16 | S35: 0 | T35: 30 | U35: =R35+S35-T35 -> -14 | V35: -119 | W35: =Q35+U35+V35 -> 586 | X35: 17 | Y35: 277 | Z35: 0 | AA35: 0 | AB35: =W35+SUM(Y35:AA35) -> 863 | AD35: 高松市 | AE35: 325 | AF35: 4 | AG35: 0 | AH35: 10 | AI35: =AF35+AG35-AH35 -> -6 | AJ35: -39 | AK35: =AE35+AI35+AJ35 -> 280 | AL35: 2 | AM35: 184 | AN35: 3 | AO35: 0 | AP35: =AK35+SUM(AM35:AO35) -> 467
B36: 福島市 | C36: 448 | D36: 14 | E36: 0 | F36: 11 | G36: =D36+E36-F36 -> 3 | H36: 0 | I36: =C36+G36+H36 -> 451 | J36: 1 | K36: 104 | L36: 0 | M36: 0 | N36: =I36+SUM(K36:M36) -> 555 | P36: その他・静岡県 | Q36: 4241 | R36: 136 | S36: 0 | T36: 187 | U36: =R36+S36-T36 -> -51 | V36: -153 | W36: =Q36+U36+V36 -> 4037 | X36: 27 | Y36: 896 | Z36: 6 | AA36: 0 | AB36: =W36+SUM(Y36:AA36) -> 4939 | AD36: その他・香川県 | AE36: 1131 | AF36: 31 | AG36: 1 | AH36: 29 | AI36: =AF36+AG36-AH36 -> 3 | AJ36: -85 | AK36: =AE36+AI36+AJ36 -> 1049 | AL36: 11 | AM36: 229 | AN36: 3 | AO36: 0 | AP36: =AK36+SUM(AM36:AO36) -> 1281
B37: 郡山市 | C37: 521 | D37: 15 | E37: 0 | F37: 15 | G37: =D37+E37-F37 -> 0 | H37: -34 | I37: =C37+G37+H37 -> 487 | J37: 0 | K37: 109 | L37: 0 | M37: 0 | N37: =I37+SUM(K37:M37) -> 596 | P37: 愛知県計 | Q37: =SUM(Q38:Q43) -> 10800 | R37: =SUM(R38:R43) -> 229 | S37: =SUM(S38:S43) -> 0 | T37: =SUM(T38:T43) -> 407 | U37: =SUM(U38:U43) -> -178 | V37: =SUM(V38:V43) -> -1443 | W37: =SUM(W38:W43) -> 9179 | X37: =SUM(X38:X43) -> 78 | ... AB37: =SUM(AB38:AB43) -> 12168 | AD37: 愛媛県計 | AE37: =SUM(AE38:AE39) -> 1780 | AF37: =SUM(AF38:AF39) -> 85 | AG37: =SUM(AG38:AG39) -> 0 | AH37: =SUM(AH38:AH39) -> 68 | AI37: =SUM(AI38:AI39) -> 17 | AJ37: =SUM(AJ38:AJ39) -> -89 | AK37: =SUM(AK38:AK39) -> 1708 | AL37: =SUM(AL38:AL39) -> 35 | ... AP37: =SUM(AP38:AP39) -> 2328
B38: いわき市 | C38: 757 | D38: 15 | E38: 0 | F38: 57 | G38: =D38+E38-F38 -> -42 | H38: 0 | I38: =C38+G38+H38 -> 715 | J38: 5 | K38: 124 | L38: 5 | M38: 0 | N38: =I38+SUM(K38:M38) -> 844 | P38: 名古屋市 | Q38: 1893 | R38: 28 | S38: 0 | T38: 34 | U38: =R38+S38-T38 -> -6 | V38: -450 | W38: =Q38+U38+V38 -> 1437 | X38: 15 | Y38: 1076 | Z38: 0 | AA38: 0 | AB38: =W38+SUM(Y38:AA38) -> 2513 | AD38: 松山市 | AE38: 410 | AF38: 8 | AG38: 0 | AH38: 15 | AI38: =AF38+AG38-AH38 -> -7 | AJ38: -33 | AK38: =AE38+AI38+AJ38 -> 370 | AL38: 1 | AM38: 163 | AN38: 4 | AO38: 0 | AP38: =AK38+SUM(AM38:AO38) -> 537
B39: その他・福島県 | C39: 2272 | D39: 70 | E39: 2 | F39: 97 | G39: =D39+E39-F39 -> -25 | H39: -126 | I39: =C39+G39+H39 -> 2121 | J39: 13 | K39: 400 | L39: 0 | M39: 0 | N39: =I39+SUM(K39:M39) -> 2521 | P39: 豊橋市 | Q39: 546 | R39: 15 | S39: 0 | T39: 16 | U39: =R39+S39-T39 -> -1 | V39: 0 | W39: =Q39+U39+V39 -> 545 | X39: 0 | Y39: 157 | Z39: 0 | AA39: 0 | AB39: =W39+SUM(Y39:AA39) -> 702 | AD39: その他・愛媛県 | AE39: 1370 | AF39: 77 | AG39: 0 | AH39: 53 | AI39: =AF39+AG39-AH39 -> 24 | AJ39: -56 | AK39: =AE39+AI39+AJ39 -> 1338 | AL39: 34 | AM39: 433 | AN39: 4 | AO39: 16 | AP39: =AK39+SUM(AM39:AO39) -> 1791
B40: 茨城県計 | C40: =SUM(C41:C42) -> 4334 | D40: =SUM(D41:D42) -> 124 | E40: =SUM(E41:E42) -> 0 | F40: =SUM(F41:F42) -> 134 | G40: =SUM(G41:G42) -> -10 | H40: =SUM(H41:H42) -> -207 | I40: =SUM(I41:I42) -> 4117 | J40: =SUM(J41:J42) -> 31 | ... N40: =SUM(N41:N42) -> 5538 | P40: 岡崎市 | Q40: 340 | R40: 8 | S40: 0 | T40: 73 | U40: =R40+S40-T40 -> -65 | V40: -5 | W40: =Q40+U40+V40 -> 270 | X40: 0 | Y40: 96 | Z40: 0 | AA40: 1 | AB40: =W40+SUM(Y40:AA40) -> 367 | AD40: 高知県計 | AE40: =SUM(AE41:AE42) -> 903 | AF40: =SUM(AF41:AF42) -> 31 | AG40: =SUM(AG41:AG42) -> 0 | AH40: =SUM(AH41:AH42) -> 36 | AI40: =SUM(AI41:AI42) -> -5 | AJ40: =SUM(AJ41:AJ42) -> -20 | AK40: =SUM(AK41:AK42) -> 878 | AL40: =SUM(AL41:AL42) -> 3 | ... AP40: =SUM(AP41:AP42) -> 1236
B41: 水戸市 | C41: 157 | D41: 3 | E41: 0 | F41: 3 | G41: =D41+E41-F41 -> 0 | H41: -26 | I41: =C41+G41+H41 -> 131 | J41: 0 | K41: 100 | L41: 0 | M41: 0 | N41: =I41+SUM(K41:M41) -> 231 | P41: 一宮市 | Q41: 291 | R41: 17 | S41: 0 | T41: 29 | U41: =R41+S41-T41 -> -12 | V41: -37 | W41: =Q41+U41+V41 -> 242 | X41: 0 | Y41: 79 | Z41: 0 | AA41: 0 | AB41: =W41+SUM(Y41:AA41) -> 321 | AD41: 高知市 | AE41: 336 | AF41: 17 | AG41: 0 | AH41: 14 | AI41: =AF41+AG41-AH41 -> 3 | AJ41: 0 | AK41: =AE41+AI41+AJ41 -> 339 | AL41: 0 | AM41: 183 | AN41: 0 | AO41: 0 | AP41: =AK41+SUM(AM41:AO41) -> 522
B42: その他・茨城県 | C42: 4177 | D42: 121 | E42: 0 | F42: 131 | G42: =D42+E42-F42 -> -10 | H42: -181 | I42: =C42+G42+H42 -> 3986 | J42: 31 | K42: 1320 | L42: 1 | M42: 0 | N42: =I42+SUM(K42:M42) -> 5307 | P42: 豊田市 | Q42: 1076 | R42: 17 | S42: 0 | T42: 65 | U42: =R42+S42-T42 -> -48 | V42: -215 | W42: =Q42+U42+V42 -> 813 | X42: 7 | Y42: 183 | Z42: 0 | AA42: 0 | AB42: =W42+SUM(Y42:AA42) -> 996 | AD42: その他・高知県 | AE42: 567 | AF42: 14 | AG42: 0 | AH42: 22 | AI42: =AF42+AG42-AH42 -> -8 | AJ42: -20 | AK42: =AE42+AI42+AJ42 -> 539 | AL42: 3 | AM42: 174 | AN42: 0 | AO42: 1 | AP42: =AK42+SUM(AM42:AO42) -> 714
B43: 栃木県計 | C43: =SUM(C44:C45) -> 4001 | D43: =SUM(D44:D45) -> 106 | E43: =SUM(E44:E45) -> 0 | F43: =SUM(F44:F45) -> 123 | G43: =SUM(G44:G45) -> -17 | H43: =SUM(H44:H45) -> 0 | I43: =SUM(I44:I45) -> 3984 | J43: =SUM(J44:J45) -> 6 | ... N43: =SUM(N44:N45) -> 4545 | P43: その他・愛知県 | Q43: 6654 | R43: 144 | S43: 0 | T43: 190 | U43: =R43+S43-T43 -> -46 | V43: -736 | W43: =Q43+U43+V43 -> 5872 | X43: 56 | Y43: 1378 | Z43: 19 | AA43: 0 | AB43: =W43+SUM(Y43:AA43) -> 7269 | AD43: 福岡県計 | AE43: =SUM(AE44:AE48) -> 4845 | AF43: =SUM(AF44:AF48) -> 138 | AG43: =SUM(AG44:AG48) -> 0 | AH43: =SUM(AH44:AH48) -> 170 | AI43: =SUM(AI44:AI48) -> -32 | AJ43: =SUM(AJ44:AJ48) -> -512 | AK43: =SUM(AK44:AK48) -> 4301 | AL43: =SUM(AL44:AL48) -> 61 | ... AP43: =SUM(AP44:AP48) -> 6272
B44: 宇都宮市 | C44: 698 | D44: 23 | E44: 0 | F44: 28 | G44: =D44+E44-F44 -> -5 | H44: 0 | I44: =C44+G44+H44 -> 693 | J44: 0 | K44: 210 | L44: 0 | M44: 0 | N44: =I44+SUM(K44:M44) -> 903 | P44: 三重県計 | Q44: =SUM(Q45:Q46) -> 3264 | R44: =SUM(R45:R46) -> 77 | S44: =SUM(S45:S46) -> 0 | T44: =SUM(T45:T46) -> 90 | U44: =SUM(U45:U46) -> -13 | V44: =SUM(V45:V46) -> -265 | W44: =SUM(W45:W46) -> 2986 | X44: =SUM(X45:X46) -> 16 | ... AB44: =SUM(AB45:AB46) -> 4011 | AD44: 北九州市 | AE44: 1380 | AF44: 50 | AG44: 0 | AH44: 53 | AI44: =AF44+AG44-AH44 -> -3 | AJ44: -108 | AK44: =AE44+AI44+AJ44 -> 1269 | AL44: 25 | AM44: 399 | AN44: 6 | AO44: 0 | AP44: =AK44+SUM(AM44:AO44) -> 1674
...

Sheet 表1.4
B2: 表1.4(1) 届出件数 施設種類別・都道府県市別（大気汚染防止法に係るばい煙発生施設） | O2: 表1.4(2) 届出件数 施設種類別・都道府県市別（大気汚染防止法に係るばい煙発生施設） | AB2: 表1.4(3) 届出件数 施設種類別・都道府県市別（大気汚染防止法に係るばい煙発生施設）
B4: 自治体名 | C4: 施行令別表第一の項番号 | O4: 自治体名 | P4: 施行令別表第一の項番号 | AB4: 自治体名 | AC4: 施行令別表第一の項番号
C5: 1 | D5: 2 | E5: 3 | F5: 4 | G5: 5 | H5: 6 | I5: 7 | J5: 8 | K5: 8の2 | L5: 9 | M5: 10 | P5: 1 | Q5: 2 | R5: 3 | S5: 4 | T5: 5 | U5: 6 | V5: 7 | W5: 8 | X5: 8の2 | Y5: 9 | Z5: 10 | AC5: 1 | AD5: 2 | AE5: 3 | AF5: 4 | AG5: 5 | AH5: 6 | AI5: 7 | AJ5: 8 | AK5: 8の2 | AL5: 9 | AM5: 10
C6: ボイラー | D6: ガス発生炉・ガス加熱炉 | E6: 焙焼炉・ 焼結炉・ 煆焼炉 | F6: 溶鉱炉・ 転炉・平炉 | G6: 金属溶解炉 | H6: 金属加熱炉・ 圧延加熱・ 熱処理炉 | I6: 石油加熱炉 | J6: 触媒再生塔 | K6: 燃焼炉 | L6: 窯業焼成炉・溶融炉 | M6: 反応炉・ 直火炉 | P6: ボイラー | Q6: ガス発生炉・ガス加熱炉 | R6: 焙焼炉・ 焼結炉・ 煆焼炉 | S6: 溶鉱炉・ 転炉・平炉 | T6: 金属溶解炉 | U6: 金属加熱炉・ 圧延加熱・ 熱処理炉 | V6: 石油加熱炉 | W6: 触媒再生塔 | X6: 燃焼炉 | Y6: 窯業焼成炉・溶融炉 | Z6: 反応炉・ 直火炉 | AC6: ボイラー | AD6: ガス発生炉・ガス加熱炉 | AE6: 焙焼炉・ 焼結炉・ 煆焼炉 | AF6: 溶鉱炉・ 転炉・平炉 | AG6: 金属溶解炉 | AH6: 金属加熱炉・ 圧延加熱・ 熱処理炉 | AI6: 石油加熱炉 | AJ6: 触媒再生塔 | AK6: 燃焼炉 | AL6: 窯業焼成炉・溶融炉 | AM6: 反応炉・ 直火炉
B7: 北海道計 | C7: =SUM(C8:C14) -> 11877 | D7: =SUM(D8:D14) -> 3 | E7: =SUM(E8:E14) -> 4 | F7: =SUM(F8:F14) -> 3 | G7: =SUM(G8:G14) -> 36 | H7: =SUM(H8:H14) -> 141 | I7: =SUM(I8:I14) -> 15 | J7: =SUM(J8:J14) -> 1 | ... M7: =SUM(M8:M14) -> 1 | O7: 新潟県計 | P7: =SUM(P8:P9) -> 3291 | Q7: =SUM(Q8:Q9) -> 4 | R7: =SUM(R8:R9) -> 0 | S7: =SUM(S8:S9) -> 1 | T7: =SUM(T8:T9) -> 82 | U7: =SUM(U8:U9) -> 124 | V7: =SUM(V8:V9) -> 8 | W7: =SUM(W8:W9) -> 0 | ... Z7: =SUM(Z8:Z9) -> 13 | AB7: 和歌山県計 | AC7: =SUM(AC8:AC9) -> 881 | AD7: =SUM(AD8:AD9) -> 1 | AE7: =SUM(AE8:AE9) -> 3 | AF7: =SUM(AF8:AF9) -> 5 | AG7: =SUM(AG8:AG9) -> 5 | AH7: =SUM(AH8:AH9) -> 93 | AI7: =SUM(AI8:AI9) -> 46 | AJ7: =SUM(AJ8:AJ9) -> 1 | ... AM7: =SUM(AM8:AM9) -> 19
B8: 札幌市 | C8: 2471 | D8: 0 | E8: 0 | F8: 0 | G8: 3 | H8: 1 | I8: 0 | J8: 0 | K8: 0 | L8: 2 | M8: 0 | O8: 新潟市 | P8: 643 | Q8: 1 | R8: 0 | S8: 0 | T8: 2 | U8: 7 | V8: 2 | W8: 0 | X8: 0 | Y8: 4 | Z8: 12 | AB8: 和歌山市 | AC8: 383 | AD8: 1 | AE8: 3 | AF8: 5 | AG8: 3 | AH8: 70 | AI8: 3 | AJ8: 0 | AK8: 0 | AL8: 16 | AM8: 8
B9: 函館市 | C9: 392 | D9: 0 | E9: 0 | F9: 0 | G9: 1 | H9: 0 | I9: 0 | J9: 0 | K9: 0 | L9: 0 | M9: 0 | O9: その他・新潟県 | P9: 2648 | Q9: 3 | R9: 0 | S9: 1 | T9: 80 | U9: 117 | V9: 6 | W9: 0 | X9: 0 | Y9: 75 | Z9: 1 | AB9: その他・和歌山県 | AC9: 498 | AD9: 0 | AE9: 0 | AF9: 0 | AG9: 2 | AH9: 23 | AI9: 43 | AJ9: 1 | AK9: 2 | AL9: 0 | AM9: 11
B10: 小樽市 | C10: 162 | D10: 0 | E10: 0 | F10: 0 | G10: 0 | H10: 0 | I10: 0 | J10: 0 | K10: 0 | L10: 0 | M10: 0 | O10: 富山県計 | P10: =SUM(P11:P12) -> 1907 | Q10: =SUM(Q11:Q12) -> 1 | R10: =SUM(R11:R12) -> 3 | S10: =SUM(S11:S12) -> 0 | T10: =SUM(T11:T12) -> 174 | U10: =SUM(U11:U12) -> 163 | V10: =SUM(V11:V12) -> 13 | W10: =SUM(W11:W12) -> 0 | ... Z10: =SUM(Z11:Z12) -> 18 | AB10: 鳥取県計 | AC10: =SUM(AC11:AC12) -> 672 | AD10: =SUM(AD11:AD12) -> 2 | AE10: =SUM(AE11:AE12) -> 0 | AF10: =SUM(AF11:AF12) -> 0 | AG10: =SUM(AG11:AG12) -> 10 | AH10: =SUM(AH11:AH12) -> 7 | AI10: =SUM(AI11:AI12) -> 0 | AJ10: =SUM(AJ11:AJ12) -> 0 | ... AM10: =SUM(AM11:AM12) -> 0
B11: 旭川市 | C11: 543 | D11: 0 | E11: 0 | F11: 0 | G11: 0 | H11: 0 | I11: 0 | J11: 0 | K11: 0 | L11: 2 | M11: 0 | O11: 富山市 | P11: 788 | Q11: 1 | R11: 1 | S11: 0 | T11: 4 | U11: 46 | V11: 13 | W11: 0 | X11: 1 | Y11: 59 | Z11: 8 | AB11: 鳥取市 | AC11: 169 | AD11: 0 | AE11: 0 | AF11: 0 | AG11: 0 | AH11: 0 | AI11: 0 | AJ11: 0 | AK11: 0 | AL11: 0 | AM11: 0
B12: 室蘭市 | C12: 118 | D12: 0 | E12: 0 | F12: 0 | G12: 0 | H12: 0 | I12: 0 | J12: 0 | K12: 0 | L12: 0 | M12: 0 | O12: その他・富山県 | P12: 1119 | Q12: 0 | R12: 2 | S12: 0 | T12: 170 | U12: 117 | V12: 0 | W12: 0 | X12: 0 | Y12: 7 | Z12: 10 | AB12: その他・鳥取県 | AC12: 503 | AD12: 2 | AE12: 0 | AF12: 0 | AG12: 10 | AH12: 7 | AI12: 0 | AJ12: 0 | AK12: 0 | AL12: 3 | AM12: 0
B13: 苫小牧市 | C13: 239 | D13: 0 | E13: 0 | F13: 0 | G13: 0 | H13: 0 | I13: 0 | J13: 0 | K13: 0 | L13: 0 | M13: 0 | O13: 石川県計 | P13: =SUM(P14:P15) -> 1727 | Q13: =SUM(Q14:Q15) -> 1 | R13: =SUM(R14:R15) -> 0 | S13: =SUM(S14:S15) -> 0 | T13: =SUM(T14:T15) -> 32 | U13: =SUM(U14:U15) -> 48 | V13: =SUM(V14:V15) -> 0 | W13: =SUM(W14:W15) -> 0 | ... Z13: =SUM(Z14:Z15) -> 1 | AB13: 島根県計 | AC13: =SUM(AC14:AC15) -> 579 | AD13: =SUM(AD14:AD15) -> 0 | AE13: =SUM(AE14:AE15) -> 0 | AF13: =SUM(AF14:AF15) -> 0 | AG13: =SUM(AG14:AG15) -> 74 | AH13: =SUM(AH14:AH15) -> 199 | AI13: =SUM(AI14:AI15) -> 0 | AJ13: =SUM(AJ14:AJ15) -> 0 | ... AM13: =SUM(AM14:AM15) -> 4
B14: その他・北海道 | C14: 7952 | D14: 3 | E14: 4 | F14: 3 | G14: 32 | H14: 140 | I14: 15 | J14: 1 | K14: 3 | L14: 41 | M14: 1 | O14: 金沢市 | P14: 763 | Q14: 0 | R14: 0 | S14: 0 | T14: 0 | U14: 4 | V14: 0 | W14: 0 | X14: 0 | Y14: 0 | Z14: 1 | AB14: 松江市 | AC14: 175 | AD14: 0 | AE14: 0 | AF14: 0 | AG14: 4 | AH14: 0 | AI14: 0 | AJ14: 0 | AK14: 0 | AL14: 5 | AM14: 0
B15: 青森県計 | C15: =SUM(C16:C18) -> 2426 | D15: =SUM(D16:D18) -> 0 | E15: =SUM(E16:E18) -> 4 | F15: =SUM(F16:F18) -> 0 | G15: =SUM(G16:G18) -> 33 | H15: =SUM(H16:H18) -> 6 | I15: =SUM(I16:I18) -> 0 | J15: =SUM(J16:J18) -> 0 | ... M15: =SUM(M16:M18) -> 2 | O15: その他・石川県 | P15: 964 | Q15: 1 | R15: 0 | S15: 0 | T15: 32 | U15: 44 | V15: 0 | W15: 0 | X15: 0 | Y15: 17 | Z15: 0 | AB15: その他・島根県 | AC15: 404 | AD15: 0 | AE15: 0 | AF15: 0 | AG15: 70 | AH15: 199 | AI15: 0 | AJ15: 0 | AK15: 0 | AL15: 38 | AM15: 4
B16: 青森市 | C16: 599 | D16: 0 | E16: 0 | F16: 0 | G16: 1 | H16: 0 | I16: 0 | J16: 0 | K16: 0 | L16: 1 | M16: 0 | O16: 福井県計 | P16: =SUM(P17:P18) -> 1108 | Q16: =SUM(Q17:Q18) -> 0 | R16: =SUM(R17:R18) -> 0 | S16: =SUM(S17:S18) -> 0 | T16: =SUM(T17:T18) -> 34 | U16: =SUM(U17:U18) -> 30 | V16: =SUM(V17:V18) -> 0 | W16: =SUM(W17:W18) -> 0 | ... Z16: =SUM(Z17:Z18) -> 1 | AB16: 岡山県計 | AC16: =SUM(AC17:AC19) -> 1635 | AD16: =SUM(AD17:AD19) -> 3 | AE16: =SUM(AE17:AE19) -> 20 | AF16: =SUM(AF17:AF19) -> 10 | AG16: =SUM(AG17:AG19) -> 97 | AH16: =SUM(AH17:AH19) -> 185 | AI16: =SUM(AI17:AI19) -> 184 | AJ16: =SUM(AJ17:AJ19) -> 1 | ... AM16: =SUM(AM17:AM19) -> 36
B17: 八戸市 | C17: 388 | D17: 0 | E17: 3 | F17: 0 | G17: 31 | H17: 6 | I17: 0 | J17: 0 | K17: 0 | L17: 12 | M17: 2 | O17: 福井市 | P17: 361 | Q17: 0 | R17: 0 | S17: 0 | T17: 13 | U17: 0 | V17: 0 | W17: 0 | X17: 0 | Y17: 0 | Z17: 0 | AB17: 岡山市 | AC17: 471 | AD17: 0 | AE17: 9 | AF17: 0 | AG17: 22 | AH17: 21 | AI17: 0 | AJ17: 0 | AK17: 0 | AL17: 5 | AM17: 0
B18: その他・青森県 | C18: 1439 | D18: 0 | E18: 1 | F18: 0 | G18: 1 | H18: 0 | I18: 0 | J18: 0 | K18: 0 | L18: 4 | M18: 0 | O18: その他・福井県 | P18: 747 | Q18: 0 | R18: 0 | S18: 0 | T18: 21 | U18: 30 | V18: 0 | W18: 0 | X18: 0 | Y18: 19 | Z18: 1 | AB18: 倉敷市 | AC18: 345 | AD18: 3 | AE18: 10 | AF18: 10 | AG18: 35 | AH18: 106 | AI18: 167 | AJ18: 1 | AK18: 5 | AL18: 5 | AM18: 12
B19: 岩手県計 | C19: =SUM(C20:C21) -> 2643 | D19: =SUM(D20:D21) -> 0 | E19: =SUM(E20:E21) -> 1 | F19: =SUM(F20:F21) -> 0 | G19: =SUM(G20:G21) -> 32 | H19: =SUM(H20:H21) -> 22 | I19: =SUM(I20:I21) -> 3 | J19: =SUM(J20:J21) -> 0 | ... M19: =SUM(M20:M21) -> 2 | O19: 山梨県計 | P19: =SUM(P20:P21) -> 1389 | Q19: =SUM(Q20:Q21) -> 0 | R19: =SUM(R20:R21) -> 0 | S19: =SUM(S20:S21) -> 0 | T19: =SUM(T20:T21) -> 29 | U19: =SUM(U20:U21) -> 4 | V19: =SUM(V20:V21) -> 2 | W19: =SUM(W20:W21) -> 0 | ... Z19: =SUM(Z20:Z21) -> 11 | AB19: その他・岡山県 | AC19: 819 | AD19: 0 | AE19: 1 | AF19: 0 | AG19: 40 | AH19: 58 | AI19: 17 | AJ19: 0 | AK19: 0 | AL19: 38 | AM19: 24
B20: 盛岡市 | C20: 415 | D20: 0 | E20: 0 | F20: 0 | G20: 0 | H20: 0 | I20: 0 | J20: 0 | K20: 0 | L20: 0 | M20: 0 | O20: 甲府市 | P20: 157 | Q20: 0 | R20: 0 | S20: 0 | T20: 1 | U20: 0 | V20: 0 | W20: 0 | X20: 0 | Y20: 0 | Z20: 1 | AB20: 広島県計 | AC20: =SUM(AC21:AC24) -> 1912 | AD20: =SUM(AD21:AD24) -> 3 | AE20: =SUM(AE21:AE24) -> 6 | AF20: =SUM(AF21:AF24) -> 15 | AG20: =SUM(AG21:AG24) -> 151 | AH20: =SUM(AH21:AH24) -> 174 | AI20: =SUM(AI21:AI24) -> 14 | AJ20: =SUM(AJ21:AJ24) -> 0 | ... AM20: =SUM(AM21:AM24) -> 8
B21: その他・岩手県 | C21: 2228 | D21: 0 | E21: 1 | F21: 0 | G21: 32 | H21: 22 | I21: 3 | J21: 0 | K21: 0 | L21: 17 | M21: 2 | O21: その他・山梨県 | P21: 1232 | Q21: 0 | R21: 0 | S21: 0 | T21: 28 | U21: 4 | V21: 2 | W21: 0 | X21: 0 | Y21: 15 | Z21: 10 | AB21: 広島市 | AC21: 432 | AD21: 0 | AE21: 0 | AF21: 0 | AG21: 45 | AH21: 50 | AI21: 0 | AJ21: 0 | AK21: 0 | AL21: 0 | AM21: 0
B22: 宮城県計 | C22: =SUM(C23:C24) -> 2530 | D22: =SUM(D23:D24) -> 3 | E22: =SUM(E23:E24) -> 0 | F22: =SUM(F23:F24) -> 0 | G22: =SUM(G23:G24) -> 25 | H22: =SUM(H23:H24) -> 34 | I22: =SUM(I23:I24) -> 24 | J22: =SUM(J23:J24) -> 1 | ... M22: =SUM(M23:M24) -> 11 | O22: 長野県計 | P22: =SUM(P23:P25) -> 3633 | Q22: =SUM(Q23:Q25) -> 0 | R22: =SUM(R23:R25) -> 0 | S22: =SUM(S23:S25) -> 0 | T22: =SUM(T23:T25) -> 101 | U22: =SUM(U23:U25) -> 41 | V22: =SUM(V23:V25) -> 0 | W22: =SUM(W23:W25) -> 0 | ... Z22: =SUM(Z23:Z25) -> 6 | AB22: 呉市 | AC22: 155 | AD22: 0 | AE22: 1 | AF22: 0 | AG22: 24 | AH22: 27 | AI22: 0 | AJ22: 0 | AK22: 0 | AL22: 19 | AM22: 0
B23: 仙台市 | C23: 800 | D23: 3 | E23: 0 | F23: 0 | G23: 1 | H23: 4 | I23: 16 | J23: 1 | K23: 1 | L23: 0 | M23: 0 | O23: 長野市 | P23: 386 | Q23: 0 | R23: 0 | S23: 0 | T23: 14 | U23: 4 | V23: 0 | W23: 0 | X23: 0 | Y23: 0 | Z23: 0 | AB23: 福山市 | AC23: 295 | AD23: 2 | AE23: 5 | AF23: 15 | AG23: 5 | AH23: 62 | AI23: 3 | AJ23: 0 | AK23: 0 | AL23: 13 | AM23: 0
B24: その他・宮城県 | C24: 1730 | D24: 0 | E24: 0 | F24: 0 | G24: 24 | H24: 30 | I24: 8 | J24: 0 | K24: 0 | L24: 50 | M24: 11 | O24: 松本市 | P24: 314 | Q24: 0 | R24: 0 | S24: 0 | T24: 14 | U24: 0 | V24: 0 | W24: 0 | X24: 0 | Y24: 4 | Z24: 0 | AB24: その他・広島県 | AC24: 1030 | AD24: 1 | AE24: 0 | AF24: 0 | AG24: 77 | AH24: 35 | AI24: 11 | AJ24: 0 | AK24: 0 | AL24: 9 | AM24: 8
B25: 秋田県計 | C25: =SUM(C26:C27) -> 1711 | D25: =SUM(D26:D27) -> 0 | E25: =SUM(E26:E27) -> 0 | F25: =SUM(F26:F27) -> 0 | G25: =SUM(G26:G27) -> 47 | H25: =SUM(H26:H27) -> 31 | I25: =SUM(I26:I27) -> 0 | J25: =SUM(J26:J27) -> 0 | ... M25: =SUM(M26:M27) -> 3 | O25: その他・長野県 | P25: 2933 | Q25: 0 | R25: 0 | S25: 0 | T25: 73 | U25: 37 | V25: 0 | W25: 0 | X25: 0 | Y25: 53 | Z25: 6 | AB25: 山口県計 | AC25: =SUM(AC26:AC27) -> 1585 | AD25: =SUM(AD26:AD27) -> 15 | AE25: =SUM(AE26:AE27) -> 10 | AF25: =SUM(AF26:AF27) -> 5 | AG25: =SUM(AG26:AG27) -> 53 | AH25: =SUM(AH26:AH27) -> 193 | AI25: =SUM(AI26:AI27) -> 119 | AJ25: =SUM(AJ26:AJ27) -> 3 | ... AM25: =SUM(AM26:AM27) -> 53
B26: 秋田市 | C26: 452 | D26: 0 | E26: 0 | F26: 0 | G26: 38 | H26: 6 | I26: 0 | J26: 0 | K26: 0 | L26: 25 | M26: 3 | O26: 岐阜県計 | P26: =SUM(P27:P28) -> 2221 | Q26: =SUM(Q27:Q28) -> 1 | R26: =SUM(R27:R28) -> 1 | S26: =SUM(S27:S28) -> 0 | T26: =SUM(T27:T28) -> 89 | U26: =SUM(U27:U28) -> 86 | V26: =SUM(V27:V28) -> 1 | W26: =SUM(W27:W28) -> 0 | ... Z26: =SUM(Z27:Z28) -> 44 | AB26: 下関市 | AC26: 277 | AD26: 5 | AE26: 0 | AF26: 0 | AG26: 25 | AH26: 52 | AI26: 0 | AJ26: 0 | AK26: 0 | AL26: 6 | AM26: 2
B27: その他・秋田県 | C27: 1259 | D27: 0 | E27: 0 | F27: 0 | G27: 9 | H27: 25 | I27: 0 | J27: 0 | K27: 0 | L27: 12 | M27: 0 | O27: 岐阜市 | P27: 240 | Q27: 0 | R27: 0 | S27: 0 | T27: 10 | U27: 3 | V27: 0 | W27: 0 | X27: 0 | Y27: 1 | Z27: 0 | AB27: その他・山口県 | AC27: 1308 | AD27: 10 | AE27: 10 | AF27: 5 | AG27: 28 | AH27: 141 | AI27: 119 | AJ27: 3 | AK27: 9 | AL27: 73 | AM27: 51
B28: 山形県計 | C28: =SUM(C29:C30) -> 1777 | D28: =SUM(D29:D30) -> 0 | E28: =SUM(E29:E30) -> 0 | F28: =SUM(F29:F30) -> 0 | G28: =SUM(G29:G30) -> 52 | H28: =SUM(H29:H30) -> 7 | I28: =SUM(I29:I30) -> 3 | J28: =SUM(J29:J30) -> 0 | ... M28: =SUM(M29:M30) -> 1 | O28: その他・岐阜県 | P28: 1981 | Q28: 1 | R28: 1 | S28: 0 | T28: 79 | U28: 83 | V28: 1 | W28: 0 | X28: 0 | Y28: 255 | Z28: 44 | AB28: 徳島県計 | AC28: =SUM(AC29:AC29) -> 800 | AD28: =SUM(AD29:AD29) -> 2 | AE28: =SUM(AE29:AE29) -> 2 | AF28: =SUM(AF29:AF29) -> 0 | AG28: =SUM(AG29:AG29) -> 6 | AH28: =SUM(AH29:AH29) -> 4 | AI28: =SUM(AI29:AI29) -> 0 | AJ28: =SUM(AJ29:AJ29) -> 0 | ... AM28: =SUM(AM29:AM29) -> 97
B29: 山形市 | C29: 359 | D29: 0 | E29: 0 | F29: 0 | G29: 9 | H29: 0 | I29: 0 | J29: 0 | K29: 0 | L29: 0 | M29: 0 | O29: 静岡県計 | P29: =SUM(P30:P32) -> 4258 | Q29: =SUM(Q30:Q32) -> 1 | R29: =SUM(R30:R32) -> 11 | S29: =SUM(S30:S32) -> 0 | T29: =SUM(T30:T32) -> 177 | U29: =SUM(U30:U32) -> 204 | V29: =SUM(V30:V32) -> 0 | W29: =SUM(W30:W32) -> 0 | ... Z29: =SUM(Z30:Z32) -> 11 | AB29: 徳島県 | AC29: 800 | AD29: 2 | AE29: 2 | AF29: 0 | AG29: 6 | AH29: 4 | AI29: 0 | AJ29: 0 | AK29: 0 | AL29: 8 | AM29: 97
B30: その他・山形県 | C30: 1418 | D30: 0 | E30: 0 | F30: 0 | G30: 43 | H30: 7 | I30: 3 | J30: 0 | K30: 0 | L30: 37 | M30: 1 | O30: 静岡市 | P30: 413 | Q30: 1 | R30: 8 | S30: 0 | T30: 26 | U30: 20 | V30: 0 | W30: 0 | X30: 0 | Y30: 15 | Z30: 0 | AB30: 香川県計 | AC30: =SUM(AC31:AC32) -> 915 | AD30: =SUM(AD31:AD32) -> 0 | AE30: =SUM(AE31:AE32) -> 4 | AF30: =SUM(AF31:AF32) -> 0 | AG30: =SUM(AG31:AG32) -> 15 | AH30: =SUM(AH31:AH32) -> 8 | AI30: =SUM(AI31:AI32) -> 11 | AJ30: =SUM(AJ31:AJ32) -> 0 | ... AM30: =SUM(AM31:AM32) -> 35
B31: 福島県計 | C31: =SUM(C32:C35) -> 2798 | D31: =SUM(D32:D35) -> 3 | E31: =SUM(E32:E35) -> 4 | F31: =SUM(F32:F35) -> 0 | G31: =SUM(G32:G35) -> 127 | H31: =SUM(H32:H35) -> 128 | I31: =SUM(I32:I35) -> 0 | J31: =SUM(J32:J35) -> 0 | ... M31: =SUM(M32:M35) -> 14 | O31: 浜松市 | P31: 460 | Q31: 0 | R31: 0 | S31: 0 | T31: 17 | U31: 50 | V31: 0 | W31: 0 | X31: 0 | Y31: 2 | Z31: 0 | AB31: 高松市 | AC31: 218 | AD31: 0 | AE31: 0 | AF31: 0 | AG31: 1 | AH31: 1 | AI31: 0 | AJ31: 0 | AK31: 0 | AL31: 1 | AM31: 0
B32: 福島市 | C32: 412 | D32: 0 | E32: 0 | F32: 0 | G32: 8 | H32: 6 | I32: 0 | J32: 0 | K32: 0 | L32: 7 | M32: 0 | O32: その他・静岡県 | P32: 3385 | Q32: 0 | R32: 3 | S32: 0 | T32: 134 | U32: 134 | V32: 0 | W32: 0 | X32: 0 | Y32: 9 | Z32: 11 | AB32: その他・香川県 | AC32: 697 | AD32: 0 | AE32: 4 | AF32: 0 | AG32: 14 | AH32: 7 | AI32: 11 | AJ32: 0 | AK32: 0 | AL32: 108 | AM32: 35
B33: 郡山市 | C33: 385 | D33: 0 | E33: 0 | F33: 0 | G33: 1 | H33: 0 | I33: 0 | J33: 0 | K33: 0 | L33: 39 | M33: 10 | O33: 愛知県計 | P33: =SUM(P34:P39) -> 5756 | Q33: =SUM(Q34:Q39) -> 13 | R33: =SUM(R34:R39) -> 13 | S33: =SUM(S34:S39) -> 13 | T33: =SUM(T34:T39) -> 527 | U33: =SUM(U34:U39) -> 1271 | V33: =SUM(V34:V39) -> 38 | W33: =SUM(W34:W39) -> 1 | ... Z33: =SUM(Z34:Z39) -> 57 | AB33: 愛媛県計 | AC33: =SUM(AC34:AC35) -> 1361 | AD33: =SUM(AD34:AD35) -> 0 | AE33: =SUM(AE34:AE35) -> 6 | AF33: =SUM(AF34:AF35) -> 0 | AG33: =SUM(AG34:AG35) -> 25 | AH33: =SUM(AH34:AH35) -> 44 | AI33: =SUM(AI34:AI35) -> 31 | AJ33: =SUM(AJ34:AJ35) -> 1 | ... AM33: =SUM(AM34:AM35) -> 2
B34: いわき市 | C34: 519 | D34: 0 | E34: 3 | F34: 0 | G34: 9 | H34: 6 | I34: 0 | J34: 0 | K34: 0 | L34: 23 | M34: 4 | O34: 名古屋市 | P34: 855 | Q34: 0 | R34: 2 | S34: 1 | T34: 68 | U34: 175 | V34: 0 | W34: 0 | X34: 0 | Y34: 28 | Z34: 4 | AB34: 松山市 | AC34: 322 | AD34: 0 | AE34: 0 | AF34: 0 | AG34: 2 | AH34: 2 | AI34: 8 | AJ34: 0 | AK34: 0 | AL34: 0 | AM34: 0
B35: その他・福島県 | C35: 1482 | D35: 3 | E35: 1 | F35: 0 | G35: 109 | H35: 116 | I35: 0 | J35: 0 | K35: 1 | L35: 38 | M35: 0 | O35: 豊橋市 | P35: 448 | Q35: 0 | R35: 0 | S35: 0 | T35: 17 | U35: 26 | V35: 0 | W35: 0 | X35: 0 | Y35: 1 | Z35: 3 | AB35: その他・愛媛県 | AC35: 1039 | AD35: 0 | AE35: 6 | AF35: 0 | AG35: 23 | AH35: 42 | AI35: 23 | AJ35: 1 | AK35: 1 | AL35: 8 | AM35: 2
B36: 茨城県計 | C36: =SUM(C37:C38) -> 3202 | D36: =SUM(D37:D38) -> 2 | E36: =SUM(E37:E38) -> 11 | F36: =SUM(F37:F38) -> 4 | G36: =SUM(G37:G38) -> 92 | H36: =SUM(H37:H38) -> 195 | I36: =SUM(I37:I38) -> 68 | J36: =SUM(J37:J38) -> 1 | ... M36: =SUM(M37:M38) -> 5 | O36: 岡崎市 | P36: 183 | Q36: 1 | R36: 0 | S36: 0 | T36: 9 | U36: 19 | V36: 0 | W36: 0 | X36: 0 | Y36: 7 | Z36: 0 | AB36: 高知県計 | AC36: =SUM(AC37:AC38) -> 616 | AD36: =SUM(AD37:AD38) -> 0 | AE36: =SUM(AE37:AE38) -> 0 | AF36: =SUM(AF37:AF38) -> 0 | AG36: =SUM(AG37:AG38) -> 14 | AH36: =SUM(AH37:AH38) -> 2 | AI36: =SUM(AI37:AI38) -> 0 | AJ36: =SUM(AJ37:AJ38) -> 0 | ... AM36: =SUM(AM37:AM38) -> 2
B37: 水戸市 | C37: 118 | D37: 0 | E37: 0 | F37: 0 | G37: 0 | H37: 1 | I37: 0 | J37: 0 | K37: 0 | L37: 6 | M37: 0 | O37: 一宮市 | P37: 217 | Q37: 0 | R37: 0 | S37: 0 | T37: 2 | U37: 0 | V37: 0 | W37: 0 | X37: 0 | Y37: 0 | Z37: 0 | AB37: 高知市 | AC37: 192 | AD37: 0 | AE37: 0 | AF37: 0 | AG37: 10 | AH37: 2 | AI37: 0 | AJ37: 0 | AK37: 0 | AL37: 6 | AM37: 0
B38: その他・茨城県 | C38: 3084 | D38: 2 | E38: 11 | F38: 4 | G38: 92 | H38: 194 | I38: 68 | J38: 1 | K38: 1 | L38: 42 | M38: 5 | O38: 豊田市 | P38: 492 | Q38: 1 | R38: 0 | S38: 0 | T38: 57 | U38: 161 | V38: 0 | W38: 0 | X38: 0 | Y38: 0 | Z38: 1 | AB38: その他・高知県 | AC38: 424 | AD38: 0 | AE38: 0 | AF38: 0 | AG38: 4 | AH38: 0 | AI38: 0 | AJ38: 0 | AK38: 0 | AL38: 6 | AM38: 2
B39: 栃木県計 | C39: =SUM(C40:C41) -> 3129 | D39: =SUM(D40:D41) -> 19 | E39: =SUM(E40:E41) -> 1 | F39: =SUM(F40:F41) -> 1 | G39: =SUM(G40:G41) -> 132 | H39: =SUM(H40:H41) -> 144 | I39: =SUM(I40:I41) -> 1 | J39: =SUM(J40:J41) -> 0 | ... M39: =SUM(M40:M41) -> 20 | O39: その他・愛知県 | P39: 3561 | Q39: 11 | R39: 11 | S39: 12 | T39: 374 | U39: 890 | V39: 38 | W39: 1 | X39: 5 | Y39: 316 | Z39: 49 | AB39: 福岡県計 | AC39: =SUM(AC40:AC44) -> 2917 | AD39: =SUM(AD40:AD44) -> 8 | AE39: =SUM(AE40:AE44) -> 13 | AF39: =SUM(AF40:AF44) -> 12 | AG39: =SUM(AG40:AG44) -> 138 | AH39: =SUM(AH40:AH44) -> 266 | AI39: =SUM(AI40:AI44) -> 11 | AJ39: =SUM(AJ40:AJ44) -> 0 | ... AM39: =SUM(AM40:AM44) -> 59
B40: 宇都宮市 | C40: 626 | D40: 1 | E40: 0 | F40: 0 | G40: 4 | H40: 17 | I40: 1 | J40: 0 | K40: 0 | L40: 0 | M40: 2 | O40: 三重県計 | P40: =SUM(P41:P42) -> 1970 | Q40: =SUM(Q41:Q42) -> 9 | R40: =SUM(R41:R42) -> 15 | S40: =SUM(S41:S42) -> 0 | T40: =SUM(T41:T42) -> 131 | U40: =SUM(U41:U42) -> 147 | V40: =SUM(V41:V42) -> 135 | W40: =SUM(W41:W42) -> 2 | ... Z40: =SUM(Z41:Z42) -> 40 | AB40: 北九州市 | AC40: 631 | AD40: 3 | AE40: 10 | AF40: 11 | AG40: 58 | AH40: 200 | AI40: 11 | AJ40: 0 | AK40: 0 | AL40: 36 | AM40: 44
B41: その他・栃木県 | C41: 2503 | D41: 18 | E41: 1 | F41: 1 | G41: 128 | H41: 127 | I41: 0 | J41: 0 | K41: 0 | L41: 30 | M41: 18 | O41: 四日市市 | P41: 112 | Q41: 0 | R41: 0 | S41: 0 | T41: 0 | U41: 0 | V41: 0 | W41: 0 | X41: 0 | Y41: 0 | Z41: 0 | AB41: 福岡市 | AC41: 475 | AD41: 3 | AE41: 0 | AF41: 0 | AG41: 0 | AH41: 0 | AI41: 0 | AJ41: 0 | AK41: 0 | AL41: 0 | AM41: 0
B42: 群馬県計 | C42: =SUM(C43:C45) -> 2527 | D42: =SUM(D43:D45) -> 4 | E42: =SUM(E43:E45) -> 1 | F42: =SUM(F43:F45) -> 1 | G42: =SUM(G43:G45) -> 85 | H42: =SUM(H43:H45) -> 132 | I42: =SUM(I43:I45) -> 1 | J42: =SUM(J43:J45) -> 0 | ... M42: =SUM(M43:M45) -> 0 | O42: その他・三重県 | P42: 1858 | Q42: 9 | R42: 15 | S42: 0 | T42: 131 | U42: 147 | V42: 135 | W42: 2 | X42: 5 | Y42: 78 | Z42: 40 | AB42: 大牟田市 | AC42: 24 | AD42: 0 | AE42: 0 | AF42: 0 | AG42: 0 | AH42: 0 | AI42: 0 | AJ42: 0 | AK42: 0 | AL42: 0 | AM42: 0
...
