Workbook
Name テスト: #REF!
Name 自治体名称: #REF!

Sheet 表2.1
B2: 表2.1 届出件数 年度別・施設種類別－全国（揮発性有機化合物 (VOC) 排出施設）
B4: 施行令 別表第 一の二 の 項番号 | C4: 施 設 の 名 称 | D4: 平成30年度 | I4: 令和元年度 | N4: 令和２年度 | S4: 令和３年度 | X4: 令和４年度
D5: 全施設 （注1) | I5: 全施設 （注1) | N5: 全施設 （注1) | S5: 全施設 （注1) | X5: 全施設 （注1)
E6: 大気 | F6: 電気 | G6: ガス | H6: 鉱山 | J6: 大気 | K6: 電気 | L6: ガス | M6: 鉱山 | O6: 大気 | P6: 電気 | Q6: ガス | R6: 鉱山 | T6: 大気 | U6: 電気 | V6: ガス | W6: 鉱山 | Y6: 大気 | Z6: 電気 | AA6: ガス | AB6: 鉱山
B7: 1 | C7: ＶＯＣを溶剤として使用する化学製品の製造の用に供する乾燥施設 | D7: =SUM(E7:H7) -> 235 | E7: 235 | F7: 0 | G7: 0 | H7: 0 | I7: =SUM(J7:M7) -> 236 | J7: 236 | K7: 0 | L7: 0 | M7: 0 | N7: =SUM(O7:R7) -> 237 | O7: 237 | P7: 0 | Q7: 0 | R7: 0 | S7: =SUM(T7:W7) -> 236 | T7: 236 | U7: 0 | V7: 0 | W7: 0 | X7: =SUM(Y7:AB7) -> 238 | Y7: ='表2.2'!J11 -> 238 | Z7: ='表2.2'!L11 -> 0 | AA7: ='表2.2'!M11 -> 0 | AB7: ='表2.2'!N11 -> 0
B8: 2 | C8: 塗装施設 | D8: =SUM(E8:H8) -> 726 | E8: 726 | F8: 0 | G8: 0 | H8: 0 | I8: =SUM(J8:M8) -> 745 | J8: 745 | K8: 0 | L8: 0 | M8: 0 | N8: =SUM(O8:R8) -> 725 | O8: 725 | P8: 0 | Q8: 0 | R8: 0 | S8: =SUM(T8:W8) -> 721 | T8: 721 | U8: 0 | V8: 0 | W8: 0 | X8: =SUM(Y8:AB8) -> 711 | Y8: ='表2.2'!J12 -> 711 | Z8: ='表2.2'!L12 -> 0 | AA8: ='表2.2'!M12 -> 0 | AB8: ='表2.2'!N12 -> 0
B9: 3 | C9: 塗装の用に供する乾燥施設 | D9: =SUM(E9:H9) -> 441 | E9: 441 | F9: 0 | G9: 0 | H9: 0 | I9: =SUM(J9:M9) -> 453 | J9: 453 | K9: 0 | L9: 0 | M9: 0 | N9: =SUM(O9:R9) -> 439 | O9: 439 | P9: 0 | Q9: 0 | R9: 0 | S9: =SUM(T9:W9) -> 434 | T9: 434 | U9: 0 | V9: 0 | W9: 0 | X9: =SUM(Y9:AB9) -> 431 | Y9: ='表2.2'!J13 -> 431 | Z9: ='表2.2'!L13 -> 0 | AA9: ='表2.2'!M13 -> 0 | AB9: ='表2.2'!N13 -> 0
B10: 4 | C10: 印刷回路用銅張積層板、粘着テープ若しくは粘着シート、はく離紙又は包装材料の製造に係る接着の用に供する乾燥施設 | D10: =SUM(E10:H10) -> 970 | E10: 970 | F10: 0 | G10: 0 | H10: 0 | I10: =SUM(J10:M10) -> 956 | J10: 956 | K10: 0 | L10: 0 | M10: 0 | N10: =SUM(O10:R10) -> 966 | O10: 966 | P10: 0 | Q10: 0 | R10: 0 | S10: =SUM(T10:W10) -> 956 | T10: 956 | U10: 0 | V10: 0 | W10: 0 | X10: =SUM(Y10:AB10) -> 950 | Y10: ='表2.2'!J14 -> 950 | Z10: ='表2.2'!L14 -> 0 | AA10: ='表2.2'!M14 -> 0 | AB10: ='表2.2'!N14 -> 0
B11: 5 | C11: 接着の用に供する乾燥施設 | D11: =SUM(E11:H11) -> 238 | E11: 238 | F11: 0 | G11: 0 | H11: 0 | I11: =SUM(J11:M11) -> 233 | J11: 233 | K11: 0 | L11: 0 | M11: 0 | N11: =SUM(O11:R11) -> 237 | O11: 237 | P11: 0 | Q11: 0 | R11: 0 | S11: =SUM(T11:W11) -> 234 | T11: 234 | U11: 0 | V11: 0 | W11: 0 | X11: =SUM(Y11:AB11) -> 236 | Y11: ='表2.2'!J15 -> 236 | Z11: ='表2.2'!L15 -> 0 | AA11: ='表2.2'!M15 -> 0 | AB11: ='表2.2'!N15 -> 0
B12: 6 | C12: 印刷の用に供する乾燥施設 （オフセット輪転印刷に係るものに限る。） | D12: =SUM(E12:H12) -> 116 | E12: 116 | F12: 0 | G12: 0 | H12: 0 | I12: =SUM(J12:M12) -> 109 | J12: 109 | K12: 0 | L12: 0 | M12: 0 | N12: =SUM(O12:R12) -> 95 | O12: 95 | P12: 0 | Q12: 0 | R12: 0 | S12: =SUM(T12:W12) -> 89 | T12: 89 | U12: 0 | V12: 0 | W12: 0 | X12: =SUM(Y12:AB12) -> 88 | Y12: ='表2.2'!J16 -> 88 | Z12: ='表2.2'!L16 -> 0 | AA12: ='表2.2'!M16 -> 0 | AB12: ='表2.2'!N16 -> 0
B13: 7 | C13: 印刷の用に供する乾燥施設 （グラビア印刷に係るものに限る。） | D13: =SUM(E13:H13) -> 346 | E13: 346 | F13: 0 | G13: 0 | H13: 0 | I13: =SUM(J13:M13) -> 363 | J13: 363 | K13: 0 | L13: 0 | M13: 0 | N13: =SUM(O13:R13) -> 331 | O13: 331 | P13: 0 | Q13: 0 | R13: 0 | S13: =SUM(T13:W13) -> 330 | T13: 330 | U13: 0 | V13: 0 | W13: 0 | X13: =SUM(Y13:AB13) -> 327 | Y13: ='表2.2'!J17 -> 327 | Z13: ='表2.2'!L17 -> 0 | AA13: ='表2.2'!M17 -> 0 | AB13: ='表2.2'!N17 -> 0
B14: 8 | C14: 工業の用に供するＶＯＣによる洗浄施設 | D14: =SUM(E14:H14) -> 196 | E14: 196 | F14: 0 | G14: 0 | H14: 0 | I14: =SUM(J14:M14) -> 200 | J14: 200 | K14: 0 | L14: 0 | M14: 0 | N14: =SUM(O14:R14) -> 200 | O14: 200 | P14: 0 | Q14: 0 | R14: 0 | S14: =SUM(T14:W14) -> 196 | T14: 196 | U14: 0 | V14: 0 | W14: 0 | X14: =SUM(Y14:AB14) -> 192 | Y14: ='表2.2'!J18 -> 192 | Z14: ='表2.2'!L18 -> 0 | AA14: ='表2.2'!M18 -> 0 | AB14: ='表2.2'!N18 -> 0
B15: 9 | C15: ガソリン、原油、ナフサその他の温度37.8度において蒸気圧が 20キロパスカルを超えるＶＯＣの貯蔵タンク | D15: =SUM(E15:H15) -> 208 | E15: 206 | F15: 0 | G15: 0 | H15: 2 | I15: =SUM(J15:M15) -> 209 | J15: 207 | K15: 0 | L15: 0 | M15: 2 | N15: =SUM(O15:R15) -> 204 | O15: 202 | P15: 0 | Q15: 0 | R15: 2 | S15: =SUM(T15:W15) -> 197 | T15: 195 | U15: 0 | V15: 0 | W15: 2 | X15: =SUM(Y15:AB15) -> 196 | Y15: ='表2.2'!J19 -> 194 | Z15: ='表2.2'!L19 -> 0 | AA15: ='表2.2'!M19 -> 0 | AB15: ='表2.2'!N19 -> 2
B16: 施設合計 | D16: =SUM(D7:D15) -> 3476 | E16: =SUM(E7:E15) -> 3474 | F16: =SUM(F7:F15) -> 0 | G16: =SUM(G7:G15) -> 0 | H16: =SUM(H7:H15) -> 2 | I16: =SUM(I7:I15) -> 3504 | J16: =SUM(J7:J15) -> 3502 | K16: =SUM(K7:K15) -> 0 | ... AB16: =SUM(AB7:AB15) -> 2
B17: 届出工場・事業場合計（注2） | D17: 1077 | E17: 1076 | F17: 0 | G17: 0 | H17: 1 | I17: 1080 | J17: 1079 | K17: 0 | L17: 0 | M17: 1 | N17: 1082 | O17: 1081 | P17: 0 | Q17: 0 | R17: 1 | S17: 1070 | T17: 1069 | U17: 0 | V17: 0 | W17: 1 | X17: ='表2.2'!O21 -> 1063 | Y17: ='表2.2'!J21 -> 1062 | Z17: ='表2.2'!L21 -> 0 | AA17: ='表2.2'!M21 -> 0 | AB17: ='表2.2'!N21 -> 1
B18: （注1） 「大気」：大気汚染防止法届出VOC排出施設、「電気」：電気事業法に係るVOC排出施設、「ガス」：ガス事業法に係るVOC排出施設、「鉱山」：鉱山保安法に係るVOC排出施設を示す。
B19: （注2）「届出工場・事業場合計」の「全施設数」は、「大気」、「電気」、「ガス」、「鉱山」で重複する工場・事業場を除いた実数である。

Sheet 表2.2
B2: 表2.2 届出件数 届出種類別・施設種類別－全国（揮発性有機化合物 (VOC) 排出施設）
B4: 施行令 別表第 一の二 の 項番号 | C4: 施設種類 | D4: 前年度末 現在の 届出施設数 | E4: 大気汚染防止法に係る年度中の届出数 | I4: 届出以外の 理由による 年度中の 増減 | J4: 年度末 現在の 届出施設数 | K4: 年度中の変更 届出施設数 (法第17条の 7第１項) | L4: 年度末現在の電気事業法・ ガス事業法・鉱山保安法に係る ＶＯＣ排出施設数 | O4: 合計
E6: 設置届出 (法第17条 の5第１項) | F6: 使用届出 (法第17条 の6第１項) | G6: 使用廃止届出 (法第17条 の13第2項) | H6: 年度中の 増減
L8: 電気 | M8: ガス | N8: 鉱山
H9: (E)= | J9: (F)= (A)+(E)+(E)' | O9: (K)=(F)+
D10: (A) | E10: (B) | F10: (C) | G10: (D) | H10: (B)+(C)-(D) | I10: (E)' | K10: (G) | L10: (H) | M10: (I) | N10: (J) | O10: (H)+(I)+(J)
B11: 1 | C11: ＶＯＣを溶剤として使用する化学製品の製造の用に 供する乾燥施設 | D11: 236 | E11: 6 | F11: 0 | G11: 4 | H11: =E11+F11-G11 -> 2 | I11: 0 | J11: =D11+H11+I11 -> 238 | K11: 5 | L11: 0 | M11: 0 | N11: 0 | O11: =J11+L11+M11+N11 -> 238
B12: 2 | C12: 塗装施設 | D12: 721 | E12: 5 | F12: 0 | G12: 12 | H12: =E12+F12-G12 -> -7 | I12: -3 | J12: =D12+H12+I12 -> 711 | K12: 29 | L12: 0 | M12: 0 | N12: 0 | O12: =J12+L12+M12+N12 -> 711
B13: 3 | C13: 塗装の用に供する乾燥施設 | D13: 434 | E13: 6 | F13: 0 | G13: 9 | H13: =E13+F13-G13 -> -3 | I13: 0 | J13: =D13+H13+I13 -> 431 | K13: 12 | L13: 0 | M13: 0 | N13: 0 | O13: =J13+L13+M13+N13 -> 431
B14: 4 | C14: 印刷回路用銅張積層板、粘着テープ若しくは粘着 シート、はく離紙又は包装材料の製造に係る接着の 用に供する乾燥施設 | D14: 956 | E14: 12 | F14: 0 | G14: 17 | H14: =E14+F14-G14 -> -5 | I14: -1 | J14: =D14+H14+I14 -> 950 | K14: 15 | L14: 0 | M14: 0 | N14: 0 | O14: =J14+L14+M14+N14 -> 950
B15: 5 | C15: 接着の用に供する乾燥施設 | D15: 234 | E15: 0 | F15: 0 | G15: 1 | H15: =E15+F15-G15 -> -1 | I15: 3 | J15: =D15+H15+I15 -> 236 | K15: 3 | L15: 0 | M15: 0 | N15: 0 | O15: =J15+L15+M15+N15 -> 236
B16: 6 | C16: 印刷の用に供する乾燥施設 （オフセット輪転印刷に係るものに限る。） | D16: 89 | E16: 0 | F16: 0 | G16: 1 | H16: =E16+F16-G16 -> -1 | I16: 0 | J16: =D16+H16+I16 -> 88 | K16: 0 | L16: 0 | M16: 0 | N16: 0 | O16: =J16+L16+M16+N16 -> 88
B17: 7 | C17: 印刷の用に供する乾燥施設 （グラビア印刷に係るものに限る。） | D17: 330 | E17: 4 | F17: 0 | G17: 6 | H17: =E17+F17-G17 -> -2 | I17: -1 | J17: =D17+H17+I17 -> 327 | K17: 11 | L17: 0 | M17: 0 | N17: 0 | O17: =J17+L17+M17+N17 -> 327
B18: 8 | C18: 工業の用に供するＶＯＣによる洗浄施設 | D18: 196 | E18: 1 | F18: 0 | G18: 5 | H18: =E18+F18-G18 -> -4 | I18: 0 | J18: =D18+H18+I18 -> 192 | K18: 4 | L18: 0 | M18: 0 | N18: 0 | O18: =J18+L18+M18+N18 -> 192
B19: 9 | C19: ガソリン、原油、ナフサその他の温度37.8度において蒸気圧が20キロパスカルを超えるＶＯＣの貯蔵タンク | D19: 195 | E19: 1 | F19: 0 | G19: 3 | H19: =E19+F19-G19 -> -2 | I19: 1 | J19: =D19+H19+I19 -> 194 | K19: 0 | L19: 0 | M19: 0 | N19: 2 | O19: =J19+L19+M19+N19 -> 196
B20: 施設合計 | D20: =SUM(D11:D19) -> 3391 | E20: =SUM(E11:E19) -> 35 | F20: =SUM(F11:F19) -> 0 | G20: =SUM(G11:G19) -> 58 | H20: =SUM(H11:H19) -> -23 | I20: =SUM(I11:I19) -> -1 | J20: =SUM(J11:J19) -> 3367 | K20: =SUM(K11:K19) -> 79 | ... O20: =SUM(O11:O19) -> 3369
B21: 届出工場・事業場合計（注1） | D21: 1069 | J21: 1062 | L21: 0 | M21: 0 | N21: 1 | O21: 1063
B22: （注1）「届出工場・事業場合計」の「合計(Ｋ)」は、「年度末現在の届出施設数(Ｆ)」、「電気(Ｈ)」、「ガス(Ｉ)」、「鉱山(Ｊ)」で重複する工場・事業場を除いた実数である。

Sheet 表2.3
B2: 表2.3(1) 届出件数 届出種類別・都道府県市別（揮発性有機化合物 (VOC) 排出施設） | P2: 表2.3(2) 届出件数 届出種類別・都道府県市別（揮発性有機化合物 (VOC) 排出施設） | AD2: 表2.3(3) 届出件数 届出種類別・都道府県市別（揮発性有機化合物 (VOC) 排出施設）
B4: 自治体名 | C4: 前年度末現在の届出施設数 | D4: 年度中の大気汚染防止法に係る届出数 | H4: 届出以外の理由による年度中の増減 | I4: 年度末現在の届出施設数 | J4: 年度中の変更届出施設数 (法第17条 の7第１項) | K4: 年度末現在の電気事業法･ ガス事業法・鉱山保安法 に係るＶＯＣ排出施設数 | N4: 合計 | P4: 自治体名 | Q4: 前年度末現在の届出施設数 | R4: 年度中の大気汚染防止法に係る届出数 | V4: 届出以外の理由による年度中の増減 | W4: 年度末現在の届出施設数 | X4: 年度中の変更届出施設数 (法第17条 の7第１項) | Y4: 年度末現在の電気事業法･ ガス事業法・鉱山保安法 に係るＶＯＣ排出施設数 | AB4: 合計 | AD4: 自治体名 | AE4: 前年度末現在の届出施設数 | AF4: 年度中の大気汚染防止法に係る届出数 | AJ4: 届出以外の理由による年度中の増減 | AK4: 年度末現在の届出施設数 | AL4: 年度中の変更届出施設数 (法第17条 の7第１項) | AM4: 年度末現在の電気事業法･ ガス事業法・鉱山保安法 に係るＶＯＣ排出施設数 | AP4: 合計
D6: 設置届出 (法第17条の5第1項) | E6: 使用届出 (法第17条の6第1項) | F6: 使用廃止届出 (法第17条 の13第2項) | G6: 年度中の増減 | R6: 設置届出 (法第17条の5第1項) | S6: 使用届出 (法第17条の6第1項) | T6: 使用廃止届出 (法第17条 の13第2項) | U6: 年度中の増減 | AF6: 設置届出 (法第17条の5第1項) | AG6: 使用届出 (法第17条の6第1項) | AH6: 使用廃止届出 (法第17条 の13第2項) | AI6: 年度中の増減
K8: 電気 | L8: ガス | M8: 鉱山 | N8: (K)= | Y8: 電気 | Z8: ガス | AA8: 鉱山 | AB8: (K)= | AM8: 電気 | AN8: ガス | AO8: 鉱山 | AP8: (K)=
G9: (E)= | I9: (F)= | N9: (F)+(H)+ | U9: (E)= | W9: (F)= | AB9: (F)+(H)+ | AI9: (E)= | AK9: (F)= | AP9: (F)+(H)+
C10: (A) | D10: (B) | E10: (C) | F10: (D) | G10: (B)+(C)-(D) | H10: (E') | I10: (E)+(E')+(A) | J10: (G) | K10: (H) | L10: (I) | M10: (J) | N10: (I)+(J) | Q10: (A) | R10: (B) | S10: (C) | T10: (D) | U10: (B)+(C)-(D) | V10: (E') | W10: (E)+(E')+(A) | X10: (G) | Y10: (H) | Z10: (I) | AA10: (J) | AB10: (I)+(J) | AE10: (A) | AF10: (B) | AG10: (C) | AH10: (D) | AI10: (B)+(C)-(D) | AJ10: (E') | AK10: (E)+(E')+(A) | AL10: (G) | AM10: (H) | AN10: (I) | AO10: (J) | AP10: (I)+(J)
B11: 北海道計 | C11: 26 | D11: =SUM(D12:D15) -> 0 | E11: =SUM(E12:E15) -> 0 | F11: =SUM(F12:F15) -> 0 | G11: =SUM(G12:G15) -> 0 | H11: =SUM(H12:H15) -> 0 | I11: =SUM(I12:I15) -> 26 | J11: =SUM(J12:J15) -> 0 | K11: =SUM(K12:K15) -> 0 | ... N11: =SUM(N12:N15) -> 28 | P11: 新潟県計 | Q11: =SUM(Q12:Q13) -> 38 | R11: =SUM(R12:R13) -> 0 | S11: =SUM(S12:S13) -> 0 | T11: =SUM(T12:T13) -> 1 | U11: =SUM(U12:U13) -> -1 | V11: =SUM(V12:V13) -> 0 | W11: =SUM(W12:W13) -> 37 | X11: =SUM(X12:X13) -> 0 | ... AB11: =SUM(AB12:AB13) -> 37 | AD11: 和歌山県計 | AE11: =SUM(AE12:AE13) -> 11 | AF11: =SUM(AF12:AF13) -> 0 | AG11: =SUM(AG12:AG13) -> 0 | AH11: =SUM(AH12:AH13) -> 0 | AI11: =SUM(AI12:AI13) -> 0 | AJ11: =SUM(AJ12:AJ13) -> 0 | AK11: =SUM(AK12:AK13) -> 11 | AL11: =SUM(AL12:AL13) -> 0 | ... AP11: =SUM(AP12:AP13) -> 11
B12: 札幌市 | C12: 8 | D12: 0 | E12: 0 | F12: 0 | G12: =D12+E12-F12 -> 0 | H12: 0 | I12: =C12+G12+H12 -> 8 | J12: 0 | K12: 0 | L12: 0 | M12: 0 | N12: =I12+SUM(K12:M12) -> 8 | P12: 新潟市 | Q12: 10 | R12: 0 | S12: 0 | T12: 0 | U12: =R12+S12-T12 -> 0 | V12: 0 | W12: =Q12+U12+V12 -> 10 | X12: 0 | Y12: 0 | Z12: 0 | AA12: 0 | AB12: =W12+SUM(Y12:AA12) -> 10 | AD12: 和歌山市 | AE12: 0 | AF12: 0 | AG12: 0 | AH12: 0 | AI12: =AF12+AG12-AH12 -> 0 | AJ12: 0 | AK12: =AE12+AI12+AJ12 -> 0 | AL12: 0 | AM12: 0 | AN12: 0 | AO12: 0 | AP12: =AK12+SUM(AM12:AO12) -> 0
B13: 函館市 | C13: 1 | D13: 0 | E13: 0 | F13: 0 | G13: =D13+E13-F13 -> 0 | H13: 0 | I13: =C13+G13+H13 -> 1 | J13: 0 | K13: 0 | L13: 0 | M13: 0 | N13: =I13+SUM(K13:M13) -> 1 | P13: その他・新潟県 | Q13: 28 | R13: 0 | S13: 0 | T13: 1 | U13: =R13+S13-T13 -> -1 | V13: 0 | W13: =Q13+U13+V13 -> 27 | X13: 0 | Y13: 0 | Z13: 0 | AA13: 0 | AB13: =W13+SUM(Y13:AA13) -> 27 | AD13: その他・和歌山県 | AE13: 11 | AF13: 0 | AG13: 0 | AH13: 0 | AI13: =AF13+AG13-AH13 -> 0 | AJ13: 0 | AK13: =AE13+AI13+AJ13 -> 11 | AL13: 0 | AM13: 0 | AN13: 0 | AO13: 0 | AP13: =AK13+SUM(AM13:AO13) -> 11
B14: 旭川市 | C14: 1 | D14: 0 | E14: 0 | F14: 0 | G14: =D14+E14-F14 -> 0 | H14: 0 | I14: =C14+G14+H14 -> 1 | J14: 0 | K14: 0 | L14: 0 | M14: 0 | N14: =I14+SUM(K14:M14) -> 1 | P14: 富山県計 | Q14: =SUM(Q15:Q16) -> 27 | R14: =SUM(R15:R16) -> 1 | S14: =SUM(S15:S16) -> 0 | T14: =SUM(T15:T16) -> 0 | U14: =SUM(U15:U16) -> 1 | V14: =SUM(V15:V16) -> 0 | W14: =SUM(W15:W16) -> 28 | X14: =SUM(X15:X16) -> 0 | ... AB14: =SUM(AB15:AB16) -> 28 | AD14: 鳥取県計 | AE14: =SUM(AE15:AE16) -> 8 | AF14: =SUM(AF15:AF16) -> 0 | AG14: =SUM(AG15:AG16) -> 0 | AH14: =SUM(AH15:AH16) -> 0 | AI14: =SUM(AI15:AI16) -> 0 | AJ14: =SUM(AJ15:AJ16) -> 0 | AK14: =SUM(AK15:AK16) -> 8 | AL14: =SUM(AL15:AL16) -> 0 | ... AP14: =SUM(AP15:AP16) -> 8
B15: その他・北海道 | C15: 16 | D15: 0 | E15: 0 | F15: 0 | G15: =D15+E15-F15 -> 0 | H15: 0 | I15: =C15+G15+H15 -> 16 | J15: 0 | K15: 0 | L15: 0 | M15: 2 | N15: =I15+SUM(K15:M15) -> 18 | P15: 富山市 | Q15: 12 | R15: 0 | S15: 0 | T15: 0 | U15: =R15+S15-T15 -> 0 | V15: 0 | W15: =Q15+U15+V15 -> 12 | X15: 0 | Y15: 0 | Z15: 0 | AA15: 0 | AB15: =W15+SUM(Y15:AA15) -> 12 | AD15: 鳥取市 | AE15: 2 | AF15: 0 | AG15: 0 | AH15: 0 | AI15: =AF15+AG15-AH15 -> 0 | AJ15: 0 | AK15: =AE15+AI15+AJ15 -> 2 | AL15: 0 | AM15: 0 | AN15: 0 | AO15: 0 | AP15: =AK15+SUM(AM15:AO15) -> 2
B16: 青森県計 | C16: =SUM(C17:C19) -> 0 | D16: =SUM(D17:D19) -> 0 | E16: =SUM(E17:E19) -> 0 | F16: =SUM(F17:F19) -> 0 | G16: =SUM(G17:G19) -> 0 | H16: =SUM(H17:H19) -> 0 | I16: =SUM(I17:I19) -> 0 | J16: =SUM(J17:J19) -> 0 | ... N16: =SUM(N17:N19) -> 0 | P16: その他・富山県 | Q16: 15 | R16: 1 | S16: 0 | T16: 0 | U16: =R16+S16-T16 -> 1 | V16: 0 | W16: =Q16+U16+V16 -> 16 | X16: 0 | Y16: 0 | Z16: 0 | AA16: 0 | AB16: =W16+SUM(Y16:AA16) -> 16 | AD16: その他・鳥取県 | AE16: 6 | AF16: 0 | AG16: 0 | AH16: 0 | AI16: =AF16+AG16-AH16 -> 0 | AJ16: 0 | AK16: =AE16+AI16+AJ16 -> 6 | AL16: 0 | AM16: 0 | AN16: 0 | AO16: 0 | AP16: =AK16+SUM(AM16:AO16) -> 6
B17: 青森市 | C17: 0 | D17: 0 | E17: 0 | F17: 0 | G17: =D17+E17-F17 -> 0 | H17: 0 | I17: =C17+G17+H17 -> 0 | J17: 0 | K17: 0 | L17: 0 | M17: 0 | N17: =I17+SUM(K17:M17) -> 0 | P17: 石川県計 | Q17: =SUM(Q18:Q19) -> 28 | R17: =SUM(R18:R19) -> 0 | S17: =SUM(S18:S19) -> 0 | T17: =SUM(T18:T19) -> 0 | U17: =SUM(U18:U19) -> 0 | V17: =SUM(V18:V19) -> 0 | W17: =SUM(W18:W19) -> 28 | X17: =SUM(X18:X19) -> 0 | ... AB17: =SUM(AB18:AB19) -> 28 | AD17: 島根県計 | AE17: =SUM(AE18:AE19) -> 0 | AF17: =SUM(AF18:AF19) -> 0 | AG17: =SUM(AG18:AG19) -> 0 | AH17: =SUM(AH18:AH19) -> 0 | AI17: =SUM(AI18:AI19) -> 0 | AJ17: =SUM(AJ18:AJ19) -> 0 | AK17: =SUM(AK18:AK19) -> 0 | AL17: =SUM(AL18:AL19) -> 0 | ... AP17: =SUM(AP18:AP19) -> 0
B18: 八戸市 | C18: 0 | D18: 0 | E18: 0 | F18: 0 | G18: =D18+E18-F18 -> 0 | H18: 0 | I18: =C18+G18+H18 -> 0 | J18: 0 | K18: 0 | L18: 0 | M18: 0 | N18: =I18+SUM(K18:M18) -> 0 | P18: 金沢市 | Q18: 4 | R18: 0 | S18: 0 | T18: 0 | U18: =R18+S18-T18 -> 0 | V18: 0 | W18: =Q18+U18+V18 -> 4 | X18: 0 | Y18: 0 | Z18: 0 | AA18: 0 | AB18: =W18+SUM(Y18:AA18) -> 4 | AD18: 松江市 | AE18: 0 | AF18: 0 | AG18: 0 | AH18: 0 | AI18: =AF18+AG18-AH18 -> 0 | AJ18: 0 | AK18: =AE18+AI18+AJ18 -> 0 | AL18: 0 | AM18: 0 | AN18: 0 | AO18: 0 | AP18: =AK18+SUM(AM18:AO18) -> 0
B19: その他・青森県 | C19: 0 | D19: 0 | E19: 0 | F19: 0 | G19: =D19+E19-F19 -> 0 | H19: 0 | I19: =C19+G19+H19 -> 0 | J19: 0 | K19: 0 | L19: 0 | M19: 0 | N19: =I19+SUM(K19:M19) -> 0 | P19: その他・石川県 | Q19: 24 | R19: 0 | S19: 0 | T19: 0 | U19: =R19+S19-T19 -> 0 | V19: 0 | W19: =Q19+U19+V19 -> 24 | X19: 0 | Y19: 0 | Z19: 0 | AA19: 0 | AB19: =W19+SUM(Y19:AA19) -> 24 | AD19: その他・島根県 | AE19: 0 | AF19: 0 | AG19: 0 | AH19: 0 | AI19: =AF19+AG19-AH19 -> 0 | AJ19: 0 | AK19: =AE19+AI19+AJ19 -> 0 | AL19: 0 | AM19: 0 | AN19: 0 | AO19: 0 | AP19: =AK19+SUM(AM19:AO19) -> 0
B20: 岩手県計 | C20: =SUM(C21:C22) -> 26 | D20: =SUM(D21:D22) -> 0 | E20: =SUM(E21:E22) -> 0 | F20: =SUM(F21:F22) -> 3 | G20: =SUM(G21:G22) -> -3 | H20: =SUM(H21:H22) -> 0 | I20: =SUM(I21:I22) -> 23 | J20: =SUM(J21:J22) -> 0 | ... N20: =SUM(N21:N22) -> 23 | P20: 福井県計 | Q20: =SUM(Q21:Q22) -> 50 | R20: =SUM(R21:R22) -> 1 | S20: =SUM(S21:S22) -> 0 | T20: =SUM(T21:T22) -> 0 | U20: =SUM(U21:U22) -> 1 | V20: =SUM(V21:V22) -> 0 | W20: =SUM(W21:W22) -> 51 | X20: =SUM(X21:X22) -> 0 | ... AB20: =SUM(AB21:AB22) -> 51 | AD20: 岡山県計 | AE20: =SUM(AE21:AE23) -> 122 | AF20: =SUM(AF21:AF23) -> 4 | AG20: =SUM(AG21:AG23) -> 0 | AH20: =SUM(AH21:AH23) -> 0 | AI20: =SUM(AI21:AI23) -> 4 | AJ20: =SUM(AJ21:AJ23) -> 0 | AK20: =SUM(AK21:AK23) -> 126 | AL20: =SUM(AL21:AL23) -> 10 | ... AP20: =SUM(AP21:AP23) -> 126
B21: 盛岡市 | C21: 1 | D21: 0 | E21: 0 | F21: 0 | G21: =D21+E21-F21 -> 0 | H21: 0 | I21: =C21+G21+H21 -> 1 | J21: 0 | K21: 0 | L21: 0 | M21: 0 | N21: =I21+SUM(K21:M21) -> 1 | P21: 福井市 | Q21: 5 | R21: 0 | S21: 0 | T21: 0 | U21: =R21+S21-T21 -> 0 | V21: 0 | W21: =Q21+U21+V21 -> 5 | X21: 0 | Y21: 0 | Z21: 0 | AA21: 0 | AB21: =W21+SUM(Y21:AA21) -> 5 | AD21: 岡山市 | AE21: 42 | AF21: 0 | AG21: 0 | AH21: 0 | AI21: =AF21+AG21-AH21 -> 0 | AJ21: 0 | AK21: =AE21+AI21+AJ21 -> 42 | AL21: 5 | AM21: 0 | AN21: 0 | AO21: 0 | AP21: =AK21+SUM(AM21:AO21) -> 42
B22: その他・岩手県 | C22: 25 | D22: 0 | E22: 0 | F22: 3 | G22: =D22+E22-F22 -> -3 | H22: 0 | I22: =C22+G22+H22 -> 22 | J22: 0 | K22: 0 | L22: 0 | M22: 0 | N22: =I22+SUM(K22:M22) -> 22 | P22: その他・福井県 | Q22: 45 | R22: 1 | S22: 0 | T22: 0 | U22: =R22+S22-T22 -> 1 | V22: 0 | W22: =Q22+U22+V22 -> 46 | X22: 0 | Y22: 0 | Z22: 0 | AA22: 0 | AB22: =W22+SUM(Y22:AA22) -> 46 | AD22: 倉敷市 | AE22: 60 | AF22: 2 | AG22: 0 | AH22: 0 | AI22: =AF22+AG22-AH22 -> 2 | AJ22: 0 | AK22: =AE22+AI22+AJ22 -> 62 | AL22: 0 | AM22: 0 | AN22: 0 | AO22: 0 | AP22: =AK22+SUM(AM22:AO22) -> 62
B23: 宮城県計 | C23: =SUM(C24:C25) -> 38 | D23: =SUM(D24:D25) -> 0 | E23: =SUM(E24:E25) -> 0 | F23: =SUM(F24:F25) -> 0 | G23: =SUM(G24:G25) -> 0 | H23: =SUM(H24:H25) -> 0 | I23: =SUM(I24:I25) -> 38 | J23: =SUM(J24:J25) -> 0 | ... N23: =SUM(N24:N25) -> 38 | P23: 山梨県計 | Q23: =SUM(Q24:Q25) -> 26 | R23: =SUM(R24:R25) -> 0 | S23: =SUM(S24:S25) -> 0 | T23: =SUM(T24:T25) -> 0 | U23: =SUM(U24:U25) -> 0 | V23: =SUM(V24:V25) -> 0 | W23: =SUM(W24:W25) -> 26 | X23: =SUM(X24:X25) -> 0 | ... AB23: =SUM(AB24:AB25) -> 26 | AD23: その他・岡山県 | AE23: 20 | AF23: 2 | AG23: 0 | AH23: 0 | AI23: =AF23+AG23-AH23 -> 2 | AJ23: 0 | AK23: =AE23+AI23+AJ23 -> 22 | AL23: 5 | AM23: 0 | AN23: 0 | AO23: 0 | AP23: =AK23+SUM(AM23:AO23) -> 22
B24: 仙台市 | C24: 6 | D24: 0 | E24: 0 | F24: 0 | G24: =D24+E24-F24 -> 0 | H24: 0 | I24: =C24+G24+H24 -> 6 | J24: 0 | K24: 0 | L24: 0 | M24: 0 | N24: =I24+SUM(K24:M24) -> 6 | P24: 甲府市 | Q24: 3 | R24: 0 | S24: 0 | T24: 0 | U24: =R24+S24-T24 -> 0 | V24: 0 | W24: =Q24+U24+V24 -> 3 | X24: 0 | Y24: 0 | Z24: 0 | AA24: 0 | AB24: =W24+SUM(Y24:AA24) -> 3 | AD24: 広島県計 | AE24: =SUM(AE25:AE28) -> 80 | AF24: =SUM(AF25:AF28) -> 0 | AG24: =SUM(AG25:AG28) -> 0 | AH24: =SUM(AH25:AH28) -> 1 | AI24: =SUM(AI25:AI28) -> -1 | AJ24: =SUM(AJ25:AJ28) -> 0 | AK24: =SUM(AK25:AK28) -> 79 | AL24: =SUM(AL25:AL28) -> 3 | ... AP24: =SUM(AP25:AP28) -> 79
B25: その他・宮城県 | C25: 32 | D25: 0 | E25: 0 | F25: 0 | G25: =D25+E25-F25 -> 0 | H25: 0 | I25: =C25+G25+H25 -> 32 | J25: 0 | K25: 0 | L25: 0 | M25: 0 | N25: =I25+SUM(K25:M25) -> 32 | P25: 山梨県 | Q25: 23 | R25: 0 | S25: 0 | T25: 0 | U25: =R25+S25-T25 -> 0 | V25: 0 | W25: =Q25+U25+V25 -> 23 | X25: 0 | Y25: 0 | Z25: 0 | AA25: 0 | AB25: =W25+SUM(Y25:AA25) -> 23 | AD25: 広島市 | AE25: 20 | AF25: 0 | AG25: 0 | AH25: 0 | AI25: =AF25+AG25-AH25 -> 0 | AJ25: 0 | AK25: =AE25+AI25+AJ25 -> 20 | AL25: 1 | AM25: 0 | AN25: 0 | AO25: 0 | AP25: =AK25+SUM(AM25:AO25) -> 20
B26: 秋田県計 | C26: =SUM(C27:C28) -> 0 | D26: =SUM(D27:D28) -> 0 | E26: =SUM(E27:E28) -> 0 | F26: =SUM(F27:F28) -> 0 | G26: =SUM(G27:G28) -> 0 | H26: =SUM(H27:H28) -> 0 | I26: =SUM(I27:I28) -> 0 | J26: =SUM(J27:J28) -> 0 | ... N26: =SUM(N27:N28) -> 0 | P26: 長野県計 | Q26: =SUM(Q27:Q29) -> 17 | R26: =SUM(R27:R29) -> 0 | S26: =SUM(S27:S29) -> 0 | T26: =SUM(T27:T29) -> 2 | U26: =SUM(U27:U29) -> -2 | V26: =SUM(V27:V29) -> 0 | W26: =SUM(W27:W29) -> 15 | X26: =SUM(X27:X29) -> 0 | ... AB26: =SUM(AB27:AB29) -> 15 | AD26: 呉市 | AE26: 6 | AF26: 0 | AG26: 0 | AH26: 0 | AI26: =AF26+AG26-AH26 -> 0 | AJ26: 0 | AK26: =AE26+AI26+AJ26 -> 6 | AL26: 0 | AM26: 0 | AN26: 0 | AO26: 0 | AP26: =AK26+SUM(AM26:AO26) -> 6
B27: 秋田市 | C27: 0 | D27: 0 | E27: 0 | F27: 0 | G27: =D27+E27-F27 -> 0 | H27: 0 | I27: =C27+G27+H27 -> 0 | J27: 0 | K27: 0 | L27: 0 | M27: 0 | N27: =I27+SUM(K27:M27) -> 0 | P27: 長野市 | Q27: 0 | R27: 0 | S27: 0 | T27: 0 | U27: =R27+S27-T27 -> 0 | V27: 0 | W27: =Q27+U27+V27 -> 0 | X27: 0 | Y27: 0 | Z27: 0 | AA27: 0 | AB27: =W27+SUM(Y27:AA27) -> 0 | AD27: 福山市 | AE27: 7 | AF27: 0 | AG27: 0 | AH27: 0 | AI27: =AF27+AG27-AH27 -> 0 | AJ27: 0 | AK27: =AE27+AI27+AJ27 -> 7 | AL27: 0 | AM27: 0 | AN27: 0 | AO27: 0 | AP27: =AK27+SUM(AM27:AO27) -> 7
B28: その他・秋田県 | C28: 0 | D28: 0 | E28: 0 | F28: 0 | G28: =D28+E28-F28 -> 0 | H28: 0 | I28: =C28+G28+H28 -> 0 | J28: 0 | K28: 0 | L28: 0 | M28: 0 | N28: =I28+SUM(K28:M28) -> 0 | P28: 松本市 | Q28: 0 | R28: 0 | S28: 0 | T28: 0 | U28: =R28+S28-T28 -> 0 | V28: 0 | W28: =Q28+U28+V28 -> 0 | X28: 0 | Y28: 0 | Z28: 0 | AA28: 0 | AB28: =W28+SUM(Y28:AA28) -> 0 | AD28: その他・広島県 | AE28: 47 | AF28: 0 | AG28: 0 | AH28: 1 | AI28: =AF28+AG28-AH28 -> -1 | AJ28: 0 | AK28: =AE28+AI28+AJ28 -> 46 | AL28: 2 | AM28: 0 | AN28: 0 | AO28: 0 | AP28: =AK28+SUM(AM28:AO28) -> 46
B29: 山形県計 | C29: =SUM(C30:C31) -> 15 | D29: =SUM(D30:D31) -> 0 | E29: =SUM(E30:E31) -> 0 | F29: =SUM(F30:F31) -> 0 | G29: =SUM(G30:G31) -> 0 | H29: =SUM(H30:H31) -> 0 | I29: =SUM(I30:I31) -> 15 | J29: =SUM(J30:J31) -> 0 | ... N29: =SUM(N30:N31) -> 15 | P29: その他・長野県 | Q29: 17 | R29: 0 | S29: 0 | T29: 2 | U29: =R29+S29-T29 -> -2 | V29: 0 | W29: =Q29+U29+V29 -> 15 | X29: 0 | Y29: 0 | Z29: 0 | AA29: 0 | AB29: =W29+SUM(Y29:AA29) -> 15 | AD29: 山口県計 | AE29: =SUM(AE30:AE31) -> 73 | AF29: =SUM(AF30:AF31) -> 0 | AG29: =SUM(AG30:AG31) -> 0 | AH29: =SUM(AH30:AH31) -> 0 | AI29: =SUM(AI30:AI31) -> 0 | AJ29: =SUM(AJ30:AJ31) -> 0 | AK29: =SUM(AK30:AK31) -> 73 | AL29: =SUM(AL30:AL31) -> 1 | ... AP29: =SUM(AP30:AP31) -> 73
B30: 山形市 | C30: 0 | D30: 0 | E30: 0 | F30: 0 | G30: =D30+E30-F30 -> 0 | H30: 0 | I30: =C30+G30+H30 -> 0 | J30: 0 | K30: 0 | L30: 0 | M30: 0 | N30: =I30+SUM(K30:M30) -> 0 | P30: 岐阜県計 | Q30: =SUM(Q31:Q32) -> 68 | R30: =SUM(R31:R32) -> 0 | S30: =SUM(S31:S32) -> 0 | T30: =SUM(T31:T32) -> 1 | U30: =SUM(U31:U32) -> -1 | V30: =SUM(V31:V32) -> -1 | W30: =SUM(W31:W32) -> 66 | X30: =SUM(X31:X32) -> 1 | ... AB30: =SUM(AB31:AB32) -> 66 | AD30: 下関市 | AE30: 1 | AF30: 0 | AG30: 0 | AH30: 0 | AI30: =AF30+AG30-AH30 -> 0 | AJ30: 0 | AK30: =AE30+AI30+AJ30 -> 1 | AL30: 0 | AM30: 0 | AN30: 0 | AO30: 0 | AP30: =AK30+SUM(AM30:AO30) -> 1
B31: その他・山形県 | C31: 15 | D31: 0 | E31: 0 | F31: 0 | G31: =D31+E31-F31 -> 0 | H31: 0 | I31: =C31+G31+H31 -> 15 | J31: 0 | K31: 0 | L31: 0 | M31: 0 | N31: =I31+SUM(K31:M31) -> 15 | P31: 岐阜市 | Q31: 5 | R31: 0 | S31: 0 | T31: 1 | U31: =R31+S31-T31 -> -1 | V31: 0 | W31: =Q31+U31+V31 -> 4 | X31: 0 | Y31: 0 | Z31: 0 | AA31: 0 | AB31: =W31+SUM(Y31:AA31) -> 4 | AD31: その他・山口県 | AE31: 72 | AF31: 0 | AG31: 0 | AH31: 0 | AI31: =AF31+AG31-AH31 -> 0 | AJ31: 0 | AK31: =AE31+AI31+AJ31 -> 72 | AL31: 1 | AM31: 0 | AN31: 0 | AO31: 0 | AP31: =AK31+SUM(AM31:AO31) -> 72
B32: 福島県計 | C32: =SUM(C33:C36) -> 82 | D32: =SUM(D33:D36) -> 2 | E32: =SUM(E33:E36) -> 0 | F32: =SUM(F33:F36) -> 0 | G32: =SUM(G33:G36) -> 2 | H32: =SUM(H33:H36) -> 0 | I32: =SUM(I33:I36) -> 84 | J32: =SUM(J33:J36) -> 3 | ... N32: =SUM(N33:N36) -> 84 | P32: その他・岐阜県 | Q32: 63 | R32: 0 | S32: 0 | T32: 0 | U32: =R32+S32-T32 -> 0 | V32: -1 | W32: =Q32+U32+V32 -> 62 | X32: 1 | Y32: 0 | Z32: 0 | AA32: 0 | AB32: =W32+SUM(Y32:AA32) -> 62 | AD32: 徳島県計 | AE32: =SUM(AE33) -> 18 | AF32: =SUM(AF33) -> 0 | AG32: =SUM(AG33) -> 0 | AH32: =SUM(AH33) -> 0 | AI32: =SUM(AI33) -> 0 | AJ32: =SUM(AJ33) -> 0 | AK32: =SUM(AK33) -> 18 | AL32: =SUM(AL33) -> 0 | ... AP32: =SUM(AP33) -> 18
B33: 福島市 | C33: 1 | D33: 0 | E33: 0 | F33: 0 | G33: =D33+E33-F33 -> 0 | H33: 0 | I33: =C33+G33+H33 -> 1 | J33: 0 | K33: 0 | L33: 0 | M33: 0 | N33: =I33+SUM(K33:M33) -> 1 | P33: 静岡県計 | Q33: =SUM(Q34:Q36) -> 178 | R33: =SUM(R34:R36) -> 3 | S33: =SUM(S34:S36) -> 0 | T33: =SUM(T34:T36) -> 3 | U33: =SUM(U34:U36) -> 0 | V33: =SUM(V34:V36) -> 0 | W33: =SUM(W34:W36) -> 178 | X33: =SUM(X34:X36) -> 2 | ... AB33: =SUM(AB34:AB36) -> 178 | AD33: 徳島県 | AE33: 18 | AF33: 0 | AG33: 0 | AH33: 0 | AI33: =AF33+AG33-AH33 -> 0 | AJ33: 0 | AK33: =AE33+AI33+AJ33 -> 18 | AL33: 0 | AM33: 0 | AN33: 0 | AO33: 0 | AP33: =AK33+SUM(AM33:AO33) -> 18
B34: 郡山市 | C34: 20 | D34: 0 | E34: 0 | F34: 0 | G34: =D34+E34-F34 -> 0 | H34: 0 | I34: =C34+G34+H34 -> 20 | J34: 2 | K34: 0 | L34: 0 | M34: 0 | N34: =I34+SUM(K34:M34) -> 20 | P34: 静岡市 | Q34: 13 | R34: 1 | S34: 0 | T34: 0 | U34: =R34+S34-T34 -> 1 | V34: 0 | W34: =Q34+U34+V34 -> 14 | X34: 0 | Y34: 0 | Z34: 0 | AA34: 0 | AB34: =W34+SUM(Y34:AA34) -> 14 | AD34: 香川県計 | AE34: =SUM(AE35:AE36) -> 33 | AF34: =SUM(AF35:AF36) -> 3 | AG34: =SUM(AG35:AG36) -> 0 | AH34: =SUM(AH35:AH36) -> 2 | AI34: =SUM(AI35:AI36) -> 1 | AJ34: =SUM(AJ35:AJ36) -> -2 | AK34: =SUM(AK35:AK36) -> 32 | AL34: =SUM(AL35:AL36) -> 1 | ... AP34: =SUM(AP35:AP36) -> 32
B35: いわき市 | C35: 10 | D35: 0 | E35: 0 | F35: 0 | G35: =D35+E35-F35 -> 0 | H35: 0 | I35: =C35+G35+H35 -> 10 | J35: 0 | K35: 0 | L35: 0 | M35: 0 | N35: =I35+SUM(K35:M35) -> 10 | P35: 浜松市 | Q35: 3 | R35: 0 | S35: 0 | T35: 0 | U35: =R35+S35-T35 -> 0 | V35: 0 | W35: =Q35+U35+V35 -> 3 | X35: 0 | Y35: 0 | Z35: 0 | AA35: 0 | AB35: =W35+SUM(Y35:AA35) -> 3 | AD35: 高松市 | AE35: 3 | AF35: 0 | AG35: 0 | AH35: 2 | AI35: =AF35+AG35-AH35 -> -2 | AJ35: 0 | AK35: =AE35+AI35+AJ35 -> 1 | AL35: 0 | AM35: 0 | AN35: 0 | AO35: 0 | AP35: =AK35+SUM(AM35:AO35) -> 1
B36: その他・福島県 | C36: 51 | D36: 2 | E36: 0 | F36: 0 | G36: =D36+E36-F36 -> 2 | H36: 0 | I36: =C36+G36+H36 -> 53 | J36: 1 | K36: 0 | L36: 0 | M36: 0 | N36: =I36+SUM(K36:M36) -> 53 | P36: その他・静岡県 | Q36: 162 | R36: 2 | S36: 0 | T36: 3 | U36: =R36+S36-T36 -> -1 | V36: 0 | W36: =Q36+U36+V36 -> 161 | X36: 2 | Y36: 0 | Z36: 0 | AA36: 0 | AB36: =W36+SUM(Y36:AA36) -> 161 | AD36: その他・香川県 | AE36: 30 | AF36: 3 | AG36: 0 | AH36: 0 | AI36: =AF36+AG36-AH36 -> 3 | AJ36: -2 | AK36: =AE36+AI36+AJ36 -> 31 | AL36: 1 | AM36: 0 | AN36: 0 | AO36: 0 | AP36: =AK36+SUM(AM36:AO36) -> 31
B37: 茨城県計 | C37: =SUM(C38:C39) -> 230 | D37: =SUM(D38:D39) -> 2 | E37: =SUM(E38:E39) -> 0 | F37: =SUM(F38:F39) -> 3 | G37: =SUM(G38:G39) -> -1 | H37: =SUM(H38:H39) -> 4 | I37: =SUM(I38:I39) -> 233 | J37: =SUM(J38:J39) -> 1 | ... N37: =SUM(N38:N39) -> 233 | P37: 愛知県計 | Q37: =SUM(Q38:Q43) -> 303 | R37: =SUM(R38:R43) -> 3 | S37: =SUM(S38:S43) -> 0 | T37: =SUM(T38:T43) -> 6 | U37: =SUM(U38:U43) -> -3 | V37: =SUM(V38:V43) -> 0 | W37: =SUM(W38:W43) -> 300 | X37: =SUM(X38:X43) -> 0 | ... AB37: =SUM(AB38:AB43) -> 300 | AD37: 愛媛県計 | AE37: =SUM(AE38:AE39) -> 43 | AF37: =SUM(AF38:AF39) -> 2 | AG37: =SUM(AG38:AG39) -> 0 | AH37: =SUM(AH38:AH39) -> 0 | AI37: =SUM(AI38:AI39) -> 2 | AJ37: =SUM(AJ38:AJ39) -> 0 | AK37: =SUM(AK38:AK39) -> 45 | AL37: =SUM(AL38:AL39) -> 0 | ... AP37: =SUM(AP38:AP39) -> 45
B38: 水戸市 | C38: 6 | D38: 0 | E38: 0 | F38: 0 | G38: =D38+E38-F38 -> 0 | H38: -2 | I38: =C38+G38+H38 -> 4 | J38: 0 | K38: 0 | L38: 0 | M38: 0 | N38: =I38+SUM(K38:M38) -> 4 | P38: 名古屋市 | Q38: 23 | R38: 0 | S38: 0 | T38: 0 | U38: =R38+S38-T38 -> 0 | V38: 0 | W38: =Q38+U38+V38 -> 23 | X38: 0 | Y38: 0 | Z38: 0 | AA38: 0 | AB38: =W38+SUM(Y38:AA38) -> 23 | AD38: 松山市 | AE38: 10 | AF38: 0 | AG38: 0 | AH38: 0 | AI38: =AF38+AG38-AH38 -> 0 | AJ38: 0 | AK38: =AE38+AI38+AJ38 -> 10 | AL38: 0 | AM38: 0 | AN38: 0 | AO38: 0 | AP38: =AK38+SUM(AM38:AO38) -> 10
B39: その他・茨城県 | C39: 224 | D39: 2 | E39: 0 | F39: 3 | G39: =D39+E39-F39 -> -1 | H39: 6 | I39: =C39+G39+H39 -> 229 | J39: 1 | K39: 0 | L39: 0 | M39: 0 | N39: =I39+SUM(K39:M39) -> 229 | P39: 豊橋市 | Q39: 61 | R39: 1 | S39: 0 | T39: 2 | U39: =R39+S39-T39 -> -1 | V39: 0 | W39: =Q39+U39+V39 -> 60 | X39: 0 | Y39: 0 | Z39: 0 | AA39: 0 | AB39: =W39+SUM(Y39:AA39) -> 60 | AD39: その他・愛媛県 | AE39: 33 | AF39: 2 | AG39: 0 | AH39: 0 | AI39: =AF39+AG39-AH39 -> 2 | AJ39: 0 | AK39: =AE39+AI39+AJ39 -> 35 | AL39: 0 | AM39: 0 | AN39: 0 | AO39: 0 | AP39: =AK39+SUM(AM39:AO39) -> 35
B40: 栃木県計 | C40: =SUM(C41:C42) -> 113 | D40: =SUM(D41:D42) -> 3 | E40: =SUM(E41:E42) -> 0 | F40: =SUM(F41:F42) -> 3 | G40: =SUM(G41:G42) -> 0 | H40: =SUM(H41:H42) -> 0 | I40: =SUM(I41:I42) -> 113 | J40: =SUM(J41:J42) -> 4 | ... N40: =SUM(N41:N42) -> 113 | P40: 岡崎市 | Q40: 12 | R40: 0 | S40: 0 | T40: 0 | U40: =R40+S40-T40 -> 0 | V40: 0 | W40: =Q40+U40+V40 -> 12 | X40: 0 | Y40: 0 | Z40: 0 | AA40: 0 | AB40: =W40+SUM(Y40:AA40) -> 12 | AD40: 高知県計 | AE40: =SUM(AE41:AE42) -> 7 | AF40: =SUM(AF41:AF42) -> 0 | AG40: =SUM(AG41:AG42) -> 0 | AH40: =SUM(AH41:AH42) -> 0 | AI40: =SUM(AI41:AI42) -> 0 | AJ40: =SUM(AJ41:AJ42) -> 0 | AK40: =SUM(AK41:AK42) -> 7 | AL40: =SUM(AL41:AL42) -> 0 | ... AP40: =SUM(AP41:AP42) -> 7
B41: 宇都宮市 | C41: 17 | D41: 0 | E41: 0 | F41: 0 | G41: =D41+E41-F41 -> 0 | H41: 0 | I41: =C41+G41+H41 -> 17 | J41: 2 | K41: 0 | L41: 0 | M41: 0 | N41: =I41+SUM(K41:M41) -> 17 | P41: 一宮市 | Q41: 6 | R41: 0 | S41: 0 | T41: 0 | U41: =R41+S41-T41 -> 0 | V41: 0 | W41: =Q41+U41+V41 -> 6 | X41: 0 | Y41: 0 | Z41: 0 | AA41: 0 | AB41: =W41+SUM(Y41:AA41) -> 6 | AD41: 高知市 | AE41: 7 | AF41: 0 | AG41: 0 | AH41: 0 | AI41: =AF41+AG41-AH41 -> 0 | AJ41: 0 | AK41: =AE41+AI41+AJ41 -> 7 | AL41: 0 | AM41: 0 | AN41: 0 | AO41: 0 | AP41: =AK41+SUM(AM41:AO41) -> 7
B42: その他・栃木県 | C42: 96 | D42: 3 | E42: 0 | F42: 3 | G42: =D42+E42-F42 -> 0 | H42: 0 | I42: =C42+G42+H42 -> 96 | J42: 2 | K42: 0 | L42: 0 | M42: 0 | N42: =I42+SUM(K42:M42) -> 96 | P42: 豊田市 | Q42: 49 | R42: 0 | S42: 0 | T42: 0 | U42: =R42+S42-T42 -> 0 | V42: 0 | W42: =Q42+U42+V42 -> 49 | X42: 0 | Y42: 0 | Z42: 0 | AA42: 0 | AB42: =W42+SUM(Y42:AA42) -> 49 | AD42: その他・高知県 | AE42: 0 | AF42: 0 | AG42: 0 | AH42: 0 | AI42: =AF42+AG42-AH42 -> 0 | AJ42: 0 | AK42: =AE42+AI42+AJ42 -> 0 | AL42: 0 | AM42: 0 | AN42: 0 | AO42: 0 | AP42: =AK42+SUM(AM42:AO42) -> 0
B43: 群馬県計 | C43: =SUM(C44:C46) -> 130 | D43: =SUM(D44:D46) -> 0 | E43: =SUM(E44:E46) -> 0 | F43: =SUM(F44:F46) -> 0 | G43: =SUM(G44:G46) -> 0 | H43: =SUM(H44:H46) -> 0 | I43: =SUM(I44:I46) -> 130 | J43: =SUM(J44:J46) -> 7 | ... N43: =SUM(N44:N46) -> 130 | P43: その他・愛知県 | Q43: 152 | R43: 2 | S43: 0 | T43: 4 | U43: =R43+S43-T43 -> -2 | V43: 0 | W43: =Q43+U43+V43 -> 150 | X43: 0 | Y43: 0 | Z43: 0 | AA43: 0 | AB43: =W43+SUM(Y43:AA43) -> 150 | AD43: 福岡県計 | AE43: =SUM(AE44:AE47) -> 112 | AF43: =SUM(AF44:AF47) -> 1 | AG43: =SUM(AG44:AG47) -> 0 | AH43: =SUM(AH44:AH47) -> 0 | AI43: =SUM(AI44:AI47) -> 1 | AJ43: =SUM(AJ44:AJ47) -> 1 | AK43: =SUM(AK44:AK47) -> 114 | AL43: =SUM(AL44:AL47) -> 1 | ... AP43: =SUM(AP44:AP47) -> 114
B44: 前橋市 | C44: 0 | D44: 0 | E44: 0 | F44: 0 | G44: =D44+E44-F44 -> 0 | H44: 0 | I44: =C44+G44+H44 -> 0 | J44: 0 | K44: 0 | L44: 0 | M44: 0 | N44: =I44+SUM(K44:M44) -> 0 | P44: 三重県計 | Q44: =SUM(Q45) -> 152 | R44: =SUM(R45) -> 1 | S44: =SUM(S45) -> 0 | T44: =SUM(T45) -> 2 | U44: =SUM(U45) -> -1 | V44: =SUM(V45) -> 0 | W44: =SUM(W45) -> 151 | X44: =SUM(X45) -> 0 | ... AB44: =SUM(AB45) -> 151 | AD44: 北九州市 | AE44: 37 | AF44: 0 | AG44: 0 | AH44: 0 | AI44: =AF44+AG44-AH44 -> 0 | AJ44: 0 | AK44: =AE44+AI44+AJ44 -> 37 | AL44: 0 | AM44: 0 | AN44: 0 | AO44: 0 | AP44: =AK44+SUM(AM44:AO44) -> 37
...

Sheet 表2.4
B2: 表2.4(1) 届出件数 施設種類別・都道府県市別（大気汚染防止法に係る揮発性有機化合物 (VOC) 排出施設） | O2: 表2.4(2) 届出件数 施設種類別・都道府県市別（大気汚染防止法に係る揮発性有機化合物 (VOC) 排出施設） | AB2: 表2.4(3) 届出件数 施設種類別・都道府県市別（大気汚染防止法に係る揮発性有機化合物 (VOC) 排出施設）
B4: 自治体名 | C4: 施行令別表第一の二の項番号及び施設種類 | L4: 施設合計 | M4: 届出工場・ 事業場数 | O4: 自治体名 | P4: 施行令別表第一の二の項番号及び施設種類 | Y4: 施設合計 | Z4: 届出工場・ 事業場数 | AB4: 自治体名 | AC4: 施行令別表第一の二の項番号及び施設種類 | AL4: 施設合計 | AM4: 届出工場・ 事業場数
C5: 1項 | D5: 2項 | E5: 3項 | F5: 4項 | G5: 5項 | H5: 6項 | I5: 7項 | J5: 8項 | K5: 9項 | P5: 1項 | Q5: 2項 | R5: 3項 | S5: 4項 | T5: 5項 | U5: 6項 | V5: 7項 | W5: 8項 | X5: 9項 | AC5: 1項 | AD5: 2項 | AE5: 3項 | AF5: 4項 | AG5: 5項 | AH5: 6項 | AI5: 7項 | AJ5: 8項 | AK5: 9項
C6: ＶＯＣを溶剤として使用する化学製品の製造の用に供する乾燥施設 | D6: 塗装施設 | E6: 塗装の用に供する乾燥施設 | F6: 印刷回路用銅張積層板、粘着テープ若しくは粘着シート、はく離紙又は包装材料の製造に係る接着の用に供する乾燥施設 | G6: 接着の用に供する乾燥施設 | H6: 印刷の用に供する乾燥施設（オフセット輪転印刷に係るものに限る。） | I6: 印刷の用に供する乾燥施設（グラビア印刷に係るものに限る。） | J6: 工業の用に供するＶＯＣによる洗浄施設 | K6: ガソリン、原油、ナフサその他の温度３７．８度において蒸気圧が２０キロパスカルを超えるＶＯＣの貯蔵タンク | P6: ＶＯＣを溶剤として使用する化学製品の製造の用に供する乾燥施設 | Q6: 塗装施設 | R6: 塗装の用に供する乾燥施設 | S6: 印刷回路用銅張積層板、粘着テープ若しくは粘着シート、はく離紙又は包装材料の製造に係る接着の用に供する乾燥施設 | T6: 接着の用に供する乾燥施設 | U6: 印刷の用に供する乾燥施設（オフセット輪転印刷に係るものに限る。） | V6: 印刷の用に供する乾燥施設（グラビア印刷に係るものに限る。） | W6: 工業の用に供するＶＯＣによる洗浄施設 | X6: ガソリン、原油、ナフサその他の温度３７．８度において蒸気圧が２０キロパスカルを超えるＶＯＣの貯蔵タンク | AC6: ＶＯＣを溶剤として使用する化学製品の製造の用に供する乾燥施設 | AD6: 塗装施設 | AE6: 塗装の用に供する乾燥施設 | AF6: 印刷回路用銅張積層板、粘着テープ若しくは粘着シート、はく離紙又は包装材料の製造に係る接着の用に供する乾燥施設 | AG6: 接着の用に供する乾燥施設 | AH6: 印刷の用に供する乾燥施設（オフセット輪転印刷に係るものに限る。） | AI6: 印刷の用に供する乾燥施設（グラビア印刷に係るものに限る。） | AJ6: 工業の用に供するＶＯＣによる洗浄施設 | AK6: ガソリン、原油、ナフサその他の温度３７．８度において蒸気圧が２０キロパスカルを超えるＶＯＣの貯蔵タンク
B7: 北海道計 | C7: =SUM(C8:C11) -> 2 | D7: =SUM(D8:D11) -> 7 | E7: =SUM(E8:E11) -> 5 | F7: =SUM(F8:F11) -> 6 | G7: =SUM(G8:G11) -> 0 | H7: =SUM(H8:H11) -> 1 | I7: =SUM(I8:I11) -> 3 | J7: =SUM(J8:J11) -> 0 | ... M7: =SUM(M8:M11) -> 16 | O7: 新潟県計 | P7: =SUM(P8:P9) -> 0 | Q7: =SUM(Q8:Q9) -> 0 | R7: =SUM(R8:R9) -> 2 | S7: =SUM(S8:S9) -> 13 | T7: =SUM(T8:T9) -> 9 | U7: =SUM(U8:U9) -> 0 | V7: =SUM(V8:V9) -> 5 | W7: =SUM(W8:W9) -> 2 | ... Z7: =SUM(Z8:Z9) -> 16 | AB7: 和歌山県計 | AC7: =SUM(AC8:AC9) -> 0 | AD7: =SUM(AD8:AD9) -> 4 | AE7: =SUM(AE8:AE9) -> 0 | AF7: =SUM(AF8:AF9) -> 5 | AG7: =SUM(AG8:AG9) -> 2 | AH7: =SUM(AH8:AH9) -> 0 | AI7: =SUM(AI8:AI9) -> 0 | AJ7: =SUM(AJ8:AJ9) -> 0 | ... AM7: =SUM(AM8:AM9) -> 4
B8: 札幌市 | C8: 0 | D8: 3 | E8: 0 | F8: 3 | G8: 0 | H8: 0 | I8: 2 | J8: 0 | K8: 0 | L8: =SUM(C8:K8) -> 8 | M8: 4 | O8: 新潟市 | P8: 0 | Q8: 0 | R8: 0 | S8: 5 | T8: 0 | U8: 0 | V8: 2 | W8: 0 | X8: 3 | Y8: =SUM(P8:X8) -> 10 | Z8: 4 | AB8: 和歌山市 | AC8: 0 | AD8: 0 | AE8: 0 | AF8: 0 | AG8: 0 | AH8: 0 | AI8: 0 | AJ8: 0 | AK8: 0 | AL8: =SUM(AC8:AK8) -> 0 | AM8: 0
B9: 函館市 | C9: 0 | D9: 1 | E9: 0 | F9: 0 | G9: 0 | H9: 0 | I9: 0 | J9: 0 | K9: 0 | L9: =SUM(C9:K9) -> 1 | M9: 1 | O9: その他・新潟県 | P9: 0 | Q9: 0 | R9: 2 | S9: 8 | T9: 9 | U9: 0 | V9: 3 | W9: 2 | X9: 3 | Y9: =SUM(P9:X9) -> 27 | Z9: 12 | AB9: その他・和歌山県 | AC9: 0 | AD9: 4 | AE9: 0 | AF9: 5 | AG9: 2 | AH9: 0 | AI9: 0 | AJ9: 0 | AK9: 0 | AL9: =SUM(AC9:AK9) -> 11 | AM9: 4
B10: 旭川市 | C10: 0 | D10: 0 | E10: 0 | F10: 1 | G10: 0 | H10: 0 | I10: 0 | J10: 0 | K10: 0 | L10: =SUM(C10:K10) -> 1 | M10: 1 | O10: 富山県計 | P10: =SUM(P11:P12) -> 4 | Q10: =SUM(Q11:Q12) -> 6 | R10: =SUM(R11:R12) -> 0 | S10: =SUM(S11:S12) -> 8 | T10: =SUM(T11:T12) -> 3 | U10: =SUM(U11:U12) -> 4 | V10: =SUM(V11:V12) -> 3 | W10: =SUM(W11:W12) -> 0 | ... Z10: =SUM(Z11:Z12) -> 12 | AB10: 鳥取県計 | AC10: =SUM(AC11:AC12) -> 0 | AD10: =SUM(AD11:AD12) -> 1 | AE10: =SUM(AE11:AE12) -> 0 | AF10: =SUM(AF11:AF12) -> 4 | AG10: =SUM(AG11:AG12) -> 0 | AH10: =SUM(AH11:AH12) -> 1 | AI10: =SUM(AI11:AI12) -> 1 | AJ10: =SUM(AJ11:AJ12) -> 1 | ... AM10: =SUM(AM11:AM12) -> 5
B11: その他・北海道 | C11: 2 | D11: 3 | E11: 5 | F11: 2 | G11: 0 | H11: 1 | I11: 1 | J11: 0 | K11: 2 | L11: =SUM(C11:K11) -> 16 | M11: 10 | O11: 富山市 | P11: 1 | Q11: 5 | R11: 0 | S11: 2 | T11: 1 | U11: 0 | V11: 3 | W11: 0 | X11: 0 | Y11: =SUM(P11:X11) -> 12 | Z11: 5 | AB11: 鳥取市 | AC11: 0 | AD11: 0 | AE11: 0 | AF11: 0 | AG11: 0 | AH11: 1 | AI11: 0 | AJ11: 1 | AK11: 0 | AL11: =SUM(AC11:AK11) -> 2 | AM11: 2
B12: 青森県計 | C12: =SUM(C13:C15) -> 0 | D12: =SUM(D13:D15) -> 0 | E12: =SUM(E13:E15) -> 0 | F12: =SUM(F13:F15) -> 0 | G12: =SUM(G13:G15) -> 0 | H12: =SUM(H13:H15) -> 0 | I12: =SUM(I13:I15) -> 0 | J12: =SUM(J13:J15) -> 0 | ... M12: =SUM(M13:M15) -> 0 | O12: その他・富山県 | P12: 3 | Q12: 1 | R12: 0 | S12: 6 | T12: 2 | U12: 4 | V12: 0 | W12: 0 | X12: 0 | Y12: =SUM(P12:X12) -> 16 | Z12: 7 | AB12: その他・鳥取県 | AC12: 0 | AD12: 1 | AE12: 0 | AF12: 4 | AG12: 0 | AH12: 0 | AI12: 1 | AJ12: 0 | AK12: 0 | AL12: =SUM(AC12:AK12) -> 6 | AM12: 3
B13: 青森市 | C13: 0 | D13: 0 | E13: 0 | F13: 0 | G13: 0 | H13: 0 | I13: 0 | J13: 0 | K13: 0 | L13: =SUM(C13:K13) -> 0 | M13: 0 | O13: 石川県計 | P13: =SUM(P14:P15) -> 0 | Q13: =SUM(Q14:Q15) -> 7 | R13: =SUM(R14:R15) -> 0 | S13: =SUM(S14:S15) -> 2 | T13: =SUM(T14:T15) -> 5 | U13: =SUM(U14:U15) -> 1 | V13: =SUM(V14:V15) -> 1 | W13: =SUM(W14:W15) -> 12 | ... Z13: =SUM(Z14:Z15) -> 9 | AB13: 島根県計 | AC13: =SUM(AC14:AC15) -> 0 | AD13: =SUM(AD14:AD15) -> 0 | AE13: =SUM(AE14:AE15) -> 0 | AF13: =SUM(AF14:AF15) -> 0 | AG13: =SUM(AG14:AG15) -> 0 | AH13: =SUM(AH14:AH15) -> 0 | AI13: =SUM(AI14:AI15) -> 0 | AJ13: =SUM(AJ14:AJ15) -> 0 | ... AM13: =SUM(AM14:AM15) -> 0
B14: 八戸市 | C14: 0 | D14: 0 | E14: 0 | F14: 0 | G14: 0 | H14: 0 | I14: 0 | J14: 0 | K14: 0 | L14: =SUM(C14:K14) -> 0 | M14: 0 | O14: 金沢市 | P14: 0 | Q14: 1 | R14: 0 | S14: 1 | T14: 0 | U14: 1 | V14: 1 | W14: 0 | X14: 0 | Y14: =SUM(P14:X14) -> 4 | Z14: 3 | AB14: 松江市 | AC14: 0 | AD14: 0 | AE14: 0 | AF14: 0 | AG14: 0 | AH14: 0 | AI14: 0 | AJ14: 0 | AK14: 0 | AL14: =SUM(AC14:AK14) -> 0 | AM14: 0
B15: その他・青森県 | C15: 0 | D15: 0 | E15: 0 | F15: 0 | G15: 0 | H15: 0 | I15: 0 | J15: 0 | K15: 0 | L15: =SUM(C15:K15) -> 0 | M15: 0 | O15: その他・石川県 | P15: 0 | Q15: 6 | R15: 0 | S15: 1 | T15: 5 | U15: 0 | V15: 0 | W15: 12 | X15: 0 | Y15: =SUM(P15:X15) -> 24 | Z15: 6 | AB15: その他・島根県 | AC15: 0 | AD15: 0 | AE15: 0 | AF15: 0 | AG15: 0 | AH15: 0 | AI15: 0 | AJ15: 0 | AK15: 0 | AL15: =SUM(AC15:AK15) -> 0 | AM15: 0
B16: 岩手県計 | C16: =SUM(C17:C18) -> 1 | D16: =SUM(D17:D18) -> 10 | E16: =SUM(E17:E18) -> 3 | F16: =SUM(F17:F18) -> 6 | G16: =SUM(G17:G18) -> 1 | H16: =SUM(H17:H18) -> 0 | I16: =SUM(I17:I18) -> 0 | J16: =SUM(J17:J18) -> 0 | ... M16: =SUM(M17:M18) -> 9 | O16: 福井県計 | P16: =SUM(P17:P18) -> 12 | Q16: =SUM(Q17:Q18) -> 3 | R16: =SUM(R17:R18) -> 9 | S16: =SUM(S17:S18) -> 9 | T16: =SUM(T17:T18) -> 10 | U16: =SUM(U17:U18) -> 0 | V16: =SUM(V17:V18) -> 1 | W16: =SUM(W17:W18) -> 5 | ... Z16: =SUM(Z17:Z18) -> 16 | AB16: 岡山県計 | AC16: =SUM(AC17:AC19) -> 13 | AD16: =SUM(AD17:AD19) -> 19 | AE16: =SUM(AE17:AE19) -> 16 | AF16: =SUM(AF17:AF19) -> 11 | AG16: =SUM(AG17:AG19) -> 11 | AH16: =SUM(AH17:AH19) -> 0 | AI16: =SUM(AI17:AI19) -> 28 | AJ16: =SUM(AJ17:AJ19) -> 3 | ... AM16: =SUM(AM17:AM19) -> 31
B17: 盛岡市 | C17: 0 | D17: 0 | E17: 0 | F17: 0 | G17: 0 | H17: 0 | I17: 0 | J17: 0 | K17: 1 | L17: =SUM(C17:K17) -> 1 | M17: 1 | O17: 福井市 | P17: 3 | Q17: 2 | R17: 0 | S17: 0 | T17: 0 | U17: 0 | V17: 0 | W17: 0 | X17: 0 | Y17: =SUM(P17:X17) -> 5 | Z17: 2 | AB17: 岡山市 | AC17: 3 | AD17: 0 | AE17: 8 | AF17: 0 | AG17: 11 | AH17: 0 | AI17: 20 | AJ17: 0 | AK17: 0 | AL17: =SUM(AC17:AK17) -> 42 | AM17: 8
B18: その他・岩手県 | C18: 1 | D18: 10 | E18: 3 | F18: 6 | G18: 1 | H18: 0 | I18: 0 | J18: 0 | K18: 1 | L18: =SUM(C18:K18) -> 22 | M18: 8 | O18: その他・福井県 | P18: 9 | Q18: 1 | R18: 9 | S18: 9 | T18: 10 | U18: 0 | V18: 1 | W18: 5 | X18: 2 | Y18: =SUM(P18:X18) -> 46 | Z18: 14 | AB18: 倉敷市 | AC18: 10 | AD18: 14 | AE18: 8 | AF18: 3 | AG18: 0 | AH18: 0 | AI18: 0 | AJ18: 2 | AK18: 25 | AL18: =SUM(AC18:AK18) -> 62 | AM18: 14
B19: 宮城県計 | C19: =SUM(C20:C21) -> 1 | D19: =SUM(D20:D21) -> 11 | E19: =SUM(E20:E21) -> 3 | F19: =SUM(F20:F21) -> 15 | G19: =SUM(G20:G21) -> 2 | H19: =SUM(H20:H21) -> 1 | I19: =SUM(I20:I21) -> 5 | J19: =SUM(J20:J21) -> 0 | ... M19: =SUM(M20:M21) -> 14 | O19: 山梨県計 | P19: =SUM(P20:P21) -> 0 | Q19: =SUM(Q20:Q21) -> 4 | R19: =SUM(R20:R21) -> 9 | S19: =SUM(S20:S21) -> 10 | T19: =SUM(T20:T21) -> 1 | U19: =SUM(U20:U21) -> 0 | V19: =SUM(V20:V21) -> 1 | W19: =SUM(W20:W21) -> 0 | ... Z19: =SUM(Z20:Z21) -> 13 | AB19: その他・岡山県 | AC19: 0 | AD19: 5 | AE19: 0 | AF19: 8 | AG19: 0 | AH19: 0 | AI19: 8 | AJ19: 1 | AK19: 0 | AL19: =SUM(AC19:AK19) -> 22 | AM19: 9
B20: 仙台市 | C20: 0 | D20: 0 | E20: 0 | F20: 3 | G20: 0 | H20: 1 | I20: 2 | J20: 0 | K20: 0 | L20: =SUM(C20:K20) -> 6 | M20: 2 | O20: 甲府市 | P20: 0 | Q20: 0 | R20: 3 | S20: 0 | T20: 0 | U20: 0 | V20: 0 | W20: 0 | X20: 0 | Y20: =SUM(P20:X20) -> 3 | Z20: 1 | AB20: 広島県計 | AC20: =SUM(AC21:AC24) -> 0 | AD20: =SUM(AD21:AD24) -> 35 | AE20: =SUM(AE21:AE24) -> 6 | AF20: =SUM(AF21:AF24) -> 17 | AG20: =SUM(AG21:AG24) -> 3 | AH20: =SUM(AH21:AH24) -> 2 | AI20: =SUM(AI21:AI24) -> 4 | AJ20: =SUM(AJ21:AJ24) -> 3 | ... AM20: =SUM(AM21:AM24) -> 24
B21: その他・宮城県 | C21: 1 | D21: 11 | E21: 3 | F21: 12 | G21: 2 | H21: 0 | I21: 3 | J21: 0 | K21: 0 | L21: =SUM(C21:K21) -> 32 | M21: 12 | O21: その他・山梨県 | P21: 0 | Q21: 4 | R21: 6 | S21: 10 | T21: 1 | U21: 0 | V21: 1 | W21: 0 | X21: 1 | Y21: =SUM(P21:X21) -> 23 | Z21: 12 | AB21: 広島市 | AC21: 0 | AD21: 17 | AE21: 0 | AF21: 0 | AG21: 0 | AH21: 0 | AI21: 0 | AJ21: 3 | AK21: 0 | AL21: =SUM(AC21:AK21) -> 20 | AM21: 4
B22: 秋田県計 | C22: =SUM(C23:C24) -> 0 | D22: =SUM(D23:D24) -> 0 | E22: =SUM(E23:E24) -> 0 | F22: =SUM(F23:F24) -> 0 | G22: =SUM(G23:G24) -> 0 | H22: =SUM(H23:H24) -> 0 | I22: =SUM(I23:I24) -> 0 | J22: =SUM(J23:J24) -> 0 | ... M22: =SUM(M23:M24) -> 0 | O22: 長野県計 | P22: =SUM(P23:P25) -> 0 | Q22: =SUM(Q23:Q25) -> 3 | R22: =SUM(R23:R25) -> 3 | S22: =SUM(S23:S25) -> 3 | T22: =SUM(T23:T25) -> 4 | U22: =SUM(U23:U25) -> 0 | V22: =SUM(V23:V25) -> 2 | W22: =SUM(W23:W25) -> 0 | ... Z22: =SUM(Z23:Z25) -> 9 | AB22: 呉市 | AC22: 0 | AD22: 4 | AE22: 1 | AF22: 1 | AG22: 0 | AH22: 0 | AI22: 0 | AJ22: 0 | AK22: 0 | AL22: =SUM(AC22:AK22) -> 6 | AM22: 3
B23: 秋田市 | C23: 0 | D23: 0 | E23: 0 | F23: 0 | G23: 0 | H23: 0 | I23: 0 | J23: 0 | K23: 0 | L23: =SUM(C23:K23) -> 0 | M23: 0 | O23: 長野市 | P23: 0 | Q23: 0 | R23: 0 | S23: 0 | T23: 0 | U23: 0 | V23: 0 | W23: 0 | X23: 0 | Y23: =SUM(P23:X23) -> 0 | Z23: 0 | AB23: 福山市 | AC23: 0 | AD23: 0 | AE23: 4 | AF23: 0 | AG23: 3 | AH23: 0 | AI23: 0 | AJ23: 0 | AK23: 0 | AL23: =SUM(AC23:AK23) -> 7 | AM23: 3
B24: その他・秋田県 | C24: 0 | D24: 0 | E24: 0 | F24: 0 | G24: 0 | H24: 0 | I24: 0 | J24: 0 | K24: 0 | L24: =SUM(C24:K24) -> 0 | M24: 0 | O24: 松本市 | P24: 0 | Q24: 0 | R24: 0 | S24: 0 | T24: 0 | U24: 0 | V24: 0 | W24: 0 | X24: 0 | Y24: =SUM(P24:X24) -> 0 | Z24: 0 | AB24: その他・広島県 | AC24: 0 | AD24: 14 | AE24: 1 | AF24: 16 | AG24: 0 | AH24: 2 | AI24: 4 | AJ24: 0 | AK24: 9 | AL24: =SUM(AC24:AK24) -> 46 | AM24: 14
B25: 山形県計 | C25: =SUM(C26:C27) -> 0 | D25: =SUM(D26:D27) -> 3 | E25: =SUM(E26:E27) -> 4 | F25: =SUM(F26:F27) -> 5 | G25: =SUM(G26:G27) -> 1 | H25: =SUM(H26:H27) -> 0 | I25: =SUM(I26:I27) -> 1 | J25: =SUM(J26:J27) -> 0 | ... M25: =SUM(M26:M27) -> 4 | O25: その他・長野県 | P25: 0 | Q25: 3 | R25: 3 | S25: 3 | T25: 4 | U25: 0 | V25: 2 | W25: 0 | X25: 0 | Y25: =SUM(P25:X25) -> 15 | Z25: 9 | AB25: 山口県計 | AC25: =SUM(AC26:AC27) -> 16 | AD25: =SUM(AD26:AD27) -> 23 | AE25: =SUM(AE26:AE27) -> 17 | AF25: =SUM(AF26:AF27) -> 0 | AG25: =SUM(AG26:AG27) -> 2 | AH25: =SUM(AH26:AH27) -> 0 | AI25: =SUM(AI26:AI27) -> 0 | AJ25: =SUM(AJ26:AJ27) -> 4 | ... AM25: =SUM(AM26:AM27) -> 12
B26: 山形市 | C26: 0 | D26: 0 | E26: 0 | F26: 0 | G26: 0 | H26: 0 | I26: 0 | J26: 0 | K26: 0 | L26: =SUM(C26:K26) -> 0 | M26: 0 | O26: 岐阜県計 | P26: =SUM(P27:P28) -> 6 | Q26: =SUM(Q27:Q28) -> 20 | R26: =SUM(R27:R28) -> 10 | S26: =SUM(S27:S28) -> 20 | T26: =SUM(T27:T28) -> 5 | U26: =SUM(U27:U28) -> 0 | V26: =SUM(V27:V28) -> 3 | W26: =SUM(W27:W28) -> 2 | ... Z26: =SUM(Z27:Z28) -> 25 | AB26: 下関市 | AC26: 0 | AD26: 1 | AE26: 0 | AF26: 0 | AG26: 0 | AH26: 0 | AI26: 0 | AJ26: 0 | AK26: 0 | AL26: =SUM(AC26:AK26) -> 1 | AM26: 1
B27: その他・山形県 | C27: 0 | D27: 3 | E27: 4 | F27: 5 | G27: 1 | H27: 0 | I27: 1 | J27: 0 | K27: 1 | L27: =SUM(C27:K27) -> 15 | M27: 4 | O27: 岐阜市 | P27: 0 | Q27: 2 | R27: 0 | S27: 0 | T27: 2 | U27: 0 | V27: 0 | W27: 0 | X27: 0 | Y27: =SUM(P27:X27) -> 4 | Z27: 2 | AB27: その他・山口県 | AC27: 16 | AD27: 22 | AE27: 17 | AF27: 0 | AG27: 2 | AH27: 0 | AI27: 0 | AJ27: 4 | AK27: 11 | AL27: =SUM(AC27:AK27) -> 72 | AM27: 11
B28: 福島県計 | C28: =SUM(C29:C32) -> 10 | D28: =SUM(D29:D32) -> 6 | E28: =SUM(E29:E32) -> 14 | F28: =SUM(F29:F32) -> 40 | G28: =SUM(G29:G32) -> 2 | H28: =SUM(H29:H32) -> 0 | I28: =SUM(I29:I32) -> 9 | J28: =SUM(J29:J32) -> 0 | ... M28: =SUM(M29:M32) -> 20 | O28: その他・岐阜県 | P28: 6 | Q28: 18 | R28: 10 | S28: 20 | T28: 3 | U28: 0 | V28: 3 | W28: 2 | X28: 0 | Y28: =SUM(P28:X28) -> 62 | Z28: 23 | AB28: 徳島県計 | AC28: =SUM(AC29) -> 4 | AD28: =SUM(AD29) -> 1 | AE28: =SUM(AE29) -> 1 | AF28: =SUM(AF29) -> 5 | AG28: =SUM(AG29) -> 7 | AH28: =SUM(AH29) -> 0 | AI28: =SUM(AI29) -> 0 | AJ28: =SUM(AJ29) -> 0 | ... AM28: =SUM(AM29) -> 8
B29: 福島市 | C29: 1 | D29: 0 | E29: 0 | F29: 0 | G29: 0 | H29: 0 | I29: 0 | J29: 0 | K29: 0 | L29: =SUM(C29:K29) -> 1 | M29: 1 | O29: 静岡県計 | P29: =SUM(P30:P32) -> 18 | Q29: =SUM(Q30:Q32) -> 27 | R29: =SUM(R30:R32) -> 35 | S29: =SUM(S30:S32) -> 66 | T29: =SUM(T30:T32) -> 6 | U29: =SUM(U30:U32) -> 6 | V29: =SUM(V30:V32) -> 11 | W29: =SUM(W30:W32) -> 0 | ... Z29: =SUM(Z30:Z32) -> 55 | AB29: 徳島県 | AC29: 4 | AD29: 1 | AE29: 1 | AF29: 5 | AG29: 7 | AH29: 0 | AI29: 0 | AJ29: 0 | AK29: 0 | AL29: =SUM(AC29:AK29) -> 18 | AM29: 8
B30: 郡山市 | C30: 0 | D30: 2 | E30: 2 | F30: 13 | G30: 0 | H30: 0 | I30: 0 | J30: 0 | K30: 3 | L30: =SUM(C30:K30) -> 20 | M30: 5 | O30: 静岡市 | P30: 0 | Q30: 0 | R30: 5 | S30: 4 | T30: 4 | U30: 0 | V30: 1 | W30: 0 | X30: 0 | Y30: =SUM(P30:X30) -> 14 | Z30: 6 | AB30: 香川県計 | AC30: =SUM(AC31:AC32) -> 0 | AD30: =SUM(AD31:AD32) -> 11 | AE30: =SUM(AE31:AE32) -> 1 | AF30: =SUM(AF31:AF32) -> 17 | AG30: =SUM(AG31:AG32) -> 0 | AH30: =SUM(AH31:AH32) -> 0 | AI30: =SUM(AI31:AI32) -> 1 | AJ30: =SUM(AJ31:AJ32) -> 2 | ... AM30: =SUM(AM31:AM32) -> 14
B31: いわき市 | C31: 5 | D31: 1 | E31: 0 | F31: 4 | G31: 0 | H31: 0 | I31: 0 | J31: 0 | K31: 0 | L31: =SUM(C31:K31) -> 10 | M31: 4 | O31: 浜松市 | P31: 0 | Q31: 0 | R31: 3 | S31: 0 | T31: 0 | U31: 0 | V31: 0 | W31: 0 | X31: 0 | Y31: =SUM(P31:X31) -> 3 | Z31: 1 | AB31: 高松市 | AC31: 0 | AD31: 0 | AE31: 1 | AF31: 0 | AG31: 0 | AH31: 0 | AI31: 0 | AJ31: 0 | AK31: 0 | AL31: =SUM(AC31:AK31) -> 1 | AM31: 1
B32: その他・福島県 | C32: 4 | D32: 3 | E32: 12 | F32: 23 | G32: 2 | H32: 0 | I32: 9 | J32: 0 | K32: 0 | L32: =SUM(C32:K32) -> 53 | M32: 10 | O32: その他・静岡県 | P32: 18 | Q32: 27 | R32: 27 | S32: 62 | T32: 2 | U32: 6 | V32: 10 | W32: 0 | X32: 9 | Y32: =SUM(P32:X32) -> 161 | Z32: 48 | AB32: その他・香川県 | AC32: 0 | AD32: 11 | AE32: 0 | AF32: 17 | AG32: 0 | AH32: 0 | AI32: 1 | AJ32: 2 | AK32: 0 | AL32: =SUM(AC32:AK32) -> 31 | AM32: 13
B33: 茨城県計 | C33: =SUM(C34:C35) -> 32 | D33: =SUM(D34:D35) -> 38 | E33: =SUM(E34:E35) -> 23 | F33: =SUM(F34:F35) -> 77 | G33: =SUM(G34:G35) -> 6 | H33: =SUM(H34:H35) -> 6 | I33: =SUM(I34:I35) -> 41 | J33: =SUM(J34:J35) -> 1 | ... M33: =SUM(M34:M35) -> 64 | O33: 愛知県計 | P33: =SUM(P34:P39) -> 5 | Q33: =SUM(Q34:Q39) -> 118 | R33: =SUM(R34:R39) -> 23 | S33: =SUM(S34:S39) -> 91 | T33: =SUM(T34:T39) -> 14 | U33: =SUM(U34:U39) -> 16 | V33: =SUM(V34:V39) -> 18 | W33: =SUM(W34:W39) -> 12 | ... Z33: =SUM(Z34:Z39) -> 70 | AB33: 愛媛県計 | AC33: =SUM(AC34:AC35) -> 11 | AD33: =SUM(AD34:AD35) -> 1 | AE33: =SUM(AE34:AE35) -> 1 | AF33: =SUM(AF34:AF35) -> 17 | AG33: =SUM(AG34:AG35) -> 0 | AH33: =SUM(AH34:AH35) -> 0 | AI33: =SUM(AI34:AI35) -> 8 | AJ33: =SUM(AJ34:AJ35) -> 0 | ... AM33: =SUM(AM34:AM35) -> 13
B34: 水戸市 | C34: 0 | D34: 0 | E34: 0 | F34: 0 | G34: 0 | H34: 0 | I34: 4 | J34: 0 | K34: 0 | L34: =SUM(C34:K34) -> 4 | M34: 1 | O34: 名古屋市 | P34: 0 | Q34: 9 | R34: 8 | S34: 5 | T34: 1 | U34: 0 | V34: 0 | W34: 0 | X34: 0 | Y34: =SUM(P34:X34) -> 23 | Z34: 5 | AB34: 松山市 | AC34: 8 | AD34: 0 | AE34: 1 | AF34: 0 | AG34: 0 | AH34: 0 | AI34: 0 | AJ34: 0 | AK34: 1 | AL34: =SUM(AC34:AK34) -> 10 | AM34: 2
B35: その他・茨城県 | C35: 32 | D35: 38 | E35: 23 | F35: 77 | G35: 6 | H35: 6 | I35: 37 | J35: 1 | K35: 9 | L35: =SUM(C35:K35) -> 229 | M35: 63 | O35: 豊橋市 | P35: 0 | Q35: 0 | R35: 0 | S35: 55 | T35: 0 | U35: 0 | V35: 5 | W35: 0 | X35: 0 | Y35: =SUM(P35:X35) -> 60 | Z35: 3 | AB35: その他・愛媛県 | AC35: 3 | AD35: 1 | AE35: 0 | AF35: 17 | AG35: 0 | AH35: 0 | AI35: 8 | AJ35: 0 | AK35: 6 | AL35: =SUM(AC35:AK35) -> 35 | AM35: 11
B36: 栃木県計 | C36: =SUM(C37:C38) -> 0 | D36: =SUM(D37:D38) -> 26 | E36: =SUM(E37:E38) -> 20 | F36: =SUM(F37:F38) -> 41 | G36: =SUM(G37:G38) -> 8 | H36: =SUM(H37:H38) -> 4 | I36: =SUM(I37:I38) -> 2 | J36: =SUM(J37:J38) -> 12 | ... M36: =SUM(M37:M38) -> 39 | O36: 岡崎市 | P36: 0 | Q36: 7 | R36: 1 | S36: 0 | T36: 4 | U36: 0 | V36: 0 | W36: 0 | X36: 0 | Y36: =SUM(P36:X36) -> 12 | Z36: 4 | AB36: 高知県計 | AC36: =SUM(AC37:AC38) -> 0 | AD36: =SUM(AD37:AD38) -> 6 | AE36: =SUM(AE37:AE38) -> 0 | AF36: =SUM(AF37:AF38) -> 0 | AG36: =SUM(AG37:AG38) -> 0 | AH36: =SUM(AH37:AH38) -> 0 | AI36: =SUM(AI37:AI38) -> 0 | AJ36: =SUM(AJ37:AJ38) -> 0 | ... AM36: =SUM(AM37:AM38) -> 2
B37: 宇都宮市 | C37: 0 | D37: 1 | E37: 2 | F37: 13 | G37: 1 | H37: 0 | I37: 0 | J37: 0 | K37: 0 | L37: =SUM(C37:K37) -> 17 | M37: 7 | O37: 一宮市 | P37: 0 | Q37: 2 | R37: 0 | S37: 2 | T37: 0 | U37: 0 | V37: 2 | W37: 0 | X37: 0 | Y37: =SUM(P37:X37) -> 6 | Z37: 3 | AB37: 高知市 | AC37: 0 | AD37: 6 | AE37: 0 | AF37: 0 | AG37: 0 | AH37: 0 | AI37: 0 | AJ37: 0 | AK37: 1 | AL37: =SUM(AC37:AK37) -> 7 | AM37: 2
B38: その他・栃木県 | C38: 0 | D38: 25 | E38: 18 | F38: 28 | G38: 7 | H38: 4 | I38: 2 | J38: 12 | K38: 0 | L38: =SUM(C38:K38) -> 96 | M38: 32 | O38: 豊田市 | P38: 0 | Q38: 38 | R38: 0 | S38: 0 | T38: 0 | U38: 0 | V38: 0 | W38: 11 | X38: 0 | Y38: =SUM(P38:X38) -> 49 | Z38: 6 | AB38: その他・高知県 | AC38: 0 | AD38: 0 | AE38: 0 | AF38: 0 | AG38: 0 | AH38: 0 | AI38: 0 | AJ38: 0 | AK38: 0 | AL38: =SUM(AC38:AK38) -> 0 | AM38: 0
B39: 群馬県計 | C39: =SUM(C40:C42) -> 0 | D39: =SUM(D40:D42) -> 41 | E39: =SUM(E40:E42) -> 13 | F39: =SUM(F40:F42) -> 51 | G39: =SUM(G40:G42) -> 8 | H39: =SUM(H40:H42) -> 0 | I39: =SUM(I40:I42) -> 14 | J39: =SUM(J40:J42) -> 3 | ... M39: =SUM(M40:M42) -> 34 | O39: その他・愛知県 | P39: 5 | Q39: 62 | R39: 14 | S39: 29 | T39: 9 | U39: 16 | V39: 11 | W39: 1 | X39: 3 | Y39: =SUM(P39:X39) -> 150 | Z39: 49 | AB39: 福岡県計 | AC39: =SUM(AC40:AC43) -> 0 | AD39: =SUM(AD40:AD43) -> 35 | AE39: =SUM(AE40:AE43) -> 8 | AF39: =SUM(AF40:AF43) -> 33 | AG39: =SUM(AG40:AG43) -> 12 | AH39: =SUM(AH40:AH43) -> 1 | AI39: =SUM(AI40:AI43) -> 12 | AJ39: =SUM(AJ40:AJ43) -> 1 | ... AM39: =SUM(AM40:AM43) -> 35
B40: 前橋市 | C40: 0 | D40: 0 | E40: 0 | F40: 0 | G40: 0 | H40: 0 | I40: 0 | J40: 0 | K40: 0 | L40: =SUM(C40:K40) -> 0 | M40: 0 | O40: 三重県計 | P40: =SUM(P41) -> 26 | Q40: =SUM(Q41) -> 29 | R40: =SUM(R41) -> 7 | S40: =SUM(S41) -> 32 | T40: =SUM(T41) -> 5 | U40: =SUM(U41) -> 0 | V40: =SUM(V41) -> 8 | W40: =SUM(W41) -> 41 | ... Z40: =SUM(Z41) -> 39 | AB40: 北九州市 | AC40: 0 | AD40: 4 | AE40: 5 | AF40: 8 | AG40: 3 | AH40: 1 | AI40: 3 | AJ40: 1 | AK40: 12 | AL40: =SUM(AC40:AK40) -> 37 | AM40: 11
B41: 高崎市 | C41: 0 | D41: 2 | E41: 0 | F41: 0 | G41: 0 | H41: 0 | I41: 0 | J41: 1 | K41: 0 | L41: =SUM(C41:K41) -> 3 | M41: 2 | O41: 三重県 | P41: 26 | Q41: 29 | R41: 7 | S41: 32 | T41: 5 | U41: 0 | V41: 8 | W41: 41 | X41: 3 | Y41: =SUM(P41:X41) -> 151 | Z41: 39 | AB41: 福岡市 | AC41: 0 | AD41: 0 | AE41: 0 | AF41: 0 | AG41: 0 | AH41: 0 | AI41: 0 | AJ41: 0 | AK41: 0 | AL41: =SUM(AC41:AK41) -> 0 | AM41: 0
B42: その他・群馬県 | C42: 0 | D42: 39 | E42: 13 | F42: 51 | G42: 8 | H42: 0 | I42: 14 | J42: 2 | K42: 0 | L42: =SUM(C42:K42) -> 127 | M42: 32 | O42: 滋賀県計 | P42: =SUM(P43:P44) -> 7 | Q42: =SUM(Q43:Q44) -> 11 | R42: =SUM(R43:R44) -> 36 | S42: =SUM(S43:S44) -> 58 | T42: =SUM(T43:T44) -> 18 | U42: =SUM(U43:U44) -> 2 | V42: =SUM(V43:V44) -> 14 | W42: =SUM(W43:W44) -> 17 | ... Z42: =SUM(Z43:Z44) -> 49 | AB42: 久留米市 | AC42: 0 | AD42: 0 | AE42: 0 | AF42: 0 | AG42: 5 | AH42: 0 | AI42: 0 | AJ42: 0 | AK42: 0 | AL42: =SUM(AC42:AK42) -> 5 | AM42: 2
...
