Workbook
Name テスト: #REF!
Name 自治体名称: #REF!

Sheet 表3.1
B2: 表3.1 届出件数 年度別・施設種類別－全国（一般粉じん発生施設）
B4: 令別表 第２の 項番号 | C4: 施設名 | D4: 平成30年度 | I4: 令和元年度 | N4: 令和２年度 | S4: 令和３年度 | X4: 令和４年度
D5: 全施設 （注1) | I5: 全施設 （注1) | N5: 全施設 （注1) | S5: 全施設 （注1) | X5: 全施設 （注1)
E6: 大気 | F6: 電気 | G6: ガス | H6: 鉱山 | J6: 大気 | K6: 電気 | L6: ガス | M6: 鉱山 | O6: 大気 | P6: 電気 | Q6: ガス | R6: 鉱山 | T6: 大気 | U6: 電気 | V6: ガス | W6: 鉱山 | Y6: 大気 | Z6: 電気 | AA6: ガス | AB6: 鉱山
B7: 1項 | C7: コークス炉 | D7: =SUM(E7:H7) -> 86 | E7: 81 | F7: 0 | G7: 0 | H7: 5 | I7: =SUM(J7:M7) -> 81 | J7: 81 | K7: 0 | L7: 0 | M7: 0 | N7: =SUM(O7:R7) -> 81 | O7: 81 | P7: 0 | Q7: 0 | R7: 0 | S7: =SUM(T7:W7) -> 77 | T7: 77 | U7: 0 | V7: 0 | W7: 0 | X7: =SUM(Y7:AB7) -> 78 | Y7: ='表3.2'!J11 -> 78 | Z7: ='表3.2'!L11 -> 0 | AA7: ='表3.2'!M11 -> 0 | AB7: ='表3.2'!N11 -> 0
B8: 2項 | C8: 堆積場 | D8: =SUM(E8:H8) -> 12426 | E8: 11783 | F8: 125 | G8: 0 | H8: 518 | I8: =SUM(J8:M8) -> 12563 | J8: 11931 | K8: 127 | L8: 0 | M8: 505 | N8: =SUM(O8:R8) -> 12835 | O8: 12225 | P8: 131 | Q8: 0 | R8: 479 | S8: =SUM(T8:W8) -> 13177 | T8: 12549 | U8: 133 | V8: 0 | W8: 495 | X8: =SUM(Y8:AB8) -> 13382 | Y8: ='表3.2'!J12 -> 12742 | Z8: ='表3.2'!L12 -> 134 | AA8: ='表3.2'!M12 -> 0 | AB8: ='表3.2'!N12 -> 506
B9: 3項 | C9: コンベア | D9: =SUM(E9:H9) -> 41183 | E9: 37554 | F9: 915 | G9: 0 | H9: 2714 | I9: =SUM(J9:M9) -> 40885 | J9: 37421 | K9: 988 | L9: 0 | M9: 2476 | N9: =SUM(O9:R9) -> 41338 | O9: 37868 | P9: 999 | Q9: 0 | R9: 2471 | S9: =SUM(T9:W9) -> 41395 | T9: 37944 | U9: 997 | V9: 0 | W9: 2454 | X9: =SUM(Y9:AB9) -> 40983 | Y9: ='表3.2'!J13 -> 37547 | Z9: ='表3.2'!L13 -> 987 | AA9: ='表3.2'!M13 -> 0 | AB9: ='表3.2'!N13 -> 2449
B10: 4項 | C10: 破砕機 ・摩砕機 | D10: =SUM(E10:H10) -> 10037 | E10: 9400 | F10: 32 | G10: 0 | H10: 605 | I10: =SUM(J10:M10) -> 9947 | J10: 9326 | K10: 32 | L10: 0 | M10: 589 | N10: =SUM(O10:R10) -> 9947 | O10: 9353 | P10: 32 | Q10: 0 | R10: 562 | S10: =SUM(T10:W10) -> 9917 | T10: 9329 | U10: 32 | V10: 0 | W10: 556 | X10: =SUM(Y10:AB10) -> 9883 | Y10: ='表3.2'!J14 -> 9300 | Z10: ='表3.2'!L14 -> 32 | AA10: ='表3.2'!M14 -> 0 | AB10: ='表3.2'!N14 -> 551
B11: 5項 | C11: ふるい | D11: =SUM(E11:H11) -> 6667 | E11: 6081 | F11: 33 | G11: 0 | H11: 553 | I11: =SUM(J11:M11) -> 6627 | J11: 6045 | K11: 37 | L11: 0 | M11: 545 | N11: =SUM(O11:R11) -> 6668 | O11: 6128 | P11: 35 | Q11: 0 | R11: 505 | S11: =SUM(T11:W11) -> 6660 | T11: 6126 | U11: 36 | V11: 0 | W11: 498 | X11: =SUM(Y11:AB11) -> 6597 | Y11: ='表3.2'!J15 -> 6072 | Z11: ='表3.2'!L15 -> 36 | AA11: ='表3.2'!M15 -> 0 | AB11: ='表3.2'!N15 -> 489
B12: 施設合計 | D12: =SUM(D7:D11) -> 70399 | E12: =SUM(E7:E11) -> 64899 | F12: =SUM(F7:F11) -> 1105 | G12: =SUM(G7:G11) -> 0 | H12: =SUM(H7:H11) -> 4395 | I12: =SUM(I7:I11) -> 70103 | J12: =SUM(J7:J11) -> 64804 | K12: =SUM(K7:K11) -> 1184 | ... AB12: =SUM(AB7:AB11) -> 3995
B13: 届出工場・ 事業場合計 （注2） | D13: 10671 | E13: 10333 | F13: 67 | G13: 0 | H13: 251 | I13: 10742 | J13: 10476 | K13: 64 | L13: 0 | M13: 250 | N13: 10868 | O13: 10613 | P13: 64 | Q13: 0 | R13: 259 | S13: 10967 | T13: 10734 | U13: 66 | V13: 0 | W13: 254 | X13: ='表3.2'!O17 -> 11148 | Y13: ='表3.2'!J17 -> 10872 | Z13: ='表3.2'!L17 -> 64 | AA13: ='表3.2'!M17 -> 0 | AB13: ='表3.2'!N17 -> 261
B14: （注1）「大気」：大気汚染防止法届出一般粉じん発生施設、「電気」：電気事業法に係る一般粉じん発生施設、「ガス」：ガス事業法に係る一般粉じん発生施設、「鉱山」：鉱山保安法に係る一般粉じん発生施設を示す。
B15: （注2）「届出工場・事業場合計」の「全施設数」は、「大気」、「電気」、「ガス」、「鉱山」で重複する工場・事業場を除いた実数である。

Sheet 表3.2
B2: 表3.2 届出件数 届出種類別・施設種類別－全国（一般粉じん発生施設）
B4: 令別表 第２の 項番号 | C4: 施設名 | D4: 前年度 末現在 の届出 施設数 | E4: 年度中の大気汚染防止法に係る届出数 | I4: 届出以外の 理由による 年度中の 増減 | J4: 年度末 現在の 届出施 設数 | K4: 年度中の 変更届出 施設数 (法第18条 第3項) | L4: 年度末現在の電気事業法･ガス 事業法・鉱山保安法に係る 一般粉じん発生施設数 | O4: 合計
E6: 設置届出 (法第18条 第1項) | F6: 使用届出 (法第18条 の2第1項) | G6: 使用廃止届出 (法第18条 の13第2項) | H6: 年度中 の増減
L8: 電気 | M8: ガス | N8: 鉱山
H9: (E)= | J9: (F)= (A)+(E)+(E)' | O9: (K)=(F)+
D10: (A) | E10: (B) | F10: (C) | G10: (D) | H10: (B)+(C)-(D) | I10: (E)' | K10: (G) | L10: (H) | M10: (I) | N10: (J) | O10: (H)+(I)+(J)
B11: 1項 | C11: コークス炉 | D11: 77 | E11: 1 | F11: 0 | G11: 0 | H11: =E11+F11-G11 -> 1 | I11: 0 | J11: =D11+H11+I11 -> 78 | K11: 3 | L11: 0 | M11: 0 | N11: 0 | O11: =J11+L11+M11+N11 -> 78
B12: 2項 | C12: 堆積場 | D12: 12549 | E12: 478 | F12: 20 | G12: 285 | H12: =E12+F12-G12 -> 213 | I12: -20 | J12: =D12+H12+I12 -> 12742 | K12: 225 | L12: 134 | M12: 0 | N12: 506 | O12: =J12+L12+M12+N12 -> 13382
B13: 3項 | C13: コンベア | D13: 37944 | E13: 528 | F13: 12 | G13: 913 | H13: =E13+F13-G13 -> -373 | I13: -24 | J13: =D13+H13+I13 -> 37547 | K13: 596 | L13: 987 | M13: 0 | N13: 2449 | O13: =J13+L13+M13+N13 -> 40983
B14: 4項 | C14: 破砕機・摩砕機 | D14: 9329 | E14: 124 | F14: 0 | G14: 158 | H14: =E14+F14-G14 -> -34 | I14: 5 | J14: =D14+H14+I14 -> 9300 | K14: 120 | L14: 32 | M14: 0 | N14: 551 | O14: =J14+L14+M14+N14 -> 9883
B15: 5項 | C15: ふるい | D15: 6126 | E15: 92 | F15: 0 | G15: 144 | H15: =E15+F15-G15 -> -52 | I15: -2 | J15: =D15+H15+I15 -> 6072 | K15: 90 | L15: 36 | M15: 0 | N15: 489 | O15: =J15+L15+M15+N15 -> 6597
B16: 施設合計 | D16: =SUM(D11:D15) -> 66025 | E16: =SUM(E11:E15) -> 1223 | F16: =SUM(F11:F15) -> 32 | G16: =SUM(G11:G15) -> 1500 | H16: =SUM(H11:H15) -> -245 | I16: =SUM(I11:I15) -> -41 | J16: =SUM(J11:J15) -> 65739 | K16: =SUM(K11:K15) -> 1034 | ... O16: =SUM(O11:O15) -> 70923
B17: 届出工場・事業場合計（注1） | D17: 10734 | J17: 10872 | L17: 64 | M17: 0 | N17: 261 | O17: 11148
B18: （注1）「届出工場・事業場合計」の「合計(Ｋ)」は、「年度末現在の届出施設数(Ｆ)」、「電気(Ｈ)」、「ガス(Ｉ)」、「鉱山(Ｊ)」で重複する工場・事業場を除いた実数である。

Sheet 表3.3
B2: 表3.3(1) 届出件数 届出種類別・都道府県市別（一般粉じん発生施設） | P2: 表3.3(2) 届出件数 届出種類別・都道府県市別（一般粉じん発生施設） | AD2: 表3.3(3) 届出件数 届出種類別・都道府県市別（一般粉じん発生施設）
B4: 自治体名 | C4: 前年度末現在の届出施設数 | D4: 年度中の大気汚染防止法に係る届出数 | H4: 届出以外の理由による年度中の増減 | I4: 年度末現在の届出施設数 | J4: 年度中の変更届出施設数 (法第18 条第3項) | K4: 年度末現在の電気事業法･ ガス事業法・鉱山保安法 に係る一般粉じん 発生施設数 | N4: 合計 | P4: 自治体名 | Q4: 前年度末現在の届出施設数 | R4: 年度中の大気汚染防止法に係る届出数 | V4: 届出以外の理由による年度中の増減 | W4: 年度末現在の届出施設数 | X4: 年度中の変更届出施設数 (法第18 条第3項) | Y4: 年度末現在の電気事業法･ ガス事業法・鉱山保安法 に係る一般粉じん 発生施設数 | AB4: 合計 | AD4: 自治体名 | AE4: 前年度末現在の届出施設数 | AF4: 年度中の大気汚染防止法に係る届出数 | AJ4: 届出以外の理由による年度中の増減 | AK4: 年度末現在の届出施設数 | AL4: 年度中の変更届出施設数 (法第18 条第3項) | AM4: 年度末現在の電気事業法･ ガス事業法・鉱山保安法 に係る一般粉じん 発生施設数 | AP4: 合計
D6: 設置届出 (法第18条第1項) | E6: 使用届出 (法第18条の2 第1項) | F6: 使用廃止届出 (法第18条の13 第2項) | G6: 年度中の増減 | R6: 設置届出 (法第18条第1項) | S6: 使用届出 (法第18条の2 第1項) | T6: 使用廃止届出 (法第18条の13 第2項) | U6: 年度中の増減 | AF6: 設置届出 (法第18条第1項) | AG6: 使用届出 (法第18条の2 第1項) | AH6: 使用廃止届出 (法第18条の13 第2項) | AI6: 年度中の増減
K8: 電気 | L8: ガス | M8: 鉱山 | N8: (K)= | Y8: 電気 | Z8: ガス | AA8: 鉱山 | AB8: (K)= | AM8: 電気 | AN8: ガス | AO8: 鉱山 | AP8: (K)=
G9: (E)= | I9: (F)= | N9: (F)+(H)+ | U9: (E)= | W9: (F)= | AB9: (F)+(H)+ | AI9: (E)= | AK9: (F)= | AP9: (F)+(H)+
C10: (A) | D10: (B) | E10: (C) | F10: (D) | G10: (B)+(C)-(D) | H10: (E') | I10: (E)+(E')+(A) | J10: (G) | K10: （H） | L10: （I） | M10: （J） | N10: (I)+(J) | Q10: (A) | R10: (B) | S10: (C) | T10: (D) | U10: (B)+(C)-(D) | V10: (E') | W10: (E)+(E')+(A) | X10: (G) | Y10: （H） | Z10: （I） | AA10: （J） | AB10: (I)+(J) | AE10: (A) | AF10: (B) | AG10: (C) | AH10: (D) | AI10: (B)+(C)-(D) | AJ10: (E') | AK10: (E)+(E')+(A) | AL10: (G) | AM10: （H） | AN10: （I） | AO10: （J） | AP10: (I)+(J)
B11: 北海道計 | C11: =SUM(C12:C18) -> 4674 | D11: =SUM(D12:D18) -> 116 | E11: =SUM(E12:E18) -> 0 | F11: =SUM(F12:F18) -> 120 | G11: =SUM(G12:G18) -> -4 | H11: =SUM(H12:H18) -> 7 | I11: =SUM(I12:I18) -> 4677 | J11: =SUM(J12:J18) -> 24 | ... N11: =SUM(N12:N18) -> 4740 | P11: 新潟県計 | Q11: =SUM(Q12:Q15) -> 830 | R11: =SUM(R12:R15) -> 25 | S11: =SUM(S12:S15) -> 0 | T11: =SUM(T12:T15) -> 11 | U11: =SUM(U12:U15) -> 14 | V11: =SUM(V12:V15) -> -8 | W11: =SUM(W12:W15) -> 836 | X11: =SUM(X12:X15) -> 2 | ... AB11: =SUM(AB12:AB15) -> 892 | AD11: 和歌山県計 | AE11: =SUM(AE12:AE13) -> 1550 | AF11: =SUM(AF12:AF13) -> 13 | AG11: =SUM(AG12:AG13) -> 0 | AH11: =SUM(AH12:AH13) -> 4 | AI11: =SUM(AI12:AI13) -> 9 | AJ11: =SUM(AJ12:AJ13) -> 0 | AK11: =SUM(AK12:AK13) -> 1559 | AL11: =SUM(AL12:AL13) -> 3 | ... AP11: =SUM(AP12:AP13) -> 1559
B12: 札幌市 | C12: 226 | D12: 10 | E12: 0 | F12: 24 | G12: =D12+E12-F12 -> -14 | H12: 1 | I12: =C12+G12+H12 -> 213 | J12: 0 | K12: 0 | L12: 0 | M12: 0 | N12: =I12+SUM(K12:M12) -> 213 | P12: 新潟市 | Q12: 106 | R12: 1 | S12: 0 | T12: 0 | U12: =R12+S12-T12 -> 1 | V12: 0 | W12: =Q12+U12+V12 -> 107 | X12: 0 | Y12: 0 | Z12: 0 | AA12: 0 | AB12: =W12+SUM(Y12:AA12) -> 107 | AD12: 和歌山市 | AE12: 1081 | AF12: 6 | AG12: 0 | AH12: 0 | AI12: =AF12+AG12-AH12 -> 6 | AJ12: 0 | AK12: =AE12+AI12+AJ12 -> 1087 | AL12: 0 | AM12: 0 | AN12: 0 | AO12: 0 | AP12: =AK12+SUM(AM12:AO12) -> 1087
B13: 函館市 | C13: 36 | D13: 1 | E13: 0 | F13: 0 | G13: =D13+E13-F13 -> 1 | H13: 0 | I13: =C13+G13+H13 -> 37 | J13: 0 | K13: 0 | L13: 0 | M13: 0 | N13: =I13+SUM(K13:M13) -> 37 | P13: 長岡市 | Q13: 64 | R13: 0 | S13: 0 | T13: 0 | U13: =R13+S13-T13 -> 0 | V13: 0 | W13: =Q13+U13+V13 -> 64 | X13: 0 | Y13: 0 | Z13: 0 | AA13: 0 | AB13: =W13+SUM(Y13:AA13) -> 64 | AD13: その他・和歌山県 | AE13: 469 | AF13: 7 | AG13: 0 | AH13: 4 | AI13: =AF13+AG13-AH13 -> 3 | AJ13: 0 | AK13: =AE13+AI13+AJ13 -> 472 | AL13: 3 | AM13: 0 | AN13: 0 | AO13: 0 | AP13: =AK13+SUM(AM13:AO13) -> 472
B14: 小樽市 | C14: 13 | D14: 7 | E14: 0 | F14: 0 | G14: =D14+E14-F14 -> 7 | H14: 0 | I14: =C14+G14+H14 -> 20 | J14: 0 | K14: 0 | L14: 0 | M14: 0 | N14: =I14+SUM(K14:M14) -> 20 | P14: 上越市 | Q14: 86 | R14: 1 | S14: 0 | T14: 6 | U14: =R14+S14-T14 -> -5 | V14: 0 | W14: =Q14+U14+V14 -> 81 | X14: 1 | Y14: 0 | Z14: 0 | AA14: 0 | AB14: =W14+SUM(Y14:AA14) -> 81 | AD14: 鳥取県計 | AE14: =SUM(AE15:AE16) -> 334 | AF14: =SUM(AF15:AF16) -> 0 | AG14: =SUM(AG15:AG16) -> 0 | AH14: =SUM(AH15:AH16) -> 0 | AI14: =SUM(AI15:AI16) -> 0 | AJ14: =SUM(AJ15:AJ16) -> 0 | AK14: =SUM(AK15:AK16) -> 334 | AL14: =SUM(AL15:AL16) -> 0 | ... AP14: =SUM(AP15:AP16) -> 334
B15: 旭川市 | C15: 44 | D15: 3 | E15: 0 | F15: 3 | G15: =D15+E15-F15 -> 0 | H15: 5 | I15: =C15+G15+H15 -> 49 | J15: 0 | K15: 0 | L15: 0 | M15: 0 | N15: =I15+SUM(K15:M15) -> 49 | P15: その他・新潟県 | Q15: 574 | R15: 23 | S15: 0 | T15: 5 | U15: =R15+S15-T15 -> 18 | V15: -8 | W15: =Q15+U15+V15 -> 584 | X15: 1 | Y15: 0 | Z15: 0 | AA15: 56 | AB15: =W15+SUM(Y15:AA15) -> 640 | AD15: 鳥取市 | AE15: 118 | AF15: 0 | AG15: 0 | AH15: 0 | AI15: =AF15+AG15-AH15 -> 0 | AJ15: 0 | AK15: =AE15+AI15+AJ15 -> 118 | AL15: 0 | AM15: 0 | AN15: 0 | AO15: 0 | AP15: =AK15+SUM(AM15:AO15) -> 118
B16: 室蘭市 | C16: 5 | D16: 0 | E16: 0 | F16: 0 | G16: =D16+E16-F16 -> 0 | H16: 0 | I16: =C16+G16+H16 -> 5 | J16: 0 | K16: 0 | L16: 0 | M16: 0 | N16: =I16+SUM(K16:M16) -> 5 | P16: 富山県計 | Q16: =SUM(Q17:Q18) -> 1191 | R16: =SUM(R17:R18) -> 18 | S16: =SUM(S17:S18) -> 0 | T16: =SUM(T17:T18) -> 3 | U16: =SUM(U17:U18) -> 15 | V16: =SUM(V17:V18) -> -1 | W16: =SUM(W17:W18) -> 1205 | X16: =SUM(X17:X18) -> 3 | ... AB16: =SUM(AB17:AB18) -> 1208 | AD16: その他・鳥取県 | AE16: 216 | AF16: 0 | AG16: 0 | AH16: 0 | AI16: =AF16+AG16-AH16 -> 0 | AJ16: 0 | AK16: =AE16+AI16+AJ16 -> 216 | AL16: 0 | AM16: 0 | AN16: 0 | AO16: 0 | AP16: =AK16+SUM(AM16:AO16) -> 216
B17: 苫小牧市 | C17: 18 | D17: 0 | E17: 0 | F17: 1 | G17: =D17+E17-F17 -> -1 | H17: 0 | I17: =C17+G17+H17 -> 17 | J17: 0 | K17: 0 | L17: 0 | M17: 0 | N17: =I17+SUM(K17:M17) -> 17 | P17: 富山市 | Q17: 303 | R17: 1 | S17: 0 | T17: 0 | U17: =R17+S17-T17 -> 1 | V17: 0 | W17: =Q17+U17+V17 -> 304 | X17: 0 | Y17: 0 | Z17: 0 | AA17: 0 | AB17: =W17+SUM(Y17:AA17) -> 304 | AD17: 島根県計 | AE17: =SUM(AE18:AE19) -> 600 | AF17: =SUM(AF18:AF19) -> 14 | AG17: =SUM(AG18:AG19) -> 0 | AH17: =SUM(AH18:AH19) -> 20 | AI17: =SUM(AI18:AI19) -> -6 | AJ17: =SUM(AJ18:AJ19) -> 0 | AK17: =SUM(AK18:AK19) -> 594 | AL17: =SUM(AL18:AL19) -> 4 | ... AP17: =SUM(AP18:AP19) -> 606
B18: その他・北海道 | C18: 4332 | D18: 95 | E18: 0 | F18: 92 | G18: =D18+E18-F18 -> 3 | H18: 1 | I18: =C18+G18+H18 -> 4336 | J18: 24 | K18: 44 | L18: 0 | M18: 19 | N18: =I18+SUM(K18:M18) -> 4399 | P18: その他・富山県 | Q18: 888 | R18: 17 | S18: 0 | T18: 3 | U18: =R18+S18-T18 -> 14 | V18: -1 | W18: =Q18+U18+V18 -> 901 | X18: 3 | Y18: 1 | Z18: 0 | AA18: 2 | AB18: =W18+SUM(Y18:AA18) -> 904 | AD18: 松江市 | AE18: 72 | AF18: 1 | AG18: 0 | AH18: 0 | AI18: =AF18+AG18-AH18 -> 1 | AJ18: 0 | AK18: =AE18+AI18+AJ18 -> 73 | AL18: 0 | AM18: 0 | AN18: 0 | AO18: 0 | AP18: =AK18+SUM(AM18:AO18) -> 73
B19: 青森県計 | C19: =SUM(C20:C22) -> 1378 | D19: =SUM(D20:D22) -> 20 | E19: =SUM(E20:E22) -> 0 | F19: =SUM(F20:F22) -> 12 | G19: =SUM(G20:G22) -> 8 | H19: =SUM(H20:H22) -> 0 | I19: =SUM(I20:I22) -> 1386 | J19: =SUM(J20:J22) -> 12 | ... N19: =SUM(N20:N22) -> 1544 | P19: 石川県計 | Q19: =SUM(Q20:Q21) -> 653 | R19: =SUM(R20:R21) -> 8 | S19: =SUM(S20:S21) -> 1 | T19: =SUM(T20:T21) -> 4 | U19: =SUM(U20:U21) -> 5 | V19: =SUM(V20:V21) -> -10 | W19: =SUM(W20:W21) -> 648 | X19: =SUM(X20:X21) -> 2 | ... AB19: =SUM(AB20:AB21) -> 657 | AD19: その他・島根県 | AE19: 528 | AF19: 13 | AG19: 0 | AH19: 20 | AI19: =AF19+AG19-AH19 -> -7 | AJ19: 0 | AK19: =AE19+AI19+AJ19 -> 521 | AL19: 4 | AM19: 10 | AN19: 0 | AO19: 2 | AP19: =AK19+SUM(AM19:AO19) -> 533
B20: 青森市 | C20: 133 | D20: 0 | E20: 0 | F20: 0 | G20: =D20+E20-F20 -> 0 | H20: 0 | I20: =C20+G20+H20 -> 133 | J20: 0 | K20: 0 | L20: 0 | M20: 12 | N20: =I20+SUM(K20:M20) -> 145 | P20: 金沢市 | Q20: 100 | R20: 0 | S20: 0 | T20: 1 | U20: =R20+S20-T20 -> -1 | V20: 0 | W20: =Q20+U20+V20 -> 99 | X20: 0 | Y20: 0 | Z20: 0 | AA20: 0 | AB20: =W20+SUM(Y20:AA20) -> 99 | AD20: 岡山県計 | AE20: =SUM(AE21:AE23) -> 2410 | AF20: =SUM(AF21:AF23) -> 29 | AG20: =SUM(AG21:AG23) -> 0 | AH20: =SUM(AH21:AH23) -> 76 | AI20: =SUM(AI21:AI23) -> -47 | AJ20: =SUM(AJ21:AJ23) -> 32 | AK20: =SUM(AK21:AK23) -> 2395 | AL20: =SUM(AL21:AL23) -> 10 | ... AP20: =SUM(AP21:AP23) -> 2537
B21: 八戸市 | C21: 448 | D21: 4 | E21: 0 | F21: 0 | G21: =D21+E21-F21 -> 4 | H21: 0 | I21: =C21+G21+H21 -> 452 | J21: 6 | K21: 5 | L21: 0 | M21: 11 | N21: =I21+SUM(K21:M21) -> 468 | P21: その他・石川県 | Q21: 553 | R21: 8 | S21: 1 | T21: 3 | U21: =R21+S21-T21 -> 6 | V21: -10 | W21: =Q21+U21+V21 -> 549 | X21: 2 | Y21: 8 | Z21: 0 | AA21: 1 | AB21: =W21+SUM(Y21:AA21) -> 558 | AD21: 岡山市 | AE21: 287 | AF21: 3 | AG21: 0 | AH21: 2 | AI21: =AF21+AG21-AH21 -> 1 | AJ21: 1 | AK21: =AE21+AI21+AJ21 -> 289 | AL21: 0 | AM21: 0 | AN21: 0 | AO21: 0 | AP21: =AK21+SUM(AM21:AO21) -> 289
B22: その他・青森県 | C22: 797 | D22: 16 | E22: 0 | F22: 12 | G22: =D22+E22-F22 -> 4 | H22: 0 | I22: =C22+G22+H22 -> 801 | J22: 6 | K22: 0 | L22: 0 | M22: 130 | N22: =I22+SUM(K22:M22) -> 931 | P22: 福井県計 | Q22: =SUM(Q23:Q24) -> 509 | R22: =SUM(R23:R24) -> 14 | S22: =SUM(S23:S24) -> 0 | T22: =SUM(T23:T24) -> 10 | U22: =SUM(U23:U24) -> 4 | V22: =SUM(V23:V24) -> 3 | W22: =SUM(W23:W24) -> 516 | X22: =SUM(X23:X24) -> 0 | ... AB22: =SUM(AB23:AB24) -> 556 | AD22: 倉敷市 | AE22: 1448 | AF22: 19 | AG22: 0 | AH22: 31 | AI22: =AF22+AG22-AH22 -> -12 | AJ22: 31 | AK22: =AE22+AI22+AJ22 -> 1467 | AL22: 6 | AM22: 15 | AN22: 0 | AO22: 0 | AP22: =AK22+SUM(AM22:AO22) -> 1482
B23: 岩手県計 | C23: =SUM(C24:C25) -> 1617 | D23: =SUM(D24:D25) -> 22 | E23: =SUM(E24:E25) -> 0 | F23: =SUM(F24:F25) -> 34 | G23: =SUM(G24:G25) -> -12 | H23: =SUM(H24:H25) -> 0 | I23: =SUM(I24:I25) -> 1605 | J23: =SUM(J24:J25) -> 0 | ... N23: =SUM(N24:N25) -> 1726 | P23: 福井市 | Q23: 77 | R23: 1 | S23: 0 | T23: 0 | U23: =R23+S23-T23 -> 1 | V23: 0 | W23: =Q23+U23+V23 -> 78 | X23: 0 | Y23: 0 | Z23: 0 | AA23: 0 | AB23: =W23+SUM(Y23:AA23) -> 78 | AD23: その他・岡山県 | AE23: 675 | AF23: 7 | AG23: 0 | AH23: 43 | AI23: =AF23+AG23-AH23 -> -36 | AJ23: 0 | AK23: =AE23+AI23+AJ23 -> 639 | AL23: 4 | AM23: 0 | AN23: 0 | AO23: 127 | AP23: =AK23+SUM(AM23:AO23) -> 766
B24: 盛岡市 | C24: 192 | D24: 0 | E24: 0 | F24: 24 | G24: =D24+E24-F24 -> -24 | H24: 0 | I24: =C24+G24+H24 -> 168 | J24: 0 | K24: 0 | L24: 0 | M24: 0 | N24: =I24+SUM(K24:M24) -> 168 | P24: その他・福井県 | Q24: 432 | R24: 13 | S24: 0 | T24: 10 | U24: =R24+S24-T24 -> 3 | V24: 3 | W24: =Q24+U24+V24 -> 438 | X24: 0 | Y24: 7 | Z24: 0 | AA24: 33 | AB24: =W24+SUM(Y24:AA24) -> 478 | AD24: 広島県計 | AE24: =SUM(AE25:AE28) -> 2280 | AF24: =SUM(AF25:AF28) -> 25 | AG24: =SUM(AG25:AG28) -> 0 | AH24: =SUM(AH25:AH28) -> 338 | AI24: =SUM(AI25:AI28) -> -313 | AJ24: =SUM(AJ25:AJ28) -> 0 | AK24: =SUM(AK25:AK28) -> 1967 | AL24: =SUM(AL25:AL28) -> 38 | ... AP24: =SUM(AP25:AP28) -> 2113
B25: その他・岩手県 | C25: 1425 | D25: 22 | E25: 0 | F25: 10 | G25: =D25+E25-F25 -> 12 | H25: 0 | I25: =C25+G25+H25 -> 1437 | J25: 0 | K25: 7 | L25: 0 | M25: 114 | N25: =I25+SUM(K25:M25) -> 1558 | P25: 山梨県計 | Q25: =SUM(Q26:Q27) -> 656 | R25: =SUM(R26:R27) -> 13 | S25: =SUM(S26:S27) -> 0 | T25: =SUM(T26:T27) -> 21 | U25: =SUM(U26:U27) -> -8 | V25: =SUM(V26:V27) -> 0 | W25: =SUM(W26:W27) -> 648 | X25: =SUM(X26:X27) -> 2 | ... AB25: =SUM(AB26:AB27) -> 648 | AD25: 広島市 | AE25: 328 | AF25: 6 | AG25: 0 | AH25: 0 | AI25: =AF25+AG25-AH25 -> 6 | AJ25: 0 | AK25: =AE25+AI25+AJ25 -> 334 | AL25: 0 | AM25: 0 | AN25: 0 | AO25: 0 | AP25: =AK25+SUM(AM25:AO25) -> 334
B26: 宮城県計 | C26: =SUM(C27:C28) -> 696 | D26: =SUM(D27:D28) -> 17 | E26: =SUM(E27:E28) -> 0 | F26: =SUM(F27:F28) -> 13 | G26: =SUM(G27:G28) -> 4 | H26: =SUM(H27:H28) -> -4 | I26: =SUM(I27:I28) -> 696 | J26: =SUM(J27:J28) -> 4 | ... N26: =SUM(N27:N28) -> 717 | P26: 甲府市 | Q26: 19 | R26: 1 | S26: 0 | T26: 0 | U26: =R26+S26-T26 -> 1 | V26: 0 | W26: =Q26+U26+V26 -> 20 | X26: 0 | Y26: 0 | Z26: 0 | AA26: 0 | AB26: =W26+SUM(Y26:AA26) -> 20 | AD26: 呉市 | AE26: 460 | AF26: 1 | AG26: 0 | AH26: 329 | AI26: =AF26+AG26-AH26 -> -328 | AJ26: 0 | AK26: =AE26+AI26+AJ26 -> 132 | AL26: 0 | AM26: 0 | AN26: 0 | AO26: 0 | AP26: =AK26+SUM(AM26:AO26) -> 132
B27: 仙台市 | C27: 119 | D27: 6 | E27: 0 | F27: 0 | G27: =D27+E27-F27 -> 6 | H27: 0 | I27: =C27+G27+H27 -> 125 | J27: 0 | K27: 1 | L27: 0 | M27: 0 | N27: =I27+SUM(K27:M27) -> 126 | P27: その他・山梨県 | Q27: 637 | R27: 12 | S27: 0 | T27: 21 | U27: =R27+S27-T27 -> -9 | V27: 0 | W27: =Q27+U27+V27 -> 628 | X27: 2 | Y27: 0 | Z27: 0 | AA27: 0 | AB27: =W27+SUM(Y27:AA27) -> 628 | AD27: 福山市 | AE27: 607 | AF27: 10 | AG27: 0 | AH27: 0 | AI27: =AF27+AG27-AH27 -> 10 | AJ27: 0 | AK27: =AE27+AI27+AJ27 -> 617 | AL27: 37 | AM27: 0 | AN27: 0 | AO27: 0 | AP27: =AK27+SUM(AM27:AO27) -> 617
B28: その他・宮城県 | C28: 577 | D28: 11 | E28: 0 | F28: 13 | G28: =D28+E28-F28 -> -2 | H28: -4 | I28: =C28+G28+H28 -> 571 | J28: 4 | K28: 2 | L28: 0 | M28: 18 | N28: =I28+SUM(K28:M28) -> 591 | P28: 長野県計 | Q28: =SUM(Q29:Q31) -> 1223 | R28: =SUM(R29:R31) -> 27 | S28: =SUM(S29:S31) -> 0 | T28: =SUM(T29:T31) -> 3 | U28: =SUM(U29:U31) -> 24 | V28: =SUM(V29:V31) -> -3 | W28: =SUM(W29:W31) -> 1244 | X28: =SUM(X29:X31) -> 0 | ... AB28: =SUM(AB29:AB31) -> 1347 | AD28: その他・広島県 | AE28: 885 | AF28: 8 | AG28: 0 | AH28: 9 | AI28: =AF28+AG28-AH28 -> -1 | AJ28: 0 | AK28: =AE28+AI28+AJ28 -> 884 | AL28: 1 | AM28: 95 | AN28: 0 | AO28: 51 | AP28: =AK28+SUM(AM28:AO28) -> 1030
B29: 秋田県計 | C29: =SUM(C30:C31) -> 524 | D29: =SUM(D30:D31) -> 6 | E29: =SUM(E30:E31) -> 0 | F29: =SUM(F30:F31) -> 2 | G29: =SUM(G30:G31) -> 4 | H29: =SUM(H30:H31) -> -5 | I29: =SUM(I30:I31) -> 523 | J29: =SUM(J30:J31) -> 0 | ... N29: =SUM(N30:N31) -> 563 | P29: 長野市 | Q29: 168 | R29: 0 | S29: 0 | T29: 0 | U29: =R29+S29-T29 -> 0 | V29: 0 | W29: =Q29+U29+V29 -> 168 | X29: 0 | Y29: 0 | Z29: 0 | AA29: 0 | AB29: =W29+SUM(Y29:AA29) -> 168 | AD29: 山口県計 | AE29: =SUM(AE30:AE31) -> 1589 | AF29: =SUM(AF30:AF31) -> 12 | AG29: =SUM(AG30:AG31) -> 0 | AH29: =SUM(AH30:AH31) -> 9 | AI29: =SUM(AI30:AI31) -> 3 | AJ29: =SUM(AJ30:AJ31) -> 0 | AK29: =SUM(AK30:AK31) -> 1592 | AL29: =SUM(AL30:AL31) -> 2 | ... AP29: =SUM(AP30:AP31) -> 1670
B30: 秋田市 | C30: 39 | D30: 0 | E30: 0 | F30: 0 | G30: =D30+E30-F30 -> 0 | H30: 0 | I30: =C30+G30+H30 -> 39 | J30: 0 | K30: 1 | L30: 0 | M30: 0 | N30: =I30+SUM(K30:M30) -> 40 | P30: 松本市 | Q30: 59 | R30: 0 | S30: 0 | T30: 0 | U30: =R30+S30-T30 -> 0 | V30: 0 | W30: =Q30+U30+V30 -> 59 | X30: 0 | Y30: 0 | Z30: 0 | AA30: 0 | AB30: =W30+SUM(Y30:AA30) -> 59 | AD30: 下関市 | AE30: 146 | AF30: 1 | AG30: 0 | AH30: 0 | AI30: =AF30+AG30-AH30 -> 1 | AJ30: 0 | AK30: =AE30+AI30+AJ30 -> 147 | AL30: 0 | AM30: 0 | AN30: 0 | AO30: 0 | AP30: =AK30+SUM(AM30:AO30) -> 147
B31: その他・秋田県 | C31: 485 | D31: 6 | E31: 0 | F31: 2 | G31: =D31+E31-F31 -> 4 | H31: -5 | I31: =C31+G31+H31 -> 484 | J31: 0 | K31: 39 | L31: 0 | M31: 0 | N31: =I31+SUM(K31:M31) -> 523 | P31: その他・長野県 | Q31: 996 | R31: 27 | S31: 0 | T31: 3 | U31: =R31+S31-T31 -> 24 | V31: -3 | W31: =Q31+U31+V31 -> 1017 | X31: 0 | Y31: 0 | Z31: 0 | AA31: 103 | AB31: =W31+SUM(Y31:AA31) -> 1120 | AD31: その他・山口県 | AE31: 1443 | AF31: 11 | AG31: 0 | AH31: 9 | AI31: =AF31+AG31-AH31 -> 2 | AJ31: 0 | AK31: =AE31+AI31+AJ31 -> 1445 | AL31: 2 | AM31: 26 | AN31: 0 | AO31: 52 | AP31: =AK31+SUM(AM31:AO31) -> 1523
B32: 山形県計 | C32: =SUM(C33:C34) -> 636 | D32: =SUM(D33:D34) -> 10 | E32: =SUM(E33:E34) -> 0 | F32: =SUM(F33:F34) -> 15 | G32: =SUM(G33:G34) -> -5 | H32: =SUM(H33:H34) -> 0 | I32: =SUM(I33:I34) -> 631 | J32: =SUM(J33:J34) -> 1 | ... N32: =SUM(N33:N34) -> 652 | P32: 岐阜県計 | Q32: =SUM(Q33:Q34) -> 935 | R32: =SUM(R33:R34) -> 19 | S32: =SUM(S33:S34) -> 0 | T32: =SUM(T33:T34) -> 16 | U32: =SUM(U33:U34) -> 3 | V32: =SUM(V33:V34) -> 25 | W32: =SUM(W33:W34) -> 963 | X32: =SUM(X33:X34) -> 2 | ... AB32: =SUM(AB33:AB34) -> 969 | AD32: 徳島県計 | AE32: =SUM(AE33) -> 670 | AF32: =SUM(AF33) -> 19 | AG32: =SUM(AG33) -> 0 | AH32: =SUM(AH33) -> 7 | AI32: =SUM(AI33) -> 12 | AJ32: =SUM(AJ33) -> 0 | AK32: =SUM(AK33) -> 682 | AL32: =SUM(AL33) -> 5 | ... AP32: =SUM(AP33) -> 844
B33: 山形市 | C33: 40 | D33: 4 | E33: 0 | F33: 2 | G33: =D33+E33-F33 -> 2 | H33: 0 | I33: =C33+G33+H33 -> 42 | J33: 0 | K33: 0 | L33: 0 | M33: 0 | N33: =I33+SUM(K33:M33) -> 42 | P33: 岐阜市 | Q33: 71 | R33: 1 | S33: 0 | T33: 10 | U33: =R33+S33-T33 -> -9 | V33: 0 | W33: =Q33+U33+V33 -> 62 | X33: 0 | Y33: 0 | Z33: 0 | AA33: 0 | AB33: =W33+SUM(Y33:AA33) -> 62 | AD33: 徳島県 | AE33: 670 | AF33: 19 | AG33: 0 | AH33: 7 | AI33: =AF33+AG33-AH33 -> 12 | AJ33: 0 | AK33: =AE33+AI33+AJ33 -> 682 | AL33: 5 | AM33: 115 | AN33: 0 | AO33: 47 | AP33: =AK33+SUM(AM33:AO33) -> 844
B34: その他・山形県 | C34: 596 | D34: 6 | E34: 0 | F34: 13 | G34: =D34+E34-F34 -> -7 | H34: 0 | I34: =C34+G34+H34 -> 589 | J34: 1 | K34: 9 | L34: 0 | M34: 12 | N34: =I34+SUM(K34:M34) -> 610 | P34: その他・岐阜県 | Q34: 864 | R34: 18 | S34: 0 | T34: 6 | U34: =R34+S34-T34 -> 12 | V34: 25 | W34: =Q34+U34+V34 -> 901 | X34: 2 | Y34: 0 | Z34: 0 | AA34: 6 | AB34: =W34+SUM(Y34:AA34) -> 907 | AD34: 香川県計 | AE34: =SUM(AE35:AE36) -> 961 | AF34: =SUM(AF35:AF36) -> 18 | AG34: =SUM(AG35:AG36) -> 0 | AH34: =SUM(AH35:AH36) -> 66 | AI34: =SUM(AI35:AI36) -> -48 | AJ34: =SUM(AJ35:AJ36) -> 3 | AK34: =SUM(AK35:AK36) -> 916 | AL34: =SUM(AL35:AL36) -> 16 | ... AP34: =SUM(AP35:AP36) -> 921
B35: 福島県計 | C35: =SUM(C36:C39) -> 2175 | D35: =SUM(D36:D39) -> 37 | E35: =SUM(E36:E39) -> 0 | F35: =SUM(F36:F39) -> 192 | G35: =SUM(G36:G39) -> -155 | H35: =SUM(H36:H39) -> -30 | I35: =SUM(I36:I39) -> 1990 | J35: =SUM(J36:J39) -> 3 | ... N35: =SUM(N36:N39) -> 2177 | P35: 静岡県計 | Q35: =SUM(Q36:Q40) -> 1085 | R35: =SUM(R36:R40) -> 12 | S35: =SUM(S36:S40) -> 2 | T35: =SUM(T36:T40) -> 12 | U35: =SUM(U36:U40) -> 2 | V35: =SUM(V36:V40) -> 0 | W35: =SUM(W36:W40) -> 1087 | X35: =SUM(X36:X40) -> 0 | ... AB35: =SUM(AB36:AB40) -> 1118 | AD35: 高松市 | AE35: 132 | AF35: 4 | AG35: 0 | AH35: 1 | AI35: =AF35+AG35-AH35 -> 3 | AJ35: 0 | AK35: =AE35+AI35+AJ35 -> 135 | AL35: 0 | AM35: 0 | AN35: 0 | AO35: 0 | AP35: =AK35+SUM(AM35:AO35) -> 135
B36: 福島市 | C36: 84 | D36: 0 | E36: 0 | F36: 0 | G36: =D36+E36-F36 -> 0 | H36: 0 | I36: =C36+G36+H36 -> 84 | J36: 0 | K36: 0 | L36: 0 | M36: 0 | N36: =I36+SUM(K36:M36) -> 84 | P36: 静岡市 | Q36: 132 | R36: 0 | S36: 0 | T36: 0 | U36: =R36+S36-T36 -> 0 | V36: 0 | W36: =Q36+U36+V36 -> 132 | X36: 0 | Y36: 0 | Z36: 0 | AA36: 2 | AB36: =W36+SUM(Y36:AA36) -> 134 | AD36: その他・香川県 | AE36: 829 | AF36: 14 | AG36: 0 | AH36: 65 | AI36: =AF36+AG36-AH36 -> -51 | AJ36: 3 | AK36: =AE36+AI36+AJ36 -> 781 | AL36: 16 | AM36: 5 | AN36: 0 | AO36: 0 | AP36: =AK36+SUM(AM36:AO36) -> 786
B37: 郡山市 | C37: 189 | D37: 1 | E37: 0 | F37: 1 | G37: =D37+E37-F37 -> 0 | H37: 1 | I37: =C37+G37+H37 -> 190 | J37: 1 | K37: 0 | L37: 0 | M37: 0 | N37: =I37+SUM(K37:M37) -> 190 | P37: 浜松市 | Q37: 192 | R37: 6 | S37: 0 | T37: 8 | U37: =R37+S37-T37 -> -2 | V37: 0 | W37: =Q37+U37+V37 -> 190 | X37: 0 | Y37: 0 | Z37: 0 | AA37: 28 | AB37: =W37+SUM(Y37:AA37) -> 218 | AD37: 愛媛県計 | AE37: =SUM(AE38:AE39) -> 947 | AF37: =SUM(AF38:AF39) -> 37 | AG37: =SUM(AG38:AG39) -> 0 | AH37: =SUM(AH38:AH39) -> 14 | AI37: =SUM(AI38:AI39) -> 23 | AJ37: =SUM(AJ38:AJ39) -> -1 | AK37: =SUM(AK38:AK39) -> 969 | AL37: =SUM(AL38:AL39) -> 0 | ... AP37: =SUM(AP38:AP39) -> 1032
B38: いわき市 | C38: 323 | D38: 17 | E38: 0 | F38: 1 | G38: =D38+E38-F38 -> 16 | H38: 0 | I38: =C38+G38+H38 -> 339 | J38: 1 | K38: 48 | L38: 0 | M38: 15 | N38: =I38+SUM(K38:M38) -> 402 | P38: 沼津市 | Q38: 46 | R38: 0 | S38: 2 | T38: 0 | U38: =R38+S38-T38 -> 2 | V38: 0 | W38: =Q38+U38+V38 -> 48 | X38: 0 | Y38: 0 | Z38: 0 | AA38: 0 | AB38: =W38+SUM(Y38:AA38) -> 48 | AD38: 松山市 | AE38: 58 | AF38: 1 | AG38: 0 | AH38: 1 | AI38: =AF38+AG38-AH38 -> 0 | AJ38: 0 | AK38: =AE38+AI38+AJ38 -> 58 | AL38: 0 | AM38: 2 | AN38: 0 | AO38: 0 | AP38: =AK38+SUM(AM38:AO38) -> 60
B39: その他・福島県 | C39: 1579 | D39: 19 | E39: 0 | F39: 190 | G39: =D39+E39-F39 -> -171 | H39: -31 | I39: =C39+G39+H39 -> 1377 | J39: 1 | K39: 93 | L39: 0 | M39: 31 | N39: =I39+SUM(K39:M39) -> 1501 | P39: 富士市 | Q39: 75 | R39: 0 | S39: 0 | T39: 0 | U39: =R39+S39-T39 -> 0 | V39: 0 | W39: =Q39+U39+V39 -> 75 | X39: 0 | Y39: 1 | Z39: 0 | AA39: 0 | AB39: =W39+SUM(Y39:AA39) -> 76 | AD39: その他・愛媛県 | AE39: 889 | AF39: 36 | AG39: 0 | AH39: 13 | AI39: =AF39+AG39-AH39 -> 23 | AJ39: -1 | AK39: =AE39+AI39+AJ39 -> 911 | AL39: 0 | AM39: 61 | AN39: 0 | AO39: 0 | AP39: =AK39+SUM(AM39:AO39) -> 972
B40: 茨城県計 | C40: =SUM(C41:C43) -> 2510 | D40: =SUM(D41:D43) -> 39 | E40: =SUM(E41:E43) -> 0 | F40: =SUM(F41:F43) -> 20 | G40: =SUM(G41:G43) -> 19 | H40: =SUM(H41:H43) -> 10 | I40: =SUM(I41:I43) -> 2539 | J40: =SUM(J41:J43) -> 59 | ... N40: =SUM(N41:N43) -> 2559 | P40: その他・静岡県 | Q40: 640 | R40: 6 | S40: 0 | T40: 4 | U40: =R40+S40-T40 -> 2 | V40: 0 | W40: =Q40+U40+V40 -> 642 | X40: 0 | Y40: 0 | Z40: 0 | AA40: 0 | AB40: =W40+SUM(Y40:AA40) -> 642 | AD40: 高知県計 | AE40: =SUM(AE41:AE42) -> 507 | AF40: =SUM(AF41:AF42) -> 12 | AG40: =SUM(AG41:AG42) -> 0 | AH40: =SUM(AH41:AH42) -> 5 | AI40: =SUM(AI41:AI42) -> 7 | AJ40: =SUM(AJ41:AJ42) -> 0 | AK40: =SUM(AK41:AK42) -> 514 | AL40: =SUM(AL41:AL42) -> 0 | ... AP40: =SUM(AP41:AP42) -> 775
B41: 水戸市 | C41: 17 | D41: 1 | E41: 0 | F41: 0 | G41: =D41+E41-F41 -> 1 | H41: 0 | I41: =C41+G41+H41 -> 18 | J41: 0 | K41: 0 | L41: 0 | M41: 0 | N41: =I41+SUM(K41:M41) -> 18 | P41: 愛知県計 | Q41: =SUM(Q42:Q48) -> 4713 | R41: =SUM(R42:R48) -> 78 | S41: =SUM(S42:S48) -> 0 | T41: =SUM(T42:T48) -> 80 | U41: =SUM(U42:U48) -> -2 | V41: =SUM(V42:V48) -> 0 | W41: =SUM(W42:W48) -> 4711 | X41: =SUM(X42:X48) -> 9 | ... AB41: =SUM(AB42:AB48) -> 4893 | AD41: 高知市 | AE41: 242 | AF41: 0 | AG41: 0 | AH41: 0 | AI41: =AF41+AG41-AH41 -> 0 | AJ41: 0 | AK41: =AE41+AI41+AJ41 -> 242 | AL41: 0 | AM41: 0 | AN41: 0 | AO41: 4 | AP41: =AK41+SUM(AM41:AO41) -> 246
B42: つくば市 | C42: 66 | D42: 1 | E42: 0 | F42: 0 | G42: =D42+E42-F42 -> 1 | H42: 0 | I42: =C42+G42+H42 -> 67 | J42: 0 | K42: 0 | L42: 0 | M42: 0 | N42: =I42+SUM(K42:M42) -> 67 | P42: 名古屋市 | Q42: 187 | R42: 1 | S42: 0 | T42: 1 | U42: =R42+S42-T42 -> 0 | V42: 0 | W42: =Q42+U42+V42 -> 187 | X42: 1 | Y42: 0 | Z42: 0 | AA42: 0 | AB42: =W42+SUM(Y42:AA42) -> 187 | AD42: その他・高知県 | AE42: 265 | AF42: 12 | AG42: 0 | AH42: 5 | AI42: =AF42+AG42-AH42 -> 7 | AJ42: 0 | AK42: =AE42+AI42+AJ42 -> 272 | AL42: 0 | AM42: 0 | AN42: 0 | AO42: 257 | AP42: =AK42+SUM(AM42:AO42) -> 529
B43: その他・茨城県 | C43: 2427 | D43: 37 | E43: 0 | F43: 20 | G43: =D43+E43-F43 -> 17 | H43: 10 | I43: =C43+G43+H43 -> 2454 | J43: 59 | K43: 0 | L43: 0 | M43: 20 | N43: =I43+SUM(K43:M43) -> 2474 | P43: 豊橋市 | Q43: 237 | R43: 1 | S43: 0 | T43: 0 | U43: =R43+S43-T43 -> 1 | V43: 0 | W43: =Q43+U43+V43 -> 238 | X43: 2 | Y43: 0 | Z43: 0 | AA43: 22 | AB43: =W43+SUM(Y43:AA43) -> 260 | AD43: 福岡県計 | AE43: =SUM(AE44:AE48) -> 3227 | AF43: =SUM(AF44:AF48) -> 40 | AG43: =SUM(AG44:AG48) -> 0 | AH43: =SUM(AH44:AH48) -> 79 | AI43: =SUM(AI44:AI48) -> -39 | AJ43: =SUM(AJ44:AJ48) -> -9 | AK43: =SUM(AK44:AK48) -> 3179 | AL43: =SUM(AL44:AL48) -> 17 | ... AP43: =SUM(AP44:AP48) -> 3335
B44: 栃木県計 | C44: =SUM(C45:C46) -> 1919 | D44: =SUM(D45:D46) -> 44 | E44: =SUM(E45:E46) -> 0 | F44: =SUM(F45:F46) -> 2 | G44: =SUM(G45:G46) -> 42 | H44: =SUM(H45:H46) -> 0 | I44: =SUM(I45:I46) -> 1961 | J44: =SUM(J45:J46) -> 7 | ... N44: =SUM(N45:N46) -> 2899 | P44: 岡崎市 | Q44: 84 | R44: 2 | S44: 0 | T44: 2 | U44: =R44+S44-T44 -> 0 | V44: 0 | W44: =Q44+U44+V44 -> 84 | X44: 0 | Y44: 0 | Z44: 0 | AA44: 0 | AB44: =W44+SUM(Y44:AA44) -> 84 | AD44: 北九州市 | AE44: 1293 | AF44: 28 | AG44: 0 | AH44: 22 | AI44: =AF44+AG44-AH44 -> 6 | AJ44: 5 | AK44: =AE44+AI44+AJ44 -> 1304 | AL44: 16 | AM44: 9 | AN44: 0 | AO44: 84 | AP44: =AK44+SUM(AM44:AO44) -> 1397
...

Sheet 表3.4
B2: 表3.4(1) 届出件数 施設種類別・都道府県市別（大気汚染防止法に係る一般粉じん発生施設） | K2: 表3.4(2) 届出件数 施設種類別・都道府県市別（大気汚染防止法に係る一般粉じん発生施設） | T2: 表3.4(3) 届出件数 施設種類別・都道府県市別（大気汚染防止法に係る一般粉じん発生施設）
B4: 自治体名 | C4: 令別表第２の項番号及び施設種類 | H4: 施設合計 | I4: 届出工場・ 事業場数 | K4: 自治体名 | L4: 令別表第２の項番号及び施設種類 | Q4: 施設合計 | R4: 届出工場・ 事業場数 | T4: 自治体名 | U4: 令別表第２の項番号及び施設種類 | Z4: 施設合計 | AA4: 届出工場・ 事業場数
C5: 1項 | D5: 2項 | E5: 3項 | F5: 4項 | G5: 5項 | L5: 1項 | M5: 2項 | N5: 3項 | O5: 4項 | P5: 5項 | U5: 1項 | V5: 2項 | W5: 3項 | X5: 4項 | Y5: 5項
C6: コークス炉 | D6: 堆積場 | E6: コンベア | F6: 破砕機・ 摩砕機 | G6: ふるい | L6: コークス炉 | M6: 堆積場 | N6: コンベア | O6: 破砕機・ 摩砕機 | P6: ふるい | U6: コークス炉 | V6: 堆積場 | W6: コンベア | X6: 破砕機・ 摩砕機 | Y6: ふるい
B7: 北海道計 | C7: =SUM(C8:C14) -> 2 | D7: =SUM(D8:D14) -> 2035 | E7: =SUM(E8:E14) -> 1699 | F7: =SUM(F8:F14) -> 641 | G7: =SUM(G8:G14) -> 300 | H7: =SUM(H8:H14) -> 4677 | I7: =SUM(I8:I14) -> 1202 | K7: 新潟県計 | L7: =SUM(L8:L11) -> 0 | M7: =SUM(M8:M11) -> 324 | N7: =SUM(N8:N11) -> 340 | O7: =SUM(O8:O11) -> 133 | P7: =SUM(P8:P11) -> 39 | Q7: =SUM(Q8:Q11) -> 836 | R7: =SUM(R8:R11) -> 221 | T7: 和歌山県計 | U7: =SUM(U8:U9) -> 3 | V7: =SUM(V8:V9) -> 212 | W7: =SUM(W8:W9) -> 1091 | X7: =SUM(X8:X9) -> 124 | Y7: =SUM(Y8:Y9) -> 129 | Z7: =SUM(Z8:Z9) -> 1559 | AA7: =SUM(AA8:AA9) -> 146
B8: 札幌市 | C8: 0 | D8: 64 | E8: 104 | F8: 19 | G8: 26 | H8: =SUM(C8:G8) -> 213 | I8: 44 | K8: 新潟市 | L8: 0 | M8: 76 | N8: 19 | O8: 9 | P8: 3 | Q8: =SUM(L8:P8) -> 107 | R8: 56 | T8: 和歌山市 | U8: 3 | V8: 51 | W8: 921 | X8: 33 | Y8: 79 | Z8: =SUM(U8:Y8) -> 1087 | AA8: 38
B9: 函館市 | C9: 0 | D9: 21 | E9: 7 | F9: 7 | G9: 2 | H9: =SUM(C9:G9) -> 37 | I9: 13 | K9: 長岡市 | L9: 0 | M9: 20 | N9: 24 | O9: 17 | P9: 3 | Q9: =SUM(L9:P9) -> 64 | R9: 21 | T9: その他・和歌山県 | U9: 0 | V9: 161 | W9: 170 | X9: 91 | Y9: 50 | Z9: =SUM(U9:Y9) -> 472 | AA9: 108
B10: 小樽市 | C10: 0 | D10: 16 | E10: 3 | F10: 1 | G10: 0 | H10: =SUM(C10:G10) -> 20 | I10: 14 | K10: 上越市 | L10: 0 | M10: 38 | N10: 23 | O10: 18 | P10: 2 | Q10: =SUM(L10:P10) -> 81 | R10: 21 | T10: 鳥取県計 | U10: =SUM(U11:U12) -> 0 | V10: =SUM(V11:V12) -> 91 | W10: =SUM(W11:W12) -> 138 | X10: =SUM(X11:X12) -> 67 | Y10: =SUM(Y11:Y12) -> 38 | Z10: =SUM(Z11:Z12) -> 334 | AA10: =SUM(AA11:AA12) -> 73
B11: 旭川市 | C11: 0 | D11: 28 | E11: 16 | F11: 5 | G11: 0 | H11: =SUM(C11:G11) -> 49 | I11: 24 | K11: その他・新潟県 | L11: 0 | M11: 190 | N11: 274 | O11: 89 | P11: 31 | Q11: =SUM(L11:P11) -> 584 | R11: 123 | T11: 鳥取市 | U11: 0 | V11: 34 | W11: 53 | X11: 21 | Y11: 10 | Z11: =SUM(U11:Y11) -> 118 | AA11: 21
B12: 室蘭市 | C12: 0 | D12: 5 | E12: 0 | F12: 0 | G12: 0 | H12: =SUM(C12:G12) -> 5 | I12: 5 | K12: 富山県計 | L12: =SUM(L13:L14) -> 0 | M12: =SUM(M13:M14) -> 429 | N12: =SUM(N13:N14) -> 410 | O12: =SUM(O13:O14) -> 291 | P12: =SUM(P13:P14) -> 75 | Q12: =SUM(Q13:Q14) -> 1205 | R12: =SUM(R13:R14) -> 308 | T12: その他・鳥取県 | U12: 0 | V12: 57 | W12: 85 | X12: 46 | Y12: 28 | Z12: =SUM(U12:Y12) -> 216 | AA12: 52
B13: 苫小牧市 | C13: 0 | D13: 5 | E13: 11 | F13: 1 | G13: 0 | H13: =SUM(C13:G13) -> 17 | I13: 11 | K13: 富山市 | L13: 0 | M13: 134 | N13: 69 | O13: 85 | P13: 16 | Q13: =SUM(L13:P13) -> 304 | R13: 85 | T13: 島根県計 | U13: =SUM(U14:U15) -> 0 | V13: =SUM(V14:V15) -> 117 | W13: =SUM(W14:W15) -> 290 | X13: =SUM(X14:X15) -> 115 | Y13: =SUM(Y14:Y15) -> 72 | Z13: =SUM(Z14:Z15) -> 594 | AA13: =SUM(AA14:AA15) -> 108
B14: その他・北海道 | C14: 2 | D14: 1896 | E14: 1558 | F14: 608 | G14: 272 | H14: =SUM(C14:G14) -> 4336 | I14: 1091 | K14: その他・富山県 | L14: 0 | M14: 295 | N14: 341 | O14: 206 | P14: 59 | Q14: =SUM(L14:P14) -> 901 | R14: 223 | T14: 松江市 | U14: 0 | V14: 20 | W14: 33 | X14: 12 | Y14: 8 | Z14: =SUM(U14:Y14) -> 73 | AA14: 16
B15: 青森県計 | C15: =SUM(C16:C18) -> 0 | D15: =SUM(D16:D18) -> 297 | E15: =SUM(E16:E18) -> 771 | F15: =SUM(F16:F18) -> 173 | G15: =SUM(G16:G18) -> 145 | H15: =SUM(H16:H18) -> 1386 | I15: =SUM(I16:I18) -> 227 | K15: 石川県計 | L15: =SUM(L16:L17) -> 0 | M15: =SUM(M16:M17) -> 135 | N15: =SUM(N16:N17) -> 303 | O15: =SUM(O16:O17) -> 131 | P15: =SUM(P16:P17) -> 79 | Q15: =SUM(Q16:Q17) -> 648 | R15: =SUM(R16:R17) -> 137 | T15: その他・島根県 | U15: 0 | V15: 97 | W15: 257 | X15: 103 | Y15: 64 | Z15: =SUM(U15:Y15) -> 521 | AA15: 92
B16: 青森市 | C16: 0 | D16: 32 | E16: 67 | F16: 21 | G16: 13 | H16: =SUM(C16:G16) -> 133 | I16: 29 | K16: 金沢市 | L16: 0 | M16: 27 | N16: 54 | O16: 12 | P16: 6 | Q16: =SUM(L16:P16) -> 99 | R16: 20 | T16: 岡山県計 | U16: =SUM(U17:U19) -> 12 | V16: =SUM(V17:V19) -> 220 | W16: =SUM(W17:W19) -> 1654 | X16: =SUM(X17:X19) -> 289 | Y16: =SUM(Y17:Y19) -> 220 | Z16: =SUM(Z17:Z19) -> 2395 | AA16: =SUM(AA17:AA19) -> 184
B17: 八戸市 | C17: 0 | D17: 63 | E17: 324 | F17: 34 | G17: 31 | H17: =SUM(C17:G17) -> 452 | I17: 37 | K17: その他・石川県 | L17: 0 | M17: 108 | N17: 249 | O17: 119 | P17: 73 | Q17: =SUM(L17:P17) -> 549 | R17: 117 | T17: 岡山市 | U17: 0 | V17: 54 | W17: 137 | X17: 75 | Y17: 23 | Z17: =SUM(U17:Y17) -> 289 | AA17: 55
B18: その他・青森県 | C18: 0 | D18: 202 | E18: 380 | F18: 118 | G18: 101 | H18: =SUM(C18:G18) -> 801 | I18: 161 | K18: 福井県計 | L18: =SUM(L19:L20) -> 0 | M18: =SUM(M19:M20) -> 121 | N18: =SUM(N19:N20) -> 251 | O18: =SUM(O19:O20) -> 101 | P18: =SUM(P19:P20) -> 43 | Q18: =SUM(Q19:Q20) -> 516 | R18: =SUM(R19:R20) -> 99 | T18: 倉敷市 | U18: 12 | V18: 46 | W18: 1221 | X18: 57 | Y18: 131 | Z18: =SUM(U18:Y18) -> 1467 | AA18: 30
B19: 岩手県計 | C19: =SUM(C20:C21) -> 0 | D19: =SUM(D20:D21) -> 254 | E19: =SUM(E20:E21) -> 804 | F19: =SUM(F20:F21) -> 374 | G19: =SUM(G20:G21) -> 173 | H19: =SUM(H20:H21) -> 1605 | I19: =SUM(I20:I21) -> 259 | K19: 福井市 | L19: 0 | M19: 14 | N19: 40 | O19: 19 | P19: 5 | Q19: =SUM(L19:P19) -> 78 | R19: 17 | T19: その他・岡山県 | U19: 0 | V19: 120 | W19: 296 | X19: 157 | Y19: 66 | Z19: =SUM(U19:Y19) -> 639 | AA19: 99
B20: 盛岡市 | C20: 0 | D20: 20 | E20: 80 | F20: 45 | G20: 23 | H20: =SUM(C20:G20) -> 168 | I20: 22 | K20: その他・福井県 | L20: 0 | M20: 107 | N20: 211 | O20: 82 | P20: 38 | Q20: =SUM(L20:P20) -> 438 | R20: 82 | T20: 広島県計 | U20: =SUM(U21:U24) -> 10 | V20: =SUM(V21:V24) -> 381 | W20: =SUM(W21:W24) -> 935 | X20: =SUM(X21:X24) -> 319 | Y20: =SUM(Y21:Y24) -> 322 | Z20: =SUM(Z21:Z24) -> 1967 | AA20: =SUM(AA21:AA24) -> 340
B21: その他・岩手県 | C21: 0 | D21: 234 | E21: 724 | F21: 329 | G21: 150 | H21: =SUM(C21:G21) -> 1437 | I21: 237 | K21: 山梨県計 | L21: =SUM(L22:L23) -> 0 | M21: =SUM(M22:M23) -> 120 | N21: =SUM(N22:N23) -> 321 | O21: =SUM(O22:O23) -> 154 | P21: =SUM(P22:P23) -> 53 | Q21: =SUM(Q22:Q23) -> 648 | R21: =SUM(R22:R23) -> 117 | T21: 広島市 | U21: 0 | V21: 57 | W21: 177 | X21: 63 | Y21: 37 | Z21: =SUM(U21:Y21) -> 334 | AA21: 94
B22: 宮城県計 | C22: =SUM(C23:C24) -> 0 | D22: =SUM(D23:D24) -> 139 | E22: =SUM(E23:E24) -> 352 | F22: =SUM(F23:F24) -> 139 | G22: =SUM(G23:G24) -> 66 | H22: =SUM(H23:H24) -> 696 | I22: =SUM(I23:I24) -> 133 | K22: 甲府市 | L22: 0 | M22: 11 | N22: 8 | O22: 1 | P22: 0 | Q22: =SUM(L22:P22) -> 20 | R22: 6 | T22: 呉市 | U22: 0 | V22: 16 | W22: 71 | X22: 28 | Y22: 17 | Z22: =SUM(U22:Y22) -> 132 | AA22: 19
B23: 仙台市 | C23: 0 | D23: 18 | E23: 85 | F23: 14 | G23: 8 | H23: =SUM(C23:G23) -> 125 | I23: 23 | K23: その他・山梨県 | L23: 0 | M23: 109 | N23: 313 | O23: 153 | P23: 53 | Q23: =SUM(L23:P23) -> 628 | R23: 111 | T23: 福山市 | U23: 10 | V23: 117 | W23: 321 | X23: 51 | Y23: 118 | Z23: =SUM(U23:Y23) -> 617 | AA23: 39
B24: その他・宮城県 | C24: 0 | D24: 121 | E24: 267 | F24: 125 | G24: 58 | H24: =SUM(C24:G24) -> 571 | I24: 110 | K24: 長野県計 | L24: =SUM(L25:L27) -> 0 | M24: =SUM(M25:M27) -> 212 | N24: =SUM(N25:N27) -> 588 | O24: =SUM(O25:O27) -> 330 | P24: =SUM(P25:P27) -> 114 | Q24: =SUM(Q25:Q27) -> 1244 | R24: =SUM(R25:R27) -> 241 | T24: その他・広島県 | U24: 0 | V24: 191 | W24: 366 | X24: 177 | Y24: 150 | Z24: =SUM(U24:Y24) -> 884 | AA24: 188
B25: 秋田県計 | C25: =SUM(C26:C27) -> 0 | D25: =SUM(D26:D27) -> 117 | E25: =SUM(E26:E27) -> 266 | F25: =SUM(F26:F27) -> 89 | G25: =SUM(G26:G27) -> 51 | H25: =SUM(H26:H27) -> 523 | I25: =SUM(I26:I27) -> 103 | K25: 長野市 | L25: 0 | M25: 15 | N25: 89 | O25: 38 | P25: 26 | Q25: =SUM(L25:P25) -> 168 | R25: 15 | T25: 山口県計 | U25: =SUM(U26:U27) -> 0 | V25: =SUM(V26:V27) -> 354 | W25: =SUM(W26:W27) -> 969 | X25: =SUM(X26:X27) -> 197 | Y25: =SUM(Y26:Y27) -> 72 | Z25: =SUM(Z26:Z27) -> 1592 | AA25: =SUM(AA26:AA27) -> 206
B26: 秋田市 | C26: 0 | D26: 21 | E26: 17 | F26: 1 | G26: 0 | H26: =SUM(C26:G26) -> 39 | I26: 15 | K26: 松本市 | L26: 0 | M26: 13 | N26: 20 | O26: 24 | P26: 2 | Q26: =SUM(L26:P26) -> 59 | R26: 10 | T26: 下関市 | U26: 0 | V26: 39 | W26: 61 | X26: 37 | Y26: 10 | Z26: =SUM(U26:Y26) -> 147 | AA26: 44
B27: その他・秋田県 | C27: 0 | D27: 96 | E27: 249 | F27: 88 | G27: 51 | H27: =SUM(C27:G27) -> 484 | I27: 88 | K27: その他・長野県 | L27: 0 | M27: 184 | N27: 479 | O27: 268 | P27: 86 | Q27: =SUM(L27:P27) -> 1017 | R27: 216 | T27: その他・山口県 | U27: 0 | V27: 315 | W27: 908 | X27: 160 | Y27: 62 | Z27: =SUM(U27:Y27) -> 1445 | AA27: 162
B28: 山形県計 | C28: =SUM(C29:C30) -> 0 | D28: =SUM(D29:D30) -> 200 | E28: =SUM(E29:E30) -> 241 | F28: =SUM(F29:F30) -> 139 | G28: =SUM(G29:G30) -> 51 | H28: =SUM(H29:H30) -> 631 | I28: =SUM(I29:I30) -> 203 | K28: 岐阜県計 | L28: =SUM(L29:L30) -> 0 | M28: =SUM(M29:M30) -> 191 | N28: =SUM(N29:N30) -> 320 | O28: =SUM(O29:O30) -> 326 | P28: =SUM(P29:P30) -> 126 | Q28: =SUM(Q29:Q30) -> 963 | R28: =SUM(R29:R30) -> 266 | T28: 徳島県計 | U28: =SUM(U29) -> 0 | V28: =SUM(V29) -> 224 | W28: =SUM(W29) -> 284 | X28: =SUM(X29) -> 116 | Y28: =SUM(Y29) -> 58 | Z28: =SUM(Z29) -> 682 | AA28: =SUM(AA29) -> 197
B29: 山形市 | C29: 0 | D29: 13 | E29: 18 | F29: 10 | G29: 1 | H29: =SUM(C29:G29) -> 42 | I29: 19 | K29: 岐阜市 | L29: 0 | M29: 16 | N29: 26 | O29: 15 | P29: 5 | Q29: =SUM(L29:P29) -> 62 | R29: 13 | T29: 徳島県 | U29: 0 | V29: 224 | W29: 284 | X29: 116 | Y29: 58 | Z29: =SUM(U29:Y29) -> 682 | AA29: 197
B30: その他・山形県 | C30: 0 | D30: 187 | E30: 223 | F30: 129 | G30: 50 | H30: =SUM(C30:G30) -> 589 | I30: 184 | K30: その他・岐阜県 | L30: 0 | M30: 175 | N30: 294 | O30: 311 | P30: 121 | Q30: =SUM(L30:P30) -> 901 | R30: 253 | T30: 香川県計 | U30: =SUM(U31:U32) -> 3 | V30: =SUM(V31:V32) -> 184 | W30: =SUM(W31:W32) -> 581 | X30: =SUM(X31:X32) -> 76 | Y30: =SUM(Y31:Y32) -> 72 | Z30: =SUM(Z31:Z32) -> 916 | AA30: =SUM(AA31:AA32) -> 137
B31: 福島県計 | C31: =SUM(C32:C35) -> 0 | D31: =SUM(D32:D35) -> 338 | E31: =SUM(E32:E35) -> 1067 | F31: =SUM(F32:F35) -> 311 | G31: =SUM(G32:G35) -> 274 | H31: =SUM(H32:H35) -> 1990 | I31: =SUM(I32:I35) -> 341 | K31: 静岡県計 | L31: =SUM(L32:L36) -> 0 | M31: =SUM(M32:M36) -> 305 | N31: =SUM(N32:N36) -> 520 | O31: =SUM(O32:O36) -> 180 | P31: =SUM(P32:P36) -> 82 | Q31: =SUM(Q32:Q36) -> 1087 | R31: =SUM(R32:R36) -> 333 | T31: 高松市 | U31: 0 | V31: 36 | W31: 74 | X31: 16 | Y31: 9 | Z31: =SUM(U31:Y31) -> 135 | AA31: 41
B32: 福島市 | C32: 0 | D32: 8 | E32: 59 | F32: 7 | G32: 10 | H32: =SUM(C32:G32) -> 84 | I32: 8 | K32: 静岡市 | L32: 0 | M32: 39 | N32: 40 | O32: 35 | P32: 18 | Q32: =SUM(L32:P32) -> 132 | R32: 54 | T32: その他・香川県 | U32: 3 | V32: 148 | W32: 507 | X32: 60 | Y32: 63 | Z32: =SUM(U32:Y32) -> 781 | AA32: 96
B33: 郡山市 | C33: 0 | D33: 25 | E33: 71 | F33: 37 | G33: 57 | H33: =SUM(C33:G33) -> 190 | I33: 29 | K33: 浜松市 | L33: 0 | M33: 92 | N33: 62 | O33: 21 | P33: 15 | Q33: =SUM(L33:P33) -> 190 | R33: 86 | T33: 愛媛県計 | U33: =SUM(U34:U35) -> 0 | V33: =SUM(V34:V35) -> 202 | W33: =SUM(W34:W35) -> 497 | X33: =SUM(X34:X35) -> 147 | Y33: =SUM(Y34:Y35) -> 123 | Z33: =SUM(Z34:Z35) -> 969 | AA33: =SUM(AA34:AA35) -> 193
B34: いわき市 | C34: 0 | D34: 87 | E34: 189 | F34: 39 | G34: 24 | H34: =SUM(C34:G34) -> 339 | I34: 61 | K34: 沼津市 | L34: 0 | M34: 5 | N34: 32 | O34: 9 | P34: 2 | Q34: =SUM(L34:P34) -> 48 | R34: 6 | T34: 松山市 | U34: 0 | V34: 29 | W34: 14 | X34: 11 | Y34: 4 | Z34: =SUM(U34:Y34) -> 58 | AA34: 42
B35: その他・福島県 | C35: 0 | D35: 218 | E35: 748 | F35: 228 | G35: 183 | H35: =SUM(C35:G35) -> 1377 | I35: 243 | K35: 富士市 | L35: 0 | M35: 39 | N35: 18 | O35: 14 | P35: 4 | Q35: =SUM(L35:P35) -> 75 | R35: 47 | T35: その他・愛媛県 | U35: 0 | V35: 173 | W35: 483 | X35: 136 | Y35: 119 | Z35: =SUM(U35:Y35) -> 911 | AA35: 151
B36: 茨城県計 | C36: =SUM(C37:C39) -> 11 | D36: =SUM(D37:D39) -> 478 | E36: =SUM(E37:E39) -> 1578 | F36: =SUM(F37:F39) -> 223 | G36: =SUM(G37:G39) -> 249 | H36: =SUM(H37:H39) -> 2539 | I36: =SUM(I37:I39) -> 307 | K36: その他・静岡県 | L36: 0 | M36: 130 | N36: 368 | O36: 101 | P36: 43 | Q36: =SUM(L36:P36) -> 642 | R36: 140 | T36: 高知県計 | U36: =SUM(U37:U38) -> 0 | V36: =SUM(V37:V38) -> 82 | W36: =SUM(W37:W38) -> 268 | X36: =SUM(X37:X38) -> 109 | Y36: =SUM(Y37:Y38) -> 55 | Z36: =SUM(Z37:Z38) -> 514 | AA36: =SUM(AA37:AA38) -> 86
B37: 水戸市 | C37: 0 | D37: 13 | E37: 3 | F37: 1 | G37: 1 | H37: =SUM(C37:G37) -> 18 | I37: 13 | K37: 愛知県計 | L37: =SUM(L38:L44) -> 6 | M37: =SUM(M38:M44) -> 639 | N37: =SUM(N38:N44) -> 3297 | O37: =SUM(O38:O44) -> 406 | P37: =SUM(P38:P44) -> 363 | Q37: =SUM(Q38:Q44) -> 4711 | R37: =SUM(R38:R44) -> 679 | T37: 高知市 | U37: 0 | V37: 44 | W37: 135 | X37: 39 | Y37: 24 | Z37: =SUM(U37:Y37) -> 242 | AA37: 40
B38: つくば市 | C38: 0 | D38: 22 | E38: 22 | F38: 10 | G38: 13 | H38: =SUM(C38:G38) -> 67 | I38: 18 | K38: 名古屋市 | L38: 0 | M38: 61 | N38: 109 | O38: 12 | P38: 5 | Q38: =SUM(L38:P38) -> 187 | R38: 52 | T38: その他・高知県 | U38: 0 | V38: 38 | W38: 133 | X38: 70 | Y38: 31 | Z38: =SUM(U38:Y38) -> 272 | AA38: 46
B39: その他・茨城県 | C39: 11 | D39: 443 | E39: 1553 | F39: 212 | G39: 235 | H39: =SUM(C39:G39) -> 2454 | I39: 276 | K39: 豊橋市 | L39: 0 | M39: 41 | N39: 116 | O39: 51 | P39: 30 | Q39: =SUM(L39:P39) -> 238 | R39: 36 | T39: 福岡県計 | U39: =SUM(U40:U44) -> 4 | V39: =SUM(V40:V44) -> 445 | W39: =SUM(W40:W44) -> 2214 | X39: =SUM(X40:X44) -> 308 | Y39: =SUM(Y40:Y44) -> 208 | Z39: =SUM(Z40:Z44) -> 3179 | AA39: =SUM(AA40:AA44) -> 314
B40: 栃木県計 | C40: =SUM(C41:C42) -> 0 | D40: =SUM(D41:D42) -> 434 | E40: =SUM(E41:E42) -> 971 | F40: =SUM(F41:F42) -> 362 | G40: =SUM(G41:G42) -> 194 | H40: =SUM(H41:H42) -> 1961 | I40: =SUM(I41:I42) -> 388 | K40: 岡崎市 | L40: 0 | M40: 8 | N40: 54 | O40: 17 | P40: 5 | Q40: =SUM(L40:P40) -> 84 | R40: 24 | T40: 北九州市 | U40: 4 | V40: 202 | W40: 897 | X40: 109 | Y40: 92 | Z40: =SUM(U40:Y40) -> 1304 | AA40: 91
B41: 宇都宮市 | C41: 0 | D41: 41 | E41: 7 | F41: 1 | G41: 1 | H41: =SUM(C41:G41) -> 50 | I41: 39 | K41: 一宮市 | L41: 0 | M41: 5 | N41: 2 | O41: 0 | P41: 0 | Q41: =SUM(L41:P41) -> 7 | R41: 7 | T41: 福岡市 | U41: 0 | V41: 34 | W41: 91 | X41: 15 | Y41: 16 | Z41: =SUM(U41:Y41) -> 156 | AA41: 38
B42: その他・栃木県 | C42: 0 | D42: 393 | E42: 964 | F42: 361 | G42: 193 | H42: =SUM(C42:G42) -> 1911 | I42: 349 | K42: 春日井市 | L42: 0 | M42: 20 | N42: 142 | O42: 28 | P42: 30 | Q42: =SUM(L42:P42) -> 220 | R42: 23 | T42: 大牟田市 | U42: 0 | V42: 9 | W42: 2 | X42: 2 | Y42: 0 | Z42: =SUM(U42:Y42) -> 13 | AA42: 2
...
