Workbook
Name テスト: #REF!
Name 自治体名称: #REF!

Sheet 表3.1
B2: 表3.1 届出件数 年度別・施設種類別－全国（一般粉じん発生施設）
B4: 令別表 第２の 項番号 | C4: 施設名 | D4: 平成30年度 | I4: 令和元年度 | N4: 令和２年度 | S4: 令和３年度 | X4: 令和４年度
D5: 全施設 （注1) | I5: 全施設 （注1) | N5: 全施設 （注1) | S5: 全施設 （注1) | X5: 全施設 （注1)
E6: 大気 | F6: 電気 | G6: ガス | H6: 鉱山 | J6: 大気 | K6: 電気 | L6: ガス | M6: 鉱山 | O6: 大気 | P6: 電気 | Q6: ガス | R6: 鉱山 | T6: 大気 | U6: 電気 | V6: ガス | W6: 鉱山 | Y6: 大気 | Z6: 電気 | AA6: ガス | AB6: 鉱山
B7: 1項 | C7: コークス炉 | D7: =SUM(E7:H7) -> 86 | E7: 81 | F7: 0 | G7: 0 | H7: 5 | I7: =SUM(J7:M7) -> 81 | J7: 81 | K7: 0 | L7: 0 | M7: 0 | N7: =SUM(O7:R7) -> 81 | O7: 81 | P7: 0 | Q7: 0 | R7: 0 | S7: =SUM(T7:W7) -> 77 | T7: 77 | U7: 0 | V7: 0 | W7: 0 | X7: =SUM(Y7:AB7) -> 78 | Y7: ='表3.2'!J11 -> 78 | Z7: ='表3.2'!L11 -> 0 | AA7: ='表3.2'!M11 -> 0 | AB7: ='表3.2'!N11 -> 0
B8: 2項 | C8: 堆積場 | D8: =SUM(E8:H8) -> 12426 | E8: 11783 | F8: 125 | G8: 0 | H8: 518 | I8: =SUM(J8:M8) -> 12563 | J8: 11931 | K8: 127 | L8: 0 | M8: 505 | N8: =SUM(O8:R8) -> 12835 | O8: 12225 | P8: 131 | Q8: 0 | R8: 479 | S8: =SUM(T8:W8) -> 13177 | T8: 12549 | U8: 133 | V8: 0 | W8: 495 | X8: =SUM(Y8:AB8) -> 13382 | Y8: ='表3.2'!J12 -> 12742 | Z8: ='表3.2'!L12 -> 134 | AA8: ='表3.2'!M12 -> 0 | AB8: ='表3.2'!N12 -> 506
B9: 3項 | C9: コンベア | D9: =SUM(E9:H9) -> 41183 | E9: 37554 | F9: 915 | G9: 0 | H9: 2714 | I9: =SUM(J9:M9) -> 40885 | J9: 37421 | K9: 988 | L9: 0 | M9: 2476 | N9: =SUM(O9:R9) -> 41338 | O9: 37868 | P9: 999 | Q9: 0 | R9: 2471 | S9: =SUM(T9:W9) -> 41395 | T9: 37944 | U9: 997 | V9: 0 | W9: 2454 | X9: =SUM(Y9:AB9) -> 40983 | Y9: ='表3.2'!J13 -> 37547 | Z9: ='表3.2'!L13 -> 987 | AA9: ='表3.2'!M13 -> 0 | AB9: ='表3.2'!N13 -> 2449
B10: 4項 | C10: 破砕機 ・摩砕機 | D10: =SUM(E10:H10) -> 10037 | E10: 9400 | F10: 32 | G10: 0 | H10: 605 | I10: =SUM(J10:M10) -> 9947 | J10: 9326 | K10: 32 | L10: 0 | M10: 589 | N10: =SUM(O10:R10) -> 9947 | O10: 9353 | P10: 32 | Q10: 0 | R10: 562 | S10: =SUM(T10:W10) -> 9917 | T10: 9329 | U10: 32 | V10: 0 | W10: 556 | X10: =SUM(Y10:AB10) -> 9883 | Y10: ='表3.2'!J14 -> 9300 | Z10: ='表3.2'!L14 -> 32 | AA10: ='表3.2'!M14 -> 0 | AB10: ='表3.2'!N14 -> 551
B11: 5項 | C11: ふるい | D11: =SUM(E11:H11) -> 6667 | E11: 6081 | F11: 33 | G11: 0 | H11: 553 | I11: =SUM(J11:M11) -> 6627 | J11: 6045 | K11: 37 | L11: 0 | M11: 545 | N11: =SUM(O11:R11) -> 6668 | O11: 6128 | P11: 35 | Q11: 0 | R11: 505 | S11: =SUM(T11:W11) -> 6660 | T11: 6126 | U11: 36 | V11: 0 | W11: 498 | X11: =SUM(Y11:AB11) -> 6597 | Y11: ='表3.2'!J15 -> 6072 | Z11: ='表3.2'!L15 -> 36 | AA11: ='表3.2'!M15 -> 0 | AB11: ='表3.2'!N15 -> 489
B12: 施設合計 | D12: =SUM(D7:D11) -> 70399 | E12: =SUM(E7:E11) -> 64899 | F12: =SUM(F7:F11) -> 1105 | G12: =SUM(G7:G11) -> 0 | H12: =SUM(H7:H11) -> 4395 | I12: =SUM(I7:I11) -> 70103 | J12: =SUM(J7:J11) -> 64804 | K12: =SUM(K7:K11) -> 1184 | ... AB12: =SUM(AB7:AB11) -> 3995
B13: 届出工場・ 事業場合計 （注2） | D13: 10671 | E13: 10333 | F13: 67 | G13: 0 | H13: 251 | I13: 10742 | J13: 10476 | K13: 64 | L13: 0 | M13: 250 | N13: 10868 | O13: 10613 | P13: 64 | Q13: 0 | R13: 259 | S13: 10967 | T13: 10734 | U13: 66 | V13: 0 | W13: 254 | X13: ='表3.2'!O17 -> 11148 | Y13: ='表3.2'!J17 -> 10872 | Z13: ='表3.2'!L17 -> 64 | AA13: ='表3.2'!M17 -> 0 | AB13: ='表3.2'!N17 -> 261
B14: （注1）「大気」：大気汚染防止法届出一般粉じん発生施設、「電気」：電気事業法に係る一般粉じん発生施設、「ガス」：ガス事業法に係る一般粉じん発生施設、「鉱山」：鉱山保安法に係る一般粉じん発生施設を示す。
B15: （注2）「届出工場・事業場合計」の「全施設数」は、「大気」、「電気」、「ガス」、「鉱山」で重複する工場・事業場を除いた実数である。

Sheet 表3.2
B2: 表3.2 届出件数 届出種類別・施設種類別－全国（一般粉じん発生施設）
B4: 令別表 第２の 項番号 | C4: 施設名 | D4: 前年度 末現在 の届出 施設数 | E4: 年度中の大気汚染防止法に係る届出数 | I4: 届出以外の 理由による 年度中の 増減 | J4: 年度末 現在の 届出施 設数 | K4: 年度中の 変更届出 施設数 (法第18条 第3項) | L4: 年度末現在の電気事業法･ガス 事業法・鉱山保安法に係る 一般粉じん発生施設数 | O4: 合計
E6: 設置届出 (法第18条 第1項) | F6: 使用届出 (法第18条 の2第1項) | G6: 使用廃止届出 (法第18条 の13第2項) | H6: 年度中 の増減
L8: 電気 | M8: ガス | N8: 鉱山
H9: (E)= | J9: (F)= (A)+(E)+(E)' | O9: (K)=(F)+
D10: (A) | E10: (B) | F10: (C) | G10: (D) | H10: (B)+(C)-(D) | I10: (E)' | K10: (G) | L10: (H) | M10: (I) | N10: (J) | O10: (H)+(I)+(J)
B11: 1項 | C11: コークス炉 | D11: 77 | E11: 1 | F11: 0 | G11: 0 | H11: =E11+F11-G11 -> 1 | I11: 0 | J11: =D11+H11+I11 -> 78 | K11: 3 | L11: 0 | M11: 0 | N11: 0 | O11: =J11+L11+M11+N11 -> 78
B12: 2項 | C12: 堆積場 | D12: 12549 | E12: 478 | F12: 20 | G12: 285 | H12: =E12+F12-G12 -> 213 | I12: -20 | J12: =D12+H12+I12 -> 12742 | K12: 225 | L12: 134 | M12: 0 | N12: 506 | O12: =J12+L12+M12+N12 -> 13382
B13: 3項 | C13: コンベア | D13: 37944 | E13: 528 | F13: 12 | G13: 913 | H13: =E13+F13-G13 -> -373 | I13: -24 | J13: =D13+H13+I13 -> 37547 | K13: 596 | L13: 987 | M13: 0 | N13: 2449 | O13: =J13+L13+M13+N13 -> 40983
B14: 4項 | C14: 破砕機・摩砕機 | D14: 9329 | E14: 124 | F14: 0 | G14: 158 | H14: =E14+F14-G14 -> -34 | I14: 5 | J14: =D14+H14+I14 -> 9300 | K14: 120 | L14: 32 | M14: 0 | N14: 551 | O14: =J14+L14+M14+N14 -> 9883
B15: 5項 | C15: ふるい | D15: 6126 | E15: 92 | F15: 0 | G15: 144 | H15: =E15+F15-G15 -> -52 | I15: -2 | J15: =D15+H15+I15 -> 6072 | K15: 90 | L15: 36 | M15: 0 | N15: 489 | O15: =J15+L15+M15+N15 -> 6597
B16: 施設合計 | D16: =SUM(D11:D15) -> 66025 | E16: =SUM(E11:E15) -> 1223 | F16: =SUM(F11:F15) -> 32 | G16: =SUM(G11:G15) -> 1500 | H16: =SUM(H11:H15) -> -245 | I16: =SUM(I11:I15) -> -41 | J16: =SUM(J11:J15) -> 65739 | K16: =SUM(K11:K15) -> 1034 | ... O16: =SUM(O11:O15) -> 70923
B17: 届出工場・事業場合計（注1） | D17: 10734 | J17: 10872 | L17: 64 | M17: 0 | N17: 261 | O17: 11148
B18: （注1）「届出工場・事業場合計」の「合計(Ｋ)」は、「年度末現在の届出施設数(Ｆ)」、「電気(Ｈ)」、「ガス(Ｉ)」、「鉱山(Ｊ)」で重複する工場・事業場を除いた実数である。

Sheet 表3.3
B2: 表3.3(1) 届出件数 届出種類別・都道府県市別（一般粉じん発生施設） | P2: 表3.3(2) 届出件数 届出種類別・都道府県市別（一般粉じん発生施設） | AD2: 表3.3(3) 届出件数 届出種類別・都道府県市別（一般粉じん発生施設）
B4: 自治体名 | C4: 前年度末現在の届出施設数 | D4: 年度中の大気汚染防止法に係る届出数 | H4: 届出以外の理由による年度中の増減 | I4: 年度末現在の届出施設数 | J4: 年度中の変更届出施設数 (法第18 条第3項) | K4: 年度末現在の電気事業法･ ガス事業法・鉱山保安法 に係る一般粉じん 発生施設数 | N4: 合計 | P4: 自治体名 | Q4: 前年度末現在の届出施設数 | R4: 年度中の大気汚染防止法に係る届出数 | V4: 届出以外の理由による年度中の増減 | W4: 年度末現在の届出施設数 | X4: 年度中の変更届出施設数 (法第18 条第3項) | Y4: 年度末現在の電気事業法･ ガス事業法・鉱山保安法 に係る一般粉じん 発生施設数 | AB4: 合計 | AD4: 自治体名 | AE4: 前年度末現在の届出施設数 | AF4: 年度中の大気汚染防止法に係る届出数 | AJ4: 届出以外の理由による年度中の増減 | AK4: 年度末現在の届出施設数 | AL4: 年度中の変更届出施設数 (法第18 条第3項) | AM4: 年度末現在の電気事業法･ ガス事業法・鉱山保安法 に係る一般粉じん 発生施設数 | AP4: 合計
D6: 設置届出 (法第18条第1項) | E6: 使用届出 (法第18条の2 第1項) | F6: 使用廃止届出 (法第18条の13 第2項) | G6: 年度中の増減 | R6: 設置届出 (法第18条第1項) | S6: 使用届出 (法第18条の2 第1項) | T6: 使用廃止届出 (法第18条の13 第2項) | U6: 年度中の増減 | AF6: 設置届出 (法第18条第1項) | AG6: 使用届出 (法第18条の2 第1項) | AH6: 使用廃止届出 (法第18条の13 第2項) | AI6: 年度中の増減
K8: 電気 | L8: ガス | M8: 鉱山 | N8: (K)= | Y8: 電気 | Z8: ガス | AA8: 鉱山 | AB8: (K)= | AM8: 電気 | AN8: ガス | AO8: 鉱山 | AP8: (K)=
G9: (E)= | I9: (F)= | N9: (F)+(H)+ | U9: (E)= | W9: (F)= | AB9: (F)+(H)+ | AI9: (E)= | AK9: (F)= | AP9: (F)+(H)+
C10: (A) | D10: (B) | E10: (C) | F10: (D) | G10: (B)+(C)-(D) | H10: (E') | I10: (E)+(E')+(A) | J10: (G) | K10: （H） | L10: （I） | M10: （J） | N10: (I)+(J) | Q10: (A) | R10: (B) | S10: (C) | T10: (D) | U10: (B)+(C)-(D) | V10: (E') | W10: (E)+(E')+(A) | X10: (G) | Y10: （H） | Z10: （I） | AA10: （J） | AB10: (I)+(J) | AE10: (A) | AF10: (B) | AG10: (C) | AH10: (D) | AI10: (B)+(C)-(D) | AJ10: (E') | AK10: (E)+(E')+(A) | AL10: (G) | AM10: （H） | AN10: （I） | AO10: （J） | AP10: (I)+(J)
B11: 北海道計 | C11: =SUM(C12:C18) -> 4674 | D11: =SUM(D12:D18) -> 116 | E11: =SUM(E12:E18) -> 0 | F11: =SUM(F12:F18) -> 120 | G11: =SUM(G12:G18) -> -4 | H11: =SUM(H12:H18) -> 7 | I11: =SUM(I12:I18) -> 4677 | J11: =SUM(J12:J18) -> 24 | ... N11: =SUM(N12:N18) -> 4740 | P11: 新潟県計 | Q11: =SUM(Q12:Q15) -> 830 | R11: =SUM(R12:R15) -> 25 | S11: =SUM(S12:S15) -> 0 | T11: =SUM(T12:T15) -> 11 | U11: =SUM(U12:U15) -> 14 | V11: =SUM(V12:V15) -> -8 | W11: =SUM(W12:W15) -> 836 | X11: =SUM(X12:X15) -> 2 | ... AB11: =SUM(AB12:AB15) -> 892 | AD11: 和歌山県計 | AE11: =SUM(AE12:AE13) -> 1550 | AF11: =SUM(AF12:AF13) -> 13 | AG11: =SUM(AG12:AG13) -> 0 | AH11: =SUM(AH12:AH13) -> 4 | AI11: =SUM(AI12:AI13) -> 9 | AJ11: =SUM(AJ12:AJ13) -> 0 | AK11: =SUM(AK12:AK13) -> 1559 | AL11: =SUM(AL12:AL13) -> 3 | ... AP11: =SUM(AP12:AP13) -> 1559
B12: 札幌市 | C12: 226 | D12: 10 | E12: 0 | F12: 24 | G12: =D12+E12-F12 -> -14 | H12: 1 | I12: =C12+G12+H12 -> 213 | J12: 0 | K12: 0 | L12: 0 | M12: 0 | N12: =I12+SUM(K12:M12) -> 213 | P12: 新潟市 | Q12: 106 | R12: 1 | S12: 0 | T12: 0 | U12: =R12+S12-T12 -> 1 | V12: 0 | W12: =Q12+U12+V12 -> 107 | X12: 0 | Y12: 0 | Z12: 0 | AA12: 0 | AB12: =W12+SUM(Y12:AA12) -> 107 | AD12: 和歌山市 | AE12: 1081 | AF12: 6 | AG12: 0 | AH12: 0 | AI12: =AF12+AG12-AH12 -> 6 | AJ12: 0 | AK12: =AE12+AI12+AJ12 -> 1087 | AL12: 0 | AM12: 0 | AN12: 0 | AO12: 0 | AP12: =AK12+SUM(AM12:AO12) -> 1087
B13: 函館市 | C13: 36 | D13: 1 | E13: 0 | F13: 0 | G13: =D13+E13-F13 -> 1 | H13: 0 | I13: =C13+G13+H13 -> 37 | J13: 0 | K13: 0 | L13: 0 | M13: 0 | N13: =I13+SUM(K13:M13) -> 37 | P13: 長岡市 | Q13: 64 | R13: 0 | S13: 0 | T13: 0 | U13: =R13+S13-T13 -> 0 | V13: 0 | W13: =Q13+U13+V13 -> 64 | X13: 0 | Y13: 0 | Z13: 0 | AA13: 0 | AB13: =W13+SUM(Y13:AA13) -> 64 | AD13: その他・和歌山県 | AE13: 469 | AF13: 7 | AG13: 0 | AH13: 4 | AI13: =AF13+AG13-AH13 -> 3 | AJ13: 0 | AK13: =AE13+AI13+AJ13 -> 472 | AL13: 3 | AM13: 0 | AN13: 0 | AO13: 0 | AP13: =AK13+SUM(AM13:AO13) -> 472
B14: 小樽市 | C14: 13 | D14: 7 | E14: 0 | F14: 0 | G14: =D14+E14-F14 -> 7 | H14: 0 | I14: =C14+G14+H14 -> 20 | J14: 0 | K14: 0 | L14: 0 | M14: 0 | N14: =I14+SUM(K14:M14) -> 20 | P14: 上越市 | Q14: 86 | R14: 1 | S14: 0 | T14: 6 | U14: =R14+S14-T14 -> -5 | V14: 0 | W14: =Q14+U14+V14 -> 81 | X14: 1 | Y14: 0 | Z14: 0 | AA14: 0 | AB14: =W14+SUM(Y14:AA14) -> 81 | AD14: 鳥取県計 | AE14: =SUM(AE15:AE16) -> 334 | AF14: =SUM(AF15:AF16) -> 0 | AG14: =SUM(AG15:AG16) -> 0 | AH14: =SUM(AH15:AH16) -> 0 | AI14: =SUM(AI15:AI16) -> 0 | AJ14: =SUM(AJ15:AJ16) -> 0 | AK14: =SUM(AK15:AK16) -> 334 | AL14: =SUM(AL15:AL16) -> 0 | ... AP14: =SUM(AP15:AP16) -> 334
B15: 旭川市 | C15: 44 | D15: 3 | E15: 0 | F15: 3 | G15: =D15+E15-F15 -> 0 | H15: 5 | I15: =C15+G15+H15 -> 49 | J15: 0 | K15: 0 | L15: 0 | M15: 0 | N15: =I15+SUM(K15:M15) -> 49 | P15: その他・新潟県 | Q15: 574 | R15: 23 | S15: 0 | T15: 5 | U15: =R15+S15-T15 -> 18 | V15: -8 | W15: =Q15+U15+V15 -> 584 | X15: 1 | Y15: 0 | Z15: 0 | AA15: 56 | AB15: =W15+SUM(Y15:AA15) -> 640 | AD15: 鳥取市 | AE15: 118 | AF15: 0 | AG15: 0 | AH15: 0 | AI15: =AF15+AG15-AH15 -> 0 | AJ15: 0 | AK15: =AE15+AI15+AJ15 -> 118 | AL15: 0 | AM15: 0 | AN15: 0 | AO15: 0 | AP15: =AK15+SUM(AM15:AO15) -> 118
B16: 室蘭市 | C16: 5 | D16: 0 | E16: 0 | F16: 0 | G16: =D16+E16-F16 -> 0 | H16: 0 | I16: =C16+G16+H16 -> 5 | J16: 0 | K16: 0 | L16: 0 | M16: 0 | N16: =I16+SUM(K16:M16) -> 5 | P16: 富山県計 | Q16: =SUM(Q17:Q18) -> 1191 | R16: =SUM(R17:R18) -> 18 | S16: =SUM(S17:S18) -> 0 | T16: =SUM(T17:T18) -> 3 | U16: =SUM(U17:U18) -> 15 | V16: =SUM(V17:V18) -> -1 | W16: =SUM(W17:W18) -> 1205 | X16: =SUM(X17:X18) -> 3 | ... AB16: =SUM(AB17:AB18) -> 1208 | AD16: その他・鳥取県 | AE16: 216 | AF16: 0 | AG16: 0 | AH16: 0 | AI16: =AF16+AG16-AH16 -> 0 | AJ16: 0 | AK16: =AE16+AI16+AJ16 -> 216 | AL16: 0 | AM16: 0 | AN16: 0 | AO16: 0 | AP16: =AK16+SUM(AM16:AO16) -> 216
B17: 苫小牧市 | C17: 18 | D17: 0 | E17: 0 | F17: 1 | G17: =D17+E17-F17 -> -1 | H17: 0 | I17: =C17+G17+H17 -> 17 | J17: 0 | K17: 0 | L17: 0 | M17: 0 | N17: =I17+SUM(K17:M17) -> 17 | P17: 富山市 | Q17: 303 | R17: 1 | S17: 0 | T17: 0 | U17: =R17+S17-T17 -> 1 | V17: 0 | W17: =Q17+U17+V17 -> 304 | X17: 0 | Y17: 0 | Z17: 0 | AA17: 0 | AB17: =W17+SUM(Y17:AA17) -> 304 | AD17: 島根県計 | AE17: =SUM(AE18:AE19) -> 600 | AF17: =SUM(AF18:AF19) -> 14 | AG17: =SUM(AG18:AG19) -> 0 | AH17: =SUM(AH18:AH19) -> 20 | AI17: =SUM(AI18:AI19) -> -6 | AJ17: =SUM(AJ18:AJ19) -> 0 | AK17: =SUM(AK18:AK19) -> 594 | AL17: =SUM(AL18:AL19) -> 4 | ... AP17: =SUM(AP18:AP19) -> 606
B18: その他・北海道 | C18: 4332 | D18: 95 | E18: 0 | F18: 92 | G18: =D18+E18-F18 -> 3 | H18: 1 | I18: =C18+G18+H18 -> 4336 | J18: 24 | K18: 44 | L18: 0 | M18: 19 | N18: =I18+SUM(K18:M18) -> 4399 | P18: その他・富山県 | Q18: 888 | R18: 17 | S18: 0 | T18: 3 | U18: =R18+S18-T18 -> 14 | V18: -1 | W18: =Q18+U18+V18 -> 901 | X18: 3 | Y18: 1 | Z18: 0 | AA18: 2 | AB18: =W18+SUM(Y18:AA18) -> 904 | AD18: 松江市 | AE18: 72 | AF18: 1 | AG18: 0 | AH18: 0 | AI18: =AF18+AG18-AH18 -> 1 | AJ18: 0 | AK18: =AE18+AI18+AJ18 -> 73 | AL18: 0 | AM18: 0 | AN18: 0 | AO18: 0 | AP18: =AK18+SUM(AM18:AO18) -> 73
B19: 青森県計 | C19: =SUM(C20:C22) -> 1378 | D19: =SUM(D20:D22) -> 20 | E19: =SUM(E20:E22) -> 0 | F19: =SUM(F20:F22) -> 12 | G19: =SUM(G20:G22) -> 8 | H19: =SUM(H20:H22) -> 0 | I19: =SUM(I20:I22) -> 1386 | J19: =SUM(J20:J22) -> 12 | ... N19: =SUM(N20:N22) -> 1544 | P19: 石川県計 | Q19: =SUM(Q20:Q21) -> 653 | R19: =SUM(R20:R21) -> 8 | S19: =SUM(S20:S21) -> 1 | T19: =SUM(T20:T21) -> 4 | U19: =SUM(U20:U21) -> 5 | V19: =SUM(V20:V21) -> -10 | W19: =SUM(W20:W21) -> 648 | X19: =SUM(X20:X21) -> 2 | ... AB19: =SUM(AB20:AB21) -> 657 | AD19: その他・島根県 | AE19: 528 | AF19: 13 | AG19: 0 | AH19: 20 | AI19: =AF19+AG19-AH19 -> -7 | AJ19: 0 | AK19: =AE19+AI19+AJ19 -> 521 | AL19: 4 | AM19: 10 | AN19: 0 | AO19: 2 | AP19: =AK19+SUM(AM19:AO19) -> 533
B20: 青森市 | C20: 133 | D20: 0 | E20: 0 | F20: 0 | G20: =D20+E20-F20 -> 0 | H20: 0 | I20: =C20+G20+H20 -> 133 | J20: 0 | K20: 0 | L20: 0 | M20: 12 | N20: =I20+SUM(K20:M20) -> 145 | P20: 金沢市 | Q20: 100 | R20: 0 | S20: 0 | T20: 1 | U20: =R20+S20-T20 -> -1 | V20: 0 | W20: =Q20+U20+V20 -> 99 | X20: 0 | Y20: 0 | Z20: 0 | AA20: 0 | AB20: =W20+SUM(Y20:AA20) -> 99 | AD20: 岡山県計 | AE20: =SUM(AE21:AE23) -> 2410 | AF20: =SUM(AF21:AF23) -> 29 | AG20: =SUM(AG21:AG23) -> 0 | AH20: =SUM(AH21:AH23) -> 76 | AI20: =SUM(AI21:AI23) -> -47 | AJ20: =SUM(AJ21:AJ23) -> 32 | AK20: =SUM(AK21:AK23) -> 2395 | AL20: =SUM(AL21:AL23) -> 10 | ... AP20: =SUM(AP21:AP23) -> 2537
B21: 八戸市 | C21: 448 | D21: 4 | E21: 0 | F21: 0 | G21: =D21+E21-F21 -> 4 | H21: 0 | I21: =C21+G21+H21 -> 452 | J21: 6 | K21: 5 | L21: 0 | M21: 11 | N21: =I21+SUM(K21:M21) -> 468 | P21: その他・石川県 | Q21: 553 | R21: 8 | S21: 1 | T21: 3 | U21: =R21+S21-T21 -> 6 | V21: -10 | W21: =Q21+U21+V21 -> 549 | X21: 2 | Y21: 8 | Z21: 0 | AA21: 1 | AB21: =W21+SUM(Y21:AA21) -> 558 | AD21: 岡山市 | AE21: 287 | AF21: 3 | AG21: 0 | AH21: 2 | AI21: =AF21+AG21-AH21 -> 1 | AJ21: 1 | AK21: =AE21+AI21+AJ21 -> 289 | AL21: 0 | AM21: 0 | AN21: 0 | AO21: 0 | AP21: =AK21+SUM(AM21:AO21) -> 289
B22: その他・青森県 | C22: 797 | D22: 16 | E22: 0 | F22: 12 | G22: =D22+E22-F22 -> 4 | H22: 0 | I22: =C22+G22+H22 -> 801 | J22: 6 | K22: 0 | L22: 0 | M22: 130 | N22: =I22+SUM(K22:M22) -> 931 | P22: 福井県計 | Q22: =SUM(Q23:Q24) -> 509 | R22: =SUM(R23:R24) -> 14 | S22: =SUM(S23:S24) -> 0 | T22: =SUM(T23:T24) -> 10 | U22: =SUM(U23:U24) -> 4 | V22: =SUM(V23:V24) -> 3 | W22: =SUM(W23:W24) -> 516 | X22: =SUM(X23:X24) -> 0 | ... AB22: =SUM(AB23:AB24) -> 556 | AD22: 倉敷市 | AE22: 1448 | AF22: 19 | AG22: 0 | AH22: 31 | AI22: =AF22+AG22-AH22 -> -12 | AJ22: 31 | AK22: =AE22+AI22+AJ22 -> 1467 | AL22: 6 | AM22: 15 | AN22: 0 | AO22: 0 | AP22: =AK22+SUM(AM22:AO22) -> 1482
B23: 岩手県計 | C23: =SUM(C24:C25) -> 1617 | D23: =SUM(D24:D25) -> 22 | E23: =SUM(E24:E25) -> 0 | F23: =SUM(F24:F25) -> 34 | G23: =SUM(G24:G25) -> -12 | H23: =SUM(H24:H25) -> 0 | I23: =SUM(I24:I25) -> 1605 | J23: =SUM(J24:J25) -> 0 | ... N23: =SUM(N24:N25) -> 1726 | P23: 福井市 | Q23: 77 | R23: 1 | S23: 0 | T23: 0 | U23: =R23+S23-T23 -> 1 | V23: 0 | W23: =Q23+U23+V23 -> 78 | X23: 0 | Y23: 0 | Z23: 0 | AA23: 0 | AB23: =W23+SUM(Y23:AA23) -> 78 | AD23: その他・岡山県 | AE23: 675 | AF23: 7 | AG23: 0 | AH23: 43 | AI23: =AF23+AG23-AH23 -> -36 | AJ23: 0 | AK23: =AE23+AI23+AJ23 -> 639 | AL23: 4 | AM23: 0 | AN23: 0 | AO23: 127 | AP23: =AK23+SUM(AM23:AO23) -> 766
B24: 盛岡市 | C24: 192 | D24: 0 | E24: 0 | F24: 24 | G24: =D24+E24-F24 -> -24 | H24: 0 | I24: =C24+G24+H24 -> 168 | J24: 0 | K24: 0 | L24: 0 | M24: 0 | N24: =I24+SUM(K24:M24) -> 168 | P24: その他・福井県 | Q24: 432 | R24: 13 | S24: 0 | T24: 10 | U24: =R24+S24-T24 -> 3 | V24: 3 | W24: =Q24+U24+V24 -> 438 | X24: 0 | Y24: 7 | Z24: 0 | AA24: 33 | AB24: =W24+SUM(Y24:AA24) -> 478 | AD24: 広島県計 | AE24: =SUM(AE25:AE28) -> 2280 | AF24: =SUM(AF25:AF28) -> 25 | AG24: =SUM(AG25:AG28) -> 0 | AH24: =SUM(AH25:AH28) -> 338 | AI24: =SUM(AI25:AI28) -> -313 | AJ24: =SUM(AJ25:AJ28) -> 0 | AK24: =SUM(AK25:AK28) -> 1967 | AL24: =SUM(AL25:AL28) -> 38 | ... AP24: =SUM(AP25:AP28) -> 2113
B25: その他・岩手県 | C25: 1425 | D25: 22 | E25: 0 | F25: 10 | G25: =D25+E25-F25 -> 12 | H25: 0 | I25: =C25+G25+H25 -> 1437 | J25: 0 | K25: 7 | L25: 0 | M25: 114 | N25: =I25+SUM(K25:M25) -> 1558 | P25: 山梨県計 | Q25: =SUM(Q26:Q27) -> 656 | R25: =SUM(R26:R27) -> 13 | S25: =SUM(S26:S27) -> 0 | T25: =SUM(T26:T27) -> 21 | U25: =SUM(U26:U27) -> -8 | V25: =SUM(V26:V27) -> 0 | W25: =SUM(W26:W27) -> 648 | X25: =SUM(X26:X27) -> 2 | ... AB25: =SUM(AB26:AB27) -> 648 | AD25: 広島市 | AE25: 328 | AF25: 6 | AG25: 0 | AH25: 0 | AI25: =AF25+AG25-AH25 -> 6 | AJ25: 0 | AK25: =AE25+AI25+AJ25 -> 334 | AL25: 0 | AM25: 0 | AN25: 0 | AO25: 0 | AP25: =AK25+SUM(AM25:AO25) -> 334
B26: 宮城県計 | C26: =SUM(C27:C28) -> 696 | D26: =SUM(D27:D28) -> 17 | E26: =SUM(E27:E28) -> 0 | F26: =SUM(F27:F28) -> 13 | G26: =SUM(G27:G28) -> 4 | H26: =SUM(H27:H28) -> -4 | I26: =SUM(I27:I28) -> 696 | J26: =SUM(J27:J28) -> 4 | ... N26: =SUM(N27:N28) -> 717 | P26: 甲府市 | Q26: 19 | R26: 1 | S26: 0 | T26: 0 | U26: =R26+S26-T26 -> 1 | V26: 0 | W26: =Q26+U26+V26 -> 20 | X26: 0 | Y26: 0 | Z26: 0 | AA26: 0 | AB26: =W26+SUM(Y26:AA26) -> 20 | AD26: 呉市 | AE26: 460 | AF26: 1 | AG26: 0 | AH26: 329 | AI26: =AF26+AG26-AH26 -> -328 | AJ26: 0 | AK26: =AE26+AI26+AJ26 -> 132 | AL26: 0 | AM26: 0 | AN26: 0 | AO26: 0 | AP26: =AK26+SUM(AM26:AO26) -> 132
B27: 仙台市 | C27: 119 | D27: 6 | E27: 0 | F27: 0 | G27: =D27+E27-F27 -> 6 | H27: 0 | I27: =C27+G27+H27 -> 125 | J27: 0 | K27: 1 | L27: 0 | M27: 0 | N27: =I27+SUM(K27:M27) -> 126 | P27: その他・山梨県 | Q27: 637 | R27: 12 | S27: 0 | T27: 21 | U27: =R27+S27-T27 -> -9 | V27: 0 | W27: =Q27+U27+V27 -> 628 | X27: 2 | Y27: 0 | Z27: 0 | AA27: 0 | AB27: =W27+SUM(Y27:AA27) -> 628 | AD27: 福山市 | AE27: 607 | AF27: 10 | AG27: 0 | AH27: 0 | AI27: =AF27+AG27-AH27 -> 10 | AJ27: 0 | AK27: =AE27+AI27+AJ27 -> 617 | AL27: 37 | AM27: 0 | AN27: 0 | AO27: 0 | AP27: =AK27+SUM(AM27:AO27) -> 617
B28: その他・宮城県 | C28: 577 | D28: 11 | E28: 0 | F28: 13 | G28: =D28+E28-F28 -> -2 | H28: -4 | I28: =C28+G28+H28 -> 571 | J28: 4 | K28: 2 | L28: 0 | M28: 18 | N28: =I28+SUM(K28:M28) -> 591 | P28: 長野県計 | Q28: =SUM(Q29:Q31) -> 1223 | R28: =SUM(R29:R31) -> 27 | S28: =SUM(S29:S31) -> 0 | T28: =SUM(T29:T31) -> 3 | U28: =SUM(U29:U31) -> 24 | V28: =SUM(V29:V31) -> -3 | W28: =SUM(W29:W31) -> 1244 | X28: =SUM(X29:X31) -> 0 | ... AB28: =SUM(AB29:AB31) -> 1347 | AD28: その他・広島県 | AE28: 885 | AF28: 8 | AG28: 0 | AH28: 9 | AI28: =AF28+AG28-AH28 -> -1 | AJ28: 0 | AK28: =AE28+AI28+AJ28 -> 884 | AL28: 1 | AM28: 95 | AN28: 0 | AO28: 51 | AP28: =AK28+SUM(AM28:AO28) -> 1030
B29: 秋田県計 | C29: =SUM(C30:C31) -> 524 | D29: =SUM(D30:D31) -> 6 | E29: =SUM(E30:E31) -> 0 | F29: =SUM(F30:F31) -> 2 | G29: =SUM(G30:G31) -> 4 | H29: =SUM(H30:H31) -> -5 | I29: =SUM(I30:I31) -> 523 | J29: =SUM(J30:J31) -> 0 | ... N29: =SUM(N30:N31) -> 563 | P29: 長野市 | Q29: 168 | R29: 0 | S29: 0 | T29: 0 | U29: =R29+S29-T29 -> 0 | V29: 0 | W29: =Q29+U29+V29 -> 168 | X29: 0 | Y29: 0 | Z29: 0 | AA29: 0 | AB29: =W29+SUM(Y29:AA29) -> 168 | AD29: 山口県計 | AE29: =SUM(AE30:AE31) -> 1589 | AF29: =SUM(AF30:AF31) -> 12 | AG29: =SUM(AG30:AG31) -> 0 | AH29: =SUM(AH30:AH31) -> 9 | AI29: =SUM(AI30:AI31) -> 3 | AJ29: =SUM(AJ30:AJ31) -> 0 | AK29: =SUM(AK30:AK31) -> 1592 | AL29: =SUM(AL30:AL31) -> 2 | ... AP29: =SUM(AP30:AP31) -> 1670
B30: 秋田市 | C30: 39 | D30: 0 | E30: 0 | F30: 0 | G30: =D30+E30-F30 -> 0 | H30: 0 | I30: =C30+G30+H30 -> 39 | J30: 0 | K30: 1 | L30: 0 | M30: 0 | N30: =I30+SUM(K30:M30) -> 40 | P30: 松本市 | Q30: 59 | R30: 0 | S30: 0 | T30: 0 | U30: =R30+S30-T30 -> 0 | V30: 0 | W30: =Q30+U30+V30 -> 59 | X30: 0 | Y30: 0 | Z30: 0 | AA30: 0 | AB30: =W30+SUM(Y30:AA30) -> 59 | AD30: 下関市 | AE30: 146 | AF30: 1 | AG30: 0 | AH30: 0 | AI30: =AF30+AG30-AH30 -> 1 | AJ30: 0 | AK30: =AE30+AI30+AJ30 -> 147 | AL30: 0 | AM30: 0 | AN30: 0 | AO30: 0 | AP30: =AK30+SUM(AM30:AO30) -> 147
B31: その他・秋田県 | C31: 485 | D31: 6 | E31: 0 | F31: 2 | G31: =D31+E31-F31 -> 4 | H31: -5 | I31: =C31+G31+H31 -> 484 | J31: 0 | K31: 39 | L31: 0 | M31: 0 | N31: =I31+SUM(K31:M31) -> 523 | P31: その他・長野県 | Q31: 996 | R31: 27 | S31: 0 | T31: 3 | U31: =R31+S31-T31 -> 24 | V31: -3 | W31: =Q31+U31+V31 -> 1017 | X31: 0 | Y31: 0 | Z31: 0 | AA31: 103 | AB31: =W31+SUM(Y31:AA31) -> 1120 | AD31: その他・山口県 | AE31: 1443 | AF31: 11 | AG31: 0 | AH31: 9 | AI31: =AF31+AG31-AH31 -> 2 | AJ31: 0 | AK31: =AE31+AI31+AJ31 -> 1445 | AL31: 2 | AM31: 26 | AN31: 0 | AO31: 52 | AP31: =AK31+SUM(AM31:AO31) -> 1523
B32: 山形県計 | C32: =SUM(C33:C34) -> 636 | D32: =SUM(D33:D34) -> 10 | E32: =SUM(E33:E34) -> 0 | F32: =SUM(F33:F34) -> 15 | G32: =SUM(G33:G34) -> -5 | H32: =SUM(H33:H34) -> 0 | I32: =SUM(I33:I34) -> 631 | J32: =SUM(J33:J34) -> 1 | ... N32: =SUM(N33:N34) -> 652 | P32: 岐阜県計 | Q32: =SUM(Q33:Q34) -> 935 | R32: =SUM(R33:R34) -> 19 | S32: =SUM(S33:S34) -> 0 | T32: =SUM(T33:T34) -> 16 | U32: =SUM(U33:U34) -> 3 | V32: =SUM(V33:V34) -> 25 | W32: =SUM(W33:W34) -> 963 | X32: =SUM(X33:X34) -> 2 | ... AB32: =SUM(AB33:AB34) -> 969 | AD32: 徳島県計 | AE32: =SUM(AE33) -> 670 | AF32: =SUM(AF33) -> 19 | AG32: =SUM(AG33) -> 0 | AH32: =SUM(AH33) -> 7 | AI32: =SUM(AI33) -> 12 | AJ32: =SUM(AJ33) -> 0 | AK32: =SUM(AK33) -> 682 | AL32: =SUM(AL33) -> 5 | ... AP32: =SUM(AP33) -> 844
B33: 山形市 | C33: 40 | D33: 4 | E33: 0 | F33: 2 | G33: =D33+E33-F33 -> 2 | H33: 0 | I33: =C33+G33+H33 -> 42 | J33: 0 | K33: 0 | L33: 0 | M33: 0 | N33: =I33+SUM(K33:M33) -> 42 | P33: 岐阜市 | Q33: 71 | R33: 1 | S33: 0 | T33: 10 | U33: =R33+S33-T33 -> -9 | V33: 0 | W33: =Q33+U33+V33 -> 62 | X33: 0 | Y33: 0 | Z33: 0 | AA33: 0 | AB33: =W33+SUM(Y33:AA33) -> 62 | AD33: 徳島県 | AE33: 670 | AF33: 19 | AG33: 0 | AH33: 7 | AI33: =AF33+AG33-AH33 -> 12 | AJ33: 0 | AK33: =AE33+AI33+AJ33 -> 682 | AL33: 5 | AM33: 115 | AN33: 0 | AO33: 47 | AP33: =AK33+SUM(AM33:AO33) -> 844
B34: その他・山形県 | C34: 596 | D34: 6 | E34: 0 | F34: 13 | G34: =D34+E34-F34 -> -7 | H34: 0 | I34: =C34+G34+H34 -> 589 | J34: 1 | K34: 9 | L34: 0 | M34: 12 | N34: =I34+SUM(K34:M34) -> 610 | P34: その他・岐阜県 | Q34: 864 | R34: 18 | S34: 0 | T34: 6 | U34: =R34+S34-T34 -> 12 | V34: 25 | W34: =Q34+U34+V34 -> 901 | X34: 2 | Y34: 0 | Z34: 0 | AA34: 6 | AB34: =W34+SUM(Y34:AA34) -> 907 | AD34: 香川県計 | AE34: =SUM(AE35:AE36) -> 961 | AF34: =SUM(AF35:AF36) -> 18 | AG34: =SUM(AG35:AG36) -> 0 | AH34: =SUM(AH35:AH36) -> 66 | AI34: =SUM(AI35:AI36) -> -48 | AJ34: =SUM(AJ35:AJ36) -> 3 | AK34: =SUM(AK35:AK36) -> 916 | AL34: =SUM(AL35:AL36) -> 16 | ... AP34: =SUM(AP35:AP36) -> 921
B35: 福島県計 | C35: =SUM(C36:C39) -> 2175 | D35: =SUM(D36:D39) -> 37 | E35: =SUM(E36:E39) -> 0 | F35: =SUM(F36:F39) -> 192 | G35: =SUM(G36:G39) -> -155 | H35: =SUM(H36:H39) -> -30 | I35: =SUM(I36:I39) -> 1990 | J35: =SUM(J36:J39) -> 3 | ... N35: =SUM(N36:N39) -> 2177 | P35: 静岡県計 | Q35: =SUM(Q36:Q40) -> 1085 | R35: =SUM(R36:R40) -> 12 | S35: =SUM(S36:S40) -> 2 | T35: =SUM(T36:T40) -> 12 | U35: =SUM(U36:U40) -> 2 | V35: =SUM(V36:V40) -> 0 | W35: =SUM(W36:W40) -> 1087 | X35: =SUM(X36:X40) -> 0 | ... AB35: =SUM(AB36:AB40) -> 1118 | AD35: 高松市 | AE35: 132 | AF35: 4 | AG35: 0 | AH35: 1 | AI35: =AF35+AG35-AH35 -> 3 | AJ35: 0 | AK35: =AE35+AI35+AJ35 -> 135 | AL35: 0 | AM35: 0 | AN35: 0 | AO35: 0 | AP35: =AK35+SUM(AM35:AO35) -> 135
B36: 福島市 | C36: 84 | D36: 0 | E36: 0 | F36: 0 | G36: =D36+E36-F36 -> 0 | H36: 0 | I36: =C36+G36+H36 -> 84 | J36: 0 | K36: 0 | L36: 0 | M36: 0 | N36: =I36+SUM(K36:M36) -> 84 | P36: 静岡市 | Q36: 132 | R36: 0 | S36: 0 | T36: 0 | U36: =R36+S36-T36 -> 0 | V36: 0 | W36: =Q36+U36+V36 -> 132 | X36: 0 | Y36: 0 | Z36: 0 | AA36: 2 | AB36: =W36+SUM(Y36:AA36) -> 134 | AD36: その他・香川県 | AE36: 829 | AF36: 14 | AG36: 0 | AH36: 65 | AI36: =AF36+AG36-AH36 -> -51 | AJ36: 3 | AK36: =AE36+AI36+AJ36 -> 781 | AL36: 16 | AM36: 5 | AN36: 0 | AO36: 0 | AP36: =AK36+SUM(AM36:AO36) -> 786
B37: 郡山市 | C37: 189 | D37: 1 | E37: 0 | F37: 1 | G37: =D37+E37-F37 -> 0 | H37: 1 | I37: =C37+G37+H37 -> 190 | J37: 1 | K37: 0 | L37: 0 | M37: 0 | N37: =I37+SUM(K37:M37) -> 190 | P37: 浜松市 | Q37: 192 | R37: 6 | S37: 0 | T37: 8 | U37: =R37+S37-T37 -> -2 | V37: 0 | W37: =Q37+U37+V37 -> 190 | X37: 0 | Y37: 0 | Z37: 0 | AA37: 28 | AB37: =W37+SUM(Y37:AA37) -> 218 | AD37: 愛媛県計 | AE37: =SUM(AE38:AE39) -> 947 | AF37: =SUM(AF38:AF39) -> 37 | AG37: =SUM(AG38:AG39) -> 0 | AH37: =SUM(AH38:AH39) -> 14 | AI37: =SUM(AI38:AI39) -> 23 | AJ37: =SUM(AJ38:AJ39) -> -1 | AK37: =SUM(AK38:AK39) -> 969 | AL37: =SUM(AL38:AL39) -> 0 | ... AP37: =SUM(AP38:AP39) -> 1032
B38: いわき市 | C38: 323 | D38: 17 | E38: 0 | F38: 1 | G38: =D38+E38-F38 -> 16 | H38: 0 | I38: =C38+G38+H38 -> 339 | J38: 1 | K38: 48 | L38: 0 | M38: 15 | N38: =I38+SUM(K38:M38) -> 402 | P38: 沼津市 | Q38: 46 | R38: 0 | S38: 2 | T38: 0 | U38: =R38+S38-T38 -> 2 | V38: 0 | W38: =Q38+U38+V38 -> 48 | X38: 0 | Y38: 0 | Z38: 0 | AA38: 0 | AB38: =W38+SUM(Y38:AA38) -> 48 | AD38: 松山市 | AE38: 58 | AF38: 1 | AG38: 0 | AH38: 1 | AI38: =AF38+AG38-AH38 -> 0 | AJ38: 0 | AK38: =AE38+AI38+AJ38 -> 58 | AL38: 0 | AM38: 2 | AN38: 0 | AO38: 0 | AP38: =AK38+SUM(AM38:AO38) -> 60
B39: その他・福島県 | C39: 1579 | D39: 19 | E39: 0 | F39: 190 | G39: =D39+E39-F39 -> -171 | H39: -31 | I39: =C39+G39+H39 -> 1377 | J39: 1 | K39: 93 | L39: 0 | M39: 31 | N39: =I39+SUM(K39:M39) -> 1501 | P39: 富士市 | Q39: 75 | R39: 0 | S39: 0 | T39: 0 | U39: =R39+S39-T39 -> 0 | V39: 0 | W39: =Q39+U39+V39 -> 75 | X39: 0 | Y39: 1 | Z39: 0 | AA39: 0 | AB39: =W39+SUM(Y39:AA39) -> 76 | AD39: その他・愛媛県 | AE39: 889 | AF39: 36 | AG39: 0 | AH39: 13 | AI39: =AF39+AG39-AH39 -> 23 | AJ39: -1 | AK39: =AE39+AI39+AJ39 -> 911 | AL39: 0 | AM39: 61 | AN39: 0 | AO39: 0 | AP39: =AK39+SUM(AM39:AO39) -> 972
B40: 茨城県計 | C40: =SUM(C41:C43) -> 2510 | D40: =SUM(D41:D43) -> 39 | E40: =SUM(E41:E43) -> 0 | F40: =SUM(F41:F43) -> 20 | G40: =SUM(G41:G43) -> 19 | H40: =SUM(H41:H43) -> 10 | I40: =SUM(I41:I43) -> 2539 | J40: =SUM(J41:J43) -> 59 | ... N40: =SUM(N41:N43) -> 2559 | P40: その他・静岡県 | Q40: 640 | R40: 6 | S40: 0 | T40: 4 | U40: =R40+S40-T40 -> 2 | V40: 0 | W40: =Q40+U40+V40 -> 642 | X40: 0 | Y40: 0 | Z40: 0 | AA40: 0 | AB40: =W40+SUM(Y40:AA40) -> 642 | AD40: 高知県計 | AE40: =SUM(AE41:AE42) -> 507 | AF40: =SUM(AF41:AF42) -> 12 | AG40: =SUM(AG41:AG42) -> 0 | AH40: =SUM(AH41:AH42) -> 5 | AI40: =SUM(AI41:AI42) -> 7 | AJ40: =SUM(AJ41:AJ42) -> 0 | AK40: =SUM(AK41:AK42) -> 514 | AL40: =SUM(AL41:AL42) -> 0 | ... AP40: =SUM(AP41:AP42) -> 775
B41: 水戸市 | C41: 17 | D41: 1 | E41: 0 | F41: 0 | G41: =D41+E41-F41 -> 1 | H41: 0 | I41: =C41+G41+H41 -> 18 | J41: 0 | K41: 0 | L41: 0 | M41: 0 | N41: =I41+SUM(K41:M41) -> 18 | P41: 愛知県計 | Q41: =SUM(Q42:Q48) -> 4713 | R41: =SUM(R42:R48) -> 78 | S41: =SUM(S42:S48) -> 0 | T41: =SUM(T42:T48) -> 80 | U41: =SUM(U42:U48) -> -2 | V41: =SUM(V42:V48) -> 0 | W41: =SUM(W42:W48) -> 4711 | X41: =SUM(X42:X48) -> 9 | ... AB41: =SUM(AB42:AB48) -> 4893 | AD41: 高知市 | AE41: 242 | AF41: 0 | AG41: 0 | AH41: 0 | AI41: =AF41+AG41-AH41 -> 0 | AJ41: 0 | AK41: =AE41+AI41+AJ41 -> 242 | AL41: 0 | AM41: 0 | AN41: 0 | AO41: 4 | AP41: =AK41+SUM(AM41:AO41) -> 246
B42: つくば市 | C42: 66 | D42: 1 | E42: 0 | F42: 0 | G42: =D42+E42-F42 -> 1 | H42: 0 | I42: =C42+G42+H42 -> 67 | J42: 0 | K42: 0 | L42: 0 | M42: 0 | N42: =I42+SUM(K42:M42) -> 67 | P42: 名古屋市 | Q42: 187 | R42: 1 | S42: 0 | T42: 1 | U42: =R42+S42-T42 -> 0 | V42: 0 | W42: =Q42+U42+V42 -> 187 | X42: 1 | Y42: 0 | Z42: 0 | AA42: 0 | AB42: =W42+SUM(Y42:AA42) -> 187 | AD42: その他・高知県 | AE42: 265 | AF42: 12 | AG42: 0 | AH42: 5 | AI42: =AF42+AG42-AH42 -> 7 | AJ42: 0 | AK42: =AE42+AI42+AJ42 -> 272 | AL42: 0 | AM42: 0 | AN42: 0 | AO42: 257 | AP42: =AK42+SUM(AM42:AO42) -> 529
B43: その他・茨城県 | C43: 2427 | D43: 37 | E43: 0 | F43: 20 | G43: =D43+E43-F43 -> 17 | H43: 10 | I43: =C43+G43+H43 -> 2454 | J43: 59 | K43: 0 | L43: 0 | M43: 20 | N43: =I43+SUM(K43:M43) -> 2474 | P43: 豊橋市 | Q43: 237 | R43: 1 | S43: 0 | T43: 0 | U43: =R43+S43-T43 -> 1 | V43: 0 | W43: =Q43+U43+V43 -> 238 | X43: 2 | Y43: 0 | Z43: 0 | AA43: 22 | AB43: =W43+SUM(Y43:AA43) -> 260 | AD43: 福岡県計 | AE43: =SUM(AE44:AE48) -> 3227 | AF43: =SUM(AF44:AF48) -> 40 | AG43: =SUM(AG44:AG48) -> 0 | AH43: =SUM(AH44:AH48) -> 79 | AI43: =SUM(AI44:AI48) -> -39 | AJ43: =SUM(AJ44:AJ48) -> -9 | AK43: =SUM(AK44:AK48) -> 3179 | AL43: =SUM(AL44:AL48) -> 17 | ... AP43: =SUM(AP44:AP48) -> 3335
B44: 栃木県計 | C44: =SUM(C45:C46) -> 1919 | D44: =SUM(D45:D46) -> 44 | E44: =SUM(E45:E46) -> 0 | F44: =SUM(F45:F46) -> 2 | G44: =SUM(G45:G46) -> 42 | H44: =SUM(H45:H46) -> 0 | I44: =SUM(I45:I46) -> 1961 | J44: =SUM(J45:J46) -> 7 | ... N44: =SUM(N45:N46) -> 2899 | P44: 岡崎市 | Q44: 84 | R44: 2 | S44: 0 | T44: 2 | U44: =R44+S44-T44 -> 0 | V44: 0 | W44: =Q44+U44+V44 -> 84 | X44: 0 | Y44: 0 | Z44: 0 | AA44: 0 | AB44: =W44+SUM(Y44:AA44) -> 84 | AD44: 北九州市 | AE44: 1293 | AF44: 28 | AG44: 0 | AH44: 22 | AI44: =AF44+AG44-AH44 -> 6 | AJ44: 5 | AK44: =AE44+AI44+AJ44 -> 1304 | AL44: 16 | AM44: 9 | AN44: 0 | AO44: 84 | AP44: =AK44+SUM(AM44:AO44) -> 1397
B45: 宇都宮市 | C45: 48 | D45: 3 | E45: 0 | F45: 1 | G45: =D45+E45-F45 -> 2 | H45: 0 | I45: =C45+G45+H45 -> 50 | J45: 0 | K45: 0 | L45: 0 | M45: 0 | N45: =I45+SUM(K45:M45) -> 50 | P45: 一宮市 | Q45: 4 | R45: 3 | S45: 0 | T45: 0 | U45: =R45+S45-T45 -> 3 | V45: 0 | W45: =Q45+U45+V45 -> 7 | X45: 0 | Y45: 0 | Z45: 0 | AA45: 0 | AB45: =W45+SUM(Y45:AA45) -> 7 | AD45: 福岡市 | AE45: 156 | AF45: 0 | AG45: 0 | AH45: 0 | AI45: =AF45+AG45-AH45 -> 0 | AJ45: 0 | AK45: =AE45+AI45+AJ45 -> 156 | AL45: 0 | AM45: 0 | AN45: 0 | AO45: 0 | AP45: =AK45+SUM(AM45:AO45) -> 156
B46: その他・栃木県 | C46: 1871 | D46: 41 | E46: 0 | F46: 1 | G46: =D46+E46-F46 -> 40 | H46: 0 | I46: =C46+G46+H46 -> 1911 | J46: 7 | K46: 0 | L46: 0 | M46: 938 | N46: =I46+SUM(K46:M46) -> 2849 | P46: 春日井市 | Q46: 220 | R46: 0 | S46: 0 | T46: 0 | U46: =R46+S46-T46 -> 0 | V46: 0 | W46: =Q46+U46+V46 -> 220 | X46: 0 | Y46: 0 | Z46: 0 | AA46: 0 | AB46: =W46+SUM(Y46:AA46) -> 220 | AD46: 大牟田市 | AE46: 27 | AF46: 0 | AG46: 0 | AH46: 0 | AI46: =AF46+AG46-AH46 -> 0 | AJ46: -14 | AK46: =AE46+AI46+AJ46 -> 13 | AL46: 0 | AM46: 0 | AN46: 0 | AO46: 0 | AP46: =AK46+SUM(AM46:AO46) -> 13
B47: 群馬県計 | C47: =SUM(C48:C52) -> 616 | D47: =SUM(D48:D52) -> 8 | E47: =SUM(E48:E52) -> 0 | F47: =SUM(F48:F52) -> 3 | G47: =SUM(G48:G52) -> 5 | H47: =SUM(H48:H52) -> 0 | I47: =SUM(I48:I52) -> 621 | J47: =SUM(J48:J52) -> 4 | ... N47: =SUM(N48:N52) -> 639 | P47: 豊田市 | Q47: 329 | R47: 1 | S47: 0 | T47: 3 | U47: =R47+S47-T47 -> -2 | V47: 0 | W47: =Q47+U47+V47 -> 327 | X47: 0 | Y47: 0 | Z47: 0 | AA47: 0 | AB47: =W47+SUM(Y47:AA47) -> 327 | AD47: 久留米市 | AE47: 32 | AF47: 0 | AG47: 0 | AH47: 0 | AI47: =AF47+AG47-AH47 -> 0 | AJ47: 0 | AK47: =AE47+AI47+AJ47 -> 32 | AL47: 0 | AM47: 0 | AN47: 0 | AO47: 0 | AP47: =AK47+SUM(AM47:AO47) -> 32
B48: 前橋市 | C48: 69 | D48: 0 | E48: 0 | F48: 0 | G48: =D48+E48-F48 -> 0 | H48: 0 | I48: =C48+G48+H48 -> 69 | J48: 0 | K48: 0 | L48: 0 | M48: 0 | N48: =I48+SUM(K48:M48) -> 69 | P48: その他・愛知県 | Q48: 3652 | R48: 70 | S48: 0 | T48: 74 | U48: =R48+S48-T48 -> -4 | V48: 0 | W48: =Q48+U48+V48 -> 3648 | X48: 6 | Y48: 148 | Z48: 0 | AA48: 12 | AB48: =W48+SUM(Y48:AA48) -> 3808 | AD48: その他・福岡県 | AE48: 1719 | AF48: 12 | AG48: 0 | AH48: 57 | AI48: =AF48+AG48-AH48 -> -45 | AJ48: 0 | AK48: =AE48+AI48+AJ48 -> 1674 | AL48: 1 | AM48: 11 | AN48: 0 | AO48: 52 | AP48: =AK48+SUM(AM48:AO48) -> 1737
B49: 高崎市 | C49: 35 | D49: 0 | E49: 0 | F49: 0 | G49: =D49+E49-F49 -> 0 | H49: 0 | I49: =C49+G49+H49 -> 35 | J49: 0 | K49: 0 | L49: 0 | M49: 0 | N49: =I49+SUM(K49:M49) -> 35 | P49: 三重県計 | Q49: =SUM(Q50:Q51) -> 1666 | R49: =SUM(R50:R51) -> 21 | S49: =SUM(S50:S51) -> 0 | T49: =SUM(T50:T51) -> 21 | U49: =SUM(U50:U51) -> 0 | V49: =SUM(V50:V51) -> -7 | W49: =SUM(W50:W51) -> 1659 | X49: =SUM(X50:X51) -> 46 | ... AB49: =SUM(AB50:AB51) -> 1815 | AD49: 佐賀県計 | AE49: =SUM(AE50:AE51) -> 398 | AF49: =SUM(AF50:AF51) -> 12 | AG49: =SUM(AG50:AG51) -> 0 | AH49: =SUM(AH50:AH51) -> 26 | AI49: =SUM(AI50:AI51) -> -14 | AJ49: =SUM(AJ50:AJ51) -> 6 | AK49: =SUM(AK50:AK51) -> 390 | AL49: =SUM(AL50:AL51) -> 9 | ... AP49: =SUM(AP50:AP51) -> 390
B50: 伊勢崎市 | C50: 14 | D50: 0 | E50: 0 | F50: 0 | G50: =D50+E50-F50 -> 0 | H50: 0 | I50: =C50+G50+H50 -> 14 | J50: 0 | K50: 0 | L50: 0 | M50: 0 | N50: =I50+SUM(K50:M50) -> 14 | P50: 四日市市 | Q50: 76 | R50: 0 | S50: 0 | T50: 0 | U50: =R50+S50-T50 -> 0 | V50: 0 | W50: =Q50+U50+V50 -> 76 | X50: 2 | Y50: 0 | Z50: 0 | AA50: 0 | AB50: =W50+SUM(Y50:AA50) -> 76 | AD50: 佐賀市 | AE50: 18 | AF50: 3 | AG50: 0 | AH50: 0 | AI50: =AF50+AG50-AH50 -> 3 | AJ50: 0 | AK50: =AE50+AI50+AJ50 -> 21 | AL50: 0 | AM50: 0 | AN50: 0 | AO50: 0 | AP50: =AK50+SUM(AM50:AO50) -> 21
B51: 太田市 | C51: 36 | D51: 0 | E51: 0 | F51: 0 | G51: =D51+E51-F51 -> 0 | H51: 0 | I51: =C51+G51+H51 -> 36 | J51: 0 | K51: 0 | L51: 0 | M51: 0 | N51: =I51+SUM(K51:M51) -> 36 | P51: その他・三重県 | Q51: 1590 | R51: 21 | S51: 0 | T51: 21 | U51: =R51+S51-T51 -> 0 | V51: -7 | W51: =Q51+U51+V51 -> 1583 | X51: 44 | Y51: 0 | Z51: 0 | AA51: 156 | AB51: =W51+SUM(Y51:AA51) -> 1739 | AD51: その他・佐賀県 | AE51: 380 | AF51: 9 | AG51: 0 | AH51: 26 | AI51: =AF51+AG51-AH51 -> -17 | AJ51: 6 | AK51: =AE51+AI51+AJ51 -> 369 | AL51: 9 | AM51: 0 | AN51: 0 | AO51: 0 | AP51: =AK51+SUM(AM51:AO51) -> 369
B52: その他・群馬県 | C52: 462 | D52: 8 | E52: 0 | F52: 3 | G52: =D52+E52-F52 -> 5 | H52: 0 | I52: =C52+G52+H52 -> 467 | J52: 4 | K52: 0 | L52: 0 | M52: 18 | N52: =I52+SUM(K52:M52) -> 485 | P52: 滋賀県計 | Q52: =SUM(Q53:Q54) -> 343 | R52: =SUM(R53:R54) -> 12 | S52: =SUM(S53:S54) -> 0 | T52: =SUM(T53:T54) -> 4 | U52: =SUM(U53:U54) -> 8 | V52: =SUM(V53:V54) -> -3 | W52: =SUM(W53:W54) -> 348 | X52: =SUM(X53:X54) -> 10 | ... AB52: =SUM(AB53:AB54) -> 437 | AD52: 長崎県計 | AE52: =SUM(AE53:AE55) -> 725 | AF52: =SUM(AF53:AF55) -> 2 | AG52: =SUM(AG53:AG55) -> 0 | AH52: =SUM(AH53:AH55) -> 0 | AI52: =SUM(AI53:AI55) -> 2 | AJ52: =SUM(AJ53:AJ55) -> -2 | AK52: =SUM(AK53:AK55) -> 725 | AL52: =SUM(AL53:AL55) -> 28 | ... AP52: =SUM(AP53:AP55) -> 964
B53: 埼玉県計 | C53: =SUM(C54:C62) -> 1364 | D53: =SUM(D54:D62) -> 6 | E53: =SUM(E54:E62) -> 29 | F53: =SUM(F54:F62) -> 6 | G53: =SUM(G54:G62) -> 29 | H53: =SUM(H54:H62) -> 6 | I53: =SUM(I54:I62) -> 1399 | J53: =SUM(J54:J62) -> 5 | ... N53: =SUM(N54:N62) -> 1619 | P53: 大津市 | Q53: 98 | R53: 1 | S53: 0 | T53: 0 | U53: =R53+S53-T53 -> 1 | V53: -3 | W53: =Q53+U53+V53 -> 96 | X53: 0 | Y53: 0 | Z53: 0 | AA53: 0 | AB53: =W53+SUM(Y53:AA53) -> 96 | AD53: 長崎市 | AE53: 128 | AF53: 0 | AG53: 0 | AH53: 0 | AI53: =AF53+AG53-AH53 -> 0 | AJ53: 3 | AK53: =AE53+AI53+AJ53 -> 131 | AL53: 28 | AM53: 0 | AN53: 0 | AO53: 0 | AP53: =AK53+SUM(AM53:AO53) -> 131
B54: さいたま市 | C54: 91 | D54: 0 | E54: 0 | F54: 1 | G54: =D54+E54-F54 -> -1 | H54: 0 | I54: =C54+G54+H54 -> 90 | J54: 0 | K54: 0 | L54: 0 | M54: 0 | N54: =I54+SUM(K54:M54) -> 90 | P54: その他・滋賀県 | Q54: 245 | R54: 11 | S54: 0 | T54: 4 | U54: =R54+S54-T54 -> 7 | V54: 0 | W54: =Q54+U54+V54 -> 252 | X54: 10 | Y54: 0 | Z54: 0 | AA54: 89 | AB54: =W54+SUM(Y54:AA54) -> 341 | AD54: 佐世保市 | AE54: 54 | AF54: 0 | AG54: 0 | AH54: 0 | AI54: =AF54+AG54-AH54 -> 0 | AJ54: 0 | AK54: =AE54+AI54+AJ54 -> 54 | AL54: 0 | AM54: 0 | AN54: 0 | AO54: 0 | AP54: =AK54+SUM(AM54:AO54) -> 54
B55: 川越市 | C55: 42 | D55: 0 | E55: 0 | F55: 1 | G55: =D55+E55-F55 -> -1 | H55: 0 | I55: =C55+G55+H55 -> 41 | J55: 0 | K55: 0 | L55: 0 | M55: 0 | N55: =I55+SUM(K55:M55) -> 41 | P55: 京都府計 | Q55: =SUM(Q56:Q57) -> 676 | R55: =SUM(R56:R57) -> 1 | S55: =SUM(S56:S57) -> 0 | T55: =SUM(T56:T57) -> 3 | U55: =SUM(U56:U57) -> -2 | V55: =SUM(V56:V57) -> 0 | W55: =SUM(W56:W57) -> 674 | X55: =SUM(X56:X57) -> 582 | ... AB55: =SUM(AB56:AB57) -> 674 | AD55: その他・長崎県 | AE55: 543 | AF55: 2 | AG55: 0 | AH55: 0 | AI55: =AF55+AG55-AH55 -> 2 | AJ55: -5 | AK55: =AE55+AI55+AJ55 -> 540 | AL55: 0 | AM55: 238 | AN55: 0 | AO55: 1 | AP55: =AK55+SUM(AM55:AO55) -> 779
B56: 熊谷市 | C56: 105 | D56: 0 | E56: 0 | F56: 0 | G56: =D56+E56-F56 -> 0 | H56: 0 | I56: =C56+G56+H56 -> 105 | J56: 0 | K56: 0 | L56: 0 | M56: 0 | N56: =I56+SUM(K56:M56) -> 105 | P56: 京都市 | Q56: 92 | R56: 0 | S56: 0 | T56: 0 | U56: =R56+S56-T56 -> 0 | V56: 0 | W56: =Q56+U56+V56 -> 92 | X56: 0 | Y56: 0 | Z56: 0 | AA56: 0 | AB56: =W56+SUM(Y56:AA56) -> 92 | AD56: 熊本県計 | AE56: =SUM(AE57:AE58) -> 901 | AF56: =SUM(AF57:AF58) -> 0 | AG56: =SUM(AG57:AG58) -> 0 | AH56: =SUM(AH57:AH58) -> 0 | AI56: =SUM(AI57:AI58) -> 0 | AJ56: =SUM(AJ57:AJ58) -> 0 | AK56: =SUM(AK57:AK58) -> 901 | AL56: =SUM(AL57:AL58) -> 1 | ... AP56: =SUM(AP57:AP58) -> 901
B57: 川口市 | C57: 20 | D57: 3 | E57: 0 | F57: 1 | G57: =D57+E57-F57 -> 2 | H57: 0 | I57: =C57+G57+H57 -> 22 | J57: 1 | K57: 0 | L57: 0 | M57: 0 | N57: =I57+SUM(K57:M57) -> 22 | P57: その他・京都府 | Q57: 584 | R57: 1 | S57: 0 | T57: 3 | U57: =R57+S57-T57 -> -2 | V57: 0 | W57: =Q57+U57+V57 -> 582 | X57: 582 | Y57: 0 | Z57: 0 | AA57: 0 | AB57: =W57+SUM(Y57:AA57) -> 582 | AD57: 熊本市 | AE57: 66 | AF57: 0 | AG57: 0 | AH57: 0 | AI57: =AF57+AG57-AH57 -> 0 | AJ57: 0 | AK57: =AE57+AI57+AJ57 -> 66 | AL57: 0 | AM57: 0 | AN57: 0 | AO57: 0 | AP57: =AK57+SUM(AM57:AO57) -> 66
B58: 所沢市 | C58: 44 | D58: 3 | E58: 0 | F58: 0 | G58: =D58+E58-F58 -> 3 | H58: 0 | I58: =C58+G58+H58 -> 47 | J58: 3 | K58: 0 | L58: 0 | M58: 0 | N58: =I58+SUM(K58:M58) -> 47 | P58: 大阪府計 | Q58: =SUM(Q59:Q70) -> 1566 | R58: =SUM(R59:R70) -> 33 | S58: =SUM(S59:S70) -> 0 | T58: =SUM(T59:T70) -> 32 | U58: =SUM(U59:U70) -> 1 | V58: =SUM(V59:V70) -> -2 | W58: =SUM(W59:W70) -> 1565 | X58: =SUM(X59:X70) -> 4 | ... AB58: =SUM(AB59:AB70) -> 1565 | AD58: その他・熊本県 | AE58: 835 | AF58: 0 | AG58: 0 | AH58: 0 | AI58: =AF58+AG58-AH58 -> 0 | AJ58: 0 | AK58: =AE58+AI58+AJ58 -> 835 | AL58: 1 | AM58: 0 | AN58: 0 | AO58: 0 | AP58: =AK58+SUM(AM58:AO58) -> 835
B59: 春日部市 | C59: 17 | D59: 0 | E59: 0 | F59: 0 | G59: =D59+E59-F59 -> 0 | H59: 0 | I59: =C59+G59+H59 -> 17 | J59: 0 | K59: 0 | L59: 0 | M59: 0 | N59: =I59+SUM(K59:M59) -> 17 | P59: 大阪市 | Q59: 302 | R59: 16 | S59: 0 | T59: 7 | U59: =R59+S59-T59 -> 9 | V59: 0 | W59: =Q59+U59+V59 -> 311 | X59: 0 | Y59: 0 | Z59: 0 | AA59: 0 | AB59: =W59+SUM(Y59:AA59) -> 311 | AD59: 大分県計 | AE59: =SUM(AE60:AE61) -> 2261 | AF59: =SUM(AF60:AF61) -> 28 | AG59: =SUM(AG60:AG61) -> 0 | AH59: =SUM(AH60:AH61) -> 8 | AI59: =SUM(AI60:AI61) -> 20 | AJ59: =SUM(AJ60:AJ61) -> 2 | AK59: =SUM(AK60:AK61) -> 2283 | AL59: =SUM(AL60:AL61) -> 14 | ... AP59: =SUM(AP60:AP61) -> 3016
B60: 草加市 | C60: 5 | D60: 0 | E60: 0 | F60: 0 | G60: =D60+E60-F60 -> 0 | H60: 0 | I60: =C60+G60+H60 -> 5 | J60: 0 | K60: 0 | L60: 0 | M60: 0 | N60: =I60+SUM(K60:M60) -> 5 | P60: 堺市 | Q60: 162 | R60: 2 | S60: 0 | T60: 20 | U60: =R60+S60-T60 -> -18 | V60: -2 | W60: =Q60+U60+V60 -> 142 | X60: 0 | Y60: 0 | Z60: 0 | AA60: 0 | AB60: =W60+SUM(Y60:AA60) -> 142 | AD60: 大分市 | AE60: 1378 | AF60: 25 | AG60: 0 | AH60: 2 | AI60: =AF60+AG60-AH60 -> 23 | AJ60: 2 | AK60: =AE60+AI60+AJ60 -> 1403 | AL60: 12 | AM60: 2 | AN60: 0 | AO60: 0 | AP60: =AK60+SUM(AM60:AO60) -> 1405
B61: 越谷市 | C61: 28 | D61: 0 | E61: 0 | F61: 0 | G61: =D61+E61-F61 -> 0 | H61: 0 | I61: =C61+G61+H61 -> 28 | J61: 0 | K61: 0 | L61: 0 | M61: 0 | N61: =I61+SUM(K61:M61) -> 28 | P61: 岸和田市 | Q61: 71 | R61: 1 | S61: 0 | T61: 0 | U61: =R61+S61-T61 -> 1 | V61: 0 | W61: =Q61+U61+V61 -> 72 | X61: 0 | Y61: 0 | Z61: 0 | AA61: 0 | AB61: =W61+SUM(Y61:AA61) -> 72 | AD61: その他・大分県 | AE61: 883 | AF61: 3 | AG61: 0 | AH61: 6 | AI61: =AF61+AG61-AH61 -> -3 | AJ61: 0 | AK61: =AE61+AI61+AJ61 -> 880 | AL61: 2 | AM61: 1 | AN61: 0 | AO61: 730 | AP61: =AK61+SUM(AM61:AO61) -> 1611
B62: その他・埼玉県 | C62: 1012 | D62: 0 | E62: 29 | F62: 3 | G62: =D62+E62-F62 -> 26 | H62: 6 | I62: =C62+G62+H62 -> 1044 | J62: 1 | K62: 0 | L62: 0 | M62: 220 | N62: =I62+SUM(K62:M62) -> 1264 | P62: 豊中市 | Q62: 14 | R62: 0 | S62: 0 | T62: 0 | U62: =R62+S62-T62 -> 0 | V62: 0 | W62: =Q62+U62+V62 -> 14 | X62: 0 | Y62: 0 | Z62: 0 | AA62: 0 | AB62: =W62+SUM(Y62:AA62) -> 14 | AD62: 宮崎県計 | AE62: =SUM(AE63:AE64) -> 549 | AF62: =SUM(AF63:AF64) -> 3 | AG62: =SUM(AG63:AG64) -> 0 | AH62: =SUM(AH63:AH64) -> 7 | AI62: =SUM(AI63:AI64) -> -4 | AJ62: =SUM(AJ63:AJ64) -> 0 | AK62: =SUM(AK63:AK64) -> 545 | AL62: =SUM(AL63:AL64) -> 8 | ... AP62: =SUM(AP63:AP64) -> 546
B63: 千葉県計 | C63: =SUM(C64:C70) -> 2112 | D63: =SUM(D64:D70) -> 100 | E63: =SUM(E64:E70) -> 0 | F63: =SUM(F64:F70) -> 57 | G63: =SUM(G64:G70) -> 43 | H63: =SUM(H64:H70) -> 0 | I63: =SUM(I64:I70) -> 2155 | J63: =SUM(J64:J70) -> 16 | ... N63: =SUM(N64:N70) -> 2155 | P63: 吹田市 | Q63: 2 | R63: 0 | S63: 0 | T63: 0 | U63: =R63+S63-T63 -> 0 | V63: 0 | W63: =Q63+U63+V63 -> 2 | X63: 0 | Y63: 0 | Z63: 0 | AA63: 0 | AB63: =W63+SUM(Y63:AA63) -> 2 | AD63: 宮崎市 | AE63: 86 | AF63: 2 | AG63: 0 | AH63: 5 | AI63: =AF63+AG63-AH63 -> -3 | AJ63: 0 | AK63: =AE63+AI63+AJ63 -> 83 | AL63: 0 | AM63: 0 | AN63: 0 | AO63: 0 | AP63: =AK63+SUM(AM63:AO63) -> 83
B64: 千葉市 | C64: 777 | D64: 33 | E64: 0 | F64: 10 | G64: =D64+E64-F64 -> 23 | H64: 0 | I64: =C64+G64+H64 -> 800 | J64: 3 | K64: 0 | L64: 0 | M64: 0 | N64: =I64+SUM(K64:M64) -> 800 | P64: 高槻市 | Q64: 105 | R64: 2 | S64: 0 | T64: 0 | U64: =R64+S64-T64 -> 2 | V64: 0 | W64: =Q64+U64+V64 -> 107 | X64: 0 | Y64: 0 | Z64: 0 | AA64: 0 | AB64: =W64+SUM(Y64:AA64) -> 107 | AD64: その他・宮崎県 | AE64: 463 | AF64: 1 | AG64: 0 | AH64: 2 | AI64: =AF64+AG64-AH64 -> -1 | AJ64: 0 | AK64: =AE64+AI64+AJ64 -> 462 | AL64: 8 | AM64: 1 | AN64: 0 | AO64: 0 | AP64: =AK64+SUM(AM64:AO64) -> 463
B65: 市川市 | C65: 166 | D65: 2 | E65: 0 | F65: 0 | G65: =D65+E65-F65 -> 2 | H65: 0 | I65: =C65+G65+H65 -> 168 | J65: 0 | K65: 0 | L65: 0 | M65: 0 | N65: =I65+SUM(K65:M65) -> 168 | P65: 枚方市 | Q65: 141 | R65: 1 | S65: 0 | T65: 2 | U65: =R65+S65-T65 -> -1 | V65: 0 | W65: =Q65+U65+V65 -> 140 | X65: 0 | Y65: 0 | Z65: 0 | AA65: 0 | AB65: =W65+SUM(Y65:AA65) -> 140 | AD65: 鹿児島県計 | AE65: =SUM(AE66:AE67) -> 910 | AF65: =SUM(AF66:AF67) -> 58 | AG65: =SUM(AG66:AG67) -> 0 | AH65: =SUM(AH66:AH67) -> 2 | AI65: =SUM(AI66:AI67) -> 56 | AJ65: =SUM(AJ66:AJ67) -> 0 | AK65: =SUM(AK66:AK67) -> 966 | AL65: =SUM(AL66:AL67) -> 1 | ... AP65: =SUM(AP66:AP67) -> 1000
B66: 船橋市 | C66: 85 | D66: 0 | E66: 0 | F66: 0 | G66: =D66+E66-F66 -> 0 | H66: 0 | I66: =C66+G66+H66 -> 85 | J66: 0 | K66: 0 | L66: 0 | M66: 0 | N66: =I66+SUM(K66:M66) -> 85 | P66: 茨木市 | Q66: 66 | R66: 0 | S66: 0 | T66: 1 | U66: =R66+S66-T66 -> -1 | V66: 0 | W66: =Q66+U66+V66 -> 65 | X66: 0 | Y66: 0 | Z66: 0 | AA66: 0 | AB66: =W66+SUM(Y66:AA66) -> 65 | AD66: 鹿児島市 | AE66: 135 | AF66: 3 | AG66: 0 | AH66: 0 | AI66: =AF66+AG66-AH66 -> 3 | AJ66: 0 | AK66: =AE66+AI66+AJ66 -> 138 | AL66: 0 | AM66: 0 | AN66: 0 | AO66: 0 | AP66: =AK66+SUM(AM66:AO66) -> 138
B67: 松戸市 | C67: 7 | D67: 1 | E67: 0 | F67: 0 | G67: =D67+E67-F67 -> 1 | H67: 0 | I67: =C67+G67+H67 -> 8 | J67: 0 | K67: 0 | L67: 0 | M67: 0 | N67: =I67+SUM(K67:M67) -> 8 | P67: 八尾市 | Q67: 11 | R67: 9 | S67: 0 | T67: 0 | U67: =R67+S67-T67 -> 9 | V67: 0 | W67: =Q67+U67+V67 -> 20 | X67: 0 | Y67: 0 | Z67: 0 | AA67: 0 | AB67: =W67+SUM(Y67:AA67) -> 20 | AD67: その他・鹿児島県 | AE67: 775 | AF67: 55 | AG67: 0 | AH67: 2 | AI67: =AF67+AG67-AH67 -> 53 | AJ67: 0 | AK67: =AE67+AI67+AJ67 -> 828 | AL67: 1 | AM67: 0 | AN67: 0 | AO67: 34 | AP67: =AK67+SUM(AM67:AO67) -> 862
B68: 柏市 | C68: 24 | D68: 1 | E68: 0 | F68: 1 | G68: =D68+E68-F68 -> 0 | H68: 0 | I68: =C68+G68+H68 -> 24 | J68: 0 | K68: 0 | L68: 0 | M68: 0 | N68: =I68+SUM(K68:M68) -> 24 | P68: 寝屋川市 | Q68: 22 | R68: 0 | S68: 0 | T68: 0 | U68: =R68+S68-T68 -> 0 | V68: 0 | W68: =Q68+U68+V68 -> 22 | X68: 0 | Y68: 0 | Z68: 0 | AA68: 0 | AB68: =W68+SUM(Y68:AA68) -> 22 | AD68: 沖縄県計 | AE68: =SUM(AE69:AE70) -> 434 | AF68: =SUM(AF69:AF70) -> 16 | AG68: =SUM(AG69:AG70) -> 0 | AH68: =SUM(AH69:AH70) -> 11 | AI68: =SUM(AI69:AI70) -> 5 | AJ68: =SUM(AJ69:AJ70) -> 1 | AK68: =SUM(AK69:AK70) -> 440 | AL68: =SUM(AL69:AL70) -> 7 | ... AP68: =SUM(AP69:AP70) -> 725
B69: 市原市 | C69: 29 | D69: 1 | E69: 0 | F69: 0 | G69: =D69+E69-F69 -> 1 | H69: 0 | I69: =C69+G69+H69 -> 30 | J69: 0 | K69: 0 | L69: 0 | M69: 0 | N69: =I69+SUM(K69:M69) -> 30 | P69: 東大阪市 | Q69: 20 | R69: 0 | S69: 0 | T69: 0 | U69: =R69+S69-T69 -> 0 | V69: 0 | W69: =Q69+U69+V69 -> 20 | X69: 0 | Y69: 0 | Z69: 0 | AA69: 0 | AB69: =W69+SUM(Y69:AA69) -> 20 | AD69: 那覇市 | AE69: 6 | AF69: 0 | AG69: 0 | AH69: 0 | AI69: =AF69+AG69-AH69 -> 0 | AJ69: 0 | AK69: =AE69+AI69+AJ69 -> 6 | AL69: 0 | AM69: 0 | AN69: 0 | AO69: 0 | AP69: =AK69+SUM(AM69:AO69) -> 6
B70: その他・千葉県 | C70: 1024 | D70: 62 | E70: 0 | F70: 46 | G70: =D70+E70-F70 -> 16 | H70: 0 | I70: =C70+G70+H70 -> 1040 | J70: 13 | K70: 0 | L70: 0 | M70: 0 | N70: =I70+SUM(K70:M70) -> 1040 | P70: その他・大阪府 | Q70: 650 | R70: 2 | S70: 0 | T70: 2 | U70: =R70+S70-T70 -> 0 | V70: 0 | W70: =Q70+U70+V70 -> 650 | X70: 4 | Y70: 0 | Z70: 0 | AA70: 0 | AB70: =W70+SUM(Y70:AA70) -> 650 | AD70: その他・沖縄県 | AE70: 428 | AF70: 16 | AG70: 0 | AH70: 11 | AI70: =AF70+AG70-AH70 -> 5 | AJ70: 1 | AK70: =AE70+AI70+AJ70 -> 434 | AL70: 7 | AM70: 77 | AN70: 0 | AO70: 208 | AP70: =AK70+SUM(AM70:AO70) -> 719
B71: 東京都計 | C71: =SUM(C72:C73) -> 1472 | D71: =SUM(D72:D73) -> 79 | E71: =SUM(E72:E73) -> 0 | F71: =SUM(F72:F73) -> 44 | G71: =SUM(G72:G73) -> 35 | H71: =SUM(H72:H73) -> 0 | I71: =SUM(I72:I73) -> 1507 | J71: =SUM(J72:J73) -> 10 | ... N71: =SUM(N72:N73) -> 1771 | P71: 兵庫県計 | Q71: =SUM(Q72:Q79) -> 4604 | R71: =SUM(R72:R79) -> 32 | S71: =SUM(S72:S79) -> 0 | T71: =SUM(T72:T79) -> 59 | U71: =SUM(U72:U79) -> -27 | V71: =SUM(V72:V79) -> -40 | W71: =SUM(W72:W79) -> 4537 | X71: =SUM(X72:X79) -> 58 | ... AB71: =SUM(AB72:AB79) -> 4602 | AD71: 合計 | AE71: =SUM(C11:C85,Q11:Q82,AE11:AE70)/2 -> 66025 | AF71: =SUM(D11:D85,R11:R82,AF11:AF70)/2 -> 1223 | AG71: =SUM(E11:E85,S11:S82,AG11:AG70)/2 -> 32 | AH71: =SUM(F11:F85,T11:T82,AH11:AH70)/2 -> 1500 | AI71: =SUM(G11:G85,U11:U82,AI11:AI70)/2 -> -245 | AJ71: =SUM(H11:H85,V11:V82,AJ11:AJ70)/2 -> -41 | AK71: =SUM(I11:I85,W11:W82,AK11:AK70)/2 -> 65739 | AL71: =SUM(J11:J85,X11:X82,AL11:AL70)/2 -> 1034 | ... AP71: =SUM(N11:N85,AB11:AB82,AP11:AP70)/2 -> 70923
B72: 八王子市 | C72: 146 | D72: 8 | E72: 0 | F72: 3 | G72: =D72+E72-F72 -> 5 | H72: 0 | I72: =C72+G72+H72 -> 151 | J72: 8 | K72: 0 | L72: 0 | M72: 0 | N72: =I72+SUM(K72:M72) -> 151 | P72: 神戸市 | Q72: 281 | R72: 3 | S72: 0 | T72: 0 | U72: =R72+S72-T72 -> 3 | V72: 0 | W72: =Q72+U72+V72 -> 284 | X72: 0 | Y72: 0 | Z72: 0 | AA72: 0 | AB72: =W72+SUM(Y72:AA72) -> 284
B73: その他・東京都 | C73: 1326 | D73: 71 | E73: 0 | F73: 41 | G73: =D73+E73-F73 -> 30 | H73: 0 | I73: =C73+G73+H73 -> 1356 | J73: 2 | K73: 0 | L73: 0 | M73: 264 | N73: =I73+SUM(K73:M73) -> 1620 | P73: 姫路市 | Q73: 613 | R73: 9 | S73: 0 | T73: 39 | U73: =R73+S73-T73 -> -30 | V73: 0 | W73: =Q73+U73+V73 -> 583 | X73: 31 | Y73: 0 | Z73: 0 | AA73: 0 | AB73: =W73+SUM(Y73:AA73) -> 583
B74: 神奈川県計 | C74: =SUM(C75:C85) -> 2036 | D74: =SUM(D75:D85) -> 66 | E74: =SUM(E75:E85) -> 0 | F74: =SUM(F75:F85) -> 25 | G74: =SUM(G75:G85) -> 41 | H74: =SUM(H75:H85) -> -11 | I74: =SUM(I75:I85) -> 2066 | J74: =SUM(J75:J85) -> 6 | ... N74: =SUM(N75:N85) -> 2122 | P74: 尼崎市 | Q74: 128 | R74: 1 | S74: 0 | T74: 2 | U74: =R74+S74-T74 -> -1 | V74: 0 | W74: =Q74+U74+V74 -> 127 | X74: 2 | Y74: 0 | Z74: 0 | AA74: 0 | AB74: =W74+SUM(Y74:AA74) -> 127
B75: 横浜市 | C75: 556 | D75: 15 | E75: 0 | F75: 21 | G75: =D75+E75-F75 -> -6 | H75: 0 | I75: =C75+G75+H75 -> 550 | J75: 2 | K75: 54 | L75: 0 | M75: 0 | N75: =I75+SUM(K75:M75) -> 604 | P75: 明石市 | Q75: 6 | R75: 0 | S75: 0 | T75: 0 | U75: =R75+S75-T75 -> 0 | V75: 0 | W75: =Q75+U75+V75 -> 6 | X75: 0 | Y75: 0 | Z75: 0 | AA75: 0 | AB75: =W75+SUM(Y75:AA75) -> 6
B76: 川崎市 | C76: 853 | D76: 26 | E76: 0 | F76: 1 | G76: =D76+E76-F76 -> 25 | H76: 0 | I76: =C76+G76+H76 -> 878 | J76: 2 | K76: 0 | L76: 0 | M76: 0 | N76: =I76+SUM(K76:M76) -> 878 | P76: 西宮市 | Q76: 118 | R76: 0 | S76: 0 | T76: 0 | U76: =R76+S76-T76 -> 0 | V76: -20 | W76: =Q76+U76+V76 -> 98 | X76: 0 | Y76: 0 | Z76: 0 | AA76: 0 | AB76: =W76+SUM(Y76:AA76) -> 98
B77: 相模原市 | C77: 111 | D77: 1 | E77: 0 | F77: 0 | G77: =D77+E77-F77 -> 1 | H77: 0 | I77: =C77+G77+H77 -> 112 | J77: 0 | K77: 0 | L77: 0 | M77: 0 | N77: =I77+SUM(K77:M77) -> 112 | P77: 加古川市 | Q77: 1503 | R77: 1 | S77: 0 | T77: 3 | U77: =R77+S77-T77 -> -2 | V77: 0 | W77: =Q77+U77+V77 -> 1501 | X77: 24 | Y77: 33 | Z77: 0 | AA77: 0 | AB77: =W77+SUM(Y77:AA77) -> 1534
B78: 横須賀市 | C78: 43 | D78: 2 | E78: 0 | F78: 0 | G78: =D78+E78-F78 -> 2 | H78: 0 | I78: =C78+G78+H78 -> 45 | J78: 0 | K78: 2 | L78: 0 | M78: 0 | N78: =I78+SUM(K78:M78) -> 47 | P78: 宝塚市 | Q78: 31 | R78: 0 | S78: 0 | T78: 0 | U78: =R78+S78-T78 -> 0 | V78: 0 | W78: =Q78+U78+V78 -> 31 | X78: 0 | Y78: 0 | Z78: 0 | AA78: 0 | AB78: =W78+SUM(Y78:AA78) -> 31
B79: 平塚市 | C79: 9 | D79: 1 | E79: 0 | F79: 0 | G79: =D79+E79-F79 -> 1 | H79: 0 | I79: =C79+G79+H79 -> 10 | J79: 0 | K79: 0 | L79: 0 | M79: 0 | N79: =I79+SUM(K79:M79) -> 10 | P79: その他・兵庫県 | Q79: 1924 | R79: 18 | S79: 0 | T79: 15 | U79: =R79+S79-T79 -> 3 | V79: -20 | W79: =Q79+U79+V79 -> 1907 | X79: 1 | Y79: 18 | Z79: 0 | AA79: 14 | AB79: =W79+SUM(Y79:AA79) -> 1939
B80: 藤沢市 | C80: 33 | D80: 0 | E80: 0 | F80: 0 | G80: =D80+E80-F80 -> 0 | H80: 0 | I80: =C80+G80+H80 -> 33 | J80: 0 | K80: 0 | L80: 0 | M80: 0 | N80: =I80+SUM(K80:M80) -> 33 | P80: 奈良県計 | Q80: =SUM(Q81:Q82) -> 393 | R80: =SUM(R81:R82) -> 2 | S80: =SUM(S81:S82) -> 0 | T80: =SUM(T81:T82) -> 4 | U80: =SUM(U81:U82) -> -2 | V80: =SUM(V81:V82) -> 0 | W80: =SUM(W81:W82) -> 391 | X80: =SUM(X81:X82) -> 0 | ... AB80: =SUM(AB81:AB82) -> 391
B81: 小田原市 | C81: 8 | D81: 0 | E81: 0 | F81: 0 | G81: =D81+E81-F81 -> 0 | H81: 0 | I81: =C81+G81+H81 -> 8 | J81: 0 | K81: 0 | L81: 0 | M81: 0 | N81: =I81+SUM(K81:M81) -> 8 | P81: 奈良市 | Q81: 16 | R81: 0 | S81: 0 | T81: 0 | U81: =R81+S81-T81 -> 0 | V81: 0 | W81: =Q81+U81+V81 -> 16 | X81: 0 | Y81: 0 | Z81: 0 | AA81: 0 | AB81: =W81+SUM(Y81:AA81) -> 16
B82: 茅ヶ崎市 | C82: 2 | D82: 0 | E82: 0 | F82: 0 | G82: =D82+E82-F82 -> 0 | H82: 0 | I82: =C82+G82+H82 -> 2 | J82: 1 | K82: 0 | L82: 0 | M82: 0 | N82: =I82+SUM(K82:M82) -> 2 | P82: その他・奈良県 | Q82: 377 | R82: 2 | S82: 0 | T82: 4 | U82: =R82+S82-T82 -> -2 | V82: 0 | W82: =Q82+U82+V82 -> 375 | X82: 0 | Y82: 0 | Z82: 0 | AA82: 0 | AB82: =W82+SUM(Y82:AA82) -> 375
B83: 厚木市 | C83: 189 | D83: 17 | E83: 0 | F83: 0 | G83: =D83+E83-F83 -> 17 | H83: 0 | I83: =C83+G83+H83 -> 206 | J83: 0 | K83: 0 | L83: 0 | M83: 0 | N83: =I83+SUM(K83:M83) -> 206
B84: 大和市 | C84: 32 | D84: 0 | E84: 0 | F84: 0 | G84: =D84+E84-F84 -> 0 | H84: -11 | I84: =C84+G84+H84 -> 21 | J84: 0 | K84: 0 | L84: 0 | M84: 0 | N84: =I84+SUM(K84:M84) -> 21
B85: その他・神奈川県 | C85: 200 | D85: 4 | E85: 0 | F85: 3 | G85: =D85+E85-F85 -> 1 | H85: 0 | I85: =C85+G85+H85 -> 201 | J85: 1 | K85: 0 | L85: 0 | M85: 0 | N85: =I85+SUM(K85:M85) -> 201

Sheet 表3.4
B2: 表3.4(1) 届出件数 施設種類別・都道府県市別（大気汚染防止法に係る一般粉じん発生施設） | K2: 表3.4(2) 届出件数 施設種類別・都道府県市別（大気汚染防止法に係る一般粉じん発生施設） | T2: 表3.4(3) 届出件数 施設種類別・都道府県市別（大気汚染防止法に係る一般粉じん発生施設）
B4: 自治体名 | C4: 令別表第２の項番号及び施設種類 | H4: 施設合計 | I4: 届出工場・ 事業場数 | K4: 自治体名 | L4: 令別表第２の項番号及び施設種類 | Q4: 施設合計 | R4: 届出工場・ 事業場数 | T4: 自治体名 | U4: 令別表第２の項番号及び施設種類 | Z4: 施設合計 | AA4: 届出工場・ 事業場数
C5: 1項 | D5: 2項 | E5: 3項 | F5: 4項 | G5: 5項 | L5: 1項 | M5: 2項 | N5: 3項 | O5: 4項 | P5: 5項 | U5: 1項 | V5: 2項 | W5: 3項 | X5: 4項 | Y5: 5項
C6: コークス炉 | D6: 堆積場 | E6: コンベア | F6: 破砕機・ 摩砕機 | G6: ふるい | L6: コークス炉 | M6: 堆積場 | N6: コンベア | O6: 破砕機・ 摩砕機 | P6: ふるい | U6: コークス炉 | V6: 堆積場 | W6: コンベア | X6: 破砕機・ 摩砕機 | Y6: ふるい
B7: 北海道計 | C7: =SUM(C8:C14) -> 2 | D7: =SUM(D8:D14) -> 2035 | E7: =SUM(E8:E14) -> 1699 | F7: =SUM(F8:F14) -> 641 | G7: =SUM(G8:G14) -> 300 | H7: =SUM(H8:H14) -> 4677 | I7: =SUM(I8:I14) -> 1202 | K7: 新潟県計 | L7: =SUM(L8:L11) -> 0 | M7: =SUM(M8:M11) -> 324 | N7: =SUM(N8:N11) -> 340 | O7: =SUM(O8:O11) -> 133 | P7: =SUM(P8:P11) -> 39 | Q7: =SUM(Q8:Q11) -> 836 | R7: =SUM(R8:R11) -> 221 | T7: 和歌山県計 | U7: =SUM(U8:U9) -> 3 | V7: =SUM(V8:V9) -> 212 | W7: =SUM(W8:W9) -> 1091 | X7: =SUM(X8:X9) -> 124 | Y7: =SUM(Y8:Y9) -> 129 | Z7: =SUM(Z8:Z9) -> 1559 | AA7: =SUM(AA8:AA9) -> 146
B8: 札幌市 | C8: 0 | D8: 64 | E8: 104 | F8: 19 | G8: 26 | H8: =SUM(C8:G8) -> 213 | I8: 44 | K8: 新潟市 | L8: 0 | M8: 76 | N8: 19 | O8: 9 | P8: 3 | Q8: =SUM(L8:P8) -> 107 | R8: 56 | T8: 和歌山市 | U8: 3 | V8: 51 | W8: 921 | X8: 33 | Y8: 79 | Z8: =SUM(U8:Y8) -> 1087 | AA8: 38
B9: 函館市 | C9: 0 | D9: 21 | E9: 7 | F9: 7 | G9: 2 | H9: =SUM(C9:G9) -> 37 | I9: 13 | K9: 長岡市 | L9: 0 | M9: 20 | N9: 24 | O9: 17 | P9: 3 | Q9: =SUM(L9:P9) -> 64 | R9: 21 | T9: その他・和歌山県 | U9: 0 | V9: 161 | W9: 170 | X9: 91 | Y9: 50 | Z9: =SUM(U9:Y9) -> 472 | AA9: 108
B10: 小樽市 | C10: 0 | D10: 16 | E10: 3 | F10: 1 | G10: 0 | H10: =SUM(C10:G10) -> 20 | I10: 14 | K10: 上越市 | L10: 0 | M10: 38 | N10: 23 | O10: 18 | P10: 2 | Q10: =SUM(L10:P10) -> 81 | R10: 21 | T10: 鳥取県計 | U10: =SUM(U11:U12) -> 0 | V10: =SUM(V11:V12) -> 91 | W10: =SUM(W11:W12) -> 138 | X10: =SUM(X11:X12) -> 67 | Y10: =SUM(Y11:Y12) -> 38 | Z10: =SUM(Z11:Z12) -> 334 | AA10: =SUM(AA11:AA12) -> 73
B11: 旭川市 | C11: 0 | D11: 28 | E11: 16 | F11: 5 | G11: 0 | H11: =SUM(C11:G11) -> 49 | I11: 24 | K11: その他・新潟県 | L11: 0 | M11: 190 | N11: 274 | O11: 89 | P11: 31 | Q11: =SUM(L11:P11) -> 584 | R11: 123 | T11: 鳥取市 | U11: 0 | V11: 34 | W11: 53 | X11: 21 | Y11: 10 | Z11: =SUM(U11:Y11) -> 118 | AA11: 21
B12: 室蘭市 | C12: 0 | D12: 5 | E12: 0 | F12: 0 | G12: 0 | H12: =SUM(C12:G12) -> 5 | I12: 5 | K12: 富山県計 | L12: =SUM(L13:L14) -> 0 | M12: =SUM(M13:M14) -> 429 | N12: =SUM(N13:N14) -> 410 | O12: =SUM(O13:O14) -> 291 | P12: =SUM(P13:P14) -> 75 | Q12: =SUM(Q13:Q14) -> 1205 | R12: =SUM(R13:R14) -> 308 | T12: その他・鳥取県 | U12: 0 | V12: 57 | W12: 85 | X12: 46 | Y12: 28 | Z12: =SUM(U12:Y12) -> 216 | AA12: 52
B13: 苫小牧市 | C13: 0 | D13: 5 | E13: 11 | F13: 1 | G13: 0 | H13: =SUM(C13:G13) -> 17 | I13: 11 | K13: 富山市 | L13: 0 | M13: 134 | N13: 69 | O13: 85 | P13: 16 | Q13: =SUM(L13:P13) -> 304 | R13: 85 | T13: 島根県計 | U13: =SUM(U14:U15) -> 0 | V13: =SUM(V14:V15) -> 117 | W13: =SUM(W14:W15) -> 290 | X13: =SUM(X14:X15) -> 115 | Y13: =SUM(Y14:Y15) -> 72 | Z13: =SUM(Z14:Z15) -> 594 | AA13: =SUM(AA14:AA15) -> 108
B14: その他・北海道 | C14: 2 | D14: 1896 | E14: 1558 | F14: 608 | G14: 272 | H14: =SUM(C14:G14) -> 4336 | I14: 1091 | K14: その他・富山県 | L14: 0 | M14: 295 | N14: 341 | O14: 206 | P14: 59 | Q14: =SUM(L14:P14) -> 901 | R14: 223 | T14: 松江市 | U14: 0 | V14: 20 | W14: 33 | X14: 12 | Y14: 8 | Z14: =SUM(U14:Y14) -> 73 | AA14: 16
B15: 青森県計 | C15: =SUM(C16:C18) -> 0 | D15: =SUM(D16:D18) -> 297 | E15: =SUM(E16:E18) -> 771 | F15: =SUM(F16:F18) -> 173 | G15: =SUM(G16:G18) -> 145 | H15: =SUM(H16:H18) -> 1386 | I15: =SUM(I16:I18) -> 227 | K15: 石川県計 | L15: =SUM(L16:L17) -> 0 | M15: =SUM(M16:M17) -> 135 | N15: =SUM(N16:N17) -> 303 | O15: =SUM(O16:O17) -> 131 | P15: =SUM(P16:P17) -> 79 | Q15: =SUM(Q16:Q17) -> 648 | R15: =SUM(R16:R17) -> 137 | T15: その他・島根県 | U15: 0 | V15: 97 | W15: 257 | X15: 103 | Y15: 64 | Z15: =SUM(U15:Y15) -> 521 | AA15: 92
B16: 青森市 | C16: 0 | D16: 32 | E16: 67 | F16: 21 | G16: 13 | H16: =SUM(C16:G16) -> 133 | I16: 29 | K16: 金沢市 | L16: 0 | M16: 27 | N16: 54 | O16: 12 | P16: 6 | Q16: =SUM(L16:P16) -> 99 | R16: 20 | T16: 岡山県計 | U16: =SUM(U17:U19) -> 12 | V16: =SUM(V17:V19) -> 220 | W16: =SUM(W17:W19) -> 1654 | X16: =SUM(X17:X19) -> 289 | Y16: =SUM(Y17:Y19) -> 220 | Z16: =SUM(Z17:Z19) -> 2395 | AA16: =SUM(AA17:AA19) -> 184
B17: 八戸市 | C17: 0 | D17: 63 | E17: 324 | F17: 34 | G17: 31 | H17: =SUM(C17:G17) -> 452 | I17: 37 | K17: その他・石川県 | L17: 0 | M17: 108 | N17: 249 | O17: 119 | P17: 73 | Q17: =SUM(L17:P17) -> 549 | R17: 117 | T17: 岡山市 | U17: 0 | V17: 54 | W17: 137 | X17: 75 | Y17: 23 | Z17: =SUM(U17:Y17) -> 289 | AA17: 55
B18: その他・青森県 | C18: 0 | D18: 202 | E18: 380 | F18: 118 | G18: 101 | H18: =SUM(C18:G18) -> 801 | I18: 161 | K18: 福井県計 | L18: =SUM(L19:L20) -> 0 | M18: =SUM(M19:M20) -> 121 | N18: =SUM(N19:N20) -> 251 | O18: =SUM(O19:O20) -> 101 | P18: =SUM(P19:P20) -> 43 | Q18: =SUM(Q19:Q20) -> 516 | R18: =SUM(R19:R20) -> 99 | T18: 倉敷市 | U18: 12 | V18: 46 | W18: 1221 | X18: 57 | Y18: 131 | Z18: =SUM(U18:Y18) -> 1467 | AA18: 30
B19: 岩手県計 | C19: =SUM(C20:C21) -> 0 | D19: =SUM(D20:D21) -> 254 | E19: =SUM(E20:E21) -> 804 | F19: =SUM(F20:F21) -> 374 | G19: =SUM(G20:G21) -> 173 | H19: =SUM(H20:H21) -> 1605 | I19: =SUM(I20:I21) -> 259 | K19: 福井市 | L19: 0 | M19: 14 | N19: 40 | O19: 19 | P19: 5 | Q19: =SUM(L19:P19) -> 78 | R19: 17 | T19: その他・岡山県 | U19: 0 | V19: 120 | W19: 296 | X19: 157 | Y19: 66 | Z19: =SUM(U19:Y19) -> 639 | AA19: 99
B20: 盛岡市 | C20: 0 | D20: 20 | E20: 80 | F20: 45 | G20: 23 | H20: =SUM(C20:G20) -> 168 | I20: 22 | K20: その他・福井県 | L20: 0 | M20: 107 | N20: 211 | O20: 82 | P20: 38 | Q20: =SUM(L20:P20) -> 438 | R20: 82 | T20: 広島県計 | U20: =SUM(U21:U24) -> 10 | V20: =SUM(V21:V24) -> 381 | W20: =SUM(W21:W24) -> 935 | X20: =SUM(X21:X24) -> 319 | Y20: =SUM(Y21:Y24) -> 322 | Z20: =SUM(Z21:Z24) -> 1967 | AA20: =SUM(AA21:AA24) -> 340
B21: その他・岩手県 | C21: 0 | D21: 234 | E21: 724 | F21: 329 | G21: 150 | H21: =SUM(C21:G21) -> 1437 | I21: 237 | K21: 山梨県計 | L21: =SUM(L22:L23) -> 0 | M21: =SUM(M22:M23) -> 120 | N21: =SUM(N22:N23) -> 321 | O21: =SUM(O22:O23) -> 154 | P21: =SUM(P22:P23) -> 53 | Q21: =SUM(Q22:Q23) -> 648 | R21: =SUM(R22:R23) -> 117 | T21: 広島市 | U21: 0 | V21: 57 | W21: 177 | X21: 63 | Y21: 37 | Z21: =SUM(U21:Y21) -> 334 | AA21: 94
B22: 宮城県計 | C22: =SUM(C23:C24) -> 0 | D22: =SUM(D23:D24) -> 139 | E22: =SUM(E23:E24) -> 352 | F22: =SUM(F23:F24) -> 139 | G22: =SUM(G23:G24) -> 66 | H22: =SUM(H23:H24) -> 696 | I22: =SUM(I23:I24) -> 133 | K22: 甲府市 | L22: 0 | M22: 11 | N22: 8 | O22: 1 | P22: 0 | Q22: =SUM(L22:P22) -> 20 | R22: 6 | T22: 呉市 | U22: 0 | V22: 16 | W22: 71 | X22: 28 | Y22: 17 | Z22: =SUM(U22:Y22) -> 132 | AA22: 19
B23: 仙台市 | C23: 0 | D23: 18 | E23: 85 | F23: 14 | G23: 8 | H23: =SUM(C23:G23) -> 125 | I23: 23 | K23: その他・山梨県 | L23: 0 | M23: 109 | N23: 313 | O23: 153 | P23: 53 | Q23: =SUM(L23:P23) -> 628 | R23: 111 | T23: 福山市 | U23: 10 | V23: 117 | W23: 321 | X23: 51 | Y23: 118 | Z23: =SUM(U23:Y23) -> 617 | AA23: 39
B24: その他・宮城県 | C24: 0 | D24: 121 | E24: 267 | F24: 125 | G24: 58 | H24: =SUM(C24:G24) -> 571 | I24: 110 | K24: 長野県計 | L24: =SUM(L25:L27) -> 0 | M24: =SUM(M25:M27) -> 212 | N24: =SUM(N25:N27) -> 588 | O24: =SUM(O25:O27) -> 330 | P24: =SUM(P25:P27) -> 114 | Q24: =SUM(Q25:Q27) -> 1244 | R24: =SUM(R25:R27) -> 241 | T24: その他・広島県 | U24: 0 | V24: 191 | W24: 366 | X24: 177 | Y24: 150 | Z24: =SUM(U24:Y24) -> 884 | AA24: 188
B25: 秋田県計 | C25: =SUM(C26:C27) -> 0 | D25: =SUM(D26:D27) -> 117 | E25: =SUM(E26:E27) -> 266 | F25: =SUM(F26:F27) -> 89 | G25: =SUM(G26:G27) -> 51 | H25: =SUM(H26:H27) -> 523 | I25: =SUM(I26:I27) -> 103 | K25: 長野市 | L25: 0 | M25: 15 | N25: 89 | O25: 38 | P25: 26 | Q25: =SUM(L25:P25) -> 168 | R25: 15 | T25: 山口県計 | U25: =SUM(U26:U27) -> 0 | V25: =SUM(V26:V27) -> 354 | W25: =SUM(W26:W27) -> 969 | X25: =SUM(X26:X27) -> 197 | Y25: =SUM(Y26:Y27) -> 72 | Z25: =SUM(Z26:Z27) -> 1592 | AA25: =SUM(AA26:AA27) -> 206
B26: 秋田市 | C26: 0 | D26: 21 | E26: 17 | F26: 1 | G26: 0 | H26: =SUM(C26:G26) -> 39 | I26: 15 | K26: 松本市 | L26: 0 | M26: 13 | N26: 20 | O26: 24 | P26: 2 | Q26: =SUM(L26:P26) -> 59 | R26: 10 | T26: 下関市 | U26: 0 | V26: 39 | W26: 61 | X26: 37 | Y26: 10 | Z26: =SUM(U26:Y26) -> 147 | AA26: 44
B27: その他・秋田県 | C27: 0 | D27: 96 | E27: 249 | F27: 88 | G27: 51 | H27: =SUM(C27:G27) -> 484 | I27: 88 | K27: その他・長野県 | L27: 0 | M27: 184 | N27: 479 | O27: 268 | P27: 86 | Q27: =SUM(L27:P27) -> 1017 | R27: 216 | T27: その他・山口県 | U27: 0 | V27: 315 | W27: 908 | X27: 160 | Y27: 62 | Z27: =SUM(U27:Y27) -> 1445 | AA27: 162
B28: 山形県計 | C28: =SUM(C29:C30) -> 0 | D28: =SUM(D29:D30) -> 200 | E28: =SUM(E29:E30) -> 241 | F28: =SUM(F29:F30) -> 139 | G28: =SUM(G29:G30) -> 51 | H28: =SUM(H29:H30) -> 631 | I28: =SUM(I29:I30) -> 203 | K28: 岐阜県計 | L28: =SUM(L29:L30) -> 0 | M28: =SUM(M29:M30) -> 191 | N28: =SUM(N29:N30) -> 320 | O28: =SUM(O29:O30) -> 326 | P28: =SUM(P29:P30) -> 126 | Q28: =SUM(Q29:Q30) -> 963 | R28: =SUM(R29:R30) -> 266 | T28: 徳島県計 | U28: =SUM(U29) -> 0 | V28: =SUM(V29) -> 224 | W28: =SUM(W29) -> 284 | X28: =SUM(X29) -> 116 | Y28: =SUM(Y29) -> 58 | Z28: =SUM(Z29) -> 682 | AA28: =SUM(AA29) -> 197
B29: 山形市 | C29: 0 | D29: 13 | E29: 18 | F29: 10 | G29: 1 | H29: =SUM(C29:G29) -> 42 | I29: 19 | K29: 岐阜市 | L29: 0 | M29: 16 | N29: 26 | O29: 15 | P29: 5 | Q29: =SUM(L29:P29) -> 62 | R29: 13 | T29: 徳島県 | U29: 0 | V29: 224 | W29: 284 | X29: 116 | Y29: 58 | Z29: =SUM(U29:Y29) -> 682 | AA29: 197
B30: その他・山形県 | C30: 0 | D30: 187 | E30: 223 | F30: 129 | G30: 50 | H30: =SUM(C30:G30) -> 589 | I30: 184 | K30: その他・岐阜県 | L30: 0 | M30: 175 | N30: 294 | O30: 311 | P30: 121 | Q30: =SUM(L30:P30) -> 901 | R30: 253 | T30: 香川県計 | U30: =SUM(U31:U32) -> 3 | V30: =SUM(V31:V32) -> 184 | W30: =SUM(W31:W32) -> 581 | X30: =SUM(X31:X32) -> 76 | Y30: =SUM(Y31:Y32) -> 72 | Z30: =SUM(Z31:Z32) -> 916 | AA30: =SUM(AA31:AA32) -> 137
B31: 福島県計 | C31: =SUM(C32:C35) -> 0 | D31: =SUM(D32:D35) -> 338 | E31: =SUM(E32:E35) -> 1067 | F31: =SUM(F32:F35) -> 311 | G31: =SUM(G32:G35) -> 274 | H31: =SUM(H32:H35) -> 1990 | I31: =SUM(I32:I35) -> 341 | K31: 静岡県計 | L31: =SUM(L32:L36) -> 0 | M31: =SUM(M32:M36) -> 305 | N31: =SUM(N32:N36) -> 520 | O31: =SUM(O32:O36) -> 180 | P31: =SUM(P32:P36) -> 82 | Q31: =SUM(Q32:Q36) -> 1087 | R31: =SUM(R32:R36) -> 333 | T31: 高松市 | U31: 0 | V31: 36 | W31: 74 | X31: 16 | Y31: 9 | Z31: =SUM(U31:Y31) -> 135 | AA31: 41
B32: 福島市 | C32: 0 | D32: 8 | E32: 59 | F32: 7 | G32: 10 | H32: =SUM(C32:G32) -> 84 | I32: 8 | K32: 静岡市 | L32: 0 | M32: 39 | N32: 40 | O32: 35 | P32: 18 | Q32: =SUM(L32:P32) -> 132 | R32: 54 | T32: その他・香川県 | U32: 3 | V32: 148 | W32: 507 | X32: 60 | Y32: 63 | Z32: =SUM(U32:Y32) -> 781 | AA32: 96
B33: 郡山市 | C33: 0 | D33: 25 | E33: 71 | F33: 37 | G33: 57 | H33: =SUM(C33:G33) -> 190 | I33: 29 | K33: 浜松市 | L33: 0 | M33: 92 | N33: 62 | O33: 21 | P33: 15 | Q33: =SUM(L33:P33) -> 190 | R33: 86 | T33: 愛媛県計 | U33: =SUM(U34:U35) -> 0 | V33: =SUM(V34:V35) -> 202 | W33: =SUM(W34:W35) -> 497 | X33: =SUM(X34:X35) -> 147 | Y33: =SUM(Y34:Y35) -> 123 | Z33: =SUM(Z34:Z35) -> 969 | AA33: =SUM(AA34:AA35) -> 193
B34: いわき市 | C34: 0 | D34: 87 | E34: 189 | F34: 39 | G34: 24 | H34: =SUM(C34:G34) -> 339 | I34: 61 | K34: 沼津市 | L34: 0 | M34: 5 | N34: 32 | O34: 9 | P34: 2 | Q34: =SUM(L34:P34) -> 48 | R34: 6 | T34: 松山市 | U34: 0 | V34: 29 | W34: 14 | X34: 11 | Y34: 4 | Z34: =SUM(U34:Y34) -> 58 | AA34: 42
B35: その他・福島県 | C35: 0 | D35: 218 | E35: 748 | F35: 228 | G35: 183 | H35: =SUM(C35:G35) -> 1377 | I35: 243 | K35: 富士市 | L35: 0 | M35: 39 | N35: 18 | O35: 14 | P35: 4 | Q35: =SUM(L35:P35) -> 75 | R35: 47 | T35: その他・愛媛県 | U35: 0 | V35: 173 | W35: 483 | X35: 136 | Y35: 119 | Z35: =SUM(U35:Y35) -> 911 | AA35: 151
B36: 茨城県計 | C36: =SUM(C37:C39) -> 11 | D36: =SUM(D37:D39) -> 478 | E36: =SUM(E37:E39) -> 1578 | F36: =SUM(F37:F39) -> 223 | G36: =SUM(G37:G39) -> 249 | H36: =SUM(H37:H39) -> 2539 | I36: =SUM(I37:I39) -> 307 | K36: その他・静岡県 | L36: 0 | M36: 130 | N36: 368 | O36: 101 | P36: 43 | Q36: =SUM(L36:P36) -> 642 | R36: 140 | T36: 高知県計 | U36: =SUM(U37:U38) -> 0 | V36: =SUM(V37:V38) -> 82 | W36: =SUM(W37:W38) -> 268 | X36: =SUM(X37:X38) -> 109 | Y36: =SUM(Y37:Y38) -> 55 | Z36: =SUM(Z37:Z38) -> 514 | AA36: =SUM(AA37:AA38) -> 86
B37: 水戸市 | C37: 0 | D37: 13 | E37: 3 | F37: 1 | G37: 1 | H37: =SUM(C37:G37) -> 18 | I37: 13 | K37: 愛知県計 | L37: =SUM(L38:L44) -> 6 | M37: =SUM(M38:M44) -> 639 | N37: =SUM(N38:N44) -> 3297 | O37: =SUM(O38:O44) -> 406 | P37: =SUM(P38:P44) -> 363 | Q37: =SUM(Q38:Q44) -> 4711 | R37: =SUM(R38:R44) -> 679 | T37: 高知市 | U37: 0 | V37: 44 | W37: 135 | X37: 39 | Y37: 24 | Z37: =SUM(U37:Y37) -> 242 | AA37: 40
B38: つくば市 | C38: 0 | D38: 22 | E38: 22 | F38: 10 | G38: 13 | H38: =SUM(C38:G38) -> 67 | I38: 18 | K38: 名古屋市 | L38: 0 | M38: 61 | N38: 109 | O38: 12 | P38: 5 | Q38: =SUM(L38:P38) -> 187 | R38: 52 | T38: その他・高知県 | U38: 0 | V38: 38 | W38: 133 | X38: 70 | Y38: 31 | Z38: =SUM(U38:Y38) -> 272 | AA38: 46
B39: その他・茨城県 | C39: 11 | D39: 443 | E39: 1553 | F39: 212 | G39: 235 | H39: =SUM(C39:G39) -> 2454 | I39: 276 | K39: 豊橋市 | L39: 0 | M39: 41 | N39: 116 | O39: 51 | P39: 30 | Q39: =SUM(L39:P39) -> 238 | R39: 36 | T39: 福岡県計 | U39: =SUM(U40:U44) -> 4 | V39: =SUM(V40:V44) -> 445 | W39: =SUM(W40:W44) -> 2214 | X39: =SUM(X40:X44) -> 308 | Y39: =SUM(Y40:Y44) -> 208 | Z39: =SUM(Z40:Z44) -> 3179 | AA39: =SUM(AA40:AA44) -> 314
B40: 栃木県計 | C40: =SUM(C41:C42) -> 0 | D40: =SUM(D41:D42) -> 434 | E40: =SUM(E41:E42) -> 971 | F40: =SUM(F41:F42) -> 362 | G40: =SUM(G41:G42) -> 194 | H40: =SUM(H41:H42) -> 1961 | I40: =SUM(I41:I42) -> 388 | K40: 岡崎市 | L40: 0 | M40: 8 | N40: 54 | O40: 17 | P40: 5 | Q40: =SUM(L40:P40) -> 84 | R40: 24 | T40: 北九州市 | U40: 4 | V40: 202 | W40: 897 | X40: 109 | Y40: 92 | Z40: =SUM(U40:Y40) -> 1304 | AA40: 91
B41: 宇都宮市 | C41: 0 | D41: 41 | E41: 7 | F41: 1 | G41: 1 | H41: =SUM(C41:G41) -> 50 | I41: 39 | K41: 一宮市 | L41: 0 | M41: 5 | N41: 2 | O41: 0 | P41: 0 | Q41: =SUM(L41:P41) -> 7 | R41: 7 | T41: 福岡市 | U41: 0 | V41: 34 | W41: 91 | X41: 15 | Y41: 16 | Z41: =SUM(U41:Y41) -> 156 | AA41: 38
B42: その他・栃木県 | C42: 0 | D42: 393 | E42: 964 | F42: 361 | G42: 193 | H42: =SUM(C42:G42) -> 1911 | I42: 349 | K42: 春日井市 | L42: 0 | M42: 20 | N42: 142 | O42: 28 | P42: 30 | Q42: =SUM(L42:P42) -> 220 | R42: 23 | T42: 大牟田市 | U42: 0 | V42: 9 | W42: 2 | X42: 2 | Y42: 0 | Z42: =SUM(U42:Y42) -> 13 | AA42: 2
B43: 群馬県計 | C43: =SUM(C44:C48) -> 0 | D43: =SUM(D44:D48) -> 129 | E43: =SUM(E44:E48) -> 308 | F43: =SUM(F44:F48) -> 147 | G43: =SUM(G44:G48) -> 37 | H43: =SUM(H44:H48) -> 621 | I43: =SUM(I44:I48) -> 131 | K43: 豊田市 | L43: 0 | M43: 41 | N43: 247 | O43: 25 | P43: 14 | Q43: =SUM(L43:P43) -> 327 | R43: 54 | T43: 久留米市 | U43: 0 | V43: 7 | W43: 19 | X43: 4 | Y43: 2 | Z43: =SUM(U43:Y43) -> 32 | AA43: 14
B44: 前橋市 | C44: 0 | D44: 10 | E44: 37 | F44: 18 | G44: 4 | H44: =SUM(C44:G44) -> 69 | I44: 18 | K44: その他・愛知県 | L44: 6 | M44: 463 | N44: 2627 | O44: 273 | P44: 279 | Q44: =SUM(L44:P44) -> 3648 | R44: 483 | T44: その他・福岡県 | U44: 0 | V44: 193 | W44: 1205 | X44: 178 | Y44: 98 | Z44: =SUM(U44:Y44) -> 1674 | AA44: 169
B45: 高崎市 | C45: 0 | D45: 4 | E45: 22 | F45: 6 | G45: 3 | H45: =SUM(C45:G45) -> 35 | I45: 11 | K45: 三重県計 | L45: =SUM(L46:L47) -> 0 | M45: =SUM(M46:M47) -> 364 | N45: =SUM(N46:N47) -> 982 | O45: =SUM(O46:O47) -> 195 | P45: =SUM(P46:P47) -> 118 | Q45: =SUM(Q46:Q47) -> 1659 | R45: =SUM(R46:R47) -> 289 | T45: 佐賀県計 | U45: =SUM(U46:U47) -> 0 | V45: =SUM(V46:V47) -> 67 | W45: =SUM(W46:W47) -> 193 | X45: =SUM(X46:X47) -> 82 | Y45: =SUM(Y46:Y47) -> 48 | Z45: =SUM(Z46:Z47) -> 390 | AA45: =SUM(AA46:AA47) -> 76
B46: 伊勢崎市 | C46: 0 | D46: 4 | E46: 5 | F46: 4 | G46: 1 | H46: =SUM(C46:G46) -> 14 | I46: 5 | K46: 四日市市 | L46: 0 | M46: 24 | N46: 45 | O46: 3 | P46: 4 | Q46: =SUM(L46:P46) -> 76 | R46: 33 | T46: 佐賀市 | U46: 0 | V46: 4 | W46: 10 | X46: 4 | Y46: 3 | Z46: =SUM(U46:Y46) -> 21 | AA46: 10
B47: 太田市 | C47: 0 | D47: 7 | E47: 25 | F47: 4 | G47: 0 | H47: =SUM(C47:G47) -> 36 | I47: 6 | K47: その他・三重県 | L47: 0 | M47: 340 | N47: 937 | O47: 192 | P47: 114 | Q47: =SUM(L47:P47) -> 1583 | R47: 256 | T47: その他・佐賀県 | U47: 0 | V47: 63 | W47: 183 | X47: 78 | Y47: 45 | Z47: =SUM(U47:Y47) -> 369 | AA47: 66
B48: その他・群馬県 | C48: 0 | D48: 104 | E48: 219 | F48: 115 | G48: 29 | H48: =SUM(C48:G48) -> 467 | I48: 91 | K48: 滋賀県計 | L48: =SUM(L49:L50) -> 0 | M48: =SUM(M49:M50) -> 66 | N48: =SUM(N49:N50) -> 174 | O48: =SUM(O49:O50) -> 55 | P48: =SUM(P49:P50) -> 53 | Q48: =SUM(Q49:Q50) -> 348 | R48: =SUM(R49:R50) -> 77 | T48: 長崎県計 | U48: =SUM(U49:U51) -> 0 | V48: =SUM(V49:V51) -> 149 | W48: =SUM(W49:W51) -> 341 | X48: =SUM(X49:X51) -> 148 | Y48: =SUM(Y49:Y51) -> 87 | Z48: =SUM(Z49:Z51) -> 725 | AA48: =SUM(AA49:AA51) -> 150
B49: 埼玉県計 | C49: =SUM(C50:C58) -> 0 | D49: =SUM(D50:D58) -> 322 | E49: =SUM(E50:E58) -> 825 | F49: =SUM(F50:F58) -> 149 | G49: =SUM(G50:G58) -> 103 | H49: =SUM(H50:H58) -> 1399 | I49: =SUM(I50:I58) -> 297 | K49: 大津市 | L49: 0 | M49: 15 | N49: 51 | O49: 12 | P49: 18 | Q49: =SUM(L49:P49) -> 96 | R49: 10 | T49: 長崎市 | U49: 0 | V49: 16 | W49: 74 | X49: 23 | Y49: 18 | Z49: =SUM(U49:Y49) -> 131 | AA49: 21
B50: さいたま市 | C50: 0 | D50: 22 | E50: 58 | F50: 7 | G50: 3 | H50: =SUM(C50:G50) -> 90 | I50: 23 | K50: その他・滋賀県 | L50: 0 | M50: 51 | N50: 123 | O50: 43 | P50: 35 | Q50: =SUM(L50:P50) -> 252 | R50: 67 | T50: 佐世保市 | U50: 0 | V50: 22 | W50: 21 | X50: 6 | Y50: 5 | Z50: =SUM(U50:Y50) -> 54 | AA50: 15
B51: 川越市 | C51: 0 | D51: 15 | E51: 22 | F51: 4 | G51: 0 | H51: =SUM(C51:G51) -> 41 | I51: 13 | K51: 京都府計 | L51: =SUM(L52:L53) -> 0 | M51: =SUM(M52:M53) -> 94 | N51: =SUM(N52:N53) -> 402 | O51: =SUM(O52:O53) -> 108 | P51: =SUM(P52:P53) -> 70 | Q51: =SUM(Q52:Q53) -> 674 | R51: =SUM(R52:R53) -> 88 | T51: その他・長崎県 | U51: 0 | V51: 111 | W51: 246 | X51: 119 | Y51: 64 | Z51: =SUM(U51:Y51) -> 540 | AA51: 114
B52: 熊谷市 | C52: 0 | D52: 18 | E52: 83 | F52: 3 | G52: 1 | H52: =SUM(C52:G52) -> 105 | I52: 12 | K52: 京都市 | L52: 0 | M52: 12 | N52: 44 | O52: 19 | P52: 17 | Q52: =SUM(L52:P52) -> 92 | R52: 20 | T52: 熊本県計 | U52: =SUM(U53:U54) -> 0 | V52: =SUM(V53:V54) -> 199 | W52: =SUM(W53:W54) -> 327 | X52: =SUM(X53:X54) -> 224 | Y52: =SUM(Y53:Y54) -> 151 | Z52: =SUM(Z53:Z54) -> 901 | AA52: =SUM(AA53:AA54) -> 246
B53: 川口市 | C53: 0 | D53: 7 | E53: 12 | F53: 1 | G53: 2 | H53: =SUM(C53:G53) -> 22 | I53: 10 | K53: その他・京都府 | L53: 0 | M53: 82 | N53: 358 | O53: 89 | P53: 53 | Q53: =SUM(L53:P53) -> 582 | R53: 68 | T53: 熊本市 | U53: 0 | V53: 7 | W53: 26 | X53: 15 | Y53: 18 | Z53: =SUM(U53:Y53) -> 66 | AA53: 17
B54: 所沢市 | C54: 0 | D54: 9 | E54: 32 | F54: 4 | G54: 2 | H54: =SUM(C54:G54) -> 47 | I54: 12 | K54: 大阪府計 | L54: =SUM(L55:L66) -> 0 | M54: =SUM(M55:M66) -> 173 | N54: =SUM(N55:N66) -> 1111 | O54: =SUM(O55:O66) -> 176 | P54: =SUM(P55:P66) -> 105 | Q54: =SUM(Q55:Q66) -> 1565 | R54: =SUM(R55:R66) -> 250 | T54: その他・熊本県 | U54: 0 | V54: 192 | W54: 301 | X54: 209 | Y54: 133 | Z54: =SUM(U54:Y54) -> 835 | AA54: 229
B55: 春日部市 | C55: 0 | D55: 10 | E55: 5 | F55: 2 | G55: 0 | H55: =SUM(C55:G55) -> 17 | I55: 12 | K55: 大阪市 | L55: 0 | M55: 64 | N55: 219 | O55: 27 | P55: 1 | Q55: =SUM(L55:P55) -> 311 | R55: 83 | T55: 大分県計 | U55: =SUM(U56:U57) -> 5 | V55: =SUM(V56:V57) -> 195 | W55: =SUM(W56:W57) -> 1619 | X55: =SUM(X56:X57) -> 261 | Y55: =SUM(Y56:Y57) -> 203 | Z55: =SUM(Z56:Z57) -> 2283 | AA55: =SUM(AA56:AA57) -> 126
B56: 草加市 | C56: 0 | D56: 3 | E56: 2 | F56: 0 | G56: 0 | H56: =SUM(C56:G56) -> 5 | I56: 4 | K56: 堺市 | L56: 0 | M56: 11 | N56: 112 | O56: 13 | P56: 6 | Q56: =SUM(L56:P56) -> 142 | R56: 27 | T56: 大分市 | U56: 5 | V56: 115 | W56: 1064 | X56: 74 | Y56: 145 | Z56: =SUM(U56:Y56) -> 1403 | AA56: 44
B57: 越谷市 | C57: 0 | D57: 18 | E57: 9 | F57: 1 | G57: 0 | H57: =SUM(C57:G57) -> 28 | I57: 8 | K57: 岸和田市 | L57: 0 | M57: 25 | N57: 39 | O57: 2 | P57: 6 | Q57: =SUM(L57:P57) -> 72 | R57: 16 | T57: その他・大分県 | U57: 0 | V57: 80 | W57: 555 | X57: 187 | Y57: 58 | Z57: =SUM(U57:Y57) -> 880 | AA57: 82
B58: その他・埼玉県 | C58: 0 | D58: 220 | E58: 602 | F58: 127 | G58: 95 | H58: =SUM(C58:G58) -> 1044 | I58: 203 | K58: 豊中市 | L58: 0 | M58: 0 | N58: 14 | O58: 0 | P58: 0 | Q58: =SUM(L58:P58) -> 14 | R58: 6 | T58: 宮崎県計 | U58: =SUM(U59:U60) -> 0 | V58: =SUM(V59:V60) -> 89 | W58: =SUM(W59:W60) -> 312 | X58: =SUM(X59:X60) -> 91 | Y58: =SUM(Y59:Y60) -> 53 | Z58: =SUM(Z59:Z60) -> 545 | AA58: =SUM(AA59:AA60) -> 90
B59: 千葉県計 | C59: =SUM(C60:C66) -> 15 | D59: =SUM(D60:D66) -> 460 | E59: =SUM(E60:E66) -> 1286 | F59: =SUM(F60:F66) -> 161 | G59: =SUM(G60:G66) -> 233 | H59: =SUM(H60:H66) -> 2155 | I59: =SUM(I60:I66) -> 327 | K59: 吹田市 | L59: 0 | M59: 0 | N59: 2 | O59: 0 | P59: 0 | Q59: =SUM(L59:P59) -> 2 | R59: 1 | T59: 宮崎市 | U59: 0 | V59: 11 | W59: 56 | X59: 10 | Y59: 6 | Z59: =SUM(U59:Y59) -> 83 | AA59: 14
B60: 千葉市 | C60: 5 | D60: 70 | E60: 611 | F60: 35 | G60: 79 | H60: =SUM(C60:G60) -> 800 | I60: 44 | K60: 高槻市 | L60: 0 | M60: 8 | N60: 53 | O60: 26 | P60: 20 | Q60: =SUM(L60:P60) -> 107 | R60: 10 | T60: その他・宮崎県 | U60: 0 | V60: 78 | W60: 256 | X60: 81 | Y60: 47 | Z60: =SUM(U60:Y60) -> 462 | AA60: 76
B61: 市川市 | C61: 0 | D61: 61 | E61: 81 | F61: 14 | G61: 12 | H61: =SUM(C61:G61) -> 168 | I61: 22 | K61: 枚方市 | L61: 0 | M61: 3 | N61: 112 | O61: 14 | P61: 11 | Q61: =SUM(L61:P61) -> 140 | R61: 9 | T61: 鹿児島県計 | U61: =SUM(U62:U63) -> 0 | V61: =SUM(V62:V63) -> 220 | W61: =SUM(W62:W63) -> 403 | X61: =SUM(X62:X63) -> 198 | Y61: =SUM(Y62:Y63) -> 145 | Z61: =SUM(Z62:Z63) -> 966 | AA61: =SUM(AA62:AA63) -> 210
B62: 船橋市 | C62: 0 | D62: 13 | E62: 46 | F62: 11 | G62: 15 | H62: =SUM(C62:G62) -> 85 | I62: 11 | K62: 茨木市 | L62: 0 | M62: 1 | N62: 47 | O62: 13 | P62: 4 | Q62: =SUM(L62:P62) -> 65 | R62: 12 | T62: 鹿児島市 | U62: 0 | V62: 27 | W62: 64 | X62: 29 | Y62: 18 | Z62: =SUM(U62:Y62) -> 138 | AA62: 47
B63: 松戸市 | C63: 0 | D63: 5 | E63: 3 | F63: 0 | G63: 0 | H63: =SUM(C63:G63) -> 8 | I63: 6 | K63: 八尾市 | L63: 0 | M63: 0 | N63: 17 | O63: 3 | P63: 0 | Q63: =SUM(L63:P63) -> 20 | R63: 4 | T63: その他・鹿児島県 | U63: 0 | V63: 193 | W63: 339 | X63: 169 | Y63: 127 | Z63: =SUM(U63:Y63) -> 828 | AA63: 163
B64: 柏市 | C64: 0 | D64: 9 | E64: 14 | F64: 1 | G64: 0 | H64: =SUM(C64:G64) -> 24 | I64: 8 | K64: 寝屋川市 | L64: 0 | M64: 2 | N64: 17 | O64: 1 | P64: 2 | Q64: =SUM(L64:P64) -> 22 | R64: 6 | T64: 沖縄県計 | U64: =SUM(U65:U66) -> 0 | V64: =SUM(V65:V66) -> 199 | W64: =SUM(W65:W66) -> 175 | X64: =SUM(X65:X66) -> 55 | Y64: =SUM(Y65:Y66) -> 11 | Z64: =SUM(Z65:Z66) -> 440 | AA64: =SUM(AA65:AA66) -> 148
B65: 市原市 | C65: 0 | D65: 22 | E65: 5 | F65: 2 | G65: 1 | H65: =SUM(C65:G65) -> 30 | I65: 20 | K65: 東大阪市 | L65: 0 | M65: 0 | N65: 20 | O65: 0 | P65: 0 | Q65: =SUM(L65:P65) -> 20 | R65: 6 | T65: 那覇市 | U65: 0 | V65: 5 | W65: 1 | X65: 0 | Y65: 0 | Z65: =SUM(U65:Y65) -> 6 | AA65: 4
B66: その他・千葉県 | C66: 10 | D66: 280 | E66: 526 | F66: 98 | G66: 126 | H66: =SUM(C66:G66) -> 1040 | I66: 216 | K66: その他・大阪府 | L66: 0 | M66: 59 | N66: 459 | O66: 77 | P66: 55 | Q66: =SUM(L66:P66) -> 650 | R66: 70 | T66: その他・沖縄県 | U66: 0 | V66: 194 | W66: 174 | X66: 55 | Y66: 11 | Z66: =SUM(U66:Y66) -> 434 | AA66: 144
B67: 東京都計 | C67: =SUM(C68:C69) -> 0 | D67: =SUM(D68:D69) -> 111 | E67: =SUM(E68:E69) -> 1143 | F67: =SUM(F68:F69) -> 135 | G67: =SUM(G68:G69) -> 118 | H67: =SUM(H68:H69) -> 1507 | I67: =SUM(I68:I69) -> 171 | K67: 兵庫県計 | L67: =SUM(L68:L75) -> 4 | M67: =SUM(M68:M75) -> 370 | N67: =SUM(N68:N75) -> 3205 | O67: =SUM(O68:O75) -> 493 | P67: =SUM(P68:P75) -> 465 | Q67: =SUM(Q68:Q75) -> 4537 | R67: =SUM(R68:R75) -> 332 | T67: 合計 | U67: =SUM(C7:C81,L7:L78,U7:U66)/2 -> 78 | V67: =SUM(D7:D81,M7:M78,V7:V66)/2 -> 12742 | W67: =SUM(E7:E81,N7:N78,W7:W66)/2 -> 37547 | X67: =SUM(F7:F81,O7:O78,X7:X66)/2 -> 9300 | Y67: =SUM(G7:G81,P7:P78,Y7:Y66)/2 -> 6072 | Z67: =SUM(H7:H81,Q7:Q78,Z7:Z66)/2 -> 65739 | AA67: =SUM(I7:I81,R7:R78,AA7:AA66)/2 -> 10872
B68: 八王子市 | C68: 0 | D68: 12 | E68: 95 | F68: 20 | G68: 24 | H68: =SUM(C68:G68) -> 151 | I68: 12 | K68: 神戸市 | L68: 0 | M68: 32 | N68: 223 | O68: 23 | P68: 6 | Q68: =SUM(L68:P68) -> 284 | R68: 57
B69: その他・東京都 | C69: 0 | D69: 99 | E69: 1048 | F69: 115 | G69: 94 | H69: =SUM(C69:G69) -> 1356 | I69: 159 | K69: 姫路市 | L69: 0 | M69: 75 | N69: 385 | O69: 59 | P69: 64 | Q69: =SUM(L69:P69) -> 583 | R69: 66
B70: 神奈川県計 | C70: =SUM(C71:C81) -> 3 | D70: =SUM(D71:D81) -> 203 | E70: =SUM(E71:E81) -> 1505 | F70: =SUM(F71:F81) -> 183 | G70: =SUM(G71:G81) -> 172 | H70: =SUM(H71:H81) -> 2066 | I70: =SUM(I71:I81) -> 246 | K70: 尼崎市 | L70: 0 | M70: 17 | N70: 81 | O70: 17 | P70: 12 | Q70: =SUM(L70:P70) -> 127 | R70: 21
B71: 横浜市 | C71: 0 | D71: 75 | E71: 410 | F71: 40 | G71: 25 | H71: =SUM(C71:G71) -> 550 | I71: 106 | K71: 明石市 | L71: 0 | M71: 4 | N71: 1 | O71: 1 | P71: 0 | Q71: =SUM(L71:P71) -> 6 | R71: 5
B72: 川崎市 | C72: 3 | D72: 46 | E72: 696 | F72: 39 | G72: 94 | H72: =SUM(C72:G72) -> 878 | I72: 44 | K72: 西宮市 | L72: 0 | M72: 5 | N72: 60 | O72: 18 | P72: 15 | Q72: =SUM(L72:P72) -> 98 | R72: 7
B73: 相模原市 | C73: 0 | D73: 21 | E73: 56 | F73: 26 | G73: 9 | H73: =SUM(C73:G73) -> 112 | I73: 20 | K73: 加古川市 | L73: 4 | M73: 53 | N73: 1268 | O73: 53 | P73: 123 | Q73: =SUM(L73:P73) -> 1501 | R73: 18
B74: 横須賀市 | C74: 0 | D74: 11 | E74: 23 | F74: 7 | G74: 4 | H74: =SUM(C74:G74) -> 45 | I74: 17 | K74: 宝塚市 | L74: 0 | M74: 6 | N74: 15 | O74: 8 | P74: 2 | Q74: =SUM(L74:P74) -> 31 | R74: 4
B75: 平塚市 | C75: 0 | D75: 2 | E75: 4 | F75: 3 | G75: 1 | H75: =SUM(C75:G75) -> 10 | I75: 5 | K75: その他・兵庫県 | L75: 0 | M75: 178 | N75: 1172 | O75: 314 | P75: 243 | Q75: =SUM(L75:P75) -> 1907 | R75: 154
B76: 藤沢市 | C76: 0 | D76: 7 | E76: 23 | F76: 2 | G76: 1 | H76: =SUM(C76:G76) -> 33 | I76: 3 | K76: 奈良県計 | L76: =SUM(L77:L78) -> 0 | M76: =SUM(M77:M78) -> 52 | N76: =SUM(N77:N78) -> 216 | O76: =SUM(O77:O78) -> 69 | P76: =SUM(P77:P78) -> 54 | Q76: =SUM(Q77:Q78) -> 391 | R76: =SUM(R77:R78) -> 70
B77: 小田原市 | C77: 0 | D77: 3 | E77: 3 | F77: 1 | G77: 1 | H77: =SUM(C77:G77) -> 8 | I77: 4 | K77: 奈良市 | L77: 0 | M77: 2 | N77: 10 | O77: 2 | P77: 2 | Q77: =SUM(L77:P77) -> 16 | R77: 4
B78: 茅ヶ崎市 | C78: 0 | D78: 1 | E78: 0 | F78: 1 | G78: 0 | H78: =SUM(C78:G78) -> 2 | I78: 2 | K78: その他・奈良県 | L78: 0 | M78: 50 | N78: 206 | O78: 67 | P78: 52 | Q78: =SUM(L78:P78) -> 375 | R78: 66
B79: 厚木市 | C79: 0 | D79: 8 | E79: 146 | F79: 31 | G79: 21 | H79: =SUM(C79:G79) -> 206 | I79: 12
B80: 大和市 | C80: 0 | D80: 3 | E80: 13 | F80: 4 | G80: 1 | H80: =SUM(C80:G80) -> 21 | I80: 3
B81: その他・神奈川県 | C81: 0 | D81: 26 | E81: 131 | F81: 29 | G81: 15 | H81: =SUM(C81:G81) -> 201 | I81: 30
