Workbook

Sheet 表4.4
B2: 表4.4 届出件数 年度別・作業種類別－全国（特定粉じん排出等作業）
D4: 平成30年度 | H4: 令和元年度 | L4: 令和２年度 | P4: 令和３年度 | T4: 令和４年度
B5: 規則 別表 第７の 項番号 | C5: 作業の種類 | D5: 特定粉じん排出等 作業実施件数 | H5: 特定粉じん排出等 作業実施件数 | L5: 特定粉じん排出等 作業実施件数 | P5: 特定粉じん排出等 作業実施件数 | T5: 特定粉じん排出等 作業実施件数
D6: 通常時の 解体工事等 （法第18条の 17第１項) | F6: 災害時等の 緊急作業 (法第18条の 17第２項) | H6: 通常時の 解体工事等 （法第18条の 17第１項) | J6: 災害時等の 緊急作業 (法第18条の 17第２項) | L6: 通常時の 解体工事等 （法第18条の 17第１項) | N6: 災害時等の 緊急作業 (法第18条の 17第２項) | P6: 通常時の 解体工事等 （法第18条の 17第１項) | R6: 災害時等の 緊急作業 (法第18条の 17第２項) | T6: 通常時の 解体工事等 （法第18条の 17第１項) | V6: 災害時等の 緊急作業 (法第18条の 17第２項)
B7: 1項 | C7: （A）解体作業 | D7: 7264 | E7: 259 | F7: 3 | G7: 0 | H7: 7043 | I7: 323 | J7: 0 | K7: 0 | L7: 6464 | M7: 257 | N7: 0 | O7: 0 | P7: 4299 | Q7: 243 | R7: 0 | S7: 0 | T7: ='表4.5'!AG66-V7 -> 4583 | U7: ='表4.5'!AH66-W7 -> 251 | V7: 1 | W7: 1
B8: 2項 | C8: （B）解体作業のうち、石綿を含有する断熱材、保温材、耐火被覆材を掻き落とし、切断、又は破砕以外の方法で除去する作業 | D8: 1268 | E8: 803 | F8: 7 | G8: 6 | H8: 1722 | I8: 833 | J8: 12 | K8: 12 | L8: 1373 | M8: 1035 | N8: 6 | O8: 6 | P8: 1391 | Q8: 815 | R8: 9 | S8: 9 | T8: ='表4.5'!AI66-V8 -> 1720 | U8: ='表4.5'!AJ66-W8 -> 890 | V8: 9 | W8: 8
B9: 5項 | C9: （C）解体作業のうち、あらかじめ特定建築材料を除去することが困難な作業 | D9: 5 | E9: 0 | F9: 0 | G9: 0 | H9: 25 | I9: 0 | J9: 1 | K9: 1 | L9: 7 | M9: 1 | N9: 1 | O9: 0 | P9: 19 | Q9: 5 | R9: 1 | S9: 0 | T9: ='表4.5'!AK66-V9 -> 4 | U9: ='表4.5'!AL66-W9 -> 1 | V9: 0 | W9: 0
B10: 6項 （注1） | C10: （D）改造・補修作業（かき落とし、切断、破砕又はその他の方法により除去） | D10: 11745 | E10: 2204 | F10: 38 | G10: 36 | H10: 9885 | I10: 1599 | J10: 18 | K10: 15 | L10: 8787 | M10: 1606 | N10: 21 | O10: 19 | P10: 4518 | Q10: 1600 | R10: 37 | S10: 35 | T10: ='表4.5'!AM66-V10 -> 6027 | U10: ='表4.5'!AN66-W10 -> 2126 | V10: 44 | W10: 42
C11: （E）改造・補修作業（囲い込み又は封じ込め） | P11: 1047 | Q11: 44 | R11: 1 | S11: 1 | T11: ='表4.5'!AO66-V11 -> 554 | U11: ='表4.5'!AP66-W11 -> 197 | V11: 1 | W11: 1
C12: （F）作業数計 | D12: 20177 | E12: 3147 | F12: 48 | G12: 42 | H12: 18587 | I12: 2737 | J12: 31 | K12: 28 | L12: 16429 | M12: 2849 | N12: 28 | O12: 25 | P12: 11163 | Q12: 2676 | R12: 48 | S12: 45 | T12: ='表4.5'!AQ66-V12 -> 12644 | U12: ='表4.5'!AR66-W12 -> 3446 | V12: 54 | W12: 51
C13: （G）届出数計 | D13: 11566 | F13: 42 | H13: 12203 | J13: 27 | L13: 11977 | N13: 28 | P13: 7030 | R13: 43 | T13: ='表4.5'!AS66-V13 -> 7630 | V13: 48
B14: （注1）令和３年度から(D)、(E)に分けて件数を計上。
B15: （備考）特定粉じん排出等作業とは、特定建築材料（吹付け石綿、石綿を含む断熱材・保温材・耐火被覆材）が使用されている建築物等の解体等の作業をいう。
B16: 「（F)作業数計」には、(A)、(B)、(C)、(D)、(E)に係る合計数のうち、重複を除いた作業（法施行令第３条の４）件数を計上する。
B17: （ ）内には作業実施件数のうち、工作物（建築物を除く）に係る件数を内数で計上する。

Sheet 表4.5
B2: 表4.5(1) 届出件数 作業種類別・都道府県市別（特定粉じん排出等作業） | Q2: 表4.5(2) 届出件数 作業種類別・都道府県市別（特定粉じん排出等作業） | AF2: 表4.5(3) 届出件数 作業種類別・都道府県市別（特定粉じん排出等作業）
B4: 自治体名 | C4: 規則別表第７の項番号及び作業種類 | M4: 作業数計 | O4: 届出数計 | Q4: 自治体名 | R4: 規則別表第７の項番号及び作業種類 | AB4: 作業数計 | AD4: 届出数計 | AF4: 自治体名 | AG4: 規則別表第７の項番号及び作業種類 | AQ4: 作業数計 | AS4: 届出数計
C5: 1項 | E5: 2項 | G5: 5項 | I5: 6項 | R5: 1項 | T5: 2項 | V5: 5項 | X5: 6項 | AG5: 1項 | AI5: 2項 | AK5: 5項 | AM5: 6項
C6: 解体作業 | E6: 石綿含有建材の 除去作業 | G6: 特定建築材料の除去 が困難な解体作業 | I6: 改造・補修作業 （除去） | K6: 改造・補修作業 （囲い込み又は封じ込め） | R6: 解体作業 | T6: 石綿含有建材の 除去作業 | V6: 特定建築材料の除去 が困難な解体作業 | X6: 改造・補修作業 （除去） | Z6: 改造・補修作業 （囲い込み又は封じ込め） | AG6: 解体作業 | AI6: 石綿含有建材の 除去作業 | AK6: 特定建築材料の除去 が困難な解体作業 | AM6: 改造・補修作業 （除去） | AO6: 改造・補修作業 （囲い込み又は封じ込め）
B7: 北海道計 | C7: =SUM(C8:C14) -> 132 | D7: =SUM(D8:D14) -> 4 | E7: =SUM(E8:E14) -> 21 | F7: =SUM(F8:F14) -> 4 | G7: =SUM(G8:G14) -> 0 | H7: =SUM(H8:H14) -> 0 | I7: =SUM(I8:I14) -> 109 | J7: =SUM(J8:J14) -> 35 | ... O7: =SUM(O8:O14) -> 271 | Q7: 新潟県計 | R7: =SUM(R8:R9) -> 77 | S7: =SUM(S8:S9) -> 6 | T7: =SUM(T8:T9) -> 5 | U7: =SUM(U8:U9) -> 1 | V7: =SUM(V8:V9) -> 0 | W7: =SUM(W8:W9) -> 0 | X7: =SUM(X8:X9) -> 81 | Y7: =SUM(Y8:Y9) -> 57 | ... AD7: =SUM(AD8:AD9) -> 188 | AF7: 和歌山県計 | AG7: =SUM(AG8:AG9) -> 8 | AH7: =SUM(AH8:AH9) -> 1 | AI7: =SUM(AI8:AI9) -> 20 | AJ7: =SUM(AJ8:AJ9) -> 18 | AK7: =SUM(AK8:AK9) -> 0 | AL7: =SUM(AL8:AL9) -> 0 | AM7: =SUM(AM8:AM9) -> 40 | AN7: =SUM(AN8:AN9) -> 35 | ... AS7: =SUM(AS8:AS9) -> 67
B8: 札幌市 | C8: 52 | D8: 0 | E8: 1 | F8: 0 | G8: 0 | H8: 0 | I8: 35 | J8: 0 | K8: 2 | L8: 0 | M8: 88 | N8: 0 | O8: 88 | Q8: 新潟市 | R8: 23 | S8: 0 | T8: 3 | U8: 1 | V8: 0 | W8: 0 | X8: 0 | Y8: 0 | Z8: 34 | AA8: 9 | AB8: 60 | AC8: 10 | AD8: 59 | AF8: 和歌山市 | AG8: 4 | AH8: 1 | AI8: 11 | AJ8: 9 | AK8: 0 | AL8: 0 | AM8: 7 | AN8: 3 | AO8: 0 | AP8: 0 | AQ8: 22 | AR8: 13 | AS8: 22
B9: 函館市 | C9: 4 | D9: 0 | E9: 0 | F9: 0 | G9: 0 | H9: 0 | I9: 3 | J9: 0 | K9: 0 | L9: 0 | M9: 7 | N9: 0 | O9: 7 | Q9: その他・新潟県 | R9: 54 | S9: 6 | T9: 2 | U9: 0 | V9: 0 | W9: 0 | X9: 81 | Y9: 57 | Z9: 0 | AA9: 0 | AB9: 136 | AC9: 63 | AD9: 129 | AF9: その他・和歌山県 | AG9: 4 | AH9: 0 | AI9: 9 | AJ9: 9 | AK9: 0 | AL9: 0 | AM9: 33 | AN9: 32 | AO9: 0 | AP9: 0 | AQ9: 46 | AR9: 41 | AS9: 45
B10: 小樽市 | C10: 1 | D10: 0 | E10: 0 | F10: 0 | G10: 0 | H10: 0 | I10: 4 | J10: 0 | K10: 0 | L10: 0 | M10: 5 | N10: 0 | O10: 5 | Q10: 富山県計 | R10: =SUM(R11:R12) -> 86 | S10: =SUM(S11:S12) -> 2 | T10: =SUM(T11:T12) -> 0 | U10: =SUM(U11:U12) -> 0 | V10: =SUM(V11:V12) -> 0 | W10: =SUM(W11:W12) -> 0 | X10: =SUM(X11:X12) -> 76 | Y10: =SUM(Y11:Y12) -> 57 | ... AD10: =SUM(AD11:AD12) -> 163 | AF10: 鳥取県計 | AG10: =SUM(AG11:AG12) -> 15 | AH10: =SUM(AH11:AH12) -> 1 | AI10: =SUM(AI11:AI12) -> 0 | AJ10: =SUM(AJ11:AJ12) -> 0 | AK10: =SUM(AK11:AK12) -> 0 | AL10: =SUM(AL11:AL12) -> 0 | AM10: =SUM(AM11:AM12) -> 20 | AN10: =SUM(AN11:AN12) -> 10 | ... AS10: =SUM(AS11:AS12) -> 35
B11: 旭川市 | C11: 19 | D11: 0 | E11: 0 | F11: 0 | G11: 0 | H11: 0 | I11: 4 | J11: 0 | K11: 0 | L11: 0 | M11: 23 | N11: 0 | O11: 23 | Q11: 富山市 | R11: 37 | S11: 2 | T11: 0 | U11: 0 | V11: 0 | W11: 0 | X11: 33 | Y11: 28 | Z11: 1 | AA11: 0 | AB11: 71 | AC11: 30 | AD11: 71 | AF11: 鳥取市 | AG11: 3 | AH11: 0 | AI11: 0 | AJ11: 0 | AK11: 0 | AL11: 0 | AM11: 5 | AN11: 2 | AO11: 0 | AP11: 0 | AQ11: 8 | AR11: 2 | AS11: 8
B12: 室蘭市 | C12: 3 | D12: 0 | E12: 6 | F12: 0 | G12: 0 | H12: 0 | I12: 0 | J12: 0 | K12: 0 | L12: 0 | M12: 9 | N12: 0 | O12: 9 | Q12: その他・富山県 | R12: 49 | S12: 0 | T12: 0 | U12: 0 | V12: 0 | W12: 0 | X12: 43 | Y12: 29 | Z12: 0 | AA12: 0 | AB12: 92 | AC12: 29 | AD12: 92 | AF12: その他・鳥取県 | AG12: 12 | AH12: 1 | AI12: 0 | AJ12: 0 | AK12: 0 | AL12: 0 | AM12: 15 | AN12: 8 | AO12: 0 | AP12: 0 | AQ12: 27 | AR12: 9 | AS12: 27
B13: 苫小牧市 | C13: 3 | D13: 2 | E13: 3 | F13: 3 | G13: 0 | H13: 0 | I13: 16 | J13: 15 | K13: 0 | L13: 0 | M13: 22 | N13: 20 | O13: 22 | Q13: 石川県計 | R13: =SUM(R14:R15) -> 55 | S13: =SUM(S14:S15) -> 7 | T13: =SUM(T14:T15) -> 12 | U13: =SUM(U14:U15) -> 5 | V13: =SUM(V14:V15) -> 0 | W13: =SUM(W14:W15) -> 0 | X13: =SUM(X14:X15) -> 28 | Y13: =SUM(Y14:Y15) -> 7 | ... AD13: =SUM(AD14:AD15) -> 87 | AF13: 島根県計 | AG13: =SUM(AG14:AG15) -> 24 | AH13: =SUM(AH14:AH15) -> 1 | AI13: =SUM(AI14:AI15) -> 4 | AJ13: =SUM(AJ14:AJ15) -> 0 | AK13: =SUM(AK14:AK15) -> 0 | AL13: =SUM(AL14:AL15) -> 0 | AM13: =SUM(AM14:AM15) -> 16 | AN13: =SUM(AN14:AN15) -> 3 | ... AS13: =SUM(AS14:AS15) -> 52
B14: その他・北海道 | C14: 50 | D14: 2 | E14: 11 | F14: 1 | G14: 0 | H14: 0 | I14: 47 | J14: 20 | K14: 11 | L14: 5 | M14: 119 | N14: 28 | O14: 117 | Q14: 金沢市 | R14: 25 | S14: 5 | T14: 11 | U14: 5 | V14: 0 | W14: 0 | X14: 13 | Y14: 5 | Z14: 0 | AA14: 0 | AB14: 41 | AC14: 12 | AD14: 41 | AF14: 松江市 | AG14: 6 | AH14: 0 | AI14: 2 | AJ14: 0 | AK14: 0 | AL14: 0 | AM14: 11 | AN14: 0 | AO14: 0 | AP14: 0 | AQ14: 19 | AR14: 0 | AS14: 19
B15: 青森県計 | C15: =SUM(C16:C18) -> 23 | D15: =SUM(D16:D18) -> 2 | E15: =SUM(E16:E18) -> 0 | F15: =SUM(F16:F18) -> 0 | G15: =SUM(G16:G18) -> 0 | H15: =SUM(H16:H18) -> 0 | I15: =SUM(I16:I18) -> 29 | J15: =SUM(J16:J18) -> 8 | ... O15: =SUM(O16:O18) -> 49 | Q15: その他・石川県 | R15: 30 | S15: 2 | T15: 1 | U15: 0 | V15: 0 | W15: 0 | X15: 15 | Y15: 2 | Z15: 0 | AA15: 0 | AB15: 46 | AC15: 4 | AD15: 46 | AF15: その他・島根県 | AG15: 18 | AH15: 1 | AI15: 2 | AJ15: 0 | AK15: 0 | AL15: 0 | AM15: 5 | AN15: 3 | AO15: 8 | AP15: 0 | AQ15: 33 | AR15: 4 | AS15: 33
B16: 青森市 | C16: 5 | D16: 0 | E16: 0 | F16: 0 | G16: 0 | H16: 0 | I16: 8 | J16: 0 | K16: 0 | L16: 0 | M16: 13 | N16: 0 | O16: 13 | Q16: 福井県計 | R16: =SUM(R17:R18) -> 49 | S16: =SUM(S17:S18) -> 1 | T16: =SUM(T17:T18) -> 5 | U16: =SUM(U17:U18) -> 3 | V16: =SUM(V17:V18) -> 0 | W16: =SUM(W17:W18) -> 0 | X16: =SUM(X17:X18) -> 30 | Y16: =SUM(Y17:Y18) -> 19 | ... AD16: =SUM(AD17:AD18) -> 83 | AF16: 岡山県計 | AG16: =SUM(AG17:AG19) -> 42 | AH16: =SUM(AH17:AH19) -> 4 | AI16: =SUM(AI17:AI19) -> 40 | AJ16: =SUM(AJ17:AJ19) -> 36 | AK16: =SUM(AK17:AK19) -> 0 | AL16: =SUM(AL17:AL19) -> 0 | AM16: =SUM(AM17:AM19) -> 369 | AN16: =SUM(AN17:AN19) -> 340 | ... AS16: =SUM(AS17:AS19) -> 414
B17: 八戸市 | C17: 2 | D17: 0 | E17: 0 | F17: 0 | G17: 0 | H17: 0 | I17: 6 | J17: 0 | K17: 0 | L17: 0 | M17: 8 | N17: 0 | O17: 8 | Q17: 福井市 | R17: 17 | S17: 0 | T17: 2 | U17: 1 | V17: 0 | W17: 0 | X17: 5 | Y17: 2 | Z17: 0 | AA17: 0 | AB17: 24 | AC17: 3 | AD17: 24 | AF17: 岡山市 | AG17: 16 | AH17: 1 | AI17: 3 | AJ17: 3 | AK17: 0 | AL17: 0 | AM17: 128 | AN17: 123 | AO17: 6 | AP17: 5 | AQ17: 148 | AR17: 127 | AS17: 148
B18: その他・青森県 | C18: 16 | D18: 2 | E18: 0 | F18: 0 | G18: 0 | H18: 0 | I18: 15 | J18: 8 | K18: 0 | L18: 0 | M18: 31 | N18: 10 | O18: 28 | Q18: その他・福井県 | R18: 32 | S18: 1 | T18: 3 | U18: 2 | V18: 0 | W18: 0 | X18: 25 | Y18: 17 | Z18: 0 | AA18: 0 | AB18: 60 | AC18: 20 | AD18: 59 | AF18: 倉敷市 | AG18: 10 | AH18: 2 | AI18: 35 | AJ18: 33 | AK18: 0 | AL18: 0 | AM18: 222 | AN18: 213 | AO18: 6 | AP18: 6 | AQ18: 272 | AR18: 253 | AS18: 231
B19: 岩手県計 | C19: =SUM(C20:C21) -> 25 | D19: =SUM(D20:D21) -> 0 | E19: =SUM(E20:E21) -> 11 | F19: =SUM(F20:F21) -> 6 | G19: =SUM(G20:G21) -> 0 | H19: =SUM(H20:H21) -> 0 | I19: =SUM(I20:I21) -> 27 | J19: =SUM(J20:J21) -> 4 | ... O19: =SUM(O20:O21) -> 65 | Q19: 山梨県計 | R19: =SUM(R20:R21) -> 15 | S19: =SUM(S20:S21) -> 7 | T19: =SUM(T20:T21) -> 1 | U19: =SUM(U20:U21) -> 1 | V19: =SUM(V20:V21) -> 0 | W19: =SUM(W20:W21) -> 0 | X19: =SUM(X20:X21) -> 17 | Y19: =SUM(Y20:Y21) -> 6 | ... AD19: =SUM(AD20:AD21) -> 33 | AF19: その他・岡山県 | AG19: 16 | AH19: 1 | AI19: 2 | AJ19: 0 | AK19: 0 | AL19: 0 | AM19: 19 | AN19: 4 | AO19: 0 | AP19: 0 | AQ19: 37 | AR19: 5 | AS19: 35
B20: 盛岡市 | C20: 13 | D20: 0 | E20: 0 | F20: 0 | G20: 0 | H20: 0 | I20: 17 | J20: 0 | K20: 1 | L20: 0 | M20: 31 | N20: 0 | O20: 31 | Q20: 甲府市 | R20: 1 | S20: 0 | T20: 1 | U20: 1 | V20: 0 | W20: 0 | X20: 5 | Y20: 1 | Z20: 0 | AA20: 0 | AB20: 7 | AC20: 2 | AD20: 7 | AF20: 広島県計 | AG20: =SUM(AG21:AG24) -> 65 | AH20: =SUM(AH21:AH24) -> 6 | AI20: =SUM(AI21:AI24) -> 34 | AJ20: =SUM(AJ21:AJ24) -> 29 | AK20: =SUM(AK21:AK24) -> 0 | AL20: =SUM(AL21:AL24) -> 0 | AM20: =SUM(AM21:AM24) -> 59 | AN20: =SUM(AN21:AN24) -> 20 | ... AS20: =SUM(AS21:AS24) -> 184
B21: その他・岩手県 | C21: 12 | D21: 0 | E21: 11 | F21: 6 | G21: 0 | H21: 0 | I21: 10 | J21: 4 | K21: 1 | L21: 1 | M21: 34 | N21: 11 | O21: 34 | Q21: その他・山梨県 | R21: 14 | S21: 7 | T21: 0 | U21: 0 | V21: 0 | W21: 0 | X21: 12 | Y21: 5 | Z21: 0 | AA21: 0 | AB21: 26 | AC21: 12 | AD21: 26 | AF21: 広島市 | AG21: 40 | AH21: 2 | AI21: 0 | AJ21: 0 | AK21: 0 | AL21: 0 | AM21: 0 | AN21: 0 | AO21: 26 | AP21: 2 | AQ21: 66 | AR21: 4 | AS21: 63
B22: 宮城県計 | C22: =SUM(C23:C24) -> 56 | D22: =SUM(D23:D24) -> 1 | E22: =SUM(E23:E24) -> 8 | F22: =SUM(F23:F24) -> 0 | G22: =SUM(G23:G24) -> 0 | H22: =SUM(H23:H24) -> 0 | I22: =SUM(I23:I24) -> 92 | J22: =SUM(J23:J24) -> 17 | ... O22: =SUM(O23:O24) -> 149 | Q22: 長野県計 | R22: =SUM(R23:R25) -> 55 | S22: =SUM(S23:S25) -> 2 | T22: =SUM(T23:T25) -> 4 | U22: =SUM(U23:U25) -> 0 | V22: =SUM(V23:V25) -> 0 | W22: =SUM(W23:W25) -> 0 | X22: =SUM(X23:X25) -> 34 | Y22: =SUM(Y23:Y25) -> 3 | ... AD22: =SUM(AD23:AD25) -> 82 | AF22: 呉市 | AG22: 4 | AH22: 0 | AI22: 10 | AJ22: 9 | AK22: 0 | AL22: 0 | AM22: 4 | AN22: 2 | AO22: 0 | AP22: 0 | AQ22: 18 | AR22: 11 | AS22: 18
B23: 仙台市 | C23: 24 | D23: 0 | E23: 3 | F23: 0 | G23: 0 | H23: 0 | I23: 56 | J23: 16 | K23: 0 | L23: 0 | M23: 82 | N23: 16 | O23: 82 | Q23: 長野市 | R23: 12 | S23: 0 | T23: 1 | U23: 0 | V23: 0 | W23: 0 | X23: 6 | Y23: 0 | Z23: 0 | AA23: 0 | AB23: 19 | AC23: 0 | AD23: 19 | AF23: 福山市 | AG23: 10 | AH23: 4 | AI23: 6 | AJ23: 4 | AK23: 0 | AL23: 0 | AM23: 14 | AN23: 7 | AO23: 0 | AP23: 0 | AQ23: 30 | AR23: 15 | AS23: 30
B24: その他・宮城県 | C24: 32 | D24: 1 | E24: 5 | F24: 0 | G24: 0 | H24: 0 | I24: 36 | J24: 1 | K24: 0 | L24: 0 | M24: 70 | N24: 2 | O24: 67 | Q24: 松本市 | R24: 5 | S24: 1 | T24: 0 | U24: 0 | V24: 0 | W24: 0 | X24: 3 | Y24: 0 | Z24: 0 | AA24: 0 | AB24: 8 | AC24: 1 | AD24: 8 | AF24: その他・広島県 | AG24: 11 | AH24: 0 | AI24: 18 | AJ24: 16 | AK24: 0 | AL24: 0 | AM24: 41 | AN24: 11 | AO24: 3 | AP24: 1 | AQ24: 73 | AR24: 28 | AS24: 73
B25: 秋田県計 | C25: =SUM(C26:C27) -> 21 | D25: =SUM(D26:D27) -> 1 | E25: =SUM(E26:E27) -> 6 | F25: =SUM(F26:F27) -> 1 | G25: =SUM(G26:G27) -> 0 | H25: =SUM(H26:H27) -> 0 | I25: =SUM(I26:I27) -> 9 | J25: =SUM(J26:J27) -> 3 | ... O25: =SUM(O26:O27) -> 36 | Q25: その他・長野県 | R25: 38 | S25: 1 | T25: 3 | U25: 0 | V25: 0 | W25: 0 | X25: 25 | Y25: 3 | Z25: 0 | AA25: 0 | AB25: 66 | AC25: 4 | AD25: 55 | AF25: 山口県計 | AG25: =SUM(AG26:AG27) -> 25 | AH25: =SUM(AH26:AH27) -> 6 | AI25: =SUM(AI26:AI27) -> 157 | AJ25: =SUM(AJ26:AJ27) -> 148 | AK25: =SUM(AK26:AK27) -> 2 | AL25: =SUM(AL26:AL27) -> 1 | AM25: =SUM(AM26:AM27) -> 81 | AN25: =SUM(AN26:AN27) -> 76 | ... AS25: =SUM(AS26:AS27) -> 234
B26: 秋田市 | C26: 4 | D26: 1 | E26: 0 | F26: 0 | G26: 0 | H26: 0 | I26: 5 | J26: 3 | K26: 0 | L26: 0 | M26: 9 | N26: 4 | O26: 9 | Q26: 岐阜県計 | R26: =SUM(R27:R28) -> 34 | S26: =SUM(S27:S28) -> 0 | T26: =SUM(T27:T28) -> 13 | U26: =SUM(U27:U28) -> 8 | V26: =SUM(V27:V28) -> 0 | W26: =SUM(W27:W28) -> 0 | X26: =SUM(X27:X28) -> 13 | Y26: =SUM(Y27:Y28) -> 0 | ... AD26: =SUM(AD27:AD28) -> 60 | AF26: 下関市 | AG26: 1 | AH26: 0 | AI26: 0 | AJ26: 0 | AK26: 0 | AL26: 0 | AM26: 14 | AN26: 12 | AO26: 0 | AP26: 0 | AQ26: 15 | AR26: 12 | AS26: 15
B27: その他・秋田県 | C27: 17 | D27: 0 | E27: 6 | F27: 1 | G27: 0 | H27: 0 | I27: 4 | J27: 0 | K27: 0 | L27: 0 | M27: 27 | N27: 1 | O27: 27 | Q27: 岐阜市 | R27: 13 | S27: 0 | T27: 0 | U27: 0 | V27: 0 | W27: 0 | X27: 0 | Y27: 0 | Z27: 0 | AA27: 0 | AB27: 13 | AC27: 0 | AD27: 13 | AF27: その他・山口県 | AG27: 24 | AH27: 6 | AI27: 157 | AJ27: 148 | AK27: 2 | AL27: 1 | AM27: 67 | AN27: 64 | AO27: 12 | AP27: 4 | AQ27: 262 | AR27: 223 | AS27: 219
B28: 山形県計 | C28: =SUM(C29:C30) -> 46 | D28: =SUM(D29:D30) -> 3 | E28: =SUM(E29:E30) -> 5 | F28: =SUM(F29:F30) -> 0 | G28: =SUM(G29:G30) -> 0 | H28: =SUM(H29:H30) -> 0 | I28: =SUM(I29:I30) -> 14 | J28: =SUM(J29:J30) -> 0 | ... O28: =SUM(O29:O30) -> 77 | Q28: その他・岐阜県 | R28: 21 | S28: 0 | T28: 13 | U28: 8 | V28: 0 | W28: 0 | X28: 13 | Y28: 0 | Z28: 1 | AA28: 0 | AB28: 47 | AC28: 8 | AD28: 47 | AF28: 徳島県計 | AG28: =SUM(AG29:AG29) -> 15 | AH28: =SUM(AH29:AH29) -> 3 | AI28: =SUM(AI29:AI29) -> 1 | AJ28: =SUM(AJ29:AJ29) -> 1 | AK28: =SUM(AK29:AK29) -> 0 | AL28: =SUM(AL29:AL29) -> 0 | AM28: =SUM(AM29:AM29) -> 17 | AN28: =SUM(AN29:AN29) -> 13 | ... AS28: =SUM(AS29:AS29) -> 33
B29: 山形市 | C29: 20 | D29: 2 | E29: 0 | F29: 0 | G29: 0 | H29: 0 | I29: 0 | J29: 0 | K29: 8 | L29: 3 | M29: 28 | N29: 5 | O29: 28 | Q29: 静岡県計 | R29: =SUM(R30:R32) -> 45 | S29: =SUM(S30:S32) -> 0 | T29: =SUM(T30:T32) -> 38 | U29: =SUM(U30:U32) -> 30 | V29: =SUM(V30:V32) -> 0 | W29: =SUM(W30:W32) -> 0 | X29: =SUM(X30:X32) -> 79 | Y29: =SUM(Y30:Y32) -> 35 | ... AD29: =SUM(AD30:AD32) -> 162 | AF29: 徳島県 | AG29: 15 | AH29: 3 | AI29: 1 | AJ29: 1 | AK29: 0 | AL29: 0 | AM29: 17 | AN29: 13 | AO29: 0 | AP29: 0 | AQ29: 33 | AR29: 17 | AS29: 33
B30: その他・山形県 | C30: 26 | D30: 1 | E30: 5 | F30: 0 | G30: 0 | H30: 0 | I30: 14 | J30: 0 | K30: 4 | L30: 0 | M30: 49 | N30: 1 | O30: 49 | Q30: 静岡市 | R30: 11 | S30: 0 | T30: 3 | U30: 1 | V30: 0 | W30: 0 | X30: 18 | Y30: 7 | Z30: 2 | AA30: 0 | AB30: 30 | AC30: 8 | AD30: 30 | AF30: 香川県計 | AG30: =SUM(AG31:AG32) -> 20 | AH30: =SUM(AH31:AH32) -> 5 | AI30: =SUM(AI31:AI32) -> 56 | AJ30: =SUM(AJ31:AJ32) -> 46 | AK30: =SUM(AK31:AK32) -> 0 | AL30: =SUM(AL31:AL32) -> 0 | AM30: =SUM(AM31:AM32) -> 22 | AN30: =SUM(AN31:AN32) -> 20 | ... AS30: =SUM(AS31:AS32) -> 54
B31: 福島県計 | C31: =SUM(C32:C35) -> 50 | D31: =SUM(D32:D35) -> 2 | E31: =SUM(E32:E35) -> 22 | F31: =SUM(F32:F35) -> 15 | G31: =SUM(G32:G35) -> 0 | H31: =SUM(H32:H35) -> 0 | I31: =SUM(I32:I35) -> 46 | J31: =SUM(J32:J35) -> 6 | ... O31: =SUM(O32:O35) -> 114 | Q31: 浜松市 | R31: 7 | S31: 0 | T31: 0 | U31: 0 | V31: 0 | W31: 0 | X31: 7 | Y31: 2 | Z31: 0 | AA31: 0 | AB31: 14 | AC31: 2 | AD31: 14 | AF31: 高松市 | AG31: 3 | AH31: 0 | AI31: 0 | AJ31: 0 | AK31: 0 | AL31: 0 | AM31: 3 | AN31: 1 | AO31: 0 | AP31: 0 | AQ31: 6 | AR31: 1 | AS31: 6
B32: 福島市 | C32: 10 | D32: 0 | E32: 2 | F32: 0 | G32: 0 | H32: 0 | I32: 15 | J32: 0 | K32: 0 | L32: 0 | M32: 27 | N32: 0 | O32: 27 | Q32: その他・静岡県 | R32: 27 | S32: 0 | T32: 35 | U32: 29 | V32: 0 | W32: 0 | X32: 54 | Y32: 26 | Z32: 4 | AA32: 0 | AB32: 118 | AC32: 55 | AD32: 118 | AF32: その他・香川県 | AG32: 17 | AH32: 5 | AI32: 56 | AJ32: 46 | AK32: 0 | AL32: 0 | AM32: 19 | AN32: 19 | AO32: 2 | AP32: 0 | AQ32: 94 | AR32: 70 | AS32: 48
B33: 郡山市 | C33: 8 | D33: 1 | E33: 0 | F33: 0 | G33: 0 | H33: 0 | I33: 9 | J33: 1 | K33: 0 | L33: 0 | M33: 17 | N33: 2 | O33: 16 | Q33: 愛知県計 | R33: =SUM(R34:R39) -> 122 | S33: =SUM(S34:S39) -> 5 | T33: =SUM(T34:T39) -> 412 | U33: =SUM(U34:U39) -> 52 | V33: =SUM(V34:V39) -> 0 | W33: =SUM(W34:W39) -> 0 | X33: =SUM(X34:X39) -> 218 | Y33: =SUM(Y34:Y39) -> 98 | ... AD33: =SUM(AD34:AD39) -> 388 | AF33: 愛媛県計 | AG33: =SUM(AG34:AG35) -> 17 | AH33: =SUM(AH34:AH35) -> 6 | AI33: =SUM(AI34:AI35) -> 61 | AJ33: =SUM(AJ34:AJ35) -> 43 | AK33: =SUM(AK34:AK35) -> 0 | AL33: =SUM(AL34:AL35) -> 0 | AM33: =SUM(AM34:AM35) -> 128 | AN33: =SUM(AN34:AN35) -> 122 | ... AS33: =SUM(AS34:AS35) -> 203
B34: いわき市 | C34: 7 | D34: 0 | E34: 7 | F34: 4 | G34: 0 | H34: 0 | I34: 6 | J34: 4 | K34: 0 | L34: 0 | M34: 20 | N34: 8 | O34: 20 | Q34: 名古屋市 | R34: 76 | S34: 4 | T34: 14 | U34: 8 | V34: 0 | W34: 0 | X34: 79 | Y34: 12 | Z34: 3 | AA34: 0 | AB34: 169 | AC34: 24 | AD34: 168 | AF34: 松山市 | AG34: 13 | AH34: 6 | AI34: 19 | AJ34: 18 | AK34: 0 | AL34: 0 | AM34: 12 | AN34: 9 | AO34: 0 | AP34: 0 | AQ34: 39 | AR34: 29 | AS34: 35
B35: その他・福島県 | C35: 25 | D35: 1 | E35: 13 | F35: 11 | G35: 0 | H35: 0 | I35: 16 | J35: 1 | K35: 2 | L35: 0 | M35: 56 | N35: 13 | O35: 51 | Q35: 豊橋市 | R35: 4 | S35: 0 | T35: 334 | U35: 0 | V35: 0 | W35: 0 | X35: 26 | Y35: 24 | Z35: 0 | AA35: 0 | AB35: 364 | AC35: 24 | AD35: 19 | AF35: その他・愛媛県 | AG35: 4 | AH35: 0 | AI35: 42 | AJ35: 25 | AK35: 0 | AL35: 0 | AM35: 116 | AN35: 113 | AO35: 6 | AP35: 6 | AQ35: 168 | AR35: 144 | AS35: 168
B36: 茨城県計 | C36: =SUM(C37:C38) -> 42 | D36: =SUM(D37:D38) -> 12 | E36: =SUM(E37:E38) -> 47 | F36: =SUM(F37:F38) -> 22 | G36: =SUM(G37:G38) -> 0 | H36: =SUM(H37:H38) -> 0 | I36: =SUM(I37:I38) -> 60 | J36: =SUM(J37:J38) -> 24 | ... O36: =SUM(O37:O38) -> 167 | Q36: 岡崎市 | R36: 4 | S36: 0 | T36: 6 | U36: 0 | V36: 0 | W36: 0 | X36: 10 | Y36: 0 | Z36: 0 | AA36: 0 | AB36: 20 | AC36: 0 | AD36: 16 | AF36: 高知県計 | AG36: =SUM(AG37:AG38) -> 11 | AH36: =SUM(AH37:AH38) -> 2 | AI36: =SUM(AI37:AI38) -> 3 | AJ36: =SUM(AJ37:AJ38) -> 0 | AK36: =SUM(AK37:AK38) -> 0 | AL36: =SUM(AL37:AL38) -> 0 | AM36: =SUM(AM37:AM38) -> 12 | AN36: =SUM(AN37:AN38) -> 2 | ... AS36: =SUM(AS37:AS38) -> 26
B37: 水戸市 | C37: 2 | D37: 0 | E37: 1 | F37: 0 | G37: 0 | H37: 0 | I37: 5 | J37: 1 | K37: 0 | L37: 0 | M37: 7 | N37: 1 | O37: 6 | Q37: 一宮市 | R37: 2 | S37: 0 | T37: 5 | U37: 5 | V37: 0 | W37: 0 | X37: 1 | Y37: 0 | Z37: 0 | AA37: 0 | AB37: 8 | AC37: 5 | AD37: 6 | AF37: 高知市 | AG37: 6 | AH37: 0 | AI37: 3 | AJ37: 0 | AK37: 0 | AL37: 0 | AM37: 4 | AN37: 0 | AO37: 0 | AP37: 0 | AQ37: 13 | AR37: 0 | AS37: 13
B38: その他・茨城県 | C38: 40 | D38: 12 | E38: 46 | F38: 22 | G38: 0 | H38: 0 | I38: 55 | J38: 23 | K38: 21 | L38: 0 | M38: 162 | N38: 57 | O38: 161 | Q38: 豊田市 | R38: 5 | S38: 0 | T38: 5 | U38: 4 | V38: 0 | W38: 0 | X38: 16 | Y38: 8 | Z38: 0 | AA38: 0 | AB38: 26 | AC38: 12 | AD38: 25 | AF38: その他・高知県 | AG38: 5 | AH38: 2 | AI38: 0 | AJ38: 0 | AK38: 0 | AL38: 0 | AM38: 8 | AN38: 2 | AO38: 0 | AP38: 0 | AQ38: 13 | AR38: 4 | AS38: 13
B39: 栃木県計 | C39: =SUM(C40:C41) -> 32 | D39: =SUM(D40:D41) -> 6 | E39: =SUM(E40:E41) -> 9 | F39: =SUM(F40:F41) -> 3 | G39: =SUM(G40:G41) -> 0 | H39: =SUM(H40:H41) -> 0 | I39: =SUM(I40:I41) -> 39 | J39: =SUM(J40:J41) -> 3 | ... O39: =SUM(O40:O41) -> 73 | Q39: その他・愛知県 | R39: 31 | S39: 1 | T39: 48 | U39: 35 | V39: 0 | W39: 0 | X39: 86 | Y39: 54 | Z39: 0 | AA39: 0 | AB39: 165 | AC39: 90 | AD39: 154 | AF39: 福岡県計 | AG39: =SUM(AG40:AG44) -> 96 | AH39: =SUM(AH40:AH44) -> 29 | AI39: =SUM(AI40:AI44) -> 19 | AJ39: =SUM(AJ40:AJ44) -> 10 | AK39: =SUM(AK40:AK44) -> 0 | AL39: =SUM(AL40:AL44) -> 0 | AM39: =SUM(AM40:AM44) -> 59 | AN39: =SUM(AN40:AN44) -> 21 | ... AS39: =SUM(AS40:AS44) -> 170
B40: 宇都宮市 | C40: 5 | D40: 0 | E40: 4 | F40: 3 | G40: 0 | H40: 0 | I40: 5 | J40: 1 | K40: 0 | L40: 0 | M40: 14 | N40: 4 | O40: 14 | Q40: 三重県計 | R40: =SUM(R41:R42) -> 31 | S40: =SUM(S41:S42) -> 8 | T40: =SUM(T41:T42) -> 204 | U40: =SUM(U41:U42) -> 191 | V40: =SUM(V41:V42) -> 0 | W40: =SUM(W41:W42) -> 0 | X40: =SUM(X41:X42) -> 31 | Y40: =SUM(Y41:Y42) -> 16 | ... AD40: =SUM(AD41:AD42) -> 253 | AF40: 北九州市 | AG40: 45 | AH40: 24 | AI40: 1 | AJ40: 1 | AK40: 0 | AL40: 0 | AM40: 24 | AN40: 13 | AO40: 1 | AP40: 0 | AQ40: 71 | AR40: 38 | AS40: 70
B41: その他・栃木県 | C41: 27 | D41: 6 | E41: 5 | F41: 0 | G41: 0 | H41: 0 | I41: 34 | J41: 2 | K41: 0 | L41: 0 | M41: 61 | N41: 8 | O41: 59 | Q41: 四日市市 | R41: 17 | S41: 6 | T41: 184 | U41: 175 | V41: 0 | W41: 0 | X41: 14 | Y41: 10 | Z41: 0 | AA41: 0 | AB41: 215 | AC41: 191 | AD41: 203 | AF41: 福岡市 | AG41: 22 | AH41: 0 | AI41: 0 | AJ41: 0 | AK41: 0 | AL41: 0 | AM41: 13 | AN41: 0 | AO41: 0 | AP41: 0 | AQ41: 35 | AR41: 0 | AS41: 35
B42: 群馬県計 | C42: =SUM(C43:C45) -> 28 | D42: =SUM(D43:D45) -> 4 | E42: =SUM(E43:E45) -> 2 | F42: =SUM(F43:F45) -> 0 | G42: =SUM(G43:G45) -> 0 | H42: =SUM(H43:H45) -> 0 | I42: =SUM(I43:I45) -> 18 | J42: =SUM(J43:J45) -> 8 | ... O42: =SUM(O43:O45) -> 48 | Q42: その他・三重県 | R42: 14 | S42: 2 | T42: 20 | U42: 16 | V42: 0 | W42: 0 | X42: 17 | Y42: 6 | Z42: 0 | AA42: 0 | AB42: 50 | AC42: 24 | AD42: 50 | AF42: 大牟田市 | AG42: 0 | AI42: 5 | AJ42: 4 | AK42: 0 | AL42: 0 | AM42: 3 | AN42: 3 | AO42: 0 | AP42: 0 | AQ42: 8 | AR42: 7 | AS42: 8
B43: 前橋市 | C43: 5 | D43: 0 | E43: 0 | F43: 0 | G43: 0 | H43: 0 | I43: 1 | J43: 1 | K43: 0 | L43: 0 | M43: 6 | N43: 1 | O43: 6 | Q43: 滋賀県計 | R43: =SUM(R44:R45) -> 51 | S43: =SUM(S44:S45) -> 2 | T43: =SUM(T44:T45) -> 14 | U43: =SUM(U44:U45) -> 8 | V43: =SUM(V44:V45) -> 0 | W43: =SUM(W44:W45) -> 0 | X43: =SUM(X44:X45) -> 32 | Y43: =SUM(Y44:Y45) -> 8 | ... AD43: =SUM(AD44:AD45) -> 78 | AF43: 久留米市 | AG43: 4 | AH43: 0 | AI43: 0 | AJ43: 0 | AK43: 0 | AL43: 0 | AM43: 3 | AN43: 2 | AO43: 0 | AP43: 0 | AQ43: 7 | AR43: 2 | AS43: 7
B44: 高崎市 | C44: 8 | D44: 0 | E44: 0 | F44: 0 | H44: 0 | I44: 2 | J44: 0 | K44: 0 | L44: 0 | M44: 10 | N44: 0 | O44: 10 | Q44: 大津市 | R44: 9 | S44: 0 | T44: 10 | U44: 6 | V44: 0 | W44: 0 | X44: 4 | Y44: 1 | Z44: 0 | AA44: 0 | AB44: 23 | AC44: 7 | AD44: 21 | AF44: その他・福岡県 | AG44: 25 | AH44: 5 | AI44: 13 | AJ44: 5 | AK44: 0 | AL44: 0 | AM44: 16 | AN44: 3 | AO44: 1 | AP44: 0 | AQ44: 50 | AR44: 13 | AS44: 50
B45: その他・群馬県 | C45: 15 | D45: 4 | E45: 2 | F45: 0 | G45: 0 | H45: 0 | I45: 15 | J45: 7 | K45: 0 | L45: 0 | M45: 32 | N45: 11 | O45: 32 | Q45: その他・滋賀県 | R45: 42 | S45: 2 | T45: 4 | U45: 2 | V45: 0 | W45: 0 | X45: 28 | Y45: 7 | Z45: 3 | AA45: 3 | AB45: 77 | AC45: 14 | AD45: 57 | AF45: 佐賀県計 | AG45: =SUM(AG46:AG46) -> 21 | AH45: =SUM(AH46:AH46) -> 4 | AI45: =SUM(AI46:AI46) -> 5 | AJ45: =SUM(AJ46:AJ46) -> 3 | AK45: =SUM(AK46:AK46) -> 1 | AL45: =SUM(AL46:AL46) -> 0 | AM45: =SUM(AM46:AM46) -> 4 | AN45: =SUM(AN46:AN46) -> 1 | ... AS45: =SUM(AS46:AS46) -> 29
B46: 埼玉県計 | C46: =SUM(C47:C52) -> 119 | D46: =SUM(D47:D52) -> 10 | E46: =SUM(E47:E52) -> 39 | F46: =SUM(F47:F52) -> 23 | G46: =SUM(G47:G52) -> 0 | H46: =SUM(H47:H52) -> 0 | I46: =SUM(I47:I52) -> 47 | J46: =SUM(J47:J52) -> 3 | ... O46: =SUM(O47:O52) -> 137 | Q46: 京都府計 | R46: =SUM(R47:R48) -> 52 | S46: =SUM(S47:S48) -> 1 | T46: =SUM(T47:T48) -> 4 | U46: =SUM(U47:U48) -> 0 | V46: =SUM(V47:V48) -> 0 | W46: =SUM(W47:W48) -> 0 | X46: =SUM(X47:X48) -> 58 | Y46: =SUM(Y47:Y48) -> 7 | ... AD46: =SUM(AD47:AD48) -> 111 | AF46: 佐賀県 | AG46: 21 | AH46: 4 | AI46: 5 | AJ46: 3 | AK46: 1 | AL46: 0 | AM46: 4 | AN46: 1 | AO46: 1 | AP46: 1 | AQ46: 32 | AR46: 9 | AS46: 29
B47: さいたま市 | C47: 41 | D47: 1 | E47: 0 | F47: 0 | G47: 0 | H47: 0 | I47: 15 | J47: 2 | K47: 0 | L47: 0 | M47: 56 | N47: 3 | O47: 37 | Q47: 京都市 | R47: 45 | S47: 1 | T47: 2 | U47: 0 | V47: 0 | W47: 0 | X47: 37 | Y47: 3 | Z47: 1 | AA47: 0 | AB47: 83 | AC47: 4 | AD47: 83 | AF47: 長崎県計 | AG47: =SUM(AG48:AG50) -> 17 | AH47: =SUM(AH48:AH50) -> 2 | AI47: =SUM(AI48:AI50) -> 19 | AJ47: =SUM(AJ48:AJ50) -> 7 | AK47: =SUM(AK48:AK50) -> 0 | AL47: =SUM(AL48:AL50) -> 0 | AM47: =SUM(AM48:AM50) -> 20 | AN47: =SUM(AN48:AN50) -> 3 | ... AS47: =SUM(AS48:AS50) -> 55
B48: 川越市 | C48: 4 | D48: 0 | E48: 0 | F48: 0 | G48: 0 | H48: 0 | I48: 3 | J48: 0 | K48: 0 | L48: 0 | M48: 7 | N48: 0 | O48: 6 | Q48: その他・京都府 | R48: 7 | S48: 0 | T48: 2 | U48: 0 | V48: 0 | W48: 0 | X48: 21 | Y48: 4 | Z48: 1 | AA48: 0 | AB48: 31 | AC48: 4 | AD48: 28 | AF48: 長崎市 | AG48: 9 | AH48: 0 | AI48: 11 | AJ48: 0 | AK48: 0 | AL48: 0 | AM48: 9 | AN48: 0 | AO48: 0 | AP48: 0 | AQ48: 29 | AR48: 0 | AS48: 29
B49: 川口市 | C49: 8 | D49: 1 | E49: 24 | F49: 23 | G49: 0 | H49: 0 | I49: 3 | J49: 0 | K49: 0 | L49: 0 | M49: 35 | N49: 24 | O49: 9 | Q49: 大阪府計 | R49: =SUM(R50:R59) -> 234 | S49: =SUM(S50:S59) -> 10 | T49: =SUM(T50:T59) -> 34 | U49: =SUM(U50:U59) -> 8 | V49: =SUM(V50:V59) -> 0 | W49: =SUM(W50:W59) -> 0 | X49: =SUM(X50:X59) -> 320 | Y49: =SUM(Y50:Y59) -> 62 | ... AD49: =SUM(AD50:AD59) -> 468 | AF49: 佐世保市 | AG49: 3 | AH49: 1 | AI49: 0 | AJ49: 0 | AK49: 0 | AL49: 0 | AM49: 4 | AN49: 0 | AO49: 0 | AP49: 0 | AQ49: 7 | AR49: 1 | AS49: 7
B50: 所沢市 | C50: 3 | D50: 1 | E50: 0 | F50: 0 | G50: 0 | H50: 0 | I50: 4 | J50: 0 | K50: 0 | L50: 0 | M50: 7 | N50: 1 | O50: 7 | Q50: 大阪市 | R50: 100 | S50: 4 | T50: 7 | U50: 0 | V50: 0 | W50: 0 | X50: 130 | Y50: 16 | Z50: 8 | AA50: 0 | AB50: 216 | AC50: 19 | AD50: 216 | AF50: その他・長崎県 | AG50: 5 | AH50: 1 | AI50: 8 | AJ50: 7 | AK50: 0 | AL50: 0 | AM50: 7 | AN50: 3 | AO50: 0 | AP50: 0 | AQ50: 20 | AR50: 11 | AS50: 19
B51: 越谷市 | C51: 5 | D51: 0 | E51: 2 | F51: 0 | G51: 0 | H51: 0 | I51: 0 | J51: 0 | K51: 0 | L51: 0 | M51: 7 | N51: 0 | O51: 7 | Q51: 堺市 | R51: 21 | S51: 2 | T51: 0 | U51: 0 | V51: 0 | W51: 0 | X51: 23 | Y51: 8 | Z51: 0 | AA51: 0 | AB51: 44 | AC51: 10 | AD51: 44 | AF51: 熊本県計 | AG51: =SUM(AG52:AG53) -> 32 | AH51: =SUM(AH52:AH53) -> 9 | AI51: =SUM(AI52:AI53) -> 7 | AJ51: =SUM(AJ52:AJ53) -> 6 | AK51: =SUM(AK52:AK53) -> 0 | AL51: =SUM(AL52:AL53) -> 0 | AM51: =SUM(AM52:AM53) -> 5 | AN51: =SUM(AN52:AN53) -> 0 | ... AS51: =SUM(AS52:AS53) -> 47
B52: その他・埼玉県 | C52: 58 | D52: 7 | E52: 13 | F52: 0 | G52: 0 | H52: 0 | I52: 22 | J52: 1 | K52: 5 | L52: 2 | M52: 92 | N52: 10 | O52: 71 | Q52: 豊中市 | R52: 43 | S52: 0 | T52: 0 | U52: 0 | V52: 0 | W52: 0 | X52: 13 | Y52: 3 | Z52: 1 | AA52: 0 | AB52: 57 | AC52: 3 | AD52: 15 | AF52: 熊本市 | AG52: 11 | AH52: 0 | AI52: 1 | AJ52: 0 | AK52: 0 | AL52: 0 | AM52: 0 | AN52: 0 | AO52: 5 | AP52: 0 | AQ52: 17 | AR52: 0 | AS52: 17
B53: 千葉県計 | C53: =SUM(C54:C60) -> 87 | D53: =SUM(D54:D60) -> 11 | E53: =SUM(E54:E60) -> 86 | F53: =SUM(F54:F60) -> 74 | G53: =SUM(G54:G60) -> 0 | H53: =SUM(H54:H60) -> 0 | I53: =SUM(I54:I60) -> 128 | J53: =SUM(J54:J60) -> 44 | ... O53: =SUM(O54:O60) -> 416 | Q53: 吹田市 | R53: 8 | S53: 0 | T53: 2 | U53: 0 | V53: 0 | W53: 0 | X53: 9 | Y53: 0 | Z53: 0 | AA53: 0 | AB53: 17 | AC53: 0 | AD53: 17 | AF53: その他・熊本県 | AG53: 21 | AH53: 9 | AI53: 6 | AJ53: 6 | AK53: 0 | AL53: 0 | AM53: 5 | AN53: 0 | AO53: 1 | AP53: 0 | AQ53: 33 | AR53: 15 | AS53: 30
B54: 千葉市 | C54: 15 | D54: 3 | E54: 35 | F54: 31 | G54: 0 | H54: 0 | I54: 15 | J54: 7 | K54: 0 | L54: 0 | M54: 65 | N54: 41 | O54: 65 | Q54: 高槻市 | R54: 2 | S54: 0 | T54: 4 | U54: 0 | V54: 0 | W54: 0 | X54: 8 | Y54: 3 | Z54: 0 | AA54: 0 | AB54: 12 | AC54: 3 | AD54: 12 | AF54: 大分県計 | AG54: =SUM(AG55:AG56) -> 32 | AH54: =SUM(AH55:AH56) -> 10 | AI54: =SUM(AI55:AI56) -> 9 | AJ54: =SUM(AJ55:AJ56) -> 8 | AK54: =SUM(AK55:AK56) -> 0 | AL54: =SUM(AL55:AL56) -> 0 | AM54: =SUM(AM55:AM56) -> 59 | AN54: =SUM(AN55:AN56) -> 51 | ... AS54: =SUM(AS55:AS56) -> 98
B55: 市川市 | C55: 3 | D55: 0 | E55: 0 | F55: 0 | G55: 0 | H55: 0 | I55: 2 | J55: 0 | K55: 2 | L55: 0 | M55: 7 | N55: 0 | O55: 7 | Q55: 枚方市 | R55: 1 | S55: 0 | T55: 3 | U55: 0 | V55: 0 | W55: 0 | X55: 17 | Y55: 0 | Z55: 0 | AA55: 0 | AB55: 21 | AC55: 0 | AD55: 21 | AF55: 大分市 | AG55: 18 | AH55: 5 | AI55: 6 | AJ55: 6 | AK55: 0 | AL55: 0 | AM55: 54 | AN55: 49 | AO55: 0 | AP55: 0 | AQ55: 76 | AR55: 60 | AS55: 76
B56: 船橋市 | C56: 6 | D56: 0 | E56: 0 | F56: 0 | G56: 0 | H56: 0 | I56: 6 | J56: 0 | K56: 0 | L56: 0 | M56: 12 | N56: 0 | O56: 12 | Q56: 八尾市 | R56: 5 | S56: 1 | T56: 0 | U56: 0 | W56: 0 | X56: 2 | Y56: 1 | Z56: 0 | AA56: 0 | AB56: 7 | AC56: 2 | AD56: 7 | AF56: その他・大分県 | AG56: 14 | AH56: 5 | AI56: 3 | AJ56: 2 | AK56: 0 | AL56: 0 | AM56: 5 | AN56: 2 | AO56: 0 | AP56: 0 | AQ56: 22 | AR56: 9 | AS56: 22
B57: 松戸市 | C57: 2 | D57: 0 | E57: 4 | F57: 0 | G57: 0 | H57: 0 | I57: 15 | J57: 0 | K57: 1 | L57: 0 | M57: 22 | N57: 0 | O57: 22 | Q57: 寝屋川市 | R57: 7 | S57: 0 | T57: 2 | U57: 0 | V57: 0 | W57: 0 | X57: 2 | Y57: 0 | Z57: 0 | AA57: 0 | AB57: 7 | AC57: 0 | AD57: 6 | AF57: 宮崎県計 | AG57: =SUM(AG58:AG59) -> 11 | AH57: =SUM(AH58:AH59) -> 2 | AI57: =SUM(AI58:AI59) -> 50 | AJ57: =SUM(AJ58:AJ59) -> 40 | AK57: =SUM(AK58:AK59) -> 0 | AL57: =SUM(AL58:AL59) -> 0 | AM57: =SUM(AM58:AM59) -> 2 | AN57: =SUM(AN58:AN59) -> 0 | ... AS57: =SUM(AS58:AS59) -> 61
B58: 柏市 | C58: 3 | D58: 0 | E58: 0 | F58: 0 | G58: 0 | H58: 0 | I58: 4 | J58: 1 | K58: 0 | L58: 0 | M58: 7 | N58: 1 | O58: 7 | Q58: 東大阪市 | R58: 7 | S58: 1 | T58: 3 | U58: 0 | V58: 0 | W58: 0 | X58: 10 | Y58: 7 | Z58: 1 | AA58: 0 | AB58: 21 | AC58: 8 | AD58: 21 | AF58: 宮崎市 | AG58: 3 | AH58: 0 | AI58: 4 | AJ58: 0 | AK58: 0 | AL58: 0 | AM58: 1 | AN58: 0 | AO58: 0 | AP58: 0 | AQ58: 8 | AR58: 0 | AS58: 7
B59: 市原市 | C59: 9 | D59: 4 | E59: 19 | F59: 19 | G59: 0 | H59: 0 | I59: 12 | J59: 7 | K59: 149 | L59: 146 | M59: 189 | N59: 176 | O59: 179 | Q59: その他・大阪府 | R59: 40 | S59: 2 | T59: 13 | U59: 8 | V59: 0 | W59: 0 | X59: 106 | Y59: 24 | Z59: 0 | AA59: 0 | AB59: 135 | AC59: 31 | AD59: 109 | AF59: その他・宮崎県 | AG59: 8 | AH59: 2 | AI59: 46 | AJ59: 40 | AK59: 0 | AL59: 0 | AM59: 1 | AN59: 0 | AO59: 0 | AP59: 0 | AQ59: 55 | AR59: 42 | AS59: 54
B60: その他・千葉県 | C60: 49 | D60: 4 | E60: 28 | F60: 24 | G60: 0 | H60: 0 | I60: 74 | J60: 29 | K60: 1 | L60: 0 | M60: 152 | N60: 57 | O60: 124 | Q60: 兵庫県計 | R60: =SUM(R61:R67) -> 80 | S60: =SUM(S61:S67) -> 4 | T60: =SUM(T61:T67) -> 53 | U60: =SUM(U61:U67) -> 39 | V60: =SUM(V61:V67) -> 0 | W60: =SUM(W61:W67) -> 0 | X60: =SUM(X61:X67) -> 139 | Y60: =SUM(Y61:Y67) -> 72 | ... AD60: =SUM(AD61:AD67) -> 273 | AF60: 鹿児島県計 | AG60: =SUM(AG61:AG62) -> 21 | AH60: =SUM(AH61:AH62) -> 5 | AI60: =SUM(AI61:AI62) -> 3 | AJ60: =SUM(AJ61:AJ62) -> 1 | AK60: =SUM(AK61:AK62) -> 0 | AL60: =SUM(AL61:AL62) -> 0 | AM60: =SUM(AM61:AM62) -> 13 | AN60: =SUM(AN61:AN62) -> 4 | ... AS60: =SUM(AS61:AS62) -> 35
B61: 東京都計 | C61: =SUM(C62:C63) -> 2279 | D61: =SUM(D62:D63) -> 13 | E61: =SUM(E62:E63) -> 171 | F61: =SUM(F62:F63) -> 3 | G61: =SUM(G62:G63) -> 0 | H61: =SUM(H62:H63) -> 0 | I61: =SUM(I62:I63) -> 1929 | J61: =SUM(J62:J63) -> 17 | ... O61: =SUM(O62:O63) -> 1117 | Q61: 神戸市 | R61: 26 | S61: 0 | T61: 10 | U61: 0 | V61: 0 | W61: 0 | X61: 20 | Y61: 3 | Z61: 3 | AA61: 0 | AB61: 59 | AC61: 3 | AD61: 58 | AF61: 鹿児島市 | AG61: 13 | AH61: 4 | AI61: 0 | AJ61: 0 | AK61: 0 | AL61: 0 | AM61: 8 | AN61: 4 | AO61: 0 | AP61: 0 | AQ61: 21 | AR61: 8 | AS61: 21
B62: 八王子市 | C62: 25 | D62: 0 | E62: 0 | F62: 0 | G62: 0 | H62: 0 | I62: 7 | J62: 4 | K62: 1 | L62: 0 | M62: 33 | N62: 4 | O62: 12 | Q62: 姫路市 | R62: 8 | S62: 1 | T62: 18 | U62: 18 | V62: 0 | W62: 0 | X62: 8 | Y62: 7 | Z62: 0 | AA62: 0 | AB62: 34 | AC62: 26 | AD62: 34 | AF62: その他・鹿児島県 | AG62: 8 | AH62: 1 | AI62: 3 | AJ62: 1 | AK62: 0 | AL62: 0 | AM62: 5 | AN62: 0 | AO62: 0 | AP62: 0 | AQ62: 16 | AR62: 2 | AS62: 14
B63: その他・東京都 | C63: 2254 | D63: 13 | E63: 171 | F63: 3 | G63: 0 | H63: 0 | I63: 1922 | J63: 13 | K63: 191 | L63: 2 | M63: 4419 | N63: 28 | O63: 1105 | Q63: 尼崎市 | R63: 11 | S63: 0 | T63: 3 | U63: 2 | V63: 0 | W63: 0 | X63: 9 | Y63: 2 | Z63: 0 | AA63: 0 | AB63: 23 | AC63: 4 | AD63: 23 | AF63: 沖縄県計 | AG63: =SUM(AG64:AG65) -> 7 | AH63: =SUM(AH64:AH65) -> 0 | AI63: =SUM(AI64:AI65) -> 2 | AJ63: =SUM(AJ64:AJ65) -> 2 | AK63: =SUM(AK64:AK65) -> 0 | AL63: =SUM(AL64:AL65) -> 0 | AM63: =SUM(AM64:AM65) -> 10 | AN63: =SUM(AN64:AN65) -> 0 | ... AS63: =SUM(AS64:AS65) -> 19
B64: 神奈川県計 | C64: =SUM(C65:C71) -> 165 | D64: =SUM(D65:D71) -> 32 | E64: =SUM(E65:E71) -> 9 | F64: =SUM(F65:F71) -> 3 | G64: =SUM(G65:G71) -> 0 | H64: =SUM(H65:H71) -> 0 | I64: =SUM(I65:I71) -> 1415 | J64: =SUM(J65:J71) -> 828 | ... O64: =SUM(O65:O71) -> 686 | Q64: 明石市 | R64: 5 | S64: 1 | T64: 0 | U64: 0 | V64: 0 | W64: 0 | X64: 4 | Y64: 0 | Z64: 0 | AA64: 0 | AB64: 9 | AC64: 1 | AD64: 9 | AF64: 那覇市 | AG64: 2 | AH64: 0 | AI64: 0 | AJ64: 0 | AK64: 0 | AL64: 0 | AM64: 7 | AN64: 0 | AO64: 0 | AP64: 0 | AQ64: 9 | AR64: 0 | AS64: 9
B65: 横浜市 | C65: 71 | D65: 24 | E65: 0 | F65: 0 | G65: 0 | H65: 0 | I65: 156 | J65: 111 | K65: 5 | L65: 1 | M65: 232 | N65: 136 | O65: 232 | Q65: 西宮市 | R65: 7 | S65: 0 | T65: 0 | U65: 0 | V65: 0 | W65: 0 | X65: 10 | Y65: 2 | Z65: 0 | AA65: 0 | AB65: 17 | AC65: 2 | AD65: 17 | AF65: その他・沖縄県 | AG65: 5 | AH65: 0 | AI65: 2 | AJ65: 2 | AK65: 0 | AL65: 0 | AM65: 3 | AN65: 0 | AO65: 0 | AP65: 0 | AQ65: 10 | AR65: 2 | AS65: 10
B66: 川崎市 | C66: 36 | D66: 6 | E66: 1 | F66: 0 | G66: 0 | H66: 0 | I66: 1213 | J66: 705 | K66: 2 | L66: 0 | M66: 1249 | N66: 711 | O66: 340 | Q66: 加古川市 | R66: 0 | S66: 0 | T66: 1 | U66: 1 | V66: 0 | W66: 0 | X66: 41 | Y66: 41 | Z66: 1 | AA66: 1 | AB66: 43 | AC66: 43 | AD66: 43 | AF66: 合計 | AG66: =SUM(C7:C71,R7:R70,AG7:AG65)/2 -> 4584 | AH66: =SUM(D7:D71,S7:S70,AH7:AH65)/2 -> 252 | AI66: =SUM(E7:E71,T7:T70,AI7:AI65)/2 -> 1729 | AJ66: =SUM(F7:F71,U7:U70,AJ7:AJ65)/2 -> 898 | AK66: =SUM(G7:G71,V7:V70,AK7:AK65)/2 -> 4 | AL66: =SUM(H7:H71,W7:W70,AL7:AL65)/2 -> 1 | AM66: =SUM(I7:I71,X7:X70,AM7:AM65)/2 -> 6071 | AN66: =SUM(J7:J71,Y7:Y70,AN7:AN65)/2 -> 2168 | ... AS66: =SUM(O7:O71,AD7:AD70,AS7:AS65)/2 -> 7678
B67: 相模原市 | C67: 12 | D67: 0 | E67: 1 | F67: 0 | G67: 0 | H67: 0 | I67: 10 | J67: 3 | K67: 1 | L67: 0 | M67: 24 | N67: 3 | O67: 23 | Q67: その他・兵庫県 | R67: 23 | S67: 2 | T67: 21 | U67: 18 | V67: 0 | W67: 0 | X67: 47 | Y67: 17 | Z67: 0 | AA67: 0 | AB67: 89 | AC67: 37 | AD67: 89 | AF67: （備考）特定粉じん排出等作業とは、特定建築材料（吹付け石綿、石綿を含む断熱材・保温材・耐火被覆材）が使用されている建築物等の解体等の作業をいう。
B68: 横須賀市 | C68: 6 | D68: 1 | E68: 1 | F68: 1 | G68: 0 | H68: 0 | I68: 10 | J68: 2 | K68: 1 | L68: 0 | M68: 18 | N68: 4 | O68: 18 | Q68: 奈良県計 | R68: =SUM(R69:R70) -> 14 | S68: =SUM(S69:S70) -> 0 | T68: =SUM(T69:T70) -> 4 | U68: =SUM(U69:U70) -> 0 | V68: =SUM(V69:V70) -> 1 | W68: =SUM(W69:W70) -> 0 | X68: =SUM(X69:X70) -> 17 | Y68: =SUM(Y69:Y70) -> 0 | ... AD68: =SUM(AD69:AD70) -> 28 | AF68: （ ）内には作業実施件数のうち、工作物（建築物を除く）に係る件数を内数で計上する。
B69: 平塚市 | C69: 7 | D69: 1 | E69: 0 | F69: 0 | G69: 0 | H69: 0 | I69: 0 | J69: 0 | K69: 0 | L69: 0 | M69: 7 | N69: 1 | O69: 7 | Q69: 奈良市 | R69: 4 | S69: 0 | T69: 0 | U69: 0 | V69: 0 | W69: 0 | X69: 3 | Y69: 0 | Z69: 0 | AA69: 0 | AB69: 7 | AC69: 0 | AD69: 7 | AF69: 同一の届出で複数の作業種類を行うことがあるため、各作業数計と実施件数は一致しないことがある。
B70: 藤沢市 | C70: 5 | D70: 0 | E70: 2 | F70: 0 | G70: 0 | H70: 0 | I70: 5 | J70: 0 | K70: 2 | L70: 0 | M70: 12 | N70: 0 | O70: 12 | Q70: その他・奈良県 | R70: 10 | S70: 0 | T70: 4 | U70: 0 | V70: 1 | W70: 0 | X70: 14 | Y70: 0 | Z70: 1 | AA70: 0 | AB70: 30 | AC70: 0 | AD70: 21
B71: その他・神奈川県 | C71: 28 | D71: 0 | E71: 4 | F71: 2 | G71: 0 | H71: 0 | I71: 21 | J71: 7 | K71: 1 | L71: 0 | M71: 54 | N71: 9 | O71: 54

Sheet 表4.6
B2: 表4.6 届出件数 特定建築材料種類別・作業の種類別－全国（特定粉じん排出等作業）
D4: 令和４年度
B5: 規則 別表 第７の 項番号 | C5: 作業の種類 | D5: 特定建築材料の種類
D6: 吹付け石綿 | F6: 断熱材 | H6: 保温材 | J6: 耐火被覆材
B8: 1項 | C8: （A）解体作業 | D8: 2698 | E8: 35 | F8: 947 | G8: 70 | H8: 557 | I8: 142 | J8: 891 | K8: 20
B9: 2項 | C9: （B）解体作業のうち、石綿を含有する断熱材、保温材、耐火被覆材を掻き落とし、切断、又は破砕以外の方法で除去する作業 | F9: 241 | G9: 86 | H9: 1314 | I9: 1136 | J9: 250 | K9: 23
B10: 5項 | C10: （C）解体作業のうち、あらかじめ特定建築材料を除去することが困難な作業 | D10: 1 | E10: 0 | F10: 1 | G10: 0 | H10: 1 | I10: 1 | J10: 1 | K10: 0
B11: 6項 | C11: （D）改造・補修作業（かき落とし、切断又は破砕により除去） | D11: 2261 | E11: 23 | F11: 320 | G11: 81 | H11: 2520 | I11: 1944 | J11: 1067 | K11: 136
C12: （E）改造・補修作業（囲い込み又は封じ込め） | D12: 258 | E12: 0 | F12: 40 | G12: 11 | H12: 192 | I12: 161 | J12: 72 | K12: 28
C13: （F）作業数計 | D13: 5069 | E13: 57 | F13: 1514 | G13: 243 | H13: 4549 | I13: 3370 | J13: 2251 | K13: 205
B14: （備考）特定粉じん排出等作業とは、特定建築材料（吹付け石綿、石綿を含む断熱材・保温材・耐火被覆材）が使用されている建築物等の解体等の作業をいう。
B15: 「(F)作業数計」には、(A)、(B)、(C)、(D)、(E)に係る合計数のうち、重複を除いた作業（法施行令第３条の４）件数を計上する。
B16: （ ）内には作業実施件数のうち、工作物（建築物を除く）に係る件数を内数で計上する。

Sheet 表4.7
B2: 表4.7(1) 届出件数 特定建築材料種類別・都道府県市別（特定粉じん排出等作業） | N2: 表4.7(2) 届出件数 特定建築材料種類別・都道府県市別（特定粉じん排出等作業） | Z2: 表4.7(3) 届出件数 特定建築材料種類別・都道府県市別（特定粉じん排出等作業）
B4: 自治体名 | C4: 施行令第３条の３の材料種類 | K4: 種類の合計 | N4: 自治体名 | O4: 施行令第３条の３の材料種類 | W4: 種類の合計 | Z4: 自治体名 | AA4: 施行令第３条の３の材料種類 | AI4: 種類の合計
C5: 吹付け石綿 | E5: 断熱材 | G5: 保温材 | I5: 耐火被覆材 | O5: 吹付け石綿 | Q5: 断熱材 | S5: 保温材 | U5: 耐火被覆材 | AA5: 吹付け石綿 | AC5: 断熱材 | AE5: 保温材 | AG5: 耐火被覆材
B7: 北海道計 | C7: =SUM(C8:C14) -> 92 | D7: =SUM(D8:D14) -> 1 | E7: =SUM(E8:E14) -> 108 | F7: =SUM(F8:F14) -> 6 | G7: =SUM(G8:G14) -> 55 | H7: =SUM(H8:H14) -> 34 | I7: =SUM(I8:I14) -> 31 | J7: =SUM(J8:J14) -> 7 | ... L7: =SUM(L8:L14) -> 48 | N7: 新潟県計 | O7: =SUM(O8:O9) -> 83 | P7: =SUM(P8:P9) -> 1 | Q7: =SUM(Q8:Q9) -> 22 | R7: =SUM(R8:R9) -> 4 | S7: =SUM(S8:S9) -> 81 | T7: =SUM(T8:T9) -> 65 | U7: =SUM(U8:U9) -> 25 | V7: =SUM(V8:V9) -> 4 | ... X7: =SUM(X8:X9) -> 74 | Z7: 和歌山県計 | AA7: =SUM(AA8:AA9) -> 8 | AB7: =SUM(AB8:AB9) -> 1 | AC7: =SUM(AC8:AC9) -> 9 | AD7: =SUM(AD8:AD9) -> 3 | AE7: =SUM(AE8:AE9) -> 49 | AF7: =SUM(AF8:AF9) -> 49 | AG7: =SUM(AG8:AG9) -> 4 | AH7: =SUM(AH8:AH9) -> 2 | ... AJ7: =SUM(AJ8:AJ9) -> 55
B8: 札幌市 | C8: 41 | D8: 0 | E8: 40 | F8: 0 | G8: 5 | H8: 0 | I8: 9 | J8: 0 | K8: =SUM(C8,E8,G8,I8) -> 95 | L8: =SUM(D8,F8,H8,J8) -> 0 | N8: 新潟市 | O8: 33 | P8: 0 | Q8: 8 | R8: 1 | S8: 10 | T8: 6 | U8: 15 | V8: 4 | W8: =SUM(O8,Q8,S8,U8) -> 66 | X8: =SUM(P8,R8,T8,V8) -> 11 | Z8: 和歌山市 | AA8: 5 | AB8: 1 | AC8: 6 | AD8: 2 | AE8: 10 | AF8: 10 | AG8: 3 | AH8: 1 | AI8: =SUM(AA8,AC8,AE8,AG8) -> 24 | AJ8: =SUM(AB8,AD8,AF8,AH8) -> 14
B9: 函館市 | C9: 2 | D9: 0 | E9: 4 | F9: 0 | G9: 1 | H9: 0 | I9: 1 | J9: 0 | K9: =SUM(C9,E9,G9,I9) -> 8 | L9: =SUM(D9,F9,H9,J9) -> 0 | N9: その他・新潟県 | O9: 50 | P9: 1 | Q9: 14 | R9: 3 | S9: 71 | T9: 59 | U9: 10 | V9: 0 | W9: =SUM(O9,Q9,S9,U9) -> 145 | X9: =SUM(P9,R9,T9,V9) -> 63 | Z9: その他・和歌山県 | AA9: 3 | AB9: 0 | AC9: 3 | AD9: 1 | AE9: 39 | AF9: 39 | AG9: 1 | AH9: 1 | AI9: =SUM(AA9,AC9,AE9,AG9) -> 46 | AJ9: =SUM(AB9,AD9,AF9,AH9) -> 41
B10: 小樽市 | C10: 1 | D10: 0 | E10: 0 | F10: 0 | G10: 0 | H10: 0 | I10: 4 | J10: 0 | K10: =SUM(C10,E10,G10,I10) -> 5 | L10: =SUM(D10,F10,H10,J10) -> 0 | N10: 富山県計 | O10: =SUM(O11:O12) -> 72 | P10: =SUM(P11:P12) -> 0 | Q10: =SUM(Q11:Q12) -> 31 | R10: =SUM(R11:R12) -> 1 | S10: =SUM(S11:S12) -> 66 | T10: =SUM(T11:T12) -> 56 | U10: =SUM(U11:U12) -> 6 | V10: =SUM(V11:V12) -> 3 | ... X10: =SUM(X11:X12) -> 60 | Z10: 鳥取県計 | AA10: =SUM(AA11:AA12) -> 13 | AB10: =SUM(AB11:AB12) -> 0 | AC10: =SUM(AC11:AC12) -> 8 | AD10: =SUM(AD11:AD12) -> 0 | AE10: =SUM(AE11:AE12) -> 3 | AF10: =SUM(AF11:AF12) -> 2 | AG10: =SUM(AG11:AG12) -> 12 | AH10: =SUM(AH11:AH12) -> 10 | ... AJ10: =SUM(AJ11:AJ12) -> 12
B11: 旭川市 | C11: 15 | D11: 0 | E11: 7 | F11: 0 | G11: 1 | H11: 0 | I11: 0 | J11: 0 | K11: =SUM(C11,E11,G11,I11) -> 23 | L11: =SUM(D11,F11,H11,J11) -> 0 | N11: 富山市 | O11: 31 | P11: 0 | Q11: 11 | R11: 0 | S11: 29 | T11: 28 | U11: 4 | V11: 3 | W11: =SUM(O11,Q11,S11,U11) -> 75 | X11: =SUM(P11,R11,T11,V11) -> 31 | Z11: 鳥取市 | AA11: 4 | AB11: 0 | AC11: 1 | AD11: 0 | AE11: 1 | AF11: 0 | AG11: 2 | AH11: 2 | AI11: =SUM(AA11,AC11,AE11,AG11) -> 8 | AJ11: =SUM(AB11,AD11,AF11,AH11) -> 2
B12: 室蘭市 | C12: 3 | D12: 0 | E12: 0 | F12: 0 | G12: 6 | H12: 0 | I12: 0 | J12: 0 | K12: =SUM(C12,E12,G12,I12) -> 9 | L12: =SUM(D12,F12,H12,J12) -> 0 | N12: その他・富山県 | O12: 41 | P12: 0 | Q12: 20 | R12: 1 | S12: 37 | T12: 28 | U12: 2 | V12: 0 | W12: =SUM(O12,Q12,S12,U12) -> 100 | X12: =SUM(P12,R12,T12,V12) -> 29 | Z12: その他・鳥取県 | AA12: 9 | AB12: 0 | AC12: 7 | AD12: 0 | AE12: 2 | AF12: 2 | AG12: 10 | AH12: 8 | AI12: =SUM(AA12,AC12,AE12,AG12) -> 28 | AJ12: =SUM(AB12,AD12,AF12,AH12) -> 10
B13: 苫小牧市 | C13: 1 | D13: 0 | E13: 0 | F13: 0 | G13: 20 | H13: 20 | I13: 1 | J13: 0 | K13: =SUM(C13,E13,G13,I13) -> 22 | L13: =SUM(D13,F13,H13,J13) -> 20 | N13: 石川県計 | O13: =SUM(O14:O15) -> 50 | P13: =SUM(P14:P15) -> 3 | Q13: =SUM(Q14:Q15) -> 34 | R13: =SUM(R14:R15) -> 8 | S13: =SUM(S14:S15) -> 24 | T13: =SUM(T14:T15) -> 5 | U13: =SUM(U14:U15) -> 12 | V13: =SUM(V14:V15) -> 4 | ... X13: =SUM(X14:X15) -> 20 | Z13: 島根県計 | AA13: =SUM(AA14:AA15) -> 19 | AB13: =SUM(AB14:AB15) -> 1 | AC13: =SUM(AC14:AC15) -> 15 | AD13: =SUM(AD14:AD15) -> 2 | AE13: =SUM(AE14:AE15) -> 11 | AF13: =SUM(AF14:AF15) -> 0 | AG13: =SUM(AG14:AG15) -> 11 | AH13: =SUM(AH14:AH15) -> 2 | ... AJ13: =SUM(AJ14:AJ15) -> 5
B14: その他・北海道 | C14: 29 | D14: 1 | E14: 57 | F14: 6 | G14: 22 | H14: 14 | I14: 16 | J14: 7 | K14: =SUM(C14,E14,G14,I14) -> 124 | L14: =SUM(D14,F14,H14,J14) -> 28 | N14: 金沢市 | O14: 19 | P14: 2 | Q14: 19 | R14: 8 | S14: 14 | T14: 4 | U14: 4 | V14: 2 | W14: =SUM(O14,Q14,S14,U14) -> 56 | X14: =SUM(P14,R14,T14,V14) -> 16 | Z14: 松江市 | AA14: 6 | AB14: 0 | AC14: 7 | AD14: 0 | AE14: 4 | AF14: 0 | AG14: 4 | AH14: 0 | AI14: =SUM(AA14,AC14,AE14,AG14) -> 21 | AJ14: =SUM(AB14,AD14,AF14,AH14) -> 0
B15: 青森県計 | C15: =SUM(C16:C18) -> 24 | D15: =SUM(D16:D18) -> 0 | E15: =SUM(E16:E18) -> 13 | F15: =SUM(F16:F18) -> 6 | G15: =SUM(G16:G18) -> 5 | H15: =SUM(H16:H18) -> 0 | I15: =SUM(I16:I18) -> 13 | J15: =SUM(J16:J18) -> 4 | ... L15: =SUM(L16:L18) -> 10 | N15: その他・石川県 | O15: 31 | P15: 1 | Q15: 15 | R15: 0 | S15: 10 | T15: 1 | U15: 8 | V15: 2 | W15: =SUM(O15,Q15,S15,U15) -> 64 | X15: =SUM(P15,R15,T15,V15) -> 4 | Z15: その他・島根県 | AA15: 13 | AB15: 1 | AC15: 8 | AD15: 2 | AE15: 7 | AF15: 0 | AG15: 7 | AH15: 2 | AI15: =SUM(AA15,AC15,AE15,AG15) -> 35 | AJ15: =SUM(AB15,AD15,AF15,AH15) -> 5
B16: 青森市 | C16: 10 | D16: 0 | E16: 3 | F16: 0 | G16: 0 | H16: 0 | I16: 2 | J16: 0 | K16: =SUM(C16,E16,G16,I16) -> 15 | L16: =SUM(D16,F16,H16,J16) -> 0 | N16: 福井県計 | O16: =SUM(O17:O18) -> 48 | P16: =SUM(P17:P18) -> 0 | Q16: =SUM(Q17:Q18) -> 7 | R16: =SUM(R17:R18) -> 1 | S16: =SUM(S17:S18) -> 24 | T16: =SUM(T17:T18) -> 22 | U16: =SUM(U17:U18) -> 7 | V16: =SUM(V17:V18) -> 0 | ... X16: =SUM(X17:X18) -> 23 | Z16: 岡山県計 | AA16: =SUM(AA17:AA19) -> 29 | AB16: =SUM(AB17:AB19) -> 1 | AC16: =SUM(AC17:AC19) -> 29 | AD16: =SUM(AD17:AD19) -> 11 | AE16: =SUM(AE17:AE19) -> 383 | AF16: =SUM(AF17:AF19) -> 364 | AG16: =SUM(AG17:AG19) -> 25 | AH16: =SUM(AH17:AH19) -> 12 | ... AJ16: =SUM(AJ17:AJ19) -> 388
B17: 八戸市 | C17: 1 | D17: 0 | E17: 1 | F17: 0 | G17: 3 | H17: 0 | I17: 3 | J17: 0 | K17: =SUM(C17,E17,G17,I17) -> 8 | L17: =SUM(D17,F17,H17,J17) -> 0 | N17: 福井市 | O17: 19 | P17: 0 | Q17: 2 | R17: 1 | S17: 3 | T17: 2 | U17: 0 | V17: 0 | W17: =SUM(O17,Q17,S17,U17) -> 24 | X17: =SUM(P17,R17,T17,V17) -> 3 | Z17: 岡山市 | AA17: 12 | AB17: 0 | AC17: 7 | AD17: 2 | AE17: 122 | AF17: 119 | AG17: 8 | AH17: 6 | AI17: =SUM(AA17,AC17,AE17,AG17) -> 149 | AJ17: =SUM(AB17,AD17,AF17,AH17) -> 127
B18: その他・青森県 | C18: 13 | D18: 0 | E18: 9 | F18: 6 | G18: 2 | H18: 0 | I18: 8 | J18: 4 | K18: =SUM(C18,E18,G18,I18) -> 32 | L18: =SUM(D18,F18,H18,J18) -> 10 | N18: その他・福井県 | O18: 29 | P18: 0 | Q18: 5 | R18: 0 | S18: 21 | T18: 20 | U18: 7 | V18: 0 | W18: =SUM(O18,Q18,S18,U18) -> 62 | X18: =SUM(P18,R18,T18,V18) -> 20 | Z18: 倉敷市 | AA18: 6 | AB18: 0 | AC18: 14 | AD18: 7 | AE18: 252 | AF18: 244 | AG18: 6 | AH18: 5 | AI18: =SUM(AA18,AC18,AE18,AG18) -> 278 | AJ18: =SUM(AB18,AD18,AF18,AH18) -> 256
B19: 岩手県計 | C19: =SUM(C20:C21) -> 24 | D19: =SUM(D20:D21) -> 1 | E19: =SUM(E20:E21) -> 22 | F19: =SUM(F20:F21) -> 5 | G19: =SUM(G20:G21) -> 12 | H19: =SUM(H20:H21) -> 3 | I19: =SUM(I20:I21) -> 10 | J19: =SUM(J20:J21) -> 2 | ... L19: =SUM(L20:L21) -> 11 | N19: 山梨県計 | O19: =SUM(O20:O21) -> 10 | P19: =SUM(P20:P21) -> 2 | Q19: =SUM(Q20:Q21) -> 12 | R19: =SUM(R20:R21) -> 7 | S19: =SUM(S20:S21) -> 9 | T19: =SUM(T20:T21) -> 4 | U19: =SUM(U20:U21) -> 8 | V19: =SUM(V20:V21) -> 5 | ... X19: =SUM(X20:X21) -> 18 | Z19: その他・岡山県 | AA19: 11 | AB19: 1 | AC19: 8 | AD19: 2 | AE19: 9 | AF19: 1 | AG19: 11 | AH19: 1 | AI19: =SUM(AA19,AC19,AE19,AG19) -> 39 | AJ19: =SUM(AB19,AD19,AF19,AH19) -> 5
B20: 盛岡市 | C20: 18 | D20: 0 | E20: 7 | F20: 0 | G20: 3 | H20: 0 | I20: 3 | J20: 0 | K20: =SUM(C20,E20,G20,I20) -> 31 | L20: =SUM(D20,F20,H20,J20) -> 0 | N20: 甲府市 | O20: 3 | P20: 0 | Q20: 1 | R20: 1 | S20: 2 | T20: 0 | U20: 1 | V20: 1 | W20: =SUM(O20,Q20,S20,U20) -> 7 | X20: =SUM(P20,R20,T20,V20) -> 2 | Z20: 広島県計 | AA20: =SUM(AA21:AA24) -> 85 | AB20: =SUM(AB21:AB24) -> 3 | AC20: =SUM(AC21:AC24) -> 24 | AD20: =SUM(AD21:AD24) -> 5 | AE20: =SUM(AE21:AE24) -> 53 | AF20: =SUM(AF21:AF24) -> 39 | AG20: =SUM(AG21:AG24) -> 26 | AH20: =SUM(AH21:AH24) -> 11 | ... AJ20: =SUM(AJ21:AJ24) -> 58
B21: その他・岩手県 | C21: 6 | D21: 1 | E21: 15 | F21: 5 | G21: 9 | H21: 3 | I21: 7 | J21: 2 | K21: =SUM(C21,E21,G21,I21) -> 37 | L21: =SUM(D21,F21,H21,J21) -> 11 | N21: その他・山梨県 | O21: 7 | P21: 2 | Q21: 11 | R21: 6 | S21: 7 | T21: 4 | U21: 7 | V21: 4 | W21: =SUM(O21,Q21,S21,U21) -> 32 | X21: =SUM(P21,R21,T21,V21) -> 16 | Z21: 広島市 | AA21: 34 | AB21: 0 | AC21: 16 | AD21: 2 | AE21: 7 | AF21: 0 | AG21: 9 | AH21: 2 | AI21: =SUM(AA21,AC21,AE21,AG21) -> 66 | AJ21: =SUM(AB21,AD21,AF21,AH21) -> 4
B22: 宮城県計 | C22: =SUM(C23:C24) -> 44 | D22: =SUM(D23:D24) -> 0 | E22: =SUM(E23:E24) -> 41 | F22: =SUM(F23:F24) -> 2 | G22: =SUM(G23:G24) -> 24 | H22: =SUM(H23:H24) -> 6 | I22: =SUM(I23:I24) -> 51 | J22: =SUM(J23:J24) -> 10 | ... L22: =SUM(L23:L24) -> 18 | N22: 長野県計 | O22: =SUM(O23:O25) -> 56 | P22: =SUM(P23:P25) -> 1 | Q22: =SUM(Q23:Q25) -> 29 | R22: =SUM(R23:R25) -> 4 | S22: =SUM(S23:S25) -> 17 | T22: =SUM(T23:T25) -> 0 | U22: =SUM(U23:U25) -> 7 | V22: =SUM(V23:V25) -> 1 | ... X22: =SUM(X23:X25) -> 6 | Z22: 呉市 | AA22: 6 | AB22: 0 | AC22: 1 | AD22: 1 | AE22: 10 | AF22: 9 | AG22: 1 | AH22: 1 | AI22: =SUM(AA22,AC22,AE22,AG22) -> 18 | AJ22: =SUM(AB22,AD22,AF22,AH22) -> 11
B23: 仙台市 | C23: 25 | D23: 0 | E23: 18 | F23: 2 | G23: 11 | H23: 6 | I23: 34 | J23: 8 | K23: =SUM(C23,E23,G23,I23) -> 88 | L23: =SUM(D23,F23,H23,J23) -> 16 | N23: 長野市 | O23: 17 | P23: 0 | Q23: 3 | R23: 0 | S23: 2 | T23: 0 | U23: 1 | V23: 0 | W23: =SUM(O23,Q23,S23,U23) -> 23 | X23: =SUM(P23,R23,T23,V23) -> 0 | Z23: 福山市 | AA23: 13 | AB23: 2 | AC23: 4 | AD23: 2 | AE23: 10 | AF23: 9 | AG23: 3 | AH23: 2 | AI23: =SUM(AA23,AC23,AE23,AG23) -> 30 | AJ23: =SUM(AB23,AD23,AF23,AH23) -> 15
B24: その他・宮城県 | C24: 19 | D24: 0 | E24: 23 | F24: 0 | G24: 13 | H24: 0 | I24: 17 | J24: 2 | K24: =SUM(C24,E24,G24,I24) -> 72 | L24: =SUM(D24,F24,H24,J24) -> 2 | N24: 松本市 | O24: 5 | P24: 0 | Q24: 2 | R24: 1 | S24: 1 | T24: 0 | U24: 1 | V24: 0 | W24: =SUM(O24,Q24,S24,U24) -> 9 | X24: =SUM(P24,R24,T24,V24) -> 1 | Z24: その他・広島県 | AA24: 32 | AB24: 1 | AC24: 3 | AD24: 0 | AE24: 26 | AF24: 21 | AG24: 13 | AH24: 6 | AI24: =SUM(AA24,AC24,AE24,AG24) -> 74 | AJ24: =SUM(AB24,AD24,AF24,AH24) -> 28
B25: 秋田県計 | C25: =SUM(C26:C27) -> 12 | D25: =SUM(D26:D27) -> 0 | E25: =SUM(E26:E27) -> 10 | F25: =SUM(F26:F27) -> 1 | G25: =SUM(G26:G27) -> 11 | H25: =SUM(H26:H27) -> 4 | I25: =SUM(I26:I27) -> 9 | J25: =SUM(J26:J27) -> 0 | ... L25: =SUM(L26:L27) -> 5 | N25: その他・長野県 | O25: 34 | P25: 1 | Q25: 24 | R25: 3 | S25: 14 | T25: 0 | U25: 5 | V25: 1 | W25: =SUM(O25,Q25,S25,U25) -> 77 | X25: =SUM(P25,R25,T25,V25) -> 5 | Z25: 山口県計 | AA25: =SUM(AA26:AA27) -> 22 | AB25: =SUM(AB26:AB27) -> 3 | AC25: =SUM(AC26:AC27) -> 20 | AD25: =SUM(AD26:AD27) -> 8 | AE25: =SUM(AE26:AE27) -> 220 | AF25: =SUM(AF26:AF27) -> 214 | AG25: =SUM(AG26:AG27) -> 17 | AH25: =SUM(AH26:AH27) -> 11 | ... AJ25: =SUM(AJ26:AJ27) -> 236
B26: 秋田市 | C26: 2 | D26: 0 | E26: 2 | F26: 0 | G26: 6 | H26: 4 | I26: 1 | J26: 0 | K26: =SUM(C26,E26,G26,I26) -> 11 | L26: =SUM(D26,F26,H26,J26) -> 4 | N26: 岐阜県計 | O26: =SUM(O27:O28) -> 27 | P26: =SUM(P27:P28) -> 0 | Q26: =SUM(Q27:Q28) -> 13 | R26: =SUM(R27:R28) -> 1 | S26: =SUM(S27:S28) -> 19 | T26: =SUM(T27:T28) -> 8 | U26: =SUM(U27:U28) -> 4 | V26: =SUM(V27:V28) -> 0 | ... X26: =SUM(X27:X28) -> 9 | Z26: 下関市 | AA26: 1 | AB26: 0 | AC26: 0 | AD26: 0 | AE26: 13 | AF26: 11 | AG26: 1 | AH26: 1 | AI26: =SUM(AA26,AC26,AE26,AG26) -> 15 | AJ26: =SUM(AB26,AD26,AF26,AH26) -> 12
B27: その他・秋田県 | C27: 10 | D27: 0 | E27: 8 | F27: 1 | G27: 5 | H27: 0 | I27: 8 | J27: 0 | K27: =SUM(C27,E27,G27,I27) -> 31 | L27: =SUM(D27,F27,H27,J27) -> 1 | N27: 岐阜市 | O27: 10 | P27: 0 | Q27: 3 | R27: 0 | S27: 1 | T27: 0 | U27: 1 | V27: 0 | W27: =SUM(O27,Q27,S27,U27) -> 15 | X27: =SUM(P27,R27,T27,V27) -> 0 | Z27: その他・山口県 | AA27: 21 | AB27: 3 | AC27: 20 | AD27: 8 | AE27: 207 | AF27: 203 | AG27: 16 | AH27: 10 | AI27: =SUM(AA27,AC27,AE27,AG27) -> 264 | AJ27: =SUM(AB27,AD27,AF27,AH27) -> 224
B28: 山形県計 | C28: =SUM(C29:C30) -> 30 | D28: =SUM(D29:D30) -> 0 | E28: =SUM(E29:E30) -> 28 | F28: =SUM(F29:F30) -> 6 | G28: =SUM(G29:G30) -> 10 | H28: =SUM(H29:H30) -> 0 | I28: =SUM(I29:I30) -> 15 | J28: =SUM(J29:J30) -> 0 | ... L28: =SUM(L29:L30) -> 6 | N28: その他・岐阜県 | O28: 17 | P28: 0 | Q28: 10 | R28: 1 | S28: 18 | T28: 8 | U28: 3 | V28: 0 | W28: =SUM(O28,Q28,S28,U28) -> 48 | X28: =SUM(P28,R28,T28,V28) -> 9 | Z28: 徳島県計 | AA28: =SUM(AA29:AA29) -> 7 | AB28: =SUM(AB29:AB29) -> 1 | AC28: =SUM(AC29:AC29) -> 8 | AD28: =SUM(AD29:AD29) -> 1 | AE28: =SUM(AE29:AE29) -> 16 | AF28: =SUM(AF29:AF29) -> 15 | AG28: =SUM(AG29:AG29) -> 2 | AH28: =SUM(AH29:AH29) -> 0 | ... AJ28: =SUM(AJ29:AJ29) -> 17
B29: 山形市 | C29: 14 | D29: 0 | E29: 7 | F29: 5 | G29: 4 | H29: 0 | I29: 4 | J29: 0 | K29: =SUM(C29,E29,G29,I29) -> 29 | L29: =SUM(D29,F29,H29,J29) -> 5 | N29: 静岡県計 | O29: =SUM(O30:O32) -> 49 | P29: =SUM(P30:P32) -> 0 | Q29: =SUM(Q30:Q32) -> 29 | R29: =SUM(R30:R32) -> 5 | S29: =SUM(S30:S32) -> 74 | T29: =SUM(T30:T32) -> 57 | U29: =SUM(U30:U32) -> 17 | V29: =SUM(V30:V32) -> 3 | ... X29: =SUM(X30:X32) -> 65 | Z29: 徳島県 | AA29: 7 | AB29: 1 | AC29: 8 | AD29: 1 | AE29: 16 | AF29: 15 | AG29: 2 | AH29: 0 | AI29: =SUM(AA29,AC29,AE29,AG29) -> 33 | AJ29: =SUM(AB29,AD29,AF29,AH29) -> 17
B30: その他・山形県 | C30: 16 | D30: 0 | E30: 21 | F30: 1 | G30: 6 | H30: 0 | I30: 11 | J30: 0 | K30: =SUM(C30,E30,G30,I30) -> 54 | L30: =SUM(D30,F30,H30,J30) -> 1 | N30: 静岡市 | O30: 14 | P30: 0 | Q30: 5 | R30: 0 | S30: 9 | T30: 7 | U30: 6 | V30: 1 | W30: =SUM(O30,Q30,S30,U30) -> 34 | X30: =SUM(P30,R30,T30,V30) -> 8 | Z30: 香川県計 | AA30: =SUM(AA31:AA32) -> 8 | AB30: =SUM(AB31:AB32) -> 0 | AC30: =SUM(AC31:AC32) -> 15 | AD30: =SUM(AD31:AD32) -> 5 | AE30: =SUM(AE31:AE32) -> 75 | AF30: =SUM(AF31:AF32) -> 66 | AG30: =SUM(AG31:AG32) -> 2 | AH30: =SUM(AH31:AH32) -> 0 | AI30: =AA30+AC30+AE30+AG30 -> 100 | AJ30: =AB30+AD30+AF30+AH30 -> 71
B31: 福島県計 | C31: =SUM(C32:C35) -> 47 | D31: =SUM(D32:D35) -> 0 | E31: =SUM(E32:E35) -> 28 | F31: =SUM(F32:F35) -> 4 | G31: =SUM(G32:G35) -> 40 | H31: =SUM(H32:H35) -> 19 | I31: =SUM(I32:I35) -> 24 | J31: =SUM(J32:J35) -> 1 | ... L31: =SUM(L32:L35) -> 24 | N31: 浜松市 | O31: 8 | P31: 0 | Q31: 6 | R31: 2 | S31: 0 | T31: 0 | U31: 1 | V31: 0 | W31: =SUM(O31,Q31,S31,U31) -> 15 | X31: =SUM(P31,R31,T31,V31) -> 2 | Z31: 高松市 | AA31: 2 | AB31: 0 | AC31: 2 | AD31: 0 | AE31: 2 | AF31: 1 | AG31: 0 | AH31: 0 | AI31: =SUM(AA31,AC31,AE31,AG31) -> 6 | AJ31: =SUM(AB31,AD31,AF31,AH31) -> 1
B32: 福島市 | C32: 14 | D32: 0 | E32: 7 | F32: 0 | G32: 9 | H32: 0 | I32: 12 | J32: 0 | K32: =SUM(C32,E32,G32,I32) -> 42 | L32: =SUM(D32,F32,H32,J32) -> 0 | N32: その他・静岡県 | O32: 27 | P32: 0 | Q32: 18 | R32: 3 | S32: 65 | T32: 50 | U32: 10 | V32: 2 | W32: =SUM(O32,Q32,S32,U32) -> 120 | X32: =SUM(P32,R32,T32,V32) -> 55 | Z32: その他・香川県 | AA32: 6 | AB32: 0 | AC32: 13 | AD32: 5 | AE32: 73 | AF32: 65 | AG32: 2 | AH32: 0 | AI32: =SUM(AA32,AC32,AE32,AG32) -> 94 | AJ32: =SUM(AB32,AD32,AF32,AH32) -> 70
B33: 郡山市 | C33: 7 | D33: 0 | E33: 4 | F33: 0 | G33: 4 | H33: 2 | I33: 2 | J33: 0 | K33: =SUM(C33,E33,G33,I33) -> 17 | L33: =SUM(D33,F33,H33,J33) -> 2 | N33: 愛知県計 | O33: =SUM(O34:O39) -> 156 | P33: =SUM(P34:P39) -> 4 | Q33: =SUM(Q34:Q39) -> 76 | R33: =SUM(R34:R39) -> 27 | S33: =SUM(S34:S39) -> 511 | T33: =SUM(T34:T39) -> 452 | U33: =SUM(U34:U39) -> 30 | V33: =SUM(V34:V39) -> 11 | ... X33: =SUM(X34:X39) -> 494 | Z33: 愛媛県計 | AA33: =SUM(AA34:AA35) -> 11 | AB33: =SUM(AB34:AB35) -> 1 | AC33: =SUM(AC34:AC35) -> 13 | AD33: =SUM(AD34:AD35) -> 0 | AE33: =SUM(AE34:AE35) -> 180 | AF33: =SUM(AF34:AF35) -> 169 | AG33: =SUM(AG34:AG35) -> 5 | AH33: =SUM(AH34:AH35) -> 4 | ... AJ33: =SUM(AJ34:AJ35) -> 174
B34: いわき市 | C34: 4 | D34: 0 | E34: 3 | F34: 0 | G34: 10 | H34: 8 | I34: 4 | J34: 0 | K34: =SUM(C34,E34,G34,I34) -> 21 | L34: =SUM(D34,F34,H34,J34) -> 8 | N34: 名古屋市 | O34: 101 | P34: 2 | Q34: 28 | R34: 5 | S34: 38 | T34: 14 | U34: 11 | V34: 3 | W34: =SUM(O34,Q34,S34,U34) -> 178 | X34: =SUM(P34,R34,T34,V34) -> 24 | Z34: 松山市 | AA34: 6 | AB34: 0 | AC34: 2 | AD34: 0 | AE34: 30 | AF34: 28 | AG34: 2 | AH34: 2 | AI34: =SUM(AA34,AC34,AE34,AG34) -> 40 | AJ34: =SUM(AB34,AD34,AF34,AH34) -> 30
B35: その他・福島県 | C35: 22 | D35: 0 | E35: 14 | F35: 4 | G35: 17 | H35: 9 | I35: 6 | J35: 1 | K35: =SUM(C35,E35,G35,I35) -> 59 | L35: =SUM(D35,F35,H35,J35) -> 14 | N35: 豊橋市 | O35: 3 | P35: 0 | Q35: 3 | R35: 1 | S35: 358 | T35: 357 | U35: 0 | V35: 0 | W35: =SUM(O35,Q35,S35,U35) -> 364 | X35: =SUM(P35,R35,T35,V35) -> 358 | Z35: その他・愛媛県 | AA35: 5 | AB35: 1 | AC35: 11 | AD35: 0 | AE35: 150 | AF35: 141 | AG35: 3 | AH35: 2 | AI35: =SUM(AA35,AC35,AE35,AG35) -> 169 | AJ35: =SUM(AB35,AD35,AF35,AH35) -> 144
B36: 茨城県計 | C36: =SUM(C37:C38) -> 32 | D36: =SUM(D37:D38) -> 1 | E36: =SUM(E37:E38) -> 27 | F36: =SUM(F37:F38) -> 5 | G36: =SUM(G37:G38) -> 84 | H36: =SUM(H37:H38) -> 49 | I36: =SUM(I37:I38) -> 29 | J36: =SUM(J37:J38) -> 4 | ... L36: =SUM(L37:L38) -> 59 | N36: 岡崎市 | O36: 3 | P36: 0 | Q36: 1 | R36: 0 | S36: 16 | T36: 0 | U36: 0 | V36: 0 | W36: =SUM(O36,Q36,S36,U36) -> 20 | X36: =SUM(P36,R36,T36,V36) -> 0 | Z36: 高知県計 | AA36: =SUM(AA37:AA38) -> 16 | AB36: =SUM(AB37:AB38) -> 2 | AC36: =SUM(AC37:AC38) -> 5 | AD36: =SUM(AD37:AD38) -> 1 | AE36: =SUM(AE37:AE38) -> 7 | AF36: =SUM(AF37:AF38) -> 1 | AG36: =SUM(AG37:AG38) -> 3 | AH36: =SUM(AH37:AH38) -> 1 | ... AJ36: =SUM(AJ37:AJ38) -> 5
B37: 水戸市 | C37: 2 | D37: 0 | E37: 1 | F37: 0 | G37: 1 | H37: 1 | I37: 3 | J37: 0 | K37: =SUM(C37,E37,G37,I37) -> 7 | L37: =SUM(D37,F37,H37,J37) -> 1 | N37: 一宮市 | O37: 2 | P37: 0 | Q37: 4 | R37: 3 | S37: 1 | T37: 1 | U37: 2 | V37: 1 | W37: =SUM(O37,Q37,S37,U37) -> 9 | X37: =SUM(P37,R37,T37,V37) -> 5 | Z37: 高知市 | AA37: 7 | AB37: 0 | AC37: 3 | AD37: 0 | AE37: 6 | AF37: 0 | AG37: 1 | AH37: 0 | AI37: =SUM(AA37,AC37,AE37,AG37) -> 17 | AJ37: =SUM(AB37,AD37,AF37,AH37) -> 0
B38: その他・茨城県 | C38: 30 | D38: 1 | E38: 26 | F38: 5 | G38: 83 | H38: 48 | I38: 26 | J38: 4 | K38: =SUM(C38,E38,G38,I38) -> 165 | L38: =SUM(D38,F38,H38,J38) -> 58 | N38: 豊田市 | O38: 8 | P38: 0 | Q38: 4 | R38: 2 | S38: 10 | T38: 8 | U38: 4 | V38: 2 | W38: =SUM(O38,Q38,S38,U38) -> 26 | X38: =SUM(P38,R38,T38,V38) -> 12 | Z38: その他・高知県 | AA38: 9 | AB38: 2 | AC38: 2 | AD38: 1 | AE38: 1 | AF38: 1 | AG38: 2 | AH38: 1 | AI38: =SUM(AA38,AC38,AE38,AG38) -> 14 | AJ38: =SUM(AB38,AD38,AF38,AH38) -> 5
B39: 栃木県計 | C39: =SUM(C40:C41) -> 17 | D39: =SUM(D40:D41) -> 0 | E39: =SUM(E40:E41) -> 23 | F39: =SUM(F40:F41) -> 8 | G39: =SUM(G40:G41) -> 10 | H39: =SUM(H40:H41) -> 4 | I39: =SUM(I40:I41) -> 30 | J39: =SUM(J40:J41) -> 1 | ... L39: =SUM(L40:L41) -> 13 | N39: その他・愛知県 | O39: 39 | P39: 2 | Q39: 36 | R39: 16 | S39: 88 | T39: 72 | U39: 13 | V39: 5 | W39: =SUM(O39,Q39,S39,U39) -> 176 | X39: =SUM(P39,R39,T39,V39) -> 95 | Z39: 福岡県計 | AA39: =SUM(AA40:AA44) -> 65 | AB39: =SUM(AB40:AB44) -> 6 | AC39: =SUM(AC40:AC44) -> 40 | AD39: =SUM(AD40:AD44) -> 4 | AE39: =SUM(AE40:AE44) -> 57 | AF39: =SUM(AF40:AF44) -> 48 | AG39: =SUM(AG40:AG44) -> 17 | AH39: =SUM(AH40:AH44) -> 3 | ... AJ39: =SUM(AJ40:AJ44) -> 61
B40: 宇都宮市 | C40: 7 | D40: 0 | E40: 5 | F40: 2 | G40: 3 | H40: 2 | I40: 3 | J40: 1 | K40: =SUM(C40,E40,G40,I40) -> 18 | L40: =SUM(D40,F40,H40,J40) -> 5 | N40: 三重県計 | O40: =SUM(O41:O42) -> 20 | P40: =SUM(P41:P42) -> 0 | Q40: =SUM(Q41:Q42) -> 28 | R40: =SUM(R41:R42) -> 15 | S40: =SUM(S41:S42) -> 206 | T40: =SUM(T41:T42) -> 196 | U40: =SUM(U41:U42) -> 13 | V40: =SUM(V41:V42) -> 5 | ... X40: =SUM(X41:X42) -> 216 | Z40: 北九州市 | AA40: 24 | AB40: 1 | AC40: 9 | AD40: 1 | AE40: 36 | AF40: 35 | AG40: 2 | AH40: 1 | AI40: =SUM(AA40,AC40,AE40,AG40) -> 71 | AJ40: =SUM(AB40,AD40,AF40,AH40) -> 38
B41: その他・栃木県 | C41: 10 | D41: 0 | E41: 18 | F41: 6 | G41: 7 | H41: 2 | I41: 27 | J41: 0 | K41: =SUM(C41,E41,G41,I41) -> 62 | L41: =SUM(D41,F41,H41,J41) -> 8 | N41: 四日市市 | O41: 6 | P41: 0 | Q41: 13 | R41: 8 | S41: 189 | T41: 179 | U41: 7 | V41: 4 | W41: =SUM(O41,Q41,S41,U41) -> 215 | X41: =SUM(P41,R41,T41,V41) -> 191 | Z41: 福岡市 | AA41: 17 | AB41: 0 | AC41: 12 | AD41: 0 | AE41: 1 | AF41: 0 | AG41: 10 | AH41: 0 | AI41: =SUM(AA41,AC41,AE41,AG41) -> 40 | AJ41: =SUM(AB41,AD41,AF41,AH41) -> 0
B42: 群馬県計 | C42: =SUM(C43:C45) -> 15 | D42: =SUM(D43:D45) -> 1 | E42: =SUM(E43:E45) -> 20 | F42: =SUM(F43:F45) -> 3 | G42: =SUM(G43:G45) -> 9 | H42: =SUM(H43:H45) -> 6 | I42: =SUM(I43:I45) -> 7 | J42: =SUM(J43:J45) -> 2 | ... L42: =SUM(L43:L45) -> 12 | N42: その他・三重県 | O42: 14 | P42: 0 | Q42: 15 | R42: 7 | S42: 17 | T42: 17 | U42: 6 | V42: 1 | W42: =SUM(O42,Q42,S42,U42) -> 52 | X42: =SUM(P42,R42,T42,V42) -> 25 | Z42: 大牟田市 | AA42: 0 | AB42: 0 | AC42: 1 | AD42: 0 | AE42: 7 | AF42: 7 | AG42: 0 | AH42: 0 | AI42: =SUM(AA42,AC42,AE42,AG42) -> 8 | AJ42: =SUM(AB42,AD42,AF42,AH42) -> 7
B43: 前橋市 | C43: 2 | D43: 0 | E43: 4 | F43: 1 | G43: 0 | H43: 0 | I43: 0 | J43: 0 | K43: =SUM(C43,E43,G43,I43) -> 6 | L43: =SUM(D43,F43,H43,J43) -> 1 | N43: 滋賀県計 | O43: =SUM(O44:O45) -> 55 | P43: =SUM(P44:P45) -> 0 | Q43: =SUM(Q44:Q45) -> 11 | R43: =SUM(R44:R45) -> 2 | S43: =SUM(S44:S45) -> 24 | T43: =SUM(T44:T45) -> 15 | U43: =SUM(U44:U45) -> 16 | V43: =SUM(V44:V45) -> 4 | ... X43: =SUM(X44:X45) -> 21 | Z43: 久留米市 | AA43: 4 | AB43: 2 | AC43: 2 | AD43: 0 | AE43: 0 | AF43: 0 | AG43: 1 | AH43: 0 | AI43: =SUM(AA43,AC43,AE43,AG43) -> 7 | AJ43: =SUM(AB43,AD43,AF43,AH43) -> 2
B44: 高崎市 | C44: 4 | D44: 0 | E44: 5 | F44: 0 | G44: 1 | H44: 0 | I44: 3 | J44: 0 | K44: =SUM(C44,E44,G44,I44) -> 13 | L44: =SUM(D44,F44,H44,J44) -> 0 | N44: 大津市 | O44: 8 | P44: 0 | Q44: 0 | R44: 0 | S44: 14 | T44: 7 | U44: 1 | V44: 0 | W44: =SUM(O44,Q44,S44,U44) -> 23 | X44: =SUM(P44,R44,T44,V44) -> 7 | Z44: その他・福岡県 | AA44: 20 | AB44: 3 | AC44: 16 | AD44: 3 | AE44: 13 | AF44: 6 | AG44: 4 | AH44: 2 | AI44: =SUM(AA44,AC44,AE44,AG44) -> 53 | AJ44: =SUM(AB44,AD44,AF44,AH44) -> 14
B45: その他・群馬県 | C45: 9 | D45: 1 | E45: 11 | F45: 2 | G45: 8 | H45: 6 | I45: 4 | J45: 2 | K45: =SUM(C45,E45,G45,I45) -> 32 | L45: =SUM(D45,F45,H45,J45) -> 11 | N45: その他・滋賀県 | O45: 47 | P45: 0 | Q45: 11 | R45: 2 | S45: 10 | T45: 8 | U45: 15 | V45: 4 | W45: =SUM(O45,Q45,S45,U45) -> 83 | X45: =SUM(P45,R45,T45,V45) -> 14 | Z45: 佐賀県計 | AA45: =SUM(AA46:AA46) -> 10 | AB45: =SUM(AB46:AB46) -> 3 | AC45: =SUM(AC46:AC46) -> 10 | AD45: =SUM(AD46:AD46) -> 3 | AE45: =SUM(AE46:AE46) -> 10 | AF45: =SUM(AF46:AF46) -> 3 | AG45: =SUM(AG46:AG46) -> 4 | AH45: =SUM(AH46:AH46) -> 2 | ... AJ45: =SUM(AJ46:AJ46) -> 11
B46: 埼玉県計 | C46: =SUM(C47:C52) -> 108 | D46: =SUM(D47:D52) -> 7 | E46: =SUM(E47:E52) -> 30 | F46: =SUM(F47:F52) -> 4 | G46: =SUM(G47:G52) -> 34 | H46: =SUM(H47:H52) -> 27 | I46: =SUM(I47:I52) -> 32 | J46: =SUM(J47:J52) -> 0 | ... L46: =SUM(L47:L52) -> 38 | N46: 京都府計 | O46: =SUM(O47:O48) -> 73 | P46: =SUM(P47:P48) -> 2 | Q46: =SUM(Q47:Q48) -> 19 | R46: =SUM(R47:R48) -> 2 | S46: =SUM(S47:S48) -> 16 | T46: =SUM(T47:T48) -> 4 | U46: =SUM(U47:U48) -> 15 | V46: =SUM(V47:V48) -> 1 | ... X46: =SUM(X47:X48) -> 9 | Z46: 佐賀県 | AA46: 10 | AB46: 3 | AC46: 10 | AD46: 3 | AE46: 10 | AF46: 3 | AG46: 4 | AH46: 2 | AI46: =SUM(AA46,AC46,AE46,AG46) -> 34 | AJ46: =SUM(AB46,AD46,AF46,AH46) -> 11
B47: さいたま市 | C47: 36 | D47: 0 | E47: 9 | F47: 2 | G47: 1 | H47: 1 | I47: 10 | J47: 0 | K47: =SUM(C47,E47,G47,I47) -> 56 | L47: =SUM(D47,F47,H47,J47) -> 3 | N47: 京都市 | O47: 60 | P47: 1 | Q47: 15 | R47: 2 | S47: 9 | T47: 1 | U47: 8 | V47: 1 | W47: =SUM(O47,Q47,S47,U47) -> 92 | X47: =SUM(P47,R47,T47,V47) -> 5 | Z47: 長崎県計 | AA47: =SUM(AA48:AA50) -> 18 | AB47: =SUM(AB48:AB50) -> 1 | AC47: =SUM(AC48:AC50) -> 19 | AD47: =SUM(AD48:AD50) -> 9 | AE47: =SUM(AE48:AE50) -> 10 | AF47: =SUM(AF48:AF50) -> 2 | AG47: =SUM(AG48:AG50) -> 9 | AH47: =SUM(AH48:AH50) -> 0 | ... AJ47: =SUM(AJ48:AJ50) -> 12
B48: 川越市 | C48: 4 | D48: 0 | E48: 2 | F48: 0 | G48: 0 | H48: 0 | I48: 1 | J48: 0 | K48: =SUM(C48,E48,G48,I48) -> 7 | L48: =SUM(D48,F48,H48,J48) -> 0 | N48: その他・京都府 | O48: 13 | P48: 1 | Q48: 4 | R48: 0 | S48: 7 | T48: 3 | U48: 7 | V48: 0 | W48: =SUM(O48,Q48,S48,U48) -> 31 | X48: =SUM(P48,R48,T48,V48) -> 4 | Z48: 長崎市 | AA48: 9 | AB48: 0 | AC48: 9 | AD48: 0 | AE48: 6 | AF48: 0 | AG48: 5 | AH48: 0 | AI48: =SUM(AA48,AC48,AE48,AG48) -> 29 | AJ48: =SUM(AB48,AD48,AF48,AH48) -> 0
B49: 川口市 | C49: 9 | D49: 1 | E49: 2 | F49: 1 | G49: 22 | H49: 22 | I49: 2 | J49: 0 | K49: =SUM(C49,E49,G49,I49) -> 35 | L49: =SUM(D49,F49,H49,J49) -> 24 | N49: 大阪府計 | O49: =SUM(O50:O59) -> 297 | P49: =SUM(P50:P59) -> 5 | Q49: =SUM(Q50:Q59) -> 64 | R49: =SUM(R50:R59) -> 7 | S49: =SUM(S50:S59) -> 122 | T49: =SUM(T50:T59) -> 48 | U49: =SUM(U50:U59) -> 93 | V49: =SUM(V50:V59) -> 18 | ... X49: =SUM(X50:X59) -> 78 | Z49: 佐世保市 | AA49: 4 | AB49: 1 | AC49: 1 | AD49: 0 | AE49: 1 | AF49: 0 | AG49: 1 | AH49: 0 | AI49: =SUM(AA49,AC49,AE49,AG49) -> 7 | AJ49: =SUM(AB49,AD49,AF49,AH49) -> 1
B50: 所沢市 | C50: 4 | D50: 0 | E50: 2 | F50: 1 | G50: 1 | H50: 0 | I50: 0 | J50: 0 | K50: =SUM(C50,E50,G50,I50) -> 7 | L50: =SUM(D50,F50,H50,J50) -> 1 | N50: 大阪市 | O50: 124 | P50: 3 | Q50: 36 | R50: 1 | S50: 24 | T50: 8 | U50: 51 | V50: 8 | W50: =SUM(O50,Q50,S50,U50) -> 235 | X50: =SUM(P50,R50,T50,V50) -> 20 | Z50: その他・長崎県 | AA50: 5 | AB50: 0 | AC50: 9 | AD50: 9 | AE50: 3 | AF50: 2 | AG50: 3 | AH50: 0 | AI50: =SUM(AA50,AC50,AE50,AG50) -> 20 | AJ50: =SUM(AB50,AD50,AF50,AH50) -> 11
B51: 越谷市 | C51: 3 | D51: 0 | E51: 1 | F51: 0 | G51: 0 | H51: 0 | I51: 3 | J51: 0 | K51: =SUM(C51,E51,G51,I51) -> 7 | L51: =SUM(D51,F51,H51,J51) -> 0 | N51: 堺市 | O51: 22 | P51: 0 | Q51: 6 | R51: 2 | S51: 18 | T51: 8 | U51: 3 | V51: 0 | W51: =SUM(O51,Q51,S51,U51) -> 49 | X51: =SUM(P51,R51,T51,V51) -> 10 | Z51: 熊本県計 | AA51: =SUM(AA52:AA53) -> 30 | AB51: =SUM(AB52:AB53) -> 1 | AC51: =SUM(AC52:AC53) -> 15 | AD51: =SUM(AD52:AD53) -> 11 | AE51: =SUM(AE52:AE53) -> 3 | AF51: =SUM(AF52:AF53) -> 2 | AG51: =SUM(AG52:AG53) -> 2 | AH51: =SUM(AH52:AH53) -> 1 | ... AJ51: =SUM(AJ52:AJ53) -> 15
B52: その他・埼玉県 | C52: 52 | D52: 6 | E52: 14 | F52: 0 | G52: 10 | H52: 4 | I52: 16 | J52: 0 | K52: =SUM(C52,E52,G52,I52) -> 92 | L52: =SUM(D52,F52,H52,J52) -> 10 | N52: 豊中市 | O52: 52 | P52: 1 | Q52: 3 | R52: 1 | S52: 3 | T52: 1 | U52: 0 | V52: 0 | W52: =SUM(O52,Q52,S52,U52) -> 58 | X52: =SUM(P52,R52,T52,V52) -> 3 | Z52: 熊本市 | AA52: 15 | AB52: 0 | AC52: 0 | AD52: 0 | AE52: 1 | AF52: 0 | AG52: 1 | AH52: 0 | AI52: =SUM(AA52,AC52,AE52,AG52) -> 17 | AJ52: =SUM(AB52,AD52,AF52,AH52) -> 0
B53: 千葉県計 | C53: =SUM(C54:C60) -> 81 | D53: =SUM(D54:D60) -> 0 | E53: =SUM(E54:E60) -> 45 | F53: =SUM(F54:F60) -> 3 | G53: =SUM(G54:G60) -> 285 | H53: =SUM(H54:H60) -> 252 | I53: =SUM(I54:I60) -> 64 | J53: =SUM(J54:J60) -> 24 | ... L53: =SUM(L54:L60) -> 279 | N53: 吹田市 | O53: 11 | P53: 0 | Q53: 1 | R53: 0 | S53: 4 | T53: 0 | U53: 1 | V53: 0 | W53: =SUM(O53,Q53,S53,U53) -> 17 | X53: =SUM(P53,R53,T53,V53) -> 0 | Z53: その他・熊本県 | AA53: 15 | AB53: 1 | AC53: 15 | AD53: 11 | AE53: 2 | AF53: 2 | AG53: 1 | AH53: 1 | AI53: =SUM(AA53,AC53,AE53,AG53) -> 33 | AJ53: =SUM(AB53,AD53,AF53,AH53) -> 15
B54: 千葉市 | C54: 12 | D54: 0 | E54: 7 | F54: 1 | G54: 42 | H54: 38 | I54: 4 | J54: 2 | K54: =SUM(C54,E54,G54,I54) -> 65 | L54: =SUM(D54,F54,H54,J54) -> 41 | N54: 高槻市 | O54: 2 | P54: 0 | Q54: 2 | R54: 1 | S54: 8 | T54: 0 | U54: 2 | V54: 2 | W54: =SUM(O54,Q54,S54,U54) -> 14 | X54: =SUM(P54,R54,T54,V54) -> 3 | Z54: 大分県計 | AA54: =SUM(AA55:AA56) -> 14 | AB54: =SUM(AB55:AB56) -> 1 | AC54: =SUM(AC55:AC56) -> 18 | AD54: =SUM(AD55:AD56) -> 4 | AE54: =SUM(AE55:AE56) -> 67 | AF54: =SUM(AF55:AF56) -> 64 | AG54: =SUM(AG55:AG56) -> 7 | AH54: =SUM(AH55:AH56) -> 1 | ... AJ54: =SUM(AJ55:AJ56) -> 70
B55: 市川市 | C55: 5 | D55: 0 | E55: 3 | F55: 0 | G55: 2 | H55: 0 | I55: 3 | J55: 0 | K55: =SUM(C55,E55,G55,I55) -> 13 | L55: =SUM(D55,F55,H55,J55) -> 0 | N55: 枚方市 | O55: 4 | P55: 0 | Q55: 0 | R55: 0 | S55: 15 | T55: 0 | U55: 2 | V55: 0 | W55: =SUM(O55,Q55,S55,U55) -> 21 | X55: =SUM(P55,R55,T55,V55) -> 0 | Z55: 大分市 | AA55: 6 | AB55: 0 | AC55: 10 | AD55: 2 | AE55: 58 | AF55: 58 | AG55: 4 | AH55: 0 | AI55: =SUM(AA55,AC55,AE55,AG55) -> 78 | AJ55: =SUM(AB55,AD55,AF55,AH55) -> 60
B56: 船橋市 | C56: 7 | D56: 0 | E56: 4 | F56: 0 | G56: 0 | H56: 0 | I56: 2 | J56: 0 | K56: =SUM(C56,E56,G56,I56) -> 13 | L56: =SUM(D56,F56,H56,J56) -> 0 | N56: 八尾市 | O56: 4 | P56: 0 | Q56: 1 | R56: 0 | S56: 1 | T56: 1 | U56: 1 | V56: 1 | W56: =SUM(O56,Q56,S56,U56) -> 7 | X56: =SUM(P56,R56,T56,V56) -> 2 | Z56: その他・大分県 | AA56: 8 | AB56: 1 | AC56: 8 | AD56: 2 | AE56: 9 | AF56: 6 | AG56: 3 | AH56: 1 | AI56: =SUM(AA56,AC56,AE56,AG56) -> 28 | AJ56: =SUM(AB56,AD56,AF56,AH56) -> 10
B57: 松戸市 | C57: 7 | D57: 0 | E57: 0 | F57: 0 | G57: 11 | H57: 0 | I57: 4 | J57: 0 | K57: =SUM(C57,E57,G57,I57) -> 22 | L57: =SUM(D57,F57,H57,J57) -> 0 | N57: 寝屋川市 | O57: 6 | P57: 0 | Q57: 2 | R57: 0 | S57: 2 | T57: 0 | U57: 2 | V57: 0 | W57: =SUM(O57,Q57,S57,U57) -> 12 | X57: =SUM(P57,R57,T57,V57) -> 0 | Z57: 宮崎県計 | AA57: =SUM(AA58:AA59) -> 8 | AB57: =SUM(AB58:AB59) -> 0 | AC57: =SUM(AC58:AC59) -> 5 | AD57: =SUM(AD58:AD59) -> 1 | AE57: =SUM(AE58:AE59) -> 49 | AF57: =SUM(AF58:AF59) -> 41 | AG57: =SUM(AG58:AG59) -> 1 | AH57: =SUM(AH58:AH59) -> 0 | ... AJ57: =SUM(AJ58:AJ59) -> 42
B58: 柏市 | C58: 3 | D58: 0 | E58: 3 | F58: 0 | G58: 1 | H58: 1 | I58: 0 | J58: 0 | K58: =SUM(C58,E58,G58,I58) -> 7 | L58: =SUM(D58,F58,H58,J58) -> 1 | N58: 東大阪市 | O58: 8 | P58: 0 | Q58: 1 | R58: 0 | S58: 11 | T58: 6 | U58: 4 | V58: 2 | W58: =SUM(O58,Q58,S58,U58) -> 24 | X58: =SUM(P58,R58,T58,V58) -> 8 | Z58: 宮崎市 | AA58: 3 | AB58: 0 | AC58: 1 | AD58: 0 | AE58: 3 | AF58: 0 | AG58: 1 | AH58: 0 | AI58: =SUM(AA58,AC58,AE58,AG58) -> 8 | AJ58: =SUM(AB58,AD58,AF58,AH58) -> 0
B59: 市原市 | C59: 4 | D59: 0 | E59: 3 | F59: 1 | G59: 164 | H59: 161 | I59: 18 | J59: 14 | K59: =SUM(C59,E59,G59,I59) -> 189 | L59: =SUM(D59,F59,H59,J59) -> 176 | N59: その他・大阪府 | O59: 64 | P59: 1 | Q59: 12 | R59: 2 | S59: 36 | T59: 24 | U59: 27 | V59: 5 | W59: =SUM(O59,Q59,S59,U59) -> 139 | X59: =SUM(P59,R59,T59,V59) -> 32 | Z59: その他・宮崎県 | AA59: 5 | AB59: 0 | AC59: 4 | AD59: 1 | AE59: 46 | AF59: 41 | AG59: 0 | AH59: 0 | AI59: =SUM(AA59,AC59,AE59,AG59) -> 55 | AJ59: =SUM(AB59,AD59,AF59,AH59) -> 42
B60: その他・千葉県 | C60: 43 | D60: 0 | E60: 25 | F60: 1 | G60: 65 | H60: 52 | I60: 33 | J60: 8 | K60: =SUM(C60,E60,G60,I60) -> 166 | L60: =SUM(D60,F60,H60,J60) -> 61 | N60: 兵庫県計 | O60: =SUM(O61:O67) -> 106 | P60: =SUM(P61:P67) -> 2 | Q60: =SUM(Q61:Q67) -> 39 | R60: =SUM(R61:R67) -> 13 | S60: =SUM(S61:S67) -> 104 | T60: =SUM(T61:T67) -> 94 | U60: =SUM(U61:U67) -> 36 | V60: =SUM(V61:V67) -> 8 | ... X60: =SUM(X61:X67) -> 117 | Z60: 鹿児島県計 | AA60: =SUM(AA61:AA62) -> 13 | AB60: =SUM(AB61:AB62) -> 0 | AC60: =SUM(AC61:AC62) -> 9 | AD60: =SUM(AD61:AD62) -> 6 | AE60: =SUM(AE61:AE62) -> 7 | AF60: =SUM(AF61:AF62) -> 4 | AG60: =SUM(AG61:AG62) -> 8 | AH60: =SUM(AH61:AH62) -> 0 | ... AJ60: =SUM(AJ61:AJ62) -> 10
B61: 東京都計 | C61: =SUM(C62:C63) -> 2418 | D61: =SUM(D62:D63) -> 1 | E61: =SUM(E62:E63) -> 373 | F61: =SUM(F62:F63) -> 8 | G61: =SUM(G62:G63) -> 587 | H61: =SUM(H62:H63) -> 17 | I61: =SUM(I62:I63) -> 1411 | J61: =SUM(J62:J63) -> 7 | ... L61: =SUM(L62:L63) -> 33 | N61: 神戸市 | O61: 32 | P61: 0 | Q61: 12 | R61: 1 | S61: 5 | T61: 0 | U61: 17 | V61: 2 | W61: =SUM(O61,Q61,S61,U61) -> 66 | X61: =SUM(P61,R61,T61,V61) -> 3 | Z61: 鹿児島市 | AA61: 7 | AB61: 0 | AC61: 6 | AD61: 5 | AE61: 5 | AF61: 3 | AG61: 3 | AH61: 0 | AI61: =SUM(AA61,AC61,AE61,AG61) -> 21 | AJ61: =SUM(AB61,AD61,AF61,AH61) -> 8
B62: 八王子市 | C62: 21 | D62: 0 | E62: 4 | F62: 0 | G62: 0 | H62: 0 | I62: 8 | J62: 4 | K62: =SUM(C62,E62,G62,I62) -> 33 | L62: =SUM(D62,F62,H62,J62) -> 4 | N62: 姫路市 | O62: 8 | P62: 1 | Q62: 3 | R62: 2 | S62: 23 | T62: 23 | U62: 0 | V62: 0 | W62: =SUM(O62,Q62,S62,U62) -> 34 | X62: =SUM(P62,R62,T62,V62) -> 26 | Z62: その他・鹿児島県 | AA62: 6 | AB62: 0 | AC62: 3 | AD62: 1 | AE62: 2 | AF62: 1 | AG62: 5 | AH62: 0 | AI62: =SUM(AA62,AC62,AE62,AG62) -> 16 | AJ62: =SUM(AB62,AD62,AF62,AH62) -> 2
B63: その他・東京都 | C63: 2397 | D63: 1 | E63: 369 | F63: 8 | G63: 587 | H63: 17 | I63: 1403 | J63: 3 | K63: =SUM(C63,E63,G63,I63) -> 4756 | L63: =SUM(D63,F63,H63,J63) -> 29 | N63: 尼崎市 | O63: 14 | P63: 0 | Q63: 4 | R63: 1 | S63: 1 | T63: 1 | U63: 4 | V63: 2 | W63: =SUM(O63,Q63,S63,U63) -> 23 | X63: =SUM(P63,R63,T63,V63) -> 4 | Z63: 沖縄県計 | AA63: =SUM(AA64:AA65) -> 14 | AB63: =SUM(AB64:AB65) -> 0 | AC63: =SUM(AC64:AC65) -> 1 | AD63: =SUM(AD64:AD65) -> 0 | AE63: =SUM(AE64:AE65) -> 3 | AF63: =SUM(AF64:AF65) -> 2 | AG63: =SUM(AG64:AG65) -> 1 | AH63: =SUM(AH64:AH65) -> 0 | ... AJ63: =SUM(AJ64:AJ65) -> 2
B64: 神奈川県計 | C64: =SUM(C65:C71) -> 618 | D64: =SUM(D65:D71) -> 0 | E64: =SUM(E65:E71) -> 63 | F64: =SUM(F65:F71) -> 11 | G64: =SUM(G65:G71) -> 877 | H64: =SUM(H65:H71) -> 838 | I64: =SUM(I65:I71) -> 70 | J64: =SUM(J65:J71) -> 16 | ... L64: =SUM(L65:L71) -> 865 | N64: 明石市 | O64: 5 | P64: 0 | Q64: 2 | R64: 1 | S64: 2 | T64: 1 | U64: 2 | V64: 0 | W64: =SUM(O64,Q64,S64,U64) -> 11 | X64: =SUM(P64,R64,T64,V64) -> 2 | Z64: 那覇市 | AA64: 8 | AB64: 0 | AC64: 0 | AD64: 0 | AE64: 0 | AF64: 0 | AG64: 1 | AH64: 0 | AI64: =SUM(AA64,AC64,AE64,AG64) -> 9 | AJ64: =SUM(AB64,AD64,AF64,AH64) -> 0
B65: 横浜市 | C65: 49 | D65: 0 | E65: 25 | F65: 2 | G65: 144 | H65: 134 | I65: 23 | J65: 0 | K65: =SUM(C65,E65,G65,I65) -> 241 | L65: =SUM(D65,F65,H65,J65) -> 136 | N65: 西宮市 | O65: 9 | P65: 0 | Q65: 2 | R65: 0 | S65: 2 | T65: 2 | U65: 4 | V65: 0 | W65: =SUM(O65,Q65,S65,U65) -> 17 | X65: =SUM(P65,R65,T65,V65) -> 2 | Z65: その他・沖縄県 | AA65: 6 | AB65: 0 | AC65: 1 | AD65: 0 | AE65: 3 | AF65: 2 | AG65: 0 | AH65: 0 | AI65: =SUM(AA65,AC65,AE65,AG65) -> 10 | AJ65: =SUM(AB65,AD65,AF65,AH65) -> 2
B66: 川崎市 | C66: 512 | D66: 0 | E66: 13 | F66: 6 | G66: 704 | H66: 693 | I66: 28 | J66: 12 | K66: =SUM(C66,E66,G66,I66) -> 1257 | L66: =SUM(D66,F66,H66,J66) -> 711 | N66: 加古川市 | O66: 0 | P66: 0 | Q66: 5 | R66: 5 | S66: 37 | T66: 37 | U66: 1 | V66: 1 | W66: =SUM(O66,Q66,S66,U66) -> 43 | X66: =SUM(P66,R66,T66,V66) -> 43 | Z66: 合計 | AA66: =SUM(C7:C71,O7:O70,AA7:AA65)/2 -> 5069 | AB66: =SUM(D7:D71,P7:P70,AB7:AB65)/2 -> 57 | AC66: =SUM(E7:E71,Q7:Q70,AC7:AC65)/2 -> 1514 | AD66: =SUM(F7:F71,R7:R70,AD7:AD65)/2 -> 243 | AE66: =SUM(G7:G71,S7:S70,AE7:AE65)/2 -> 4549 | AF66: =SUM(H7:H71,T7:T70,AF7:AF65)/2 -> 3370 | AG66: =SUM(I7:I71,U7:U70,AG7:AG65)/2 -> 2251 | AH66: =SUM(J7:J71,V7:V70,AH7:AH65)/2 -> 205 | ... AJ66: =SUM(L7:L71,X7:X70,AJ7:AJ65)/2 -> 3875
B67: 相模原市 | C67: 15 | D67: 0 | E67: 1 | F67: 0 | G67: 10 | H67: 3 | I67: 1 | J67: 0 | K67: =SUM(C67,E67,G67,I67) -> 27 | L67: =SUM(D67,F67,H67,J67) -> 3 | N67: その他・兵庫県 | O67: 38 | P67: 1 | Q67: 11 | R67: 3 | S67: 34 | T67: 30 | U67: 8 | V67: 3 | W67: =SUM(O67,Q67,S67,U67) -> 91 | X67: =SUM(P67,R67,T67,V67) -> 37 | Z67: （備考）特定粉じん排出等作業とは、特定建築材料（吹付け石綿、石綿を含む断熱材・保温材・耐火被覆材）が使用されている建築物等の
B68: 横須賀市 | C68: 6 | D68: 0 | E68: 4 | F68: 1 | G68: 6 | H68: 4 | I68: 4 | J68: 0 | K68: =SUM(C68,E68,G68,I68) -> 20 | L68: =SUM(D68,F68,H68,J68) -> 5 | N68: 奈良県計 | O68: =SUM(O69:O70) -> 15 | P68: =SUM(P69:P70) -> 0 | Q68: =SUM(Q69:Q70) -> 6 | R68: =SUM(R69:R70) -> 0 | S68: =SUM(S69:S70) -> 6 | T68: =SUM(T69:T70) -> 0 | U68: =SUM(U69:U70) -> 10 | V68: =SUM(V69:V70) -> 0 | ... X68: =SUM(X69:X70) -> 0 | Z68: 解体等の作業をいう。
B69: 平塚市 | C69: 4 | D69: 0 | E69: 4 | F69: 0 | G69: 2 | H69: 1 | I69: 0 | J69: 0 | K69: =SUM(C69,E69,G69,I69) -> 10 | L69: =SUM(D69,F69,H69,J69) -> 1 | N69: 奈良市 | O69: 4 | P69: 0 | Q69: 0 | R69: 0 | S69: 1 | T69: 0 | U69: 2 | V69: 0 | W69: =SUM(O69,Q69,S69,U69) -> 7 | X69: =SUM(P69,R69,T69,V69) -> 0 | Z69: （ ）内には作業実施件数のうち、工作物（建築物を除く）に係る件数を内数で計上する。
B70: 藤沢市 | C70: 7 | D70: 0 | E70: 4 | F70: 0 | G70: 2 | H70: 0 | I70: 1 | J70: 0 | K70: =SUM(C70,E70,G70,I70) -> 14 | L70: =SUM(D70,F70,H70,J70) -> 0 | N70: その他・奈良県 | O70: 11 | P70: 0 | Q70: 6 | R70: 0 | S70: 5 | T70: 0 | U70: 8 | V70: 0 | W70: =SUM(O70,Q70,S70,U70) -> 30 | X70: =SUM(P70,R70,T70,V70) -> 0 | Z70: 同一の作業で複数種の材料を取り扱うことがあるため、本表の種類の合計と表4.2の実施件数合計は一致しないことがある。
B71: その他・神奈川県 | C71: 25 | D71: 0 | E71: 12 | F71: 2 | G71: 9 | H71: 3 | I71: 13 | J71: 4 | K71: =SUM(C71,E71,G71,I71) -> 59 | L71: =SUM(D71,F71,H71,J71) -> 9
