Workbook
Name テスト: #REF!
Name 自治体名称: #REF!

Sheet 表5.1
B2: 表5.1 届出件数 年度別・施設種類別－全国（水銀排出施設）
B4: 施行令 別表第 一の二 の 項番号 | C4: 施 設 の 名 称 | D4: 平成30年度 | I4: 令和元年度 | N4: 令和２年度 | S4: 令和３年度 | X4: 令和４年度
D5: 全施設 （注1） | I5: 全施設 （注1） | N5: 全施設 （注1） | S5: 全施設 （注1） | X5: 全施設 （注1）
E6: 大気 | F6: 電気 | G6: ガス | H6: 鉱山 | J6: 大気 | K6: 電気 | L6: ガス | M6: 鉱山 | O6: 大気 | P6: 電気 | Q6: ガス | R6: 鉱山 | T6: 大気 | U6: 電気 | V6: ガス | W6: 鉱山 | Y6: 大気 | Z6: 電気 | AA6: ガス | AB6: 鉱山
B7: 1 | C7: 小型石炭混焼ボイラー | D7: =SUM(E7:H7) -> 110 | E7: 16 | F7: 94 | G7: 0 | H7: 0 | I7: =SUM(J7:M7) -> 120 | J7: 23 | K7: 97 | L7: 0 | M7: 0 | N7: =SUM(O7:R7) -> 124 | O7: 26 | P7: 98 | Q7: 0 | R7: 0 | S7: =SUM(T7:W7) -> 119 | T7: 16 | U7: 103 | V7: 0 | W7: 0 | X7: =SUM(Y7:AB7) -> 107 | Y7: ='表5.2'!J11 -> 11 | Z7: ='表5.2'!L11 -> 96 | AA7: ='表5.2'!M11 -> 0 | AB7: ='表5.2'!N11 -> 0
B8: 2 | C8: 石炭燃焼ボイラー | D8: =SUM(E8:H8) -> 140 | E8: 10 | F8: 130 | G8: 0 | H8: 0 | I8: =SUM(J8:M8) -> 156 | J8: 10 | K8: 144 | L8: 2 | M8: 0 | N8: =SUM(O8:R8) -> 164 | O8: 12 | P8: 152 | Q8: 0 | R8: 0 | S8: =SUM(T8:W8) -> 160 | T8: 7 | U8: 153 | V8: 0 | W8: 0 | X8: =SUM(Y8:AB8) -> 154 | Y8: ='表5.2'!J12 -> 5 | Z8: ='表5.2'!L12 -> 149 | AA8: ='表5.2'!M12 -> 0 | AB8: ='表5.2'!N12 -> 0
B9: 3 | C9: 一次施設（銅又は工業金） | D9: =SUM(E9:H9) -> 36 | E9: 28 | F9: 0 | G9: 0 | H9: 8 | I9: =SUM(J9:M9) -> 36 | J9: 28 | K9: 0 | L9: 0 | M9: 8 | N9: =SUM(O9:R9) -> 36 | O9: 28 | P9: 0 | Q9: 0 | R9: 8 | S9: =SUM(T9:W9) -> 36 | T9: 28 | U9: 0 | V9: 0 | W9: 8 | X9: =SUM(Y9:AB9) -> 36 | Y9: ='表5.2'!J13 -> 28 | Z9: ='表5.2'!L13 -> 0 | AA9: ='表5.2'!M13 -> 0 | AB9: ='表5.2'!N13 -> 8
B10: 4 | C10: 一次施設（鉛又は亜鉛） | D10: =SUM(E10:H10) -> 13 | E10: 10 | F10: 0 | G10: 0 | H10: 3 | I10: =SUM(J10:M10) -> 11 | J10: 8 | K10: 0 | L10: 0 | M10: 3 | N10: =SUM(O10:R10) -> 11 | O10: 8 | P10: 0 | Q10: 0 | R10: 3 | S10: =SUM(T10:W10) -> 9 | T10: 8 | U10: 0 | V10: 0 | W10: 1 | X10: =SUM(Y10:AB10) -> 9 | Y10: ='表5.2'!J14 -> 8 | Z10: ='表5.2'!L14 -> 0 | AA10: ='表5.2'!M14 -> 0 | AB10: ='表5.2'!N14 -> 1
B11: 5 | C11: 二次施設（銅、鉛又は亜鉛） | D11: =SUM(E11:H11) -> 112 | E11: 99 | F11: 0 | G11: 0 | H11: 13 | I11: =SUM(J11:M11) -> 120 | J11: 107 | K11: 0 | L11: 0 | M11: 13 | N11: =SUM(O11:R11) -> 115 | O11: 102 | P11: 0 | Q11: 0 | R11: 13 | S11: =SUM(T11:W11) -> 114 | T11: 101 | U11: 0 | V11: 0 | W11: 13 | X11: =SUM(Y11:AB11) -> 113 | Y11: ='表5.2'!J15 -> 96 | Z11: ='表5.2'!L15 -> 0 | AA11: ='表5.2'!M15 -> 0 | AB11: ='表5.2'!N15 -> 17
B12: 6 | C12: 二次施設(工業金) | D12: =SUM(E12:H12) -> 0 | E12: 0 | F12: 0 | G12: 0 | H12: 0 | I12: =SUM(J12:M12) -> 4 | J12: 4 | K12: 0 | L12: 0 | M12: 0 | N12: =SUM(O12:R12) -> 4 | O12: 4 | P12: 0 | Q12: 0 | R12: 0 | S12: =SUM(T12:W12) -> 0 | T12: 0 | U12: 0 | V12: 0 | W12: 0 | X12: =SUM(Y12:AB12) -> 0 | Y12: ='表5.2'!J16 -> 0 | Z12: ='表5.2'!L16 -> 0 | AA12: ='表5.2'!M16 -> 0 | AB12: ='表5.2'!N16 -> 0
B13: 7 | C13: セメントの製造の用に供する焼成炉 | D13: =SUM(E13:H13) -> 54 | E13: 54 | F13: 0 | G13: 0 | H13: 0 | I13: =SUM(J13:M13) -> 58 | J13: 58 | K13: 0 | L13: 0 | M13: 0 | N13: =SUM(O13:R13) -> 58 | O13: 58 | P13: 0 | Q13: 0 | R13: 0 | S13: =SUM(T13:W13) -> 60 | T13: 60 | U13: 0 | V13: 0 | W13: 0 | X13: =SUM(Y13:AB13) -> 59 | Y13: ='表5.2'!J17 -> 59 | Z13: ='表5.2'!L17 -> 0 | AA13: ='表5.2'!M17 -> 0 | AB13: ='表5.2'!N17 -> 0
B14: 8 | C14: 廃棄物焼却炉 | D14: =SUM(E14:H14) -> 4058 | E14: 4042 | F14: 14 | G14: 0 | H14: 2 | I14: =SUM(J14:M14) -> 4077 | J14: 4057 | K14: 14 | L14: 4 | M14: 2 | N14: =SUM(O14:R14) -> 4024 | O14: 4009 | P14: 14 | Q14: 0 | R14: 1 | S14: =SUM(T14:W14) -> 3994 | T14: 3980 | U14: 13 | V14: 0 | W14: 1 | X14: =SUM(Y14:AB14) -> 3954 | Y14: ='表5.2'!J18 -> 3940 | Z14: ='表5.2'!L18 -> 13 | AA14: ='表5.2'!M18 -> 0 | AB14: ='表5.2'!N18 -> 1
B15: 9 | C15: 水銀回収施設 | D15: =SUM(E15:H15) -> 6 | E15: 6 | F15: 0 | G15: 0 | H15: 0 | I15: =SUM(J15:M15) -> 6 | J15: 6 | K15: 0 | L15: 0 | M15: 0 | N15: =SUM(O15:R15) -> 6 | O15: 6 | P15: 0 | Q15: 0 | R15: 0 | S15: =SUM(T15:W15) -> 6 | T15: 6 | U15: 0 | V15: 0 | W15: 0 | X15: =SUM(Y15:AB15) -> 6 | Y15: ='表5.2'!J19 -> 6 | Z15: ='表5.2'!L19 -> 0 | AA15: ='表5.2'!M19 -> 0 | AB15: ='表5.2'!N19 -> 0
B16: 施設合計 | D16: =SUM(D7:D15) -> 4529 | E16: =SUM(E7:E15) -> 4265 | F16: =SUM(F7:F15) -> 238 | G16: =SUM(G7:G15) -> 0 | H16: =SUM(H7:H15) -> 26 | I16: =SUM(I7:I15) -> 4588 | J16: =SUM(J7:J15) -> 4301 | K16: =SUM(K7:K15) -> 255 | ... AB16: =SUM(AB7:AB15) -> 27
B17: 届出工場・事業場合計（注2） | D17: 2543 | E17: 2469 | F17: 146 | G17: 0 | H17: 6 | I17: 2616 | J17: 2495 | K17: 153 | L17: 0 | M17: 7 | N17: 2557 | O17: 2435 | P17: 158 | Q17: 0 | R17: 7 | S17: 2515 | T17: 2390 | U17: 166 | V17: 0 | W17: 6 | X17: ='表5.2'!O21 -> 2477 | Y17: ='表5.2'!J21 -> 2347 | Z17: ='表5.2'!L21 -> 161 | AA17: ='表5.2'!M21 -> 0 | AB17: ='表5.2'!N21 -> 7
B18: （注1）「大気」：大気汚染防止法届出一般粉じん発生施設、「電気」：電気事業法に係る一般粉じん発生施設、「ガス」：ガス事業法に係る一般粉じん発生施設、「鉱山」：鉱山保安法に係る一般粉じん発生施設を示す。
B19: （注2）「届出工場・事業場合計」の「全施設数」は、「大気」、「電気」、「ガス」、「鉱山」で重複する工場・事業場を除いた実数である。

Sheet 表5.2
B2: 表5.2 届出件数 届出種類別・施設種類別－全国（水銀排出施設）
B4: 施行規則別表 第三の三の 項番号 | C4: 施設種類 | D4: 前年度末 現在の 届出施設数 | E4: 大気汚染防止法に係る施設たる水銀排出施設数 | I4: 届出以外の 理由による 年度中の 増減 | J4: 年度末 現在の 届出施設数 | K4: 年度中の変更 届出施設数 (法第18条の30第１項) | L4: 電気工作物・ガス工作物・鉱山に係る施設たる 水銀排出施設数 | O4: 合計
E6: 設置届出 (法第18条 の28 第１項) | F6: 使用届出 (法第18条 の29 第１項) | G6: 廃止届出 (法第18条の36第２項) | H6: 年度中の 増減
L8: 電気 | M8: ガス | N8: 鉱山
H9: （E)＝ (B)+(C)-(D) | J9: (F)=(A)+ (E)+(E)' | O9: (K)=(F)+
D10: (A) | E10: (B) | F10: (C) | G10: (D) | I10: (E)' | K10: (G) | L10: (H) | M10: (I) | N10: (J) | O10: (H)+(I)+(J)
B11: 1 | C11: 小型石炭混焼ボイラー | D11: 16 | E11: 0 | F11: 0 | G11: 1 | H11: =E11+F11-G11 -> -1 | I11: -4 | J11: =D11+H11+I11 -> 11 | K11: 1 | L11: 96 | M11: 0 | N11: 0 | O11: =J11+L11+M11+N11 -> 107
B12: 2 | C12: 石炭燃焼ボイラー | D12: 7 | E12: 0 | F12: 0 | G12: 0 | H12: =E12+F12-G12 -> 0 | I12: -2 | J12: =D12+H12+I12 -> 5 | K12: 0 | L12: 149 | M12: 0 | N12: 0 | O12: =J12+L12+M12+N12 -> 154
B13: 3 | C13: 一次施設（銅又は工業金） | D13: 28 | E13: 0 | F13: 0 | G13: 0 | H13: =E13+F13-G13 -> 0 | I13: 0 | J13: =D13+H13+I13 -> 28 | K13: 2 | L13: 0 | M13: 0 | N13: 8 | O13: =J13+L13+M13+N13 -> 36
B14: 4 | C14: 一次施設（鉛又は亜鉛） | D14: 8 | E14: 1 | F14: 0 | G14: 1 | H14: =E14+F14-G14 -> 0 | I14: 0 | J14: =D14+H14+I14 -> 8 | K14: 0 | L14: 0 | M14: 0 | N14: 1 | O14: =J14+L14+M14+N14 -> 9
B15: 5 | C15: 二次施設（銅、鉛又は亜鉛） | D15: 101 | E15: 3 | F15: 0 | G15: 4 | H15: =E15+F15-G15 -> -1 | I15: -4 | J15: =D15+H15+I15 -> 96 | K15: 6 | L15: 0 | M15: 0 | N15: 17 | O15: =J15+L15+M15+N15 -> 113
B16: 6 | C16: 二次施設(工業金) | D16: 0 | E16: 0 | F16: 0 | G16: 0 | H16: =E16+F16-G16 -> 0 | I16: 0 | J16: =D16+H16+I16 -> 0 | K16: 0 | L16: 0 | M16: 0 | N16: 0 | O16: =J16+L16+M16+N16 -> 0
B17: 7 | C17: セメントの製造の用に供する焼成炉 | D17: 60 | E17: 0 | F17: 0 | G17: 1 | H17: =E17+F17-G17 -> -1 | I17: 0 | J17: =D17+H17+I17 -> 59 | K17: 9 | L17: 0 | M17: 0 | N17: 0 | O17: =J17+L17+M17+N17 -> 59
B18: 8 | C18: 廃棄物焼却炉 | D18: 3980 | E18: 52 | F18: 1 | G18: 97 | H18: =E18+F18-G18 -> -44 | I18: 4 | J18: =D18+H18+I18 -> 3940 | K18: 75 | L18: 13 | M18: 0 | N18: 1 | O18: =J18+L18+M18+N18 -> 3954
B19: 9 | C19: 水銀回収施設 | D19: 6 | E19: 0 | F19: 0 | G19: 0 | H19: =E19+F19-G19 -> 0 | I19: 0 | J19: =D19+H19+I19 -> 6 | K19: 0 | L19: 0 | M19: 0 | N19: 0 | O19: =J19+L19+M19+N19 -> 6
B20: 施設合計 | D20: =SUM(D11:D19) -> 4206 | E20: =SUM(E11:E19) -> 56 | F20: =SUM(F11:F19) -> 1 | G20: =SUM(G11:G19) -> 104 | H20: =SUM(H11:H19) -> -47 | I20: =SUM(I11:I19) -> -6 | J20: =SUM(J11:J19) -> 4153 | K20: =SUM(K11:K19) -> 93 | ... O20: =SUM(O11:O19) -> 4438
B21: 届出工場・事業場合計（注1） | D21: 2390 | J21: 2347 | L21: 161 | M21: 0 | N21: 7 | O21: 2477
B22: （注1）「届出工場・事業場合計」の「合計(Ｋ)」は、「年度末現在の届出施設数(Ｆ)」、「電気(Ｈ)」、「ガス(Ｉ)」、「鉱山(Ｊ)」で重複する工場・事業場を除いた実数である。

Sheet 表5.3
B2: 表5.3(1) 届出件数 届出種類別・都道府県市別（水銀排出施設） | P2: 表5.3(2) 届出件数 届出種類別・都道府県市別（水銀排出施設） | AD2: 表5.3(3) 届出件数 届出種類別・都道府県市別（水銀排出施設）
B4: 自治体名 | C4: 前年度末現在の届出施設数 | D4: 大気汚染防止法に係る施設たる水銀排出施設数 | H4: 届出以外の理由による年度中の増減 | I4: 年度末現在の届出施設数 | J4: 年度中の変更 届出施設数 (法第18条の30第１項) | K4: 電気工作物・ガス工作物・鉱山に係る施設たる 水銀排出施設数 | N4: 合計 | P4: 自治体名 | Q4: 前年度末現在の届出施設数 | R4: 大気汚染防止法に係る施設たる水銀排出施設数 | V4: 届出以外の理由による年度中の増減 | W4: 年度末現在の届出施設数 | X4: 年度中の変更 届出施設数 (法第18条の30第１項) | Y4: 電気工作物・ガス工作物・鉱山に係る施設たる 水銀排出施設数 | AB4: 合計 | AD4: 自治体名 | AE4: 前年度末現在の届出施設数 | AF4: 大気汚染防止法に係る施設たる水銀排出施設数 | AJ4: 届出以外の理由による年度中の増減 | AK4: 年度末現在の届出施設数 | AL4: 年度中の変更 届出施設数 (法第18条の30第１項) | AM4: 電気工作物・ガス工作物・鉱山に係る施設たる 水銀排出施設数 | AP4: 合計
D6: 設置届出 (法第18条の28第１項) | E6: 使用届出 (法第18条の29第１項) | F6: 廃止届出 (法第18条の36第２項) | G6: 年度中の 増減 | R6: 設置届出 (法第18条の28第１項) | S6: 使用届出 (法第18条の29第１項) | T6: 廃止届出 (法第18条の36第２項) | U6: 年度中の 増減 | AF6: 設置届出 (法第18条の28第１項) | AG6: 使用届出 (法第18条の29第１項) | AH6: 廃止届出 (法第18条の36第２項) | AI6: 年度中の 増減
K8: 電気 | L8: ガス | M8: 鉱山 | N8: (K)= | Y8: 電気 | Z8: ガス | AA8: 鉱山 | AB8: (K)= | AM8: 電気 | AN8: ガス | AO8: 鉱山 | AP8: (K)=
G9: (E)= | I9: (F)= | N9: (F)+(H)+ | U9: (E)= | W9: (F)= | AB9: (F)+(H)+ | AI9: (E)= | AK9: (F)= | AP9: (F)+(H)+
C10: (A) | D10: (B) | E10: (C) | F10: (D) | G10: (B)+(C)-(D) | H10: (E') | I10: (E)+(E')+(A) | J10: (G) | K10: (H) | L10: (I) | M10: (J) | N10: (I)+(J) | Q10: (A) | R10: (B) | S10: (C) | T10: (D) | U10: (B)+(C)-(D) | V10: (E') | W10: (E)+(E')+(A) | X10: (G) | Y10: (H) | Z10: (I) | AA10: (J) | AB10: (I)+(J) | AE10: (A) | AF10: (B) | AG10: (C) | AH10: (D) | AI10: (B)+(C)-(D) | AJ10: (E') | AK10: (E)+(E')+(A) | AL10: (G) | AM10: (H) | AN10: (I) | AO10: (J) | AP10: (I)+(J)
B11: 北海道計 | C11: =SUM(C12:C18) -> 168 | D11: =SUM(D12:D18) -> 2 | E11: =SUM(E12:E18) -> 0 | F11: =SUM(F12:F18) -> 0 | G11: =SUM(G12:G18) -> 2 | H11: =SUM(H12:H18) -> -1 | I11: =SUM(I12:I18) -> 169 | J11: =SUM(J12:J18) -> 0 | ... N11: =SUM(N12:N18) -> 200 | P11: 新潟県計 | Q11: =SUM(Q12:Q13) -> 121 | R11: =SUM(R12:R13) -> 0 | S11: =SUM(S12:S13) -> 0 | T11: =SUM(T12:T13) -> 1 | U11: =SUM(U12:U13) -> -1 | V11: =SUM(V12:V13) -> 3 | W11: =SUM(W12:W13) -> 123 | X11: =SUM(X12:X13) -> 0 | ... AB11: =SUM(AB12:AB13) -> 125 | AD11: 和歌山県計 | AE11: =SUM(AE12:AE13) -> 56 | AF11: =SUM(AF12:AF13) -> 1 | AG11: =SUM(AG12:AG13) -> 0 | AH11: =SUM(AH12:AH13) -> 1 | AI11: =SUM(AI12:AI13) -> 0 | AJ11: =SUM(AJ12:AJ13) -> 0 | AK11: =SUM(AK12:AK13) -> 56 | AL11: =SUM(AL12:AL13) -> 1 | ... AP11: =SUM(AP12:AP13) -> 56
B12: 札幌市 | C12: 17 | D12: 2 | E12: 0 | F12: 0 | G12: =D12+E12-F12 -> 2 | H12: 1 | I12: =C12+G12+H12 -> 20 | J12: 0 | K12: 0 | L12: 0 | M12: 0 | N12: =I12+SUM(K12:M12) -> 20 | P12: 新潟市 | Q12: 23 | R12: 0 | S12: 0 | T12: 0 | U12: =R12+S12-T12 -> 0 | V12: 0 | W12: =Q12+U12+V12 -> 23 | X12: 0 | Y12: 0 | Z12: 0 | AA12: 0 | AB12: =W12+SUM(Y12:AA12) -> 23 | AD12: 和歌山市 | AE12: 22 | AF12: 0 | AG12: 0 | AH12: 0 | AI12: =AF12+AG12-AH12 -> 0 | AJ12: 0 | AK12: =AE12+AI12+AJ12 -> 22 | AL12: 1 | AM12: 0 | AN12: 0 | AO12: 0 | AP12: =AK12+SUM(AM12:AO12) -> 22
B13: 函館市 | C13: 7 | D13: 0 | E13: 0 | F13: 0 | G13: =D13+E13-F13 -> 0 | H13: 0 | I13: =C13+G13+H13 -> 7 | J13: 0 | K13: 0 | L13: 0 | M13: 0 | N13: =I13+SUM(K13:M13) -> 7 | P13: その他・新潟県 | Q13: 98 | R13: 0 | S13: 0 | T13: 1 | U13: =R13+S13-T13 -> -1 | V13: 3 | W13: =Q13+U13+V13 -> 100 | X13: 0 | Y13: 2 | Z13: 0 | AA13: 0 | AB13: =W13+SUM(Y13:AA13) -> 102 | AD13: その他・和歌山県 | AE13: 34 | AF13: 1 | AG13: 0 | AH13: 1 | AI13: =AF13+AG13-AH13 -> 0 | AJ13: 0 | AK13: =AE13+AI13+AJ13 -> 34 | AL13: 0 | AM13: 0 | AN13: 0 | AO13: 0 | AP13: =AK13+SUM(AM13:AO13) -> 34
B14: 小樽市 | C14: 3 | D14: 0 | E14: 0 | F14: 0 | G14: =D14+E14-F14 -> 0 | H14: 0 | I14: =C14+G14+H14 -> 3 | J14: 0 | K14: 0 | L14: 0 | M14: 0 | N14: =I14+SUM(K14:M14) -> 3 | P14: 富山県計 | Q14: =SUM(Q15:Q16) -> 43 | R14: =SUM(R15:R16) -> 0 | S14: =SUM(S15:S16) -> 0 | T14: =SUM(T15:T16) -> 0 | U14: =SUM(U15:U16) -> 0 | V14: =SUM(V15:V16) -> 0 | W14: =SUM(W15:W16) -> 43 | X14: =SUM(X15:X16) -> 0 | ... AB14: =SUM(AB15:AB16) -> 46 | AD14: 鳥取県計 | AE14: =SUM(AE15:AE16) -> 35 | AF14: =SUM(AF15:AF16) -> 1 | AG14: =SUM(AG15:AG16) -> 0 | AH14: =SUM(AH15:AH16) -> 1 | AI14: =SUM(AI15:AI16) -> 0 | AJ14: =SUM(AJ15:AJ16) -> 0 | AK14: =SUM(AK15:AK16) -> 35 | AL14: =SUM(AL15:AL16) -> 3 | ... AP14: =SUM(AP15:AP16) -> 37
B15: 旭川市 | C15: 6 | D15: 0 | E15: 0 | F15: 0 | G15: =D15+E15-F15 -> 0 | H15: 0 | I15: =C15+G15+H15 -> 6 | J15: 0 | K15: 2 | L15: 0 | M15: 0 | N15: =I15+SUM(K15:M15) -> 8 | P15: 富山市 | Q15: 12 | R15: 0 | S15: 0 | T15: 0 | U15: =R15+S15-T15 -> 0 | V15: 0 | W15: =Q15+U15+V15 -> 12 | X15: 0 | Y15: 0 | Z15: 0 | AA15: 0 | AB15: =W15+SUM(Y15:AA15) -> 12 | AD15: 鳥取市 | AE15: 10 | AF15: 0 | AG15: 0 | AH15: 1 | AI15: =AF15+AG15-AH15 -> -1 | AJ15: 0 | AK15: =AE15+AI15+AJ15 -> 9 | AL15: 2 | AM15: 1 | AN15: 0 | AO15: 0 | AP15: =AK15+SUM(AM15:AO15) -> 10
B16: 室蘭市 | C16: 4 | D16: 0 | E16: 0 | F16: 0 | G16: =D16+E16-F16 -> 0 | H16: 0 | I16: =C16+G16+H16 -> 4 | J16: 0 | K16: 0 | L16: 0 | M16: 0 | N16: =I16+SUM(K16:M16) -> 4 | P16: その他・富山県 | Q16: 31 | R16: 0 | S16: 0 | T16: 0 | U16: =R16+S16-T16 -> 0 | V16: 0 | W16: =Q16+U16+V16 -> 31 | X16: 0 | Y16: 3 | Z16: 0 | AA16: 0 | AB16: =W16+SUM(Y16:AA16) -> 34 | AD16: その他・鳥取県 | AE16: 25 | AF16: 1 | AG16: 0 | AH16: 0 | AI16: =AF16+AG16-AH16 -> 1 | AJ16: 0 | AK16: =AE16+AI16+AJ16 -> 26 | AL16: 1 | AM16: 1 | AN16: 0 | AO16: 0 | AP16: =AK16+SUM(AM16:AO16) -> 27
B17: 苫小牧市 | C17: 4 | D17: 0 | E17: 0 | F17: 0 | G17: =D17+E17-F17 -> 0 | H17: 0 | I17: =C17+G17+H17 -> 4 | J17: 0 | K17: 0 | L17: 0 | M17: 0 | N17: =I17+SUM(K17:M17) -> 4 | P17: 石川県計 | Q17: =SUM(Q18:Q19) -> 50 | R17: =SUM(R18:R19) -> 0 | S17: =SUM(S18:S19) -> 0 | T17: =SUM(T18:T19) -> 3 | U17: =SUM(U18:U19) -> -3 | V17: =SUM(V18:V19) -> 0 | W17: =SUM(W18:W19) -> 47 | X17: =SUM(X18:X19) -> 0 | ... AB17: =SUM(AB18:AB19) -> 49 | AD17: 島根県計 | AE17: =SUM(AE18:AE19) -> 28 | AF17: =SUM(AF18:AF19) -> 0 | AG17: =SUM(AG18:AG19) -> 0 | AH17: =SUM(AH18:AH19) -> 4 | AI17: =SUM(AI18:AI19) -> -4 | AJ17: =SUM(AJ18:AJ19) -> 0 | AK17: =SUM(AK18:AK19) -> 24 | AL17: =SUM(AL18:AL19) -> 4 | ... AP17: =SUM(AP18:AP19) -> 27
B18: その他・北海道 | C18: 127 | D18: 0 | E18: 0 | F18: 0 | G18: =D18+E18-F18 -> 0 | H18: -2 | I18: =C18+G18+H18 -> 125 | J18: 0 | K18: 29 | L18: 0 | M18: 0 | N18: =I18+SUM(K18:M18) -> 154 | P18: 金沢市 | Q18: 13 | R18: 0 | S18: 0 | T18: 0 | U18: =R18+S18-T18 -> 0 | V18: 0 | W18: =Q18+U18+V18 -> 13 | X18: 0 | Y18: 0 | Z18: 0 | AA18: 0 | AB18: =W18+SUM(Y18:AA18) -> 13 | AD18: 松江市 | AE18: 5 | AF18: 0 | AG18: 0 | AH18: 0 | AI18: =AF18+AG18-AH18 -> 0 | AJ18: 0 | AK18: =AE18+AI18+AJ18 -> 5 | AL18: 2 | AM18: 0 | AN18: 0 | AO18: 0 | AP18: =AK18+SUM(AM18:AO18) -> 5
B19: 青森県計 | C19: =SUM(C20:C22) -> 70 | D19: =SUM(D20:D22) -> 1 | E19: =SUM(E20:E22) -> 0 | F19: =SUM(F20:F22) -> 1 | G19: =SUM(G20:G22) -> 0 | H19: =SUM(H20:H22) -> 0 | I19: =SUM(I20:I22) -> 70 | J19: =SUM(J20:J22) -> 7 | ... N19: =SUM(N20:N22) -> 72 | P19: その他・石川県 | Q19: 37 | R19: 0 | S19: 0 | T19: 3 | U19: =R19+S19-T19 -> -3 | V19: 0 | W19: =Q19+U19+V19 -> 34 | X19: 0 | Y19: 2 | Z19: 0 | AA19: 0 | AB19: =W19+SUM(Y19:AA19) -> 36 | AD19: その他・島根県 | AE19: 23 | AF19: 0 | AG19: 0 | AH19: 4 | AI19: =AF19+AG19-AH19 -> -4 | AJ19: 0 | AK19: =AE19+AI19+AJ19 -> 19 | AL19: 2 | AM19: 3 | AN19: 0 | AO19: 0 | AP19: =AK19+SUM(AM19:AO19) -> 22
B20: 青森市 | C20: 7 | D20: 0 | E20: 0 | F20: 0 | G20: =D20+E20-F20 -> 0 | H20: 0 | I20: =C20+G20+H20 -> 7 | J20: 0 | K20: 0 | L20: 0 | M20: 0 | N20: =I20+SUM(K20:M20) -> 7 | P20: 福井県計 | Q20: =SUM(Q21:Q22) -> 35 | R20: =SUM(R21:R22) -> 3 | S20: =SUM(S21:S22) -> 0 | T20: =SUM(T21:T22) -> 2 | U20: =SUM(U21:U22) -> 1 | V20: =SUM(V21:V22) -> 0 | W20: =SUM(W21:W22) -> 36 | X20: =SUM(X21:X22) -> 0 | ... AB20: =SUM(AB21:AB22) -> 42 | AD20: 岡山県計 | AE20: =SUM(AE21:AE23) -> 99 | AF20: =SUM(AF21:AF23) -> 1 | AG20: =SUM(AG21:AG23) -> 0 | AH20: =SUM(AH21:AH23) -> 1 | AI20: =SUM(AI21:AI23) -> 0 | AJ20: =SUM(AJ21:AJ23) -> 0 | AK20: =SUM(AK21:AK23) -> 99 | AL20: =SUM(AL21:AL23) -> 10 | ... AP20: =SUM(AP21:AP23) -> 104
B21: 八戸市 | C21: 18 | D21: 0 | E21: 0 | F21: 0 | G21: =D21+E21-F21 -> 0 | H21: 0 | I21: =C21+G21+H21 -> 18 | J21: 6 | K21: 2 | L21: 0 | M21: 0 | N21: =I21+SUM(K21:M21) -> 20 | P21: 福井市 | Q21: 9 | R21: 1 | S21: 0 | T21: 1 | U21: =R21+S21-T21 -> 0 | V21: 0 | W21: =Q21+U21+V21 -> 9 | X21: 0 | Y21: 0 | Z21: 0 | AA21: 0 | AB21: =W21+SUM(Y21:AA21) -> 9 | AD21: 岡山市 | AE21: 29 | AF21: 0 | AG21: 0 | AH21: 0 | AI21: =AF21+AG21-AH21 -> 0 | AJ21: 0 | AK21: =AE21+AI21+AJ21 -> 29 | AL21: 7 | AM21: 1 | AN21: 0 | AO21: 0 | AP21: =AK21+SUM(AM21:AO21) -> 30
B22: その他・青森県 | C22: 45 | D22: 1 | E22: 0 | F22: 1 | G22: =D22+E22-F22 -> 0 | H22: 0 | I22: =C22+G22+H22 -> 45 | J22: 1 | K22: 0 | L22: 0 | M22: 0 | N22: =I22+SUM(K22:M22) -> 45 | P22: その他・福井県 | Q22: 26 | R22: 2 | S22: 0 | T22: 1 | U22: =R22+S22-T22 -> 1 | V22: 0 | W22: =Q22+U22+V22 -> 27 | X22: 0 | Y22: 6 | Z22: 0 | AA22: 0 | AB22: =W22+SUM(Y22:AA22) -> 33 | AD22: 倉敷市 | AE22: 28 | AF22: 1 | AG22: 0 | AH22: 1 | AI22: =AF22+AG22-AH22 -> 0 | AJ22: 0 | AK22: =AE22+AI22+AJ22 -> 28 | AL22: 1 | AM22: 3 | AN22: 0 | AO22: 0 | AP22: =AK22+SUM(AM22:AO22) -> 31
B23: 岩手県計 | C23: =SUM(C24:C25) -> 44 | D23: =SUM(D24:D25) -> 0 | E23: =SUM(E24:E25) -> 0 | F23: =SUM(F24:F25) -> 0 | G23: =SUM(G24:G25) -> 0 | H23: =SUM(H24:H25) -> 0 | I23: =SUM(I24:I25) -> 44 | J23: =SUM(J24:J25) -> 0 | ... N23: =SUM(N24:N25) -> 46 | P23: 山梨県計 | Q23: =SUM(Q24:Q25) -> 35 | R23: =SUM(R24:R25) -> 0 | S23: =SUM(S24:S25) -> 0 | T23: =SUM(T24:T25) -> 2 | U23: =SUM(U24:U25) -> -2 | V23: =SUM(V24:V25) -> 0 | W23: =SUM(W24:W25) -> 33 | X23: =SUM(X24:X25) -> 1 | ... AB23: =SUM(AB24:AB25) -> 33 | AD23: その他・岡山県 | AE23: 42 | AF23: 0 | AG23: 0 | AH23: 0 | AI23: =AF23+AG23-AH23 -> 0 | AJ23: 0 | AK23: =AE23+AI23+AJ23 -> 42 | AL23: 2 | AM23: 1 | AN23: 0 | AO23: 0 | AP23: =AK23+SUM(AM23:AO23) -> 43
B24: 盛岡市 | C24: 11 | D24: 0 | E24: 0 | F24: 0 | G24: =D24+E24-F24 -> 0 | H24: 0 | I24: =C24+G24+H24 -> 11 | J24: 0 | K24: 0 | L24: 0 | M24: 0 | N24: =I24+SUM(K24:M24) -> 11 | P24: 甲府市 | Q24: 3 | R24: 0 | S24: 0 | T24: 0 | U24: =R24+S24-T24 -> 0 | V24: 0 | W24: =Q24+U24+V24 -> 3 | X24: 1 | Y24: 0 | Z24: 0 | AA24: 0 | AB24: =W24+SUM(Y24:AA24) -> 3 | AD24: 広島県計 | AE24: =SUM(AE25:AE28) -> 103 | AF24: =SUM(AF25:AF28) -> 0 | AG24: =SUM(AG25:AG28) -> 0 | AH24: =SUM(AH25:AH28) -> 4 | AI24: =SUM(AI25:AI28) -> -4 | AJ24: =SUM(AJ25:AJ28) -> -2 | AK24: =SUM(AK25:AK28) -> 97 | AL24: =SUM(AL25:AL28) -> 1 | ... AP24: =SUM(AP25:AP28) -> 116
B25: その他・岩手県 | C25: 33 | D25: 0 | E25: 0 | F25: 0 | G25: =D25+E25-F25 -> 0 | H25: 0 | I25: =C25+G25+H25 -> 33 | J25: 0 | K25: 2 | L25: 0 | M25: 0 | N25: =I25+SUM(K25:M25) -> 35 | P25: その他・山梨県 | Q25: 32 | R25: 0 | S25: 0 | T25: 2 | U25: =R25+S25-T25 -> -2 | V25: 0 | W25: =Q25+U25+V25 -> 30 | X25: 0 | Y25: 0 | Z25: 0 | AA25: 0 | AB25: =W25+SUM(Y25:AA25) -> 30 | AD25: 広島市 | AE25: 28 | AF25: 0 | AG25: 0 | AH25: 2 | AI25: =AF25+AG25-AH25 -> -2 | AJ25: -2 | AK25: =AE25+AI25+AJ25 -> 24 | AL25: 0 | AM25: 3 | AN25: 0 | AO25: 0 | AP25: =AK25+SUM(AM25:AO25) -> 27
B26: 宮城県計 | C26: =SUM(C27:C28) -> 68 | D26: =SUM(D27:D28) -> 0 | E26: =SUM(E27:E28) -> 0 | F26: =SUM(F27:F28) -> 5 | G26: =SUM(G27:G28) -> -5 | H26: =SUM(H27:H28) -> 1 | I26: =SUM(I27:I28) -> 64 | J26: =SUM(J27:J28) -> 0 | ... N26: =SUM(N27:N28) -> 73 | P26: 長野県計 | Q26: =SUM(Q27:Q29) -> 73 | R26: =SUM(R27:R29) -> 0 | S26: =SUM(S27:S29) -> 0 | T26: =SUM(T27:T29) -> 0 | U26: =SUM(U27:U29) -> 0 | V26: =SUM(V27:V29) -> -1 | W26: =SUM(W27:W29) -> 72 | X26: =SUM(X27:X29) -> 0 | ... AB26: =SUM(AB27:AB29) -> 72 | AD26: 呉市 | AE26: 9 | AF26: 0 | AG26: 0 | AH26: 0 | AI26: =AF26+AG26-AH26 -> 0 | AJ26: 0 | AK26: =AE26+AI26+AJ26 -> 9 | AL26: 0 | AM26: 0 | AN26: 0 | AO26: 0 | AP26: =AK26+SUM(AM26:AO26) -> 9
B27: 仙台市 | C27: 16 | D27: 0 | E27: 0 | F27: 0 | G27: =D27+E27-F27 -> 0 | H27: 0 | I27: =C27+G27+H27 -> 16 | J27: 0 | K27: 1 | L27: 0 | M27: 0 | N27: =I27+SUM(K27:M27) -> 17 | P27: 長野市 | Q27: 11 | R27: 0 | S27: 0 | T27: 0 | U27: =R27+S27-T27 -> 0 | V27: 0 | W27: =Q27+U27+V27 -> 11 | X27: 0 | Y27: 0 | Z27: 0 | AA27: 0 | AB27: =W27+SUM(Y27:AA27) -> 11 | AD27: 福山市 | AE27: 19 | AF27: 0 | AG27: 0 | AH27: 0 | AI27: =AF27+AG27-AH27 -> 0 | AJ27: 0 | AK27: =AE27+AI27+AJ27 -> 19 | AL27: 0 | AM27: 0 | AN27: 0 | AO27: 0 | AP27: =AK27+SUM(AM27:AO27) -> 19
B28: その他・宮城県 | C28: 52 | D28: 0 | E28: 0 | F28: 5 | G28: =D28+E28-F28 -> -5 | H28: 1 | I28: =C28+G28+H28 -> 48 | J28: 0 | K28: 4 | L28: 0 | M28: 4 | N28: =I28+SUM(K28:M28) -> 56 | P28: 松本市 | Q28: 6 | R28: 0 | S28: 0 | T28: 0 | U28: =R28+S28-T28 -> 0 | V28: 0 | W28: =Q28+U28+V28 -> 6 | X28: 0 | Y28: 0 | Z28: 0 | AA28: 0 | AB28: =W28+SUM(Y28:AA28) -> 6 | AD28: その他・広島県 | AE28: 47 | AF28: 0 | AG28: 0 | AH28: 2 | AI28: =AF28+AG28-AH28 -> -2 | AJ28: 0 | AK28: =AE28+AI28+AJ28 -> 45 | AL28: 1 | AM28: 11 | AN28: 0 | AO28: 5 | AP28: =AK28+SUM(AM28:AO28) -> 61
B29: 秋田県計 | C29: =SUM(C30:C31) -> 60 | D29: =SUM(D30:D31) -> 2 | E29: =SUM(E30:E31) -> 0 | F29: =SUM(F30:F31) -> 0 | G29: =SUM(G30:G31) -> 2 | H29: =SUM(H30:H31) -> 0 | I29: =SUM(I30:I31) -> 62 | J29: =SUM(J30:J31) -> 0 | ... N29: =SUM(N30:N31) -> 71 | P29: その他・長野県 | Q29: 56 | R29: 0 | S29: 0 | T29: 0 | U29: =R29+S29-T29 -> 0 | V29: -1 | W29: =Q29+U29+V29 -> 55 | X29: 0 | Y29: 0 | Z29: 0 | AA29: 0 | AB29: =W29+SUM(Y29:AA29) -> 55 | AD29: 山口県計 | AE29: =SUM(AE30:AE31) -> 65 | AF29: =SUM(AF30:AF31) -> 2 | AG29: =SUM(AG30:AG31) -> 0 | AH29: =SUM(AH30:AH31) -> 1 | AI29: =SUM(AI30:AI31) -> 1 | AJ29: =SUM(AJ30:AJ31) -> 0 | AK29: =SUM(AK30:AK31) -> 66 | AL29: =SUM(AL30:AL31) -> 8 | ... AP29: =SUM(AP30:AP31) -> 87
B30: 秋田市 | C30: 16 | D30: 0 | E30: 0 | F30: 0 | G30: =D30+E30-F30 -> 0 | H30: 0 | I30: =C30+G30+H30 -> 16 | J30: 0 | K30: 1 | L30: 0 | M30: 0 | N30: =I30+SUM(K30:M30) -> 17 | P30: 岐阜県計 | Q30: =SUM(Q31:Q32) -> 94 | R30: =SUM(R31:R32) -> 0 | S30: =SUM(S31:S32) -> 0 | T30: =SUM(T31:T32) -> 2 | U30: =SUM(U31:U32) -> -2 | V30: =SUM(V31:V32) -> -4 | W30: =SUM(W31:W32) -> 88 | X30: =SUM(X31:X32) -> 1 | ... AB30: =SUM(AB31:AB32) -> 92 | AD30: 下関市 | AE30: 5 | AF30: 0 | AG30: 0 | AH30: 0 | AI30: =AF30+AG30-AH30 -> 0 | AJ30: 0 | AK30: =AE30+AI30+AJ30 -> 5 | AL30: 0 | AM30: 1 | AN30: 0 | AO30: 0 | AP30: =AK30+SUM(AM30:AO30) -> 6
B31: その他・秋田県 | C31: 44 | D31: 2 | E31: 0 | F31: 0 | G31: =D31+E31-F31 -> 2 | H31: 0 | I31: =C31+G31+H31 -> 46 | J31: 0 | K31: 3 | L31: 0 | M31: 5 | N31: =I31+SUM(K31:M31) -> 54 | P31: 岐阜市 | Q31: 12 | R31: 0 | S31: 0 | T31: 0 | U31: =R31+S31-T31 -> 0 | V31: 0 | W31: =Q31+U31+V31 -> 12 | X31: 1 | Y31: 0 | Z31: 0 | AA31: 0 | AB31: =W31+SUM(Y31:AA31) -> 12 | AD31: その他・山口県 | AE31: 60 | AF31: 2 | AG31: 0 | AH31: 1 | AI31: =AF31+AG31-AH31 -> 1 | AJ31: 0 | AK31: =AE31+AI31+AJ31 -> 61 | AL31: 8 | AM31: 20 | AN31: 0 | AO31: 0 | AP31: =AK31+SUM(AM31:AO31) -> 81
B32: 山形県計 | C32: =SUM(C33:C34) -> 38 | D32: =SUM(D33:D34) -> 0 | E32: =SUM(E33:E34) -> 0 | F32: =SUM(F33:F34) -> 1 | G32: =SUM(G33:G34) -> -1 | H32: =SUM(H33:H34) -> 0 | I32: =SUM(I33:I34) -> 37 | J32: =SUM(J33:J34) -> 0 | ... N32: =SUM(N33:N34) -> 40 | P32: その他・岐阜県 | Q32: 82 | R32: 0 | S32: 0 | T32: 2 | U32: =R32+S32-T32 -> -2 | V32: -4 | W32: =Q32+U32+V32 -> 76 | X32: 0 | Y32: 0 | Z32: 0 | AA32: 4 | AB32: =W32+SUM(Y32:AA32) -> 80 | AD32: 徳島県計 | AE32: =SUM(AE33:AE33) -> 54 | AF32: =SUM(AF33:AF33) -> 0 | AG32: =SUM(AG33:AG33) -> 0 | AH32: =SUM(AH33:AH33) -> 0 | AI32: =SUM(AI33:AI33) -> 0 | AJ32: =SUM(AJ33:AJ33) -> 0 | AK32: =SUM(AK33:AK33) -> 54 | AL32: =SUM(AL33:AL33) -> 2 | ... AP32: =SUM(AP33:AP33) -> 60
B33: 山形市 | C33: 4 | D33: 0 | E33: 0 | F33: 0 | G33: =D33+E33-F33 -> 0 | H33: 0 | I33: =C33+G33+H33 -> 4 | J33: 0 | K33: 0 | L33: 0 | M33: 0 | N33: =I33+SUM(K33:M33) -> 4 | P33: 静岡県計 | Q33: =SUM(Q34:Q36) -> 163 | R33: =SUM(R34:R36) -> 5 | S33: =SUM(S34:S36) -> 0 | T33: =SUM(T34:T36) -> 4 | U33: =SUM(U34:U36) -> 1 | V33: =SUM(V34:V36) -> 0 | W33: =SUM(W34:W36) -> 164 | X33: =SUM(X34:X36) -> 4 | ... AB33: =SUM(AB34:AB36) -> 171 | AD33: 徳島県 | AE33: 54 | AF33: 0 | AG33: 0 | AH33: 0 | AI33: =AF33+AG33-AH33 -> 0 | AJ33: 0 | AK33: =AE33+AI33+AJ33 -> 54 | AL33: 2 | AM33: 6 | AN33: 0 | AO33: 0 | AP33: =AK33+SUM(AM33:AO33) -> 60
B34: その他・山形県 | C34: 34 | D34: 0 | E34: 0 | F34: 1 | G34: =D34+E34-F34 -> -1 | H34: 0 | I34: =C34+G34+H34 -> 33 | J34: 0 | K34: 3 | L34: 0 | M34: 0 | N34: =I34+SUM(K34:M34) -> 36 | P34: 静岡市 | Q34: 17 | R34: 0 | S34: 0 | T34: 0 | U34: =R34+S34-T34 -> 0 | V34: 0 | W34: =Q34+U34+V34 -> 17 | X34: 2 | Y34: 0 | Z34: 0 | AA34: 0 | AB34: =W34+SUM(Y34:AA34) -> 17 | AD34: 香川県計 | AE34: =SUM(AE35:AE36) -> 46 | AF34: =SUM(AF35:AF36) -> 0 | AG34: =SUM(AG35:AG36) -> 0 | AH34: =SUM(AH35:AH36) -> 0 | AI34: =SUM(AI35:AI36) -> 0 | AJ34: =SUM(AJ35:AJ36) -> 0 | AK34: =SUM(AK35:AK36) -> 46 | AL34: =SUM(AL35:AL36) -> 2 | ... AP34: =SUM(AP35:AP36) -> 47
B35: 福島県計 | C35: =SUM(C36:C39) -> 112 | D35: =SUM(D36:D39) -> 4 | E35: =SUM(E36:E39) -> 0 | F35: =SUM(F36:F39) -> 2 | G35: =SUM(G36:G39) -> 2 | H35: =SUM(H36:H39) -> 0 | I35: =SUM(I36:I39) -> 114 | J35: =SUM(J36:J39) -> 5 | ... N35: =SUM(N36:N39) -> 127 | P35: 浜松市 | Q35: 23 | R35: 1 | S35: 0 | T35: 0 | U35: =R35+S35-T35 -> 1 | V35: 0 | W35: =Q35+U35+V35 -> 24 | X35: 1 | Y35: 0 | Z35: 0 | AA35: 0 | AB35: =W35+SUM(Y35:AA35) -> 24 | AD35: 高松市 | AE35: 9 | AF35: 0 | AG35: 0 | AH35: 0 | AI35: =AF35+AG35-AH35 -> 0 | AJ35: 0 | AK35: =AE35+AI35+AJ35 -> 9 | AL35: 0 | AM35: 0 | AN35: 0 | AO35: 0 | AP35: =AK35+SUM(AM35:AO35) -> 9
B36: 福島市 | C36: 5 | D36: 0 | E36: 0 | F36: 0 | G36: =D36+E36-F36 -> 0 | H36: 0 | I36: =C36+G36+H36 -> 5 | J36: 0 | K36: 0 | L36: 0 | M36: 0 | N36: =I36+SUM(K36:M36) -> 5 | P36: その他・静岡県 | Q36: 123 | R36: 4 | S36: 0 | T36: 4 | U36: =R36+S36-T36 -> 0 | V36: 0 | W36: =Q36+U36+V36 -> 123 | X36: 1 | Y36: 7 | Z36: 0 | AA36: 0 | AB36: =W36+SUM(Y36:AA36) -> 130 | AD36: その他・香川県 | AE36: 37 | AF36: 0 | AG36: 0 | AH36: 0 | AI36: =AF36+AG36-AH36 -> 0 | AJ36: 0 | AK36: =AE36+AI36+AJ36 -> 37 | AL36: 2 | AM36: 1 | AN36: 0 | AO36: 0 | AP36: =AK36+SUM(AM36:AO36) -> 38
B37: 郡山市 | C37: 6 | D37: 0 | E37: 0 | F37: 0 | G37: =D37+E37-F37 -> 0 | H37: 0 | I37: =C37+G37+H37 -> 6 | J37: 0 | K37: 0 | L37: 0 | M37: 0 | N37: =I37+SUM(K37:M37) -> 6 | P37: 愛知県計 | Q37: =SUM(Q38:Q43) -> 206 | R37: =SUM(R38:R43) -> 1 | S37: =SUM(S38:S43) -> 0 | T37: =SUM(T38:T43) -> 8 | U37: =SUM(U38:U43) -> -7 | V37: =SUM(V38:V43) -> 0 | W37: =SUM(W38:W43) -> 199 | X37: =SUM(X38:X43) -> 6 | ... AB37: =SUM(AB38:AB43) -> 218 | AD37: 愛媛県計 | AE37: =SUM(AE38:AE39) -> 85 | AF37: =SUM(AF38:AF39) -> 1 | AG37: =SUM(AG38:AG39) -> 0 | AH37: =SUM(AH38:AH39) -> 3 | AI37: =SUM(AI38:AI39) -> -2 | AJ37: =SUM(AJ38:AJ39) -> -2 | AK37: =SUM(AK38:AK39) -> 81 | AL37: =SUM(AL38:AL39) -> 0 | ... AP37: =SUM(AP38:AP39) -> 114
B38: いわき市 | C38: 32 | D38: 0 | E38: 0 | F38: 1 | G38: =D38+E38-F38 -> -1 | H38: 0 | I38: =C38+G38+H38 -> 31 | J38: 3 | K38: 5 | L38: 0 | M38: 0 | N38: =I38+SUM(K38:M38) -> 36 | P38: 名古屋市 | Q38: 22 | R38: 0 | S38: 0 | T38: 0 | U38: =R38+S38-T38 -> 0 | V38: 0 | W38: =Q38+U38+V38 -> 22 | X38: 0 | Y38: 1 | Z38: 0 | AA38: 0 | AB38: =W38+SUM(Y38:AA38) -> 23 | AD38: 松山市 | AE38: 17 | AF38: 0 | AG38: 0 | AH38: 0 | AI38: =AF38+AG38-AH38 -> 0 | AJ38: 0 | AK38: =AE38+AI38+AJ38 -> 17 | AL38: 0 | AM38: 2 | AN38: 0 | AO38: 0 | AP38: =AK38+SUM(AM38:AO38) -> 19
B39: その他・福島県 | C39: 69 | D39: 4 | E39: 0 | F39: 1 | G39: =D39+E39-F39 -> 3 | H39: 0 | I39: =C39+G39+H39 -> 72 | J39: 2 | K39: 8 | L39: 0 | M39: 0 | N39: =I39+SUM(K39:M39) -> 80 | P39: 豊橋市 | Q39: 13 | R39: 0 | S39: 0 | T39: 0 | U39: =R39+S39-T39 -> 0 | V39: 0 | W39: =Q39+U39+V39 -> 13 | X39: 0 | Y39: 1 | Z39: 0 | AA39: 0 | AB39: =W39+SUM(Y39:AA39) -> 14 | AD39: その他・愛媛県 | AE39: 68 | AF39: 1 | AG39: 0 | AH39: 3 | AI39: =AF39+AG39-AH39 -> -2 | AJ39: -2 | AK39: =AE39+AI39+AJ39 -> 64 | AL39: 0 | AM39: 23 | AN39: 0 | AO39: 8 | AP39: =AK39+SUM(AM39:AO39) -> 95
B40: 茨城県計 | C40: =SUM(C41:C42) -> 138 | D40: =SUM(D41:D42) -> 1 | E40: =SUM(E41:E42) -> 0 | F40: =SUM(F41:F42) -> 3 | G40: =SUM(G41:G42) -> -2 | H40: =SUM(H41:H42) -> 0 | I40: =SUM(I41:I42) -> 136 | J40: =SUM(J41:J42) -> 3 | ... N40: =SUM(N41:N42) -> 144 | P40: 岡崎市 | Q40: 11 | R40: 0 | S40: 0 | T40: 1 | U40: =R40+S40-T40 -> -1 | V40: 0 | W40: =Q40+U40+V40 -> 10 | X40: 0 | Y40: 0 | Z40: 0 | AA40: 0 | AB40: =W40+SUM(Y40:AA40) -> 10 | AD40: 高知県計 | AE40: =SUM(AE41:AE42) -> 29 | AF40: =SUM(AF41:AF42) -> 1 | AG40: =SUM(AG41:AG42) -> 0 | AH40: =SUM(AH41:AH42) -> 0 | AI40: =SUM(AI41:AI42) -> 1 | AJ40: =SUM(AJ41:AJ42) -> 0 | AK40: =SUM(AK41:AK42) -> 30 | AL40: =SUM(AL41:AL42) -> 0 | ... AP40: =SUM(AP41:AP42) -> 34
B41: 水戸市 | C41: 3 | D41: 0 | E41: 0 | F41: 0 | G41: =D41+E41-F41 -> 0 | H41: 0 | I41: =C41+G41+H41 -> 3 | J41: 0 | K41: 0 | L41: 0 | M41: 0 | N41: =I41+SUM(K41:M41) -> 3 | P41: 一宮市 | Q41: 6 | R41: 0 | S41: 0 | T41: 1 | U41: =R41+S41-T41 -> -1 | V41: 0 | W41: =Q41+U41+V41 -> 5 | X41: 0 | Y41: 0 | Z41: 0 | AA41: 0 | AB41: =W41+SUM(Y41:AA41) -> 5 | AD41: 高知市 | AE41: 7 | AF41: 0 | AG41: 0 | AH41: 0 | AI41: =AF41+AG41-AH41 -> 0 | AJ41: 0 | AK41: =AE41+AI41+AJ41 -> 7 | AL41: 0 | AM41: 2 | AN41: 0 | AO41: 0 | AP41: =AK41+SUM(AM41:AO41) -> 9
B42: その他・茨城県 | C42: 135 | D42: 1 | E42: 0 | F42: 3 | G42: =D42+E42-F42 -> -2 | H42: 0 | I42: =C42+G42+H42 -> 133 | J42: 3 | K42: 8 | L42: 0 | M42: 0 | N42: =I42+SUM(K42:M42) -> 141 | P42: 豊田市 | Q42: 10 | R42: 0 | S42: 0 | T42: 0 | U42: =R42+S42-T42 -> 0 | V42: 0 | W42: =Q42+U42+V42 -> 10 | X42: 0 | Y42: 0 | Z42: 0 | AA42: 0 | AB42: =W42+SUM(Y42:AA42) -> 10 | AD42: その他・高知県 | AE42: 22 | AF42: 1 | AG42: 0 | AH42: 0 | AI42: =AF42+AG42-AH42 -> 1 | AJ42: 0 | AK42: =AE42+AI42+AJ42 -> 23 | AL42: 0 | AM42: 2 | AN42: 0 | AO42: 0 | AP42: =AK42+SUM(AM42:AO42) -> 25
B43: 栃木県計 | C43: =SUM(C44:C45) -> 78 | D43: =SUM(D44:D45) -> 1 | E43: =SUM(E44:E45) -> 0 | F43: =SUM(F44:F45) -> 2 | G43: =SUM(G44:G45) -> -1 | H43: =SUM(H44:H45) -> 0 | I43: =SUM(I44:I45) -> 77 | J43: =SUM(J44:J45) -> 0 | ... N43: =SUM(N44:N45) -> 79 | P43: その他・愛知県 | Q43: 144 | R43: 1 | S43: 0 | T43: 6 | U43: =R43+S43-T43 -> -5 | V43: 0 | W43: =Q43+U43+V43 -> 139 | X43: 6 | Y43: 17 | Z43: 0 | AA43: 0 | AB43: =W43+SUM(Y43:AA43) -> 156 | AD43: 福岡県計 | AE43: =SUM(AE44:AE48) -> 144 | AF43: =SUM(AF44:AF48) -> 2 | AG43: =SUM(AG44:AG48) -> 0 | AH43: =SUM(AH44:AH48) -> 2 | AI43: =SUM(AI44:AI48) -> 0 | AJ43: =SUM(AJ44:AJ48) -> 0 | AK43: =SUM(AK44:AK48) -> 144 | AL43: =SUM(AL44:AL48) -> 7 | ... AP43: =SUM(AP44:AP48) -> 156
B44: 宇都宮市 | C44: 15 | D44: 1 | E44: 0 | F44: 1 | G44: =D44+E44-F44 -> 0 | H44: 0 | I44: =C44+G44+H44 -> 15 | J44: 0 | K44: 1 | L44: 0 | M44: 0 | N44: =I44+SUM(K44:M44) -> 16 | P44: 三重県計 | Q44: =SUM(Q45:Q46) -> 80 | R44: =SUM(R45:R46) -> 1 | S44: =SUM(S45:S46) -> 0 | T44: =SUM(T45:T46) -> 1 | U44: =SUM(U45:U46) -> 0 | V44: =SUM(V45:V46) -> 0 | W44: =SUM(W45:W46) -> 80 | X44: =SUM(X45:X46) -> 1 | ... AB44: =SUM(AB45:AB46) -> 85 | AD44: 北九州市 | AE44: 37 | AF44: 1 | AG44: 0 | AH44: 0 | AI44: =AF44+AG44-AH44 -> 1 | AJ44: 0 | AK44: =AE44+AI44+AJ44 -> 38 | AL44: 6 | AM44: 6 | AN44: 0 | AO44: 0 | AP44: =AK44+SUM(AM44:AO44) -> 44
B45: その他・栃木県 | C45: 63 | D45: 0 | E45: 0 | F45: 1 | G45: =D45+E45-F45 -> -1 | H45: 0 | I45: =C45+G45+H45 -> 62 | J45: 0 | K45: 1 | L45: 0 | M45: 0 | N45: =I45+SUM(K45:M45) -> 63 | P45: 四日市市 | Q45: 5 | R45: 0 | S45: 0 | T45: 0 | U45: =R45+S45-T45 -> 0 | V45: 0 | W45: =Q45+U45+V45 -> 5 | X45: 0 | Y45: 0 | Z45: 0 | AA45: 0 | AB45: =W45+SUM(Y45:AA45) -> 5 | AD45: 福岡市 | AE45: 13 | AF45: 0 | AG45: 0 | AH45: 0 | AI45: =AF45+AG45-AH45 -> 0 | AJ45: 0 | AK45: =AE45+AI45+AJ45 -> 13 | AL45: 0 | AM45: 0 | AN45: 0 | AO45: 0 | AP45: =AK45+SUM(AM45:AO45) -> 13
B46: 群馬県計 | C46: =SUM(C47:C49) -> 83 | D46: =SUM(D47:D49) -> 4 | E46: =SUM(E47:E49) -> 0 | F46: =SUM(F47:F49) -> 7 | G46: =SUM(G47:G49) -> -3 | H46: =SUM(H47:H49) -> 0 | I46: =SUM(I47:I49) -> 80 | J46: =SUM(J47:J49) -> 2 | ... N46: =SUM(N47:N49) -> 80 | P46: その他・三重県 | Q46: 75 | R46: 1 | S46: 0 | T46: 1 | U46: =R46+S46-T46 -> 0 | V46: 0 | W46: =Q46+U46+V46 -> 75 | X46: 1 | Y46: 5 | Z46: 0 | AA46: 0 | AB46: =W46+SUM(Y46:AA46) -> 80 | AD46: 大牟田市 | AE46: 5 | AF46: 0 | AG46: 0 | AH46: 0 | AI46: =AF46+AG46-AH46 -> 0 | AJ46: 0 | AK46: =AE46+AI46+AJ46 -> 5 | AL46: 0 | AM46: 0 | AN46: 0 | AO46: 0 | AP46: =AK46+SUM(AM46:AO46) -> 5
B47: 前橋市 | C47: 9 | D47: 0 | E47: 0 | F47: 0 | G47: =D47+E47-F47 -> 0 | H47: 0 | I47: =C47+G47+H47 -> 9 | J47: 0 | K47: 0 | L47: 0 | M47: 0 | N47: =I47+SUM(K47:M47) -> 9 | P47: 滋賀県計 | Q47: =SUM(Q48:Q49) -> 61 | R47: =SUM(R48:R49) -> 0 | S47: =SUM(S48:S49) -> 0 | T47: =SUM(T48:T49) -> 3 | U47: =SUM(U48:U49) -> -3 | V47: =SUM(V48:V49) -> 2 | W47: =SUM(W48:W49) -> 60 | X47: =SUM(X48:X49) -> 3 | ... AB47: =SUM(AB48:AB49) -> 60 | AD47: 久留米市 | AE47: 8 | AF47: 0 | AG47: 0 | AH47: 0 | AI47: =AF47+AG47-AH47 -> 0 | AJ47: 0 | AK47: =AE47+AI47+AJ47 -> 8 | AL47: 0 | AM47: 0 | AN47: 0 | AO47: 0 | AP47: =AK47+SUM(AM47:AO47) -> 8
B48: 高崎市 | C48: 10 | D48: 3 | E48: 0 | F48: 1 | G48: =D48+E48-F48 -> 2 | H48: 0 | I48: =C48+G48+H48 -> 12 | J48: 0 | K48: 0 | L48: 0 | M48: 0 | N48: =I48+SUM(K48:M48) -> 12 | P48: 大津市 | Q48: 10 | R48: 0 | S48: 0 | T48: 3 | U48: =R48+S48-T48 -> -3 | V48: 0 | W48: =Q48+U48+V48 -> 7 | X48: 0 | Y48: 0 | Z48: 0 | AA48: 0 | AB48: =W48+SUM(Y48:AA48) -> 7 | AD48: その他・福岡県 | AE48: 81 | AF48: 1 | AG48: 0 | AH48: 2 | AI48: =AF48+AG48-AH48 -> -1 | AJ48: 0 | AK48: =AE48+AI48+AJ48 -> 80 | AL48: 1 | AM48: 6 | AN48: 0 | AO48: 0 | AP48: =AK48+SUM(AM48:AO48) -> 86
B49: その他・群馬県 | C49: 64 | D49: 1 | E49: 0 | F49: 6 | G49: =D49+E49-F49 -> -5 | H49: 0 | I49: =C49+G49+H49 -> 59 | J49: 2 | K49: 0 | L49: 0 | M49: 0 | N49: =I49+SUM(K49:M49) -> 59 | P49: その他・滋賀県 | Q49: 51 | R49: 0 | S49: 0 | T49: 0 | U49: =R49+S49-T49 -> 0 | V49: 2 | W49: =Q49+U49+V49 -> 53 | X49: 3 | Y49: 0 | Z49: 0 | AA49: 0 | AB49: =W49+SUM(Y49:AA49) -> 53 | AD49: 佐賀県計 | AE49: =SUM(AE50:AE50) -> 42 | AF49: =SUM(AF50:AF50) -> 0 | AG49: =SUM(AG50:AG50) -> 0 | AH49: =SUM(AH50:AH50) -> 5 | AI49: =SUM(AI50:AI50) -> -5 | AJ49: =SUM(AJ50:AJ50) -> 0 | AK49: =SUM(AK50:AK50) -> 37 | AL49: =SUM(AL50:AL50) -> 0 | ... AP49: =SUM(AP50:AP50) -> 37
B50: 埼玉県計 | C50: =SUM(C51:C56) -> 211 | D50: =SUM(D51:D56) -> 0 | E50: =SUM(E51:E56) -> 0 | F50: =SUM(F51:F56) -> 5 | G50: =SUM(G51:G56) -> -5 | H50: =SUM(H51:H56) -> 0 | I50: =SUM(I51:I56) -> 206 | J50: =SUM(J51:J56) -> 4 | ... N50: =SUM(N51:N56) -> 206 | P50: 京都府計 | Q50: =SUM(Q51:Q52) -> 68 | R50: =SUM(R51:R52) -> 0 | S50: =SUM(S51:S52) -> 0 | T50: =SUM(T51:T52) -> 2 | U50: =SUM(U51:U52) -> -2 | V50: =SUM(V51:V52) -> -1 | W50: =SUM(W51:W52) -> 65 | X50: =SUM(X51:X52) -> 0 | ... AB50: =SUM(AB51:AB52) -> 68 | AD50: 佐賀県 | AE50: 42 | AF50: 0 | AG50: 0 | AH50: 5 | AI50: =AF50+AG50-AH50 -> -5 | AJ50: 0 | AK50: =AE50+AI50+AJ50 -> 37 | AL50: 0 | AM50: 0 | AN50: 0 | AO50: 0 | AP50: =AK50+SUM(AM50:AO50) -> 37
B51: さいたま市 | C51: 17 | D51: 0 | E51: 0 | F51: 0 | G51: =D51+E51-F51 -> 0 | H51: 0 | I51: =C51+G51+H51 -> 17 | J51: 1 | K51: 0 | L51: 0 | M51: 0 | N51: =I51+SUM(K51:M51) -> 17 | P51: 京都市 | Q51: 19 | R51: 0 | S51: 0 | T51: 2 | U51: =R51+S51-T51 -> -2 | V51: 0 | W51: =Q51+U51+V51 -> 17 | X51: 0 | Y51: 0 | Z51: 0 | AA51: 0 | AB51: =W51+SUM(Y51:AA51) -> 17 | AD51: 長崎県計 | AE51: =SUM(AE52:AE54) -> 70 | AF51: =SUM(AF52:AF54) -> 3 | AG51: =SUM(AG52:AG54) -> 0 | AH51: =SUM(AH52:AH54) -> 3 | AI51: =SUM(AI52:AI54) -> 0 | AJ51: =SUM(AJ52:AJ54) -> 0 | AK51: =SUM(AK52:AK54) -> 70 | AL51: =SUM(AL52:AL54) -> 0 | ... AP51: =SUM(AP52:AP54) -> 77
B52: 川越市 | C52: 7 | D52: 0 | E52: 0 | F52: 0 | G52: =D52+E52-F52 -> 0 | H52: 0 | I52: =C52+G52+H52 -> 7 | J52: 0 | K52: 0 | L52: 0 | M52: 0 | N52: =I52+SUM(K52:M52) -> 7 | P52: その他・京都府 | Q52: 49 | R52: 0 | S52: 0 | T52: 0 | U52: =R52+S52-T52 -> 0 | V52: -1 | W52: =Q52+U52+V52 -> 48 | X52: 0 | Y52: 2 | Z52: 0 | AA52: 1 | AB52: =W52+SUM(Y52:AA52) -> 51 | AD52: 長崎市 | AE52: 5 | AF52: 0 | AG52: 0 | AH52: 0 | AI52: =AF52+AG52-AH52 -> 0 | AJ52: 0 | AK52: =AE52+AI52+AJ52 -> 5 | AL52: 0 | AM52: 0 | AN52: 0 | AO52: 0 | AP52: =AK52+SUM(AM52:AO52) -> 5
B53: 川口市 | C53: 5 | D53: 0 | E53: 0 | F53: 0 | G53: =D53+E53-F53 -> 0 | H53: 0 | I53: =C53+G53+H53 -> 5 | J53: 0 | K53: 0 | L53: 0 | M53: 0 | N53: =I53+SUM(K53:M53) -> 5 | P53: 大阪府計 | Q53: =SUM(Q54:Q63) -> 186 | R53: =SUM(R54:R63) -> 1 | S53: =SUM(S54:S63) -> 1 | T53: =SUM(T54:T63) -> 1 | U53: =SUM(U54:U63) -> 1 | V53: =SUM(V54:V63) -> -1 | W53: =SUM(W54:W63) -> 186 | X53: =SUM(X54:X63) -> 6 | ... AB53: =SUM(AB54:AB63) -> 186 | AD53: 佐世保市 | AE53: 11 | AF53: 0 | AG53: 0 | AH53: 0 | AI53: =AF53+AG53-AH53 -> 0 | AJ53: 0 | AK53: =AE53+AI53+AJ53 -> 11 | AL53: 0 | AM53: 0 | AN53: 0 | AO53: 0 | AP53: =AK53+SUM(AM53:AO53) -> 11
B54: 所沢市 | C54: 4 | D54: 0 | E54: 0 | F54: 0 | G54: =D54+E54-F54 -> 0 | H54: 0 | I54: =C54+G54+H54 -> 4 | J54: 0 | K54: 0 | L54: 0 | M54: 0 | N54: =I54+SUM(K54:M54) -> 4 | P54: 大阪市 | Q54: 46 | R54: 0 | S54: 1 | T54: 0 | U54: =R54+S54-T54 -> 1 | V54: 0 | W54: =Q54+U54+V54 -> 47 | X54: 1 | Y54: 0 | Z54: 0 | AA54: 0 | AB54: =W54+SUM(Y54:AA54) -> 47 | AD54: その他・長崎県 | AE54: 54 | AF54: 3 | AG54: 0 | AH54: 3 | AI54: =AF54+AG54-AH54 -> 0 | AJ54: 0 | AK54: =AE54+AI54+AJ54 -> 54 | AL54: 0 | AM54: 7 | AN54: 0 | AO54: 0 | AP54: =AK54+SUM(AM54:AO54) -> 61
B55: 越谷市 | C55: 4 | D55: 0 | E55: 0 | F55: 0 | G55: =D55+E55-F55 -> 0 | H55: 0 | I55: =C55+G55+H55 -> 4 | J55: 0 | K55: 0 | L55: 0 | M55: 0 | N55: =I55+SUM(K55:M55) -> 4 | P55: 堺市 | Q55: 24 | R55: 1 | S55: 0 | T55: 0 | U55: =R55+S55-T55 -> 1 | V55: 0 | W55: =Q55+U55+V55 -> 25 | X55: 0 | Y55: 0 | Z55: 0 | AA55: 0 | AB55: =W55+SUM(Y55:AA55) -> 25 | AD55: 熊本県計 | AE55: =SUM(AE56:AE57) -> 67 | AF55: =SUM(AF56:AF57) -> 0 | AG55: =SUM(AG56:AG57) -> 0 | AH55: =SUM(AH56:AH57) -> 3 | AI55: =SUM(AI56:AI57) -> -3 | AJ55: =SUM(AJ56:AJ57) -> 0 | AK55: =SUM(AK56:AK57) -> 64 | AL55: =SUM(AL56:AL57) -> 0 | ... AP55: =SUM(AP56:AP57) -> 67
B56: その他・埼玉県 | C56: 174 | D56: 0 | E56: 0 | F56: 5 | G56: =D56+E56-F56 -> -5 | H56: 0 | I56: =C56+G56+H56 -> 169 | J56: 3 | K56: 0 | L56: 0 | M56: 0 | N56: =I56+SUM(K56:M56) -> 169 | P56: 豊中市 | Q56: 6 | R56: 0 | S56: 0 | T56: 1 | U56: =R56+S56-T56 -> -1 | V56: 0 | W56: =Q56+U56+V56 -> 5 | X56: 0 | Y56: 0 | Z56: 0 | AA56: 0 | AB56: =W56+SUM(Y56:AA56) -> 5 | AD56: 熊本市 | AE56: 10 | AF56: 0 | AG56: 0 | AH56: 0 | AI56: =AF56+AG56-AH56 -> 0 | AJ56: 0 | AK56: =AE56+AI56+AJ56 -> 10 | AL56: 0 | AM56: 0 | AN56: 0 | AO56: 0 | AP56: =AK56+SUM(AM56:AO56) -> 10
B57: 千葉県計 | C57: =SUM(C58:C64) -> 192 | D57: =SUM(D58:D64) -> 3 | E57: =SUM(E58:E64) -> 0 | F57: =SUM(F58:F64) -> 5 | G57: =SUM(G58:G64) -> -2 | H57: =SUM(H58:H64) -> 0 | I57: =SUM(I58:I64) -> 190 | J57: =SUM(J58:J64) -> 2 | ... N57: =SUM(N58:N64) -> 194 | P57: 吹田市 | Q57: 5 | R57: 0 | S57: 0 | T57: 0 | U57: =R57+S57-T57 -> 0 | V57: 0 | W57: =Q57+U57+V57 -> 5 | X57: 0 | Y57: 0 | Z57: 0 | AA57: 0 | AB57: =W57+SUM(Y57:AA57) -> 5 | AD57: その他・熊本県 | AE57: 57 | AF57: 0 | AG57: 0 | AH57: 3 | AI57: =AF57+AG57-AH57 -> -3 | AJ57: 0 | AK57: =AE57+AI57+AJ57 -> 54 | AL57: 0 | AM57: 3 | AN57: 0 | AO57: 0 | AP57: =AK57+SUM(AM57:AO57) -> 57
B58: 千葉市 | C58: 20 | D58: 3 | E58: 0 | F58: 0 | G58: =D58+E58-F58 -> 3 | H58: 0 | I58: =C58+G58+H58 -> 23 | J58: 0 | K58: 0 | L58: 0 | M58: 0 | N58: =I58+SUM(K58:M58) -> 23 | P58: 高槻市 | Q58: 7 | R58: 0 | S58: 0 | T58: 0 | U58: =R58+S58-T58 -> 0 | V58: 0 | W58: =Q58+U58+V58 -> 7 | X58: 0 | Y58: 0 | Z58: 0 | AA58: 0 | AB58: =W58+SUM(Y58:AA58) -> 7 | AD58: 大分県計 | AE58: =SUM(AE59:AE60) -> 62 | AF58: =SUM(AF59:AF60) -> 2 | AG58: =SUM(AG59:AG60) -> 0 | AH58: =SUM(AH59:AH60) -> 0 | AI58: =SUM(AI59:AI60) -> 2 | AJ58: =SUM(AJ59:AJ60) -> 0 | AK58: =SUM(AK59:AK60) -> 64 | AL58: =SUM(AL59:AL60) -> 0 | ... AP58: =SUM(AP59:AP60) -> 69
B59: 市川市 | C59: 4 | D59: 0 | E59: 0 | F59: 0 | G59: =D59+E59-F59 -> 0 | H59: 0 | I59: =C59+G59+H59 -> 4 | J59: 0 | K59: 0 | L59: 0 | M59: 0 | N59: =I59+SUM(K59:M59) -> 4 | P59: 枚方市 | Q59: 9 | R59: 0 | S59: 0 | T59: 0 | U59: =R59+S59-T59 -> 0 | V59: 0 | W59: =Q59+U59+V59 -> 9 | X59: 3 | Y59: 0 | Z59: 0 | AA59: 0 | AB59: =W59+SUM(Y59:AA59) -> 9 | AD59: 大分市 | AE59: 28 | AF59: 0 | AG59: 0 | AH59: 0 | AI59: =AF59+AG59-AH59 -> 0 | AJ59: 0 | AK59: =AE59+AI59+AJ59 -> 28 | AL59: 0 | AM59: 4 | AN59: 0 | AO59: 0 | AP59: =AK59+SUM(AM59:AO59) -> 32
B60: 船橋市 | C60: 11 | D60: 0 | E60: 0 | F60: 0 | G60: =D60+E60-F60 -> 0 | H60: 0 | I60: =C60+G60+H60 -> 11 | J60: 0 | K60: 0 | L60: 0 | M60: 0 | N60: =I60+SUM(K60:M60) -> 11 | P60: 八尾市 | Q60: 3 | R60: 0 | S60: 0 | T60: 0 | U60: =R60+S60-T60 -> 0 | V60: 0 | W60: =Q60+U60+V60 -> 3 | X60: 0 | Y60: 0 | Z60: 0 | AA60: 0 | AB60: =W60+SUM(Y60:AA60) -> 3 | AD60: その他・大分県 | AE60: 34 | AF60: 2 | AG60: 0 | AH60: 0 | AI60: =AF60+AG60-AH60 -> 2 | AJ60: 0 | AK60: =AE60+AI60+AJ60 -> 36 | AL60: 0 | AM60: 1 | AN60: 0 | AO60: 0 | AP60: =AK60+SUM(AM60:AO60) -> 37
B61: 松戸市 | C61: 5 | D61: 0 | E61: 0 | F61: 0 | G61: =D61+E61-F61 -> 0 | H61: 0 | I61: =C61+G61+H61 -> 5 | J61: 0 | K61: 0 | L61: 0 | M61: 0 | N61: =I61+SUM(K61:M61) -> 5 | P61: 寝屋川市 | Q61: 5 | R61: 0 | S61: 0 | T61: 0 | U61: =R61+S61-T61 -> 0 | V61: 0 | W61: =Q61+U61+V61 -> 5 | X61: 0 | Y61: 0 | Z61: 0 | AA61: 0 | AB61: =W61+SUM(Y61:AA61) -> 5 | AD61: 宮崎県計 | AE61: =SUM(AE62:AE63) -> 30 | AF61: =SUM(AF62:AF63) -> 0 | AG61: =SUM(AG62:AG63) -> 0 | AH61: =SUM(AH62:AH63) -> 0 | AI61: =SUM(AI62:AI63) -> 0 | AJ61: =SUM(AJ62:AJ63) -> 0 | AK61: =SUM(AK62:AK63) -> 30 | AL61: =SUM(AL62:AL63) -> 0 | ... AP61: =SUM(AP62:AP63) -> 37
B62: 柏市 | C62: 10 | D62: 0 | E62: 0 | F62: 0 | G62: =D62+E62-F62 -> 0 | H62: 0 | I62: =C62+G62+H62 -> 10 | J62: 0 | K62: 0 | L62: 0 | M62: 0 | N62: =I62+SUM(K62:M62) -> 10 | P62: 東大阪市 | Q62: 11 | R62: 0 | S62: 0 | T62: 0 | U62: =R62+S62-T62 -> 0 | V62: 0 | W62: =Q62+U62+V62 -> 11 | X62: 0 | Y62: 0 | Z62: 0 | AA62: 0 | AB62: =W62+SUM(Y62:AA62) -> 11 | AD62: 宮崎市 | AE62: 2 | AF62: 0 | AG62: 0 | AH62: 0 | AI62: =AF62+AG62-AH62 -> 0 | AJ62: 0 | AK62: =AE62+AI62+AJ62 -> 2 | AL62: 0 | AM62: 3 | AN62: 0 | AO62: 0 | AP62: =AK62+SUM(AM62:AO62) -> 5
B63: 市原市 | C63: 11 | D63: 0 | E63: 0 | F63: 0 | G63: =D63+E63-F63 -> 0 | H63: 0 | I63: =C63+G63+H63 -> 11 | J63: 0 | K63: 0 | L63: 0 | M63: 0 | N63: =I63+SUM(K63:M63) -> 11 | P63: その他・大阪府 | Q63: 70 | R63: 0 | S63: 0 | T63: 0 | U63: =R63+S63-T63 -> 0 | V63: -1 | W63: =Q63+U63+V63 -> 69 | X63: 2 | Y63: 0 | Z63: 0 | AA63: 0 | AB63: =W63+SUM(Y63:AA63) -> 69 | AD63: その他・宮崎県 | AE63: 28 | AF63: 0 | AG63: 0 | AH63: 0 | AI63: =AF63+AG63-AH63 -> 0 | AJ63: 0 | AK63: =AE63+AI63+AJ63 -> 28 | AL63: 0 | AM63: 4 | AN63: 0 | AO63: 0 | AP63: =AK63+SUM(AM63:AO63) -> 32
B64: その他・千葉県 | C64: 131 | D64: 0 | E64: 0 | F64: 5 | G64: =D64+E64-F64 -> -5 | H64: 0 | I64: =C64+G64+H64 -> 126 | J64: 2 | K64: 4 | L64: 0 | M64: 0 | N64: =I64+SUM(K64:M64) -> 130 | P64: 兵庫県計 | Q64: =SUM(Q65:Q71) -> 165 | R64: =SUM(R65:R71) -> 0 | S64: =SUM(S65:S71) -> 0 | T64: =SUM(T65:T71) -> 7 | U64: =SUM(U65:U71) -> -7 | V64: =SUM(V65:V71) -> 0 | W64: =SUM(W65:W71) -> 158 | X64: =SUM(X65:X71) -> 4 | ... AB64: =SUM(AB65:AB71) -> 170 | AD64: 鹿児島県計 | AE64: =SUM(AE65:AE66) -> 80 | AF64: =SUM(AF65:AF66) -> 2 | AG64: =SUM(AG65:AG66) -> 0 | AH64: =SUM(AH65:AH66) -> 0 | AI64: =SUM(AI65:AI66) -> 2 | AJ64: =SUM(AJ65:AJ66) -> 0 | AK64: =SUM(AK65:AK66) -> 82 | AL64: =SUM(AL65:AL66) -> 2 | ... AP64: =SUM(AP65:AP66) -> 82
B65: 東京都計 | C65: =SUM(C66:C67) -> 184 | D65: =SUM(D66:D67) -> 4 | E65: =SUM(E66:E67) -> 0 | F65: =SUM(F66:F67) -> 3 | G65: =SUM(G66:G67) -> 1 | H65: =SUM(H66:H67) -> 0 | I65: =SUM(I66:I67) -> 185 | J65: =SUM(J66:J67) -> 2 | ... N65: =SUM(N66:N67) -> 185 | P65: 神戸市 | Q65: 15 | R65: 0 | S65: 0 | T65: 0 | U65: =R65+S65-T65 -> 0 | V65: 0 | W65: =Q65+U65+V65 -> 15 | X65: 0 | Y65: 4 | Z65: 0 | AA65: 0 | AB65: =W65+SUM(Y65:AA65) -> 19 | AD65: 鹿児島市 | AE65: 13 | AF65: 0 | AG65: 0 | AH65: 0 | AI65: =AF65+AG65-AH65 -> 0 | AJ65: 0 | AK65: =AE65+AI65+AJ65 -> 13 | AL65: 2 | AM65: 0 | AN65: 0 | AO65: 0 | AP65: =AK65+SUM(AM65:AO65) -> 13
B66: 八王子市 | C66: 8 | D66: 0 | E66: 0 | F66: 1 | G66: =D66+E66-F66 -> -1 | H66: 0 | I66: =C66+G66+H66 -> 7 | J66: 0 | K66: 0 | L66: 0 | M66: 0 | N66: =I66+SUM(K66:M66) -> 7 | P66: 姫路市 | Q66: 35 | R66: 0 | S66: 0 | T66: 3 | U66: =R66+S66-T66 -> -3 | V66: 0 | W66: =Q66+U66+V66 -> 32 | X66: 1 | Y66: 4 | Z66: 0 | AA66: 0 | AB66: =W66+SUM(Y66:AA66) -> 36 | AD66: その他・鹿児島県 | AE66: 67 | AF66: 2 | AG66: 0 | AH66: 0 | AI66: =AF66+AG66-AH66 -> 2 | AJ66: 0 | AK66: =AE66+AI66+AJ66 -> 69 | AL66: 0 | AM66: 0 | AN66: 0 | AO66: 0 | AP66: =AK66+SUM(AM66:AO66) -> 69
B67: その他・東京都 | C67: 176 | D67: 4 | E67: 0 | F67: 2 | G67: =D67+E67-F67 -> 2 | H67: 0 | I67: =C67+G67+H67 -> 178 | J67: 2 | K67: 0 | L67: 0 | M67: 0 | N67: =I67+SUM(K67:M67) -> 178 | P67: 尼崎市 | Q67: 20 | R67: 0 | S67: 0 | T67: 0 | U67: =R67+S67-T67 -> 0 | V67: 0 | W67: =Q67+U67+V67 -> 20 | X67: 0 | Y67: 0 | Z67: 0 | AA67: 0 | AB67: =W67+SUM(Y67:AA67) -> 20 | AD67: 沖縄県計 | AE67: =SUM(AE68:AE69) -> 55 | AF67: =SUM(AF68:AF69) -> 2 | AG67: =SUM(AG68:AG69) -> 0 | AH67: =SUM(AH68:AH69) -> 0 | AI67: =SUM(AI68:AI69) -> 2 | AJ67: =SUM(AJ68:AJ69) -> 0 | AK67: =SUM(AK68:AK69) -> 57 | AL67: =SUM(AL68:AL69) -> 0 | ... AP67: =SUM(AP68:AP69) -> 64
B68: 神奈川県計 | C68: =SUM(C69:C75) -> 172 | D68: =SUM(D69:D75) -> 3 | E68: =SUM(E69:E75) -> 0 | F68: =SUM(F69:F75) -> 5 | G68: =SUM(G69:G75) -> -2 | H68: =SUM(H69:H75) -> 0 | I68: =SUM(I69:I75) -> 170 | J68: =SUM(J69:J75) -> 2 | ... N68: =SUM(N69:N75) -> 174 | P68: 明石市 | Q68: 5 | R68: 0 | S68: 0 | T68: 0 | U68: =R68+S68-T68 -> 0 | V68: 0 | W68: =Q68+U68+V68 -> 5 | X68: 0 | Y68: 0 | Z68: 0 | AA68: 0 | AB68: =W68+SUM(Y68:AA68) -> 5 | AD68: 那覇市 | AE68: 0 | AF68: 0 | AG68: 0 | AH68: 0 | AI68: =AF68+AG68-AH68 -> 0 | AJ68: 0 | AK68: =AE68+AI68+AJ68 -> 0 | AL68: 0 | AM68: 0 | AN68: 0 | AO68: 0 | AP68: =AK68+SUM(AM68:AO68) -> 0
B69: 横浜市 | C69: 34 | D69: 0 | E69: 0 | F69: 0 | G69: =D69+E69-F69 -> 0 | H69: 0 | I69: =C69+G69+H69 -> 34 | J69: 0 | K69: 2 | L69: 0 | M69: 0 | N69: =I69+SUM(K69:M69) -> 36 | P69: 西宮市 | Q69: 6 | R69: 0 | S69: 0 | T69: 0 | U69: =R69+S69-T69 -> 0 | V69: 0 | W69: =Q69+U69+V69 -> 6 | X69: 0 | Y69: 0 | Z69: 0 | AA69: 0 | AB69: =W69+SUM(Y69:AA69) -> 6 | AD69: その他・沖縄県 | AE69: 55 | AF69: 2 | AG69: 0 | AH69: 0 | AI69: =AF69+AG69-AH69 -> 2 | AJ69: 0 | AK69: =AE69+AI69+AJ69 -> 57 | AL69: 0 | AM69: 7 | AN69: 0 | AO69: 0 | AP69: =AK69+SUM(AM69:AO69) -> 64
B70: 川崎市 | C70: 41 | D70: 1 | E70: 0 | F70: 1 | G70: =D70+E70-F70 -> 0 | H70: 0 | I70: =C70+G70+H70 -> 41 | J70: 1 | K70: 0 | L70: 0 | M70: 0 | N70: =I70+SUM(K70:M70) -> 41 | P70: 加古川市 | Q70: 7 | R70: 0 | S70: 0 | T70: 3 | U70: =R70+S70-T70 -> -3 | V70: 0 | W70: =Q70+U70+V70 -> 4 | X70: 0 | Y70: 0 | Z70: 0 | AA70: 0 | AB70: =W70+SUM(Y70:AA70) -> 4 | AD70: 合計 | AE70: =SUM(C11:C75,Q11:Q74,AE11:AE69)/2 -> 4206 | AF70: =SUM(D11:D75,R11:R74,AF11:AF69)/2 -> 56 | AG70: =SUM(E11:E75,S11:S74,AG11:AG69)/2 -> 1 | AH70: =SUM(F11:F75,T11:T74,AH11:AH69)/2 -> 104 | AI70: =SUM(G11:G75,U11:U74,AI11:AI69)/2 -> -47 | AJ70: =SUM(H11:H75,V11:V74,AJ11:AJ69)/2 -> -6 | AK70: =SUM(I11:I75,W11:W74,AK11:AK69)/2 -> 4153 | AL70: =SUM(J11:J75,X11:X74,AL11:AL69)/2 -> 93 | ... AP70: =SUM(N11:N75,AB11:AB74,AP11:AP69)/2 -> 4438
B71: 相模原市 | C71: 16 | D71: 0 | E71: 0 | F71: 0 | G71: =D71+E71-F71 -> 0 | H71: 0 | I71: =C71+G71+H71 -> 16 | J71: 0 | K71: 0 | L71: 0 | M71: 0 | N71: =I71+SUM(K71:M71) -> 16 | P71: その他・兵庫県 | Q71: 77 | R71: 0 | S71: 0 | T71: 1 | U71: =R71+S71-T71 -> -1 | V71: 0 | W71: =Q71+U71+V71 -> 76 | X71: 3 | Y71: 4 | Z71: 0 | AA71: 0 | AB71: =W71+SUM(Y71:AA71) -> 80
B72: 横須賀市 | C72: 12 | D72: 0 | E72: 0 | F72: 0 | G72: =D72+E72-F72 -> 0 | H72: 0 | I72: =C72+G72+H72 -> 12 | J72: 1 | K72: 2 | L72: 0 | M72: 0 | N72: =I72+SUM(K72:M72) -> 14 | P72: 奈良県計 | Q72: =SUM(Q73:Q74) -> 58 | R72: =SUM(R73:R74) -> 2 | S72: =SUM(S73:S74) -> 0 | T72: =SUM(T73:T74) -> 1 | U72: =SUM(U73:U74) -> 1 | V72: =SUM(V73:V74) -> 0 | W72: =SUM(W73:W74) -> 59 | X72: =SUM(X73:X74) -> 0 | ... AB72: =SUM(AB73:AB74) -> 59
B73: 平塚市 | C73: 6 | D73: 0 | E73: 0 | F73: 0 | G73: =D73+E73-F73 -> 0 | H73: 0 | I73: =C73+G73+H73 -> 6 | J73: 0 | K73: 0 | L73: 0 | M73: 0 | N73: =I73+SUM(K73:M73) -> 6 | P73: 奈良市 | Q73: 7 | R73: 0 | S73: 0 | T73: 0 | U73: =R73+S73-T73 -> 0 | V73: 0 | W73: =Q73+U73+V73 -> 7 | X73: 0 | Y73: 0 | Z73: 0 | AA73: 0 | AB73: =W73+SUM(Y73:AA73) -> 7
B74: 藤沢市 | C74: 8 | D74: 0 | E74: 0 | F74: 0 | G74: =D74+E74-F74 -> 0 | H74: 0 | I74: =C74+G74+H74 -> 8 | J74: 0 | K74: 0 | L74: 0 | M74: 0 | N74: =I74+SUM(K74:M74) -> 8 | P74: その他・奈良県 | Q74: 51 | R74: 2 | S74: 0 | T74: 1 | U74: =R74+S74-T74 -> 1 | V74: 0 | W74: =Q74+U74+V74 -> 52 | X74: 0 | Y74: 0 | Z74: 0 | AA74: 0 | AB74: =W74+SUM(Y74:AA74) -> 52
B75: その他・神奈川県 | C75: 55 | D75: 2 | E75: 0 | F75: 4 | G75: =D75+E75-F75 -> -2 | H75: 0 | I75: =C75+G75+H75 -> 53 | J75: 0 | K75: 0 | L75: 0 | M75: 0 | N75: =I75+SUM(K75:M75) -> 53

Sheet 表5.4
B2: 表5.4(1) 届出件数 施設種類別・都道府県市別（大気汚染防止法に係る水銀排出施設） | O2: 表5.4(2) 届出件数 施設種類別・都道府県市別（大気汚染防止法に係る水銀排出施設） | AB2: 表5.4(3) 届出件数 施設種類別・都道府県市別（大気汚染防止法に係る水銀排出施設）
B4: 自治体名 | C4: 施行規則別表第三の三の項番号及び施設種類 | L4: 施設合計 | M4: 届出工場・ 事業場数 | O4: 自治体名 | P4: 施行規則別表第三の三の項番号及び施設種類 | Y4: 施設合計 | Z4: 届出工場・ 事業場数 | AB4: 自治体名 | AC4: 施行規則別表第三の三の項番号及び施設種類 | AL4: 施設合計 | AM4: 届出工場・ 事業場数
C5: 1項 | D5: 2項 | E5: 3項 | F5: 4項 | G5: 5項 | H5: 6項 | I5: 7項 | J5: 8項 | K5: 9項 | P5: 1項 | Q5: 2項 | R5: 3項 | S5: 4項 | T5: 5項 | U5: 6項 | V5: 7項 | W5: 8項 | X5: 9項 | AC5: 1項 | AD5: 2項 | AE5: 3項 | AF5: 4項 | AG5: 5項 | AH5: 6項 | AI5: 7項 | AJ5: 8項 | AK5: 9項
C6: 小型石炭混焼ボイラー | D6: 石炭燃焼ボイラー | E6: 一次施設（銅又は工業金） | F6: 一次施設（鉛又は亜鉛） | G6: 二次施設（銅、鉛又は亜鉛） | H6: 二次施設(工業金) | I6: セメントの製造の用に供する焼成炉 | J6: 廃棄物焼却炉 | K6: 水銀回収施設 | P6: 小型石炭混焼ボイラー | Q6: 石炭燃焼ボイラー | R6: 一次施設（銅又は工業金） | S6: 一次施設（鉛又は亜鉛） | T6: 二次施設（銅、鉛又は亜鉛） | U6: 二次施設(工業金) | V6: セメントの製造の用に供する焼成炉 | W6: 廃棄物焼却炉 | X6: 水銀回収施設 | AC6: 小型石炭混焼ボイラー | AD6: 石炭燃焼ボイラー | AE6: 一次施設（銅又は工業金） | AF6: 一次施設（鉛又は亜鉛） | AG6: 二次施設（銅、鉛又は亜鉛） | AH6: 二次施設(工業金) | AI6: セメントの製造の用に供する焼成炉 | AJ6: 廃棄物焼却炉 | AK6: 水銀回収施設
B7: 北海道計 | C7: =SUM(C8:C14) -> 0 | D7: =SUM(D8:D14) -> 1 | E7: =SUM(E8:E14) -> 0 | F7: =SUM(F8:F14) -> 0 | G7: =SUM(G8:G14) -> 1 | H7: =SUM(H8:H14) -> 0 | I7: =SUM(I8:I14) -> 4 | J7: =SUM(J8:J14) -> 158 | ... M7: =SUM(M8:M14) -> 102 | O7: 新潟県計 | P7: =SUM(P8:P9) -> 1 | Q7: =SUM(Q8:Q9) -> 0 | R7: =SUM(R8:R9) -> 0 | S7: =SUM(S8:S9) -> 0 | T7: =SUM(T8:T9) -> 0 | U7: =SUM(U8:U9) -> 0 | V7: =SUM(V8:V9) -> 4 | W7: =SUM(W8:W9) -> 117 | ... Z7: =SUM(Z8:Z9) -> 66 | AB7: 和歌山県計 | AC7: =SUM(AC8:AC9) -> 0 | AD7: =SUM(AD8:AD9) -> 0 | AE7: =SUM(AE8:AE9) -> 0 | AF7: =SUM(AF8:AF9) -> 0 | AG7: =SUM(AG8:AG9) -> 1 | AH7: =SUM(AH8:AH9) -> 0 | AI7: =SUM(AI8:AI9) -> 0 | AJ7: =SUM(AJ8:AJ9) -> 55 | ... AM7: =SUM(AM8:AM9) -> 37
B8: 札幌市 | C8: 0 | D8: 0 | E8: 0 | F8: 0 | G8: 0 | H8: 0 | I8: 0 | J8: 20 | K8: 0 | L8: =SUM(C8:K8) -> 20 | M8: 8 | O8: 新潟市 | P8: 1 | Q8: 0 | R8: 0 | S8: 0 | T8: 0 | U8: 0 | V8: 0 | W8: 21 | X8: 1 | Y8: =SUM(P8:X8) -> 23 | Z8: 14 | AB8: 和歌山市 | AC8: 0 | AD8: 0 | AE8: 0 | AF8: 0 | AG8: 0 | AH8: 0 | AI8: 0 | AJ8: 22 | AK8: 0 | AL8: =SUM(AC8:AK8) -> 22 | AM8: 14
B9: 函館市 | C9: 0 | D9: 0 | E9: 0 | F9: 0 | G9: 0 | H9: 0 | I9: 0 | J9: 7 | K9: 0 | L9: =SUM(C9:K9) -> 7 | M9: 4 | O9: その他・新潟県 | P9: 0 | Q9: 0 | R9: 0 | S9: 0 | T9: 0 | U9: 0 | V9: 4 | W9: 96 | X9: 0 | Y9: =SUM(P9:X9) -> 100 | Z9: 52 | AB9: その他・和歌山県 | AC9: 0 | AD9: 0 | AE9: 0 | AF9: 0 | AG9: 1 | AH9: 0 | AI9: 0 | AJ9: 33 | AK9: 0 | AL9: =SUM(AC9:AK9) -> 34 | AM9: 23
B10: 小樽市 | C10: 0 | D10: 0 | E10: 0 | F10: 0 | G10: 0 | H10: 0 | I10: 0 | J10: 3 | K10: 0 | L10: =SUM(C10:K10) -> 3 | M10: 2 | O10: 富山県計 | P10: =SUM(P11:P12) -> 0 | Q10: =SUM(Q11:Q12) -> 0 | R10: =SUM(R11:R12) -> 0 | S10: =SUM(S11:S12) -> 0 | T10: =SUM(T11:T12) -> 1 | U10: =SUM(U11:U12) -> 0 | V10: =SUM(V11:V12) -> 0 | W10: =SUM(W11:W12) -> 42 | ... Z10: =SUM(Z11:Z12) -> 25 | AB10: 鳥取県計 | AC10: =SUM(AC11:AC12) -> 0 | AD10: =SUM(AD11:AD12) -> 0 | AE10: =SUM(AE11:AE12) -> 0 | AF10: =SUM(AF11:AF12) -> 0 | AG10: =SUM(AG11:AG12) -> 0 | AH10: =SUM(AH11:AH12) -> 0 | AI10: =SUM(AI11:AI12) -> 0 | AJ10: =SUM(AJ11:AJ12) -> 35 | ... AM10: =SUM(AM11:AM12) -> 27
B11: 旭川市 | C11: 0 | D11: 0 | E11: 0 | F11: 0 | G11: 0 | H11: 0 | I11: 0 | J11: 6 | K11: 0 | L11: =SUM(C11:K11) -> 6 | M11: 3 | O11: 富山市 | P11: 0 | Q11: 0 | R11: 0 | S11: 0 | T11: 0 | U11: 0 | V11: 0 | W11: 12 | X11: 0 | Y11: =SUM(P11:X11) -> 12 | Z11: 10 | AB11: 鳥取市 | AC11: 0 | AD11: 0 | AE11: 0 | AF11: 0 | AG11: 0 | AH11: 0 | AI11: 0 | AJ11: 9 | AK11: 0 | AL11: =SUM(AC11:AK11) -> 9 | AM11: 6
B12: 室蘭市 | C12: 0 | D12: 0 | E12: 0 | F12: 0 | G12: 0 | H12: 0 | I12: 0 | J12: 4 | K12: 0 | L12: =SUM(C12:K12) -> 4 | M12: 2 | O12: その他・富山県 | P12: 0 | Q12: 0 | R12: 0 | S12: 0 | T12: 1 | U12: 0 | V12: 0 | W12: 30 | X12: 0 | Y12: =SUM(P12:X12) -> 31 | Z12: 15 | AB12: その他・鳥取県 | AC12: 0 | AD12: 0 | AE12: 0 | AF12: 0 | AG12: 0 | AH12: 0 | AI12: 0 | AJ12: 26 | AK12: 0 | AL12: =SUM(AC12:AK12) -> 26 | AM12: 21
B13: 苫小牧市 | C13: 0 | D13: 0 | E13: 0 | F13: 0 | G13: 0 | H13: 0 | I13: 0 | J13: 4 | K13: 0 | L13: =SUM(C13:K13) -> 4 | M13: 3 | O13: 石川県計 | P13: =SUM(P14:P15) -> 0 | Q13: =SUM(Q14:Q15) -> 0 | R13: =SUM(R14:R15) -> 0 | S13: =SUM(S14:S15) -> 0 | T13: =SUM(T14:T15) -> 0 | U13: =SUM(U14:U15) -> 0 | V13: =SUM(V14:V15) -> 0 | W13: =SUM(W14:W15) -> 47 | ... Z13: =SUM(Z14:Z15) -> 27 | AB13: 島根県計 | AC13: =SUM(AC14:AC15) -> 0 | AD13: =SUM(AD14:AD15) -> 0 | AE13: =SUM(AE14:AE15) -> 0 | AF13: =SUM(AF14:AF15) -> 0 | AG13: =SUM(AG14:AG15) -> 0 | AH13: =SUM(AH14:AH15) -> 0 | AI13: =SUM(AI14:AI15) -> 0 | AJ13: =SUM(AJ14:AJ15) -> 24 | ... AM13: =SUM(AM14:AM15) -> 15
B14: その他・北海道 | C14: 0 | D14: 1 | E14: 0 | F14: 0 | G14: 1 | H14: 0 | I14: 4 | J14: 114 | K14: 5 | L14: =SUM(C14:K14) -> 125 | M14: 80 | O14: 金沢市 | P14: 0 | Q14: 0 | R14: 0 | S14: 0 | T14: 0 | U14: 0 | V14: 0 | W14: 13 | X14: 0 | Y14: =SUM(P14:X14) -> 13 | Z14: 8 | AB14: 松江市 | AC14: 0 | AD14: 0 | AE14: 0 | AF14: 0 | AG14: 0 | AH14: 0 | AI14: 0 | AJ14: 5 | AK14: 0 | AL14: =SUM(AC14:AK14) -> 5 | AM14: 3
B15: 青森県計 | C15: =SUM(C16:C18) -> 0 | D15: =SUM(D16:D18) -> 0 | E15: =SUM(E16:E18) -> 0 | F15: =SUM(F16:F18) -> 2 | G15: =SUM(G16:G18) -> 2 | H15: =SUM(H16:H18) -> 0 | I15: =SUM(I16:I18) -> 2 | J15: =SUM(J16:J18) -> 64 | ... M15: =SUM(M16:M18) -> 41 | O15: その他・石川県 | P15: 0 | Q15: 0 | R15: 0 | S15: 0 | T15: 0 | U15: 0 | V15: 0 | W15: 34 | X15: 0 | Y15: =SUM(P15:X15) -> 34 | Z15: 19 | AB15: その他・島根県 | AC15: 0 | AD15: 0 | AE15: 0 | AF15: 0 | AG15: 0 | AH15: 0 | AI15: 0 | AJ15: 19 | AK15: 0 | AL15: =SUM(AC15:AK15) -> 19 | AM15: 12
B16: 青森市 | C16: 0 | D16: 0 | E16: 0 | F16: 0 | G16: 0 | H16: 0 | I16: 0 | J16: 7 | K16: 0 | L16: =SUM(C16:K16) -> 7 | M16: 4 | O16: 福井県計 | P16: =SUM(P17:P18) -> 0 | Q16: =SUM(Q17:Q18) -> 0 | R16: =SUM(R17:R18) -> 0 | S16: =SUM(S17:S18) -> 0 | T16: =SUM(T17:T18) -> 0 | U16: =SUM(U17:U18) -> 0 | V16: =SUM(V17:V18) -> 1 | W16: =SUM(W17:W18) -> 35 | ... Z16: =SUM(Z17:Z18) -> 23 | AB16: 岡山県計 | AC16: =SUM(AC17:AC19) -> 0 | AD16: =SUM(AD17:AD19) -> 0 | AE16: =SUM(AE17:AE19) -> 6 | AF16: =SUM(AF17:AF19) -> 0 | AG16: =SUM(AG17:AG19) -> 1 | AH16: =SUM(AH17:AH19) -> 0 | AI16: =SUM(AI17:AI19) -> 0 | AJ16: =SUM(AJ17:AJ19) -> 92 | ... AM16: =SUM(AM17:AM19) -> 56
B17: 八戸市 | C17: 0 | D17: 0 | E17: 0 | F17: 2 | G17: 2 | H17: 0 | I17: 1 | J17: 13 | K17: 0 | L17: =SUM(C17:K17) -> 18 | M17: 10 | O17: 福井市 | P17: 0 | Q17: 0 | R17: 0 | S17: 0 | T17: 0 | U17: 0 | V17: 0 | W17: 9 | X17: 0 | Y17: =SUM(P17:X17) -> 9 | Z17: 5 | AB17: 岡山市 | AC17: 0 | AD17: 0 | AE17: 0 | AF17: 0 | AG17: 0 | AH17: 0 | AI17: 0 | AJ17: 29 | AK17: 0 | AL17: =SUM(AC17:AK17) -> 29 | AM17: 15
B18: その他・青森県 | C18: 0 | D18: 0 | E18: 0 | F18: 0 | G18: 0 | H18: 0 | I18: 1 | J18: 44 | K18: 0 | L18: =SUM(C18:K18) -> 45 | M18: 27 | O18: その他・福井県 | P18: 0 | Q18: 0 | R18: 0 | S18: 0 | T18: 0 | U18: 0 | V18: 1 | W18: 26 | X18: 0 | Y18: =SUM(P18:X18) -> 27 | Z18: 18 | AB18: 倉敷市 | AC18: 0 | AD18: 0 | AE18: 0 | AF18: 0 | AG18: 0 | AH18: 0 | AI18: 0 | AJ18: 28 | AK18: 0 | AL18: =SUM(AC18:AK18) -> 28 | AM18: 19
B19: 岩手県計 | C19: =SUM(C20:C21) -> 0 | D19: =SUM(D20:D21) -> 0 | E19: =SUM(E20:E21) -> 0 | F19: =SUM(F20:F21) -> 0 | G19: =SUM(G20:G21) -> 0 | H19: =SUM(H20:H21) -> 0 | I19: =SUM(I20:I21) -> 3 | J19: =SUM(J20:J21) -> 41 | ... M19: =SUM(M20:M21) -> 27 | O19: 山梨県計 | P19: =SUM(P20:P21) -> 0 | Q19: =SUM(Q20:Q21) -> 0 | R19: =SUM(R20:R21) -> 0 | S19: =SUM(S20:S21) -> 0 | T19: =SUM(T20:T21) -> 0 | U19: =SUM(U20:U21) -> 0 | V19: =SUM(V20:V21) -> 0 | W19: =SUM(W20:W21) -> 33 | ... Z19: =SUM(Z20:Z21) -> 19 | AB19: その他・岡山県 | AC19: 0 | AD19: 0 | AE19: 6 | AF19: 0 | AG19: 1 | AH19: 0 | AI19: 0 | AJ19: 35 | AK19: 0 | AL19: =SUM(AC19:AK19) -> 42 | AM19: 22
B20: 盛岡市 | C20: 0 | D20: 0 | E20: 0 | F20: 0 | G20: 0 | H20: 0 | I20: 0 | J20: 11 | K20: 0 | L20: =SUM(C20:K20) -> 11 | M20: 6 | O20: 甲府市 | P20: 0 | Q20: 0 | R20: 0 | S20: 0 | T20: 0 | U20: 0 | V20: 0 | W20: 3 | X20: 0 | Y20: =SUM(P20:X20) -> 3 | Z20: 2 | AB20: 広島県計 | AC20: =SUM(AC21:AC24) -> 0 | AD20: =SUM(AD21:AD24) -> 0 | AE20: =SUM(AE21:AE24) -> 0 | AF20: =SUM(AF21:AF24) -> 0 | AG20: =SUM(AG21:AG24) -> 0 | AH20: =SUM(AH21:AH24) -> 0 | AI20: =SUM(AI21:AI24) -> 0 | AJ20: =SUM(AJ21:AJ24) -> 97 | ... AM20: =SUM(AM21:AM24) -> 61
B21: その他・岩手県 | C21: 0 | D21: 0 | E21: 0 | F21: 0 | G21: 0 | H21: 0 | I21: 3 | J21: 30 | K21: 0 | L21: =SUM(C21:K21) -> 33 | M21: 21 | O21: その他・山梨県 | P21: 0 | Q21: 0 | R21: 0 | S21: 0 | T21: 0 | U21: 0 | V21: 0 | W21: 30 | X21: 0 | Y21: =SUM(P21:X21) -> 30 | Z21: 17 | AB21: 広島市 | AC21: 0 | AD21: 0 | AE21: 0 | AF21: 0 | AG21: 0 | AH21: 0 | AI21: 0 | AJ21: 24 | AK21: 0 | AL21: =SUM(AC21:AK21) -> 24 | AM21: 15
B22: 宮城県計 | C22: =SUM(C23:C24) -> 0 | D22: =SUM(D23:D24) -> 0 | E22: =SUM(E23:E24) -> 0 | F22: =SUM(F23:F24) -> 0 | G22: =SUM(G23:G24) -> 0 | H22: =SUM(H23:H24) -> 0 | I22: =SUM(I23:I24) -> 0 | J22: =SUM(J23:J24) -> 64 | ... M22: =SUM(M23:M24) -> 42 | O22: 長野県計 | P22: =SUM(P23:P25) -> 0 | Q22: =SUM(Q23:Q25) -> 0 | R22: =SUM(R23:R25) -> 0 | S22: =SUM(S23:S25) -> 0 | T22: =SUM(T23:T25) -> 0 | U22: =SUM(U23:U25) -> 0 | V22: =SUM(V23:V25) -> 0 | W22: =SUM(W23:W25) -> 72 | ... Z22: =SUM(Z23:Z25) -> 45 | AB22: 呉市 | AC22: 0 | AD22: 0 | AE22: 0 | AF22: 0 | AG22: 0 | AH22: 0 | AI22: 0 | AJ22: 9 | AK22: 0 | AL22: =SUM(AC22:AK22) -> 9 | AM22: 5
B23: 仙台市 | C23: 0 | D23: 0 | E23: 0 | F23: 0 | G23: 0 | H23: 0 | I23: 0 | J23: 16 | K23: 0 | L23: =SUM(C23:K23) -> 16 | M23: 7 | O23: 長野市 | P23: 0 | Q23: 0 | R23: 0 | S23: 0 | T23: 0 | U23: 0 | V23: 0 | W23: 11 | X23: 0 | Y23: =SUM(P23:X23) -> 11 | Z23: 6 | AB23: 福山市 | AC23: 0 | AD23: 0 | AE23: 0 | AF23: 0 | AG23: 0 | AH23: 0 | AI23: 0 | AJ23: 19 | AK23: 0 | AL23: =SUM(AC23:AK23) -> 19 | AM23: 12
B24: その他・宮城県 | C24: 0 | D24: 0 | E24: 0 | F24: 0 | G24: 0 | H24: 0 | I24: 0 | J24: 48 | K24: 0 | L24: =SUM(C24:K24) -> 48 | M24: 35 | O24: 松本市 | P24: 0 | Q24: 0 | R24: 0 | S24: 0 | T24: 0 | U24: 0 | V24: 0 | W24: 6 | X24: 0 | Y24: =SUM(P24:X24) -> 6 | Z24: 4 | AB24: その他・広島県 | AC24: 0 | AD24: 0 | AE24: 0 | AF24: 0 | AG24: 0 | AH24: 0 | AI24: 0 | AJ24: 45 | AK24: 0 | AL24: =SUM(AC24:AK24) -> 45 | AM24: 29
B25: 秋田県計 | C25: =SUM(C26:C27) -> 0 | D25: =SUM(D26:D27) -> 0 | E25: =SUM(E26:E27) -> 0 | F25: =SUM(F26:F27) -> 3 | G25: =SUM(G26:G27) -> 0 | H25: =SUM(H26:H27) -> 0 | I25: =SUM(I26:I27) -> 0 | J25: =SUM(J26:J27) -> 59 | ... M25: =SUM(M26:M27) -> 38 | O25: その他・長野県 | P25: 0 | Q25: 0 | R25: 0 | S25: 0 | T25: 0 | U25: 0 | V25: 0 | W25: 55 | X25: 0 | Y25: =SUM(P25:X25) -> 55 | Z25: 35 | AB25: 山口県計 | AC25: =SUM(AC26:AC27) -> 1 | AD25: =SUM(AD26:AD27) -> 0 | AE25: =SUM(AE26:AE27) -> 0 | AF25: =SUM(AF26:AF27) -> 1 | AG25: =SUM(AG26:AG27) -> 0 | AH25: =SUM(AH26:AH27) -> 0 | AI25: =SUM(AI26:AI27) -> 8 | AJ25: =SUM(AJ26:AJ27) -> 56 | ... AM25: =SUM(AM26:AM27) -> 28
B26: 秋田市 | C26: 0 | D26: 0 | E26: 0 | F26: 3 | G26: 0 | H26: 0 | I26: 0 | J26: 13 | K26: 0 | L26: =SUM(C26:K26) -> 16 | M26: 10 | O26: 岐阜県計 | P26: =SUM(P27:P28) -> 1 | Q26: =SUM(Q27:Q28) -> 0 | R26: =SUM(R27:R28) -> 0 | S26: =SUM(S27:S28) -> 0 | T26: =SUM(T27:T28) -> 2 | U26: =SUM(U27:U28) -> 0 | V26: =SUM(V27:V28) -> 2 | W26: =SUM(W27:W28) -> 83 | ... Z26: =SUM(Z27:Z28) -> 55 | AB26: 下関市 | AC26: 0 | AD26: 0 | AE26: 0 | AF26: 1 | AG26: 0 | AH26: 0 | AI26: 0 | AJ26: 4 | AK26: 0 | AL26: =SUM(AC26:AK26) -> 5 | AM26: 4
B27: その他・秋田県 | C27: 0 | D27: 0 | E27: 0 | F27: 0 | G27: 0 | H27: 0 | I27: 0 | J27: 46 | K27: 0 | L27: =SUM(C27:K27) -> 46 | M27: 28 | O27: 岐阜市 | P27: 0 | Q27: 0 | R27: 0 | S27: 0 | T27: 0 | U27: 0 | V27: 0 | W27: 12 | X27: 0 | Y27: =SUM(P27:X27) -> 12 | Z27: 8 | AB27: その他・山口県 | AC27: 1 | AD27: 0 | AE27: 0 | AF27: 0 | AG27: 0 | AH27: 0 | AI27: 8 | AJ27: 52 | AK27: 0 | AL27: =SUM(AC27:AK27) -> 61 | AM27: 24
B28: 山形県計 | C28: =SUM(C29:C30) -> 0 | D28: =SUM(D29:D30) -> 0 | E28: =SUM(E29:E30) -> 0 | F28: =SUM(F29:F30) -> 0 | G28: =SUM(G29:G30) -> 0 | H28: =SUM(H29:H30) -> 0 | I28: =SUM(I29:I30) -> 0 | J28: =SUM(J29:J30) -> 37 | ... M28: =SUM(M29:M30) -> 26 | O28: その他・岐阜県 | P28: 1 | Q28: 0 | R28: 0 | S28: 0 | T28: 2 | U28: 0 | V28: 2 | W28: 71 | X28: 0 | Y28: =SUM(P28:X28) -> 76 | Z28: 47 | AB28: 徳島県計 | AC28: =SUM(AC29:AC29) -> 0 | AD28: =SUM(AD29:AD29) -> 0 | AE28: =SUM(AE29:AE29) -> 0 | AF28: =SUM(AF29:AF29) -> 0 | AG28: =SUM(AG29:AG29) -> 0 | AH28: =SUM(AH29:AH29) -> 0 | AI28: =SUM(AI29:AI29) -> 0 | AJ28: =SUM(AJ29:AJ29) -> 54 | ... AM28: =SUM(AM29:AM29) -> 36
B29: 山形市 | C29: 0 | D29: 0 | E29: 0 | F29: 0 | G29: 0 | H29: 0 | I29: 0 | J29: 4 | K29: 0 | L29: =SUM(C29:K29) -> 4 | M29: 3 | O29: 静岡県計 | P29: =SUM(P30:P32) -> 0 | Q29: =SUM(Q30:Q32) -> 0 | R29: =SUM(R30:R32) -> 0 | S29: =SUM(S30:S32) -> 0 | T29: =SUM(T30:T32) -> 2 | U29: =SUM(U30:U32) -> 0 | V29: =SUM(V30:V32) -> 0 | W29: =SUM(W30:W32) -> 162 | ... Z29: =SUM(Z30:Z32) -> 102 | AB29: 徳島県 | AC29: 0 | AD29: 0 | AE29: 0 | AF29: 0 | AG29: 0 | AH29: 0 | AI29: 0 | AJ29: 54 | AK29: 0 | AL29: =SUM(AC29:AK29) -> 54 | AM29: 36
B30: その他・山形県 | C30: 0 | D30: 0 | E30: 0 | F30: 0 | G30: 0 | H30: 0 | I30: 0 | J30: 33 | K30: 0 | L30: =SUM(C30:K30) -> 33 | M30: 23 | O30: 静岡市 | P30: 0 | Q30: 0 | R30: 0 | S30: 0 | T30: 0 | U30: 0 | V30: 0 | W30: 17 | X30: 0 | Y30: =SUM(P30:X30) -> 17 | Z30: 8 | AB30: 香川県計 | AC30: =SUM(AC31:AC32) -> 1 | AD30: =SUM(AD31:AD32) -> 0 | AE30: =SUM(AE31:AE32) -> 7 | AF30: =SUM(AF31:AF32) -> 0 | AG30: =SUM(AG31:AG32) -> 1 | AH30: =SUM(AH31:AH32) -> 0 | AI30: =SUM(AI31:AI32) -> 0 | AJ30: =SUM(AJ31:AJ32) -> 37 | ... AM30: =SUM(AM31:AM32) -> 28
B31: 福島県計 | C31: =SUM(C32:C35) -> 1 | D31: =SUM(D32:D35) -> 0 | E31: =SUM(E32:E35) -> 8 | F31: =SUM(F32:F35) -> 1 | G31: =SUM(G32:G35) -> 5 | H31: =SUM(H32:H35) -> 0 | I31: =SUM(I32:I35) -> 0 | J31: =SUM(J32:J35) -> 99 | ... M31: =SUM(M32:M35) -> 63 | O31: 浜松市 | P31: 0 | Q31: 0 | R31: 0 | S31: 0 | T31: 0 | U31: 0 | V31: 0 | W31: 24 | X31: 0 | Y31: =SUM(P31:X31) -> 24 | Z31: 11 | AB31: 高松市 | AC31: 0 | AD31: 0 | AE31: 0 | AF31: 0 | AG31: 0 | AH31: 0 | AI31: 0 | AJ31: 9 | AK31: 0 | AL31: =SUM(AC31:AK31) -> 9 | AM31: 5
B32: 福島市 | C32: 0 | D32: 0 | E32: 0 | F32: 0 | G32: 0 | H32: 0 | I32: 0 | J32: 5 | K32: 0 | L32: =SUM(C32:K32) -> 5 | M32: 3 | O32: その他・静岡県 | P32: 0 | Q32: 0 | R32: 0 | S32: 0 | T32: 2 | U32: 0 | V32: 0 | W32: 121 | X32: 0 | Y32: =SUM(P32:X32) -> 123 | Z32: 83 | AB32: その他・香川県 | AC32: 1 | AD32: 0 | AE32: 7 | AF32: 0 | AG32: 1 | AH32: 0 | AI32: 0 | AJ32: 28 | AK32: 0 | AL32: =SUM(AC32:AK32) -> 37 | AM32: 23
B33: 郡山市 | C33: 0 | D33: 0 | E33: 0 | F33: 0 | G33: 0 | H33: 0 | I33: 0 | J33: 6 | K33: 0 | L33: =SUM(C33:K33) -> 6 | M33: 4 | O33: 愛知県計 | P33: =SUM(P34:P39) -> 0 | Q33: =SUM(Q34:Q39) -> 0 | R33: =SUM(R34:R39) -> 0 | S33: =SUM(S34:S39) -> 0 | T33: =SUM(T34:T39) -> 5 | U33: =SUM(U34:U39) -> 0 | V33: =SUM(V34:V39) -> 0 | W33: =SUM(W34:W39) -> 194 | ... Z33: =SUM(Z34:Z39) -> 119 | AB33: 愛媛県計 | AC33: =SUM(AC34:AC35) -> 0 | AD33: =SUM(AD34:AD35) -> 0 | AE33: =SUM(AE34:AE35) -> 0 | AF33: =SUM(AF34:AF35) -> 0 | AG33: =SUM(AG34:AG35) -> 3 | AH33: =SUM(AH34:AH35) -> 0 | AI33: =SUM(AI34:AI35) -> 0 | AJ33: =SUM(AJ34:AJ35) -> 78 | ... AM33: =SUM(AM34:AM35) -> 40
B34: いわき市 | C34: 1 | D34: 0 | E34: 8 | F34: 1 | G34: 3 | H34: 0 | I34: 0 | J34: 18 | K34: 0 | L34: =SUM(C34:K34) -> 31 | M34: 15 | O34: 名古屋市 | P34: 0 | Q34: 0 | R34: 0 | S34: 0 | T34: 0 | U34: 0 | V34: 0 | W34: 22 | X34: 0 | Y34: =SUM(P34:X34) -> 22 | Z34: 10 | AB34: 松山市 | AC34: 0 | AD34: 0 | AE34: 0 | AF34: 0 | AG34: 0 | AH34: 0 | AI34: 0 | AJ34: 17 | AK34: 0 | AL34: =SUM(AC34:AK34) -> 17 | AM34: 9
B35: その他・福島県 | C35: 0 | D35: 0 | E35: 0 | F35: 0 | G35: 2 | H35: 0 | I35: 0 | J35: 70 | K35: 0 | L35: =SUM(C35:K35) -> 72 | M35: 41 | O35: 豊橋市 | P35: 0 | Q35: 0 | R35: 0 | S35: 0 | T35: 0 | U35: 0 | V35: 0 | W35: 13 | X35: 0 | Y35: =SUM(P35:X35) -> 13 | Z35: 7 | AB35: その他・愛媛県 | AC35: 0 | AD35: 0 | AE35: 0 | AF35: 0 | AG35: 3 | AH35: 0 | AI35: 0 | AJ35: 61 | AK35: 0 | AL35: =SUM(AC35:AK35) -> 64 | AM35: 31
B36: 茨城県計 | C36: =SUM(C37:C38) -> 0 | D36: =SUM(D37:D38) -> 0 | E36: =SUM(E37:E38) -> 0 | F36: =SUM(F37:F38) -> 1 | G36: =SUM(G37:G38) -> 5 | H36: =SUM(H37:H38) -> 0 | I36: =SUM(I37:I38) -> 1 | J36: =SUM(J37:J38) -> 129 | ... M36: =SUM(M37:M38) -> 84 | O36: 岡崎市 | P36: 0 | Q36: 0 | R36: 0 | S36: 0 | T36: 0 | U36: 0 | V36: 0 | W36: 10 | X36: 0 | Y36: =SUM(P36:X36) -> 10 | Z36: 5 | AB36: 高知県計 | AC36: =SUM(AC37:AC38) -> 0 | AD36: =SUM(AD37:AD38) -> 0 | AE36: =SUM(AE37:AE38) -> 0 | AF36: =SUM(AF37:AF38) -> 0 | AG36: =SUM(AG37:AG38) -> 0 | AH36: =SUM(AH37:AH38) -> 0 | AI36: =SUM(AI37:AI38) -> 2 | AJ36: =SUM(AJ37:AJ38) -> 28 | ... AM36: =SUM(AM37:AM38) -> 20
B37: 水戸市 | C37: 0 | D37: 0 | E37: 0 | F37: 0 | G37: 0 | H37: 0 | I37: 0 | J37: 3 | K37: 0 | L37: =SUM(C37:K37) -> 3 | M37: 1 | O37: 一宮市 | P37: 0 | Q37: 0 | R37: 0 | S37: 0 | T37: 0 | U37: 0 | V37: 0 | W37: 5 | X37: 0 | Y37: =SUM(P37:X37) -> 5 | Z37: 3 | AB37: 高知市 | AC37: 0 | AD37: 0 | AE37: 0 | AF37: 0 | AG37: 0 | AH37: 0 | AI37: 0 | AJ37: 7 | AK37: 0 | AL37: =SUM(AC37:AK37) -> 7 | AM37: 4
B38: その他・茨城県 | C38: 0 | D38: 0 | E38: 0 | F38: 1 | G38: 5 | H38: 0 | I38: 1 | J38: 126 | K38: 0 | L38: =SUM(C38:K38) -> 133 | M38: 83 | O38: 豊田市 | P38: 0 | Q38: 0 | R38: 0 | S38: 0 | T38: 0 | U38: 0 | V38: 0 | W38: 10 | X38: 0 | Y38: =SUM(P38:X38) -> 10 | Z38: 7 | AB38: その他・高知県 | AC38: 0 | AD38: 0 | AE38: 0 | AF38: 0 | AG38: 0 | AH38: 0 | AI38: 2 | AJ38: 21 | AK38: 0 | AL38: =SUM(AC38:AK38) -> 23 | AM38: 16
B39: 栃木県計 | C39: =SUM(C40:C41) -> 0 | D39: =SUM(D40:D41) -> 0 | E39: =SUM(E40:E41) -> 0 | F39: =SUM(F40:F41) -> 0 | G39: =SUM(G40:G41) -> 2 | H39: =SUM(H40:H41) -> 0 | I39: =SUM(I40:I41) -> 2 | J39: =SUM(J40:J41) -> 73 | ... M39: =SUM(M40:M41) -> 45 | O39: その他・愛知県 | P39: 0 | Q39: 0 | R39: 0 | S39: 0 | T39: 5 | U39: 0 | V39: 0 | W39: 134 | X39: 0 | Y39: =SUM(P39:X39) -> 139 | Z39: 87 | AB39: 福岡県計 | AC39: =SUM(AC40:AC44) -> 0 | AD39: =SUM(AD40:AD44) -> 0 | AE39: =SUM(AE40:AE44) -> 0 | AF39: =SUM(AF40:AF44) -> 0 | AG39: =SUM(AG40:AG44) -> 10 | AH39: =SUM(AH40:AH44) -> 0 | AI39: =SUM(AI40:AI44) -> 11 | AJ39: =SUM(AJ40:AJ44) -> 123 | ... AM39: =SUM(AM40:AM44) -> 77
B40: 宇都宮市 | C40: 0 | D40: 0 | E40: 0 | F40: 0 | G40: 2 | H40: 0 | I40: 0 | J40: 13 | K40: 0 | L40: =SUM(C40:K40) -> 15 | M40: 9 | O40: 三重県計 | P40: =SUM(P41:P42) -> 0 | Q40: =SUM(Q41:Q42) -> 0 | R40: =SUM(R41:R42) -> 0 | S40: =SUM(S41:S42) -> 0 | T40: =SUM(T41:T42) -> 3 | U40: =SUM(U41:U42) -> 0 | V40: =SUM(V41:V42) -> 2 | W40: =SUM(W41:W42) -> 75 | ... Z40: =SUM(Z41:Z42) -> 45 | AB40: 北九州市 | AC40: 0 | AD40: 0 | AE40: 0 | AF40: 0 | AG40: 0 | AH40: 0 | AI40: 2 | AJ40: 36 | AK40: 0 | AL40: =SUM(AC40:AK40) -> 38 | AM40: 19
B41: その他・栃木県 | C41: 0 | D41: 0 | E41: 0 | F41: 0 | G41: 0 | H41: 0 | I41: 2 | J41: 60 | K41: 0 | L41: =SUM(C41:K41) -> 62 | M41: 36 | O41: 四日市市 | P41: 0 | Q41: 0 | R41: 0 | S41: 0 | T41: 0 | U41: 0 | V41: 0 | W41: 5 | X41: 0 | Y41: =SUM(P41:X41) -> 5 | Z41: 2 | AB41: 福岡市 | AC41: 0 | AD41: 0 | AE41: 0 | AF41: 0 | AG41: 0 | AH41: 0 | AI41: 0 | AJ41: 13 | AK41: 0 | AL41: =SUM(AC41:AK41) -> 13 | AM41: 6
B42: 群馬県計 | C42: =SUM(C43:C45) -> 0 | D42: =SUM(D43:D45) -> 0 | E42: =SUM(E43:E45) -> 0 | F42: =SUM(F43:F45) -> 0 | G42: =SUM(G43:G45) -> 4 | H42: =SUM(H43:H45) -> 0 | I42: =SUM(I43:I45) -> 0 | J42: =SUM(J43:J45) -> 76 | ... M42: =SUM(M43:M45) -> 47 | O42: その他・三重県 | P42: 0 | Q42: 0 | R42: 0 | S42: 0 | T42: 3 | U42: 0 | V42: 2 | W42: 70 | X42: 0 | Y42: =SUM(P42:X42) -> 75 | Z42: 43 | AB42: 大牟田市 | AC42: 0 | AD42: 0 | AE42: 0 | AF42: 0 | AG42: 0 | AH42: 0 | AI42: 0 | AJ42: 5 | AK42: 0 | AL42: =SUM(AC42:AK42) -> 5 | AM42: 3
B43: 前橋市 | C43: 0 | D43: 0 | E43: 0 | F43: 0 | G43: 1 | H43: 0 | I43: 0 | J43: 8 | K43: 0 | L43: =SUM(C43:K43) -> 9 | M43: 5 | O43: 滋賀県計 | P43: =SUM(P44:P45) -> 0 | Q43: =SUM(Q44:Q45) -> 0 | R43: =SUM(R44:R45) -> 0 | S43: =SUM(S44:S45) -> 0 | T43: =SUM(T44:T45) -> 0 | U43: =SUM(U44:U45) -> 0 | V43: =SUM(V44:V45) -> 0 | W43: =SUM(W44:W45) -> 60 | ... Z43: =SUM(Z44:Z45) -> 36 | AB43: 久留米市 | AC43: 0 | AD43: 0 | AE43: 0 | AF43: 0 | AG43: 0 | AH43: 0 | AI43: 0 | AJ43: 8 | AK43: 0 | AL43: =SUM(AC43:AK43) -> 8 | AM43: 5
B44: 高崎市 | C44: 0 | D44: 0 | E44: 0 | F44: 0 | G44: 0 | H44: 0 | I44: 0 | J44: 12 | K44: 0 | L44: =SUM(C44:K44) -> 12 | M44: 7 | O44: 大津市 | P44: 0 | Q44: 0 | R44: 0 | S44: 0 | T44: 0 | U44: 0 | V44: 0 | W44: 7 | X44: 0 | Y44: =SUM(P44:X44) -> 7 | Z44: 5 | AB44: その他・福岡県 | AC44: 0 | AD44: 0 | AE44: 0 | AF44: 0 | AG44: 10 | AH44: 0 | AI44: 9 | AJ44: 61 | AK44: 0 | AL44: =SUM(AC44:AK44) -> 80 | AM44: 44
B45: その他・群馬県 | C45: 0 | D45: 0 | E45: 0 | F45: 0 | G45: 3 | H45: 0 | I45: 0 | J45: 56 | K45: 0 | L45: =SUM(C45:K45) -> 59 | M45: 35 | O45: その他・滋賀県 | P45: 0 | Q45: 0 | R45: 0 | S45: 0 | T45: 0 | U45: 0 | V45: 0 | W45: 53 | X45: 0 | Y45: =SUM(P45:X45) -> 53 | Z45: 31 | AB45: 佐賀県計 | AC45: =SUM(AC46:AC46) -> 0 | AD45: =SUM(AD46:AD46) -> 0 | AE45: =SUM(AE46:AE46) -> 0 | AF45: =SUM(AF46:AF46) -> 0 | AG45: =SUM(AG46:AG46) -> 0 | AH45: =SUM(AH46:AH46) -> 0 | AI45: =SUM(AI46:AI46) -> 0 | AJ45: =SUM(AJ46:AJ46) -> 37 | ... AM45: =SUM(AM46:AM46) -> 24
B46: 埼玉県計 | C46: =SUM(C47:C52) -> 0 | D46: =SUM(D47:D52) -> 0 | E46: =SUM(E47:E52) -> 0 | F46: =SUM(F47:F52) -> 0 | G46: =SUM(G47:G52) -> 5 | H46: =SUM(H47:H52) -> 0 | I46: =SUM(I47:I52) -> 6 | J46: =SUM(J47:J52) -> 195 | ... M46: =SUM(M47:M52) -> 107 | O46: 京都府計 | P46: =SUM(P47:P48) -> 0 | Q46: =SUM(Q47:Q48) -> 0 | R46: =SUM(R47:R48) -> 0 | S46: =SUM(S47:S48) -> 0 | T46: =SUM(T47:T48) -> 6 | U46: =SUM(U47:U48) -> 0 | V46: =SUM(V47:V48) -> 0 | W46: =SUM(W47:W48) -> 59 | ... Z46: =SUM(Z47:Z48) -> 33 | AB46: 佐賀県 | AC46: 0 | AD46: 0 | AE46: 0 | AF46: 0 | AG46: 0 | AH46: 0 | AI46: 0 | AJ46: 37 | AK46: 0 | AL46: =SUM(AC46:AK46) -> 37 | AM46: 24
B47: さいたま市 | C47: 0 | D47: 0 | E47: 0 | F47: 0 | G47: 0 | H47: 0 | I47: 0 | J47: 17 | K47: 0 | L47: =SUM(C47:K47) -> 17 | M47: 8 | O47: 京都市 | P47: 0 | Q47: 0 | R47: 0 | S47: 0 | T47: 0 | U47: 0 | V47: 0 | W47: 17 | X47: 0 | Y47: =SUM(P47:X47) -> 17 | Z47: 7 | AB47: 長崎県計 | AC47: =SUM(AC48:AC50) -> 0 | AD47: =SUM(AD48:AD50) -> 0 | AE47: =SUM(AE48:AE50) -> 0 | AF47: =SUM(AF48:AF50) -> 0 | AG47: =SUM(AG48:AG50) -> 0 | AH47: =SUM(AH48:AH50) -> 0 | AI47: =SUM(AI48:AI50) -> 0 | AJ47: =SUM(AJ48:AJ50) -> 70 | ... AM47: =SUM(AM48:AM50) -> 39
B48: 川越市 | C48: 0 | D48: 0 | E48: 0 | F48: 0 | G48: 0 | H48: 0 | I48: 0 | J48: 7 | K48: 0 | L48: =SUM(C48:K48) -> 7 | M48: 5 | O48: その他・京都府 | P48: 0 | Q48: 0 | R48: 0 | S48: 0 | T48: 6 | U48: 0 | V48: 0 | W48: 42 | X48: 0 | Y48: =SUM(P48:X48) -> 48 | Z48: 26 | AB48: 長崎市 | AC48: 0 | AD48: 0 | AE48: 0 | AF48: 0 | AG48: 0 | AH48: 0 | AI48: 0 | AJ48: 5 | AK48: 0 | AL48: =SUM(AC48:AK48) -> 5 | AM48: 3
B49: 川口市 | C49: 0 | D49: 0 | E49: 0 | F49: 0 | G49: 0 | H49: 0 | I49: 0 | J49: 5 | K49: 0 | L49: =SUM(C49:K49) -> 5 | M49: 2 | O49: 大阪府計 | P49: =SUM(P50:P59) -> 0 | Q49: =SUM(Q50:Q59) -> 0 | R49: =SUM(R50:R59) -> 0 | S49: =SUM(S50:S59) -> 0 | T49: =SUM(T50:T59) -> 17 | U49: =SUM(U50:U59) -> 0 | V49: =SUM(V50:V59) -> 0 | W49: =SUM(W50:W59) -> 169 | ... Z49: =SUM(Z50:Z59) -> 92 | AB49: 佐世保市 | AC49: 0 | AD49: 0 | AE49: 0 | AF49: 0 | AG49: 0 | AH49: 0 | AI49: 0 | AJ49: 11 | AK49: 0 | AL49: =SUM(AC49:AK49) -> 11 | AM49: 6
B50: 所沢市 | C50: 0 | D50: 0 | E50: 0 | F50: 0 | G50: 0 | H50: 0 | I50: 0 | J50: 4 | K50: 0 | L50: =SUM(C50:K50) -> 4 | M50: 2 | O50: 大阪市 | P50: 0 | Q50: 0 | R50: 0 | S50: 0 | T50: 10 | U50: 0 | V50: 0 | W50: 37 | X50: 0 | Y50: =SUM(P50:X50) -> 47 | Z50: 22 | AB50: その他・長崎県 | AC50: 0 | AD50: 0 | AE50: 0 | AF50: 0 | AG50: 0 | AH50: 0 | AI50: 0 | AJ50: 54 | AK50: 0 | AL50: =SUM(AC50:AK50) -> 54 | AM50: 30
B51: 越谷市 | C51: 0 | D51: 0 | E51: 0 | F51: 0 | G51: 0 | H51: 0 | I51: 0 | J51: 4 | K51: 0 | L51: =SUM(C51:K51) -> 4 | M51: 1 | O51: 堺市 | P51: 0 | Q51: 0 | R51: 0 | S51: 0 | T51: 5 | U51: 0 | V51: 0 | W51: 20 | X51: 0 | Y51: =SUM(P51:X51) -> 25 | Z51: 13 | AB51: 熊本県計 | AC51: =SUM(AC52:AC53) -> 0 | AD51: =SUM(AD52:AD53) -> 0 | AE51: =SUM(AE52:AE53) -> 0 | AF51: =SUM(AF52:AF53) -> 0 | AG51: =SUM(AG52:AG53) -> 0 | AH51: =SUM(AH52:AH53) -> 0 | AI51: =SUM(AI52:AI53) -> 0 | AJ51: =SUM(AJ52:AJ53) -> 64 | ... AM51: =SUM(AM52:AM53) -> 42
B52: その他・埼玉県 | C52: 0 | D52: 0 | E52: 0 | F52: 0 | G52: 5 | H52: 0 | I52: 6 | J52: 158 | K52: 0 | L52: =SUM(C52:K52) -> 169 | M52: 89 | O52: 豊中市 | P52: 0 | Q52: 0 | R52: 0 | S52: 0 | T52: 0 | U52: 0 | V52: 0 | W52: 5 | X52: 0 | Y52: =SUM(P52:X52) -> 5 | Z52: 2 | AB52: 熊本市 | AC52: 0 | AD52: 0 | AE52: 0 | AF52: 0 | AG52: 0 | AH52: 0 | AI52: 0 | AJ52: 10 | AK52: 0 | AL52: =SUM(AC52:AK52) -> 10 | AM52: 7
B53: 千葉県計 | C53: =SUM(C54:C60) -> 0 | D53: =SUM(D54:D60) -> 0 | E53: =SUM(E54:E60) -> 1 | F53: =SUM(F54:F60) -> 0 | G53: =SUM(G54:G60) -> 6 | H53: =SUM(H54:H60) -> 0 | I53: =SUM(I54:I60) -> 0 | J53: =SUM(J54:J60) -> 183 | ... M53: =SUM(M54:M60) -> 92 | O53: 吹田市 | P53: 0 | Q53: 0 | R53: 0 | S53: 0 | T53: 0 | U53: 0 | V53: 0 | W53: 5 | X53: 0 | Y53: =SUM(P53:X53) -> 5 | Z53: 2 | AB53: その他・熊本県 | AC53: 0 | AD53: 0 | AE53: 0 | AF53: 0 | AG53: 0 | AH53: 0 | AI53: 0 | AJ53: 54 | AK53: 0 | AL53: =SUM(AC53:AK53) -> 54 | AM53: 35
B54: 千葉市 | C54: 0 | D54: 0 | E54: 0 | F54: 0 | G54: 0 | H54: 0 | I54: 0 | J54: 23 | K54: 0 | L54: =SUM(C54:K54) -> 23 | M54: 7 | O54: 高槻市 | P54: 0 | Q54: 0 | R54: 0 | S54: 0 | T54: 0 | U54: 0 | V54: 0 | W54: 7 | X54: 0 | Y54: =SUM(P54:X54) -> 7 | Z54: 4 | AB54: 大分県計 | AC54: =SUM(AC55:AC56) -> 2 | AD54: =SUM(AD55:AD56) -> 0 | AE54: =SUM(AE55:AE56) -> 6 | AF54: =SUM(AF55:AF56) -> 0 | AG54: =SUM(AG55:AG56) -> 3 | AH54: =SUM(AH55:AH56) -> 0 | AI54: =SUM(AI55:AI56) -> 5 | AJ54: =SUM(AJ55:AJ56) -> 48 | ... AM54: =SUM(AM55:AM56) -> 30
B55: 市川市 | C55: 0 | D55: 0 | E55: 0 | F55: 0 | G55: 0 | H55: 0 | I55: 0 | J55: 4 | K55: 0 | L55: =SUM(C55:K55) -> 4 | M55: 2 | O55: 枚方市 | P55: 0 | Q55: 0 | R55: 0 | S55: 0 | T55: 0 | U55: 0 | V55: 0 | W55: 9 | X55: 0 | Y55: =SUM(P55:X55) -> 9 | Z55: 4 | AB55: 大分市 | AC55: 0 | AD55: 0 | AE55: 6 | AF55: 0 | AG55: 3 | AH55: 0 | AI55: 0 | AJ55: 19 | AK55: 0 | AL55: =SUM(AC55:AK55) -> 28 | AM55: 10
B56: 船橋市 | C56: 0 | D56: 0 | E56: 1 | F56: 0 | G56: 1 | H56: 0 | I56: 0 | J56: 9 | K56: 0 | L56: =SUM(C56:K56) -> 11 | M56: 5 | O56: 八尾市 | P56: 0 | Q56: 0 | R56: 0 | S56: 0 | T56: 0 | U56: 0 | V56: 0 | W56: 3 | X56: 0 | Y56: =SUM(P56:X56) -> 3 | Z56: 2 | AB56: その他・大分県 | AC56: 2 | AD56: 0 | AE56: 0 | AF56: 0 | AG56: 0 | AH56: 0 | AI56: 5 | AJ56: 29 | AK56: 0 | AL56: =SUM(AC56:AK56) -> 36 | AM56: 20
B57: 松戸市 | C57: 0 | D57: 0 | E57: 0 | F57: 0 | G57: 0 | H57: 0 | I57: 0 | J57: 5 | K57: 0 | L57: =SUM(C57:K57) -> 5 | M57: 2 | O57: 寝屋川市 | P57: 0 | Q57: 0 | R57: 0 | S57: 0 | T57: 0 | U57: 0 | V57: 0 | W57: 5 | X57: 0 | Y57: =SUM(P57:X57) -> 5 | Z57: 2 | AB57: 宮崎県計 | AC57: =SUM(AC58:AC59) -> 0 | AD57: =SUM(AD58:AD59) -> 0 | AE57: =SUM(AE58:AE59) -> 0 | AF57: =SUM(AF58:AF59) -> 0 | AG57: =SUM(AG58:AG59) -> 0 | AH57: =SUM(AH58:AH59) -> 0 | AI57: =SUM(AI58:AI59) -> 0 | AJ57: =SUM(AJ58:AJ59) -> 30 | ... AM57: =SUM(AM58:AM59) -> 24
B58: 柏市 | C58: 0 | D58: 0 | E58: 0 | F58: 0 | G58: 0 | H58: 0 | I58: 0 | J58: 10 | K58: 0 | L58: =SUM(C58:K58) -> 10 | M58: 5 | O58: 東大阪市 | P58: 0 | Q58: 0 | R58: 0 | S58: 0 | T58: 0 | U58: 0 | V58: 0 | W58: 11 | X58: 0 | Y58: =SUM(P58:X58) -> 11 | Z58: 3 | AB58: 宮崎市 | AC58: 0 | AD58: 0 | AE58: 0 | AF58: 0 | AG58: 0 | AH58: 0 | AI58: 0 | AJ58: 2 | AK58: 0 | AL58: =SUM(AC58:AK58) -> 2 | AM58: 2
B59: 市原市 | C59: 0 | D59: 0 | E59: 0 | F59: 0 | G59: 0 | H59: 0 | I59: 0 | J59: 11 | K59: 0 | L59: =SUM(C59:K59) -> 11 | M59: 6 | O59: その他・大阪府 | P59: 0 | Q59: 0 | R59: 0 | S59: 0 | T59: 2 | U59: 0 | V59: 0 | W59: 67 | X59: 0 | Y59: =SUM(P59:X59) -> 69 | Z59: 38 | AB59: その他・宮崎県 | AC59: 0 | AD59: 0 | AE59: 0 | AF59: 0 | AG59: 0 | AH59: 0 | AI59: 0 | AJ59: 28 | AK59: 0 | AL59: =SUM(AC59:AK59) -> 28 | AM59: 22
B60: その他・千葉県 | C60: 0 | D60: 0 | E60: 0 | F60: 0 | G60: 5 | H60: 0 | I60: 0 | J60: 121 | K60: 0 | L60: =SUM(C60:K60) -> 126 | M60: 65 | O60: 兵庫県計 | P60: =SUM(P61:P67) -> 2 | Q60: =SUM(Q61:Q67) -> 4 | R60: =SUM(R61:R67) -> 0 | S60: =SUM(S61:S67) -> 0 | T60: =SUM(T61:T67) -> 9 | U60: =SUM(U61:U67) -> 0 | V60: =SUM(V61:V67) -> 2 | W60: =SUM(W61:W67) -> 141 | ... Z60: =SUM(Z61:Z67) -> 83 | AB60: 鹿児島県計 | AC60: =SUM(AC61:AC62) -> 0 | AD60: =SUM(AD61:AD62) -> 0 | AE60: =SUM(AE61:AE62) -> 0 | AF60: =SUM(AF61:AF62) -> 0 | AG60: =SUM(AG61:AG62) -> 2 | AH60: =SUM(AH61:AH62) -> 0 | AI60: =SUM(AI61:AI62) -> 0 | AJ60: =SUM(AJ61:AJ62) -> 80 | ... AM60: =SUM(AM61:AM62) -> 54
B61: 東京都計 | C61: =SUM(C62:C63) -> 0 | D61: =SUM(D62:D63) -> 0 | E61: =SUM(E62:E63) -> 0 | F61: =SUM(F62:F63) -> 0 | G61: =SUM(G62:G63) -> 0 | H61: =SUM(H62:H63) -> 0 | I61: =SUM(I62:I63) -> 0 | J61: =SUM(J62:J63) -> 185 | ... M61: =SUM(M62:M63) -> 77 | O61: 神戸市 | P61: 0 | Q61: 0 | R61: 0 | S61: 0 | T61: 0 | U61: 0 | V61: 0 | W61: 15 | X61: 0 | Y61: =SUM(P61:X61) -> 15 | Z61: 8 | AB61: 鹿児島市 | AC61: 0 | AD61: 0 | AE61: 0 | AF61: 0 | AG61: 0 | AH61: 0 | AI61: 0 | AJ61: 13 | AK61: 0 | AL61: =SUM(AC61:AK61) -> 13 | AM61: 9
B62: 八王子市 | C62: 0 | D62: 0 | E62: 0 | F62: 0 | G62: 0 | H62: 0 | I62: 0 | J62: 7 | K62: 0 | L62: =SUM(C62:K62) -> 7 | M62: 3 | O62: 姫路市 | P62: 1 | Q62: 0 | R62: 0 | S62: 0 | T62: 5 | U62: 0 | V62: 0 | W62: 26 | X62: 0 | Y62: =SUM(P62:X62) -> 32 | Z62: 13 | AB62: その他・鹿児島県 | AC62: 0 | AD62: 0 | AE62: 0 | AF62: 0 | AG62: 2 | AH62: 0 | AI62: 0 | AJ62: 67 | AK62: 0 | AL62: =SUM(AC62:AK62) -> 69 | AM62: 45
B63: その他・東京都 | C63: 0 | D63: 0 | E63: 0 | F63: 0 | G63: 0 | H63: 0 | I63: 0 | J63: 178 | K63: 0 | L63: =SUM(C63:K63) -> 178 | M63: 74 | O63: 尼崎市 | P63: 0 | Q63: 0 | R63: 0 | S63: 0 | T63: 4 | U63: 0 | V63: 0 | W63: 16 | X63: 0 | Y63: =SUM(P63:X63) -> 20 | Z63: 12 | AB63: 沖縄県計 | AC63: =SUM(AC64:AC65) -> 0 | AD63: =SUM(AD64:AD65) -> 0 | AE63: =SUM(AE64:AE65) -> 0 | AF63: =SUM(AF64:AF65) -> 0 | AG63: =SUM(AG64:AG65) -> 0 | AH63: =SUM(AH64:AH65) -> 0 | AI63: =SUM(AI64:AI65) -> 1 | AJ63: =SUM(AJ64:AJ65) -> 56 | ... AM63: =SUM(AM64:AM65) -> 31
B64: 神奈川県計 | C64: =SUM(C65:C71) -> 2 | D64: =SUM(D65:D71) -> 0 | E64: =SUM(E65:E71) -> 0 | F64: =SUM(F65:F71) -> 0 | G64: =SUM(G65:G71) -> 0 | H64: =SUM(H65:H71) -> 0 | I64: =SUM(I65:I71) -> 3 | J64: =SUM(J65:J71) -> 165 | ... M64: =SUM(M65:M71) -> 80 | O64: 明石市 | P64: 0 | Q64: 0 | R64: 0 | S64: 0 | T64: 0 | U64: 0 | V64: 0 | W64: 5 | X64: 0 | Y64: =SUM(P64:X64) -> 5 | Z64: 2 | AB64: 那覇市 | AC64: 0 | AD64: 0 | AE64: 0 | AF64: 0 | AG64: 0 | AH64: 0 | AI64: 0 | AJ64: 0 | AK64: 0 | AL64: =SUM(AC64:AK64) -> 0 | AM64: 0
B65: 横浜市 | C65: 0 | D65: 0 | E65: 0 | F65: 0 | G65: 0 | H65: 0 | I65: 0 | J65: 34 | K65: 0 | L65: =SUM(C65:K65) -> 34 | M65: 14 | O65: 西宮市 | P65: 0 | Q65: 0 | R65: 0 | S65: 0 | T65: 0 | U65: 0 | V65: 0 | W65: 6 | X65: 0 | Y65: =SUM(P65:X65) -> 6 | Z65: 3 | AB65: その他・沖縄県 | AC65: 0 | AD65: 0 | AE65: 0 | AF65: 0 | AG65: 0 | AH65: 0 | AI65: 1 | AJ65: 56 | AK65: 0 | AL65: =SUM(AC65:AK65) -> 57 | AM65: 31
B66: 川崎市 | C66: 0 | D66: 0 | E66: 0 | F66: 0 | G66: 0 | H66: 0 | I66: 3 | J66: 38 | K66: 0 | L66: =SUM(C66:K66) -> 41 | M66: 19 | O66: 加古川市 | P66: 0 | Q66: 0 | R66: 0 | S66: 0 | T66: 0 | U66: 0 | V66: 0 | W66: 4 | X66: 0 | Y66: =SUM(P66:X66) -> 4 | Z66: 3 | AB66: 合計 | AC66: =SUM(C7:C71,P7:P70,AC7:AC65)/2 -> 11 | AD66: =SUM(D7:D71,Q7:Q70,AD7:AD65)/2 -> 5 | AE66: =SUM(E7:E71,R7:R70,AE7:AE65)/2 -> 28 | AF66: =SUM(F7:F71,S7:S70,AF7:AF65)/2 -> 8 | AG66: =SUM(G7:G71,T7:T70,AG7:AG65)/2 -> 96 | AH66: =SUM(H7:H71,U7:U70,AH7:AH65)/2 -> 0 | AI66: =SUM(I7:I71,V7:V70,AI7:AI65)/2 -> 59 | AJ66: =SUM(J7:J71,W7:W70,AJ7:AJ65)/2 -> 3940 | ... AM66: =SUM(M7:M71,Z7:Z70,AM7:AM65)/2 -> 2347
B67: 相模原市 | C67: 0 | D67: 0 | E67: 0 | F67: 0 | G67: 0 | H67: 0 | I67: 0 | J67: 16 | K67: 0 | L67: =SUM(C67:K67) -> 16 | M67: 9 | O67: その他・兵庫県 | P67: 1 | Q67: 4 | R67: 0 | S67: 0 | T67: 0 | U67: 0 | V67: 2 | W67: 69 | X67: 0 | Y67: =SUM(P67:X67) -> 76 | Z67: 42
B68: 横須賀市 | C68: 2 | D68: 0 | E68: 0 | F68: 0 | G68: 0 | H68: 0 | I68: 0 | J68: 10 | K68: 0 | L68: =SUM(C68:K68) -> 12 | M68: 5 | O68: 奈良県計 | P68: =SUM(P69:P70) -> 0 | Q68: =SUM(Q69:Q70) -> 0 | R68: =SUM(R69:R70) -> 0 | S68: =SUM(S69:S70) -> 0 | T68: =SUM(T69:T70) -> 0 | U68: =SUM(U69:U70) -> 0 | V68: =SUM(V69:V70) -> 0 | W68: =SUM(W69:W70) -> 59 | ... Z68: =SUM(Z69:Z70) -> 37
B69: 平塚市 | C69: 0 | D69: 0 | E69: 0 | F69: 0 | G69: 0 | H69: 0 | I69: 0 | J69: 6 | K69: 0 | L69: =SUM(C69:K69) -> 6 | M69: 2 | O69: 奈良市 | P69: 0 | Q69: 0 | R69: 0 | S69: 0 | T69: 0 | U69: 0 | V69: 0 | W69: 7 | X69: 0 | Y69: =SUM(P69:X69) -> 7 | Z69: 3
B70: 藤沢市 | C70: 0 | D70: 0 | E70: 0 | F70: 0 | G70: 0 | H70: 0 | I70: 0 | J70: 8 | K70: 0 | L70: =SUM(C70:K70) -> 8 | M70: 3 | O70: その他・奈良県 | P70: 0 | Q70: 0 | R70: 0 | S70: 0 | T70: 0 | U70: 0 | V70: 0 | W70: 52 | X70: 0 | Y70: =SUM(P70:X70) -> 52 | Z70: 34
B71: その他・神奈川県 | C71: 0 | D71: 0 | E71: 0 | F71: 0 | G71: 0 | H71: 0 | I71: 0 | J71: 53 | K71: 0 | L71: =SUM(C71:K71) -> 53 | M71: 28
