Workbook
Name テスト: #REF!
Name 自治体名称: #REF!

Sheet 表5.1
B2: 表5.1 届出件数 年度別・施設種類別－全国（水銀排出施設）
B4: 施行令 別表第 一の二 の 項番号 | C4: 施 設 の 名 称 | D4: 平成30年度 | I4: 令和元年度 | N4: 令和２年度 | S4: 令和３年度 | X4: 令和４年度
D5: 全施設 （注1） | I5: 全施設 （注1） | N5: 全施設 （注1） | S5: 全施設 （注1） | X5: 全施設 （注1）
E6: 大気 | F6: 電気 | G6: ガス | H6: 鉱山 | J6: 大気 | K6: 電気 | L6: ガス | M6: 鉱山 | O6: 大気 | P6: 電気 | Q6: ガス | R6: 鉱山 | T6: 大気 | U6: 電気 | V6: ガス | W6: 鉱山 | Y6: 大気 | Z6: 電気 | AA6: ガス | AB6: 鉱山
B7: 1 | C7: 小型石炭混焼ボイラー | D7: =SUM(E7:H7) -> 110 | E7: 16 | F7: 94 | G7: 0 | H7: 0 | I7: =SUM(J7:M7) -> 120 | J7: 23 | K7: 97 | L7: 0 | M7: 0 | N7: =SUM(O7:R7) -> 124 | O7: 26 | P7: 98 | Q7: 0 | R7: 0 | S7: =SUM(T7:W7) -> 119 | T7: 16 | U7: 103 | V7: 0 | W7: 0 | X7: =SUM(Y7:AB7) -> 107 | Y7: ='表5.2'!J11 -> 11 | Z7: ='表5.2'!L11 -> 96 | AA7: ='表5.2'!M11 -> 0 | AB7: ='表5.2'!N11 -> 0
B8: 2 | C8: 石炭燃焼ボイラー | D8: =SUM(E8:H8) -> 140 | E8: 10 | F8: 130 | G8: 0 | H8: 0 | I8: =SUM(J8:M8) -> 156 | J8: 10 | K8: 144 | L8: 2 | M8: 0 | N8: =SUM(O8:R8) -> 164 | O8: 12 | P8: 152 | Q8: 0 | R8: 0 | S8: =SUM(T8:W8) -> 160 | T8: 7 | U8: 153 | V8: 0 | W8: 0 | X8: =SUM(Y8:AB8) -> 154 | Y8: ='表5.2'!J12 -> 5 | Z8: ='表5.2'!L12 -> 149 | AA8: ='表5.2'!M12 -> 0 | AB8: ='表5.2'!N12 -> 0
B9: 3 | C9: 一次施設（銅又は工業金） | D9: =SUM(E9:H9) -> 36 | E9: 28 | F9: 0 | G9: 0 | H9: 8 | I9: =SUM(J9:M9) -> 36 | J9: 28 | K9: 0 | L9: 0 | M9: 8 | N9: =SUM(O9:R9) -> 36 | O9: 28 | P9: 0 | Q9: 0 | R9: 8 | S9: =SUM(T9:W9) -> 36 | T9: 28 | U9: 0 | V9: 0 | W9: 8 | X9: =SUM(Y9:AB9) -> 36 | Y9: ='表5.2'!J13 -> 28 | Z9: ='表5.2'!L13 -> 0 | AA9: ='表5.2'!M13 -> 0 | AB9: ='表5.2'!N13 -> 8
B10: 4 | C10: 一次施設（鉛又は亜鉛） | D10: =SUM(E10:H10) -> 13 | E10: 10 | F10: 0 | G10: 0 | H10: 3 | I10: =SUM(J10:M10) -> 11 | J10: 8 | K10: 0 | L10: 0 | M10: 3 | N10: =SUM(O10:R10) -> 11 | O10: 8 | P10: 0 | Q10: 0 | R10: 3 | S10: =SUM(T10:W10) -> 9 | T10: 8 | U10: 0 | V10: 0 | W10: 1 | X10: =SUM(Y10:AB10) -> 9 | Y10: ='表5.2'!J14 -> 8 | Z10: ='表5.2'!L14 -> 0 | AA10: ='表5.2'!M14 -> 0 | AB10: ='表5.2'!N14 -> 1
B11: 5 | C11: 二次施設（銅、鉛又は亜鉛） | D11: =SUM(E11:H11) -> 112 | E11: 99 | F11: 0 | G11: 0 | H11: 13 | I11: =SUM(J11:M11) -> 120 | J11: 107 | K11: 0 | L11: 0 | M11: 13 | N11: =SUM(O11:R11) -> 115 | O11: 102 | P11: 0 | Q11: 0 | R11: 13 | S11: =SUM(T11:W11) -> 114 | T11: 101 | U11: 0 | V11: 0 | W11: 13 | X11: =SUM(Y11:AB11) -> 113 | Y11: ='表5.2'!J15 -> 96 | Z11: ='表5.2'!L15 -> 0 | AA11: ='表5.2'!M15 -> 0 | AB11: ='表5.2'!N15 -> 17
B12: 6 | C12: 二次施設(工業金) | D12: =SUM(E12:H12) -> 0 | E12: 0 | F12: 0 | G12: 0 | H12: 0 | I12: =SUM(J12:M12) -> 4 | J12: 4 | K12: 0 | L12: 0 | M12: 0 | N12: =SUM(O12:R12) -> 4 | O12: 4 | P12: 0 | Q12: 0 | R12: 0 | S12: =SUM(T12:W12) -> 0 | T12: 0 | U12: 0 | V12: 0 | W12: 0 | X12: =SUM(Y12:AB12) -> 0 | Y12: ='表5.2'!J16 -> 0 | Z12: ='表5.2'!L16 -> 0 | AA12: ='表5.2'!M16 -> 0 | AB12: ='表5.2'!N16 -> 0
B13: 7 | C13: セメントの製造の用に供する焼成炉 | D13: =SUM(E13:H13) -> 54 | E13: 54 | F13: 0 | G13: 0 | H13: 0 | I13: =SUM(J13:M13) -> 58 | J13: 58 | K13: 0 | L13: 0 | M13: 0 | N13: =SUM(O13:R13) -> 58 | O13: 58 | P13: 0 | Q13: 0 | R13: 0 | S13: =SUM(T13:W13) -> 60 | T13: 60 | U13: 0 | V13: 0 | W13: 0 | X13: =SUM(Y13:AB13) -> 59 | Y13: ='表5.2'!J17 -> 59 | Z13: ='表5.2'!L17 -> 0 | AA13: ='表5.2'!M17 -> 0 | AB13: ='表5.2'!N17 -> 0
B14: 8 | C14: 廃棄物焼却炉 | D14: =SUM(E14:H14) -> 4058 | E14: 4042 | F14: 14 | G14: 0 | H14: 2 | I14: =SUM(J14:M14) -> 4077 | J14: 4057 | K14: 14 | L14: 4 | M14: 2 | N14: =SUM(O14:R14) -> 4024 | O14: 4009 | P14: 14 | Q14: 0 | R14: 1 | S14: =SUM(T14:W14) -> 3994 | T14: 3980 | U14: 13 | V14: 0 | W14: 1 | X14: =SUM(Y14:AB14) -> 3954 | Y14: ='表5.2'!J18 -> 3940 | Z14: ='表5.2'!L18 -> 13 | AA14: ='表5.2'!M18 -> 0 | AB14: ='表5.2'!N18 -> 1
B15: 9 | C15: 水銀回収施設 | D15: =SUM(E15:H15) -> 6 | E15: 6 | F15: 0 | G15: 0 | H15: 0 | I15: =SUM(J15:M15) -> 6 | J15: 6 | K15: 0 | L15: 0 | M15: 0 | N15: =SUM(O15:R15) -> 6 | O15: 6 | P15: 0 | Q15: 0 | R15: 0 | S15: =SUM(T15:W15) -> 6 | T15: 6 | U15: 0 | V15: 0 | W15: 0 | X15: =SUM(Y15:AB15) -> 6 | Y15: ='表5.2'!J19 -> 6 | Z15: ='表5.2'!L19 -> 0 | AA15: ='表5.2'!M19 -> 0 | AB15: ='表5.2'!N19 -> 0
B16: 施設合計 | D16: =SUM(D7:D15) -> 4529 | E16: =SUM(E7:E15) -> 4265 | F16: =SUM(F7:F15) -> 238 | G16: =SUM(G7:G15) -> 0 | H16: =SUM(H7:H15) -> 26 | I16: =SUM(I7:I15) -> 4588 | J16: =SUM(J7:J15) -> 4301 | K16: =SUM(K7:K15) -> 255 | ... AB16: =SUM(AB7:AB15) -> 27
B17: 届出工場・事業場合計（注2） | D17: 2543 | E17: 2469 | F17: 146 | G17: 0 | H17: 6 | I17: 2616 | J17: 2495 | K17: 153 | L17: 0 | M17: 7 | N17: 2557 | O17: 2435 | P17: 158 | Q17: 0 | R17: 7 | S17: 2515 | T17: 2390 | U17: 166 | V17: 0 | W17: 6 | X17: ='表5.2'!O21 -> 2477 | Y17: ='表5.2'!J21 -> 2347 | Z17: ='表5.2'!L21 -> 161 | AA17: ='表5.2'!M21 -> 0 | AB17: ='表5.2'!N21 -> 7
B18: （注1）「大気」：大気汚染防止法届出一般粉じん発生施設、「電気」：電気事業法に係る一般粉じん発生施設、「ガス」：ガス事業法に係る一般粉じん発生施設、「鉱山」：鉱山保安法に係る一般粉じん発生施設を示す。
B19: （注2）「届出工場・事業場合計」の「全施設数」は、「大気」、「電気」、「ガス」、「鉱山」で重複する工場・事業場を除いた実数である。

Sheet 表5.2
B2: 表5.2 届出件数 届出種類別・施設種類別－全国（水銀排出施設）
B4: 施行規則別表 第三の三の 項番号 | C4: 施設種類 | D4: 前年度末 現在の 届出施設数 | E4: 大気汚染防止法に係る施設たる水銀排出施設数 | I4: 届出以外の 理由による 年度中の 増減 | J4: 年度末 現在の 届出施設数 | K4: 年度中の変更 届出施設数 (法第18条の30第１項) | L4: 電気工作物・ガス工作物・鉱山に係る施設たる 水銀排出施設数 | O4: 合計
E6: 設置届出 (法第18条 の28 第１項) | F6: 使用届出 (法第18条 の29 第１項) | G6: 廃止届出 (法第18条の36第２項) | H6: 年度中の 増減
L8: 電気 | M8: ガス | N8: 鉱山
H9: （E)＝ (B)+(C)-(D) | J9: (F)=(A)+ (E)+(E)' | O9: (K)=(F)+
D10: (A) | E10: (B) | F10: (C) | G10: (D) | I10: (E)' | K10: (G) | L10: (H) | M10: (I) | N10: (J) | O10: (H)+(I)+(J)
B11: 1 | C11: 小型石炭混焼ボイラー | D11: 16 | E11: 0 | F11: 0 | G11: 1 | H11: =E11+F11-G11 -> -1 | I11: -4 | J11: =D11+H11+I11 -> 11 | K11: 1 | L11: 96 | M11: 0 | N11: 0 | O11: =J11+L11+M11+N11 -> 107
B12: 2 | C12: 石炭燃焼ボイラー | D12: 7 | E12: 0 | F12: 0 | G12: 0 | H12: =E12+F12-G12 -> 0 | I12: -2 | J12: =D12+H12+I12 -> 5 | K12: 0 | L12: 149 | M12: 0 | N12: 0 | O12: =J12+L12+M12+N12 -> 154
B13: 3 | C13: 一次施設（銅又は工業金） | D13: 28 | E13: 0 | F13: 0 | G13: 0 | H13: =E13+F13-G13 -> 0 | I13: 0 | J13: =D13+H13+I13 -> 28 | K13: 2 | L13: 0 | M13: 0 | N13: 8 | O13: =J13+L13+M13+N13 -> 36
B14: 4 | C14: 一次施設（鉛又は亜鉛） | D14: 8 | E14: 1 | F14: 0 | G14: 1 | H14: =E14+F14-G14 -> 0 | I14: 0 | J14: =D14+H14+I14 -> 8 | K14: 0 | L14: 0 | M14: 0 | N14: 1 | O14: =J14+L14+M14+N14 -> 9
B15: 5 | C15: 二次施設（銅、鉛又は亜鉛） | D15: 101 | E15: 3 | F15: 0 | G15: 4 | H15: =E15+F15-G15 -> -1 | I15: -4 | J15: =D15+H15+I15 -> 96 | K15: 6 | L15: 0 | M15: 0 | N15: 17 | O15: =J15+L15+M15+N15 -> 113
B16: 6 | C16: 二次施設(工業金) | D16: 0 | E16: 0 | F16: 0 | G16: 0 | H16: =E16+F16-G16 -> 0 | I16: 0 | J16: =D16+H16+I16 -> 0 | K16: 0 | L16: 0 | M16: 0 | N16: 0 | O16: =J16+L16+M16+N16 -> 0
B17: 7 | C17: セメントの製造の用に供する焼成炉 | D17: 60 | E17: 0 | F17: 0 | G17: 1 | H17: =E17+F17-G17 -> -1 | I17: 0 | J17: =D17+H17+I17 -> 59 | K17: 9 | L17: 0 | M17: 0 | N17: 0 | O17: =J17+L17+M17+N17 -> 59
B18: 8 | C18: 廃棄物焼却炉 | D18: 3980 | E18: 52 | F18: 1 | G18: 97 | H18: =E18+F18-G18 -> -44 | I18: 4 | J18: =D18+H18+I18 -> 3940 | K18: 75 | L18: 13 | M18: 0 | N18: 1 | O18: =J18+L18+M18+N18 -> 3954
B19: 9 | C19: 水銀回収施設 | D19: 6 | E19: 0 | F19: 0 | G19: 0 | H19: =E19+F19-G19 -> 0 | I19: 0 | J19: =D19+H19+I19 -> 6 | K19: 0 | L19: 0 | M19: 0 | N19: 0 | O19: =J19+L19+M19+N19 -> 6
B20: 施設合計 | D20: =SUM(D11:D19) -> 4206 | E20: =SUM(E11:E19) -> 56 | F20: =SUM(F11:F19) -> 1 | G20: =SUM(G11:G19) -> 104 | H20: =SUM(H11:H19) -> -47 | I20: =SUM(I11:I19) -> -6 | J20: =SUM(J11:J19) -> 4153 | K20: =SUM(K11:K19) -> 93 | ... O20: =SUM(O11:O19) -> 4438
B21: 届出工場・事業場合計（注1） | D21: 2390 | J21: 2347 | L21: 161 | M21: 0 | N21: 7 | O21: 2477
B22: （注1）「届出工場・事業場合計」の「合計(Ｋ)」は、「年度末現在の届出施設数(Ｆ)」、「電気(Ｈ)」、「ガス(Ｉ)」、「鉱山(Ｊ)」で重複する工場・事業場を除いた実数である。

Sheet 表5.3
B2: 表5.3(1) 届出件数 届出種類別・都道府県市別（水銀排出施設） | P2: 表5.3(2) 届出件数 届出種類別・都道府県市別（水銀排出施設） | AD2: 表5.3(3) 届出件数 届出種類別・都道府県市別（水銀排出施設）
B4: 自治体名 | C4: 前年度末現在の届出施設数 | D4: 大気汚染防止法に係る施設たる水銀排出施設数 | H4: 届出以外の理由による年度中の増減 | I4: 年度末現在の届出施設数 | J4: 年度中の変更 届出施設数 (法第18条の30第１項) | K4: 電気工作物・ガス工作物・鉱山に係る施設たる 水銀排出施設数 | N4: 合計 | P4: 自治体名 | Q4: 前年度末現在の届出施設数 | R4: 大気汚染防止法に係る施設たる水銀排出施設数 | V4: 届出以外の理由による年度中の増減 | W4: 年度末現在の届出施設数 | X4: 年度中の変更 届出施設数 (法第18条の30第１項) | Y4: 電気工作物・ガス工作物・鉱山に係る施設たる 水銀排出施設数 | AB4: 合計 | AD4: 自治体名 | AE4: 前年度末現在の届出施設数 | AF4: 大気汚染防止法に係る施設たる水銀排出施設数 | AJ4: 届出以外の理由による年度中の増減 | AK4: 年度末現在の届出施設数 | AL4: 年度中の変更 届出施設数 (法第18条の30第１項) | AM4: 電気工作物・ガス工作物・鉱山に係る施設たる 水銀排出施設数 | AP4: 合計
D6: 設置届出 (法第18条の28第１項) | E6: 使用届出 (法第18条の29第１項) | F6: 廃止届出 (法第18条の36第２項) | G6: 年度中の 増減 | R6: 設置届出 (法第18条の28第１項) | S6: 使用届出 (法第18条の29第１項) | T6: 廃止届出 (法第18条の36第２項) | U6: 年度中の 増減 | AF6: 設置届出 (法第18条の28第１項) | AG6: 使用届出 (法第18条の29第１項) | AH6: 廃止届出 (法第18条の36第２項) | AI6: 年度中の 増減
K8: 電気 | L8: ガス | M8: 鉱山 | N8: (K)= | Y8: 電気 | Z8: ガス | AA8: 鉱山 | AB8: (K)= | AM8: 電気 | AN8: ガス | AO8: 鉱山 | AP8: (K)=
G9: (E)= | I9: (F)= | N9: (F)+(H)+ | U9: (E)= | W9: (F)= | AB9: (F)+(H)+ | AI9: (E)= | AK9: (F)= | AP9: (F)+(H)+
C10: (A) | D10: (B) | E10: (C) | F10: (D) | G10: (B)+(C)-(D) | H10: (E') | I10: (E)+(E')+(A) | J10: (G) | K10: (H) | L10: (I) | M10: (J) | N10: (I)+(J) | Q10: (A) | R10: (B) | S10: (C) | T10: (D) | U10: (B)+(C)-(D) | V10: (E') | W10: (E)+(E')+(A) | X10: (G) | Y10: (H) | Z10: (I) | AA10: (J) | AB10: (I)+(J) | AE10: (A) | AF10: (B) | AG10: (C) | AH10: (D) | AI10: (B)+(C)-(D) | AJ10: (E') | AK10: (E)+(E')+(A) | AL10: (G) | AM10: (H) | AN10: (I) | AO10: (J) | AP10: (I)+(J)
B11: 北海道計 | C11: =SUM(C12:C18) -> 168 | D11: =SUM(D12:D18) -> 2 | E11: =SUM(E12:E18) -> 0 | F11: =SUM(F12:F18) -> 0 | G11: =SUM(G12:G18) -> 2 | H11: =SUM(H12:H18) -> -1 | I11: =SUM(I12:I18) -> 169 | J11: =SUM(J12:J18) -> 0 | ... N11: =SUM(N12:N18) -> 200 | P11: 新潟県計 | Q11: =SUM(Q12:Q13) -> 121 | R11: =SUM(R12:R13) -> 0 | S11: =SUM(S12:S13) -> 0 | T11: =SUM(T12:T13) -> 1 | U11: =SUM(U12:U13) -> -1 | V11: =SUM(V12:V13) -> 3 | W11: =SUM(W12:W13) -> 123 | X11: =SUM(X12:X13) -> 0 | ... AB11: =SUM(AB12:AB13) -> 125 | AD11: 和歌山県計 | AE11: =SUM(AE12:AE13) -> 56 | AF11: =SUM(AF12:AF13) -> 1 | AG11: =SUM(AG12:AG13) -> 0 | AH11: =SUM(AH12:AH13) -> 1 | AI11: =SUM(AI12:AI13) -> 0 | AJ11: =SUM(AJ12:AJ13) -> 0 | AK11: =SUM(AK12:AK13) -> 56 | AL11: =SUM(AL12:AL13) -> 1 | ... AP11: =SUM(AP12:AP13) -> 56
B12: 札幌市 | C12: 17 | D12: 2 | E12: 0 | F12: 0 | G12: =D12+E12-F12 -> 2 | H12: 1 | I12: =C12+G12+H12 -> 20 | J12: 0 | K12: 0 | L12: 0 | M12: 0 | N12: =I12+SUM(K12:M12) -> 20 | P12: 新潟市 | Q12: 23 | R12: 0 | S12: 0 | T12: 0 | U12: =R12+S12-T12 -> 0 | V12: 0 | W12: =Q12+U12+V12 -> 23 | X12: 0 | Y12: 0 | Z12: 0 | AA12: 0 | AB12: =W12+SUM(Y12:AA12) -> 23 | AD12: 和歌山市 | AE12: 22 | AF12: 0 | AG12: 0 | AH12: 0 | AI12: =AF12+AG12-AH12 -> 0 | AJ12: 0 | AK12: =AE12+AI12+AJ12 -> 22 | AL12: 1 | AM12: 0 | AN12: 0 | AO12: 0 | AP12: =AK12+SUM(AM12:AO12) -> 22
B13: 函館市 | C13: 7 | D13: 0 | E13: 0 | F13: 0 | G13: =D13+E13-F13 -> 0 | H13: 0 | I13: =C13+G13+H13 -> 7 | J13: 0 | K13: 0 | L13: 0 | M13: 0 | N13: =I13+SUM(K13:M13) -> 7 | P13: その他・新潟県 | Q13: 98 | R13: 0 | S13: 0 | T13: 1 | U13: =R13+S13-T13 -> -1 | V13: 3 | W13: =Q13+U13+V13 -> 100 | X13: 0 | Y13: 2 | Z13: 0 | AA13: 0 | AB13: =W13+SUM(Y13:AA13) -> 102 | AD13: その他・和歌山県 | AE13: 34 | AF13: 1 | AG13: 0 | AH13: 1 | AI13: =AF13+AG13-AH13 -> 0 | AJ13: 0 | AK13: =AE13+AI13+AJ13 -> 34 | AL13: 0 | AM13: 0 | AN13: 0 | AO13: 0 | AP13: =AK13+SUM(AM13:AO13) -> 34
B14: 小樽市 | C14: 3 | D14: 0 | E14: 0 | F14: 0 | G14: =D14+E14-F14 -> 0 | H14: 0 | I14: =C14+G14+H14 -> 3 | J14: 0 | K14: 0 | L14: 0 | M14: 0 | N14: =I14+SUM(K14:M14) -> 3 | P14: 富山県計 | Q14: =SUM(Q15:Q16) -> 43 | R14: =SUM(R15:R16) -> 0 | S14: =SUM(S15:S16) -> 0 | T14: =SUM(T15:T16) -> 0 | U14: =SUM(U15:U16) -> 0 | V14: =SUM(V15:V16) -> 0 | W14: =SUM(W15:W16) -> 43 | X14: =SUM(X15:X16) -> 0 | ... AB14: =SUM(AB15:AB16) -> 46 | AD14: 鳥取県計 | AE14: =SUM(AE15:AE16) -> 35 | AF14: =SUM(AF15:AF16) -> 1 | AG14: =SUM(AG15:AG16) -> 0 | AH14: =SUM(AH15:AH16) -> 1 | AI14: =SUM(AI15:AI16) -> 0 | AJ14: =SUM(AJ15:AJ16) -> 0 | AK14: =SUM(AK15:AK16) -> 35 | AL14: =SUM(AL15:AL16) -> 3 | ... AP14: =SUM(AP15:AP16) -> 37
B15: 旭川市 | C15: 6 | D15: 0 | E15: 0 | F15: 0 | G15: =D15+E15-F15 -> 0 | H15: 0 | I15: =C15+G15+H15 -> 6 | J15: 0 | K15: 2 | L15: 0 | M15: 0 | N15: =I15+SUM(K15:M15) -> 8 | P15: 富山市 | Q15: 12 | R15: 0 | S15: 0 | T15: 0 | U15: =R15+S15-T15 -> 0 | V15: 0 | W15: =Q15+U15+V15 -> 12 | X15: 0 | Y15: 0 | Z15: 0 | AA15: 0 | AB15: =W15+SUM(Y15:AA15) -> 12 | AD15: 鳥取市 | AE15: 10 | AF15: 0 | AG15: 0 | AH15: 1 | AI15: =AF15+AG15-AH15 -> -1 | AJ15: 0 | AK15: =AE15+AI15+AJ15 -> 9 | AL15: 2 | AM15: 1 | AN15: 0 | AO15: 0 | AP15: =AK15+SUM(AM15:AO15) -> 10
B16: 室蘭市 | C16: 4 | D16: 0 | E16: 0 | F16: 0 | G16: =D16+E16-F16 -> 0 | H16: 0 | I16: =C16+G16+H16 -> 4 | J16: 0 | K16: 0 | L16: 0 | M16: 0 | N16: =I16+SUM(K16:M16) -> 4 | P16: その他・富山県 | Q16: 31 | R16: 0 | S16: 0 | T16: 0 | U16: =R16+S16-T16 -> 0 | V16: 0 | W16: =Q16+U16+V16 -> 31 | X16: 0 | Y16: 3 | Z16: 0 | AA16: 0 | AB16: =W16+SUM(Y16:AA16) -> 34 | AD16: その他・鳥取県 | AE16: 25 | AF16: 1 | AG16: 0 | AH16: 0 | AI16: =AF16+AG16-AH16 -> 1 | AJ16: 0 | AK16: =AE16+AI16+AJ16 -> 26 | AL16: 1 | AM16: 1 | AN16: 0 | AO16: 0 | AP16: =AK16+SUM(AM16:AO16) -> 27
B17: 苫小牧市 | C17: 4 | D17: 0 | E17: 0 | F17: 0 | G17: =D17+E17-F17 -> 0 | H17: 0 | I17: =C17+G17+H17 -> 4 | J17: 0 | K17: 0 | L17: 0 | M17: 0 | N17: =I17+SUM(K17:M17) -> 4 | P17: 石川県計 | Q17: =SUM(Q18:Q19) -> 50 | R17: =SUM(R18:R19) -> 0 | S17: =SUM(S18:S19) -> 0 | T17: =SUM(T18:T19) -> 3 | U17: =SUM(U18:U19) -> -3 | V17: =SUM(V18:V19) -> 0 | W17: =SUM(W18:W19) -> 47 | X17: =SUM(X18:X19) -> 0 | ... AB17: =SUM(AB18:AB19) -> 49 | AD17: 島根県計 | AE17: =SUM(AE18:AE19) -> 28 | AF17: =SUM(AF18:AF19) -> 0 | AG17: =SUM(AG18:AG19) -> 0 | AH17: =SUM(AH18:AH19) -> 4 | AI17: =SUM(AI18:AI19) -> -4 | AJ17: =SUM(AJ18:AJ19) -> 0 | AK17: =SUM(AK18:AK19) -> 24 | AL17: =SUM(AL18:AL19) -> 4 | ... AP17: =SUM(AP18:AP19) -> 27
B18: その他・北海道 | C18: 127 | D18: 0 | E18: 0 | F18: 0 | G18: =D18+E18-F18 -> 0 | H18: -2 | I18: =C18+G18+H18 -> 125 | J18: 0 | K18: 29 | L18: 0 | M18: 0 | N18: =I18+SUM(K18:M18) -> 154 | P18: 金沢市 | Q18: 13 | R18: 0 | S18: 0 | T18: 0 | U18: =R18+S18-T18 -> 0 | V18: 0 | W18: =Q18+U18+V18 -> 13 | X18: 0 | Y18: 0 | Z18: 0 | AA18: 0 | AB18: =W18+SUM(Y18:AA18) -> 13 | AD18: 松江市 | AE18: 5 | AF18: 0 | AG18: 0 | AH18: 0 | AI18: =AF18+AG18-AH18 -> 0 | AJ18: 0 | AK18: =AE18+AI18+AJ18 -> 5 | AL18: 2 | AM18: 0 | AN18: 0 | AO18: 0 | AP18: =AK18+SUM(AM18:AO18) -> 5
B19: 青森県計 | C19: =SUM(C20:C22) -> 70 | D19: =SUM(D20:D22) -> 1 | E19: =SUM(E20:E22) -> 0 | F19: =SUM(F20:F22) -> 1 | G19: =SUM(G20:G22) -> 0 | H19: =SUM(H20:H22) -> 0 | I19: =SUM(I20:I22) -> 70 | J19: =SUM(J20:J22) -> 7 | ... N19: =SUM(N20:N22) -> 72 | P19: その他・石川県 | Q19: 37 | R19: 0 | S19: 0 | T19: 3 | U19: =R19+S19-T19 -> -3 | V19: 0 | W19: =Q19+U19+V19 -> 34 | X19: 0 | Y19: 2 | Z19: 0 | AA19: 0 | AB19: =W19+SUM(Y19:AA19) -> 36 | AD19: その他・島根県 | AE19: 23 | AF19: 0 | AG19: 0 | AH19: 4 | AI19: =AF19+AG19-AH19 -> -4 | AJ19: 0 | AK19: =AE19+AI19+AJ19 -> 19 | AL19: 2 | AM19: 3 | AN19: 0 | AO19: 0 | AP19: =AK19+SUM(AM19:AO19) -> 22
B20: 青森市 | C20: 7 | D20: 0 | E20: 0 | F20: 0 | G20: =D20+E20-F20 -> 0 | H20: 0 | I20: =C20+G20+H20 -> 7 | J20: 0 | K20: 0 | L20: 0 | M20: 0 | N20: =I20+SUM(K20:M20) -> 7 | P20: 福井県計 | Q20: =SUM(Q21:Q22) -> 35 | R20: =SUM(R21:R22) -> 3 | S20: =SUM(S21:S22) -> 0 | T20: =SUM(T21:T22) -> 2 | U20: =SUM(U21:U22) -> 1 | V20: =SUM(V21:V22) -> 0 | W20: =SUM(W21:W22) -> 36 | X20: =SUM(X21:X22) -> 0 | ... AB20: =SUM(AB21:AB22) -> 42 | AD20: 岡山県計 | AE20: =SUM(AE21:AE23) -> 99 | AF20: =SUM(AF21:AF23) -> 1 | AG20: =SUM(AG21:AG23) -> 0 | AH20: =SUM(AH21:AH23) -> 1 | AI20: =SUM(AI21:AI23) -> 0 | AJ20: =SUM(AJ21:AJ23) -> 0 | AK20: =SUM(AK21:AK23) -> 99 | AL20: =SUM(AL21:AL23) -> 10 | ... AP20: =SUM(AP21:AP23) -> 104
B21: 八戸市 | C21: 18 | D21: 0 | E21: 0 | F21: 0 | G21: =D21+E21-F21 -> 0 | H21: 0 | I21: =C21+G21+H21 -> 18 | J21: 6 | K21: 2 | L21: 0 | M21: 0 | N21: =I21+SUM(K21:M21) -> 20 | P21: 福井市 | Q21: 9 | R21: 1 | S21: 0 | T21: 1 | U21: =R21+S21-T21 -> 0 | V21: 0 | W21: =Q21+U21+V21 -> 9 | X21: 0 | Y21: 0 | Z21: 0 | AA21: 0 | AB21: =W21+SUM(Y21:AA21) -> 9 | AD21: 岡山市 | AE21: 29 | AF21: 0 | AG21: 0 | AH21: 0 | AI21: =AF21+AG21-AH21 -> 0 | AJ21: 0 | AK21: =AE21+AI21+AJ21 -> 29 | AL21: 7 | AM21: 1 | AN21: 0 | AO21: 0 | AP21: =AK21+SUM(AM21:AO21) -> 30
B22: その他・青森県 | C22: 45 | D22: 1 | E22: 0 | F22: 1 | G22: =D22+E22-F22 -> 0 | H22: 0 | I22: =C22+G22+H22 -> 45 | J22: 1 | K22: 0 | L22: 0 | M22: 0 | N22: =I22+SUM(K22:M22) -> 45 | P22: その他・福井県 | Q22: 26 | R22: 2 | S22: 0 | T22: 1 | U22: =R22+S22-T22 -> 1 | V22: 0 | W22: =Q22+U22+V22 -> 27 | X22: 0 | Y22: 6 | Z22: 0 | AA22: 0 | AB22: =W22+SUM(Y22:AA22) -> 33 | AD22: 倉敷市 | AE22: 28 | AF22: 1 | AG22: 0 | AH22: 1 | AI22: =AF22+AG22-AH22 -> 0 | AJ22: 0 | AK22: =AE22+AI22+AJ22 -> 28 | AL22: 1 | AM22: 3 | AN22: 0 | AO22: 0 | AP22: =AK22+SUM(AM22:AO22) -> 31
B23: 岩手県計 | C23: =SUM(C24:C25) -> 44 | D23: =SUM(D24:D25) -> 0 | E23: =SUM(E24:E25) -> 0 | F23: =SUM(F24:F25) -> 0 | G23: =SUM(G24:G25) -> 0 | H23: =SUM(H24:H25) -> 0 | I23: =SUM(I24:I25) -> 44 | J23: =SUM(J24:J25) -> 0 | ... N23: =SUM(N24:N25) -> 46 | P23: 山梨県計 | Q23: =SUM(Q24:Q25) -> 35 | R23: =SUM(R24:R25) -> 0 | S23: =SUM(S24:S25) -> 0 | T23: =SUM(T24:T25) -> 2 | U23: =SUM(U24:U25) -> -2 | V23: =SUM(V24:V25) -> 0 | W23: =SUM(W24:W25) -> 33 | X23: =SUM(X24:X25) -> 1 | ... AB23: =SUM(AB24:AB25) -> 33 | AD23: その他・岡山県 | AE23: 42 | AF23: 0 | AG23: 0 | AH23: 0 | AI23: =AF23+AG23-AH23 -> 0 | AJ23: 0 | AK23: =AE23+AI23+AJ23 -> 42 | AL23: 2 | AM23: 1 | AN23: 0 | AO23: 0 | AP23: =AK23+SUM(AM23:AO23) -> 43
B24: 盛岡市 | C24: 11 | D24: 0 | E24: 0 | F24: 0 | G24: =D24+E24-F24 -> 0 | H24: 0 | I24: =C24+G24+H24 -> 11 | J24: 0 | K24: 0 | L24: 0 | M24: 0 | N24: =I24+SUM(K24:M24) -> 11 | P24: 甲府市 | Q24: 3 | R24: 0 | S24: 0 | T24: 0 | U24: =R24+S24-T24 -> 0 | V24: 0 | W24: =Q24+U24+V24 -> 3 | X24: 1 | Y24: 0 | Z24: 0 | AA24: 0 | AB24: =W24+SUM(Y24:AA24) -> 3 | AD24: 広島県計 | AE24: =SUM(AE25:AE28) -> 103 | AF24: =SUM(AF25:AF28) -> 0 | AG24: =SUM(AG25:AG28) -> 0 | AH24: =SUM(AH25:AH28) -> 4 | AI24: =SUM(AI25:AI28) -> -4 | AJ24: =SUM(AJ25:AJ28) -> -2 | AK24: =SUM(AK25:AK28) -> 97 | AL24: =SUM(AL25:AL28) -> 1 | ... AP24: =SUM(AP25:AP28) -> 116
B25: その他・岩手県 | C25: 33 | D25: 0 | E25: 0 | F25: 0 | G25: =D25+E25-F25 -> 0 | H25: 0 | I25: =C25+G25+H25 -> 33 | J25: 0 | K25: 2 | L25: 0 | M25: 0 | N25: =I25+SUM(K25:M25) -> 35 | P25: その他・山梨県 | Q25: 32 | R25: 0 | S25: 0 | T25: 2 | U25: =R25+S25-T25 -> -2 | V25: 0 | W25: =Q25+U25+V25 -> 30 | X25: 0 | Y25: 0 | Z25: 0 | AA25: 0 | AB25: =W25+SUM(Y25:AA25) -> 30 | AD25: 広島市 | AE25: 28 | AF25: 0 | AG25: 0 | AH25: 2 | AI25: =AF25+AG25-AH25 -> -2 | AJ25: -2 | AK25: =AE25+AI25+AJ25 -> 24 | AL25: 0 | AM25: 3 | AN25: 0 | AO25: 0 | AP25: =AK25+SUM(AM25:AO25) -> 27
B26: 宮城県計 | C26: =SUM(C27:C28) -> 68 | D26: =SUM(D27:D28) -> 0 | E26: =SUM(E27:E28) -> 0 | F26: =SUM(F27:F28) -> 5 | G26: =SUM(G27:G28) -> -5 | H26: =SUM(H27:H28) -> 1 | I26: =SUM(I27:I28) -> 64 | J26: =SUM(J27:J28) -> 0 | ... N26: =SUM(N27:N28) -> 73 | P26: 長野県計 | Q26: =SUM(Q27:Q29) -> 73 | R26: =SUM(R27:R29) -> 0 | S26: =SUM(S27:S29) -> 0 | T26: =SUM(T27:T29) -> 0 | U26: =SUM(U27:U29) -> 0 | V26: =SUM(V27:V29) -> -1 | W26: =SUM(W27:W29) -> 72 | X26: =SUM(X27:X29) -> 0 | ... AB26: =SUM(AB27:AB29) -> 72 | AD26: 呉市 | AE26: 9 | AF26: 0 | AG26: 0 | AH26: 0 | AI26: =AF26+AG26-AH26 -> 0 | AJ26: 0 | AK26: =AE26+AI26+AJ26 -> 9 | AL26: 0 | AM26: 0 | AN26: 0 | AO26: 0 | AP26: =AK26+SUM(AM26:AO26) -> 9
B27: 仙台市 | C27: 16 | D27: 0 | E27: 0 | F27: 0 | G27: =D27+E27-F27 -> 0 | H27: 0 | I27: =C27+G27+H27 -> 16 | J27: 0 | K27: 1 | L27: 0 | M27: 0 | N27: =I27+SUM(K27:M27) -> 17 | P27: 長野市 | Q27: 11 | R27: 0 | S27: 0 | T27: 0 | U27: =R27+S27-T27 -> 0 | V27: 0 | W27: =Q27+U27+V27 -> 11 | X27: 0 | Y27: 0 | Z27: 0 | AA27: 0 | AB27: =W27+SUM(Y27:AA27) -> 11 | AD27: 福山市 | AE27: 19 | AF27: 0 | AG27: 0 | AH27: 0 | AI27: =AF27+AG27-AH27 -> 0 | AJ27: 0 | AK27: =AE27+AI27+AJ27 -> 19 | AL27: 0 | AM27: 0 | AN27: 0 | AO27: 0 | AP27: =AK27+SUM(AM27:AO27) -> 19
B28: その他・宮城県 | C28: 52 | D28: 0 | E28: 0 | F28: 5 | G28: =D28+E28-F28 -> -5 | H28: 1 | I28: =C28+G28+H28 -> 48 | J28: 0 | K28: 4 | L28: 0 | M28: 4 | N28: =I28+SUM(K28:M28) -> 56 | P28: 松本市 | Q28: 6 | R28: 0 | S28: 0 | T28: 0 | U28: =R28+S28-T28 -> 0 | V28: 0 | W28: =Q28+U28+V28 -> 6 | X28: 0 | Y28: 0 | Z28: 0 | AA28: 0 | AB28: =W28+SUM(Y28:AA28) -> 6 | AD28: その他・広島県 | AE28: 47 | AF28: 0 | AG28: 0 | AH28: 2 | AI28: =AF28+AG28-AH28 -> -2 | AJ28: 0 | AK28: =AE28+AI28+AJ28 -> 45 | AL28: 1 | AM28: 11 | AN28: 0 | AO28: 5 | AP28: =AK28+SUM(AM28:AO28) -> 61
B29: 秋田県計 | C29: =SUM(C30:C31) -> 60 | D29: =SUM(D30:D31) -> 2 | E29: =SUM(E30:E31) -> 0 | F29: =SUM(F30:F31) -> 0 | G29: =SUM(G30:G31) -> 2 | H29: =SUM(H30:H31) -> 0 | I29: =SUM(I30:I31) -> 62 | J29: =SUM(J30:J31) -> 0 | ... N29: =SUM(N30:N31) -> 71 | P29: その他・長野県 | Q29: 56 | R29: 0 | S29: 0 | T29: 0 | U29: =R29+S29-T29 -> 0 | V29: -1 | W29: =Q29+U29+V29 -> 55 | X29: 0 | Y29: 0 | Z29: 0 | AA29: 0 | AB29: =W29+SUM(Y29:AA29) -> 55 | AD29: 山口県計 | AE29: =SUM(AE30:AE31) -> 65 | AF29: =SUM(AF30:AF31) -> 2 | AG29: =SUM(AG30:AG31) -> 0 | AH29: =SUM(AH30:AH31) -> 1 | AI29: =SUM(AI30:AI31) -> 1 | AJ29: =SUM(AJ30:AJ31) -> 0 | AK29: =SUM(AK30:AK31) -> 66 | AL29: =SUM(AL30:AL31) -> 8 | ... AP29: =SUM(AP30:AP31) -> 87
B30: 秋田市 | C30: 16 | D30: 0 | E30: 0 | F30: 0 | G30: =D30+E30-F30 -> 0 | H30: 0 | I30: =C30+G30+H30 -> 16 | J30: 0 | K30: 1 | L30: 0 | M30: 0 | N30: =I30+SUM(K30:M30) -> 17 | P30: 岐阜県計 | Q30: =SUM(Q31:Q32) -> 94 | R30: =SUM(R31:R32) -> 0 | S30: =SUM(S31:S32) -> 0 | T30: =SUM(T31:T32) -> 2 | U30: =SUM(U31:U32) -> -2 | V30: =SUM(V31:V32) -> -4 | W30: =SUM(W31:W32) -> 88 | X30: =SUM(X31:X32) -> 1 | ... AB30: =SUM(AB31:AB32) -> 92 | AD30: 下関市 | AE30: 5 | AF30: 0 | AG30: 0 | AH30: 0 | AI30: =AF30+AG30-AH30 -> 0 | AJ30: 0 | AK30: =AE30+AI30+AJ30 -> 5 | AL30: 0 | AM30: 1 | AN30: 0 | AO30: 0 | AP30: =AK30+SUM(AM30:AO30) -> 6
B31: その他・秋田県 | C31: 44 | D31: 2 | E31: 0 | F31: 0 | G31: =D31+E31-F31 -> 2 | H31: 0 | I31: =C31+G31+H31 -> 46 | J31: 0 | K31: 3 | L31: 0 | M31: 5 | N31: =I31+SUM(K31:M31) -> 54 | P31: 岐阜市 | Q31: 12 | R31: 0 | S31: 0 | T31: 0 | U31: =R31+S31-T31 -> 0 | V31: 0 | W31: =Q31+U31+V31 -> 12 | X31: 1 | Y31: 0 | Z31: 0 | AA31: 0 | AB31: =W31+SUM(Y31:AA31) -> 12 | AD31: その他・山口県 | AE31: 60 | AF31: 2 | AG31: 0 | AH31: 1 | AI31: =AF31+AG31-AH31 -> 1 | AJ31: 0 | AK31: =AE31+AI31+AJ31 -> 61 | AL31: 8 | AM31: 20 | AN31: 0 | AO31: 0 | AP31: =AK31+SUM(AM31:AO31) -> 81
B32: 山形県計 | C32: =SUM(C33:C34) -> 38 | D32: =SUM(D33:D34) -> 0 | E32: =SUM(E33:E34) -> 0 | F32: =SUM(F33:F34) -> 1 | G32: =SUM(G33:G34) -> -1 | H32: =SUM(H33:H34) -> 0 | I32: =SUM(I33:I34) -> 37 | J32: =SUM(J33:J34) -> 0 | ... N32: =SUM(N33:N34) -> 40 | P32: その他・岐阜県 | Q32: 82 | R32: 0 | S32: 0 | T32: 2 | U32: =R32+S32-T32 -> -2 | V32: -4 | W32: =Q32+U32+V32 -> 76 | X32: 0 | Y32: 0 | Z32: 0 | AA32: 4 | AB32: =W32+SUM(Y32:AA32) -> 80 | AD32: 徳島県計 | AE32: =SUM(AE33:AE33) -> 54 | AF32: =SUM(AF33:AF33) -> 0 | AG32: =SUM(AG33:AG33) -> 0 | AH32: =SUM(AH33:AH33) -> 0 | AI32: =SUM(AI33:AI33) -> 0 | AJ32: =SUM(AJ33:AJ33) -> 0 | AK32: =SUM(AK33:AK33) -> 54 | AL32: =SUM(AL33:AL33) -> 2 | ... AP32: =SUM(AP33:AP33) -> 60
B33: 山形市 | C33: 4 | D33: 0 | E33: 0 | F33: 0 | G33: =D33+E33-F33 -> 0 | H33: 0 | I33: =C33+G33+H33 -> 4 | J33: 0 | K33: 0 | L33: 0 | M33: 0 | N33: =I33+SUM(K33:M33) -> 4 | P33: 静岡県計 | Q33: =SUM(Q34:Q36) -> 163 | R33: =SUM(R34:R36) -> 5 | S33: =SUM(S34:S36) -> 0 | T33: =SUM(T34:T36) -> 4 | U33: =SUM(U34:U36) -> 1 | V33: =SUM(V34:V36) -> 0 | W33: =SUM(W34:W36) -> 164 | X33: =SUM(X34:X36) -> 4 | ... AB33: =SUM(AB34:AB36) -> 171 | AD33: 徳島県 | AE33: 54 | AF33: 0 | AG33: 0 | AH33: 0 | AI33: =AF33+AG33-AH33 -> 0 | AJ33: 0 | AK33: =AE33+AI33+AJ33 -> 54 | AL33: 2 | AM33: 6 | AN33: 0 | AO33: 0 | AP33: =AK33+SUM(AM33:AO33) -> 60
B34: その他・山形県 | C34: 34 | D34: 0 | E34: 0 | F34: 1 | G34: =D34+E34-F34 -> -1 | H34: 0 | I34: =C34+G34+H34 -> 33 | J34: 0 | K34: 3 | L34: 0 | M34: 0 | N34: =I34+SUM(K34:M34) -> 36 | P34: 静岡市 | Q34: 17 | R34: 0 | S34: 0 | T34: 0 | U34: =R34+S34-T34 -> 0 | V34: 0 | W34: =Q34+U34+V34 -> 17 | X34: 2 | Y34: 0 | Z34: 0 | AA34: 0 | AB34: =W34+SUM(Y34:AA34) -> 17 | AD34: 香川県計 | AE34: =SUM(AE35:AE36) -> 46 | AF34: =SUM(AF35:AF36) -> 0 | AG34: =SUM(AG35:AG36) -> 0 | AH34: =SUM(AH35:AH36) -> 0 | AI34: =SUM(AI35:AI36) -> 0 | AJ34: =SUM(AJ35:AJ36) -> 0 | AK34: =SUM(AK35:AK36) -> 46 | AL34: =SUM(AL35:AL36) -> 2 | ... AP34: =SUM(AP35:AP36) -> 47
B35: 福島県計 | C35: =SUM(C36:C39) -> 112 | D35: =SUM(D36:D39) -> 4 | E35: =SUM(E36:E39) -> 0 | F35: =SUM(F36:F39) -> 2 | G35: =SUM(G36:G39) -> 2 | H35: =SUM(H36:H39) -> 0 | I35: =SUM(I36:I39) -> 114 | J35: =SUM(J36:J39) -> 5 | ... N35: =SUM(N36:N39) -> 127 | P35: 浜松市 | Q35: 23 | R35: 1 | S35: 0 | T35: 0 | U35: =R35+S35-T35 -> 1 | V35: 0 | W35: =Q35+U35+V35 -> 24 | X35: 1 | Y35: 0 | Z35: 0 | AA35: 0 | AB35: =W35+SUM(Y35:AA35) -> 24 | AD35: 高松市 | AE35: 9 | AF35: 0 | AG35: 0 | AH35: 0 | AI35: =AF35+AG35-AH35 -> 0 | AJ35: 0 | AK35: =AE35+AI35+AJ35 -> 9 | AL35: 0 | AM35: 0 | AN35: 0 | AO35: 0 | AP35: =AK35+SUM(AM35:AO35) -> 9
B36: 福島市 | C36: 5 | D36: 0 | E36: 0 | F36: 0 | G36: =D36+E36-F36 -> 0 | H36: 0 | I36: =C36+G36+H36 -> 5 | J36: 0 | K36: 0 | L36: 0 | M36: 0 | N36: =I36+SUM(K36:M36) -> 5 | P36: その他・静岡県 | Q36: 123 | R36: 4 | S36: 0 | T36: 4 | U36: =R36+S36-T36 -> 0 | V36: 0 | W36: =Q36+U36+V36 -> 123 | X36: 1 | Y36: 7 | Z36: 0 | AA36: 0 | AB36: =W36+SUM(Y36:AA36) -> 130 | AD36: その他・香川県 | AE36: 37 | AF36: 0 | AG36: 0 | AH36: 0 | AI36: =AF36+AG36-AH36 -> 0 | AJ36: 0 | AK36: =AE36+AI36+AJ36 -> 37 | AL36: 2 | AM36: 1 | AN36: 0 | AO36: 0 | AP36: =AK36+SUM(AM36:AO36) -> 38
B37: 郡山市 | C37: 6 | D37: 0 | E37: 0 | F37: 0 | G37: =D37+E37-F37 -> 0 | H37: 0 | I37: =C37+G37+H37 -> 6 | J37: 0 | K37: 0 | L37: 0 | M37: 0 | N37: =I37+SUM(K37:M37) -> 6 | P37: 愛知県計 | Q37: =SUM(Q38:Q43) -> 206 | R37: =SUM(R38:R43) -> 1 | S37: =SUM(S38:S43) -> 0 | T37: =SUM(T38:T43) -> 8 | U37: =SUM(U38:U43) -> -7 | V37: =SUM(V38:V43) -> 0 | W37: =SUM(W38:W43) -> 199 | X37: =SUM(X38:X43) -> 6 | ... AB37: =SUM(AB38:AB43) -> 218 | AD37: 愛媛県計 | AE37: =SUM(AE38:AE39) -> 85 | AF37: =SUM(AF38:AF39) -> 1 | AG37: =SUM(AG38:AG39) -> 0 | AH37: =SUM(AH38:AH39) -> 3 | AI37: =SUM(AI38:AI39) -> -2 | AJ37: =SUM(AJ38:AJ39) -> -2 | AK37: =SUM(AK38:AK39) -> 81 | AL37: =SUM(AL38:AL39) -> 0 | ... AP37: =SUM(AP38:AP39) -> 114
B38: いわき市 | C38: 32 | D38: 0 | E38: 0 | F38: 1 | G38: =D38+E38-F38 -> -1 | H38: 0 | I38: =C38+G38+H38 -> 31 | J38: 3 | K38: 5 | L38: 0 | M38: 0 | N38: =I38+SUM(K38:M38) -> 36 | P38: 名古屋市 | Q38: 22 | R38: 0 | S38: 0 | T38: 0 | U38: =R38+S38-T38 -> 0 | V38: 0 | W38: =Q38+U38+V38 -> 22 | X38: 0 | Y38: 1 | Z38: 0 | AA38: 0 | AB38: =W38+SUM(Y38:AA38) -> 23 | AD38: 松山市 | AE38: 17 | AF38: 0 | AG38: 0 | AH38: 0 | AI38: =AF38+AG38-AH38 -> 0 | AJ38: 0 | AK38: =AE38+AI38+AJ38 -> 17 | AL38: 0 | AM38: 2 | AN38: 0 | AO38: 0 | AP38: =AK38+SUM(AM38:AO38) -> 19
B39: その他・福島県 | C39: 69 | D39: 4 | E39: 0 | F39: 1 | G39: =D39+E39-F39 -> 3 | H39: 0 | I39: =C39+G39+H39 -> 72 | J39: 2 | K39: 8 | L39: 0 | M39: 0 | N39: =I39+SUM(K39:M39) -> 80 | P39: 豊橋市 | Q39: 13 | R39: 0 | S39: 0 | T39: 0 | U39: =R39+S39-T39 -> 0 | V39: 0 | W39: =Q39+U39+V39 -> 13 | X39: 0 | Y39: 1 | Z39: 0 | AA39: 0 | AB39: =W39+SUM(Y39:AA39) -> 14 | AD39: その他・愛媛県 | AE39: 68 | AF39: 1 | AG39: 0 | AH39: 3 | AI39: =AF39+AG39-AH39 -> -2 | AJ39: -2 | AK39: =AE39+AI39+AJ39 -> 64 | AL39: 0 | AM39: 23 | AN39: 0 | AO39: 8 | AP39: =AK39+SUM(AM39:AO39) -> 95
B40: 茨城県計 | C40: =SUM(C41:C42) -> 138 | D40: =SUM(D41:D42) -> 1 | E40: =SUM(E41:E42) -> 0 | F40: =SUM(F41:F42) -> 3 | G40: =SUM(G41:G42) -> -2 | H40: =SUM(H41:H42) -> 0 | I40: =SUM(I41:I42) -> 136 | J40: =SUM(J41:J42) -> 3 | ... N40: =SUM(N41:N42) -> 144 | P40: 岡崎市 | Q40: 11 | R40: 0 | S40: 0 | T40: 1 | U40: =R40+S40-T40 -> -1 | V40: 0 | W40: =Q40+U40+V40 -> 10 | X40: 0 | Y40: 0 | Z40: 0 | AA40: 0 | AB40: =W40+SUM(Y40:AA40) -> 10 | AD40: 高知県計 | AE40: =SUM(AE41:AE42) -> 29 | AF40: =SUM(AF41:AF42) -> 1 | AG40: =SUM(AG41:AG42) -> 0 | AH40: =SUM(AH41:AH42) -> 0 | AI40: =SUM(AI41:AI42) -> 1 | AJ40: =SUM(AJ41:AJ42) -> 0 | AK40: =SUM(AK41:AK42) -> 30 | AL40: =SUM(AL41:AL42) -> 0 | ... AP40: =SUM(AP41:AP42) -> 34
B41: 水戸市 | C41: 3 | D41: 0 | E41: 0 | F41: 0 | G41: =D41+E41-F41 -> 0 | H41: 0 | I41: =C41+G41+H41 -> 3 | J41: 0 | K41: 0 | L41: 0 | M41: 0 | N41: =I41+SUM(K41:M41) -> 3 | P41: 一宮市 | Q41: 6 | R41: 0 | S41: 0 | T41: 1 | U41: =R41+S41-T41 -> -1 | V41: 0 | W41: =Q41+U41+V41 -> 5 | X41: 0 | Y41: 0 | Z41: 0 | AA41: 0 | AB41: =W41+SUM(Y41:AA41) -> 5 | AD41: 高知市 | AE41: 7 | AF41: 0 | AG41: 0 | AH41: 0 | AI41: =AF41+AG41-AH41 -> 0 | AJ41: 0 | AK41: =AE41+AI41+AJ41 -> 7 | AL41: 0 | AM41: 2 | AN41: 0 | AO41: 0 | AP41: =AK41+SUM(AM41:AO41) -> 9
B42: その他・茨城県 | C42: 135 | D42: 1 | E42: 0 | F42: 3 | G42: =D42+E42-F42 -> -2 | H42: 0 | I42: =C42+G42+H42 -> 133 | J42: 3 | K42: 8 | L42: 0 | M42: 0 | N42: =I42+SUM(K42:M42) -> 141 | P42: 豊田市 | Q42: 10 | R42: 0 | S42: 0 | T42: 0 | U42: =R42+S42-T42 -> 0 | V42: 0 | W42: =Q42+U42+V42 -> 10 | X42: 0 | Y42: 0 | Z42: 0 | AA42: 0 | AB42: =W42+SUM(Y42:AA42) -> 10 | AD42: その他・高知県 | AE42: 22 | AF42: 1 | AG42: 0 | AH42: 0 | AI42: =AF42+AG42-AH42 -> 1 | AJ42: 0 | AK42: =AE42+AI42+AJ42 -> 23 | AL42: 0 | AM42: 2 | AN42: 0 | AO42: 0 | AP42: =AK42+SUM(AM42:AO42) -> 25
B43: 栃木県計 | C43: =SUM(C44:C45) -> 78 | D43: =SUM(D44:D45) -> 1 | E43: =SUM(E44:E45) -> 0 | F43: =SUM(F44:F45) -> 2 | G43: =SUM(G44:G45) -> -1 | H43: =SUM(H44:H45) -> 0 | I43: =SUM(I44:I45) -> 77 | J43: =SUM(J44:J45) -> 0 | ... N43: =SUM(N44:N45) -> 79 | P43: その他・愛知県 | Q43: 144 | R43: 1 | S43: 0 | T43: 6 | U43: =R43+S43-T43 -> -5 | V43: 0 | W43: =Q43+U43+V43 -> 139 | X43: 6 | Y43: 17 | Z43: 0 | AA43: 0 | AB43: =W43+SUM(Y43:AA43) -> 156 | AD43: 福岡県計 | AE43: =SUM(AE44:AE48) -> 144 | AF43: =SUM(AF44:AF48) -> 2 | AG43: =SUM(AG44:AG48) -> 0 | AH43: =SUM(AH44:AH48) -> 2 | AI43: =SUM(AI44:AI48) -> 0 | AJ43: =SUM(AJ44:AJ48) -> 0 | AK43: =SUM(AK44:AK48) -> 144 | AL43: =SUM(AL44:AL48) -> 7 | ... AP43: =SUM(AP44:AP48) -> 156
B44: 宇都宮市 | C44: 15 | D44: 1 | E44: 0 | F44: 1 | G44: =D44+E44-F44 -> 0 | H44: 0 | I44: =C44+G44+H44 -> 15 | J44: 0 | K44: 1 | L44: 0 | M44: 0 | N44: =I44+SUM(K44:M44) -> 16 | P44: 三重県計 | Q44: =SUM(Q45:Q46) -> 80 | R44: =SUM(R45:R46) -> 1 | S44: =SUM(S45:S46) -> 0 | T44: =SUM(T45:T46) -> 1 | U44: =SUM(U45:U46) -> 0 | V44: =SUM(V45:V46) -> 0 | W44: =SUM(W45:W46) -> 80 | X44: =SUM(X45:X46) -> 1 | ... AB44: =SUM(AB45:AB46) -> 85 | AD44: 北九州市 | AE44: 37 | AF44: 1 | AG44: 0 | AH44: 0 | AI44: =AF44+AG44-AH44 -> 1 | AJ44: 0 | AK44: =AE44+AI44+AJ44 -> 38 | AL44: 6 | AM44: 6 | AN44: 0 | AO44: 0 | AP44: =AK44+SUM(AM44:AO44) -> 44
...

Sheet 表5.4
B2: 表5.4(1) 届出件数 施設種類別・都道府県市別（大気汚染防止法に係る水銀排出施設） | O2: 表5.4(2) 届出件数 施設種類別・都道府県市別（大気汚染防止法に係る水銀排出施設） | AB2: 表5.4(3) 届出件数 施設種類別・都道府県市別（大気汚染防止法に係る水銀排出施設）
B4: 自治体名 | C4: 施行規則別表第三の三の項番号及び施設種類 | L4: 施設合計 | M4: 届出工場・ 事業場数 | O4: 自治体名 | P4: 施行規則別表第三の三の項番号及び施設種類 | Y4: 施設合計 | Z4: 届出工場・ 事業場数 | AB4: 自治体名 | AC4: 施行規則別表第三の三の項番号及び施設種類 | AL4: 施設合計 | AM4: 届出工場・ 事業場数
C5: 1項 | D5: 2項 | E5: 3項 | F5: 4項 | G5: 5項 | H5: 6項 | I5: 7項 | J5: 8項 | K5: 9項 | P5: 1項 | Q5: 2項 | R5: 3項 | S5: 4項 | T5: 5項 | U5: 6項 | V5: 7項 | W5: 8項 | X5: 9項 | AC5: 1項 | AD5: 2項 | AE5: 3項 | AF5: 4項 | AG5: 5項 | AH5: 6項 | AI5: 7項 | AJ5: 8項 | AK5: 9項
C6: 小型石炭混焼ボイラー | D6: 石炭燃焼ボイラー | E6: 一次施設（銅又は工業金） | F6: 一次施設（鉛又は亜鉛） | G6: 二次施設（銅、鉛又は亜鉛） | H6: 二次施設(工業金) | I6: セメントの製造の用に供する焼成炉 | J6: 廃棄物焼却炉 | K6: 水銀回収施設 | P6: 小型石炭混焼ボイラー | Q6: 石炭燃焼ボイラー | R6: 一次施設（銅又は工業金） | S6: 一次施設（鉛又は亜鉛） | T6: 二次施設（銅、鉛又は亜鉛） | U6: 二次施設(工業金) | V6: セメントの製造の用に供する焼成炉 | W6: 廃棄物焼却炉 | X6: 水銀回収施設 | AC6: 小型石炭混焼ボイラー | AD6: 石炭燃焼ボイラー | AE6: 一次施設（銅又は工業金） | AF6: 一次施設（鉛又は亜鉛） | AG6: 二次施設（銅、鉛又は亜鉛） | AH6: 二次施設(工業金) | AI6: セメントの製造の用に供する焼成炉 | AJ6: 廃棄物焼却炉 | AK6: 水銀回収施設
B7: 北海道計 | C7: =SUM(C8:C14) -> 0 | D7: =SUM(D8:D14) -> 1 | E7: =SUM(E8:E14) -> 0 | F7: =SUM(F8:F14) -> 0 | G7: =SUM(G8:G14) -> 1 | H7: =SUM(H8:H14) -> 0 | I7: =SUM(I8:I14) -> 4 | J7: =SUM(J8:J14) -> 158 | ... M7: =SUM(M8:M14) -> 102 | O7: 新潟県計 | P7: =SUM(P8:P9) -> 1 | Q7: =SUM(Q8:Q9) -> 0 | R7: =SUM(R8:R9) -> 0 | S7: =SUM(S8:S9) -> 0 | T7: =SUM(T8:T9) -> 0 | U7: =SUM(U8:U9) -> 0 | V7: =SUM(V8:V9) -> 4 | W7: =SUM(W8:W9) -> 117 | ... Z7: =SUM(Z8:Z9) -> 66 | AB7: 和歌山県計 | AC7: =SUM(AC8:AC9) -> 0 | AD7: =SUM(AD8:AD9) -> 0 | AE7: =SUM(AE8:AE9) -> 0 | AF7: =SUM(AF8:AF9) -> 0 | AG7: =SUM(AG8:AG9) -> 1 | AH7: =SUM(AH8:AH9) -> 0 | AI7: =SUM(AI8:AI9) -> 0 | AJ7: =SUM(AJ8:AJ9) -> 55 | ... AM7: =SUM(AM8:AM9) -> 37
B8: 札幌市 | C8: 0 | D8: 0 | E8: 0 | F8: 0 | G8: 0 | H8: 0 | I8: 0 | J8: 20 | K8: 0 | L8: =SUM(C8:K8) -> 20 | M8: 8 | O8: 新潟市 | P8: 1 | Q8: 0 | R8: 0 | S8: 0 | T8: 0 | U8: 0 | V8: 0 | W8: 21 | X8: 1 | Y8: =SUM(P8:X8) -> 23 | Z8: 14 | AB8: 和歌山市 | AC8: 0 | AD8: 0 | AE8: 0 | AF8: 0 | AG8: 0 | AH8: 0 | AI8: 0 | AJ8: 22 | AK8: 0 | AL8: =SUM(AC8:AK8) -> 22 | AM8: 14
B9: 函館市 | C9: 0 | D9: 0 | E9: 0 | F9: 0 | G9: 0 | H9: 0 | I9: 0 | J9: 7 | K9: 0 | L9: =SUM(C9:K9) -> 7 | M9: 4 | O9: その他・新潟県 | P9: 0 | Q9: 0 | R9: 0 | S9: 0 | T9: 0 | U9: 0 | V9: 4 | W9: 96 | X9: 0 | Y9: =SUM(P9:X9) -> 100 | Z9: 52 | AB9: その他・和歌山県 | AC9: 0 | AD9: 0 | AE9: 0 | AF9: 0 | AG9: 1 | AH9: 0 | AI9: 0 | AJ9: 33 | AK9: 0 | AL9: =SUM(AC9:AK9) -> 34 | AM9: 23
B10: 小樽市 | C10: 0 | D10: 0 | E10: 0 | F10: 0 | G10: 0 | H10: 0 | I10: 0 | J10: 3 | K10: 0 | L10: =SUM(C10:K10) -> 3 | M10: 2 | O10: 富山県計 | P10: =SUM(P11:P12) -> 0 | Q10: =SUM(Q11:Q12) -> 0 | R10: =SUM(R11:R12) -> 0 | S10: =SUM(S11:S12) -> 0 | T10: =SUM(T11:T12) -> 1 | U10: =SUM(U11:U12) -> 0 | V10: =SUM(V11:V12) -> 0 | W10: =SUM(W11:W12) -> 42 | ... Z10: =SUM(Z11:Z12) -> 25 | AB10: 鳥取県計 | AC10: =SUM(AC11:AC12) -> 0 | AD10: =SUM(AD11:AD12) -> 0 | AE10: =SUM(AE11:AE12) -> 0 | AF10: =SUM(AF11:AF12) -> 0 | AG10: =SUM(AG11:AG12) -> 0 | AH10: =SUM(AH11:AH12) -> 0 | AI10: =SUM(AI11:AI12) -> 0 | AJ10: =SUM(AJ11:AJ12) -> 35 | ... AM10: =SUM(AM11:AM12) -> 27
B11: 旭川市 | C11: 0 | D11: 0 | E11: 0 | F11: 0 | G11: 0 | H11: 0 | I11: 0 | J11: 6 | K11: 0 | L11: =SUM(C11:K11) -> 6 | M11: 3 | O11: 富山市 | P11: 0 | Q11: 0 | R11: 0 | S11: 0 | T11: 0 | U11: 0 | V11: 0 | W11: 12 | X11: 0 | Y11: =SUM(P11:X11) -> 12 | Z11: 10 | AB11: 鳥取市 | AC11: 0 | AD11: 0 | AE11: 0 | AF11: 0 | AG11: 0 | AH11: 0 | AI11: 0 | AJ11: 9 | AK11: 0 | AL11: =SUM(AC11:AK11) -> 9 | AM11: 6
B12: 室蘭市 | C12: 0 | D12: 0 | E12: 0 | F12: 0 | G12: 0 | H12: 0 | I12: 0 | J12: 4 | K12: 0 | L12: =SUM(C12:K12) -> 4 | M12: 2 | O12: その他・富山県 | P12: 0 | Q12: 0 | R12: 0 | S12: 0 | T12: 1 | U12: 0 | V12: 0 | W12: 30 | X12: 0 | Y12: =SUM(P12:X12) -> 31 | Z12: 15 | AB12: その他・鳥取県 | AC12: 0 | AD12: 0 | AE12: 0 | AF12: 0 | AG12: 0 | AH12: 0 | AI12: 0 | AJ12: 26 | AK12: 0 | AL12: =SUM(AC12:AK12) -> 26 | AM12: 21
B13: 苫小牧市 | C13: 0 | D13: 0 | E13: 0 | F13: 0 | G13: 0 | H13: 0 | I13: 0 | J13: 4 | K13: 0 | L13: =SUM(C13:K13) -> 4 | M13: 3 | O13: 石川県計 | P13: =SUM(P14:P15) -> 0 | Q13: =SUM(Q14:Q15) -> 0 | R13: =SUM(R14:R15) -> 0 | S13: =SUM(S14:S15) -> 0 | T13: =SUM(T14:T15) -> 0 | U13: =SUM(U14:U15) -> 0 | V13: =SUM(V14:V15) -> 0 | W13: =SUM(W14:W15) -> 47 | ... Z13: =SUM(Z14:Z15) -> 27 | AB13: 島根県計 | AC13: =SUM(AC14:AC15) -> 0 | AD13: =SUM(AD14:AD15) -> 0 | AE13: =SUM(AE14:AE15) -> 0 | AF13: =SUM(AF14:AF15) -> 0 | AG13: =SUM(AG14:AG15) -> 0 | AH13: =SUM(AH14:AH15) -> 0 | AI13: =SUM(AI14:AI15) -> 0 | AJ13: =SUM(AJ14:AJ15) -> 24 | ... AM13: =SUM(AM14:AM15) -> 15
B14: その他・北海道 | C14: 0 | D14: 1 | E14: 0 | F14: 0 | G14: 1 | H14: 0 | I14: 4 | J14: 114 | K14: 5 | L14: =SUM(C14:K14) -> 125 | M14: 80 | O14: 金沢市 | P14: 0 | Q14: 0 | R14: 0 | S14: 0 | T14: 0 | U14: 0 | V14: 0 | W14: 13 | X14: 0 | Y14: =SUM(P14:X14) -> 13 | Z14: 8 | AB14: 松江市 | AC14: 0 | AD14: 0 | AE14: 0 | AF14: 0 | AG14: 0 | AH14: 0 | AI14: 0 | AJ14: 5 | AK14: 0 | AL14: =SUM(AC14:AK14) -> 5 | AM14: 3
B15: 青森県計 | C15: =SUM(C16:C18) -> 0 | D15: =SUM(D16:D18) -> 0 | E15: =SUM(E16:E18) -> 0 | F15: =SUM(F16:F18) -> 2 | G15: =SUM(G16:G18) -> 2 | H15: =SUM(H16:H18) -> 0 | I15: =SUM(I16:I18) -> 2 | J15: =SUM(J16:J18) -> 64 | ... M15: =SUM(M16:M18) -> 41 | O15: その他・石川県 | P15: 0 | Q15: 0 | R15: 0 | S15: 0 | T15: 0 | U15: 0 | V15: 0 | W15: 34 | X15: 0 | Y15: =SUM(P15:X15) -> 34 | Z15: 19 | AB15: その他・島根県 | AC15: 0 | AD15: 0 | AE15: 0 | AF15: 0 | AG15: 0 | AH15: 0 | AI15: 0 | AJ15: 19 | AK15: 0 | AL15: =SUM(AC15:AK15) -> 19 | AM15: 12
B16: 青森市 | C16: 0 | D16: 0 | E16: 0 | F16: 0 | G16: 0 | H16: 0 | I16: 0 | J16: 7 | K16: 0 | L16: =SUM(C16:K16) -> 7 | M16: 4 | O16: 福井県計 | P16: =SUM(P17:P18) -> 0 | Q16: =SUM(Q17:Q18) -> 0 | R16: =SUM(R17:R18) -> 0 | S16: =SUM(S17:S18) -> 0 | T16: =SUM(T17:T18) -> 0 | U16: =SUM(U17:U18) -> 0 | V16: =SUM(V17:V18) -> 1 | W16: =SUM(W17:W18) -> 35 | ... Z16: =SUM(Z17:Z18) -> 23 | AB16: 岡山県計 | AC16: =SUM(AC17:AC19) -> 0 | AD16: =SUM(AD17:AD19) -> 0 | AE16: =SUM(AE17:AE19) -> 6 | AF16: =SUM(AF17:AF19) -> 0 | AG16: =SUM(AG17:AG19) -> 1 | AH16: =SUM(AH17:AH19) -> 0 | AI16: =SUM(AI17:AI19) -> 0 | AJ16: =SUM(AJ17:AJ19) -> 92 | ... AM16: =SUM(AM17:AM19) -> 56
B17: 八戸市 | C17: 0 | D17: 0 | E17: 0 | F17: 2 | G17: 2 | H17: 0 | I17: 1 | J17: 13 | K17: 0 | L17: =SUM(C17:K17) -> 18 | M17: 10 | O17: 福井市 | P17: 0 | Q17: 0 | R17: 0 | S17: 0 | T17: 0 | U17: 0 | V17: 0 | W17: 9 | X17: 0 | Y17: =SUM(P17:X17) -> 9 | Z17: 5 | AB17: 岡山市 | AC17: 0 | AD17: 0 | AE17: 0 | AF17: 0 | AG17: 0 | AH17: 0 | AI17: 0 | AJ17: 29 | AK17: 0 | AL17: =SUM(AC17:AK17) -> 29 | AM17: 15
B18: その他・青森県 | C18: 0 | D18: 0 | E18: 0 | F18: 0 | G18: 0 | H18: 0 | I18: 1 | J18: 44 | K18: 0 | L18: =SUM(C18:K18) -> 45 | M18: 27 | O18: その他・福井県 | P18: 0 | Q18: 0 | R18: 0 | S18: 0 | T18: 0 | U18: 0 | V18: 1 | W18: 26 | X18: 0 | Y18: =SUM(P18:X18) -> 27 | Z18: 18 | AB18: 倉敷市 | AC18: 0 | AD18: 0 | AE18: 0 | AF18: 0 | AG18: 0 | AH18: 0 | AI18: 0 | AJ18: 28 | AK18: 0 | AL18: =SUM(AC18:AK18) -> 28 | AM18: 19
B19: 岩手県計 | C19: =SUM(C20:C21) -> 0 | D19: =SUM(D20:D21) -> 0 | E19: =SUM(E20:E21) -> 0 | F19: =SUM(F20:F21) -> 0 | G19: =SUM(G20:G21) -> 0 | H19: =SUM(H20:H21) -> 0 | I19: =SUM(I20:I21) -> 3 | J19: =SUM(J20:J21) -> 41 | ... M19: =SUM(M20:M21) -> 27 | O19: 山梨県計 | P19: =SUM(P20:P21) -> 0 | Q19: =SUM(Q20:Q21) -> 0 | R19: =SUM(R20:R21) -> 0 | S19: =SUM(S20:S21) -> 0 | T19: =SUM(T20:T21) -> 0 | U19: =SUM(U20:U21) -> 0 | V19: =SUM(V20:V21) -> 0 | W19: =SUM(W20:W21) -> 33 | ... Z19: =SUM(Z20:Z21) -> 19 | AB19: その他・岡山県 | AC19: 0 | AD19: 0 | AE19: 6 | AF19: 0 | AG19: 1 | AH19: 0 | AI19: 0 | AJ19: 35 | AK19: 0 | AL19: =SUM(AC19:AK19) -> 42 | AM19: 22
B20: 盛岡市 | C20: 0 | D20: 0 | E20: 0 | F20: 0 | G20: 0 | H20: 0 | I20: 0 | J20: 11 | K20: 0 | L20: =SUM(C20:K20) -> 11 | M20: 6 | O20: 甲府市 | P20: 0 | Q20: 0 | R20: 0 | S20: 0 | T20: 0 | U20: 0 | V20: 0 | W20: 3 | X20: 0 | Y20: =SUM(P20:X20) -> 3 | Z20: 2 | AB20: 広島県計 | AC20: =SUM(AC21:AC24) -> 0 | AD20: =SUM(AD21:AD24) -> 0 | AE20: =SUM(AE21:AE24) -> 0 | AF20: =SUM(AF21:AF24) -> 0 | AG20: =SUM(AG21:AG24) -> 0 | AH20: =SUM(AH21:AH24) -> 0 | AI20: =SUM(AI21:AI24) -> 0 | AJ20: =SUM(AJ21:AJ24) -> 97 | ... AM20: =SUM(AM21:AM24) -> 61
B21: その他・岩手県 | C21: 0 | D21: 0 | E21: 0 | F21: 0 | G21: 0 | H21: 0 | I21: 3 | J21: 30 | K21: 0 | L21: =SUM(C21:K21) -> 33 | M21: 21 | O21: その他・山梨県 | P21: 0 | Q21: 0 | R21: 0 | S21: 0 | T21: 0 | U21: 0 | V21: 0 | W21: 30 | X21: 0 | Y21: =SUM(P21:X21) -> 30 | Z21: 17 | AB21: 広島市 | AC21: 0 | AD21: 0 | AE21: 0 | AF21: 0 | AG21: 0 | AH21: 0 | AI21: 0 | AJ21: 24 | AK21: 0 | AL21: =SUM(AC21:AK21) -> 24 | AM21: 15
B22: 宮城県計 | C22: =SUM(C23:C24) -> 0 | D22: =SUM(D23:D24) -> 0 | E22: =SUM(E23:E24) -> 0 | F22: =SUM(F23:F24) -> 0 | G22: =SUM(G23:G24) -> 0 | H22: =SUM(H23:H24) -> 0 | I22: =SUM(I23:I24) -> 0 | J22: =SUM(J23:J24) -> 64 | ... M22: =SUM(M23:M24) -> 42 | O22: 長野県計 | P22: =SUM(P23:P25) -> 0 | Q22: =SUM(Q23:Q25) -> 0 | R22: =SUM(R23:R25) -> 0 | S22: =SUM(S23:S25) -> 0 | T22: =SUM(T23:T25) -> 0 | U22: =SUM(U23:U25) -> 0 | V22: =SUM(V23:V25) -> 0 | W22: =SUM(W23:W25) -> 72 | ... Z22: =SUM(Z23:Z25) -> 45 | AB22: 呉市 | AC22: 0 | AD22: 0 | AE22: 0 | AF22: 0 | AG22: 0 | AH22: 0 | AI22: 0 | AJ22: 9 | AK22: 0 | AL22: =SUM(AC22:AK22) -> 9 | AM22: 5
B23: 仙台市 | C23: 0 | D23: 0 | E23: 0 | F23: 0 | G23: 0 | H23: 0 | I23: 0 | J23: 16 | K23: 0 | L23: =SUM(C23:K23) -> 16 | M23: 7 | O23: 長野市 | P23: 0 | Q23: 0 | R23: 0 | S23: 0 | T23: 0 | U23: 0 | V23: 0 | W23: 11 | X23: 0 | Y23: =SUM(P23:X23) -> 11 | Z23: 6 | AB23: 福山市 | AC23: 0 | AD23: 0 | AE23: 0 | AF23: 0 | AG23: 0 | AH23: 0 | AI23: 0 | AJ23: 19 | AK23: 0 | AL23: =SUM(AC23:AK23) -> 19 | AM23: 12
B24: その他・宮城県 | C24: 0 | D24: 0 | E24: 0 | F24: 0 | G24: 0 | H24: 0 | I24: 0 | J24: 48 | K24: 0 | L24: =SUM(C24:K24) -> 48 | M24: 35 | O24: 松本市 | P24: 0 | Q24: 0 | R24: 0 | S24: 0 | T24: 0 | U24: 0 | V24: 0 | W24: 6 | X24: 0 | Y24: =SUM(P24:X24) -> 6 | Z24: 4 | AB24: その他・広島県 | AC24: 0 | AD24: 0 | AE24: 0 | AF24: 0 | AG24: 0 | AH24: 0 | AI24: 0 | AJ24: 45 | AK24: 0 | AL24: =SUM(AC24:AK24) -> 45 | AM24: 29
B25: 秋田県計 | C25: =SUM(C26:C27) -> 0 | D25: =SUM(D26:D27) -> 0 | E25: =SUM(E26:E27) -> 0 | F25: =SUM(F26:F27) -> 3 | G25: =SUM(G26:G27) -> 0 | H25: =SUM(H26:H27) -> 0 | I25: =SUM(I26:I27) -> 0 | J25: =SUM(J26:J27) -> 59 | ... M25: =SUM(M26:M27) -> 38 | O25: その他・長野県 | P25: 0 | Q25: 0 | R25: 0 | S25: 0 | T25: 0 | U25: 0 | V25: 0 | W25: 55 | X25: 0 | Y25: =SUM(P25:X25) -> 55 | Z25: 35 | AB25: 山口県計 | AC25: =SUM(AC26:AC27) -> 1 | AD25: =SUM(AD26:AD27) -> 0 | AE25: =SUM(AE26:AE27) -> 0 | AF25: =SUM(AF26:AF27) -> 1 | AG25: =SUM(AG26:AG27) -> 0 | AH25: =SUM(AH26:AH27) -> 0 | AI25: =SUM(AI26:AI27) -> 8 | AJ25: =SUM(AJ26:AJ27) -> 56 | ... AM25: =SUM(AM26:AM27) -> 28
B26: 秋田市 | C26: 0 | D26: 0 | E26: 0 | F26: 3 | G26: 0 | H26: 0 | I26: 0 | J26: 13 | K26: 0 | L26: =SUM(C26:K26) -> 16 | M26: 10 | O26: 岐阜県計 | P26: =SUM(P27:P28) -> 1 | Q26: =SUM(Q27:Q28) -> 0 | R26: =SUM(R27:R28) -> 0 | S26: =SUM(S27:S28) -> 0 | T26: =SUM(T27:T28) -> 2 | U26: =SUM(U27:U28) -> 0 | V26: =SUM(V27:V28) -> 2 | W26: =SUM(W27:W28) -> 83 | ... Z26: =SUM(Z27:Z28) -> 55 | AB26: 下関市 | AC26: 0 | AD26: 0 | AE26: 0 | AF26: 1 | AG26: 0 | AH26: 0 | AI26: 0 | AJ26: 4 | AK26: 0 | AL26: =SUM(AC26:AK26) -> 5 | AM26: 4
B27: その他・秋田県 | C27: 0 | D27: 0 | E27: 0 | F27: 0 | G27: 0 | H27: 0 | I27: 0 | J27: 46 | K27: 0 | L27: =SUM(C27:K27) -> 46 | M27: 28 | O27: 岐阜市 | P27: 0 | Q27: 0 | R27: 0 | S27: 0 | T27: 0 | U27: 0 | V27: 0 | W27: 12 | X27: 0 | Y27: =SUM(P27:X27) -> 12 | Z27: 8 | AB27: その他・山口県 | AC27: 1 | AD27: 0 | AE27: 0 | AF27: 0 | AG27: 0 | AH27: 0 | AI27: 8 | AJ27: 52 | AK27: 0 | AL27: =SUM(AC27:AK27) -> 61 | AM27: 24
B28: 山形県計 | C28: =SUM(C29:C30) -> 0 | D28: =SUM(D29:D30) -> 0 | E28: =SUM(E29:E30) -> 0 | F28: =SUM(F29:F30) -> 0 | G28: =SUM(G29:G30) -> 0 | H28: =SUM(H29:H30) -> 0 | I28: =SUM(I29:I30) -> 0 | J28: =SUM(J29:J30) -> 37 | ... M28: =SUM(M29:M30) -> 26 | O28: その他・岐阜県 | P28: 1 | Q28: 0 | R28: 0 | S28: 0 | T28: 2 | U28: 0 | V28: 2 | W28: 71 | X28: 0 | Y28: =SUM(P28:X28) -> 76 | Z28: 47 | AB28: 徳島県計 | AC28: =SUM(AC29:AC29) -> 0 | AD28: =SUM(AD29:AD29) -> 0 | AE28: =SUM(AE29:AE29) -> 0 | AF28: =SUM(AF29:AF29) -> 0 | AG28: =SUM(AG29:AG29) -> 0 | AH28: =SUM(AH29:AH29) -> 0 | AI28: =SUM(AI29:AI29) -> 0 | AJ28: =SUM(AJ29:AJ29) -> 54 | ... AM28: =SUM(AM29:AM29) -> 36
B29: 山形市 | C29: 0 | D29: 0 | E29: 0 | F29: 0 | G29: 0 | H29: 0 | I29: 0 | J29: 4 | K29: 0 | L29: =SUM(C29:K29) -> 4 | M29: 3 | O29: 静岡県計 | P29: =SUM(P30:P32) -> 0 | Q29: =SUM(Q30:Q32) -> 0 | R29: =SUM(R30:R32) -> 0 | S29: =SUM(S30:S32) -> 0 | T29: =SUM(T30:T32) -> 2 | U29: =SUM(U30:U32) -> 0 | V29: =SUM(V30:V32) -> 0 | W29: =SUM(W30:W32) -> 162 | ... Z29: =SUM(Z30:Z32) -> 102 | AB29: 徳島県 | AC29: 0 | AD29: 0 | AE29: 0 | AF29: 0 | AG29: 0 | AH29: 0 | AI29: 0 | AJ29: 54 | AK29: 0 | AL29: =SUM(AC29:AK29) -> 54 | AM29: 36
B30: その他・山形県 | C30: 0 | D30: 0 | E30: 0 | F30: 0 | G30: 0 | H30: 0 | I30: 0 | J30: 33 | K30: 0 | L30: =SUM(C30:K30) -> 33 | M30: 23 | O30: 静岡市 | P30: 0 | Q30: 0 | R30: 0 | S30: 0 | T30: 0 | U30: 0 | V30: 0 | W30: 17 | X30: 0 | Y30: =SUM(P30:X30) -> 17 | Z30: 8 | AB30: 香川県計 | AC30: =SUM(AC31:AC32) -> 1 | AD30: =SUM(AD31:AD32) -> 0 | AE30: =SUM(AE31:AE32) -> 7 | AF30: =SUM(AF31:AF32) -> 0 | AG30: =SUM(AG31:AG32) -> 1 | AH30: =SUM(AH31:AH32) -> 0 | AI30: =SUM(AI31:AI32) -> 0 | AJ30: =SUM(AJ31:AJ32) -> 37 | ... AM30: =SUM(AM31:AM32) -> 28
B31: 福島県計 | C31: =SUM(C32:C35) -> 1 | D31: =SUM(D32:D35) -> 0 | E31: =SUM(E32:E35) -> 8 | F31: =SUM(F32:F35) -> 1 | G31: =SUM(G32:G35) -> 5 | H31: =SUM(H32:H35) -> 0 | I31: =SUM(I32:I35) -> 0 | J31: =SUM(J32:J35) -> 99 | ... M31: =SUM(M32:M35) -> 63 | O31: 浜松市 | P31: 0 | Q31: 0 | R31: 0 | S31: 0 | T31: 0 | U31: 0 | V31: 0 | W31: 24 | X31: 0 | Y31: =SUM(P31:X31) -> 24 | Z31: 11 | AB31: 高松市 | AC31: 0 | AD31: 0 | AE31: 0 | AF31: 0 | AG31: 0 | AH31: 0 | AI31: 0 | AJ31: 9 | AK31: 0 | AL31: =SUM(AC31:AK31) -> 9 | AM31: 5
B32: 福島市 | C32: 0 | D32: 0 | E32: 0 | F32: 0 | G32: 0 | H32: 0 | I32: 0 | J32: 5 | K32: 0 | L32: =SUM(C32:K32) -> 5 | M32: 3 | O32: その他・静岡県 | P32: 0 | Q32: 0 | R32: 0 | S32: 0 | T32: 2 | U32: 0 | V32: 0 | W32: 121 | X32: 0 | Y32: =SUM(P32:X32) -> 123 | Z32: 83 | AB32: その他・香川県 | AC32: 1 | AD32: 0 | AE32: 7 | AF32: 0 | AG32: 1 | AH32: 0 | AI32: 0 | AJ32: 28 | AK32: 0 | AL32: =SUM(AC32:AK32) -> 37 | AM32: 23
B33: 郡山市 | C33: 0 | D33: 0 | E33: 0 | F33: 0 | G33: 0 | H33: 0 | I33: 0 | J33: 6 | K33: 0 | L33: =SUM(C33:K33) -> 6 | M33: 4 | O33: 愛知県計 | P33: =SUM(P34:P39) -> 0 | Q33: =SUM(Q34:Q39) -> 0 | R33: =SUM(R34:R39) -> 0 | S33: =SUM(S34:S39) -> 0 | T33: =SUM(T34:T39) -> 5 | U33: =SUM(U34:U39) -> 0 | V33: =SUM(V34:V39) -> 0 | W33: =SUM(W34:W39) -> 194 | ... Z33: =SUM(Z34:Z39) -> 119 | AB33: 愛媛県計 | AC33: =SUM(AC34:AC35) -> 0 | AD33: =SUM(AD34:AD35) -> 0 | AE33: =SUM(AE34:AE35) -> 0 | AF33: =SUM(AF34:AF35) -> 0 | AG33: =SUM(AG34:AG35) -> 3 | AH33: =SUM(AH34:AH35) -> 0 | AI33: =SUM(AI34:AI35) -> 0 | AJ33: =SUM(AJ34:AJ35) -> 78 | ... AM33: =SUM(AM34:AM35) -> 40
B34: いわき市 | C34: 1 | D34: 0 | E34: 8 | F34: 1 | G34: 3 | H34: 0 | I34: 0 | J34: 18 | K34: 0 | L34: =SUM(C34:K34) -> 31 | M34: 15 | O34: 名古屋市 | P34: 0 | Q34: 0 | R34: 0 | S34: 0 | T34: 0 | U34: 0 | V34: 0 | W34: 22 | X34: 0 | Y34: =SUM(P34:X34) -> 22 | Z34: 10 | AB34: 松山市 | AC34: 0 | AD34: 0 | AE34: 0 | AF34: 0 | AG34: 0 | AH34: 0 | AI34: 0 | AJ34: 17 | AK34: 0 | AL34: =SUM(AC34:AK34) -> 17 | AM34: 9
B35: その他・福島県 | C35: 0 | D35: 0 | E35: 0 | F35: 0 | G35: 2 | H35: 0 | I35: 0 | J35: 70 | K35: 0 | L35: =SUM(C35:K35) -> 72 | M35: 41 | O35: 豊橋市 | P35: 0 | Q35: 0 | R35: 0 | S35: 0 | T35: 0 | U35: 0 | V35: 0 | W35: 13 | X35: 0 | Y35: =SUM(P35:X35) -> 13 | Z35: 7 | AB35: その他・愛媛県 | AC35: 0 | AD35: 0 | AE35: 0 | AF35: 0 | AG35: 3 | AH35: 0 | AI35: 0 | AJ35: 61 | AK35: 0 | AL35: =SUM(AC35:AK35) -> 64 | AM35: 31
B36: 茨城県計 | C36: =SUM(C37:C38) -> 0 | D36: =SUM(D37:D38) -> 0 | E36: =SUM(E37:E38) -> 0 | F36: =SUM(F37:F38) -> 1 | G36: =SUM(G37:G38) -> 5 | H36: =SUM(H37:H38) -> 0 | I36: =SUM(I37:I38) -> 1 | J36: =SUM(J37:J38) -> 129 | ... M36: =SUM(M37:M38) -> 84 | O36: 岡崎市 | P36: 0 | Q36: 0 | R36: 0 | S36: 0 | T36: 0 | U36: 0 | V36: 0 | W36: 10 | X36: 0 | Y36: =SUM(P36:X36) -> 10 | Z36: 5 | AB36: 高知県計 | AC36: =SUM(AC37:AC38) -> 0 | AD36: =SUM(AD37:AD38) -> 0 | AE36: =SUM(AE37:AE38) -> 0 | AF36: =SUM(AF37:AF38) -> 0 | AG36: =SUM(AG37:AG38) -> 0 | AH36: =SUM(AH37:AH38) -> 0 | AI36: =SUM(AI37:AI38) -> 2 | AJ36: =SUM(AJ37:AJ38) -> 28 | ... AM36: =SUM(AM37:AM38) -> 20
B37: 水戸市 | C37: 0 | D37: 0 | E37: 0 | F37: 0 | G37: 0 | H37: 0 | I37: 0 | J37: 3 | K37: 0 | L37: =SUM(C37:K37) -> 3 | M37: 1 | O37: 一宮市 | P37: 0 | Q37: 0 | R37: 0 | S37: 0 | T37: 0 | U37: 0 | V37: 0 | W37: 5 | X37: 0 | Y37: =SUM(P37:X37) -> 5 | Z37: 3 | AB37: 高知市 | AC37: 0 | AD37: 0 | AE37: 0 | AF37: 0 | AG37: 0 | AH37: 0 | AI37: 0 | AJ37: 7 | AK37: 0 | AL37: =SUM(AC37:AK37) -> 7 | AM37: 4
B38: その他・茨城県 | C38: 0 | D38: 0 | E38: 0 | F38: 1 | G38: 5 | H38: 0 | I38: 1 | J38: 126 | K38: 0 | L38: =SUM(C38:K38) -> 133 | M38: 83 | O38: 豊田市 | P38: 0 | Q38: 0 | R38: 0 | S38: 0 | T38: 0 | U38: 0 | V38: 0 | W38: 10 | X38: 0 | Y38: =SUM(P38:X38) -> 10 | Z38: 7 | AB38: その他・高知県 | AC38: 0 | AD38: 0 | AE38: 0 | AF38: 0 | AG38: 0 | AH38: 0 | AI38: 2 | AJ38: 21 | AK38: 0 | AL38: =SUM(AC38:AK38) -> 23 | AM38: 16
B39: 栃木県計 | C39: =SUM(C40:C41) -> 0 | D39: =SUM(D40:D41) -> 0 | E39: =SUM(E40:E41) -> 0 | F39: =SUM(F40:F41) -> 0 | G39: =SUM(G40:G41) -> 2 | H39: =SUM(H40:H41) -> 0 | I39: =SUM(I40:I41) -> 2 | J39: =SUM(J40:J41) -> 73 | ... M39: =SUM(M40:M41) -> 45 | O39: その他・愛知県 | P39: 0 | Q39: 0 | R39: 0 | S39: 0 | T39: 5 | U39: 0 | V39: 0 | W39: 134 | X39: 0 | Y39: =SUM(P39:X39) -> 139 | Z39: 87 | AB39: 福岡県計 | AC39: =SUM(AC40:AC44) -> 0 | AD39: =SUM(AD40:AD44) -> 0 | AE39: =SUM(AE40:AE44) -> 0 | AF39: =SUM(AF40:AF44) -> 0 | AG39: =SUM(AG40:AG44) -> 10 | AH39: =SUM(AH40:AH44) -> 0 | AI39: =SUM(AI40:AI44) -> 11 | AJ39: =SUM(AJ40:AJ44) -> 123 | ... AM39: =SUM(AM40:AM44) -> 77
B40: 宇都宮市 | C40: 0 | D40: 0 | E40: 0 | F40: 0 | G40: 2 | H40: 0 | I40: 0 | J40: 13 | K40: 0 | L40: =SUM(C40:K40) -> 15 | M40: 9 | O40: 三重県計 | P40: =SUM(P41:P42) -> 0 | Q40: =SUM(Q41:Q42) -> 0 | R40: =SUM(R41:R42) -> 0 | S40: =SUM(S41:S42) -> 0 | T40: =SUM(T41:T42) -> 3 | U40: =SUM(U41:U42) -> 0 | V40: =SUM(V41:V42) -> 2 | W40: =SUM(W41:W42) -> 75 | ... Z40: =SUM(Z41:Z42) -> 45 | AB40: 北九州市 | AC40: 0 | AD40: 0 | AE40: 0 | AF40: 0 | AG40: 0 | AH40: 0 | AI40: 2 | AJ40: 36 | AK40: 0 | AL40: =SUM(AC40:AK40) -> 38 | AM40: 19
B41: その他・栃木県 | C41: 0 | D41: 0 | E41: 0 | F41: 0 | G41: 0 | H41: 0 | I41: 2 | J41: 60 | K41: 0 | L41: =SUM(C41:K41) -> 62 | M41: 36 | O41: 四日市市 | P41: 0 | Q41: 0 | R41: 0 | S41: 0 | T41: 0 | U41: 0 | V41: 0 | W41: 5 | X41: 0 | Y41: =SUM(P41:X41) -> 5 | Z41: 2 | AB41: 福岡市 | AC41: 0 | AD41: 0 | AE41: 0 | AF41: 0 | AG41: 0 | AH41: 0 | AI41: 0 | AJ41: 13 | AK41: 0 | AL41: =SUM(AC41:AK41) -> 13 | AM41: 6
B42: 群馬県計 | C42: =SUM(C43:C45) -> 0 | D42: =SUM(D43:D45) -> 0 | E42: =SUM(E43:E45) -> 0 | F42: =SUM(F43:F45) -> 0 | G42: =SUM(G43:G45) -> 4 | H42: =SUM(H43:H45) -> 0 | I42: =SUM(I43:I45) -> 0 | J42: =SUM(J43:J45) -> 76 | ... M42: =SUM(M43:M45) -> 47 | O42: その他・三重県 | P42: 0 | Q42: 0 | R42: 0 | S42: 0 | T42: 3 | U42: 0 | V42: 2 | W42: 70 | X42: 0 | Y42: =SUM(P42:X42) -> 75 | Z42: 43 | AB42: 大牟田市 | AC42: 0 | AD42: 0 | AE42: 0 | AF42: 0 | AG42: 0 | AH42: 0 | AI42: 0 | AJ42: 5 | AK42: 0 | AL42: =SUM(AC42:AK42) -> 5 | AM42: 3
...
