Workbook

Sheet 表6.1
B2: 表6.1 立入検査・勧告その他行政指導件数 年度別－全国（ばい煙発生施設）
G4: 平成30年度 | J4: 令和元年度 | M4: 令和２年度 | P4: 令和３年度 | S4: 令和４年度
G5: 全施設 （注1) | J5: 全施設 （注1) | M5: 全施設 （注1) | P5: 全施設 （注1) | S5: 全施設 （注1)
H6: 大気 | I6: 電気・ ガス・ 鉱山 | K6: 大気 | L6: 電気・ ガス・ 鉱山 | N6: 大気 | O6: 電気・ ガス・ 鉱山 | Q6: 大気 | R6: 電気・ ガス・ 鉱山 | T6: 大気 | U6: 電気・ ガス・ 鉱山
B7: (A) | C7: 立入検査実施工場・事業場数 | G7: =SUM(H7:I7) -> 12785 | H7: 10767 | I7: 2018 | J7: =SUM(K7:L7) -> 12529 | K7: 10386 | L7: 2143 | M7: =SUM(N7:O7) -> 9212 | N7: 7657 | O7: 1555 | P7: =SUM(Q7:R7) -> 8707 | Q7: 7226 | R7: 1481 | S7: =SUM(T7:U7) -> 8620 | T7: ='表6.3'!BC67 -> 7196 | U7: ='表6.5'!BA67 -> 1424
B8: (A') | C8: 立入検査実施施設数 | G8: =SUM(H8:I8) -> 41556 | H8: 37538 | I8: 4018 | J8: =SUM(K8:L8) -> 42135 | K8: 37776 | L8: 4359 | M8: =SUM(N8:O8) -> 30008 | N8: 26809 | O8: 3199 | P8: =SUM(Q8:R8) -> 31397 | Q8: 27945 | R8: 3452 | S8: =SUM(T8:U8) -> 30616 | T8: ='表6.3'!BD67 -> 27371 | U8: ='表6.5'!BB67 -> 3245
B9: (B) | C9: 計画変更命令等施設数 | G9: =SUM(H9:I9) -> 0 | H9: 0 | I9: － | J9: =SUM(K9:L9) -> 0 | K9: 0 | L9: － | M9: =SUM(N9:O9) -> 0 | N9: 0 | O9: － | P9: =SUM(Q9:R9) -> 0 | Q9: 0 | R9: － | S9: =SUM(T9:U9) -> 0 | T9: ='表6.3'!BE67 -> 0 | U9: －
B10: (C) | C10: 排出基準違反告発施設数 | G10: =SUM(H10:I10) -> 0 | H10: 0 | I10: 0 | J10: =SUM(K10:L10) -> 0 | K10: 0 | L10: 0 | M10: =SUM(N10:O10) -> 0 | N10: 0 | O10: 0 | P10: =SUM(Q10:R10) -> 0 | Q10: 0 | R10: 0 | S10: =SUM(T10:U10) -> 0 | T10: ='表6.3'!BF67 -> 0 | U10: ='表6.5'!BC67 -> 0
B11: (E) | C11: 改善命令施設数 | G11: =SUM(H11:I11) -> 0 | H11: 0 | I11: 0 | J11: =SUM(K11:L11) -> 0 | K11: 0 | L11: 0 | M11: =SUM(N11:O11) -> 0 | N11: 0 | O11: 0 | P11: =SUM(Q11:R11) -> 0 | Q11: 0 | R11: 0 | S11: =SUM(T11:U11) -> 0 | T11: ='表6.3'!BG67 -> 0 | U11: ='表6.5'!BD67 -> 0
B12: (F) | C12: 一時停止命令施設数 | G12: =SUM(H12:I12) -> 0 | H12: 0 | I12: 0 | J12: =SUM(K12:L12) -> 0 | K12: 0 | L12: 0 | M12: =SUM(N12:O12) -> 0 | N12: 0 | O12: 0 | P12: =SUM(Q12:R12) -> 0 | Q12: 0 | R12: 0 | S12: =SUM(T12:U12) -> 0 | T12: ='表6.3'!BH67 -> 0 | U12: ='表6.5'!BE67 -> 0
B13: (G) | C13: (B)(E)又は(F)の命令違反告発施設数 | G13: =SUM(H13:I13) -> 0 | H13: 0 | I13: 0 | J13: =SUM(K13:L13) -> 0 | K13: 0 | L13: 0 | M13: =SUM(N13:O13) -> 0 | N13: 0 | O13: 0 | P13: =SUM(Q13:R13) -> 0 | Q13: 0 | R13: 0 | S13: =SUM(T13:U13) -> 0 | T13: ='表6.3'!BI67 -> 0 | U13: ='表6.5'!BF67 -> 0
B14: (H) | C14: 届出違反告発施設数 | G14: =SUM(H14:I14) -> 0 | H14: 0 | I14: － | J14: =SUM(K14:L14) -> 0 | K14: 0 | L14: － | M14: =SUM(N14:O14) -> 0 | N14: 0 | O14: － | P14: =SUM(Q14:R14) -> 0 | Q14: 0 | R14: － | S14: =SUM(T14:U14) -> 0 | T14: ='表6.3'!BJ67 -> 0 | U14: －
B15: (I) | C15: 経済産業大臣等への要請施設数 | G15: =SUM(H15:I15) -> 0 | H15: － | I15: 0 | J15: =SUM(K15:L15) -> 0 | K15: － | L15: 0 | M15: =SUM(N15:O15) -> 0 | N15: － | O15: 0 | P15: =SUM(Q15:R15) -> 0 | Q15: － | R15: 0 | S15: =SUM(T15:U15) -> 0 | T15: － | U15: ='表6.5'!BG67 -> 0
B16: 季節による燃料 使用規制地域内 | E16: (J) | F16: 燃料基準適合勧告施設数 | G16: =SUM(H16:I16) -> 0 | H16: 0 | I16: 0 | J16: =SUM(K16:L16) -> 0 | K16: 0 | L16: 0 | M16: =SUM(N16:O16) -> 0 | N16: 0 | O16: 0 | P16: =SUM(Q16:R16) -> 0 | Q16: 0 | R16: 0 | S16: =SUM(T16:U16) -> 0 | T16: ='表6.3'!BK67 -> 0 | U16: ='表6.5'!BH67 -> 0
E17: (K) | F17: 燃料基準適合命令施設数 | G17: =SUM(H17:I17) -> 0 | H17: 0 | I17: 0 | J17: =SUM(K17:L17) -> 0 | K17: 0 | L17: 0 | M17: =SUM(N17:O17) -> 0 | N17: 0 | O17: 0 | P17: =SUM(Q17:R17) -> 0 | Q17: 0 | R17: 0 | S17: =SUM(T17:U17) -> 0 | T17: ='表6.3'!BL67 -> 0 | U17: ='表6.5'!BI67 -> 0
E18: (L) | F18: (K)の命令違反告発施設数 | G18: =SUM(H18:I18) -> 0 | H18: 0 | I18: 0 | J18: =SUM(K18:L18) -> 0 | K18: 0 | L18: 0 | M18: =SUM(N18:O18) -> 0 | N18: 0 | O18: 0 | P18: =SUM(Q18:R18) -> 0 | Q18: 0 | R18: 0 | S18: =SUM(T18:U18) -> 0 | T18: ='表6.3'!BM67 -> 0 | U18: ='表6.5'!BJ67 -> 0
B19: 硫黄酸化物に係る 指定地域内 | D19: 特定工場・ 事業場 | E19: (M) | F19: 計画変更命令工場・事業場数 | G19: =SUM(H19:I19) -> 0 | H19: 0 | I19: － | J19: =SUM(K19:L19) -> 0 | K19: 0 | L19: － | M19: =SUM(N19:O19) -> 0 | N19: 0 | O19: － | P19: =SUM(Q19:R19) -> 0 | Q19: 0 | R19: － | S19: =SUM(T19:U19) -> 0 | T19: ='表6.3'!BN67 -> 0 | U19: －
E20: (N) | F20: 総量規制基準違反告発工場・事業場数 | G20: =SUM(H20:I20) -> 0 | H20: 0 | I20: 0 | J20: =SUM(K20:L20) -> 0 | K20: 0 | L20: 0 | M20: =SUM(N20:O20) -> 0 | N20: 0 | O20: 0 | P20: =SUM(Q20:R20) -> 0 | Q20: 0 | R20: 0 | S20: =SUM(T20:U20) -> 0 | T20: ='表6.3'!BO67 -> 0 | U20: ='表6.5'!BK67 -> 0
E21: (O) | F21: 改善命令等工場・事業場数 | G21: =SUM(H21:I21) -> 0 | H21: 0 | I21: 0 | J21: =SUM(K21:L21) -> 0 | K21: 0 | L21: 0 | M21: =SUM(N21:O21) -> 0 | N21: 0 | O21: 0 | P21: =SUM(Q21:R21) -> 0 | Q21: 0 | R21: 0 | S21: =SUM(T21:U21) -> 0 | T21: ='表6.3'!BP67 -> 0 | U21: ='表6.5'!BL67 -> 0
E22: (P) | F22: (O)の命令違反告発工場・事業場数 | G22: =SUM(H22:I22) -> 0 | H22: 0 | I22: 0 | J22: =SUM(K22:L22) -> 0 | K22: 0 | L22: 0 | M22: =SUM(N22:O22) -> 0 | N22: 0 | O22: 0 | P22: =SUM(Q22:R22) -> 0 | Q22: 0 | R22: 0 | S22: =SUM(T22:U22) -> 0 | T22: ='表6.3'!BQ67 -> 0 | U22: ='表6.5'!BM67 -> 0
E23: (Q) | F23: 経産大臣等への要請工場・事業場数 | G23: =SUM(H23:I23) -> 0 | H23: － | I23: 0 | J23: =SUM(K23:L23) -> 0 | K23: － | L23: 0 | M23: =SUM(N23:O23) -> 0 | N23: － | O23: 0 | P23: =SUM(Q23:R23) -> 0 | Q23: － | R23: 0 | S23: =SUM(T23:U23) -> 0 | T23: － | U23: ='表6.5'!BN67 -> 0
D24: 特定工場 ・ 事業場以外の 工場・事業場 | E24: (R) | F24: 燃料基準適合勧告工場･事業場数 | G24: =SUM(H24:I24) -> 0 | H24: 0 | I24: 0 | J24: =SUM(K24:L24) -> 0 | K24: 0 | L24: 0 | M24: =SUM(N24:O24) -> 0 | N24: 0 | O24: 0 | P24: =SUM(Q24:R24) -> 0 | Q24: 0 | R24: 0 | S24: =SUM(T24:U24) -> 0 | T24: ='表6.3'!BR67 -> 0 | U24: ='表6.5'!BO67 -> 0
E25: (S) | F25: 燃料基準適合命令工場･事業場数 | G25: =SUM(H25:I25) -> 0 | H25: 0 | I25: 0 | J25: =SUM(K25:L25) -> 0 | K25: 0 | L25: 0 | M25: =SUM(N25:O25) -> 0 | N25: 0 | O25: 0 | P25: =SUM(Q25:R25) -> 0 | Q25: 0 | R25: 0 | S25: =SUM(T25:U25) -> 0 | T25: ='表6.3'!BS67 -> 0 | U25: ='表6.5'!BP67 -> 0
E26: (T) | F26: (S)の命令違反告発工場・事業場数 | G26: =SUM(H26:I26) -> 0 | H26: 0 | I26: 0 | J26: =SUM(K26:L26) -> 0 | K26: 0 | L26: 0 | M26: =SUM(N26:O26) -> 0 | N26: 0 | O26: 0 | P26: =SUM(Q26:R26) -> 0 | Q26: 0 | R26: 0 | S26: =SUM(T26:U26) -> 0 | T26: ='表6.3'!BT67 -> 0 | U26: ='表6.5'!BQ67 -> 0
B27: 窒素酸化物に係る指定地域内 | D27: 特定工場・ 事業場 | E27: (U) | F27: 計画変更命令工場・事業場数 | G27: =SUM(H27:I27) -> 0 | H27: 0 | I27: － | J27: =SUM(K27:L27) -> 0 | K27: 0 | L27: － | M27: =SUM(N27:O27) -> 0 | N27: 0 | O27: － | P27: =SUM(Q27:R27) -> 0 | Q27: 0 | R27: － | S27: =SUM(T27:U27) -> 0 | T27: ='表6.3'!BU67 -> 0 | U27: －
E28: (V) | F28: 総量規制基準違反告発工場・事業場数 | G28: =SUM(H28:I28) -> 0 | H28: 0 | I28: 0 | J28: =SUM(K28:L28) -> 0 | K28: 0 | L28: 0 | M28: =SUM(N28:O28) -> 0 | N28: 0 | O28: 0 | P28: =SUM(Q28:R28) -> 0 | Q28: 0 | R28: 0 | S28: =SUM(T28:U28) -> 0 | T28: ='表6.3'!BV67 -> 0 | U28: ='表6.5'!BR67 -> 0
E29: (W) | F29: 改善命令等工場・事業場数 | G29: =SUM(H29:I29) -> 0 | H29: 0 | I29: 0 | J29: =SUM(K29:L29) -> 0 | K29: 0 | L29: 0 | M29: =SUM(N29:O29) -> 0 | N29: 0 | O29: 0 | P29: =SUM(Q29:R29) -> 0 | Q29: 0 | R29: 0 | S29: =SUM(T29:U29) -> 0 | T29: ='表6.3'!BW67 -> 0 | U29: ='表6.5'!BS67 -> 0
E30: (X) | F30: (W)の命令等違反告発工場・事業場数 | G30: =SUM(H30:I30) -> 0 | H30: 0 | I30: 0 | J30: =SUM(K30:L30) -> 0 | K30: 0 | L30: 0 | M30: =SUM(N30:O30) -> 0 | N30: 0 | O30: 0 | P30: =SUM(Q30:R30) -> 0 | Q30: 0 | R30: 0 | S30: =SUM(T30:U30) -> 0 | T30: ='表6.3'!BX67 -> 0 | U30: ='表6.5'!BT67 -> 0
E31: (Y) | F31: 経産大臣等への要請工場・事業場数 | G31: =SUM(H31:I31) -> 0 | H31: － | I31: 0 | J31: =SUM(K31:L31) -> 0 | K31: － | L31: 0 | M31: =SUM(N31:O31) -> 0 | N31: － | O31: 0 | P31: =SUM(Q31:R31) -> 0 | Q31: － | R31: 0 | S31: =SUM(T31:U31) -> 0 | T31: － | U31: ='表6.5'!BU67 -> 0
B32: (c) | C32: 測定記録の保存等に係る違反の告発施設数 | G32: =SUM(H32:I32) -> 0 | H32: 0 | I32: 0 | J32: =SUM(K32:L32) -> 0 | K32: 0 | L32: 0 | M32: =SUM(N32:O32) -> 0 | N32: 0 | O32: 0 | P32: =SUM(Q32:R32) -> 0 | Q32: 0 | R32: 0 | S32: =SUM(T32:U32) -> 0 | T32: ='表6.3'!BY67 -> 0 | U32: ='表6.5'!BV67 -> 0
B33: (d) | C33: 行政指導施設数 | G33: =SUM(H33:I33) -> 3885 | H33: 3658 | I33: 227 | J33: =SUM(K33:L33) -> 4848 | K33: 4574 | L33: 274 | M33: =SUM(N33:O33) -> 3409 | N33: 3149 | O33: 260 | P33: =SUM(Q33:R33) -> 3175 | Q33: 2897 | R33: 278 | S33: =SUM(T33:U33) -> 2698 | T33: ='表6.3'!BZ67 -> 2452 | U33: ='表6.5'!BW67 -> 246
B34: （注1）「大気」：大気汚染防止法届出ばい煙発生施設、「電気・ガス・鉱山」：電気事業法・ガス事業法・鉱山保安法に係るばい煙発生施設を示す。

Sheet 表6.2
B2: 表6.2(1) 行政指導施設数 都道府県市別（ばい煙発生施設） | K2: 表6.2(2) 行政指導施設数 都道府県市別（ばい煙発生施設） | T2: 表6.2(3) 行政指導施設数 都道府県市別（ばい煙発生施設）
B4: 自治体名 | C4: ① | D4: ② | E4: ③ | F4: ④ | G4: ⑤ | H4: ⑥ | I4: 合計 | K4: 自治体名 | L4: ① | M4: ② | N4: ③ | O4: ④ | P4: ⑤ | Q4: ⑥ | R4: 合計 | T4: 自治体名 | U4: ① | V4: ② | W4: ③ | X4: ④ | Y4: ⑤ | Z4: ⑥ | AA4: 合計
C5: 排出基準超過に係る行政指導施設数 | D5: 測定不実施、測定回数不足、未記録、未保存及び虚偽の記録による行政指導施設数 | E5: 氏名の変更等の届出書及び承継届出書の未届出による行政指導施設数 | F5: 設置届出書・変更届出書及び使用届出書の未届出による行政指導施設数 | G5: 設置届出書等の届出内容の不備による行政指導施設数 | H5: その他 | L5: 排出基準超過に係る行政指導施設数 | M5: 測定不実施、測定回数不足、未記録、未保存及び虚偽の記録による行政指導施設数 | N5: 氏名の変更等の届出書及び承継届出書の未届出による行政指導施設数 | O5: 設置届出書・変更届出書及び使用届出書の未届出による行政指導施設数 | P5: 設置届出書等の届出内容の不備による行政指導施設数 | Q5: その他 | U5: 排出基準超過に係る行政指導施設数 | V5: 測定不実施、測定回数不足、未記録、未保存及び虚偽の記録による行政指導施設数 | W5: 氏名の変更等の届出書及び承継届出書の未届出による行政指導施設数 | X5: 設置届出書・変更届出書及び使用届出書の未届出による行政指導施設数 | Y5: 設置届出書等の届出内容の不備による行政指導施設数 | Z5: その他
B8: 北海道計 | C8: =SUM(C9:C15) -> 2 | D8: =SUM(D9:D15) -> 53 | E8: =SUM(E9:E15) -> 89 | F8: =SUM(F9:F15) -> 53 | G8: =SUM(G9:G15) -> 1 | H8: =SUM(H9:H15) -> 45 | I8: =SUM(I9:I15) -> 243 | K8: 新潟県計 | L8: =SUM(L9:L10) -> 0 | M8: =SUM(M9:M10) -> 44 | N8: =SUM(N9:N10) -> 14 | O8: =SUM(O9:O10) -> 0 | P8: =SUM(P9:P10) -> 2 | Q8: =SUM(Q9:Q10) -> 16 | R8: =SUM(R9:R10) -> 76 | T8: 和歌山県計 | U8: =SUM(U9:U10) -> 0 | V8: =SUM(V9:V10) -> 16 | W8: =SUM(W9:W10) -> 14 | X8: =SUM(X9:X10) -> 9 | Y8: =SUM(Y9:Y10) -> 37 | Z8: =SUM(Z9:Z10) -> 0 | AA8: =SUM(AA9:AA10) -> 76
B9: 札幌市 | C9: 0 | D9: 7 | E9: 1 | F9: 0 | G9: 0 | H9: 0 | I9: =SUM(C9:H9) -> 8 | K9: 新潟市 | L9: 0 | M9: 19 | N9: 7 | O9: 0 | P9: 0 | Q9: 7 | R9: =SUM(L9:Q9) -> 33 | T9: 和歌山市 | U9: 0 | V9: 0 | W9: 0 | X9: 0 | Y9: 0 | Z9: 0 | AA9: =SUM(U9:Z9) -> 0
B10: 函館市 | C10: 0 | D10: 1 | E10: 2 | F10: 2 | G10: 0 | H10: 0 | I10: =SUM(C10:H10) -> 5 | K10: その他・新潟県 | L10: 0 | M10: 25 | N10: 7 | O10: 0 | P10: 2 | Q10: 9 | R10: =SUM(L10:Q10) -> 43 | T10: その他・和歌山県 | U10: 0 | V10: 16 | W10: 14 | X10: 9 | Y10: 37 | Z10: 0 | AA10: =SUM(U10:Z10) -> 76
B11: 小樽市 | C11: 0 | D11: 0 | E11: 1 | F11: 0 | G11: 0 | H11: 0 | I11: =SUM(C11:H11) -> 1 | K11: 富山県計 | L11: =SUM(L12:L13) -> 0 | M11: =SUM(M12:M13) -> 1 | N11: =SUM(N12:N13) -> 0 | O11: =SUM(O12:O13) -> 1 | P11: =SUM(P12:P13) -> 0 | Q11: =SUM(Q12:Q13) -> 0 | R11: =SUM(R12:R13) -> 2 | T11: 鳥取県計 | U11: =SUM(U12:U13) -> 0 | V11: =SUM(V12:V13) -> 0 | W11: =SUM(W12:W13) -> 0 | X11: =SUM(X12:X13) -> 0 | Y11: =SUM(Y12:Y13) -> 0 | Z11: =SUM(Z12:Z13) -> 0 | AA11: =SUM(AA12:AA13) -> 0
B12: 旭川市 | C12: 0 | D12: 4 | E12: 22 | F12: 5 | G12: 0 | H12: 13 | I12: =SUM(C12:H12) -> 44 | K12: 富山市 | L12: 0 | M12: 0 | N12: 0 | O12: 1 | P12: 0 | Q12: 0 | R12: =SUM(L12:Q12) -> 1 | T12: 鳥取市 | U12: 0 | V12: 0 | W12: 0 | X12: 0 | Y12: 0 | Z12: 0 | AA12: =SUM(U12:Z12) -> 0
B13: 室蘭市 | C13: 0 | D13: 0 | E13: 0 | F13: 0 | G13: 0 | H13: 0 | I13: =SUM(C13:H13) -> 0 | K13: その他・富山県 | L13: 0 | M13: 1 | N13: 0 | O13: 0 | P13: 0 | Q13: 0 | R13: =SUM(L13:Q13) -> 1 | T13: その他・鳥取県 | U13: 0 | V13: 0 | W13: 0 | X13: 0 | Y13: 0 | Z13: 0 | AA13: =SUM(U13:Z13) -> 0
B14: 苫小牧市 | C14: 0 | D14: 0 | E14: 18 | F14: 2 | G14: 0 | H14: 0 | I14: =SUM(C14:H14) -> 20 | K14: 石川県計 | L14: =SUM(L15:L16) -> 0 | M14: =SUM(M15:M16) -> 0 | N14: =SUM(N15:N16) -> 0 | O14: =SUM(O15:O16) -> 1 | P14: =SUM(P15:P16) -> 0 | Q14: =SUM(Q15:Q16) -> 1 | R14: =SUM(R15:R16) -> 2 | T14: 島根県計 | U14: =SUM(U15:U16) -> 0 | V14: =SUM(V15:V16) -> 3 | W14: =SUM(W15:W16) -> 2 | X14: =SUM(X15:X16) -> 0 | Y14: =SUM(Y15:Y16) -> 0 | Z14: =SUM(Z15:Z16) -> 1 | AA14: =SUM(AA15:AA16) -> 6
B15: その他・北海道 | C15: 2 | D15: 41 | E15: 45 | F15: 44 | G15: 1 | H15: 32 | I15: =SUM(C15:H15) -> 165 | K15: 金沢市 | L15: 0 | M15: 0 | N15: 0 | O15: 0 | P15: 0 | Q15: 0 | R15: =SUM(L15:Q15) -> 0 | T15: 松江市 | U15: 0 | V15: 0 | W15: 0 | X15: 0 | Y15: 0 | Z15: 0 | AA15: =SUM(U15:Z15) -> 0
B16: 青森県計 | C16: =SUM(C17:C19) -> 1 | D16: =SUM(D17:D19) -> 16 | E16: =SUM(E17:E19) -> 14 | F16: =SUM(F17:F19) -> 4 | G16: =SUM(G17:G19) -> 0 | H16: =SUM(H17:H19) -> 4 | I16: =SUM(I17:I19) -> 39 | K16: その他・石川県 | L16: 0 | M16: 0 | N16: 0 | O16: 1 | P16: 0 | Q16: 1 | R16: =SUM(L16:Q16) -> 2 | T16: その他・島根県 | U16: 0 | V16: 3 | W16: 2 | X16: 0 | Y16: 0 | Z16: 1 | AA16: =SUM(U16:Z16) -> 6
B17: 青森市 | C17: 1 | D17: 2 | E17: 2 | F17: 0 | G17: 0 | H17: 0 | I17: =SUM(C17:H17) -> 5 | K17: 福井県計 | L17: =SUM(L18:L19) -> 0 | M17: =SUM(M18:M19) -> 2 | N17: =SUM(N18:N19) -> 0 | O17: =SUM(O18:O19) -> 0 | P17: =SUM(P18:P19) -> 0 | Q17: =SUM(Q18:Q19) -> 0 | R17: =SUM(R18:R19) -> 2 | T17: 岡山県計 | U17: =SUM(U18:U20) -> 0 | V17: =SUM(V18:V20) -> 12 | W17: =SUM(W18:W20) -> 5 | X17: =SUM(X18:X20) -> 8 | Y17: =SUM(Y18:Y20) -> 1 | Z17: =SUM(Z18:Z20) -> 10 | AA17: =SUM(AA18:AA20) -> 36
B18: 八戸市 | C18: 0 | D18: 1 | E18: 0 | F18: 2 | G18: 0 | H18: 0 | I18: =SUM(C18:H18) -> 3 | K18: 福井市 | L18: 0 | M18: 2 | N18: 0 | O18: 0 | P18: 0 | Q18: 0 | R18: =SUM(L18:Q18) -> 2 | T18: 岡山市 | U18: 0 | V18: 2 | W18: 0 | X18: 0 | Y18: 0 | Z18: 0 | AA18: =SUM(U18:Z18) -> 2
B19: その他・青森県 | C19: 0 | D19: 13 | E19: 12 | F19: 2 | G19: 0 | H19: 4 | I19: =SUM(C19:H19) -> 31 | K19: その他・福井県 | L19: 0 | M19: 0 | N19: 0 | O19: 0 | P19: 0 | Q19: 0 | R19: =SUM(L19:Q19) -> 0 | T19: 倉敷市 | U19: 0 | V19: 2 | W19: 4 | X19: 3 | Y19: 1 | Z19: 0 | AA19: =SUM(U19:Z19) -> 10
B20: 岩手県計 | C20: =SUM(C21:C22) -> 0 | D20: =SUM(D21:D22) -> 0 | E20: =SUM(E21:E22) -> 3 | F20: =SUM(F21:F22) -> 2 | G20: =SUM(G21:G22) -> 0 | H20: =SUM(H21:H22) -> 0 | I20: =SUM(I21:I22) -> 5 | K20: 山梨県計 | L20: =SUM(L21:L22) -> 0 | M20: =SUM(M21:M22) -> 8 | N20: =SUM(N21:N22) -> 14 | O20: =SUM(O21:O22) -> 10 | P20: =SUM(P21:P22) -> 0 | Q20: =SUM(Q21:Q22) -> 3 | R20: =SUM(R21:R22) -> 35 | T20: その他・岡山県 | U20: 0 | V20: 8 | W20: 1 | X20: 5 | Y20: 0 | Z20: 10 | AA20: =SUM(U20:Z20) -> 24
B21: 盛岡市 | C21: 0 | D21: 0 | E21: 1 | F21: 2 | G21: 0 | H21: 0 | I21: =SUM(C21:H21) -> 3 | K21: 甲府市 | L21: 0 | M21: 1 | N21: 5 | O21: 5 | P21: 0 | Q21: 3 | R21: =SUM(L21:Q21) -> 14 | T21: 広島県計 | U21: =SUM(U22:U25) -> 0 | V21: =SUM(V22:V25) -> 0 | W21: =SUM(W22:W25) -> 0 | X21: =SUM(X22:X25) -> 0 | Y21: =SUM(Y22:Y25) -> 0 | Z21: =SUM(Z22:Z25) -> 9 | AA21: =SUM(AA22:AA25) -> 9
B22: その他・岩手県 | C22: 0 | D22: 0 | E22: 2 | F22: 0 | G22: 0 | H22: 0 | I22: =SUM(C22:H22) -> 2 | K22: その他・山梨県 | L22: 0 | M22: 7 | N22: 9 | O22: 5 | P22: 0 | Q22: 0 | R22: =SUM(L22:Q22) -> 21 | T22: 広島市 | U22: 0 | V22: 0 | W22: 0 | X22: 0 | Y22: 0 | Z22: 9 | AA22: =SUM(U22:Z22) -> 9
B23: 宮城県計 | C23: =SUM(C24:C25) -> 1 | D23: =SUM(D24:D25) -> 0 | E23: =SUM(E24:E25) -> 19 | F23: =SUM(F24:F25) -> 3 | G23: =SUM(G24:G25) -> 0 | H23: =SUM(H24:H25) -> 8 | I23: =SUM(I24:I25) -> 31 | K23: 長野県計 | L23: =SUM(L24:L26) -> 0 | M23: =SUM(M24:M26) -> 2 | N23: =SUM(N24:N26) -> 8 | O23: =SUM(O24:O26) -> 2 | P23: =SUM(P24:P26) -> 1 | Q23: =SUM(Q24:Q26) -> 3 | R23: =SUM(R24:R26) -> 16 | T23: 呉市 | U23: 0 | V23: 0 | W23: 0 | X23: 0 | Y23: 0 | Z23: 0 | AA23: =SUM(U23:Z23) -> 0
B24: 仙台市 | C24: 0 | D24: 0 | E24: 19 | F24: 2 | G24: 0 | H24: 8 | I24: =SUM(C24:H24) -> 29 | K24: 長野市 | L24: 0 | M24: 1 | N24: 0 | O24: 1 | P24: 0 | Q24: 0 | R24: =SUM(L24:Q24) -> 2 | T24: 福山市 | U24: 0 | V24: 0 | W24: 0 | X24: 0 | Y24: 0 | Z24: 0 | AA24: =SUM(U24:Z24) -> 0
B25: その他・宮城県 | C25: 1 | D25: 0 | E25: 0 | F25: 1 | G25: 0 | H25: 0 | I25: =SUM(C25:H25) -> 2 | K25: 松本市 | L25: 0 | M25: 0 | N25: 1 | O25: 0 | P25: 0 | Q25: 0 | R25: =SUM(L25:Q25) -> 1 | T25: その他・広島県 | U25: 0 | V25: 0 | W25: 0 | X25: 0 | Y25: 0 | Z25: 0 | AA25: =SUM(U25:Z25) -> 0
B26: 秋田県計 | C26: =SUM(C27:C28) -> 0 | D26: =SUM(D27:D28) -> 9 | E26: =SUM(E27:E28) -> 4 | F26: =SUM(F27:F28) -> 9 | G26: =SUM(G27:G28) -> 1 | H26: =SUM(H27:H28) -> 6 | I26: =SUM(I27:I28) -> 29 | K26: その他・長野県 | L26: 0 | M26: 1 | N26: 7 | O26: 1 | P26: 1 | Q26: 3 | R26: =SUM(L26:Q26) -> 13 | T26: 山口県計 | U26: =SUM(U27:U28) -> 0 | V26: =SUM(V27:V28) -> 7 | W26: =SUM(W27:W28) -> 9 | X26: =SUM(X27:X28) -> 1 | Y26: =SUM(Y27:Y28) -> 0 | Z26: =SUM(Z27:Z28) -> 1 | AA26: =SUM(AA27:AA28) -> 18
B27: 秋田市 | C27: 0 | D27: 0 | E27: 0 | F27: 1 | G27: 0 | H27: 1 | I27: =SUM(C27:H27) -> 2 | K27: 岐阜県計 | L27: =SUM(L28:L29) -> 0 | M27: =SUM(M28:M29) -> 3 | N27: =SUM(N28:N29) -> 5 | O27: =SUM(O28:O29) -> 4 | P27: =SUM(P28:P29) -> 0 | Q27: =SUM(Q28:Q29) -> 9 | R27: =SUM(R28:R29) -> 21 | T27: 下関市 | U27: 0 | V27: 3 | W27: 9 | X27: 0 | Y27: 0 | Z27: 0 | AA27: =SUM(U27:Z27) -> 12
B28: その他・秋田県 | C28: 0 | D28: 9 | E28: 4 | F28: 8 | G28: 1 | H28: 5 | I28: =SUM(C28:H28) -> 27 | K28: 岐阜市 | L28: 0 | M28: 1 | N28: 4 | O28: 1 | P28: 0 | Q28: 8 | R28: =SUM(L28:Q28) -> 14 | T28: その他・山口県 | U28: 0 | V28: 4 | W28: 0 | X28: 1 | Y28: 0 | Z28: 1 | AA28: =SUM(U28:Z28) -> 6
B29: 山形県計 | C29: =SUM(C30:C31) -> 0 | D29: =SUM(D30:D31) -> 4 | E29: =SUM(E30:E31) -> 2 | F29: =SUM(F30:F31) -> 1 | G29: =SUM(G30:G31) -> 0 | H29: =SUM(H30:H31) -> 1 | I29: =SUM(I30:I31) -> 8 | K29: その他・岐阜県 | L29: 0 | M29: 2 | N29: 1 | O29: 3 | P29: 0 | Q29: 1 | R29: =SUM(L29:Q29) -> 7 | T29: 徳島県計 | U29: =SUM(U30:U30) -> 0 | V29: =SUM(V30:V30) -> 0 | W29: =SUM(W30:W30) -> 17 | X29: =SUM(X30:X30) -> 6 | Y29: =SUM(Y30:Y30) -> 0 | Z29: =SUM(Z30:Z30) -> 2 | AA29: =SUM(AA30:AA30) -> 25
B30: 山形市 | C30: 0 | D30: 0 | E30: 0 | F30: 0 | G30: 0 | H30: 0 | I30: =SUM(C30:H30) -> 0 | K30: 静岡県計 | L30: =SUM(L31:L33) -> 2 | M30: =SUM(M31:M33) -> 32 | N30: =SUM(N31:N33) -> 16 | O30: =SUM(O31:O33) -> 13 | P30: =SUM(P31:P33) -> 3 | Q30: =SUM(Q31:Q33) -> 67 | R30: =SUM(R31:R33) -> 133 | T30: 徳島県 | U30: 0 | V30: 0 | W30: 17 | X30: 6 | Y30: 0 | Z30: 2 | AA30: =SUM(U30:Z30) -> 25
B31: その他・山形県 | C31: 0 | D31: 4 | E31: 2 | F31: 1 | G31: 0 | H31: 1 | I31: =SUM(C31:H31) -> 8 | K31: 静岡市 | L31: 1 | M31: 9 | N31: 0 | O31: 0 | P31: 0 | Q31: 18 | R31: =SUM(L31:Q31) -> 28 | T31: 香川県計 | U31: =SUM(U32:U33) -> 0 | V31: =SUM(V32:V33) -> 3 | W31: =SUM(W32:W33) -> 0 | X31: =SUM(X32:X33) -> 8 | Y31: =SUM(Y32:Y33) -> 0 | Z31: =SUM(Z32:Z33) -> 0 | AA31: =SUM(AA32:AA33) -> 11
B32: 福島県計 | C32: =SUM(C33:C36) -> 2 | D32: =SUM(D33:D36) -> 20 | E32: =SUM(E33:E36) -> 46 | F32: =SUM(F33:F36) -> 7 | G32: =SUM(G33:G36) -> 0 | H32: =SUM(H33:H36) -> 35 | I32: =SUM(I33:I36) -> 110 | K32: 浜松市 | L32: 0 | M32: 8 | N32: 5 | O32: 3 | P32: 0 | Q32: 14 | R32: =SUM(L32:Q32) -> 30 | T32: 高松市 | U32: 0 | V32: 0 | W32: 0 | X32: 2 | Y32: 0 | Z32: 0 | AA32: =SUM(U32:Z32) -> 2
B33: 福島市 | C33: 0 | D33: 0 | E33: 0 | F33: 0 | G33: 0 | H33: 0 | I33: =SUM(C33:H33) -> 0 | K33: その他・静岡県 | L33: 1 | M33: 15 | N33: 11 | O33: 10 | P33: 3 | Q33: 35 | R33: =SUM(L33:Q33) -> 75 | T33: その他・香川県 | U33: 0 | V33: 3 | W33: 0 | X33: 6 | Y33: 0 | Z33: 0 | AA33: =SUM(U33:Z33) -> 9
B34: 郡山市 | C34: 0 | D34: 0 | E34: 0 | F34: 0 | G34: 0 | H34: 0 | I34: =SUM(C34:H34) -> 0 | K34: 愛知県計 | L34: =SUM(L35:L40) -> 1 | M34: =SUM(M35:M40) -> 14 | N34: =SUM(N35:N40) -> 19 | O34: =SUM(O35:O40) -> 12 | P34: =SUM(P35:P40) -> 2 | Q34: =SUM(Q35:Q40) -> 991 | R34: =SUM(R35:R40) -> 1039 | T34: 愛媛県計 | U34: =SUM(U35:U36) -> 0 | V34: =SUM(V35:V36) -> 7 | W34: =SUM(W35:W36) -> 2 | X34: =SUM(X35:X36) -> 1 | Y34: =SUM(Y35:Y36) -> 0 | Z34: =SUM(Z35:Z36) -> 10 | AA34: =SUM(AA35:AA36) -> 20
B35: いわき市 | C35: 0 | D35: 1 | E35: 8 | F35: 0 | G35: 0 | H35: 0 | I35: =SUM(C35:H35) -> 9 | K35: 名古屋市 | L35: 1 | M35: 4 | N35: 1 | O35: 2 | P35: 2 | Q35: 0 | R35: =SUM(L35:Q35) -> 10 | T35: 松山市 | U35: 0 | V35: 4 | W35: 2 | X35: 0 | Y35: 0 | Z35: 10 | AA35: =SUM(U35:Z35) -> 16
B36: その他・福島県 | C36: 2 | D36: 19 | E36: 38 | F36: 7 | G36: 0 | H36: 35 | I36: =SUM(C36:H36) -> 101 | K36: 豊橋市 | L36: 0 | M36: 0 | N36: 0 | O36: 0 | P36: 0 | Q36: 0 | R36: =SUM(L36:Q36) -> 0 | T36: その他・愛媛県 | U36: 0 | V36: 3 | W36: 0 | X36: 1 | Y36: 0 | Z36: 0 | AA36: =SUM(U36:Z36) -> 4
B37: 茨城県計 | C37: =SUM(C38:C39) -> 0 | D37: =SUM(D38:D39) -> 34 | E37: =SUM(E38:E39) -> 47 | F37: =SUM(F38:F39) -> 7 | G37: =SUM(G38:G39) -> 21 | H37: =SUM(H38:H39) -> 55 | I37: =SUM(I38:I39) -> 164 | K37: 岡崎市 | L37: 0 | M37: 0 | N37: 0 | O37: 0 | P37: 0 | Q37: 0 | R37: =SUM(L37:Q37) -> 0 | T37: 高知県計 | U37: =SUM(U38:U39) -> 0 | V37: =SUM(V38:V39) -> 11 | W37: =SUM(W38:W39) -> 5 | X37: =SUM(X38:X39) -> 0 | Y37: =SUM(Y38:Y39) -> 0 | Z37: =SUM(Z38:Z39) -> 0 | AA37: =SUM(AA38:AA39) -> 16
B38: 水戸市 | C38: 0 | D38: 0 | E38: 2 | F38: 1 | G38: 1 | H38: 0 | I38: =SUM(C38:H38) -> 4 | K38: 一宮市 | L38: 0 | M38: 5 | N38: 14 | O38: 10 | P38: 0 | Q38: 19 | R38: =SUM(L38:Q38) -> 48 | T38: 高知市 | U38: 0 | V38: 11 | W38: 4 | X38: 0 | Y38: 0 | Z38: 0 | AA38: =SUM(U38:Z38) -> 15
B39: その他・茨城県 | C39: 0 | D39: 34 | E39: 45 | F39: 6 | G39: 20 | H39: 55 | I39: =SUM(C39:H39) -> 160 | K39: 豊田市 | L39: 0 | M39: 5 | N39: 4 | O39: 0 | P39: 0 | Q39: 17 | R39: =SUM(L39:Q39) -> 26 | T39: その他・高知県 | U39: 0 | V39: 0 | W39: 1 | X39: 0 | Y39: 0 | Z39: 0 | AA39: =SUM(U39:Z39) -> 1
B40: 栃木県計 | C40: =SUM(C41:C42) -> 2 | D40: =SUM(D41:D42) -> 5 | E40: =SUM(E41:E42) -> 11 | F40: =SUM(F41:F42) -> 0 | G40: =SUM(G41:G42) -> 0 | H40: =SUM(H41:H42) -> 2 | I40: =SUM(I41:I42) -> 20 | K40: その他・愛知県 | L40: 0 | M40: 0 | N40: 0 | O40: 0 | P40: 0 | Q40: 955 | R40: =SUM(L40:Q40) -> 955 | T40: 福岡県計 | U40: =SUM(U41:U45) -> 0 | V40: =SUM(V41:V45) -> 7 | W40: =SUM(W41:W45) -> 3 | X40: =SUM(X41:X45) -> 0 | Y40: =SUM(Y41:Y45) -> 11 | Z40: =SUM(Z41:Z45) -> 2 | AA40: =SUM(AA41:AA45) -> 23
B41: 宇都宮市 | C41: 0 | D41: 0 | E41: 0 | F41: 0 | G41: 0 | H41: 0 | I41: =SUM(C41:H41) -> 0 | K41: 三重県計 | L41: =SUM(L42:L43) -> 0 | M41: =SUM(M42:M43) -> 1 | N41: =SUM(N42:N43) -> 6 | O41: =SUM(O42:O43) -> 2 | P41: =SUM(P42:P43) -> 2 | Q41: =SUM(Q42:Q43) -> 10 | R41: =SUM(R42:R43) -> 21 | T41: 北九州市 | U41: 0 | V41: 5 | W41: 3 | X41: 0 | Y41: 11 | Z41: 2 | AA41: =SUM(U41:Z41) -> 21
B42: その他・栃木県 | C42: 2 | D42: 5 | E42: 11 | F42: 0 | G42: 0 | H42: 2 | I42: =SUM(C42:H42) -> 20 | K42: 四日市市 | L42: 0 | M42: 0 | N42: 0 | O42: 0 | P42: 0 | Q42: 0 | R42: =SUM(L42:Q42) -> 0 | T42: 福岡市 | U42: 0 | V42: 2 | W42: 0 | X42: 0 | Y42: 0 | Z42: 0 | AA42: =SUM(U42:Z42) -> 2
B43: 群馬県計 | C43: =SUM(C44:C46) -> 0 | D43: =SUM(D44:D46) -> 17 | E43: =SUM(E44:E46) -> 51 | F43: =SUM(F44:F46) -> 23 | G43: =SUM(G44:G46) -> 0 | H43: =SUM(H44:H46) -> 3 | I43: =SUM(I44:I46) -> 94 | K43: その他・三重県 | L43: 0 | M43: 1 | N43: 6 | O43: 2 | P43: 2 | Q43: 10 | R43: =SUM(L43:Q43) -> 21 | T43: 大牟田市 | U43: 0 | V43: 0 | W43: 0 | X43: 0 | Y43: 0 | Z43: 0 | AA43: =SUM(U43:Z43) -> 0
B44: 前橋市 | C44: 0 | D44: 1 | E44: 1 | F44: 1 | G44: 0 | H44: 0 | I44: =SUM(C44:H44) -> 3 | K44: 滋賀県計 | L44: =SUM(L45:L46) -> 2 | M44: =SUM(M45:M46) -> 20 | N44: =SUM(N45:N46) -> 8 | O44: =SUM(O45:O46) -> 5 | P44: =SUM(P45:P46) -> 0 | Q44: =SUM(Q45:Q46) -> 5 | R44: =SUM(R45:R46) -> 40 | T44: 久留米市 | U44: 0 | V44: 0 | W44: 0 | X44: 0 | Y44: 0 | Z44: 0 | AA44: =SUM(U44:Z44) -> 0
...

Sheet 表6.3
B2: 表6.3(1) 立入検査・勧告その他行政指導件数 都道府県市別（大気汚染防止法に係るばい煙発生施設） | AB2: 表6.3(2) 立入検査・勧告その他行政指導件数 都道府県市別（大気汚染防止法に係るばい煙発生施設） | BB2: 表6.3(3) 立入検査・勧告その他行政指導件数 都道府県市別（大気汚染防止法に係るばい煙発生施設）
B4: 自治体名 | C4: 立入検査実施工場・事業場数 | D4: 立入検査実施施設数 | E4: 計画変更命令等施設数 | F4: 排出基準違反告発施設数 | G4: 改善命令施設数 | H4: 一時停止命令施設数 | I4: (Ｂ)(Ｄ)又は(F)の命令違反告発施設数 | J4: 届出違反告発施設数 | K4: 季節による燃料 使用規制地域内 | N4: 硫黄酸化物に係る指定地域内 | U4: 窒素酸化物に係る指定地域内 | Y4: 測定記録の保存等に係る違反の告発施設数 | Z4: 行政指導施設数 | AB4: 自治体名 | AC4: 立入検査実施工場・事業場数 | AD4: 立入検査実施施設数 | AE4: 計画変更命令等施設数 | AF4: 排出基準違反告発施設数 | AG4: 改善命令施設数 | AH4: 一時停止命令施設数 | AI4: (B)(E)又は(F)の命令違反告発施設数 | AJ4: 届出違反告発施設数 | AK4: 季節による燃料 使用規制地域内 | AN4: 硫黄酸化物に係る指定地域内 | AU4: 窒素酸化物に係る指定地域内 | AY4: 測定記録の保存等に係る違反の告発施設数 | AZ4: 行政指導施設数 | BB4: 自治体名 | BC4: 立入検査実施工場・事業場数 | BD4: 立入検査実施施設数 | BE4: 計画変更命令等施設数 | BF4: 排出基準違反告発施設数 | BG4: 改善命令施設数 | BH4: 一時停止命令施設数 | BI4: (B)(E)又は(F)の命令違反告発施設数 | BJ4: 届出違反告発施設数 | BK4: 季節による燃料 使用規制地域内 | BN4: 硫黄酸化物に係る指定地域内 | BU4: 窒素酸化物に係る指定地域内 | BY4: 測定記録の保存等に係る違反の告発施設数 | BZ4: 行政指導施設数
N5: 特定工場・事業場 | R5: 特定工場・事業場 以外の工場・事業場 | U5: 特定工場・事業場 | AN5: 特定工場・事業場 | AR5: 特定工場・事業場 以外の工場・事業場 | AU5: 特定工場・事業場 | BN5: 特定工場・事業場 | BR5: 特定工場・事業場 以外の工場・事業場 | BU5: 特定工場・事業場
K6: 燃料基準適合 勧告施設数 | L6: 燃料基準適合 命令施設数 | M6: (K)の命令違反告発 施設数 | N6: 計画変更命令 工場・事業場数 | O6: 総量規制基準違反告発 工場・事業場数 | P6: 改善命令等 工場・事業場数 | Q6: (O)の命令違反告発 工場・事業場数 | R6: 燃料基準適合勧告 工場・事業場数 | S6: 燃料基準適合命令 工場・事業場数 | T6: (S)の命令違反告発 工場・事業場数 | U6: 計画変更命令 工場・事業場数 | V6: 総量規制基準違反告発 工場・事業場数 | W6: 改善命令等 工場・事業場数 | X6: (W)の命令違反告発 工場・事業場数 | AK6: 燃料基準適合 勧告施設数 | AL6: 燃料基準適合 命令施設数 | AM6: (K)の命令違反告発 施設数 | AN6: 計画変更命令 工場・事業場数 | AO6: 総量規制基準違反告発 工場・事業場数 | AP6: 改善命令等 工場・事業場数 | AQ6: (O)の命令違反告発 工場・事業場数 | AR6: 燃料基準適合勧告 工場・事業場数 | AS6: 燃料基準適合命令 工場・事業場数 | AT6: (S)の命令違反告発 工場・事業場数 | AU6: 計画変更命令 工場・事業場数 | AV6: 総量規制基準違反告発 工場・事業場数 | AW6: 改善命令等 工場・事業場数 | AX6: (W)の命令違反告発 工場・事業場数 | BK6: 燃料基準適合 勧告施設数 | BL6: 燃料基準適合 命令施設数 | BM6: (K)の命令違反告発 施設数 | BN6: 計画変更命令 工場・事業場数 | BO6: 総量規制基準違反告発 工場・事業場数 | BP6: 改善命令等 工場・事業場数 | BQ6: (O)の命令違反告発 工場・事業場数 | BR6: 燃料基準適合勧告 工場・事業場数 | BS6: 燃料基準適合命令 工場・事業場数 | BT6: (S)の命令違反告発 工場・事業場数 | BU6: 計画変更命令 工場・事業場数 | BV6: 総量規制基準違反告発 工場・事業場数 | BW6: 改善命令等 工場・事業場数 | BX6: (W)の命令違反告発 工場・事業場数
C7: (A) | D7: (A') | E7: (B) | F7: (C) | G7: (E) | H7: (F) | I7: (G) | J7: (H) | K7: (J) | L7: (K) | M7: (L) | N7: (M) | O7: (N) | P7: (O) | Q7: (P) | R7: (R) | S7: (S) | T7: (T) | U7: (U) | V7: (V) | W7: (W) | X7: (X) | Y7: (c) | Z7: (d) | AC7: (A) | AD7: (A') | AE7: (B) | AF7: (C) | AG7: (E) | AH7: (F) | AI7: (G) | AJ7: (H) | AK7: (J) | AL7: (K) | AM7: (L) | AN7: (M) | AO7: (N) | AP7: (O) | AQ7: (P) | AR7: (R) | AS7: (S) | AT7: (T) | AU7: (U) | AV7: (V) | AW7: (W) | AX7: (X) | AY7: (c) | AZ7: (d) | BC7: (A) | BD7: (A') | BE7: (B) | BF7: (C) | BG7: (E) | BH7: (F) | BI7: (G) | BJ7: (H) | BK7: (J) | BL7: (K) | BM7: (L) | BN7: (M) | BO7: (N) | BP7: (O) | BQ7: (P) | BR7: (R) | BS7: (S) | BT7: (T) | BU7: (U) | BV7: (V) | BW7: (W) | BX7: (X) | BY7: (c) | BZ7: (d)
B8: 北海道計 | C8: =SUM(C9:C15) -> 481 | D8: =SUM(D9:D15) -> 1322 | E8: =SUM(E9:E15) -> 0 | F8: =SUM(F9:F15) -> 0 | G8: =SUM(G9:G15) -> 0 | H8: =SUM(H9:H15) -> 0 | I8: =SUM(I9:I15) -> 0 | J8: =SUM(J9:J15) -> 0 | ... Z8: =SUM(Z9:Z15) -> 211 | AB8: 新潟県計 | AC8: =SUM(AC9:AC10) -> 101 | AD8: =SUM(AD9:AD10) -> 372 | AE8: =SUM(AE9:AE10) -> 0 | AF8: =SUM(AF9:AF10) -> 0 | AG8: =SUM(AG9:AG10) -> 0 | AH8: =SUM(AH9:AH10) -> 0 | AI8: =SUM(AI9:AI10) -> 0 | AJ8: =SUM(AJ9:AJ10) -> 0 | ... AZ8: =SUM(AZ9:AZ10) -> 65 | BB8: 和歌山県計 | BC8: =SUM(BC9:BC10) -> 66 | BD8: =SUM(BD9:BD10) -> 227 | BE8: =SUM(BE9:BE10) -> 0 | BF8: =SUM(BF9:BF10) -> 0 | BG8: =SUM(BG9:BG10) -> 0 | BH8: =SUM(BH9:BH10) -> 0 | BI8: =SUM(BI9:BI10) -> 0 | BJ8: =SUM(BJ9:BJ10) -> 0 | ... BZ8: =SUM(BZ9:BZ10) -> 56
B9: 札幌市 | C9: 13 | D9: 22 | E9: 0 | F9: 0 | G9: 0 | H9: 0 | I9: 0 | J9: 0 | K9: 0 | L9: 0 | M9: 0 | N9: 0 | O9: 0 | P9: 0 | Q9: 0 | R9: 0 | S9: 0 | T9: 0 | U9: 0 | V9: 0 | W9: 0 | X9: 0 | Y9: 0 | Z9: 8 | AB9: 新潟市 | AC9: 39 | AD9: 86 | AE9: 0 | AF9: 0 | AG9: 0 | AH9: 0 | AI9: 0 | AJ9: 0 | AK9: 0 | AL9: 0 | AM9: 0 | AN9: 0 | AO9: 0 | AP9: 0 | AQ9: 0 | AR9: 0 | AS9: 0 | AT9: 0 | AU9: 0 | AV9: 0 | AW9: 0 | AX9: 0 | AY9: 0 | AZ9: 29 | BB9: 和歌山市 | BC9: 14 | BD9: 15 | BE9: 0 | BF9: 0 | BG9: 0 | BH9: 0 | BI9: 0 | BJ9: 0 | BK9: 0 | BL9: 0 | BM9: 0 | BN9: 0 | BO9: 0 | BP9: 0 | BQ9: 0 | BR9: 0 | BS9: 0 | BT9: 0 | BU9: 0 | BV9: 0 | BW9: 0 | BX9: 0 | BY9: 0 | BZ9: 0
B10: 函館市 | C10: 17 | D10: 40 | E10: 0 | F10: 0 | G10: 0 | H10: 0 | I10: 0 | J10: 0 | K10: 0 | L10: 0 | M10: 0 | N10: 0 | O10: 0 | P10: 0 | Q10: 0 | R10: 0 | S10: 0 | T10: 0 | U10: 0 | V10: 0 | W10: 0 | X10: 0 | Y10: 0 | Z10: 4 | AB10: その他・新潟県 | AC10: 62 | AD10: 286 | AE10: 0 | AF10: 0 | AG10: 0 | AH10: 0 | AI10: 0 | AJ10: 0 | AK10: 0 | AL10: 0 | AM10: 0 | AN10: 0 | AO10: 0 | AP10: 0 | AQ10: 0 | AR10: 0 | AS10: 0 | AT10: 0 | AU10: 0 | AV10: 0 | AW10: 0 | AX10: 0 | AY10: 0 | AZ10: 36 | BB10: その他・和歌山県 | BC10: 52 | BD10: 212 | BE10: 0 | BF10: 0 | BG10: 0 | BH10: 0 | BI10: 0 | BJ10: 0 | BK10: 0 | BL10: 0 | BM10: 0 | BN10: 0 | BO10: 0 | BP10: 0 | BQ10: 0 | BR10: 0 | BS10: 0 | BT10: 0 | BU10: 0 | BV10: 0 | BW10: 0 | BX10: 0 | BY10: 0 | BZ10: 56
B11: 小樽市 | C11: 12 | D11: 18 | E11: 0 | F11: 0 | G11: 0 | H11: 0 | I11: 0 | J11: 0 | K11: 0 | L11: 0 | M11: 0 | N11: 0 | O11: 0 | P11: 0 | Q11: 0 | R11: 0 | S11: 0 | T11: 0 | U11: 0 | V11: 0 | W11: 0 | X11: 0 | Y11: 0 | Z11: 1 | AB11: 富山県計 | AC11: =SUM(AC12:AC13) -> 44 | AD11: =SUM(AD12:AD13) -> 318 | AE11: =SUM(AE12:AE13) -> 0 | AF11: =SUM(AF12:AF13) -> 0 | AG11: =SUM(AG12:AG13) -> 0 | AH11: =SUM(AH12:AH13) -> 0 | AI11: =SUM(AI12:AI13) -> 0 | AJ11: =SUM(AJ12:AJ13) -> 0 | ... AZ11: =SUM(AZ12:AZ13) -> 2 | BB11: 鳥取県計 | BC11: =SUM(BC12:BC13) -> 33 | BD11: =SUM(BD12:BD13) -> 63 | BE11: =SUM(BE12:BE13) -> 0 | BF11: =SUM(BF12:BF13) -> 0 | BG11: =SUM(BG12:BG13) -> 0 | BH11: =SUM(BH12:BH13) -> 0 | BI11: =SUM(BI12:BI13) -> 0 | BJ11: =SUM(BJ12:BJ13) -> 0 | ... BZ11: =SUM(BZ12:BZ13) -> 0
B12: 旭川市 | C12: 62 | D12: 152 | E12: 0 | F12: 0 | G12: 0 | H12: 0 | I12: 0 | J12: 0 | K12: 0 | L12: 0 | M12: 0 | N12: 0 | O12: 0 | P12: 0 | Q12: 0 | R12: 0 | S12: 0 | T12: 0 | U12: 0 | V12: 0 | W12: 0 | X12: 0 | Y12: 0 | Z12: 44 | AB12: 富山市 | AC12: 20 | AD12: 79 | AE12: 0 | AF12: 0 | AG12: 0 | AH12: 0 | AI12: 0 | AJ12: 0 | AK12: 0 | AL12: 0 | AM12: 0 | AN12: 0 | AO12: 0 | AP12: 0 | AQ12: 0 | AR12: 0 | AS12: 0 | AT12: 0 | AU12: 0 | AV12: 0 | AW12: 0 | AX12: 0 | AY12: 0 | AZ12: 1 | BB12: 鳥取市 | BC12: 5 | BD12: 12 | BE12: 0 | BF12: 0 | BG12: 0 | BH12: 0 | BI12: 0 | BJ12: 0 | BK12: 0 | BL12: 0 | BM12: 0 | BN12: 0 | BO12: 0 | BP12: 0 | BQ12: 0 | BR12: 0 | BS12: 0 | BT12: 0 | BU12: 0 | BV12: 0 | BW12: 0 | BX12: 0 | BY12: 0 | BZ12: 0
B13: 室蘭市 | C13: 0 | D13: 0 | E13: 0 | F13: 0 | G13: 0 | H13: 0 | I13: 0 | J13: 0 | K13: 0 | L13: 0 | M13: 0 | N13: 0 | O13: 0 | P13: 0 | Q13: 0 | R13: 0 | S13: 0 | T13: 0 | U13: 0 | V13: 0 | W13: 0 | X13: 0 | Y13: 0 | Z13: 0 | AB13: その他・富山県 | AC13: 24 | AD13: 239 | AE13: 0 | AF13: 0 | AG13: 0 | AH13: 0 | AI13: 0 | AJ13: 0 | AK13: 0 | AL13: 0 | AM13: 0 | AN13: 0 | AO13: 0 | AP13: 0 | AQ13: 0 | AR13: 0 | AS13: 0 | AT13: 0 | AU13: 0 | AV13: 0 | AW13: 0 | AX13: 0 | AY13: 0 | AZ13: 1 | BB13: その他・鳥取県 | BC13: 28 | BD13: 51 | BE13: 0 | BF13: 0 | BG13: 0 | BH13: 0 | BI13: 0 | BJ13: 0 | BK13: 0 | BL13: 0 | BM13: 0 | BN13: 0 | BO13: 0 | BP13: 0 | BQ13: 0 | BR13: 0 | BS13: 0 | BT13: 0 | BU13: 0 | BV13: 0 | BW13: 0 | BX13: 0 | BY13: 0 | BZ13: 0
B14: 苫小牧市 | C14: 19 | D14: 34 | E14: 0 | F14: 0 | G14: 0 | H14: 0 | I14: 0 | J14: 0 | K14: 0 | L14: 0 | M14: 0 | N14: 0 | O14: 0 | P14: 0 | Q14: 0 | R14: 0 | S14: 0 | T14: 0 | U14: 0 | V14: 0 | W14: 0 | X14: 0 | Y14: 0 | Z14: 20 | AB14: 石川県計 | AC14: =SUM(AC15:AC16) -> 73 | AD14: =SUM(AD15:AD16) -> 180 | AE14: =SUM(AE15:AE16) -> 0 | AF14: =SUM(AF15:AF16) -> 0 | AG14: =SUM(AG15:AG16) -> 0 | AH14: =SUM(AH15:AH16) -> 0 | AI14: =SUM(AI15:AI16) -> 0 | AJ14: =SUM(AJ15:AJ16) -> 0 | ... AZ14: =SUM(AZ15:AZ16) -> 2 | BB14: 島根県計 | BC14: =SUM(BC15:BC16) -> 9 | BD14: =SUM(BD15:BD16) -> 21 | BE14: =SUM(BE15:BE16) -> 0 | BF14: =SUM(BF15:BF16) -> 0 | BG14: =SUM(BG15:BG16) -> 0 | BH14: =SUM(BH15:BH16) -> 0 | BI14: =SUM(BI15:BI16) -> 0 | BJ14: =SUM(BJ15:BJ16) -> 0 | ... BZ14: =SUM(BZ15:BZ16) -> 6
B15: その他・北海道 | C15: 358 | D15: 1056 | E15: 0 | F15: 0 | G15: 0 | H15: 0 | I15: 0 | J15: 0 | K15: 0 | L15: 0 | M15: 0 | N15: 0 | O15: 0 | P15: 0 | Q15: 0 | R15: 0 | S15: 0 | T15: 0 | U15: 0 | V15: 0 | W15: 0 | X15: 0 | Y15: 0 | Z15: 134 | AB15: 金沢市 | AC15: 8 | AD15: 20 | AE15: 0 | AF15: 0 | AG15: 0 | AH15: 0 | AI15: 0 | AJ15: 0 | AK15: 0 | AL15: 0 | AM15: 0 | AN15: 0 | AO15: 0 | AP15: 0 | AQ15: 0 | AR15: 0 | AS15: 0 | AT15: 0 | AU15: 0 | AV15: 0 | AW15: 0 | AX15: 0 | AY15: 0 | AZ15: 0 | BB15: 松江市 | BC15: 1 | BD15: 2 | BE15: 0 | BF15: 0 | BG15: 0 | BH15: 0 | BI15: 0 | BJ15: 0 | BK15: 0 | BL15: 0 | BM15: 0 | BN15: 0 | BO15: 0 | BP15: 0 | BQ15: 0 | BR15: 0 | BS15: 0 | BT15: 0 | BU15: 0 | BV15: 0 | BW15: 0 | BX15: 0 | BY15: 0 | BZ15: 0
B16: 青森県計 | C16: =SUM(C17:C19) -> 126 | D16: =SUM(D17:D19) -> 361 | E16: =SUM(E17:E19) -> 0 | F16: =SUM(F17:F19) -> 0 | G16: =SUM(G17:G19) -> 0 | H16: =SUM(H17:H19) -> 0 | I16: =SUM(I17:I19) -> 0 | J16: =SUM(J17:J19) -> 0 | ... Z16: =SUM(Z17:Z19) -> 36 | AB16: その他・石川県 | AC16: 65 | AD16: 160 | AE16: 0 | AF16: 0 | AG16: 0 | AH16: 0 | AI16: 0 | AJ16: 0 | AK16: 0 | AL16: 0 | AM16: 0 | AN16: 0 | AO16: 0 | AP16: 0 | AQ16: 0 | AR16: 0 | AS16: 0 | AT16: 0 | AU16: 0 | AV16: 0 | AW16: 0 | AX16: 0 | AY16: 0 | AZ16: 2 | BB16: その他・島根県 | BC16: 8 | BD16: 19 | BE16: 0 | BF16: 0 | BG16: 0 | BH16: 0 | BI16: 0 | BJ16: 0 | BK16: 0 | BL16: 0 | BM16: 0 | BN16: 0 | BO16: 0 | BP16: 0 | BQ16: 0 | BR16: 0 | BS16: 0 | BT16: 0 | BU16: 0 | BV16: 0 | BW16: 0 | BX16: 0 | BY16: 0 | BZ16: 6
B17: 青森市 | C17: 14 | D17: 27 | E17: 0 | F17: 0 | G17: 0 | H17: 0 | I17: 0 | J17: 0 | K17: 0 | L17: 0 | M17: 0 | N17: 0 | O17: 0 | P17: 0 | Q17: 0 | R17: 0 | S17: 0 | T17: 0 | U17: 0 | V17: 0 | W17: 0 | X17: 0 | Y17: 0 | Z17: 5 | AB17: 福井県計 | AC17: =SUM(AC18:AC19) -> 125 | AD17: =SUM(AD18:AD19) -> 550 | AE17: =SUM(AE18:AE19) -> 0 | AF17: =SUM(AF18:AF19) -> 0 | AG17: =SUM(AG18:AG19) -> 0 | AH17: =SUM(AH18:AH19) -> 0 | AI17: =SUM(AI18:AI19) -> 0 | AJ17: =SUM(AJ18:AJ19) -> 0 | ... AZ17: =SUM(AZ18:AZ19) -> 2 | BB17: 岡山県計 | BC17: =SUM(BC18:BC20) -> 148 | BD17: =SUM(BD18:BD20) -> 523 | BE17: =SUM(BE18:BE20) -> 0 | BF17: =SUM(BF18:BF20) -> 0 | BG17: =SUM(BG18:BG20) -> 0 | BH17: =SUM(BH18:BH20) -> 0 | BI17: =SUM(BI18:BI20) -> 0 | BJ17: =SUM(BJ18:BJ20) -> 0 | ... BZ17: =SUM(BZ18:BZ20) -> 35
B18: 八戸市 | C18: 28 | D18: 137 | E18: 0 | F18: 0 | G18: 0 | H18: 0 | I18: 0 | J18: 0 | K18: 0 | L18: 0 | M18: 0 | N18: 0 | O18: 0 | P18: 0 | Q18: 0 | R18: 0 | S18: 0 | T18: 0 | U18: 0 | V18: 0 | W18: 0 | X18: 0 | Y18: 0 | Z18: 3 | AB18: 福井市 | AC18: 47 | AD18: 155 | AE18: 0 | AF18: 0 | AG18: 0 | AH18: 0 | AI18: 0 | AJ18: 0 | AK18: 0 | AL18: 0 | AM18: 0 | AN18: 0 | AO18: 0 | AP18: 0 | AQ18: 0 | AR18: 0 | AS18: 0 | AT18: 0 | AU18: 0 | AV18: 0 | AW18: 0 | AX18: 0 | AY18: 0 | AZ18: 2 | BB18: 岡山市 | BC18: 33 | BD18: 256 | BE18: 0 | BF18: 0 | BG18: 0 | BH18: 0 | BI18: 0 | BJ18: 0 | BK18: 0 | BL18: 0 | BM18: 0 | BN18: 0 | BO18: 0 | BP18: 0 | BQ18: 0 | BR18: 0 | BS18: 0 | BT18: 0 | BU18: 0 | BV18: 0 | BW18: 0 | BX18: 0 | BY18: 0 | BZ18: 2
B19: その他・青森県 | C19: 84 | D19: 197 | E19: 0 | F19: 0 | G19: 0 | H19: 0 | I19: 0 | J19: 0 | K19: 0 | L19: 0 | M19: 0 | N19: 0 | O19: 0 | P19: 0 | Q19: 0 | R19: 0 | S19: 0 | T19: 0 | U19: 0 | V19: 0 | W19: 0 | X19: 0 | Y19: 0 | Z19: 28 | AB19: その他・福井県 | AC19: 78 | AD19: 395 | AE19: 0 | AF19: 0 | AG19: 0 | AH19: 0 | AI19: 0 | AJ19: 0 | AK19: 0 | AL19: 0 | AM19: 0 | AN19: 0 | AO19: 0 | AP19: 0 | AQ19: 0 | AR19: 0 | AS19: 0 | AT19: 0 | AU19: 0 | AV19: 0 | AW19: 0 | AX19: 0 | AY19: 0 | AZ19: 0 | BB19: 倉敷市 | BC19: 45 | BD19: 124 | BE19: 0 | BF19: 0 | BG19: 0 | BH19: 0 | BI19: 0 | BJ19: 0 | BK19: 0 | BL19: 0 | BM19: 0 | BN19: 0 | BO19: 0 | BP19: 0 | BQ19: 0 | BR19: 0 | BS19: 0 | BT19: 0 | BU19: 0 | BV19: 0 | BW19: 0 | BX19: 0 | BY19: 0 | BZ19: 11
B20: 岩手県計 | C20: =SUM(C21:C22) -> 62 | D20: =SUM(D21:D22) -> 268 | E20: =SUM(E21:E22) -> 0 | F20: =SUM(F21:F22) -> 0 | G20: =SUM(G21:G22) -> 0 | H20: =SUM(H21:H22) -> 0 | I20: =SUM(I21:I22) -> 0 | J20: =SUM(J21:J22) -> 0 | ... Z20: =SUM(Z21:Z22) -> 5 | AB20: 山梨県計 | AC20: =SUM(AC21:AC22) -> 49 | AD20: =SUM(AD21:AD22) -> 122 | AE20: =SUM(AE21:AE22) -> 0 | AF20: =SUM(AF21:AF22) -> 0 | AG20: =SUM(AG21:AG22) -> 0 | AH20: =SUM(AH21:AH22) -> 0 | AI20: =SUM(AI21:AI22) -> 0 | AJ20: =SUM(AJ21:AJ22) -> 0 | ... AZ20: =SUM(AZ21:AZ22) -> 21 | BB20: その他・岡山県 | BC20: 70 | BD20: 143 | BE20: 0 | BF20: 0 | BG20: 0 | BH20: 0 | BI20: 0 | BJ20: 0 | BK20: 0 | BL20: 0 | BM20: 0 | BN20: 0 | BO20: 0 | BP20: 0 | BQ20: 0 | BR20: 0 | BS20: 0 | BT20: 0 | BU20: 0 | BV20: 0 | BW20: 0 | BX20: 0 | BY20: 0 | BZ20: 22
B21: 盛岡市 | C21: 12 | D21: 20 | E21: 0 | F21: 0 | G21: 0 | H21: 0 | I21: 0 | J21: 0 | K21: 0 | L21: 0 | M21: 0 | N21: 0 | O21: 0 | P21: 0 | Q21: 0 | R21: 0 | S21: 0 | T21: 0 | U21: 0 | V21: 0 | W21: 0 | X21: 0 | Y21: 0 | Z21: 3 | AB21: 甲府市 | AC21: 5 | AD21: 12 | AE21: 0 | AF21: 0 | AG21: 0 | AH21: 0 | AI21: 0 | AJ21: 0 | AK21: 0 | AL21: 0 | AM21: 0 | AN21: 0 | AO21: 0 | AP21: 0 | AQ21: 0 | AR21: 0 | AS21: 0 | AT21: 0 | AU21: 0 | AV21: 0 | AW21: 0 | AX21: 0 | AY21: 0 | AZ21: 7 | BB21: 広島県計 | BC21: =SUM(BC22:BC25) -> 82 | BD21: =SUM(BD22:BD25) -> 304 | BE21: =SUM(BE22:BE25) -> 0 | BF21: =SUM(BF22:BF25) -> 0 | BG21: =SUM(BG22:BG25) -> 0 | BH21: =SUM(BH22:BH25) -> 0 | BI21: =SUM(BI22:BI25) -> 0 | BJ21: =SUM(BJ22:BJ25) -> 0 | ... BZ21: =SUM(BZ22:BZ25) -> 6
B22: その他・岩手県 | C22: 50 | D22: 248 | E22: 0 | F22: 0 | G22: 0 | H22: 0 | I22: 0 | J22: 0 | K22: 0 | L22: 0 | M22: 0 | N22: 0 | O22: 0 | P22: 0 | Q22: 0 | R22: 0 | S22: 0 | T22: 0 | U22: 0 | V22: 0 | W22: 0 | X22: 0 | Y22: 0 | Z22: 2 | AB22: その他・山梨県 | AC22: 44 | AD22: 110 | AE22: 0 | AF22: 0 | AG22: 0 | AH22: 0 | AI22: 0 | AJ22: 0 | AK22: 0 | AL22: 0 | AM22: 0 | AN22: 0 | AO22: 0 | AP22: 0 | AQ22: 0 | AR22: 0 | AS22: 0 | AT22: 0 | AU22: 0 | AV22: 0 | AW22: 0 | AX22: 0 | AY22: 0 | AZ22: 14 | BB22: 広島市 | BC22: 5 | BD22: 6 | BE22: 0 | BF22: 0 | BG22: 0 | BH22: 0 | BI22: 0 | BJ22: 0 | BK22: 0 | BL22: 0 | BM22: 0 | BN22: 0 | BO22: 0 | BP22: 0 | BQ22: 0 | BR22: 0 | BS22: 0 | BT22: 0 | BU22: 0 | BV22: 0 | BW22: 0 | BX22: 0 | BY22: 0 | BZ22: 6
B23: 宮城県計 | C23: =SUM(C24:C25) -> 133 | D23: =SUM(D24:D25) -> 442 | E23: =SUM(E24:E25) -> 0 | F23: =SUM(F24:F25) -> 0 | G23: =SUM(G24:G25) -> 0 | H23: =SUM(H24:H25) -> 0 | I23: =SUM(I24:I25) -> 0 | J23: =SUM(J24:J25) -> 0 | ... Z23: =SUM(Z24:Z25) -> 30 | AB23: 長野県計 | AC23: =SUM(AC24:AC26) -> 211 | AD23: =SUM(AD24:AD26) -> 715 | AE23: =SUM(AE24:AE26) -> 0 | AF23: =SUM(AF24:AF26) -> 0 | AG23: =SUM(AG24:AG26) -> 0 | AH23: =SUM(AH24:AH26) -> 0 | AI23: =SUM(AI24:AI26) -> 0 | AJ23: =SUM(AJ24:AJ26) -> 0 | ... AZ23: =SUM(AZ24:AZ26) -> 16 | BB23: 呉市 | BC23: 1 | BD23: 1 | BE23: 0 | BF23: 0 | BG23: 0 | BH23: 0 | BI23: 0 | BJ23: 0 | BK23: 0 | BL23: 0 | BM23: 0 | BN23: 0 | BO23: 0 | BP23: 0 | BQ23: 0 | BR23: 0 | BS23: 0 | BT23: 0 | BU23: 0 | BV23: 0 | BW23: 0 | BX23: 0 | BY23: 0 | BZ23: 0
B24: 仙台市 | C24: 32 | D24: 105 | E24: 0 | F24: 0 | G24: 0 | H24: 0 | I24: 0 | J24: 0 | K24: 0 | L24: 0 | M24: 0 | N24: 0 | O24: 0 | P24: 0 | Q24: 0 | R24: 0 | S24: 0 | T24: 0 | U24: 0 | V24: 0 | W24: 0 | X24: 0 | Y24: 0 | Z24: 28 | AB24: 長野市 | AC24: 6 | AD24: 10 | AE24: 0 | AF24: 0 | AG24: 0 | AH24: 0 | AI24: 0 | AJ24: 0 | AK24: 0 | AL24: 0 | AM24: 0 | AN24: 0 | AO24: 0 | AP24: 0 | AQ24: 0 | AR24: 0 | AS24: 0 | AT24: 0 | AU24: 0 | AV24: 0 | AW24: 0 | AX24: 0 | AY24: 0 | AZ24: 2 | BB24: 福山市 | BC24: 3 | BD24: 3 | BE24: 0 | BF24: 0 | BG24: 0 | BH24: 0 | BI24: 0 | BJ24: 0 | BK24: 0 | BL24: 0 | BM24: 0 | BN24: 0 | BO24: 0 | BP24: 0 | BQ24: 0 | BR24: 0 | BS24: 0 | BT24: 0 | BU24: 0 | BV24: 0 | BW24: 0 | BX24: 0 | BY24: 0 | BZ24: 0
B25: その他・宮城県 | C25: 101 | D25: 337 | E25: 0 | F25: 0 | G25: 0 | H25: 0 | I25: 0 | J25: 0 | K25: 0 | L25: 0 | M25: 0 | N25: 0 | O25: 0 | P25: 0 | Q25: 0 | R25: 0 | S25: 0 | T25: 0 | U25: 0 | V25: 0 | W25: 0 | X25: 0 | Y25: 0 | Z25: 2 | AB25: 松本市 | AC25: 6 | AD25: 18 | AE25: 0 | AF25: 0 | AG25: 0 | AH25: 0 | AI25: 0 | AJ25: 0 | AK25: 0 | AL25: 0 | AM25: 0 | AN25: 0 | AO25: 0 | AP25: 0 | AQ25: 0 | AR25: 0 | AS25: 0 | AT25: 0 | AU25: 0 | AV25: 0 | AW25: 0 | AX25: 0 | AY25: 0 | AZ25: 1 | BB25: その他・広島県 | BC25: 73 | BD25: 294 | BE25: 0 | BF25: 0 | BG25: 0 | BH25: 0 | BI25: 0 | BJ25: 0 | BK25: 0 | BL25: 0 | BM25: 0 | BN25: 0 | BO25: 0 | BP25: 0 | BQ25: 0 | BR25: 0 | BS25: 0 | BT25: 0 | BU25: 0 | BV25: 0 | BW25: 0 | BX25: 0 | BY25: 0 | BZ25: 0
B26: 秋田県計 | C26: =SUM(C27:C28) -> 111 | D26: =SUM(D27:D28) -> 245 | E26: =SUM(E27:E28) -> 0 | F26: =SUM(F27:F28) -> 0 | G26: =SUM(G27:G28) -> 0 | H26: =SUM(H27:H28) -> 0 | I26: =SUM(I27:I28) -> 0 | J26: =SUM(J27:J28) -> 0 | ... Z26: =SUM(Z27:Z28) -> 26 | AB26: その他・長野県 | AC26: 199 | AD26: 687 | AE26: 0 | AF26: 0 | AG26: 0 | AH26: 0 | AI26: 0 | AJ26: 0 | AK26: 0 | AL26: 0 | AM26: 0 | AN26: 0 | AO26: 0 | AP26: 0 | AQ26: 0 | AR26: 0 | AS26: 0 | AT26: 0 | AU26: 0 | AV26: 0 | AW26: 0 | AX26: 0 | AY26: 0 | AZ26: 13 | BB26: 山口県計 | BC26: =SUM(BC27:BC28) -> 34 | BD26: =SUM(BD27:BD28) -> 175 | BE26: =SUM(BE27:BE28) -> 0 | BF26: =SUM(BF27:BF28) -> 0 | BG26: =SUM(BG27:BG28) -> 0 | BH26: =SUM(BH27:BH28) -> 0 | BI26: =SUM(BI27:BI28) -> 0 | BJ26: =SUM(BJ27:BJ28) -> 0 | ... BZ26: =SUM(BZ27:BZ28) -> 17
B27: 秋田市 | C27: 2 | D27: 2 | E27: 0 | F27: 0 | G27: 0 | H27: 0 | I27: 0 | J27: 0 | K27: 0 | L27: 0 | M27: 0 | N27: 0 | O27: 0 | P27: 0 | Q27: 0 | R27: 0 | S27: 0 | T27: 0 | U27: 0 | V27: 0 | W27: 0 | X27: 0 | Y27: 0 | Z27: 1 | AB27: 岐阜県計 | AC27: =SUM(AC28:AC29) -> 307 | AD27: =SUM(AD28:AD29) -> 1082 | AE27: =SUM(AE28:AE29) -> 0 | AF27: =SUM(AF28:AF29) -> 0 | AG27: =SUM(AG28:AG29) -> 0 | AH27: =SUM(AH28:AH29) -> 0 | AI27: =SUM(AI28:AI29) -> 0 | AJ27: =SUM(AJ28:AJ29) -> 0 | ... AZ27: =SUM(AZ28:AZ29) -> 14 | BB27: 下関市 | BC27: 12 | BD27: 30 | BE27: 0 | BF27: 0 | BG27: 0 | BH27: 0 | BI27: 0 | BJ27: 0 | BK27: 0 | BL27: 0 | BM27: 0 | BN27: 0 | BO27: 0 | BP27: 0 | BQ27: 0 | BR27: 0 | BS27: 0 | BT27: 0 | BU27: 0 | BV27: 0 | BW27: 0 | BX27: 0 | BY27: 0 | BZ27: 11
B28: その他・秋田県 | C28: 109 | D28: 243 | E28: 0 | F28: 0 | G28: 0 | H28: 0 | I28: 0 | J28: 0 | K28: 0 | L28: 0 | M28: 0 | N28: 0 | O28: 0 | P28: 0 | Q28: 0 | R28: 0 | S28: 0 | T28: 0 | U28: 0 | V28: 0 | W28: 0 | X28: 0 | Y28: 0 | Z28: 25 | AB28: 岐阜市 | AC28: 34 | AD28: 70 | AE28: 0 | AF28: 0 | AG28: 0 | AH28: 0 | AI28: 0 | AJ28: 0 | AK28: 0 | AL28: 0 | AM28: 0 | AN28: 0 | AO28: 0 | AP28: 0 | AQ28: 0 | AR28: 0 | AS28: 0 | AT28: 0 | AU28: 0 | AV28: 0 | AW28: 0 | AX28: 0 | AY28: 0 | AZ28: 11 | BB28: その他・山口県 | BC28: 22 | BD28: 145 | BE28: 0 | BF28: 0 | BG28: 0 | BH28: 0 | BI28: 0 | BJ28: 0 | BK28: 0 | BL28: 0 | BM28: 0 | BN28: 0 | BO28: 0 | BP28: 0 | BQ28: 0 | BR28: 0 | BS28: 0 | BT28: 0 | BU28: 0 | BV28: 0 | BW28: 0 | BX28: 0 | BY28: 0 | BZ28: 6
B29: 山形県計 | C29: =SUM(C30:C31) -> 76 | D29: =SUM(D30:D31) -> 198 | E29: =SUM(E30:E31) -> 0 | F29: =SUM(F30:F31) -> 0 | G29: =SUM(G30:G31) -> 0 | H29: =SUM(H30:H31) -> 0 | I29: =SUM(I30:I31) -> 0 | J29: =SUM(J30:J31) -> 0 | ... Z29: =SUM(Z30:Z31) -> 8 | AB29: その他・岐阜県 | AC29: 273 | AD29: 1012 | AE29: 0 | AF29: 0 | AG29: 0 | AH29: 0 | AI29: 0 | AJ29: 0 | AK29: 0 | AL29: 0 | AM29: 0 | AN29: 0 | AO29: 0 | AP29: 0 | AQ29: 0 | AR29: 0 | AS29: 0 | AT29: 0 | AU29: 0 | AV29: 0 | AW29: 0 | AX29: 0 | AY29: 0 | AZ29: 3 | BB29: 徳島県計 | BC29: =SUM(BC30) -> 48 | BD29: =SUM(BD30) -> 248 | BE29: =SUM(BE30) -> 0 | BF29: =SUM(BF30) -> 0 | BG29: =SUM(BG30) -> 0 | BH29: =SUM(BH30) -> 0 | BI29: =SUM(BI30) -> 0 | BJ29: =SUM(BJ30) -> 0 | ... BZ29: =SUM(BZ30) -> 25
B30: 山形市 | C30: 3 | D30: 3 | E30: 0 | F30: 0 | G30: 0 | H30: 0 | I30: 0 | J30: 0 | K30: 0 | L30: 0 | M30: 0 | N30: 0 | O30: 0 | P30: 0 | Q30: 0 | R30: 0 | S30: 0 | T30: 0 | U30: 0 | V30: 0 | W30: 0 | X30: 0 | Y30: 0 | Z30: 0 | AB30: 静岡県計 | AC30: =SUM(AC31:AC33) -> 306 | AD30: =SUM(AD31:AD33) -> 1311 | AE30: =SUM(AE31:AE33) -> 0 | AF30: =SUM(AF31:AF33) -> 0 | AG30: =SUM(AG31:AG33) -> 0 | AH30: =SUM(AH31:AH33) -> 0 | AI30: =SUM(AI31:AI33) -> 0 | AJ30: =SUM(AJ31:AJ33) -> 0 | ... AZ30: =SUM(AZ31:AZ33) -> 110 | BB30: 徳島県 | BC30: 48 | BD30: 248 | BE30: 0 | BF30: 0 | BG30: 0 | BH30: 0 | BI30: 0 | BJ30: 0 | BK30: 0 | BL30: 0 | BM30: 0 | BN30: 0 | BO30: 0 | BP30: 0 | BQ30: 0 | BR30: 0 | BS30: 0 | BT30: 0 | BU30: 0 | BV30: 0 | BW30: 0 | BX30: 0 | BY30: 0 | BZ30: 25
B31: その他・山形県 | C31: 73 | D31: 195 | E31: 0 | F31: 0 | G31: 0 | H31: 0 | I31: 0 | J31: 0 | K31: 0 | L31: 0 | M31: 0 | N31: 0 | O31: 0 | P31: 0 | Q31: 0 | R31: 0 | S31: 0 | T31: 0 | U31: 0 | V31: 0 | W31: 0 | X31: 0 | Y31: 0 | Z31: 8 | AB31: 静岡市 | AC31: 42 | AD31: 232 | AE31: 0 | AF31: 0 | AG31: 0 | AH31: 0 | AI31: 0 | AJ31: 0 | AK31: 0 | AL31: 0 | AM31: 0 | AN31: 0 | AO31: 0 | AP31: 0 | AQ31: 0 | AR31: 0 | AS31: 0 | AT31: 0 | AU31: 0 | AV31: 0 | AW31: 0 | AX31: 0 | AY31: 0 | AZ31: 23 | BB31: 香川県計 | BC31: =SUM(BC32:BC33) -> 128 | BD31: =SUM(BD32:BD33) -> 240 | BE31: =SUM(BE32:BE33) -> 0 | BF31: =SUM(BF32:BF33) -> 0 | BG31: =SUM(BG32:BG33) -> 0 | BH31: =SUM(BH32:BH33) -> 0 | BI31: =SUM(BI32:BI33) -> 0 | BJ31: =SUM(BJ32:BJ33) -> 0 | ... BZ31: =SUM(BZ32:BZ33) -> 11
B32: 福島県計 | C32: =SUM(C33:C36) -> 264 | D32: =SUM(D33:D36) -> 925 | E32: =SUM(E33:E36) -> 0 | F32: =SUM(F33:F36) -> 0 | G32: =SUM(G33:G36) -> 0 | H32: =SUM(H33:H36) -> 0 | I32: =SUM(I33:I36) -> 0 | J32: =SUM(J33:J36) -> 0 | ... Z32: =SUM(Z33:Z36) -> 100 | AB32: 浜松市 | AC32: 58 | AD32: 169 | AE32: 0 | AF32: 0 | AG32: 0 | AH32: 0 | AI32: 0 | AJ32: 0 | AK32: 0 | AL32: 0 | AM32: 0 | AN32: 0 | AO32: 0 | AP32: 0 | AQ32: 0 | AR32: 0 | AS32: 0 | AT32: 0 | AU32: 0 | AV32: 0 | AW32: 0 | AX32: 0 | AY32: 0 | AZ32: 22 | BB32: 高松市 | BC32: 13 | BD32: 31 | BE32: 0 | BF32: 0 | BG32: 0 | BH32: 0 | BI32: 0 | BJ32: 0 | BK32: 0 | BL32: 0 | BM32: 0 | BN32: 0 | BO32: 0 | BP32: 0 | BQ32: 0 | BR32: 0 | BS32: 0 | BT32: 0 | BU32: 0 | BV32: 0 | BW32: 0 | BX32: 0 | BY32: 0 | BZ32: 2
B33: 福島市 | C33: 1 | D33: 1 | E33: 0 | F33: 0 | G33: 0 | H33: 0 | I33: 0 | J33: 0 | K33: 0 | L33: 0 | M33: 0 | N33: 0 | O33: 0 | P33: 0 | Q33: 0 | R33: 0 | S33: 0 | T33: 0 | U33: 0 | V33: 0 | W33: 0 | X33: 0 | Y33: 0 | Z33: 0 | AB33: その他・静岡県 | AC33: 206 | AD33: 910 | AE33: 0 | AF33: 0 | AG33: 0 | AH33: 0 | AI33: 0 | AJ33: 0 | AK33: 0 | AL33: 0 | AM33: 0 | AN33: 0 | AO33: 0 | AP33: 0 | AQ33: 0 | AR33: 0 | AS33: 0 | AT33: 0 | AU33: 0 | AV33: 0 | AW33: 0 | AX33: 0 | AY33: 0 | AZ33: 65 | BB33: その他・香川県 | BC33: 115 | BD33: 209 | BE33: 0 | BF33: 0 | BG33: 0 | BH33: 0 | BI33: 0 | BJ33: 0 | BK33: 0 | BL33: 0 | BM33: 0 | BN33: 0 | BO33: 0 | BP33: 0 | BQ33: 0 | BR33: 0 | BS33: 0 | BT33: 0 | BU33: 0 | BV33: 0 | BW33: 0 | BX33: 0 | BY33: 0 | BZ33: 9
B34: 郡山市 | C34: 46 | D34: 228 | E34: 0 | F34: 0 | G34: 0 | H34: 0 | I34: 0 | J34: 0 | K34: 0 | L34: 0 | M34: 0 | N34: 0 | O34: 0 | P34: 0 | Q34: 0 | R34: 0 | S34: 0 | T34: 0 | U34: 0 | V34: 0 | W34: 0 | X34: 0 | Y34: 0 | Z34: 0 | AB34: 愛知県計 | AC34: =SUM(AC35:AC40) -> 977 | AD34: =SUM(AD35:AD40) -> 4225 | AE34: =SUM(AE35:AE40) -> 0 | AF34: =SUM(AF35:AF40) -> 0 | AG34: =SUM(AG35:AG40) -> 0 | AH34: =SUM(AH35:AH40) -> 0 | AI34: =SUM(AI35:AI40) -> 0 | AJ34: =SUM(AJ35:AJ40) -> 0 | ... AZ34: =SUM(AZ35:AZ40) -> 851 | BB34: 愛媛県計 | BC34: =SUM(BC35:BC36) -> 86 | BD34: =SUM(BD35:BD36) -> 277 | BE34: =SUM(BE35:BE36) -> 0 | BF34: =SUM(BF35:BF36) -> 0 | BG34: =SUM(BG35:BG36) -> 0 | BH34: =SUM(BH35:BH36) -> 0 | BI34: =SUM(BI35:BI36) -> 0 | BJ34: =SUM(BJ35:BJ36) -> 0 | ... BZ34: =SUM(BZ35:BZ36) -> 17
B35: いわき市 | C35: 44 | D35: 143 | E35: 0 | F35: 0 | G35: 0 | H35: 0 | I35: 0 | J35: 0 | K35: 0 | L35: 0 | M35: 0 | N35: 0 | O35: 0 | P35: 0 | Q35: 0 | R35: 0 | S35: 0 | T35: 0 | U35: 0 | V35: 0 | W35: 0 | X35: 0 | Y35: 0 | Z35: 7 | AB35: 名古屋市 | AC35: 91 | AD35: 142 | AE35: 0 | AF35: 0 | AG35: 0 | AH35: 0 | AI35: 0 | AJ35: 0 | AK35: 0 | AL35: 0 | AM35: 0 | AN35: 0 | AO35: 0 | AP35: 0 | AQ35: 0 | AR35: 0 | AS35: 0 | AT35: 0 | AU35: 0 | AV35: 0 | AW35: 0 | AX35: 0 | AY35: 0 | AZ35: 10 | BB35: 松山市 | BC35: 21 | BD35: 48 | BE35: 0 | BF35: 0 | BG35: 0 | BH35: 0 | BI35: 0 | BJ35: 0 | BK35: 0 | BL35: 0 | BM35: 0 | BN35: 0 | BO35: 0 | BP35: 0 | BQ35: 0 | BR35: 0 | BS35: 0 | BT35: 0 | BU35: 0 | BV35: 0 | BW35: 0 | BX35: 0 | BY35: 0 | BZ35: 13
B36: その他・福島県 | C36: 173 | D36: 553 | E36: 0 | F36: 0 | G36: 0 | H36: 0 | I36: 0 | J36: 0 | K36: 0 | L36: 0 | M36: 0 | N36: 0 | O36: 0 | P36: 0 | Q36: 0 | R36: 0 | S36: 0 | T36: 0 | U36: 0 | V36: 0 | W36: 0 | X36: 0 | Y36: 0 | Z36: 93 | AB36: 豊橋市 | AC36: 2 | AD36: 2 | AE36: 0 | AF36: 0 | AG36: 0 | AH36: 0 | AI36: 0 | AJ36: 0 | AK36: 0 | AL36: 0 | AM36: 0 | AN36: 0 | AO36: 0 | AP36: 0 | AQ36: 0 | AR36: 0 | AS36: 0 | AT36: 0 | AU36: 0 | AV36: 0 | AW36: 0 | AX36: 0 | AY36: 0 | AZ36: 0 | BB36: その他・愛媛県 | BC36: 65 | BD36: 229 | BE36: 0 | BF36: 0 | BG36: 0 | BH36: 0 | BI36: 0 | BJ36: 0 | BK36: 0 | BL36: 0 | BM36: 0 | BN36: 0 | BO36: 0 | BP36: 0 | BQ36: 0 | BR36: 0 | BS36: 0 | BT36: 0 | BU36: 0 | BV36: 0 | BW36: 0 | BX36: 0 | BY36: 0 | BZ36: 4
B37: 茨城県計 | C37: =SUM(C38:C39) -> 273 | D37: =SUM(D38:D39) -> 1150 | E37: =SUM(E38:E39) -> 0 | F37: =SUM(F38:F39) -> 0 | G37: =SUM(G38:G39) -> 0 | H37: =SUM(H38:H39) -> 0 | I37: =SUM(I38:I39) -> 0 | J37: =SUM(J38:J39) -> 0 | ... Z37: =SUM(Z38:Z39) -> 156 | AB37: 岡崎市 | AC37: 3 | AD37: 3 | AE37: 0 | AF37: 0 | AG37: 0 | AH37: 0 | AI37: 0 | AJ37: 0 | AK37: 0 | AL37: 0 | AM37: 0 | AN37: 0 | AO37: 0 | AP37: 0 | AQ37: 0 | AR37: 0 | AS37: 0 | AT37: 0 | AU37: 0 | AV37: 0 | AW37: 0 | AX37: 0 | AY37: 0 | AZ37: 0 | BB37: 高知県計 | BC37: =SUM(BC38:BC39) -> 23 | BD37: =SUM(BD38:BD39) -> 30 | BE37: =SUM(BE38:BE39) -> 0 | BF37: =SUM(BF38:BF39) -> 0 | BG37: =SUM(BG38:BG39) -> 0 | BH37: =SUM(BH38:BH39) -> 0 | BI37: =SUM(BI38:BI39) -> 0 | BJ37: =SUM(BJ38:BJ39) -> 0 | ... BZ37: =SUM(BZ38:BZ39) -> 10
B38: 水戸市 | C38: 13 | D38: 30 | E38: 0 | F38: 0 | G38: 0 | H38: 0 | I38: 0 | J38: 0 | K38: 0 | L38: 0 | M38: 0 | N38: 0 | O38: 0 | P38: 0 | Q38: 0 | R38: 0 | S38: 0 | T38: 0 | U38: 0 | V38: 0 | W38: 0 | X38: 0 | Y38: 0 | Z38: 4 | AB38: 一宮市 | AC38: 61 | AD38: 168 | AE38: 0 | AF38: 0 | AG38: 0 | AH38: 0 | AI38: 0 | AJ38: 0 | AK38: 0 | AL38: 0 | AM38: 0 | AN38: 0 | AO38: 0 | AP38: 0 | AQ38: 0 | AR38: 0 | AS38: 0 | AT38: 0 | AU38: 0 | AV38: 0 | AW38: 0 | AX38: 0 | AY38: 0 | AZ38: 44 | BB38: 高知市 | BC38: 15 | BD38: 22 | BE38: 0 | BF38: 0 | BG38: 0 | BH38: 0 | BI38: 0 | BJ38: 0 | BK38: 0 | BL38: 0 | BM38: 0 | BN38: 0 | BO38: 0 | BP38: 0 | BQ38: 0 | BR38: 0 | BS38: 0 | BT38: 0 | BU38: 0 | BV38: 0 | BW38: 0 | BX38: 0 | BY38: 0 | BZ38: 9
B39: その他・茨城県 | C39: 260 | D39: 1120 | E39: 0 | F39: 0 | G39: 0 | H39: 0 | I39: 0 | J39: 0 | K39: 0 | L39: 0 | M39: 0 | N39: 0 | O39: 0 | P39: 0 | Q39: 0 | R39: 0 | S39: 0 | T39: 0 | U39: 0 | V39: 0 | W39: 0 | X39: 0 | Y39: 0 | Z39: 152 | AB39: 豊田市 | AC39: 31 | AD39: 60 | AE39: 0 | AF39: 0 | AG39: 0 | AH39: 0 | AI39: 0 | AJ39: 0 | AK39: 0 | AL39: 0 | AM39: 0 | AN39: 0 | AO39: 0 | AP39: 0 | AQ39: 0 | AR39: 0 | AS39: 0 | AT39: 0 | AU39: 0 | AV39: 0 | AW39: 0 | AX39: 0 | AY39: 0 | AZ39: 26 | BB39: その他・高知県 | BC39: 8 | BD39: 8 | BE39: 0 | BF39: 0 | BG39: 0 | BH39: 0 | BI39: 0 | BJ39: 0 | BK39: 0 | BL39: 0 | BM39: 0 | BN39: 0 | BO39: 0 | BP39: 0 | BQ39: 0 | BR39: 0 | BS39: 0 | BT39: 0 | BU39: 0 | BV39: 0 | BW39: 0 | BX39: 0 | BY39: 0 | BZ39: 1
B40: 栃木県計 | C40: =SUM(C41:C42) -> 93 | D40: =SUM(D41:D42) -> 760 | E40: =SUM(E41:E42) -> 0 | F40: =SUM(F41:F42) -> 0 | G40: =SUM(G41:G42) -> 0 | H40: =SUM(H41:H42) -> 0 | I40: =SUM(I41:I42) -> 0 | J40: =SUM(J41:J42) -> 0 | ... Z40: =SUM(Z41:Z42) -> 20 | AB40: その他・愛知県 | AC40: 789 | AD40: 3850 | AE40: 0 | AF40: 0 | AG40: 0 | AH40: 0 | AI40: 0 | AJ40: 0 | AK40: 0 | AL40: 0 | AM40: 0 | AN40: 0 | AO40: 0 | AP40: 0 | AQ40: 0 | AR40: 0 | AS40: 0 | AT40: 0 | AU40: 0 | AV40: 0 | AW40: 0 | AX40: 0 | AY40: 0 | AZ40: 771 | BB40: 福岡県計 | BC40: =SUM(BC41:BC45) -> 141 | BD40: =SUM(BD41:BD45) -> 856 | BE40: =SUM(BE41:BE45) -> 0 | BF40: =SUM(BF41:BF45) -> 0 | BG40: =SUM(BG41:BG45) -> 0 | BH40: =SUM(BH41:BH45) -> 0 | BI40: =SUM(BI41:BI45) -> 0 | BJ40: =SUM(BJ41:BJ45) -> 0 | ... BZ40: =SUM(BZ41:BZ45) -> 17
B41: 宇都宮市 | C41: 5 | D41: 5 | E41: 0 | F41: 0 | G41: 0 | H41: 0 | I41: 0 | J41: 0 | K41: 0 | L41: 0 | M41: 0 | N41: 0 | O41: 0 | P41: 0 | Q41: 0 | R41: 0 | S41: 0 | T41: 0 | U41: 0 | V41: 0 | W41: 0 | X41: 0 | Y41: 0 | Z41: 0 | AB41: 三重県計 | AC41: =SUM(AC42:AC43) -> 133 | AD41: =SUM(AD42:AD43) -> 529 | AE41: =SUM(AE42:AE43) -> 0 | AF41: =SUM(AF42:AF43) -> 0 | AG41: =SUM(AG42:AG43) -> 0 | AH41: =SUM(AH42:AH43) -> 0 | AI41: =SUM(AI42:AI43) -> 0 | AJ41: =SUM(AJ42:AJ43) -> 0 | ... AZ41: =SUM(AZ42:AZ43) -> 18 | BB41: 北九州市 | BC41: 91 | BD41: 718 | BE41: 0 | BF41: 0 | BG41: 0 | BH41: 0 | BI41: 0 | BJ41: 0 | BK41: 0 | BL41: 0 | BM41: 0 | BN41: 0 | BO41: 0 | BP41: 0 | BQ41: 0 | BR41: 0 | BS41: 0 | BT41: 0 | BU41: 0 | BV41: 0 | BW41: 0 | BX41: 0 | BY41: 0 | BZ41: 15
B42: その他・栃木県 | C42: 88 | D42: 755 | E42: 0 | F42: 0 | G42: 0 | H42: 0 | I42: 0 | J42: 0 | K42: 0 | L42: 0 | M42: 0 | N42: 0 | O42: 0 | P42: 0 | Q42: 0 | R42: 0 | S42: 0 | T42: 0 | U42: 0 | V42: 0 | W42: 0 | X42: 0 | Y42: 0 | Z42: 20 | AB42: 四日市市 | AC42: 2 | AD42: 4 | AE42: 0 | AF42: 0 | AG42: 0 | AH42: 0 | AI42: 0 | AJ42: 0 | AK42: 0 | AL42: 0 | AM42: 0 | AN42: 0 | AO42: 0 | AP42: 0 | AQ42: 0 | AR42: 0 | AS42: 0 | AT42: 0 | AU42: 0 | AV42: 0 | AW42: 0 | AX42: 0 | AY42: 0 | AZ42: 0 | BB42: 福岡市 | BC42: 4 | BD42: 14 | BE42: 0 | BF42: 0 | BG42: 0 | BH42: 0 | BI42: 0 | BJ42: 0 | BK42: 0 | BL42: 0 | BM42: 0 | BN42: 0 | BO42: 0 | BP42: 0 | BQ42: 0 | BR42: 0 | BS42: 0 | BT42: 0 | BU42: 0 | BV42: 0 | BW42: 0 | BX42: 0 | BY42: 0 | BZ42: 2
...

Sheet 表6.4
B2: 表6.4(1) 立入検査実施件数 年度別・都道府県市別 （大気汚染防止法に係るばい煙発生施設） | I2: 表6.4(2) 立入検査実施件数 年度別・都道府県市別 （大気汚染防止法に係るばい煙発生施設） | P2: 表6.4(3) 立入検査実施件数 年度別・都道府県市別 （大気汚染防止法に係るばい煙発生施設）
B4: 自治体名 | C4: 立入検査実施工場・事業場数 | I4: 自治体名 | J4: 立入検査実施工場・事業場数 | P4: 自治体名 | Q4: 立入検査実施工場・事業場数
C5: 平成30年度 | D5: 令和元年度 | E5: 令和２年度 | F5: 令和３年度 | G5: 令和４年度 | J5: 平成30年度 | K5: 令和元年度 | L5: 令和２年度 | M5: 令和３年度 | N5: 令和４年度 | Q5: 平成30年度 | R5: 令和元年度 | S5: 令和２年度 | T5: 令和３年度 | U5: 令和４年度
B6: 北海道計 | C6: =SUM(C7:C13) -> 775 | D6: =SUM(D7:D13) -> 764 | E6: =SUM(E7:E13) -> 557 | F6: =SUM(F7:F13) -> 587 | G6: =SUM(G7:G13) -> 481 | I6: 新潟県計 | J6: =SUM(J7:J8) -> 158 | K6: =SUM(K7:K8) -> 143 | L6: =SUM(L7:L8) -> 85 | M6: =SUM(M7:M8) -> 94 | N6: =SUM(N7:N8) -> 101 | P6: 和歌山県計 | Q6: =SUM(Q7:Q8) -> 75 | R6: =SUM(R7:R8) -> 74 | S6: =SUM(S7:S8) -> 68 | T6: =SUM(T7:T8) -> 77 | U6: =SUM(U7:U8) -> 66
B7: 札幌市 | C7: 94 | D7: 88 | E7: 87 | F7: 91 | G7: ='表6.3'!C9 -> 13 | I7: 新潟市 | J7: 29 | K7: 35 | L7: 41 | M7: 36 | N7: ='表6.3'!AC9 -> 39 | P7: 和歌山市 | Q7: 19 | R7: 15 | S7: 21 | T7: 15 | U7: ='表6.3'!BC9 -> 14
B8: 函館市 | C8: 21 | D8: 21 | E8: 19 | F8: 17 | G8: ='表6.3'!C10 -> 17 | I8: その他・新潟県 | J8: 129 | K8: 108 | L8: 44 | M8: 58 | N8: ='表6.3'!AC10 -> 62 | P8: その他・和歌山県 | Q8: 56 | R8: 59 | S8: 47 | T8: 62 | U8: ='表6.3'!BC10 -> 52
B9: 小樽市 | C9: 38 | D9: 45 | E9: 35 | F9: 34 | G9: ='表6.3'!C11 -> 12 | I9: 富山県計 | J9: =SUM(J10:J11) -> 98 | K9: =SUM(K10:K11) -> 98 | L9: =SUM(L10:L11) -> 68 | M9: =SUM(M10:M11) -> 67 | N9: =SUM(N10:N11) -> 44 | P9: 鳥取県計 | Q9: =SUM(Q10:Q11) -> 71 | R9: =SUM(R10:R11) -> 91 | S9: =SUM(S10:S11) -> 36 | T9: =SUM(T10:T11) -> 27 | U9: =SUM(U10:U11) -> 33
B10: 旭川市 | C10: 79 | D10: 81 | E10: 53 | F10: 78 | G10: ='表6.3'!C12 -> 62 | I10: 富山市 | J10: 42 | K10: 42 | L10: 44 | M10: 23 | N10: ='表6.3'!AC12 -> 20 | P10: 鳥取市 | Q10: 10 | R10: 15 | S10: 3 | T10: 7 | U10: ='表6.3'!BC12 -> 5
B11: 室蘭市 | C11: 30 | D11: 0 | E11: 0 | F11: 0 | G11: ='表6.3'!C13 -> 0 | I11: その他・富山県 | J11: 56 | K11: 56 | L11: 24 | M11: 44 | N11: ='表6.3'!AC13 -> 24 | P11: その他・鳥取県 | Q11: 61 | R11: 76 | S11: 33 | T11: 20 | U11: ='表6.3'!BC13 -> 28
B12: 苫小牧市 | C12: 34 | D12: 25 | E12: 26 | F12: 33 | G12: ='表6.3'!C14 -> 19 | I12: 石川県計 | J12: =SUM(J13:J14) -> 68 | K12: =SUM(K13:K14) -> 79 | L12: =SUM(L13:L14) -> 59 | M12: =SUM(M13:M14) -> 43 | N12: =SUM(N13:N14) -> 73 | P12: 島根県計 | Q12: =SUM(Q13:Q14) -> 48 | R12: =SUM(R13:R14) -> 43 | S12: =SUM(S13:S14) -> 28 | T12: =SUM(T13:T14) -> 24 | U12: =SUM(U13:U14) -> 9
B13: その他・北海道 | C13: 479 | D13: 504 | E13: 337 | F13: 334 | G13: ='表6.3'!C15 -> 358 | I13: 金沢市 | J13: 5 | K13: 4 | L13: 10 | M13: 8 | N13: ='表6.3'!AC15 -> 8 | P13: 松江市 | Q13: 14 | R13: 19 | S13: 4 | T13: 4 | U13: ='表6.3'!BC15 -> 1
B14: 青森県計 | C14: =SUM(C15:C17) -> 350 | D14: =SUM(D15:D17) -> 373 | E14: =SUM(E15:E17) -> 233 | F14: =SUM(F15:F17) -> 194 | G14: =SUM(G15:G17) -> 126 | I14: その他・石川県 | J14: 63 | K14: 75 | L14: 49 | M14: 35 | N14: ='表6.3'!AC16 -> 65 | P14: その他・島根県 | Q14: 34 | R14: 24 | S14: 24 | T14: 20 | U14: ='表6.3'!BC16 -> 8
B15: 青森市 | C15: 138 | D15: 169 | E15: 43 | F15: 11 | G15: ='表6.3'!C17 -> 14 | I15: 福井県計 | J15: =SUM(J16:J17) -> 147 | K15: =SUM(K16:K17) -> 157 | L15: =SUM(L16:L17) -> 126 | M15: =SUM(M16:M17) -> 126 | N15: =SUM(N16:N17) -> 125 | P15: 岡山県計 | Q15: =SUM(Q16:Q18) -> 170 | R15: =SUM(R16:R18) -> 174 | S15: =SUM(S16:S18) -> 108 | T15: =SUM(T16:T18) -> 135 | U15: =SUM(U16:U18) -> 148
B16: 八戸市 | C16: 24 | D16: 24 | E16: 21 | F16: 26 | G16: ='表6.3'!C18 -> 28 | I16: 福井市 | J16: 0 | K16: 68 | L16: 40 | M16: 45 | N16: ='表6.3'!AC18 -> 47 | P16: 岡山市 | Q16: 40 | R16: 38 | S16: 27 | T16: 24 | U16: ='表6.3'!BC18 -> 33
B17: その他・青森県 | C17: 188 | D17: 180 | E17: 169 | F17: 157 | G17: ='表6.3'!C19 -> 84 | I17: その他・福井県 | J17: 147 | K17: 89 | L17: 86 | M17: 81 | N17: ='表6.3'!AC19 -> 78 | P17: 倉敷市 | Q17: 40 | R17: 64 | S17: 42 | T17: 44 | U17: ='表6.3'!BC19 -> 45
B18: 岩手県計 | C18: =SUM(C19:C20) -> 157 | D18: =SUM(D19:D20) -> 108 | E18: =SUM(E19:E20) -> 73 | F18: =SUM(F19:F20) -> 52 | G18: =SUM(G19:G20) -> 62 | I18: 山梨県計 | J18: =SUM(J19:J20) -> 72 | K18: =SUM(K19:K20) -> 90 | L18: =SUM(L19:L20) -> 78 | M18: =SUM(M19:M20) -> 57 | N18: =SUM(N19:N20) -> 49 | P18: その他・岡山県 | Q18: 90 | R18: 72 | S18: 39 | T18: 67 | U18: ='表6.3'!BC20 -> 70
B19: 盛岡市 | C19: 22 | D19: 6 | E19: 11 | F19: 15 | G19: ='表6.3'!C21 -> 12 | I19: 甲府市 | J19: 0 | K19: 5 | L19: 5 | M19: 5 | N19: ='表6.3'!AC21 -> 5 | P19: 広島県計 | Q19: =SUM(Q20:Q23) -> 215 | R19: =SUM(R20:R23) -> 179 | S19: =SUM(S20:S23) -> 97 | T19: =SUM(T20:T23) -> 83 | U19: =SUM(U20:U23) -> 82
B20: その他・岩手県 | C20: 135 | D20: 102 | E20: 62 | F20: 37 | G20: ='表6.3'!C22 -> 50 | I20: その他・山梨県 | J20: 72 | K20: 85 | L20: 73 | M20: 52 | N20: ='表6.3'!AC22 -> 44 | P20: 広島市 | Q20: 4 | R20: 3 | S20: 3 | T20: 17 | U20: ='表6.3'!BC22 -> 5
B21: 宮城県計 | C21: =SUM(C22:C23) -> 230 | D21: =SUM(D22:D23) -> 179 | E21: =SUM(E22:E23) -> 138 | F21: =SUM(F22:F23) -> 123 | G21: =SUM(G22:G23) -> 133 | I21: 長野県計 | J21: =SUM(J22:J24) -> 367 | K21: =SUM(K22:K24) -> 270 | L21: =SUM(L22:L24) -> 199 | M21: =SUM(M22:M24) -> 207 | N21: =SUM(N22:N24) -> 211 | P21: 呉市 | Q21: 2 | R21: 2 | S21: 2 | T21: 1 | U21: ='表6.3'!BC23 -> 1
B22: 仙台市 | C22: 56 | D22: 37 | E22: 21 | F22: 21 | G22: ='表6.3'!C24 -> 32 | I22: 長野市 | J22: 49 | K22: 10 | L22: 20 | M22: 17 | N22: ='表6.3'!AC24 -> 6 | P22: 福山市 | Q22: 32 | R22: 32 | S22: 18 | T22: 5 | U22: ='表6.3'!BC24 -> 3
B23: その他・宮城県 | C23: 174 | D23: 142 | E23: 117 | F23: 102 | G23: ='表6.3'!C25 -> 101 | I23: 松本市 | M23: 6 | N23: ='表6.3'!AC25 -> 6 | P23: その他・広島県 | Q23: 177 | R23: 142 | S23: 74 | T23: 60 | U23: ='表6.3'!BC25 -> 73
B24: 秋田県計 | C24: =SUM(C25:C26) -> 227 | D24: =SUM(D25:D26) -> 227 | E24: =SUM(E25:E26) -> 192 | F24: =SUM(F25:F26) -> 121 | G24: =SUM(G25:G26) -> 111 | I24: その他・長野県 | J24: 318 | K24: 260 | L24: 179 | M24: 184 | N24: ='表6.3'!AC26 -> 199 | P24: 山口県計 | Q24: =SUM(Q25:Q26) -> 51 | R24: =SUM(R25:R26) -> 52 | S24: =SUM(S25:S26) -> 39 | T24: =SUM(T25:T26) -> 43 | U24: =SUM(U25:U26) -> 34
B25: 秋田市 | C25: 7 | D25: 5 | E25: 20 | F25: 2 | G25: ='表6.3'!C27 -> 2 | I25: 岐阜県計 | J25: =SUM(J26:J27) -> 358 | K25: =SUM(K26:K27) -> 293 | L25: =SUM(L26:L27) -> 316 | M25: =SUM(M26:M27) -> 247 | N25: =SUM(N26:N27) -> 307 | P25: 下関市 | Q25: 13 | R25: 11 | S25: 12 | T25: 11 | U25: ='表6.3'!BC27 -> 12
B26: その他・秋田県 | C26: 220 | D26: 222 | E26: 172 | F26: 119 | G26: ='表6.3'!C28 -> 109 | I26: 岐阜市 | J26: 43 | K26: 50 | L26: 25 | M26: 15 | N26: ='表6.3'!AC28 -> 34 | P26: その他・山口県 | Q26: 38 | R26: 41 | S26: 27 | T26: 32 | U26: ='表6.3'!BC28 -> 22
B27: 山形県計 | C27: =SUM(C28:C29) -> 128 | D27: =SUM(D28:D29) -> 194 | E27: =SUM(E28:E29) -> 128 | F27: =SUM(F28:F29) -> 136 | G27: =SUM(G28:G29) -> 76 | I27: その他・岐阜県 | J27: 315 | K27: 243 | L27: 291 | M27: 232 | N27: ='表6.3'!AC29 -> 273 | P27: 徳島県計 | Q27: =SUM(Q28) -> 36 | R27: =SUM(R28) -> 68 | S27: =SUM(S28) -> 54 | T27: =SUM(T28) -> 35 | U27: =SUM(U28) -> 48
B28: 山形市 | C28: 0 | D28: 32 | E28: 17 | F28: 24 | G28: ='表6.3'!C30 -> 3 | I28: 静岡県計 | J28: =SUM(J29:J31) -> 369 | K28: =SUM(K29:K31) -> 382 | L28: =SUM(L29:L31) -> 338 | M28: =SUM(M29:M31) -> 293 | N28: =SUM(N29:N31) -> 306 | P28: 徳島県 | Q28: 36 | R28: 68 | S28: 54 | T28: 35 | U28: ='表6.3'!BC30 -> 48
B29: その他・山形県 | C29: 128 | D29: 162 | E29: 111 | F29: 112 | G29: ='表6.3'!C31 -> 73 | I29: 静岡市 | J29: 66 | K29: 61 | L29: 47 | M29: 41 | N29: ='表6.3'!AC31 -> 42 | P29: 香川県計 | Q29: =SUM(Q30:Q31) -> 125 | R29: =SUM(R30:R31) -> 152 | S29: =SUM(S30:S31) -> 143 | T29: =SUM(T30:T31) -> 126 | U29: =SUM(U30:U31) -> 128
B30: 福島県計 | C30: =SUM(C31:C34) -> 272 | D30: =SUM(D31:D34) -> 250 | E30: =SUM(E31:E34) -> 254 | F30: =SUM(F31:F34) -> 193 | G30: =SUM(G31:G34) -> 264 | I30: 浜松市 | J30: 67 | K30: 85 | L30: 68 | M30: 64 | N30: ='表6.3'!AC32 -> 58 | P30: 高松市 | Q30: 3 | R30: 5 | S30: 5 | T30: 2 | U30: ='表6.3'!BC32 -> 13
B31: 福島市 | C31: 2 | D31: 1 | E31: 2 | F31: 1 | G31: ='表6.3'!C33 -> 1 | I31: その他・静岡県 | J31: 236 | K31: 236 | L31: 223 | M31: 188 | N31: ='表6.3'!AC33 -> 206 | P31: その他・香川県 | Q31: 122 | R31: 147 | S31: 138 | T31: 124 | U31: ='表6.3'!BC33 -> 115
