Workbook

Sheet 表6.1
B2: 表6.1 立入検査・勧告その他行政指導件数 年度別－全国（ばい煙発生施設）
G4: 平成30年度 | J4: 令和元年度 | M4: 令和２年度 | P4: 令和３年度 | S4: 令和４年度
G5: 全施設 （注1) | J5: 全施設 （注1) | M5: 全施設 （注1) | P5: 全施設 （注1) | S5: 全施設 （注1)
H6: 大気 | I6: 電気・ ガス・ 鉱山 | K6: 大気 | L6: 電気・ ガス・ 鉱山 | N6: 大気 | O6: 電気・ ガス・ 鉱山 | Q6: 大気 | R6: 電気・ ガス・ 鉱山 | T6: 大気 | U6: 電気・ ガス・ 鉱山
B7: (A) | C7: 立入検査実施工場・事業場数 | G7: =SUM(H7:I7) -> 12785 | H7: 10767 | I7: 2018 | J7: =SUM(K7:L7) -> 12529 | K7: 10386 | L7: 2143 | M7: =SUM(N7:O7) -> 9212 | N7: 7657 | O7: 1555 | P7: =SUM(Q7:R7) -> 8707 | Q7: 7226 | R7: 1481 | S7: =SUM(T7:U7) -> 8620 | T7: ='表6.3'!BC67 -> 7196 | U7: ='表6.5'!BA67 -> 1424
B8: (A') | C8: 立入検査実施施設数 | G8: =SUM(H8:I8) -> 41556 | H8: 37538 | I8: 4018 | J8: =SUM(K8:L8) -> 42135 | K8: 37776 | L8: 4359 | M8: =SUM(N8:O8) -> 30008 | N8: 26809 | O8: 3199 | P8: =SUM(Q8:R8) -> 31397 | Q8: 27945 | R8: 3452 | S8: =SUM(T8:U8) -> 30616 | T8: ='表6.3'!BD67 -> 27371 | U8: ='表6.5'!BB67 -> 3245
B9: (B) | C9: 計画変更命令等施設数 | G9: =SUM(H9:I9) -> 0 | H9: 0 | I9: － | J9: =SUM(K9:L9) -> 0 | K9: 0 | L9: － | M9: =SUM(N9:O9) -> 0 | N9: 0 | O9: － | P9: =SUM(Q9:R9) -> 0 | Q9: 0 | R9: － | S9: =SUM(T9:U9) -> 0 | T9: ='表6.3'!BE67 -> 0 | U9: －
B10: (C) | C10: 排出基準違反告発施設数 | G10: =SUM(H10:I10) -> 0 | H10: 0 | I10: 0 | J10: =SUM(K10:L10) -> 0 | K10: 0 | L10: 0 | M10: =SUM(N10:O10) -> 0 | N10: 0 | O10: 0 | P10: =SUM(Q10:R10) -> 0 | Q10: 0 | R10: 0 | S10: =SUM(T10:U10) -> 0 | T10: ='表6.3'!BF67 -> 0 | U10: ='表6.5'!BC67 -> 0
B11: (E) | C11: 改善命令施設数 | G11: =SUM(H11:I11) -> 0 | H11: 0 | I11: 0 | J11: =SUM(K11:L11) -> 0 | K11: 0 | L11: 0 | M11: =SUM(N11:O11) -> 0 | N11: 0 | O11: 0 | P11: =SUM(Q11:R11) -> 0 | Q11: 0 | R11: 0 | S11: =SUM(T11:U11) -> 0 | T11: ='表6.3'!BG67 -> 0 | U11: ='表6.5'!BD67 -> 0
B12: (F) | C12: 一時停止命令施設数 | G12: =SUM(H12:I12) -> 0 | H12: 0 | I12: 0 | J12: =SUM(K12:L12) -> 0 | K12: 0 | L12: 0 | M12: =SUM(N12:O12) -> 0 | N12: 0 | O12: 0 | P12: =SUM(Q12:R12) -> 0 | Q12: 0 | R12: 0 | S12: =SUM(T12:U12) -> 0 | T12: ='表6.3'!BH67 -> 0 | U12: ='表6.5'!BE67 -> 0
B13: (G) | C13: (B)(E)又は(F)の命令違反告発施設数 | G13: =SUM(H13:I13) -> 0 | H13: 0 | I13: 0 | J13: =SUM(K13:L13) -> 0 | K13: 0 | L13: 0 | M13: =SUM(N13:O13) -> 0 | N13: 0 | O13: 0 | P13: =SUM(Q13:R13) -> 0 | Q13: 0 | R13: 0 | S13: =SUM(T13:U13) -> 0 | T13: ='表6.3'!BI67 -> 0 | U13: ='表6.5'!BF67 -> 0
B14: (H) | C14: 届出違反告発施設数 | G14: =SUM(H14:I14) -> 0 | H14: 0 | I14: － | J14: =SUM(K14:L14) -> 0 | K14: 0 | L14: － | M14: =SUM(N14:O14) -> 0 | N14: 0 | O14: － | P14: =SUM(Q14:R14) -> 0 | Q14: 0 | R14: － | S14: =SUM(T14:U14) -> 0 | T14: ='表6.3'!BJ67 -> 0 | U14: －
B15: (I) | C15: 経済産業大臣等への要請施設数 | G15: =SUM(H15:I15) -> 0 | H15: － | I15: 0 | J15: =SUM(K15:L15) -> 0 | K15: － | L15: 0 | M15: =SUM(N15:O15) -> 0 | N15: － | O15: 0 | P15: =SUM(Q15:R15) -> 0 | Q15: － | R15: 0 | S15: =SUM(T15:U15) -> 0 | T15: － | U15: ='表6.5'!BG67 -> 0
B16: 季節による燃料 使用規制地域内 | E16: (J) | F16: 燃料基準適合勧告施設数 | G16: =SUM(H16:I16) -> 0 | H16: 0 | I16: 0 | J16: =SUM(K16:L16) -> 0 | K16: 0 | L16: 0 | M16: =SUM(N16:O16) -> 0 | N16: 0 | O16: 0 | P16: =SUM(Q16:R16) -> 0 | Q16: 0 | R16: 0 | S16: =SUM(T16:U16) -> 0 | T16: ='表6.3'!BK67 -> 0 | U16: ='表6.5'!BH67 -> 0
E17: (K) | F17: 燃料基準適合命令施設数 | G17: =SUM(H17:I17) -> 0 | H17: 0 | I17: 0 | J17: =SUM(K17:L17) -> 0 | K17: 0 | L17: 0 | M17: =SUM(N17:O17) -> 0 | N17: 0 | O17: 0 | P17: =SUM(Q17:R17) -> 0 | Q17: 0 | R17: 0 | S17: =SUM(T17:U17) -> 0 | T17: ='表6.3'!BL67 -> 0 | U17: ='表6.5'!BI67 -> 0
E18: (L) | F18: (K)の命令違反告発施設数 | G18: =SUM(H18:I18) -> 0 | H18: 0 | I18: 0 | J18: =SUM(K18:L18) -> 0 | K18: 0 | L18: 0 | M18: =SUM(N18:O18) -> 0 | N18: 0 | O18: 0 | P18: =SUM(Q18:R18) -> 0 | Q18: 0 | R18: 0 | S18: =SUM(T18:U18) -> 0 | T18: ='表6.3'!BM67 -> 0 | U18: ='表6.5'!BJ67 -> 0
B19: 硫黄酸化物に係る 指定地域内 | D19: 特定工場・ 事業場 | E19: (M) | F19: 計画変更命令工場・事業場数 | G19: =SUM(H19:I19) -> 0 | H19: 0 | I19: － | J19: =SUM(K19:L19) -> 0 | K19: 0 | L19: － | M19: =SUM(N19:O19) -> 0 | N19: 0 | O19: － | P19: =SUM(Q19:R19) -> 0 | Q19: 0 | R19: － | S19: =SUM(T19:U19) -> 0 | T19: ='表6.3'!BN67 -> 0 | U19: －
E20: (N) | F20: 総量規制基準違反告発工場・事業場数 | G20: =SUM(H20:I20) -> 0 | H20: 0 | I20: 0 | J20: =SUM(K20:L20) -> 0 | K20: 0 | L20: 0 | M20: =SUM(N20:O20) -> 0 | N20: 0 | O20: 0 | P20: =SUM(Q20:R20) -> 0 | Q20: 0 | R20: 0 | S20: =SUM(T20:U20) -> 0 | T20: ='表6.3'!BO67 -> 0 | U20: ='表6.5'!BK67 -> 0
E21: (O) | F21: 改善命令等工場・事業場数 | G21: =SUM(H21:I21) -> 0 | H21: 0 | I21: 0 | J21: =SUM(K21:L21) -> 0 | K21: 0 | L21: 0 | M21: =SUM(N21:O21) -> 0 | N21: 0 | O21: 0 | P21: =SUM(Q21:R21) -> 0 | Q21: 0 | R21: 0 | S21: =SUM(T21:U21) -> 0 | T21: ='表6.3'!BP67 -> 0 | U21: ='表6.5'!BL67 -> 0
E22: (P) | F22: (O)の命令違反告発工場・事業場数 | G22: =SUM(H22:I22) -> 0 | H22: 0 | I22: 0 | J22: =SUM(K22:L22) -> 0 | K22: 0 | L22: 0 | M22: =SUM(N22:O22) -> 0 | N22: 0 | O22: 0 | P22: =SUM(Q22:R22) -> 0 | Q22: 0 | R22: 0 | S22: =SUM(T22:U22) -> 0 | T22: ='表6.3'!BQ67 -> 0 | U22: ='表6.5'!BM67 -> 0
E23: (Q) | F23: 経産大臣等への要請工場・事業場数 | G23: =SUM(H23:I23) -> 0 | H23: － | I23: 0 | J23: =SUM(K23:L23) -> 0 | K23: － | L23: 0 | M23: =SUM(N23:O23) -> 0 | N23: － | O23: 0 | P23: =SUM(Q23:R23) -> 0 | Q23: － | R23: 0 | S23: =SUM(T23:U23) -> 0 | T23: － | U23: ='表6.5'!BN67 -> 0
D24: 特定工場 ・ 事業場以外の 工場・事業場 | E24: (R) | F24: 燃料基準適合勧告工場･事業場数 | G24: =SUM(H24:I24) -> 0 | H24: 0 | I24: 0 | J24: =SUM(K24:L24) -> 0 | K24: 0 | L24: 0 | M24: =SUM(N24:O24) -> 0 | N24: 0 | O24: 0 | P24: =SUM(Q24:R24) -> 0 | Q24: 0 | R24: 0 | S24: =SUM(T24:U24) -> 0 | T24: ='表6.3'!BR67 -> 0 | U24: ='表6.5'!BO67 -> 0
E25: (S) | F25: 燃料基準適合命令工場･事業場数 | G25: =SUM(H25:I25) -> 0 | H25: 0 | I25: 0 | J25: =SUM(K25:L25) -> 0 | K25: 0 | L25: 0 | M25: =SUM(N25:O25) -> 0 | N25: 0 | O25: 0 | P25: =SUM(Q25:R25) -> 0 | Q25: 0 | R25: 0 | S25: =SUM(T25:U25) -> 0 | T25: ='表6.3'!BS67 -> 0 | U25: ='表6.5'!BP67 -> 0
E26: (T) | F26: (S)の命令違反告発工場・事業場数 | G26: =SUM(H26:I26) -> 0 | H26: 0 | I26: 0 | J26: =SUM(K26:L26) -> 0 | K26: 0 | L26: 0 | M26: =SUM(N26:O26) -> 0 | N26: 0 | O26: 0 | P26: =SUM(Q26:R26) -> 0 | Q26: 0 | R26: 0 | S26: =SUM(T26:U26) -> 0 | T26: ='表6.3'!BT67 -> 0 | U26: ='表6.5'!BQ67 -> 0
B27: 窒素酸化物に係る指定地域内 | D27: 特定工場・ 事業場 | E27: (U) | F27: 計画変更命令工場・事業場数 | G27: =SUM(H27:I27) -> 0 | H27: 0 | I27: － | J27: =SUM(K27:L27) -> 0 | K27: 0 | L27: － | M27: =SUM(N27:O27) -> 0 | N27: 0 | O27: － | P27: =SUM(Q27:R27) -> 0 | Q27: 0 | R27: － | S27: =SUM(T27:U27) -> 0 | T27: ='表6.3'!BU67 -> 0 | U27: －
E28: (V) | F28: 総量規制基準違反告発工場・事業場数 | G28: =SUM(H28:I28) -> 0 | H28: 0 | I28: 0 | J28: =SUM(K28:L28) -> 0 | K28: 0 | L28: 0 | M28: =SUM(N28:O28) -> 0 | N28: 0 | O28: 0 | P28: =SUM(Q28:R28) -> 0 | Q28: 0 | R28: 0 | S28: =SUM(T28:U28) -> 0 | T28: ='表6.3'!BV67 -> 0 | U28: ='表6.5'!BR67 -> 0
E29: (W) | F29: 改善命令等工場・事業場数 | G29: =SUM(H29:I29) -> 0 | H29: 0 | I29: 0 | J29: =SUM(K29:L29) -> 0 | K29: 0 | L29: 0 | M29: =SUM(N29:O29) -> 0 | N29: 0 | O29: 0 | P29: =SUM(Q29:R29) -> 0 | Q29: 0 | R29: 0 | S29: =SUM(T29:U29) -> 0 | T29: ='表6.3'!BW67 -> 0 | U29: ='表6.5'!BS67 -> 0
E30: (X) | F30: (W)の命令等違反告発工場・事業場数 | G30: =SUM(H30:I30) -> 0 | H30: 0 | I30: 0 | J30: =SUM(K30:L30) -> 0 | K30: 0 | L30: 0 | M30: =SUM(N30:O30) -> 0 | N30: 0 | O30: 0 | P30: =SUM(Q30:R30) -> 0 | Q30: 0 | R30: 0 | S30: =SUM(T30:U30) -> 0 | T30: ='表6.3'!BX67 -> 0 | U30: ='表6.5'!BT67 -> 0
E31: (Y) | F31: 経産大臣等への要請工場・事業場数 | G31: =SUM(H31:I31) -> 0 | H31: － | I31: 0 | J31: =SUM(K31:L31) -> 0 | K31: － | L31: 0 | M31: =SUM(N31:O31) -> 0 | N31: － | O31: 0 | P31: =SUM(Q31:R31) -> 0 | Q31: － | R31: 0 | S31: =SUM(T31:U31) -> 0 | T31: － | U31: ='表6.5'!BU67 -> 0
B32: (c) | C32: 測定記録の保存等に係る違反の告発施設数 | G32: =SUM(H32:I32) -> 0 | H32: 0 | I32: 0 | J32: =SUM(K32:L32) -> 0 | K32: 0 | L32: 0 | M32: =SUM(N32:O32) -> 0 | N32: 0 | O32: 0 | P32: =SUM(Q32:R32) -> 0 | Q32: 0 | R32: 0 | S32: =SUM(T32:U32) -> 0 | T32: ='表6.3'!BY67 -> 0 | U32: ='表6.5'!BV67 -> 0
B33: (d) | C33: 行政指導施設数 | G33: =SUM(H33:I33) -> 3885 | H33: 3658 | I33: 227 | J33: =SUM(K33:L33) -> 4848 | K33: 4574 | L33: 274 | M33: =SUM(N33:O33) -> 3409 | N33: 3149 | O33: 260 | P33: =SUM(Q33:R33) -> 3175 | Q33: 2897 | R33: 278 | S33: =SUM(T33:U33) -> 2698 | T33: ='表6.3'!BZ67 -> 2452 | U33: ='表6.5'!BW67 -> 246
B34: （注1）「大気」：大気汚染防止法届出ばい煙発生施設、「電気・ガス・鉱山」：電気事業法・ガス事業法・鉱山保安法に係るばい煙発生施設を示す。

Sheet 表6.2
B2: 表6.2(1) 行政指導施設数 都道府県市別（ばい煙発生施設） | K2: 表6.2(2) 行政指導施設数 都道府県市別（ばい煙発生施設） | T2: 表6.2(3) 行政指導施設数 都道府県市別（ばい煙発生施設）
B4: 自治体名 | C4: ① | D4: ② | E4: ③ | F4: ④ | G4: ⑤ | H4: ⑥ | I4: 合計 | K4: 自治体名 | L4: ① | M4: ② | N4: ③ | O4: ④ | P4: ⑤ | Q4: ⑥ | R4: 合計 | T4: 自治体名 | U4: ① | V4: ② | W4: ③ | X4: ④ | Y4: ⑤ | Z4: ⑥ | AA4: 合計
C5: 排出基準超過に係る行政指導施設数 | D5: 測定不実施、測定回数不足、未記録、未保存及び虚偽の記録による行政指導施設数 | E5: 氏名の変更等の届出書及び承継届出書の未届出による行政指導施設数 | F5: 設置届出書・変更届出書及び使用届出書の未届出による行政指導施設数 | G5: 設置届出書等の届出内容の不備による行政指導施設数 | H5: その他 | L5: 排出基準超過に係る行政指導施設数 | M5: 測定不実施、測定回数不足、未記録、未保存及び虚偽の記録による行政指導施設数 | N5: 氏名の変更等の届出書及び承継届出書の未届出による行政指導施設数 | O5: 設置届出書・変更届出書及び使用届出書の未届出による行政指導施設数 | P5: 設置届出書等の届出内容の不備による行政指導施設数 | Q5: その他 | U5: 排出基準超過に係る行政指導施設数 | V5: 測定不実施、測定回数不足、未記録、未保存及び虚偽の記録による行政指導施設数 | W5: 氏名の変更等の届出書及び承継届出書の未届出による行政指導施設数 | X5: 設置届出書・変更届出書及び使用届出書の未届出による行政指導施設数 | Y5: 設置届出書等の届出内容の不備による行政指導施設数 | Z5: その他
B8: 北海道計 | C8: =SUM(C9:C15) -> 2 | D8: =SUM(D9:D15) -> 53 | E8: =SUM(E9:E15) -> 89 | F8: =SUM(F9:F15) -> 53 | G8: =SUM(G9:G15) -> 1 | H8: =SUM(H9:H15) -> 45 | I8: =SUM(I9:I15) -> 243 | K8: 新潟県計 | L8: =SUM(L9:L10) -> 0 | M8: =SUM(M9:M10) -> 44 | N8: =SUM(N9:N10) -> 14 | O8: =SUM(O9:O10) -> 0 | P8: =SUM(P9:P10) -> 2 | Q8: =SUM(Q9:Q10) -> 16 | R8: =SUM(R9:R10) -> 76 | T8: 和歌山県計 | U8: =SUM(U9:U10) -> 0 | V8: =SUM(V9:V10) -> 16 | W8: =SUM(W9:W10) -> 14 | X8: =SUM(X9:X10) -> 9 | Y8: =SUM(Y9:Y10) -> 37 | Z8: =SUM(Z9:Z10) -> 0 | AA8: =SUM(AA9:AA10) -> 76
B9: 札幌市 | C9: 0 | D9: 7 | E9: 1 | F9: 0 | G9: 0 | H9: 0 | I9: =SUM(C9:H9) -> 8 | K9: 新潟市 | L9: 0 | M9: 19 | N9: 7 | O9: 0 | P9: 0 | Q9: 7 | R9: =SUM(L9:Q9) -> 33 | T9: 和歌山市 | U9: 0 | V9: 0 | W9: 0 | X9: 0 | Y9: 0 | Z9: 0 | AA9: =SUM(U9:Z9) -> 0
B10: 函館市 | C10: 0 | D10: 1 | E10: 2 | F10: 2 | G10: 0 | H10: 0 | I10: =SUM(C10:H10) -> 5 | K10: その他・新潟県 | L10: 0 | M10: 25 | N10: 7 | O10: 0 | P10: 2 | Q10: 9 | R10: =SUM(L10:Q10) -> 43 | T10: その他・和歌山県 | U10: 0 | V10: 16 | W10: 14 | X10: 9 | Y10: 37 | Z10: 0 | AA10: =SUM(U10:Z10) -> 76
B11: 小樽市 | C11: 0 | D11: 0 | E11: 1 | F11: 0 | G11: 0 | H11: 0 | I11: =SUM(C11:H11) -> 1 | K11: 富山県計 | L11: =SUM(L12:L13) -> 0 | M11: =SUM(M12:M13) -> 1 | N11: =SUM(N12:N13) -> 0 | O11: =SUM(O12:O13) -> 1 | P11: =SUM(P12:P13) -> 0 | Q11: =SUM(Q12:Q13) -> 0 | R11: =SUM(R12:R13) -> 2 | T11: 鳥取県計 | U11: =SUM(U12:U13) -> 0 | V11: =SUM(V12:V13) -> 0 | W11: =SUM(W12:W13) -> 0 | X11: =SUM(X12:X13) -> 0 | Y11: =SUM(Y12:Y13) -> 0 | Z11: =SUM(Z12:Z13) -> 0 | AA11: =SUM(AA12:AA13) -> 0
B12: 旭川市 | C12: 0 | D12: 4 | E12: 22 | F12: 5 | G12: 0 | H12: 13 | I12: =SUM(C12:H12) -> 44 | K12: 富山市 | L12: 0 | M12: 0 | N12: 0 | O12: 1 | P12: 0 | Q12: 0 | R12: =SUM(L12:Q12) -> 1 | T12: 鳥取市 | U12: 0 | V12: 0 | W12: 0 | X12: 0 | Y12: 0 | Z12: 0 | AA12: =SUM(U12:Z12) -> 0
B13: 室蘭市 | C13: 0 | D13: 0 | E13: 0 | F13: 0 | G13: 0 | H13: 0 | I13: =SUM(C13:H13) -> 0 | K13: その他・富山県 | L13: 0 | M13: 1 | N13: 0 | O13: 0 | P13: 0 | Q13: 0 | R13: =SUM(L13:Q13) -> 1 | T13: その他・鳥取県 | U13: 0 | V13: 0 | W13: 0 | X13: 0 | Y13: 0 | Z13: 0 | AA13: =SUM(U13:Z13) -> 0
B14: 苫小牧市 | C14: 0 | D14: 0 | E14: 18 | F14: 2 | G14: 0 | H14: 0 | I14: =SUM(C14:H14) -> 20 | K14: 石川県計 | L14: =SUM(L15:L16) -> 0 | M14: =SUM(M15:M16) -> 0 | N14: =SUM(N15:N16) -> 0 | O14: =SUM(O15:O16) -> 1 | P14: =SUM(P15:P16) -> 0 | Q14: =SUM(Q15:Q16) -> 1 | R14: =SUM(R15:R16) -> 2 | T14: 島根県計 | U14: =SUM(U15:U16) -> 0 | V14: =SUM(V15:V16) -> 3 | W14: =SUM(W15:W16) -> 2 | X14: =SUM(X15:X16) -> 0 | Y14: =SUM(Y15:Y16) -> 0 | Z14: =SUM(Z15:Z16) -> 1 | AA14: =SUM(AA15:AA16) -> 6
B15: その他・北海道 | C15: 2 | D15: 41 | E15: 45 | F15: 44 | G15: 1 | H15: 32 | I15: =SUM(C15:H15) -> 165 | K15: 金沢市 | L15: 0 | M15: 0 | N15: 0 | O15: 0 | P15: 0 | Q15: 0 | R15: =SUM(L15:Q15) -> 0 | T15: 松江市 | U15: 0 | V15: 0 | W15: 0 | X15: 0 | Y15: 0 | Z15: 0 | AA15: =SUM(U15:Z15) -> 0
B16: 青森県計 | C16: =SUM(C17:C19) -> 1 | D16: =SUM(D17:D19) -> 16 | E16: =SUM(E17:E19) -> 14 | F16: =SUM(F17:F19) -> 4 | G16: =SUM(G17:G19) -> 0 | H16: =SUM(H17:H19) -> 4 | I16: =SUM(I17:I19) -> 39 | K16: その他・石川県 | L16: 0 | M16: 0 | N16: 0 | O16: 1 | P16: 0 | Q16: 1 | R16: =SUM(L16:Q16) -> 2 | T16: その他・島根県 | U16: 0 | V16: 3 | W16: 2 | X16: 0 | Y16: 0 | Z16: 1 | AA16: =SUM(U16:Z16) -> 6
B17: 青森市 | C17: 1 | D17: 2 | E17: 2 | F17: 0 | G17: 0 | H17: 0 | I17: =SUM(C17:H17) -> 5 | K17: 福井県計 | L17: =SUM(L18:L19) -> 0 | M17: =SUM(M18:M19) -> 2 | N17: =SUM(N18:N19) -> 0 | O17: =SUM(O18:O19) -> 0 | P17: =SUM(P18:P19) -> 0 | Q17: =SUM(Q18:Q19) -> 0 | R17: =SUM(R18:R19) -> 2 | T17: 岡山県計 | U17: =SUM(U18:U20) -> 0 | V17: =SUM(V18:V20) -> 12 | W17: =SUM(W18:W20) -> 5 | X17: =SUM(X18:X20) -> 8 | Y17: =SUM(Y18:Y20) -> 1 | Z17: =SUM(Z18:Z20) -> 10 | AA17: =SUM(AA18:AA20) -> 36
B18: 八戸市 | C18: 0 | D18: 1 | E18: 0 | F18: 2 | G18: 0 | H18: 0 | I18: =SUM(C18:H18) -> 3 | K18: 福井市 | L18: 0 | M18: 2 | N18: 0 | O18: 0 | P18: 0 | Q18: 0 | R18: =SUM(L18:Q18) -> 2 | T18: 岡山市 | U18: 0 | V18: 2 | W18: 0 | X18: 0 | Y18: 0 | Z18: 0 | AA18: =SUM(U18:Z18) -> 2
B19: その他・青森県 | C19: 0 | D19: 13 | E19: 12 | F19: 2 | G19: 0 | H19: 4 | I19: =SUM(C19:H19) -> 31 | K19: その他・福井県 | L19: 0 | M19: 0 | N19: 0 | O19: 0 | P19: 0 | Q19: 0 | R19: =SUM(L19:Q19) -> 0 | T19: 倉敷市 | U19: 0 | V19: 2 | W19: 4 | X19: 3 | Y19: 1 | Z19: 0 | AA19: =SUM(U19:Z19) -> 10
B20: 岩手県計 | C20: =SUM(C21:C22) -> 0 | D20: =SUM(D21:D22) -> 0 | E20: =SUM(E21:E22) -> 3 | F20: =SUM(F21:F22) -> 2 | G20: =SUM(G21:G22) -> 0 | H20: =SUM(H21:H22) -> 0 | I20: =SUM(I21:I22) -> 5 | K20: 山梨県計 | L20: =SUM(L21:L22) -> 0 | M20: =SUM(M21:M22) -> 8 | N20: =SUM(N21:N22) -> 14 | O20: =SUM(O21:O22) -> 10 | P20: =SUM(P21:P22) -> 0 | Q20: =SUM(Q21:Q22) -> 3 | R20: =SUM(R21:R22) -> 35 | T20: その他・岡山県 | U20: 0 | V20: 8 | W20: 1 | X20: 5 | Y20: 0 | Z20: 10 | AA20: =SUM(U20:Z20) -> 24
B21: 盛岡市 | C21: 0 | D21: 0 | E21: 1 | F21: 2 | G21: 0 | H21: 0 | I21: =SUM(C21:H21) -> 3 | K21: 甲府市 | L21: 0 | M21: 1 | N21: 5 | O21: 5 | P21: 0 | Q21: 3 | R21: =SUM(L21:Q21) -> 14 | T21: 広島県計 | U21: =SUM(U22:U25) -> 0 | V21: =SUM(V22:V25) -> 0 | W21: =SUM(W22:W25) -> 0 | X21: =SUM(X22:X25) -> 0 | Y21: =SUM(Y22:Y25) -> 0 | Z21: =SUM(Z22:Z25) -> 9 | AA21: =SUM(AA22:AA25) -> 9
B22: その他・岩手県 | C22: 0 | D22: 0 | E22: 2 | F22: 0 | G22: 0 | H22: 0 | I22: =SUM(C22:H22) -> 2 | K22: その他・山梨県 | L22: 0 | M22: 7 | N22: 9 | O22: 5 | P22: 0 | Q22: 0 | R22: =SUM(L22:Q22) -> 21 | T22: 広島市 | U22: 0 | V22: 0 | W22: 0 | X22: 0 | Y22: 0 | Z22: 9 | AA22: =SUM(U22:Z22) -> 9
B23: 宮城県計 | C23: =SUM(C24:C25) -> 1 | D23: =SUM(D24:D25) -> 0 | E23: =SUM(E24:E25) -> 19 | F23: =SUM(F24:F25) -> 3 | G23: =SUM(G24:G25) -> 0 | H23: =SUM(H24:H25) -> 8 | I23: =SUM(I24:I25) -> 31 | K23: 長野県計 | L23: =SUM(L24:L26) -> 0 | M23: =SUM(M24:M26) -> 2 | N23: =SUM(N24:N26) -> 8 | O23: =SUM(O24:O26) -> 2 | P23: =SUM(P24:P26) -> 1 | Q23: =SUM(Q24:Q26) -> 3 | R23: =SUM(R24:R26) -> 16 | T23: 呉市 | U23: 0 | V23: 0 | W23: 0 | X23: 0 | Y23: 0 | Z23: 0 | AA23: =SUM(U23:Z23) -> 0
B24: 仙台市 | C24: 0 | D24: 0 | E24: 19 | F24: 2 | G24: 0 | H24: 8 | I24: =SUM(C24:H24) -> 29 | K24: 長野市 | L24: 0 | M24: 1 | N24: 0 | O24: 1 | P24: 0 | Q24: 0 | R24: =SUM(L24:Q24) -> 2 | T24: 福山市 | U24: 0 | V24: 0 | W24: 0 | X24: 0 | Y24: 0 | Z24: 0 | AA24: =SUM(U24:Z24) -> 0
B25: その他・宮城県 | C25: 1 | D25: 0 | E25: 0 | F25: 1 | G25: 0 | H25: 0 | I25: =SUM(C25:H25) -> 2 | K25: 松本市 | L25: 0 | M25: 0 | N25: 1 | O25: 0 | P25: 0 | Q25: 0 | R25: =SUM(L25:Q25) -> 1 | T25: その他・広島県 | U25: 0 | V25: 0 | W25: 0 | X25: 0 | Y25: 0 | Z25: 0 | AA25: =SUM(U25:Z25) -> 0
B26: 秋田県計 | C26: =SUM(C27:C28) -> 0 | D26: =SUM(D27:D28) -> 9 | E26: =SUM(E27:E28) -> 4 | F26: =SUM(F27:F28) -> 9 | G26: =SUM(G27:G28) -> 1 | H26: =SUM(H27:H28) -> 6 | I26: =SUM(I27:I28) -> 29 | K26: その他・長野県 | L26: 0 | M26: 1 | N26: 7 | O26: 1 | P26: 1 | Q26: 3 | R26: =SUM(L26:Q26) -> 13 | T26: 山口県計 | U26: =SUM(U27:U28) -> 0 | V26: =SUM(V27:V28) -> 7 | W26: =SUM(W27:W28) -> 9 | X26: =SUM(X27:X28) -> 1 | Y26: =SUM(Y27:Y28) -> 0 | Z26: =SUM(Z27:Z28) -> 1 | AA26: =SUM(AA27:AA28) -> 18
B27: 秋田市 | C27: 0 | D27: 0 | E27: 0 | F27: 1 | G27: 0 | H27: 1 | I27: =SUM(C27:H27) -> 2 | K27: 岐阜県計 | L27: =SUM(L28:L29) -> 0 | M27: =SUM(M28:M29) -> 3 | N27: =SUM(N28:N29) -> 5 | O27: =SUM(O28:O29) -> 4 | P27: =SUM(P28:P29) -> 0 | Q27: =SUM(Q28:Q29) -> 9 | R27: =SUM(R28:R29) -> 21 | T27: 下関市 | U27: 0 | V27: 3 | W27: 9 | X27: 0 | Y27: 0 | Z27: 0 | AA27: =SUM(U27:Z27) -> 12
B28: その他・秋田県 | C28: 0 | D28: 9 | E28: 4 | F28: 8 | G28: 1 | H28: 5 | I28: =SUM(C28:H28) -> 27 | K28: 岐阜市 | L28: 0 | M28: 1 | N28: 4 | O28: 1 | P28: 0 | Q28: 8 | R28: =SUM(L28:Q28) -> 14 | T28: その他・山口県 | U28: 0 | V28: 4 | W28: 0 | X28: 1 | Y28: 0 | Z28: 1 | AA28: =SUM(U28:Z28) -> 6
B29: 山形県計 | C29: =SUM(C30:C31) -> 0 | D29: =SUM(D30:D31) -> 4 | E29: =SUM(E30:E31) -> 2 | F29: =SUM(F30:F31) -> 1 | G29: =SUM(G30:G31) -> 0 | H29: =SUM(H30:H31) -> 1 | I29: =SUM(I30:I31) -> 8 | K29: その他・岐阜県 | L29: 0 | M29: 2 | N29: 1 | O29: 3 | P29: 0 | Q29: 1 | R29: =SUM(L29:Q29) -> 7 | T29: 徳島県計 | U29: =SUM(U30:U30) -> 0 | V29: =SUM(V30:V30) -> 0 | W29: =SUM(W30:W30) -> 17 | X29: =SUM(X30:X30) -> 6 | Y29: =SUM(Y30:Y30) -> 0 | Z29: =SUM(Z30:Z30) -> 2 | AA29: =SUM(AA30:AA30) -> 25
B30: 山形市 | C30: 0 | D30: 0 | E30: 0 | F30: 0 | G30: 0 | H30: 0 | I30: =SUM(C30:H30) -> 0 | K30: 静岡県計 | L30: =SUM(L31:L33) -> 2 | M30: =SUM(M31:M33) -> 32 | N30: =SUM(N31:N33) -> 16 | O30: =SUM(O31:O33) -> 13 | P30: =SUM(P31:P33) -> 3 | Q30: =SUM(Q31:Q33) -> 67 | R30: =SUM(R31:R33) -> 133 | T30: 徳島県 | U30: 0 | V30: 0 | W30: 17 | X30: 6 | Y30: 0 | Z30: 2 | AA30: =SUM(U30:Z30) -> 25
B31: その他・山形県 | C31: 0 | D31: 4 | E31: 2 | F31: 1 | G31: 0 | H31: 1 | I31: =SUM(C31:H31) -> 8 | K31: 静岡市 | L31: 1 | M31: 9 | N31: 0 | O31: 0 | P31: 0 | Q31: 18 | R31: =SUM(L31:Q31) -> 28 | T31: 香川県計 | U31: =SUM(U32:U33) -> 0 | V31: =SUM(V32:V33) -> 3 | W31: =SUM(W32:W33) -> 0 | X31: =SUM(X32:X33) -> 8 | Y31: =SUM(Y32:Y33) -> 0 | Z31: =SUM(Z32:Z33) -> 0 | AA31: =SUM(AA32:AA33) -> 11
B32: 福島県計 | C32: =SUM(C33:C36) -> 2 | D32: =SUM(D33:D36) -> 20 | E32: =SUM(E33:E36) -> 46 | F32: =SUM(F33:F36) -> 7 | G32: =SUM(G33:G36) -> 0 | H32: =SUM(H33:H36) -> 35 | I32: =SUM(I33:I36) -> 110 | K32: 浜松市 | L32: 0 | M32: 8 | N32: 5 | O32: 3 | P32: 0 | Q32: 14 | R32: =SUM(L32:Q32) -> 30 | T32: 高松市 | U32: 0 | V32: 0 | W32: 0 | X32: 2 | Y32: 0 | Z32: 0 | AA32: =SUM(U32:Z32) -> 2
B33: 福島市 | C33: 0 | D33: 0 | E33: 0 | F33: 0 | G33: 0 | H33: 0 | I33: =SUM(C33:H33) -> 0 | K33: その他・静岡県 | L33: 1 | M33: 15 | N33: 11 | O33: 10 | P33: 3 | Q33: 35 | R33: =SUM(L33:Q33) -> 75 | T33: その他・香川県 | U33: 0 | V33: 3 | W33: 0 | X33: 6 | Y33: 0 | Z33: 0 | AA33: =SUM(U33:Z33) -> 9
B34: 郡山市 | C34: 0 | D34: 0 | E34: 0 | F34: 0 | G34: 0 | H34: 0 | I34: =SUM(C34:H34) -> 0 | K34: 愛知県計 | L34: =SUM(L35:L40) -> 1 | M34: =SUM(M35:M40) -> 14 | N34: =SUM(N35:N40) -> 19 | O34: =SUM(O35:O40) -> 12 | P34: =SUM(P35:P40) -> 2 | Q34: =SUM(Q35:Q40) -> 991 | R34: =SUM(R35:R40) -> 1039 | T34: 愛媛県計 | U34: =SUM(U35:U36) -> 0 | V34: =SUM(V35:V36) -> 7 | W34: =SUM(W35:W36) -> 2 | X34: =SUM(X35:X36) -> 1 | Y34: =SUM(Y35:Y36) -> 0 | Z34: =SUM(Z35:Z36) -> 10 | AA34: =SUM(AA35:AA36) -> 20
B35: いわき市 | C35: 0 | D35: 1 | E35: 8 | F35: 0 | G35: 0 | H35: 0 | I35: =SUM(C35:H35) -> 9 | K35: 名古屋市 | L35: 1 | M35: 4 | N35: 1 | O35: 2 | P35: 2 | Q35: 0 | R35: =SUM(L35:Q35) -> 10 | T35: 松山市 | U35: 0 | V35: 4 | W35: 2 | X35: 0 | Y35: 0 | Z35: 10 | AA35: =SUM(U35:Z35) -> 16
B36: その他・福島県 | C36: 2 | D36: 19 | E36: 38 | F36: 7 | G36: 0 | H36: 35 | I36: =SUM(C36:H36) -> 101 | K36: 豊橋市 | L36: 0 | M36: 0 | N36: 0 | O36: 0 | P36: 0 | Q36: 0 | R36: =SUM(L36:Q36) -> 0 | T36: その他・愛媛県 | U36: 0 | V36: 3 | W36: 0 | X36: 1 | Y36: 0 | Z36: 0 | AA36: =SUM(U36:Z36) -> 4
B37: 茨城県計 | C37: =SUM(C38:C39) -> 0 | D37: =SUM(D38:D39) -> 34 | E37: =SUM(E38:E39) -> 47 | F37: =SUM(F38:F39) -> 7 | G37: =SUM(G38:G39) -> 21 | H37: =SUM(H38:H39) -> 55 | I37: =SUM(I38:I39) -> 164 | K37: 岡崎市 | L37: 0 | M37: 0 | N37: 0 | O37: 0 | P37: 0 | Q37: 0 | R37: =SUM(L37:Q37) -> 0 | T37: 高知県計 | U37: =SUM(U38:U39) -> 0 | V37: =SUM(V38:V39) -> 11 | W37: =SUM(W38:W39) -> 5 | X37: =SUM(X38:X39) -> 0 | Y37: =SUM(Y38:Y39) -> 0 | Z37: =SUM(Z38:Z39) -> 0 | AA37: =SUM(AA38:AA39) -> 16
B38: 水戸市 | C38: 0 | D38: 0 | E38: 2 | F38: 1 | G38: 1 | H38: 0 | I38: =SUM(C38:H38) -> 4 | K38: 一宮市 | L38: 0 | M38: 5 | N38: 14 | O38: 10 | P38: 0 | Q38: 19 | R38: =SUM(L38:Q38) -> 48 | T38: 高知市 | U38: 0 | V38: 11 | W38: 4 | X38: 0 | Y38: 0 | Z38: 0 | AA38: =SUM(U38:Z38) -> 15
B39: その他・茨城県 | C39: 0 | D39: 34 | E39: 45 | F39: 6 | G39: 20 | H39: 55 | I39: =SUM(C39:H39) -> 160 | K39: 豊田市 | L39: 0 | M39: 5 | N39: 4 | O39: 0 | P39: 0 | Q39: 17 | R39: =SUM(L39:Q39) -> 26 | T39: その他・高知県 | U39: 0 | V39: 0 | W39: 1 | X39: 0 | Y39: 0 | Z39: 0 | AA39: =SUM(U39:Z39) -> 1
B40: 栃木県計 | C40: =SUM(C41:C42) -> 2 | D40: =SUM(D41:D42) -> 5 | E40: =SUM(E41:E42) -> 11 | F40: =SUM(F41:F42) -> 0 | G40: =SUM(G41:G42) -> 0 | H40: =SUM(H41:H42) -> 2 | I40: =SUM(I41:I42) -> 20 | K40: その他・愛知県 | L40: 0 | M40: 0 | N40: 0 | O40: 0 | P40: 0 | Q40: 955 | R40: =SUM(L40:Q40) -> 955 | T40: 福岡県計 | U40: =SUM(U41:U45) -> 0 | V40: =SUM(V41:V45) -> 7 | W40: =SUM(W41:W45) -> 3 | X40: =SUM(X41:X45) -> 0 | Y40: =SUM(Y41:Y45) -> 11 | Z40: =SUM(Z41:Z45) -> 2 | AA40: =SUM(AA41:AA45) -> 23
B41: 宇都宮市 | C41: 0 | D41: 0 | E41: 0 | F41: 0 | G41: 0 | H41: 0 | I41: =SUM(C41:H41) -> 0 | K41: 三重県計 | L41: =SUM(L42:L43) -> 0 | M41: =SUM(M42:M43) -> 1 | N41: =SUM(N42:N43) -> 6 | O41: =SUM(O42:O43) -> 2 | P41: =SUM(P42:P43) -> 2 | Q41: =SUM(Q42:Q43) -> 10 | R41: =SUM(R42:R43) -> 21 | T41: 北九州市 | U41: 0 | V41: 5 | W41: 3 | X41: 0 | Y41: 11 | Z41: 2 | AA41: =SUM(U41:Z41) -> 21
B42: その他・栃木県 | C42: 2 | D42: 5 | E42: 11 | F42: 0 | G42: 0 | H42: 2 | I42: =SUM(C42:H42) -> 20 | K42: 四日市市 | L42: 0 | M42: 0 | N42: 0 | O42: 0 | P42: 0 | Q42: 0 | R42: =SUM(L42:Q42) -> 0 | T42: 福岡市 | U42: 0 | V42: 2 | W42: 0 | X42: 0 | Y42: 0 | Z42: 0 | AA42: =SUM(U42:Z42) -> 2
B43: 群馬県計 | C43: =SUM(C44:C46) -> 0 | D43: =SUM(D44:D46) -> 17 | E43: =SUM(E44:E46) -> 51 | F43: =SUM(F44:F46) -> 23 | G43: =SUM(G44:G46) -> 0 | H43: =SUM(H44:H46) -> 3 | I43: =SUM(I44:I46) -> 94 | K43: その他・三重県 | L43: 0 | M43: 1 | N43: 6 | O43: 2 | P43: 2 | Q43: 10 | R43: =SUM(L43:Q43) -> 21 | T43: 大牟田市 | U43: 0 | V43: 0 | W43: 0 | X43: 0 | Y43: 0 | Z43: 0 | AA43: =SUM(U43:Z43) -> 0
B44: 前橋市 | C44: 0 | D44: 1 | E44: 1 | F44: 1 | G44: 0 | H44: 0 | I44: =SUM(C44:H44) -> 3 | K44: 滋賀県計 | L44: =SUM(L45:L46) -> 2 | M44: =SUM(M45:M46) -> 20 | N44: =SUM(N45:N46) -> 8 | O44: =SUM(O45:O46) -> 5 | P44: =SUM(P45:P46) -> 0 | Q44: =SUM(Q45:Q46) -> 5 | R44: =SUM(R45:R46) -> 40 | T44: 久留米市 | U44: 0 | V44: 0 | W44: 0 | X44: 0 | Y44: 0 | Z44: 0 | AA44: =SUM(U44:Z44) -> 0
B45: 高崎市 | C45: 0 | D45: 9 | E45: 8 | F45: 5 | G45: 0 | H45: 2 | I45: =SUM(C45:H45) -> 24 | K45: 大津市 | L45: 0 | M45: 0 | N45: 0 | O45: 0 | P45: 0 | Q45: 0 | R45: =SUM(L45:Q45) -> 0 | T45: その他・福岡県 | U45: 0 | V45: 0 | W45: 0 | X45: 0 | Y45: 0 | Z45: 0 | AA45: =SUM(U45:Z45) -> 0
B46: その他・群馬県 | C46: 0 | D46: 7 | E46: 42 | F46: 17 | G46: 0 | H46: 1 | I46: =SUM(C46:H46) -> 67 | K46: その他・滋賀県 | L46: 2 | M46: 20 | N46: 8 | O46: 5 | P46: 0 | Q46: 5 | R46: =SUM(L46:Q46) -> 40 | T46: 佐賀県計 | U46: =SUM(U47:U47) -> 0 | V46: =SUM(V47:V47) -> 0 | W46: =SUM(W47:W47) -> 0 | X46: =SUM(X47:X47) -> 0 | Y46: =SUM(Y47:Y47) -> 0 | Z46: =SUM(Z47:Z47) -> 0 | AA46: =SUM(AA47:AA47) -> 0
B47: 埼玉県計 | C47: =SUM(C48:C53) -> 1 | D47: =SUM(D48:D53) -> 17 | E47: =SUM(E48:E53) -> 33 | F47: =SUM(F48:F53) -> 10 | G47: =SUM(G48:G53) -> 10 | H47: =SUM(H48:H53) -> 23 | I47: =SUM(I48:I53) -> 94 | K47: 京都府計 | L47: =SUM(L48:L49) -> 0 | M47: =SUM(M48:M49) -> 0 | N47: =SUM(N48:N49) -> 0 | O47: =SUM(O48:O49) -> 0 | P47: =SUM(P48:P49) -> 0 | Q47: =SUM(Q48:Q49) -> 0 | R47: =SUM(R48:R49) -> 0 | T47: 佐賀県 | U47: 0 | V47: 0 | W47: 0 | X47: 0 | Y47: 0 | Z47: 0 | AA47: =SUM(U47:Z47) -> 0
B48: さいたま市 | C48: 0 | D48: 1 | E48: 0 | F48: 1 | G48: 0 | H48: 13 | I48: =SUM(C48:H48) -> 15 | K48: 京都市 | L48: 0 | M48: 0 | N48: 0 | O48: 0 | P48: 0 | Q48: 0 | R48: =SUM(L48:Q48) -> 0 | T48: 長崎県計 | U48: =SUM(U49:U51) -> 0 | V48: =SUM(V49:V51) -> 1 | W48: =SUM(W49:W51) -> 5 | X48: =SUM(X49:X51) -> 1 | Y48: =SUM(Y49:Y51) -> 0 | Z48: =SUM(Z49:Z51) -> 1 | AA48: =SUM(AA49:AA51) -> 8
B49: 川越市 | C49: 0 | D49: 4 | E49: 23 | F49: 4 | G49: 0 | H49: 1 | I49: =SUM(C49:H49) -> 32 | K49: その他・京都府 | L49: 0 | M49: 0 | N49: 0 | O49: 0 | P49: 0 | Q49: 0 | R49: =SUM(L49:Q49) -> 0 | T49: 長崎市 | U49: 0 | V49: 0 | W49: 0 | X49: 0 | Y49: 0 | Z49: 0 | AA49: =SUM(U49:Z49) -> 0
B50: 川口市 | C50: 0 | D50: 0 | E50: 0 | F50: 0 | G50: 0 | H50: 0 | I50: =SUM(C50:H50) -> 0 | K50: 大阪府計 | L50: =SUM(L51:L60) -> 1 | M50: =SUM(M51:M60) -> 33 | N50: =SUM(N51:N60) -> 43 | O50: =SUM(O51:O60) -> 6 | P50: =SUM(P51:P60) -> 0 | Q50: =SUM(Q51:Q60) -> 34 | R50: =SUM(R51:R60) -> 117 | T50: 佐世保市 | U50: 0 | V50: 1 | W50: 5 | X50: 1 | Y50: 0 | Z50: 1 | AA50: =SUM(U50:Z50) -> 8
B51: 所沢市 | C51: 0 | D51: 3 | E51: 0 | F51: 0 | G51: 0 | H51: 0 | I51: =SUM(C51:H51) -> 3 | K51: 大阪市 | L51: 1 | M51: 2 | N51: 9 | O51: 2 | P51: 0 | Q51: 25 | R51: =SUM(L51:Q51) -> 39 | T51: その他・長崎県 | U51: 0 | V51: 0 | W51: 0 | X51: 0 | Y51: 0 | Z51: 0 | AA51: =SUM(U51:Z51) -> 0
B52: 越谷市 | C52: 0 | D52: 0 | E52: 0 | F52: 0 | G52: 0 | H52: 0 | I52: =SUM(C52:H52) -> 0 | K52: 堺市 | L52: 0 | M52: 0 | N52: 0 | O52: 2 | P52: 0 | Q52: 1 | R52: =SUM(L52:Q52) -> 3 | T52: 熊本県計 | U52: =SUM(U53:U54) -> 0 | V52: =SUM(V53:V54) -> 0 | W52: =SUM(W53:W54) -> 1 | X52: =SUM(X53:X54) -> 1 | Y52: =SUM(Y53:Y54) -> 0 | Z52: =SUM(Z53:Z54) -> 0 | AA52: =SUM(AA53:AA54) -> 2
B53: その他・埼玉県 | C53: 1 | D53: 9 | E53: 10 | F53: 5 | G53: 10 | H53: 9 | I53: =SUM(C53:H53) -> 44 | K53: 豊中市 | L53: 0 | M53: 0 | N53: 0 | O53: 0 | P53: 0 | Q53: 0 | R53: =SUM(L53:Q53) -> 0 | T53: 熊本市 | U53: 0 | V53: 0 | W53: 0 | X53: 0 | Y53: 0 | Z53: 0 | AA53: =SUM(U53:Z53) -> 0
B54: 千葉県計 | C54: =SUM(C55:C61) -> 2 | D54: =SUM(D55:D61) -> 32 | E54: =SUM(E55:E61) -> 11 | F54: =SUM(F55:F61) -> 5 | G54: =SUM(G55:G61) -> 6 | H54: =SUM(H55:H61) -> 33 | I54: =SUM(I55:I61) -> 89 | K54: 吹田市 | L54: 0 | M54: 2 | N54: 2 | O54: 0 | P54: 0 | Q54: 0 | R54: =SUM(L54:Q54) -> 4 | T54: その他・熊本県 | U54: 0 | V54: 0 | W54: 1 | X54: 1 | Y54: 0 | Z54: 0 | AA54: =SUM(U54:Z54) -> 2
B55: 千葉市 | C55: 0 | D55: 0 | E55: 0 | F55: 0 | G55: 0 | H55: 0 | I55: =SUM(C55:H55) -> 0 | K55: 高槻市 | L55: 0 | M55: 0 | N55: 2 | O55: 0 | P55: 0 | Q55: 0 | R55: =SUM(L55:Q55) -> 2 | T55: 大分県計 | U55: =SUM(U56:U57) -> 0 | V55: =SUM(V56:V57) -> 3 | W55: =SUM(W56:W57) -> 5 | X55: =SUM(X56:X57) -> 4 | Y55: =SUM(Y56:Y57) -> 0 | Z55: =SUM(Z56:Z57) -> 1 | AA55: =SUM(AA56:AA57) -> 13
B56: 市川市 | C56: 0 | D56: 0 | E56: 1 | F56: 0 | G56: 0 | H56: 0 | I56: =SUM(C56:H56) -> 1 | K56: 枚方市 | L56: 0 | M56: 0 | N56: 0 | O56: 0 | P56: 0 | Q56: 0 | R56: =SUM(L56:Q56) -> 0 | T56: 大分市 | U56: 0 | V56: 2 | W56: 5 | X56: 2 | Y56: 0 | Z56: 1 | AA56: =SUM(U56:Z56) -> 10
B57: 船橋市 | C57: 0 | D57: 0 | E57: 0 | F57: 0 | G57: 0 | H57: 0 | I57: =SUM(C57:H57) -> 0 | K57: 八尾市 | L57: 0 | M57: 0 | N57: 0 | O57: 0 | P57: 0 | Q57: 0 | R57: =SUM(L57:Q57) -> 0 | T57: その他・大分県 | U57: 0 | V57: 1 | W57: 0 | X57: 2 | Y57: 0 | Z57: 0 | AA57: =SUM(U57:Z57) -> 3
B58: 松戸市 | C58: 1 | D58: 1 | E58: 1 | F58: 0 | G58: 0 | H58: 2 | I58: =SUM(C58:H58) -> 5 | K58: 寝屋川市 | L58: 0 | M58: 0 | N58: 0 | O58: 0 | P58: 0 | Q58: 0 | R58: =SUM(L58:Q58) -> 0 | T58: 宮崎県計 | U58: =SUM(U59:U60) -> 2 | V58: =SUM(V59:V60) -> 1 | W58: =SUM(W59:W60) -> 5 | X58: =SUM(X59:X60) -> 6 | Y58: =SUM(Y59:Y60) -> 0 | Z58: =SUM(Z59:Z60) -> 0 | AA58: =SUM(AA59:AA60) -> 14
B59: 柏市 | C59: 0 | D59: 0 | E59: 0 | F59: 0 | G59: 0 | H59: 0 | I59: =SUM(C59:H59) -> 0 | K59: 東大阪市 | L59: 0 | M59: 0 | N59: 0 | O59: 0 | P59: 0 | Q59: 0 | R59: =SUM(L59:Q59) -> 0 | T59: 宮崎市 | U59: 2 | V59: 1 | W59: 2 | X59: 6 | Y59: 0 | Z59: 0 | AA59: =SUM(U59:Z59) -> 11
B60: 市原市 | C60: 0 | D60: 1 | E60: 0 | F60: 0 | G60: 0 | H60: 1 | I60: =SUM(C60:H60) -> 2 | K60: その他・大阪府 | L60: 0 | M60: 29 | N60: 30 | O60: 2 | P60: 0 | Q60: 8 | R60: =SUM(L60:Q60) -> 69 | T60: その他・宮崎県 | U60: 0 | V60: 0 | W60: 3 | X60: 0 | Y60: 0 | Z60: 0 | AA60: =SUM(U60:Z60) -> 3
B61: その他・千葉県 | C61: 1 | D61: 30 | E61: 9 | F61: 5 | G61: 6 | H61: 30 | I61: =SUM(C61:H61) -> 81 | K61: 兵庫県計 | L61: =SUM(L62:L68) -> 0 | M61: =SUM(M62:M68) -> 14 | N61: =SUM(N62:N68) -> 24 | O61: =SUM(O62:O68) -> 20 | P61: =SUM(P62:P68) -> 3 | Q61: =SUM(Q62:Q68) -> 18 | R61: =SUM(R62:R68) -> 79 | T61: 鹿児島県計 | U61: =SUM(U62:U63) -> 0 | V61: =SUM(V62:V63) -> 0 | W61: =SUM(W62:W63) -> 0 | X61: =SUM(X62:X63) -> 0 | Y61: =SUM(Y62:Y63) -> 0 | Z61: =SUM(Z62:Z63) -> 0 | AA61: =SUM(AA62:AA63) -> 0
B62: 東京都計 | C62: =SUM(C63:C64) -> 2 | D62: =SUM(D63:D64) -> 12 | E62: =SUM(E63:E64) -> 15 | F62: =SUM(F63:F64) -> 2 | G62: =SUM(G63:G64) -> 0 | H62: =SUM(H63:H64) -> 2 | I62: =SUM(I63:I64) -> 33 | K62: 神戸市 | L62: 0 | M62: 0 | N62: 0 | O62: 0 | P62: 0 | Q62: 0 | R62: =SUM(L62:Q62) -> 0 | T62: 鹿児島市 | U62: 0 | V62: 0 | W62: 0 | X62: 0 | Y62: 0 | Z62: 0 | AA62: =SUM(U62:Z62) -> 0
B63: 八王子市 | C63: 1 | D63: 8 | E63: 0 | F63: 2 | G63: 0 | H63: 0 | I63: =SUM(C63:H63) -> 11 | K63: 姫路市 | L63: 0 | M63: 0 | N63: 0 | O63: 0 | P63: 0 | Q63: 0 | R63: =SUM(L63:Q63) -> 0 | T63: その他・鹿児島県 | U63: 0 | V63: 0 | W63: 0 | X63: 0 | Y63: 0 | Z63: 0 | AA63: =SUM(U63:Z63) -> 0
B64: その他・東京都 | C64: 1 | D64: 4 | E64: 15 | F64: 0 | G64: 0 | H64: 2 | I64: =SUM(C64:H64) -> 22 | K64: 尼崎市 | L64: 0 | M64: 8 | N64: 6 | O64: 5 | P64: 0 | Q64: 2 | R64: =SUM(L64:Q64) -> 21 | T64: 沖縄県計 | U64: =SUM(U65:U66) -> 0 | V64: =SUM(V65:V66) -> 1 | W64: =SUM(W65:W66) -> 0 | X64: =SUM(X65:X66) -> 1 | Y64: =SUM(Y65:Y66) -> 0 | Z64: =SUM(Z65:Z66) -> 2 | AA64: =SUM(AA65:AA66) -> 4
B65: 神奈川県計 | C65: =SUM(C66:C72) -> 0 | D65: =SUM(D66:D72) -> 2 | E65: =SUM(E66:E72) -> 10 | F65: =SUM(F66:F72) -> 6 | G65: =SUM(G66:G72) -> 0 | H65: =SUM(H66:H72) -> 11 | I65: =SUM(I66:I72) -> 29 | K65: 明石市 | L65: 0 | M65: 0 | N65: 0 | O65: 0 | P65: 0 | Q65: 0 | R65: =SUM(L65:Q65) -> 0 | T65: 那覇市 | U65: 0 | V65: 0 | W65: 0 | X65: 0 | Y65: 0 | Z65: 0 | AA65: =SUM(U65:Z65) -> 0
B66: 横浜市 | C66: 0 | D66: 0 | E66: 0 | F66: 1 | G66: 0 | H66: 0 | I66: =SUM(C66:H66) -> 1 | K66: 西宮市 | L66: 0 | M66: 0 | N66: 0 | O66: 0 | P66: 0 | Q66: 0 | R66: =SUM(L66:Q66) -> 0 | T66: その他・沖縄県 | U66: 0 | V66: 1 | W66: 0 | X66: 1 | Y66: 0 | Z66: 2 | AA66: =SUM(U66:Z66) -> 4
B67: 川崎市 | C67: 0 | D67: 0 | E67: 0 | F67: 0 | G67: 0 | H67: 0 | I67: =SUM(C67:H67) -> 0 | K67: 加古川市 | L67: 0 | M67: 0 | N67: 0 | O67: 0 | P67: 0 | Q67: 0 | R67: =SUM(L67:Q67) -> 0 | T67: 合計 | U67: =SUM(C8:C72,L8:L71,U8:U66)/2 -> 21 | V67: =SUM(D8:D72,M8:M71,V8:V66)/2 -> 467 | W67: =SUM(E8:E72,N8:N71,W8:W66)/2 -> 585 | X67: =SUM(F8:F72,O8:O71,X8:X66)/2 -> 254 | Y67: =SUM(G8:G72,P8:P71,Y8:Y66)/2 -> 101 | Z67: =SUM(H8:H72,Q8:Q71,Z8:Z66)/2 -> 1433 | AA67: =SUM(I8:I72,R8:R71,AA8:AA66)/2 -> 2861
B68: 相模原市 | C68: 0 | D68: 1 | E68: 1 | F68: 2 | G68: 0 | H68: 0 | I68: =SUM(C68:H68) -> 4 | K68: その他・兵庫県 | L68: 0 | M68: 6 | N68: 18 | O68: 15 | P68: 3 | Q68: 16 | R68: =SUM(L68:Q68) -> 58 | T68: （備考）同一施設で複数の指導を行なう場合があるため、表6.1の行政指導施設数より、合計数が多くなる場合がある。
B69: 横須賀市 | C69: 0 | D69: 0 | E69: 2 | F69: 0 | G69: 0 | H69: 0 | I69: =SUM(C69:H69) -> 2 | K69: 奈良県計 | L69: =SUM(L70:L71) -> 0 | M69: =SUM(M70:M71) -> 0 | N69: =SUM(N70:N71) -> 0 | O69: =SUM(O70:O71) -> 0 | P69: =SUM(P70:P71) -> 0 | Q69: =SUM(Q70:Q71) -> 9 | R69: =SUM(R70:R71) -> 9
B70: 平塚市 | C70: 0 | D70: 0 | E70: 0 | F70: 0 | G70: 0 | H70: 0 | I70: =SUM(C70:H70) -> 0 | K70: 奈良市 | L70: 0 | M70: 0 | N70: 0 | O70: 0 | P70: 0 | Q70: 0 | R70: =SUM(L70:Q70) -> 0
B71: 藤沢市 | C71: 0 | D71: 0 | E71: 3 | F71: 0 | G71: 0 | H71: 0 | I71: =SUM(C71:H71) -> 3 | K71: その他・奈良県 | L71: 0 | M71: 0 | N71: 0 | O71: 0 | P71: 0 | Q71: 9 | R71: =SUM(L71:Q71) -> 9
B72: その他・神奈川県 | C72: 0 | D72: 1 | E72: 4 | F72: 3 | G72: 0 | H72: 11 | I72: =SUM(C72:H72) -> 19

Sheet 表6.3
B2: 表6.3(1) 立入検査・勧告その他行政指導件数 都道府県市別（大気汚染防止法に係るばい煙発生施設） | AB2: 表6.3(2) 立入検査・勧告その他行政指導件数 都道府県市別（大気汚染防止法に係るばい煙発生施設） | BB2: 表6.3(3) 立入検査・勧告その他行政指導件数 都道府県市別（大気汚染防止法に係るばい煙発生施設）
B4: 自治体名 | C4: 立入検査実施工場・事業場数 | D4: 立入検査実施施設数 | E4: 計画変更命令等施設数 | F4: 排出基準違反告発施設数 | G4: 改善命令施設数 | H4: 一時停止命令施設数 | I4: (Ｂ)(Ｄ)又は(F)の命令違反告発施設数 | J4: 届出違反告発施設数 | K4: 季節による燃料 使用規制地域内 | N4: 硫黄酸化物に係る指定地域内 | U4: 窒素酸化物に係る指定地域内 | Y4: 測定記録の保存等に係る違反の告発施設数 | Z4: 行政指導施設数 | AB4: 自治体名 | AC4: 立入検査実施工場・事業場数 | AD4: 立入検査実施施設数 | AE4: 計画変更命令等施設数 | AF4: 排出基準違反告発施設数 | AG4: 改善命令施設数 | AH4: 一時停止命令施設数 | AI4: (B)(E)又は(F)の命令違反告発施設数 | AJ4: 届出違反告発施設数 | AK4: 季節による燃料 使用規制地域内 | AN4: 硫黄酸化物に係る指定地域内 | AU4: 窒素酸化物に係る指定地域内 | AY4: 測定記録の保存等に係る違反の告発施設数 | AZ4: 行政指導施設数 | BB4: 自治体名 | BC4: 立入検査実施工場・事業場数 | BD4: 立入検査実施施設数 | BE4: 計画変更命令等施設数 | BF4: 排出基準違反告発施設数 | BG4: 改善命令施設数 | BH4: 一時停止命令施設数 | BI4: (B)(E)又は(F)の命令違反告発施設数 | BJ4: 届出違反告発施設数 | BK4: 季節による燃料 使用規制地域内 | BN4: 硫黄酸化物に係る指定地域内 | BU4: 窒素酸化物に係る指定地域内 | BY4: 測定記録の保存等に係る違反の告発施設数 | BZ4: 行政指導施設数
N5: 特定工場・事業場 | R5: 特定工場・事業場 以外の工場・事業場 | U5: 特定工場・事業場 | AN5: 特定工場・事業場 | AR5: 特定工場・事業場 以外の工場・事業場 | AU5: 特定工場・事業場 | BN5: 特定工場・事業場 | BR5: 特定工場・事業場 以外の工場・事業場 | BU5: 特定工場・事業場
K6: 燃料基準適合 勧告施設数 | L6: 燃料基準適合 命令施設数 | M6: (K)の命令違反告発 施設数 | N6: 計画変更命令 工場・事業場数 | O6: 総量規制基準違反告発 工場・事業場数 | P6: 改善命令等 工場・事業場数 | Q6: (O)の命令違反告発 工場・事業場数 | R6: 燃料基準適合勧告 工場・事業場数 | S6: 燃料基準適合命令 工場・事業場数 | T6: (S)の命令違反告発 工場・事業場数 | U6: 計画変更命令 工場・事業場数 | V6: 総量規制基準違反告発 工場・事業場数 | W6: 改善命令等 工場・事業場数 | X6: (W)の命令違反告発 工場・事業場数 | AK6: 燃料基準適合 勧告施設数 | AL6: 燃料基準適合 命令施設数 | AM6: (K)の命令違反告発 施設数 | AN6: 計画変更命令 工場・事業場数 | AO6: 総量規制基準違反告発 工場・事業場数 | AP6: 改善命令等 工場・事業場数 | AQ6: (O)の命令違反告発 工場・事業場数 | AR6: 燃料基準適合勧告 工場・事業場数 | AS6: 燃料基準適合命令 工場・事業場数 | AT6: (S)の命令違反告発 工場・事業場数 | AU6: 計画変更命令 工場・事業場数 | AV6: 総量規制基準違反告発 工場・事業場数 | AW6: 改善命令等 工場・事業場数 | AX6: (W)の命令違反告発 工場・事業場数 | BK6: 燃料基準適合 勧告施設数 | BL6: 燃料基準適合 命令施設数 | BM6: (K)の命令違反告発 施設数 | BN6: 計画変更命令 工場・事業場数 | BO6: 総量規制基準違反告発 工場・事業場数 | BP6: 改善命令等 工場・事業場数 | BQ6: (O)の命令違反告発 工場・事業場数 | BR6: 燃料基準適合勧告 工場・事業場数 | BS6: 燃料基準適合命令 工場・事業場数 | BT6: (S)の命令違反告発 工場・事業場数 | BU6: 計画変更命令 工場・事業場数 | BV6: 総量規制基準違反告発 工場・事業場数 | BW6: 改善命令等 工場・事業場数 | BX6: (W)の命令違反告発 工場・事業場数
C7: (A) | D7: (A') | E7: (B) | F7: (C) | G7: (E) | H7: (F) | I7: (G) | J7: (H) | K7: (J) | L7: (K) | M7: (L) | N7: (M) | O7: (N) | P7: (O) | Q7: (P) | R7: (R) | S7: (S) | T7: (T) | U7: (U) | V7: (V) | W7: (W) | X7: (X) | Y7: (c) | Z7: (d) | AC7: (A) | AD7: (A') | AE7: (B) | AF7: (C) | AG7: (E) | AH7: (F) | AI7: (G) | AJ7: (H) | AK7: (J) | AL7: (K) | AM7: (L) | AN7: (M) | AO7: (N) | AP7: (O) | AQ7: (P) | AR7: (R) | AS7: (S) | AT7: (T) | AU7: (U) | AV7: (V) | AW7: (W) | AX7: (X) | AY7: (c) | AZ7: (d) | BC7: (A) | BD7: (A') | BE7: (B) | BF7: (C) | BG7: (E) | BH7: (F) | BI7: (G) | BJ7: (H) | BK7: (J) | BL7: (K) | BM7: (L) | BN7: (M) | BO7: (N) | BP7: (O) | BQ7: (P) | BR7: (R) | BS7: (S) | BT7: (T) | BU7: (U) | BV7: (V) | BW7: (W) | BX7: (X) | BY7: (c) | BZ7: (d)
B8: 北海道計 | C8: =SUM(C9:C15) -> 481 | D8: =SUM(D9:D15) -> 1322 | E8: =SUM(E9:E15) -> 0 | F8: =SUM(F9:F15) -> 0 | G8: =SUM(G9:G15) -> 0 | H8: =SUM(H9:H15) -> 0 | I8: =SUM(I9:I15) -> 0 | J8: =SUM(J9:J15) -> 0 | ... Z8: =SUM(Z9:Z15) -> 211 | AB8: 新潟県計 | AC8: =SUM(AC9:AC10) -> 101 | AD8: =SUM(AD9:AD10) -> 372 | AE8: =SUM(AE9:AE10) -> 0 | AF8: =SUM(AF9:AF10) -> 0 | AG8: =SUM(AG9:AG10) -> 0 | AH8: =SUM(AH9:AH10) -> 0 | AI8: =SUM(AI9:AI10) -> 0 | AJ8: =SUM(AJ9:AJ10) -> 0 | ... AZ8: =SUM(AZ9:AZ10) -> 65 | BB8: 和歌山県計 | BC8: =SUM(BC9:BC10) -> 66 | BD8: =SUM(BD9:BD10) -> 227 | BE8: =SUM(BE9:BE10) -> 0 | BF8: =SUM(BF9:BF10) -> 0 | BG8: =SUM(BG9:BG10) -> 0 | BH8: =SUM(BH9:BH10) -> 0 | BI8: =SUM(BI9:BI10) -> 0 | BJ8: =SUM(BJ9:BJ10) -> 0 | ... BZ8: =SUM(BZ9:BZ10) -> 56
B9: 札幌市 | C9: 13 | D9: 22 | E9: 0 | F9: 0 | G9: 0 | H9: 0 | I9: 0 | J9: 0 | K9: 0 | L9: 0 | M9: 0 | N9: 0 | O9: 0 | P9: 0 | Q9: 0 | R9: 0 | S9: 0 | T9: 0 | U9: 0 | V9: 0 | W9: 0 | X9: 0 | Y9: 0 | Z9: 8 | AB9: 新潟市 | AC9: 39 | AD9: 86 | AE9: 0 | AF9: 0 | AG9: 0 | AH9: 0 | AI9: 0 | AJ9: 0 | AK9: 0 | AL9: 0 | AM9: 0 | AN9: 0 | AO9: 0 | AP9: 0 | AQ9: 0 | AR9: 0 | AS9: 0 | AT9: 0 | AU9: 0 | AV9: 0 | AW9: 0 | AX9: 0 | AY9: 0 | AZ9: 29 | BB9: 和歌山市 | BC9: 14 | BD9: 15 | BE9: 0 | BF9: 0 | BG9: 0 | BH9: 0 | BI9: 0 | BJ9: 0 | BK9: 0 | BL9: 0 | BM9: 0 | BN9: 0 | BO9: 0 | BP9: 0 | BQ9: 0 | BR9: 0 | BS9: 0 | BT9: 0 | BU9: 0 | BV9: 0 | BW9: 0 | BX9: 0 | BY9: 0 | BZ9: 0
B10: 函館市 | C10: 17 | D10: 40 | E10: 0 | F10: 0 | G10: 0 | H10: 0 | I10: 0 | J10: 0 | K10: 0 | L10: 0 | M10: 0 | N10: 0 | O10: 0 | P10: 0 | Q10: 0 | R10: 0 | S10: 0 | T10: 0 | U10: 0 | V10: 0 | W10: 0 | X10: 0 | Y10: 0 | Z10: 4 | AB10: その他・新潟県 | AC10: 62 | AD10: 286 | AE10: 0 | AF10: 0 | AG10: 0 | AH10: 0 | AI10: 0 | AJ10: 0 | AK10: 0 | AL10: 0 | AM10: 0 | AN10: 0 | AO10: 0 | AP10: 0 | AQ10: 0 | AR10: 0 | AS10: 0 | AT10: 0 | AU10: 0 | AV10: 0 | AW10: 0 | AX10: 0 | AY10: 0 | AZ10: 36 | BB10: その他・和歌山県 | BC10: 52 | BD10: 212 | BE10: 0 | BF10: 0 | BG10: 0 | BH10: 0 | BI10: 0 | BJ10: 0 | BK10: 0 | BL10: 0 | BM10: 0 | BN10: 0 | BO10: 0 | BP10: 0 | BQ10: 0 | BR10: 0 | BS10: 0 | BT10: 0 | BU10: 0 | BV10: 0 | BW10: 0 | BX10: 0 | BY10: 0 | BZ10: 56
B11: 小樽市 | C11: 12 | D11: 18 | E11: 0 | F11: 0 | G11: 0 | H11: 0 | I11: 0 | J11: 0 | K11: 0 | L11: 0 | M11: 0 | N11: 0 | O11: 0 | P11: 0 | Q11: 0 | R11: 0 | S11: 0 | T11: 0 | U11: 0 | V11: 0 | W11: 0 | X11: 0 | Y11: 0 | Z11: 1 | AB11: 富山県計 | AC11: =SUM(AC12:AC13) -> 44 | AD11: =SUM(AD12:AD13) -> 318 | AE11: =SUM(AE12:AE13) -> 0 | AF11: =SUM(AF12:AF13) -> 0 | AG11: =SUM(AG12:AG13) -> 0 | AH11: =SUM(AH12:AH13) -> 0 | AI11: =SUM(AI12:AI13) -> 0 | AJ11: =SUM(AJ12:AJ13) -> 0 | ... AZ11: =SUM(AZ12:AZ13) -> 2 | BB11: 鳥取県計 | BC11: =SUM(BC12:BC13) -> 33 | BD11: =SUM(BD12:BD13) -> 63 | BE11: =SUM(BE12:BE13) -> 0 | BF11: =SUM(BF12:BF13) -> 0 | BG11: =SUM(BG12:BG13) -> 0 | BH11: =SUM(BH12:BH13) -> 0 | BI11: =SUM(BI12:BI13) -> 0 | BJ11: =SUM(BJ12:BJ13) -> 0 | ... BZ11: =SUM(BZ12:BZ13) -> 0
B12: 旭川市 | C12: 62 | D12: 152 | E12: 0 | F12: 0 | G12: 0 | H12: 0 | I12: 0 | J12: 0 | K12: 0 | L12: 0 | M12: 0 | N12: 0 | O12: 0 | P12: 0 | Q12: 0 | R12: 0 | S12: 0 | T12: 0 | U12: 0 | V12: 0 | W12: 0 | X12: 0 | Y12: 0 | Z12: 44 | AB12: 富山市 | AC12: 20 | AD12: 79 | AE12: 0 | AF12: 0 | AG12: 0 | AH12: 0 | AI12: 0 | AJ12: 0 | AK12: 0 | AL12: 0 | AM12: 0 | AN12: 0 | AO12: 0 | AP12: 0 | AQ12: 0 | AR12: 0 | AS12: 0 | AT12: 0 | AU12: 0 | AV12: 0 | AW12: 0 | AX12: 0 | AY12: 0 | AZ12: 1 | BB12: 鳥取市 | BC12: 5 | BD12: 12 | BE12: 0 | BF12: 0 | BG12: 0 | BH12: 0 | BI12: 0 | BJ12: 0 | BK12: 0 | BL12: 0 | BM12: 0 | BN12: 0 | BO12: 0 | BP12: 0 | BQ12: 0 | BR12: 0 | BS12: 0 | BT12: 0 | BU12: 0 | BV12: 0 | BW12: 0 | BX12: 0 | BY12: 0 | BZ12: 0
B13: 室蘭市 | C13: 0 | D13: 0 | E13: 0 | F13: 0 | G13: 0 | H13: 0 | I13: 0 | J13: 0 | K13: 0 | L13: 0 | M13: 0 | N13: 0 | O13: 0 | P13: 0 | Q13: 0 | R13: 0 | S13: 0 | T13: 0 | U13: 0 | V13: 0 | W13: 0 | X13: 0 | Y13: 0 | Z13: 0 | AB13: その他・富山県 | AC13: 24 | AD13: 239 | AE13: 0 | AF13: 0 | AG13: 0 | AH13: 0 | AI13: 0 | AJ13: 0 | AK13: 0 | AL13: 0 | AM13: 0 | AN13: 0 | AO13: 0 | AP13: 0 | AQ13: 0 | AR13: 0 | AS13: 0 | AT13: 0 | AU13: 0 | AV13: 0 | AW13: 0 | AX13: 0 | AY13: 0 | AZ13: 1 | BB13: その他・鳥取県 | BC13: 28 | BD13: 51 | BE13: 0 | BF13: 0 | BG13: 0 | BH13: 0 | BI13: 0 | BJ13: 0 | BK13: 0 | BL13: 0 | BM13: 0 | BN13: 0 | BO13: 0 | BP13: 0 | BQ13: 0 | BR13: 0 | BS13: 0 | BT13: 0 | BU13: 0 | BV13: 0 | BW13: 0 | BX13: 0 | BY13: 0 | BZ13: 0
B14: 苫小牧市 | C14: 19 | D14: 34 | E14: 0 | F14: 0 | G14: 0 | H14: 0 | I14: 0 | J14: 0 | K14: 0 | L14: 0 | M14: 0 | N14: 0 | O14: 0 | P14: 0 | Q14: 0 | R14: 0 | S14: 0 | T14: 0 | U14: 0 | V14: 0 | W14: 0 | X14: 0 | Y14: 0 | Z14: 20 | AB14: 石川県計 | AC14: =SUM(AC15:AC16) -> 73 | AD14: =SUM(AD15:AD16) -> 180 | AE14: =SUM(AE15:AE16) -> 0 | AF14: =SUM(AF15:AF16) -> 0 | AG14: =SUM(AG15:AG16) -> 0 | AH14: =SUM(AH15:AH16) -> 0 | AI14: =SUM(AI15:AI16) -> 0 | AJ14: =SUM(AJ15:AJ16) -> 0 | ... AZ14: =SUM(AZ15:AZ16) -> 2 | BB14: 島根県計 | BC14: =SUM(BC15:BC16) -> 9 | BD14: =SUM(BD15:BD16) -> 21 | BE14: =SUM(BE15:BE16) -> 0 | BF14: =SUM(BF15:BF16) -> 0 | BG14: =SUM(BG15:BG16) -> 0 | BH14: =SUM(BH15:BH16) -> 0 | BI14: =SUM(BI15:BI16) -> 0 | BJ14: =SUM(BJ15:BJ16) -> 0 | ... BZ14: =SUM(BZ15:BZ16) -> 6
B15: その他・北海道 | C15: 358 | D15: 1056 | E15: 0 | F15: 0 | G15: 0 | H15: 0 | I15: 0 | J15: 0 | K15: 0 | L15: 0 | M15: 0 | N15: 0 | O15: 0 | P15: 0 | Q15: 0 | R15: 0 | S15: 0 | T15: 0 | U15: 0 | V15: 0 | W15: 0 | X15: 0 | Y15: 0 | Z15: 134 | AB15: 金沢市 | AC15: 8 | AD15: 20 | AE15: 0 | AF15: 0 | AG15: 0 | AH15: 0 | AI15: 0 | AJ15: 0 | AK15: 0 | AL15: 0 | AM15: 0 | AN15: 0 | AO15: 0 | AP15: 0 | AQ15: 0 | AR15: 0 | AS15: 0 | AT15: 0 | AU15: 0 | AV15: 0 | AW15: 0 | AX15: 0 | AY15: 0 | AZ15: 0 | BB15: 松江市 | BC15: 1 | BD15: 2 | BE15: 0 | BF15: 0 | BG15: 0 | BH15: 0 | BI15: 0 | BJ15: 0 | BK15: 0 | BL15: 0 | BM15: 0 | BN15: 0 | BO15: 0 | BP15: 0 | BQ15: 0 | BR15: 0 | BS15: 0 | BT15: 0 | BU15: 0 | BV15: 0 | BW15: 0 | BX15: 0 | BY15: 0 | BZ15: 0
B16: 青森県計 | C16: =SUM(C17:C19) -> 126 | D16: =SUM(D17:D19) -> 361 | E16: =SUM(E17:E19) -> 0 | F16: =SUM(F17:F19) -> 0 | G16: =SUM(G17:G19) -> 0 | H16: =SUM(H17:H19) -> 0 | I16: =SUM(I17:I19) -> 0 | J16: =SUM(J17:J19) -> 0 | ... Z16: =SUM(Z17:Z19) -> 36 | AB16: その他・石川県 | AC16: 65 | AD16: 160 | AE16: 0 | AF16: 0 | AG16: 0 | AH16: 0 | AI16: 0 | AJ16: 0 | AK16: 0 | AL16: 0 | AM16: 0 | AN16: 0 | AO16: 0 | AP16: 0 | AQ16: 0 | AR16: 0 | AS16: 0 | AT16: 0 | AU16: 0 | AV16: 0 | AW16: 0 | AX16: 0 | AY16: 0 | AZ16: 2 | BB16: その他・島根県 | BC16: 8 | BD16: 19 | BE16: 0 | BF16: 0 | BG16: 0 | BH16: 0 | BI16: 0 | BJ16: 0 | BK16: 0 | BL16: 0 | BM16: 0 | BN16: 0 | BO16: 0 | BP16: 0 | BQ16: 0 | BR16: 0 | BS16: 0 | BT16: 0 | BU16: 0 | BV16: 0 | BW16: 0 | BX16: 0 | BY16: 0 | BZ16: 6
B17: 青森市 | C17: 14 | D17: 27 | E17: 0 | F17: 0 | G17: 0 | H17: 0 | I17: 0 | J17: 0 | K17: 0 | L17: 0 | M17: 0 | N17: 0 | O17: 0 | P17: 0 | Q17: 0 | R17: 0 | S17: 0 | T17: 0 | U17: 0 | V17: 0 | W17: 0 | X17: 0 | Y17: 0 | Z17: 5 | AB17: 福井県計 | AC17: =SUM(AC18:AC19) -> 125 | AD17: =SUM(AD18:AD19) -> 550 | AE17: =SUM(AE18:AE19) -> 0 | AF17: =SUM(AF18:AF19) -> 0 | AG17: =SUM(AG18:AG19) -> 0 | AH17: =SUM(AH18:AH19) -> 0 | AI17: =SUM(AI18:AI19) -> 0 | AJ17: =SUM(AJ18:AJ19) -> 0 | ... AZ17: =SUM(AZ18:AZ19) -> 2 | BB17: 岡山県計 | BC17: =SUM(BC18:BC20) -> 148 | BD17: =SUM(BD18:BD20) -> 523 | BE17: =SUM(BE18:BE20) -> 0 | BF17: =SUM(BF18:BF20) -> 0 | BG17: =SUM(BG18:BG20) -> 0 | BH17: =SUM(BH18:BH20) -> 0 | BI17: =SUM(BI18:BI20) -> 0 | BJ17: =SUM(BJ18:BJ20) -> 0 | ... BZ17: =SUM(BZ18:BZ20) -> 35
B18: 八戸市 | C18: 28 | D18: 137 | E18: 0 | F18: 0 | G18: 0 | H18: 0 | I18: 0 | J18: 0 | K18: 0 | L18: 0 | M18: 0 | N18: 0 | O18: 0 | P18: 0 | Q18: 0 | R18: 0 | S18: 0 | T18: 0 | U18: 0 | V18: 0 | W18: 0 | X18: 0 | Y18: 0 | Z18: 3 | AB18: 福井市 | AC18: 47 | AD18: 155 | AE18: 0 | AF18: 0 | AG18: 0 | AH18: 0 | AI18: 0 | AJ18: 0 | AK18: 0 | AL18: 0 | AM18: 0 | AN18: 0 | AO18: 0 | AP18: 0 | AQ18: 0 | AR18: 0 | AS18: 0 | AT18: 0 | AU18: 0 | AV18: 0 | AW18: 0 | AX18: 0 | AY18: 0 | AZ18: 2 | BB18: 岡山市 | BC18: 33 | BD18: 256 | BE18: 0 | BF18: 0 | BG18: 0 | BH18: 0 | BI18: 0 | BJ18: 0 | BK18: 0 | BL18: 0 | BM18: 0 | BN18: 0 | BO18: 0 | BP18: 0 | BQ18: 0 | BR18: 0 | BS18: 0 | BT18: 0 | BU18: 0 | BV18: 0 | BW18: 0 | BX18: 0 | BY18: 0 | BZ18: 2
B19: その他・青森県 | C19: 84 | D19: 197 | E19: 0 | F19: 0 | G19: 0 | H19: 0 | I19: 0 | J19: 0 | K19: 0 | L19: 0 | M19: 0 | N19: 0 | O19: 0 | P19: 0 | Q19: 0 | R19: 0 | S19: 0 | T19: 0 | U19: 0 | V19: 0 | W19: 0 | X19: 0 | Y19: 0 | Z19: 28 | AB19: その他・福井県 | AC19: 78 | AD19: 395 | AE19: 0 | AF19: 0 | AG19: 0 | AH19: 0 | AI19: 0 | AJ19: 0 | AK19: 0 | AL19: 0 | AM19: 0 | AN19: 0 | AO19: 0 | AP19: 0 | AQ19: 0 | AR19: 0 | AS19: 0 | AT19: 0 | AU19: 0 | AV19: 0 | AW19: 0 | AX19: 0 | AY19: 0 | AZ19: 0 | BB19: 倉敷市 | BC19: 45 | BD19: 124 | BE19: 0 | BF19: 0 | BG19: 0 | BH19: 0 | BI19: 0 | BJ19: 0 | BK19: 0 | BL19: 0 | BM19: 0 | BN19: 0 | BO19: 0 | BP19: 0 | BQ19: 0 | BR19: 0 | BS19: 0 | BT19: 0 | BU19: 0 | BV19: 0 | BW19: 0 | BX19: 0 | BY19: 0 | BZ19: 11
B20: 岩手県計 | C20: =SUM(C21:C22) -> 62 | D20: =SUM(D21:D22) -> 268 | E20: =SUM(E21:E22) -> 0 | F20: =SUM(F21:F22) -> 0 | G20: =SUM(G21:G22) -> 0 | H20: =SUM(H21:H22) -> 0 | I20: =SUM(I21:I22) -> 0 | J20: =SUM(J21:J22) -> 0 | ... Z20: =SUM(Z21:Z22) -> 5 | AB20: 山梨県計 | AC20: =SUM(AC21:AC22) -> 49 | AD20: =SUM(AD21:AD22) -> 122 | AE20: =SUM(AE21:AE22) -> 0 | AF20: =SUM(AF21:AF22) -> 0 | AG20: =SUM(AG21:AG22) -> 0 | AH20: =SUM(AH21:AH22) -> 0 | AI20: =SUM(AI21:AI22) -> 0 | AJ20: =SUM(AJ21:AJ22) -> 0 | ... AZ20: =SUM(AZ21:AZ22) -> 21 | BB20: その他・岡山県 | BC20: 70 | BD20: 143 | BE20: 0 | BF20: 0 | BG20: 0 | BH20: 0 | BI20: 0 | BJ20: 0 | BK20: 0 | BL20: 0 | BM20: 0 | BN20: 0 | BO20: 0 | BP20: 0 | BQ20: 0 | BR20: 0 | BS20: 0 | BT20: 0 | BU20: 0 | BV20: 0 | BW20: 0 | BX20: 0 | BY20: 0 | BZ20: 22
B21: 盛岡市 | C21: 12 | D21: 20 | E21: 0 | F21: 0 | G21: 0 | H21: 0 | I21: 0 | J21: 0 | K21: 0 | L21: 0 | M21: 0 | N21: 0 | O21: 0 | P21: 0 | Q21: 0 | R21: 0 | S21: 0 | T21: 0 | U21: 0 | V21: 0 | W21: 0 | X21: 0 | Y21: 0 | Z21: 3 | AB21: 甲府市 | AC21: 5 | AD21: 12 | AE21: 0 | AF21: 0 | AG21: 0 | AH21: 0 | AI21: 0 | AJ21: 0 | AK21: 0 | AL21: 0 | AM21: 0 | AN21: 0 | AO21: 0 | AP21: 0 | AQ21: 0 | AR21: 0 | AS21: 0 | AT21: 0 | AU21: 0 | AV21: 0 | AW21: 0 | AX21: 0 | AY21: 0 | AZ21: 7 | BB21: 広島県計 | BC21: =SUM(BC22:BC25) -> 82 | BD21: =SUM(BD22:BD25) -> 304 | BE21: =SUM(BE22:BE25) -> 0 | BF21: =SUM(BF22:BF25) -> 0 | BG21: =SUM(BG22:BG25) -> 0 | BH21: =SUM(BH22:BH25) -> 0 | BI21: =SUM(BI22:BI25) -> 0 | BJ21: =SUM(BJ22:BJ25) -> 0 | ... BZ21: =SUM(BZ22:BZ25) -> 6
B22: その他・岩手県 | C22: 50 | D22: 248 | E22: 0 | F22: 0 | G22: 0 | H22: 0 | I22: 0 | J22: 0 | K22: 0 | L22: 0 | M22: 0 | N22: 0 | O22: 0 | P22: 0 | Q22: 0 | R22: 0 | S22: 0 | T22: 0 | U22: 0 | V22: 0 | W22: 0 | X22: 0 | Y22: 0 | Z22: 2 | AB22: その他・山梨県 | AC22: 44 | AD22: 110 | AE22: 0 | AF22: 0 | AG22: 0 | AH22: 0 | AI22: 0 | AJ22: 0 | AK22: 0 | AL22: 0 | AM22: 0 | AN22: 0 | AO22: 0 | AP22: 0 | AQ22: 0 | AR22: 0 | AS22: 0 | AT22: 0 | AU22: 0 | AV22: 0 | AW22: 0 | AX22: 0 | AY22: 0 | AZ22: 14 | BB22: 広島市 | BC22: 5 | BD22: 6 | BE22: 0 | BF22: 0 | BG22: 0 | BH22: 0 | BI22: 0 | BJ22: 0 | BK22: 0 | BL22: 0 | BM22: 0 | BN22: 0 | BO22: 0 | BP22: 0 | BQ22: 0 | BR22: 0 | BS22: 0 | BT22: 0 | BU22: 0 | BV22: 0 | BW22: 0 | BX22: 0 | BY22: 0 | BZ22: 6
B23: 宮城県計 | C23: =SUM(C24:C25) -> 133 | D23: =SUM(D24:D25) -> 442 | E23: =SUM(E24:E25) -> 0 | F23: =SUM(F24:F25) -> 0 | G23: =SUM(G24:G25) -> 0 | H23: =SUM(H24:H25) -> 0 | I23: =SUM(I24:I25) -> 0 | J23: =SUM(J24:J25) -> 0 | ... Z23: =SUM(Z24:Z25) -> 30 | AB23: 長野県計 | AC23: =SUM(AC24:AC26) -> 211 | AD23: =SUM(AD24:AD26) -> 715 | AE23: =SUM(AE24:AE26) -> 0 | AF23: =SUM(AF24:AF26) -> 0 | AG23: =SUM(AG24:AG26) -> 0 | AH23: =SUM(AH24:AH26) -> 0 | AI23: =SUM(AI24:AI26) -> 0 | AJ23: =SUM(AJ24:AJ26) -> 0 | ... AZ23: =SUM(AZ24:AZ26) -> 16 | BB23: 呉市 | BC23: 1 | BD23: 1 | BE23: 0 | BF23: 0 | BG23: 0 | BH23: 0 | BI23: 0 | BJ23: 0 | BK23: 0 | BL23: 0 | BM23: 0 | BN23: 0 | BO23: 0 | BP23: 0 | BQ23: 0 | BR23: 0 | BS23: 0 | BT23: 0 | BU23: 0 | BV23: 0 | BW23: 0 | BX23: 0 | BY23: 0 | BZ23: 0
B24: 仙台市 | C24: 32 | D24: 105 | E24: 0 | F24: 0 | G24: 0 | H24: 0 | I24: 0 | J24: 0 | K24: 0 | L24: 0 | M24: 0 | N24: 0 | O24: 0 | P24: 0 | Q24: 0 | R24: 0 | S24: 0 | T24: 0 | U24: 0 | V24: 0 | W24: 0 | X24: 0 | Y24: 0 | Z24: 28 | AB24: 長野市 | AC24: 6 | AD24: 10 | AE24: 0 | AF24: 0 | AG24: 0 | AH24: 0 | AI24: 0 | AJ24: 0 | AK24: 0 | AL24: 0 | AM24: 0 | AN24: 0 | AO24: 0 | AP24: 0 | AQ24: 0 | AR24: 0 | AS24: 0 | AT24: 0 | AU24: 0 | AV24: 0 | AW24: 0 | AX24: 0 | AY24: 0 | AZ24: 2 | BB24: 福山市 | BC24: 3 | BD24: 3 | BE24: 0 | BF24: 0 | BG24: 0 | BH24: 0 | BI24: 0 | BJ24: 0 | BK24: 0 | BL24: 0 | BM24: 0 | BN24: 0 | BO24: 0 | BP24: 0 | BQ24: 0 | BR24: 0 | BS24: 0 | BT24: 0 | BU24: 0 | BV24: 0 | BW24: 0 | BX24: 0 | BY24: 0 | BZ24: 0
B25: その他・宮城県 | C25: 101 | D25: 337 | E25: 0 | F25: 0 | G25: 0 | H25: 0 | I25: 0 | J25: 0 | K25: 0 | L25: 0 | M25: 0 | N25: 0 | O25: 0 | P25: 0 | Q25: 0 | R25: 0 | S25: 0 | T25: 0 | U25: 0 | V25: 0 | W25: 0 | X25: 0 | Y25: 0 | Z25: 2 | AB25: 松本市 | AC25: 6 | AD25: 18 | AE25: 0 | AF25: 0 | AG25: 0 | AH25: 0 | AI25: 0 | AJ25: 0 | AK25: 0 | AL25: 0 | AM25: 0 | AN25: 0 | AO25: 0 | AP25: 0 | AQ25: 0 | AR25: 0 | AS25: 0 | AT25: 0 | AU25: 0 | AV25: 0 | AW25: 0 | AX25: 0 | AY25: 0 | AZ25: 1 | BB25: その他・広島県 | BC25: 73 | BD25: 294 | BE25: 0 | BF25: 0 | BG25: 0 | BH25: 0 | BI25: 0 | BJ25: 0 | BK25: 0 | BL25: 0 | BM25: 0 | BN25: 0 | BO25: 0 | BP25: 0 | BQ25: 0 | BR25: 0 | BS25: 0 | BT25: 0 | BU25: 0 | BV25: 0 | BW25: 0 | BX25: 0 | BY25: 0 | BZ25: 0
B26: 秋田県計 | C26: =SUM(C27:C28) -> 111 | D26: =SUM(D27:D28) -> 245 | E26: =SUM(E27:E28) -> 0 | F26: =SUM(F27:F28) -> 0 | G26: =SUM(G27:G28) -> 0 | H26: =SUM(H27:H28) -> 0 | I26: =SUM(I27:I28) -> 0 | J26: =SUM(J27:J28) -> 0 | ... Z26: =SUM(Z27:Z28) -> 26 | AB26: その他・長野県 | AC26: 199 | AD26: 687 | AE26: 0 | AF26: 0 | AG26: 0 | AH26: 0 | AI26: 0 | AJ26: 0 | AK26: 0 | AL26: 0 | AM26: 0 | AN26: 0 | AO26: 0 | AP26: 0 | AQ26: 0 | AR26: 0 | AS26: 0 | AT26: 0 | AU26: 0 | AV26: 0 | AW26: 0 | AX26: 0 | AY26: 0 | AZ26: 13 | BB26: 山口県計 | BC26: =SUM(BC27:BC28) -> 34 | BD26: =SUM(BD27:BD28) -> 175 | BE26: =SUM(BE27:BE28) -> 0 | BF26: =SUM(BF27:BF28) -> 0 | BG26: =SUM(BG27:BG28) -> 0 | BH26: =SUM(BH27:BH28) -> 0 | BI26: =SUM(BI27:BI28) -> 0 | BJ26: =SUM(BJ27:BJ28) -> 0 | ... BZ26: =SUM(BZ27:BZ28) -> 17
B27: 秋田市 | C27: 2 | D27: 2 | E27: 0 | F27: 0 | G27: 0 | H27: 0 | I27: 0 | J27: 0 | K27: 0 | L27: 0 | M27: 0 | N27: 0 | O27: 0 | P27: 0 | Q27: 0 | R27: 0 | S27: 0 | T27: 0 | U27: 0 | V27: 0 | W27: 0 | X27: 0 | Y27: 0 | Z27: 1 | AB27: 岐阜県計 | AC27: =SUM(AC28:AC29) -> 307 | AD27: =SUM(AD28:AD29) -> 1082 | AE27: =SUM(AE28:AE29) -> 0 | AF27: =SUM(AF28:AF29) -> 0 | AG27: =SUM(AG28:AG29) -> 0 | AH27: =SUM(AH28:AH29) -> 0 | AI27: =SUM(AI28:AI29) -> 0 | AJ27: =SUM(AJ28:AJ29) -> 0 | ... AZ27: =SUM(AZ28:AZ29) -> 14 | BB27: 下関市 | BC27: 12 | BD27: 30 | BE27: 0 | BF27: 0 | BG27: 0 | BH27: 0 | BI27: 0 | BJ27: 0 | BK27: 0 | BL27: 0 | BM27: 0 | BN27: 0 | BO27: 0 | BP27: 0 | BQ27: 0 | BR27: 0 | BS27: 0 | BT27: 0 | BU27: 0 | BV27: 0 | BW27: 0 | BX27: 0 | BY27: 0 | BZ27: 11
B28: その他・秋田県 | C28: 109 | D28: 243 | E28: 0 | F28: 0 | G28: 0 | H28: 0 | I28: 0 | J28: 0 | K28: 0 | L28: 0 | M28: 0 | N28: 0 | O28: 0 | P28: 0 | Q28: 0 | R28: 0 | S28: 0 | T28: 0 | U28: 0 | V28: 0 | W28: 0 | X28: 0 | Y28: 0 | Z28: 25 | AB28: 岐阜市 | AC28: 34 | AD28: 70 | AE28: 0 | AF28: 0 | AG28: 0 | AH28: 0 | AI28: 0 | AJ28: 0 | AK28: 0 | AL28: 0 | AM28: 0 | AN28: 0 | AO28: 0 | AP28: 0 | AQ28: 0 | AR28: 0 | AS28: 0 | AT28: 0 | AU28: 0 | AV28: 0 | AW28: 0 | AX28: 0 | AY28: 0 | AZ28: 11 | BB28: その他・山口県 | BC28: 22 | BD28: 145 | BE28: 0 | BF28: 0 | BG28: 0 | BH28: 0 | BI28: 0 | BJ28: 0 | BK28: 0 | BL28: 0 | BM28: 0 | BN28: 0 | BO28: 0 | BP28: 0 | BQ28: 0 | BR28: 0 | BS28: 0 | BT28: 0 | BU28: 0 | BV28: 0 | BW28: 0 | BX28: 0 | BY28: 0 | BZ28: 6
B29: 山形県計 | C29: =SUM(C30:C31) -> 76 | D29: =SUM(D30:D31) -> 198 | E29: =SUM(E30:E31) -> 0 | F29: =SUM(F30:F31) -> 0 | G29: =SUM(G30:G31) -> 0 | H29: =SUM(H30:H31) -> 0 | I29: =SUM(I30:I31) -> 0 | J29: =SUM(J30:J31) -> 0 | ... Z29: =SUM(Z30:Z31) -> 8 | AB29: その他・岐阜県 | AC29: 273 | AD29: 1012 | AE29: 0 | AF29: 0 | AG29: 0 | AH29: 0 | AI29: 0 | AJ29: 0 | AK29: 0 | AL29: 0 | AM29: 0 | AN29: 0 | AO29: 0 | AP29: 0 | AQ29: 0 | AR29: 0 | AS29: 0 | AT29: 0 | AU29: 0 | AV29: 0 | AW29: 0 | AX29: 0 | AY29: 0 | AZ29: 3 | BB29: 徳島県計 | BC29: =SUM(BC30) -> 48 | BD29: =SUM(BD30) -> 248 | BE29: =SUM(BE30) -> 0 | BF29: =SUM(BF30) -> 0 | BG29: =SUM(BG30) -> 0 | BH29: =SUM(BH30) -> 0 | BI29: =SUM(BI30) -> 0 | BJ29: =SUM(BJ30) -> 0 | ... BZ29: =SUM(BZ30) -> 25
B30: 山形市 | C30: 3 | D30: 3 | E30: 0 | F30: 0 | G30: 0 | H30: 0 | I30: 0 | J30: 0 | K30: 0 | L30: 0 | M30: 0 | N30: 0 | O30: 0 | P30: 0 | Q30: 0 | R30: 0 | S30: 0 | T30: 0 | U30: 0 | V30: 0 | W30: 0 | X30: 0 | Y30: 0 | Z30: 0 | AB30: 静岡県計 | AC30: =SUM(AC31:AC33) -> 306 | AD30: =SUM(AD31:AD33) -> 1311 | AE30: =SUM(AE31:AE33) -> 0 | AF30: =SUM(AF31:AF33) -> 0 | AG30: =SUM(AG31:AG33) -> 0 | AH30: =SUM(AH31:AH33) -> 0 | AI30: =SUM(AI31:AI33) -> 0 | AJ30: =SUM(AJ31:AJ33) -> 0 | ... AZ30: =SUM(AZ31:AZ33) -> 110 | BB30: 徳島県 | BC30: 48 | BD30: 248 | BE30: 0 | BF30: 0 | BG30: 0 | BH30: 0 | BI30: 0 | BJ30: 0 | BK30: 0 | BL30: 0 | BM30: 0 | BN30: 0 | BO30: 0 | BP30: 0 | BQ30: 0 | BR30: 0 | BS30: 0 | BT30: 0 | BU30: 0 | BV30: 0 | BW30: 0 | BX30: 0 | BY30: 0 | BZ30: 25
B31: その他・山形県 | C31: 73 | D31: 195 | E31: 0 | F31: 0 | G31: 0 | H31: 0 | I31: 0 | J31: 0 | K31: 0 | L31: 0 | M31: 0 | N31: 0 | O31: 0 | P31: 0 | Q31: 0 | R31: 0 | S31: 0 | T31: 0 | U31: 0 | V31: 0 | W31: 0 | X31: 0 | Y31: 0 | Z31: 8 | AB31: 静岡市 | AC31: 42 | AD31: 232 | AE31: 0 | AF31: 0 | AG31: 0 | AH31: 0 | AI31: 0 | AJ31: 0 | AK31: 0 | AL31: 0 | AM31: 0 | AN31: 0 | AO31: 0 | AP31: 0 | AQ31: 0 | AR31: 0 | AS31: 0 | AT31: 0 | AU31: 0 | AV31: 0 | AW31: 0 | AX31: 0 | AY31: 0 | AZ31: 23 | BB31: 香川県計 | BC31: =SUM(BC32:BC33) -> 128 | BD31: =SUM(BD32:BD33) -> 240 | BE31: =SUM(BE32:BE33) -> 0 | BF31: =SUM(BF32:BF33) -> 0 | BG31: =SUM(BG32:BG33) -> 0 | BH31: =SUM(BH32:BH33) -> 0 | BI31: =SUM(BI32:BI33) -> 0 | BJ31: =SUM(BJ32:BJ33) -> 0 | ... BZ31: =SUM(BZ32:BZ33) -> 11
B32: 福島県計 | C32: =SUM(C33:C36) -> 264 | D32: =SUM(D33:D36) -> 925 | E32: =SUM(E33:E36) -> 0 | F32: =SUM(F33:F36) -> 0 | G32: =SUM(G33:G36) -> 0 | H32: =SUM(H33:H36) -> 0 | I32: =SUM(I33:I36) -> 0 | J32: =SUM(J33:J36) -> 0 | ... Z32: =SUM(Z33:Z36) -> 100 | AB32: 浜松市 | AC32: 58 | AD32: 169 | AE32: 0 | AF32: 0 | AG32: 0 | AH32: 0 | AI32: 0 | AJ32: 0 | AK32: 0 | AL32: 0 | AM32: 0 | AN32: 0 | AO32: 0 | AP32: 0 | AQ32: 0 | AR32: 0 | AS32: 0 | AT32: 0 | AU32: 0 | AV32: 0 | AW32: 0 | AX32: 0 | AY32: 0 | AZ32: 22 | BB32: 高松市 | BC32: 13 | BD32: 31 | BE32: 0 | BF32: 0 | BG32: 0 | BH32: 0 | BI32: 0 | BJ32: 0 | BK32: 0 | BL32: 0 | BM32: 0 | BN32: 0 | BO32: 0 | BP32: 0 | BQ32: 0 | BR32: 0 | BS32: 0 | BT32: 0 | BU32: 0 | BV32: 0 | BW32: 0 | BX32: 0 | BY32: 0 | BZ32: 2
B33: 福島市 | C33: 1 | D33: 1 | E33: 0 | F33: 0 | G33: 0 | H33: 0 | I33: 0 | J33: 0 | K33: 0 | L33: 0 | M33: 0 | N33: 0 | O33: 0 | P33: 0 | Q33: 0 | R33: 0 | S33: 0 | T33: 0 | U33: 0 | V33: 0 | W33: 0 | X33: 0 | Y33: 0 | Z33: 0 | AB33: その他・静岡県 | AC33: 206 | AD33: 910 | AE33: 0 | AF33: 0 | AG33: 0 | AH33: 0 | AI33: 0 | AJ33: 0 | AK33: 0 | AL33: 0 | AM33: 0 | AN33: 0 | AO33: 0 | AP33: 0 | AQ33: 0 | AR33: 0 | AS33: 0 | AT33: 0 | AU33: 0 | AV33: 0 | AW33: 0 | AX33: 0 | AY33: 0 | AZ33: 65 | BB33: その他・香川県 | BC33: 115 | BD33: 209 | BE33: 0 | BF33: 0 | BG33: 0 | BH33: 0 | BI33: 0 | BJ33: 0 | BK33: 0 | BL33: 0 | BM33: 0 | BN33: 0 | BO33: 0 | BP33: 0 | BQ33: 0 | BR33: 0 | BS33: 0 | BT33: 0 | BU33: 0 | BV33: 0 | BW33: 0 | BX33: 0 | BY33: 0 | BZ33: 9
B34: 郡山市 | C34: 46 | D34: 228 | E34: 0 | F34: 0 | G34: 0 | H34: 0 | I34: 0 | J34: 0 | K34: 0 | L34: 0 | M34: 0 | N34: 0 | O34: 0 | P34: 0 | Q34: 0 | R34: 0 | S34: 0 | T34: 0 | U34: 0 | V34: 0 | W34: 0 | X34: 0 | Y34: 0 | Z34: 0 | AB34: 愛知県計 | AC34: =SUM(AC35:AC40) -> 977 | AD34: =SUM(AD35:AD40) -> 4225 | AE34: =SUM(AE35:AE40) -> 0 | AF34: =SUM(AF35:AF40) -> 0 | AG34: =SUM(AG35:AG40) -> 0 | AH34: =SUM(AH35:AH40) -> 0 | AI34: =SUM(AI35:AI40) -> 0 | AJ34: =SUM(AJ35:AJ40) -> 0 | ... AZ34: =SUM(AZ35:AZ40) -> 851 | BB34: 愛媛県計 | BC34: =SUM(BC35:BC36) -> 86 | BD34: =SUM(BD35:BD36) -> 277 | BE34: =SUM(BE35:BE36) -> 0 | BF34: =SUM(BF35:BF36) -> 0 | BG34: =SUM(BG35:BG36) -> 0 | BH34: =SUM(BH35:BH36) -> 0 | BI34: =SUM(BI35:BI36) -> 0 | BJ34: =SUM(BJ35:BJ36) -> 0 | ... BZ34: =SUM(BZ35:BZ36) -> 17
B35: いわき市 | C35: 44 | D35: 143 | E35: 0 | F35: 0 | G35: 0 | H35: 0 | I35: 0 | J35: 0 | K35: 0 | L35: 0 | M35: 0 | N35: 0 | O35: 0 | P35: 0 | Q35: 0 | R35: 0 | S35: 0 | T35: 0 | U35: 0 | V35: 0 | W35: 0 | X35: 0 | Y35: 0 | Z35: 7 | AB35: 名古屋市 | AC35: 91 | AD35: 142 | AE35: 0 | AF35: 0 | AG35: 0 | AH35: 0 | AI35: 0 | AJ35: 0 | AK35: 0 | AL35: 0 | AM35: 0 | AN35: 0 | AO35: 0 | AP35: 0 | AQ35: 0 | AR35: 0 | AS35: 0 | AT35: 0 | AU35: 0 | AV35: 0 | AW35: 0 | AX35: 0 | AY35: 0 | AZ35: 10 | BB35: 松山市 | BC35: 21 | BD35: 48 | BE35: 0 | BF35: 0 | BG35: 0 | BH35: 0 | BI35: 0 | BJ35: 0 | BK35: 0 | BL35: 0 | BM35: 0 | BN35: 0 | BO35: 0 | BP35: 0 | BQ35: 0 | BR35: 0 | BS35: 0 | BT35: 0 | BU35: 0 | BV35: 0 | BW35: 0 | BX35: 0 | BY35: 0 | BZ35: 13
B36: その他・福島県 | C36: 173 | D36: 553 | E36: 0 | F36: 0 | G36: 0 | H36: 0 | I36: 0 | J36: 0 | K36: 0 | L36: 0 | M36: 0 | N36: 0 | O36: 0 | P36: 0 | Q36: 0 | R36: 0 | S36: 0 | T36: 0 | U36: 0 | V36: 0 | W36: 0 | X36: 0 | Y36: 0 | Z36: 93 | AB36: 豊橋市 | AC36: 2 | AD36: 2 | AE36: 0 | AF36: 0 | AG36: 0 | AH36: 0 | AI36: 0 | AJ36: 0 | AK36: 0 | AL36: 0 | AM36: 0 | AN36: 0 | AO36: 0 | AP36: 0 | AQ36: 0 | AR36: 0 | AS36: 0 | AT36: 0 | AU36: 0 | AV36: 0 | AW36: 0 | AX36: 0 | AY36: 0 | AZ36: 0 | BB36: その他・愛媛県 | BC36: 65 | BD36: 229 | BE36: 0 | BF36: 0 | BG36: 0 | BH36: 0 | BI36: 0 | BJ36: 0 | BK36: 0 | BL36: 0 | BM36: 0 | BN36: 0 | BO36: 0 | BP36: 0 | BQ36: 0 | BR36: 0 | BS36: 0 | BT36: 0 | BU36: 0 | BV36: 0 | BW36: 0 | BX36: 0 | BY36: 0 | BZ36: 4
B37: 茨城県計 | C37: =SUM(C38:C39) -> 273 | D37: =SUM(D38:D39) -> 1150 | E37: =SUM(E38:E39) -> 0 | F37: =SUM(F38:F39) -> 0 | G37: =SUM(G38:G39) -> 0 | H37: =SUM(H38:H39) -> 0 | I37: =SUM(I38:I39) -> 0 | J37: =SUM(J38:J39) -> 0 | ... Z37: =SUM(Z38:Z39) -> 156 | AB37: 岡崎市 | AC37: 3 | AD37: 3 | AE37: 0 | AF37: 0 | AG37: 0 | AH37: 0 | AI37: 0 | AJ37: 0 | AK37: 0 | AL37: 0 | AM37: 0 | AN37: 0 | AO37: 0 | AP37: 0 | AQ37: 0 | AR37: 0 | AS37: 0 | AT37: 0 | AU37: 0 | AV37: 0 | AW37: 0 | AX37: 0 | AY37: 0 | AZ37: 0 | BB37: 高知県計 | BC37: =SUM(BC38:BC39) -> 23 | BD37: =SUM(BD38:BD39) -> 30 | BE37: =SUM(BE38:BE39) -> 0 | BF37: =SUM(BF38:BF39) -> 0 | BG37: =SUM(BG38:BG39) -> 0 | BH37: =SUM(BH38:BH39) -> 0 | BI37: =SUM(BI38:BI39) -> 0 | BJ37: =SUM(BJ38:BJ39) -> 0 | ... BZ37: =SUM(BZ38:BZ39) -> 10
B38: 水戸市 | C38: 13 | D38: 30 | E38: 0 | F38: 0 | G38: 0 | H38: 0 | I38: 0 | J38: 0 | K38: 0 | L38: 0 | M38: 0 | N38: 0 | O38: 0 | P38: 0 | Q38: 0 | R38: 0 | S38: 0 | T38: 0 | U38: 0 | V38: 0 | W38: 0 | X38: 0 | Y38: 0 | Z38: 4 | AB38: 一宮市 | AC38: 61 | AD38: 168 | AE38: 0 | AF38: 0 | AG38: 0 | AH38: 0 | AI38: 0 | AJ38: 0 | AK38: 0 | AL38: 0 | AM38: 0 | AN38: 0 | AO38: 0 | AP38: 0 | AQ38: 0 | AR38: 0 | AS38: 0 | AT38: 0 | AU38: 0 | AV38: 0 | AW38: 0 | AX38: 0 | AY38: 0 | AZ38: 44 | BB38: 高知市 | BC38: 15 | BD38: 22 | BE38: 0 | BF38: 0 | BG38: 0 | BH38: 0 | BI38: 0 | BJ38: 0 | BK38: 0 | BL38: 0 | BM38: 0 | BN38: 0 | BO38: 0 | BP38: 0 | BQ38: 0 | BR38: 0 | BS38: 0 | BT38: 0 | BU38: 0 | BV38: 0 | BW38: 0 | BX38: 0 | BY38: 0 | BZ38: 9
B39: その他・茨城県 | C39: 260 | D39: 1120 | E39: 0 | F39: 0 | G39: 0 | H39: 0 | I39: 0 | J39: 0 | K39: 0 | L39: 0 | M39: 0 | N39: 0 | O39: 0 | P39: 0 | Q39: 0 | R39: 0 | S39: 0 | T39: 0 | U39: 0 | V39: 0 | W39: 0 | X39: 0 | Y39: 0 | Z39: 152 | AB39: 豊田市 | AC39: 31 | AD39: 60 | AE39: 0 | AF39: 0 | AG39: 0 | AH39: 0 | AI39: 0 | AJ39: 0 | AK39: 0 | AL39: 0 | AM39: 0 | AN39: 0 | AO39: 0 | AP39: 0 | AQ39: 0 | AR39: 0 | AS39: 0 | AT39: 0 | AU39: 0 | AV39: 0 | AW39: 0 | AX39: 0 | AY39: 0 | AZ39: 26 | BB39: その他・高知県 | BC39: 8 | BD39: 8 | BE39: 0 | BF39: 0 | BG39: 0 | BH39: 0 | BI39: 0 | BJ39: 0 | BK39: 0 | BL39: 0 | BM39: 0 | BN39: 0 | BO39: 0 | BP39: 0 | BQ39: 0 | BR39: 0 | BS39: 0 | BT39: 0 | BU39: 0 | BV39: 0 | BW39: 0 | BX39: 0 | BY39: 0 | BZ39: 1
B40: 栃木県計 | C40: =SUM(C41:C42) -> 93 | D40: =SUM(D41:D42) -> 760 | E40: =SUM(E41:E42) -> 0 | F40: =SUM(F41:F42) -> 0 | G40: =SUM(G41:G42) -> 0 | H40: =SUM(H41:H42) -> 0 | I40: =SUM(I41:I42) -> 0 | J40: =SUM(J41:J42) -> 0 | ... Z40: =SUM(Z41:Z42) -> 20 | AB40: その他・愛知県 | AC40: 789 | AD40: 3850 | AE40: 0 | AF40: 0 | AG40: 0 | AH40: 0 | AI40: 0 | AJ40: 0 | AK40: 0 | AL40: 0 | AM40: 0 | AN40: 0 | AO40: 0 | AP40: 0 | AQ40: 0 | AR40: 0 | AS40: 0 | AT40: 0 | AU40: 0 | AV40: 0 | AW40: 0 | AX40: 0 | AY40: 0 | AZ40: 771 | BB40: 福岡県計 | BC40: =SUM(BC41:BC45) -> 141 | BD40: =SUM(BD41:BD45) -> 856 | BE40: =SUM(BE41:BE45) -> 0 | BF40: =SUM(BF41:BF45) -> 0 | BG40: =SUM(BG41:BG45) -> 0 | BH40: =SUM(BH41:BH45) -> 0 | BI40: =SUM(BI41:BI45) -> 0 | BJ40: =SUM(BJ41:BJ45) -> 0 | ... BZ40: =SUM(BZ41:BZ45) -> 17
B41: 宇都宮市 | C41: 5 | D41: 5 | E41: 0 | F41: 0 | G41: 0 | H41: 0 | I41: 0 | J41: 0 | K41: 0 | L41: 0 | M41: 0 | N41: 0 | O41: 0 | P41: 0 | Q41: 0 | R41: 0 | S41: 0 | T41: 0 | U41: 0 | V41: 0 | W41: 0 | X41: 0 | Y41: 0 | Z41: 0 | AB41: 三重県計 | AC41: =SUM(AC42:AC43) -> 133 | AD41: =SUM(AD42:AD43) -> 529 | AE41: =SUM(AE42:AE43) -> 0 | AF41: =SUM(AF42:AF43) -> 0 | AG41: =SUM(AG42:AG43) -> 0 | AH41: =SUM(AH42:AH43) -> 0 | AI41: =SUM(AI42:AI43) -> 0 | AJ41: =SUM(AJ42:AJ43) -> 0 | ... AZ41: =SUM(AZ42:AZ43) -> 18 | BB41: 北九州市 | BC41: 91 | BD41: 718 | BE41: 0 | BF41: 0 | BG41: 0 | BH41: 0 | BI41: 0 | BJ41: 0 | BK41: 0 | BL41: 0 | BM41: 0 | BN41: 0 | BO41: 0 | BP41: 0 | BQ41: 0 | BR41: 0 | BS41: 0 | BT41: 0 | BU41: 0 | BV41: 0 | BW41: 0 | BX41: 0 | BY41: 0 | BZ41: 15
B42: その他・栃木県 | C42: 88 | D42: 755 | E42: 0 | F42: 0 | G42: 0 | H42: 0 | I42: 0 | J42: 0 | K42: 0 | L42: 0 | M42: 0 | N42: 0 | O42: 0 | P42: 0 | Q42: 0 | R42: 0 | S42: 0 | T42: 0 | U42: 0 | V42: 0 | W42: 0 | X42: 0 | Y42: 0 | Z42: 20 | AB42: 四日市市 | AC42: 2 | AD42: 4 | AE42: 0 | AF42: 0 | AG42: 0 | AH42: 0 | AI42: 0 | AJ42: 0 | AK42: 0 | AL42: 0 | AM42: 0 | AN42: 0 | AO42: 0 | AP42: 0 | AQ42: 0 | AR42: 0 | AS42: 0 | AT42: 0 | AU42: 0 | AV42: 0 | AW42: 0 | AX42: 0 | AY42: 0 | AZ42: 0 | BB42: 福岡市 | BC42: 4 | BD42: 14 | BE42: 0 | BF42: 0 | BG42: 0 | BH42: 0 | BI42: 0 | BJ42: 0 | BK42: 0 | BL42: 0 | BM42: 0 | BN42: 0 | BO42: 0 | BP42: 0 | BQ42: 0 | BR42: 0 | BS42: 0 | BT42: 0 | BU42: 0 | BV42: 0 | BW42: 0 | BX42: 0 | BY42: 0 | BZ42: 2
B43: 群馬県計 | C43: =SUM(C44:C46) -> 156 | D43: =SUM(D44:D46) -> 475 | E43: =SUM(E44:E46) -> 0 | F43: =SUM(F44:F46) -> 0 | G43: =SUM(G44:G46) -> 0 | H43: =SUM(H44:H46) -> 0 | I43: =SUM(I44:I46) -> 0 | J43: =SUM(J44:J46) -> 0 | ... Z43: =SUM(Z44:Z46) -> 90 | AB43: その他・三重県 | AC43: 131 | AD43: 525 | AE43: 0 | AF43: 0 | AG43: 0 | AH43: 0 | AI43: 0 | AJ43: 0 | AK43: 0 | AL43: 0 | AM43: 0 | AN43: 0 | AO43: 0 | AP43: 0 | AQ43: 0 | AR43: 0 | AS43: 0 | AT43: 0 | AU43: 0 | AV43: 0 | AW43: 0 | AX43: 0 | AY43: 0 | AZ43: 18 | BB43: 大牟田市 | BC43: 4 | BD43: 4 | BE43: 0 | BF43: 0 | BG43: 0 | BH43: 0 | BI43: 0 | BJ43: 0 | BK43: 0 | BL43: 0 | BM43: 0 | BN43: 0 | BO43: 0 | BP43: 0 | BQ43: 0 | BR43: 0 | BS43: 0 | BT43: 0 | BU43: 0 | BV43: 0 | BW43: 0 | BX43: 0 | BY43: 0 | BZ43: 0
B44: 前橋市 | C44: 7 | D44: 17 | E44: 0 | F44: 0 | G44: 0 | H44: 0 | I44: 0 | J44: 0 | K44: 0 | L44: 0 | M44: 0 | N44: 0 | O44: 0 | P44: 0 | Q44: 0 | R44: 0 | S44: 0 | T44: 0 | U44: 0 | V44: 0 | W44: 0 | X44: 0 | Y44: 0 | Z44: 3 | AB44: 滋賀県計 | AC44: =SUM(AC45:AC46) -> 38 | AD44: =SUM(AD45:AD46) -> 122 | AE44: =SUM(AE45:AE46) -> 0 | AF44: =SUM(AF45:AF46) -> 0 | AG44: =SUM(AG45:AG46) -> 0 | AH44: =SUM(AH45:AH46) -> 0 | AI44: =SUM(AI45:AI46) -> 0 | AJ44: =SUM(AJ45:AJ46) -> 0 | ... AZ44: =SUM(AZ45:AZ46) -> 29 | BB44: 久留米市 | BC44: 2 | BD44: 2 | BE44: 0 | BF44: 0 | BG44: 0 | BH44: 0 | BI44: 0 | BJ44: 0 | BK44: 0 | BL44: 0 | BM44: 0 | BN44: 0 | BO44: 0 | BP44: 0 | BQ44: 0 | BR44: 0 | BS44: 0 | BT44: 0 | BU44: 0 | BV44: 0 | BW44: 0 | BX44: 0 | BY44: 0 | BZ44: 0
B45: 高崎市 | C45: 32 | D45: 72 | E45: 0 | F45: 0 | G45: 0 | H45: 0 | I45: 0 | J45: 0 | K45: 0 | L45: 0 | M45: 0 | N45: 0 | O45: 0 | P45: 0 | Q45: 0 | R45: 0 | S45: 0 | T45: 0 | U45: 0 | V45: 0 | W45: 0 | X45: 0 | Y45: 0 | Z45: 24 | AB45: 大津市 | AC45: 1 | AD45: 1 | AE45: 0 | AF45: 0 | AG45: 0 | AH45: 0 | AI45: 0 | AJ45: 0 | AK45: 0 | AL45: 0 | AM45: 0 | AN45: 0 | AO45: 0 | AP45: 0 | AQ45: 0 | AR45: 0 | AS45: 0 | AT45: 0 | AU45: 0 | AV45: 0 | AW45: 0 | AX45: 0 | AY45: 0 | AZ45: 0 | BB45: その他・福岡県 | BC45: 40 | BD45: 118 | BE45: 0 | BF45: 0 | BG45: 0 | BH45: 0 | BI45: 0 | BJ45: 0 | BK45: 0 | BL45: 0 | BM45: 0 | BN45: 0 | BO45: 0 | BP45: 0 | BQ45: 0 | BR45: 0 | BS45: 0 | BT45: 0 | BU45: 0 | BV45: 0 | BW45: 0 | BX45: 0 | BY45: 0 | BZ45: 0
B46: その他・群馬県 | C46: 117 | D46: 386 | E46: 0 | F46: 0 | G46: 0 | H46: 0 | I46: 0 | J46: 0 | K46: 0 | L46: 0 | M46: 0 | N46: 0 | O46: 0 | P46: 0 | Q46: 0 | R46: 0 | S46: 0 | T46: 0 | U46: 0 | V46: 0 | W46: 0 | X46: 0 | Y46: 0 | Z46: 63 | AB46: その他・滋賀県 | AC46: 37 | AD46: 121 | AE46: 0 | AF46: 0 | AG46: 0 | AH46: 0 | AI46: 0 | AJ46: 0 | AK46: 0 | AL46: 0 | AM46: 0 | AN46: 0 | AO46: 0 | AP46: 0 | AQ46: 0 | AR46: 0 | AS46: 0 | AT46: 0 | AU46: 0 | AV46: 0 | AW46: 0 | AX46: 0 | AY46: 0 | AZ46: 29 | BB46: 佐賀県計 | BC46: =SUM(BC47) -> 16 | BD46: =SUM(BD47) -> 45 | BE46: =SUM(BE47) -> 0 | BF46: =SUM(BF47) -> 0 | BG46: =SUM(BG47) -> 0 | BH46: =SUM(BH47) -> 0 | BI46: =SUM(BI47) -> 0 | BJ46: =SUM(BJ47) -> 0 | ... BZ46: =SUM(BZ47) -> 0
B47: 埼玉県計 | C47: =SUM(C48:C53) -> 391 | D47: =SUM(D48:D53) -> 1160 | E47: =SUM(E48:E53) -> 0 | F47: =SUM(F48:F53) -> 0 | G47: =SUM(G48:G53) -> 0 | H47: =SUM(H48:H53) -> 0 | I47: =SUM(I48:I53) -> 0 | J47: =SUM(J48:J53) -> 0 | ... Z47: =SUM(Z48:Z53) -> 90 | AB47: 京都府計 | AC47: =SUM(AC48:AC49) -> 48 | AD47: =SUM(AD48:AD49) -> 88 | AE47: =SUM(AE48:AE49) -> 0 | AF47: =SUM(AF48:AF49) -> 0 | AG47: =SUM(AG48:AG49) -> 0 | AH47: =SUM(AH48:AH49) -> 0 | AI47: =SUM(AI48:AI49) -> 0 | AJ47: =SUM(AJ48:AJ49) -> 0 | ... AZ47: =SUM(AZ48:AZ49) -> 1 | BB47: 佐賀県 | BC47: 16 | BD47: 45 | BE47: 0 | BF47: 0 | BG47: 0 | BH47: 0 | BI47: 0 | BJ47: 0 | BK47: 0 | BL47: 0 | BM47: 0 | BN47: 0 | BO47: 0 | BP47: 0 | BQ47: 0 | BR47: 0 | BS47: 0 | BT47: 0 | BU47: 0 | BV47: 0 | BW47: 0 | BX47: 0 | BY47: 0 | BZ47: 0
B48: さいたま市 | C48: 11 | D48: 39 | E48: 0 | F48: 0 | G48: 0 | H48: 0 | I48: 0 | J48: 0 | K48: 0 | L48: 0 | M48: 0 | N48: 0 | O48: 0 | P48: 0 | Q48: 0 | R48: 0 | S48: 0 | T48: 0 | U48: 0 | V48: 0 | W48: 0 | X48: 0 | Y48: 0 | Z48: 15 | AB48: 京都市 | AC48: 25 | AD48: 49 | AE48: 0 | AF48: 0 | AG48: 0 | AH48: 0 | AI48: 0 | AJ48: 0 | AK48: 0 | AL48: 0 | AM48: 0 | AN48: 0 | AO48: 0 | AP48: 0 | AQ48: 0 | AR48: 0 | AS48: 0 | AT48: 0 | AU48: 0 | AV48: 0 | AW48: 0 | AX48: 0 | AY48: 0 | AZ48: 1 | BB48: 長崎県計 | BC48: =SUM(BC49:BC51) -> 171 | BD48: =SUM(BD49:BD51) -> 515 | BE48: =SUM(BE49:BE51) -> 0 | BF48: =SUM(BF49:BF51) -> 0 | BG48: =SUM(BG49:BG51) -> 0 | BH48: =SUM(BH49:BH51) -> 0 | BI48: =SUM(BI49:BI51) -> 0 | BJ48: =SUM(BJ49:BJ51) -> 0 | ... BZ48: =SUM(BZ49:BZ51) -> 7
B49: 川越市 | C49: 92 | D49: 245 | E49: 0 | F49: 0 | G49: 0 | H49: 0 | I49: 0 | J49: 0 | K49: 0 | L49: 0 | M49: 0 | N49: 0 | O49: 0 | P49: 0 | Q49: 0 | R49: 0 | S49: 0 | T49: 0 | U49: 0 | V49: 0 | W49: 0 | X49: 0 | Y49: 0 | Z49: 29 | AB49: その他・京都府 | AC49: 23 | AD49: 39 | AE49: 0 | AF49: 0 | AG49: 0 | AH49: 0 | AI49: 0 | AJ49: 0 | AK49: 0 | AL49: 0 | AM49: 0 | AN49: 0 | AO49: 0 | AP49: 0 | AQ49: 0 | AR49: 0 | AS49: 0 | AT49: 0 | AU49: 0 | AV49: 0 | AW49: 0 | AX49: 0 | AY49: 0 | AZ49: 0 | BB49: 長崎市 | BC49: 1 | BD49: 1 | BE49: 0 | BF49: 0 | BG49: 0 | BH49: 0 | BI49: 0 | BJ49: 0 | BK49: 0 | BL49: 0 | BM49: 0 | BN49: 0 | BO49: 0 | BP49: 0 | BQ49: 0 | BR49: 0 | BS49: 0 | BT49: 0 | BU49: 0 | BV49: 0 | BW49: 0 | BX49: 0 | BY49: 0 | BZ49: 0
B50: 川口市 | C50: 30 | D50: 129 | E50: 0 | F50: 0 | G50: 0 | H50: 0 | I50: 0 | J50: 0 | K50: 0 | L50: 0 | M50: 0 | N50: 0 | O50: 0 | P50: 0 | Q50: 0 | R50: 0 | S50: 0 | T50: 0 | U50: 0 | V50: 0 | W50: 0 | X50: 0 | Y50: 0 | Z50: 0 | AB50: 大阪府計 | AC50: =SUM(AC51:AC60) -> 508 | AD50: =SUM(AD51:AD60) -> 2021 | AE50: =SUM(AE51:AE60) -> 0 | AF50: =SUM(AF51:AF60) -> 0 | AG50: =SUM(AG51:AG60) -> 0 | AH50: =SUM(AH51:AH60) -> 0 | AI50: =SUM(AI51:AI60) -> 0 | AJ50: =SUM(AJ51:AJ60) -> 0 | ... AZ50: =SUM(AZ51:AZ60) -> 102 | BB50: 佐世保市 | BC50: 14 | BD50: 131 | BE50: 0 | BF50: 0 | BG50: 0 | BH50: 0 | BI50: 0 | BJ50: 0 | BK50: 0 | BL50: 0 | BM50: 0 | BN50: 0 | BO50: 0 | BP50: 0 | BQ50: 0 | BR50: 0 | BS50: 0 | BT50: 0 | BU50: 0 | BV50: 0 | BW50: 0 | BX50: 0 | BY50: 0 | BZ50: 7
B51: 所沢市 | C51: 6 | D51: 8 | E51: 0 | F51: 0 | G51: 0 | H51: 0 | I51: 0 | J51: 0 | K51: 0 | L51: 0 | M51: 0 | N51: 0 | O51: 0 | P51: 0 | Q51: 0 | R51: 0 | S51: 0 | T51: 0 | U51: 0 | V51: 0 | W51: 0 | X51: 0 | Y51: 0 | Z51: 3 | AB51: 大阪市 | AC51: 170 | AD51: 1034 | AE51: 0 | AF51: 0 | AG51: 0 | AH51: 0 | AI51: 0 | AJ51: 0 | AK51: 0 | AL51: 0 | AM51: 0 | AN51: 0 | AO51: 0 | AP51: 0 | AQ51: 0 | AR51: 0 | AS51: 0 | AT51: 0 | AU51: 0 | AV51: 0 | AW51: 0 | AX51: 0 | AY51: 0 | AZ51: 36 | BB51: その他・長崎県 | BC51: 156 | BD51: 383 | BE51: 0 | BF51: 0 | BG51: 0 | BH51: 0 | BI51: 0 | BJ51: 0 | BK51: 0 | BL51: 0 | BM51: 0 | BN51: 0 | BO51: 0 | BP51: 0 | BQ51: 0 | BR51: 0 | BS51: 0 | BT51: 0 | BU51: 0 | BV51: 0 | BW51: 0 | BX51: 0 | BY51: 0 | BZ51: 0
B52: 越谷市 | C52: 8 | D52: 18 | E52: 0 | F52: 0 | G52: 0 | H52: 0 | I52: 0 | J52: 0 | K52: 0 | L52: 0 | M52: 0 | N52: 0 | O52: 0 | P52: 0 | Q52: 0 | R52: 0 | S52: 0 | T52: 0 | U52: 0 | V52: 0 | W52: 0 | X52: 0 | Y52: 0 | Z52: 0 | AB52: 堺市 | AC52: 14 | AD52: 30 | AE52: 0 | AF52: 0 | AG52: 0 | AH52: 0 | AI52: 0 | AJ52: 0 | AK52: 0 | AL52: 0 | AM52: 0 | AN52: 0 | AO52: 0 | AP52: 0 | AQ52: 0 | AR52: 0 | AS52: 0 | AT52: 0 | AU52: 0 | AV52: 0 | AW52: 0 | AX52: 0 | AY52: 0 | AZ52: 3 | BB52: 熊本県計 | BC52: =SUM(BC53:BC54) -> 16 | BD52: =SUM(BD53:BD54) -> 24 | BE52: =SUM(BE53:BE54) -> 0 | BF52: =SUM(BF53:BF54) -> 0 | BG52: =SUM(BG53:BG54) -> 0 | BH52: =SUM(BH53:BH54) -> 0 | BI52: =SUM(BI53:BI54) -> 0 | BJ52: =SUM(BJ53:BJ54) -> 0 | ... BZ52: =SUM(BZ53:BZ54) -> 0
B53: その他・埼玉県 | C53: 244 | D53: 721 | E53: 0 | F53: 0 | G53: 0 | H53: 0 | I53: 0 | J53: 0 | K53: 0 | L53: 0 | M53: 0 | N53: 0 | O53: 0 | P53: 0 | Q53: 0 | R53: 0 | S53: 0 | T53: 0 | U53: 0 | V53: 0 | W53: 0 | X53: 0 | Y53: 0 | Z53: 43 | AB53: 豊中市 | AC53: 0 | AD53: 0 | AE53: 0 | AF53: 0 | AG53: 0 | AH53: 0 | AI53: 0 | AJ53: 0 | AK53: 0 | AL53: 0 | AM53: 0 | AN53: 0 | AO53: 0 | AP53: 0 | AQ53: 0 | AR53: 0 | AS53: 0 | AT53: 0 | AU53: 0 | AV53: 0 | AW53: 0 | AX53: 0 | AY53: 0 | AZ53: 0 | BB53: 熊本市 | BC53: 6 | BD53: 13 | BE53: 0 | BF53: 0 | BG53: 0 | BH53: 0 | BI53: 0 | BJ53: 0 | BK53: 0 | BL53: 0 | BM53: 0 | BN53: 0 | BO53: 0 | BP53: 0 | BQ53: 0 | BR53: 0 | BS53: 0 | BT53: 0 | BU53: 0 | BV53: 0 | BW53: 0 | BX53: 0 | BY53: 0 | BZ53: 0
B54: 千葉県計 | C54: =SUM(C55:C61) -> 455 | D54: =SUM(D55:D61) -> 1373 | E54: =SUM(E55:E61) -> 0 | F54: =SUM(F55:F61) -> 0 | G54: =SUM(G55:G61) -> 0 | H54: =SUM(H55:H61) -> 0 | I54: =SUM(I55:I61) -> 0 | J54: =SUM(J55:J61) -> 0 | ... Z54: =SUM(Z55:Z61) -> 74 | AB54: 吹田市 | AC54: 49 | AD54: 218 | AE54: 0 | AF54: 0 | AG54: 0 | AH54: 0 | AI54: 0 | AJ54: 0 | AK54: 0 | AL54: 0 | AM54: 0 | AN54: 0 | AO54: 0 | AP54: 0 | AQ54: 0 | AR54: 0 | AS54: 0 | AT54: 0 | AU54: 0 | AV54: 0 | AW54: 0 | AX54: 0 | AY54: 0 | AZ54: 4 | BB54: その他・熊本県 | BC54: 10 | BD54: 11 | BE54: 0 | BF54: 0 | BG54: 0 | BH54: 0 | BI54: 0 | BJ54: 0 | BK54: 0 | BL54: 0 | BM54: 0 | BN54: 0 | BO54: 0 | BP54: 0 | BQ54: 0 | BR54: 0 | BS54: 0 | BT54: 0 | BU54: 0 | BV54: 0 | BW54: 0 | BX54: 0 | BY54: 0 | BZ54: 0
B55: 千葉市 | C55: 3 | D55: 10 | E55: 0 | F55: 0 | G55: 0 | H55: 0 | I55: 0 | J55: 0 | K55: 0 | L55: 0 | M55: 0 | N55: 0 | O55: 0 | P55: 0 | Q55: 0 | R55: 0 | S55: 0 | T55: 0 | U55: 0 | V55: 0 | W55: 0 | X55: 0 | Y55: 0 | Z55: 0 | AB55: 高槻市 | AC55: 9 | AD55: 12 | AE55: 0 | AF55: 0 | AG55: 0 | AH55: 0 | AI55: 0 | AJ55: 0 | AK55: 0 | AL55: 0 | AM55: 0 | AN55: 0 | AO55: 0 | AP55: 0 | AQ55: 0 | AR55: 0 | AS55: 0 | AT55: 0 | AU55: 0 | AV55: 0 | AW55: 0 | AX55: 0 | AY55: 0 | AZ55: 2 | BB55: 大分県計 | BC55: =SUM(BC56:BC57) -> 60 | BD55: =SUM(BD56:BD57) -> 164 | BE55: =SUM(BE56:BE57) -> 0 | BF55: =SUM(BF56:BF57) -> 0 | BG55: =SUM(BG56:BG57) -> 0 | BH55: =SUM(BH56:BH57) -> 0 | BI55: =SUM(BI56:BI57) -> 0 | BJ55: =SUM(BJ56:BJ57) -> 0 | ... BZ55: =SUM(BZ56:BZ57) -> 13
B56: 市川市 | C56: 3 | D56: 8 | E56: 0 | F56: 0 | G56: 0 | H56: 0 | I56: 0 | J56: 0 | K56: 0 | L56: 0 | M56: 0 | N56: 0 | O56: 0 | P56: 0 | Q56: 0 | R56: 0 | S56: 0 | T56: 0 | U56: 0 | V56: 0 | W56: 0 | X56: 0 | Y56: 0 | Z56: 1 | AB56: 枚方市 | AC56: 18 | AD56: 18 | AE56: 0 | AF56: 0 | AG56: 0 | AH56: 0 | AI56: 0 | AJ56: 0 | AK56: 0 | AL56: 0 | AM56: 0 | AN56: 0 | AO56: 0 | AP56: 0 | AQ56: 0 | AR56: 0 | AS56: 0 | AT56: 0 | AU56: 0 | AV56: 0 | AW56: 0 | AX56: 0 | AY56: 0 | AZ56: 0 | BB56: 大分市 | BC56: 38 | BD56: 111 | BE56: 0 | BF56: 0 | BG56: 0 | BH56: 0 | BI56: 0 | BJ56: 0 | BK56: 0 | BL56: 0 | BM56: 0 | BN56: 0 | BO56: 0 | BP56: 0 | BQ56: 0 | BR56: 0 | BS56: 0 | BT56: 0 | BU56: 0 | BV56: 0 | BW56: 0 | BX56: 0 | BY56: 0 | BZ56: 10
B57: 船橋市 | C57: 16 | D57: 23 | E57: 0 | F57: 0 | G57: 0 | H57: 0 | I57: 0 | J57: 0 | K57: 0 | L57: 0 | M57: 0 | N57: 0 | O57: 0 | P57: 0 | Q57: 0 | R57: 0 | S57: 0 | T57: 0 | U57: 0 | V57: 0 | W57: 0 | X57: 0 | Y57: 0 | Z57: 0 | AB57: 八尾市 | AC57: 11 | AD57: 55 | AE57: 0 | AF57: 0 | AG57: 0 | AH57: 0 | AI57: 0 | AJ57: 0 | AK57: 0 | AL57: 0 | AM57: 0 | AN57: 0 | AO57: 0 | AP57: 0 | AQ57: 0 | AR57: 0 | AS57: 0 | AT57: 0 | AU57: 0 | AV57: 0 | AW57: 0 | AX57: 0 | AY57: 0 | AZ57: 0 | BB57: その他・大分県 | BC57: 22 | BD57: 53 | BE57: 0 | BF57: 0 | BG57: 0 | BH57: 0 | BI57: 0 | BJ57: 0 | BK57: 0 | BL57: 0 | BM57: 0 | BN57: 0 | BO57: 0 | BP57: 0 | BQ57: 0 | BR57: 0 | BS57: 0 | BT57: 0 | BU57: 0 | BV57: 0 | BW57: 0 | BX57: 0 | BY57: 0 | BZ57: 3
B58: 松戸市 | C58: 15 | D58: 41 | E58: 0 | F58: 0 | G58: 0 | H58: 0 | I58: 0 | J58: 0 | K58: 0 | L58: 0 | M58: 0 | N58: 0 | O58: 0 | P58: 0 | Q58: 0 | R58: 0 | S58: 0 | T58: 0 | U58: 0 | V58: 0 | W58: 0 | X58: 0 | Y58: 0 | Z58: 5 | AB58: 寝屋川市 | AC58: 5 | AD58: 22 | AE58: 0 | AF58: 0 | AG58: 0 | AH58: 0 | AI58: 0 | AJ58: 0 | AK58: 0 | AL58: 0 | AM58: 0 | AN58: 0 | AO58: 0 | AP58: 0 | AQ58: 0 | AR58: 0 | AS58: 0 | AT58: 0 | AU58: 0 | AV58: 0 | AW58: 0 | AX58: 0 | AY58: 0 | AZ58: 0 | BB58: 宮崎県計 | BC58: =SUM(BC59:BC60) -> 76 | BD58: =SUM(BD59:BD60) -> 483 | BE58: =SUM(BE59:BE60) -> 0 | BF58: =SUM(BF59:BF60) -> 0 | BG58: =SUM(BG59:BG60) -> 0 | BH58: =SUM(BH59:BH60) -> 0 | BI58: =SUM(BI59:BI60) -> 0 | BJ58: =SUM(BJ59:BJ60) -> 0 | ... BZ58: =SUM(BZ59:BZ60) -> 14
B59: 柏市 | C59: 22 | D59: 89 | E59: 0 | F59: 0 | G59: 0 | H59: 0 | I59: 0 | J59: 0 | K59: 0 | L59: 0 | M59: 0 | N59: 0 | O59: 0 | P59: 0 | Q59: 0 | R59: 0 | S59: 0 | T59: 0 | U59: 0 | V59: 0 | W59: 0 | X59: 0 | Y59: 0 | Z59: 0 | AB59: 東大阪市 | AC59: 10 | AD59: 15 | AE59: 0 | AF59: 0 | AG59: 0 | AH59: 0 | AI59: 0 | AJ59: 0 | AK59: 0 | AL59: 0 | AM59: 0 | AN59: 0 | AO59: 0 | AP59: 0 | AQ59: 0 | AR59: 0 | AS59: 0 | AT59: 0 | AU59: 0 | AV59: 0 | AW59: 0 | AX59: 0 | AY59: 0 | AZ59: 0 | BB59: 宮崎市 | BC59: 15 | BD59: 39 | BE59: 0 | BF59: 0 | BG59: 0 | BH59: 0 | BI59: 0 | BJ59: 0 | BK59: 0 | BL59: 0 | BM59: 0 | BN59: 0 | BO59: 0 | BP59: 0 | BQ59: 0 | BR59: 0 | BS59: 0 | BT59: 0 | BU59: 0 | BV59: 0 | BW59: 0 | BX59: 0 | BY59: 0 | BZ59: 11
B60: 市原市 | C60: 8 | D60: 8 | E60: 0 | F60: 0 | G60: 0 | H60: 0 | I60: 0 | J60: 0 | K60: 0 | L60: 0 | M60: 0 | N60: 0 | O60: 0 | P60: 0 | Q60: 0 | R60: 0 | S60: 0 | T60: 0 | U60: 0 | V60: 0 | W60: 0 | X60: 0 | Y60: 0 | Z60: 2 | AB60: その他・大阪府 | AC60: 222 | AD60: 617 | AE60: 0 | AF60: 0 | AG60: 0 | AH60: 0 | AI60: 0 | AJ60: 0 | AK60: 0 | AL60: 0 | AM60: 0 | AN60: 0 | AO60: 0 | AP60: 0 | AQ60: 0 | AR60: 0 | AS60: 0 | AT60: 0 | AU60: 0 | AV60: 0 | AW60: 0 | AX60: 0 | AY60: 0 | AZ60: 57 | BB60: その他・宮崎県 | BC60: 61 | BD60: 444 | BE60: 0 | BF60: 0 | BG60: 0 | BH60: 0 | BI60: 0 | BJ60: 0 | BK60: 0 | BL60: 0 | BM60: 0 | BN60: 0 | BO60: 0 | BP60: 0 | BQ60: 0 | BR60: 0 | BS60: 0 | BT60: 0 | BU60: 0 | BV60: 0 | BW60: 0 | BX60: 0 | BY60: 0 | BZ60: 3
B61: その他・千葉県 | C61: 388 | D61: 1194 | E61: 0 | F61: 0 | G61: 0 | H61: 0 | I61: 0 | J61: 0 | K61: 0 | L61: 0 | M61: 0 | N61: 0 | O61: 0 | P61: 0 | Q61: 0 | R61: 0 | S61: 0 | T61: 0 | U61: 0 | V61: 0 | W61: 0 | X61: 0 | Y61: 0 | Z61: 66 | AB61: 兵庫県計 | AC61: =SUM(AC62:AC68) -> 174 | AD61: =SUM(AD62:AD68) -> 1519 | AE61: =SUM(AE62:AE68) -> 0 | AF61: =SUM(AF62:AF68) -> 0 | AG61: =SUM(AG62:AG68) -> 0 | AH61: =SUM(AH62:AH68) -> 0 | AI61: =SUM(AI62:AI68) -> 0 | AJ61: =SUM(AJ62:AJ68) -> 0 | ... AZ61: =SUM(AZ62:AZ68) -> 69 | BB61: 鹿児島県計 | BC61: =SUM(BC62:BC63) -> 28 | BD61: =SUM(BD62:BD63) -> 40 | BE61: =SUM(BE62:BE63) -> 0 | BF61: =SUM(BF62:BF63) -> 0 | BG61: =SUM(BG62:BG63) -> 0 | BH61: =SUM(BH62:BH63) -> 0 | BI61: =SUM(BI62:BI63) -> 0 | BJ61: =SUM(BJ62:BJ63) -> 0 | ... BZ61: =SUM(BZ62:BZ63) -> 0
B62: 東京都計 | C62: =SUM(C63:C64) -> 87 | D62: =SUM(D63:D64) -> 440 | E62: =SUM(E63:E64) -> 0 | F62: =SUM(F63:F64) -> 0 | G62: =SUM(G63:G64) -> 0 | H62: =SUM(H63:H64) -> 0 | I62: =SUM(I63:I64) -> 0 | J62: =SUM(J63:J64) -> 0 | ... Z62: =SUM(Z63:Z64) -> 28 | AB62: 神戸市 | AC62: 22 | AD62: 127 | AE62: 0 | AF62: 0 | AG62: 0 | AH62: 0 | AI62: 0 | AJ62: 0 | AK62: 0 | AL62: 0 | AM62: 0 | AN62: 0 | AO62: 0 | AP62: 0 | AQ62: 0 | AR62: 0 | AS62: 0 | AT62: 0 | AU62: 0 | AV62: 0 | AW62: 0 | AX62: 0 | AY62: 0 | AZ62: 0 | BB62: 鹿児島市 | BC62: 19 | BD62: 19 | BE62: 0 | BF62: 0 | BG62: 0 | BH62: 0 | BI62: 0 | BJ62: 0 | BK62: 0 | BL62: 0 | BM62: 0 | BN62: 0 | BO62: 0 | BP62: 0 | BQ62: 0 | BR62: 0 | BS62: 0 | BT62: 0 | BU62: 0 | BV62: 0 | BW62: 0 | BX62: 0 | BY62: 0 | BZ62: 0
B63: 八王子市 | C63: 19 | D63: 57 | E63: 0 | F63: 0 | G63: 0 | H63: 0 | I63: 0 | J63: 0 | K63: 0 | L63: 0 | M63: 0 | N63: 0 | O63: 0 | P63: 0 | Q63: 0 | R63: 0 | S63: 0 | T63: 0 | U63: 0 | V63: 0 | W63: 0 | X63: 0 | Y63: 0 | Z63: 11 | AB63: 姫路市 | AC63: 17 | AD63: 17 | AE63: 0 | AF63: 0 | AG63: 0 | AH63: 0 | AI63: 0 | AJ63: 0 | AK63: 0 | AL63: 0 | AM63: 0 | AN63: 0 | AO63: 0 | AP63: 0 | AQ63: 0 | AR63: 0 | AS63: 0 | AT63: 0 | AU63: 0 | AV63: 0 | AW63: 0 | AX63: 0 | AY63: 0 | AZ63: 0 | BB63: その他・鹿児島県 | BC63: 9 | BD63: 21 | BE63: 0 | BF63: 0 | BG63: 0 | BH63: 0 | BI63: 0 | BJ63: 0 | BK63: 0 | BL63: 0 | BM63: 0 | BN63: 0 | BO63: 0 | BP63: 0 | BQ63: 0 | BR63: 0 | BS63: 0 | BT63: 0 | BU63: 0 | BV63: 0 | BW63: 0 | BX63: 0 | BY63: 0 | BZ63: 0
B64: その他・東京都 | C64: 68 | D64: 383 | E64: 0 | F64: 0 | G64: 0 | H64: 0 | I64: 0 | J64: 0 | K64: 0 | L64: 0 | M64: 0 | N64: 0 | O64: 0 | P64: 0 | Q64: 0 | R64: 0 | S64: 0 | T64: 0 | U64: 0 | V64: 0 | W64: 0 | X64: 0 | Y64: 0 | Z64: 17 | AB64: 尼崎市 | AC64: 15 | AD64: 28 | AE64: 0 | AF64: 0 | AG64: 0 | AH64: 0 | AI64: 0 | AJ64: 0 | AK64: 0 | AL64: 0 | AM64: 0 | AN64: 0 | AO64: 0 | AP64: 0 | AQ64: 0 | AR64: 0 | AS64: 0 | AT64: 0 | AU64: 0 | AV64: 0 | AW64: 0 | AX64: 0 | AY64: 0 | AZ64: 21 | BB64: 沖縄県計 | BC64: =SUM(BC65:BC66) -> 5 | BD64: =SUM(BD65:BD66) -> 5 | BE64: =SUM(BE65:BE66) -> 0 | BF64: =SUM(BF65:BF66) -> 0 | BG64: =SUM(BG65:BG66) -> 0 | BH64: =SUM(BH65:BH66) -> 0 | BI64: =SUM(BI65:BI66) -> 0 | BJ64: =SUM(BJ65:BJ66) -> 0 | ... BZ64: =SUM(BZ65:BZ66) -> 4
B65: 神奈川県計 | C65: =SUM(C66:C72) -> 207 | D65: =SUM(D66:D72) -> 824 | E65: =SUM(E66:E72) -> 0 | F65: =SUM(F66:F72) -> 0 | G65: =SUM(G66:G72) -> 0 | H65: =SUM(H66:H72) -> 0 | I65: =SUM(I66:I72) -> 0 | J65: =SUM(J66:J72) -> 0 | ... Z65: =SUM(Z66:Z72) -> 29 | AB65: 明石市 | AC65: 0 | AD65: 0 | AE65: 0 | AF65: 0 | AG65: 0 | AH65: 0 | AI65: 0 | AJ65: 0 | AK65: 0 | AL65: 0 | AM65: 0 | AN65: 0 | AO65: 0 | AP65: 0 | AQ65: 0 | AR65: 0 | AS65: 0 | AT65: 0 | AU65: 0 | AV65: 0 | AW65: 0 | AX65: 0 | AY65: 0 | AZ65: 0 | BB65: 那覇市 | BC65: 0 | BD65: 0 | BE65: 0 | BF65: 0 | BG65: 0 | BH65: 0 | BI65: 0 | BJ65: 0 | BK65: 0 | BL65: 0 | BM65: 0 | BN65: 0 | BO65: 0 | BP65: 0 | BQ65: 0 | BR65: 0 | BS65: 0 | BT65: 0 | BU65: 0 | BV65: 0 | BW65: 0 | BX65: 0 | BY65: 0 | BZ65: 0
B66: 横浜市 | C66: 44 | D66: 44 | E66: 0 | F66: 0 | G66: 0 | H66: 0 | I66: 0 | J66: 0 | K66: 0 | L66: 0 | M66: 0 | N66: 0 | O66: 0 | P66: 0 | Q66: 0 | R66: 0 | S66: 0 | T66: 0 | U66: 0 | V66: 0 | W66: 0 | X66: 0 | Y66: 0 | Z66: 1 | AB66: 西宮市 | AC66: 5 | AD66: 56 | AE66: 0 | AF66: 0 | AG66: 0 | AH66: 0 | AI66: 0 | AJ66: 0 | AK66: 0 | AL66: 0 | AM66: 0 | AN66: 0 | AO66: 0 | AP66: 0 | AQ66: 0 | AR66: 0 | AS66: 0 | AT66: 0 | AU66: 0 | AV66: 0 | AW66: 0 | AX66: 0 | AY66: 0 | AZ66: 0 | BB66: その他・沖縄県 | BC66: 5 | BD66: 5 | BE66: 0 | BF66: 0 | BG66: 0 | BH66: 0 | BI66: 0 | BJ66: 0 | BK66: 0 | BL66: 0 | BM66: 0 | BN66: 0 | BO66: 0 | BP66: 0 | BQ66: 0 | BR66: 0 | BS66: 0 | BT66: 0 | BU66: 0 | BV66: 0 | BW66: 0 | BX66: 0 | BY66: 0 | BZ66: 4
B67: 川崎市 | C67: 6 | D67: 7 | E67: 0 | F67: 0 | G67: 0 | H67: 0 | I67: 0 | J67: 0 | K67: 0 | L67: 0 | M67: 0 | N67: 0 | O67: 0 | P67: 0 | Q67: 0 | R67: 0 | S67: 0 | T67: 0 | U67: 0 | V67: 0 | W67: 0 | X67: 0 | Y67: 0 | Z67: 0 | AB67: 加古川市 | AC67: 0 | AD67: 0 | AE67: 0 | AF67: 0 | AG67: 0 | AH67: 0 | AI67: 0 | AJ67: 0 | AK67: 0 | AL67: 0 | AM67: 0 | AN67: 0 | AO67: 0 | AP67: 0 | AQ67: 0 | AR67: 0 | AS67: 0 | AT67: 0 | AU67: 0 | AV67: 0 | AW67: 0 | AX67: 0 | AY67: 0 | AZ67: 0 | BB67: 合計 | BC67: =SUM(C8:C72,AC8:AC71,BC8:BC66)/2 -> 7196 | BD67: =SUM(D8:D72,AD8:AD71,BD8:BD66)/2 -> 27371 | BE67: =SUM(E8:E72,AE8:AE71,BE8:BE66)/2 -> 0 | BF67: =SUM(F8:F72,AF8:AF71,BF8:BF66)/2 -> 0 | BG67: =SUM(G8:G72,AG8:AG71,BG8:BG66)/2 -> 0 | BH67: =SUM(H8:H72,AH8:AH71,BH8:BH66)/2 -> 0 | BI67: =SUM(I8:I72,AI8:AI71,BI8:BI66)/2 -> 0 | BJ67: =SUM(J8:J72,AJ8:AJ71,BJ8:BJ66)/2 -> 0 | ... BZ67: =SUM(Z8:Z72,AZ8:AZ71,BZ8:BZ66)/2 -> 2452
B68: 相模原市 | C68: 19 | D68: 41 | E68: 0 | F68: 0 | G68: 0 | H68: 0 | I68: 0 | J68: 0 | K68: 0 | L68: 0 | M68: 0 | N68: 0 | O68: 0 | P68: 0 | Q68: 0 | R68: 0 | S68: 0 | T68: 0 | U68: 0 | V68: 0 | W68: 0 | X68: 0 | Y68: 0 | Z68: 4 | AB68: その他・兵庫県 | AC68: 115 | AD68: 1291 | AE68: 0 | AF68: 0 | AG68: 0 | AH68: 0 | AI68: 0 | AJ68: 0 | AK68: 0 | AL68: 0 | AM68: 0 | AN68: 0 | AO68: 0 | AP68: 0 | AQ68: 0 | AR68: 0 | AS68: 0 | AT68: 0 | AU68: 0 | AV68: 0 | AW68: 0 | AX68: 0 | AY68: 0 | AZ68: 48
B69: 横須賀市 | C69: 44 | D69: 120 | E69: 0 | F69: 0 | G69: 0 | H69: 0 | I69: 0 | J69: 0 | K69: 0 | L69: 0 | M69: 0 | N69: 0 | O69: 0 | P69: 0 | Q69: 0 | R69: 0 | S69: 0 | T69: 0 | U69: 0 | V69: 0 | W69: 0 | X69: 0 | Y69: 0 | Z69: 2 | AB69: 奈良県計 | AC69: =SUM(AC70:AC71) -> 17 | AD69: =SUM(AD70:AD71) -> 34 | AE69: =SUM(AE70:AE71) -> 0 | AF69: =SUM(AF70:AF71) -> 0 | AG69: =SUM(AG70:AG71) -> 0 | AH69: =SUM(AH70:AH71) -> 0 | AI69: =SUM(AI70:AI71) -> 0 | AJ69: =SUM(AJ70:AJ71) -> 0 | ... AZ69: =SUM(AZ70:AZ71) -> 9
B70: 平塚市 | C70: 7 | D70: 21 | E70: 0 | F70: 0 | G70: 0 | H70: 0 | I70: 0 | J70: 0 | K70: 0 | L70: 0 | M70: 0 | N70: 0 | O70: 0 | P70: 0 | Q70: 0 | R70: 0 | S70: 0 | T70: 0 | U70: 0 | V70: 0 | W70: 0 | X70: 0 | Y70: 0 | Z70: 0 | AB70: 奈良市 | AC70: 0 | AD70: 0 | AE70: 0 | AF70: 0 | AG70: 0 | AH70: 0 | AI70: 0 | AJ70: 0 | AK70: 0 | AL70: 0 | AM70: 0 | AN70: 0 | AO70: 0 | AP70: 0 | AQ70: 0 | AR70: 0 | AS70: 0 | AT70: 0 | AU70: 0 | AV70: 0 | AW70: 0 | AX70: 0 | AY70: 0 | AZ70: 0
B71: 藤沢市 | C71: 5 | D71: 39 | E71: 0 | F71: 0 | G71: 0 | H71: 0 | I71: 0 | J71: 0 | K71: 0 | L71: 0 | M71: 0 | N71: 0 | O71: 0 | P71: 0 | Q71: 0 | R71: 0 | S71: 0 | T71: 0 | U71: 0 | V71: 0 | W71: 0 | X71: 0 | Y71: 0 | Z71: 3 | AB71: その他・奈良県 | AC71: 17 | AD71: 34 | AE71: 0 | AF71: 0 | AG71: 0 | AH71: 0 | AI71: 0 | AJ71: 0 | AK71: 0 | AL71: 0 | AM71: 0 | AN71: 0 | AO71: 0 | AP71: 0 | AQ71: 0 | AR71: 0 | AS71: 0 | AT71: 0 | AU71: 0 | AV71: 0 | AW71: 0 | AX71: 0 | AY71: 0 | AZ71: 9
B72: その他・神奈川県 | C72: 82 | D72: 552 | E72: 0 | F72: 0 | G72: 0 | H72: 0 | I72: 0 | J72: 0 | K72: 0 | L72: 0 | M72: 0 | N72: 0 | O72: 0 | P72: 0 | Q72: 0 | R72: 0 | S72: 0 | T72: 0 | U72: 0 | V72: 0 | W72: 0 | X72: 0 | Y72: 0 | Z72: 19

Sheet 表6.4
B2: 表6.4(1) 立入検査実施件数 年度別・都道府県市別 （大気汚染防止法に係るばい煙発生施設） | I2: 表6.4(2) 立入検査実施件数 年度別・都道府県市別 （大気汚染防止法に係るばい煙発生施設） | P2: 表6.4(3) 立入検査実施件数 年度別・都道府県市別 （大気汚染防止法に係るばい煙発生施設）
B4: 自治体名 | C4: 立入検査実施工場・事業場数 | I4: 自治体名 | J4: 立入検査実施工場・事業場数 | P4: 自治体名 | Q4: 立入検査実施工場・事業場数
C5: 平成30年度 | D5: 令和元年度 | E5: 令和２年度 | F5: 令和３年度 | G5: 令和４年度 | J5: 平成30年度 | K5: 令和元年度 | L5: 令和２年度 | M5: 令和３年度 | N5: 令和４年度 | Q5: 平成30年度 | R5: 令和元年度 | S5: 令和２年度 | T5: 令和３年度 | U5: 令和４年度
B6: 北海道計 | C6: =SUM(C7:C13) -> 775 | D6: =SUM(D7:D13) -> 764 | E6: =SUM(E7:E13) -> 557 | F6: =SUM(F7:F13) -> 587 | G6: =SUM(G7:G13) -> 481 | I6: 新潟県計 | J6: =SUM(J7:J8) -> 158 | K6: =SUM(K7:K8) -> 143 | L6: =SUM(L7:L8) -> 85 | M6: =SUM(M7:M8) -> 94 | N6: =SUM(N7:N8) -> 101 | P6: 和歌山県計 | Q6: =SUM(Q7:Q8) -> 75 | R6: =SUM(R7:R8) -> 74 | S6: =SUM(S7:S8) -> 68 | T6: =SUM(T7:T8) -> 77 | U6: =SUM(U7:U8) -> 66
B7: 札幌市 | C7: 94 | D7: 88 | E7: 87 | F7: 91 | G7: ='表6.3'!C9 -> 13 | I7: 新潟市 | J7: 29 | K7: 35 | L7: 41 | M7: 36 | N7: ='表6.3'!AC9 -> 39 | P7: 和歌山市 | Q7: 19 | R7: 15 | S7: 21 | T7: 15 | U7: ='表6.3'!BC9 -> 14
B8: 函館市 | C8: 21 | D8: 21 | E8: 19 | F8: 17 | G8: ='表6.3'!C10 -> 17 | I8: その他・新潟県 | J8: 129 | K8: 108 | L8: 44 | M8: 58 | N8: ='表6.3'!AC10 -> 62 | P8: その他・和歌山県 | Q8: 56 | R8: 59 | S8: 47 | T8: 62 | U8: ='表6.3'!BC10 -> 52
B9: 小樽市 | C9: 38 | D9: 45 | E9: 35 | F9: 34 | G9: ='表6.3'!C11 -> 12 | I9: 富山県計 | J9: =SUM(J10:J11) -> 98 | K9: =SUM(K10:K11) -> 98 | L9: =SUM(L10:L11) -> 68 | M9: =SUM(M10:M11) -> 67 | N9: =SUM(N10:N11) -> 44 | P9: 鳥取県計 | Q9: =SUM(Q10:Q11) -> 71 | R9: =SUM(R10:R11) -> 91 | S9: =SUM(S10:S11) -> 36 | T9: =SUM(T10:T11) -> 27 | U9: =SUM(U10:U11) -> 33
B10: 旭川市 | C10: 79 | D10: 81 | E10: 53 | F10: 78 | G10: ='表6.3'!C12 -> 62 | I10: 富山市 | J10: 42 | K10: 42 | L10: 44 | M10: 23 | N10: ='表6.3'!AC12 -> 20 | P10: 鳥取市 | Q10: 10 | R10: 15 | S10: 3 | T10: 7 | U10: ='表6.3'!BC12 -> 5
B11: 室蘭市 | C11: 30 | D11: 0 | E11: 0 | F11: 0 | G11: ='表6.3'!C13 -> 0 | I11: その他・富山県 | J11: 56 | K11: 56 | L11: 24 | M11: 44 | N11: ='表6.3'!AC13 -> 24 | P11: その他・鳥取県 | Q11: 61 | R11: 76 | S11: 33 | T11: 20 | U11: ='表6.3'!BC13 -> 28
B12: 苫小牧市 | C12: 34 | D12: 25 | E12: 26 | F12: 33 | G12: ='表6.3'!C14 -> 19 | I12: 石川県計 | J12: =SUM(J13:J14) -> 68 | K12: =SUM(K13:K14) -> 79 | L12: =SUM(L13:L14) -> 59 | M12: =SUM(M13:M14) -> 43 | N12: =SUM(N13:N14) -> 73 | P12: 島根県計 | Q12: =SUM(Q13:Q14) -> 48 | R12: =SUM(R13:R14) -> 43 | S12: =SUM(S13:S14) -> 28 | T12: =SUM(T13:T14) -> 24 | U12: =SUM(U13:U14) -> 9
B13: その他・北海道 | C13: 479 | D13: 504 | E13: 337 | F13: 334 | G13: ='表6.3'!C15 -> 358 | I13: 金沢市 | J13: 5 | K13: 4 | L13: 10 | M13: 8 | N13: ='表6.3'!AC15 -> 8 | P13: 松江市 | Q13: 14 | R13: 19 | S13: 4 | T13: 4 | U13: ='表6.3'!BC15 -> 1
B14: 青森県計 | C14: =SUM(C15:C17) -> 350 | D14: =SUM(D15:D17) -> 373 | E14: =SUM(E15:E17) -> 233 | F14: =SUM(F15:F17) -> 194 | G14: =SUM(G15:G17) -> 126 | I14: その他・石川県 | J14: 63 | K14: 75 | L14: 49 | M14: 35 | N14: ='表6.3'!AC16 -> 65 | P14: その他・島根県 | Q14: 34 | R14: 24 | S14: 24 | T14: 20 | U14: ='表6.3'!BC16 -> 8
B15: 青森市 | C15: 138 | D15: 169 | E15: 43 | F15: 11 | G15: ='表6.3'!C17 -> 14 | I15: 福井県計 | J15: =SUM(J16:J17) -> 147 | K15: =SUM(K16:K17) -> 157 | L15: =SUM(L16:L17) -> 126 | M15: =SUM(M16:M17) -> 126 | N15: =SUM(N16:N17) -> 125 | P15: 岡山県計 | Q15: =SUM(Q16:Q18) -> 170 | R15: =SUM(R16:R18) -> 174 | S15: =SUM(S16:S18) -> 108 | T15: =SUM(T16:T18) -> 135 | U15: =SUM(U16:U18) -> 148
B16: 八戸市 | C16: 24 | D16: 24 | E16: 21 | F16: 26 | G16: ='表6.3'!C18 -> 28 | I16: 福井市 | J16: 0 | K16: 68 | L16: 40 | M16: 45 | N16: ='表6.3'!AC18 -> 47 | P16: 岡山市 | Q16: 40 | R16: 38 | S16: 27 | T16: 24 | U16: ='表6.3'!BC18 -> 33
B17: その他・青森県 | C17: 188 | D17: 180 | E17: 169 | F17: 157 | G17: ='表6.3'!C19 -> 84 | I17: その他・福井県 | J17: 147 | K17: 89 | L17: 86 | M17: 81 | N17: ='表6.3'!AC19 -> 78 | P17: 倉敷市 | Q17: 40 | R17: 64 | S17: 42 | T17: 44 | U17: ='表6.3'!BC19 -> 45
B18: 岩手県計 | C18: =SUM(C19:C20) -> 157 | D18: =SUM(D19:D20) -> 108 | E18: =SUM(E19:E20) -> 73 | F18: =SUM(F19:F20) -> 52 | G18: =SUM(G19:G20) -> 62 | I18: 山梨県計 | J18: =SUM(J19:J20) -> 72 | K18: =SUM(K19:K20) -> 90 | L18: =SUM(L19:L20) -> 78 | M18: =SUM(M19:M20) -> 57 | N18: =SUM(N19:N20) -> 49 | P18: その他・岡山県 | Q18: 90 | R18: 72 | S18: 39 | T18: 67 | U18: ='表6.3'!BC20 -> 70
B19: 盛岡市 | C19: 22 | D19: 6 | E19: 11 | F19: 15 | G19: ='表6.3'!C21 -> 12 | I19: 甲府市 | J19: 0 | K19: 5 | L19: 5 | M19: 5 | N19: ='表6.3'!AC21 -> 5 | P19: 広島県計 | Q19: =SUM(Q20:Q23) -> 215 | R19: =SUM(R20:R23) -> 179 | S19: =SUM(S20:S23) -> 97 | T19: =SUM(T20:T23) -> 83 | U19: =SUM(U20:U23) -> 82
B20: その他・岩手県 | C20: 135 | D20: 102 | E20: 62 | F20: 37 | G20: ='表6.3'!C22 -> 50 | I20: その他・山梨県 | J20: 72 | K20: 85 | L20: 73 | M20: 52 | N20: ='表6.3'!AC22 -> 44 | P20: 広島市 | Q20: 4 | R20: 3 | S20: 3 | T20: 17 | U20: ='表6.3'!BC22 -> 5
B21: 宮城県計 | C21: =SUM(C22:C23) -> 230 | D21: =SUM(D22:D23) -> 179 | E21: =SUM(E22:E23) -> 138 | F21: =SUM(F22:F23) -> 123 | G21: =SUM(G22:G23) -> 133 | I21: 長野県計 | J21: =SUM(J22:J24) -> 367 | K21: =SUM(K22:K24) -> 270 | L21: =SUM(L22:L24) -> 199 | M21: =SUM(M22:M24) -> 207 | N21: =SUM(N22:N24) -> 211 | P21: 呉市 | Q21: 2 | R21: 2 | S21: 2 | T21: 1 | U21: ='表6.3'!BC23 -> 1
B22: 仙台市 | C22: 56 | D22: 37 | E22: 21 | F22: 21 | G22: ='表6.3'!C24 -> 32 | I22: 長野市 | J22: 49 | K22: 10 | L22: 20 | M22: 17 | N22: ='表6.3'!AC24 -> 6 | P22: 福山市 | Q22: 32 | R22: 32 | S22: 18 | T22: 5 | U22: ='表6.3'!BC24 -> 3
B23: その他・宮城県 | C23: 174 | D23: 142 | E23: 117 | F23: 102 | G23: ='表6.3'!C25 -> 101 | I23: 松本市 | M23: 6 | N23: ='表6.3'!AC25 -> 6 | P23: その他・広島県 | Q23: 177 | R23: 142 | S23: 74 | T23: 60 | U23: ='表6.3'!BC25 -> 73
B24: 秋田県計 | C24: =SUM(C25:C26) -> 227 | D24: =SUM(D25:D26) -> 227 | E24: =SUM(E25:E26) -> 192 | F24: =SUM(F25:F26) -> 121 | G24: =SUM(G25:G26) -> 111 | I24: その他・長野県 | J24: 318 | K24: 260 | L24: 179 | M24: 184 | N24: ='表6.3'!AC26 -> 199 | P24: 山口県計 | Q24: =SUM(Q25:Q26) -> 51 | R24: =SUM(R25:R26) -> 52 | S24: =SUM(S25:S26) -> 39 | T24: =SUM(T25:T26) -> 43 | U24: =SUM(U25:U26) -> 34
B25: 秋田市 | C25: 7 | D25: 5 | E25: 20 | F25: 2 | G25: ='表6.3'!C27 -> 2 | I25: 岐阜県計 | J25: =SUM(J26:J27) -> 358 | K25: =SUM(K26:K27) -> 293 | L25: =SUM(L26:L27) -> 316 | M25: =SUM(M26:M27) -> 247 | N25: =SUM(N26:N27) -> 307 | P25: 下関市 | Q25: 13 | R25: 11 | S25: 12 | T25: 11 | U25: ='表6.3'!BC27 -> 12
B26: その他・秋田県 | C26: 220 | D26: 222 | E26: 172 | F26: 119 | G26: ='表6.3'!C28 -> 109 | I26: 岐阜市 | J26: 43 | K26: 50 | L26: 25 | M26: 15 | N26: ='表6.3'!AC28 -> 34 | P26: その他・山口県 | Q26: 38 | R26: 41 | S26: 27 | T26: 32 | U26: ='表6.3'!BC28 -> 22
B27: 山形県計 | C27: =SUM(C28:C29) -> 128 | D27: =SUM(D28:D29) -> 194 | E27: =SUM(E28:E29) -> 128 | F27: =SUM(F28:F29) -> 136 | G27: =SUM(G28:G29) -> 76 | I27: その他・岐阜県 | J27: 315 | K27: 243 | L27: 291 | M27: 232 | N27: ='表6.3'!AC29 -> 273 | P27: 徳島県計 | Q27: =SUM(Q28) -> 36 | R27: =SUM(R28) -> 68 | S27: =SUM(S28) -> 54 | T27: =SUM(T28) -> 35 | U27: =SUM(U28) -> 48
B28: 山形市 | C28: 0 | D28: 32 | E28: 17 | F28: 24 | G28: ='表6.3'!C30 -> 3 | I28: 静岡県計 | J28: =SUM(J29:J31) -> 369 | K28: =SUM(K29:K31) -> 382 | L28: =SUM(L29:L31) -> 338 | M28: =SUM(M29:M31) -> 293 | N28: =SUM(N29:N31) -> 306 | P28: 徳島県 | Q28: 36 | R28: 68 | S28: 54 | T28: 35 | U28: ='表6.3'!BC30 -> 48
B29: その他・山形県 | C29: 128 | D29: 162 | E29: 111 | F29: 112 | G29: ='表6.3'!C31 -> 73 | I29: 静岡市 | J29: 66 | K29: 61 | L29: 47 | M29: 41 | N29: ='表6.3'!AC31 -> 42 | P29: 香川県計 | Q29: =SUM(Q30:Q31) -> 125 | R29: =SUM(R30:R31) -> 152 | S29: =SUM(S30:S31) -> 143 | T29: =SUM(T30:T31) -> 126 | U29: =SUM(U30:U31) -> 128
B30: 福島県計 | C30: =SUM(C31:C34) -> 272 | D30: =SUM(D31:D34) -> 250 | E30: =SUM(E31:E34) -> 254 | F30: =SUM(F31:F34) -> 193 | G30: =SUM(G31:G34) -> 264 | I30: 浜松市 | J30: 67 | K30: 85 | L30: 68 | M30: 64 | N30: ='表6.3'!AC32 -> 58 | P30: 高松市 | Q30: 3 | R30: 5 | S30: 5 | T30: 2 | U30: ='表6.3'!BC32 -> 13
B31: 福島市 | C31: 2 | D31: 1 | E31: 2 | F31: 1 | G31: ='表6.3'!C33 -> 1 | I31: その他・静岡県 | J31: 236 | K31: 236 | L31: 223 | M31: 188 | N31: ='表6.3'!AC33 -> 206 | P31: その他・香川県 | Q31: 122 | R31: 147 | S31: 138 | T31: 124 | U31: ='表6.3'!BC33 -> 115
B32: 郡山市 | C32: 44 | D32: 48 | E32: 47 | F32: 45 | G32: ='表6.3'!C34 -> 46 | I32: 愛知県計 | J32: =SUM(J33:J38) -> 1241 | K32: =SUM(K33:K38) -> 1246 | L32: =SUM(L33:L38) -> 857 | M32: =SUM(M33:M38) -> 1008 | N32: =SUM(N33:N38) -> 977 | P32: 愛媛県計 | Q32: =SUM(Q33:Q34) -> 124 | R32: =SUM(R33:R34) -> 103 | S32: =SUM(S33:S34) -> 108 | T32: =SUM(T33:T34) -> 105 | U32: =SUM(U33:U34) -> 86
B33: いわき市 | C33: 64 | D33: 41 | E33: 54 | F33: 20 | G33: ='表6.3'!C35 -> 44 | I33: 名古屋市 | J33: 238 | K33: 222 | L33: 179 | M33: 167 | N33: ='表6.3'!AC35 -> 91 | P33: 松山市 | Q33: 24 | R33: 20 | S33: 21 | T33: 21 | U33: ='表6.3'!BC35 -> 21
B34: その他・福島県 | C34: 162 | D34: 160 | E34: 151 | F34: 127 | G34: ='表6.3'!C36 -> 173 | I34: 豊橋市 | J34: 13 | K34: 6 | L34: 2 | M34: 4 | N34: ='表6.3'!AC36 -> 2 | P34: その他・愛媛県 | Q34: 100 | R34: 83 | S34: 87 | T34: 84 | U34: ='表6.3'!BC36 -> 65
B35: 茨城県計 | C35: =SUM(C36:C37) -> 379 | D35: =SUM(D36:D37) -> 360 | E35: =SUM(E36:E37) -> 355 | F35: =SUM(F36:F37) -> 258 | G35: =SUM(G36:G37) -> 273 | I35: 岡崎市 | J35: 6 | K35: 5 | L35: 4 | M35: 4 | N35: ='表6.3'!AC37 -> 3 | P35: 高知県計 | Q35: =SUM(Q36:Q37) -> 20 | R35: =SUM(R36:R37) -> 25 | S35: =SUM(S36:S37) -> 18 | T35: =SUM(T36:T37) -> 25 | U35: =SUM(U36:U37) -> 23
B36: 水戸市 | E36: 20 | F36: 1 | G36: ='表6.3'!C38 -> 13 | I36: 一宮市 | M36: 87 | N36: ='表6.3'!AC38 -> 61 | P36: 高知市 | Q36: 19 | R36: 21 | S36: 13 | T36: 20 | U36: ='表6.3'!BC38 -> 15
B37: その他・茨城県 | C37: 379 | D37: 360 | E37: 335 | F37: 257 | G37: ='表6.3'!C39 -> 260 | I37: 豊田市 | J37: 18 | K37: 25 | L37: 26 | M37: 22 | N37: ='表6.3'!AC39 -> 31 | P37: その他・高知県 | Q37: 1 | R37: 4 | S37: 5 | T37: 5 | U37: ='表6.3'!BC39 -> 8
B38: 栃木県計 | C38: =SUM(C39:C40) -> 132 | D38: =SUM(D39:D40) -> 142 | E38: =SUM(E39:E40) -> 80 | F38: =SUM(F39:F40) -> 106 | G38: =SUM(G39:G40) -> 93 | I38: その他・愛知県 | J38: 966 | K38: 988 | L38: 646 | M38: 724 | N38: ='表6.3'!AC40 -> 789 | P38: 福岡県計 | Q38: =SUM(Q39:Q43) -> 327 | R38: =SUM(R39:R43) -> 266 | S38: =SUM(S39:S43) -> 210 | T38: =SUM(T39:T43) -> 190 | U38: =SUM(U39:U43) -> 141
B39: 宇都宮市 | C39: 4 | D39: 4 | E39: 5 | F39: 5 | G39: ='表6.3'!C41 -> 5 | I39: 三重県計 | J39: =SUM(J40:J41) -> 304 | K39: =SUM(K40:K41) -> 413 | L39: =SUM(L40:L41) -> 181 | M39: =SUM(M40:M41) -> 128 | N39: =SUM(N40:N41) -> 133 | P39: 北九州市 | Q39: 148 | R39: 109 | S39: 112 | T39: 105 | U39: ='表6.3'!BC41 -> 91
B40: その他・栃木県 | C40: 128 | D40: 138 | E40: 75 | F40: 101 | G40: ='表6.3'!C42 -> 88 | I40: 四日市市 | J40: 17 | K40: 17 | L40: 8 | M40: 4 | N40: ='表6.3'!AC42 -> 2 | P40: 福岡市 | Q40: 7 | R40: 7 | S40: 6 | T40: 3 | U40: ='表6.3'!BC42 -> 4
B41: 群馬県計 | C41: =SUM(C42:C44) -> 259 | D41: =SUM(D42:D44) -> 256 | E41: =SUM(E42:E44) -> 103 | F41: =SUM(F42:F44) -> 121 | G41: =SUM(G42:G44) -> 156 | I41: その他・三重県 | J41: 287 | K41: 396 | L41: 173 | M41: 124 | N41: ='表6.3'!AC43 -> 131 | P41: 大牟田市 | Q41: 9 | R41: 5 | S41: 2 | T41: 3 | U41: ='表6.3'!BC43 -> 4
B42: 前橋市 | C42: 38 | D42: 38 | E42: 16 | F42: 6 | G42: ='表6.3'!C44 -> 7 | I42: 滋賀県計 | J42: =SUM(J43:J44) -> 74 | K42: =SUM(K43:K44) -> 85 | L42: =SUM(L43:L44) -> 50 | M42: =SUM(M43:M44) -> 62 | N42: =SUM(N43:N44) -> 38 | P42: 久留米市 | Q42: 3 | R42: 2 | S42: 2 | T42: 2 | U42: ='表6.3'!BC44 -> 2
B43: 高崎市 | C43: 28 | D43: 26 | E43: 15 | F43: 22 | G43: ='表6.3'!C45 -> 32 | I43: 大津市 | J43: 2 | K43: 2 | L43: 1 | M43: 1 | N43: ='表6.3'!AC45 -> 1 | P43: その他・福岡県 | Q43: 160 | R43: 143 | S43: 88 | T43: 77 | U43: ='表6.3'!BC45 -> 40
B44: その他・群馬県 | C44: 193 | D44: 192 | E44: 72 | F44: 93 | G44: ='表6.3'!C46 -> 117 | I44: その他・滋賀県 | J44: 72 | K44: 83 | L44: 49 | M44: 61 | N44: ='表6.3'!AC46 -> 37 | P44: 佐賀県計 | Q44: =SUM(Q45) -> 73 | R44: =SUM(R45) -> 57 | S44: =SUM(S45) -> 53 | T44: =SUM(T45) -> 32 | U44: =SUM(U45) -> 16
B45: 埼玉県計 | C45: =SUM(C46:C51) -> 601 | D45: =SUM(D46:D51) -> 617 | E45: =SUM(E46:E51) -> 484 | F45: =SUM(F46:F51) -> 374 | G45: =SUM(G46:G51) -> 391 | I45: 京都府計 | J45: =SUM(J46:J47) -> 85 | K45: =SUM(K46:K47) -> 104 | L45: =SUM(L46:L47) -> 75 | M45: =SUM(M46:M47) -> 54 | N45: =SUM(N46:N47) -> 48 | P45: 佐賀県 | Q45: 73 | R45: 57 | S45: 53 | T45: 32 | U45: ='表6.3'!BC47 -> 16
B46: さいたま市 | C46: 63 | D46: 70 | E46: 51 | F46: 38 | G46: ='表6.3'!C48 -> 11 | I46: 京都市 | J46: 57 | K46: 56 | L46: 46 | M46: 28 | N46: ='表6.3'!AC48 -> 25 | P46: 長崎県計 | Q46: =SUM(Q47:Q49) -> 286 | R46: =SUM(R47:R49) -> 289 | S46: =SUM(S47:S49) -> 241 | T46: =SUM(T47:T49) -> 185 | U46: =SUM(U47:U49) -> 171
B47: 川越市 | C47: 102 | D47: 96 | E47: 72 | F47: 37 | G47: ='表6.3'!C49 -> 92 | I47: その他・京都府 | J47: 28 | K47: 48 | L47: 29 | M47: 26 | N47: ='表6.3'!AC49 -> 23 | P47: 長崎市 | Q47: 2 | R47: 2 | S47: 2 | T47: 0 | U47: ='表6.3'!BC49 -> 1
B48: 川口市 | C48: 27 | D48: 23 | E48: 28 | F48: 28 | G48: ='表6.3'!C50 -> 30 | I48: 大阪府計 | J48: =SUM(J49:J58) -> 623 | K48: =SUM(K49:K58) -> 542 | L48: =SUM(L49:L58) -> 401 | M48: =SUM(M49:M58) -> 488 | N48: =SUM(N49:N58) -> 508 | P48: 佐世保市 | Q48: 33 | R48: 27 | S48: 6 | T48: 10 | U48: ='表6.3'!BC50 -> 14
B49: 所沢市 | C49: 2 | D49: 2 | E49: 4 | F49: 4 | G49: ='表6.3'!C51 -> 6 | I49: 大阪市 | J49: 168 | K49: 156 | L49: 150 | M49: 156 | N49: ='表6.3'!AC51 -> 170 | P49: その他・長崎県 | Q49: 251 | R49: 260 | S49: 233 | T49: 175 | U49: ='表6.3'!BC51 -> 156
B50: 越谷市 | C50: 12 | D50: 14 | E50: 17 | F50: 9 | G50: ='表6.3'!C52 -> 8 | I50: 堺市 | J50: 9 | K50: 6 | L50: 7 | M50: 5 | N50: ='表6.3'!AC52 -> 14 | P50: 熊本県計 | Q50: =SUM(Q51:Q52) -> 80 | R50: =SUM(R51:R52) -> 98 | S50: =SUM(S51:S52) -> 47 | T50: =SUM(T51:T52) -> 23 | U50: =SUM(U51:U52) -> 16
B51: その他・埼玉県 | C51: 395 | D51: 412 | E51: 312 | F51: 258 | G51: ='表6.3'!C53 -> 244 | I51: 豊中市 | J51: 19 | K51: 10 | L51: 1 | M51: 12 | N51: ='表6.3'!AC53 -> 0 | P51: 熊本市 | Q51: 5 | R51: 2 | S51: 2 | T51: 4 | U51: ='表6.3'!BC53 -> 6
B52: 千葉県計 | C52: =SUM(C53:C59) -> 441 | D52: =SUM(D53:D59) -> 373 | E52: =SUM(E53:E59) -> 399 | F52: =SUM(F53:F59) -> 366 | G52: =SUM(G53:G59) -> 455 | I52: 吹田市 | J52: 45 | K52: 40 | L52: 2 | M52: 41 | N52: ='表6.3'!AC54 -> 49 | P52: その他・熊本県 | Q52: 75 | R52: 96 | S52: 45 | T52: 19 | U52: ='表6.3'!BC54 -> 10
B53: 千葉市 | C53: 53 | D53: 38 | E53: 29 | F53: 6 | G53: ='表6.3'!C55 -> 3 | I53: 高槻市 | J53: 22 | K53: 11 | L53: 10 | M53: 8 | N53: ='表6.3'!AC55 -> 9 | P53: 大分県計 | Q53: =SUM(Q54:Q55) -> 67 | R53: =SUM(R54:R55) -> 85 | S53: =SUM(S54:S55) -> 60 | T53: =SUM(T54:T55) -> 69 | U53: =SUM(U54:U55) -> 60
B54: 市川市 | C54: 3 | D54: 4 | E54: 4 | F54: 5 | G54: ='表6.3'!C56 -> 3 | I54: 枚方市 | J54: 12 | K54: 5 | L54: 10 | M54: 10 | N54: ='表6.3'!AC56 -> 18 | P54: 大分市 | Q54: 54 | R54: 51 | S54: 39 | T54: 54 | U54: ='表6.3'!BC56 -> 38
B55: 船橋市 | C55: 16 | D55: 13 | E55: 17 | F55: 13 | G55: ='表6.3'!C57 -> 16 | I55: 八尾市 | J55: 16 | K55: 9 | L55: 8 | M55: 11 | N55: ='表6.3'!AC57 -> 11 | P55: その他・大分県 | Q55: 13 | R55: 34 | S55: 21 | T55: 15 | U55: ='表6.3'!BC57 -> 22
B56: 松戸市 | C56: 19 | D56: 16 | E56: 12 | F56: 12 | G56: ='表6.3'!C58 -> 15 | I56: 寝屋川市 | J56: 0 | K56: 21 | L56: 15 | M56: 4 | N56: ='表6.3'!AC58 -> 5 | P56: 宮崎県計 | Q56: =SUM(Q57:Q58) -> 236 | R56: =SUM(R57:R58) -> 161 | S56: =SUM(S57:S58) -> 131 | T56: =SUM(T57:T58) -> 79 | U56: =SUM(U57:U58) -> 76
B57: 柏市 | C57: 30 | D57: 18 | E57: 18 | F57: 14 | G57: ='表6.3'!C59 -> 22 | I57: 東大阪市 | J57: 11 | K57: 7 | L57: 8 | M57: 10 | N57: ='表6.3'!AC59 -> 10 | P57: 宮崎市 | Q57: 30 | R57: 30 | S57: 15 | T57: 17 | U57: ='表6.3'!BC59 -> 15
B58: 市原市 | C58: 7 | D58: 7 | E58: 7 | F58: 7 | G58: ='表6.3'!C60 -> 8 | I58: その他・大阪府 | J58: 321 | K58: 277 | L58: 190 | M58: 231 | N58: ='表6.3'!AC60 -> 222 | P58: その他・宮崎県 | Q58: 206 | R58: 131 | S58: 116 | T58: 62 | U58: ='表6.3'!BC60 -> 61
B59: その他・千葉県 | C59: 313 | D59: 277 | E59: 312 | F59: 309 | G59: ='表6.3'!C61 -> 388 | I59: 兵庫県計 | J59: =SUM(J60:J66) -> 323 | K59: =SUM(K60:K66) -> 285 | L59: =SUM(L60:L66) -> 181 | M59: =SUM(M60:M66) -> 154 | N59: =SUM(N60:N66) -> 174 | P59: 鹿児島県計 | Q59: =SUM(Q60:Q61) -> 91 | R59: =SUM(R60:R61) -> 58 | S59: =SUM(S60:S61) -> 21 | T59: =SUM(T60:T61) -> 29 | U59: =SUM(U60:U61) -> 28
B60: 東京都計 | C60: =SUM(C61:C62) -> 113 | D60: =SUM(D61:D62) -> 70 | E60: =SUM(E61:E62) -> 59 | F60: =SUM(F61:F62) -> 79 | G60: =SUM(G61:G62) -> 87 | I60: 神戸市 | J60: 23 | K60: 20 | L60: 0 | M60: 1 | N60: ='表6.3'!AC62 -> 22 | P60: 鹿児島市 | Q60: 18 | R60: 14 | S60: 13 | T60: 20 | U60: ='表6.3'!BC62 -> 19
B61: 八王子市 | C61: 19 | D61: 17 | E61: 25 | F61: 21 | G61: ='表6.3'!C63 -> 19 | I61: 姫路市 | J61: 29 | K61: 25 | L61: 15 | M61: 13 | N61: ='表6.3'!AC63 -> 17 | P61: その他・鹿児島県 | Q61: 73 | R61: 44 | S61: 8 | T61: 9 | U61: ='表6.3'!BC63 -> 9
B62: その他・東京都 | C62: 94 | D62: 53 | E62: 34 | F62: 58 | G62: ='表6.3'!C64 -> 68 | I62: 尼崎市 | J62: 79 | K62: 71 | L62: 42 | M62: 20 | N62: ='表6.3'!AC64 -> 15 | P62: 沖縄県計 | Q62: =SUM(Q63:Q64) -> 4 | R62: =SUM(R63:R64) -> 12 | S62: =SUM(S63:S64) -> 4 | T62: =SUM(T63:T64) -> 7 | U62: =SUM(U63:U64) -> 5
B63: 神奈川県計 | C63: =SUM(C64:C70) -> 282 | D63: =SUM(D64:D70) -> 278 | E63: =SUM(E64:E70) -> 100 | F63: =SUM(F64:F70) -> 176 | G63: =SUM(G64:G70) -> 207 | I63: 明石市 | J63: 24 | K63: 3 | L63: 2 | M63: 0 | N63: ='表6.3'!AC65 -> 0 | P63: 那覇市 | Q63: 0 | R63: 0 | S63: 0 | T63: 0 | U63: ='表6.3'!BC65 -> 0
B64: 横浜市 | C64: 43 | D64: 24 | E64: 10 | F64: 24 | G64: ='表6.3'!C66 -> 44 | I64: 西宮市 | J64: 29 | K64: 12 | L64: 4 | M64: 5 | N64: ='表6.3'!AC66 -> 5 | P64: その他・沖縄県 | Q64: 4 | R64: 12 | S64: 4 | T64: 7 | U64: ='表6.3'!BC66 -> 5
B65: 川崎市 | C65: 26 | D65: 11 | E65: 6 | F65: 7 | G65: ='表6.3'!C67 -> 6 | I65: 加古川市 | J65: 6 | K65: 2 | L65: 2 | M65: 1 | N65: ='表6.3'!AC67 -> 0 | P65: 合計 | Q65: =SUM(C6:C70,J6:J69,Q6:Q64)/2 -> 10767 | R65: =SUM(D6:D70,K6:K69,R6:R64)/2 -> 10386 | S65: =SUM(E6:E70,L6:L69,S6:S64)/2 -> 7657 | T65: =SUM(F6:F70,M6:M69,T6:T64)/2 -> 7226 | U65: =SUM(G6:G70,N6:N69,U6:U64)/2 -> 7196
B66: 相模原市 | C66: 28 | D66: 39 | E66: 15 | F66: 15 | G66: ='表6.3'!C68 -> 19 | I66: その他・兵庫県 | J66: 133 | K66: 152 | L66: 116 | M66: 114 | N66: ='表6.3'!AC68 -> 115
B67: 横須賀市 | C67: 27 | D67: 28 | E67: 8 | F67: 49 | G67: ='表6.3'!C69 -> 44 | I67: 奈良県計 | J67: =SUM(J68:J69) -> 35 | K67: =SUM(K68:K69) -> 21 | L67: =SUM(L68:L69) -> 22 | M67: =SUM(M68:M69) -> 18 | N67: =SUM(N68:N69) -> 17
B68: 平塚市 | C68: 22 | D68: 28 | E68: 21 | F68: 25 | G68: ='表6.3'!C70 -> 7 | I68: 奈良市 | J68: 14 | K68: 5 | L68: 7 | M68: 0 | N68: ='表6.3'!AC70 -> 0
B69: 藤沢市 | C69: 4 | D69: 3 | E69: 3 | F69: 6 | G69: ='表6.3'!C71 -> 5 | I69: その他・奈良県 | J69: 21 | K69: 16 | L69: 15 | M69: 18 | N69: ='表6.3'!AC71 -> 17
B70: その他・神奈川県 | C70: 132 | D70: 145 | E70: 37 | F70: 50 | G70: ='表6.3'!C72 -> 82

Sheet 表6.5
B2: 表6.5(1) 立入検査・勧告その他行政指導件数 都道府県市別（電気事業法・ガス事業法・鉱山保安法に係るばい煙発生施設） | AA2: 表6.5(2) 立入検査・勧告その他行政指導件数 都道府県市別（電気事業法・ガス事業法・鉱山保安法に係るばい煙発生施設） | AZ2: 表6.5(3) 立入検査・勧告その他行政指導件数 都道府県市別（電気事業法・ガス事業法・鉱山保安法に係るばい煙発生施設）
B4: 自治体名 | C4: 立入検査実施工場・事業場数 | D4: 立入検査実施施設数 | E4: 排出基準違反告発施設数 | F4: 改善命令施設数 | G4: 一時停止命令施設数 | H4: (E)又は(F)の命令違反告発施設数 | I4: 経済産業大臣等への要請 施設数 | J4: 季節による燃料 使用規制地域内 | M4: 硫黄酸化物に係る指定地域内 | T4: 窒素酸化物に係る指定地域内 | X4: 測定記録の保存等に係る違反の告発施設数 | Y4: 行政指導施設数 | AA4: 自治体名 | AB4: 立入検査実施工場・事業場数 | AC4: 立入検査実施施設数 | AD4: 排出基準違反告発施設数 | AE4: 改善命令施設数 | AF4: 一時停止命令施設数 | AG4: (E)又は(F)の命令違反告発施設数 | AH4: 経済産業大臣等への要請 施設数 | AI4: 季節による燃料 使用規制地域内 | AL4: 硫黄酸化物に係る指定地域内 | AS4: 窒素酸化物に係る指定地域内 | AW4: 測定記録の保存等に係る違反の告発施設数 | AX4: 行政指導施設数 | AZ4: 自治体名 | BA4: 立入検査実施工場・事業場数 | BB4: 立入検査実施施設数 | BC4: 排出基準違反告発施設数 | BD4: 改善命令施設数 | BE4: 一時停止命令施設数 | BF4: (E)又は(F)の命令違反告発施設数 | BG4: 経済産業大臣等への要請 施設数 | BH4: 季節による燃料 使用規制地域内 | BK4: 硫黄酸化物に係る指定地域内 | BR4: 窒素酸化物に係る指定地域内 | BV4: 測定記録の保存等に係る違反の告発施設数 | BW4: 行政指導施設数
M5: 特定工場 ・事業場 | Q5: 特定工場・事業場 以外の工場・事業場 | T5: 特定工場 ・事業場 | AL5: 特定工場 ・事業場 | AP5: 特定工場・事業場 以外の工場・事業場 | AS5: 特定工場 ・事業場 | BK5: 特定工場 ・事業場 | BO5: 特定工場・事業場 以外の工場・事業場 | BR5: 特定工場 ・事業場
J6: 燃料基準適合勧告 施設数 | K6: 燃料基準適合命令 施設数 | L6: (K)の命令違反告発 施設数 | M6: 総量規制基準違反告発 工場・事業場数 | N6: 改善命令等 工場・事業場数 | O6: (O)の命令等違反告発工場・事業場数 | P6: 経産大臣等への要請 工場・事業場数 | Q6: 燃料基準適合勧告 工場・事業場数 | R6: 燃料基準適合命令 工場・事業場数 | S6: (S)の命令違反告発 工場・事業場数 | T6: 総量規制基準違反告発 工場・事業場数 | U6: 改善命令等 工場・事業場数 | V6: (W)の命令等違反告発工場・事業場数 | W6: 経産大臣等への要請 工場・事業場数 | AI6: 燃料基準適合勧告 施設数 | AJ6: 燃料基準適合命令 施設数 | AK6: (K)の命令違反告発 施設数 | AL6: 総量規制基準違反告発 工場・事業場数 | AM6: 改善命令等 工場・事業場数 | AN6: (O)の命令等違反告発工場・事業場数 | AO6: 経産大臣等への要請 工場・事業場数 | AP6: 燃料基準適合勧告 工場・事業場数 | AQ6: 燃料基準適合命令 工場・事業場数 | AR6: (S)の命令違反告発 工場・事業場数 | AS6: 総量規制基準違反告発 工場・事業場数 | AT6: 改善命令等 工場・事業場数 | AU6: (W)の命令等違反告発工場・事業場数 | AV6: 経産大臣等への要請 工場・事業場数 | BH6: 燃料基準適合勧告 施設数 | BI6: 燃料基準適合命令 施設数 | BJ6: (K)の命令違反告発 施設数 | BK6: 総量規制基準違反告発 工場・事業場数 | BL6: 改善命令等 工場・事業場数 | BM6: (O)の命令等違反告発工場・事業場数 | BN6: 経産大臣等への要請 工場・事業場数 | BO6: 燃料基準適合勧告 工場・事業場数 | BP6: 燃料基準適合命令 工場・事業場数 | BQ6: (S)の命令違反告発 工場・事業場数 | BR6: 総量規制基準違反告発 工場・事業場数 | BS6: 改善命令等 工場・事業場数 | BT6: (W)の命令等違反告発工場・事業場数 | BU6: 経産大臣等への要請 工場・事業場数
C7: (Ａ) | D7: (Ａ') | E7: (C) | F7: (E) | G7: (F) | H7: (G) | I7: (I) | J7: (J) | K7: (K) | L7: (L) | M7: (N) | N7: (O) | O7: (Ｐ) | P7: (Q) | Q7: (R) | R7: (S) | S7: (Ｔ) | T7: (Ｖ) | U7: (Ｗ) | V7: (Ｘ) | W7: (Ｙ) | X7: (c) | Y7: (d) | AB7: (Ａ) | AC7: (Ａ') | AD7: (C) | AE7: (E) | AF7: (F) | AG7: (G) | AH7: (I) | AI7: (J) | AJ7: (K) | AK7: (L) | AL7: (N) | AM7: (O) | AN7: (Ｐ) | AO7: (Q) | AP7: (R) | AQ7: (S) | AR7: (Ｔ) | AS7: (Ｖ) | AT7: (Ｗ) | AU7: (Ｘ) | AV7: (Ｙ) | AW7: (c) | AX7: (d) | BA7: (Ａ) | BB7: (Ａ') | BC7: (C) | BD7: (E) | BE7: (F) | BF7: (G) | BG7: (I) | BH7: (J) | BI7: (K) | BJ7: (L) | BK7: (N) | BL7: (O) | BM7: (Ｐ) | BN7: (Q) | BO7: (R) | BP7: (S) | BQ7: (Ｔ) | BR7: (Ｖ) | BS7: (Ｗ) | BT7: (Ｘ) | BU7: (Ｙ) | BV7: (c) | BW7: (d)
B8: 北海道計 | C8: =SUM(C9:C15) -> 25 | D8: =SUM(D9:D15) -> 33 | E8: =SUM(E9:E15) -> 0 | F8: =SUM(F9:F15) -> 0 | G8: =SUM(G9:G15) -> 0 | H8: =SUM(H9:H15) -> 0 | I8: =SUM(I9:I15) -> 0 | J8: =SUM(J9:J15) -> 0 | ... Y8: =SUM(Y9:Y15) -> 0 | AA8: 新潟県計 | AB8: =SUM(AB9:AB10) -> 9 | AC8: =SUM(AC9:AC10) -> 10 | AD8: =SUM(AD9:AD10) -> 0 | AE8: =SUM(AE9:AE10) -> 0 | AF8: =SUM(AF9:AF10) -> 0 | AG8: =SUM(AG9:AG10) -> 0 | AH8: =SUM(AH9:AH10) -> 0 | AI8: =SUM(AI9:AI10) -> 0 | ... AX8: =SUM(AX9:AX10) -> 0 | AZ8: 和歌山県計 | BA8: =SUM(BA9:BA10) -> 14 | BB8: =SUM(BB9:BB10) -> 30 | BC8: =SUM(BC9:BC10) -> 0 | BD8: =SUM(BD9:BD10) -> 0 | BE8: =SUM(BE9:BE10) -> 0 | BF8: =SUM(BF9:BF10) -> 0 | BG8: =SUM(BG9:BG10) -> 0 | BH8: =SUM(BH9:BH10) -> 0 | ... BW8: =SUM(BW9:BW10) -> 20
B9: 札幌市 | C9: 0 | D9: 0 | E9: 0 | F9: 0 | G9: 0 | H9: 0 | I9: 0 | J9: 0 | K9: 0 | L9: 0 | M9: 0 | N9: 0 | O9: 0 | P9: 0 | Q9: 0 | R9: 0 | S9: 0 | T9: 0 | U9: 0 | V9: 0 | W9: 0 | X9: 0 | Y9: 0 | AA9: 新潟市 | AB9: 2 | AC9: 2 | AD9: 0 | AE9: 0 | AF9: 0 | AG9: 0 | AH9: 0 | AI9: 0 | AJ9: 0 | AK9: 0 | AL9: 0 | AM9: 0 | AN9: 0 | AO9: 0 | AP9: 0 | AQ9: 0 | AR9: 0 | AS9: 0 | AT9: 0 | AU9: 0 | AV9: 0 | AW9: 0 | AX9: 0 | AZ9: 和歌山市 | BA9: 2 | BB9: 2 | BC9: 0 | BD9: 0 | BE9: 0 | BF9: 0 | BG9: 0 | BH9: 0 | BI9: 0 | BJ9: 0 | BK9: 0 | BL9: 0 | BM9: 0 | BN9: 0 | BO9: 0 | BP9: 0 | BQ9: 0 | BR9: 0 | BS9: 0 | BT9: 0 | BU9: 0 | BV9: 0 | BW9: 0
B10: 函館市 | C10: 1 | D10: 1 | E10: 0 | F10: 0 | G10: 0 | H10: 0 | I10: 0 | J10: 0 | K10: 0 | L10: 0 | M10: 0 | N10: 0 | O10: 0 | P10: 0 | Q10: 0 | R10: 0 | S10: 0 | T10: 0 | U10: 0 | V10: 0 | W10: 0 | X10: 0 | Y10: 0 | AA10: その他・新潟県 | AB10: 7 | AC10: 8 | AD10: 0 | AE10: 0 | AF10: 0 | AG10: 0 | AH10: 0 | AI10: 0 | AJ10: 0 | AK10: 0 | AL10: 0 | AM10: 0 | AN10: 0 | AO10: 0 | AP10: 0 | AQ10: 0 | AR10: 0 | AS10: 0 | AT10: 0 | AU10: 0 | AV10: 0 | AW10: 0 | AX10: 0 | AZ10: その他・和歌山県 | BA10: 12 | BB10: 28 | BC10: 0 | BD10: 0 | BE10: 0 | BF10: 0 | BG10: 0 | BH10: 0 | BI10: 0 | BJ10: 0 | BK10: 0 | BL10: 0 | BM10: 0 | BN10: 0 | BO10: 0 | BP10: 0 | BQ10: 0 | BR10: 0 | BS10: 0 | BT10: 0 | BU10: 0 | BV10: 0 | BW10: 20
B11: 小樽市 | C11: 0 | D11: 0 | E11: 0 | F11: 0 | G11: 0 | H11: 0 | I11: 0 | J11: 0 | K11: 0 | L11: 0 | M11: 0 | N11: 0 | O11: 0 | P11: 0 | Q11: 0 | R11: 0 | S11: 0 | T11: 0 | U11: 0 | V11: 0 | W11: 0 | X11: 0 | Y11: 0 | AA11: 富山県計 | AB11: =SUM(AB12:AB13) -> 0 | AC11: =SUM(AC12:AC13) -> 0 | AD11: =SUM(AD12:AD13) -> 0 | AE11: =SUM(AE12:AE13) -> 0 | AF11: =SUM(AF12:AF13) -> 0 | AG11: =SUM(AG12:AG13) -> 0 | AH11: =SUM(AH12:AH13) -> 0 | AI11: =SUM(AI12:AI13) -> 0 | ... AX11: =SUM(AX12:AX13) -> 0 | AZ11: 鳥取県計 | BA11: =SUM(BA12:BA13) -> 1 | BB11: =SUM(BB12:BB13) -> 1 | BC11: =SUM(BC12:BC13) -> 0 | BD11: =SUM(BD12:BD13) -> 0 | BE11: =SUM(BE12:BE13) -> 0 | BF11: =SUM(BF12:BF13) -> 0 | BG11: =SUM(BG12:BG13) -> 0 | BH11: =SUM(BH12:BH13) -> 0 | ... BW11: =SUM(BW12:BW13) -> 0
B12: 旭川市 | C12: 4 | D12: 6 | E12: 0 | F12: 0 | G12: 0 | H12: 0 | I12: 0 | J12: 0 | K12: 0 | L12: 0 | M12: 0 | N12: 0 | O12: 0 | P12: 0 | Q12: 0 | R12: 0 | S12: 0 | T12: 0 | U12: 0 | V12: 0 | W12: 0 | X12: 0 | Y12: 0 | AA12: 富山市 | AB12: 0 | AC12: 0 | AD12: 0 | AE12: 0 | AF12: 0 | AG12: 0 | AH12: 0 | AI12: 0 | AJ12: 0 | AK12: 0 | AL12: 0 | AM12: 0 | AN12: 0 | AO12: 0 | AP12: 0 | AQ12: 0 | AR12: 0 | AS12: 0 | AT12: 0 | AU12: 0 | AV12: 0 | AW12: 0 | AX12: 0 | AZ12: 鳥取市 | BA12: 1 | BB12: 1 | BC12: 0 | BD12: 0 | BE12: 0 | BF12: 0 | BG12: 0 | BH12: 0 | BI12: 0 | BJ12: 0 | BK12: 0 | BL12: 0 | BM12: 0 | BN12: 0 | BO12: 0 | BP12: 0 | BQ12: 0 | BR12: 0 | BS12: 0 | BT12: 0 | BU12: 0 | BV12: 0 | BW12: 0
B13: 室蘭市 | C13: 0 | D13: 0 | E13: 0 | F13: 0 | G13: 0 | H13: 0 | I13: 0 | J13: 0 | K13: 0 | L13: 0 | M13: 0 | N13: 0 | O13: 0 | P13: 0 | Q13: 0 | R13: 0 | S13: 0 | T13: 0 | U13: 0 | V13: 0 | W13: 0 | X13: 0 | Y13: 0 | AA13: その他・富山県 | AB13: 0 | AC13: 0 | AD13: 0 | AE13: 0 | AF13: 0 | AG13: 0 | AH13: 0 | AI13: 0 | AJ13: 0 | AK13: 0 | AL13: 0 | AM13: 0 | AN13: 0 | AO13: 0 | AP13: 0 | AQ13: 0 | AR13: 0 | AS13: 0 | AT13: 0 | AU13: 0 | AV13: 0 | AW13: 0 | AX13: 0 | AZ13: その他・鳥取県 | BA13: 0 | BB13: 0 | BC13: 0 | BD13: 0 | BE13: 0 | BF13: 0 | BG13: 0 | BH13: 0 | BI13: 0 | BJ13: 0 | BK13: 0 | BL13: 0 | BM13: 0 | BN13: 0 | BO13: 0 | BP13: 0 | BQ13: 0 | BR13: 0 | BS13: 0 | BT13: 0 | BU13: 0 | BV13: 0 | BW13: 0
B14: 苫小牧市 | C14: 0 | D14: 0 | E14: 0 | F14: 0 | G14: 0 | H14: 0 | I14: 0 | J14: 0 | K14: 0 | L14: 0 | M14: 0 | N14: 0 | O14: 0 | P14: 0 | Q14: 0 | R14: 0 | S14: 0 | T14: 0 | U14: 0 | V14: 0 | W14: 0 | X14: 0 | Y14: 0 | AA14: 石川県計 | AB14: =SUM(AB15:AB16) -> 10 | AC14: =SUM(AC15:AC16) -> 14 | AD14: =SUM(AD15:AD16) -> 0 | AE14: =SUM(AE15:AE16) -> 0 | AF14: =SUM(AF15:AF16) -> 0 | AG14: =SUM(AG15:AG16) -> 0 | AH14: =SUM(AH15:AH16) -> 0 | AI14: =SUM(AI15:AI16) -> 0 | ... AX14: =SUM(AX15:AX16) -> 0 | AZ14: 島根県計 | BA14: =SUM(BA15:BA16) -> 0 | BB14: =SUM(BB15:BB16) -> 0 | BC14: =SUM(BC15:BC16) -> 0 | BD14: =SUM(BD15:BD16) -> 0 | BE14: =SUM(BE15:BE16) -> 0 | BF14: =SUM(BF15:BF16) -> 0 | BG14: =SUM(BG15:BG16) -> 0 | BH14: =SUM(BH15:BH16) -> 0 | ... BW14: =SUM(BW15:BW16) -> 0
B15: その他・北海道 | C15: 20 | D15: 26 | E15: 0 | F15: 0 | G15: 0 | H15: 0 | I15: 0 | J15: 0 | K15: 0 | L15: 0 | M15: 0 | N15: 0 | O15: 0 | P15: 0 | Q15: 0 | R15: 0 | S15: 0 | T15: 0 | U15: 0 | V15: 0 | W15: 0 | X15: 0 | Y15: 0 | AA15: 金沢市 | AB15: 0 | AC15: 0 | AD15: 0 | AE15: 0 | AF15: 0 | AG15: 0 | AH15: 0 | AI15: 0 | AJ15: 0 | AK15: 0 | AL15: 0 | AM15: 0 | AN15: 0 | AO15: 0 | AP15: 0 | AQ15: 0 | AR15: 0 | AS15: 0 | AT15: 0 | AU15: 0 | AV15: 0 | AW15: 0 | AX15: 0 | AZ15: 松江市 | BA15: 0 | BB15: 0 | BC15: 0 | BD15: 0 | BE15: 0 | BF15: 0 | BG15: 0 | BH15: 0 | BI15: 0 | BJ15: 0 | BK15: 0 | BL15: 0 | BM15: 0 | BN15: 0 | BO15: 0 | BP15: 0 | BQ15: 0 | BR15: 0 | BS15: 0 | BT15: 0 | BU15: 0 | BV15: 0 | BW15: 0
B16: 青森県計 | C16: =SUM(C17:C19) -> 29 | D16: =SUM(D17:D19) -> 84 | E16: =SUM(E17:E19) -> 0 | F16: =SUM(F17:F19) -> 0 | G16: =SUM(G17:G19) -> 0 | H16: =SUM(H17:H19) -> 0 | I16: =SUM(I17:I19) -> 0 | J16: =SUM(J17:J19) -> 0 | ... Y16: =SUM(Y17:Y19) -> 0 | AA16: その他・石川県 | AB16: 10 | AC16: 14 | AD16: 0 | AE16: 0 | AF16: 0 | AG16: 0 | AH16: 0 | AI16: 0 | AJ16: 0 | AK16: 0 | AL16: 0 | AM16: 0 | AN16: 0 | AO16: 0 | AP16: 0 | AQ16: 0 | AR16: 0 | AS16: 0 | AT16: 0 | AU16: 0 | AV16: 0 | AW16: 0 | AX16: 0 | AZ16: その他・島根県 | BA16: 0 | BB16: 0 | BC16: 0 | BD16: 0 | BE16: 0 | BF16: 0 | BG16: 0 | BH16: 0 | BI16: 0 | BJ16: 0 | BK16: 0 | BL16: 0 | BM16: 0 | BN16: 0 | BO16: 0 | BP16: 0 | BQ16: 0 | BR16: 0 | BS16: 0 | BT16: 0 | BU16: 0 | BV16: 0 | BW16: 0
B17: 青森市 | C17: 3 | D17: 4 | E17: 0 | F17: 0 | G17: 0 | H17: 0 | I17: 0 | J17: 0 | K17: 0 | L17: 0 | M17: 0 | N17: 0 | O17: 0 | P17: 0 | Q17: 0 | R17: 0 | S17: 0 | T17: 0 | U17: 0 | V17: 0 | W17: 0 | X17: 0 | Y17: 0 | AA17: 福井県計 | AB17: =SUM(AB18:AB19) -> 16 | AC17: =SUM(AC18:AC19) -> 74 | AD17: =SUM(AD18:AD19) -> 0 | AE17: =SUM(AE18:AE19) -> 0 | AF17: =SUM(AF18:AF19) -> 0 | AG17: =SUM(AG18:AG19) -> 0 | AH17: =SUM(AH18:AH19) -> 0 | AI17: =SUM(AI18:AI19) -> 0 | ... AX17: =SUM(AX18:AX19) -> 0 | AZ17: 岡山県計 | BA17: =SUM(BA18:BA20) -> 33 | BB17: =SUM(BB18:BB20) -> 61 | BC17: =SUM(BC18:BC20) -> 0 | BD17: =SUM(BD18:BD20) -> 0 | BE17: =SUM(BE18:BE20) -> 0 | BF17: =SUM(BF18:BF20) -> 0 | BG17: =SUM(BG18:BG20) -> 0 | BH17: =SUM(BH18:BH20) -> 0 | ... BW17: =SUM(BW18:BW20) -> 1
B18: 八戸市 | C18: 20 | D18: 72 | E18: 0 | F18: 0 | G18: 0 | H18: 0 | I18: 0 | J18: 0 | K18: 0 | L18: 0 | M18: 0 | N18: 0 | O18: 0 | P18: 0 | Q18: 0 | R18: 0 | S18: 0 | T18: 0 | U18: 0 | V18: 0 | W18: 0 | X18: 0 | Y18: 0 | AA18: 福井市 | AB18: 8 | AC18: 10 | AD18: 0 | AE18: 0 | AF18: 0 | AG18: 0 | AH18: 0 | AI18: 0 | AJ18: 0 | AK18: 0 | AL18: 0 | AM18: 0 | AN18: 0 | AO18: 0 | AP18: 0 | AQ18: 0 | AR18: 0 | AS18: 0 | AT18: 0 | AU18: 0 | AV18: 0 | AW18: 0 | AX18: 0 | AZ18: 岡山市 | BA18: 15 | BB18: 31 | BC18: 0 | BD18: 0 | BE18: 0 | BF18: 0 | BG18: 0 | BH18: 0 | BI18: 0 | BJ18: 0 | BK18: 0 | BL18: 0 | BM18: 0 | BN18: 0 | BO18: 0 | BP18: 0 | BQ18: 0 | BR18: 0 | BS18: 0 | BT18: 0 | BU18: 0 | BV18: 0 | BW18: 0
B19: その他・青森県 | C19: 6 | D19: 8 | E19: 0 | F19: 0 | G19: 0 | H19: 0 | I19: 0 | J19: 0 | K19: 0 | L19: 0 | M19: 0 | N19: 0 | O19: 0 | P19: 0 | Q19: 0 | R19: 0 | S19: 0 | T19: 0 | U19: 0 | V19: 0 | W19: 0 | X19: 0 | Y19: 0 | AA19: その他・福井県 | AB19: 8 | AC19: 64 | AD19: 0 | AE19: 0 | AF19: 0 | AG19: 0 | AH19: 0 | AI19: 0 | AJ19: 0 | AK19: 0 | AL19: 0 | AM19: 0 | AN19: 0 | AO19: 0 | AP19: 0 | AQ19: 0 | AR19: 0 | AS19: 0 | AT19: 0 | AU19: 0 | AV19: 0 | AW19: 0 | AX19: 0 | AZ19: 倉敷市 | BA19: 13 | BB19: 25 | BC19: 0 | BD19: 0 | BE19: 0 | BF19: 0 | BG19: 0 | BH19: 0 | BI19: 0 | BJ19: 0 | BK19: 0 | BL19: 0 | BM19: 0 | BN19: 0 | BO19: 0 | BP19: 0 | BQ19: 0 | BR19: 0 | BS19: 0 | BT19: 0 | BU19: 0 | BV19: 0 | BW19: 0
B20: 岩手県計 | C20: =SUM(C21:C22) -> 5 | D20: =SUM(D21:D22) -> 5 | E20: =SUM(E21:E22) -> 0 | F20: =SUM(F21:F22) -> 0 | G20: =SUM(G21:G22) -> 0 | H20: =SUM(H21:H22) -> 0 | I20: =SUM(I21:I22) -> 0 | J20: =SUM(J21:J22) -> 0 | ... Y20: =SUM(Y21:Y22) -> 0 | AA20: 山梨県計 | AB20: =SUM(AB21:AB22) -> 12 | AC20: =SUM(AC21:AC22) -> 17 | AD20: =SUM(AD21:AD22) -> 0 | AE20: =SUM(AE21:AE22) -> 0 | AF20: =SUM(AF21:AF22) -> 0 | AG20: =SUM(AG21:AG22) -> 0 | AH20: =SUM(AH21:AH22) -> 0 | AI20: =SUM(AI21:AI22) -> 0 | ... AX20: =SUM(AX21:AX22) -> 0 | AZ20: その他・岡山県 | BA20: 5 | BB20: 5 | BC20: 0 | BD20: 0 | BE20: 0 | BF20: 0 | BG20: 0 | BH20: 0 | BI20: 0 | BJ20: 0 | BK20: 0 | BL20: 0 | BM20: 0 | BN20: 0 | BO20: 0 | BP20: 0 | BQ20: 0 | BR20: 0 | BS20: 0 | BT20: 0 | BU20: 0 | BV20: 0 | BW20: 1
B21: 盛岡市 | C21: 3 | D21: 3 | E21: 0 | F21: 0 | G21: 0 | H21: 0 | I21: 0 | J21: 0 | K21: 0 | L21: 0 | M21: 0 | N21: 0 | O21: 0 | P21: 0 | Q21: 0 | R21: 0 | S21: 0 | T21: 0 | U21: 0 | V21: 0 | W21: 0 | X21: 0 | Y21: 0 | AA21: 甲府市 | AB21: 1 | AC21: 1 | AD21: 0 | AE21: 0 | AF21: 0 | AG21: 0 | AH21: 0 | AI21: 0 | AJ21: 0 | AK21: 0 | AL21: 0 | AM21: 0 | AN21: 0 | AO21: 0 | AP21: 0 | AQ21: 0 | AR21: 0 | AS21: 0 | AT21: 0 | AU21: 0 | AV21: 0 | AW21: 0 | AX21: 0 | AZ21: 広島県計 | BA21: =SUM(BA22:BA25) -> 18 | BB21: =SUM(BB22:BB25) -> 54 | BC21: =SUM(BC22:BC25) -> 0 | BD21: =SUM(BD22:BD25) -> 0 | BE21: =SUM(BE22:BE25) -> 0 | BF21: =SUM(BF22:BF25) -> 0 | BG21: =SUM(BG22:BG25) -> 0 | BH21: =SUM(BH22:BH25) -> 0 | ... BW21: =SUM(BW22:BW25) -> 3
B22: その他・岩手県 | C22: 2 | D22: 2 | E22: 0 | F22: 0 | G22: 0 | H22: 0 | I22: 0 | J22: 0 | K22: 0 | L22: 0 | M22: 0 | N22: 0 | O22: 0 | P22: 0 | Q22: 0 | R22: 0 | S22: 0 | T22: 0 | U22: 0 | V22: 0 | W22: 0 | X22: 0 | Y22: 0 | AA22: その他・山梨県 | AB22: 11 | AC22: 16 | AD22: 0 | AE22: 0 | AF22: 0 | AG22: 0 | AH22: 0 | AI22: 0 | AJ22: 0 | AK22: 0 | AL22: 0 | AM22: 0 | AN22: 0 | AO22: 0 | AP22: 0 | AQ22: 0 | AR22: 0 | AS22: 0 | AT22: 0 | AU22: 0 | AV22: 0 | AW22: 0 | AX22: 0 | AZ22: 広島市 | BA22: 1 | BB22: 3 | BC22: 0 | BD22: 0 | BE22: 0 | BF22: 0 | BG22: 0 | BH22: 0 | BI22: 0 | BJ22: 0 | BK22: 0 | BL22: 0 | BM22: 0 | BN22: 0 | BO22: 0 | BP22: 0 | BQ22: 0 | BR22: 0 | BS22: 0 | BT22: 0 | BU22: 0 | BV22: 0 | BW22: 3
B23: 宮城県計 | C23: =SUM(C24:C25) -> 19 | D23: =SUM(D24:D25) -> 58 | E23: =SUM(E24:E25) -> 0 | F23: =SUM(F24:F25) -> 0 | G23: =SUM(G24:G25) -> 0 | H23: =SUM(H24:H25) -> 0 | I23: =SUM(I24:I25) -> 0 | J23: =SUM(J24:J25) -> 0 | ... Y23: =SUM(Y24:Y25) -> 0 | AA23: 長野県計 | AB23: =SUM(AB24:AB26) -> 16 | AC23: =SUM(AC24:AC26) -> 20 | AD23: =SUM(AD24:AD26) -> 0 | AE23: =SUM(AE24:AE26) -> 0 | AF23: =SUM(AF24:AF26) -> 0 | AG23: =SUM(AG24:AG26) -> 0 | AH23: =SUM(AH24:AH26) -> 0 | AI23: =SUM(AI24:AI26) -> 0 | ... AX23: =SUM(AX24:AX26) -> 0 | AZ23: 呉市 | BA23: 0 | BB23: 0 | BC23: 0 | BD23: 0 | BE23: 0 | BF23: 0 | BG23: 0 | BH23: 0 | BI23: 0 | BJ23: 0 | BK23: 0 | BL23: 0 | BM23: 0 | BN23: 0 | BO23: 0 | BP23: 0 | BQ23: 0 | BR23: 0 | BS23: 0 | BT23: 0 | BU23: 0 | BV23: 0 | BW23: 0
B24: 仙台市 | C24: 0 | D24: 0 | E24: 0 | F24: 0 | G24: 0 | H24: 0 | I24: 0 | J24: 0 | K24: 0 | L24: 0 | M24: 0 | N24: 0 | O24: 0 | P24: 0 | Q24: 0 | R24: 0 | S24: 0 | T24: 0 | U24: 0 | V24: 0 | W24: 0 | X24: 0 | Y24: 0 | AA24: 長野市 | AB24: 0 | AC24: 0 | AD24: 0 | AE24: 0 | AF24: 0 | AG24: 0 | AH24: 0 | AI24: 0 | AJ24: 0 | AK24: 0 | AL24: 0 | AM24: 0 | AN24: 0 | AO24: 0 | AP24: 0 | AQ24: 0 | AR24: 0 | AS24: 0 | AT24: 0 | AU24: 0 | AV24: 0 | AW24: 0 | AX24: 0 | AZ24: 福山市 | BA24: 0 | BB24: 0 | BC24: 0 | BD24: 0 | BE24: 0 | BF24: 0 | BG24: 0 | BH24: 0 | BI24: 0 | BJ24: 0 | BK24: 0 | BL24: 0 | BM24: 0 | BN24: 0 | BO24: 0 | BP24: 0 | BQ24: 0 | BR24: 0 | BS24: 0 | BT24: 0 | BU24: 0 | BV24: 0 | BW24: 0
B25: その他・宮城県 | C25: 19 | D25: 58 | E25: 0 | F25: 0 | G25: 0 | H25: 0 | I25: 0 | J25: 0 | K25: 0 | L25: 0 | M25: 0 | N25: 0 | O25: 0 | P25: 0 | Q25: 0 | R25: 0 | S25: 0 | T25: 0 | U25: 0 | V25: 0 | W25: 0 | X25: 0 | Y25: 0 | AA25: 松本市 | AB25: 2 | AC25: 3 | AD25: 0 | AE25: 0 | AF25: 0 | AG25: 0 | AH25: 0 | AI25: 0 | AJ25: 0 | AK25: 0 | AL25: 0 | AM25: 0 | AN25: 0 | AO25: 0 | AP25: 0 | AQ25: 0 | AR25: 0 | AS25: 0 | AT25: 0 | AU25: 0 | AV25: 0 | AW25: 0 | AX25: 0 | AZ25: その他・広島県 | BA25: 17 | BB25: 51 | BC25: 0 | BD25: 0 | BE25: 0 | BF25: 0 | BG25: 0 | BH25: 0 | BI25: 0 | BJ25: 0 | BK25: 0 | BL25: 0 | BM25: 0 | BN25: 0 | BO25: 0 | BP25: 0 | BQ25: 0 | BR25: 0 | BS25: 0 | BT25: 0 | BU25: 0 | BV25: 0 | BW25: 0
B26: 秋田県計 | C26: =SUM(C27:C28) -> 0 | D26: =SUM(D27:D28) -> 0 | E26: =SUM(E27:E28) -> 0 | F26: =SUM(F27:F28) -> 0 | G26: =SUM(G27:G28) -> 0 | H26: =SUM(H27:H28) -> 0 | I26: =SUM(I27:I28) -> 0 | J26: =SUM(J27:J28) -> 0 | ... Y26: =SUM(Y27:Y28) -> 1 | AA26: その他・長野県 | AB26: 14 | AC26: 17 | AD26: 0 | AE26: 0 | AF26: 0 | AG26: 0 | AH26: 0 | AI26: 0 | AJ26: 0 | AK26: 0 | AL26: 0 | AM26: 0 | AN26: 0 | AO26: 0 | AP26: 0 | AQ26: 0 | AR26: 0 | AS26: 0 | AT26: 0 | AU26: 0 | AV26: 0 | AW26: 0 | AX26: 0 | AZ26: 山口県計 | BA26: =SUM(BA27:BA28) -> 10 | BB26: =SUM(BB27:BB28) -> 19 | BC26: =SUM(BC27:BC28) -> 0 | BD26: =SUM(BD27:BD28) -> 0 | BE26: =SUM(BE27:BE28) -> 0 | BF26: =SUM(BF27:BF28) -> 0 | BG26: =SUM(BG27:BG28) -> 0 | BH26: =SUM(BH27:BH28) -> 0 | ... BW26: =SUM(BW27:BW28) -> 0
B27: 秋田市 | C27: 0 | D27: 0 | E27: 0 | F27: 0 | G27: 0 | H27: 0 | I27: 0 | J27: 0 | K27: 0 | L27: 0 | M27: 0 | N27: 0 | O27: 0 | P27: 0 | Q27: 0 | R27: 0 | S27: 0 | T27: 0 | U27: 0 | V27: 0 | W27: 0 | X27: 0 | Y27: 1 | AA27: 岐阜県計 | AB27: =SUM(AB28:AB29) -> 34 | AC27: =SUM(AC28:AC29) -> 49 | AD27: =SUM(AD28:AD29) -> 0 | AE27: =SUM(AE28:AE29) -> 0 | AF27: =SUM(AF28:AF29) -> 0 | AG27: =SUM(AG28:AG29) -> 0 | AH27: =SUM(AH28:AH29) -> 0 | AI27: =SUM(AI28:AI29) -> 0 | ... AX27: =SUM(AX28:AX29) -> 1 | AZ27: 下関市 | BA27: 0 | BB27: 0 | BC27: 0 | BD27: 0 | BE27: 0 | BF27: 0 | BG27: 0 | BH27: 0 | BI27: 0 | BJ27: 0 | BK27: 0 | BL27: 0 | BM27: 0 | BN27: 0 | BO27: 0 | BP27: 0 | BQ27: 0 | BR27: 0 | BS27: 0 | BT27: 0 | BU27: 0 | BV27: 0 | BW27: 0
B28: その他・秋田県 | C28: 0 | D28: 0 | E28: 0 | F28: 0 | G28: 0 | H28: 0 | I28: 0 | J28: 0 | K28: 0 | L28: 0 | M28: 0 | N28: 0 | O28: 0 | P28: 0 | Q28: 0 | R28: 0 | S28: 0 | T28: 0 | U28: 0 | V28: 0 | W28: 0 | X28: 0 | Y28: 0 | AA28: 岐阜市 | AB28: 13 | AC28: 21 | AD28: 0 | AE28: 0 | AF28: 0 | AG28: 0 | AH28: 0 | AI28: 0 | AJ28: 0 | AK28: 0 | AL28: 0 | AM28: 0 | AN28: 0 | AO28: 0 | AP28: 0 | AQ28: 0 | AR28: 0 | AS28: 0 | AT28: 0 | AU28: 0 | AV28: 0 | AW28: 0 | AX28: 0 | AZ28: その他・山口県 | BA28: 10 | BB28: 19 | BC28: 0 | BD28: 0 | BE28: 0 | BF28: 0 | BG28: 0 | BH28: 0 | BI28: 0 | BJ28: 0 | BK28: 0 | BL28: 0 | BM28: 0 | BN28: 0 | BO28: 0 | BP28: 0 | BQ28: 0 | BR28: 0 | BS28: 0 | BT28: 0 | BU28: 0 | BV28: 0 | BW28: 0
B29: 山形県計 | C29: =SUM(C30:C31) -> 7 | D29: =SUM(D30:D31) -> 13 | E29: =SUM(E30:E31) -> 0 | F29: =SUM(F30:F31) -> 0 | G29: =SUM(G30:G31) -> 0 | H29: =SUM(H30:H31) -> 0 | I29: =SUM(I30:I31) -> 0 | J29: =SUM(J30:J31) -> 0 | ... Y29: =SUM(Y30:Y31) -> 0 | AA29: その他・岐阜県 | AB29: 21 | AC29: 28 | AD29: 0 | AE29: 0 | AF29: 0 | AG29: 0 | AH29: 0 | AI29: 0 | AJ29: 0 | AK29: 0 | AL29: 0 | AM29: 0 | AN29: 0 | AO29: 0 | AP29: 0 | AQ29: 0 | AR29: 0 | AS29: 0 | AT29: 0 | AU29: 0 | AV29: 0 | AW29: 0 | AX29: 1 | AZ29: 徳島県計 | BA29: =SUM(BA30) -> 17 | BB29: =SUM(BB30) -> 51 | BC29: =SUM(BC30) -> 0 | BD29: =SUM(BD30) -> 0 | BE29: =SUM(BE30) -> 0 | BF29: =SUM(BF30) -> 0 | BG29: =SUM(BG30) -> 0 | BH29: =SUM(BH30) -> 0 | ... BW29: =SUM(BW30) -> 0
B30: 山形市 | C30: 0 | D30: 0 | E30: 0 | F30: 0 | G30: 0 | H30: 0 | I30: 0 | J30: 0 | K30: 0 | L30: 0 | M30: 0 | N30: 0 | O30: 0 | P30: 0 | Q30: 0 | R30: 0 | S30: 0 | T30: 0 | U30: 0 | V30: 0 | W30: 0 | X30: 0 | Y30: 0 | AA30: 静岡県計 | AB30: =SUM(AB31:AB33) -> 68 | AC30: =SUM(AC31:AC33) -> 113 | AD30: =SUM(AD31:AD33) -> 0 | AE30: =SUM(AE31:AE33) -> 0 | AF30: =SUM(AF31:AF33) -> 0 | AG30: =SUM(AG31:AG33) -> 0 | AH30: =SUM(AH31:AH33) -> 0 | AI30: =SUM(AI31:AI33) -> 0 | ... AX30: =SUM(AX31:AX33) -> 7 | AZ30: 徳島県 | BA30: 17 | BB30: 51 | BC30: 0 | BD30: 0 | BE30: 0 | BF30: 0 | BG30: 0 | BH30: 0 | BI30: 0 | BJ30: 0 | BK30: 0 | BL30: 0 | BM30: 0 | BN30: 0 | BO30: 0 | BP30: 0 | BQ30: 0 | BR30: 0 | BS30: 0 | BT30: 0 | BU30: 0 | BV30: 0 | BW30: 0
B31: その他・山形県 | C31: 7 | D31: 13 | E31: 0 | F31: 0 | G31: 0 | H31: 0 | I31: 0 | J31: 0 | K31: 0 | L31: 0 | M31: 0 | N31: 0 | O31: 0 | P31: 0 | Q31: 0 | R31: 0 | S31: 0 | T31: 0 | U31: 0 | V31: 0 | W31: 0 | X31: 0 | Y31: 0 | AA31: 静岡市 | AB31: 0 | AC31: 0 | AD31: 0 | AE31: 0 | AF31: 0 | AG31: 0 | AH31: 0 | AI31: 0 | AJ31: 0 | AK31: 0 | AL31: 0 | AM31: 0 | AN31: 0 | AO31: 0 | AP31: 0 | AQ31: 0 | AR31: 0 | AS31: 0 | AT31: 0 | AU31: 0 | AV31: 0 | AW31: 0 | AX31: 0 | AZ31: 香川県計 | BA31: =SUM(BA32:BA33) -> 6 | BB31: =SUM(BB32:BB33) -> 12 | BC31: =SUM(BC32:BC33) -> 0 | BD31: =SUM(BD32:BD33) -> 0 | BE31: =SUM(BE32:BE33) -> 0 | BF31: =SUM(BF32:BF33) -> 0 | BG31: =SUM(BG32:BG33) -> 0 | BH31: =SUM(BH32:BH33) -> 0 | ... BW31: =SUM(BW32:BW33) -> 0
B32: 福島県計 | C32: =SUM(C33:C36) -> 44 | D32: =SUM(D33:D36) -> 88 | E32: =SUM(E33:E36) -> 0 | F32: =SUM(F33:F36) -> 0 | G32: =SUM(G33:G36) -> 0 | H32: =SUM(H33:H36) -> 0 | I32: =SUM(I33:I36) -> 0 | J32: =SUM(J33:J36) -> 0 | ... Y32: =SUM(Y33:Y36) -> 5 | AA32: 浜松市 | AB32: 17 | AC32: 25 | AD32: 0 | AE32: 0 | AF32: 0 | AG32: 0 | AH32: 0 | AI32: 0 | AJ32: 0 | AK32: 0 | AL32: 0 | AM32: 0 | AN32: 0 | AO32: 0 | AP32: 0 | AQ32: 0 | AR32: 0 | AS32: 0 | AT32: 0 | AU32: 0 | AV32: 0 | AW32: 0 | AX32: 1 | AZ32: 高松市 | BA32: 0 | BB32: 0 | BC32: 0 | BD32: 0 | BE32: 0 | BF32: 0 | BG32: 0 | BH32: 0 | BI32: 0 | BJ32: 0 | BK32: 0 | BL32: 0 | BM32: 0 | BN32: 0 | BO32: 0 | BP32: 0 | BQ32: 0 | BR32: 0 | BS32: 0 | BT32: 0 | BU32: 0 | BV32: 0 | BW32: 0
B33: 福島市 | C33: 0 | D33: 0 | E33: 0 | F33: 0 | G33: 0 | H33: 0 | I33: 0 | J33: 0 | K33: 0 | L33: 0 | M33: 0 | N33: 0 | O33: 0 | P33: 0 | Q33: 0 | R33: 0 | S33: 0 | T33: 0 | U33: 0 | V33: 0 | W33: 0 | X33: 0 | Y33: 0 | AA33: その他・静岡県 | AB33: 51 | AC33: 88 | AD33: 0 | AE33: 0 | AF33: 0 | AG33: 0 | AH33: 0 | AI33: 0 | AJ33: 0 | AK33: 0 | AL33: 0 | AM33: 0 | AN33: 0 | AO33: 0 | AP33: 0 | AQ33: 0 | AR33: 0 | AS33: 0 | AT33: 0 | AU33: 0 | AV33: 0 | AW33: 0 | AX33: 6 | AZ33: その他・香川県 | BA33: 6 | BB33: 12 | BC33: 0 | BD33: 0 | BE33: 0 | BF33: 0 | BG33: 0 | BH33: 0 | BI33: 0 | BJ33: 0 | BK33: 0 | BL33: 0 | BM33: 0 | BN33: 0 | BO33: 0 | BP33: 0 | BQ33: 0 | BR33: 0 | BS33: 0 | BT33: 0 | BU33: 0 | BV33: 0 | BW33: 0
B34: 郡山市 | C34: 11 | D34: 26 | E34: 0 | F34: 0 | G34: 0 | H34: 0 | I34: 0 | J34: 0 | K34: 0 | L34: 0 | M34: 0 | N34: 0 | O34: 0 | P34: 0 | Q34: 0 | R34: 0 | S34: 0 | T34: 0 | U34: 0 | V34: 0 | W34: 0 | X34: 0 | Y34: 0 | AA34: 愛知県計 | AB34: =SUM(AB35:AB40) -> 369 | AC34: =SUM(AC35:AC40) -> 961 | AD34: =SUM(AD35:AD40) -> 0 | AE34: =SUM(AE35:AE40) -> 0 | AF34: =SUM(AF35:AF40) -> 0 | AG34: =SUM(AG35:AG40) -> 0 | AH34: =SUM(AH35:AH40) -> 0 | AI34: =SUM(AI35:AI40) -> 0 | ... AX34: =SUM(AX35:AX40) -> 184 | AZ34: 愛媛県計 | BA34: =SUM(BA35:BA36) -> 23 | BB34: =SUM(BB35:BB36) -> 114 | BC34: =SUM(BC35:BC36) -> 0 | BD34: =SUM(BD35:BD36) -> 0 | BE34: =SUM(BE35:BE36) -> 0 | BF34: =SUM(BF35:BF36) -> 0 | BG34: =SUM(BG35:BG36) -> 0 | BH34: =SUM(BH35:BH36) -> 0 | ... BW34: =SUM(BW35:BW36) -> 0
B35: いわき市 | C35: 18 | D35: 27 | E35: 0 | F35: 0 | G35: 0 | H35: 0 | I35: 0 | J35: 0 | K35: 0 | L35: 0 | M35: 0 | N35: 0 | O35: 0 | P35: 0 | Q35: 0 | R35: 0 | S35: 0 | T35: 0 | U35: 0 | V35: 0 | W35: 0 | X35: 0 | Y35: 2 | AA35: 名古屋市 | AB35: 17 | AC35: 21 | AD35: 0 | AE35: 0 | AF35: 0 | AG35: 0 | AH35: 0 | AI35: 0 | AJ35: 0 | AK35: 0 | AL35: 0 | AM35: 0 | AN35: 0 | AO35: 0 | AP35: 0 | AQ35: 0 | AR35: 0 | AS35: 0 | AT35: 0 | AU35: 0 | AV35: 0 | AW35: 0 | AX35: 0 | AZ35: 松山市 | BA35: 10 | BB35: 18 | BC35: 0 | BD35: 0 | BE35: 0 | BF35: 0 | BG35: 0 | BH35: 0 | BI35: 0 | BJ35: 0 | BK35: 0 | BL35: 0 | BM35: 0 | BN35: 0 | BO35: 0 | BP35: 0 | BQ35: 0 | BR35: 0 | BS35: 0 | BT35: 0 | BU35: 0 | BV35: 0 | BW35: 0
B36: その他・福島県 | C36: 15 | D36: 35 | E36: 0 | F36: 0 | G36: 0 | H36: 0 | I36: 0 | J36: 0 | K36: 0 | L36: 0 | M36: 0 | N36: 0 | O36: 0 | P36: 0 | Q36: 0 | R36: 0 | S36: 0 | T36: 0 | U36: 0 | V36: 0 | W36: 0 | X36: 0 | Y36: 3 | AA36: 豊橋市 | AB36: 0 | AC36: 0 | AD36: 0 | AE36: 0 | AF36: 0 | AG36: 0 | AH36: 0 | AI36: 0 | AJ36: 0 | AK36: 0 | AL36: 0 | AM36: 0 | AN36: 0 | AO36: 0 | AP36: 0 | AQ36: 0 | AR36: 0 | AS36: 0 | AT36: 0 | AU36: 0 | AV36: 0 | AW36: 0 | AX36: 0 | AZ36: その他・愛媛県 | BA36: 13 | BB36: 96 | BC36: 0 | BD36: 0 | BE36: 0 | BF36: 0 | BG36: 0 | BH36: 0 | BI36: 0 | BJ36: 0 | BK36: 0 | BL36: 0 | BM36: 0 | BN36: 0 | BO36: 0 | BP36: 0 | BQ36: 0 | BR36: 0 | BS36: 0 | BT36: 0 | BU36: 0 | BV36: 0 | BW36: 0
B37: 茨城県計 | C37: =SUM(C38:C39) -> 35 | D37: =SUM(D38:D39) -> 85 | E37: =SUM(E38:E39) -> 0 | F37: =SUM(F38:F39) -> 0 | G37: =SUM(G38:G39) -> 0 | H37: =SUM(H38:H39) -> 0 | I37: =SUM(I38:I39) -> 0 | J37: =SUM(J38:J39) -> 0 | ... Y37: =SUM(Y38:Y39) -> 0 | AA37: 岡崎市 | AB37: 0 | AC37: 0 | AD37: 0 | AE37: 0 | AF37: 0 | AG37: 0 | AH37: 0 | AI37: 0 | AJ37: 0 | AK37: 0 | AL37: 0 | AM37: 0 | AN37: 0 | AO37: 0 | AP37: 0 | AQ37: 0 | AR37: 0 | AS37: 0 | AT37: 0 | AU37: 0 | AV37: 0 | AW37: 0 | AX37: 0 | AZ37: 高知県計 | BA37: =SUM(BA38:BA39) -> 4 | BB37: =SUM(BB38:BB39) -> 6 | BC37: =SUM(BC38:BC39) -> 0 | BD37: =SUM(BD38:BD39) -> 0 | BE37: =SUM(BE38:BE39) -> 0 | BF37: =SUM(BF38:BF39) -> 0 | BG37: =SUM(BG38:BG39) -> 0 | BH37: =SUM(BH38:BH39) -> 0 | ... BW37: =SUM(BW38:BW39) -> 2
B38: 水戸市 | C38: 0 | D38: 0 | E38: 0 | F38: 0 | G38: 0 | H38: 0 | I38: 0 | J38: 0 | K38: 0 | L38: 0 | M38: 0 | N38: 0 | O38: 0 | P38: 0 | Q38: 0 | R38: 0 | S38: 0 | T38: 0 | U38: 0 | V38: 0 | W38: 0 | X38: 0 | Y38: 0 | AA38: 一宮市 | AB38: 17 | AC38: 24 | AD38: 0 | AE38: 0 | AF38: 0 | AG38: 0 | AH38: 0 | AI38: 0 | AJ38: 0 | AK38: 0 | AL38: 0 | AM38: 0 | AN38: 0 | AO38: 0 | AP38: 0 | AQ38: 0 | AR38: 0 | AS38: 0 | AT38: 0 | AU38: 0 | AV38: 0 | AW38: 0 | AX38: 0 | AZ38: 高知市 | BA38: 4 | BB38: 6 | BC38: 0 | BD38: 0 | BE38: 0 | BF38: 0 | BG38: 0 | BH38: 0 | BI38: 0 | BJ38: 0 | BK38: 0 | BL38: 0 | BM38: 0 | BN38: 0 | BO38: 0 | BP38: 0 | BQ38: 0 | BR38: 0 | BS38: 0 | BT38: 0 | BU38: 0 | BV38: 0 | BW38: 2
B39: その他・茨城県 | C39: 35 | D39: 85 | E39: 0 | F39: 0 | G39: 0 | H39: 0 | I39: 0 | J39: 0 | K39: 0 | L39: 0 | M39: 0 | N39: 0 | O39: 0 | P39: 0 | Q39: 0 | R39: 0 | S39: 0 | T39: 0 | U39: 0 | V39: 0 | W39: 0 | X39: 0 | Y39: 0 | AA39: 豊田市 | AB39: 0 | AC39: 0 | AD39: 0 | AE39: 0 | AF39: 0 | AG39: 0 | AH39: 0 | AI39: 0 | AJ39: 0 | AK39: 0 | AL39: 0 | AM39: 0 | AN39: 0 | AO39: 0 | AP39: 0 | AQ39: 0 | AR39: 0 | AS39: 0 | AT39: 0 | AU39: 0 | AV39: 0 | AW39: 0 | AX39: 0 | AZ39: その他・高知県 | BA39: 0 | BB39: 0 | BC39: 0 | BD39: 0 | BE39: 0 | BF39: 0 | BG39: 0 | BH39: 0 | BI39: 0 | BJ39: 0 | BK39: 0 | BL39: 0 | BM39: 0 | BN39: 0 | BO39: 0 | BP39: 0 | BQ39: 0 | BR39: 0 | BS39: 0 | BT39: 0 | BU39: 0 | BV39: 0 | BW39: 0
B40: 栃木県計 | C40: =SUM(C41:C42) -> 12 | D40: =SUM(D41:D42) -> 38 | E40: =SUM(E41:E42) -> 0 | F40: =SUM(F41:F42) -> 0 | G40: =SUM(G41:G42) -> 0 | H40: =SUM(H41:H42) -> 0 | I40: =SUM(I41:I42) -> 0 | J40: =SUM(J41:J42) -> 0 | ... Y40: =SUM(Y41:Y42) -> 0 | AA40: その他・愛知県 | AB40: 335 | AC40: 916 | AD40: 0 | AE40: 0 | AF40: 0 | AG40: 0 | AH40: 0 | AI40: 0 | AJ40: 0 | AK40: 0 | AL40: 0 | AM40: 0 | AN40: 0 | AO40: 0 | AP40: 0 | AQ40: 0 | AR40: 0 | AS40: 0 | AT40: 0 | AU40: 0 | AV40: 0 | AW40: 0 | AX40: 184 | AZ40: 福岡県計 | BA40: =SUM(BA41:BA45) -> 51 | BB40: =SUM(BB41:BB45) -> 151 | BC40: =SUM(BC41:BC45) -> 0 | BD40: =SUM(BD41:BD45) -> 0 | BE40: =SUM(BE41:BE45) -> 0 | BF40: =SUM(BF41:BF45) -> 0 | BG40: =SUM(BG41:BG45) -> 0 | BH40: =SUM(BH41:BH45) -> 0 | ... BW40: =SUM(BW41:BW45) -> 1
B41: 宇都宮市 | C41: 0 | D41: 0 | E41: 0 | F41: 0 | G41: 0 | H41: 0 | I41: 0 | J41: 0 | K41: 0 | L41: 0 | M41: 0 | N41: 0 | O41: 0 | P41: 0 | Q41: 0 | R41: 0 | S41: 0 | T41: 0 | U41: 0 | V41: 0 | W41: 0 | X41: 0 | Y41: 0 | AA41: 三重県計 | AB41: =SUM(AB42:AB43) -> 11 | AC41: =SUM(AC42:AC43) -> 31 | AD41: =SUM(AD42:AD43) -> 0 | AE41: =SUM(AE42:AE43) -> 0 | AF41: =SUM(AF42:AF43) -> 0 | AG41: =SUM(AG42:AG43) -> 0 | AH41: =SUM(AH42:AH43) -> 0 | AI41: =SUM(AI42:AI43) -> 0 | ... AX41: =SUM(AX42:AX43) -> 0 | AZ41: 北九州市 | BA41: 25 | BB41: 96 | BC41: 0 | BD41: 0 | BE41: 0 | BF41: 0 | BG41: 0 | BH41: 0 | BI41: 0 | BJ41: 0 | BK41: 0 | BL41: 0 | BM41: 0 | BN41: 0 | BO41: 0 | BP41: 0 | BQ41: 0 | BR41: 0 | BS41: 0 | BT41: 0 | BU41: 0 | BV41: 0 | BW41: 1
B42: その他・栃木県 | C42: 12 | D42: 38 | E42: 0 | F42: 0 | G42: 0 | H42: 0 | I42: 0 | J42: 0 | K42: 0 | L42: 0 | M42: 0 | N42: 0 | O42: 0 | P42: 0 | Q42: 0 | R42: 0 | S42: 0 | T42: 0 | U42: 0 | V42: 0 | W42: 0 | X42: 0 | Y42: 0 | AA42: 四日市市 | AB42: 0 | AC42: 0 | AD42: 0 | AE42: 0 | AF42: 0 | AG42: 0 | AH42: 0 | AI42: 0 | AJ42: 0 | AK42: 0 | AL42: 0 | AM42: 0 | AN42: 0 | AO42: 0 | AP42: 0 | AQ42: 0 | AR42: 0 | AS42: 0 | AT42: 0 | AU42: 0 | AV42: 0 | AW42: 0 | AX42: 0 | AZ42: 福岡市 | BA42: 1 | BB42: 1 | BC42: 0 | BD42: 0 | BE42: 0 | BF42: 0 | BG42: 0 | BH42: 0 | BI42: 0 | BJ42: 0 | BK42: 0 | BL42: 0 | BM42: 0 | BN42: 0 | BO42: 0 | BP42: 0 | BQ42: 0 | BR42: 0 | BS42: 0 | BT42: 0 | BU42: 0 | BV42: 0 | BW42: 0
B43: 群馬県計 | C43: =SUM(C44:C46) -> 31 | D43: =SUM(D44:D46) -> 69 | E43: =SUM(E44:E46) -> 0 | F43: =SUM(F44:F46) -> 0 | G43: =SUM(G44:G46) -> 0 | H43: =SUM(H44:H46) -> 0 | I43: =SUM(I44:I46) -> 0 | J43: =SUM(J44:J46) -> 0 | ... Y43: =SUM(Y44:Y46) -> 4 | AA43: その他・三重県 | AB43: 11 | AC43: 31 | AD43: 0 | AE43: 0 | AF43: 0 | AG43: 0 | AH43: 0 | AI43: 0 | AJ43: 0 | AK43: 0 | AL43: 0 | AM43: 0 | AN43: 0 | AO43: 0 | AP43: 0 | AQ43: 0 | AR43: 0 | AS43: 0 | AT43: 0 | AU43: 0 | AV43: 0 | AW43: 0 | AX43: 0 | AZ43: 大牟田市 | BA43: 0 | BB43: 0 | BC43: 0 | BD43: 0 | BE43: 0 | BF43: 0 | BG43: 0 | BH43: 0 | BI43: 0 | BJ43: 0 | BK43: 0 | BL43: 0 | BM43: 0 | BN43: 0 | BO43: 0 | BP43: 0 | BQ43: 0 | BR43: 0 | BS43: 0 | BT43: 0 | BU43: 0 | BV43: 0 | BW43: 0
B44: 前橋市 | C44: 0 | D44: 0 | E44: 0 | F44: 0 | G44: 0 | H44: 0 | I44: 0 | J44: 0 | K44: 0 | L44: 0 | M44: 0 | N44: 0 | O44: 0 | P44: 0 | Q44: 0 | R44: 0 | S44: 0 | T44: 0 | U44: 0 | V44: 0 | W44: 0 | X44: 0 | Y44: 0 | AA44: 滋賀県計 | AB44: =SUM(AB45:AB46) -> 8 | AC44: =SUM(AC45:AC46) -> 13 | AD44: =SUM(AD45:AD46) -> 0 | AE44: =SUM(AE45:AE46) -> 0 | AF44: =SUM(AF45:AF46) -> 0 | AG44: =SUM(AG45:AG46) -> 0 | AH44: =SUM(AH45:AH46) -> 0 | AI44: =SUM(AI45:AI46) -> 0 | ... AX44: =SUM(AX45:AX46) -> 0 | AZ44: 久留米市 | BA44: 0 | BB44: 0 | BC44: 0 | BD44: 0 | BE44: 0 | BF44: 0 | BG44: 0 | BH44: 0 | BI44: 0 | BJ44: 0 | BK44: 0 | BL44: 0 | BM44: 0 | BN44: 0 | BO44: 0 | BP44: 0 | BQ44: 0 | BR44: 0 | BS44: 0 | BT44: 0 | BU44: 0 | BV44: 0 | BW44: 0
B45: 高崎市 | C45: 7 | D45: 9 | E45: 0 | F45: 0 | G45: 0 | H45: 0 | I45: 0 | J45: 0 | K45: 0 | L45: 0 | M45: 0 | N45: 0 | O45: 0 | P45: 0 | Q45: 0 | R45: 0 | S45: 0 | T45: 0 | U45: 0 | V45: 0 | W45: 0 | X45: 0 | Y45: 0 | AA45: 大津市 | AB45: 0 | AC45: 0 | AD45: 0 | AE45: 0 | AF45: 0 | AG45: 0 | AH45: 0 | AI45: 0 | AJ45: 0 | AK45: 0 | AL45: 0 | AM45: 0 | AN45: 0 | AO45: 0 | AP45: 0 | AQ45: 0 | AR45: 0 | AS45: 0 | AT45: 0 | AU45: 0 | AV45: 0 | AW45: 0 | AX45: 0 | AZ45: その他・福岡県 | BA45: 25 | BB45: 54 | BC45: 0 | BD45: 0 | BE45: 0 | BF45: 0 | BG45: 0 | BH45: 0 | BI45: 0 | BJ45: 0 | BK45: 0 | BL45: 0 | BM45: 0 | BN45: 0 | BO45: 0 | BP45: 0 | BQ45: 0 | BR45: 0 | BS45: 0 | BT45: 0 | BU45: 0 | BV45: 0 | BW45: 0
B46: その他・群馬県 | C46: 24 | D46: 60 | E46: 0 | F46: 0 | G46: 0 | H46: 0 | I46: 0 | J46: 0 | K46: 0 | L46: 0 | M46: 0 | N46: 0 | O46: 0 | P46: 0 | Q46: 0 | R46: 0 | S46: 0 | T46: 0 | U46: 0 | V46: 0 | W46: 0 | X46: 0 | Y46: 4 | AA46: その他・滋賀県 | AB46: 8 | AC46: 13 | AD46: 0 | AE46: 0 | AF46: 0 | AG46: 0 | AH46: 0 | AI46: 0 | AJ46: 0 | AK46: 0 | AL46: 0 | AM46: 0 | AN46: 0 | AO46: 0 | AP46: 0 | AQ46: 0 | AR46: 0 | AS46: 0 | AT46: 0 | AU46: 0 | AV46: 0 | AW46: 0 | AX46: 0 | AZ46: 佐賀県計 | BA46: =SUM(BA47) -> 0 | BB46: =SUM(BB47) -> 0 | BC46: =SUM(BC47) -> 0 | BD46: =SUM(BD47) -> 0 | BE46: =SUM(BE47) -> 0 | BF46: =SUM(BF47) -> 0 | BG46: =SUM(BG47) -> 0 | BH46: =SUM(BH47) -> 0 | ... BW46: =SUM(BW47) -> 0
B47: 埼玉県計 | C47: =SUM(C48:C53) -> 69 | D47: =SUM(D48:D53) -> 129 | E47: =SUM(E48:E53) -> 0 | F47: =SUM(F48:F53) -> 0 | G47: =SUM(G48:G53) -> 0 | H47: =SUM(H48:H53) -> 0 | I47: =SUM(I48:I53) -> 0 | J47: =SUM(J48:J53) -> 0 | ... Y47: =SUM(Y48:Y53) -> 4 | AA47: 京都府計 | AB47: =SUM(AB48:AB49) -> 1 | AC47: =SUM(AC48:AC49) -> 4 | AD47: =SUM(AD48:AD49) -> 0 | AE47: =SUM(AE48:AE49) -> 0 | AF47: =SUM(AF48:AF49) -> 0 | AG47: =SUM(AG48:AG49) -> 0 | AH47: =SUM(AH48:AH49) -> 0 | AI47: =SUM(AI48:AI49) -> 0 | ... AX47: =SUM(AX48:AX49) -> 0 | AZ47: 佐賀県 | BA47: 0 | BB47: 0 | BC47: 0 | BD47: 0 | BE47: 0 | BF47: 0 | BG47: 0 | BH47: 0 | BI47: 0 | BJ47: 0 | BK47: 0 | BL47: 0 | BM47: 0 | BN47: 0 | BO47: 0 | BP47: 0 | BQ47: 0 | BR47: 0 | BS47: 0 | BT47: 0 | BU47: 0 | BV47: 0 | BW47: 0
B48: さいたま市 | C48: 0 | D48: 0 | E48: 0 | F48: 0 | G48: 0 | H48: 0 | I48: 0 | J48: 0 | K48: 0 | L48: 0 | M48: 0 | N48: 0 | O48: 0 | P48: 0 | Q48: 0 | R48: 0 | S48: 0 | T48: 0 | U48: 0 | V48: 0 | W48: 0 | X48: 0 | Y48: 0 | AA48: 京都市 | AB48: 0 | AC48: 0 | AD48: 0 | AE48: 0 | AF48: 0 | AG48: 0 | AH48: 0 | AI48: 0 | AJ48: 0 | AK48: 0 | AL48: 0 | AM48: 0 | AN48: 0 | AO48: 0 | AP48: 0 | AQ48: 0 | AR48: 0 | AS48: 0 | AT48: 0 | AU48: 0 | AV48: 0 | AW48: 0 | AX48: 0 | AZ48: 長崎県計 | BA48: =SUM(BA49:BA51) -> 9 | BB48: =SUM(BB49:BB51) -> 12 | BC48: =SUM(BC49:BC51) -> 0 | BD48: =SUM(BD49:BD51) -> 0 | BE48: =SUM(BE49:BE51) -> 0 | BF48: =SUM(BF49:BF51) -> 0 | BG48: =SUM(BG49:BG51) -> 0 | BH48: =SUM(BH49:BH51) -> 0 | ... BW48: =SUM(BW49:BW51) -> 1
B49: 川越市 | C49: 19 | D49: 35 | E49: 0 | F49: 0 | G49: 0 | H49: 0 | I49: 0 | J49: 0 | K49: 0 | L49: 0 | M49: 0 | N49: 0 | O49: 0 | P49: 0 | Q49: 0 | R49: 0 | S49: 0 | T49: 0 | U49: 0 | V49: 0 | W49: 0 | X49: 0 | Y49: 3 | AA49: その他・京都府 | AB49: 1 | AC49: 4 | AD49: 0 | AE49: 0 | AF49: 0 | AG49: 0 | AH49: 0 | AI49: 0 | AJ49: 0 | AK49: 0 | AL49: 0 | AM49: 0 | AN49: 0 | AO49: 0 | AP49: 0 | AQ49: 0 | AR49: 0 | AS49: 0 | AT49: 0 | AU49: 0 | AV49: 0 | AW49: 0 | AX49: 0 | AZ49: 長崎市 | BA49: 0 | BB49: 0 | BC49: 0 | BD49: 0 | BE49: 0 | BF49: 0 | BG49: 0 | BH49: 0 | BI49: 0 | BJ49: 0 | BK49: 0 | BL49: 0 | BM49: 0 | BN49: 0 | BO49: 0 | BP49: 0 | BQ49: 0 | BR49: 0 | BS49: 0 | BT49: 0 | BU49: 0 | BV49: 0 | BW49: 0
B50: 川口市 | C50: 16 | D50: 21 | E50: 0 | F50: 0 | G50: 0 | H50: 0 | I50: 0 | J50: 0 | K50: 0 | L50: 0 | M50: 0 | N50: 0 | O50: 0 | P50: 0 | Q50: 0 | R50: 0 | S50: 0 | T50: 0 | U50: 0 | V50: 0 | W50: 0 | X50: 0 | Y50: 0 | AA50: 大阪府計 | AB50: =SUM(AB51:AB60) -> 80 | AC50: =SUM(AC51:AC60) -> 145 | AD50: =SUM(AD51:AD60) -> 0 | AE50: =SUM(AE51:AE60) -> 0 | AF50: =SUM(AF51:AF60) -> 0 | AG50: =SUM(AG51:AG60) -> 0 | AH50: =SUM(AH51:AH60) -> 0 | AI50: =SUM(AI51:AI60) -> 0 | ... AX50: =SUM(AX51:AX60) -> 0 | AZ50: 佐世保市 | BA50: 9 | BB50: 12 | BC50: 0 | BD50: 0 | BE50: 0 | BF50: 0 | BG50: 0 | BH50: 0 | BI50: 0 | BJ50: 0 | BK50: 0 | BL50: 0 | BM50: 0 | BN50: 0 | BO50: 0 | BP50: 0 | BQ50: 0 | BR50: 0 | BS50: 0 | BT50: 0 | BU50: 0 | BV50: 0 | BW50: 1
B51: 所沢市 | C51: 0 | D51: 0 | E51: 0 | F51: 0 | G51: 0 | H51: 0 | I51: 0 | J51: 0 | K51: 0 | L51: 0 | M51: 0 | N51: 0 | O51: 0 | P51: 0 | Q51: 0 | R51: 0 | S51: 0 | T51: 0 | U51: 0 | V51: 0 | W51: 0 | X51: 0 | Y51: 0 | AA51: 大阪市 | AB51: 35 | AC51: 79 | AD51: 0 | AE51: 0 | AF51: 0 | AG51: 0 | AH51: 0 | AI51: 0 | AJ51: 0 | AK51: 0 | AL51: 0 | AM51: 0 | AN51: 0 | AO51: 0 | AP51: 0 | AQ51: 0 | AR51: 0 | AS51: 0 | AT51: 0 | AU51: 0 | AV51: 0 | AW51: 0 | AX51: 0 | AZ51: その他・長崎県 | BA51: 0 | BB51: 0 | BC51: 0 | BD51: 0 | BE51: 0 | BF51: 0 | BG51: 0 | BH51: 0 | BI51: 0 | BJ51: 0 | BK51: 0 | BL51: 0 | BM51: 0 | BN51: 0 | BO51: 0 | BP51: 0 | BQ51: 0 | BR51: 0 | BS51: 0 | BT51: 0 | BU51: 0 | BV51: 0 | BW51: 0
B52: 越谷市 | C52: 0 | D52: 0 | E52: 0 | F52: 0 | G52: 0 | H52: 0 | I52: 0 | J52: 0 | K52: 0 | L52: 0 | M52: 0 | N52: 0 | O52: 0 | P52: 0 | Q52: 0 | R52: 0 | S52: 0 | T52: 0 | U52: 0 | V52: 0 | W52: 0 | X52: 0 | Y52: 0 | AA52: 堺市 | AB52: 2 | AC52: 6 | AD52: 0 | AE52: 0 | AF52: 0 | AG52: 0 | AH52: 0 | AI52: 0 | AJ52: 0 | AK52: 0 | AL52: 0 | AM52: 0 | AN52: 0 | AO52: 0 | AP52: 0 | AQ52: 0 | AR52: 0 | AS52: 0 | AT52: 0 | AU52: 0 | AV52: 0 | AW52: 0 | AX52: 0 | AZ52: 熊本県計 | BA52: =SUM(BA53:BA54) -> 2 | BB52: =SUM(BB53:BB54) -> 2 | BC52: =SUM(BC53:BC54) -> 0 | BD52: =SUM(BD53:BD54) -> 0 | BE52: =SUM(BE53:BE54) -> 0 | BF52: =SUM(BF53:BF54) -> 0 | BG52: =SUM(BG53:BG54) -> 0 | BH52: =SUM(BH53:BH54) -> 0 | ... BW52: =SUM(BW53:BW54) -> 3
B53: その他・埼玉県 | C53: 34 | D53: 73 | E53: 0 | F53: 0 | G53: 0 | H53: 0 | I53: 0 | J53: 0 | K53: 0 | L53: 0 | M53: 0 | N53: 0 | O53: 0 | P53: 0 | Q53: 0 | R53: 0 | S53: 0 | T53: 0 | U53: 0 | V53: 0 | W53: 0 | X53: 0 | Y53: 1 | AA53: 豊中市 | AB53: 0 | AC53: 0 | AD53: 0 | AE53: 0 | AF53: 0 | AG53: 0 | AH53: 0 | AI53: 0 | AJ53: 0 | AK53: 0 | AL53: 0 | AM53: 0 | AN53: 0 | AO53: 0 | AP53: 0 | AQ53: 0 | AR53: 0 | AS53: 0 | AT53: 0 | AU53: 0 | AV53: 0 | AW53: 0 | AX53: 0 | AZ53: 熊本市 | BA53: 0 | BB53: 0 | BC53: 0 | BD53: 0 | BE53: 0 | BF53: 0 | BG53: 0 | BH53: 0 | BI53: 0 | BJ53: 0 | BK53: 0 | BL53: 0 | BM53: 0 | BN53: 0 | BO53: 0 | BP53: 0 | BQ53: 0 | BR53: 0 | BS53: 0 | BT53: 0 | BU53: 0 | BV53: 0 | BW53: 0
B54: 千葉県計 | C54: =SUM(C55:C61) -> 173 | D54: =SUM(D55:D61) -> 331 | E54: =SUM(E55:E61) -> 0 | F54: =SUM(F55:F61) -> 0 | G54: =SUM(G55:G61) -> 0 | H54: =SUM(H55:H61) -> 0 | I54: =SUM(I55:I61) -> 0 | J54: =SUM(J55:J61) -> 0 | ... Y54: =SUM(Y55:Y61) -> 8 | AA54: 吹田市 | AB54: 0 | AC54: 0 | AD54: 0 | AE54: 0 | AF54: 0 | AG54: 0 | AH54: 0 | AI54: 0 | AJ54: 0 | AK54: 0 | AL54: 0 | AM54: 0 | AN54: 0 | AO54: 0 | AP54: 0 | AQ54: 0 | AR54: 0 | AS54: 0 | AT54: 0 | AU54: 0 | AV54: 0 | AW54: 0 | AX54: 0 | AZ54: その他・熊本県 | BA54: 2 | BB54: 2 | BC54: 0 | BD54: 0 | BE54: 0 | BF54: 0 | BG54: 0 | BH54: 0 | BI54: 0 | BJ54: 0 | BK54: 0 | BL54: 0 | BM54: 0 | BN54: 0 | BO54: 0 | BP54: 0 | BQ54: 0 | BR54: 0 | BS54: 0 | BT54: 0 | BU54: 0 | BV54: 0 | BW54: 3
B55: 千葉市 | C55: 0 | D55: 0 | E55: 0 | F55: 0 | G55: 0 | H55: 0 | I55: 0 | J55: 0 | K55: 0 | L55: 0 | M55: 0 | N55: 0 | O55: 0 | P55: 0 | Q55: 0 | R55: 0 | S55: 0 | T55: 0 | U55: 0 | V55: 0 | W55: 0 | X55: 0 | Y55: 0 | AA55: 高槻市 | AB55: 0 | AC55: 0 | AD55: 0 | AE55: 0 | AF55: 0 | AG55: 0 | AH55: 0 | AI55: 0 | AJ55: 0 | AK55: 0 | AL55: 0 | AM55: 0 | AN55: 0 | AO55: 0 | AP55: 0 | AQ55: 0 | AR55: 0 | AS55: 0 | AT55: 0 | AU55: 0 | AV55: 0 | AW55: 0 | AX55: 0 | AZ55: 大分県計 | BA55: =SUM(BA56:BA57) -> 2 | BB55: =SUM(BB56:BB57) -> 3 | BC55: =SUM(BC56:BC57) -> 0 | BD55: =SUM(BD56:BD57) -> 0 | BE55: =SUM(BE56:BE57) -> 0 | BF55: =SUM(BF56:BF57) -> 0 | BG55: =SUM(BG56:BG57) -> 0 | BH55: =SUM(BH56:BH57) -> 0 | ... BW55: =SUM(BW56:BW57) -> 0
B56: 市川市 | C56: 0 | D56: 0 | E56: 0 | F56: 0 | G56: 0 | H56: 0 | I56: 0 | J56: 0 | K56: 0 | L56: 0 | M56: 0 | N56: 0 | O56: 0 | P56: 0 | Q56: 0 | R56: 0 | S56: 0 | T56: 0 | U56: 0 | V56: 0 | W56: 0 | X56: 0 | Y56: 0 | AA56: 枚方市 | AB56: 0 | AC56: 0 | AD56: 0 | AE56: 0 | AF56: 0 | AG56: 0 | AH56: 0 | AI56: 0 | AJ56: 0 | AK56: 0 | AL56: 0 | AM56: 0 | AN56: 0 | AO56: 0 | AP56: 0 | AQ56: 0 | AR56: 0 | AS56: 0 | AT56: 0 | AU56: 0 | AV56: 0 | AW56: 0 | AX56: 0 | AZ56: 大分市 | BA56: 2 | BB56: 3 | BC56: 0 | BD56: 0 | BE56: 0 | BF56: 0 | BG56: 0 | BH56: 0 | BI56: 0 | BJ56: 0 | BK56: 0 | BL56: 0 | BM56: 0 | BN56: 0 | BO56: 0 | BP56: 0 | BQ56: 0 | BR56: 0 | BS56: 0 | BT56: 0 | BU56: 0 | BV56: 0 | BW56: 0
B57: 船橋市 | C57: 2 | D57: 3 | E57: 0 | F57: 0 | G57: 0 | H57: 0 | I57: 0 | J57: 0 | K57: 0 | L57: 0 | M57: 0 | N57: 0 | O57: 0 | P57: 0 | Q57: 0 | R57: 0 | S57: 0 | T57: 0 | U57: 0 | V57: 0 | W57: 0 | X57: 0 | Y57: 0 | AA57: 八尾市 | AB57: 0 | AC57: 0 | AD57: 0 | AE57: 0 | AF57: 0 | AG57: 0 | AH57: 0 | AI57: 0 | AJ57: 0 | AK57: 0 | AL57: 0 | AM57: 0 | AN57: 0 | AO57: 0 | AP57: 0 | AQ57: 0 | AR57: 0 | AS57: 0 | AT57: 0 | AU57: 0 | AV57: 0 | AW57: 0 | AX57: 0 | AZ57: その他・大分県 | BA57: 0 | BB57: 0 | BC57: 0 | BD57: 0 | BE57: 0 | BF57: 0 | BG57: 0 | BH57: 0 | BI57: 0 | BJ57: 0 | BK57: 0 | BL57: 0 | BM57: 0 | BN57: 0 | BO57: 0 | BP57: 0 | BQ57: 0 | BR57: 0 | BS57: 0 | BT57: 0 | BU57: 0 | BV57: 0 | BW57: 0
B58: 松戸市 | C58: 8 | D58: 12 | E58: 0 | F58: 0 | G58: 0 | H58: 0 | I58: 0 | J58: 0 | K58: 0 | L58: 0 | M58: 0 | N58: 0 | O58: 0 | P58: 0 | Q58: 0 | R58: 0 | S58: 0 | T58: 0 | U58: 0 | V58: 0 | W58: 0 | X58: 0 | Y58: 0 | AA58: 寝屋川市 | AB58: 2 | AC58: 2 | AD58: 0 | AE58: 0 | AF58: 0 | AG58: 0 | AH58: 0 | AI58: 0 | AJ58: 0 | AK58: 0 | AL58: 0 | AM58: 0 | AN58: 0 | AO58: 0 | AP58: 0 | AQ58: 0 | AR58: 0 | AS58: 0 | AT58: 0 | AU58: 0 | AV58: 0 | AW58: 0 | AX58: 0 | AZ58: 宮崎県計 | BA58: =SUM(BA59:BA60) -> 13 | BB58: =SUM(BB59:BB60) -> 36 | BC58: =SUM(BC59:BC60) -> 0 | BD58: =SUM(BD59:BD60) -> 0 | BE58: =SUM(BE59:BE60) -> 0 | BF58: =SUM(BF59:BF60) -> 0 | BG58: =SUM(BG59:BG60) -> 0 | BH58: =SUM(BH59:BH60) -> 0 | ... BW58: =SUM(BW59:BW60) -> 0
B59: 柏市 | C59: 5 | D59: 9 | E59: 0 | F59: 0 | G59: 0 | H59: 0 | I59: 0 | J59: 0 | K59: 0 | L59: 0 | M59: 0 | N59: 0 | O59: 0 | P59: 0 | Q59: 0 | R59: 0 | S59: 0 | T59: 0 | U59: 0 | V59: 0 | W59: 0 | X59: 0 | Y59: 0 | AA59: 東大阪市 | AB59: 0 | AC59: 0 | AD59: 0 | AE59: 0 | AF59: 0 | AG59: 0 | AH59: 0 | AI59: 0 | AJ59: 0 | AK59: 0 | AL59: 0 | AM59: 0 | AN59: 0 | AO59: 0 | AP59: 0 | AQ59: 0 | AR59: 0 | AS59: 0 | AT59: 0 | AU59: 0 | AV59: 0 | AW59: 0 | AX59: 0 | AZ59: 宮崎市 | BA59: 4 | BB59: 10 | BC59: 0 | BD59: 0 | BE59: 0 | BF59: 0 | BG59: 0 | BH59: 0 | BI59: 0 | BJ59: 0 | BK59: 0 | BL59: 0 | BM59: 0 | BN59: 0 | BO59: 0 | BP59: 0 | BQ59: 0 | BR59: 0 | BS59: 0 | BT59: 0 | BU59: 0 | BV59: 0 | BW59: 0
B60: 市原市 | C60: 0 | D60: 0 | E60: 0 | F60: 0 | G60: 0 | H60: 0 | I60: 0 | J60: 0 | K60: 0 | L60: 0 | M60: 0 | N60: 0 | O60: 0 | P60: 0 | Q60: 0 | R60: 0 | S60: 0 | T60: 0 | U60: 0 | V60: 0 | W60: 0 | X60: 0 | Y60: 0 | AA60: その他・大阪府 | AB60: 41 | AC60: 58 | AD60: 0 | AE60: 0 | AF60: 0 | AG60: 0 | AH60: 0 | AI60: 0 | AJ60: 0 | AK60: 0 | AL60: 0 | AM60: 0 | AN60: 0 | AO60: 0 | AP60: 0 | AQ60: 0 | AR60: 0 | AS60: 0 | AT60: 0 | AU60: 0 | AV60: 0 | AW60: 0 | AX60: 0 | AZ60: その他・宮崎県 | BA60: 9 | BB60: 26 | BC60: 0 | BD60: 0 | BE60: 0 | BF60: 0 | BG60: 0 | BH60: 0 | BI60: 0 | BJ60: 0 | BK60: 0 | BL60: 0 | BM60: 0 | BN60: 0 | BO60: 0 | BP60: 0 | BQ60: 0 | BR60: 0 | BS60: 0 | BT60: 0 | BU60: 0 | BV60: 0 | BW60: 0
B61: その他・千葉県 | C61: 158 | D61: 307 | E61: 0 | F61: 0 | G61: 0 | H61: 0 | I61: 0 | J61: 0 | K61: 0 | L61: 0 | M61: 0 | N61: 0 | O61: 0 | P61: 0 | Q61: 0 | R61: 0 | S61: 0 | T61: 0 | U61: 0 | V61: 0 | W61: 0 | X61: 0 | Y61: 8 | AA61: 兵庫県計 | AB61: =SUM(AB62:AB68) -> 62 | AC61: =SUM(AC62:AC68) -> 165 | AD61: =SUM(AD62:AD68) -> 0 | AE61: =SUM(AE62:AE68) -> 0 | AF61: =SUM(AF62:AF68) -> 0 | AG61: =SUM(AG62:AG68) -> 0 | AH61: =SUM(AH62:AH68) -> 0 | AI61: =SUM(AI62:AI68) -> 0 | ... AX61: =SUM(AX62:AX68) -> 1 | AZ61: 鹿児島県計 | BA61: =SUM(BA62:BA63) -> 0 | BB61: =SUM(BB62:BB63) -> 0 | BC61: =SUM(BC62:BC63) -> 0 | BD61: =SUM(BD62:BD63) -> 0 | BE61: =SUM(BE62:BE63) -> 0 | BF61: =SUM(BF62:BF63) -> 0 | BG61: =SUM(BG62:BG63) -> 0 | BH61: =SUM(BH62:BH63) -> 0 | ... BW61: =SUM(BW62:BW63) -> 0
B62: 東京都計 | C62: =SUM(C63:C64) -> 41 | D62: =SUM(D63:D64) -> 83 | E62: =SUM(E63:E64) -> 0 | F62: =SUM(F63:F64) -> 0 | G62: =SUM(G63:G64) -> 0 | H62: =SUM(H63:H64) -> 0 | I62: =SUM(I63:I64) -> 0 | J62: =SUM(J63:J64) -> 0 | ... Y62: =SUM(Y63:Y64) -> 0 | AA62: 神戸市 | AB62: 14 | AC62: 31 | AD62: 0 | AE62: 0 | AF62: 0 | AG62: 0 | AH62: 0 | AI62: 0 | AJ62: 0 | AK62: 0 | AL62: 0 | AM62: 0 | AN62: 0 | AO62: 0 | AP62: 0 | AQ62: 0 | AR62: 0 | AS62: 0 | AT62: 0 | AU62: 0 | AV62: 0 | AW62: 0 | AX62: 0 | AZ62: 鹿児島市 | BA62: 0 | BB62: 0 | BC62: 0 | BD62: 0 | BE62: 0 | BF62: 0 | BG62: 0 | BH62: 0 | BI62: 0 | BJ62: 0 | BK62: 0 | BL62: 0 | BM62: 0 | BN62: 0 | BO62: 0 | BP62: 0 | BQ62: 0 | BR62: 0 | BS62: 0 | BT62: 0 | BU62: 0 | BV62: 0 | BW62: 0
B63: 八王子市 | C63: 10 | D63: 14 | E63: 0 | F63: 0 | G63: 0 | H63: 0 | I63: 0 | J63: 0 | K63: 0 | L63: 0 | M63: 0 | N63: 0 | O63: 0 | P63: 0 | Q63: 0 | R63: 0 | S63: 0 | T63: 0 | U63: 0 | V63: 0 | W63: 0 | X63: 0 | Y63: 0 | AA63: 姫路市 | AB63: 0 | AC63: 0 | AD63: 0 | AE63: 0 | AF63: 0 | AG63: 0 | AH63: 0 | AI63: 0 | AJ63: 0 | AK63: 0 | AL63: 0 | AM63: 0 | AN63: 0 | AO63: 0 | AP63: 0 | AQ63: 0 | AR63: 0 | AS63: 0 | AT63: 0 | AU63: 0 | AV63: 0 | AW63: 0 | AX63: 0 | AZ63: その他・鹿児島県 | BA63: 0 | BB63: 0 | BC63: 0 | BD63: 0 | BE63: 0 | BF63: 0 | BG63: 0 | BH63: 0 | BI63: 0 | BJ63: 0 | BK63: 0 | BL63: 0 | BM63: 0 | BN63: 0 | BO63: 0 | BP63: 0 | BQ63: 0 | BR63: 0 | BS63: 0 | BT63: 0 | BU63: 0 | BV63: 0 | BW63: 0
B64: その他・東京都 | C64: 31 | D64: 69 | E64: 0 | F64: 0 | G64: 0 | H64: 0 | I64: 0 | J64: 0 | K64: 0 | L64: 0 | M64: 0 | N64: 0 | O64: 0 | P64: 0 | Q64: 0 | R64: 0 | S64: 0 | T64: 0 | U64: 0 | V64: 0 | W64: 0 | X64: 0 | Y64: 0 | AA64: 尼崎市 | AB64: 1 | AC64: 2 | AD64: 0 | AE64: 0 | AF64: 0 | AG64: 0 | AH64: 0 | AI64: 0 | AJ64: 0 | AK64: 0 | AL64: 0 | AM64: 0 | AN64: 0 | AO64: 0 | AP64: 0 | AQ64: 0 | AR64: 0 | AS64: 0 | AT64: 0 | AU64: 0 | AV64: 0 | AW64: 0 | AX64: 0 | AZ64: 沖縄県計 | BA64: =SUM(BA65:BA66) -> 0 | BB64: =SUM(BB65:BB66) -> 0 | BC64: =SUM(BC65:BC66) -> 0 | BD64: =SUM(BD65:BD66) -> 0 | BE64: =SUM(BE65:BE66) -> 0 | BF64: =SUM(BF65:BF66) -> 0 | BG64: =SUM(BG65:BG66) -> 0 | BH64: =SUM(BH65:BH66) -> 0 | ... BW64: =SUM(BW65:BW66) -> 0
B65: 神奈川県計 | C65: =SUM(C66:C72) -> 35 | D65: =SUM(D66:D72) -> 61 | E65: =SUM(E66:E72) -> 0 | F65: =SUM(F66:F72) -> 0 | G65: =SUM(G66:G72) -> 0 | H65: =SUM(H66:H72) -> 0 | I65: =SUM(I66:I72) -> 0 | J65: =SUM(J66:J72) -> 0 | ... Y65: =SUM(Y66:Y72) -> 0 | AA65: 明石市 | AB65: 0 | AC65: 0 | AD65: 0 | AE65: 0 | AF65: 0 | AG65: 0 | AH65: 0 | AI65: 0 | AJ65: 0 | AK65: 0 | AL65: 0 | AM65: 0 | AN65: 0 | AO65: 0 | AP65: 0 | AQ65: 0 | AR65: 0 | AS65: 0 | AT65: 0 | AU65: 0 | AV65: 0 | AW65: 0 | AX65: 0 | AZ65: 那覇市 | BA65: 0 | BB65: 0 | BC65: 0 | BD65: 0 | BE65: 0 | BF65: 0 | BG65: 0 | BH65: 0 | BI65: 0 | BJ65: 0 | BK65: 0 | BL65: 0 | BM65: 0 | BN65: 0 | BO65: 0 | BP65: 0 | BQ65: 0 | BR65: 0 | BS65: 0 | BT65: 0 | BU65: 0 | BV65: 0 | BW65: 0
B66: 横浜市 | C66: 6 | D66: 6 | E66: 0 | F66: 0 | G66: 0 | H66: 0 | I66: 0 | J66: 0 | K66: 0 | L66: 0 | M66: 0 | N66: 0 | O66: 0 | P66: 0 | Q66: 0 | R66: 0 | S66: 0 | T66: 0 | U66: 0 | V66: 0 | W66: 0 | X66: 0 | Y66: 0 | AA66: 西宮市 | AB66: 0 | AC66: 0 | AD66: 0 | AE66: 0 | AF66: 0 | AG66: 0 | AH66: 0 | AI66: 0 | AJ66: 0 | AK66: 0 | AL66: 0 | AM66: 0 | AN66: 0 | AO66: 0 | AP66: 0 | AQ66: 0 | AR66: 0 | AS66: 0 | AT66: 0 | AU66: 0 | AV66: 0 | AW66: 0 | AX66: 0 | AZ66: その他・沖縄県 | BA66: 0 | BB66: 0 | BC66: 0 | BD66: 0 | BE66: 0 | BF66: 0 | BG66: 0 | BH66: 0 | BI66: 0 | BJ66: 0 | BK66: 0 | BL66: 0 | BM66: 0 | BN66: 0 | BO66: 0 | BP66: 0 | BQ66: 0 | BR66: 0 | BS66: 0 | BT66: 0 | BU66: 0 | BV66: 0 | BW66: 0
B67: 川崎市 | C67: 5 | D67: 5 | E67: 0 | F67: 0 | G67: 0 | H67: 0 | I67: 0 | J67: 0 | K67: 0 | L67: 0 | M67: 0 | N67: 0 | O67: 0 | P67: 0 | Q67: 0 | R67: 0 | S67: 0 | T67: 0 | U67: 0 | V67: 0 | W67: 0 | X67: 0 | Y67: 0 | AA67: 加古川市 | AB67: 0 | AC67: 0 | AD67: 0 | AE67: 0 | AF67: 0 | AG67: 0 | AH67: 0 | AI67: 0 | AJ67: 0 | AK67: 0 | AL67: 0 | AM67: 0 | AN67: 0 | AO67: 0 | AP67: 0 | AQ67: 0 | AR67: 0 | AS67: 0 | AT67: 0 | AU67: 0 | AV67: 0 | AW67: 0 | AX67: 0 | AZ67: 合計 | BA67: =SUM(C8:C72,AB8:AB71,BA8:BA66)/2 -> 1424 | BB67: =SUM(D8:D72,AC8:AC71,BB8:BB66)/2 -> 3245 | BC67: =SUM(E8:E72,AD8:AD71,BC8:BC66)/2 -> 0 | BD67: =SUM(F8:F72,AE8:AE71,BD8:BD66)/2 -> 0 | BE67: =SUM(G8:G72,AF8:AF71,BE8:BE66)/2 -> 0 | BF67: =SUM(H8:H72,AG8:AG71,BF8:BF66)/2 -> 0 | BG67: =SUM(I8:I72,AH8:AH71,BG8:BG66)/2 -> 0 | BH67: =SUM(J8:J72,AI8:AI71,BH8:BH66)/2 -> 0 | ... BW67: =SUM(Y8:Y72,AX8:AX71,BW8:BW66)/2 -> 246
B68: 相模原市 | C68: 1 | D68: 2 | E68: 0 | F68: 0 | G68: 0 | H68: 0 | I68: 0 | J68: 0 | K68: 0 | L68: 0 | M68: 0 | N68: 0 | O68: 0 | P68: 0 | Q68: 0 | R68: 0 | S68: 0 | T68: 0 | U68: 0 | V68: 0 | W68: 0 | X68: 0 | Y68: 0 | AA68: その他・兵庫県 | AB68: 47 | AC68: 132 | AD68: 0 | AE68: 0 | AF68: 0 | AG68: 0 | AH68: 0 | AI68: 0 | AJ68: 0 | AK68: 0 | AL68: 0 | AM68: 0 | AN68: 0 | AO68: 0 | AP68: 0 | AQ68: 0 | AR68: 0 | AS68: 0 | AT68: 0 | AU68: 0 | AV68: 0 | AW68: 0 | AX68: 1
B69: 横須賀市 | C69: 8 | D69: 15 | E69: 0 | F69: 0 | G69: 0 | H69: 0 | I69: 0 | J69: 0 | K69: 0 | L69: 0 | M69: 0 | N69: 0 | O69: 0 | P69: 0 | Q69: 0 | R69: 0 | S69: 0 | T69: 0 | U69: 0 | V69: 0 | W69: 0 | X69: 0 | Y69: 0 | AA69: 奈良県計 | AB69: =SUM(AB70:AB71) -> 0 | AC69: =SUM(AC70:AC71) -> 0 | AD69: =SUM(AD70:AD71) -> 0 | AE69: =SUM(AE70:AE71) -> 0 | AF69: =SUM(AF70:AF71) -> 0 | AG69: =SUM(AG70:AG71) -> 0 | AH69: =SUM(AH70:AH71) -> 0 | AI69: =SUM(AI70:AI71) -> 0 | ... AX69: =SUM(AX70:AX71) -> 0
B70: 平塚市 | C70: 2 | D70: 4 | E70: 0 | F70: 0 | G70: 0 | H70: 0 | I70: 0 | J70: 0 | K70: 0 | L70: 0 | M70: 0 | N70: 0 | O70: 0 | P70: 0 | Q70: 0 | R70: 0 | S70: 0 | T70: 0 | U70: 0 | V70: 0 | W70: 0 | X70: 0 | Y70: 0 | AA70: 奈良市 | AB70: 0 | AC70: 0 | AD70: 0 | AE70: 0 | AF70: 0 | AG70: 0 | AH70: 0 | AI70: 0 | AJ70: 0 | AK70: 0 | AL70: 0 | AM70: 0 | AN70: 0 | AO70: 0 | AP70: 0 | AQ70: 0 | AR70: 0 | AS70: 0 | AT70: 0 | AU70: 0 | AV70: 0 | AW70: 0 | AX70: 0
B71: 藤沢市 | C71: 0 | D71: 0 | E71: 0 | F71: 0 | G71: 0 | H71: 0 | I71: 0 | J71: 0 | K71: 0 | L71: 0 | M71: 0 | N71: 0 | O71: 0 | P71: 0 | Q71: 0 | R71: 0 | S71: 0 | T71: 0 | U71: 0 | V71: 0 | W71: 0 | X71: 0 | Y71: 0 | AA71: その他・奈良県 | AB71: 0 | AC71: 0 | AD71: 0 | AE71: 0 | AF71: 0 | AG71: 0 | AH71: 0 | AI71: 0 | AJ71: 0 | AK71: 0 | AL71: 0 | AM71: 0 | AN71: 0 | AO71: 0 | AP71: 0 | AQ71: 0 | AR71: 0 | AS71: 0 | AT71: 0 | AU71: 0 | AV71: 0 | AW71: 0 | AX71: 0
B72: その他・神奈川県 | C72: 13 | D72: 29 | E72: 0 | F72: 0 | G72: 0 | H72: 0 | I72: 0 | J72: 0 | K72: 0 | L72: 0 | M72: 0 | N72: 0 | O72: 0 | P72: 0 | Q72: 0 | R72: 0 | S72: 0 | T72: 0 | U72: 0 | V72: 0 | W72: 0 | X72: 0 | Y72: 0
