Workbook

Sheet 表8.1
B2: 表8.1 立入検査・その他行政指導件数 年度別－全国（一般粉じん発生施設）
D4: 平成30年度 | G4: 令和元年度 | J4: 令和２年度 | M4: 令和３年度 | P4: 令和４年度
D5: 全施設 （注1) | G5: 全施設 （注1) | J5: 全施設 （注1) | M5: 全施設 （注1) | P5: 全施設 （注1)
E6: 大気 | F6: 電気・ ガス・ 鉱山 | H6: 大気 | I6: 電気・ ガス・ 鉱山 | K6: 大気 | L6: 電気・ ガス・ 鉱山 | N6: 大気 | O6: 電気・ ガス・ 鉱山 | Q6: 大気 | R6: 電気・ ガス・ 鉱山
B7: (A) | C7: 立入検査実施 工場・事業場数 | D7: =SUM(E7:F7) -> 1797 | E7: 1740 | F7: 57 | G7: =SUM(H7:I7) -> 1858 | H7: 1824 | I7: 34 | J7: =SUM(K7:L7) -> 1604 | K7: 1486 | L7: 118 | M7: =SUM(N7:O7) -> 1543 | N7: 1527 | O7: 16 | P7: =SUM(Q7:R7) -> 1391 | Q7: ='表8.3'!U66 -> 1367 | R7: ='表8.5'!S66 -> 24
B8: (A') | C8: 立入検査実施施設数 | D8: =SUM(E8:F8) -> 17456 | E8: 15542 | F8: 1914 | G8: =SUM(H8:I8) -> 15795 | H8: 15062 | I8: 733 | J8: =SUM(K8:L8) -> 13661 | K8: 13359 | L8: 302 | M8: =SUM(N8:O8) -> 16126 | N8: 15980 | O8: 146 | P8: =SUM(Q8:R8) -> 13240 | Q8: ='表8.3'!V66 -> 13081 | R8: ='表8.5'!T66 -> 159
B9: (E) | C9: 基準適合命令施設数 | D9: =SUM(E9:F9) -> 0 | E9: 0 | F9: 0 | G9: =SUM(H9:I9) -> 0 | H9: 0 | I9: 0 | J9: =SUM(K9:L9) -> 0 | K9: 0 | L9: 0 | M9: =SUM(N9:O9) -> 0 | N9: 0 | O9: 0 | P9: =SUM(Q9:R9) -> 0 | Q9: ='表8.3'!W66 -> 0 | R9: ='表8.5'!U66 -> 0
B10: (F) | C10: 一時停止命令施設数 | D10: =SUM(E10:F10) -> 0 | E10: 0 | F10: 0 | G10: =SUM(H10:I10) -> 0 | H10: 0 | I10: 0 | J10: =SUM(K10:L10) -> 0 | K10: 0 | L10: 0 | M10: =SUM(N10:O10) -> 0 | N10: 0 | O10: 0 | P10: =SUM(Q10:R10) -> 0 | Q10: ='表8.3'!X66 -> 0 | R10: ='表8.5'!V66 -> 0
B11: (G) | C11: (E)又は(F)の命令違反 告発施設数 | D11: =SUM(E11:F11) -> 0 | E11: 0 | F11: 0 | G11: =SUM(H11:I11) -> 0 | H11: 0 | I11: 0 | J11: =SUM(K11:L11) -> 0 | K11: 0 | L11: 0 | M11: =SUM(N11:O11) -> 0 | N11: 0 | O11: 0 | P11: =SUM(Q11:R11) -> 0 | Q11: ='表8.3'!Y66 -> 0 | R11: ='表8.5'!W66 -> 0
B12: (H) | C12: 届出違反告発施設数 | D12: =SUM(E12:F12) -> 0 | E12: 0 | F12: － | G12: =SUM(H12:I12) -> 0 | H12: 0 | I12: － | J12: =SUM(K12:L12) -> 0 | K12: 0 | L12: － | M12: =SUM(N12:O12) -> 0 | N12: 0 | O12: － | P12: =SUM(Q12:R12) -> 0 | Q12: ='表8.3'!Z66 -> 0 | R12: －
B13: (d) | C13: 行政指導施設数 | D13: =SUM(E13:F13) -> 681 | E13: 668 | F13: 13 | G13: =SUM(H13:I13) -> 1072 | H13: 1061 | I13: 11 | J13: =SUM(K13:L13) -> 703 | K13: 692 | L13: 11 | M13: =SUM(N13:O13) -> 686 | N13: 674 | O13: 12 | P13: =SUM(Q13:R13) -> 621 | Q13: ='表8.3'!AA66 -> 606 | R13: ='表8.5'!X66 -> 15
B14: （注1）「大気」：大気汚染防止法届出一般粉じん発生施設、「電気・ガス・鉱山」：電気事業法・ガス事業法・鉱山保安法に係る一般粉じん発生施設を示す。

Sheet 表8.2
B2: 表8.2(1) 行政指導施設数 都道府県市別（一般粉じん発生施設） | J2: 表8.2(2) 行政指導施設数 都道府県市別（一般粉じん発生施設） | R2: 表8.2(3) 行政指導施設数 都道府県市別（一般粉じん発生施設）
B4: 自治体名 | C4: ① | D4: ② | E4: ③ | F4: ④ | G4: ⑤ | J4: 自治体名 | K4: ① | L4: ② | M4: ③ | N4: ④ | O4: ⑤ | R4: 自治体名 | S4: ① | T4: ② | U4: ③ | V4: ④ | W4: ⑤
C5: 構造並びに使用及び管理に関する基準違反に係る行政指導施設数 | D5: 設置届出書・変更届出書及び使用届出書の未届出による行政指導施設数 | E5: 氏名の変更等の届出書及び承継届出書の未届出による行政指導施設数 | F5: 設置届出書等の届出内容の不備による行政指導施設数 | G5: その他 | H5: 合計 | K5: 構造並びに使用及び管理に関する基準違反に係る行政指導施設数 | L5: 設置届出書・変更届出書及び使用届出書の未届出による行政指導施設数 | M5: 氏名の変更等の届出書及び承継届出書の未届出による行政指導施設数 | N5: 設置届出書等の届出内容の不備による行政指導施設数 | O5: その他 | P5: 合計 | S5: 構造並びに使用及び管理に関する基準違反に係る行政指導施設数 | T5: 設置届出書・変更届出書及び使用届出書の未届出による行政指導施設数 | U5: 氏名の変更等の届出書及び承継届出書の未届出による行政指導施設数 | V5: 設置届出書等の届出内容の不備による行政指導施設数 | W5: その他 | X5: 合計
B8: 北海道計 | C8: =SUM(C9:C15) -> 0 | D8: =SUM(D9:D15) -> 30 | E8: =SUM(E9:E15) -> 22 | F8: =SUM(F9:F15) -> 2 | G8: =SUM(G9:G15) -> 16 | H8: =SUM(H9:H15) -> 70 | J8: 新潟県計 | K8: =SUM(K9:K12) -> 2 | L8: =SUM(L9:L12) -> 0 | M8: =SUM(M9:M12) -> 0 | N8: =SUM(N9:N12) -> 0 | O8: =SUM(O9:O12) -> 0 | P8: =SUM(P9:P12) -> 2 | R8: 和歌山県計 | S8: =SUM(S9:S10) -> 0 | T8: =SUM(T9:T10) -> 0 | U8: =SUM(U9:U10) -> 0 | V8: =SUM(V9:V10) -> 0 | W8: =SUM(W9:W10) -> 0 | X8: =SUM(X9:X10) -> 0
B9: 札幌市 | C9: 0 | D9: 0 | E9: 0 | F9: 0 | G9: 0 | H9: =SUM(C9:G9) -> 0 | J9: 新潟市 | K9: 2 | L9: 0 | M9: 0 | N9: 0 | O9: 0 | P9: =SUM(K9:O9) -> 2 | R9: 和歌山市 | S9: 0 | T9: 0 | U9: 0 | V9: 0 | W9: 0 | X9: =SUM(S9:W9) -> 0
B10: 函館市 | C10: 0 | D10: 0 | E10: 0 | F10: 0 | G10: 0 | H10: =SUM(C10:G10) -> 0 | J10: 長岡市 | K10: 0 | L10: 0 | M10: 0 | N10: 0 | O10: 0 | P10: =SUM(K10:O10) -> 0 | R10: その他・和歌山県 | S10: 0 | T10: 0 | U10: 0 | V10: 0 | W10: 0 | X10: =SUM(S10:W10) -> 0
B11: 小樽市 | C11: 0 | D11: 0 | E11: 0 | F11: 0 | G11: 0 | H11: =SUM(C11:G11) -> 0 | J11: 上越市 | K11: 0 | L11: 0 | M11: 0 | N11: 0 | O11: 0 | P11: =SUM(K11:O11) -> 0 | R11: 鳥取県計 | S11: =SUM(S12:S13) -> 0 | T11: =SUM(T12:T13) -> 0 | U11: =SUM(U12:U13) -> 0 | V11: =SUM(V12:V13) -> 0 | W11: =SUM(W12:W13) -> 0 | X11: =SUM(X12:X13) -> 0
B12: 旭川市 | C12: 0 | D12: 0 | E12: 0 | F12: 0 | G12: 0 | H12: =SUM(C12:G12) -> 0 | J12: その他・新潟県 | K12: 0 | L12: 0 | M12: 0 | N12: 0 | O12: 0 | P12: =SUM(K12:O12) -> 0 | R12: 鳥取市 | S12: 0 | T12: 0 | U12: 0 | V12: 0 | W12: 0 | X12: =SUM(S12:W12) -> 0
B13: 室蘭市 | C13: 0 | D13: 0 | E13: 0 | F13: 0 | G13: 0 | H13: =SUM(C13:G13) -> 0 | J13: 富山県計 | K13: =SUM(K14:K15) -> 0 | L13: =SUM(L14:L15) -> 0 | M13: =SUM(M14:M15) -> 0 | N13: =SUM(N14:N15) -> 0 | O13: =SUM(O14:O15) -> 0 | P13: =SUM(P14:P15) -> 0 | R13: その他・鳥取県 | S13: 0 | T13: 0 | U13: 0 | V13: 0 | W13: 0 | X13: =SUM(S13:W13) -> 0
B14: 苫小牧市 | C14: 0 | D14: 0 | E14: 0 | F14: 0 | G14: 0 | H14: =SUM(C14:G14) -> 0 | J14: 富山市 | K14: 0 | L14: 0 | M14: 0 | N14: 0 | O14: 0 | P14: =SUM(K14:O14) -> 0 | R14: 島根県計 | S14: =SUM(S15:S16) -> 0 | T14: =SUM(T15:T16) -> 1 | U14: =SUM(U15:U16) -> 1 | V14: =SUM(V15:V16) -> 0 | W14: =SUM(W15:W16) -> 1 | X14: =SUM(X15:X16) -> 3
B15: その他・北海道 | C15: 0 | D15: 30 | E15: 22 | F15: 2 | G15: 16 | H15: =SUM(C15:G15) -> 70 | J15: その他・富山県 | K15: 0 | L15: 0 | M15: 0 | N15: 0 | O15: 0 | P15: =SUM(K15:O15) -> 0 | R15: 松江市 | S15: 0 | T15: 0 | U15: 0 | V15: 0 | W15: 1 | X15: =SUM(S15:W15) -> 1
B16: 青森県計 | C16: =SUM(C17:C19) -> 0 | D16: =SUM(D17:D19) -> 1 | E16: =SUM(E17:E19) -> 10 | F16: =SUM(F17:F19) -> 0 | G16: =SUM(G17:G19) -> 0 | H16: =SUM(H17:H19) -> 11 | J16: 石川県計 | K16: =SUM(K17:K18) -> 0 | L16: =SUM(L17:L18) -> 0 | M16: =SUM(M17:M18) -> 0 | N16: =SUM(N17:N18) -> 0 | O16: =SUM(O17:O18) -> 1 | P16: =SUM(P17:P18) -> 1 | R16: その他・島根県 | S16: 0 | T16: 1 | U16: 1 | V16: 0 | W16: 0 | X16: =SUM(S16:W16) -> 2
B17: 青森市 | C17: 0 | D17: 0 | E17: 0 | F17: 0 | G17: 0 | H17: =SUM(C17:G17) -> 0 | J17: 金沢市 | K17: 0 | L17: 0 | M17: 0 | N17: 0 | O17: 0 | P17: =SUM(K17:O17) -> 0 | R17: 岡山県計 | S17: =SUM(S18:S20) -> 0 | T17: =SUM(T18:T20) -> 2 | U17: =SUM(U18:U20) -> 0 | V17: =SUM(V18:V20) -> 0 | W17: =SUM(W18:W20) -> 1 | X17: =SUM(X18:X20) -> 3
B18: 八戸市 | C18: 0 | D18: 1 | E18: 4 | F18: 0 | G18: 0 | H18: =SUM(C18:G18) -> 5 | J18: その他・石川県 | K18: 0 | L18: 0 | M18: 0 | N18: 0 | O18: 1 | P18: =SUM(K18:O18) -> 1 | R18: 岡山市 | S18: 0 | T18: 0 | U18: 0 | V18: 0 | W18: 0 | X18: =SUM(S18:W18) -> 0
B19: その他・青森県 | C19: 0 | D19: 0 | E19: 6 | F19: 0 | G19: 0 | H19: =SUM(C19:G19) -> 6 | J19: 福井県計 | K19: =SUM(K20:K21) -> 0 | L19: =SUM(L20:L21) -> 0 | M19: =SUM(M20:M21) -> 0 | N19: =SUM(N20:N21) -> 0 | O19: =SUM(O20:O21) -> 0 | P19: =SUM(P20:P21) -> 0 | R19: 倉敷市 | S19: 0 | T19: 0 | U19: 0 | V19: 0 | W19: 0 | X19: =SUM(S19:W19) -> 0
B20: 岩手県計 | C20: =SUM(C21:C22) -> 0 | D20: =SUM(D21:D22) -> 1 | E20: =SUM(E21:E22) -> 0 | F20: =SUM(F21:F22) -> 0 | G20: =SUM(G21:G22) -> 0 | H20: =SUM(H21:H22) -> 1 | J20: 福井市 | K20: 0 | L20: 0 | M20: 0 | N20: 0 | O20: 0 | P20: =SUM(K20:O20) -> 0 | R20: その他・岡山県 | S20: 0 | T20: 2 | U20: 0 | V20: 0 | W20: 1 | X20: =SUM(S20:W20) -> 3
B21: 盛岡市 | C21: 0 | D21: 0 | E21: 0 | F21: 0 | G21: 0 | H21: =SUM(C21:G21) -> 0 | J21: その他・福井県 | K21: 0 | L21: 0 | M21: 0 | N21: 0 | O21: 0 | P21: =SUM(K21:O21) -> 0 | R21: 広島県計 | S21: =SUM(S22:S25) -> 0 | T21: =SUM(T22:T25) -> 0 | U21: =SUM(U22:U25) -> 0 | V21: =SUM(V22:V25) -> 0 | W21: =SUM(W22:W25) -> 0 | X21: =SUM(X22:X25) -> 0
B22: その他・岩手県 | C22: 0 | D22: 1 | E22: 0 | F22: 0 | G22: 0 | H22: =SUM(C22:G22) -> 1 | J22: 山梨県計 | K22: =SUM(K23:K24) -> 0 | L22: =SUM(L23:L24) -> 2 | M22: =SUM(M23:M24) -> 3 | N22: =SUM(N23:N24) -> 0 | O22: =SUM(O23:O24) -> 0 | P22: =SUM(P23:P24) -> 5 | R22: 広島市 | S22: 0 | T22: 0 | U22: 0 | V22: 0 | W22: 0 | X22: =SUM(S22:W22) -> 0
B23: 宮城県計 | C23: =SUM(C24:C25) -> 0 | D23: =SUM(D24:D25) -> 4 | E23: =SUM(E24:E25) -> 0 | F23: =SUM(F24:F25) -> 0 | G23: =SUM(G24:G25) -> 1 | H23: =SUM(H24:H25) -> 5 | J23: 甲府市 | K23: 0 | L23: 0 | M23: 0 | N23: 0 | O23: 0 | P23: =SUM(K23:O23) -> 0 | R23: 呉市 | S23: 0 | T23: 0 | U23: 0 | V23: 0 | W23: 0 | X23: =SUM(S23:W23) -> 0
B24: 仙台市 | C24: 0 | D24: 4 | E24: 0 | F24: 0 | G24: 1 | H24: =SUM(C24:G24) -> 5 | J24: その他・山梨県 | K24: 0 | L24: 2 | M24: 3 | N24: 0 | O24: 0 | P24: =SUM(K24:O24) -> 5 | R24: 福山市 | S24: 0 | T24: 0 | U24: 0 | V24: 0 | W24: 0 | X24: =SUM(S24:W24) -> 0
B25: その他・宮城県 | C25: 0 | D25: 0 | E25: 0 | F25: 0 | G25: 0 | H25: =SUM(C25:G25) -> 0 | J25: 長野県計 | K25: =SUM(K26:K28) -> 1 | L25: =SUM(L26:L28) -> 0 | M25: =SUM(M26:M28) -> 0 | N25: =SUM(N26:N28) -> 1 | O25: =SUM(O26:O28) -> 0 | P25: =SUM(P26:P28) -> 2 | R25: その他・広島県 | S25: 0 | T25: 0 | U25: 0 | V25: 0 | W25: 0 | X25: =SUM(S25:W25) -> 0
B26: 秋田県計 | C26: =SUM(C27:C28) -> 0 | D26: =SUM(D27:D28) -> 0 | E26: =SUM(E27:E28) -> 0 | F26: =SUM(F27:F28) -> 0 | G26: =SUM(G27:G28) -> 0 | H26: =SUM(H27:H28) -> 0 | J26: 長野市 | K26: 0 | L26: 0 | M26: 0 | N26: 0 | O26: 0 | P26: =SUM(K26:O26) -> 0 | R26: 山口県計 | S26: =SUM(S27:S28) -> 1 | T26: =SUM(T27:T28) -> 0 | U26: =SUM(U27:U28) -> 0 | V26: =SUM(V27:V28) -> 0 | W26: =SUM(W27:W28) -> 0 | X26: =SUM(X27:X28) -> 1
B27: 秋田市 | C27: 0 | D27: 0 | E27: 0 | F27: 0 | G27: 0 | H27: =SUM(C27:G27) -> 0 | J27: 松本市 | K27: 0 | L27: 0 | M27: 0 | N27: 0 | O27: 0 | P27: =SUM(K27:O27) -> 0 | R27: 下関市 | S27: 0 | T27: 0 | U27: 0 | V27: 0 | W27: 0 | X27: =SUM(S27:W27) -> 0
B28: その他・秋田県 | C28: 0 | D28: 0 | E28: 0 | F28: 0 | G28: 0 | H28: =SUM(C28:G28) -> 0 | J28: その他・長野県 | K28: 1 | L28: 0 | M28: 0 | N28: 1 | O28: 0 | P28: =SUM(K28:O28) -> 2 | R28: その他・山口県 | S28: 1 | T28: 0 | U28: 0 | V28: 0 | W28: 0 | X28: =SUM(S28:W28) -> 1
B29: 山形県計 | C29: =SUM(C30:C31) -> 0 | D29: =SUM(D30:D31) -> 1 | E29: =SUM(E30:E31) -> 0 | F29: =SUM(F30:F31) -> 0 | G29: =SUM(G30:G31) -> 3 | H29: =SUM(H30:H31) -> 4 | J29: 岐阜県計 | K29: =SUM(K30:K31) -> 0 | L29: =SUM(L30:L31) -> 1 | M29: =SUM(M30:M31) -> 0 | N29: =SUM(N30:N31) -> 0 | O29: =SUM(O30:O31) -> 0 | P29: =SUM(P30:P31) -> 1 | R29: 徳島県計 | S29: =SUM(S30) -> 0 | T29: =SUM(T30) -> 0 | U29: =SUM(U30) -> 0 | V29: =SUM(V30) -> 0 | W29: =SUM(W30) -> 0 | X29: =SUM(X30) -> 0
B30: 山形市 | C30: 0 | D30: 0 | E30: 0 | F30: 0 | G30: 0 | H30: =SUM(C30:G30) -> 0 | J30: 岐阜市 | K30: 0 | L30: 0 | M30: 0 | N30: 0 | O30: 0 | P30: =SUM(K30:O30) -> 0 | R30: 徳島県 | S30: 0 | T30: 0 | U30: 0 | V30: 0 | W30: 0 | X30: =SUM(S30:W30) -> 0
B31: その他・山形県 | C31: 0 | D31: 1 | E31: 0 | F31: 0 | G31: 3 | H31: =SUM(C31:G31) -> 4 | J31: その他・岐阜県 | K31: 0 | L31: 1 | M31: 0 | N31: 0 | O31: 0 | P31: =SUM(K31:O31) -> 1 | R31: 香川県計 | S31: =SUM(S32:S33) -> 3 | T31: =SUM(T32:T33) -> 3 | U31: =SUM(U32:U33) -> 0 | V31: =SUM(V32:V33) -> 0 | W31: =SUM(W32:W33) -> 0 | X31: =SUM(X32:X33) -> 6
B32: 福島県計 | C32: =SUM(C33:C36) -> 0 | D32: =SUM(D33:D36) -> 0 | E32: =SUM(E33:E36) -> 3 | F32: =SUM(F33:F36) -> 0 | G32: =SUM(G33:G36) -> 4 | H32: =SUM(H33:H36) -> 7 | J32: 静岡県計 | K32: =SUM(K33:K37) -> 0 | L32: =SUM(L33:L37) -> 0 | M32: =SUM(M33:M37) -> 0 | N32: =SUM(N33:N37) -> 0 | O32: =SUM(O33:O37) -> 0 | P32: =SUM(P33:P37) -> 0 | R32: 高松市 | S32: 0 | T32: 0 | U32: 0 | V32: 0 | W32: 0 | X32: =SUM(S32:W32) -> 0
B33: 福島市 | C33: 0 | D33: 0 | E33: 0 | F33: 0 | G33: 0 | H33: =SUM(C33:G33) -> 0 | J33: 静岡市 | K33: 0 | L33: 0 | M33: 0 | N33: 0 | O33: 0 | P33: =SUM(K33:O33) -> 0 | R33: その他・香川県 | S33: 3 | T33: 3 | U33: 0 | V33: 0 | W33: 0 | X33: =SUM(S33:W33) -> 6
B34: 郡山市 | C34: 0 | D34: 0 | E34: 0 | F34: 0 | G34: 0 | H34: =SUM(C34:G34) -> 0 | J34: 浜松市 | K34: 0 | L34: 0 | M34: 0 | N34: 0 | O34: 0 | P34: =SUM(K34:O34) -> 0 | R34: 愛媛県計 | S34: =SUM(S35:S36) -> 0 | T34: =SUM(T35:T36) -> 1 | U34: =SUM(U35:U36) -> 0 | V34: =SUM(V35:V36) -> 0 | W34: =SUM(W35:W36) -> 1 | X34: =SUM(X35:X36) -> 2
B35: いわき市 | C35: 0 | D35: 0 | E35: 0 | F35: 0 | G35: 0 | H35: =SUM(C35:G35) -> 0 | J35: 沼津市 | K35: 0 | L35: 0 | M35: 0 | N35: 0 | O35: 0 | P35: =SUM(K35:O35) -> 0 | R35: 松山市 | S35: 0 | T35: 0 | U35: 0 | V35: 0 | W35: 0 | X35: =SUM(S35:W35) -> 0
B36: その他・福島県 | C36: 0 | D36: 0 | E36: 3 | F36: 0 | G36: 4 | H36: =SUM(C36:G36) -> 7 | J36: 富士市 | K36: 0 | L36: 0 | M36: 0 | N36: 0 | O36: 0 | P36: =SUM(K36:O36) -> 0 | R36: その他・愛媛県 | S36: 0 | T36: 1 | U36: 0 | V36: 0 | W36: 1 | X36: =SUM(S36:W36) -> 2
B37: 茨城県計 | C37: =SUM(C38:C40) -> 0 | D37: =SUM(D38:D40) -> 2 | E37: =SUM(E38:E40) -> 0 | F37: =SUM(F38:F40) -> 0 | G37: =SUM(G38:G40) -> 2 | H37: =SUM(H38:H40) -> 4 | J37: その他・静岡県 | K37: 0 | L37: 0 | M37: 0 | N37: 0 | O37: 0 | P37: =SUM(K37:O37) -> 0 | R37: 高知県計 | S37: =SUM(S38:S39) -> 0 | T37: =SUM(T38:T39) -> 0 | U37: =SUM(U38:U39) -> 48 | V37: =SUM(V38:V39) -> 0 | W37: =SUM(W38:W39) -> 0 | X37: =SUM(X38:X39) -> 48
B38: 水戸市 | C38: 0 | D38: 0 | E38: 0 | F38: 0 | G38: 0 | H38: =SUM(C38:G38) -> 0 | J38: 愛知県計 | K38: =SUM(K39:K45) -> 0 | L38: =SUM(L39:L45) -> 0 | M38: =SUM(M39:M45) -> 0 | N38: =SUM(N39:N45) -> 0 | O38: =SUM(O39:O45) -> 280 | P38: =SUM(P39:P45) -> 280 | R38: 高知市 | S38: 0 | T38: 0 | U38: 48 | V38: 0 | W38: 0 | X38: =SUM(S38:W38) -> 48
B39: つくば市 | C39: 0 | D39: 1 | E39: 0 | F39: 0 | G39: 0 | H39: =SUM(C39:G39) -> 1 | J39: 名古屋市 | K39: 0 | L39: 0 | M39: 0 | N39: 0 | O39: 0 | P39: =SUM(K39:O39) -> 0 | R39: その他・高知県 | S39: 0 | T39: 0 | U39: 0 | V39: 0 | W39: 0 | X39: =SUM(S39:W39) -> 0
B40: その他・茨城県 | C40: 0 | D40: 1 | E40: 0 | F40: 0 | G40: 2 | H40: =SUM(C40:G40) -> 3 | J40: 豊橋市 | K40: 0 | L40: 0 | M40: 0 | N40: 0 | O40: 0 | P40: =SUM(K40:O40) -> 0 | R40: 福岡県計 | S40: =SUM(S41:S45) -> 0 | T40: =SUM(T41:T45) -> 2 | U40: =SUM(U41:U45) -> 1 | V40: =SUM(V41:V45) -> 0 | W40: =SUM(W41:W45) -> 11 | X40: =SUM(X41:X45) -> 14
B41: 栃木県計 | C41: =SUM(C42:C43) -> 0 | D41: =SUM(D42:D43) -> 0 | E41: =SUM(E42:E43) -> 0 | F41: =SUM(F42:F43) -> 0 | G41: =SUM(G42:G43) -> 0 | H41: =SUM(H42:H43) -> 0 | J41: 岡崎市 | K41: 0 | L41: 0 | M41: 0 | N41: 0 | O41: 0 | P41: =SUM(K41:O41) -> 0 | R41: 北九州市 | S41: 0 | T41: 2 | U41: 1 | V41: 0 | W41: 11 | X41: =SUM(S41:W41) -> 14
B42: 宇都宮市 | C42: 0 | D42: 0 | E42: 0 | F42: 0 | G42: 0 | H42: =SUM(C42:G42) -> 0 | J42: 一宮市 | K42: 0 | L42: 0 | M42: 0 | N42: 0 | O42: 0 | P42: =SUM(K42:O42) -> 0 | R42: 福岡市 | S42: 0 | T42: 0 | U42: 0 | V42: 0 | W42: 0 | X42: =SUM(S42:W42) -> 0
B43: その他・栃木県 | C43: 0 | D43: 0 | E43: 0 | F43: 0 | G43: 0 | H43: =SUM(C43:G43) -> 0 | J43: 春日井市 | K43: 0 | L43: 0 | M43: 0 | N43: 0 | O43: 0 | P43: =SUM(K43:O43) -> 0 | R43: 大牟田市 | S43: 0 | T43: 0 | U43: 0 | V43: 0 | W43: 0 | X43: =SUM(S43:W43) -> 0
B44: 群馬県計 | C44: =SUM(C45:C49) -> 0 | D44: =SUM(D45:D49) -> 7 | E44: =SUM(E45:E49) -> 1 | F44: =SUM(F45:F49) -> 0 | G44: =SUM(G45:G49) -> 0 | H44: =SUM(H45:H49) -> 8 | J44: 豊田市 | K44: 0 | L44: 0 | M44: 0 | N44: 0 | O44: 0 | P44: =SUM(K44:O44) -> 0 | R44: 久留米市 | S44: 0 | T44: 0 | U44: 0 | V44: 0 | W44: 0 | X44: =SUM(S44:W44) -> 0
...

Sheet 表8.3
B2: 表8.3(1) 立入検査・その他行政指導件数 都道府県市別（大気汚染防止法に係る一般粉じん発生施設） | K2: 表8.3(2) 立入検査・その他行政指導件数 都道府県市別（大気汚染防止法に係る一般粉じん発生施設） | T2: 表8.3(3) 立入検査・その他行政指導件数 都道府県市別（大気汚染防止法に係る一般粉じん発生施設）
B4: 自治体名 | C4: 立入検査 実施工場・ 事業場数 | D4: 立入検査 実施施設数 | E4: 基準適合命令 施設数 | F4: 一時停止命令 施設数 | G4: (E)又は(F)の 命令違反 告発施設数 | H4: 届出違反告発施設数 | I4: 行政指導 施設数 | K4: 自治体名 | L4: 立入検査 実施工場・ 事業場数 | M4: 立入検査 実施施設数 | N4: 基準適合命令 施設数 | O4: 一時停止命令 施設数 | P4: (E)又は(F)の 命令違反 告発施設数 | Q4: 届出違反告発施設数 | R4: 行政指導 施設数 | T4: 自治体名 | U4: 立入検査 実施工場・ 事業場数 | V4: 立入検査 実施施設数 | W4: 基準適合命令 施設数 | X4: 一時停止命令 施設数 | Y4: (E)又は(F)の 命令違反 告発施設数 | Z4: 届出違反告発施設数 | AA4: 行政指導 施設数
C5: (A) | D5: (A') | E5: (E) | F5: (F) | G5: (G) | H5: (H) | I5: (d) | L5: (A) | M5: (A') | N5: (E) | O5: (F) | P5: (G) | Q5: (H) | R5: (d) | U5: (A) | V5: (A') | W5: (E) | X5: (F) | Y5: (G) | Z5: (H) | AA5: (d)
B6: 北海道計 | C6: =SUM(C7:C13) -> 118 | D6: =SUM(D7:D13) -> 803 | E6: =SUM(E7:E13) -> 0 | F6: =SUM(F7:F13) -> 0 | G6: =SUM(G7:G13) -> 0 | H6: =SUM(H7:H13) -> 0 | I6: =SUM(I7:I13) -> 60 | K6: 新潟県計 | L6: =SUM(L7:L10) -> 1 | M6: =SUM(M7:M10) -> 2 | N6: =SUM(N7:N10) -> 0 | O6: =SUM(O7:O10) -> 0 | P6: =SUM(P7:P10) -> 0 | Q6: =SUM(Q7:Q10) -> 0 | R6: =SUM(R7:R10) -> 2 | T6: 和歌山県計 | U6: =SUM(U7:U8) -> 0 | V6: =SUM(V7:V8) -> 0 | W6: =SUM(W7:W8) -> 0 | X6: =SUM(X7:X8) -> 0 | Y6: =SUM(Y7:Y8) -> 0 | Z6: =SUM(Z7:Z8) -> 0 | AA6: =SUM(AA7:AA8) -> 0
B7: 札幌市 | C7: 12 | D7: 28 | E7: 0 | F7: 0 | G7: 0 | H7: 0 | I7: 0 | K7: 新潟市 | L7: 1 | M7: 2 | N7: 0 | O7: 0 | P7: 0 | Q7: 0 | R7: 2 | T7: 和歌山市 | U7: 0 | V7: 0 | W7: 0 | X7: 0 | Y7: 0 | Z7: 0 | AA7: 0
B8: 函館市 | C8: 0 | D8: 0 | E8: 0 | F8: 0 | G8: 0 | H8: 0 | I8: 0 | K8: 長岡市 | L8: 0 | M8: 0 | N8: 0 | O8: 0 | P8: 0 | Q8: 0 | R8: 0 | T8: その他・和歌山県 | U8: 0 | V8: 0 | W8: 0 | X8: 0 | Y8: 0 | Z8: 0 | AA8: 0
B9: 小樽市 | C9: 0 | D9: 0 | E9: 0 | F9: 0 | G9: 0 | H9: 0 | I9: 0 | K9: 上越市 | L9: 0 | M9: 0 | N9: 0 | O9: 0 | P9: 0 | Q9: 0 | R9: 0 | T9: 鳥取県計 | U9: =SUM(U10:U11) -> 1 | V9: =SUM(V10:V11) -> 1 | W9: =SUM(W10:W11) -> 0 | X9: =SUM(X10:X11) -> 0 | Y9: =SUM(Y10:Y11) -> 0 | Z9: =SUM(Z10:Z11) -> 0 | AA9: =SUM(AA10:AA11) -> 0
B10: 旭川市 | C10: 0 | D10: 0 | E10: 0 | F10: 0 | G10: 0 | H10: 0 | I10: 0 | K10: その他・新潟県 | L10: 0 | M10: 0 | N10: 0 | O10: 0 | P10: 0 | Q10: 0 | R10: 0 | T10: 鳥取市 | U10: 0 | V10: 0 | W10: 0 | X10: 0 | Y10: 0 | Z10: 0 | AA10: 0
B11: 室蘭市 | C11: 0 | D11: 0 | E11: 0 | F11: 0 | G11: 0 | H11: 0 | I11: 0 | K11: 富山県計 | L11: =SUM(L12:L13) -> 4 | M11: =SUM(M12:M13) -> 42 | N11: =SUM(N12:N13) -> 0 | O11: =SUM(O12:O13) -> 0 | P11: =SUM(P12:P13) -> 0 | Q11: =SUM(Q12:Q13) -> 0 | R11: =SUM(R12:R13) -> 0 | T11: その他・鳥取県 | U11: 1 | V11: 1 | W11: 0 | X11: 0 | Y11: 0 | Z11: 0 | AA11: 0
B12: 苫小牧市 | C12: 0 | D12: 0 | E12: 0 | F12: 0 | G12: 0 | H12: 0 | I12: 0 | K12: 富山市 | L12: 0 | M12: 0 | N12: 0 | O12: 0 | P12: 0 | Q12: 0 | R12: 0 | T12: 島根県計 | U12: =SUM(U13:U14) -> 2 | V12: =SUM(V13:V14) -> 6 | W12: =SUM(W13:W14) -> 0 | X12: =SUM(X13:X14) -> 0 | Y12: =SUM(Y13:Y14) -> 0 | Z12: =SUM(Z13:Z14) -> 0 | AA12: =SUM(AA13:AA14) -> 2
B13: その他・北海道 | C13: 106 | D13: 775 | E13: 0 | F13: 0 | G13: 0 | H13: 0 | I13: 60 | K13: その他・富山県 | L13: 4 | M13: 42 | N13: 0 | O13: 0 | P13: 0 | Q13: 0 | R13: 0 | T13: 松江市 | U13: 1 | V13: 1 | W13: 0 | X13: 0 | Y13: 0 | Z13: 0 | AA13: 1
B14: 青森県計 | C14: =SUM(C15:C17) -> 40 | D14: =SUM(D15:D17) -> 242 | E14: =SUM(E15:E17) -> 0 | F14: =SUM(F15:F17) -> 0 | G14: =SUM(G15:G17) -> 0 | H14: =SUM(H15:H17) -> 0 | I14: =SUM(I15:I17) -> 11 | K14: 石川県計 | L14: =SUM(L15:L16) -> 25 | M14: =SUM(M15:M16) -> 43 | N14: =SUM(N15:N16) -> 0 | O14: =SUM(O15:O16) -> 0 | P14: =SUM(P15:P16) -> 0 | Q14: =SUM(Q15:Q16) -> 0 | R14: =SUM(R15:R16) -> 1 | T14: その他・島根県 | U14: 1 | V14: 5 | W14: 0 | X14: 0 | Y14: 0 | Z14: 0 | AA14: 1
B15: 青森市 | C15: 2 | D15: 5 | E15: 0 | F15: 0 | G15: 0 | H15: 0 | I15: 0 | K15: 金沢市 | L15: 0 | M15: 0 | N15: 0 | O15: 0 | P15: 0 | Q15: 0 | R15: 0 | T15: 岡山県計 | U15: =SUM(U16:U18) -> 37 | V15: =SUM(V16:V18) -> 427 | W15: =SUM(W16:W18) -> 0 | X15: =SUM(X16:X18) -> 0 | Y15: =SUM(Y16:Y18) -> 0 | Z15: =SUM(Z16:Z18) -> 0 | AA15: =SUM(AA16:AA18) -> 3
B16: 八戸市 | C16: 17 | D16: 177 | E16: 0 | F16: 0 | G16: 0 | H16: 0 | I16: 5 | K16: その他・石川県 | L16: 25 | M16: 43 | N16: 0 | O16: 0 | P16: 0 | Q16: 0 | R16: 1 | T16: 岡山市 | U16: 14 | V16: 40 | W16: 0 | X16: 0 | Y16: 0 | Z16: 0 | AA16: 0
B17: その他・青森県 | C17: 21 | D17: 60 | E17: 0 | F17: 0 | G17: 0 | H17: 0 | I17: 6 | K17: 福井県計 | L17: =SUM(L18:L19) -> 4 | M17: =SUM(M18:M19) -> 26 | N17: =SUM(N18:N19) -> 0 | O17: =SUM(O18:O19) -> 0 | P17: =SUM(P18:P19) -> 0 | Q17: =SUM(Q18:Q19) -> 0 | R17: =SUM(R18:R19) -> 0 | T17: 倉敷市 | U17: 14 | V17: 218 | W17: 0 | X17: 0 | Y17: 0 | Z17: 0 | AA17: 0
B18: 岩手県計 | C18: =SUM(C19:C20) -> 4 | D18: =SUM(D19:D20) -> 7 | E18: =SUM(E19:E20) -> 0 | F18: =SUM(F19:F20) -> 0 | G18: =SUM(G19:G20) -> 0 | H18: =SUM(H19:H20) -> 0 | I18: =SUM(I19:I20) -> 0 | K18: 福井市 | L18: 1 | M18: 14 | N18: 0 | O18: 0 | P18: 0 | Q18: 0 | R18: 0 | T18: その他・岡山県 | U18: 9 | V18: 169 | W18: 0 | X18: 0 | Y18: 0 | Z18: 0 | AA18: 3
B19: 盛岡市 | C19: 0 | D19: 0 | E19: 0 | F19: 0 | G19: 0 | H19: 0 | I19: 0 | K19: その他・福井県 | L19: 3 | M19: 12 | N19: 0 | O19: 0 | P19: 0 | Q19: 0 | R19: 0 | T19: 広島県計 | U19: =SUM(U20:U23) -> 37 | V19: =SUM(V20:V23) -> 223 | W19: =SUM(W20:W23) -> 0 | X19: =SUM(X20:X23) -> 0 | Y19: =SUM(Y20:Y23) -> 0 | Z19: =SUM(Z20:Z23) -> 0 | AA19: =SUM(AA20:AA23) -> 0
B20: その他・岩手県 | C20: 4 | D20: 7 | E20: 0 | F20: 0 | G20: 0 | H20: 0 | I20: 0 | K20: 山梨県計 | L20: =SUM(L21:L22) -> 8 | M20: =SUM(M21:M22) -> 39 | N20: =SUM(N21:N22) -> 0 | O20: =SUM(O21:O22) -> 0 | P20: =SUM(P21:P22) -> 0 | Q20: =SUM(Q21:Q22) -> 0 | R20: =SUM(R21:R22) -> 5 | T20: 広島市 | U20: 0 | V20: 0 | W20: 0 | X20: 0 | Y20: 0 | Z20: 0 | AA20: 0
B21: 宮城県計 | C21: =SUM(C22:C23) -> 13 | D21: =SUM(D22:D23) -> 35 | E21: =SUM(E22:E23) -> 0 | F21: =SUM(F22:F23) -> 0 | G21: =SUM(G22:G23) -> 0 | H21: =SUM(H22:H23) -> 0 | I21: =SUM(I22:I23) -> 5 | K21: 甲府市 | L21: 0 | M21: 0 | N21: 0 | O21: 0 | P21: 0 | Q21: 0 | R21: 0 | T21: 呉市 | U21: 0 | V21: 0 | W21: 0 | X21: 0 | Y21: 0 | Z21: 0 | AA21: 0
B22: 仙台市 | C22: 5 | D22: 25 | E22: 0 | F22: 0 | G22: 0 | H22: 0 | I22: 5 | K22: その他・山梨県 | L22: 8 | M22: 39 | N22: 0 | O22: 0 | P22: 0 | Q22: 0 | R22: 5 | T22: 福山市 | U22: 3 | V22: 3 | W22: 0 | X22: 0 | Y22: 0 | Z22: 0 | AA22: 0
B23: その他・宮城県 | C23: 8 | D23: 10 | E23: 0 | F23: 0 | G23: 0 | H23: 0 | I23: 0 | K23: 長野県計 | L23: =SUM(L24:L26) -> 15 | M23: =SUM(M24:M26) -> 141 | N23: =SUM(N24:N26) -> 0 | O23: =SUM(O24:O26) -> 0 | P23: =SUM(P24:P26) -> 0 | Q23: =SUM(Q24:Q26) -> 0 | R23: =SUM(R24:R26) -> 1 | T23: その他・広島県 | U23: 34 | V23: 220 | W23: 0 | X23: 0 | Y23: 0 | Z23: 0 | AA23: 0
B24: 秋田県計 | C24: =SUM(C25:C26) -> 1 | D24: =SUM(D25:D26) -> 2 | E24: =SUM(E25:E26) -> 0 | F24: =SUM(F25:F26) -> 0 | G24: =SUM(G25:G26) -> 0 | H24: =SUM(H25:H26) -> 0 | I24: =SUM(I25:I26) -> 0 | K24: 長野市 | L24: 0 | M24: 0 | N24: 0 | O24: 0 | P24: 0 | Q24: 0 | R24: 0 | T24: 山口県計 | U24: =SUM(U25:U26) -> 3 | V24: =SUM(V25:V26) -> 31 | W24: =SUM(W25:W26) -> 0 | X24: =SUM(X25:X26) -> 0 | Y24: =SUM(Y25:Y26) -> 0 | Z24: =SUM(Z25:Z26) -> 0 | AA24: =SUM(AA25:AA26) -> 1
B25: 秋田市 | C25: 0 | D25: 0 | E25: 0 | F25: 0 | G25: 0 | H25: 0 | I25: 0 | K25: 松本市 | L25: 0 | M25: 0 | N25: 0 | O25: 0 | P25: 0 | Q25: 0 | R25: 0 | T25: 下関市 | U25: 0 | V25: 0 | W25: 0 | X25: 0 | Y25: 0 | Z25: 0 | AA25: 0
B26: その他・秋田県 | C26: 1 | D26: 2 | E26: 0 | F26: 0 | G26: 0 | H26: 0 | I26: 0 | K26: その他・長野県 | L26: 15 | M26: 141 | N26: 0 | O26: 0 | P26: 0 | Q26: 0 | R26: 1 | T26: その他・山口県 | U26: 3 | V26: 31 | W26: 0 | X26: 0 | Y26: 0 | Z26: 0 | AA26: 1
B27: 山形県計 | C27: =SUM(C28:C29) -> 10 | D27: =SUM(D28:D29) -> 12 | E27: =SUM(E28:E29) -> 0 | F27: =SUM(F28:F29) -> 0 | G27: =SUM(G28:G29) -> 0 | H27: =SUM(H28:H29) -> 0 | I27: =SUM(I28:I29) -> 4 | K27: 岐阜県計 | L27: =SUM(L28:L29) -> 47 | M27: =SUM(M28:M29) -> 113 | N27: =SUM(N28:N29) -> 0 | O27: =SUM(O28:O29) -> 0 | P27: =SUM(P28:P29) -> 0 | Q27: =SUM(Q28:Q29) -> 0 | R27: =SUM(R28:R29) -> 1 | T27: 徳島県計 | U27: =SUM(U28) -> 0 | V27: =SUM(V28) -> 0 | W27: =SUM(W28) -> 0 | X27: =SUM(X28) -> 0 | Y27: =SUM(Y28) -> 0 | Z27: =SUM(Z28) -> 0 | AA27: =SUM(AA28) -> 0
B28: 山形市 | C28: 1 | D28: 1 | E28: 0 | F28: 0 | G28: 0 | H28: 0 | I28: 0 | K28: 岐阜市 | L28: 5 | M28: 24 | N28: 0 | O28: 0 | P28: 0 | Q28: 0 | R28: 0 | T28: 徳島県 | U28: 0 | V28: 0 | W28: 0 | X28: 0 | Y28: 0 | Z28: 0 | AA28: 0
B29: その他・山形県 | C29: 9 | D29: 11 | E29: 0 | F29: 0 | G29: 0 | H29: 0 | I29: 4 | K29: その他・岐阜県 | L29: 42 | M29: 89 | N29: 0 | O29: 0 | P29: 0 | Q29: 0 | R29: 1 | T29: 香川県計 | U29: =SUM(U30:U31) -> 73 | V29: =SUM(V30:V31) -> 111 | W29: =SUM(W30:W31) -> 0 | X29: =SUM(X30:X31) -> 0 | Y29: =SUM(Y30:Y31) -> 0 | Z29: =SUM(Z30:Z31) -> 0 | AA29: =SUM(AA30:AA31) -> 6
B30: 福島県計 | C30: =SUM(C31:C34) -> 16 | D30: =SUM(D31:D34) -> 70 | E30: =SUM(E31:E34) -> 0 | F30: =SUM(F31:F34) -> 0 | G30: =SUM(G31:G34) -> 0 | H30: =SUM(H31:H34) -> 0 | I30: =SUM(I31:I34) -> 7 | K30: 静岡県計 | L30: =SUM(L31:L35) -> 10 | M30: =SUM(M31:M35) -> 31 | N30: =SUM(N31:N35) -> 0 | O30: =SUM(O31:O35) -> 0 | P30: =SUM(P31:P35) -> 0 | Q30: =SUM(Q31:Q35) -> 0 | R30: =SUM(R31:R35) -> 0 | T30: 高松市 | U30: 5 | V30: 5 | W30: 0 | X30: 0 | Y30: 0 | Z30: 0 | AA30: 0
B31: 福島市 | C31: 0 | D31: 0 | E31: 0 | F31: 0 | G31: 0 | H31: 0 | I31: 0 | K31: 静岡市 | L31: 0 | M31: 0 | N31: 0 | O31: 0 | P31: 0 | Q31: 0 | R31: 0 | T31: その他・香川県 | U31: 68 | V31: 106 | W31: 0 | X31: 0 | Y31: 0 | Z31: 0 | AA31: 6
B32: 郡山市 | C32: 0 | D32: 0 | E32: 0 | F32: 0 | G32: 0 | H32: 0 | I32: 0 | K32: 浜松市 | L32: 0 | M32: 0 | N32: 0 | O32: 0 | P32: 0 | Q32: 0 | R32: 0 | T32: 愛媛県計 | U32: =SUM(U33:U34) -> 20 | V32: =SUM(V33:V34) -> 203 | W32: =SUM(W33:W34) -> 0 | X32: =SUM(X33:X34) -> 0 | Y32: =SUM(Y33:Y34) -> 0 | Z32: =SUM(Z33:Z34) -> 0 | AA32: =SUM(AA33:AA34) -> 2
B33: いわき市 | C33: 0 | D33: 0 | E33: 0 | F33: 0 | G33: 0 | H33: 0 | I33: 0 | K33: 沼津市 | L33: 0 | M33: 0 | N33: 0 | O33: 0 | P33: 0 | Q33: 0 | R33: 0 | T33: 松山市 | U33: 0 | V33: 0 | W33: 0 | X33: 0 | Y33: 0 | Z33: 0 | AA33: 0
B34: その他・福島県 | C34: 16 | D34: 70 | E34: 0 | F34: 0 | G34: 0 | H34: 0 | I34: 7 | K34: 富士市 | L34: 3 | M34: 12 | N34: 0 | O34: 0 | P34: 0 | Q34: 0 | R34: 0 | T34: その他・愛媛県 | U34: 20 | V34: 203 | W34: 0 | X34: 0 | Y34: 0 | Z34: 0 | AA34: 2
B35: 茨城県計 | C35: =SUM(C36:C38) -> 22 | D35: =SUM(D36:D38) -> 254 | E35: =SUM(E36:E38) -> 0 | F35: =SUM(F36:F38) -> 0 | G35: =SUM(G36:G38) -> 0 | H35: =SUM(H36:H38) -> 0 | I35: =SUM(I36:I38) -> 3 | K35: その他・静岡県 | L35: 7 | M35: 19 | N35: 0 | O35: 0 | P35: 0 | Q35: 0 | R35: 0 | T35: 高知県計 | U35: =SUM(U36:U37) -> 2 | V35: =SUM(V36:V37) -> 50 | W35: =SUM(W36:W37) -> 0 | X35: =SUM(X36:X37) -> 0 | Y35: =SUM(Y36:Y37) -> 0 | Z35: =SUM(Z36:Z37) -> 0 | AA35: =SUM(AA36:AA37) -> 48
B36: 水戸市 | C36: 0 | D36: 0 | E36: 0 | F36: 0 | G36: 0 | H36: 0 | I36: 0 | K36: 愛知県計 | L36: =SUM(L37:L43) -> 210 | M36: =SUM(M37:M43) -> 1983 | N36: =SUM(N37:N43) -> 0 | O36: =SUM(O37:O43) -> 0 | P36: =SUM(P37:P43) -> 0 | Q36: =SUM(Q37:Q43) -> 0 | R36: =SUM(R37:R43) -> 268 | T36: 高知市 | U36: 2 | V36: 50 | W36: 0 | X36: 0 | Y36: 0 | Z36: 0 | AA36: 48
B37: つくば市 | C37: 0 | D37: 0 | E37: 0 | F37: 0 | G37: 0 | H37: 0 | I37: 1 | K37: 名古屋市 | L37: 4 | M37: 18 | N37: 0 | O37: 0 | P37: 0 | Q37: 0 | R37: 0 | T37: その他・高知県 | U37: 0 | V37: 0 | W37: 0 | X37: 0 | Y37: 0 | Z37: 0 | AA37: 0
B38: その他・茨城県 | C38: 22 | D38: 254 | E38: 0 | F38: 0 | G38: 0 | H38: 0 | I38: 2 | K38: 豊橋市 | L38: 0 | M38: 0 | N38: 0 | O38: 0 | P38: 0 | Q38: 0 | R38: 0 | T38: 福岡県計 | U38: =SUM(U39:U43) -> 71 | V38: =SUM(V39:V43) -> 2031 | W38: =SUM(W39:W43) -> 0 | X38: =SUM(X39:X43) -> 0 | Y38: =SUM(Y39:Y43) -> 0 | Z38: =SUM(Z39:Z43) -> 0 | AA38: =SUM(AA39:AA43) -> 14
B39: 栃木県計 | C39: =SUM(C40:C41) -> 6 | D39: =SUM(D40:D41) -> 62 | E39: =SUM(E40:E41) -> 0 | F39: =SUM(F40:F41) -> 0 | G39: =SUM(G40:G41) -> 0 | H39: =SUM(H40:H41) -> 0 | I39: =SUM(I40:I41) -> 0 | K39: 岡崎市 | L39: 0 | M39: 0 | N39: 0 | O39: 0 | P39: 0 | Q39: 0 | R39: 0 | T39: 北九州市 | U39: 49 | V39: 421 | W39: 0 | X39: 0 | Y39: 0 | Z39: 0 | AA39: 14
B40: 宇都宮市 | C40: 0 | D40: 0 | E40: 0 | F40: 0 | G40: 0 | H40: 0 | I40: 0 | K40: 一宮市 | L40: 4 | M40: 4 | N40: 0 | O40: 0 | P40: 0 | Q40: 0 | R40: 0 | T40: 福岡市 | U40: 5 | V40: 37 | W40: 0 | X40: 0 | Y40: 0 | Z40: 0 | AA40: 0
B41: その他・栃木県 | C41: 6 | D41: 62 | E41: 0 | F41: 0 | G41: 0 | H41: 0 | I41: 0 | K41: 春日井市 | L41: 4 | M41: 103 | N41: 0 | O41: 0 | P41: 0 | Q41: 0 | R41: 0 | T41: 大牟田市 | U41: 0 | V41: 0 | W41: 0 | X41: 0 | Y41: 0 | Z41: 0 | AA41: 0
B42: 群馬県計 | C42: =SUM(C43:C47) -> 22 | D42: =SUM(D43:D47) -> 104 | E42: =SUM(E43:E47) -> 0 | F42: =SUM(F43:F47) -> 0 | G42: =SUM(G43:G47) -> 0 | H42: =SUM(H43:H47) -> 0 | I42: =SUM(I43:I47) -> 8 | K42: 豊田市 | L42: 0 | M42: 0 | N42: 0 | O42: 0 | P42: 0 | Q42: 0 | R42: 0 | T42: 久留米市 | U42: 0 | V42: 0 | W42: 0 | X42: 0 | Y42: 0 | Z42: 0 | AA42: 0
...

Sheet 表8.4
B2: 表8.4(1) 立入検査実施件数 年度別・都道府県市別 （大気汚染防止法に係る一般粉じん発生施設） | I2: 表8.4(2) 立入検査実施件数 年度別・都道府県市別 （大気汚染防止法に係る一般粉じん発生施設） | P2: 表8.4(3) 立入検査実施件数 年度別・都道府県市別 （大気汚染防止法に係る一般粉じん発生施設）
B4: 自治体名 | C4: 立入検査実施工場・事業場数 | I4: 自治体名 | J4: 立入検査実施工場・事業場数 | P4: 自治体名 | Q4: 立入検査実施工場・事業場数
C5: 平成30年度 | D5: 令和元年度 | E5: 令和２年度 | F5: 令和３年度 | G5: 令和４年度 | J5: 平成30年度 | K5: 令和元年度 | L5: 令和２年度 | M5: 令和３年度 | N5: 令和４年度 | Q5: 平成30年度 | R5: 令和元年度 | S5: 令和２年度 | T5: 令和３年度 | U5: 令和４年度
B6: 北海道計 | C6: =SUM(C7:C13) -> 100 | D6: =SUM(D7:D13) -> 124 | E6: =SUM(E7:E13) -> 82 | F6: =SUM(F7:F13) -> 95 | G6: =SUM(G7:G13) -> 118 | I6: 新潟県計 | J6: =SUM(J7:J10) -> 2 | K6: =SUM(K7:K10) -> 0 | L6: =SUM(L7:L10) -> 4 | M6: =SUM(M7:M10) -> 2 | N6: =SUM(N7:N10) -> 1 | P6: 和歌山県計 | Q6: =SUM(Q7:Q8) -> 0 | R6: =SUM(R7:R8) -> 0 | S6: =SUM(S7:S8) -> 0 | T6: =SUM(T7:T8) -> 0 | U6: =SUM(U7:U8) -> 0
B7: 札幌市 | C7: 5 | D7: 3 | E7: 4 | F7: 7 | G7: ='表8.3'!C7 -> 12 | I7: 新潟市 | J7: 2 | K7: 0 | L7: 2 | M7: 2 | N7: ='表8.3'!L7 -> 1 | P7: 和歌山市 | R7: 0 | S7: 0 | T7: 0 | U7: ='表8.3'!U7 -> 0
B8: 函館市 | C8: 0 | D8: 0 | E8: 0 | F8: 0 | G8: ='表8.3'!C8 -> 0 | I8: 長岡市 | J8: 0 | K8: 0 | L8: 0 | M8: 0 | N8: ='表8.3'!L8 -> 0 | P8: その他・和歌山県 | R8: 0 | S8: 0 | T8: 0 | U8: ='表8.3'!U8 -> 0
B9: 小樽市 | C9: 0 | D9: 0 | E9: 0 | F9: 0 | G9: ='表8.3'!C9 -> 0 | I9: 上越市 | J9: 0 | K9: 0 | L9: 0 | M9: 0 | N9: ='表8.3'!L9 -> 0 | P9: 鳥取県計 | Q9: =SUM(Q10:Q11) -> 7 | R9: =SUM(R10:R11) -> 0 | S9: =SUM(S10:S11) -> 2 | T9: =SUM(T10:T11) -> 1 | U9: =SUM(U10:U11) -> 1
B10: 旭川市 | C10: 0 | D10: 0 | E10: 0 | F10: 0 | G10: ='表8.3'!C10 -> 0 | I10: その他・新潟県 | J10: 0 | K10: 0 | L10: 2 | M10: 0 | N10: ='表8.3'!L10 -> 0 | P10: 鳥取市 | Q10: 0 | R10: 0 | S10: 0 | T10: 1 | U10: ='表8.3'!U10 -> 0
B11: 室蘭市 | C11: 0 | D11: 0 | E11: 0 | F11: 0 | G11: ='表8.3'!C11 -> 0 | I11: 富山県計 | J11: =SUM(J12:J13) -> 8 | K11: =SUM(K12:K13) -> 8 | L11: =SUM(L12:L13) -> 8 | M11: =SUM(M12:M13) -> 10 | N11: =SUM(N12:N13) -> 4 | P11: その他・鳥取県 | Q11: 7 | R11: 0 | S11: 2 | T11: 0 | U11: ='表8.3'!U11 -> 1
B12: 苫小牧市 | C12: 0 | D12: 0 | E12: 0 | F12: 0 | G12: ='表8.3'!C12 -> 0 | I12: 富山市 | J12: 0 | K12: 0 | L12: 0 | M12: 0 | N12: ='表8.3'!L12 -> 0 | P12: 島根県計 | Q12: =SUM(Q13:Q14) -> 5 | R12: =SUM(R13:R14) -> 2 | S12: =SUM(S13:S14) -> 7 | T12: =SUM(T13:T14) -> 7 | U12: =SUM(U13:U14) -> 2
B13: その他・北海道 | C13: 95 | D13: 121 | E13: 78 | F13: 88 | G13: ='表8.3'!C13 -> 106 | I13: その他・富山県 | J13: 8 | K13: 8 | L13: 8 | M13: 10 | N13: ='表8.3'!L13 -> 4 | P13: 松江市 | Q13: 0 | R13: 2 | S13: 2 | T13: 0 | U13: ='表8.3'!U13 -> 1
B14: 青森県計 | C14: =SUM(C15:C17) -> 38 | D14: =SUM(D15:D17) -> 50 | E14: =SUM(E15:E17) -> 37 | F14: =SUM(F15:F17) -> 41 | G14: =SUM(G15:G17) -> 40 | I14: 石川県計 | J14: =SUM(J15:J16) -> 16 | K14: =SUM(K15:K16) -> 17 | L14: =SUM(L15:L16) -> 15 | M14: =SUM(M15:M16) -> 19 | N14: =SUM(N15:N16) -> 25 | P14: その他・島根県 | Q14: 5 | R14: 0 | S14: 5 | T14: 7 | U14: ='表8.3'!U14 -> 1
B15: 青森市 | C15: 4 | D15: 2 | E15: 2 | F15: 0 | G15: ='表8.3'!C15 -> 2 | I15: 金沢市 | J15: 0 | K15: 0 | L15: 0 | M15: 0 | N15: ='表8.3'!L15 -> 0 | P15: 岡山県計 | Q15: =SUM(Q16:Q18) -> 43 | R15: =SUM(R16:R18) -> 66 | S15: =SUM(S16:S18) -> 50 | T15: =SUM(T16:T18) -> 39 | U15: =SUM(U16:U18) -> 37
B16: 八戸市 | C16: 10 | D16: 25 | E16: 4 | F16: 13 | G16: ='表8.3'!C16 -> 17 | I16: その他・石川県 | J16: 16 | K16: 17 | L16: 15 | M16: 19 | N16: ='表8.3'!L16 -> 25 | P16: 岡山市 | Q16: 1 | R16: 32 | S16: 21 | T16: 11 | U16: ='表8.3'!U16 -> 14
B17: その他・青森県 | C17: 24 | D17: 23 | E17: 31 | F17: 28 | G17: ='表8.3'!C17 -> 21 | I17: 福井県計 | J17: =SUM(J18:J19) -> 16 | K17: =SUM(K18:K19) -> 8 | L17: =SUM(L18:L19) -> 5 | M17: =SUM(M18:M19) -> 9 | N17: =SUM(N18:N19) -> 4 | P17: 倉敷市 | Q17: 26 | R17: 12 | S17: 13 | T17: 15 | U17: ='表8.3'!U17 -> 14
B18: 岩手県計 | C18: =SUM(C19:C20) -> 20 | D18: =SUM(D19:D20) -> 26 | E18: =SUM(E19:E20) -> 18 | F18: =SUM(F19:F20) -> 14 | G18: =SUM(G19:G20) -> 4 | I18: 福井市 | J18: 2 | K18: 2 | L18: 2 | M18: 2 | N18: ='表8.3'!L18 -> 1 | P18: その他・岡山県 | Q18: 16 | R18: 22 | S18: 16 | T18: 13 | U18: ='表8.3'!U18 -> 9
B19: 盛岡市 | C19: 0 | D19: 0 | E19: 0 | F19: 0 | G19: ='表8.3'!C19 -> 0 | I19: その他・福井県 | J19: 14 | K19: 6 | L19: 3 | M19: 7 | N19: ='表8.3'!L19 -> 3 | P19: 広島県計 | Q19: =SUM(Q20:Q23) -> 115 | R19: =SUM(R20:R23) -> 37 | S19: =SUM(S20:S23) -> 99 | T19: =SUM(T20:T23) -> 55 | U19: =SUM(U20:U23) -> 37
B20: その他・岩手県 | C20: 20 | D20: 26 | E20: 18 | F20: 14 | G20: ='表8.3'!C20 -> 4 | I20: 山梨県計 | J20: =SUM(J21:J22) -> 1 | K20: =SUM(K21:K22) -> 5 | L20: =SUM(L21:L22) -> 9 | M20: =SUM(M21:M22) -> 7 | N20: =SUM(N21:N22) -> 8 | P20: 広島市 | Q20: 0 | R20: 0 | S20: 2 | T20: 2 | U20: ='表8.3'!U20 -> 0
B21: 宮城県計 | C21: =SUM(C22:C23) -> 16 | D21: =SUM(D22:D23) -> 18 | E21: =SUM(E22:E23) -> 17 | F21: =SUM(F22:F23) -> 7 | G21: =SUM(G22:G23) -> 13 | I21: 甲府市 | J21: 1 | K21: 0 | L21: 0 | M21: 0 | N21: ='表8.3'!L21 -> 0 | P21: 呉市 | Q21: 0 | R21: 0 | S21: 0 | T21: 0 | U21: ='表8.3'!U21 -> 0
B22: 仙台市 | C22: 3 | D22: 7 | E22: 7 | F22: 3 | G22: ='表8.3'!C22 -> 5 | I22: その他・山梨県 | J22: 0 | K22: 5 | L22: 9 | M22: 7 | N22: ='表8.3'!L22 -> 8 | P22: 福山市 | Q22: 8 | R22: 1 | S22: 6 | T22: 2 | U22: ='表8.3'!U22 -> 3
B23: その他・宮城県 | C23: 13 | D23: 11 | E23: 10 | F23: 4 | G23: ='表8.3'!C23 -> 8 | I23: 長野県計 | J23: =SUM(J24:J26) -> 29 | K23: =SUM(K24:K26) -> 19 | L23: =SUM(L24:L26) -> 9 | M23: =SUM(M24:M26) -> 12 | N23: =SUM(N24:N26) -> 15 | P23: その他・広島県 | Q23: 107 | R23: 36 | S23: 91 | T23: 51 | U23: ='表8.3'!U23 -> 34
B24: 秋田県計 | C24: =SUM(C25:C26) -> 11 | D24: =SUM(D25:D26) -> 11 | E24: =SUM(E25:E26) -> 11 | F24: =SUM(F25:F26) -> 3 | G24: =SUM(G25:G26) -> 1 | I24: 長野市 | J24: 0 | K24: 0 | L24: 0 | M24: 0 | N24: ='表8.3'!L24 -> 0 | P24: 山口県計 | Q24: =SUM(Q25:Q26) -> 5 | R24: =SUM(R25:R26) -> 10 | S24: =SUM(S25:S26) -> 7 | T24: =SUM(T25:T26) -> 3 | U24: =SUM(U25:U26) -> 3
B25: 秋田市 | C25: 0 | D25: 0 | E25: 4 | F25: 0 | G25: ='表8.3'!C25 -> 0 | I25: 松本市 | J25: 0 | K25: 1 | L25: 0 | M25: 1 | N25: ='表8.3'!L25 -> 0 | P25: 下関市 | Q25: 0 | R25: 0 | S25: 0 | T25: 0 | U25: ='表8.3'!U25 -> 0
B26: その他・秋田県 | C26: 11 | D26: 11 | E26: 7 | F26: 3 | G26: ='表8.3'!C26 -> 1 | I26: その他・長野県 | J26: 29 | K26: 18 | L26: 9 | M26: 11 | N26: ='表8.3'!L26 -> 15 | P26: その他・山口県 | Q26: 5 | R26: 10 | S26: 7 | T26: 3 | U26: ='表8.3'!U26 -> 3
B27: 山形県計 | C27: =SUM(C28:C29) -> 24 | D27: =SUM(D28:D29) -> 18 | E27: =SUM(E28:E29) -> 26 | F27: =SUM(F28:F29) -> 21 | G27: =SUM(G28:G29) -> 10 | I27: 岐阜県計 | J27: =SUM(J28:J29) -> 65 | K27: =SUM(K28:K29) -> 65 | L27: =SUM(L28:L29) -> 33 | M27: =SUM(M28:M29) -> 42 | N27: =SUM(N28:N29) -> 47 | P27: 徳島県計 | Q27: =SUM(Q28) -> 3 | R27: =SUM(R28) -> 7 | S27: =SUM(S28) -> 5 | T27: =SUM(T28) -> 5 | U27: =SUM(U28) -> 0
B28: 山形市 | C28: 10 | D28: 2 | E28: 0 | F28: 0 | G28: ='表8.3'!C28 -> 1 | I28: 岐阜市 | J28: 14 | K28: 24 | L28: 15 | M28: 13 | N28: ='表8.3'!L28 -> 5 | P28: 徳島県 | Q28: 3 | R28: 7 | S28: 5 | T28: 5 | U28: ='表8.3'!U28 -> 0
B29: その他・山形県 | C29: 14 | D29: 16 | E29: 26 | F29: 21 | G29: ='表8.3'!C29 -> 9 | I29: その他・岐阜県 | J29: 51 | K29: 41 | L29: 18 | M29: 29 | N29: ='表8.3'!L29 -> 42 | P29: 香川県計 | Q29: =SUM(Q30:Q31) -> 32 | R29: =SUM(R30:R31) -> 33 | S29: =SUM(S30:S31) -> 34 | T29: =SUM(T30:T31) -> 93 | U29: =SUM(U30:U31) -> 73
B30: 福島県計 | C30: =SUM(C31:C34) -> 19 | D30: =SUM(D31:D34) -> 29 | E30: =SUM(E31:E34) -> 1 | F30: =SUM(F31:F34) -> 13 | G30: =SUM(G31:G34) -> 16 | I30: 静岡県計 | J30: =SUM(J31:J35) -> 0 | K30: =SUM(K31:K35) -> 7 | L30: =SUM(L31:L35) -> 18 | M30: =SUM(M31:M35) -> 22 | N30: =SUM(N31:N35) -> 10 | P30: 高松市 | Q30: 1 | R30: 0 | S30: 1 | T30: 4 | U30: ='表8.3'!U30 -> 5
B31: 福島市 | C31: 0 | D31: 0 | E31: 0 | F31: 0 | G31: ='表8.3'!C31 -> 0 | I31: 静岡市 | J31: 0 | K31: 0 | L31: 0 | M31: 0 | N31: ='表8.3'!L31 -> 0 | P31: その他・香川県 | Q31: 31 | R31: 33 | S31: 33 | T31: 89 | U31: ='表8.3'!U31 -> 68
B32: 郡山市 | C32: 0 | D32: 2 | E32: 0 | F32: 0 | G32: ='表8.3'!C32 -> 0 | I32: 浜松市 | J32: 0 | K32: 0 | L32: 0 | M32: 0 | N32: ='表8.3'!L32 -> 0 | P32: 愛媛県計 | Q32: =SUM(Q33:Q34) -> 78 | R32: =SUM(R33:R34) -> 30 | S32: =SUM(S33:S34) -> 48 | T32: =SUM(T33:T34) -> 24 | U32: =SUM(U33:U34) -> 20
B33: いわき市 | C33: 0 | D33: 0 | E33: 0 | F33: 0 | G33: ='表8.3'!C33 -> 0 | I33: 沼津市 | J33: 0 | K33: 0 | L33: 0 | M33: 0 | N33: ='表8.3'!L33 -> 0 | P33: 松山市 | Q33: 0 | R33: 0 | S33: 0 | T33: 0 | U33: ='表8.3'!U33 -> 0
B34: その他・福島県 | C34: 19 | D34: 27 | E34: 1 | F34: 13 | G34: ='表8.3'!C34 -> 16 | I34: 富士市 | J34: 0 | K34: 0 | L34: 0 | M34: 0 | N34: ='表8.3'!L34 -> 3 | P34: その他・愛媛県 | Q34: 78 | R34: 30 | S34: 48 | T34: 24 | U34: ='表8.3'!U34 -> 20
B35: 茨城県計 | C35: =SUM(C36:C38) -> 20 | D35: =SUM(D36:D38) -> 33 | E35: =SUM(E36:E38) -> 20 | F35: =SUM(F36:F38) -> 30 | G35: =SUM(G36:G38) -> 22 | I35: その他・静岡県 | J35: 0 | K35: 7 | L35: 18 | M35: 22 | N35: ='表8.3'!L35 -> 7 | P35: 高知県計 | Q35: =SUM(Q36:Q37) -> 0 | R35: =SUM(R36:R37) -> 0 | S35: =SUM(S36:S37) -> 0 | T35: =SUM(T36:T37) -> 0 | U35: =SUM(U36:U37) -> 2
B36: 水戸市 | C36: 0 | D36: 0 | E36: 0 | F36: 0 | G36: ='表8.3'!C36 -> 0 | I36: 愛知県計 | J36: =SUM(J37:J43) -> 279 | K36: =SUM(K37:K43) -> 265 | L36: =SUM(L37:L43) -> 209 | M36: =SUM(M37:M43) -> 258 | N36: =SUM(N37:N43) -> 210 | P36: 高知市 | Q36: 0 | R36: 0 | S36: 0 | T36: 0 | U36: ='表8.3'!U36 -> 2
B37: つくば市 | C37: 0 | D37: 0 | E37: 0 | F37: 0 | G37: ='表8.3'!C37 -> 0 | I37: 名古屋市 | J37: 29 | K37: 28 | L37: 12 | M37: 22 | N37: ='表8.3'!L37 -> 4 | P37: その他・高知県 | Q37: 0 | R37: 0 | S37: 0 | T37: 0 | U37: ='表8.3'!U37 -> 0
B38: その他・茨城県 | C38: 20 | D38: 33 | E38: 20 | F38: 30 | G38: ='表8.3'!C38 -> 22 | I38: 豊橋市 | J38: 3 | K38: 1 | L38: 0 | M38: 0 | N38: ='表8.3'!L38 -> 0 | P38: 福岡県計 | Q38: =SUM(Q39:Q43) -> 70 | R38: =SUM(R39:R43) -> 76 | S38: =SUM(S39:S43) -> 82 | T38: =SUM(T39:T43) -> 85 | U38: =SUM(U39:U43) -> 71
B39: 栃木県計 | C39: =SUM(C40:C41) -> 12 | D39: =SUM(D40:D41) -> 18 | E39: =SUM(E40:E41) -> 21 | F39: =SUM(F40:F41) -> 6 | G39: =SUM(G40:G41) -> 6 | I39: 岡崎市 | J39: 0 | K39: 0 | L39: 0 | M39: 0 | N39: ='表8.3'!L39 -> 0 | P39: 北九州市 | Q39: 45 | R39: 45 | S39: 45 | T39: 47 | U39: ='表8.3'!U39 -> 49
B40: 宇都宮市 | C40: 0 | D40: 0 | E40: 0 | F40: 0 | G40: ='表8.3'!C40 -> 0 | I40: 一宮市 | J40: 5 | K40: 2 | L40: 0 | M40: 1 | N40: ='表8.3'!L40 -> 4 | P40: 福岡市 | Q40: 6 | R40: 4 | S40: 2 | T40: 2 | U40: ='表8.3'!U40 -> 5
B41: その他・栃木県 | C41: 12 | D41: 18 | E41: 21 | F41: 6 | G41: ='表8.3'!C41 -> 6 | I41: 春日井市 | J41: 8 | K41: 9 | L41: 5 | M41: 1 | N41: ='表8.3'!L41 -> 4 | P41: 大牟田市 | Q41: 0 | R41: 0 | S41: 0 | T41: 0 | U41: ='表8.3'!U41 -> 0
B42: 群馬県計 | C42: =SUM(C43:C47) -> 16 | D42: =SUM(D43:D47) -> 32 | E42: =SUM(E43:E47) -> 9 | F42: =SUM(F43:F47) -> 22 | G42: =SUM(G43:G47) -> 22 | I42: 豊田市 | J42: 0 | K42: 0 | L42: 3 | M42: 0 | N42: ='表8.3'!L42 -> 0 | P42: 久留米市 | Q42: 0 | R42: 0 | S42: 0 | T42: 0 | U42: ='表8.3'!U42 -> 0
...

Sheet 表8.5
B2: 表8.5(1) 立入検査・その他行政指導件数 都道府県市別 （電気事業法・ガス事業法・鉱山保安法に係る一般粉じん発生施設） | J2: 表8.5(2) 立入検査・その他行政指導件数 都道府県市別 （電気事業法・ガス事業法・鉱山保安法に係る一般粉じん発生施設） | R2: 表8.5(3) 立入検査・その他行政指導件数 都道府県市別 （電気事業法・ガス事業法・鉱山保安法に係る一般粉じん発生施設）
B4: 自治体名 | C4: 立入検査 実施工場・ 事業場数 | D4: 立入検査 実施施設数 | E4: 基準適合命令 施設数 | F4: 一時停止命令 施設数 | G4: (E)又は(F)の 命令違反 告発施設数 | H4: 行政指導 施設数 | J4: 自治体名 | K4: 立入検査 実施工場・ 事業場数 | L4: 立入検査 実施施設数 | M4: 基準適合命令 施設数 | N4: 一時停止命令 施設数 | O4: (E)又は(F)の 命令違反 告発施設数 | P4: 行政指導 施設数 | R4: 自治体名 | S4: 立入検査 実施工場・ 事業場数 | T4: 立入検査 実施施設数 | U4: 基準適合命令 施設数 | V4: 一時停止命令 施設数 | W4: (E)又は(F)の 命令違反 告発施設数 | X4: 行政指導 施設数
C5: (A) | D5: (A') | E5: (E) | F5: (F) | G5: (G) | H5: (d) | K5: (A) | L5: (A') | M5: (E) | N5: (F) | O5: (G) | P5: (d) | S5: (A) | T5: (A') | U5: (E) | V5: (F) | W5: (G) | X5: (d)
B6: 北海道計 | C6: =SUM(C7:C13) -> 0 | D6: =SUM(D7:D13) -> 0 | E6: =SUM(E7:E13) -> 0 | F6: =SUM(F7:F13) -> 0 | G6: =SUM(G7:G13) -> 0 | H6: =SUM(H7:H13) -> 0 | J6: 新潟県計 | K6: =SUM(K7:K10) -> 0 | L6: =SUM(L7:L10) -> 0 | M6: =SUM(M7:M10) -> 0 | N6: =SUM(N7:N10) -> 0 | O6: =SUM(O7:O10) -> 0 | P6: =SUM(P7:P10) -> 0 | R6: 和歌山県計 | S6: =SUM(S7:S8) -> 0 | T6: =SUM(T7:T8) -> 0 | U6: =SUM(U7:U8) -> 0 | V6: =SUM(V7:V8) -> 0 | W6: =SUM(W7:W8) -> 0 | X6: =SUM(X7:X8) -> 0
B7: 札幌市 | C7: 0 | D7: 0 | E7: 0 | F7: 0 | G7: 0 | H7: 0 | J7: 新潟市 | K7: 0 | L7: 0 | M7: 0 | N7: 0 | O7: 0 | P7: 0 | R7: 和歌山市 | S7: 0 | T7: 0 | U7: 0 | V7: 0 | W7: 0 | X7: 0
B8: 函館市 | C8: 0 | D8: 0 | E8: 0 | F8: 0 | G8: 0 | H8: 0 | J8: 長岡市 | K8: 0 | L8: 0 | M8: 0 | N8: 0 | O8: 0 | P8: 0 | R8: その他・和歌山県 | S8: 0 | T8: 0 | U8: 0 | V8: 0 | W8: 0 | X8: 0
B9: 小樽市 | C9: 0 | D9: 0 | E9: 0 | F9: 0 | G9: 0 | H9: 0 | J9: 上越市 | K9: 0 | L9: 0 | M9: 0 | N9: 0 | O9: 0 | P9: 0 | R9: 鳥取県計 | S9: =SUM(S10:S11) -> 0 | T9: =SUM(T10:T11) -> 0 | U9: =SUM(U10:U11) -> 0 | V9: =SUM(V10:V11) -> 0 | W9: =SUM(W10:W11) -> 0 | X9: =SUM(X10:X11) -> 0
B10: 旭川市 | C10: 0 | D10: 0 | E10: 0 | F10: 0 | G10: 0 | H10: 0 | J10: その他・新潟県 | K10: 0 | L10: 0 | M10: 0 | N10: 0 | O10: 0 | P10: 0 | R10: 鳥取市 | S10: 0 | T10: 0 | U10: 0 | V10: 0 | W10: 0 | X10: 0
B11: 室蘭市 | C11: 0 | D11: 0 | E11: 0 | F11: 0 | G11: 0 | H11: 0 | J11: 富山県計 | K11: =SUM(K12:K13) -> 0 | L11: =SUM(L12:L13) -> 0 | M11: =SUM(M12:M13) -> 0 | N11: =SUM(N12:N13) -> 0 | O11: =SUM(O12:O13) -> 0 | P11: =SUM(P12:P13) -> 0 | R11: その他・鳥取県 | S11: 0 | T11: 0 | U11: 0 | V11: 0 | W11: 0 | X11: 0
B12: 苫小牧市 | C12: 0 | D12: 0 | E12: 0 | F12: 0 | G12: 0 | H12: 0 | J12: 富山市 | K12: 0 | L12: 0 | M12: 0 | N12: 0 | O12: 0 | P12: 0 | R12: 島根県計 | S12: =SUM(S13:S14) -> 0 | T12: =SUM(T13:T14) -> 0 | U12: =SUM(U13:U14) -> 0 | V12: =SUM(V13:V14) -> 0 | W12: =SUM(W13:W14) -> 0 | X12: =SUM(X13:X14) -> 0
B13: その他・北海道 | C13: 0 | D13: 0 | E13: 0 | F13: 0 | G13: 0 | H13: 0 | J13: その他・富山県 | K13: 0 | L13: 0 | M13: 0 | N13: 0 | O13: 0 | P13: 0 | R13: 松江市 | S13: 0 | T13: 0 | U13: 0 | V13: 0 | W13: 0 | X13: 0
B14: 青森県計 | C14: =SUM(C15:C17) -> 1 | D14: =SUM(D15:D17) -> 5 | E14: =SUM(E15:E17) -> 0 | F14: =SUM(F15:F17) -> 0 | G14: =SUM(G15:G17) -> 0 | H14: =SUM(H15:H17) -> 0 | J14: 石川県計 | K14: =SUM(K15:K16) -> 3 | L14: =SUM(L15:L16) -> 24 | M14: =SUM(M15:M16) -> 0 | N14: =SUM(N15:N16) -> 0 | O14: =SUM(O15:O16) -> 0 | P14: =SUM(P15:P16) -> 0 | R14: その他・島根県 | S14: 0 | T14: 0 | U14: 0 | V14: 0 | W14: 0 | X14: 0
B15: 青森市 | C15: 0 | D15: 0 | E15: 0 | F15: 0 | G15: 0 | H15: 0 | J15: 金沢市 | K15: 0 | L15: 0 | M15: 0 | N15: 0 | O15: 0 | P15: 0 | R15: 岡山県計 | S15: =SUM(S16:S18) -> 2 | T15: =SUM(T16:T18) -> 15 | U15: =SUM(U16:U18) -> 0 | V15: =SUM(V16:V18) -> 0 | W15: =SUM(W16:W18) -> 0 | X15: =SUM(X16:X18) -> 0
B16: 八戸市 | C16: 1 | D16: 5 | E16: 0 | F16: 0 | G16: 0 | H16: 0 | J16: その他・石川県 | K16: 3 | L16: 24 | M16: 0 | N16: 0 | O16: 0 | P16: 0 | R16: 岡山市 | S16: 0 | T16: 0 | U16: 0 | V16: 0 | W16: 0 | X16: 0
B17: その他・青森県 | C17: 0 | D17: 0 | E17: 0 | F17: 0 | G17: 0 | H17: 0 | J17: 福井県計 | K17: =SUM(K18:K19) -> 0 | L17: =SUM(L18:L19) -> 0 | M17: =SUM(M18:M19) -> 0 | N17: =SUM(N18:N19) -> 0 | O17: =SUM(O18:O19) -> 0 | P17: =SUM(P18:P19) -> 0 | R17: 倉敷市 | S17: 2 | T17: 15 | U17: 0 | V17: 0 | W17: 0 | X17: 0
B18: 岩手県計 | C18: =SUM(C19:C20) -> 0 | D18: =SUM(D19:D20) -> 0 | E18: =SUM(E19:E20) -> 0 | F18: =SUM(F19:F20) -> 0 | G18: =SUM(G19:G20) -> 0 | H18: =SUM(H19:H20) -> 1 | J18: 福井市 | K18: 0 | L18: 0 | M18: 0 | N18: 0 | O18: 0 | P18: 0 | R18: その他・岡山県 | S18: 0 | T18: 0 | U18: 0 | V18: 0 | W18: 0 | X18: 0
B19: 盛岡市 | C19: 0 | D19: 0 | E19: 0 | F19: 0 | G19: 0 | H19: 0 | J19: その他・福井県 | K19: 0 | L19: 0 | M19: 0 | N19: 0 | O19: 0 | P19: 0 | R19: 広島県計 | S19: =SUM(S20:S23) -> 3 | T19: =SUM(T20:T23) -> 6 | U19: =SUM(U20:U23) -> 0 | V19: =SUM(V20:V23) -> 0 | W19: =SUM(W20:W23) -> 0 | X19: =SUM(X20:X23) -> 0
B20: その他・岩手県 | C20: 0 | D20: 0 | E20: 0 | F20: 0 | G20: 0 | H20: 1 | J20: 山梨県計 | K20: =SUM(K21:K22) -> 0 | L20: =SUM(L21:L22) -> 0 | M20: =SUM(M21:M22) -> 0 | N20: =SUM(N21:N22) -> 0 | O20: =SUM(O21:O22) -> 0 | P20: =SUM(P21:P22) -> 0 | R20: 広島市 | S20: 0 | T20: 0 | U20: 0 | V20: 0 | W20: 0 | X20: 0
B21: 宮城県計 | C21: =SUM(C22:C23) -> 0 | D21: =SUM(D22:D23) -> 0 | E21: =SUM(E22:E23) -> 0 | F21: =SUM(F22:F23) -> 0 | G21: =SUM(G22:G23) -> 0 | H21: =SUM(H22:H23) -> 0 | J21: 甲府市 | K21: 0 | L21: 0 | M21: 0 | N21: 0 | O21: 0 | P21: 0 | R21: 呉市 | S21: 0 | T21: 0 | U21: 0 | V21: 0 | W21: 0 | X21: 0
B22: 仙台市 | C22: 0 | D22: 0 | E22: 0 | F22: 0 | G22: 0 | H22: 0 | J22: その他・山梨県 | K22: 0 | L22: 0 | M22: 0 | N22: 0 | O22: 0 | P22: 0 | R22: 福山市 | S22: 0 | T22: 0 | U22: 0 | V22: 0 | W22: 0 | X22: 0
B23: その他・宮城県 | C23: 0 | D23: 0 | E23: 0 | F23: 0 | G23: 0 | H23: 0 | J23: 長野県計 | K23: =SUM(K24:K26) -> 0 | L23: =SUM(L24:L26) -> 0 | M23: =SUM(M24:M26) -> 0 | N23: =SUM(N24:N26) -> 0 | O23: =SUM(O24:O26) -> 0 | P23: =SUM(P24:P26) -> 0 | R23: その他・広島県 | S23: 3 | T23: 6 | U23: 0 | V23: 0 | W23: 0 | X23: 0
B24: 秋田県計 | C24: =SUM(C25:C26) -> 0 | D24: =SUM(D25:D26) -> 0 | E24: =SUM(E25:E26) -> 0 | F24: =SUM(F25:F26) -> 0 | G24: =SUM(G25:G26) -> 0 | H24: =SUM(H25:H26) -> 0 | J24: 長野市 | K24: 0 | L24: 0 | M24: 0 | N24: 0 | O24: 0 | P24: 0 | R24: 山口県計 | S24: =SUM(S25:S26) -> 0 | T24: =SUM(T25:T26) -> 0 | U24: =SUM(U25:U26) -> 0 | V24: =SUM(V25:V26) -> 0 | W24: =SUM(W25:W26) -> 0 | X24: =SUM(X25:X26) -> 0
B25: 秋田市 | C25: 0 | D25: 0 | E25: 0 | F25: 0 | G25: 0 | H25: 0 | J25: 松本市 | K25: 0 | L25: 0 | M25: 0 | N25: 0 | O25: 0 | P25: 0 | R25: 下関市 | S25: 0 | T25: 0 | U25: 0 | V25: 0 | W25: 0 | X25: 0
B26: その他・秋田県 | C26: 0 | D26: 0 | E26: 0 | F26: 0 | G26: 0 | H26: 0 | J26: その他・長野県 | K26: 0 | L26: 0 | M26: 0 | N26: 0 | O26: 0 | P26: 0 | R26: その他・山口県 | S26: 0 | T26: 0 | U26: 0 | V26: 0 | W26: 0 | X26: 0
B27: 山形県計 | C27: =SUM(C28:C29) -> 0 | D27: =SUM(D28:D29) -> 0 | E27: =SUM(E28:E29) -> 0 | F27: =SUM(F28:F29) -> 0 | G27: =SUM(G28:G29) -> 0 | H27: =SUM(H28:H29) -> 0 | J27: 岐阜県計 | K27: =SUM(K28:K29) -> 0 | L27: =SUM(L28:L29) -> 0 | M27: =SUM(M28:M29) -> 0 | N27: =SUM(N28:N29) -> 0 | O27: =SUM(O28:O29) -> 0 | P27: =SUM(P28:P29) -> 0 | R27: 徳島県計 | S27: =SUM(S28) -> 0 | T27: =SUM(T28) -> 0 | U27: =SUM(U28) -> 0 | V27: =SUM(V28) -> 0 | W27: =SUM(W28) -> 0 | X27: =SUM(X28) -> 0
B28: 山形市 | C28: 0 | D28: 0 | E28: 0 | F28: 0 | G28: 0 | H28: 0 | J28: 岐阜市 | K28: 0 | L28: 0 | M28: 0 | N28: 0 | O28: 0 | P28: 0 | R28: 徳島県 | S28: 0 | T28: 0 | U28: 0 | V28: 0 | W28: 0 | X28: 0
B29: その他・山形県 | C29: 0 | D29: 0 | E29: 0 | F29: 0 | G29: 0 | H29: 0 | J29: その他・岐阜県 | K29: 0 | L29: 0 | M29: 0 | N29: 0 | O29: 0 | P29: 0 | R29: 香川県計 | S29: =SUM(S30:S31) -> 0 | T29: =SUM(T30:T31) -> 0 | U29: =SUM(U30:U31) -> 0 | V29: =SUM(V30:V31) -> 0 | W29: =SUM(W30:W31) -> 0 | X29: =SUM(X30:X31) -> 0
B30: 福島県計 | C30: =SUM(C31:C34) -> 0 | D30: =SUM(D31:D34) -> 0 | E30: =SUM(E31:E34) -> 0 | F30: =SUM(F31:F34) -> 0 | G30: =SUM(G31:G34) -> 0 | H30: =SUM(H31:H34) -> 0 | J30: 静岡県計 | K30: =SUM(K31:K35) -> 2 | L30: =SUM(L31:L35) -> 2 | M30: =SUM(M31:M35) -> 0 | N30: =SUM(N31:N35) -> 0 | O30: =SUM(O31:O35) -> 0 | P30: =SUM(P31:P35) -> 0 | R30: 高松市 | S30: 0 | T30: 0 | U30: 0 | V30: 0 | W30: 0 | X30: 0
B31: 福島市 | C31: 0 | D31: 0 | E31: 0 | F31: 0 | G31: 0 | H31: 0 | J31: 静岡市 | K31: 0 | L31: 0 | M31: 0 | N31: 0 | O31: 0 | P31: 0 | R31: その他・香川県 | S31: 0 | T31: 0 | U31: 0 | V31: 0 | W31: 0 | X31: 0
B32: 郡山市 | C32: 0 | D32: 0 | E32: 0 | F32: 0 | G32: 0 | H32: 0 | J32: 浜松市 | K32: 0 | L32: 0 | M32: 0 | N32: 0 | O32: 0 | P32: 0 | R32: 愛媛県計 | S32: =SUM(S33:S34) -> 0 | T32: =SUM(T33:T34) -> 0 | U32: =SUM(U33:U34) -> 0 | V32: =SUM(V33:V34) -> 0 | W32: =SUM(W33:W34) -> 0 | X32: =SUM(X33:X34) -> 0
B33: いわき市 | C33: 0 | D33: 0 | E33: 0 | F33: 0 | G33: 0 | H33: 0 | J33: 沼津市 | K33: 0 | L33: 0 | M33: 0 | N33: 0 | O33: 0 | P33: 0 | R33: 松山市 | S33: 0 | T33: 0 | U33: 0 | V33: 0 | W33: 0 | X33: 0
B34: その他・福島県 | C34: 0 | D34: 0 | E34: 0 | F34: 0 | G34: 0 | H34: 0 | J34: 富士市 | K34: 1 | L34: 1 | M34: 0 | N34: 0 | O34: 0 | P34: 0 | R34: その他・愛媛県 | S34: 0 | T34: 0 | U34: 0 | V34: 0 | W34: 0 | X34: 0
B35: 茨城県計 | C35: =SUM(C36:C38) -> 0 | D35: =SUM(D36:D38) -> 0 | E35: =SUM(E36:E38) -> 0 | F35: =SUM(F36:F38) -> 0 | G35: =SUM(G36:G38) -> 0 | H35: =SUM(H36:H38) -> 0 | J35: その他・静岡県 | K35: 1 | L35: 1 | M35: 0 | N35: 0 | O35: 0 | P35: 0 | R35: 高知県計 | S35: =SUM(S36:S37) -> 0 | T35: =SUM(T36:T37) -> 0 | U35: =SUM(U36:U37) -> 0 | V35: =SUM(V36:V37) -> 0 | W35: =SUM(W36:W37) -> 0 | X35: =SUM(X36:X37) -> 0
B36: 水戸市 | C36: 0 | D36: 0 | E36: 0 | F36: 0 | G36: 0 | H36: 0 | J36: 愛知県計 | K36: =SUM(K37:K43) -> 2 | L36: =SUM(L37:L43) -> 82 | M36: =SUM(M37:M43) -> 0 | N36: =SUM(N37:N43) -> 0 | O36: =SUM(O37:O43) -> 0 | P36: =SUM(P37:P43) -> 12 | R36: 高知市 | S36: 0 | T36: 0 | U36: 0 | V36: 0 | W36: 0 | X36: 0
B37: つくば市 | C37: 0 | D37: 0 | E37: 0 | F37: 0 | G37: 0 | H37: 0 | J37: 名古屋市 | K37: 0 | L37: 0 | M37: 0 | N37: 0 | O37: 0 | P37: 0 | R37: その他・高知県 | S37: 0 | T37: 0 | U37: 0 | V37: 0 | W37: 0 | X37: 0
B38: その他・茨城県 | C38: 0 | D38: 0 | E38: 0 | F38: 0 | G38: 0 | H38: 0 | J38: 豊橋市 | K38: 0 | L38: 0 | M38: 0 | N38: 0 | O38: 0 | P38: 0 | R38: 福岡県計 | S38: =SUM(S39:S43) -> 3 | T38: =SUM(T39:T43) -> 7 | U38: =SUM(U39:U43) -> 0 | V38: =SUM(V39:V43) -> 0 | W38: =SUM(W39:W43) -> 0 | X38: =SUM(X39:X43) -> 0
B39: 栃木県計 | C39: =SUM(C40:C41) -> 0 | D39: =SUM(D40:D41) -> 0 | E39: =SUM(E40:E41) -> 0 | F39: =SUM(F40:F41) -> 0 | G39: =SUM(G40:G41) -> 0 | H39: =SUM(H40:H41) -> 0 | J39: 岡崎市 | K39: 0 | L39: 0 | M39: 0 | N39: 0 | O39: 0 | P39: 0 | R39: 北九州市 | S39: 3 | T39: 7 | U39: 0 | V39: 0 | W39: 0 | X39: 0
B40: 宇都宮市 | C40: 0 | D40: 0 | E40: 0 | F40: 0 | G40: 0 | H40: 0 | J40: 一宮市 | K40: 0 | L40: 0 | M40: 0 | N40: 0 | O40: 0 | P40: 0 | R40: 福岡市 | S40: 0 | T40: 0 | U40: 0 | V40: 0 | W40: 0 | X40: 0
B41: その他・栃木県 | C41: 0 | D41: 0 | E41: 0 | F41: 0 | G41: 0 | H41: 0 | J41: 春日井市 | K41: 0 | L41: 0 | M41: 0 | N41: 0 | O41: 0 | P41: 0 | R41: 大牟田市 | S41: 0 | T41: 0 | U41: 0 | V41: 0 | W41: 0 | X41: 0
B42: 群馬県計 | C42: =SUM(C43:C47) -> 0 | D42: =SUM(D43:D47) -> 0 | E42: =SUM(E43:E47) -> 0 | F42: =SUM(F43:F47) -> 0 | G42: =SUM(G43:G47) -> 0 | H42: =SUM(H43:H47) -> 0 | J42: 豊田市 | K42: 0 | L42: 0 | M42: 0 | N42: 0 | O42: 0 | P42: 0 | R42: 久留米市 | S42: 0 | T42: 0 | U42: 0 | V42: 0 | W42: 0 | X42: 0
...
