Workbook

Sheet 表8.1
B2: 表8.1 立入検査・その他行政指導件数 年度別－全国（一般粉じん発生施設）
D4: 平成30年度 | G4: 令和元年度 | J4: 令和２年度 | M4: 令和３年度 | P4: 令和４年度
D5: 全施設 （注1) | G5: 全施設 （注1) | J5: 全施設 （注1) | M5: 全施設 （注1) | P5: 全施設 （注1)
E6: 大気 | F6: 電気・ ガス・ 鉱山 | H6: 大気 | I6: 電気・ ガス・ 鉱山 | K6: 大気 | L6: 電気・ ガス・ 鉱山 | N6: 大気 | O6: 電気・ ガス・ 鉱山 | Q6: 大気 | R6: 電気・ ガス・ 鉱山
B7: (A) | C7: 立入検査実施 工場・事業場数 | D7: =SUM(E7:F7) -> 1797 | E7: 1740 | F7: 57 | G7: =SUM(H7:I7) -> 1858 | H7: 1824 | I7: 34 | J7: =SUM(K7:L7) -> 1604 | K7: 1486 | L7: 118 | M7: =SUM(N7:O7) -> 1543 | N7: 1527 | O7: 16 | P7: =SUM(Q7:R7) -> 1391 | Q7: ='表8.3'!U66 -> 1367 | R7: ='表8.5'!S66 -> 24
B8: (A') | C8: 立入検査実施施設数 | D8: =SUM(E8:F8) -> 17456 | E8: 15542 | F8: 1914 | G8: =SUM(H8:I8) -> 15795 | H8: 15062 | I8: 733 | J8: =SUM(K8:L8) -> 13661 | K8: 13359 | L8: 302 | M8: =SUM(N8:O8) -> 16126 | N8: 15980 | O8: 146 | P8: =SUM(Q8:R8) -> 13240 | Q8: ='表8.3'!V66 -> 13081 | R8: ='表8.5'!T66 -> 159
B9: (E) | C9: 基準適合命令施設数 | D9: =SUM(E9:F9) -> 0 | E9: 0 | F9: 0 | G9: =SUM(H9:I9) -> 0 | H9: 0 | I9: 0 | J9: =SUM(K9:L9) -> 0 | K9: 0 | L9: 0 | M9: =SUM(N9:O9) -> 0 | N9: 0 | O9: 0 | P9: =SUM(Q9:R9) -> 0 | Q9: ='表8.3'!W66 -> 0 | R9: ='表8.5'!U66 -> 0
B10: (F) | C10: 一時停止命令施設数 | D10: =SUM(E10:F10) -> 0 | E10: 0 | F10: 0 | G10: =SUM(H10:I10) -> 0 | H10: 0 | I10: 0 | J10: =SUM(K10:L10) -> 0 | K10: 0 | L10: 0 | M10: =SUM(N10:O10) -> 0 | N10: 0 | O10: 0 | P10: =SUM(Q10:R10) -> 0 | Q10: ='表8.3'!X66 -> 0 | R10: ='表8.5'!V66 -> 0
B11: (G) | C11: (E)又は(F)の命令違反 告発施設数 | D11: =SUM(E11:F11) -> 0 | E11: 0 | F11: 0 | G11: =SUM(H11:I11) -> 0 | H11: 0 | I11: 0 | J11: =SUM(K11:L11) -> 0 | K11: 0 | L11: 0 | M11: =SUM(N11:O11) -> 0 | N11: 0 | O11: 0 | P11: =SUM(Q11:R11) -> 0 | Q11: ='表8.3'!Y66 -> 0 | R11: ='表8.5'!W66 -> 0
B12: (H) | C12: 届出違反告発施設数 | D12: =SUM(E12:F12) -> 0 | E12: 0 | F12: － | G12: =SUM(H12:I12) -> 0 | H12: 0 | I12: － | J12: =SUM(K12:L12) -> 0 | K12: 0 | L12: － | M12: =SUM(N12:O12) -> 0 | N12: 0 | O12: － | P12: =SUM(Q12:R12) -> 0 | Q12: ='表8.3'!Z66 -> 0 | R12: －
B13: (d) | C13: 行政指導施設数 | D13: =SUM(E13:F13) -> 681 | E13: 668 | F13: 13 | G13: =SUM(H13:I13) -> 1072 | H13: 1061 | I13: 11 | J13: =SUM(K13:L13) -> 703 | K13: 692 | L13: 11 | M13: =SUM(N13:O13) -> 686 | N13: 674 | O13: 12 | P13: =SUM(Q13:R13) -> 621 | Q13: ='表8.3'!AA66 -> 606 | R13: ='表8.5'!X66 -> 15
B14: （注1）「大気」：大気汚染防止法届出一般粉じん発生施設、「電気・ガス・鉱山」：電気事業法・ガス事業法・鉱山保安法に係る一般粉じん発生施設を示す。

Sheet 表8.2
B2: 表8.2(1) 行政指導施設数 都道府県市別（一般粉じん発生施設） | J2: 表8.2(2) 行政指導施設数 都道府県市別（一般粉じん発生施設） | R2: 表8.2(3) 行政指導施設数 都道府県市別（一般粉じん発生施設）
B4: 自治体名 | C4: ① | D4: ② | E4: ③ | F4: ④ | G4: ⑤ | J4: 自治体名 | K4: ① | L4: ② | M4: ③ | N4: ④ | O4: ⑤ | R4: 自治体名 | S4: ① | T4: ② | U4: ③ | V4: ④ | W4: ⑤
C5: 構造並びに使用及び管理に関する基準違反に係る行政指導施設数 | D5: 設置届出書・変更届出書及び使用届出書の未届出による行政指導施設数 | E5: 氏名の変更等の届出書及び承継届出書の未届出による行政指導施設数 | F5: 設置届出書等の届出内容の不備による行政指導施設数 | G5: その他 | H5: 合計 | K5: 構造並びに使用及び管理に関する基準違反に係る行政指導施設数 | L5: 設置届出書・変更届出書及び使用届出書の未届出による行政指導施設数 | M5: 氏名の変更等の届出書及び承継届出書の未届出による行政指導施設数 | N5: 設置届出書等の届出内容の不備による行政指導施設数 | O5: その他 | P5: 合計 | S5: 構造並びに使用及び管理に関する基準違反に係る行政指導施設数 | T5: 設置届出書・変更届出書及び使用届出書の未届出による行政指導施設数 | U5: 氏名の変更等の届出書及び承継届出書の未届出による行政指導施設数 | V5: 設置届出書等の届出内容の不備による行政指導施設数 | W5: その他 | X5: 合計
B8: 北海道計 | C8: =SUM(C9:C15) -> 0 | D8: =SUM(D9:D15) -> 30 | E8: =SUM(E9:E15) -> 22 | F8: =SUM(F9:F15) -> 2 | G8: =SUM(G9:G15) -> 16 | H8: =SUM(H9:H15) -> 70 | J8: 新潟県計 | K8: =SUM(K9:K12) -> 2 | L8: =SUM(L9:L12) -> 0 | M8: =SUM(M9:M12) -> 0 | N8: =SUM(N9:N12) -> 0 | O8: =SUM(O9:O12) -> 0 | P8: =SUM(P9:P12) -> 2 | R8: 和歌山県計 | S8: =SUM(S9:S10) -> 0 | T8: =SUM(T9:T10) -> 0 | U8: =SUM(U9:U10) -> 0 | V8: =SUM(V9:V10) -> 0 | W8: =SUM(W9:W10) -> 0 | X8: =SUM(X9:X10) -> 0
B9: 札幌市 | C9: 0 | D9: 0 | E9: 0 | F9: 0 | G9: 0 | H9: =SUM(C9:G9) -> 0 | J9: 新潟市 | K9: 2 | L9: 0 | M9: 0 | N9: 0 | O9: 0 | P9: =SUM(K9:O9) -> 2 | R9: 和歌山市 | S9: 0 | T9: 0 | U9: 0 | V9: 0 | W9: 0 | X9: =SUM(S9:W9) -> 0
B10: 函館市 | C10: 0 | D10: 0 | E10: 0 | F10: 0 | G10: 0 | H10: =SUM(C10:G10) -> 0 | J10: 長岡市 | K10: 0 | L10: 0 | M10: 0 | N10: 0 | O10: 0 | P10: =SUM(K10:O10) -> 0 | R10: その他・和歌山県 | S10: 0 | T10: 0 | U10: 0 | V10: 0 | W10: 0 | X10: =SUM(S10:W10) -> 0
B11: 小樽市 | C11: 0 | D11: 0 | E11: 0 | F11: 0 | G11: 0 | H11: =SUM(C11:G11) -> 0 | J11: 上越市 | K11: 0 | L11: 0 | M11: 0 | N11: 0 | O11: 0 | P11: =SUM(K11:O11) -> 0 | R11: 鳥取県計 | S11: =SUM(S12:S13) -> 0 | T11: =SUM(T12:T13) -> 0 | U11: =SUM(U12:U13) -> 0 | V11: =SUM(V12:V13) -> 0 | W11: =SUM(W12:W13) -> 0 | X11: =SUM(X12:X13) -> 0
B12: 旭川市 | C12: 0 | D12: 0 | E12: 0 | F12: 0 | G12: 0 | H12: =SUM(C12:G12) -> 0 | J12: その他・新潟県 | K12: 0 | L12: 0 | M12: 0 | N12: 0 | O12: 0 | P12: =SUM(K12:O12) -> 0 | R12: 鳥取市 | S12: 0 | T12: 0 | U12: 0 | V12: 0 | W12: 0 | X12: =SUM(S12:W12) -> 0
B13: 室蘭市 | C13: 0 | D13: 0 | E13: 0 | F13: 0 | G13: 0 | H13: =SUM(C13:G13) -> 0 | J13: 富山県計 | K13: =SUM(K14:K15) -> 0 | L13: =SUM(L14:L15) -> 0 | M13: =SUM(M14:M15) -> 0 | N13: =SUM(N14:N15) -> 0 | O13: =SUM(O14:O15) -> 0 | P13: =SUM(P14:P15) -> 0 | R13: その他・鳥取県 | S13: 0 | T13: 0 | U13: 0 | V13: 0 | W13: 0 | X13: =SUM(S13:W13) -> 0
B14: 苫小牧市 | C14: 0 | D14: 0 | E14: 0 | F14: 0 | G14: 0 | H14: =SUM(C14:G14) -> 0 | J14: 富山市 | K14: 0 | L14: 0 | M14: 0 | N14: 0 | O14: 0 | P14: =SUM(K14:O14) -> 0 | R14: 島根県計 | S14: =SUM(S15:S16) -> 0 | T14: =SUM(T15:T16) -> 1 | U14: =SUM(U15:U16) -> 1 | V14: =SUM(V15:V16) -> 0 | W14: =SUM(W15:W16) -> 1 | X14: =SUM(X15:X16) -> 3
B15: その他・北海道 | C15: 0 | D15: 30 | E15: 22 | F15: 2 | G15: 16 | H15: =SUM(C15:G15) -> 70 | J15: その他・富山県 | K15: 0 | L15: 0 | M15: 0 | N15: 0 | O15: 0 | P15: =SUM(K15:O15) -> 0 | R15: 松江市 | S15: 0 | T15: 0 | U15: 0 | V15: 0 | W15: 1 | X15: =SUM(S15:W15) -> 1
B16: 青森県計 | C16: =SUM(C17:C19) -> 0 | D16: =SUM(D17:D19) -> 1 | E16: =SUM(E17:E19) -> 10 | F16: =SUM(F17:F19) -> 0 | G16: =SUM(G17:G19) -> 0 | H16: =SUM(H17:H19) -> 11 | J16: 石川県計 | K16: =SUM(K17:K18) -> 0 | L16: =SUM(L17:L18) -> 0 | M16: =SUM(M17:M18) -> 0 | N16: =SUM(N17:N18) -> 0 | O16: =SUM(O17:O18) -> 1 | P16: =SUM(P17:P18) -> 1 | R16: その他・島根県 | S16: 0 | T16: 1 | U16: 1 | V16: 0 | W16: 0 | X16: =SUM(S16:W16) -> 2
B17: 青森市 | C17: 0 | D17: 0 | E17: 0 | F17: 0 | G17: 0 | H17: =SUM(C17:G17) -> 0 | J17: 金沢市 | K17: 0 | L17: 0 | M17: 0 | N17: 0 | O17: 0 | P17: =SUM(K17:O17) -> 0 | R17: 岡山県計 | S17: =SUM(S18:S20) -> 0 | T17: =SUM(T18:T20) -> 2 | U17: =SUM(U18:U20) -> 0 | V17: =SUM(V18:V20) -> 0 | W17: =SUM(W18:W20) -> 1 | X17: =SUM(X18:X20) -> 3
B18: 八戸市 | C18: 0 | D18: 1 | E18: 4 | F18: 0 | G18: 0 | H18: =SUM(C18:G18) -> 5 | J18: その他・石川県 | K18: 0 | L18: 0 | M18: 0 | N18: 0 | O18: 1 | P18: =SUM(K18:O18) -> 1 | R18: 岡山市 | S18: 0 | T18: 0 | U18: 0 | V18: 0 | W18: 0 | X18: =SUM(S18:W18) -> 0
B19: その他・青森県 | C19: 0 | D19: 0 | E19: 6 | F19: 0 | G19: 0 | H19: =SUM(C19:G19) -> 6 | J19: 福井県計 | K19: =SUM(K20:K21) -> 0 | L19: =SUM(L20:L21) -> 0 | M19: =SUM(M20:M21) -> 0 | N19: =SUM(N20:N21) -> 0 | O19: =SUM(O20:O21) -> 0 | P19: =SUM(P20:P21) -> 0 | R19: 倉敷市 | S19: 0 | T19: 0 | U19: 0 | V19: 0 | W19: 0 | X19: =SUM(S19:W19) -> 0
B20: 岩手県計 | C20: =SUM(C21:C22) -> 0 | D20: =SUM(D21:D22) -> 1 | E20: =SUM(E21:E22) -> 0 | F20: =SUM(F21:F22) -> 0 | G20: =SUM(G21:G22) -> 0 | H20: =SUM(H21:H22) -> 1 | J20: 福井市 | K20: 0 | L20: 0 | M20: 0 | N20: 0 | O20: 0 | P20: =SUM(K20:O20) -> 0 | R20: その他・岡山県 | S20: 0 | T20: 2 | U20: 0 | V20: 0 | W20: 1 | X20: =SUM(S20:W20) -> 3
B21: 盛岡市 | C21: 0 | D21: 0 | E21: 0 | F21: 0 | G21: 0 | H21: =SUM(C21:G21) -> 0 | J21: その他・福井県 | K21: 0 | L21: 0 | M21: 0 | N21: 0 | O21: 0 | P21: =SUM(K21:O21) -> 0 | R21: 広島県計 | S21: =SUM(S22:S25) -> 0 | T21: =SUM(T22:T25) -> 0 | U21: =SUM(U22:U25) -> 0 | V21: =SUM(V22:V25) -> 0 | W21: =SUM(W22:W25) -> 0 | X21: =SUM(X22:X25) -> 0
B22: その他・岩手県 | C22: 0 | D22: 1 | E22: 0 | F22: 0 | G22: 0 | H22: =SUM(C22:G22) -> 1 | J22: 山梨県計 | K22: =SUM(K23:K24) -> 0 | L22: =SUM(L23:L24) -> 2 | M22: =SUM(M23:M24) -> 3 | N22: =SUM(N23:N24) -> 0 | O22: =SUM(O23:O24) -> 0 | P22: =SUM(P23:P24) -> 5 | R22: 広島市 | S22: 0 | T22: 0 | U22: 0 | V22: 0 | W22: 0 | X22: =SUM(S22:W22) -> 0
B23: 宮城県計 | C23: =SUM(C24:C25) -> 0 | D23: =SUM(D24:D25) -> 4 | E23: =SUM(E24:E25) -> 0 | F23: =SUM(F24:F25) -> 0 | G23: =SUM(G24:G25) -> 1 | H23: =SUM(H24:H25) -> 5 | J23: 甲府市 | K23: 0 | L23: 0 | M23: 0 | N23: 0 | O23: 0 | P23: =SUM(K23:O23) -> 0 | R23: 呉市 | S23: 0 | T23: 0 | U23: 0 | V23: 0 | W23: 0 | X23: =SUM(S23:W23) -> 0
B24: 仙台市 | C24: 0 | D24: 4 | E24: 0 | F24: 0 | G24: 1 | H24: =SUM(C24:G24) -> 5 | J24: その他・山梨県 | K24: 0 | L24: 2 | M24: 3 | N24: 0 | O24: 0 | P24: =SUM(K24:O24) -> 5 | R24: 福山市 | S24: 0 | T24: 0 | U24: 0 | V24: 0 | W24: 0 | X24: =SUM(S24:W24) -> 0
B25: その他・宮城県 | C25: 0 | D25: 0 | E25: 0 | F25: 0 | G25: 0 | H25: =SUM(C25:G25) -> 0 | J25: 長野県計 | K25: =SUM(K26:K28) -> 1 | L25: =SUM(L26:L28) -> 0 | M25: =SUM(M26:M28) -> 0 | N25: =SUM(N26:N28) -> 1 | O25: =SUM(O26:O28) -> 0 | P25: =SUM(P26:P28) -> 2 | R25: その他・広島県 | S25: 0 | T25: 0 | U25: 0 | V25: 0 | W25: 0 | X25: =SUM(S25:W25) -> 0
B26: 秋田県計 | C26: =SUM(C27:C28) -> 0 | D26: =SUM(D27:D28) -> 0 | E26: =SUM(E27:E28) -> 0 | F26: =SUM(F27:F28) -> 0 | G26: =SUM(G27:G28) -> 0 | H26: =SUM(H27:H28) -> 0 | J26: 長野市 | K26: 0 | L26: 0 | M26: 0 | N26: 0 | O26: 0 | P26: =SUM(K26:O26) -> 0 | R26: 山口県計 | S26: =SUM(S27:S28) -> 1 | T26: =SUM(T27:T28) -> 0 | U26: =SUM(U27:U28) -> 0 | V26: =SUM(V27:V28) -> 0 | W26: =SUM(W27:W28) -> 0 | X26: =SUM(X27:X28) -> 1
B27: 秋田市 | C27: 0 | D27: 0 | E27: 0 | F27: 0 | G27: 0 | H27: =SUM(C27:G27) -> 0 | J27: 松本市 | K27: 0 | L27: 0 | M27: 0 | N27: 0 | O27: 0 | P27: =SUM(K27:O27) -> 0 | R27: 下関市 | S27: 0 | T27: 0 | U27: 0 | V27: 0 | W27: 0 | X27: =SUM(S27:W27) -> 0
B28: その他・秋田県 | C28: 0 | D28: 0 | E28: 0 | F28: 0 | G28: 0 | H28: =SUM(C28:G28) -> 0 | J28: その他・長野県 | K28: 1 | L28: 0 | M28: 0 | N28: 1 | O28: 0 | P28: =SUM(K28:O28) -> 2 | R28: その他・山口県 | S28: 1 | T28: 0 | U28: 0 | V28: 0 | W28: 0 | X28: =SUM(S28:W28) -> 1
B29: 山形県計 | C29: =SUM(C30:C31) -> 0 | D29: =SUM(D30:D31) -> 1 | E29: =SUM(E30:E31) -> 0 | F29: =SUM(F30:F31) -> 0 | G29: =SUM(G30:G31) -> 3 | H29: =SUM(H30:H31) -> 4 | J29: 岐阜県計 | K29: =SUM(K30:K31) -> 0 | L29: =SUM(L30:L31) -> 1 | M29: =SUM(M30:M31) -> 0 | N29: =SUM(N30:N31) -> 0 | O29: =SUM(O30:O31) -> 0 | P29: =SUM(P30:P31) -> 1 | R29: 徳島県計 | S29: =SUM(S30) -> 0 | T29: =SUM(T30) -> 0 | U29: =SUM(U30) -> 0 | V29: =SUM(V30) -> 0 | W29: =SUM(W30) -> 0 | X29: =SUM(X30) -> 0
B30: 山形市 | C30: 0 | D30: 0 | E30: 0 | F30: 0 | G30: 0 | H30: =SUM(C30:G30) -> 0 | J30: 岐阜市 | K30: 0 | L30: 0 | M30: 0 | N30: 0 | O30: 0 | P30: =SUM(K30:O30) -> 0 | R30: 徳島県 | S30: 0 | T30: 0 | U30: 0 | V30: 0 | W30: 0 | X30: =SUM(S30:W30) -> 0
B31: その他・山形県 | C31: 0 | D31: 1 | E31: 0 | F31: 0 | G31: 3 | H31: =SUM(C31:G31) -> 4 | J31: その他・岐阜県 | K31: 0 | L31: 1 | M31: 0 | N31: 0 | O31: 0 | P31: =SUM(K31:O31) -> 1 | R31: 香川県計 | S31: =SUM(S32:S33) -> 3 | T31: =SUM(T32:T33) -> 3 | U31: =SUM(U32:U33) -> 0 | V31: =SUM(V32:V33) -> 0 | W31: =SUM(W32:W33) -> 0 | X31: =SUM(X32:X33) -> 6
B32: 福島県計 | C32: =SUM(C33:C36) -> 0 | D32: =SUM(D33:D36) -> 0 | E32: =SUM(E33:E36) -> 3 | F32: =SUM(F33:F36) -> 0 | G32: =SUM(G33:G36) -> 4 | H32: =SUM(H33:H36) -> 7 | J32: 静岡県計 | K32: =SUM(K33:K37) -> 0 | L32: =SUM(L33:L37) -> 0 | M32: =SUM(M33:M37) -> 0 | N32: =SUM(N33:N37) -> 0 | O32: =SUM(O33:O37) -> 0 | P32: =SUM(P33:P37) -> 0 | R32: 高松市 | S32: 0 | T32: 0 | U32: 0 | V32: 0 | W32: 0 | X32: =SUM(S32:W32) -> 0
B33: 福島市 | C33: 0 | D33: 0 | E33: 0 | F33: 0 | G33: 0 | H33: =SUM(C33:G33) -> 0 | J33: 静岡市 | K33: 0 | L33: 0 | M33: 0 | N33: 0 | O33: 0 | P33: =SUM(K33:O33) -> 0 | R33: その他・香川県 | S33: 3 | T33: 3 | U33: 0 | V33: 0 | W33: 0 | X33: =SUM(S33:W33) -> 6
B34: 郡山市 | C34: 0 | D34: 0 | E34: 0 | F34: 0 | G34: 0 | H34: =SUM(C34:G34) -> 0 | J34: 浜松市 | K34: 0 | L34: 0 | M34: 0 | N34: 0 | O34: 0 | P34: =SUM(K34:O34) -> 0 | R34: 愛媛県計 | S34: =SUM(S35:S36) -> 0 | T34: =SUM(T35:T36) -> 1 | U34: =SUM(U35:U36) -> 0 | V34: =SUM(V35:V36) -> 0 | W34: =SUM(W35:W36) -> 1 | X34: =SUM(X35:X36) -> 2
B35: いわき市 | C35: 0 | D35: 0 | E35: 0 | F35: 0 | G35: 0 | H35: =SUM(C35:G35) -> 0 | J35: 沼津市 | K35: 0 | L35: 0 | M35: 0 | N35: 0 | O35: 0 | P35: =SUM(K35:O35) -> 0 | R35: 松山市 | S35: 0 | T35: 0 | U35: 0 | V35: 0 | W35: 0 | X35: =SUM(S35:W35) -> 0
B36: その他・福島県 | C36: 0 | D36: 0 | E36: 3 | F36: 0 | G36: 4 | H36: =SUM(C36:G36) -> 7 | J36: 富士市 | K36: 0 | L36: 0 | M36: 0 | N36: 0 | O36: 0 | P36: =SUM(K36:O36) -> 0 | R36: その他・愛媛県 | S36: 0 | T36: 1 | U36: 0 | V36: 0 | W36: 1 | X36: =SUM(S36:W36) -> 2
B37: 茨城県計 | C37: =SUM(C38:C40) -> 0 | D37: =SUM(D38:D40) -> 2 | E37: =SUM(E38:E40) -> 0 | F37: =SUM(F38:F40) -> 0 | G37: =SUM(G38:G40) -> 2 | H37: =SUM(H38:H40) -> 4 | J37: その他・静岡県 | K37: 0 | L37: 0 | M37: 0 | N37: 0 | O37: 0 | P37: =SUM(K37:O37) -> 0 | R37: 高知県計 | S37: =SUM(S38:S39) -> 0 | T37: =SUM(T38:T39) -> 0 | U37: =SUM(U38:U39) -> 48 | V37: =SUM(V38:V39) -> 0 | W37: =SUM(W38:W39) -> 0 | X37: =SUM(X38:X39) -> 48
B38: 水戸市 | C38: 0 | D38: 0 | E38: 0 | F38: 0 | G38: 0 | H38: =SUM(C38:G38) -> 0 | J38: 愛知県計 | K38: =SUM(K39:K45) -> 0 | L38: =SUM(L39:L45) -> 0 | M38: =SUM(M39:M45) -> 0 | N38: =SUM(N39:N45) -> 0 | O38: =SUM(O39:O45) -> 280 | P38: =SUM(P39:P45) -> 280 | R38: 高知市 | S38: 0 | T38: 0 | U38: 48 | V38: 0 | W38: 0 | X38: =SUM(S38:W38) -> 48
B39: つくば市 | C39: 0 | D39: 1 | E39: 0 | F39: 0 | G39: 0 | H39: =SUM(C39:G39) -> 1 | J39: 名古屋市 | K39: 0 | L39: 0 | M39: 0 | N39: 0 | O39: 0 | P39: =SUM(K39:O39) -> 0 | R39: その他・高知県 | S39: 0 | T39: 0 | U39: 0 | V39: 0 | W39: 0 | X39: =SUM(S39:W39) -> 0
B40: その他・茨城県 | C40: 0 | D40: 1 | E40: 0 | F40: 0 | G40: 2 | H40: =SUM(C40:G40) -> 3 | J40: 豊橋市 | K40: 0 | L40: 0 | M40: 0 | N40: 0 | O40: 0 | P40: =SUM(K40:O40) -> 0 | R40: 福岡県計 | S40: =SUM(S41:S45) -> 0 | T40: =SUM(T41:T45) -> 2 | U40: =SUM(U41:U45) -> 1 | V40: =SUM(V41:V45) -> 0 | W40: =SUM(W41:W45) -> 11 | X40: =SUM(X41:X45) -> 14
B41: 栃木県計 | C41: =SUM(C42:C43) -> 0 | D41: =SUM(D42:D43) -> 0 | E41: =SUM(E42:E43) -> 0 | F41: =SUM(F42:F43) -> 0 | G41: =SUM(G42:G43) -> 0 | H41: =SUM(H42:H43) -> 0 | J41: 岡崎市 | K41: 0 | L41: 0 | M41: 0 | N41: 0 | O41: 0 | P41: =SUM(K41:O41) -> 0 | R41: 北九州市 | S41: 0 | T41: 2 | U41: 1 | V41: 0 | W41: 11 | X41: =SUM(S41:W41) -> 14
B42: 宇都宮市 | C42: 0 | D42: 0 | E42: 0 | F42: 0 | G42: 0 | H42: =SUM(C42:G42) -> 0 | J42: 一宮市 | K42: 0 | L42: 0 | M42: 0 | N42: 0 | O42: 0 | P42: =SUM(K42:O42) -> 0 | R42: 福岡市 | S42: 0 | T42: 0 | U42: 0 | V42: 0 | W42: 0 | X42: =SUM(S42:W42) -> 0
B43: その他・栃木県 | C43: 0 | D43: 0 | E43: 0 | F43: 0 | G43: 0 | H43: =SUM(C43:G43) -> 0 | J43: 春日井市 | K43: 0 | L43: 0 | M43: 0 | N43: 0 | O43: 0 | P43: =SUM(K43:O43) -> 0 | R43: 大牟田市 | S43: 0 | T43: 0 | U43: 0 | V43: 0 | W43: 0 | X43: =SUM(S43:W43) -> 0
B44: 群馬県計 | C44: =SUM(C45:C49) -> 0 | D44: =SUM(D45:D49) -> 7 | E44: =SUM(E45:E49) -> 1 | F44: =SUM(F45:F49) -> 0 | G44: =SUM(G45:G49) -> 0 | H44: =SUM(H45:H49) -> 8 | J44: 豊田市 | K44: 0 | L44: 0 | M44: 0 | N44: 0 | O44: 0 | P44: =SUM(K44:O44) -> 0 | R44: 久留米市 | S44: 0 | T44: 0 | U44: 0 | V44: 0 | W44: 0 | X44: =SUM(S44:W44) -> 0
B45: 前橋市 | C45: 0 | D45: 0 | E45: 1 | F45: 0 | G45: 0 | H45: =SUM(C45:G45) -> 1 | J45: その他・愛知県 | K45: 0 | L45: 0 | M45: 0 | N45: 0 | O45: 280 | P45: =SUM(K45:O45) -> 280 | R45: その他・福岡県 | S45: 0 | T45: 0 | U45: 0 | V45: 0 | W45: 0 | X45: =SUM(S45:W45) -> 0
B46: 高崎市 | C46: 0 | D46: 0 | E46: 0 | F46: 0 | G46: 0 | H46: =SUM(C46:G46) -> 0 | J46: 三重県計 | K46: =SUM(K47:K48) -> 0 | L46: =SUM(L47:L48) -> 0 | M46: =SUM(M47:M48) -> 0 | N46: =SUM(N47:N48) -> 0 | O46: =SUM(O47:O48) -> 20 | P46: =SUM(P47:P48) -> 20 | R46: 佐賀県計 | S46: =SUM(S47:S48) -> 0 | T46: =SUM(T47:T48) -> 0 | U46: =SUM(U47:U48) -> 0 | V46: =SUM(V47:V48) -> 0 | W46: =SUM(W47:W48) -> 0 | X46: =SUM(X47:X48) -> 0
B47: 伊勢崎市 | C47: 0 | D47: 0 | E47: 0 | F47: 0 | G47: 0 | H47: =SUM(C47:G47) -> 0 | J47: 四日市市 | K47: 0 | L47: 0 | M47: 0 | N47: 0 | O47: 0 | P47: =SUM(K47:O47) -> 0 | R47: 佐賀市 | S47: 0 | T47: 0 | U47: 0 | V47: 0 | W47: 0 | X47: =SUM(S47:W47) -> 0
B48: 太田市 | C48: 0 | D48: 0 | E48: 0 | F48: 0 | G48: 0 | H48: =SUM(C48:G48) -> 0 | J48: その他・三重県 | K48: 0 | L48: 0 | M48: 0 | N48: 0 | O48: 20 | P48: =SUM(K48:O48) -> 20 | R48: その他・佐賀県 | S48: 0 | T48: 0 | U48: 0 | V48: 0 | W48: 0 | X48: =SUM(S48:W48) -> 0
B49: その他・群馬県 | C49: 0 | D49: 7 | E49: 0 | F49: 0 | G49: 0 | H49: =SUM(C49:G49) -> 7 | J49: 滋賀県計 | K49: =SUM(K50:K51) -> 0 | L49: =SUM(L50:L51) -> 4 | M49: =SUM(M50:M51) -> 0 | N49: =SUM(N50:N51) -> 0 | O49: =SUM(O50:O51) -> 0 | P49: =SUM(P50:P51) -> 4 | R49: 長崎県計 | S49: =SUM(S50:S52) -> 0 | T49: =SUM(T50:T52) -> 0 | U49: =SUM(U50:U52) -> 0 | V49: =SUM(V50:V52) -> 0 | W49: =SUM(W50:W52) -> 0 | X49: =SUM(X50:X52) -> 0
B50: 埼玉県計 | C50: =SUM(C51:C59) -> 6 | D50: =SUM(D51:D59) -> 1 | E50: =SUM(E51:E59) -> 0 | F50: =SUM(F51:F59) -> 0 | G50: =SUM(G51:G59) -> 2 | H50: =SUM(H51:H59) -> 9 | J50: 大津市 | K50: 0 | L50: 0 | M50: 0 | N50: 0 | O50: 0 | P50: =SUM(K50:O50) -> 0 | R50: 長崎市 | S50: 0 | T50: 0 | U50: 0 | V50: 0 | W50: 0 | X50: =SUM(S50:W50) -> 0
B51: さいたま市 | C51: 0 | D51: 0 | E51: 0 | F51: 0 | G51: 0 | H51: =SUM(C51:G51) -> 0 | J51: その他・滋賀県 | K51: 0 | L51: 4 | M51: 0 | N51: 0 | O51: 0 | P51: =SUM(K51:O51) -> 4 | R51: 佐世保市 | S51: 0 | T51: 0 | U51: 0 | V51: 0 | W51: 0 | X51: =SUM(S51:W51) -> 0
B52: 川越市 | C52: 0 | D52: 0 | E52: 0 | F52: 0 | G52: 1 | H52: =SUM(C52:G52) -> 1 | J52: 京都府計 | K52: =SUM(K53:K54) -> 0 | L52: =SUM(L53:L54) -> 0 | M52: =SUM(M53:M54) -> 0 | N52: =SUM(N53:N54) -> 2 | O52: =SUM(O53:O54) -> 0 | P52: =SUM(P53:P54) -> 2 | R52: その他・長崎県 | S52: 0 | T52: 0 | U52: 0 | V52: 0 | W52: 0 | X52: =SUM(S52:W52) -> 0
B53: 熊谷市 | C53: 0 | D53: 0 | E53: 0 | F53: 0 | G53: 0 | H53: =SUM(C53:G53) -> 0 | J53: 京都市 | K53: 0 | L53: 0 | M53: 0 | N53: 0 | O53: 0 | P53: =SUM(K53:O53) -> 0 | R53: 熊本県計 | S53: =SUM(S54:S55) -> 0 | T53: =SUM(T54:T55) -> 0 | U53: =SUM(U54:U55) -> 0 | V53: =SUM(V54:V55) -> 0 | W53: =SUM(W54:W55) -> 1 | X53: =SUM(X54:X55) -> 1
B54: 川口市 | C54: 0 | D54: 0 | E54: 0 | F54: 0 | G54: 0 | H54: =SUM(C54:G54) -> 0 | J54: その他・京都府 | K54: 0 | L54: 0 | M54: 0 | N54: 2 | O54: 0 | P54: =SUM(K54:O54) -> 2 | R54: 熊本市 | S54: 0 | T54: 0 | U54: 0 | V54: 0 | W54: 0 | X54: =SUM(S54:W54) -> 0
B55: 所沢市 | C55: 0 | D55: 0 | E55: 0 | F55: 0 | G55: 0 | H55: =SUM(C55:G55) -> 0 | J55: 大阪府計 | K55: =SUM(K56:K67) -> 0 | L55: =SUM(L56:L67) -> 0 | M55: =SUM(M56:M67) -> 8 | N55: =SUM(N56:N67) -> 0 | O55: =SUM(O56:O67) -> 39 | P55: =SUM(P56:P67) -> 47 | R55: その他・熊本県 | S55: 0 | T55: 0 | U55: 0 | V55: 0 | W55: 1 | X55: =SUM(S55:W55) -> 1
B56: 春日部市 | C56: 0 | D56: 0 | E56: 0 | F56: 0 | G56: 0 | H56: =SUM(C56:G56) -> 0 | J56: 大阪市 | K56: 0 | L56: 0 | M56: 6 | N56: 0 | O56: 31 | P56: =SUM(K56:O56) -> 37 | R56: 大分県計 | S56: =SUM(S57:S58) -> 0 | T56: =SUM(T57:T58) -> 6 | U56: =SUM(U57:U58) -> 3 | V56: =SUM(V57:V58) -> 0 | W56: =SUM(W57:W58) -> 1 | X56: =SUM(X57:X58) -> 10
B57: 草加市 | C57: 0 | D57: 0 | E57: 0 | F57: 0 | G57: 0 | H57: =SUM(C57:G57) -> 0 | J57: 堺市 | K57: 0 | L57: 0 | M57: 0 | N57: 0 | O57: 0 | P57: =SUM(K57:O57) -> 0 | R57: 大分市 | S57: 0 | T57: 4 | U57: 3 | V57: 0 | W57: 1 | X57: =SUM(S57:W57) -> 8
B58: 越谷市 | C58: 0 | D58: 0 | E58: 0 | F58: 0 | G58: 0 | H58: =SUM(C58:G58) -> 0 | J58: 岸和田市 | K58: 0 | L58: 0 | M58: 0 | N58: 0 | O58: 0 | P58: =SUM(K58:O58) -> 0 | R58: その他・大分県 | S58: 0 | T58: 2 | U58: 0 | V58: 0 | W58: 0 | X58: =SUM(S58:W58) -> 2
B59: その他・埼玉県 | C59: 6 | D59: 1 | E59: 0 | F59: 0 | G59: 1 | H59: =SUM(C59:G59) -> 8 | J59: 豊中市 | K59: 0 | L59: 0 | M59: 0 | N59: 0 | O59: 0 | P59: =SUM(K59:O59) -> 0 | R59: 宮崎県計 | S59: =SUM(S60:S61) -> 0 | T59: =SUM(T60:T61) -> 0 | U59: =SUM(U60:U61) -> 0 | V59: =SUM(V60:V61) -> 0 | W59: =SUM(W60:W61) -> 0 | X59: =SUM(X60:X61) -> 0
B60: 千葉県計 | C60: =SUM(C61:C67) -> 6 | D60: =SUM(D61:D67) -> 6 | E60: =SUM(E61:E67) -> 20 | F60: =SUM(F61:F67) -> 6 | G60: =SUM(G61:G67) -> 13 | H60: =SUM(H61:H67) -> 51 | J60: 吹田市 | K60: 0 | L60: 0 | M60: 0 | N60: 0 | O60: 0 | P60: =SUM(K60:O60) -> 0 | R60: 宮崎市 | S60: 0 | T60: 0 | U60: 0 | V60: 0 | W60: 0 | X60: =SUM(S60:W60) -> 0
B61: 千葉市 | C61: 2 | D61: 0 | E61: 0 | F61: 0 | G61: 0 | H61: =SUM(C61:G61) -> 2 | J61: 高槻市 | K61: 0 | L61: 0 | M61: 0 | N61: 0 | O61: 0 | P61: =SUM(K61:O61) -> 0 | R61: その他・宮崎県 | S61: 0 | T61: 0 | U61: 0 | V61: 0 | W61: 0 | X61: =SUM(S61:W61) -> 0
B62: 市川市 | C62: 0 | D62: 0 | E62: 0 | F62: 0 | G62: 0 | H62: =SUM(C62:G62) -> 0 | J62: 枚方市 | K62: 0 | L62: 0 | M62: 0 | N62: 0 | O62: 0 | P62: =SUM(K62:O62) -> 0 | R62: 鹿児島県計 | S62: =SUM(S63:S64) -> 0 | T62: =SUM(T63:T64) -> 0 | U62: =SUM(U63:U64) -> 0 | V62: =SUM(V63:V64) -> 0 | W62: =SUM(W63:W64) -> 0 | X62: =SUM(X63:X64) -> 0
B63: 船橋市 | C63: 0 | D63: 0 | E63: 0 | F63: 0 | G63: 0 | H63: =SUM(C63:G63) -> 0 | J63: 茨木市 | K63: 0 | L63: 0 | M63: 0 | N63: 0 | O63: 0 | P63: =SUM(K63:O63) -> 0 | R63: 鹿児島市 | S63: 0 | T63: 0 | U63: 0 | V63: 0 | W63: 0 | X63: =SUM(S63:W63) -> 0
B64: 松戸市 | C64: 0 | D64: 0 | E64: 0 | F64: 0 | G64: 0 | H64: =SUM(C64:G64) -> 0 | J64: 八尾市 | K64: 0 | L64: 0 | M64: 0 | N64: 0 | O64: 0 | P64: =SUM(K64:O64) -> 0 | R64: その他・鹿児島県 | S64: 0 | T64: 0 | U64: 0 | V64: 0 | W64: 0 | X64: =SUM(S64:W64) -> 0
B65: 柏市 | C65: 0 | D65: 0 | E65: 0 | F65: 0 | G65: 0 | H65: =SUM(C65:G65) -> 0 | J65: 寝屋川市 | K65: 0 | L65: 0 | M65: 0 | N65: 0 | O65: 0 | P65: =SUM(K65:O65) -> 0 | R65: 沖縄県計 | S65: =SUM(S66:S67) -> 1 | T65: =SUM(T66:T67) -> 2 | U65: =SUM(U66:U67) -> 0 | V65: =SUM(V66:V67) -> 0 | W65: =SUM(W66:W67) -> 0 | X65: =SUM(X66:X67) -> 3
B66: 市原市 | C66: 0 | D66: 0 | E66: 0 | F66: 0 | G66: 0 | H66: =SUM(C66:G66) -> 0 | J66: 東大阪市 | K66: 0 | L66: 0 | M66: 0 | N66: 0 | O66: 0 | P66: =SUM(K66:O66) -> 0 | R66: 那覇市 | S66: 0 | T66: 0 | U66: 0 | V66: 0 | W66: 0 | X66: =SUM(S66:W66) -> 0
B67: その他・千葉県 | C67: 4 | D67: 6 | E67: 20 | F67: 6 | G67: 13 | H67: =SUM(C67:G67) -> 49 | J67: その他・大阪府 | K67: 0 | L67: 0 | M67: 2 | N67: 0 | O67: 8 | P67: =SUM(K67:O67) -> 10 | R67: その他・沖縄県 | S67: 1 | T67: 2 | U67: 0 | V67: 0 | W67: 0 | X67: =SUM(S67:W67) -> 3
B68: 東京都計 | C68: =SUM(C69:C70) -> 0 | D68: =SUM(D69:D70) -> 1 | E68: =SUM(E69:E70) -> 0 | F68: =SUM(F69:F70) -> 0 | G68: =SUM(G69:G70) -> 9 | H68: =SUM(H69:H70) -> 10 | J68: 兵庫県計 | K68: =SUM(K69:K76) -> 1 | L68: =SUM(L69:L76) -> 1 | M68: =SUM(M69:M76) -> 0 | N68: =SUM(N69:N76) -> 0 | O68: =SUM(O69:O76) -> 16 | P68: =SUM(P69:P76) -> 18 | R68: 合計 | S68: =SUM(C8:C82,K8:K79,S8:S67)/2 -> 21 | T68: =SUM(D8:D82,L8:L79,T8:T67)/2 -> 79 | U68: =SUM(E8:E82,M8:M79,U8:U67)/2 -> 122 | V68: =SUM(F8:F82,N8:N79,V8:V67)/2 -> 11 | W68: =SUM(G8:G82,O8:O79,W8:W67)/2 -> 422 | X68: =SUM(H8:H82,P8:P79,X8:X67)/2 -> 655
B69: 八王子市 | C69: 0 | D69: 0 | E69: 0 | F69: 0 | G69: 0 | H69: =SUM(C69:G69) -> 0 | J69: 神戸市 | K69: 0 | L69: 0 | M69: 0 | N69: 0 | O69: 0 | P69: =SUM(K69:O69) -> 0 | R69: （備考）同一施設で複数の指導を行なう場合があるため、表8.1の行政指導施設数より、合計数が多くなる場合がある。
B70: その他・東京都 | C70: 0 | D70: 1 | E70: 0 | F70: 0 | G70: 9 | H70: =SUM(C70:G70) -> 10 | J70: 姫路市 | K70: 0 | L70: 0 | M70: 0 | N70: 0 | O70: 0 | P70: =SUM(K70:O70) -> 0
B71: 神奈川県計 | C71: =SUM(C72:C82) -> 0 | D71: =SUM(D72:D82) -> 0 | E71: =SUM(E72:E82) -> 2 | F71: =SUM(F72:F82) -> 0 | G71: =SUM(G72:G82) -> 0 | H71: =SUM(H72:H82) -> 2 | J71: 尼崎市 | K71: 0 | L71: 0 | M71: 0 | N71: 0 | O71: 0 | P71: =SUM(K71:O71) -> 0
B72: 横浜市 | C72: 0 | D72: 0 | E72: 0 | F72: 0 | G72: 0 | H72: =SUM(C72:G72) -> 0 | J72: 明石市 | K72: 0 | L72: 0 | M72: 0 | N72: 0 | O72: 0 | P72: =SUM(K72:O72) -> 0
B73: 川崎市 | C73: 0 | D73: 0 | E73: 0 | F73: 0 | G73: 0 | H73: =SUM(C73:G73) -> 0 | J73: 西宮市 | K73: 0 | L73: 0 | M73: 0 | N73: 0 | O73: 0 | P73: =SUM(K73:O73) -> 0
B74: 相模原市 | C74: 0 | D74: 0 | E74: 0 | F74: 0 | G74: 0 | H74: =SUM(C74:G74) -> 0 | J74: 加古川市 | K74: 0 | L74: 0 | M74: 0 | N74: 0 | O74: 4 | P74: =SUM(K74:O74) -> 4
B75: 横須賀市 | C75: 0 | D75: 0 | E75: 0 | F75: 0 | G75: 0 | H75: =SUM(C75:G75) -> 0 | J75: 宝塚市 | K75: 0 | L75: 0 | M75: 0 | N75: 0 | O75: 0 | P75: =SUM(K75:O75) -> 0
B76: 平塚市 | C76: 0 | D76: 0 | E76: 0 | F76: 0 | G76: 0 | H76: =SUM(C76:G76) -> 0 | J76: その他・兵庫県 | K76: 1 | L76: 1 | M76: 0 | N76: 0 | O76: 12 | P76: =SUM(K76:O76) -> 14
B77: 藤沢市 | C77: 0 | D77: 0 | E77: 0 | F77: 0 | G77: 0 | H77: =SUM(C77:G77) -> 0 | J77: 奈良県計 | K77: =SUM(K78:K79) -> 0 | L77: =SUM(L78:L79) -> 0 | M77: =SUM(M78:M79) -> 0 | N77: =SUM(N78:N79) -> 0 | O77: =SUM(O78:O79) -> 0 | P77: =SUM(P78:P79) -> 0
B78: 小田原市 | C78: 0 | D78: 0 | E78: 0 | F78: 0 | G78: 0 | H78: =SUM(C78:G78) -> 0 | J78: 奈良市 | K78: 0 | L78: 0 | M78: 0 | N78: 0 | O78: 0 | P78: =SUM(K78:O78) -> 0
B79: 茅ヶ崎市 | C79: 0 | D79: 0 | E79: 1 | F79: 0 | G79: 0 | H79: =SUM(C79:G79) -> 1 | J79: その他・奈良県 | K79: 0 | L79: 0 | M79: 0 | N79: 0 | O79: 0 | P79: =SUM(K79:O79) -> 0
B80: 厚木市 | C80: 0 | D80: 0 | E80: 0 | F80: 0 | G80: 0 | H80: =SUM(C80:G80) -> 0
B81: 大和市 | C81: 0 | D81: 0 | E81: 0 | F81: 0 | G81: 0 | H81: =SUM(C81:G81) -> 0
B82: その他・神奈川県 | C82: 0 | D82: 0 | E82: 1 | F82: 0 | G82: 0 | H82: =SUM(C82:G82) -> 1

Sheet 表8.3
B2: 表8.3(1) 立入検査・その他行政指導件数 都道府県市別（大気汚染防止法に係る一般粉じん発生施設） | K2: 表8.3(2) 立入検査・その他行政指導件数 都道府県市別（大気汚染防止法に係る一般粉じん発生施設） | T2: 表8.3(3) 立入検査・その他行政指導件数 都道府県市別（大気汚染防止法に係る一般粉じん発生施設）
B4: 自治体名 | C4: 立入検査 実施工場・ 事業場数 | D4: 立入検査 実施施設数 | E4: 基準適合命令 施設数 | F4: 一時停止命令 施設数 | G4: (E)又は(F)の 命令違反 告発施設数 | H4: 届出違反告発施設数 | I4: 行政指導 施設数 | K4: 自治体名 | L4: 立入検査 実施工場・ 事業場数 | M4: 立入検査 実施施設数 | N4: 基準適合命令 施設数 | O4: 一時停止命令 施設数 | P4: (E)又は(F)の 命令違反 告発施設数 | Q4: 届出違反告発施設数 | R4: 行政指導 施設数 | T4: 自治体名 | U4: 立入検査 実施工場・ 事業場数 | V4: 立入検査 実施施設数 | W4: 基準適合命令 施設数 | X4: 一時停止命令 施設数 | Y4: (E)又は(F)の 命令違反 告発施設数 | Z4: 届出違反告発施設数 | AA4: 行政指導 施設数
C5: (A) | D5: (A') | E5: (E) | F5: (F) | G5: (G) | H5: (H) | I5: (d) | L5: (A) | M5: (A') | N5: (E) | O5: (F) | P5: (G) | Q5: (H) | R5: (d) | U5: (A) | V5: (A') | W5: (E) | X5: (F) | Y5: (G) | Z5: (H) | AA5: (d)
B6: 北海道計 | C6: =SUM(C7:C13) -> 118 | D6: =SUM(D7:D13) -> 803 | E6: =SUM(E7:E13) -> 0 | F6: =SUM(F7:F13) -> 0 | G6: =SUM(G7:G13) -> 0 | H6: =SUM(H7:H13) -> 0 | I6: =SUM(I7:I13) -> 60 | K6: 新潟県計 | L6: =SUM(L7:L10) -> 1 | M6: =SUM(M7:M10) -> 2 | N6: =SUM(N7:N10) -> 0 | O6: =SUM(O7:O10) -> 0 | P6: =SUM(P7:P10) -> 0 | Q6: =SUM(Q7:Q10) -> 0 | R6: =SUM(R7:R10) -> 2 | T6: 和歌山県計 | U6: =SUM(U7:U8) -> 0 | V6: =SUM(V7:V8) -> 0 | W6: =SUM(W7:W8) -> 0 | X6: =SUM(X7:X8) -> 0 | Y6: =SUM(Y7:Y8) -> 0 | Z6: =SUM(Z7:Z8) -> 0 | AA6: =SUM(AA7:AA8) -> 0
B7: 札幌市 | C7: 12 | D7: 28 | E7: 0 | F7: 0 | G7: 0 | H7: 0 | I7: 0 | K7: 新潟市 | L7: 1 | M7: 2 | N7: 0 | O7: 0 | P7: 0 | Q7: 0 | R7: 2 | T7: 和歌山市 | U7: 0 | V7: 0 | W7: 0 | X7: 0 | Y7: 0 | Z7: 0 | AA7: 0
B8: 函館市 | C8: 0 | D8: 0 | E8: 0 | F8: 0 | G8: 0 | H8: 0 | I8: 0 | K8: 長岡市 | L8: 0 | M8: 0 | N8: 0 | O8: 0 | P8: 0 | Q8: 0 | R8: 0 | T8: その他・和歌山県 | U8: 0 | V8: 0 | W8: 0 | X8: 0 | Y8: 0 | Z8: 0 | AA8: 0
B9: 小樽市 | C9: 0 | D9: 0 | E9: 0 | F9: 0 | G9: 0 | H9: 0 | I9: 0 | K9: 上越市 | L9: 0 | M9: 0 | N9: 0 | O9: 0 | P9: 0 | Q9: 0 | R9: 0 | T9: 鳥取県計 | U9: =SUM(U10:U11) -> 1 | V9: =SUM(V10:V11) -> 1 | W9: =SUM(W10:W11) -> 0 | X9: =SUM(X10:X11) -> 0 | Y9: =SUM(Y10:Y11) -> 0 | Z9: =SUM(Z10:Z11) -> 0 | AA9: =SUM(AA10:AA11) -> 0
B10: 旭川市 | C10: 0 | D10: 0 | E10: 0 | F10: 0 | G10: 0 | H10: 0 | I10: 0 | K10: その他・新潟県 | L10: 0 | M10: 0 | N10: 0 | O10: 0 | P10: 0 | Q10: 0 | R10: 0 | T10: 鳥取市 | U10: 0 | V10: 0 | W10: 0 | X10: 0 | Y10: 0 | Z10: 0 | AA10: 0
B11: 室蘭市 | C11: 0 | D11: 0 | E11: 0 | F11: 0 | G11: 0 | H11: 0 | I11: 0 | K11: 富山県計 | L11: =SUM(L12:L13) -> 4 | M11: =SUM(M12:M13) -> 42 | N11: =SUM(N12:N13) -> 0 | O11: =SUM(O12:O13) -> 0 | P11: =SUM(P12:P13) -> 0 | Q11: =SUM(Q12:Q13) -> 0 | R11: =SUM(R12:R13) -> 0 | T11: その他・鳥取県 | U11: 1 | V11: 1 | W11: 0 | X11: 0 | Y11: 0 | Z11: 0 | AA11: 0
B12: 苫小牧市 | C12: 0 | D12: 0 | E12: 0 | F12: 0 | G12: 0 | H12: 0 | I12: 0 | K12: 富山市 | L12: 0 | M12: 0 | N12: 0 | O12: 0 | P12: 0 | Q12: 0 | R12: 0 | T12: 島根県計 | U12: =SUM(U13:U14) -> 2 | V12: =SUM(V13:V14) -> 6 | W12: =SUM(W13:W14) -> 0 | X12: =SUM(X13:X14) -> 0 | Y12: =SUM(Y13:Y14) -> 0 | Z12: =SUM(Z13:Z14) -> 0 | AA12: =SUM(AA13:AA14) -> 2
B13: その他・北海道 | C13: 106 | D13: 775 | E13: 0 | F13: 0 | G13: 0 | H13: 0 | I13: 60 | K13: その他・富山県 | L13: 4 | M13: 42 | N13: 0 | O13: 0 | P13: 0 | Q13: 0 | R13: 0 | T13: 松江市 | U13: 1 | V13: 1 | W13: 0 | X13: 0 | Y13: 0 | Z13: 0 | AA13: 1
B14: 青森県計 | C14: =SUM(C15:C17) -> 40 | D14: =SUM(D15:D17) -> 242 | E14: =SUM(E15:E17) -> 0 | F14: =SUM(F15:F17) -> 0 | G14: =SUM(G15:G17) -> 0 | H14: =SUM(H15:H17) -> 0 | I14: =SUM(I15:I17) -> 11 | K14: 石川県計 | L14: =SUM(L15:L16) -> 25 | M14: =SUM(M15:M16) -> 43 | N14: =SUM(N15:N16) -> 0 | O14: =SUM(O15:O16) -> 0 | P14: =SUM(P15:P16) -> 0 | Q14: =SUM(Q15:Q16) -> 0 | R14: =SUM(R15:R16) -> 1 | T14: その他・島根県 | U14: 1 | V14: 5 | W14: 0 | X14: 0 | Y14: 0 | Z14: 0 | AA14: 1
B15: 青森市 | C15: 2 | D15: 5 | E15: 0 | F15: 0 | G15: 0 | H15: 0 | I15: 0 | K15: 金沢市 | L15: 0 | M15: 0 | N15: 0 | O15: 0 | P15: 0 | Q15: 0 | R15: 0 | T15: 岡山県計 | U15: =SUM(U16:U18) -> 37 | V15: =SUM(V16:V18) -> 427 | W15: =SUM(W16:W18) -> 0 | X15: =SUM(X16:X18) -> 0 | Y15: =SUM(Y16:Y18) -> 0 | Z15: =SUM(Z16:Z18) -> 0 | AA15: =SUM(AA16:AA18) -> 3
B16: 八戸市 | C16: 17 | D16: 177 | E16: 0 | F16: 0 | G16: 0 | H16: 0 | I16: 5 | K16: その他・石川県 | L16: 25 | M16: 43 | N16: 0 | O16: 0 | P16: 0 | Q16: 0 | R16: 1 | T16: 岡山市 | U16: 14 | V16: 40 | W16: 0 | X16: 0 | Y16: 0 | Z16: 0 | AA16: 0
B17: その他・青森県 | C17: 21 | D17: 60 | E17: 0 | F17: 0 | G17: 0 | H17: 0 | I17: 6 | K17: 福井県計 | L17: =SUM(L18:L19) -> 4 | M17: =SUM(M18:M19) -> 26 | N17: =SUM(N18:N19) -> 0 | O17: =SUM(O18:O19) -> 0 | P17: =SUM(P18:P19) -> 0 | Q17: =SUM(Q18:Q19) -> 0 | R17: =SUM(R18:R19) -> 0 | T17: 倉敷市 | U17: 14 | V17: 218 | W17: 0 | X17: 0 | Y17: 0 | Z17: 0 | AA17: 0
B18: 岩手県計 | C18: =SUM(C19:C20) -> 4 | D18: =SUM(D19:D20) -> 7 | E18: =SUM(E19:E20) -> 0 | F18: =SUM(F19:F20) -> 0 | G18: =SUM(G19:G20) -> 0 | H18: =SUM(H19:H20) -> 0 | I18: =SUM(I19:I20) -> 0 | K18: 福井市 | L18: 1 | M18: 14 | N18: 0 | O18: 0 | P18: 0 | Q18: 0 | R18: 0 | T18: その他・岡山県 | U18: 9 | V18: 169 | W18: 0 | X18: 0 | Y18: 0 | Z18: 0 | AA18: 3
B19: 盛岡市 | C19: 0 | D19: 0 | E19: 0 | F19: 0 | G19: 0 | H19: 0 | I19: 0 | K19: その他・福井県 | L19: 3 | M19: 12 | N19: 0 | O19: 0 | P19: 0 | Q19: 0 | R19: 0 | T19: 広島県計 | U19: =SUM(U20:U23) -> 37 | V19: =SUM(V20:V23) -> 223 | W19: =SUM(W20:W23) -> 0 | X19: =SUM(X20:X23) -> 0 | Y19: =SUM(Y20:Y23) -> 0 | Z19: =SUM(Z20:Z23) -> 0 | AA19: =SUM(AA20:AA23) -> 0
B20: その他・岩手県 | C20: 4 | D20: 7 | E20: 0 | F20: 0 | G20: 0 | H20: 0 | I20: 0 | K20: 山梨県計 | L20: =SUM(L21:L22) -> 8 | M20: =SUM(M21:M22) -> 39 | N20: =SUM(N21:N22) -> 0 | O20: =SUM(O21:O22) -> 0 | P20: =SUM(P21:P22) -> 0 | Q20: =SUM(Q21:Q22) -> 0 | R20: =SUM(R21:R22) -> 5 | T20: 広島市 | U20: 0 | V20: 0 | W20: 0 | X20: 0 | Y20: 0 | Z20: 0 | AA20: 0
B21: 宮城県計 | C21: =SUM(C22:C23) -> 13 | D21: =SUM(D22:D23) -> 35 | E21: =SUM(E22:E23) -> 0 | F21: =SUM(F22:F23) -> 0 | G21: =SUM(G22:G23) -> 0 | H21: =SUM(H22:H23) -> 0 | I21: =SUM(I22:I23) -> 5 | K21: 甲府市 | L21: 0 | M21: 0 | N21: 0 | O21: 0 | P21: 0 | Q21: 0 | R21: 0 | T21: 呉市 | U21: 0 | V21: 0 | W21: 0 | X21: 0 | Y21: 0 | Z21: 0 | AA21: 0
B22: 仙台市 | C22: 5 | D22: 25 | E22: 0 | F22: 0 | G22: 0 | H22: 0 | I22: 5 | K22: その他・山梨県 | L22: 8 | M22: 39 | N22: 0 | O22: 0 | P22: 0 | Q22: 0 | R22: 5 | T22: 福山市 | U22: 3 | V22: 3 | W22: 0 | X22: 0 | Y22: 0 | Z22: 0 | AA22: 0
B23: その他・宮城県 | C23: 8 | D23: 10 | E23: 0 | F23: 0 | G23: 0 | H23: 0 | I23: 0 | K23: 長野県計 | L23: =SUM(L24:L26) -> 15 | M23: =SUM(M24:M26) -> 141 | N23: =SUM(N24:N26) -> 0 | O23: =SUM(O24:O26) -> 0 | P23: =SUM(P24:P26) -> 0 | Q23: =SUM(Q24:Q26) -> 0 | R23: =SUM(R24:R26) -> 1 | T23: その他・広島県 | U23: 34 | V23: 220 | W23: 0 | X23: 0 | Y23: 0 | Z23: 0 | AA23: 0
B24: 秋田県計 | C24: =SUM(C25:C26) -> 1 | D24: =SUM(D25:D26) -> 2 | E24: =SUM(E25:E26) -> 0 | F24: =SUM(F25:F26) -> 0 | G24: =SUM(G25:G26) -> 0 | H24: =SUM(H25:H26) -> 0 | I24: =SUM(I25:I26) -> 0 | K24: 長野市 | L24: 0 | M24: 0 | N24: 0 | O24: 0 | P24: 0 | Q24: 0 | R24: 0 | T24: 山口県計 | U24: =SUM(U25:U26) -> 3 | V24: =SUM(V25:V26) -> 31 | W24: =SUM(W25:W26) -> 0 | X24: =SUM(X25:X26) -> 0 | Y24: =SUM(Y25:Y26) -> 0 | Z24: =SUM(Z25:Z26) -> 0 | AA24: =SUM(AA25:AA26) -> 1
B25: 秋田市 | C25: 0 | D25: 0 | E25: 0 | F25: 0 | G25: 0 | H25: 0 | I25: 0 | K25: 松本市 | L25: 0 | M25: 0 | N25: 0 | O25: 0 | P25: 0 | Q25: 0 | R25: 0 | T25: 下関市 | U25: 0 | V25: 0 | W25: 0 | X25: 0 | Y25: 0 | Z25: 0 | AA25: 0
B26: その他・秋田県 | C26: 1 | D26: 2 | E26: 0 | F26: 0 | G26: 0 | H26: 0 | I26: 0 | K26: その他・長野県 | L26: 15 | M26: 141 | N26: 0 | O26: 0 | P26: 0 | Q26: 0 | R26: 1 | T26: その他・山口県 | U26: 3 | V26: 31 | W26: 0 | X26: 0 | Y26: 0 | Z26: 0 | AA26: 1
B27: 山形県計 | C27: =SUM(C28:C29) -> 10 | D27: =SUM(D28:D29) -> 12 | E27: =SUM(E28:E29) -> 0 | F27: =SUM(F28:F29) -> 0 | G27: =SUM(G28:G29) -> 0 | H27: =SUM(H28:H29) -> 0 | I27: =SUM(I28:I29) -> 4 | K27: 岐阜県計 | L27: =SUM(L28:L29) -> 47 | M27: =SUM(M28:M29) -> 113 | N27: =SUM(N28:N29) -> 0 | O27: =SUM(O28:O29) -> 0 | P27: =SUM(P28:P29) -> 0 | Q27: =SUM(Q28:Q29) -> 0 | R27: =SUM(R28:R29) -> 1 | T27: 徳島県計 | U27: =SUM(U28) -> 0 | V27: =SUM(V28) -> 0 | W27: =SUM(W28) -> 0 | X27: =SUM(X28) -> 0 | Y27: =SUM(Y28) -> 0 | Z27: =SUM(Z28) -> 0 | AA27: =SUM(AA28) -> 0
B28: 山形市 | C28: 1 | D28: 1 | E28: 0 | F28: 0 | G28: 0 | H28: 0 | I28: 0 | K28: 岐阜市 | L28: 5 | M28: 24 | N28: 0 | O28: 0 | P28: 0 | Q28: 0 | R28: 0 | T28: 徳島県 | U28: 0 | V28: 0 | W28: 0 | X28: 0 | Y28: 0 | Z28: 0 | AA28: 0
B29: その他・山形県 | C29: 9 | D29: 11 | E29: 0 | F29: 0 | G29: 0 | H29: 0 | I29: 4 | K29: その他・岐阜県 | L29: 42 | M29: 89 | N29: 0 | O29: 0 | P29: 0 | Q29: 0 | R29: 1 | T29: 香川県計 | U29: =SUM(U30:U31) -> 73 | V29: =SUM(V30:V31) -> 111 | W29: =SUM(W30:W31) -> 0 | X29: =SUM(X30:X31) -> 0 | Y29: =SUM(Y30:Y31) -> 0 | Z29: =SUM(Z30:Z31) -> 0 | AA29: =SUM(AA30:AA31) -> 6
B30: 福島県計 | C30: =SUM(C31:C34) -> 16 | D30: =SUM(D31:D34) -> 70 | E30: =SUM(E31:E34) -> 0 | F30: =SUM(F31:F34) -> 0 | G30: =SUM(G31:G34) -> 0 | H30: =SUM(H31:H34) -> 0 | I30: =SUM(I31:I34) -> 7 | K30: 静岡県計 | L30: =SUM(L31:L35) -> 10 | M30: =SUM(M31:M35) -> 31 | N30: =SUM(N31:N35) -> 0 | O30: =SUM(O31:O35) -> 0 | P30: =SUM(P31:P35) -> 0 | Q30: =SUM(Q31:Q35) -> 0 | R30: =SUM(R31:R35) -> 0 | T30: 高松市 | U30: 5 | V30: 5 | W30: 0 | X30: 0 | Y30: 0 | Z30: 0 | AA30: 0
B31: 福島市 | C31: 0 | D31: 0 | E31: 0 | F31: 0 | G31: 0 | H31: 0 | I31: 0 | K31: 静岡市 | L31: 0 | M31: 0 | N31: 0 | O31: 0 | P31: 0 | Q31: 0 | R31: 0 | T31: その他・香川県 | U31: 68 | V31: 106 | W31: 0 | X31: 0 | Y31: 0 | Z31: 0 | AA31: 6
B32: 郡山市 | C32: 0 | D32: 0 | E32: 0 | F32: 0 | G32: 0 | H32: 0 | I32: 0 | K32: 浜松市 | L32: 0 | M32: 0 | N32: 0 | O32: 0 | P32: 0 | Q32: 0 | R32: 0 | T32: 愛媛県計 | U32: =SUM(U33:U34) -> 20 | V32: =SUM(V33:V34) -> 203 | W32: =SUM(W33:W34) -> 0 | X32: =SUM(X33:X34) -> 0 | Y32: =SUM(Y33:Y34) -> 0 | Z32: =SUM(Z33:Z34) -> 0 | AA32: =SUM(AA33:AA34) -> 2
B33: いわき市 | C33: 0 | D33: 0 | E33: 0 | F33: 0 | G33: 0 | H33: 0 | I33: 0 | K33: 沼津市 | L33: 0 | M33: 0 | N33: 0 | O33: 0 | P33: 0 | Q33: 0 | R33: 0 | T33: 松山市 | U33: 0 | V33: 0 | W33: 0 | X33: 0 | Y33: 0 | Z33: 0 | AA33: 0
B34: その他・福島県 | C34: 16 | D34: 70 | E34: 0 | F34: 0 | G34: 0 | H34: 0 | I34: 7 | K34: 富士市 | L34: 3 | M34: 12 | N34: 0 | O34: 0 | P34: 0 | Q34: 0 | R34: 0 | T34: その他・愛媛県 | U34: 20 | V34: 203 | W34: 0 | X34: 0 | Y34: 0 | Z34: 0 | AA34: 2
B35: 茨城県計 | C35: =SUM(C36:C38) -> 22 | D35: =SUM(D36:D38) -> 254 | E35: =SUM(E36:E38) -> 0 | F35: =SUM(F36:F38) -> 0 | G35: =SUM(G36:G38) -> 0 | H35: =SUM(H36:H38) -> 0 | I35: =SUM(I36:I38) -> 3 | K35: その他・静岡県 | L35: 7 | M35: 19 | N35: 0 | O35: 0 | P35: 0 | Q35: 0 | R35: 0 | T35: 高知県計 | U35: =SUM(U36:U37) -> 2 | V35: =SUM(V36:V37) -> 50 | W35: =SUM(W36:W37) -> 0 | X35: =SUM(X36:X37) -> 0 | Y35: =SUM(Y36:Y37) -> 0 | Z35: =SUM(Z36:Z37) -> 0 | AA35: =SUM(AA36:AA37) -> 48
B36: 水戸市 | C36: 0 | D36: 0 | E36: 0 | F36: 0 | G36: 0 | H36: 0 | I36: 0 | K36: 愛知県計 | L36: =SUM(L37:L43) -> 210 | M36: =SUM(M37:M43) -> 1983 | N36: =SUM(N37:N43) -> 0 | O36: =SUM(O37:O43) -> 0 | P36: =SUM(P37:P43) -> 0 | Q36: =SUM(Q37:Q43) -> 0 | R36: =SUM(R37:R43) -> 268 | T36: 高知市 | U36: 2 | V36: 50 | W36: 0 | X36: 0 | Y36: 0 | Z36: 0 | AA36: 48
B37: つくば市 | C37: 0 | D37: 0 | E37: 0 | F37: 0 | G37: 0 | H37: 0 | I37: 1 | K37: 名古屋市 | L37: 4 | M37: 18 | N37: 0 | O37: 0 | P37: 0 | Q37: 0 | R37: 0 | T37: その他・高知県 | U37: 0 | V37: 0 | W37: 0 | X37: 0 | Y37: 0 | Z37: 0 | AA37: 0
B38: その他・茨城県 | C38: 22 | D38: 254 | E38: 0 | F38: 0 | G38: 0 | H38: 0 | I38: 2 | K38: 豊橋市 | L38: 0 | M38: 0 | N38: 0 | O38: 0 | P38: 0 | Q38: 0 | R38: 0 | T38: 福岡県計 | U38: =SUM(U39:U43) -> 71 | V38: =SUM(V39:V43) -> 2031 | W38: =SUM(W39:W43) -> 0 | X38: =SUM(X39:X43) -> 0 | Y38: =SUM(Y39:Y43) -> 0 | Z38: =SUM(Z39:Z43) -> 0 | AA38: =SUM(AA39:AA43) -> 14
B39: 栃木県計 | C39: =SUM(C40:C41) -> 6 | D39: =SUM(D40:D41) -> 62 | E39: =SUM(E40:E41) -> 0 | F39: =SUM(F40:F41) -> 0 | G39: =SUM(G40:G41) -> 0 | H39: =SUM(H40:H41) -> 0 | I39: =SUM(I40:I41) -> 0 | K39: 岡崎市 | L39: 0 | M39: 0 | N39: 0 | O39: 0 | P39: 0 | Q39: 0 | R39: 0 | T39: 北九州市 | U39: 49 | V39: 421 | W39: 0 | X39: 0 | Y39: 0 | Z39: 0 | AA39: 14
B40: 宇都宮市 | C40: 0 | D40: 0 | E40: 0 | F40: 0 | G40: 0 | H40: 0 | I40: 0 | K40: 一宮市 | L40: 4 | M40: 4 | N40: 0 | O40: 0 | P40: 0 | Q40: 0 | R40: 0 | T40: 福岡市 | U40: 5 | V40: 37 | W40: 0 | X40: 0 | Y40: 0 | Z40: 0 | AA40: 0
B41: その他・栃木県 | C41: 6 | D41: 62 | E41: 0 | F41: 0 | G41: 0 | H41: 0 | I41: 0 | K41: 春日井市 | L41: 4 | M41: 103 | N41: 0 | O41: 0 | P41: 0 | Q41: 0 | R41: 0 | T41: 大牟田市 | U41: 0 | V41: 0 | W41: 0 | X41: 0 | Y41: 0 | Z41: 0 | AA41: 0
B42: 群馬県計 | C42: =SUM(C43:C47) -> 22 | D42: =SUM(D43:D47) -> 104 | E42: =SUM(E43:E47) -> 0 | F42: =SUM(F43:F47) -> 0 | G42: =SUM(G43:G47) -> 0 | H42: =SUM(H43:H47) -> 0 | I42: =SUM(I43:I47) -> 8 | K42: 豊田市 | L42: 0 | M42: 0 | N42: 0 | O42: 0 | P42: 0 | Q42: 0 | R42: 0 | T42: 久留米市 | U42: 0 | V42: 0 | W42: 0 | X42: 0 | Y42: 0 | Z42: 0 | AA42: 0
B43: 前橋市 | C43: 2 | D43: 5 | E43: 0 | F43: 0 | G43: 0 | H43: 0 | I43: 1 | K43: その他・愛知県 | L43: 198 | M43: 1858 | N43: 0 | O43: 0 | P43: 0 | Q43: 0 | R43: 268 | T43: その他・福岡県 | U43: 17 | V43: 1573 | W43: 0 | X43: 0 | Y43: 0 | Z43: 0 | AA43: 0
B44: 高崎市 | C44: 1 | D44: 2 | E44: 0 | F44: 0 | G44: 0 | H44: 0 | I44: 0 | K44: 三重県計 | L44: =SUM(L45:L46) -> 33 | M44: =SUM(M45:M46) -> 319 | N44: =SUM(N45:N46) -> 0 | O44: =SUM(O45:O46) -> 0 | P44: =SUM(P45:P46) -> 0 | Q44: =SUM(Q45:Q46) -> 0 | R44: =SUM(R45:R46) -> 20 | T44: 佐賀県計 | U44: =SUM(U45:U46) -> 16 | V44: =SUM(V45:V46) -> 132 | W44: =SUM(W45:W46) -> 0 | X44: =SUM(X45:X46) -> 0 | Y44: =SUM(Y45:Y46) -> 0 | Z44: =SUM(Z45:Z46) -> 0 | AA44: =SUM(AA45:AA46) -> 0
B45: 伊勢崎市 | C45: 0 | D45: 0 | E45: 0 | F45: 0 | G45: 0 | H45: 0 | I45: 0 | K45: 四日市市 | L45: 0 | M45: 0 | N45: 0 | O45: 0 | P45: 0 | Q45: 0 | R45: 0 | T45: 佐賀市 | U45: 4 | V45: 6 | W45: 0 | X45: 0 | Y45: 0 | Z45: 0 | AA45: 0
B46: 太田市 | C46: 0 | D46: 0 | E46: 0 | F46: 0 | G46: 0 | H46: 0 | I46: 0 | K46: その他・三重県 | L46: 33 | M46: 319 | N46: 0 | O46: 0 | P46: 0 | Q46: 0 | R46: 20 | T46: その他・佐賀県 | U46: 12 | V46: 126 | W46: 0 | X46: 0 | Y46: 0 | Z46: 0 | AA46: 0
B47: その他・群馬県 | C47: 19 | D47: 97 | E47: 0 | F47: 0 | G47: 0 | H47: 0 | I47: 7 | K47: 滋賀県計 | L47: =SUM(L48:L49) -> 2 | M47: =SUM(M48:M49) -> 2 | N47: =SUM(N48:N49) -> 0 | O47: =SUM(O48:O49) -> 0 | P47: =SUM(P48:P49) -> 0 | Q47: =SUM(Q48:Q49) -> 0 | R47: =SUM(R48:R49) -> 4 | T47: 長崎県計 | U47: =SUM(U48:U50) -> 143 | V47: =SUM(V48:V50) -> 1150 | W47: =SUM(W48:W50) -> 0 | X47: =SUM(X48:X50) -> 0 | Y47: =SUM(Y48:Y50) -> 0 | Z47: =SUM(Z48:Z50) -> 0 | AA47: =SUM(AA48:AA50) -> 0
B48: 埼玉県計 | C48: =SUM(C49:C57) -> 60 | D48: =SUM(D49:D57) -> 426 | E48: =SUM(E49:E57) -> 0 | F48: =SUM(F49:F57) -> 0 | G48: =SUM(G49:G57) -> 0 | H48: =SUM(H49:H57) -> 0 | I48: =SUM(I49:I57) -> 9 | K48: 大津市 | L48: 1 | M48: 1 | N48: 0 | O48: 0 | P48: 0 | Q48: 0 | R48: 0 | T48: 長崎市 | U48: 0 | V48: 0 | W48: 0 | X48: 0 | Y48: 0 | Z48: 0 | AA48: 0
B49: さいたま市 | C49: 1 | D49: 1 | E49: 0 | F49: 0 | G49: 0 | H49: 0 | I49: 0 | K49: その他・滋賀県 | L49: 1 | M49: 1 | N49: 0 | O49: 0 | P49: 0 | Q49: 0 | R49: 4 | T49: 佐世保市 | U49: 0 | V49: 0 | W49: 0 | X49: 0 | Y49: 0 | Z49: 0 | AA49: 0
B50: 川越市 | C50: 13 | D50: 41 | E50: 0 | F50: 0 | G50: 0 | H50: 0 | I50: 1 | K50: 京都府計 | L50: =SUM(L51:L52) -> 17 | M50: =SUM(M51:M52) -> 283 | N50: =SUM(N51:N52) -> 0 | O50: =SUM(O51:O52) -> 0 | P50: =SUM(P51:P52) -> 0 | Q50: =SUM(Q51:Q52) -> 0 | R50: =SUM(R51:R52) -> 2 | T50: その他・長崎県 | U50: 143 | V50: 1150 | W50: 0 | X50: 0 | Y50: 0 | Z50: 0 | AA50: 0
B51: 熊谷市 | C51: 5 | D51: 90 | E51: 0 | F51: 0 | G51: 0 | H51: 0 | I51: 0 | K51: 京都市 | L51: 0 | M51: 0 | N51: 0 | O51: 0 | P51: 0 | Q51: 0 | R51: 0 | T51: 熊本県計 | U51: =SUM(U52:U53) -> 4 | V51: =SUM(V52:V53) -> 4 | W51: =SUM(W52:W53) -> 0 | X51: =SUM(X52:X53) -> 0 | Y51: =SUM(Y52:Y53) -> 0 | Z51: =SUM(Z52:Z53) -> 0 | AA51: =SUM(AA52:AA53) -> 0
B52: 川口市 | C52: 2 | D52: 7 | E52: 0 | F52: 0 | G52: 0 | H52: 0 | I52: 0 | K52: その他・京都府 | L52: 17 | M52: 283 | N52: 0 | O52: 0 | P52: 0 | Q52: 0 | R52: 2 | T52: 熊本市 | U52: 0 | V52: 0 | W52: 0 | X52: 0 | Y52: 0 | Z52: 0 | AA52: 0
B53: 所沢市 | C53: 0 | D53: 0 | E53: 0 | F53: 0 | G53: 0 | H53: 0 | I53: 0 | K53: 大阪府計 | L53: =SUM(L54:L65) -> 36 | M53: =SUM(M54:M65) -> 215 | N53: =SUM(N54:N65) -> 0 | O53: =SUM(O54:O65) -> 0 | P53: =SUM(P54:P65) -> 0 | Q53: =SUM(Q54:Q65) -> 0 | R53: =SUM(R54:R65) -> 41 | T53: その他・熊本県 | U53: 4 | V53: 4 | W53: 0 | X53: 0 | Y53: 0 | Z53: 0 | AA53: 0
B54: 春日部市 | C54: 0 | D54: 0 | E54: 0 | F54: 0 | G54: 0 | H54: 0 | I54: 0 | K54: 大阪市 | L54: 10 | M54: 126 | N54: 0 | O54: 0 | P54: 0 | Q54: 0 | R54: 31 | T54: 大分県計 | U54: =SUM(U55:U56) -> 15 | V54: =SUM(V55:V56) -> 81 | W54: =SUM(W55:W56) -> 0 | X54: =SUM(X55:X56) -> 0 | Y54: =SUM(Y55:Y56) -> 0 | Z54: =SUM(Z55:Z56) -> 0 | AA54: =SUM(AA55:AA56) -> 10
B55: 草加市 | C55: 0 | D55: 0 | E55: 0 | F55: 0 | G55: 0 | H55: 0 | I55: 0 | K55: 堺市 | L55: 1 | M55: 9 | N55: 0 | O55: 0 | P55: 0 | Q55: 0 | R55: 0 | T55: 大分市 | U55: 13 | V55: 79 | W55: 0 | X55: 0 | Y55: 0 | Z55: 0 | AA55: 8
B56: 越谷市 | C56: 0 | D56: 0 | E56: 0 | F56: 0 | G56: 0 | H56: 0 | I56: 0 | K56: 岸和田市 | L56: 0 | M56: 0 | N56: 0 | O56: 0 | P56: 0 | Q56: 0 | R56: 0 | T56: その他・大分県 | U56: 2 | V56: 2 | W56: 0 | X56: 0 | Y56: 0 | Z56: 0 | AA56: 2
B57: その他・埼玉県 | C57: 39 | D57: 287 | E57: 0 | F57: 0 | G57: 0 | H57: 0 | I57: 8 | K57: 豊中市 | L57: 0 | M57: 0 | N57: 0 | O57: 0 | P57: 0 | Q57: 0 | R57: 0 | T57: 宮崎県計 | U57: =SUM(U58:U59) -> 26 | V57: =SUM(V58:V59) -> 685 | W57: =SUM(W58:W59) -> 0 | X57: =SUM(X58:X59) -> 0 | Y57: =SUM(Y58:Y59) -> 0 | Z57: =SUM(Z58:Z59) -> 0 | AA57: =SUM(AA58:AA59) -> 0
B58: 千葉県計 | C58: =SUM(C59:C65) -> 63 | D58: =SUM(D59:D65) -> 380 | E58: =SUM(E59:E65) -> 0 | F58: =SUM(F59:F65) -> 0 | G58: =SUM(G59:G65) -> 0 | H58: =SUM(H59:H65) -> 0 | I58: =SUM(I59:I65) -> 45 | K58: 吹田市 | L58: 0 | M58: 0 | N58: 0 | O58: 0 | P58: 0 | Q58: 0 | R58: 0 | T58: 宮崎市 | U58: 3 | V58: 8 | W58: 0 | X58: 0 | Y58: 0 | Z58: 0 | AA58: 0
B59: 千葉市 | C59: 2 | D59: 24 | E59: 0 | F59: 0 | G59: 0 | H59: 0 | I59: 2 | K59: 高槻市 | L59: 4 | M59: 8 | N59: 0 | O59: 0 | P59: 0 | Q59: 0 | R59: 0 | T59: その他・宮崎県 | U59: 23 | V59: 677 | W59: 0 | X59: 0 | Y59: 0 | Z59: 0 | AA59: 0
B60: 市川市 | C60: 0 | D60: 0 | E60: 0 | F60: 0 | G60: 0 | H60: 0 | I60: 0 | K60: 枚方市 | L60: 0 | M60: 0 | N60: 0 | O60: 0 | P60: 0 | Q60: 0 | R60: 0 | T60: 鹿児島県計 | U60: =SUM(U61:U62) -> 0 | V60: =SUM(V61:V62) -> 0 | W60: =SUM(W61:W62) -> 0 | X60: =SUM(X61:X62) -> 0 | Y60: =SUM(Y61:Y62) -> 0 | Z60: =SUM(Z61:Z62) -> 0 | AA60: =SUM(AA61:AA62) -> 0
B61: 船橋市 | C61: 0 | D61: 0 | E61: 0 | F61: 0 | G61: 0 | H61: 0 | I61: 0 | K61: 茨木市 | L61: 3 | M61: 6 | N61: 0 | O61: 0 | P61: 0 | Q61: 0 | R61: 0 | T61: 鹿児島市 | U61: 0 | V61: 0 | W61: 0 | X61: 0 | Y61: 0 | Z61: 0 | AA61: 0
B62: 松戸市 | C62: 0 | D62: 0 | E62: 0 | F62: 0 | G62: 0 | H62: 0 | I62: 0 | K62: 八尾市 | L62: 0 | M62: 0 | N62: 0 | O62: 0 | P62: 0 | Q62: 0 | R62: 0 | T62: その他・鹿児島県 | U62: 0 | V62: 0 | W62: 0 | X62: 0 | Y62: 0 | Z62: 0 | AA62: 0
B63: 柏市 | C63: 0 | D63: 0 | E63: 0 | F63: 0 | G63: 0 | H63: 0 | I63: 0 | K63: 寝屋川市 | L63: 0 | M63: 0 | N63: 0 | O63: 0 | P63: 0 | Q63: 0 | R63: 0 | T63: 沖縄県計 | U63: =SUM(U64:U65) -> 17 | V63: =SUM(V64:V65) -> 30 | W63: =SUM(W64:W65) -> 0 | X63: =SUM(X64:X65) -> 0 | Y63: =SUM(Y64:Y65) -> 0 | Z63: =SUM(Z64:Z65) -> 0 | AA63: =SUM(AA64:AA65) -> 2
B64: 市原市 | C64: 0 | D64: 0 | E64: 0 | F64: 0 | G64: 0 | H64: 0 | I64: 0 | K64: 東大阪市 | L64: 0 | M64: 0 | N64: 0 | O64: 0 | P64: 0 | Q64: 0 | R64: 0 | T64: 那覇市 | U64: 0 | V64: 0 | W64: 0 | X64: 0 | Y64: 0 | Z64: 0 | AA64: 0
B65: その他・千葉県 | C65: 61 | D65: 356 | E65: 0 | F65: 0 | G65: 0 | H65: 0 | I65: 43 | K65: その他・大阪府 | L65: 18 | M65: 66 | N65: 0 | O65: 0 | P65: 0 | Q65: 0 | R65: 10 | T65: その他・沖縄県 | U65: 17 | V65: 30 | W65: 0 | X65: 0 | Y65: 0 | Z65: 0 | AA65: 2
B66: 東京都計 | C66: =SUM(C67:C68) -> 15 | D66: =SUM(D67:D68) -> 588 | E66: =SUM(E67:E68) -> 0 | F66: =SUM(F67:F68) -> 0 | G66: =SUM(G67:G68) -> 0 | H66: =SUM(H67:H68) -> 0 | I66: =SUM(I67:I68) -> 2 | K66: 兵庫県計 | L66: =SUM(L67:L74) -> 71 | M66: =SUM(M67:M74) -> 1614 | N66: =SUM(N67:N74) -> 0 | O66: =SUM(O67:O74) -> 0 | P66: =SUM(P67:P74) -> 0 | Q66: =SUM(Q67:Q74) -> 0 | R66: =SUM(R67:R74) -> 17 | T66: 合計 | U66: =SUM(C6:C80,L6:L77,U6:U65)/2 -> 1367 | V66: =SUM(D6:D80,M6:M77,V6:V65)/2 -> 13081 | W66: =SUM(E6:E80,N6:N77,W6:W65)/2 -> 0 | X66: =SUM(F6:F80,O6:O77,X6:X65)/2 -> 0 | Y66: =SUM(G6:G80,P6:P77,Y6:Y65)/2 -> 0 | Z66: =SUM(H6:H80,Q6:Q77,Z6:Z65)/2 -> 0 | AA66: =SUM(I6:I80,R6:R77,AA6:AA65)/2 -> 606
B67: 八王子市 | C67: 3 | D67: 104 | E67: 0 | F67: 0 | G67: 0 | H67: 0 | I67: 0 | K67: 神戸市 | L67: 2 | M67: 7 | N67: 0 | O67: 0 | P67: 0 | Q67: 0 | R67: 0
B68: その他・東京都 | C68: 12 | D68: 484 | E68: 0 | F68: 0 | G68: 0 | H68: 0 | I68: 2 | K68: 姫路市 | L68: 13 | M68: 13 | N68: 0 | O68: 0 | P68: 0 | Q68: 0 | R68: 0
B69: 神奈川県計 | C69: =SUM(C70:C80) -> 27 | D69: =SUM(D70:D80) -> 78 | E69: =SUM(E70:E80) -> 0 | F69: =SUM(F70:F80) -> 0 | G69: =SUM(G70:G80) -> 0 | H69: =SUM(H70:H80) -> 0 | I69: =SUM(I70:I80) -> 2 | K69: 尼崎市 | L69: 0 | M69: 0 | N69: 0 | O69: 0 | P69: 0 | Q69: 0 | R69: 0
B70: 横浜市 | C70: 5 | D70: 5 | E70: 0 | F70: 0 | G70: 0 | H70: 0 | I70: 0 | K70: 明石市 | L70: 0 | M70: 0 | N70: 0 | O70: 0 | P70: 0 | Q70: 0 | R70: 0
B71: 川崎市 | C71: 1 | D71: 2 | E71: 0 | F71: 0 | G71: 0 | H71: 0 | I71: 0 | K71: 西宮市 | L71: 0 | M71: 0 | N71: 0 | O71: 0 | P71: 0 | Q71: 0 | R71: 0
B72: 相模原市 | C72: 2 | D72: 2 | E72: 0 | F72: 0 | G72: 0 | H72: 0 | I72: 0 | K72: 加古川市 | L72: 18 | M72: 1409 | N72: 0 | O72: 0 | P72: 0 | Q72: 0 | R72: 4
B73: 横須賀市 | C73: 15 | D73: 42 | E73: 0 | F73: 0 | G73: 0 | H73: 0 | I73: 0 | K73: 宝塚市 | L73: 0 | M73: 0 | N73: 0 | O73: 0 | P73: 0 | Q73: 0 | R73: 0
B74: 平塚市 | C74: 1 | D74: 1 | E74: 0 | F74: 0 | G74: 0 | H74: 0 | I74: 0 | K74: その他・兵庫県 | L74: 38 | M74: 185 | N74: 0 | O74: 0 | P74: 0 | Q74: 0 | R74: 13
B75: 藤沢市 | C75: 0 | D75: 0 | E75: 0 | F75: 0 | G75: 0 | H75: 0 | I75: 0 | K75: 奈良県計 | L75: =SUM(L76:L77) -> 0 | M75: =SUM(M76:M77) -> 0 | N75: =SUM(N76:N77) -> 0 | O75: =SUM(O76:O77) -> 0 | P75: =SUM(P76:P77) -> 0 | Q75: =SUM(Q76:Q77) -> 0 | R75: =SUM(R76:R77) -> 0
B76: 小田原市 | C76: 0 | D76: 0 | E76: 0 | F76: 0 | G76: 0 | H76: 0 | I76: 0 | K76: 奈良市 | L76: 0 | M76: 0 | N76: 0 | O76: 0 | P76: 0 | Q76: 0 | R76: 0
B77: 茅ヶ崎市 | C77: 1 | D77: 1 | E77: 0 | F77: 0 | G77: 0 | H77: 0 | I77: 1 | K77: その他・奈良県 | L77: 0 | M77: 0 | N77: 0 | O77: 0 | P77: 0 | Q77: 0 | R77: 0
B78: 厚木市 | C78: 0 | D78: 0 | E78: 0 | F78: 0 | G78: 0 | H78: 0 | I78: 0
B79: 大和市 | C79: 1 | D79: 1 | E79: 0 | F79: 0 | G79: 0 | H79: 0 | I79: 0
B80: その他・神奈川県 | C80: 1 | D80: 24 | E80: 0 | F80: 0 | G80: 0 | H80: 0 | I80: 1

Sheet 表8.4
B2: 表8.4(1) 立入検査実施件数 年度別・都道府県市別 （大気汚染防止法に係る一般粉じん発生施設） | I2: 表8.4(2) 立入検査実施件数 年度別・都道府県市別 （大気汚染防止法に係る一般粉じん発生施設） | P2: 表8.4(3) 立入検査実施件数 年度別・都道府県市別 （大気汚染防止法に係る一般粉じん発生施設）
B4: 自治体名 | C4: 立入検査実施工場・事業場数 | I4: 自治体名 | J4: 立入検査実施工場・事業場数 | P4: 自治体名 | Q4: 立入検査実施工場・事業場数
C5: 平成30年度 | D5: 令和元年度 | E5: 令和２年度 | F5: 令和３年度 | G5: 令和４年度 | J5: 平成30年度 | K5: 令和元年度 | L5: 令和２年度 | M5: 令和３年度 | N5: 令和４年度 | Q5: 平成30年度 | R5: 令和元年度 | S5: 令和２年度 | T5: 令和３年度 | U5: 令和４年度
B6: 北海道計 | C6: =SUM(C7:C13) -> 100 | D6: =SUM(D7:D13) -> 124 | E6: =SUM(E7:E13) -> 82 | F6: =SUM(F7:F13) -> 95 | G6: =SUM(G7:G13) -> 118 | I6: 新潟県計 | J6: =SUM(J7:J10) -> 2 | K6: =SUM(K7:K10) -> 0 | L6: =SUM(L7:L10) -> 4 | M6: =SUM(M7:M10) -> 2 | N6: =SUM(N7:N10) -> 1 | P6: 和歌山県計 | Q6: =SUM(Q7:Q8) -> 0 | R6: =SUM(R7:R8) -> 0 | S6: =SUM(S7:S8) -> 0 | T6: =SUM(T7:T8) -> 0 | U6: =SUM(U7:U8) -> 0
B7: 札幌市 | C7: 5 | D7: 3 | E7: 4 | F7: 7 | G7: ='表8.3'!C7 -> 12 | I7: 新潟市 | J7: 2 | K7: 0 | L7: 2 | M7: 2 | N7: ='表8.3'!L7 -> 1 | P7: 和歌山市 | R7: 0 | S7: 0 | T7: 0 | U7: ='表8.3'!U7 -> 0
B8: 函館市 | C8: 0 | D8: 0 | E8: 0 | F8: 0 | G8: ='表8.3'!C8 -> 0 | I8: 長岡市 | J8: 0 | K8: 0 | L8: 0 | M8: 0 | N8: ='表8.3'!L8 -> 0 | P8: その他・和歌山県 | R8: 0 | S8: 0 | T8: 0 | U8: ='表8.3'!U8 -> 0
B9: 小樽市 | C9: 0 | D9: 0 | E9: 0 | F9: 0 | G9: ='表8.3'!C9 -> 0 | I9: 上越市 | J9: 0 | K9: 0 | L9: 0 | M9: 0 | N9: ='表8.3'!L9 -> 0 | P9: 鳥取県計 | Q9: =SUM(Q10:Q11) -> 7 | R9: =SUM(R10:R11) -> 0 | S9: =SUM(S10:S11) -> 2 | T9: =SUM(T10:T11) -> 1 | U9: =SUM(U10:U11) -> 1
B10: 旭川市 | C10: 0 | D10: 0 | E10: 0 | F10: 0 | G10: ='表8.3'!C10 -> 0 | I10: その他・新潟県 | J10: 0 | K10: 0 | L10: 2 | M10: 0 | N10: ='表8.3'!L10 -> 0 | P10: 鳥取市 | Q10: 0 | R10: 0 | S10: 0 | T10: 1 | U10: ='表8.3'!U10 -> 0
B11: 室蘭市 | C11: 0 | D11: 0 | E11: 0 | F11: 0 | G11: ='表8.3'!C11 -> 0 | I11: 富山県計 | J11: =SUM(J12:J13) -> 8 | K11: =SUM(K12:K13) -> 8 | L11: =SUM(L12:L13) -> 8 | M11: =SUM(M12:M13) -> 10 | N11: =SUM(N12:N13) -> 4 | P11: その他・鳥取県 | Q11: 7 | R11: 0 | S11: 2 | T11: 0 | U11: ='表8.3'!U11 -> 1
B12: 苫小牧市 | C12: 0 | D12: 0 | E12: 0 | F12: 0 | G12: ='表8.3'!C12 -> 0 | I12: 富山市 | J12: 0 | K12: 0 | L12: 0 | M12: 0 | N12: ='表8.3'!L12 -> 0 | P12: 島根県計 | Q12: =SUM(Q13:Q14) -> 5 | R12: =SUM(R13:R14) -> 2 | S12: =SUM(S13:S14) -> 7 | T12: =SUM(T13:T14) -> 7 | U12: =SUM(U13:U14) -> 2
B13: その他・北海道 | C13: 95 | D13: 121 | E13: 78 | F13: 88 | G13: ='表8.3'!C13 -> 106 | I13: その他・富山県 | J13: 8 | K13: 8 | L13: 8 | M13: 10 | N13: ='表8.3'!L13 -> 4 | P13: 松江市 | Q13: 0 | R13: 2 | S13: 2 | T13: 0 | U13: ='表8.3'!U13 -> 1
B14: 青森県計 | C14: =SUM(C15:C17) -> 38 | D14: =SUM(D15:D17) -> 50 | E14: =SUM(E15:E17) -> 37 | F14: =SUM(F15:F17) -> 41 | G14: =SUM(G15:G17) -> 40 | I14: 石川県計 | J14: =SUM(J15:J16) -> 16 | K14: =SUM(K15:K16) -> 17 | L14: =SUM(L15:L16) -> 15 | M14: =SUM(M15:M16) -> 19 | N14: =SUM(N15:N16) -> 25 | P14: その他・島根県 | Q14: 5 | R14: 0 | S14: 5 | T14: 7 | U14: ='表8.3'!U14 -> 1
B15: 青森市 | C15: 4 | D15: 2 | E15: 2 | F15: 0 | G15: ='表8.3'!C15 -> 2 | I15: 金沢市 | J15: 0 | K15: 0 | L15: 0 | M15: 0 | N15: ='表8.3'!L15 -> 0 | P15: 岡山県計 | Q15: =SUM(Q16:Q18) -> 43 | R15: =SUM(R16:R18) -> 66 | S15: =SUM(S16:S18) -> 50 | T15: =SUM(T16:T18) -> 39 | U15: =SUM(U16:U18) -> 37
B16: 八戸市 | C16: 10 | D16: 25 | E16: 4 | F16: 13 | G16: ='表8.3'!C16 -> 17 | I16: その他・石川県 | J16: 16 | K16: 17 | L16: 15 | M16: 19 | N16: ='表8.3'!L16 -> 25 | P16: 岡山市 | Q16: 1 | R16: 32 | S16: 21 | T16: 11 | U16: ='表8.3'!U16 -> 14
B17: その他・青森県 | C17: 24 | D17: 23 | E17: 31 | F17: 28 | G17: ='表8.3'!C17 -> 21 | I17: 福井県計 | J17: =SUM(J18:J19) -> 16 | K17: =SUM(K18:K19) -> 8 | L17: =SUM(L18:L19) -> 5 | M17: =SUM(M18:M19) -> 9 | N17: =SUM(N18:N19) -> 4 | P17: 倉敷市 | Q17: 26 | R17: 12 | S17: 13 | T17: 15 | U17: ='表8.3'!U17 -> 14
B18: 岩手県計 | C18: =SUM(C19:C20) -> 20 | D18: =SUM(D19:D20) -> 26 | E18: =SUM(E19:E20) -> 18 | F18: =SUM(F19:F20) -> 14 | G18: =SUM(G19:G20) -> 4 | I18: 福井市 | J18: 2 | K18: 2 | L18: 2 | M18: 2 | N18: ='表8.3'!L18 -> 1 | P18: その他・岡山県 | Q18: 16 | R18: 22 | S18: 16 | T18: 13 | U18: ='表8.3'!U18 -> 9
B19: 盛岡市 | C19: 0 | D19: 0 | E19: 0 | F19: 0 | G19: ='表8.3'!C19 -> 0 | I19: その他・福井県 | J19: 14 | K19: 6 | L19: 3 | M19: 7 | N19: ='表8.3'!L19 -> 3 | P19: 広島県計 | Q19: =SUM(Q20:Q23) -> 115 | R19: =SUM(R20:R23) -> 37 | S19: =SUM(S20:S23) -> 99 | T19: =SUM(T20:T23) -> 55 | U19: =SUM(U20:U23) -> 37
B20: その他・岩手県 | C20: 20 | D20: 26 | E20: 18 | F20: 14 | G20: ='表8.3'!C20 -> 4 | I20: 山梨県計 | J20: =SUM(J21:J22) -> 1 | K20: =SUM(K21:K22) -> 5 | L20: =SUM(L21:L22) -> 9 | M20: =SUM(M21:M22) -> 7 | N20: =SUM(N21:N22) -> 8 | P20: 広島市 | Q20: 0 | R20: 0 | S20: 2 | T20: 2 | U20: ='表8.3'!U20 -> 0
B21: 宮城県計 | C21: =SUM(C22:C23) -> 16 | D21: =SUM(D22:D23) -> 18 | E21: =SUM(E22:E23) -> 17 | F21: =SUM(F22:F23) -> 7 | G21: =SUM(G22:G23) -> 13 | I21: 甲府市 | J21: 1 | K21: 0 | L21: 0 | M21: 0 | N21: ='表8.3'!L21 -> 0 | P21: 呉市 | Q21: 0 | R21: 0 | S21: 0 | T21: 0 | U21: ='表8.3'!U21 -> 0
B22: 仙台市 | C22: 3 | D22: 7 | E22: 7 | F22: 3 | G22: ='表8.3'!C22 -> 5 | I22: その他・山梨県 | J22: 0 | K22: 5 | L22: 9 | M22: 7 | N22: ='表8.3'!L22 -> 8 | P22: 福山市 | Q22: 8 | R22: 1 | S22: 6 | T22: 2 | U22: ='表8.3'!U22 -> 3
B23: その他・宮城県 | C23: 13 | D23: 11 | E23: 10 | F23: 4 | G23: ='表8.3'!C23 -> 8 | I23: 長野県計 | J23: =SUM(J24:J26) -> 29 | K23: =SUM(K24:K26) -> 19 | L23: =SUM(L24:L26) -> 9 | M23: =SUM(M24:M26) -> 12 | N23: =SUM(N24:N26) -> 15 | P23: その他・広島県 | Q23: 107 | R23: 36 | S23: 91 | T23: 51 | U23: ='表8.3'!U23 -> 34
B24: 秋田県計 | C24: =SUM(C25:C26) -> 11 | D24: =SUM(D25:D26) -> 11 | E24: =SUM(E25:E26) -> 11 | F24: =SUM(F25:F26) -> 3 | G24: =SUM(G25:G26) -> 1 | I24: 長野市 | J24: 0 | K24: 0 | L24: 0 | M24: 0 | N24: ='表8.3'!L24 -> 0 | P24: 山口県計 | Q24: =SUM(Q25:Q26) -> 5 | R24: =SUM(R25:R26) -> 10 | S24: =SUM(S25:S26) -> 7 | T24: =SUM(T25:T26) -> 3 | U24: =SUM(U25:U26) -> 3
B25: 秋田市 | C25: 0 | D25: 0 | E25: 4 | F25: 0 | G25: ='表8.3'!C25 -> 0 | I25: 松本市 | J25: 0 | K25: 1 | L25: 0 | M25: 1 | N25: ='表8.3'!L25 -> 0 | P25: 下関市 | Q25: 0 | R25: 0 | S25: 0 | T25: 0 | U25: ='表8.3'!U25 -> 0
B26: その他・秋田県 | C26: 11 | D26: 11 | E26: 7 | F26: 3 | G26: ='表8.3'!C26 -> 1 | I26: その他・長野県 | J26: 29 | K26: 18 | L26: 9 | M26: 11 | N26: ='表8.3'!L26 -> 15 | P26: その他・山口県 | Q26: 5 | R26: 10 | S26: 7 | T26: 3 | U26: ='表8.3'!U26 -> 3
B27: 山形県計 | C27: =SUM(C28:C29) -> 24 | D27: =SUM(D28:D29) -> 18 | E27: =SUM(E28:E29) -> 26 | F27: =SUM(F28:F29) -> 21 | G27: =SUM(G28:G29) -> 10 | I27: 岐阜県計 | J27: =SUM(J28:J29) -> 65 | K27: =SUM(K28:K29) -> 65 | L27: =SUM(L28:L29) -> 33 | M27: =SUM(M28:M29) -> 42 | N27: =SUM(N28:N29) -> 47 | P27: 徳島県計 | Q27: =SUM(Q28) -> 3 | R27: =SUM(R28) -> 7 | S27: =SUM(S28) -> 5 | T27: =SUM(T28) -> 5 | U27: =SUM(U28) -> 0
B28: 山形市 | C28: 10 | D28: 2 | E28: 0 | F28: 0 | G28: ='表8.3'!C28 -> 1 | I28: 岐阜市 | J28: 14 | K28: 24 | L28: 15 | M28: 13 | N28: ='表8.3'!L28 -> 5 | P28: 徳島県 | Q28: 3 | R28: 7 | S28: 5 | T28: 5 | U28: ='表8.3'!U28 -> 0
B29: その他・山形県 | C29: 14 | D29: 16 | E29: 26 | F29: 21 | G29: ='表8.3'!C29 -> 9 | I29: その他・岐阜県 | J29: 51 | K29: 41 | L29: 18 | M29: 29 | N29: ='表8.3'!L29 -> 42 | P29: 香川県計 | Q29: =SUM(Q30:Q31) -> 32 | R29: =SUM(R30:R31) -> 33 | S29: =SUM(S30:S31) -> 34 | T29: =SUM(T30:T31) -> 93 | U29: =SUM(U30:U31) -> 73
B30: 福島県計 | C30: =SUM(C31:C34) -> 19 | D30: =SUM(D31:D34) -> 29 | E30: =SUM(E31:E34) -> 1 | F30: =SUM(F31:F34) -> 13 | G30: =SUM(G31:G34) -> 16 | I30: 静岡県計 | J30: =SUM(J31:J35) -> 0 | K30: =SUM(K31:K35) -> 7 | L30: =SUM(L31:L35) -> 18 | M30: =SUM(M31:M35) -> 22 | N30: =SUM(N31:N35) -> 10 | P30: 高松市 | Q30: 1 | R30: 0 | S30: 1 | T30: 4 | U30: ='表8.3'!U30 -> 5
B31: 福島市 | C31: 0 | D31: 0 | E31: 0 | F31: 0 | G31: ='表8.3'!C31 -> 0 | I31: 静岡市 | J31: 0 | K31: 0 | L31: 0 | M31: 0 | N31: ='表8.3'!L31 -> 0 | P31: その他・香川県 | Q31: 31 | R31: 33 | S31: 33 | T31: 89 | U31: ='表8.3'!U31 -> 68
B32: 郡山市 | C32: 0 | D32: 2 | E32: 0 | F32: 0 | G32: ='表8.3'!C32 -> 0 | I32: 浜松市 | J32: 0 | K32: 0 | L32: 0 | M32: 0 | N32: ='表8.3'!L32 -> 0 | P32: 愛媛県計 | Q32: =SUM(Q33:Q34) -> 78 | R32: =SUM(R33:R34) -> 30 | S32: =SUM(S33:S34) -> 48 | T32: =SUM(T33:T34) -> 24 | U32: =SUM(U33:U34) -> 20
B33: いわき市 | C33: 0 | D33: 0 | E33: 0 | F33: 0 | G33: ='表8.3'!C33 -> 0 | I33: 沼津市 | J33: 0 | K33: 0 | L33: 0 | M33: 0 | N33: ='表8.3'!L33 -> 0 | P33: 松山市 | Q33: 0 | R33: 0 | S33: 0 | T33: 0 | U33: ='表8.3'!U33 -> 0
B34: その他・福島県 | C34: 19 | D34: 27 | E34: 1 | F34: 13 | G34: ='表8.3'!C34 -> 16 | I34: 富士市 | J34: 0 | K34: 0 | L34: 0 | M34: 0 | N34: ='表8.3'!L34 -> 3 | P34: その他・愛媛県 | Q34: 78 | R34: 30 | S34: 48 | T34: 24 | U34: ='表8.3'!U34 -> 20
B35: 茨城県計 | C35: =SUM(C36:C38) -> 20 | D35: =SUM(D36:D38) -> 33 | E35: =SUM(E36:E38) -> 20 | F35: =SUM(F36:F38) -> 30 | G35: =SUM(G36:G38) -> 22 | I35: その他・静岡県 | J35: 0 | K35: 7 | L35: 18 | M35: 22 | N35: ='表8.3'!L35 -> 7 | P35: 高知県計 | Q35: =SUM(Q36:Q37) -> 0 | R35: =SUM(R36:R37) -> 0 | S35: =SUM(S36:S37) -> 0 | T35: =SUM(T36:T37) -> 0 | U35: =SUM(U36:U37) -> 2
B36: 水戸市 | C36: 0 | D36: 0 | E36: 0 | F36: 0 | G36: ='表8.3'!C36 -> 0 | I36: 愛知県計 | J36: =SUM(J37:J43) -> 279 | K36: =SUM(K37:K43) -> 265 | L36: =SUM(L37:L43) -> 209 | M36: =SUM(M37:M43) -> 258 | N36: =SUM(N37:N43) -> 210 | P36: 高知市 | Q36: 0 | R36: 0 | S36: 0 | T36: 0 | U36: ='表8.3'!U36 -> 2
B37: つくば市 | C37: 0 | D37: 0 | E37: 0 | F37: 0 | G37: ='表8.3'!C37 -> 0 | I37: 名古屋市 | J37: 29 | K37: 28 | L37: 12 | M37: 22 | N37: ='表8.3'!L37 -> 4 | P37: その他・高知県 | Q37: 0 | R37: 0 | S37: 0 | T37: 0 | U37: ='表8.3'!U37 -> 0
B38: その他・茨城県 | C38: 20 | D38: 33 | E38: 20 | F38: 30 | G38: ='表8.3'!C38 -> 22 | I38: 豊橋市 | J38: 3 | K38: 1 | L38: 0 | M38: 0 | N38: ='表8.3'!L38 -> 0 | P38: 福岡県計 | Q38: =SUM(Q39:Q43) -> 70 | R38: =SUM(R39:R43) -> 76 | S38: =SUM(S39:S43) -> 82 | T38: =SUM(T39:T43) -> 85 | U38: =SUM(U39:U43) -> 71
B39: 栃木県計 | C39: =SUM(C40:C41) -> 12 | D39: =SUM(D40:D41) -> 18 | E39: =SUM(E40:E41) -> 21 | F39: =SUM(F40:F41) -> 6 | G39: =SUM(G40:G41) -> 6 | I39: 岡崎市 | J39: 0 | K39: 0 | L39: 0 | M39: 0 | N39: ='表8.3'!L39 -> 0 | P39: 北九州市 | Q39: 45 | R39: 45 | S39: 45 | T39: 47 | U39: ='表8.3'!U39 -> 49
B40: 宇都宮市 | C40: 0 | D40: 0 | E40: 0 | F40: 0 | G40: ='表8.3'!C40 -> 0 | I40: 一宮市 | J40: 5 | K40: 2 | L40: 0 | M40: 1 | N40: ='表8.3'!L40 -> 4 | P40: 福岡市 | Q40: 6 | R40: 4 | S40: 2 | T40: 2 | U40: ='表8.3'!U40 -> 5
B41: その他・栃木県 | C41: 12 | D41: 18 | E41: 21 | F41: 6 | G41: ='表8.3'!C41 -> 6 | I41: 春日井市 | J41: 8 | K41: 9 | L41: 5 | M41: 1 | N41: ='表8.3'!L41 -> 4 | P41: 大牟田市 | Q41: 0 | R41: 0 | S41: 0 | T41: 0 | U41: ='表8.3'!U41 -> 0
B42: 群馬県計 | C42: =SUM(C43:C47) -> 16 | D42: =SUM(D43:D47) -> 32 | E42: =SUM(E43:E47) -> 9 | F42: =SUM(F43:F47) -> 22 | G42: =SUM(G43:G47) -> 22 | I42: 豊田市 | J42: 0 | K42: 0 | L42: 3 | M42: 0 | N42: ='表8.3'!L42 -> 0 | P42: 久留米市 | Q42: 0 | R42: 0 | S42: 0 | T42: 0 | U42: ='表8.3'!U42 -> 0
B43: 前橋市 | C43: 0 | D43: 0 | E43: 1 | F43: 0 | G43: ='表8.3'!C43 -> 2 | I43: その他・愛知県 | J43: 234 | K43: 225 | L43: 189 | M43: 234 | N43: ='表8.3'!L43 -> 198 | P43: その他・福岡県 | Q43: 19 | R43: 27 | S43: 35 | T43: 36 | U43: ='表8.3'!U43 -> 17
B44: 高崎市 | C44: 1 | D44: 3 | E44: 0 | F44: 4 | G44: ='表8.3'!C44 -> 1 | I44: 三重県計 | J44: =SUM(J45:J46) -> 68 | K44: =SUM(K45:K46) -> 140 | L44: =SUM(L45:L46) -> 49 | M44: =SUM(M45:M46) -> 31 | N44: =SUM(N45:N46) -> 33 | P44: 佐賀県計 | Q44: =SUM(Q45:Q46) -> 19 | R44: =SUM(R45:R46) -> 23 | S44: =SUM(S45:S46) -> 19 | T44: =SUM(T45:T46) -> 15 | U44: =SUM(U45:U46) -> 16
B45: 伊勢崎市 | C45: 0 | D45: 0 | E45: 0 | F45: 0 | G45: ='表8.3'!C45 -> 0 | I45: 四日市市 | J45: 0 | K45: 0 | L45: 0 | M45: 0 | N45: ='表8.3'!L45 -> 0 | P45: 佐賀市 | Q45: 4 | R45: 4 | S45: 4 | T45: 4 | U45: ='表8.3'!U45 -> 4
B46: 太田市 | C46: 0 | D46: 0 | E46: 0 | F46: 0 | G46: ='表8.3'!C46 -> 0 | I46: その他・三重県 | J46: 68 | K46: 140 | L46: 49 | M46: 31 | N46: ='表8.3'!L46 -> 33 | P46: その他・佐賀県 | Q46: 15 | R46: 19 | S46: 15 | T46: 11 | U46: ='表8.3'!U46 -> 12
B47: その他・群馬県 | C47: 15 | D47: 29 | E47: 8 | F47: 18 | G47: ='表8.3'!C47 -> 19 | I47: 滋賀県計 | J47: =SUM(J48:J49) -> 5 | K47: =SUM(K48:K49) -> 6 | L47: =SUM(L48:L49) -> 2 | M47: =SUM(M48:M49) -> 6 | N47: =SUM(N48:N49) -> 2 | P47: 長崎県計 | Q47: =SUM(Q48:Q50) -> 210 | R47: =SUM(R48:R50) -> 196 | S47: =SUM(S48:S50) -> 181 | T47: =SUM(T48:T50) -> 167 | U47: =SUM(U48:U50) -> 143
B48: 埼玉県計 | C48: =SUM(C49:C57) -> 51 | D48: =SUM(D49:D57) -> 84 | E48: =SUM(E49:E57) -> 67 | F48: =SUM(F49:F57) -> 70 | G48: =SUM(G49:G57) -> 60 | I48: 大津市 | J48: 0 | K48: 0 | L48: 0 | M48: 0 | N48: ='表8.3'!L48 -> 1 | P48: 長崎市 | Q48: 1 | R48: 0 | S48: 0 | T48: 0 | U48: ='表8.3'!U48 -> 0
B49: さいたま市 | C49: 0 | D49: 0 | E49: 15 | F49: 8 | G49: ='表8.3'!C49 -> 1 | I49: その他・滋賀県 | J49: 5 | K49: 6 | L49: 2 | M49: 6 | N49: ='表8.3'!L49 -> 1 | P49: 佐世保市 | Q49: 3 | R49: 6 | S49: 0 | T49: 0 | U49: ='表8.3'!U49 -> 0
B50: 川越市 | C50: 13 | D50: 12 | E50: 9 | F50: 12 | G50: ='表8.3'!C50 -> 13 | I50: 京都府計 | J50: =SUM(J51:J52) -> 15 | K50: =SUM(K51:K52) -> 13 | L50: =SUM(L51:L52) -> 12 | M50: =SUM(M51:M52) -> 10 | N50: =SUM(N51:N52) -> 17 | P50: その他・長崎県 | Q50: 206 | R50: 190 | S50: 181 | T50: 167 | U50: ='表8.3'!U50 -> 143
B51: 熊谷市 | C51: 4 | D51: 6 | E51: 3 | F51: 4 | G51: ='表8.3'!C51 -> 5 | I51: 京都市 | J51: 0 | K51: 0 | L51: 0 | M51: 0 | N51: ='表8.3'!L51 -> 0 | P51: 熊本県計 | Q51: =SUM(Q52:Q53) -> 3 | R51: =SUM(R52:R53) -> 7 | S51: =SUM(S52:S53) -> 12 | T51: =SUM(T52:T53) -> 9 | U51: =SUM(U52:U53) -> 4
B52: 川口市 | C52: 1 | D52: 2 | E52: 1 | F52: 0 | G52: ='表8.3'!C52 -> 2 | I52: その他・京都府 | J52: 15 | K52: 13 | L52: 12 | M52: 10 | N52: ='表8.3'!L52 -> 17 | P52: 熊本市 | Q52: 0 | R52: 1 | S52: 0 | T52: 0 | U52: ='表8.3'!U52 -> 0
B53: 所沢市 | C53: 0 | D53: 0 | E53: 0 | F53: 0 | G53: ='表8.3'!C53 -> 0 | I53: 大阪府計 | J53: =SUM(J54:J65) -> 30 | K53: =SUM(K54:K65) -> 46 | L53: =SUM(L54:L65) -> 35 | M53: =SUM(M54:M65) -> 48 | N53: =SUM(N54:N65) -> 36 | P53: その他・熊本県 | Q53: 3 | R53: 6 | S53: 12 | T53: 9 | U53: ='表8.3'!U53 -> 4
B54: 春日部市 | C54: 0 | D54: 0 | E54: 1 | F54: 0 | G54: ='表8.3'!C54 -> 0 | I54: 大阪市 | J54: 5 | K54: 14 | L54: 9 | M54: 13 | N54: ='表8.3'!L54 -> 10 | P54: 大分県計 | Q54: =SUM(Q55:Q56) -> 12 | R54: =SUM(R55:R56) -> 15 | S54: =SUM(S55:S56) -> 17 | T54: =SUM(T55:T56) -> 12 | U54: =SUM(U55:U56) -> 15
B55: 草加市 | C55: 0 | D55: 0 | E55: 0 | F55: 0 | G55: ='表8.3'!C55 -> 0 | I55: 堺市 | J55: 1 | K55: 1 | L55: 3 | M55: 1 | N55: ='表8.3'!L55 -> 1 | P55: 大分市 | Q55: 12 | R55: 14 | S55: 17 | T55: 12 | U55: ='表8.3'!U55 -> 13
B56: 越谷市 | C56: 4 | D56: 5 | E56: 5 | F56: 3 | G56: ='表8.3'!C56 -> 0 | I56: 岸和田市 | J56: 1 | K56: 2 | L56: 0 | M56: 0 | N56: ='表8.3'!L56 -> 0 | P56: その他・大分県 | Q56: 0 | R56: 1 | S56: 0 | T56: 0 | U56: ='表8.3'!U56 -> 2
B57: その他・埼玉県 | C57: 29 | D57: 59 | E57: 33 | F57: 43 | G57: ='表8.3'!C57 -> 39 | I57: 豊中市 | J57: 0 | K57: 2 | L57: 0 | M57: 3 | N57: ='表8.3'!L57 -> 0 | P57: 宮崎県計 | Q57: =SUM(Q58:Q59) -> 42 | R57: =SUM(R58:R59) -> 44 | S57: =SUM(S58:S59) -> 31 | T57: =SUM(T58:T59) -> 20 | U57: =SUM(U58:U59) -> 26
B58: 千葉県計 | C58: =SUM(C59:C65) -> 60 | D58: =SUM(D59:D65) -> 57 | E58: =SUM(E59:E65) -> 62 | F58: =SUM(F59:F65) -> 63 | G58: =SUM(G59:G65) -> 63 | I58: 吹田市 | J58: 0 | K58: 0 | L58: 0 | M58: 0 | N58: ='表8.3'!L58 -> 0 | P58: 宮崎市 | Q58: 4 | R58: 4 | S58: 2 | T58: 1 | U58: ='表8.3'!U58 -> 3
B59: 千葉市 | C59: 10 | D59: 4 | E59: 1 | F59: 1 | G59: ='表8.3'!C59 -> 2 | I59: 高槻市 | J59: 3 | K59: 2 | L59: 0 | M59: 0 | N59: ='表8.3'!L59 -> 4 | P59: その他・宮崎県 | Q59: 38 | R59: 40 | S59: 29 | T59: 19 | U59: ='表8.3'!U59 -> 23
B60: 市川市 | C60: 0 | D60: 0 | E60: 0 | F60: 0 | G60: ='表8.3'!C60 -> 0 | I60: 枚方市 | J60: 1 | K60: 1 | L60: 0 | M60: 0 | N60: ='表8.3'!L60 -> 0 | P60: 鹿児島県計 | Q60: =SUM(Q61:Q62) -> 14 | R60: =SUM(R61:R62) -> 12 | S60: =SUM(S61:S62) -> 0 | T60: =SUM(T61:T62) -> 1 | U60: =SUM(U61:U62) -> 0
B61: 船橋市 | C61: 0 | D61: 0 | E61: 0 | F61: 0 | G61: ='表8.3'!C61 -> 0 | I61: 茨木市 | J61: 5 | K61: 1 | L61: 1 | M61: 7 | N61: ='表8.3'!L61 -> 3 | P61: 鹿児島市 | Q61: 0 | R61: 0 | S61: 0 | T61: 0 | U61: ='表8.3'!U61 -> 0
B62: 松戸市 | C62: 1 | D62: 1 | E62: 0 | F62: 0 | G62: ='表8.3'!C62 -> 0 | I62: 八尾市 | J62: 0 | K62: 0 | L62: 1 | M62: 0 | N62: ='表8.3'!L62 -> 0 | P62: その他・鹿児島県 | Q62: 14 | R62: 12 | S62: 0 | T62: 1 | U62: ='表8.3'!U62 -> 0
B63: 柏市 | C63: 1 | D63: 0 | E63: 2 | F63: 1 | G63: ='表8.3'!C63 -> 0 | I63: 寝屋川市 | J63: 3 | K63: 3 | L63: 4 | M63: 0 | N63: ='表8.3'!L63 -> 0 | P63: 沖縄県計 | Q63: =SUM(Q64:Q65) -> 13 | R63: =SUM(R64:R65) -> 16 | S63: =SUM(S64:S65) -> 14 | T63: =SUM(T64:T65) -> 17 | U63: =SUM(U64:U65) -> 17
B64: 市原市 | C64: 0 | D64: 0 | E64: 0 | F64: 0 | G64: ='表8.3'!C64 -> 0 | I64: 東大阪市 | J64: 1 | K64: 1 | L64: 0 | M64: 1 | N64: ='表8.3'!L64 -> 0 | P64: 那覇市 | Q64: 0 | R64: 0 | S64: 0 | T64: 0 | U64: ='表8.3'!U64 -> 0
B65: その他・千葉県 | C65: 48 | D65: 52 | E65: 59 | F65: 61 | G65: ='表8.3'!C65 -> 61 | I65: その他・大阪府 | J65: 10 | K65: 19 | L65: 17 | M65: 23 | N65: ='表8.3'!L65 -> 18 | P65: その他・沖縄県 | Q65: 13 | R65: 16 | S65: 14 | T65: 17 | U65: ='表8.3'!U65 -> 17
B66: 東京都計 | C66: =SUM(C67:C68) -> 21 | D66: =SUM(D67:D68) -> 13 | E66: =SUM(E67:E68) -> 15 | F66: =SUM(F67:F68) -> 16 | G66: =SUM(G67:G68) -> 15 | I66: 兵庫県計 | J66: =SUM(J67:J74) -> 103 | K66: =SUM(K67:K74) -> 113 | L66: =SUM(L67:L74) -> 73 | M66: =SUM(M67:M74) -> 71 | N66: =SUM(N67:N74) -> 71 | P66: 合計 | Q66: =SUM(C6:C80,J6:J77,Q6:Q65)/2 -> 1740 | R66: =SUM(D6:D80,K6:K77,R6:R65)/2 -> 1824 | S66: =SUM(E6:E80,L6:L77,S6:S65)/2 -> 1486 | T66: =SUM(F6:F80,M6:M77,T6:T65)/2 -> 1527 | U66: =SUM(G6:G80,N6:N77,U6:U65)/2 -> 1367
B67: 八王子市 | C67: 4 | D67: 4 | E67: 5 | F67: 4 | G67: ='表8.3'!C67 -> 3 | I67: 神戸市 | J67: 0 | K67: 0 | L67: 0 | M67: 0 | N67: ='表8.3'!L67 -> 2
B68: その他・東京都 | C68: 17 | D68: 9 | E68: 10 | F68: 12 | G68: ='表8.3'!C68 -> 12 | I68: 姫路市 | J68: 35 | K68: 35 | L68: 12 | M68: 15 | N68: ='表8.3'!L68 -> 13
B69: 神奈川県計 | C69: =SUM(C70:C80) -> 22 | D69: =SUM(D70:D80) -> 23 | E69: =SUM(E70:E80) -> 10 | F69: =SUM(F70:F80) -> 25 | G69: =SUM(G70:G80) -> 27 | I69: 尼崎市 | J69: 3 | K69: 2 | L69: 13 | M69: 0 | N69: ='表8.3'!L69 -> 0
B70: 横浜市 | C70: 4 | D70: 3 | E70: 0 | F70: 0 | G70: ='表8.3'!C70 -> 5 | I70: 明石市 | J70: 3 | K70: 0 | L70: 0 | M70: 0 | N70: ='表8.3'!L70 -> 0
B71: 川崎市 | C71: 4 | D71: 2 | E71: 0 | F71: 0 | G71: ='表8.3'!C71 -> 1 | I71: 西宮市 | J71: 1 | K71: 1 | L71: 0 | M71: 0 | N71: ='表8.3'!L71 -> 0
B72: 相模原市 | C72: 0 | D72: 0 | E72: 2 | F72: 6 | G72: ='表8.3'!C72 -> 2 | I72: 加古川市 | J72: 18 | K72: 22 | L72: 18 | M72: 19 | N72: ='表8.3'!L72 -> 18
B73: 横須賀市 | C73: 8 | D73: 11 | E73: 3 | F73: 13 | G73: ='表8.3'!C73 -> 15 | I73: 宝塚市 | J73: 0 | K73: 0 | L73: 0 | M73: 0 | N73: ='表8.3'!L73 -> 0
B74: 平塚市 | C74: 3 | D74: 4 | E74: 2 | F74: 0 | G74: ='表8.3'!C74 -> 1 | I74: その他・兵庫県 | J74: 43 | K74: 53 | L74: 30 | M74: 37 | N74: ='表8.3'!L74 -> 38
B75: 藤沢市 | C75: 0 | D75: 0 | E75: 0 | F75: 0 | G75: ='表8.3'!C75 -> 0 | I75: 奈良県計 | J75: =SUM(J76:J77) -> 2 | K75: =SUM(K76:K77) -> 2 | L75: =SUM(L76:L77) -> 1 | M75: =SUM(M76:M77) -> 1 | N75: =SUM(N76:N77) -> 0
B76: 小田原市 | C76: 1 | D76: 0 | E76: 0 | F76: 0 | G76: ='表8.3'!C76 -> 0 | I76: 奈良市 | J76: 0 | K76: 0 | L76: 0 | M76: 0 | N76: ='表8.3'!L76 -> 0
B77: 茅ヶ崎市 | C77: 1 | D77: 1 | E77: 0 | F77: 2 | G77: ='表8.3'!C77 -> 1 | I77: その他・奈良県 | J77: 2 | K77: 2 | L77: 1 | M77: 1 | N77: ='表8.3'!L77 -> 0
B78: 厚木市 | C78: 0 | D78: 0 | E78: 0 | F78: 0 | G78: ='表8.3'!C78 -> 0
B79: 大和市 | C79: 0 | D79: 0 | E79: 1 | F79: 0 | G79: ='表8.3'!C79 -> 1
B80: その他・神奈川県 | C80: 1 | D80: 2 | E80: 2 | F80: 4 | G80: ='表8.3'!C80 -> 1

Sheet 表8.5
B2: 表8.5(1) 立入検査・その他行政指導件数 都道府県市別 （電気事業法・ガス事業法・鉱山保安法に係る一般粉じん発生施設） | J2: 表8.5(2) 立入検査・その他行政指導件数 都道府県市別 （電気事業法・ガス事業法・鉱山保安法に係る一般粉じん発生施設） | R2: 表8.5(3) 立入検査・その他行政指導件数 都道府県市別 （電気事業法・ガス事業法・鉱山保安法に係る一般粉じん発生施設）
B4: 自治体名 | C4: 立入検査 実施工場・ 事業場数 | D4: 立入検査 実施施設数 | E4: 基準適合命令 施設数 | F4: 一時停止命令 施設数 | G4: (E)又は(F)の 命令違反 告発施設数 | H4: 行政指導 施設数 | J4: 自治体名 | K4: 立入検査 実施工場・ 事業場数 | L4: 立入検査 実施施設数 | M4: 基準適合命令 施設数 | N4: 一時停止命令 施設数 | O4: (E)又は(F)の 命令違反 告発施設数 | P4: 行政指導 施設数 | R4: 自治体名 | S4: 立入検査 実施工場・ 事業場数 | T4: 立入検査 実施施設数 | U4: 基準適合命令 施設数 | V4: 一時停止命令 施設数 | W4: (E)又は(F)の 命令違反 告発施設数 | X4: 行政指導 施設数
C5: (A) | D5: (A') | E5: (E) | F5: (F) | G5: (G) | H5: (d) | K5: (A) | L5: (A') | M5: (E) | N5: (F) | O5: (G) | P5: (d) | S5: (A) | T5: (A') | U5: (E) | V5: (F) | W5: (G) | X5: (d)
B6: 北海道計 | C6: =SUM(C7:C13) -> 0 | D6: =SUM(D7:D13) -> 0 | E6: =SUM(E7:E13) -> 0 | F6: =SUM(F7:F13) -> 0 | G6: =SUM(G7:G13) -> 0 | H6: =SUM(H7:H13) -> 0 | J6: 新潟県計 | K6: =SUM(K7:K10) -> 0 | L6: =SUM(L7:L10) -> 0 | M6: =SUM(M7:M10) -> 0 | N6: =SUM(N7:N10) -> 0 | O6: =SUM(O7:O10) -> 0 | P6: =SUM(P7:P10) -> 0 | R6: 和歌山県計 | S6: =SUM(S7:S8) -> 0 | T6: =SUM(T7:T8) -> 0 | U6: =SUM(U7:U8) -> 0 | V6: =SUM(V7:V8) -> 0 | W6: =SUM(W7:W8) -> 0 | X6: =SUM(X7:X8) -> 0
B7: 札幌市 | C7: 0 | D7: 0 | E7: 0 | F7: 0 | G7: 0 | H7: 0 | J7: 新潟市 | K7: 0 | L7: 0 | M7: 0 | N7: 0 | O7: 0 | P7: 0 | R7: 和歌山市 | S7: 0 | T7: 0 | U7: 0 | V7: 0 | W7: 0 | X7: 0
B8: 函館市 | C8: 0 | D8: 0 | E8: 0 | F8: 0 | G8: 0 | H8: 0 | J8: 長岡市 | K8: 0 | L8: 0 | M8: 0 | N8: 0 | O8: 0 | P8: 0 | R8: その他・和歌山県 | S8: 0 | T8: 0 | U8: 0 | V8: 0 | W8: 0 | X8: 0
B9: 小樽市 | C9: 0 | D9: 0 | E9: 0 | F9: 0 | G9: 0 | H9: 0 | J9: 上越市 | K9: 0 | L9: 0 | M9: 0 | N9: 0 | O9: 0 | P9: 0 | R9: 鳥取県計 | S9: =SUM(S10:S11) -> 0 | T9: =SUM(T10:T11) -> 0 | U9: =SUM(U10:U11) -> 0 | V9: =SUM(V10:V11) -> 0 | W9: =SUM(W10:W11) -> 0 | X9: =SUM(X10:X11) -> 0
B10: 旭川市 | C10: 0 | D10: 0 | E10: 0 | F10: 0 | G10: 0 | H10: 0 | J10: その他・新潟県 | K10: 0 | L10: 0 | M10: 0 | N10: 0 | O10: 0 | P10: 0 | R10: 鳥取市 | S10: 0 | T10: 0 | U10: 0 | V10: 0 | W10: 0 | X10: 0
B11: 室蘭市 | C11: 0 | D11: 0 | E11: 0 | F11: 0 | G11: 0 | H11: 0 | J11: 富山県計 | K11: =SUM(K12:K13) -> 0 | L11: =SUM(L12:L13) -> 0 | M11: =SUM(M12:M13) -> 0 | N11: =SUM(N12:N13) -> 0 | O11: =SUM(O12:O13) -> 0 | P11: =SUM(P12:P13) -> 0 | R11: その他・鳥取県 | S11: 0 | T11: 0 | U11: 0 | V11: 0 | W11: 0 | X11: 0
B12: 苫小牧市 | C12: 0 | D12: 0 | E12: 0 | F12: 0 | G12: 0 | H12: 0 | J12: 富山市 | K12: 0 | L12: 0 | M12: 0 | N12: 0 | O12: 0 | P12: 0 | R12: 島根県計 | S12: =SUM(S13:S14) -> 0 | T12: =SUM(T13:T14) -> 0 | U12: =SUM(U13:U14) -> 0 | V12: =SUM(V13:V14) -> 0 | W12: =SUM(W13:W14) -> 0 | X12: =SUM(X13:X14) -> 0
B13: その他・北海道 | C13: 0 | D13: 0 | E13: 0 | F13: 0 | G13: 0 | H13: 0 | J13: その他・富山県 | K13: 0 | L13: 0 | M13: 0 | N13: 0 | O13: 0 | P13: 0 | R13: 松江市 | S13: 0 | T13: 0 | U13: 0 | V13: 0 | W13: 0 | X13: 0
B14: 青森県計 | C14: =SUM(C15:C17) -> 1 | D14: =SUM(D15:D17) -> 5 | E14: =SUM(E15:E17) -> 0 | F14: =SUM(F15:F17) -> 0 | G14: =SUM(G15:G17) -> 0 | H14: =SUM(H15:H17) -> 0 | J14: 石川県計 | K14: =SUM(K15:K16) -> 3 | L14: =SUM(L15:L16) -> 24 | M14: =SUM(M15:M16) -> 0 | N14: =SUM(N15:N16) -> 0 | O14: =SUM(O15:O16) -> 0 | P14: =SUM(P15:P16) -> 0 | R14: その他・島根県 | S14: 0 | T14: 0 | U14: 0 | V14: 0 | W14: 0 | X14: 0
B15: 青森市 | C15: 0 | D15: 0 | E15: 0 | F15: 0 | G15: 0 | H15: 0 | J15: 金沢市 | K15: 0 | L15: 0 | M15: 0 | N15: 0 | O15: 0 | P15: 0 | R15: 岡山県計 | S15: =SUM(S16:S18) -> 2 | T15: =SUM(T16:T18) -> 15 | U15: =SUM(U16:U18) -> 0 | V15: =SUM(V16:V18) -> 0 | W15: =SUM(W16:W18) -> 0 | X15: =SUM(X16:X18) -> 0
B16: 八戸市 | C16: 1 | D16: 5 | E16: 0 | F16: 0 | G16: 0 | H16: 0 | J16: その他・石川県 | K16: 3 | L16: 24 | M16: 0 | N16: 0 | O16: 0 | P16: 0 | R16: 岡山市 | S16: 0 | T16: 0 | U16: 0 | V16: 0 | W16: 0 | X16: 0
B17: その他・青森県 | C17: 0 | D17: 0 | E17: 0 | F17: 0 | G17: 0 | H17: 0 | J17: 福井県計 | K17: =SUM(K18:K19) -> 0 | L17: =SUM(L18:L19) -> 0 | M17: =SUM(M18:M19) -> 0 | N17: =SUM(N18:N19) -> 0 | O17: =SUM(O18:O19) -> 0 | P17: =SUM(P18:P19) -> 0 | R17: 倉敷市 | S17: 2 | T17: 15 | U17: 0 | V17: 0 | W17: 0 | X17: 0
B18: 岩手県計 | C18: =SUM(C19:C20) -> 0 | D18: =SUM(D19:D20) -> 0 | E18: =SUM(E19:E20) -> 0 | F18: =SUM(F19:F20) -> 0 | G18: =SUM(G19:G20) -> 0 | H18: =SUM(H19:H20) -> 1 | J18: 福井市 | K18: 0 | L18: 0 | M18: 0 | N18: 0 | O18: 0 | P18: 0 | R18: その他・岡山県 | S18: 0 | T18: 0 | U18: 0 | V18: 0 | W18: 0 | X18: 0
B19: 盛岡市 | C19: 0 | D19: 0 | E19: 0 | F19: 0 | G19: 0 | H19: 0 | J19: その他・福井県 | K19: 0 | L19: 0 | M19: 0 | N19: 0 | O19: 0 | P19: 0 | R19: 広島県計 | S19: =SUM(S20:S23) -> 3 | T19: =SUM(T20:T23) -> 6 | U19: =SUM(U20:U23) -> 0 | V19: =SUM(V20:V23) -> 0 | W19: =SUM(W20:W23) -> 0 | X19: =SUM(X20:X23) -> 0
B20: その他・岩手県 | C20: 0 | D20: 0 | E20: 0 | F20: 0 | G20: 0 | H20: 1 | J20: 山梨県計 | K20: =SUM(K21:K22) -> 0 | L20: =SUM(L21:L22) -> 0 | M20: =SUM(M21:M22) -> 0 | N20: =SUM(N21:N22) -> 0 | O20: =SUM(O21:O22) -> 0 | P20: =SUM(P21:P22) -> 0 | R20: 広島市 | S20: 0 | T20: 0 | U20: 0 | V20: 0 | W20: 0 | X20: 0
B21: 宮城県計 | C21: =SUM(C22:C23) -> 0 | D21: =SUM(D22:D23) -> 0 | E21: =SUM(E22:E23) -> 0 | F21: =SUM(F22:F23) -> 0 | G21: =SUM(G22:G23) -> 0 | H21: =SUM(H22:H23) -> 0 | J21: 甲府市 | K21: 0 | L21: 0 | M21: 0 | N21: 0 | O21: 0 | P21: 0 | R21: 呉市 | S21: 0 | T21: 0 | U21: 0 | V21: 0 | W21: 0 | X21: 0
B22: 仙台市 | C22: 0 | D22: 0 | E22: 0 | F22: 0 | G22: 0 | H22: 0 | J22: その他・山梨県 | K22: 0 | L22: 0 | M22: 0 | N22: 0 | O22: 0 | P22: 0 | R22: 福山市 | S22: 0 | T22: 0 | U22: 0 | V22: 0 | W22: 0 | X22: 0
B23: その他・宮城県 | C23: 0 | D23: 0 | E23: 0 | F23: 0 | G23: 0 | H23: 0 | J23: 長野県計 | K23: =SUM(K24:K26) -> 0 | L23: =SUM(L24:L26) -> 0 | M23: =SUM(M24:M26) -> 0 | N23: =SUM(N24:N26) -> 0 | O23: =SUM(O24:O26) -> 0 | P23: =SUM(P24:P26) -> 0 | R23: その他・広島県 | S23: 3 | T23: 6 | U23: 0 | V23: 0 | W23: 0 | X23: 0
B24: 秋田県計 | C24: =SUM(C25:C26) -> 0 | D24: =SUM(D25:D26) -> 0 | E24: =SUM(E25:E26) -> 0 | F24: =SUM(F25:F26) -> 0 | G24: =SUM(G25:G26) -> 0 | H24: =SUM(H25:H26) -> 0 | J24: 長野市 | K24: 0 | L24: 0 | M24: 0 | N24: 0 | O24: 0 | P24: 0 | R24: 山口県計 | S24: =SUM(S25:S26) -> 0 | T24: =SUM(T25:T26) -> 0 | U24: =SUM(U25:U26) -> 0 | V24: =SUM(V25:V26) -> 0 | W24: =SUM(W25:W26) -> 0 | X24: =SUM(X25:X26) -> 0
B25: 秋田市 | C25: 0 | D25: 0 | E25: 0 | F25: 0 | G25: 0 | H25: 0 | J25: 松本市 | K25: 0 | L25: 0 | M25: 0 | N25: 0 | O25: 0 | P25: 0 | R25: 下関市 | S25: 0 | T25: 0 | U25: 0 | V25: 0 | W25: 0 | X25: 0
B26: その他・秋田県 | C26: 0 | D26: 0 | E26: 0 | F26: 0 | G26: 0 | H26: 0 | J26: その他・長野県 | K26: 0 | L26: 0 | M26: 0 | N26: 0 | O26: 0 | P26: 0 | R26: その他・山口県 | S26: 0 | T26: 0 | U26: 0 | V26: 0 | W26: 0 | X26: 0
B27: 山形県計 | C27: =SUM(C28:C29) -> 0 | D27: =SUM(D28:D29) -> 0 | E27: =SUM(E28:E29) -> 0 | F27: =SUM(F28:F29) -> 0 | G27: =SUM(G28:G29) -> 0 | H27: =SUM(H28:H29) -> 0 | J27: 岐阜県計 | K27: =SUM(K28:K29) -> 0 | L27: =SUM(L28:L29) -> 0 | M27: =SUM(M28:M29) -> 0 | N27: =SUM(N28:N29) -> 0 | O27: =SUM(O28:O29) -> 0 | P27: =SUM(P28:P29) -> 0 | R27: 徳島県計 | S27: =SUM(S28) -> 0 | T27: =SUM(T28) -> 0 | U27: =SUM(U28) -> 0 | V27: =SUM(V28) -> 0 | W27: =SUM(W28) -> 0 | X27: =SUM(X28) -> 0
B28: 山形市 | C28: 0 | D28: 0 | E28: 0 | F28: 0 | G28: 0 | H28: 0 | J28: 岐阜市 | K28: 0 | L28: 0 | M28: 0 | N28: 0 | O28: 0 | P28: 0 | R28: 徳島県 | S28: 0 | T28: 0 | U28: 0 | V28: 0 | W28: 0 | X28: 0
B29: その他・山形県 | C29: 0 | D29: 0 | E29: 0 | F29: 0 | G29: 0 | H29: 0 | J29: その他・岐阜県 | K29: 0 | L29: 0 | M29: 0 | N29: 0 | O29: 0 | P29: 0 | R29: 香川県計 | S29: =SUM(S30:S31) -> 0 | T29: =SUM(T30:T31) -> 0 | U29: =SUM(U30:U31) -> 0 | V29: =SUM(V30:V31) -> 0 | W29: =SUM(W30:W31) -> 0 | X29: =SUM(X30:X31) -> 0
B30: 福島県計 | C30: =SUM(C31:C34) -> 0 | D30: =SUM(D31:D34) -> 0 | E30: =SUM(E31:E34) -> 0 | F30: =SUM(F31:F34) -> 0 | G30: =SUM(G31:G34) -> 0 | H30: =SUM(H31:H34) -> 0 | J30: 静岡県計 | K30: =SUM(K31:K35) -> 2 | L30: =SUM(L31:L35) -> 2 | M30: =SUM(M31:M35) -> 0 | N30: =SUM(N31:N35) -> 0 | O30: =SUM(O31:O35) -> 0 | P30: =SUM(P31:P35) -> 0 | R30: 高松市 | S30: 0 | T30: 0 | U30: 0 | V30: 0 | W30: 0 | X30: 0
B31: 福島市 | C31: 0 | D31: 0 | E31: 0 | F31: 0 | G31: 0 | H31: 0 | J31: 静岡市 | K31: 0 | L31: 0 | M31: 0 | N31: 0 | O31: 0 | P31: 0 | R31: その他・香川県 | S31: 0 | T31: 0 | U31: 0 | V31: 0 | W31: 0 | X31: 0
B32: 郡山市 | C32: 0 | D32: 0 | E32: 0 | F32: 0 | G32: 0 | H32: 0 | J32: 浜松市 | K32: 0 | L32: 0 | M32: 0 | N32: 0 | O32: 0 | P32: 0 | R32: 愛媛県計 | S32: =SUM(S33:S34) -> 0 | T32: =SUM(T33:T34) -> 0 | U32: =SUM(U33:U34) -> 0 | V32: =SUM(V33:V34) -> 0 | W32: =SUM(W33:W34) -> 0 | X32: =SUM(X33:X34) -> 0
B33: いわき市 | C33: 0 | D33: 0 | E33: 0 | F33: 0 | G33: 0 | H33: 0 | J33: 沼津市 | K33: 0 | L33: 0 | M33: 0 | N33: 0 | O33: 0 | P33: 0 | R33: 松山市 | S33: 0 | T33: 0 | U33: 0 | V33: 0 | W33: 0 | X33: 0
B34: その他・福島県 | C34: 0 | D34: 0 | E34: 0 | F34: 0 | G34: 0 | H34: 0 | J34: 富士市 | K34: 1 | L34: 1 | M34: 0 | N34: 0 | O34: 0 | P34: 0 | R34: その他・愛媛県 | S34: 0 | T34: 0 | U34: 0 | V34: 0 | W34: 0 | X34: 0
B35: 茨城県計 | C35: =SUM(C36:C38) -> 0 | D35: =SUM(D36:D38) -> 0 | E35: =SUM(E36:E38) -> 0 | F35: =SUM(F36:F38) -> 0 | G35: =SUM(G36:G38) -> 0 | H35: =SUM(H36:H38) -> 0 | J35: その他・静岡県 | K35: 1 | L35: 1 | M35: 0 | N35: 0 | O35: 0 | P35: 0 | R35: 高知県計 | S35: =SUM(S36:S37) -> 0 | T35: =SUM(T36:T37) -> 0 | U35: =SUM(U36:U37) -> 0 | V35: =SUM(V36:V37) -> 0 | W35: =SUM(W36:W37) -> 0 | X35: =SUM(X36:X37) -> 0
B36: 水戸市 | C36: 0 | D36: 0 | E36: 0 | F36: 0 | G36: 0 | H36: 0 | J36: 愛知県計 | K36: =SUM(K37:K43) -> 2 | L36: =SUM(L37:L43) -> 82 | M36: =SUM(M37:M43) -> 0 | N36: =SUM(N37:N43) -> 0 | O36: =SUM(O37:O43) -> 0 | P36: =SUM(P37:P43) -> 12 | R36: 高知市 | S36: 0 | T36: 0 | U36: 0 | V36: 0 | W36: 0 | X36: 0
B37: つくば市 | C37: 0 | D37: 0 | E37: 0 | F37: 0 | G37: 0 | H37: 0 | J37: 名古屋市 | K37: 0 | L37: 0 | M37: 0 | N37: 0 | O37: 0 | P37: 0 | R37: その他・高知県 | S37: 0 | T37: 0 | U37: 0 | V37: 0 | W37: 0 | X37: 0
B38: その他・茨城県 | C38: 0 | D38: 0 | E38: 0 | F38: 0 | G38: 0 | H38: 0 | J38: 豊橋市 | K38: 0 | L38: 0 | M38: 0 | N38: 0 | O38: 0 | P38: 0 | R38: 福岡県計 | S38: =SUM(S39:S43) -> 3 | T38: =SUM(T39:T43) -> 7 | U38: =SUM(U39:U43) -> 0 | V38: =SUM(V39:V43) -> 0 | W38: =SUM(W39:W43) -> 0 | X38: =SUM(X39:X43) -> 0
B39: 栃木県計 | C39: =SUM(C40:C41) -> 0 | D39: =SUM(D40:D41) -> 0 | E39: =SUM(E40:E41) -> 0 | F39: =SUM(F40:F41) -> 0 | G39: =SUM(G40:G41) -> 0 | H39: =SUM(H40:H41) -> 0 | J39: 岡崎市 | K39: 0 | L39: 0 | M39: 0 | N39: 0 | O39: 0 | P39: 0 | R39: 北九州市 | S39: 3 | T39: 7 | U39: 0 | V39: 0 | W39: 0 | X39: 0
B40: 宇都宮市 | C40: 0 | D40: 0 | E40: 0 | F40: 0 | G40: 0 | H40: 0 | J40: 一宮市 | K40: 0 | L40: 0 | M40: 0 | N40: 0 | O40: 0 | P40: 0 | R40: 福岡市 | S40: 0 | T40: 0 | U40: 0 | V40: 0 | W40: 0 | X40: 0
B41: その他・栃木県 | C41: 0 | D41: 0 | E41: 0 | F41: 0 | G41: 0 | H41: 0 | J41: 春日井市 | K41: 0 | L41: 0 | M41: 0 | N41: 0 | O41: 0 | P41: 0 | R41: 大牟田市 | S41: 0 | T41: 0 | U41: 0 | V41: 0 | W41: 0 | X41: 0
B42: 群馬県計 | C42: =SUM(C43:C47) -> 0 | D42: =SUM(D43:D47) -> 0 | E42: =SUM(E43:E47) -> 0 | F42: =SUM(F43:F47) -> 0 | G42: =SUM(G43:G47) -> 0 | H42: =SUM(H43:H47) -> 0 | J42: 豊田市 | K42: 0 | L42: 0 | M42: 0 | N42: 0 | O42: 0 | P42: 0 | R42: 久留米市 | S42: 0 | T42: 0 | U42: 0 | V42: 0 | W42: 0 | X42: 0
B43: 前橋市 | C43: 0 | D43: 0 | E43: 0 | F43: 0 | G43: 0 | H43: 0 | J43: その他・愛知県 | K43: 2 | L43: 82 | M43: 0 | N43: 0 | O43: 0 | P43: 12 | R43: その他・福岡県 | S43: 0 | T43: 0 | U43: 0 | V43: 0 | W43: 0 | X43: 0
B44: 高崎市 | C44: 0 | D44: 0 | E44: 0 | F44: 0 | G44: 0 | H44: 0 | J44: 三重県計 | K44: =SUM(K45:K46) -> 0 | L44: =SUM(L45:L46) -> 0 | M44: =SUM(M45:M46) -> 0 | N44: =SUM(N45:N46) -> 0 | O44: =SUM(O45:O46) -> 0 | P44: =SUM(P45:P46) -> 0 | R44: 佐賀県計 | S44: =SUM(S45:S46) -> 0 | T44: =SUM(T45:T46) -> 0 | U44: =SUM(U45:U46) -> 0 | V44: =SUM(V45:V46) -> 0 | W44: =SUM(W45:W46) -> 0 | X44: =SUM(X45:X46) -> 0
B45: 伊勢崎市 | C45: 0 | D45: 0 | E45: 0 | F45: 0 | G45: 0 | H45: 0 | J45: 四日市市 | K45: 0 | L45: 0 | M45: 0 | N45: 0 | O45: 0 | P45: 0 | R45: 佐賀市 | S45: 0 | T45: 0 | U45: 0 | V45: 0 | W45: 0 | X45: 0
B46: 太田市 | C46: 0 | D46: 0 | E46: 0 | F46: 0 | G46: 0 | H46: 0 | J46: その他・三重県 | K46: 0 | L46: 0 | M46: 0 | N46: 0 | O46: 0 | P46: 0 | R46: その他・佐賀県 | S46: 0 | T46: 0 | U46: 0 | V46: 0 | W46: 0 | X46: 0
B47: その他・群馬県 | C47: 0 | D47: 0 | E47: 0 | F47: 0 | G47: 0 | H47: 0 | J47: 滋賀県計 | K47: =SUM(K48:K49) -> 0 | L47: =SUM(L48:L49) -> 0 | M47: =SUM(M48:M49) -> 0 | N47: =SUM(N48:N49) -> 0 | O47: =SUM(O48:O49) -> 0 | P47: =SUM(P48:P49) -> 0 | R47: 長崎県計 | S47: =SUM(S48:S50) -> 0 | T47: =SUM(T48:T50) -> 0 | U47: =SUM(U48:U50) -> 0 | V47: =SUM(V48:V50) -> 0 | W47: =SUM(W48:W50) -> 0 | X47: =SUM(X48:X50) -> 0
B48: 埼玉県計 | C48: =SUM(C49:C57) -> 0 | D48: =SUM(D49:D57) -> 0 | E48: =SUM(E49:E57) -> 0 | F48: =SUM(F49:F57) -> 0 | G48: =SUM(G49:G57) -> 0 | H48: =SUM(H49:H57) -> 0 | J48: 大津市 | K48: 0 | L48: 0 | M48: 0 | N48: 0 | O48: 0 | P48: 0 | R48: 長崎市 | S48: 0 | T48: 0 | U48: 0 | V48: 0 | W48: 0 | X48: 0
B49: さいたま市 | C49: 0 | D49: 0 | E49: 0 | F49: 0 | G49: 0 | H49: 0 | J49: その他・滋賀県 | K49: 0 | L49: 0 | M49: 0 | N49: 0 | O49: 0 | P49: 0 | R49: 佐世保市 | S49: 0 | T49: 0 | U49: 0 | V49: 0 | W49: 0 | X49: 0
B50: 川越市 | C50: 0 | D50: 0 | E50: 0 | F50: 0 | G50: 0 | H50: 0 | J50: 京都府計 | K50: =SUM(K51:K52) -> 1 | L50: =SUM(L51:L52) -> 4 | M50: =SUM(M51:M52) -> 0 | N50: =SUM(N51:N52) -> 0 | O50: =SUM(O51:O52) -> 0 | P50: =SUM(P51:P52) -> 0 | R50: その他・長崎県 | S50: 0 | T50: 0 | U50: 0 | V50: 0 | W50: 0 | X50: 0
B51: 熊谷市 | C51: 0 | D51: 0 | E51: 0 | F51: 0 | G51: 0 | H51: 0 | J51: 京都市 | K51: 0 | L51: 0 | M51: 0 | N51: 0 | O51: 0 | P51: 0 | R51: 熊本県計 | S51: =SUM(S52:S53) -> 1 | T51: =SUM(T52:T53) -> 1 | U51: =SUM(U52:U53) -> 0 | V51: =SUM(V52:V53) -> 0 | W51: =SUM(W52:W53) -> 0 | X51: =SUM(X52:X53) -> 1
B52: 川口市 | C52: 0 | D52: 0 | E52: 0 | F52: 0 | G52: 0 | H52: 0 | J52: その他・京都府 | K52: 1 | L52: 4 | M52: 0 | N52: 0 | O52: 0 | P52: 0 | R52: 熊本市 | S52: 0 | T52: 0 | U52: 0 | V52: 0 | W52: 0 | X52: 0
B53: 所沢市 | C53: 0 | D53: 0 | E53: 0 | F53: 0 | G53: 0 | H53: 0 | J53: 大阪府計 | K53: =SUM(K54:K65) -> 0 | L53: =SUM(L54:L65) -> 0 | M53: =SUM(M54:M65) -> 0 | N53: =SUM(N54:N65) -> 0 | O53: =SUM(O54:O65) -> 0 | P53: =SUM(P54:P65) -> 0 | R53: その他・熊本県 | S53: 1 | T53: 1 | U53: 0 | V53: 0 | W53: 0 | X53: 1
B54: 春日部市 | C54: 0 | D54: 0 | E54: 0 | F54: 0 | G54: 0 | H54: 0 | J54: 大阪市 | K54: 0 | L54: 0 | M54: 0 | N54: 0 | O54: 0 | P54: 0 | R54: 大分県計 | S54: =SUM(S55:S56) -> 0 | T54: =SUM(T55:T56) -> 0 | U54: =SUM(U55:U56) -> 0 | V54: =SUM(V55:V56) -> 0 | W54: =SUM(W55:W56) -> 0 | X54: =SUM(X55:X56) -> 0
B55: 草加市 | C55: 0 | D55: 0 | E55: 0 | F55: 0 | G55: 0 | H55: 0 | J55: 堺市 | K55: 0 | L55: 0 | M55: 0 | N55: 0 | O55: 0 | P55: 0 | R55: 大分市 | S55: 0 | T55: 0 | U55: 0 | V55: 0 | W55: 0 | X55: 0
B56: 越谷市 | C56: 0 | D56: 0 | E56: 0 | F56: 0 | G56: 0 | H56: 0 | J56: 岸和田市 | K56: 0 | L56: 0 | M56: 0 | N56: 0 | O56: 0 | P56: 0 | R56: その他・大分県 | S56: 0 | T56: 0 | U56: 0 | V56: 0 | W56: 0 | X56: 0
B57: その他・埼玉県 | C57: 0 | D57: 0 | E57: 0 | F57: 0 | G57: 0 | H57: 0 | J57: 豊中市 | K57: 0 | L57: 0 | M57: 0 | N57: 0 | O57: 0 | P57: 0 | R57: 宮崎県計 | S57: =SUM(S58:S59) -> 0 | T57: =SUM(T58:T59) -> 0 | U57: =SUM(U58:U59) -> 0 | V57: =SUM(V58:V59) -> 0 | W57: =SUM(W58:W59) -> 0 | X57: =SUM(X58:X59) -> 0
B58: 千葉県計 | C58: =SUM(C59:C65) -> 0 | D58: =SUM(D59:D65) -> 0 | E58: =SUM(E59:E65) -> 0 | F58: =SUM(F59:F65) -> 0 | G58: =SUM(G59:G65) -> 0 | H58: =SUM(H59:H65) -> 0 | J58: 吹田市 | K58: 0 | L58: 0 | M58: 0 | N58: 0 | O58: 0 | P58: 0 | R58: 宮崎市 | S58: 0 | T58: 0 | U58: 0 | V58: 0 | W58: 0 | X58: 0
B59: 千葉市 | C59: 0 | D59: 0 | E59: 0 | F59: 0 | G59: 0 | H59: 0 | J59: 高槻市 | K59: 0 | L59: 0 | M59: 0 | N59: 0 | O59: 0 | P59: 0 | R59: その他・宮崎県 | S59: 0 | T59: 0 | U59: 0 | V59: 0 | W59: 0 | X59: 0
B60: 市川市 | C60: 0 | D60: 0 | E60: 0 | F60: 0 | G60: 0 | H60: 0 | J60: 枚方市 | K60: 0 | L60: 0 | M60: 0 | N60: 0 | O60: 0 | P60: 0 | R60: 鹿児島県計 | S60: =SUM(S61:S62) -> 0 | T60: =SUM(T61:T62) -> 0 | U60: =SUM(U61:U62) -> 0 | V60: =SUM(V61:V62) -> 0 | W60: =SUM(W61:W62) -> 0 | X60: =SUM(X61:X62) -> 0
B61: 船橋市 | C61: 0 | D61: 0 | E61: 0 | F61: 0 | G61: 0 | H61: 0 | J61: 茨木市 | K61: 0 | L61: 0 | M61: 0 | N61: 0 | O61: 0 | P61: 0 | R61: 鹿児島市 | S61: 0 | T61: 0 | U61: 0 | V61: 0 | W61: 0 | X61: 0
B62: 松戸市 | C62: 0 | D62: 0 | E62: 0 | F62: 0 | G62: 0 | H62: 0 | J62: 八尾市 | K62: 0 | L62: 0 | M62: 0 | N62: 0 | O62: 0 | P62: 0 | R62: その他・鹿児島県 | S62: 0 | T62: 0 | U62: 0 | V62: 0 | W62: 0 | X62: 0
B63: 柏市 | C63: 0 | D63: 0 | E63: 0 | F63: 0 | G63: 0 | H63: 0 | J63: 寝屋川市 | K63: 0 | L63: 0 | M63: 0 | N63: 0 | O63: 0 | P63: 0 | R63: 沖縄県計 | S63: =SUM(S64:S65) -> 1 | T63: =SUM(T64:T65) -> 1 | U63: =SUM(U64:U65) -> 0 | V63: =SUM(V64:V65) -> 0 | W63: =SUM(W64:W65) -> 0 | X63: =SUM(X64:X65) -> 1
B64: 市原市 | C64: 0 | D64: 0 | E64: 0 | F64: 0 | G64: 0 | H64: 0 | J64: 東大阪市 | K64: 0 | L64: 0 | M64: 0 | N64: 0 | O64: 0 | P64: 0 | R64: 那覇市 | S64: 0 | T64: 0 | U64: 0 | V64: 0 | W64: 0 | X64: 0
B65: その他・千葉県 | C65: 0 | D65: 0 | E65: 0 | F65: 0 | G65: 0 | H65: 0 | J65: その他・大阪府 | K65: 0 | L65: 0 | M65: 0 | N65: 0 | O65: 0 | P65: 0 | R65: その他・沖縄県 | S65: 1 | T65: 1 | U65: 0 | V65: 0 | W65: 0 | X65: 1
B66: 東京都計 | C66: =SUM(C67:C68) -> 0 | D66: =SUM(D67:D68) -> 0 | E66: =SUM(E67:E68) -> 0 | F66: =SUM(F67:F68) -> 0 | G66: =SUM(G67:G68) -> 0 | H66: =SUM(H67:H68) -> 0 | J66: 兵庫県計 | K66: =SUM(K67:K74) -> 4 | L66: =SUM(L67:L74) -> 10 | M66: =SUM(M67:M74) -> 0 | N66: =SUM(N67:N74) -> 0 | O66: =SUM(O67:O74) -> 0 | P66: =SUM(P67:P74) -> 0 | R66: 合計 | S66: =SUM(C6:C80,K6:K77,S6:S65)/2 -> 24 | T66: =SUM(D6:D80,L6:L77,T6:T65)/2 -> 159 | U66: =SUM(E6:E80,M6:M77,U6:U65)/2 -> 0 | V66: =SUM(F6:F80,N6:N77,V6:V65)/2 -> 0 | W66: =SUM(G6:G80,O6:O77,W6:W65)/2 -> 0 | X66: =SUM(H6:H80,P6:P77,X6:X65)/2 -> 15
B67: 八王子市 | C67: 0 | D67: 0 | E67: 0 | F67: 0 | G67: 0 | H67: 0 | J67: 神戸市 | K67: 0 | L67: 0 | M67: 0 | N67: 0 | O67: 0 | P67: 0
B68: その他・東京都 | C68: 0 | D68: 0 | E68: 0 | F68: 0 | G68: 0 | H68: 0 | J68: 姫路市 | K68: 0 | L68: 0 | M68: 0 | N68: 0 | O68: 0 | P68: 0
B69: 神奈川県計 | C69: =SUM(C70:C80) -> 1 | D69: =SUM(D70:D80) -> 2 | E69: =SUM(E70:E80) -> 0 | F69: =SUM(F70:F80) -> 0 | G69: =SUM(G70:G80) -> 0 | H69: =SUM(H70:H80) -> 0 | J69: 尼崎市 | K69: 0 | L69: 0 | M69: 0 | N69: 0 | O69: 0 | P69: 0
B70: 横浜市 | C70: 0 | D70: 0 | E70: 0 | F70: 0 | G70: 0 | H70: 0 | J70: 明石市 | K70: 0 | L70: 0 | M70: 0 | N70: 0 | O70: 0 | P70: 0
B71: 川崎市 | C71: 0 | D71: 0 | E71: 0 | F71: 0 | G71: 0 | H71: 0 | J71: 西宮市 | K71: 0 | L71: 0 | M71: 0 | N71: 0 | O71: 0 | P71: 0
B72: 相模原市 | C72: 0 | D72: 0 | E72: 0 | F72: 0 | G72: 0 | H72: 0 | J72: 加古川市 | K72: 0 | L72: 0 | M72: 0 | N72: 0 | O72: 0 | P72: 0
B73: 横須賀市 | C73: 1 | D73: 2 | E73: 0 | F73: 0 | G73: 0 | H73: 0 | J73: 宝塚市 | K73: 0 | L73: 0 | M73: 0 | N73: 0 | O73: 0 | P73: 0
B74: 平塚市 | C74: 0 | D74: 0 | E74: 0 | F74: 0 | G74: 0 | H74: 0 | J74: その他・兵庫県 | K74: 4 | L74: 10 | M74: 0 | N74: 0 | O74: 0 | P74: 0
B75: 藤沢市 | C75: 0 | D75: 0 | E75: 0 | F75: 0 | G75: 0 | H75: 0 | J75: 奈良県計 | K75: =SUM(K76:K77) -> 0 | L75: =SUM(L76:L77) -> 0 | M75: =SUM(M76:M77) -> 0 | N75: =SUM(N76:N77) -> 0 | O75: =SUM(O76:O77) -> 0 | P75: =SUM(P76:P77) -> 0
B76: 小田原市 | C76: 0 | D76: 0 | E76: 0 | F76: 0 | G76: 0 | H76: 0 | J76: 奈良市 | K76: 0 | L76: 0 | M76: 0 | N76: 0 | O76: 0 | P76: 0
B77: 茅ヶ崎市 | C77: 0 | D77: 0 | E77: 0 | F77: 0 | G77: 0 | H77: 0 | J77: その他・奈良県 | K77: 0 | L77: 0 | M77: 0 | N77: 0 | O77: 0 | P77: 0
B78: 厚木市 | C78: 0 | D78: 0 | E78: 0 | F78: 0 | G78: 0 | H78: 0
B79: 大和市 | C79: 0 | D79: 0 | E79: 0 | F79: 0 | G79: 0 | H79: 0
B80: その他・神奈川県 | C80: 0 | D80: 0 | E80: 0 | F80: 0 | G80: 0 | H80: 0
