Workbook

Sheet 表9.1
B2: 表9.1 立入検査・その他行政指導件数 年度別－全国（特定粉じん排出等作業）
D4: 平成30年度 | E4: 令和元年度 | F4: 令和２年度 | G4: 令和３年度 | H4: 令和４年度
B5: (A) | C5: 立入検査実施数 | D5: 27243 | E5: 27032 | F5: 22652 | G5: 23547 | H5: ='表9.2'!AC65 -> 39335
B6: (B) | C6: 事前調査結果の報告違反告発数（注1） | D6: － | E6: － | F6: － | G6: － | H6: ='表9.2'!AD65 -> 0
B7: (C) | C7: 計画変更命令数 | D7: 0 | E7: 0 | F7: 0 | G7: 0 | H7: ='表9.2'!AE65 -> 0
B8: (D) | C8: 作業基準適合命令数 | D8: 0 | E8: 1 | F8: 0 | G8: 1 | H8: ='表9.2'!AF65 -> 0
B9: (E) | C9: 一時停止命令数 | D9: 1 | E9: 1 | F9: 0 | G9: 1 | H9: ='表9.2'!AG65 -> 0
B10: (F) | C10: (B)(C)又は(D)の命令違反告発数 | D10: 0 | E10: 0 | F10: 0 | G10: 0 | H10: ='表9.2'!AH65 -> 0
B11: (G) | C11: 届出違反告発数 | D11: 0 | E11: 0 | F11: 0 | G11: 0 | H11: ='表9.2'!AI65 -> 0
B12: (H) | C12: 除去等の方法（大防法第18条の19）違反告発数（注2） | D12: － | E12: － | F12: － | G12: 0 | H12: ='表9.2'!AJ65 -> 0
B13: (I) | C13: 受注者・自主施工者からの報告徴収数 | D13: 136 | E13: 219 | F13: 169 | G13: 249 | H13: ='表9.2'!AK65 -> 493
B14: (J) | C14: 発注者からの報告徴収数 | D14: 58 | E14: 74 | F14: 107 | G14: 101 | H14: ='表9.2'!AL65 -> 45
B15: (K) | C15: 行政指導作業場数 | D15: 5658 | E15: 5986 | F15: 4679 | G15: 7881 | H15: ='表9.2'!AM65 -> 15895
B16: （注1）令和４年度から項目を追加
B17: （注2）令和３年度から項目を追加
B18: （備考）特定粉じん排出等作業以外の解体等工事の作業場に係る件数も含まれる。

Sheet 表9.2
B2: 表9.2(1) 立入検査・その他行政指導件数 都道府県市別（特定粉じん排出等作業） | O2: 表9.2(2) 立入検査・その他行政指導件数 都道府県市別（特定粉じん排出等作業） | AB2: 表9.2(3) 立入検査・その他行政指導件数 都道府県市別（特定粉じん排出等作業）
B4: 自治体名 | C4: 立入検査 実施数 | D4: 事前調査結果の報告違反 告発数 | E4: 計画変更 命令数 | F4: 作業基準 適合命令数 | G4: 一時停止 命令数 | H4: (C)(D)又は (E)の命令 違反告発数 | I4: 届出違反 告発数 | J4: 除去等の方法（大防法第18条の19） 違反告発数 | K4: 受注者・自主施工者からの 報告徴収数 | L4: 発注者からの 報告徴収数 | M4: 行政指導 作業場数 | O4: 自治体名 | P4: 立入検査 実施数 | Q4: 事前調査結果の報告違反 告発数 | R4: 計画変更 命令数 | S4: 作業基準 適合命令数 | T4: 一時停止 命令数 | U4: (C)(D)又は (E)の命令 違反告発数 | V4: 届出違反 告発数 | W4: 除去等の方法（大防法第18条の19） 違反告発数 | X4: 受注者・自主施工者からの 報告徴収数 | Y4: 発注者からの 報告徴収数 | Z4: 行政指導 作業場数 | AB4: 自治体名 | AC4: 立入検査 実施数 | AD4: 事前調査結果の報告違反 告発数 | AE4: 計画変更 命令数 | AF4: 作業基準 適合命令数 | AG4: 一時停止 命令数 | AH4: (C)(D)又は (E)の命令 違反告発数 | AI4: 届出違反 告発数 | AJ4: 除去等の方法（大防法第18条の19） 違反告発数 | AK4: 受注者・自主施工者からの 報告徴収数 | AL4: 発注者からの 報告徴収数 | AM4: 行政指導 作業場数
C5: (A) | D5: (B) | E5: (C) | F5: (D) | G5: (E) | H5: (F) | I5: (G) | J5: (H) | K5: (I) | L5: (J) | M5: (K) | P5: (A) | Q5: (B) | R5: (C) | S5: (D) | T5: (E) | U5: (F) | V5: (G) | W5: (H) | X5: (I) | Y5: (J) | Z5: (K) | AC5: (A) | AD5: (B) | AE5: (C) | AF5: (D) | AG5: (E) | AH5: (F) | AI5: (G) | AJ5: (H) | AK5: (I) | AL5: (J) | AM5: (K)
B6: 北海道計 | C6: =SUM(C7:C13) -> 726 | D6: =SUM(D7:D13) -> 0 | E6: =SUM(E7:E13) -> 0 | F6: =SUM(F7:F13) -> 0 | G6: =SUM(G7:G13) -> 0 | H6: =SUM(H7:H13) -> 0 | I6: =SUM(I7:I13) -> 0 | J6: =SUM(J7:J13) -> 0 | ... M6: =SUM(M7:M13) -> 331 | O6: 新潟県計 | P6: =SUM(P7:P8) -> 297 | Q6: =SUM(Q7:Q8) -> 0 | R6: =SUM(R7:R8) -> 0 | S6: =SUM(S7:S8) -> 0 | T6: =SUM(T7:T8) -> 0 | U6: =SUM(U7:U8) -> 0 | V6: =SUM(V7:V8) -> 0 | W6: =SUM(W7:W8) -> 0 | ... Z6: =SUM(Z7:Z8) -> 148 | AB6: 和歌山県計 | AC6: =SUM(AC7:AC8) -> 109 | AD6: =SUM(AD7:AD8) -> 0 | AE6: =SUM(AE7:AE8) -> 0 | AF6: =SUM(AF7:AF8) -> 0 | AG6: =SUM(AG7:AG8) -> 0 | AH6: =SUM(AH7:AH8) -> 0 | AI6: =SUM(AI7:AI8) -> 0 | AJ6: =SUM(AJ7:AJ8) -> 0 | ... AM6: =SUM(AM7:AM8) -> 54
B7: 札幌市 | C7: 434 | D7: 0 | E7: 0 | F7: 0 | G7: 0 | H7: 0 | I7: 0 | J7: 0 | K7: 0 | L7: 0 | M7: 272 | O7: 新潟市 | P7: 114 | Q7: 0 | R7: 0 | S7: 0 | T7: 0 | U7: 0 | V7: 0 | W7: 0 | X7: 0 | Y7: 0 | Z7: 76 | AB7: 和歌山市 | AC7: 41 | AD7: 0 | AE7: 0 | AF7: 0 | AG7: 0 | AH7: 0 | AI7: 0 | AJ7: 0 | AK7: 0 | AL7: 0 | AM7: 20
B8: 函館市 | C8: 22 | D8: 0 | E8: 0 | F8: 0 | G8: 0 | H8: 0 | I8: 0 | J8: 0 | K8: 0 | L8: 0 | M8: 18 | O8: その他・新潟県 | P8: 183 | Q8: 0 | R8: 0 | S8: 0 | T8: 0 | U8: 0 | V8: 0 | W8: 0 | X8: 2 | Y8: 1 | Z8: 72 | AB8: その他・和歌山県 | AC8: 68 | AD8: 0 | AF8: 0 | AG8: 0 | AH8: 0 | AI8: 0 | AJ8: 0 | AK8: 0 | AL8: 0 | AM8: 34
B9: 小樽市 | C9: 16 | D9: 0 | E9: 0 | F9: 0 | G9: 0 | H9: 0 | I9: 0 | J9: 0 | K9: 0 | L9: 0 | M9: 5 | O9: 富山県計 | P9: =SUM(P10:P11) -> 43 | Q9: =SUM(Q10:Q11) -> 0 | R9: =SUM(R10:R11) -> 0 | S9: =SUM(S10:S11) -> 0 | T9: =SUM(T10:T11) -> 0 | U9: =SUM(U10:U11) -> 0 | V9: =SUM(V10:V11) -> 0 | W9: =SUM(W10:W11) -> 0 | ... Z9: =SUM(Z10:Z11) -> 1 | AB9: 鳥取県計 | AC9: =SUM(AC10:AC11) -> 196 | AD9: =SUM(AD10:AD11) -> 0 | AE9: =SUM(AE10:AE11) -> 0 | AF9: =SUM(AF10:AF11) -> 0 | AG9: =SUM(AG10:AG11) -> 0 | AH9: =SUM(AH10:AH11) -> 0 | AI9: =SUM(AI10:AI11) -> 0 | AJ9: =SUM(AJ10:AJ11) -> 0 | ... AM9: =SUM(AM10:AM11) -> 43
B10: 旭川市 | C10: 107 | D10: 0 | E10: 0 | F10: 0 | G10: 0 | H10: 0 | I10: 0 | J10: 0 | K10: 0 | L10: 0 | M10: 13 | O10: 富山市 | P10: 25 | Q10: 0 | R10: 0 | S10: 0 | T10: 0 | U10: 0 | V10: 0 | W10: 0 | X10: 0 | Y10: 0 | Z10: 1 | AB10: 鳥取市 | AC10: 32 | AD10: 0 | AE10: 0 | AF10: 0 | AG10: 0 | AH10: 0 | AI10: 0 | AJ10: 0 | AK10: 0 | AL10: 0 | AM10: 0
B11: 室蘭市 | C11: 6 | D11: 0 | E11: 0 | F11: 0 | G11: 0 | H11: 0 | I11: 0 | J11: 0 | K11: 0 | L11: 0 | M11: 0 | O11: その他・富山県 | P11: 18 | Q11: 0 | R11: 0 | S11: 0 | T11: 0 | U11: 0 | V11: 0 | W11: 0 | X11: 0 | Y11: 0 | Z11: 0 | AB11: その他・鳥取県 | AC11: 164 | AD11: 0 | AE11: 0 | AF11: 0 | AG11: 0 | AH11: 0 | AI11: 0 | AJ11: 0 | AK11: 5 | AL11: 0 | AM11: 43
B12: 苫小牧市 | C12: 24 | D12: 0 | E12: 0 | F12: 0 | G12: 0 | H12: 0 | I12: 0 | J12: 0 | K12: 0 | L12: 0 | M12: 0 | O12: 石川県計 | P12: =SUM(P13:P14) -> 178 | Q12: =SUM(Q13:Q14) -> 0 | R12: =SUM(R13:R14) -> 0 | S12: =SUM(S13:S14) -> 0 | T12: =SUM(T13:T14) -> 0 | U12: =SUM(U13:U14) -> 0 | V12: =SUM(V13:V14) -> 0 | W12: =SUM(W13:W14) -> 0 | ... Z12: =SUM(Z13:Z14) -> 12 | AB12: 島根県計 | AC12: =SUM(AC13:AC14) -> 69 | AD12: =SUM(AD13:AD14) -> 0 | AE12: =SUM(AE13:AE14) -> 0 | AF12: =SUM(AF13:AF14) -> 0 | AG12: =SUM(AG13:AG14) -> 0 | AH12: =SUM(AH13:AH14) -> 0 | AI12: =SUM(AI13:AI14) -> 0 | AJ12: =SUM(AJ13:AJ14) -> 0 | ... AM12: =SUM(AM13:AM14) -> 4
B13: その他・北海道 | C13: 117 | D13: 0 | E13: 0 | F13: 0 | G13: 0 | H13: 0 | I13: 0 | J13: 0 | K13: 1 | L13: 0 | M13: 23 | O13: 金沢市 | P13: 108 | Q13: 0 | R13: 0 | S13: 0 | T13: 0 | U13: 0 | V13: 0 | W13: 0 | X13: 0 | Y13: 0 | Z13: 5 | AB13: 松江市 | AC13: 38 | AD13: 0 | AE13: 0 | AF13: 0 | AG13: 0 | AH13: 0 | AI13: 0 | AJ13: 0 | AK13: 0 | AL13: 0 | AM13: 0
B14: 青森県計 | C14: =SUM(C15:C17) -> 114 | D14: =SUM(D15:D17) -> 0 | E14: =SUM(E15:E17) -> 0 | F14: =SUM(F15:F17) -> 0 | G14: =SUM(G15:G17) -> 0 | H14: =SUM(H15:H17) -> 0 | I14: =SUM(I15:I17) -> 0 | J14: =SUM(J15:J17) -> 0 | ... M14: =SUM(M15:M17) -> 47 | O14: その他・石川県 | P14: 70 | Q14: 0 | R14: 0 | S14: 0 | T14: 0 | U14: 0 | V14: 0 | W14: 0 | X14: 0 | Y14: 0 | Z14: 7 | AB14: その他・島根県 | AC14: 31 | AD14: 0 | AE14: 0 | AF14: 0 | AG14: 0 | AH14: 0 | AI14: 0 | AJ14: 0 | AK14: 0 | AL14: 0 | AM14: 4
B15: 青森市 | C15: 44 | D15: 0 | E15: 0 | F15: 0 | G15: 0 | H15: 0 | I15: 0 | J15: 0 | K15: 0 | L15: 0 | M15: 23 | O15: 福井県計 | P15: =SUM(P16:P17) -> 121 | Q15: =SUM(Q16:Q17) -> 0 | R15: =SUM(R16:R17) -> 0 | S15: =SUM(S16:S17) -> 0 | T15: =SUM(T16:T17) -> 0 | U15: =SUM(U16:U17) -> 0 | V15: =SUM(V16:V17) -> 0 | W15: =SUM(W16:W17) -> 0 | ... Z15: =SUM(Z16:Z17) -> 19 | AB15: 岡山県計 | AC15: =SUM(AC16:AC18) -> 706 | AD15: =SUM(AD16:AD18) -> 0 | AE15: =SUM(AE16:AE18) -> 0 | AF15: =SUM(AF16:AF18) -> 0 | AG15: =SUM(AG16:AG18) -> 0 | AH15: =SUM(AH16:AH18) -> 0 | AI15: =SUM(AI16:AI18) -> 0 | AJ15: =SUM(AJ16:AJ18) -> 0 | ... AM15: =SUM(AM16:AM18) -> 243
B16: 八戸市 | C16: 14 | D16: 0 | E16: 0 | F16: 0 | G16: 0 | H16: 0 | I16: 0 | J16: 0 | K16: 0 | L16: 0 | M16: 5 | O16: 福井市 | P16: 46 | Q16: 0 | R16: 0 | S16: 0 | T16: 0 | U16: 0 | V16: 0 | W16: 0 | X16: 0 | Y16: 0 | Z16: 14 | AB16: 岡山市 | AC16: 156 | AD16: 0 | AE16: 0 | AF16: 0 | AG16: 0 | AH16: 0 | AI16: 0 | AJ16: 0 | AK16: 0 | AL16: 0 | AM16: 36
B17: その他・青森県 | C17: 56 | D17: 0 | E17: 0 | F17: 0 | G17: 0 | H17: 0 | I17: 0 | J17: 0 | K17: 0 | L17: 0 | M17: 19 | O17: その他・福井県 | P17: 75 | Q17: 0 | R17: 0 | S17: 0 | T17: 0 | U17: 0 | V17: 0 | W17: 0 | X17: 0 | Y17: 0 | Z17: 5 | AB17: 倉敷市 | AC17: 11 | AD17: 0 | AE17: 0 | AF17: 0 | AG17: 0 | AH17: 0 | AI17: 0 | AJ17: 0 | AK17: 0 | AL17: 0 | AM17: 0
B18: 岩手県計 | C18: =SUM(C19:C20) -> 107 | D18: =SUM(D19:D20) -> 0 | E18: =SUM(E19:E20) -> 0 | F18: =SUM(F19:F20) -> 0 | G18: =SUM(G19:G20) -> 0 | H18: =SUM(H19:H20) -> 0 | I18: =SUM(I19:I20) -> 0 | J18: =SUM(J19:J20) -> 0 | ... M18: =SUM(M19:M20) -> 5 | O18: 山梨県計 | P18: =SUM(P19:P20) -> 135 | Q18: =SUM(Q19:Q20) -> 0 | R18: =SUM(R19:R20) -> 0 | S18: =SUM(S19:S20) -> 0 | T18: =SUM(T19:T20) -> 0 | U18: =SUM(U19:U20) -> 0 | V18: =SUM(V19:V20) -> 0 | W18: =SUM(W19:W20) -> 0 | ... Z18: =SUM(Z19:Z20) -> 38 | AB18: その他・岡山県 | AC18: 539 | AD18: 0 | AE18: 0 | AF18: 0 | AG18: 0 | AH18: 0 | AI18: 0 | AJ18: 0 | AK18: 0 | AL18: 0 | AM18: 207
B19: 盛岡市 | C19: 31 | D19: 0 | E19: 0 | F19: 0 | G19: 0 | H19: 0 | I19: 0 | J19: 0 | K19: 0 | L19: 0 | M19: 4 | O19: 甲府市 | P19: 16 | Q19: 0 | R19: 0 | S19: 0 | T19: 0 | U19: 0 | V19: 0 | W19: 0 | X19: 5 | Y19: 0 | Z19: 12 | AB19: 広島県計 | AC19: =SUM(AC20:AC23) -> 641 | AD19: =SUM(AD20:AD23) -> 0 | AE19: =SUM(AE20:AE23) -> 0 | AF19: =SUM(AF20:AF23) -> 0 | AG19: =SUM(AG20:AG23) -> 0 | AH19: =SUM(AH20:AH23) -> 0 | AI19: =SUM(AI20:AI23) -> 0 | AJ19: =SUM(AJ20:AJ23) -> 0 | ... AM19: =SUM(AM20:AM23) -> 241
B20: その他・岩手県 | C20: 76 | D20: 0 | E20: 0 | F20: 0 | G20: 0 | H20: 0 | I20: 0 | J20: 0 | K20: 1 | L20: 0 | M20: 1 | O20: その他・山梨県 | P20: 119 | Q20: 0 | R20: 0 | S20: 0 | T20: 0 | U20: 0 | V20: 0 | W20: 0 | X20: 0 | Y20: 0 | Z20: 26 | AB20: 広島市 | AC20: 248 | AD20: 0 | AE20: 0 | AF20: 0 | AG20: 0 | AH20: 0 | AI20: 0 | AJ20: 0 | AK20: 0 | AL20: 0 | AM20: 150
B21: 宮城県計 | C21: =SUM(C22:C23) -> 656 | D21: =SUM(D22:D23) -> 0 | E21: =SUM(E22:E23) -> 0 | F21: =SUM(F22:F23) -> 0 | G21: =SUM(G22:G23) -> 0 | H21: =SUM(H22:H23) -> 0 | I21: =SUM(I22:I23) -> 0 | J21: =SUM(J22:J23) -> 0 | ... M21: =SUM(M22:M23) -> 102 | O21: 長野県計 | P21: =SUM(P22:P24) -> 415 | Q21: =SUM(Q22:Q24) -> 0 | R21: =SUM(R22:R24) -> 0 | S21: =SUM(S22:S24) -> 0 | T21: =SUM(T22:T24) -> 0 | U21: =SUM(U22:U24) -> 0 | V21: =SUM(V22:V24) -> 0 | W21: =SUM(W22:W24) -> 0 | ... Z21: =SUM(Z22:Z24) -> 92 | AB21: 呉市 | AC21: 37 | AD21: 0 | AE21: 0 | AF21: 0 | AG21: 0 | AH21: 0 | AI21: 0 | AJ21: 0 | AK21: 0 | AL21: 0 | AM21: 13
B22: 仙台市 | C22: 396 | D22: 0 | E22: 0 | F22: 0 | G22: 0 | H22: 0 | I22: 0 | J22: 0 | K22: 40 | L22: 2 | M22: 42 | O22: 長野市 | P22: 75 | Q22: 0 | R22: 0 | S22: 0 | T22: 0 | U22: 0 | V22: 0 | W22: 0 | X22: 0 | Y22: 0 | Z22: 14 | AB22: 福山市 | AC22: 56 | AD22: 0 | AE22: 0 | AF22: 0 | AG22: 0 | AH22: 0 | AI22: 0 | AJ22: 0 | AK22: 0 | AL22: 0 | AM22: 32
B23: その他・宮城県 | C23: 260 | D23: 0 | E23: 0 | F23: 0 | G23: 0 | H23: 0 | I23: 0 | J23: 0 | K23: 0 | L23: 0 | M23: 60 | O23: 松本市 | P23: 62 | Q23: 0 | R23: 0 | S23: 0 | T23: 0 | U23: 0 | V23: 0 | W23: 0 | X23: 0 | Y23: 0 | Z23: 8 | AB23: その他・広島県 | AC23: 300 | AD23: 0 | AE23: 0 | AF23: 0 | AG23: 0 | AH23: 0 | AI23: 0 | AJ23: 0 | AK23: 0 | AL23: 0 | AM23: 46
B24: 秋田県計 | C24: =SUM(C25:C26) -> 234 | D24: =SUM(D25:D26) -> 0 | E24: =SUM(E25:E26) -> 0 | F24: =SUM(F25:F26) -> 0 | G24: =SUM(G25:G26) -> 0 | H24: =SUM(H25:H26) -> 0 | I24: =SUM(I25:I26) -> 0 | J24: =SUM(J25:J26) -> 0 | ... M24: =SUM(M25:M26) -> 120 | O24: その他・長野県 | P24: 278 | Q24: 0 | R24: 0 | S24: 0 | T24: 0 | U24: 0 | V24: 0 | W24: 0 | X24: 0 | Y24: 4 | Z24: 70 | AB24: 山口県計 | AC24: =SUM(AC25:AC26) -> 88 | AD24: =SUM(AD25:AD26) -> 0 | AE24: =SUM(AE25:AE26) -> 0 | AF24: =SUM(AF25:AF26) -> 0 | AG24: =SUM(AG25:AG26) -> 0 | AH24: =SUM(AH25:AH26) -> 0 | AI24: =SUM(AI25:AI26) -> 0 | AJ24: =SUM(AJ25:AJ26) -> 0 | ... AM24: =SUM(AM25:AM26) -> 25
B25: 秋田市 | C25: 197 | D25: 0 | E25: 0 | F25: 0 | G25: 0 | H25: 0 | I25: 0 | J25: 0 | K25: 0 | L25: 0 | M25: 107 | O25: 岐阜県計 | P25: =SUM(P26:P27) -> 238 | Q25: =SUM(Q26:Q27) -> 0 | R25: =SUM(R26:R27) -> 0 | S25: =SUM(S26:S27) -> 0 | T25: =SUM(T26:T27) -> 0 | U25: =SUM(U26:U27) -> 0 | V25: =SUM(V26:V27) -> 0 | W25: =SUM(W26:W27) -> 0 | ... Z25: =SUM(Z26:Z27) -> 101 | AB25: 下関市 | AC25: 17 | AD25: 0 | AE25: 0 | AF25: 0 | AG25: 0 | AH25: 0 | AI25: 0 | AJ25: 0 | AK25: 0 | AL25: 0 | AM25: 10
B26: その他・秋田県 | C26: 37 | D26: 0 | E26: 0 | F26: 0 | G26: 0 | H26: 0 | I26: 0 | J26: 0 | K26: 0 | L26: 0 | M26: 13 | O26: 岐阜市 | P26: 137 | Q26: 0 | R26: 0 | S26: 0 | T26: 0 | U26: 0 | V26: 0 | W26: 0 | X26: 14 | Y26: 0 | Z26: 96 | AB26: その他・山口県 | AC26: 71 | AD26: 0 | AE26: 0 | AF26: 0 | AG26: 0 | AH26: 0 | AI26: 0 | AJ26: 0 | AK26: 0 | AL26: 0 | AM26: 15
B27: 山形県計 | C27: =SUM(C28:C29) -> 661 | D27: =SUM(D28:D29) -> 0 | E27: =SUM(E28:E29) -> 0 | F27: =SUM(F28:F29) -> 0 | G27: =SUM(G28:G29) -> 0 | H27: =SUM(H28:H29) -> 0 | I27: =SUM(I28:I29) -> 0 | J27: =SUM(J28:J29) -> 0 | ... M27: =SUM(M28:M29) -> 275 | O27: その他・岐阜県 | P27: 101 | Q27: 0 | R27: 0 | S27: 0 | T27: 0 | U27: 0 | V27: 0 | W27: 0 | X27: 0 | Y27: 0 | Z27: 5 | AB27: 徳島県計 | AC27: =SUM(AC28:AC28) -> 114 | AD27: =SUM(AD28:AD28) -> 0 | AE27: =SUM(AE28:AE28) -> 0 | AF27: =SUM(AF28:AF28) -> 0 | AG27: =SUM(AG28:AG28) -> 0 | AH27: =SUM(AH28:AH28) -> 0 | AI27: =SUM(AI28:AI28) -> 0 | AJ27: =SUM(AJ28:AJ28) -> 0 | ... AM27: =SUM(AM28:AM28) -> 70
B28: 山形市 | C28: 54 | D28: 0 | E28: 0 | F28: 0 | G28: 0 | H28: 0 | I28: 0 | J28: 0 | K28: 0 | L28: 0 | M28: 18 | O28: 静岡県計 | P28: =SUM(P29:P31) -> 711 | Q28: =SUM(Q29:Q31) -> 0 | R28: =SUM(R29:R31) -> 0 | S28: =SUM(S29:S31) -> 0 | T28: =SUM(T29:T31) -> 0 | U28: =SUM(U29:U31) -> 0 | V28: =SUM(V29:V31) -> 0 | W28: =SUM(W29:W31) -> 0 | ... Z28: =SUM(Z29:Z31) -> 278 | AB28: 徳島県 | AC28: 114 | AD28: 0 | AE28: 0 | AF28: 0 | AG28: 0 | AH28: 0 | AI28: 0 | AJ28: 0 | AK28: 16 | AL28: 0 | AM28: 70
B29: その他・山形県 | C29: 607 | D29: 0 | E29: 0 | F29: 0 | G29: 0 | H29: 0 | I29: 0 | J29: 0 | K29: 4 | L29: 26 | M29: 257 | O29: 静岡市 | P29: 226 | Q29: 0 | R29: 0 | S29: 0 | T29: 0 | U29: 0 | V29: 0 | W29: 0 | X29: 0 | Y29: 0 | Z29: 89 | AB29: 香川県計 | AC29: =SUM(AC30:AC31) -> 110 | AD29: =SUM(AD30:AD31) -> 0 | AE29: =SUM(AE30:AE31) -> 0 | AF29: =SUM(AF30:AF31) -> 0 | AG29: =SUM(AG30:AG31) -> 0 | AH29: =SUM(AH30:AH31) -> 0 | AI29: =SUM(AI30:AI31) -> 0 | AJ29: =SUM(AJ30:AJ31) -> 0 | ... AM29: =SUM(AM30:AM31) -> 40
B30: 福島県計 | C30: =SUM(C31:C34) -> 1446 | D30: =SUM(D31:D34) -> 0 | E30: =SUM(E31:E34) -> 0 | F30: =SUM(F31:F34) -> 0 | G30: =SUM(G31:G34) -> 0 | H30: =SUM(H31:H34) -> 0 | I30: =SUM(I31:I34) -> 0 | J30: =SUM(J31:J34) -> 0 | ... M30: =SUM(M31:M34) -> 606 | O30: 浜松市 | P30: 307 | Q30: 0 | R30: 0 | S30: 0 | T30: 0 | U30: 0 | V30: 0 | W30: 0 | X30: 0 | Y30: 0 | Z30: 125 | AB30: 高松市 | AC30: 7 | AD30: 0 | AE30: 0 | AF30: 0 | AG30: 0 | AH30: 0 | AI30: 0 | AJ30: 0 | AK30: 0 | AL30: 0 | AM30: 5
B31: 福島市 | C31: 22 | D31: 0 | E31: 0 | F31: 0 | G31: 0 | H31: 0 | I31: 0 | J31: 0 | K31: 0 | L31: 0 | M31: 0 | O31: その他・静岡県 | P31: 178 | Q31: 0 | R31: 0 | S31: 0 | T31: 0 | U31: 0 | V31: 0 | W31: 0 | X31: 0 | Y31: 0 | Z31: 64 | AB31: その他・香川県 | AC31: 103 | AD31: 0 | AE31: 0 | AF31: 0 | AG31: 0 | AH31: 0 | AI31: 0 | AJ31: 0 | AK31: 1 | AL31: 0 | AM31: 35
B32: 郡山市 | C32: 30 | D32: 0 | E32: 0 | F32: 0 | G32: 0 | H32: 0 | I32: 0 | J32: 0 | K32: 0 | L32: 0 | M32: 6 | O32: 愛知県計 | P32: =SUM(P33:P38) -> 2850 | Q32: =SUM(Q33:Q38) -> 0 | R32: =SUM(R33:R38) -> 0 | S32: =SUM(S33:S38) -> 0 | T32: =SUM(T33:T38) -> 0 | U32: =SUM(U33:U38) -> 0 | V32: =SUM(V33:V38) -> 0 | W32: =SUM(W33:W38) -> 0 | ... Z32: =SUM(Z33:Z38) -> 1423 | AB32: 愛媛県計 | AC32: =SUM(AC33:AC34) -> 127 | AD32: =SUM(AD33:AD34) -> 0 | AE32: =SUM(AE33:AE34) -> 0 | AF32: =SUM(AF33:AF34) -> 0 | AG32: =SUM(AG33:AG34) -> 0 | AH32: =SUM(AH33:AH34) -> 0 | AI32: =SUM(AI33:AI34) -> 0 | AJ32: =SUM(AJ33:AJ34) -> 0 | ... AM32: =SUM(AM33:AM34) -> 79
B33: いわき市 | C33: 7 | D33: 0 | E33: 0 | F33: 0 | G33: 0 | H33: 0 | I33: 0 | J33: 0 | K33: 0 | L33: 0 | M33: 0 | O33: 名古屋市 | P33: 1488 | Q33: 0 | R33: 0 | S33: 0 | T33: 0 | U33: 0 | V33: 0 | W33: 0 | X33: 66 | Y33: 0 | Z33: 1037 | AB33: 松山市 | AC33: 41 | AD33: 0 | AE33: 0 | AF33: 0 | AG33: 0 | AH33: 0 | AI33: 0 | AJ33: 0 | AK33: 0 | AL33: 0 | AM33: 21
B34: その他・福島県 | C34: 1387 | D34: 0 | E34: 0 | F34: 0 | G34: 0 | H34: 0 | I34: 0 | J34: 0 | K34: 0 | L34: 0 | M34: 600 | O34: 豊橋市 | P34: 54 | Q34: 0 | R34: 0 | S34: 0 | T34: 0 | U34: 0 | V34: 0 | W34: 0 | X34: 0 | Y34: 0 | Z34: 18 | AB34: その他・愛媛県 | AC34: 86 | AD34: 0 | AE34: 0 | AF34: 0 | AG34: 0 | AH34: 0 | AI34: 0 | AJ34: 0 | AK34: 0 | AL34: 0 | AM34: 58
B35: 茨城県計 | C35: =SUM(C36:C37) -> 415 | D35: =SUM(D36:D37) -> 0 | E35: =SUM(E36:E37) -> 0 | F35: =SUM(F36:F37) -> 0 | G35: =SUM(G36:G37) -> 0 | H35: =SUM(H36:H37) -> 0 | I35: =SUM(I36:I37) -> 0 | J35: =SUM(J36:J37) -> 0 | ... M35: =SUM(M36:M37) -> 178 | O35: 岡崎市 | P35: 98 | Q35: 0 | R35: 0 | S35: 0 | T35: 0 | U35: 0 | V35: 0 | W35: 0 | X35: 0 | Y35: 0 | Z35: 92 | AB35: 高知県計 | AC35: =SUM(AC36:AC37) -> 24 | AD35: =SUM(AD36:AD37) -> 0 | AE35: =SUM(AE36:AE37) -> 0 | AF35: =SUM(AF36:AF37) -> 0 | AG35: =SUM(AG36:AG37) -> 0 | AH35: =SUM(AH36:AH37) -> 0 | AI35: =SUM(AI36:AI37) -> 0 | AJ35: =SUM(AJ36:AJ37) -> 0 | ... AM35: =SUM(AM36:AM37) -> 22
B36: 水戸市 | C36: 7 | D36: 0 | E36: 0 | F36: 0 | G36: 0 | H36: 0 | I36: 0 | J36: 0 | K36: 7 | L36: 0 | M36: 0 | O36: 一宮市 | P36: 541 | Q36: 0 | R36: 0 | S36: 0 | T36: 0 | U36: 0 | V36: 0 | W36: 0 | X36: 0 | Y36: 0 | Z36: 42 | AB36: 高知市 | AC36: 11 | AD36: 0 | AE36: 0 | AF36: 0 | AG36: 0 | AH36: 0 | AI36: 0 | AJ36: 0 | AK36: 0 | AL36: 0 | AM36: 9
B37: その他・茨城県 | C37: 408 | D37: 0 | E37: 0 | F37: 0 | G37: 0 | H37: 0 | I37: 0 | J37: 0 | K37: 0 | L37: 0 | M37: 178 | O37: 豊田市 | P37: 200 | Q37: 0 | R37: 0 | S37: 0 | T37: 0 | U37: 0 | V37: 0 | W37: 0 | X37: 0 | Y37: 0 | Z37: 102 | AB37: その他・高知県 | AC37: 13 | AD37: 0 | AE37: 0 | AF37: 0 | AG37: 0 | AH37: 0 | AI37: 0 | AJ37: 0 | AK37: 2 | AL37: 1 | AM37: 13
B38: 栃木県計 | C38: =SUM(C39:C40) -> 485 | D38: =SUM(D39:D40) -> 0 | E38: =SUM(E39:E40) -> 0 | F38: =SUM(F39:F40) -> 0 | G38: =SUM(G39:G40) -> 0 | H38: =SUM(H39:H40) -> 0 | I38: =SUM(I39:I40) -> 0 | J38: =SUM(J39:J40) -> 0 | ... M38: =SUM(M39:M40) -> 43 | O38: その他・愛知県 | P38: 469 | Q38: 0 | R38: 0 | S38: 0 | T38: 0 | U38: 0 | V38: 0 | W38: 0 | X38: 12 | Y38: 2 | Z38: 132 | AB38: 福岡県計 | AC38: =SUM(AC39:AC43) -> 922 | AD38: =SUM(AD39:AD43) -> 0 | AE38: =SUM(AE39:AE43) -> 0 | AF38: =SUM(AF39:AF43) -> 0 | AG38: =SUM(AG39:AG43) -> 0 | AH38: =SUM(AH39:AH43) -> 0 | AI38: =SUM(AI39:AI43) -> 0 | AJ38: =SUM(AJ39:AJ43) -> 0 | ... AM38: =SUM(AM39:AM43) -> 356
B39: 宇都宮市 | C39: 388 | D39: 0 | E39: 0 | F39: 0 | G39: 0 | H39: 0 | I39: 0 | J39: 0 | K39: 0 | L39: 0 | M39: 0 | O39: 三重県計 | P39: =SUM(P40:P41) -> 115 | Q39: =SUM(Q40:Q41) -> 0 | R39: =SUM(R40:R41) -> 0 | S39: =SUM(S40:S41) -> 0 | T39: =SUM(T40:T41) -> 0 | U39: =SUM(U40:U41) -> 0 | V39: =SUM(V40:V41) -> 0 | W39: =SUM(W40:W41) -> 0 | ... Z39: =SUM(Z40:Z41) -> 28 | AB39: 北九州市 | AC39: 301 | AD39: 0 | AE39: 0 | AF39: 0 | AG39: 0 | AH39: 0 | AI39: 0 | AJ39: 0 | AK39: 0 | AL39: 0 | AM39: 116
B40: その他・栃木県 | C40: 97 | D40: 0 | E40: 0 | F40: 0 | G40: 0 | H40: 0 | I40: 0 | J40: 0 | K40: 5 | L40: 0 | M40: 43 | O40: 四日市市 | P40: 40 | Q40: 0 | R40: 0 | S40: 0 | T40: 0 | U40: 0 | V40: 0 | W40: 0 | X40: 0 | Y40: 0 | Z40: 14 | AB40: 福岡市 | AC40: 290 | AD40: 0 | AE40: 0 | AF40: 0 | AG40: 0 | AH40: 0 | AI40: 0 | AJ40: 0 | AK40: 1 | AL40: 0 | AM40: 184
B41: 群馬県計 | C41: =SUM(C42:C44) -> 685 | D41: =SUM(D42:D44) -> 0 | E41: =SUM(E42:E44) -> 0 | F41: =SUM(F42:F44) -> 0 | G41: =SUM(G42:G44) -> 0 | H41: =SUM(H42:H44) -> 0 | I41: =SUM(I42:I44) -> 0 | J41: =SUM(J42:J44) -> 0 | ... M41: =SUM(M42:M44) -> 422 | O41: その他・三重県 | P41: 75 | Q41: 0 | R41: 0 | S41: 0 | T41: 0 | U41: 0 | V41: 0 | W41: 0 | X41: 0 | Y41: 0 | Z41: 14 | AB41: 大牟田市 | AC41: 31 | AD41: 0 | AE41: 0 | AF41: 0 | AG41: 0 | AH41: 0 | AI41: 0 | AJ41: 0 | AK41: 0 | AL41: 0 | AM41: 14
B42: 前橋市 | C42: 89 | D42: 0 | E42: 0 | F42: 0 | G42: 0 | H42: 0 | I42: 0 | J42: 0 | K42: 0 | L42: 0 | M42: 85 | O42: 滋賀県計 | P42: =SUM(P43:P44) -> 318 | Q42: =SUM(Q43:Q44) -> 0 | R42: =SUM(R43:R44) -> 0 | S42: =SUM(S43:S44) -> 0 | T42: =SUM(T43:T44) -> 0 | U42: =SUM(U43:U44) -> 0 | V42: =SUM(V43:V44) -> 0 | W42: =SUM(W43:W44) -> 0 | ... Z42: =SUM(Z43:Z44) -> 107 | AB42: 久留米市 | AC42: 29 | AD42: 0 | AE42: 0 | AF42: 0 | AG42: 0 | AH42: 0 | AI42: 0 | AJ42: 0 | AK42: 0 | AL42: 0 | AM42: 15
...

Sheet 表9.3
B2: 表9.3(1) 立入検査実施件数 年度別・都道府県市別 （特定粉じん排出等作業） | I2: 表9.3(2) 立入検査実施件数 年度別・都道府県市別 （特定粉じん排出等作業） | P2: 表9.3(3) 立入検査実施件数 年度別・都道府県市別 （特定粉じん排出等作業）
B4: 自治体名 | C4: 立入検査実施工場・事業場数 | I4: 自治体名 | J4: 立入検査実施工場・事業場数 | P4: 自治体名 | Q4: 立入検査実施工場・事業場数
C5: 平成30年度 | D5: 令和元年度 | E5: 令和２年度 | F5: 令和３年度 | G5: 令和４年度 | J5: 平成30年度 | K5: 令和元年度 | L5: 令和２年度 | M5: 令和３年度 | N5: 令和４年度 | Q5: 平成30年度 | R5: 令和元年度 | S5: 令和２年度 | T5: 令和３年度 | U5: 令和４年度
B6: 北海道計 | C6: =SUM(C7:C13) -> 611 | D6: =SUM(D7:D13) -> 724 | E6: =SUM(E7:E13) -> 589 | F6: =SUM(F7:F13) -> 682 | G6: =SUM(G7:G13) -> 726 | I6: 新潟県計 | J6: =SUM(J7:J8) -> 499 | K6: =SUM(K7:K8) -> 511 | L6: =SUM(L7:L8) -> 374 | M6: =SUM(M7:M8) -> 278 | N6: =SUM(N7:N8) -> 297 | P6: 和歌山県計 | Q6: =SUM(Q7:Q8) -> 129 | R6: =SUM(R7:R8) -> 119 | S6: =SUM(S7:S8) -> 125 | T6: =SUM(T7:T8) -> 98 | U6: =SUM(U7:U8) -> 109
B7: 札幌市 | C7: 244 | D7: 319 | E7: 244 | F7: 456 | G7: ='表9.2'!C7 -> 434 | I7: 新潟市 | J7: 183 | K7: 215 | L7: 165 | M7: 119 | N7: ='表9.2'!P7 -> 114 | P7: 和歌山市 | Q7: 28 | R7: 20 | S7: 46 | T7: 29 | U7: ='表9.2'!AC7 -> 41
B8: 函館市 | C8: 23 | D8: 49 | E8: 29 | F8: 28 | G8: ='表9.2'!C8 -> 22 | I8: その他・新潟県 | J8: 316 | K8: 296 | L8: 209 | M8: 159 | N8: ='表9.2'!P8 -> 183 | P8: その他・和歌山県 | Q8: 101 | R8: 99 | S8: 79 | T8: 69 | U8: ='表9.2'!AC8 -> 68
B9: 小樽市 | C9: 24 | D9: 25 | E9: 16 | F9: 4 | G9: ='表9.2'!C9 -> 16 | I9: 富山県計 | J9: =SUM(J10:J11) -> 93 | K9: =SUM(K10:K11) -> 77 | L9: =SUM(L10:L11) -> 86 | M9: =SUM(M10:M11) -> 77 | N9: =SUM(N10:N11) -> 43 | P9: 鳥取県計 | Q9: =SUM(Q10:Q11) -> 242 | R9: =SUM(R10:R11) -> 336 | S9: =SUM(S10:S11) -> 315 | T9: =SUM(T10:T11) -> 279 | U9: =SUM(U10:U11) -> 196
B10: 旭川市 | C10: 57 | D10: 114 | E10: 109 | F10: 77 | G10: ='表9.2'!C10 -> 107 | I10: 富山市 | J10: 61 | K10: 55 | L10: 57 | M10: 57 | N10: ='表9.2'!P10 -> 25 | P10: 鳥取市 | Q10: 18 | R10: 60 | S10: 53 | T10: 31 | U10: ='表9.2'!AC10 -> 32
B11: 室蘭市 | C11: 6 | D11: 9 | E11: 7 | F11: 6 | G11: ='表9.2'!C11 -> 6 | I11: その他・富山県 | J11: 32 | K11: 22 | L11: 29 | M11: 20 | N11: ='表9.2'!P11 -> 18 | P11: その他・鳥取県 | Q11: 224 | R11: 276 | S11: 262 | T11: 248 | U11: ='表9.2'!AC11 -> 164
B12: 苫小牧市 | C12: 24 | D12: 14 | E12: 8 | F12: 18 | G12: ='表9.2'!C12 -> 24 | I12: 石川県計 | J12: =SUM(J13:J14) -> 176 | K12: =SUM(K13:K14) -> 175 | L12: =SUM(L13:L14) -> 143 | M12: =SUM(M13:M14) -> 166 | N12: =SUM(N13:N14) -> 178 | P12: 島根県計 | Q12: =SUM(Q13:Q14) -> 176 | R12: =SUM(R13:R14) -> 187 | S12: =SUM(S13:S14) -> 106 | T12: =SUM(T13:T14) -> 57 | U12: =SUM(U13:U14) -> 69
B13: その他・北海道 | C13: 233 | D13: 194 | E13: 176 | F13: 93 | G13: ='表9.2'!C13 -> 117 | I13: 金沢市 | J13: 81 | K13: 77 | L13: 59 | M13: 105 | N13: ='表9.2'!P13 -> 108 | P13: 松江市 | Q13: 46 | R13: 47 | S13: 40 | T13: 40 | U13: ='表9.2'!AC13 -> 38
B14: 青森県計 | C14: =SUM(C15:C17) -> 188 | D14: =SUM(D15:D17) -> 252 | E14: =SUM(E15:E17) -> 204 | F14: =SUM(F15:F17) -> 95 | G14: =SUM(G15:G17) -> 114 | I14: その他・石川県 | J14: 95 | K14: 98 | L14: 84 | M14: 61 | N14: ='表9.2'!P14 -> 70 | P14: その他・島根県 | Q14: 130 | R14: 140 | S14: 66 | T14: 17 | U14: ='表9.2'!AC14 -> 31
B15: 青森市 | C15: 59 | D15: 59 | E15: 48 | F15: 21 | G15: ='表9.2'!C15 -> 44 | I15: 福井県計 | J15: =SUM(J16:J17) -> 218 | K15: =SUM(K16:K17) -> 230 | L15: =SUM(L16:L17) -> 211 | M15: =SUM(M16:M17) -> 141 | N15: =SUM(N16:N17) -> 121 | P15: 岡山県計 | Q15: =SUM(Q16:Q18) -> 190 | R15: =SUM(R16:R18) -> 455 | S15: =SUM(S16:S18) -> 350 | T15: =SUM(T16:T18) -> 565 | U15: =SUM(U16:U18) -> 706
B16: 八戸市 | C16: 40 | D16: 42 | E16: 44 | F16: 32 | G16: ='表9.2'!C16 -> 14 | I16: 福井市 | K16: 67 | L16: 96 | M16: 66 | N16: ='表9.2'!P16 -> 46 | P16: 岡山市 | Q16: 45 | R16: 94 | S16: 57 | T16: 68 | U16: ='表9.2'!AC16 -> 156
B17: その他・青森県 | C17: 89 | D17: 151 | E17: 112 | F17: 42 | G17: ='表9.2'!C17 -> 56 | I17: その他・福井県 | J17: 218 | K17: 163 | L17: 115 | M17: 75 | N17: ='表9.2'!P17 -> 75 | P17: 倉敷市 | Q17: 20 | R17: 34 | S17: 10 | T17: 8 | U17: ='表9.2'!AC17 -> 11
B18: 岩手県計 | C18: =SUM(C19:C20) -> 159 | D18: =SUM(D19:D20) -> 134 | E18: =SUM(E19:E20) -> 123 | F18: =SUM(F19:F20) -> 51 | G18: =SUM(G19:G20) -> 107 | I18: 山梨県計 | J18: =SUM(J19:J20) -> 214 | K18: =SUM(K19:K20) -> 206 | L18: =SUM(L19:L20) -> 161 | M18: =SUM(M19:M20) -> 71 | N18: =SUM(N19:N20) -> 135 | P18: その他・岡山県 | Q18: 125 | R18: 327 | S18: 283 | T18: 489 | U18: ='表9.2'!AC18 -> 539
B19: 盛岡市 | C19: 58 | D19: 33 | E19: 30 | F19: 11 | G19: ='表9.2'!C19 -> 31 | I19: 甲府市 | K19: 36 | L19: 46 | M19: 12 | N19: ='表9.2'!P19 -> 16 | P19: 広島県計 | Q19: =SUM(Q20:Q23) -> 737 | R19: =SUM(R20:R23) -> 765 | S19: =SUM(S20:S23) -> 470 | T19: =SUM(T20:T23) -> 435 | U19: =SUM(U20:U23) -> 641
B20: その他・岩手県 | C20: 101 | D20: 101 | E20: 93 | F20: 40 | G20: ='表9.2'!C20 -> 76 | I20: その他・山梨県 | J20: 214 | K20: 170 | L20: 115 | M20: 59 | N20: ='表9.2'!P20 -> 119 | P20: 広島市 | Q20: 280 | R20: 289 | S20: 263 | T20: 226 | U20: ='表9.2'!AC20 -> 248
B21: 宮城県計 | C21: =SUM(C22:C23) -> 401 | D21: =SUM(D22:D23) -> 519 | E21: =SUM(E22:E23) -> 475 | F21: =SUM(F22:F23) -> 395 | G21: =SUM(G22:G23) -> 656 | I21: 長野県計 | J21: =SUM(J22:J24) -> 581 | K21: =SUM(K22:K24) -> 633 | L21: =SUM(L22:L24) -> 699 | M21: =SUM(M22:M24) -> 364 | N21: =SUM(N22:N24) -> 415 | P21: 呉市 | Q21: 25 | R21: 26 | S21: 12 | T21: 12 | U21: ='表9.2'!AC21 -> 37
B22: 仙台市 | C22: 244 | D22: 356 | E22: 290 | F22: 240 | G22: ='表9.2'!C22 -> 396 | I22: 長野市 | J22: 129 | K22: 71 | L22: 225 | M22: 40 | N22: ='表9.2'!P22 -> 75 | P22: 福山市 | Q22: 33 | R22: 40 | S22: 37 | T22: 43 | U22: ='表9.2'!AC22 -> 56
B23: その他・宮城県 | C23: 157 | D23: 163 | E23: 185 | F23: 155 | G23: ='表9.2'!C23 -> 260 | I23: 松本市 | M23: 40 | N23: ='表9.2'!P23 -> 62 | P23: その他・広島県 | Q23: 399 | R23: 410 | S23: 158 | T23: 154 | U23: ='表9.2'!AC23 -> 300
B24: 秋田県計 | C24: =SUM(C25:C26) -> 363 | D24: =SUM(D25:D26) -> 369 | E24: =SUM(E25:E26) -> 308 | F24: =SUM(F25:F26) -> 265 | G24: =SUM(G25:G26) -> 234 | I24: その他・長野県 | J24: 452 | K24: 562 | L24: 474 | M24: 284 | N24: ='表9.2'!P24 -> 278 | P24: 山口県計 | Q24: =SUM(Q25:Q26) -> 142 | R24: =SUM(R25:R26) -> 184 | S24: =SUM(S25:S26) -> 140 | T24: =SUM(T25:T26) -> 85 | U24: =SUM(U25:U26) -> 88
B25: 秋田市 | C25: 274 | D25: 282 | E25: 260 | F25: 200 | G25: ='表9.2'!C25 -> 197 | I25: 岐阜県計 | J25: =SUM(J26:J27) -> 178 | K25: =SUM(K26:K27) -> 190 | L25: =SUM(L26:L27) -> 171 | M25: =SUM(M26:M27) -> 137 | N25: =SUM(N26:N27) -> 238 | P25: 下関市 | Q25: 8 | R25: 35 | S25: 27 | T25: 16 | U25: ='表9.2'!AC25 -> 17
B26: その他・秋田県 | C26: 89 | D26: 87 | E26: 48 | F26: 65 | G26: ='表9.2'!C26 -> 37 | I26: 岐阜市 | J26: 67 | K26: 67 | L26: 58 | M26: 49 | N26: ='表9.2'!P26 -> 137 | P26: その他・山口県 | Q26: 134 | R26: 149 | S26: 113 | T26: 69 | U26: ='表9.2'!AC26 -> 71
B27: 山形県計 | C27: =SUM(C28:C29) -> 191 | D27: =SUM(D28:D29) -> 202 | E27: =SUM(E28:E29) -> 179 | F27: =SUM(F28:F29) -> 180 | G27: =SUM(G28:G29) -> 661 | I27: その他・岐阜県 | J27: 111 | K27: 123 | L27: 113 | M27: 88 | N27: ='表9.2'!P27 -> 101 | P27: 徳島県計 | Q27: =SUM(Q28) -> 96 | R27: =SUM(R28) -> 80 | S27: =SUM(S28) -> 107 | T27: =SUM(T28) -> 45 | U27: =SUM(U28) -> 114
B28: 山形市 | D28: 35 | E28: 23 | F28: 21 | G28: ='表9.2'!C28 -> 54 | I28: 静岡県計 | J28: =SUM(J29:J31) -> 344 | K28: =SUM(K29:K31) -> 379 | L28: =SUM(L29:L31) -> 301 | M28: =SUM(M29:M31) -> 259 | N28: =SUM(N29:N31) -> 711 | P28: 徳島県 | Q28: 96 | R28: 80 | S28: 107 | T28: 45 | U28: ='表9.2'!AC28 -> 114
B29: その他・山形県 | C29: 191 | D29: 167 | E29: 156 | F29: 159 | G29: ='表9.2'!C29 -> 607 | I29: 静岡市 | J29: 81 | K29: 78 | L29: 76 | M29: 69 | N29: ='表9.2'!P29 -> 226 | P29: 香川県計 | Q29: =SUM(Q30:Q31) -> 171 | R29: =SUM(R30:R31) -> 202 | S29: =SUM(S30:S31) -> 202 | T29: =SUM(T30:T31) -> 61 | U29: =SUM(U30:U31) -> 110
B30: 福島県計 | C30: =SUM(C31:C34) -> 261 | D30: =SUM(D31:D34) -> 220 | E30: =SUM(E31:E34) -> 240 | F30: =SUM(F31:F34) -> 469 | G30: =SUM(G31:G34) -> 1446 | I30: 浜松市 | J30: 118 | K30: 131 | L30: 85 | M30: 93 | N30: ='表9.2'!P30 -> 307 | P30: 高松市 | Q30: 47 | R30: 48 | S30: 83 | T30: 24 | U30: ='表9.2'!AC30 -> 7
B31: 福島市 | C31: 38 | D31: 14 | E31: 21 | F31: 12 | G31: ='表9.2'!C31 -> 22 | I31: その他・静岡県 | J31: 145 | K31: 170 | L31: 140 | M31: 97 | N31: ='表9.2'!P31 -> 178 | P31: その他・香川県 | Q31: 124 | R31: 154 | S31: 119 | T31: 37 | U31: ='表9.2'!AC31 -> 103
B32: 郡山市 | C32: 31 | D32: 38 | E32: 48 | F32: 65 | G32: ='表9.2'!C32 -> 30 | I32: 愛知県計 | J32: =SUM(J33:J38) -> 1570 | K32: =SUM(K33:K38) -> 1540 | L32: =SUM(L33:L38) -> 1331 | M32: =SUM(M33:M38) -> 1963 | N32: =SUM(N33:N38) -> 2850 | P32: 愛媛県計 | Q32: =SUM(Q33:Q34) -> 282 | R32: =SUM(R33:R34) -> 208 | S32: =SUM(S33:S34) -> 151 | T32: =SUM(T33:T34) -> 95 | U32: =SUM(U33:U34) -> 127
B33: いわき市 | C33: 36 | D33: 16 | E33: 31 | F33: 9 | G33: ='表9.2'!C33 -> 7 | I33: 名古屋市 | J33: 852 | K33: 867 | L33: 808 | M33: 1193 | N33: ='表9.2'!P33 -> 1488 | P33: 松山市 | Q33: 127 | R33: 66 | S33: 50 | T33: 41 | U33: ='表9.2'!AC33 -> 41
B34: その他・福島県 | C34: 156 | D34: 152 | E34: 140 | F34: 383 | G34: ='表9.2'!C34 -> 1387 | I34: 豊橋市 | J34: 19 | K34: 41 | L34: 78 | M34: 83 | N34: ='表9.2'!P34 -> 54 | P34: その他・愛媛県 | Q34: 155 | R34: 142 | S34: 101 | T34: 54 | U34: ='表9.2'!AC34 -> 86
B35: 茨城県計 | C35: =SUM(C36:C37) -> 262 | D35: =SUM(D36:D37) -> 326 | E35: =SUM(E36:E37) -> 344 | F35: =SUM(F36:F37) -> 308 | G35: =SUM(G36:G37) -> 415 | I35: 岡崎市 | J35: 54 | K35: 47 | L35: 34 | M35: 118 | N35: ='表9.2'!P35 -> 98 | P35: 高知県計 | Q35: =SUM(Q36:Q37) -> 19 | R35: =SUM(R36:R37) -> 25 | S35: =SUM(S36:S37) -> 42 | T35: =SUM(T36:T37) -> 30 | U35: =SUM(U36:U37) -> 24
B36: 水戸市 | E36: 9 | F36: 6 | G36: ='表9.2'!C36 -> 7 | I36: 一宮市 | M36: 29 | N36: ='表9.2'!P36 -> 541 | P36: 高知市 | Q36: 10 | R36: 18 | S36: 23 | T36: 16 | U36: ='表9.2'!AC36 -> 11
B37: その他・茨城県 | C37: 262 | D37: 326 | E37: 335 | F37: 302 | G37: ='表9.2'!C37 -> 408 | I37: 豊田市 | J37: 32 | K37: 35 | L37: 35 | M37: 185 | N37: ='表9.2'!P37 -> 200 | P37: その他・高知県 | Q37: 9 | R37: 7 | S37: 19 | T37: 14 | U37: ='表9.2'!AC37 -> 13
B38: 栃木県計 | C38: =SUM(C39:C40) -> 263 | D38: =SUM(D39:D40) -> 185 | E38: =SUM(E39:E40) -> 191 | F38: =SUM(F39:F40) -> 214 | G38: =SUM(G39:G40) -> 485 | I38: その他・愛知県 | J38: 613 | K38: 550 | L38: 376 | M38: 355 | N38: ='表9.2'!P38 -> 469 | P38: 福岡県計 | Q38: =SUM(Q39:Q43) -> 504 | R38: =SUM(R39:R43) -> 586 | S38: =SUM(S39:S43) -> 446 | T38: =SUM(T39:T43) -> 848 | U38: =SUM(U39:U43) -> 922
B39: 宇都宮市 | C39: 44 | D39: 16 | E39: 78 | F39: 168 | G39: ='表9.2'!C39 -> 388 | I39: 三重県計 | J39: =SUM(J40:J41) -> 255 | K39: =SUM(K40:K41) -> 307 | L39: =SUM(L40:L41) -> 159 | M39: =SUM(M40:M41) -> 106 | N39: =SUM(N40:N41) -> 115 | P39: 北九州市 | Q39: 132 | R39: 146 | S39: 130 | T39: 339 | U39: ='表9.2'!AC39 -> 301
B40: その他・栃木県 | C40: 219 | D40: 169 | E40: 113 | F40: 46 | G40: ='表9.2'!C40 -> 97 | I40: 四日市市 | J40: 16 | K40: 29 | L40: 12 | M40: 8 | N40: ='表9.2'!P40 -> 40 | P40: 福岡市 | Q40: 107 | R40: 133 | S40: 116 | T40: 317 | U40: ='表9.2'!AC40 -> 290
B41: 群馬県計 | C41: =SUM(C42:C44) -> 445 | D41: =SUM(D42:D44) -> 538 | E41: =SUM(E42:E44) -> 416 | F41: =SUM(F42:F44) -> 556 | G41: =SUM(G42:G44) -> 685 | I41: その他・三重県 | J41: 239 | K41: 278 | L41: 147 | M41: 98 | N41: ='表9.2'!P41 -> 75 | P41: 大牟田市 | Q41: 20 | R41: 29 | S41: 3 | T41: 12 | U41: ='表9.2'!AC41 -> 31
B42: 前橋市 | C42: 45 | D42: 52 | E42: 16 | F42: 102 | G42: ='表9.2'!C42 -> 89 | I42: 滋賀県計 | J42: =SUM(J43:J44) -> 193 | K42: =SUM(K43:K44) -> 219 | L42: =SUM(L43:L44) -> 161 | M42: =SUM(M43:M44) -> 177 | N42: =SUM(N43:N44) -> 318 | P42: 久留米市 | Q42: 20 | R42: 28 | S42: 21 | T42: 19 | U42: ='表9.2'!AC42 -> 29
...

Sheet 表9.4
B2: 表9.4(1) 行政指導作業場数 都道府県市別（特定粉じん排出等作業） | K2: 表9.4(2) 行政指導作業場数 都道府県市別（特定粉じん排出等作業） | T2: 表9.4(3) 行政指導作業場数 都道府県市別（特定粉じん排出等作業）
B4: 自治体名 | C4: ① | D4: ② | E4: ③ | F4: ④ | G4: ⑤ | H4: ⑥ | K4: 自治体名 | L4: ① | M4: ② | N4: ③ | O4: ④ | P4: ⑤ | Q4: ⑥ | T4: 自治体名 | U4: ① | V4: ② | W4: ③ | X4: ④ | Y4: ⑤ | Z4: ⑥
C5: 作業場数 | D5: 作業場数 | E5: 作業場数 | F5: 作業場数 | G5: 作業場数 | H5: 作業場数 | L5: 作業場数 | M5: 作業場数 | N5: 作業場数 | O5: 作業場数 | P5: 作業場数 | Q5: 作業場数 | U5: 作業場数 | V5: 作業場数 | W5: 作業場数 | X5: 作業場数 | Y5: 作業場数 | Z5: 作業場数
B6: 北海道計 | C6: =SUM(C7:C13) -> 58 | D6: =SUM(D7:D13) -> 3 | E6: =SUM(E7:E13) -> 3 | F6: =SUM(F7:F13) -> 2 | G6: =SUM(G7:G13) -> 337 | H6: =SUM(H7:H13) -> 29 | K6: 新潟県計 | L6: =SUM(L7:L8) -> 40 | M6: =SUM(M7:M8) -> 8 | N6: =SUM(N7:N8) -> 2 | O6: =SUM(O7:O8) -> 3 | P6: =SUM(P7:P8) -> 118 | Q6: =SUM(Q7:Q8) -> 8 | T6: 和歌山県計 | U6: =SUM(U7:U8) -> 4 | V6: =SUM(V7:V8) -> 3 | W6: =SUM(W7:W8) -> 0 | X6: =SUM(X7:X8) -> 0 | Y6: =SUM(Y7:Y8) -> 48 | Z6: =SUM(Z7:Z8) -> 2
B7: 札幌市 | C7: 55 | D7: 0 | E7: 3 | F7: 1 | G7: 303 | H7: 21 | K7: 新潟市 | L7: 24 | M7: 1 | N7: 0 | O7: 0 | P7: 55 | Q7: 0 | T7: 和歌山市 | U7: 2 | V7: 0 | W7: 0 | X7: 0 | Y7: 20 | Z7: 0
B8: 函館市 | C8: 1 | D8: 0 | E8: 0 | F8: 0 | G8: 16 | H8: 2 | K8: その他・新潟県 | L8: 16 | M8: 7 | N8: 2 | O8: 3 | P8: 63 | Q8: 8 | T8: その他・和歌山県 | U8: 2 | V8: 3 | W8: 0 | X8: 0 | Y8: 28 | Z8: 2
B9: 小樽市 | C9: 1 | D9: 0 | E9: 0 | F9: 1 | G9: 3 | H9: 0 | K9: 富山県計 | L9: =SUM(L10:L11) -> 0 | M9: =SUM(M10:M11) -> 0 | N9: =SUM(N10:N11) -> 1 | O9: =SUM(O10:O11) -> 0 | P9: =SUM(P10:P11) -> 0 | Q9: =SUM(Q10:Q11) -> 0 | T9: 鳥取県計 | U9: =SUM(U10:U11) -> 15 | V9: =SUM(V10:V11) -> 8 | W9: =SUM(W10:W11) -> 0 | X9: =SUM(X10:X11) -> 0 | Y9: =SUM(Y10:Y11) -> 25 | Z9: =SUM(Z10:Z11) -> 1
B10: 旭川市 | C10: 0 | D10: 0 | E10: 0 | F10: 0 | G10: 0 | H10: 5 | K10: 富山市 | L10: 0 | M10: 0 | N10: 1 | O10: 0 | P10: 0 | Q10: 0 | T10: 鳥取市 | U10: 0 | V10: 0 | W10: 0 | X10: 0 | Y10: 0 | Z10: 0
B11: 室蘭市 | C11: 0 | D11: 0 | E11: 0 | F11: 0 | G11: 0 | H11: 0 | K11: その他・富山県 | L11: 0 | M11: 0 | N11: 0 | O11: 0 | P11: 0 | Q11: 0 | T11: その他・鳥取県 | U11: 15 | V11: 8 | W11: 0 | X11: 0 | Y11: 25 | Z11: 1
B12: 苫小牧市 | C12: 0 | D12: 0 | E12: 0 | F12: 0 | G12: 0 | H12: 0 | K12: 石川県計 | L12: =SUM(L13:L14) -> 16 | M12: =SUM(M13:M14) -> 7 | N12: =SUM(N13:N14) -> 1 | O12: =SUM(O13:O14) -> 1 | P12: =SUM(P13:P14) -> 31 | Q12: =SUM(Q13:Q14) -> 15 | T12: 島根県計 | U12: =SUM(U13:U14) -> 1 | V12: =SUM(V13:V14) -> 3 | W12: =SUM(W13:W14) -> 1 | X12: =SUM(X13:X14) -> 0 | Y12: =SUM(Y13:Y14) -> 2 | Z12: =SUM(Z13:Z14) -> 0
B13: その他・北海道 | C13: 1 | D13: 3 | E13: 0 | F13: 0 | G13: 15 | H13: 1 | K13: 金沢市 | L13: 13 | M13: 4 | N13: 0 | O13: 1 | P13: 28 | Q13: 12 | T13: 松江市 | U13: 0 | V13: 0 | W13: 0 | X13: 0 | Y13: 0 | Z13: 0
B14: 青森県計 | C14: =SUM(C15:C17) -> 13 | D14: =SUM(D15:D17) -> 9 | E14: =SUM(E15:E17) -> 0 | F14: =SUM(F15:F17) -> 2 | G14: =SUM(G15:G17) -> 22 | H14: =SUM(H15:H17) -> 3 | K14: その他・石川県 | L14: 3 | M14: 3 | N14: 1 | O14: 0 | P14: 3 | Q14: 3 | T14: その他・島根県 | U14: 1 | V14: 3 | W14: 1 | X14: 0 | Y14: 2 | Z14: 0
B15: 青森市 | C15: 7 | D15: 9 | E15: 0 | F15: 0 | G15: 10 | H15: 3 | K15: 福井県計 | L15: =SUM(L16:L17) -> 0 | M15: =SUM(M16:M17) -> 0 | N15: =SUM(N16:N17) -> 0 | O15: =SUM(O16:O17) -> 4 | P15: =SUM(P16:P17) -> 6 | Q15: =SUM(Q16:Q17) -> 8 | T15: 岡山県計 | U15: =SUM(U16:U18) -> 70 | V15: =SUM(V16:V18) -> 106 | W15: =SUM(W16:W18) -> 0 | X15: =SUM(X16:X18) -> 0 | Y15: =SUM(Y16:Y18) -> 192 | Z15: =SUM(Z16:Z18) -> 2
B16: 八戸市 | C16: 1 | D16: 0 | E16: 0 | F16: 0 | G16: 4 | H16: 0 | K16: 福井市 | L16: 0 | M16: 0 | N16: 0 | O16: 3 | P16: 2 | Q16: 8 | T16: 岡山市 | U16: 0 | V16: 1 | W16: 0 | X16: 0 | Y16: 40 | Z16: 1
B17: その他・青森県 | C17: 5 | D17: 0 | E17: 0 | F17: 2 | G17: 8 | H17: 0 | K17: その他・福井県 | L17: 0 | M17: 0 | N17: 0 | O17: 1 | P17: 4 | Q17: 0 | T17: 倉敷市 | U17: 0 | V17: 0 | W17: 0 | X17: 0 | Y17: 0 | Z17: 0
B18: 岩手県計 | C18: =SUM(C19:C20) -> 2 | D18: =SUM(D19:D20) -> 1 | E18: =SUM(E19:E20) -> 1 | F18: =SUM(F19:F20) -> 0 | G18: =SUM(G19:G20) -> 9 | H18: =SUM(H19:H20) -> 1 | K18: 山梨県計 | L18: =SUM(L19:L20) -> 94 | M18: =SUM(M19:M20) -> 24 | N18: =SUM(N19:N20) -> 1 | O18: =SUM(O19:O20) -> 0 | P18: =SUM(P19:P20) -> 40 | Q18: =SUM(Q19:Q20) -> 4 | T18: その他・岡山県 | U18: 70 | V18: 105 | W18: 0 | X18: 0 | Y18: 152 | Z18: 1
B19: 盛岡市 | C19: 0 | D19: 0 | E19: 0 | F19: 0 | G19: 3 | H19: 1 | K19: 甲府市 | L19: 67 | M19: 12 | N19: 0 | O19: 0 | P19: 9 | Q19: 1 | T19: 広島県計 | U19: =SUM(U20:U23) -> 271 | V19: =SUM(V20:V23) -> 25 | W19: =SUM(W20:W23) -> 0 | X19: =SUM(X20:X23) -> 2 | Y19: =SUM(Y20:Y23) -> 63 | Z19: =SUM(Z20:Z23) -> 110
B20: その他・岩手県 | C20: 2 | D20: 1 | E20: 1 | F20: 0 | G20: 6 | H20: 0 | K20: その他・山梨県 | L20: 27 | M20: 12 | N20: 1 | O20: 0 | P20: 31 | Q20: 3 | T20: 広島市 | U20: 8 | V20: 17 | W20: 0 | X20: 0 | Y20: 17 | Z20: 108
B21: 宮城県計 | C21: =SUM(C22:C23) -> 861 | D21: =SUM(D22:D23) -> 1982 | E21: =SUM(E22:E23) -> 124 | F21: =SUM(F22:F23) -> 1 | G21: =SUM(G22:G23) -> 97 | H21: =SUM(H22:H23) -> 1 | K21: 長野県計 | L21: =SUM(L22:L24) -> 17 | M21: =SUM(M22:M24) -> 3 | N21: =SUM(N22:N24) -> 1 | O21: =SUM(O22:O24) -> 0 | P21: =SUM(P22:P24) -> 53 | Q21: =SUM(Q22:Q24) -> 3 | T21: 呉市 | U21: 0 | V21: 1 | W21: 0 | X21: 0 | Y21: 13 | Z21: 0
B22: 仙台市 | C22: 852 | D22: 1979 | E22: 124 | F22: 0 | G22: 37 | H22: 0 | K22: 長野市 | L22: 1 | M22: 0 | N22: 1 | O22: 0 | P22: 4 | Q22: 1 | T22: 福山市 | U22: 4 | V22: 6 | W22: 0 | X22: 2 | Y22: 19 | Z22: 0
B23: その他・宮城県 | C23: 9 | D23: 3 | E23: 0 | F23: 1 | G23: 60 | H23: 1 | K23: 松本市 | L23: 2 | M23: 0 | N23: 0 | O23: 0 | P23: 5 | Q23: 1 | T23: その他・広島県 | U23: 259 | V23: 1 | W23: 0 | X23: 0 | Y23: 14 | Z23: 2
B24: 秋田県計 | C24: =SUM(C25:C26) -> 27 | D24: =SUM(D25:D26) -> 10 | E24: =SUM(E25:E26) -> 3 | F24: =SUM(F25:F26) -> 4 | G24: =SUM(G25:G26) -> 97 | H24: =SUM(H25:H26) -> 3 | K24: その他・長野県 | L24: 14 | M24: 3 | N24: 0 | O24: 0 | P24: 44 | Q24: 1 | T24: 山口県計 | U24: =SUM(U25:U26) -> 4 | V24: =SUM(V25:V26) -> 3 | W24: =SUM(W25:W26) -> 0 | X24: =SUM(X25:X26) -> 3 | Y24: =SUM(Y25:Y26) -> 18 | Z24: =SUM(Z25:Z26) -> 5
B25: 秋田市 | C25: 25 | D25: 7 | E25: 0 | F25: 0 | G25: 95 | H25: 2 | K25: 岐阜県計 | L25: =SUM(L26:L27) -> 17 | M25: =SUM(M26:M27) -> 13 | N25: =SUM(N26:N27) -> 0 | O25: =SUM(O26:O27) -> 1 | P25: =SUM(P26:P27) -> 86 | Q25: =SUM(Q26:Q27) -> 3 | T25: 下関市 | U25: 2 | V25: 0 | W25: 0 | X25: 0 | Y25: 8 | Z25: 0
B26: その他・秋田県 | C26: 2 | D26: 3 | E26: 3 | F26: 4 | G26: 2 | H26: 1 | K26: 岐阜市 | L26: 13 | M26: 12 | N26: 0 | O26: 1 | P26: 83 | Q26: 3 | T26: その他・山口県 | U26: 2 | V26: 3 | W26: 0 | X26: 3 | Y26: 10 | Z26: 5
B27: 山形県計 | C27: =SUM(C28:C29) -> 28 | D27: =SUM(D28:D29) -> 173 | E27: =SUM(E28:E29) -> 2 | F27: =SUM(F28:F29) -> 24 | G27: =SUM(G28:G29) -> 136 | H27: =SUM(H28:H29) -> 11 | K27: その他・岐阜県 | L27: 4 | M27: 1 | N27: 0 | O27: 0 | P27: 3 | Q27: 0 | T27: 徳島県計 | U27: =SUM(U28:U28) -> 16 | V27: =SUM(V28:V28) -> 2 | W27: =SUM(W28:W28) -> 0 | X27: =SUM(X28:X28) -> 3 | Y27: =SUM(Y28:Y28) -> 59 | Z27: =SUM(Z28:Z28) -> 0
B28: 山形市 | C28: 0 | D28: 0 | E28: 2 | F28: 0 | G28: 20 | H28: 0 | K28: 静岡県計 | L28: =SUM(L29:L31) -> 62 | M28: =SUM(M29:M31) -> 167 | N28: =SUM(N29:N31) -> 0 | O28: =SUM(O29:O31) -> 4 | P28: =SUM(P29:P31) -> 155 | Q28: =SUM(Q29:Q31) -> 6 | T28: 徳島県 | U28: 16 | V28: 2 | W28: 0 | X28: 3 | Y28: 59 | Z28: 0
B29: その他・山形県 | C29: 28 | D29: 173 | E29: 0 | F29: 24 | G29: 116 | H29: 11 | K29: 静岡市 | L29: 12 | M29: 58 | N29: 0 | O29: 0 | P29: 33 | Q29: 1 | T29: 香川県計 | U29: =SUM(U30:U31) -> 20 | V29: =SUM(V30:V31) -> 0 | W29: =SUM(W30:W31) -> 0 | X29: =SUM(X30:X31) -> 0 | Y29: =SUM(Y30:Y31) -> 26 | Z29: =SUM(Z30:Z31) -> 1
B30: 福島県計 | C30: =SUM(C31:C34) -> 67 | D30: =SUM(D31:D34) -> 151 | E30: =SUM(E31:E34) -> 17 | F30: =SUM(F31:F34) -> 116 | G30: =SUM(G31:G34) -> 417 | H30: =SUM(H31:H34) -> 0 | K30: 浜松市 | L30: 39 | M30: 75 | N30: 0 | O30: 1 | P30: 55 | Q30: 5 | T30: 高松市 | U30: 0 | V30: 0 | W30: 0 | X30: 0 | Y30: 4 | Z30: 1
B31: 福島市 | C31: 0 | D31: 0 | E31: 0 | F31: 0 | G31: 0 | H31: 0 | K31: その他・静岡県 | L31: 11 | M31: 34 | N31: 0 | O31: 3 | P31: 67 | Q31: 0 | T31: その他・香川県 | U31: 20 | V31: 0 | W31: 0 | X31: 0 | Y31: 22 | Z31: 0
B32: 郡山市 | C32: 2 | D32: 0 | E32: 0 | F32: 0 | G32: 5 | H32: 0 | K32: 愛知県計 | L32: =SUM(L33:L38) -> 236 | M32: =SUM(M33:M38) -> 352 | N32: =SUM(N33:N38) -> 1 | O32: =SUM(O33:O38) -> 33 | P32: =SUM(P33:P38) -> 914 | Q32: =SUM(Q33:Q38) -> 37 | T32: 愛媛県計 | U32: =SUM(U33:U34) -> 46 | V32: =SUM(V33:V34) -> 12 | W32: =SUM(W33:W34) -> 0 | X32: =SUM(X33:X34) -> 4 | Y32: =SUM(Y33:Y34) -> 31 | Z32: =SUM(Z33:Z34) -> 3
B33: いわき市 | C33: 0 | D33: 0 | E33: 0 | F33: 0 | G33: 0 | H33: 0 | K33: 名古屋市 | L33: 188 | M33: 230 | N33: 1 | O33: 24 | P33: 736 | Q33: 37 | T33: 松山市 | U33: 7 | V33: 1 | W33: 0 | X33: 3 | Y33: 12 | Z33: 3
B34: その他・福島県 | C34: 65 | D34: 151 | E34: 17 | F34: 116 | G34: 412 | H34: 0 | K34: 豊橋市 | L34: 7 | M34: 4 | N34: 0 | O34: 7 | P34: 0 | Q34: 0 | T34: その他・愛媛県 | U34: 39 | V34: 11 | W34: 0 | X34: 1 | Y34: 19 | Z34: 0
B35: 茨城県計 | C35: =SUM(C36:C37) -> 29 | D35: =SUM(D36:D37) -> 86 | E35: =SUM(E36:E37) -> 0 | F35: =SUM(F36:F37) -> 0 | G35: =SUM(G36:G37) -> 138 | H35: =SUM(H36:H37) -> 9 | K35: 岡崎市 | L35: 30 | M35: 45 | N35: 0 | O35: 0 | P35: 44 | Q35: 0 | T35: 高知県計 | U35: =SUM(U36:U37) -> 1 | V35: =SUM(V36:V37) -> 1 | W35: =SUM(W36:W37) -> 1 | X35: =SUM(X36:X37) -> 0 | Y35: =SUM(Y36:Y37) -> 8 | Z35: =SUM(Z36:Z37) -> 10
B36: 水戸市 | C36: 0 | D36: 0 | E36: 0 | F36: 0 | G36: 0 | H36: 0 | K36: 一宮市 | L36: 2 | M36: 1 | N36: 0 | O36: 0 | P36: 39 | Q36: 0 | T36: 高知市 | U36: 0 | V36: 1 | W36: 0 | X36: 0 | Y36: 2 | Z36: 6
B37: その他・茨城県 | C37: 29 | D37: 86 | E37: 0 | F37: 0 | G37: 138 | H37: 9 | K37: 豊田市 | L37: 0 | M37: 51 | N37: 0 | O37: 0 | P37: 17 | Q37: 0 | T37: その他・高知県 | U37: 1 | V37: 0 | W37: 1 | X37: 0 | Y37: 6 | Z37: 4
B38: 栃木県計 | C38: =SUM(C39:C40) -> 29 | D38: =SUM(D39:D40) -> 1 | E38: =SUM(E39:E40) -> 0 | F38: =SUM(F39:F40) -> 2 | G38: =SUM(G39:G40) -> 24 | H38: =SUM(H39:H40) -> 1 | K38: その他・愛知県 | L38: 9 | M38: 21 | N38: 0 | O38: 2 | P38: 78 | Q38: 0 | T38: 福岡県計 | U38: =SUM(U39:U43) -> 619 | V38: =SUM(V39:V43) -> 71 | W38: =SUM(W39:W43) -> 1 | X38: =SUM(X39:X43) -> 4 | Y38: =SUM(Y39:Y43) -> 230 | Z38: =SUM(Z39:Z43) -> 3
B39: 宇都宮市 | C39: 0 | D39: 0 | E39: 0 | F39: 0 | G39: 0 | H39: 0 | K39: 三重県計 | L39: =SUM(L40:L41) -> 12 | M39: =SUM(M40:M41) -> 17 | N39: =SUM(N40:N41) -> 1 | O39: =SUM(O40:O41) -> 2 | P39: =SUM(P40:P41) -> 31 | Q39: =SUM(Q40:Q41) -> 1 | T39: 北九州市 | U39: 1 | V39: 59 | W39: 0 | X39: 4 | Y39: 30 | Z39: 2
B40: その他・栃木県 | C40: 29 | D40: 1 | E40: 0 | F40: 2 | G40: 24 | H40: 1 | K40: 四日市市 | L40: 2 | M40: 0 | N40: 0 | O40: 0 | P40: 11 | Q40: 0 | T40: 福岡市 | U40: 596 | V40: 6 | W40: 1 | X40: 0 | Y40: 144 | Z40: 1
B41: 群馬県計 | C41: =SUM(C42:C44) -> 85 | D41: =SUM(D42:D44) -> 89 | E41: =SUM(E42:E44) -> 0 | F41: =SUM(F42:F44) -> 1 | G41: =SUM(G42:G44) -> 385 | H41: =SUM(H42:H44) -> 3 | K41: その他・三重県 | L41: 10 | M41: 17 | N41: 1 | O41: 2 | P41: 20 | Q41: 1 | T41: 大牟田市 | U41: 6 | V41: 0 | W41: 0 | X41: 0 | Y41: 9 | Z41: 0
B42: 前橋市 | C42: 40 | D42: 68 | E42: 0 | F42: 1 | G42: 71 | H42: 2 | K42: 滋賀県計 | L42: =SUM(L43:L44) -> 18 | M42: =SUM(M43:M44) -> 20 | N42: =SUM(N43:N44) -> 2 | O42: =SUM(O43:O44) -> 3 | P42: =SUM(P43:P44) -> 93 | Q42: =SUM(Q43:Q44) -> 5 | T42: 久留米市 | U42: 6 | V42: 0 | W42: 0 | X42: 0 | Y42: 13 | Z42: 0
...
