Workbook

Sheet 表9.1
B2: 表9.1 立入検査・その他行政指導件数 年度別－全国（特定粉じん排出等作業）
D4: 平成30年度 | E4: 令和元年度 | F4: 令和２年度 | G4: 令和３年度 | H4: 令和４年度
B5: (A) | C5: 立入検査実施数 | D5: 27243 | E5: 27032 | F5: 22652 | G5: 23547 | H5: ='表9.2'!AC65 -> 39335
B6: (B) | C6: 事前調査結果の報告違反告発数（注1） | D6: － | E6: － | F6: － | G6: － | H6: ='表9.2'!AD65 -> 0
B7: (C) | C7: 計画変更命令数 | D7: 0 | E7: 0 | F7: 0 | G7: 0 | H7: ='表9.2'!AE65 -> 0
B8: (D) | C8: 作業基準適合命令数 | D8: 0 | E8: 1 | F8: 0 | G8: 1 | H8: ='表9.2'!AF65 -> 0
B9: (E) | C9: 一時停止命令数 | D9: 1 | E9: 1 | F9: 0 | G9: 1 | H9: ='表9.2'!AG65 -> 0
B10: (F) | C10: (B)(C)又は(D)の命令違反告発数 | D10: 0 | E10: 0 | F10: 0 | G10: 0 | H10: ='表9.2'!AH65 -> 0
B11: (G) | C11: 届出違反告発数 | D11: 0 | E11: 0 | F11: 0 | G11: 0 | H11: ='表9.2'!AI65 -> 0
B12: (H) | C12: 除去等の方法（大防法第18条の19）違反告発数（注2） | D12: － | E12: － | F12: － | G12: 0 | H12: ='表9.2'!AJ65 -> 0
B13: (I) | C13: 受注者・自主施工者からの報告徴収数 | D13: 136 | E13: 219 | F13: 169 | G13: 249 | H13: ='表9.2'!AK65 -> 493
B14: (J) | C14: 発注者からの報告徴収数 | D14: 58 | E14: 74 | F14: 107 | G14: 101 | H14: ='表9.2'!AL65 -> 45
B15: (K) | C15: 行政指導作業場数 | D15: 5658 | E15: 5986 | F15: 4679 | G15: 7881 | H15: ='表9.2'!AM65 -> 15895
B16: （注1）令和４年度から項目を追加
B17: （注2）令和３年度から項目を追加
B18: （備考）特定粉じん排出等作業以外の解体等工事の作業場に係る件数も含まれる。

Sheet 表9.2
B2: 表9.2(1) 立入検査・その他行政指導件数 都道府県市別（特定粉じん排出等作業） | O2: 表9.2(2) 立入検査・その他行政指導件数 都道府県市別（特定粉じん排出等作業） | AB2: 表9.2(3) 立入検査・その他行政指導件数 都道府県市別（特定粉じん排出等作業）
B4: 自治体名 | C4: 立入検査 実施数 | D4: 事前調査結果の報告違反 告発数 | E4: 計画変更 命令数 | F4: 作業基準 適合命令数 | G4: 一時停止 命令数 | H4: (C)(D)又は (E)の命令 違反告発数 | I4: 届出違反 告発数 | J4: 除去等の方法（大防法第18条の19） 違反告発数 | K4: 受注者・自主施工者からの 報告徴収数 | L4: 発注者からの 報告徴収数 | M4: 行政指導 作業場数 | O4: 自治体名 | P4: 立入検査 実施数 | Q4: 事前調査結果の報告違反 告発数 | R4: 計画変更 命令数 | S4: 作業基準 適合命令数 | T4: 一時停止 命令数 | U4: (C)(D)又は (E)の命令 違反告発数 | V4: 届出違反 告発数 | W4: 除去等の方法（大防法第18条の19） 違反告発数 | X4: 受注者・自主施工者からの 報告徴収数 | Y4: 発注者からの 報告徴収数 | Z4: 行政指導 作業場数 | AB4: 自治体名 | AC4: 立入検査 実施数 | AD4: 事前調査結果の報告違反 告発数 | AE4: 計画変更 命令数 | AF4: 作業基準 適合命令数 | AG4: 一時停止 命令数 | AH4: (C)(D)又は (E)の命令 違反告発数 | AI4: 届出違反 告発数 | AJ4: 除去等の方法（大防法第18条の19） 違反告発数 | AK4: 受注者・自主施工者からの 報告徴収数 | AL4: 発注者からの 報告徴収数 | AM4: 行政指導 作業場数
C5: (A) | D5: (B) | E5: (C) | F5: (D) | G5: (E) | H5: (F) | I5: (G) | J5: (H) | K5: (I) | L5: (J) | M5: (K) | P5: (A) | Q5: (B) | R5: (C) | S5: (D) | T5: (E) | U5: (F) | V5: (G) | W5: (H) | X5: (I) | Y5: (J) | Z5: (K) | AC5: (A) | AD5: (B) | AE5: (C) | AF5: (D) | AG5: (E) | AH5: (F) | AI5: (G) | AJ5: (H) | AK5: (I) | AL5: (J) | AM5: (K)
B6: 北海道計 | C6: =SUM(C7:C13) -> 726 | D6: =SUM(D7:D13) -> 0 | E6: =SUM(E7:E13) -> 0 | F6: =SUM(F7:F13) -> 0 | G6: =SUM(G7:G13) -> 0 | H6: =SUM(H7:H13) -> 0 | I6: =SUM(I7:I13) -> 0 | J6: =SUM(J7:J13) -> 0 | ... M6: =SUM(M7:M13) -> 331 | O6: 新潟県計 | P6: =SUM(P7:P8) -> 297 | Q6: =SUM(Q7:Q8) -> 0 | R6: =SUM(R7:R8) -> 0 | S6: =SUM(S7:S8) -> 0 | T6: =SUM(T7:T8) -> 0 | U6: =SUM(U7:U8) -> 0 | V6: =SUM(V7:V8) -> 0 | W6: =SUM(W7:W8) -> 0 | ... Z6: =SUM(Z7:Z8) -> 148 | AB6: 和歌山県計 | AC6: =SUM(AC7:AC8) -> 109 | AD6: =SUM(AD7:AD8) -> 0 | AE6: =SUM(AE7:AE8) -> 0 | AF6: =SUM(AF7:AF8) -> 0 | AG6: =SUM(AG7:AG8) -> 0 | AH6: =SUM(AH7:AH8) -> 0 | AI6: =SUM(AI7:AI8) -> 0 | AJ6: =SUM(AJ7:AJ8) -> 0 | ... AM6: =SUM(AM7:AM8) -> 54
B7: 札幌市 | C7: 434 | D7: 0 | E7: 0 | F7: 0 | G7: 0 | H7: 0 | I7: 0 | J7: 0 | K7: 0 | L7: 0 | M7: 272 | O7: 新潟市 | P7: 114 | Q7: 0 | R7: 0 | S7: 0 | T7: 0 | U7: 0 | V7: 0 | W7: 0 | X7: 0 | Y7: 0 | Z7: 76 | AB7: 和歌山市 | AC7: 41 | AD7: 0 | AE7: 0 | AF7: 0 | AG7: 0 | AH7: 0 | AI7: 0 | AJ7: 0 | AK7: 0 | AL7: 0 | AM7: 20
B8: 函館市 | C8: 22 | D8: 0 | E8: 0 | F8: 0 | G8: 0 | H8: 0 | I8: 0 | J8: 0 | K8: 0 | L8: 0 | M8: 18 | O8: その他・新潟県 | P8: 183 | Q8: 0 | R8: 0 | S8: 0 | T8: 0 | U8: 0 | V8: 0 | W8: 0 | X8: 2 | Y8: 1 | Z8: 72 | AB8: その他・和歌山県 | AC8: 68 | AD8: 0 | AF8: 0 | AG8: 0 | AH8: 0 | AI8: 0 | AJ8: 0 | AK8: 0 | AL8: 0 | AM8: 34
B9: 小樽市 | C9: 16 | D9: 0 | E9: 0 | F9: 0 | G9: 0 | H9: 0 | I9: 0 | J9: 0 | K9: 0 | L9: 0 | M9: 5 | O9: 富山県計 | P9: =SUM(P10:P11) -> 43 | Q9: =SUM(Q10:Q11) -> 0 | R9: =SUM(R10:R11) -> 0 | S9: =SUM(S10:S11) -> 0 | T9: =SUM(T10:T11) -> 0 | U9: =SUM(U10:U11) -> 0 | V9: =SUM(V10:V11) -> 0 | W9: =SUM(W10:W11) -> 0 | ... Z9: =SUM(Z10:Z11) -> 1 | AB9: 鳥取県計 | AC9: =SUM(AC10:AC11) -> 196 | AD9: =SUM(AD10:AD11) -> 0 | AE9: =SUM(AE10:AE11) -> 0 | AF9: =SUM(AF10:AF11) -> 0 | AG9: =SUM(AG10:AG11) -> 0 | AH9: =SUM(AH10:AH11) -> 0 | AI9: =SUM(AI10:AI11) -> 0 | AJ9: =SUM(AJ10:AJ11) -> 0 | ... AM9: =SUM(AM10:AM11) -> 43
B10: 旭川市 | C10: 107 | D10: 0 | E10: 0 | F10: 0 | G10: 0 | H10: 0 | I10: 0 | J10: 0 | K10: 0 | L10: 0 | M10: 13 | O10: 富山市 | P10: 25 | Q10: 0 | R10: 0 | S10: 0 | T10: 0 | U10: 0 | V10: 0 | W10: 0 | X10: 0 | Y10: 0 | Z10: 1 | AB10: 鳥取市 | AC10: 32 | AD10: 0 | AE10: 0 | AF10: 0 | AG10: 0 | AH10: 0 | AI10: 0 | AJ10: 0 | AK10: 0 | AL10: 0 | AM10: 0
B11: 室蘭市 | C11: 6 | D11: 0 | E11: 0 | F11: 0 | G11: 0 | H11: 0 | I11: 0 | J11: 0 | K11: 0 | L11: 0 | M11: 0 | O11: その他・富山県 | P11: 18 | Q11: 0 | R11: 0 | S11: 0 | T11: 0 | U11: 0 | V11: 0 | W11: 0 | X11: 0 | Y11: 0 | Z11: 0 | AB11: その他・鳥取県 | AC11: 164 | AD11: 0 | AE11: 0 | AF11: 0 | AG11: 0 | AH11: 0 | AI11: 0 | AJ11: 0 | AK11: 5 | AL11: 0 | AM11: 43
B12: 苫小牧市 | C12: 24 | D12: 0 | E12: 0 | F12: 0 | G12: 0 | H12: 0 | I12: 0 | J12: 0 | K12: 0 | L12: 0 | M12: 0 | O12: 石川県計 | P12: =SUM(P13:P14) -> 178 | Q12: =SUM(Q13:Q14) -> 0 | R12: =SUM(R13:R14) -> 0 | S12: =SUM(S13:S14) -> 0 | T12: =SUM(T13:T14) -> 0 | U12: =SUM(U13:U14) -> 0 | V12: =SUM(V13:V14) -> 0 | W12: =SUM(W13:W14) -> 0 | ... Z12: =SUM(Z13:Z14) -> 12 | AB12: 島根県計 | AC12: =SUM(AC13:AC14) -> 69 | AD12: =SUM(AD13:AD14) -> 0 | AE12: =SUM(AE13:AE14) -> 0 | AF12: =SUM(AF13:AF14) -> 0 | AG12: =SUM(AG13:AG14) -> 0 | AH12: =SUM(AH13:AH14) -> 0 | AI12: =SUM(AI13:AI14) -> 0 | AJ12: =SUM(AJ13:AJ14) -> 0 | ... AM12: =SUM(AM13:AM14) -> 4
B13: その他・北海道 | C13: 117 | D13: 0 | E13: 0 | F13: 0 | G13: 0 | H13: 0 | I13: 0 | J13: 0 | K13: 1 | L13: 0 | M13: 23 | O13: 金沢市 | P13: 108 | Q13: 0 | R13: 0 | S13: 0 | T13: 0 | U13: 0 | V13: 0 | W13: 0 | X13: 0 | Y13: 0 | Z13: 5 | AB13: 松江市 | AC13: 38 | AD13: 0 | AE13: 0 | AF13: 0 | AG13: 0 | AH13: 0 | AI13: 0 | AJ13: 0 | AK13: 0 | AL13: 0 | AM13: 0
B14: 青森県計 | C14: =SUM(C15:C17) -> 114 | D14: =SUM(D15:D17) -> 0 | E14: =SUM(E15:E17) -> 0 | F14: =SUM(F15:F17) -> 0 | G14: =SUM(G15:G17) -> 0 | H14: =SUM(H15:H17) -> 0 | I14: =SUM(I15:I17) -> 0 | J14: =SUM(J15:J17) -> 0 | ... M14: =SUM(M15:M17) -> 47 | O14: その他・石川県 | P14: 70 | Q14: 0 | R14: 0 | S14: 0 | T14: 0 | U14: 0 | V14: 0 | W14: 0 | X14: 0 | Y14: 0 | Z14: 7 | AB14: その他・島根県 | AC14: 31 | AD14: 0 | AE14: 0 | AF14: 0 | AG14: 0 | AH14: 0 | AI14: 0 | AJ14: 0 | AK14: 0 | AL14: 0 | AM14: 4
B15: 青森市 | C15: 44 | D15: 0 | E15: 0 | F15: 0 | G15: 0 | H15: 0 | I15: 0 | J15: 0 | K15: 0 | L15: 0 | M15: 23 | O15: 福井県計 | P15: =SUM(P16:P17) -> 121 | Q15: =SUM(Q16:Q17) -> 0 | R15: =SUM(R16:R17) -> 0 | S15: =SUM(S16:S17) -> 0 | T15: =SUM(T16:T17) -> 0 | U15: =SUM(U16:U17) -> 0 | V15: =SUM(V16:V17) -> 0 | W15: =SUM(W16:W17) -> 0 | ... Z15: =SUM(Z16:Z17) -> 19 | AB15: 岡山県計 | AC15: =SUM(AC16:AC18) -> 706 | AD15: =SUM(AD16:AD18) -> 0 | AE15: =SUM(AE16:AE18) -> 0 | AF15: =SUM(AF16:AF18) -> 0 | AG15: =SUM(AG16:AG18) -> 0 | AH15: =SUM(AH16:AH18) -> 0 | AI15: =SUM(AI16:AI18) -> 0 | AJ15: =SUM(AJ16:AJ18) -> 0 | ... AM15: =SUM(AM16:AM18) -> 243
B16: 八戸市 | C16: 14 | D16: 0 | E16: 0 | F16: 0 | G16: 0 | H16: 0 | I16: 0 | J16: 0 | K16: 0 | L16: 0 | M16: 5 | O16: 福井市 | P16: 46 | Q16: 0 | R16: 0 | S16: 0 | T16: 0 | U16: 0 | V16: 0 | W16: 0 | X16: 0 | Y16: 0 | Z16: 14 | AB16: 岡山市 | AC16: 156 | AD16: 0 | AE16: 0 | AF16: 0 | AG16: 0 | AH16: 0 | AI16: 0 | AJ16: 0 | AK16: 0 | AL16: 0 | AM16: 36
B17: その他・青森県 | C17: 56 | D17: 0 | E17: 0 | F17: 0 | G17: 0 | H17: 0 | I17: 0 | J17: 0 | K17: 0 | L17: 0 | M17: 19 | O17: その他・福井県 | P17: 75 | Q17: 0 | R17: 0 | S17: 0 | T17: 0 | U17: 0 | V17: 0 | W17: 0 | X17: 0 | Y17: 0 | Z17: 5 | AB17: 倉敷市 | AC17: 11 | AD17: 0 | AE17: 0 | AF17: 0 | AG17: 0 | AH17: 0 | AI17: 0 | AJ17: 0 | AK17: 0 | AL17: 0 | AM17: 0
B18: 岩手県計 | C18: =SUM(C19:C20) -> 107 | D18: =SUM(D19:D20) -> 0 | E18: =SUM(E19:E20) -> 0 | F18: =SUM(F19:F20) -> 0 | G18: =SUM(G19:G20) -> 0 | H18: =SUM(H19:H20) -> 0 | I18: =SUM(I19:I20) -> 0 | J18: =SUM(J19:J20) -> 0 | ... M18: =SUM(M19:M20) -> 5 | O18: 山梨県計 | P18: =SUM(P19:P20) -> 135 | Q18: =SUM(Q19:Q20) -> 0 | R18: =SUM(R19:R20) -> 0 | S18: =SUM(S19:S20) -> 0 | T18: =SUM(T19:T20) -> 0 | U18: =SUM(U19:U20) -> 0 | V18: =SUM(V19:V20) -> 0 | W18: =SUM(W19:W20) -> 0 | ... Z18: =SUM(Z19:Z20) -> 38 | AB18: その他・岡山県 | AC18: 539 | AD18: 0 | AE18: 0 | AF18: 0 | AG18: 0 | AH18: 0 | AI18: 0 | AJ18: 0 | AK18: 0 | AL18: 0 | AM18: 207
B19: 盛岡市 | C19: 31 | D19: 0 | E19: 0 | F19: 0 | G19: 0 | H19: 0 | I19: 0 | J19: 0 | K19: 0 | L19: 0 | M19: 4 | O19: 甲府市 | P19: 16 | Q19: 0 | R19: 0 | S19: 0 | T19: 0 | U19: 0 | V19: 0 | W19: 0 | X19: 5 | Y19: 0 | Z19: 12 | AB19: 広島県計 | AC19: =SUM(AC20:AC23) -> 641 | AD19: =SUM(AD20:AD23) -> 0 | AE19: =SUM(AE20:AE23) -> 0 | AF19: =SUM(AF20:AF23) -> 0 | AG19: =SUM(AG20:AG23) -> 0 | AH19: =SUM(AH20:AH23) -> 0 | AI19: =SUM(AI20:AI23) -> 0 | AJ19: =SUM(AJ20:AJ23) -> 0 | ... AM19: =SUM(AM20:AM23) -> 241
B20: その他・岩手県 | C20: 76 | D20: 0 | E20: 0 | F20: 0 | G20: 0 | H20: 0 | I20: 0 | J20: 0 | K20: 1 | L20: 0 | M20: 1 | O20: その他・山梨県 | P20: 119 | Q20: 0 | R20: 0 | S20: 0 | T20: 0 | U20: 0 | V20: 0 | W20: 0 | X20: 0 | Y20: 0 | Z20: 26 | AB20: 広島市 | AC20: 248 | AD20: 0 | AE20: 0 | AF20: 0 | AG20: 0 | AH20: 0 | AI20: 0 | AJ20: 0 | AK20: 0 | AL20: 0 | AM20: 150
B21: 宮城県計 | C21: =SUM(C22:C23) -> 656 | D21: =SUM(D22:D23) -> 0 | E21: =SUM(E22:E23) -> 0 | F21: =SUM(F22:F23) -> 0 | G21: =SUM(G22:G23) -> 0 | H21: =SUM(H22:H23) -> 0 | I21: =SUM(I22:I23) -> 0 | J21: =SUM(J22:J23) -> 0 | ... M21: =SUM(M22:M23) -> 102 | O21: 長野県計 | P21: =SUM(P22:P24) -> 415 | Q21: =SUM(Q22:Q24) -> 0 | R21: =SUM(R22:R24) -> 0 | S21: =SUM(S22:S24) -> 0 | T21: =SUM(T22:T24) -> 0 | U21: =SUM(U22:U24) -> 0 | V21: =SUM(V22:V24) -> 0 | W21: =SUM(W22:W24) -> 0 | ... Z21: =SUM(Z22:Z24) -> 92 | AB21: 呉市 | AC21: 37 | AD21: 0 | AE21: 0 | AF21: 0 | AG21: 0 | AH21: 0 | AI21: 0 | AJ21: 0 | AK21: 0 | AL21: 0 | AM21: 13
B22: 仙台市 | C22: 396 | D22: 0 | E22: 0 | F22: 0 | G22: 0 | H22: 0 | I22: 0 | J22: 0 | K22: 40 | L22: 2 | M22: 42 | O22: 長野市 | P22: 75 | Q22: 0 | R22: 0 | S22: 0 | T22: 0 | U22: 0 | V22: 0 | W22: 0 | X22: 0 | Y22: 0 | Z22: 14 | AB22: 福山市 | AC22: 56 | AD22: 0 | AE22: 0 | AF22: 0 | AG22: 0 | AH22: 0 | AI22: 0 | AJ22: 0 | AK22: 0 | AL22: 0 | AM22: 32
B23: その他・宮城県 | C23: 260 | D23: 0 | E23: 0 | F23: 0 | G23: 0 | H23: 0 | I23: 0 | J23: 0 | K23: 0 | L23: 0 | M23: 60 | O23: 松本市 | P23: 62 | Q23: 0 | R23: 0 | S23: 0 | T23: 0 | U23: 0 | V23: 0 | W23: 0 | X23: 0 | Y23: 0 | Z23: 8 | AB23: その他・広島県 | AC23: 300 | AD23: 0 | AE23: 0 | AF23: 0 | AG23: 0 | AH23: 0 | AI23: 0 | AJ23: 0 | AK23: 0 | AL23: 0 | AM23: 46
B24: 秋田県計 | C24: =SUM(C25:C26) -> 234 | D24: =SUM(D25:D26) -> 0 | E24: =SUM(E25:E26) -> 0 | F24: =SUM(F25:F26) -> 0 | G24: =SUM(G25:G26) -> 0 | H24: =SUM(H25:H26) -> 0 | I24: =SUM(I25:I26) -> 0 | J24: =SUM(J25:J26) -> 0 | ... M24: =SUM(M25:M26) -> 120 | O24: その他・長野県 | P24: 278 | Q24: 0 | R24: 0 | S24: 0 | T24: 0 | U24: 0 | V24: 0 | W24: 0 | X24: 0 | Y24: 4 | Z24: 70 | AB24: 山口県計 | AC24: =SUM(AC25:AC26) -> 88 | AD24: =SUM(AD25:AD26) -> 0 | AE24: =SUM(AE25:AE26) -> 0 | AF24: =SUM(AF25:AF26) -> 0 | AG24: =SUM(AG25:AG26) -> 0 | AH24: =SUM(AH25:AH26) -> 0 | AI24: =SUM(AI25:AI26) -> 0 | AJ24: =SUM(AJ25:AJ26) -> 0 | ... AM24: =SUM(AM25:AM26) -> 25
B25: 秋田市 | C25: 197 | D25: 0 | E25: 0 | F25: 0 | G25: 0 | H25: 0 | I25: 0 | J25: 0 | K25: 0 | L25: 0 | M25: 107 | O25: 岐阜県計 | P25: =SUM(P26:P27) -> 238 | Q25: =SUM(Q26:Q27) -> 0 | R25: =SUM(R26:R27) -> 0 | S25: =SUM(S26:S27) -> 0 | T25: =SUM(T26:T27) -> 0 | U25: =SUM(U26:U27) -> 0 | V25: =SUM(V26:V27) -> 0 | W25: =SUM(W26:W27) -> 0 | ... Z25: =SUM(Z26:Z27) -> 101 | AB25: 下関市 | AC25: 17 | AD25: 0 | AE25: 0 | AF25: 0 | AG25: 0 | AH25: 0 | AI25: 0 | AJ25: 0 | AK25: 0 | AL25: 0 | AM25: 10
B26: その他・秋田県 | C26: 37 | D26: 0 | E26: 0 | F26: 0 | G26: 0 | H26: 0 | I26: 0 | J26: 0 | K26: 0 | L26: 0 | M26: 13 | O26: 岐阜市 | P26: 137 | Q26: 0 | R26: 0 | S26: 0 | T26: 0 | U26: 0 | V26: 0 | W26: 0 | X26: 14 | Y26: 0 | Z26: 96 | AB26: その他・山口県 | AC26: 71 | AD26: 0 | AE26: 0 | AF26: 0 | AG26: 0 | AH26: 0 | AI26: 0 | AJ26: 0 | AK26: 0 | AL26: 0 | AM26: 15
B27: 山形県計 | C27: =SUM(C28:C29) -> 661 | D27: =SUM(D28:D29) -> 0 | E27: =SUM(E28:E29) -> 0 | F27: =SUM(F28:F29) -> 0 | G27: =SUM(G28:G29) -> 0 | H27: =SUM(H28:H29) -> 0 | I27: =SUM(I28:I29) -> 0 | J27: =SUM(J28:J29) -> 0 | ... M27: =SUM(M28:M29) -> 275 | O27: その他・岐阜県 | P27: 101 | Q27: 0 | R27: 0 | S27: 0 | T27: 0 | U27: 0 | V27: 0 | W27: 0 | X27: 0 | Y27: 0 | Z27: 5 | AB27: 徳島県計 | AC27: =SUM(AC28:AC28) -> 114 | AD27: =SUM(AD28:AD28) -> 0 | AE27: =SUM(AE28:AE28) -> 0 | AF27: =SUM(AF28:AF28) -> 0 | AG27: =SUM(AG28:AG28) -> 0 | AH27: =SUM(AH28:AH28) -> 0 | AI27: =SUM(AI28:AI28) -> 0 | AJ27: =SUM(AJ28:AJ28) -> 0 | ... AM27: =SUM(AM28:AM28) -> 70
B28: 山形市 | C28: 54 | D28: 0 | E28: 0 | F28: 0 | G28: 0 | H28: 0 | I28: 0 | J28: 0 | K28: 0 | L28: 0 | M28: 18 | O28: 静岡県計 | P28: =SUM(P29:P31) -> 711 | Q28: =SUM(Q29:Q31) -> 0 | R28: =SUM(R29:R31) -> 0 | S28: =SUM(S29:S31) -> 0 | T28: =SUM(T29:T31) -> 0 | U28: =SUM(U29:U31) -> 0 | V28: =SUM(V29:V31) -> 0 | W28: =SUM(W29:W31) -> 0 | ... Z28: =SUM(Z29:Z31) -> 278 | AB28: 徳島県 | AC28: 114 | AD28: 0 | AE28: 0 | AF28: 0 | AG28: 0 | AH28: 0 | AI28: 0 | AJ28: 0 | AK28: 16 | AL28: 0 | AM28: 70
B29: その他・山形県 | C29: 607 | D29: 0 | E29: 0 | F29: 0 | G29: 0 | H29: 0 | I29: 0 | J29: 0 | K29: 4 | L29: 26 | M29: 257 | O29: 静岡市 | P29: 226 | Q29: 0 | R29: 0 | S29: 0 | T29: 0 | U29: 0 | V29: 0 | W29: 0 | X29: 0 | Y29: 0 | Z29: 89 | AB29: 香川県計 | AC29: =SUM(AC30:AC31) -> 110 | AD29: =SUM(AD30:AD31) -> 0 | AE29: =SUM(AE30:AE31) -> 0 | AF29: =SUM(AF30:AF31) -> 0 | AG29: =SUM(AG30:AG31) -> 0 | AH29: =SUM(AH30:AH31) -> 0 | AI29: =SUM(AI30:AI31) -> 0 | AJ29: =SUM(AJ30:AJ31) -> 0 | ... AM29: =SUM(AM30:AM31) -> 40
B30: 福島県計 | C30: =SUM(C31:C34) -> 1446 | D30: =SUM(D31:D34) -> 0 | E30: =SUM(E31:E34) -> 0 | F30: =SUM(F31:F34) -> 0 | G30: =SUM(G31:G34) -> 0 | H30: =SUM(H31:H34) -> 0 | I30: =SUM(I31:I34) -> 0 | J30: =SUM(J31:J34) -> 0 | ... M30: =SUM(M31:M34) -> 606 | O30: 浜松市 | P30: 307 | Q30: 0 | R30: 0 | S30: 0 | T30: 0 | U30: 0 | V30: 0 | W30: 0 | X30: 0 | Y30: 0 | Z30: 125 | AB30: 高松市 | AC30: 7 | AD30: 0 | AE30: 0 | AF30: 0 | AG30: 0 | AH30: 0 | AI30: 0 | AJ30: 0 | AK30: 0 | AL30: 0 | AM30: 5
B31: 福島市 | C31: 22 | D31: 0 | E31: 0 | F31: 0 | G31: 0 | H31: 0 | I31: 0 | J31: 0 | K31: 0 | L31: 0 | M31: 0 | O31: その他・静岡県 | P31: 178 | Q31: 0 | R31: 0 | S31: 0 | T31: 0 | U31: 0 | V31: 0 | W31: 0 | X31: 0 | Y31: 0 | Z31: 64 | AB31: その他・香川県 | AC31: 103 | AD31: 0 | AE31: 0 | AF31: 0 | AG31: 0 | AH31: 0 | AI31: 0 | AJ31: 0 | AK31: 1 | AL31: 0 | AM31: 35
B32: 郡山市 | C32: 30 | D32: 0 | E32: 0 | F32: 0 | G32: 0 | H32: 0 | I32: 0 | J32: 0 | K32: 0 | L32: 0 | M32: 6 | O32: 愛知県計 | P32: =SUM(P33:P38) -> 2850 | Q32: =SUM(Q33:Q38) -> 0 | R32: =SUM(R33:R38) -> 0 | S32: =SUM(S33:S38) -> 0 | T32: =SUM(T33:T38) -> 0 | U32: =SUM(U33:U38) -> 0 | V32: =SUM(V33:V38) -> 0 | W32: =SUM(W33:W38) -> 0 | ... Z32: =SUM(Z33:Z38) -> 1423 | AB32: 愛媛県計 | AC32: =SUM(AC33:AC34) -> 127 | AD32: =SUM(AD33:AD34) -> 0 | AE32: =SUM(AE33:AE34) -> 0 | AF32: =SUM(AF33:AF34) -> 0 | AG32: =SUM(AG33:AG34) -> 0 | AH32: =SUM(AH33:AH34) -> 0 | AI32: =SUM(AI33:AI34) -> 0 | AJ32: =SUM(AJ33:AJ34) -> 0 | ... AM32: =SUM(AM33:AM34) -> 79
B33: いわき市 | C33: 7 | D33: 0 | E33: 0 | F33: 0 | G33: 0 | H33: 0 | I33: 0 | J33: 0 | K33: 0 | L33: 0 | M33: 0 | O33: 名古屋市 | P33: 1488 | Q33: 0 | R33: 0 | S33: 0 | T33: 0 | U33: 0 | V33: 0 | W33: 0 | X33: 66 | Y33: 0 | Z33: 1037 | AB33: 松山市 | AC33: 41 | AD33: 0 | AE33: 0 | AF33: 0 | AG33: 0 | AH33: 0 | AI33: 0 | AJ33: 0 | AK33: 0 | AL33: 0 | AM33: 21
B34: その他・福島県 | C34: 1387 | D34: 0 | E34: 0 | F34: 0 | G34: 0 | H34: 0 | I34: 0 | J34: 0 | K34: 0 | L34: 0 | M34: 600 | O34: 豊橋市 | P34: 54 | Q34: 0 | R34: 0 | S34: 0 | T34: 0 | U34: 0 | V34: 0 | W34: 0 | X34: 0 | Y34: 0 | Z34: 18 | AB34: その他・愛媛県 | AC34: 86 | AD34: 0 | AE34: 0 | AF34: 0 | AG34: 0 | AH34: 0 | AI34: 0 | AJ34: 0 | AK34: 0 | AL34: 0 | AM34: 58
B35: 茨城県計 | C35: =SUM(C36:C37) -> 415 | D35: =SUM(D36:D37) -> 0 | E35: =SUM(E36:E37) -> 0 | F35: =SUM(F36:F37) -> 0 | G35: =SUM(G36:G37) -> 0 | H35: =SUM(H36:H37) -> 0 | I35: =SUM(I36:I37) -> 0 | J35: =SUM(J36:J37) -> 0 | ... M35: =SUM(M36:M37) -> 178 | O35: 岡崎市 | P35: 98 | Q35: 0 | R35: 0 | S35: 0 | T35: 0 | U35: 0 | V35: 0 | W35: 0 | X35: 0 | Y35: 0 | Z35: 92 | AB35: 高知県計 | AC35: =SUM(AC36:AC37) -> 24 | AD35: =SUM(AD36:AD37) -> 0 | AE35: =SUM(AE36:AE37) -> 0 | AF35: =SUM(AF36:AF37) -> 0 | AG35: =SUM(AG36:AG37) -> 0 | AH35: =SUM(AH36:AH37) -> 0 | AI35: =SUM(AI36:AI37) -> 0 | AJ35: =SUM(AJ36:AJ37) -> 0 | ... AM35: =SUM(AM36:AM37) -> 22
B36: 水戸市 | C36: 7 | D36: 0 | E36: 0 | F36: 0 | G36: 0 | H36: 0 | I36: 0 | J36: 0 | K36: 7 | L36: 0 | M36: 0 | O36: 一宮市 | P36: 541 | Q36: 0 | R36: 0 | S36: 0 | T36: 0 | U36: 0 | V36: 0 | W36: 0 | X36: 0 | Y36: 0 | Z36: 42 | AB36: 高知市 | AC36: 11 | AD36: 0 | AE36: 0 | AF36: 0 | AG36: 0 | AH36: 0 | AI36: 0 | AJ36: 0 | AK36: 0 | AL36: 0 | AM36: 9
B37: その他・茨城県 | C37: 408 | D37: 0 | E37: 0 | F37: 0 | G37: 0 | H37: 0 | I37: 0 | J37: 0 | K37: 0 | L37: 0 | M37: 178 | O37: 豊田市 | P37: 200 | Q37: 0 | R37: 0 | S37: 0 | T37: 0 | U37: 0 | V37: 0 | W37: 0 | X37: 0 | Y37: 0 | Z37: 102 | AB37: その他・高知県 | AC37: 13 | AD37: 0 | AE37: 0 | AF37: 0 | AG37: 0 | AH37: 0 | AI37: 0 | AJ37: 0 | AK37: 2 | AL37: 1 | AM37: 13
B38: 栃木県計 | C38: =SUM(C39:C40) -> 485 | D38: =SUM(D39:D40) -> 0 | E38: =SUM(E39:E40) -> 0 | F38: =SUM(F39:F40) -> 0 | G38: =SUM(G39:G40) -> 0 | H38: =SUM(H39:H40) -> 0 | I38: =SUM(I39:I40) -> 0 | J38: =SUM(J39:J40) -> 0 | ... M38: =SUM(M39:M40) -> 43 | O38: その他・愛知県 | P38: 469 | Q38: 0 | R38: 0 | S38: 0 | T38: 0 | U38: 0 | V38: 0 | W38: 0 | X38: 12 | Y38: 2 | Z38: 132 | AB38: 福岡県計 | AC38: =SUM(AC39:AC43) -> 922 | AD38: =SUM(AD39:AD43) -> 0 | AE38: =SUM(AE39:AE43) -> 0 | AF38: =SUM(AF39:AF43) -> 0 | AG38: =SUM(AG39:AG43) -> 0 | AH38: =SUM(AH39:AH43) -> 0 | AI38: =SUM(AI39:AI43) -> 0 | AJ38: =SUM(AJ39:AJ43) -> 0 | ... AM38: =SUM(AM39:AM43) -> 356
B39: 宇都宮市 | C39: 388 | D39: 0 | E39: 0 | F39: 0 | G39: 0 | H39: 0 | I39: 0 | J39: 0 | K39: 0 | L39: 0 | M39: 0 | O39: 三重県計 | P39: =SUM(P40:P41) -> 115 | Q39: =SUM(Q40:Q41) -> 0 | R39: =SUM(R40:R41) -> 0 | S39: =SUM(S40:S41) -> 0 | T39: =SUM(T40:T41) -> 0 | U39: =SUM(U40:U41) -> 0 | V39: =SUM(V40:V41) -> 0 | W39: =SUM(W40:W41) -> 0 | ... Z39: =SUM(Z40:Z41) -> 28 | AB39: 北九州市 | AC39: 301 | AD39: 0 | AE39: 0 | AF39: 0 | AG39: 0 | AH39: 0 | AI39: 0 | AJ39: 0 | AK39: 0 | AL39: 0 | AM39: 116
B40: その他・栃木県 | C40: 97 | D40: 0 | E40: 0 | F40: 0 | G40: 0 | H40: 0 | I40: 0 | J40: 0 | K40: 5 | L40: 0 | M40: 43 | O40: 四日市市 | P40: 40 | Q40: 0 | R40: 0 | S40: 0 | T40: 0 | U40: 0 | V40: 0 | W40: 0 | X40: 0 | Y40: 0 | Z40: 14 | AB40: 福岡市 | AC40: 290 | AD40: 0 | AE40: 0 | AF40: 0 | AG40: 0 | AH40: 0 | AI40: 0 | AJ40: 0 | AK40: 1 | AL40: 0 | AM40: 184
B41: 群馬県計 | C41: =SUM(C42:C44) -> 685 | D41: =SUM(D42:D44) -> 0 | E41: =SUM(E42:E44) -> 0 | F41: =SUM(F42:F44) -> 0 | G41: =SUM(G42:G44) -> 0 | H41: =SUM(H42:H44) -> 0 | I41: =SUM(I42:I44) -> 0 | J41: =SUM(J42:J44) -> 0 | ... M41: =SUM(M42:M44) -> 422 | O41: その他・三重県 | P41: 75 | Q41: 0 | R41: 0 | S41: 0 | T41: 0 | U41: 0 | V41: 0 | W41: 0 | X41: 0 | Y41: 0 | Z41: 14 | AB41: 大牟田市 | AC41: 31 | AD41: 0 | AE41: 0 | AF41: 0 | AG41: 0 | AH41: 0 | AI41: 0 | AJ41: 0 | AK41: 0 | AL41: 0 | AM41: 14
B42: 前橋市 | C42: 89 | D42: 0 | E42: 0 | F42: 0 | G42: 0 | H42: 0 | I42: 0 | J42: 0 | K42: 0 | L42: 0 | M42: 85 | O42: 滋賀県計 | P42: =SUM(P43:P44) -> 318 | Q42: =SUM(Q43:Q44) -> 0 | R42: =SUM(R43:R44) -> 0 | S42: =SUM(S43:S44) -> 0 | T42: =SUM(T43:T44) -> 0 | U42: =SUM(U43:U44) -> 0 | V42: =SUM(V43:V44) -> 0 | W42: =SUM(W43:W44) -> 0 | ... Z42: =SUM(Z43:Z44) -> 107 | AB42: 久留米市 | AC42: 29 | AD42: 0 | AE42: 0 | AF42: 0 | AG42: 0 | AH42: 0 | AI42: 0 | AJ42: 0 | AK42: 0 | AL42: 0 | AM42: 15
B43: 高崎市 | C43: 95 | D43: 0 | E43: 0 | F43: 0 | G43: 0 | H43: 0 | I43: 0 | J43: 0 | K43: 0 | L43: 0 | M43: 64 | O43: 大津市 | P43: 15 | Q43: 0 | R43: 0 | S43: 0 | T43: 0 | U43: 0 | V43: 0 | W43: 0 | X43: 2 | Y43: 0 | Z43: 9 | AB43: その他・福岡県 | AC43: 271 | AD43: 0 | AE43: 0 | AF43: 0 | AG43: 0 | AH43: 0 | AI43: 0 | AJ43: 0 | AK43: 0 | AL43: 0 | AM43: 27
B44: その他・群馬県 | C44: 501 | D44: 0 | E44: 0 | F44: 0 | G44: 0 | H44: 0 | I44: 0 | J44: 0 | K44: 0 | L44: 0 | M44: 273 | O44: その他・滋賀県 | P44: 303 | Q44: 0 | R44: 0 | S44: 0 | T44: 0 | U44: 0 | V44: 0 | W44: 0 | X44: 10 | Y44: 0 | Z44: 98 | AB44: 佐賀県計 | AC44: =SUM(AC45:AC45) -> 446 | AD44: =SUM(AD45:AD45) -> 0 | AE44: =SUM(AE45:AE45) -> 0 | AF44: =SUM(AF45:AF45) -> 0 | AG44: =SUM(AG45:AG45) -> 0 | AH44: =SUM(AH45:AH45) -> 0 | AI44: =SUM(AI45:AI45) -> 0 | AJ44: =SUM(AJ45:AJ45) -> 0 | ... AM44: =SUM(AM45:AM45) -> 36
B45: 埼玉県計 | C45: =SUM(C46:C51) -> 726 | D45: =SUM(D46:D51) -> 0 | E45: =SUM(E46:E51) -> 0 | F45: =SUM(F46:F51) -> 0 | G45: =SUM(G46:G51) -> 0 | H45: =SUM(H46:H51) -> 0 | I45: =SUM(I46:I51) -> 0 | J45: =SUM(J46:J51) -> 0 | ... M45: =SUM(M46:M51) -> 278 | O45: 京都府計 | P45: =SUM(P46:P47) -> 1282 | Q45: =SUM(Q46:Q47) -> 0 | R45: =SUM(R46:R47) -> 0 | S45: =SUM(S46:S47) -> 0 | T45: =SUM(T46:T47) -> 0 | U45: =SUM(U46:U47) -> 0 | V45: =SUM(V46:V47) -> 0 | W45: =SUM(W46:W47) -> 0 | ... Z45: =SUM(Z46:Z47) -> 261 | AB45: 佐賀県 | AC45: 446 | AD45: 0 | AE45: 0 | AF45: 0 | AG45: 0 | AH45: 0 | AI45: 0 | AJ45: 0 | AK45: 5 | AL45: 0 | AM45: 36
B46: さいたま市 | C46: 343 | D46: 0 | E46: 0 | F46: 0 | G46: 0 | H46: 0 | I46: 0 | J46: 0 | K46: 0 | L46: 0 | M46: 174 | O46: 京都市 | P46: 1125 | Q46: 0 | R46: 0 | S46: 0 | T46: 0 | U46: 0 | V46: 0 | W46: 0 | X46: 0 | Y46: 0 | Z46: 208 | AB46: 長崎県計 | AC46: =SUM(AC47:AC49) -> 84 | AD46: =SUM(AD47:AD49) -> 0 | AE46: =SUM(AE47:AE49) -> 0 | AF46: =SUM(AF47:AF49) -> 0 | AG46: =SUM(AG47:AG49) -> 0 | AH46: =SUM(AH47:AH49) -> 0 | AI46: =SUM(AI47:AI49) -> 0 | AJ46: =SUM(AJ47:AJ49) -> 0 | ... AM46: =SUM(AM47:AM49) -> 120
B47: 川越市 | C47: 27 | D47: 0 | E47: 0 | F47: 0 | G47: 0 | H47: 0 | I47: 0 | J47: 0 | K47: 0 | L47: 0 | M47: 17 | O47: その他・京都府 | P47: 157 | Q47: 0 | R47: 0 | S47: 0 | T47: 0 | U47: 0 | V47: 0 | W47: 0 | X47: 0 | Y47: 0 | Z47: 53 | AB47: 長崎市 | AC47: 29 | AD47: 0 | AE47: 0 | AF47: 0 | AG47: 0 | AH47: 0 | AI47: 0 | AJ47: 0 | AK47: 0 | AL47: 0 | AM47: 4
B48: 川口市 | C48: 122 | D48: 0 | E48: 0 | F48: 0 | G48: 0 | H48: 0 | I48: 0 | J48: 0 | K48: 0 | L48: 0 | M48: 49 | O48: 大阪府計 | P48: =SUM(P49:P58) -> 3840 | Q48: =SUM(Q49:Q58) -> 0 | R48: =SUM(R49:R58) -> 0 | S48: =SUM(S49:S58) -> 0 | T48: =SUM(T49:T58) -> 0 | U48: =SUM(U49:U58) -> 0 | V48: =SUM(V49:V58) -> 0 | W48: =SUM(W49:W58) -> 0 | ... Z48: =SUM(Z49:Z58) -> 1055 | AB48: 佐世保市 | AC48: 40 | AD48: 0 | AE48: 0 | AF48: 0 | AG48: 0 | AH48: 0 | AI48: 0 | AJ48: 0 | AK48: 0 | AL48: 0 | AM48: 116
B49: 所沢市 | C49: 17 | D49: 0 | E49: 0 | F49: 0 | G49: 0 | H49: 0 | I49: 0 | J49: 0 | K49: 0 | L49: 0 | M49: 4 | O49: 大阪市 | P49: 1925 | Q49: 0 | R49: 0 | S49: 0 | T49: 0 | U49: 0 | V49: 0 | W49: 0 | X49: 0 | Y49: 0 | Z49: 224 | AB49: その他・長崎県 | AC49: 15 | AD49: 0 | AE49: 0 | AF49: 0 | AG49: 0 | AH49: 0 | AI49: 0 | AJ49: 0 | AK49: 0 | AL49: 0 | AM49: 0
B50: 越谷市 | C50: 20 | D50: 0 | E50: 0 | F50: 0 | G50: 0 | H50: 0 | I50: 0 | J50: 0 | K50: 0 | L50: 0 | M50: 3 | O50: 堺市 | P50: 584 | Q50: 0 | R50: 0 | S50: 0 | T50: 0 | U50: 0 | V50: 0 | W50: 0 | X50: 1 | Y50: 0 | Z50: 232 | AB50: 熊本県計 | AC50: =SUM(AC51:AC52) -> 299 | AD50: =SUM(AD51:AD52) -> 0 | AE50: =SUM(AE51:AE52) -> 0 | AF50: =SUM(AF51:AF52) -> 0 | AG50: =SUM(AG51:AG52) -> 0 | AH50: =SUM(AH51:AH52) -> 0 | AI50: =SUM(AI51:AI52) -> 0 | AJ50: =SUM(AJ51:AJ52) -> 0 | ... AM50: =SUM(AM51:AM52) -> 210
B51: その他・埼玉県 | C51: 197 | D51: 0 | E51: 0 | F51: 0 | G51: 0 | H51: 0 | I51: 0 | J51: 0 | K51: 0 | L51: 0 | M51: 31 | O51: 豊中市 | P51: 164 | Q51: 0 | R51: 0 | S51: 0 | T51: 0 | U51: 0 | V51: 0 | W51: 0 | X51: 0 | Y51: 0 | Z51: 65 | AB51: 熊本市 | AC51: 78 | AD51: 0 | AE51: 0 | AF51: 0 | AG51: 0 | AH51: 0 | AI51: 0 | AJ51: 0 | AK51: 0 | AL51: 0 | AM51: 139
B52: 千葉県計 | C52: =SUM(C53:C59) -> 841 | D52: =SUM(D53:D59) -> 0 | E52: =SUM(E53:E59) -> 0 | F52: =SUM(F53:F59) -> 0 | G52: =SUM(G53:G59) -> 0 | H52: =SUM(H53:H59) -> 0 | I52: =SUM(I53:I59) -> 0 | J52: =SUM(J53:J59) -> 0 | ... M52: =SUM(M53:M59) -> 332 | O52: 吹田市 | P52: 114 | Q52: 0 | R52: 0 | S52: 0 | T52: 0 | U52: 0 | V52: 0 | W52: 0 | X52: 0 | Y52: 0 | Z52: 180 | AB52: その他・熊本県 | AC52: 221 | AD52: 0 | AE52: 0 | AF52: 0 | AG52: 0 | AH52: 0 | AI52: 0 | AJ52: 0 | AK52: 0 | AL52: 0 | AM52: 71
B53: 千葉市 | C53: 58 | D53: 0 | E53: 0 | F53: 0 | G53: 0 | H53: 0 | I53: 0 | J53: 0 | K53: 1 | L53: 0 | M53: 22 | O53: 高槻市 | P53: 86 | Q53: 0 | R53: 0 | S53: 0 | T53: 0 | U53: 0 | V53: 0 | W53: 0 | X53: 14 | Y53: 0 | Z53: 60 | AB53: 大分県計 | AC53: =SUM(AC54:AC55) -> 287 | AD53: =SUM(AD54:AD55) -> 0 | AE53: =SUM(AE54:AE55) -> 0 | AF53: =SUM(AF54:AF55) -> 0 | AG53: =SUM(AG54:AG55) -> 0 | AH53: =SUM(AH54:AH55) -> 0 | AI53: =SUM(AI54:AI55) -> 0 | AJ53: =SUM(AJ54:AJ55) -> 0 | ... AM53: =SUM(AM54:AM55) -> 113
B54: 市川市 | C54: 317 | D54: 0 | E54: 0 | F54: 0 | G54: 0 | H54: 0 | I54: 0 | J54: 0 | K54: 1 | L54: 0 | M54: 160 | O54: 枚方市 | P54: 277 | Q54: 0 | R54: 0 | S54: 0 | T54: 0 | U54: 0 | V54: 0 | W54: 0 | X54: 0 | Y54: 0 | Z54: 60 | AB54: 大分市 | AC54: 161 | AD54: 0 | AE54: 0 | AF54: 0 | AG54: 0 | AH54: 0 | AI54: 0 | AJ54: 0 | AK54: 0 | AL54: 0 | AM54: 61
B55: 船橋市 | C55: 120 | D55: 0 | E55: 0 | F55: 0 | G55: 0 | H55: 0 | I55: 0 | J55: 0 | K55: 0 | L55: 0 | M55: 46 | O55: 八尾市 | P55: 47 | Q55: 0 | R55: 0 | S55: 0 | T55: 0 | U55: 0 | V55: 0 | W55: 0 | X55: 0 | Y55: 0 | Z55: 18 | AB55: その他・大分県 | AC55: 126 | AD55: 0 | AE55: 0 | AF55: 0 | AG55: 0 | AH55: 0 | AI55: 0 | AJ55: 0 | AK55: 0 | AL55: 0 | AM55: 52
B56: 松戸市 | C56: 28 | D56: 0 | E56: 0 | F56: 0 | G56: 0 | H56: 0 | I56: 0 | J56: 0 | K56: 0 | L56: 0 | M56: 8 | O56: 寝屋川市 | P56: 32 | Q56: 0 | R56: 0 | S56: 0 | T56: 0 | U56: 0 | V56: 0 | W56: 0 | X56: 0 | Y56: 0 | Z56: 5 | AB56: 宮崎県計 | AC56: =SUM(AC57:AC58) -> 53 | AD56: =SUM(AD57:AD58) -> 0 | AE56: =SUM(AE57:AE58) -> 0 | AF56: =SUM(AF57:AF58) -> 0 | AG56: =SUM(AG57:AG58) -> 0 | AH56: =SUM(AH57:AH58) -> 0 | AI56: =SUM(AI57:AI58) -> 0 | AJ56: =SUM(AJ57:AJ58) -> 0 | ... AM56: =SUM(AM57:AM58) -> 4
B57: 柏市 | C57: 43 | D57: 0 | E57: 0 | F57: 0 | G57: 0 | H57: 0 | I57: 0 | J57: 0 | K57: 0 | L57: 0 | M57: 14 | O57: 東大阪市 | P57: 19 | Q57: 0 | R57: 0 | S57: 0 | T57: 0 | U57: 0 | V57: 0 | W57: 0 | X57: 0 | Y57: 0 | Z57: 8 | AB57: 宮崎市 | AC57: 6 | AD57: 0 | AE57: 0 | AF57: 0 | AG57: 0 | AH57: 0 | AI57: 0 | AJ57: 0 | AK57: 0 | AL57: 0 | AM57: 3
B58: 市原市 | C58: 62 | D58: 0 | E58: 0 | F58: 0 | G58: 0 | H58: 0 | I58: 0 | J58: 0 | K58: 23 | L58: 0 | M58: 29 | O58: その他・大阪府 | P58: 592 | Q58: 0 | R58: 0 | S58: 0 | T58: 0 | U58: 0 | V58: 0 | W58: 0 | X58: 0 | Y58: 0 | Z58: 203 | AB58: その他・宮崎県 | AC58: 47 | AD58: 0 | AE58: 0 | AF58: 0 | AG58: 0 | AH58: 0 | AI58: 0 | AJ58: 0 | AK58: 0 | AL58: 0 | AM58: 1
B59: その他・千葉県 | C59: 213 | D59: 0 | E59: 0 | F59: 0 | G59: 0 | H59: 0 | I59: 0 | J59: 0 | K59: 15 | L59: 1 | M59: 53 | O59: 兵庫県計 | P59: =SUM(P60:P66) -> 2288 | Q59: =SUM(Q60:Q66) -> 0 | R59: =SUM(R60:R66) -> 0 | S59: =SUM(S60:S66) -> 0 | T59: =SUM(T60:T66) -> 0 | U59: =SUM(U60:U66) -> 0 | V59: =SUM(V60:V66) -> 0 | W59: =SUM(W60:W66) -> 0 | ... Z59: =SUM(Z60:Z66) -> 1415 | AB59: 鹿児島県計 | AC59: =SUM(AC60:AC61) -> 244 | AD59: =SUM(AD60:AD61) -> 0 | AE59: =SUM(AE60:AE61) -> 0 | AF59: =SUM(AF60:AF61) -> 0 | AG59: =SUM(AG60:AG61) -> 0 | AH59: =SUM(AH60:AH61) -> 0 | AI59: =SUM(AI60:AI61) -> 0 | AJ59: =SUM(AJ60:AJ61) -> 0 | ... AM59: =SUM(AM60:AM61) -> 141
B60: 東京都計 | C60: =SUM(C61:C62) -> 12006 | D60: =SUM(D61:D62) -> 0 | E60: =SUM(E61:E62) -> 0 | F60: =SUM(F61:F62) -> 0 | G60: =SUM(G61:G62) -> 0 | H60: =SUM(H61:H62) -> 0 | I60: =SUM(I61:I62) -> 0 | J60: =SUM(J61:J62) -> 0 | ... M60: =SUM(M61:M62) -> 5302 | O60: 神戸市 | P60: 227 | Q60: 0 | R60: 0 | S60: 0 | T60: 0 | U60: 0 | V60: 0 | W60: 0 | X60: 14 | Y60: 1 | Z60: 447 | AB60: 鹿児島市 | AC60: 238 | AD60: 0 | AE60: 0 | AF60: 0 | AG60: 0 | AH60: 0 | AI60: 0 | AJ60: 0 | AK60: 0 | AL60: 0 | AM60: 140
B61: 八王子市 | C61: 207 | D61: 0 | E61: 0 | F61: 0 | G61: 0 | H61: 0 | I61: 0 | J61: 0 | K61: 0 | L61: 0 | M61: 59 | O61: 姫路市 | P61: 90 | Q61: 0 | R61: 0 | S61: 0 | T61: 0 | U61: 0 | V61: 0 | W61: 0 | X61: 0 | Y61: 0 | Z61: 21 | AB61: その他・鹿児島県 | AC61: 6 | AD61: 0 | AE61: 0 | AF61: 0 | AG61: 0 | AH61: 0 | AI61: 0 | AJ61: 0 | AK61: 0 | AL61: 0 | AM61: 1
B62: その他・東京都 | C62: 11799 | D62: 0 | E62: 0 | F62: 0 | G62: 0 | H62: 0 | I62: 0 | J62: 0 | K62: 215 | L62: 6 | M62: 5243 | O62: 尼崎市 | P62: 889 | Q62: 0 | R62: 0 | S62: 0 | T62: 0 | U62: 0 | V62: 0 | W62: 0 | X62: 0 | Y62: 0 | Z62: 570 | AB62: 沖縄県計 | AC62: =SUM(AC63:AC64) -> 942 | AD62: =SUM(AD63:AD64) -> 0 | AE62: =SUM(AE63:AE64) -> 0 | AF62: =SUM(AF63:AF64) -> 0 | AG62: =SUM(AG63:AG64) -> 0 | AH62: =SUM(AH63:AH64) -> 0 | AI62: =SUM(AI63:AI64) -> 0 | AJ62: =SUM(AJ63:AJ64) -> 0 | ... AM62: =SUM(AM63:AM64) -> 192
B63: 神奈川県計 | C63: =SUM(C64:C70) -> 1824 | D63: =SUM(D64:D70) -> 0 | E63: =SUM(E64:E70) -> 0 | F63: =SUM(F64:F70) -> 0 | G63: =SUM(G64:G70) -> 0 | H63: =SUM(H64:H70) -> 0 | I63: =SUM(I64:I70) -> 0 | J63: =SUM(J64:J70) -> 0 | ... M63: =SUM(M64:M70) -> 838 | O63: 明石市 | P63: 5 | Q63: 0 | R63: 0 | S63: 0 | T63: 0 | U63: 0 | V63: 0 | W63: 0 | X63: 0 | Y63: 0 | Z63: 0 | AB63: 那覇市 | AC63: 40 | AD63: 0 | AE63: 0 | AF63: 0 | AG63: 0 | AH63: 0 | AI63: 0 | AJ63: 0 | AK63: 0 | AL63: 0 | AM63: 0
B64: 横浜市 | C64: 399 | D64: 0 | E64: 0 | F64: 0 | G64: 0 | H64: 0 | I64: 0 | J64: 0 | K64: 0 | L64: 0 | M64: 61 | O64: 西宮市 | P64: 731 | Q64: 0 | R64: 0 | S64: 0 | T64: 0 | U64: 0 | V64: 0 | W64: 0 | X64: 0 | Y64: 0 | Z64: 315 | AB64: その他・沖縄県 | AC64: 902 | AD64: 0 | AE64: 0 | AF64: 0 | AG64: 0 | AH64: 0 | AI64: 0 | AJ64: 0 | AK64: 2 | AL64: 0 | AM64: 192
B65: 川崎市 | C65: 952 | D65: 0 | E65: 0 | F65: 0 | G65: 0 | H65: 0 | I65: 0 | J65: 0 | K65: 4 | L65: 1 | M65: 593 | O65: 加古川市 | P65: 25 | Q65: 0 | R65: 0 | S65: 0 | T65: 0 | U65: 0 | V65: 0 | W65: 0 | X65: 0 | Y65: 0 | Z65: 12 | AB65: 合計 | AC65: =SUM(C6:C70,P6:P69,AC6:AC64)/2 -> 39335 | AD65: =SUM(D6:D70,Q6:Q69,AD6:AD64)/2 -> 0 | AE65: =SUM(E6:E70,R6:R69,AE6:AE64)/2 -> 0 | AF65: =SUM(F6:F70,S6:S69,AF6:AF64)/2 -> 0 | AG65: =SUM(G6:G70,T6:T69,AG6:AG64)/2 -> 0 | AH65: =SUM(H6:H70,U6:U69,AH6:AH64)/2 -> 0 | AI65: =SUM(I6:I70,V6:V69,AI6:AI64)/2 -> 0 | AJ65: =SUM(J6:J70,W6:W69,AJ6:AJ64)/2 -> 0 | ... AM65: =SUM(M6:M70,Z6:Z69,AM6:AM64)/2 -> 15895
B66: 相模原市 | C66: 71 | D66: 0 | E66: 0 | F66: 0 | G66: 0 | H66: 0 | I66: 0 | J66: 0 | K66: 0 | L66: 0 | M66: 4 | O66: その他・兵庫県 | P66: 321 | Q66: 0 | R66: 0 | S66: 0 | T66: 0 | U66: 0 | V66: 0 | W66: 0 | X66: 2 | Y66: 0 | Z66: 50 | AB66: （備考）特定粉じん排出等作業以外の解体等工事の作業場に係る件数も含まれる。
B67: 横須賀市 | C67: 83 | D67: 0 | E67: 0 | F67: 0 | G67: 0 | H67: 0 | I67: 0 | J67: 0 | K67: 0 | L67: 0 | M67: 31 | O67: 奈良県計 | P67: =SUM(P68:P69) -> 117 | Q67: =SUM(Q68:Q69) -> 0 | R67: =SUM(R68:R69) -> 0 | S67: =SUM(S68:S69) -> 0 | T67: =SUM(T68:T69) -> 0 | U67: =SUM(U68:U69) -> 0 | V67: =SUM(V68:V69) -> 0 | W67: =SUM(W68:W69) -> 0 | ... Z67: =SUM(Z68:Z69) -> 45
B68: 平塚市 | C68: 52 | D68: 0 | E68: 0 | F68: 0 | G68: 0 | H68: 0 | I68: 0 | J68: 0 | K68: 0 | L68: 0 | M68: 27 | O68: 奈良市 | P68: 7 | Q68: 0 | R68: 0 | S68: 0 | T68: 0 | U68: 0 | V68: 0 | W68: 0 | X68: 0 | Y68: 0 | Z68: 5
B69: 藤沢市 | C69: 82 | D69: 0 | E69: 0 | F69: 0 | G69: 0 | H69: 0 | I69: 0 | J69: 0 | K69: 2 | L69: 0 | M69: 69 | O69: その他・奈良県 | P69: 110 | Q69: 0 | R69: 0 | S69: 0 | T69: 0 | U69: 0 | V69: 0 | W69: 0 | X69: 0 | Y69: 0 | Z69: 40
B70: その他・神奈川県 | C70: 185 | D70: 0 | E70: 0 | F70: 0 | G70: 0 | H70: 0 | I70: 0 | J70: 0 | K70: 0 | L70: 0 | M70: 53

Sheet 表9.3
B2: 表9.3(1) 立入検査実施件数 年度別・都道府県市別 （特定粉じん排出等作業） | I2: 表9.3(2) 立入検査実施件数 年度別・都道府県市別 （特定粉じん排出等作業） | P2: 表9.3(3) 立入検査実施件数 年度別・都道府県市別 （特定粉じん排出等作業）
B4: 自治体名 | C4: 立入検査実施工場・事業場数 | I4: 自治体名 | J4: 立入検査実施工場・事業場数 | P4: 自治体名 | Q4: 立入検査実施工場・事業場数
C5: 平成30年度 | D5: 令和元年度 | E5: 令和２年度 | F5: 令和３年度 | G5: 令和４年度 | J5: 平成30年度 | K5: 令和元年度 | L5: 令和２年度 | M5: 令和３年度 | N5: 令和４年度 | Q5: 平成30年度 | R5: 令和元年度 | S5: 令和２年度 | T5: 令和３年度 | U5: 令和４年度
B6: 北海道計 | C6: =SUM(C7:C13) -> 611 | D6: =SUM(D7:D13) -> 724 | E6: =SUM(E7:E13) -> 589 | F6: =SUM(F7:F13) -> 682 | G6: =SUM(G7:G13) -> 726 | I6: 新潟県計 | J6: =SUM(J7:J8) -> 499 | K6: =SUM(K7:K8) -> 511 | L6: =SUM(L7:L8) -> 374 | M6: =SUM(M7:M8) -> 278 | N6: =SUM(N7:N8) -> 297 | P6: 和歌山県計 | Q6: =SUM(Q7:Q8) -> 129 | R6: =SUM(R7:R8) -> 119 | S6: =SUM(S7:S8) -> 125 | T6: =SUM(T7:T8) -> 98 | U6: =SUM(U7:U8) -> 109
B7: 札幌市 | C7: 244 | D7: 319 | E7: 244 | F7: 456 | G7: ='表9.2'!C7 -> 434 | I7: 新潟市 | J7: 183 | K7: 215 | L7: 165 | M7: 119 | N7: ='表9.2'!P7 -> 114 | P7: 和歌山市 | Q7: 28 | R7: 20 | S7: 46 | T7: 29 | U7: ='表9.2'!AC7 -> 41
B8: 函館市 | C8: 23 | D8: 49 | E8: 29 | F8: 28 | G8: ='表9.2'!C8 -> 22 | I8: その他・新潟県 | J8: 316 | K8: 296 | L8: 209 | M8: 159 | N8: ='表9.2'!P8 -> 183 | P8: その他・和歌山県 | Q8: 101 | R8: 99 | S8: 79 | T8: 69 | U8: ='表9.2'!AC8 -> 68
B9: 小樽市 | C9: 24 | D9: 25 | E9: 16 | F9: 4 | G9: ='表9.2'!C9 -> 16 | I9: 富山県計 | J9: =SUM(J10:J11) -> 93 | K9: =SUM(K10:K11) -> 77 | L9: =SUM(L10:L11) -> 86 | M9: =SUM(M10:M11) -> 77 | N9: =SUM(N10:N11) -> 43 | P9: 鳥取県計 | Q9: =SUM(Q10:Q11) -> 242 | R9: =SUM(R10:R11) -> 336 | S9: =SUM(S10:S11) -> 315 | T9: =SUM(T10:T11) -> 279 | U9: =SUM(U10:U11) -> 196
B10: 旭川市 | C10: 57 | D10: 114 | E10: 109 | F10: 77 | G10: ='表9.2'!C10 -> 107 | I10: 富山市 | J10: 61 | K10: 55 | L10: 57 | M10: 57 | N10: ='表9.2'!P10 -> 25 | P10: 鳥取市 | Q10: 18 | R10: 60 | S10: 53 | T10: 31 | U10: ='表9.2'!AC10 -> 32
B11: 室蘭市 | C11: 6 | D11: 9 | E11: 7 | F11: 6 | G11: ='表9.2'!C11 -> 6 | I11: その他・富山県 | J11: 32 | K11: 22 | L11: 29 | M11: 20 | N11: ='表9.2'!P11 -> 18 | P11: その他・鳥取県 | Q11: 224 | R11: 276 | S11: 262 | T11: 248 | U11: ='表9.2'!AC11 -> 164
B12: 苫小牧市 | C12: 24 | D12: 14 | E12: 8 | F12: 18 | G12: ='表9.2'!C12 -> 24 | I12: 石川県計 | J12: =SUM(J13:J14) -> 176 | K12: =SUM(K13:K14) -> 175 | L12: =SUM(L13:L14) -> 143 | M12: =SUM(M13:M14) -> 166 | N12: =SUM(N13:N14) -> 178 | P12: 島根県計 | Q12: =SUM(Q13:Q14) -> 176 | R12: =SUM(R13:R14) -> 187 | S12: =SUM(S13:S14) -> 106 | T12: =SUM(T13:T14) -> 57 | U12: =SUM(U13:U14) -> 69
B13: その他・北海道 | C13: 233 | D13: 194 | E13: 176 | F13: 93 | G13: ='表9.2'!C13 -> 117 | I13: 金沢市 | J13: 81 | K13: 77 | L13: 59 | M13: 105 | N13: ='表9.2'!P13 -> 108 | P13: 松江市 | Q13: 46 | R13: 47 | S13: 40 | T13: 40 | U13: ='表9.2'!AC13 -> 38
B14: 青森県計 | C14: =SUM(C15:C17) -> 188 | D14: =SUM(D15:D17) -> 252 | E14: =SUM(E15:E17) -> 204 | F14: =SUM(F15:F17) -> 95 | G14: =SUM(G15:G17) -> 114 | I14: その他・石川県 | J14: 95 | K14: 98 | L14: 84 | M14: 61 | N14: ='表9.2'!P14 -> 70 | P14: その他・島根県 | Q14: 130 | R14: 140 | S14: 66 | T14: 17 | U14: ='表9.2'!AC14 -> 31
B15: 青森市 | C15: 59 | D15: 59 | E15: 48 | F15: 21 | G15: ='表9.2'!C15 -> 44 | I15: 福井県計 | J15: =SUM(J16:J17) -> 218 | K15: =SUM(K16:K17) -> 230 | L15: =SUM(L16:L17) -> 211 | M15: =SUM(M16:M17) -> 141 | N15: =SUM(N16:N17) -> 121 | P15: 岡山県計 | Q15: =SUM(Q16:Q18) -> 190 | R15: =SUM(R16:R18) -> 455 | S15: =SUM(S16:S18) -> 350 | T15: =SUM(T16:T18) -> 565 | U15: =SUM(U16:U18) -> 706
B16: 八戸市 | C16: 40 | D16: 42 | E16: 44 | F16: 32 | G16: ='表9.2'!C16 -> 14 | I16: 福井市 | K16: 67 | L16: 96 | M16: 66 | N16: ='表9.2'!P16 -> 46 | P16: 岡山市 | Q16: 45 | R16: 94 | S16: 57 | T16: 68 | U16: ='表9.2'!AC16 -> 156
B17: その他・青森県 | C17: 89 | D17: 151 | E17: 112 | F17: 42 | G17: ='表9.2'!C17 -> 56 | I17: その他・福井県 | J17: 218 | K17: 163 | L17: 115 | M17: 75 | N17: ='表9.2'!P17 -> 75 | P17: 倉敷市 | Q17: 20 | R17: 34 | S17: 10 | T17: 8 | U17: ='表9.2'!AC17 -> 11
B18: 岩手県計 | C18: =SUM(C19:C20) -> 159 | D18: =SUM(D19:D20) -> 134 | E18: =SUM(E19:E20) -> 123 | F18: =SUM(F19:F20) -> 51 | G18: =SUM(G19:G20) -> 107 | I18: 山梨県計 | J18: =SUM(J19:J20) -> 214 | K18: =SUM(K19:K20) -> 206 | L18: =SUM(L19:L20) -> 161 | M18: =SUM(M19:M20) -> 71 | N18: =SUM(N19:N20) -> 135 | P18: その他・岡山県 | Q18: 125 | R18: 327 | S18: 283 | T18: 489 | U18: ='表9.2'!AC18 -> 539
B19: 盛岡市 | C19: 58 | D19: 33 | E19: 30 | F19: 11 | G19: ='表9.2'!C19 -> 31 | I19: 甲府市 | K19: 36 | L19: 46 | M19: 12 | N19: ='表9.2'!P19 -> 16 | P19: 広島県計 | Q19: =SUM(Q20:Q23) -> 737 | R19: =SUM(R20:R23) -> 765 | S19: =SUM(S20:S23) -> 470 | T19: =SUM(T20:T23) -> 435 | U19: =SUM(U20:U23) -> 641
B20: その他・岩手県 | C20: 101 | D20: 101 | E20: 93 | F20: 40 | G20: ='表9.2'!C20 -> 76 | I20: その他・山梨県 | J20: 214 | K20: 170 | L20: 115 | M20: 59 | N20: ='表9.2'!P20 -> 119 | P20: 広島市 | Q20: 280 | R20: 289 | S20: 263 | T20: 226 | U20: ='表9.2'!AC20 -> 248
B21: 宮城県計 | C21: =SUM(C22:C23) -> 401 | D21: =SUM(D22:D23) -> 519 | E21: =SUM(E22:E23) -> 475 | F21: =SUM(F22:F23) -> 395 | G21: =SUM(G22:G23) -> 656 | I21: 長野県計 | J21: =SUM(J22:J24) -> 581 | K21: =SUM(K22:K24) -> 633 | L21: =SUM(L22:L24) -> 699 | M21: =SUM(M22:M24) -> 364 | N21: =SUM(N22:N24) -> 415 | P21: 呉市 | Q21: 25 | R21: 26 | S21: 12 | T21: 12 | U21: ='表9.2'!AC21 -> 37
B22: 仙台市 | C22: 244 | D22: 356 | E22: 290 | F22: 240 | G22: ='表9.2'!C22 -> 396 | I22: 長野市 | J22: 129 | K22: 71 | L22: 225 | M22: 40 | N22: ='表9.2'!P22 -> 75 | P22: 福山市 | Q22: 33 | R22: 40 | S22: 37 | T22: 43 | U22: ='表9.2'!AC22 -> 56
B23: その他・宮城県 | C23: 157 | D23: 163 | E23: 185 | F23: 155 | G23: ='表9.2'!C23 -> 260 | I23: 松本市 | M23: 40 | N23: ='表9.2'!P23 -> 62 | P23: その他・広島県 | Q23: 399 | R23: 410 | S23: 158 | T23: 154 | U23: ='表9.2'!AC23 -> 300
B24: 秋田県計 | C24: =SUM(C25:C26) -> 363 | D24: =SUM(D25:D26) -> 369 | E24: =SUM(E25:E26) -> 308 | F24: =SUM(F25:F26) -> 265 | G24: =SUM(G25:G26) -> 234 | I24: その他・長野県 | J24: 452 | K24: 562 | L24: 474 | M24: 284 | N24: ='表9.2'!P24 -> 278 | P24: 山口県計 | Q24: =SUM(Q25:Q26) -> 142 | R24: =SUM(R25:R26) -> 184 | S24: =SUM(S25:S26) -> 140 | T24: =SUM(T25:T26) -> 85 | U24: =SUM(U25:U26) -> 88
B25: 秋田市 | C25: 274 | D25: 282 | E25: 260 | F25: 200 | G25: ='表9.2'!C25 -> 197 | I25: 岐阜県計 | J25: =SUM(J26:J27) -> 178 | K25: =SUM(K26:K27) -> 190 | L25: =SUM(L26:L27) -> 171 | M25: =SUM(M26:M27) -> 137 | N25: =SUM(N26:N27) -> 238 | P25: 下関市 | Q25: 8 | R25: 35 | S25: 27 | T25: 16 | U25: ='表9.2'!AC25 -> 17
B26: その他・秋田県 | C26: 89 | D26: 87 | E26: 48 | F26: 65 | G26: ='表9.2'!C26 -> 37 | I26: 岐阜市 | J26: 67 | K26: 67 | L26: 58 | M26: 49 | N26: ='表9.2'!P26 -> 137 | P26: その他・山口県 | Q26: 134 | R26: 149 | S26: 113 | T26: 69 | U26: ='表9.2'!AC26 -> 71
B27: 山形県計 | C27: =SUM(C28:C29) -> 191 | D27: =SUM(D28:D29) -> 202 | E27: =SUM(E28:E29) -> 179 | F27: =SUM(F28:F29) -> 180 | G27: =SUM(G28:G29) -> 661 | I27: その他・岐阜県 | J27: 111 | K27: 123 | L27: 113 | M27: 88 | N27: ='表9.2'!P27 -> 101 | P27: 徳島県計 | Q27: =SUM(Q28) -> 96 | R27: =SUM(R28) -> 80 | S27: =SUM(S28) -> 107 | T27: =SUM(T28) -> 45 | U27: =SUM(U28) -> 114
B28: 山形市 | D28: 35 | E28: 23 | F28: 21 | G28: ='表9.2'!C28 -> 54 | I28: 静岡県計 | J28: =SUM(J29:J31) -> 344 | K28: =SUM(K29:K31) -> 379 | L28: =SUM(L29:L31) -> 301 | M28: =SUM(M29:M31) -> 259 | N28: =SUM(N29:N31) -> 711 | P28: 徳島県 | Q28: 96 | R28: 80 | S28: 107 | T28: 45 | U28: ='表9.2'!AC28 -> 114
B29: その他・山形県 | C29: 191 | D29: 167 | E29: 156 | F29: 159 | G29: ='表9.2'!C29 -> 607 | I29: 静岡市 | J29: 81 | K29: 78 | L29: 76 | M29: 69 | N29: ='表9.2'!P29 -> 226 | P29: 香川県計 | Q29: =SUM(Q30:Q31) -> 171 | R29: =SUM(R30:R31) -> 202 | S29: =SUM(S30:S31) -> 202 | T29: =SUM(T30:T31) -> 61 | U29: =SUM(U30:U31) -> 110
B30: 福島県計 | C30: =SUM(C31:C34) -> 261 | D30: =SUM(D31:D34) -> 220 | E30: =SUM(E31:E34) -> 240 | F30: =SUM(F31:F34) -> 469 | G30: =SUM(G31:G34) -> 1446 | I30: 浜松市 | J30: 118 | K30: 131 | L30: 85 | M30: 93 | N30: ='表9.2'!P30 -> 307 | P30: 高松市 | Q30: 47 | R30: 48 | S30: 83 | T30: 24 | U30: ='表9.2'!AC30 -> 7
B31: 福島市 | C31: 38 | D31: 14 | E31: 21 | F31: 12 | G31: ='表9.2'!C31 -> 22 | I31: その他・静岡県 | J31: 145 | K31: 170 | L31: 140 | M31: 97 | N31: ='表9.2'!P31 -> 178 | P31: その他・香川県 | Q31: 124 | R31: 154 | S31: 119 | T31: 37 | U31: ='表9.2'!AC31 -> 103
B32: 郡山市 | C32: 31 | D32: 38 | E32: 48 | F32: 65 | G32: ='表9.2'!C32 -> 30 | I32: 愛知県計 | J32: =SUM(J33:J38) -> 1570 | K32: =SUM(K33:K38) -> 1540 | L32: =SUM(L33:L38) -> 1331 | M32: =SUM(M33:M38) -> 1963 | N32: =SUM(N33:N38) -> 2850 | P32: 愛媛県計 | Q32: =SUM(Q33:Q34) -> 282 | R32: =SUM(R33:R34) -> 208 | S32: =SUM(S33:S34) -> 151 | T32: =SUM(T33:T34) -> 95 | U32: =SUM(U33:U34) -> 127
B33: いわき市 | C33: 36 | D33: 16 | E33: 31 | F33: 9 | G33: ='表9.2'!C33 -> 7 | I33: 名古屋市 | J33: 852 | K33: 867 | L33: 808 | M33: 1193 | N33: ='表9.2'!P33 -> 1488 | P33: 松山市 | Q33: 127 | R33: 66 | S33: 50 | T33: 41 | U33: ='表9.2'!AC33 -> 41
B34: その他・福島県 | C34: 156 | D34: 152 | E34: 140 | F34: 383 | G34: ='表9.2'!C34 -> 1387 | I34: 豊橋市 | J34: 19 | K34: 41 | L34: 78 | M34: 83 | N34: ='表9.2'!P34 -> 54 | P34: その他・愛媛県 | Q34: 155 | R34: 142 | S34: 101 | T34: 54 | U34: ='表9.2'!AC34 -> 86
B35: 茨城県計 | C35: =SUM(C36:C37) -> 262 | D35: =SUM(D36:D37) -> 326 | E35: =SUM(E36:E37) -> 344 | F35: =SUM(F36:F37) -> 308 | G35: =SUM(G36:G37) -> 415 | I35: 岡崎市 | J35: 54 | K35: 47 | L35: 34 | M35: 118 | N35: ='表9.2'!P35 -> 98 | P35: 高知県計 | Q35: =SUM(Q36:Q37) -> 19 | R35: =SUM(R36:R37) -> 25 | S35: =SUM(S36:S37) -> 42 | T35: =SUM(T36:T37) -> 30 | U35: =SUM(U36:U37) -> 24
B36: 水戸市 | E36: 9 | F36: 6 | G36: ='表9.2'!C36 -> 7 | I36: 一宮市 | M36: 29 | N36: ='表9.2'!P36 -> 541 | P36: 高知市 | Q36: 10 | R36: 18 | S36: 23 | T36: 16 | U36: ='表9.2'!AC36 -> 11
B37: その他・茨城県 | C37: 262 | D37: 326 | E37: 335 | F37: 302 | G37: ='表9.2'!C37 -> 408 | I37: 豊田市 | J37: 32 | K37: 35 | L37: 35 | M37: 185 | N37: ='表9.2'!P37 -> 200 | P37: その他・高知県 | Q37: 9 | R37: 7 | S37: 19 | T37: 14 | U37: ='表9.2'!AC37 -> 13
B38: 栃木県計 | C38: =SUM(C39:C40) -> 263 | D38: =SUM(D39:D40) -> 185 | E38: =SUM(E39:E40) -> 191 | F38: =SUM(F39:F40) -> 214 | G38: =SUM(G39:G40) -> 485 | I38: その他・愛知県 | J38: 613 | K38: 550 | L38: 376 | M38: 355 | N38: ='表9.2'!P38 -> 469 | P38: 福岡県計 | Q38: =SUM(Q39:Q43) -> 504 | R38: =SUM(R39:R43) -> 586 | S38: =SUM(S39:S43) -> 446 | T38: =SUM(T39:T43) -> 848 | U38: =SUM(U39:U43) -> 922
B39: 宇都宮市 | C39: 44 | D39: 16 | E39: 78 | F39: 168 | G39: ='表9.2'!C39 -> 388 | I39: 三重県計 | J39: =SUM(J40:J41) -> 255 | K39: =SUM(K40:K41) -> 307 | L39: =SUM(L40:L41) -> 159 | M39: =SUM(M40:M41) -> 106 | N39: =SUM(N40:N41) -> 115 | P39: 北九州市 | Q39: 132 | R39: 146 | S39: 130 | T39: 339 | U39: ='表9.2'!AC39 -> 301
B40: その他・栃木県 | C40: 219 | D40: 169 | E40: 113 | F40: 46 | G40: ='表9.2'!C40 -> 97 | I40: 四日市市 | J40: 16 | K40: 29 | L40: 12 | M40: 8 | N40: ='表9.2'!P40 -> 40 | P40: 福岡市 | Q40: 107 | R40: 133 | S40: 116 | T40: 317 | U40: ='表9.2'!AC40 -> 290
B41: 群馬県計 | C41: =SUM(C42:C44) -> 445 | D41: =SUM(D42:D44) -> 538 | E41: =SUM(E42:E44) -> 416 | F41: =SUM(F42:F44) -> 556 | G41: =SUM(G42:G44) -> 685 | I41: その他・三重県 | J41: 239 | K41: 278 | L41: 147 | M41: 98 | N41: ='表9.2'!P41 -> 75 | P41: 大牟田市 | Q41: 20 | R41: 29 | S41: 3 | T41: 12 | U41: ='表9.2'!AC41 -> 31
B42: 前橋市 | C42: 45 | D42: 52 | E42: 16 | F42: 102 | G42: ='表9.2'!C42 -> 89 | I42: 滋賀県計 | J42: =SUM(J43:J44) -> 193 | K42: =SUM(K43:K44) -> 219 | L42: =SUM(L43:L44) -> 161 | M42: =SUM(M43:M44) -> 177 | N42: =SUM(N43:N44) -> 318 | P42: 久留米市 | Q42: 20 | R42: 28 | S42: 21 | T42: 19 | U42: ='表9.2'!AC42 -> 29
B43: 高崎市 | C43: 14 | D43: 16 | E43: 20 | F43: 71 | G43: ='表9.2'!C43 -> 95 | I43: 大津市 | J43: 25 | K43: 30 | L43: 16 | M43: 16 | N43: ='表9.2'!P43 -> 15 | P43: その他・福岡県 | Q43: 225 | R43: 250 | S43: 176 | T43: 161 | U43: ='表9.2'!AC43 -> 271
B44: その他・群馬県 | C44: 386 | D44: 470 | E44: 380 | F44: 383 | G44: ='表9.2'!C44 -> 501 | I44: その他・滋賀県 | J44: 168 | K44: 189 | L44: 145 | M44: 161 | N44: ='表9.2'!P44 -> 303 | P44: 佐賀県計 | Q44: =SUM(Q45) -> 96 | R44: =SUM(R45) -> 84 | S44: =SUM(S45) -> 72 | T44: =SUM(T45) -> 165 | U44: =SUM(U45) -> 446
B45: 埼玉県計 | C45: =SUM(C46:C51) -> 736 | D45: =SUM(D46:D51) -> 478 | E45: =SUM(E46:E51) -> 773 | F45: =SUM(F46:F51) -> 416 | G45: =SUM(G46:G51) -> 726 | I45: 京都府計 | J45: =SUM(J46:J47) -> 784 | K45: =SUM(K46:K47) -> 963 | L45: =SUM(L46:L47) -> 637 | M45: =SUM(M46:M47) -> 730 | N45: =SUM(N46:N47) -> 1282 | P45: 佐賀県 | Q45: 96 | R45: 84 | S45: 72 | T45: 165 | U45: ='表9.2'!AC45 -> 446
B46: さいたま市 | C46: 222 | D46: 174 | E46: 165 | F46: 141 | G46: ='表9.2'!C46 -> 343 | I46: 京都市 | J46: 690 | K46: 848 | L46: 543 | M46: 671 | N46: ='表9.2'!P46 -> 1125 | P46: 長崎県計 | Q46: =SUM(Q47:Q49) -> 96 | R46: =SUM(R47:R49) -> 121 | S46: =SUM(S47:S49) -> 133 | T46: =SUM(T47:T49) -> 55 | U46: =SUM(U47:U49) -> 84
B47: 川越市 | C47: 50 | D47: 70 | E47: 45 | F47: 35 | G47: ='表9.2'!C47 -> 27 | I47: その他・京都府 | J47: 94 | K47: 115 | L47: 94 | M47: 59 | N47: ='表9.2'!P47 -> 157 | P47: 長崎市 | Q47: 38 | R47: 67 | S47: 72 | T47: 28 | U47: ='表9.2'!AC47 -> 29
B48: 川口市 | C48: 76 | D48: 68 | E48: 72 | F48: 26 | G48: ='表9.2'!C48 -> 122 | I48: 大阪府計 | J48: =SUM(J49:J58) -> 4352 | K48: =SUM(K49:K58) -> 3782 | L48: =SUM(L49:L58) -> 3586 | M48: =SUM(M49:M58) -> 3611 | N48: =SUM(N49:N58) -> 3840 | P48: 佐世保市 | Q48: 37 | R48: 30 | S48: 24 | T48: 9 | U48: ='表9.2'!AC48 -> 40
B49: 所沢市 | C49: 24 | D49: 17 | E49: 21 | F49: 8 | G49: ='表9.2'!C49 -> 17 | I49: 大阪市 | J49: 1606 | K49: 1353 | L49: 1486 | M49: 1735 | N49: ='表9.2'!P49 -> 1925 | P49: その他・長崎県 | Q49: 21 | R49: 24 | S49: 37 | T49: 18 | U49: ='表9.2'!AC49 -> 15
B50: 越谷市 | C50: 20 | D50: 18 | E50: 9 | F50: 22 | G50: ='表9.2'!C50 -> 20 | I50: 堺市 | J50: 1101 | K50: 704 | L50: 524 | M50: 621 | N50: ='表9.2'!P50 -> 584 | P50: 熊本県計 | Q50: =SUM(Q51:Q52) -> 297 | R50: =SUM(R51:R52) -> 353 | S50: =SUM(S51:S52) -> 439 | T50: =SUM(T51:T52) -> 1004 | U50: =SUM(U51:U52) -> 299
B51: その他・埼玉県 | C51: 344 | D51: 131 | E51: 461 | F51: 184 | G51: ='表9.2'!C51 -> 197 | I51: 豊中市 | J51: 201 | K51: 176 | L51: 186 | M51: 148 | N51: ='表9.2'!P51 -> 164 | P51: 熊本市 | Q51: 113 | R51: 81 | S51: 43 | T51: 65 | U51: ='表9.2'!AC51 -> 78
B52: 千葉県計 | C52: =SUM(C53:C59) -> 871 | D52: =SUM(D53:D59) -> 667 | E52: =SUM(E53:E59) -> 526 | F52: =SUM(F53:F59) -> 488 | G52: =SUM(G53:G59) -> 841 | I52: 吹田市 | J52: 267 | K52: 176 | L52: 91 | M52: 77 | N52: ='表9.2'!P52 -> 114 | P52: その他・熊本県 | Q52: 184 | R52: 272 | S52: 396 | T52: 939 | U52: ='表9.2'!AC52 -> 221
B53: 千葉市 | C53: 109 | D53: 69 | E53: 67 | F53: 48 | G53: ='表9.2'!C53 -> 58 | I53: 高槻市 | J53: 57 | K53: 107 | L53: 158 | M53: 142 | N53: ='表9.2'!P53 -> 86 | P53: 大分県計 | Q53: =SUM(Q54:Q55) -> 247 | R53: =SUM(R54:R55) -> 260 | S53: =SUM(S54:S55) -> 172 | T53: =SUM(T54:T55) -> 213 | U53: =SUM(U54:U55) -> 287
B54: 市川市 | C54: 45 | D54: 35 | E54: 40 | F54: 125 | G54: ='表9.2'!C54 -> 317 | I54: 枚方市 | J54: 284 | K54: 291 | L54: 232 | M54: 261 | N54: ='表9.2'!P54 -> 277 | P54: 大分市 | Q54: 122 | R54: 122 | S54: 97 | T54: 119 | U54: ='表9.2'!AC54 -> 161
B55: 船橋市 | C55: 57 | D55: 70 | E55: 92 | F55: 59 | G55: ='表9.2'!C55 -> 120 | I55: 八尾市 | J55: 65 | K55: 69 | L55: 60 | M55: 30 | N55: ='表9.2'!P55 -> 47 | P55: その他・大分県 | Q55: 125 | R55: 138 | S55: 75 | T55: 94 | U55: ='表9.2'!AC55 -> 126
B56: 松戸市 | C56: 104 | D56: 50 | E56: 37 | F56: 21 | G56: ='表9.2'!C56 -> 28 | I56: 寝屋川市 | K56: 46 | L56: 31 | M56: 31 | N56: ='表9.2'!P56 -> 32 | P56: 宮崎県計 | Q56: =SUM(Q57:Q58) -> 198 | R56: =SUM(R57:R58) -> 169 | S56: =SUM(S57:S58) -> 129 | T56: =SUM(T57:T58) -> 37 | U56: =SUM(U57:U58) -> 53
B57: 柏市 | C57: 78 | D57: 77 | E57: 18 | F57: 5 | G57: ='表9.2'!C57 -> 43 | I57: 東大阪市 | J57: 71 | K57: 61 | L57: 66 | M57: 57 | N57: ='表9.2'!P57 -> 19 | P57: 宮崎市 | Q57: 127 | R57: 81 | S57: 77 | T57: 6 | U57: ='表9.2'!AC57 -> 6
B58: 市原市 | C58: 45 | D58: 45 | E58: 38 | F58: 21 | G58: ='表9.2'!C58 -> 62 | I58: その他・大阪府 | J58: 700 | K58: 799 | L58: 752 | M58: 509 | N58: ='表9.2'!P58 -> 592 | P58: その他・宮崎県 | Q58: 71 | R58: 88 | S58: 52 | T58: 31 | U58: ='表9.2'!AC58 -> 47
B59: その他・千葉県 | C59: 433 | D59: 321 | E59: 234 | F59: 209 | G59: ='表9.2'!C59 -> 213 | I59: 兵庫県計 | J59: =SUM(J60:J66) -> 2270 | K59: =SUM(K60:K66) -> 2200 | L59: =SUM(L60:L66) -> 1615 | M59: =SUM(M60:M66) -> 2224 | N59: =SUM(N60:N66) -> 2288 | P59: 鹿児島県計 | Q59: =SUM(Q60:Q61) -> 56 | R59: =SUM(R60:R61) -> 52 | S59: =SUM(S60:S61) -> 54 | T59: =SUM(T60:T61) -> 27 | U59: =SUM(U60:U61) -> 244
B60: 東京都計 | C60: =SUM(C61:C62) -> 4876 | D60: =SUM(D61:D62) -> 4416 | E60: =SUM(E61:E62) -> 3525 | F60: =SUM(F61:F62) -> 3293 | G60: =SUM(G61:G62) -> 12006 | I60: 神戸市 | J60: 495 | K60: 645 | L60: 247 | M60: 149 | N60: ='表9.2'!P60 -> 227 | P60: 鹿児島市 | Q60: 40 | R60: 36 | S60: 28 | T60: 18 | U60: ='表9.2'!AC60 -> 238
B61: 八王子市 | C61: 60 | D61: 32 | E61: 22 | F61: 12 | G61: ='表9.2'!C61 -> 207 | I61: 姫路市 | J61: 80 | K61: 86 | L61: 102 | M61: 112 | N61: ='表9.2'!P61 -> 90 | P61: その他・鹿児島県 | Q61: 16 | R61: 16 | S61: 26 | T61: 9 | U61: ='表9.2'!AC61 -> 6
B62: その他・東京都 | C62: 4816 | D62: 4384 | E62: 3503 | F62: 3281 | G62: ='表9.2'!C62 -> 11799 | I62: 尼崎市 | J62: 111 | K62: 137 | L62: 108 | M62: 846 | N62: ='表9.2'!P62 -> 889 | P62: 沖縄県計 | Q62: =SUM(Q63:Q64) -> 448 | R62: =SUM(R63:R64) -> 707 | S62: =SUM(S63:S64) -> 399 | T62: =SUM(T63:T64) -> 315 | U62: =SUM(U63:U64) -> 942
B63: 神奈川県計 | C63: =SUM(C64:C70) -> 1594 | D63: =SUM(D64:D70) -> 1481 | E63: =SUM(E64:E70) -> 1111 | F63: =SUM(F64:F70) -> 1316 | G63: =SUM(G64:G70) -> 1824 | I63: 明石市 | J63: 5 | K63: 9 | L63: 10 | M63: 8 | N63: ='表9.2'!P63 -> 5 | P63: 那覇市 | Q63: 28 | R63: 31 | S63: 24 | T63: 9 | U63: ='表9.2'!AC63 -> 40
B64: 横浜市 | C64: 243 | D64: 235 | E64: 131 | F64: 193 | G64: ='表9.2'!C64 -> 399 | I64: 西宮市 | J64: 275 | K64: 325 | L64: 574 | M64: 735 | N64: ='表9.2'!P64 -> 731 | P64: その他・沖縄県 | Q64: 420 | R64: 676 | S64: 375 | T64: 306 | U64: ='表9.2'!AC64 -> 902
B65: 川崎市 | C65: 1023 | D65: 910 | E65: 635 | F65: 890 | G65: ='表9.2'!C65 -> 952 | I65: 加古川市 | J65: 42 | K65: 23 | L65: 51 | M65: 39 | N65: ='表9.2'!P65 -> 25 | P65: 合計 | Q65: =SUM(C6:C70,J6:J69,Q6:Q64)/2 -> 27243 | R65: =SUM(D6:D70,K6:K69,R6:R64)/2 -> 27032 | S65: =SUM(E6:E70,L6:L69,S6:S64)/2 -> 22652 | T65: =SUM(F6:F70,M6:M69,T6:T64)/2 -> 23547 | U65: =SUM(G6:G70,N6:N69,U6:U64)/2 -> 39335
B66: 相模原市 | C66: 71 | D66: 42 | E66: 70 | F66: 26 | G66: ='表9.2'!C66 -> 71 | I66: その他・兵庫県 | J66: 1262 | K66: 975 | L66: 523 | M66: 335 | N66: ='表9.2'!P66 -> 321 | P66: （備考）特定粉じん排出等作業以外の解体等工事の作業場に係る件数も含まれる。
B67: 横須賀市 | C67: 83 | D67: 107 | E67: 120 | F67: 88 | G67: ='表9.2'!C67 -> 83 | I67: 奈良県計 | J67: =SUM(J68:J69) -> 169 | K67: =SUM(K68:K69) -> 216 | L67: =SUM(L68:L69) -> 161 | M67: =SUM(M68:M69) -> 101 | N67: =SUM(N68:N69) -> 117
B68: 平塚市 | C68: 31 | D68: 43 | E68: 40 | F68: 29 | G68: ='表9.2'!C68 -> 52 | I68: 奈良市 | J68: 20 | K68: 36 | L68: 24 | M68: 26 | N68: ='表9.2'!P68 -> 7
B69: 藤沢市 | C69: 24 | D69: 26 | E69: 25 | F69: 24 | G69: ='表9.2'!C69 -> 82 | I69: その他・奈良県 | J69: 149 | K69: 180 | L69: 137 | M69: 75 | N69: ='表9.2'!P69 -> 110
B70: その他・神奈川県 | C70: 119 | D70: 118 | E70: 90 | F70: 66 | G70: ='表9.2'!C70 -> 185

Sheet 表9.4
B2: 表9.4(1) 行政指導作業場数 都道府県市別（特定粉じん排出等作業） | K2: 表9.4(2) 行政指導作業場数 都道府県市別（特定粉じん排出等作業） | T2: 表9.4(3) 行政指導作業場数 都道府県市別（特定粉じん排出等作業）
B4: 自治体名 | C4: ① | D4: ② | E4: ③ | F4: ④ | G4: ⑤ | H4: ⑥ | K4: 自治体名 | L4: ① | M4: ② | N4: ③ | O4: ④ | P4: ⑤ | Q4: ⑥ | T4: 自治体名 | U4: ① | V4: ② | W4: ③ | X4: ④ | Y4: ⑤ | Z4: ⑥
C5: 作業場数 | D5: 作業場数 | E5: 作業場数 | F5: 作業場数 | G5: 作業場数 | H5: 作業場数 | L5: 作業場数 | M5: 作業場数 | N5: 作業場数 | O5: 作業場数 | P5: 作業場数 | Q5: 作業場数 | U5: 作業場数 | V5: 作業場数 | W5: 作業場数 | X5: 作業場数 | Y5: 作業場数 | Z5: 作業場数
B6: 北海道計 | C6: =SUM(C7:C13) -> 58 | D6: =SUM(D7:D13) -> 3 | E6: =SUM(E7:E13) -> 3 | F6: =SUM(F7:F13) -> 2 | G6: =SUM(G7:G13) -> 337 | H6: =SUM(H7:H13) -> 29 | K6: 新潟県計 | L6: =SUM(L7:L8) -> 40 | M6: =SUM(M7:M8) -> 8 | N6: =SUM(N7:N8) -> 2 | O6: =SUM(O7:O8) -> 3 | P6: =SUM(P7:P8) -> 118 | Q6: =SUM(Q7:Q8) -> 8 | T6: 和歌山県計 | U6: =SUM(U7:U8) -> 4 | V6: =SUM(V7:V8) -> 3 | W6: =SUM(W7:W8) -> 0 | X6: =SUM(X7:X8) -> 0 | Y6: =SUM(Y7:Y8) -> 48 | Z6: =SUM(Z7:Z8) -> 2
B7: 札幌市 | C7: 55 | D7: 0 | E7: 3 | F7: 1 | G7: 303 | H7: 21 | K7: 新潟市 | L7: 24 | M7: 1 | N7: 0 | O7: 0 | P7: 55 | Q7: 0 | T7: 和歌山市 | U7: 2 | V7: 0 | W7: 0 | X7: 0 | Y7: 20 | Z7: 0
B8: 函館市 | C8: 1 | D8: 0 | E8: 0 | F8: 0 | G8: 16 | H8: 2 | K8: その他・新潟県 | L8: 16 | M8: 7 | N8: 2 | O8: 3 | P8: 63 | Q8: 8 | T8: その他・和歌山県 | U8: 2 | V8: 3 | W8: 0 | X8: 0 | Y8: 28 | Z8: 2
B9: 小樽市 | C9: 1 | D9: 0 | E9: 0 | F9: 1 | G9: 3 | H9: 0 | K9: 富山県計 | L9: =SUM(L10:L11) -> 0 | M9: =SUM(M10:M11) -> 0 | N9: =SUM(N10:N11) -> 1 | O9: =SUM(O10:O11) -> 0 | P9: =SUM(P10:P11) -> 0 | Q9: =SUM(Q10:Q11) -> 0 | T9: 鳥取県計 | U9: =SUM(U10:U11) -> 15 | V9: =SUM(V10:V11) -> 8 | W9: =SUM(W10:W11) -> 0 | X9: =SUM(X10:X11) -> 0 | Y9: =SUM(Y10:Y11) -> 25 | Z9: =SUM(Z10:Z11) -> 1
B10: 旭川市 | C10: 0 | D10: 0 | E10: 0 | F10: 0 | G10: 0 | H10: 5 | K10: 富山市 | L10: 0 | M10: 0 | N10: 1 | O10: 0 | P10: 0 | Q10: 0 | T10: 鳥取市 | U10: 0 | V10: 0 | W10: 0 | X10: 0 | Y10: 0 | Z10: 0
B11: 室蘭市 | C11: 0 | D11: 0 | E11: 0 | F11: 0 | G11: 0 | H11: 0 | K11: その他・富山県 | L11: 0 | M11: 0 | N11: 0 | O11: 0 | P11: 0 | Q11: 0 | T11: その他・鳥取県 | U11: 15 | V11: 8 | W11: 0 | X11: 0 | Y11: 25 | Z11: 1
B12: 苫小牧市 | C12: 0 | D12: 0 | E12: 0 | F12: 0 | G12: 0 | H12: 0 | K12: 石川県計 | L12: =SUM(L13:L14) -> 16 | M12: =SUM(M13:M14) -> 7 | N12: =SUM(N13:N14) -> 1 | O12: =SUM(O13:O14) -> 1 | P12: =SUM(P13:P14) -> 31 | Q12: =SUM(Q13:Q14) -> 15 | T12: 島根県計 | U12: =SUM(U13:U14) -> 1 | V12: =SUM(V13:V14) -> 3 | W12: =SUM(W13:W14) -> 1 | X12: =SUM(X13:X14) -> 0 | Y12: =SUM(Y13:Y14) -> 2 | Z12: =SUM(Z13:Z14) -> 0
B13: その他・北海道 | C13: 1 | D13: 3 | E13: 0 | F13: 0 | G13: 15 | H13: 1 | K13: 金沢市 | L13: 13 | M13: 4 | N13: 0 | O13: 1 | P13: 28 | Q13: 12 | T13: 松江市 | U13: 0 | V13: 0 | W13: 0 | X13: 0 | Y13: 0 | Z13: 0
B14: 青森県計 | C14: =SUM(C15:C17) -> 13 | D14: =SUM(D15:D17) -> 9 | E14: =SUM(E15:E17) -> 0 | F14: =SUM(F15:F17) -> 2 | G14: =SUM(G15:G17) -> 22 | H14: =SUM(H15:H17) -> 3 | K14: その他・石川県 | L14: 3 | M14: 3 | N14: 1 | O14: 0 | P14: 3 | Q14: 3 | T14: その他・島根県 | U14: 1 | V14: 3 | W14: 1 | X14: 0 | Y14: 2 | Z14: 0
B15: 青森市 | C15: 7 | D15: 9 | E15: 0 | F15: 0 | G15: 10 | H15: 3 | K15: 福井県計 | L15: =SUM(L16:L17) -> 0 | M15: =SUM(M16:M17) -> 0 | N15: =SUM(N16:N17) -> 0 | O15: =SUM(O16:O17) -> 4 | P15: =SUM(P16:P17) -> 6 | Q15: =SUM(Q16:Q17) -> 8 | T15: 岡山県計 | U15: =SUM(U16:U18) -> 70 | V15: =SUM(V16:V18) -> 106 | W15: =SUM(W16:W18) -> 0 | X15: =SUM(X16:X18) -> 0 | Y15: =SUM(Y16:Y18) -> 192 | Z15: =SUM(Z16:Z18) -> 2
B16: 八戸市 | C16: 1 | D16: 0 | E16: 0 | F16: 0 | G16: 4 | H16: 0 | K16: 福井市 | L16: 0 | M16: 0 | N16: 0 | O16: 3 | P16: 2 | Q16: 8 | T16: 岡山市 | U16: 0 | V16: 1 | W16: 0 | X16: 0 | Y16: 40 | Z16: 1
B17: その他・青森県 | C17: 5 | D17: 0 | E17: 0 | F17: 2 | G17: 8 | H17: 0 | K17: その他・福井県 | L17: 0 | M17: 0 | N17: 0 | O17: 1 | P17: 4 | Q17: 0 | T17: 倉敷市 | U17: 0 | V17: 0 | W17: 0 | X17: 0 | Y17: 0 | Z17: 0
B18: 岩手県計 | C18: =SUM(C19:C20) -> 2 | D18: =SUM(D19:D20) -> 1 | E18: =SUM(E19:E20) -> 1 | F18: =SUM(F19:F20) -> 0 | G18: =SUM(G19:G20) -> 9 | H18: =SUM(H19:H20) -> 1 | K18: 山梨県計 | L18: =SUM(L19:L20) -> 94 | M18: =SUM(M19:M20) -> 24 | N18: =SUM(N19:N20) -> 1 | O18: =SUM(O19:O20) -> 0 | P18: =SUM(P19:P20) -> 40 | Q18: =SUM(Q19:Q20) -> 4 | T18: その他・岡山県 | U18: 70 | V18: 105 | W18: 0 | X18: 0 | Y18: 152 | Z18: 1
B19: 盛岡市 | C19: 0 | D19: 0 | E19: 0 | F19: 0 | G19: 3 | H19: 1 | K19: 甲府市 | L19: 67 | M19: 12 | N19: 0 | O19: 0 | P19: 9 | Q19: 1 | T19: 広島県計 | U19: =SUM(U20:U23) -> 271 | V19: =SUM(V20:V23) -> 25 | W19: =SUM(W20:W23) -> 0 | X19: =SUM(X20:X23) -> 2 | Y19: =SUM(Y20:Y23) -> 63 | Z19: =SUM(Z20:Z23) -> 110
B20: その他・岩手県 | C20: 2 | D20: 1 | E20: 1 | F20: 0 | G20: 6 | H20: 0 | K20: その他・山梨県 | L20: 27 | M20: 12 | N20: 1 | O20: 0 | P20: 31 | Q20: 3 | T20: 広島市 | U20: 8 | V20: 17 | W20: 0 | X20: 0 | Y20: 17 | Z20: 108
B21: 宮城県計 | C21: =SUM(C22:C23) -> 861 | D21: =SUM(D22:D23) -> 1982 | E21: =SUM(E22:E23) -> 124 | F21: =SUM(F22:F23) -> 1 | G21: =SUM(G22:G23) -> 97 | H21: =SUM(H22:H23) -> 1 | K21: 長野県計 | L21: =SUM(L22:L24) -> 17 | M21: =SUM(M22:M24) -> 3 | N21: =SUM(N22:N24) -> 1 | O21: =SUM(O22:O24) -> 0 | P21: =SUM(P22:P24) -> 53 | Q21: =SUM(Q22:Q24) -> 3 | T21: 呉市 | U21: 0 | V21: 1 | W21: 0 | X21: 0 | Y21: 13 | Z21: 0
B22: 仙台市 | C22: 852 | D22: 1979 | E22: 124 | F22: 0 | G22: 37 | H22: 0 | K22: 長野市 | L22: 1 | M22: 0 | N22: 1 | O22: 0 | P22: 4 | Q22: 1 | T22: 福山市 | U22: 4 | V22: 6 | W22: 0 | X22: 2 | Y22: 19 | Z22: 0
B23: その他・宮城県 | C23: 9 | D23: 3 | E23: 0 | F23: 1 | G23: 60 | H23: 1 | K23: 松本市 | L23: 2 | M23: 0 | N23: 0 | O23: 0 | P23: 5 | Q23: 1 | T23: その他・広島県 | U23: 259 | V23: 1 | W23: 0 | X23: 0 | Y23: 14 | Z23: 2
B24: 秋田県計 | C24: =SUM(C25:C26) -> 27 | D24: =SUM(D25:D26) -> 10 | E24: =SUM(E25:E26) -> 3 | F24: =SUM(F25:F26) -> 4 | G24: =SUM(G25:G26) -> 97 | H24: =SUM(H25:H26) -> 3 | K24: その他・長野県 | L24: 14 | M24: 3 | N24: 0 | O24: 0 | P24: 44 | Q24: 1 | T24: 山口県計 | U24: =SUM(U25:U26) -> 4 | V24: =SUM(V25:V26) -> 3 | W24: =SUM(W25:W26) -> 0 | X24: =SUM(X25:X26) -> 3 | Y24: =SUM(Y25:Y26) -> 18 | Z24: =SUM(Z25:Z26) -> 5
B25: 秋田市 | C25: 25 | D25: 7 | E25: 0 | F25: 0 | G25: 95 | H25: 2 | K25: 岐阜県計 | L25: =SUM(L26:L27) -> 17 | M25: =SUM(M26:M27) -> 13 | N25: =SUM(N26:N27) -> 0 | O25: =SUM(O26:O27) -> 1 | P25: =SUM(P26:P27) -> 86 | Q25: =SUM(Q26:Q27) -> 3 | T25: 下関市 | U25: 2 | V25: 0 | W25: 0 | X25: 0 | Y25: 8 | Z25: 0
B26: その他・秋田県 | C26: 2 | D26: 3 | E26: 3 | F26: 4 | G26: 2 | H26: 1 | K26: 岐阜市 | L26: 13 | M26: 12 | N26: 0 | O26: 1 | P26: 83 | Q26: 3 | T26: その他・山口県 | U26: 2 | V26: 3 | W26: 0 | X26: 3 | Y26: 10 | Z26: 5
B27: 山形県計 | C27: =SUM(C28:C29) -> 28 | D27: =SUM(D28:D29) -> 173 | E27: =SUM(E28:E29) -> 2 | F27: =SUM(F28:F29) -> 24 | G27: =SUM(G28:G29) -> 136 | H27: =SUM(H28:H29) -> 11 | K27: その他・岐阜県 | L27: 4 | M27: 1 | N27: 0 | O27: 0 | P27: 3 | Q27: 0 | T27: 徳島県計 | U27: =SUM(U28:U28) -> 16 | V27: =SUM(V28:V28) -> 2 | W27: =SUM(W28:W28) -> 0 | X27: =SUM(X28:X28) -> 3 | Y27: =SUM(Y28:Y28) -> 59 | Z27: =SUM(Z28:Z28) -> 0
B28: 山形市 | C28: 0 | D28: 0 | E28: 2 | F28: 0 | G28: 20 | H28: 0 | K28: 静岡県計 | L28: =SUM(L29:L31) -> 62 | M28: =SUM(M29:M31) -> 167 | N28: =SUM(N29:N31) -> 0 | O28: =SUM(O29:O31) -> 4 | P28: =SUM(P29:P31) -> 155 | Q28: =SUM(Q29:Q31) -> 6 | T28: 徳島県 | U28: 16 | V28: 2 | W28: 0 | X28: 3 | Y28: 59 | Z28: 0
B29: その他・山形県 | C29: 28 | D29: 173 | E29: 0 | F29: 24 | G29: 116 | H29: 11 | K29: 静岡市 | L29: 12 | M29: 58 | N29: 0 | O29: 0 | P29: 33 | Q29: 1 | T29: 香川県計 | U29: =SUM(U30:U31) -> 20 | V29: =SUM(V30:V31) -> 0 | W29: =SUM(W30:W31) -> 0 | X29: =SUM(X30:X31) -> 0 | Y29: =SUM(Y30:Y31) -> 26 | Z29: =SUM(Z30:Z31) -> 1
B30: 福島県計 | C30: =SUM(C31:C34) -> 67 | D30: =SUM(D31:D34) -> 151 | E30: =SUM(E31:E34) -> 17 | F30: =SUM(F31:F34) -> 116 | G30: =SUM(G31:G34) -> 417 | H30: =SUM(H31:H34) -> 0 | K30: 浜松市 | L30: 39 | M30: 75 | N30: 0 | O30: 1 | P30: 55 | Q30: 5 | T30: 高松市 | U30: 0 | V30: 0 | W30: 0 | X30: 0 | Y30: 4 | Z30: 1
B31: 福島市 | C31: 0 | D31: 0 | E31: 0 | F31: 0 | G31: 0 | H31: 0 | K31: その他・静岡県 | L31: 11 | M31: 34 | N31: 0 | O31: 3 | P31: 67 | Q31: 0 | T31: その他・香川県 | U31: 20 | V31: 0 | W31: 0 | X31: 0 | Y31: 22 | Z31: 0
B32: 郡山市 | C32: 2 | D32: 0 | E32: 0 | F32: 0 | G32: 5 | H32: 0 | K32: 愛知県計 | L32: =SUM(L33:L38) -> 236 | M32: =SUM(M33:M38) -> 352 | N32: =SUM(N33:N38) -> 1 | O32: =SUM(O33:O38) -> 33 | P32: =SUM(P33:P38) -> 914 | Q32: =SUM(Q33:Q38) -> 37 | T32: 愛媛県計 | U32: =SUM(U33:U34) -> 46 | V32: =SUM(V33:V34) -> 12 | W32: =SUM(W33:W34) -> 0 | X32: =SUM(X33:X34) -> 4 | Y32: =SUM(Y33:Y34) -> 31 | Z32: =SUM(Z33:Z34) -> 3
B33: いわき市 | C33: 0 | D33: 0 | E33: 0 | F33: 0 | G33: 0 | H33: 0 | K33: 名古屋市 | L33: 188 | M33: 230 | N33: 1 | O33: 24 | P33: 736 | Q33: 37 | T33: 松山市 | U33: 7 | V33: 1 | W33: 0 | X33: 3 | Y33: 12 | Z33: 3
B34: その他・福島県 | C34: 65 | D34: 151 | E34: 17 | F34: 116 | G34: 412 | H34: 0 | K34: 豊橋市 | L34: 7 | M34: 4 | N34: 0 | O34: 7 | P34: 0 | Q34: 0 | T34: その他・愛媛県 | U34: 39 | V34: 11 | W34: 0 | X34: 1 | Y34: 19 | Z34: 0
B35: 茨城県計 | C35: =SUM(C36:C37) -> 29 | D35: =SUM(D36:D37) -> 86 | E35: =SUM(E36:E37) -> 0 | F35: =SUM(F36:F37) -> 0 | G35: =SUM(G36:G37) -> 138 | H35: =SUM(H36:H37) -> 9 | K35: 岡崎市 | L35: 30 | M35: 45 | N35: 0 | O35: 0 | P35: 44 | Q35: 0 | T35: 高知県計 | U35: =SUM(U36:U37) -> 1 | V35: =SUM(V36:V37) -> 1 | W35: =SUM(W36:W37) -> 1 | X35: =SUM(X36:X37) -> 0 | Y35: =SUM(Y36:Y37) -> 8 | Z35: =SUM(Z36:Z37) -> 10
B36: 水戸市 | C36: 0 | D36: 0 | E36: 0 | F36: 0 | G36: 0 | H36: 0 | K36: 一宮市 | L36: 2 | M36: 1 | N36: 0 | O36: 0 | P36: 39 | Q36: 0 | T36: 高知市 | U36: 0 | V36: 1 | W36: 0 | X36: 0 | Y36: 2 | Z36: 6
B37: その他・茨城県 | C37: 29 | D37: 86 | E37: 0 | F37: 0 | G37: 138 | H37: 9 | K37: 豊田市 | L37: 0 | M37: 51 | N37: 0 | O37: 0 | P37: 17 | Q37: 0 | T37: その他・高知県 | U37: 1 | V37: 0 | W37: 1 | X37: 0 | Y37: 6 | Z37: 4
B38: 栃木県計 | C38: =SUM(C39:C40) -> 29 | D38: =SUM(D39:D40) -> 1 | E38: =SUM(E39:E40) -> 0 | F38: =SUM(F39:F40) -> 2 | G38: =SUM(G39:G40) -> 24 | H38: =SUM(H39:H40) -> 1 | K38: その他・愛知県 | L38: 9 | M38: 21 | N38: 0 | O38: 2 | P38: 78 | Q38: 0 | T38: 福岡県計 | U38: =SUM(U39:U43) -> 619 | V38: =SUM(V39:V43) -> 71 | W38: =SUM(W39:W43) -> 1 | X38: =SUM(X39:X43) -> 4 | Y38: =SUM(Y39:Y43) -> 230 | Z38: =SUM(Z39:Z43) -> 3
B39: 宇都宮市 | C39: 0 | D39: 0 | E39: 0 | F39: 0 | G39: 0 | H39: 0 | K39: 三重県計 | L39: =SUM(L40:L41) -> 12 | M39: =SUM(M40:M41) -> 17 | N39: =SUM(N40:N41) -> 1 | O39: =SUM(O40:O41) -> 2 | P39: =SUM(P40:P41) -> 31 | Q39: =SUM(Q40:Q41) -> 1 | T39: 北九州市 | U39: 1 | V39: 59 | W39: 0 | X39: 4 | Y39: 30 | Z39: 2
B40: その他・栃木県 | C40: 29 | D40: 1 | E40: 0 | F40: 2 | G40: 24 | H40: 1 | K40: 四日市市 | L40: 2 | M40: 0 | N40: 0 | O40: 0 | P40: 11 | Q40: 0 | T40: 福岡市 | U40: 596 | V40: 6 | W40: 1 | X40: 0 | Y40: 144 | Z40: 1
B41: 群馬県計 | C41: =SUM(C42:C44) -> 85 | D41: =SUM(D42:D44) -> 89 | E41: =SUM(E42:E44) -> 0 | F41: =SUM(F42:F44) -> 1 | G41: =SUM(G42:G44) -> 385 | H41: =SUM(H42:H44) -> 3 | K41: その他・三重県 | L41: 10 | M41: 17 | N41: 1 | O41: 2 | P41: 20 | Q41: 1 | T41: 大牟田市 | U41: 6 | V41: 0 | W41: 0 | X41: 0 | Y41: 9 | Z41: 0
B42: 前橋市 | C42: 40 | D42: 68 | E42: 0 | F42: 1 | G42: 71 | H42: 2 | K42: 滋賀県計 | L42: =SUM(L43:L44) -> 18 | M42: =SUM(M43:M44) -> 20 | N42: =SUM(N43:N44) -> 2 | O42: =SUM(O43:O44) -> 3 | P42: =SUM(P43:P44) -> 93 | Q42: =SUM(Q43:Q44) -> 5 | T42: 久留米市 | U42: 6 | V42: 0 | W42: 0 | X42: 0 | Y42: 13 | Z42: 0
B43: 高崎市 | C43: 45 | D43: 20 | E43: 0 | F43: 0 | G43: 45 | H43: 0 | K43: 大津市 | L43: 0 | M43: 1 | N43: 0 | O43: 0 | P43: 6 | Q43: 2 | T43: その他・福岡県 | U43: 10 | V43: 6 | W43: 0 | X43: 0 | Y43: 34 | Z43: 0
B44: その他・群馬県 | C44: 0 | D44: 1 | E44: 0 | F44: 0 | G44: 269 | H44: 1 | K44: その他・滋賀県 | L44: 18 | M44: 19 | N44: 2 | O44: 3 | P44: 87 | Q44: 3 | T44: 佐賀県計 | U44: =SUM(U45:U45) -> 8 | V44: =SUM(V45:V45) -> 15 | W44: =SUM(W45:W45) -> 0 | X44: =SUM(X45:X45) -> 0 | Y44: =SUM(Y45:Y45) -> 148 | Z44: =SUM(Z45:Z45) -> 2
B45: 埼玉県計 | C45: =SUM(C46:C51) -> 96 | D45: =SUM(D46:D51) -> 133 | E45: =SUM(E46:E51) -> 1 | F45: =SUM(F46:F51) -> 2 | G45: =SUM(G46:G51) -> 193 | H45: =SUM(H46:H51) -> 11 | K45: 京都府計 | L45: =SUM(L46:L47) -> 24 | M45: =SUM(M46:M47) -> 79 | N45: =SUM(N46:N47) -> 4 | O45: =SUM(O46:O47) -> 4 | P45: =SUM(P46:P47) -> 222 | Q45: =SUM(Q46:Q47) -> 0 | T45: 佐賀県 | U45: 8 | V45: 15 | W45: 0 | X45: 0 | Y45: 148 | Z45: 2
B46: さいたま市 | C46: 1 | D46: 116 | E46: 0 | F46: 0 | G46: 106 | H46: 3 | K46: 京都市 | L46: 15 | M46: 76 | N46: 0 | O46: 4 | P46: 169 | Q46: 0 | T46: 長崎県計 | U46: =SUM(U47:U49) -> 104 | V46: =SUM(V47:V49) -> 0 | W46: =SUM(W47:W49) -> 0 | X46: =SUM(X47:X49) -> 1 | Y46: =SUM(Y47:Y49) -> 14 | Z46: =SUM(Z47:Z49) -> 0
B47: 川越市 | C47: 0 | D47: 0 | E47: 0 | F47: 1 | G47: 14 | H47: 3 | K47: その他・京都府 | L47: 9 | M47: 3 | N47: 4 | O47: 0 | P47: 53 | Q47: 0 | T47: 長崎市 | U47: 0 | V47: 0 | W47: 0 | X47: 0 | Y47: 3 | Z47: 0
B48: 川口市 | C48: 7 | D48: 1 | E48: 0 | F48: 0 | G48: 44 | H48: 2 | K48: 大阪府計 | L48: =SUM(L49:L58) -> 239 | M48: =SUM(M49:M58) -> 765 | N48: =SUM(N49:N58) -> 3 | O48: =SUM(O49:O58) -> 103 | P48: =SUM(P49:P58) -> 703 | Q48: =SUM(Q49:Q58) -> 24 | T48: 佐世保市 | U48: 104 | V48: 0 | W48: 0 | X48: 1 | Y48: 11 | Z48: 0
B49: 所沢市 | C49: 0 | D49: 0 | E49: 0 | F49: 0 | G49: 4 | H49: 0 | K49: 大阪市 | L49: 30 | M49: 103 | N49: 1 | O49: 3 | P49: 113 | Q49: 19 | T49: その他・長崎県 | U49: 0 | V49: 0 | W49: 0 | X49: 0 | Y49: 0 | Z49: 0
B50: 越谷市 | C50: 0 | D50: 0 | E50: 0 | F50: 0 | G50: 3 | H50: 0 | K50: 堺市 | L50: 0 | M50: 215 | N50: 1 | O50: 0 | P50: 152 | Q50: 1 | T50: 熊本県計 | U50: =SUM(U51:U52) -> 98 | V50: =SUM(V51:V52) -> 112 | W50: =SUM(W51:W52) -> 2 | X50: =SUM(X51:X52) -> 3 | Y50: =SUM(Y51:Y52) -> 64 | Z50: =SUM(Z51:Z52) -> 7
B51: その他・埼玉県 | C51: 88 | D51: 16 | E51: 1 | F51: 1 | G51: 22 | H51: 3 | K51: 豊中市 | L51: 41 | M51: 2 | N51: 1 | O51: 0 | P51: 65 | Q51: 2 | T51: 熊本市 | U51: 79 | V51: 92 | W51: 0 | X51: 1 | Y51: 36 | Z51: 0
B52: 千葉県計 | C52: =SUM(C53:C59) -> 71 | D52: =SUM(D53:D59) -> 61 | E52: =SUM(E53:E59) -> 0 | F52: =SUM(F53:F59) -> 9 | G52: =SUM(G53:G59) -> 260 | H52: =SUM(H53:H59) -> 7 | K52: 吹田市 | L52: 91 | M52: 63 | N52: 0 | O52: 0 | P52: 36 | Q52: 0 | T52: その他・熊本県 | U52: 19 | V52: 20 | W52: 2 | X52: 2 | Y52: 28 | Z52: 7
B53: 千葉市 | C53: 8 | D53: 1 | E53: 0 | F53: 0 | G53: 11 | H53: 0 | K53: 高槻市 | L53: 14 | M53: 2 | N53: 0 | O53: 0 | P53: 53 | Q53: 0 | T53: 大分県計 | U53: =SUM(U54:U55) -> 27 | V53: =SUM(V54:V55) -> 10 | W53: =SUM(W54:W55) -> 0 | X53: =SUM(X54:X55) -> 1 | Y53: =SUM(Y54:Y55) -> 76 | Z53: =SUM(Z54:Z55) -> 20
B54: 市川市 | C54: 32 | D54: 7 | E54: 0 | F54: 0 | G54: 146 | H54: 0 | K54: 枚方市 | L54: 0 | M54: 0 | N54: 0 | O54: 0 | P54: 60 | Q54: 0 | T54: 大分市 | U54: 9 | V54: 5 | W54: 0 | X54: 0 | Y54: 32 | Z54: 20
B55: 船橋市 | C55: 3 | D55: 0 | E55: 0 | F55: 0 | G55: 46 | H55: 3 | K55: 八尾市 | L55: 7 | M55: 0 | N55: 0 | O55: 0 | P55: 11 | Q55: 0 | T55: その他・大分県 | U55: 18 | V55: 5 | W55: 0 | X55: 1 | Y55: 44 | Z55: 0
B56: 松戸市 | C56: 0 | D56: 0 | E56: 0 | F56: 0 | G56: 1 | H56: 0 | K56: 寝屋川市 | L56: 3 | M56: 0 | N56: 0 | O56: 0 | P56: 4 | Q56: 0 | T56: 宮崎県計 | U56: =SUM(U57:U58) -> 0 | V56: =SUM(V57:V58) -> 0 | W56: =SUM(W57:W58) -> 0 | X56: =SUM(X57:X58) -> 0 | Y56: =SUM(Y57:Y58) -> 4 | Z56: =SUM(Z57:Z58) -> 0
B57: 柏市 | C57: 5 | D57: 0 | E57: 0 | F57: 0 | G57: 9 | H57: 0 | K57: 東大阪市 | L57: 3 | M57: 0 | N57: 0 | O57: 2 | P57: 6 | Q57: 0 | T57: 宮崎市 | U57: 0 | V57: 0 | W57: 0 | X57: 0 | Y57: 3 | Z57: 0
B58: 市原市 | C58: 7 | D58: 22 | E58: 0 | F58: 7 | G58: 21 | H58: 1 | K58: その他・大阪府 | L58: 50 | M58: 380 | N58: 0 | O58: 98 | P58: 203 | Q58: 2 | T58: その他・宮崎県 | U58: 0 | V58: 0 | W58: 0 | X58: 0 | Y58: 1 | Z58: 0
B59: その他・千葉県 | C59: 16 | D59: 31 | E59: 0 | F59: 2 | G59: 26 | H59: 3 | K59: 兵庫県計 | L59: =SUM(L60:L66) -> 362 | M59: =SUM(M60:M66) -> 291 | N59: =SUM(N60:N66) -> 1 | O59: =SUM(O60:O66) -> 8 | P59: =SUM(P60:P66) -> 1000 | Q59: =SUM(Q60:Q66) -> 28 | T59: 鹿児島県計 | U59: =SUM(U60:U61) -> 5 | V59: =SUM(V60:V61) -> 49 | W59: =SUM(W60:W61) -> 0 | X59: =SUM(X60:X61) -> 1 | Y59: =SUM(Y60:Y61) -> 127 | Z59: =SUM(Z60:Z61) -> 2
B60: 東京都計 | C60: =SUM(C61:C62) -> 1232 | D60: =SUM(D61:D62) -> 1488 | E60: =SUM(E61:E62) -> 15 | F60: =SUM(F61:F62) -> 80 | G60: =SUM(G61:G62) -> 4092 | H60: =SUM(H61:H62) -> 160 | K60: 神戸市 | L60: 356 | M60: 23 | N60: 0 | O60: 1 | P60: 50 | Q60: 3 | T60: 鹿児島市 | U60: 4 | V60: 48 | W60: 0 | X60: 1 | Y60: 126 | Z60: 2
B61: 八王子市 | C61: 12 | D61: 9 | E61: 0 | F61: 0 | G61: 41 | H61: 0 | K61: 姫路市 | L61: 2 | M61: 1 | N61: 0 | O61: 1 | P61: 17 | Q61: 2 | T61: その他・鹿児島県 | U61: 1 | V61: 1 | W61: 0 | X61: 0 | Y61: 1 | Z61: 0
B62: その他・東京都 | C62: 1220 | D62: 1479 | E62: 15 | F62: 80 | G62: 4051 | H62: 160 | K62: 尼崎市 | L62: 2 | M62: 92 | N62: 0 | O62: 0 | P62: 509 | Q62: 13 | T62: 沖縄県計 | U62: =SUM(U63:U64) -> 30 | V62: =SUM(V63:V64) -> 52 | W62: =SUM(W63:W64) -> 0 | X62: =SUM(X63:X64) -> 6 | Y62: =SUM(Y63:Y64) -> 101 | Z62: =SUM(Z63:Z64) -> 9
B63: 神奈川県計 | C63: =SUM(C64:C70) -> 131 | D63: =SUM(D64:D70) -> 500 | E63: =SUM(E64:E70) -> 2 | F63: =SUM(F64:F70) -> 0 | G63: =SUM(G64:G70) -> 382 | H63: =SUM(H64:H70) -> 9 | K63: 明石市 | L63: 0 | M63: 0 | N63: 0 | O63: 0 | P63: 0 | Q63: 0 | T63: 那覇市 | U63: 0 | V63: 0 | W63: 0 | X63: 0 | Y63: 0 | Z63: 0
B64: 横浜市 | C64: 0 | D64: 61 | E64: 0 | F64: 0 | G64: 61 | H64: 0 | K64: 西宮市 | L64: 0 | M64: 172 | N64: 0 | O64: 0 | P64: 305 | Q64: 2 | T64: その他・沖縄県 | U64: 30 | V64: 52 | W64: 0 | X64: 6 | Y64: 101 | Z64: 9
B65: 川崎市 | C65: 91 | D65: 417 | E65: 1 | F65: 0 | G65: 193 | H65: 1 | K65: 加古川市 | L65: 2 | M65: 3 | N65: 0 | O65: 3 | P65: 6 | Q65: 1 | T65: 合計 | U65: =SUM(C6:C70,L6:L69,U6:U64)/2 -> 5207 | V65: =SUM(D6:D70,M6:M69,V6:V64)/2 -> 6905 | W65: =SUM(E6:E70,N6:N69,W6:W64)/2 -> 191 | X65: =SUM(F6:F70,O6:O69,X6:X64)/2 -> 440 | Y65: =SUM(G6:G70,P6:P69,Y6:Y64)/2 -> 11297 | Z65: =SUM(H6:H70,Q6:Q69,Z6:Z64)/2 -> 570
B66: 相模原市 | C66: 8 | D66: 0 | E66: 0 | F66: 0 | G66: 14 | H66: 1 | K66: その他・兵庫県 | L66: 0 | M66: 0 | N66: 1 | O66: 3 | P66: 113 | Q66: 7
B67: 横須賀市 | C67: 0 | D67: 11 | E67: 0 | F67: 0 | G67: 20 | H67: 0 | K67: 奈良県計 | L67: =SUM(L68:L69) -> 2 | M67: =SUM(M68:M69) -> 0 | N67: =SUM(N68:N69) -> 0 | O67: =SUM(O68:O69) -> 3 | P67: =SUM(P68:P69) -> 20 | Q67: =SUM(Q68:Q69) -> 3 | T67: ①事前調査結果報告書の未報告による行政指導作業場数
B68: 平塚市 | C68: 0 | D68: 0 | E68: 0 | F68: 0 | G68: 22 | H68: 5 | K68: 奈良市 | L68: 0 | M68: 0 | N68: 0 | O68: 0 | P68: 5 | Q68: 0 | T68: ②事前調査に関する行政指導作業場数
B69: 藤沢市 | C69: 14 | D69: 7 | E69: 1 | F69: 0 | G69: 39 | H69: 1 | K69: その他・奈良県 | L69: 2 | M69: 0 | N69: 0 | O69: 3 | P69: 15 | Q69: 3 | T69: ③実施届出書の未届出による行政指導作業場数
B70: その他・神奈川県 | C70: 18 | D70: 4 | E70: 0 | F70: 0 | G70: 33 | H70: 1 | T70: ④実施届出書の届出内容の不備（作業計画の不備）による行政指導作業場数
K71: ①事前調査結果報告書の未報告による行政指導作業場数 | T71: ⑤事前調査結果及び作業内容等の掲示に関する行政指導作業場数
B72: ①事前調査結果報告書の未報告による行政指導作業場数 | K72: ②事前調査に関する行政指導作業場数 | T72: ⑥負圧隔離養生の措置が必要な作業に関する行政指導作業場数
B73: ②事前調査に関する行政指導作業場数 | K73: ③実施届出書の未届出による行政指導作業場数
B74: ③実施届出書の未届出による行政指導作業場数 | K74: ④実施届出書の届出内容の不備（作業計画の不備）による行政指導作業場数
B75: ④実施届出書の届出内容の不備（作業計画の不備）による行政指導作業場数 | K75: ⑤事前調査結果及び作業内容等の掲示に関する行政指導作業場数
B76: ⑤事前調査結果及び作業内容等の掲示に関する行政指導作業場数 | K76: ⑥負圧隔離養生の措置が必要な作業に関する行政指導作業場数
B77: ⑥負圧隔離養生の措置が必要な作業に関する行政指導作業場数
B80: 表9.4(4) 行政指導作業場数 都道府県市別（特定粉じん排出等作業） | K80: 表9.4(5) 行政指導作業場数 都道府県市別（特定粉じん排出等作業） | T80: 表9.4(6) 行政指導作業場数 都道府県市別（特定粉じん排出等作業）
B82: 自治体名 | C82: ⑦ | D82: ⑧ | E82: ⑨ | F82: ⑩ | G82: ⑪ | H82: 作業場数合計 | K82: 自治体名 | L82: ⑦ | M82: ⑧ | N82: ⑨ | O82: ⑩ | P82: ⑪ | Q82: 作業場数合計 | T82: 自治体名 | U82: ⑦ | V82: ⑧ | W82: ⑨ | X82: ⑩ | Y82: ⑪ | Z82: 作業場数合計
C83: 作業場数 | D83: 作業場数 | E83: 作業場数 | F83: 作業場数 | G83: 作業場数 | L83: 作業場数 | M83: 作業場数 | N83: 作業場数 | O83: 作業場数 | P83: 作業場数 | U83: 作業場数 | V83: 作業場数 | W83: 作業場数 | X83: 作業場数 | Y83: 作業場数
B84: 北海道計 | C84: =SUM(C85:C91) -> 1 | D84: =SUM(D85:D91) -> 0 | E84: =SUM(E85:E91) -> 8 | F84: =SUM(F85:F91) -> 0 | G84: =SUM(G85:G91) -> 27 | H84: =SUM(H85:H91) -> 468 | K84: 新潟県計 | L84: =SUM(L85:L86) -> 2 | M84: =SUM(M85:M86) -> 2 | N84: =SUM(N85:N86) -> 0 | O84: =SUM(O85:O86) -> 0 | P84: =SUM(P85:P86) -> 12 | Q84: =SUM(Q85:Q86) -> 195 | T84: 和歌山県計 | U84: =SUM(U85:U86) -> 0 | V84: =SUM(V85:V86) -> 0 | W84: =SUM(W85:W86) -> 0 | X84: =SUM(X85:X86) -> 0 | Y84: =SUM(Y85:Y86) -> 0 | Z84: =SUM(Z85:Z86) -> 57
B85: 札幌市 | C85: 1 | D85: 0 | E85: 0 | F85: 0 | G85: 22 | H85: =SUM(C7:H7,C85:G85) -> 406 | K85: 新潟市 | L85: 0 | M85: 1 | N85: 0 | O85: 0 | P85: 10 | Q85: =SUM(L7:Q7,L85:P85) -> 91 | T85: 和歌山市 | U85: 0 | V85: 0 | W85: 0 | X85: 0 | Y85: 0 | Z85: =SUM(U7:Z7,U85:Y85) -> 22
B86: 函館市 | C86: 0 | D86: 0 | E86: 0 | F86: 0 | G86: 0 | H86: =SUM(C8:H8,C86:G86) -> 19 | K86: その他・新潟県 | L86: 2 | M86: 1 | N86: 0 | O86: 0 | P86: 2 | Q86: =SUM(L8:Q8,L86:P86) -> 104 | T86: その他・和歌山県 | U86: 0 | V86: 0 | W86: 0 | X86: 0 | Y86: 0 | Z86: =SUM(U8:Z8,U86:Y86) -> 35
B87: 小樽市 | C87: 0 | D87: 0 | E87: 0 | F87: 0 | G87: 0 | H87: =SUM(C9:H9,C87:G87) -> 5 | K87: 富山県計 | L87: =SUM(L88:L89) -> 0 | M87: =SUM(M88:M89) -> 0 | N87: =SUM(N88:N89) -> 0 | O87: =SUM(O88:O89) -> 0 | P87: =SUM(P88:P89) -> 0 | Q87: =SUM(Q88:Q89) -> 1 | T87: 鳥取県計 | U87: =SUM(U88:U89) -> 0 | V87: =SUM(V88:V89) -> 2 | W87: =SUM(W88:W89) -> 0 | X87: =SUM(X88:X89) -> 0 | Y87: =SUM(Y88:Y89) -> 2 | Z87: =SUM(Z88:Z89) -> 53
B88: 旭川市 | C88: 0 | D88: 0 | E88: 8 | F88: 0 | G88: 0 | H88: =SUM(C10:H10,C88:G88) -> 13 | K88: 富山市 | L88: 0 | M88: 0 | N88: 0 | O88: 0 | P88: 0 | Q88: =SUM(L10:Q10,L88:P88) -> 1 | T88: 鳥取市 | U88: 0 | V88: 0 | W88: 0 | X88: 0 | Y88: 0 | Z88: =SUM(U10:Z10,U88:Y88) -> 0
B89: 室蘭市 | C89: 0 | D89: 0 | E89: 0 | F89: 0 | G89: 0 | H89: =SUM(C11:H11,C89:G89) -> 0 | K89: その他・富山県 | L89: 0 | M89: 0 | N89: 0 | O89: 0 | P89: 0 | Q89: =SUM(L11:Q11,L89:P89) -> 0 | T89: その他・鳥取県 | U89: 0 | V89: 2 | W89: 0 | X89: 0 | Y89: 2 | Z89: =SUM(U11:Z11,U89:Y89) -> 53
B90: 苫小牧市 | C90: 0 | D90: 0 | E90: 0 | F90: 0 | G90: 0 | H90: =SUM(C12:H12,C90:G90) -> 0 | K90: 石川県計 | L90: =SUM(L91:L92) -> 1 | M90: =SUM(M91:M92) -> 2 | N90: =SUM(N91:N92) -> 2 | O90: =SUM(O91:O92) -> 1 | P90: =SUM(P91:P92) -> 1 | Q90: =SUM(Q91:Q92) -> 78 | T90: 島根県計 | U90: =SUM(U91:U92) -> 0 | V90: =SUM(V91:V92) -> 0 | W90: =SUM(W91:W92) -> 0 | X90: =SUM(X91:X92) -> 0 | Y90: =SUM(Y91:Y92) -> 0 | Z90: =SUM(Z91:Z92) -> 7
B91: その他・北海道 | C91: 0 | D91: 0 | E91: 0 | F91: 0 | G91: 5 | H91: =SUM(C13:H13,C91:G91) -> 25 | K91: 金沢市 | L91: 0 | M91: 1 | N91: 1 | O91: 1 | P91: 1 | Q91: =SUM(L13:Q13,L91:P91) -> 62 | T91: 松江市 | U91: 0 | V91: 0 | W91: 0 | X91: 0 | Y91: 0 | Z91: =SUM(U13:Z13,U91:Y91) -> 0
B92: 青森県計 | C92: =SUM(C93:C95) -> 0 | D92: =SUM(D93:D95) -> 6 | E92: =SUM(E93:E95) -> 0 | F92: =SUM(F93:F95) -> 1 | G92: =SUM(G93:G95) -> 0 | H92: =SUM(H93:H95) -> 56 | K92: その他・石川県 | L92: 1 | M92: 1 | N92: 1 | O92: 0 | P92: 0 | Q92: =SUM(L14:Q14,L92:P92) -> 16 | T92: その他・島根県 | U92: 0 | V92: 0 | W92: 0 | X92: 0 | Y92: 0 | Z92: =SUM(U14:Z14,U92:Y92) -> 7
B93: 青森市 | C93: 0 | D93: 1 | E93: 0 | F93: 1 | G93: 0 | H93: =SUM(C15:H15,C93:G93) -> 31 | K93: 福井県計 | L93: =SUM(L94:L95) -> 0 | M93: =SUM(M94:M95) -> 1 | N93: =SUM(N94:N95) -> 0 | O93: =SUM(O94:O95) -> 0 | P93: =SUM(P94:P95) -> 0 | Q93: =SUM(Q94:Q95) -> 19 | T93: 岡山県計 | U93: =SUM(U94:U96) -> 1 | V93: =SUM(V94:V96) -> 15 | W93: =SUM(W94:W96) -> 3 | X93: =SUM(X94:X96) -> 4 | Y93: =SUM(Y94:Y96) -> 8 | Z93: =SUM(Z94:Z96) -> 401
B94: 八戸市 | C94: 0 | D94: 1 | E94: 0 | F94: 0 | G94: 0 | H94: =SUM(C16:H16,C94:G94) -> 6 | K94: 福井市 | L94: 0 | M94: 1 | N94: 0 | O94: 0 | P94: 0 | Q94: =SUM(L16:Q16,L94:P94) -> 14 | T94: 岡山市 | U94: 0 | V94: 0 | W94: 0 | X94: 0 | Y94: 2 | Z94: =SUM(U16:Z16,U94:Y94) -> 44
B95: その他・青森県 | C95: 0 | D95: 4 | E95: 0 | F95: 0 | G95: 0 | H95: =SUM(C17:H17,C95:G95) -> 19 | K95: その他・福井県 | L95: 0 | M95: 0 | N95: 0 | O95: 0 | P95: 0 | Q95: =SUM(L17:Q17,L95:P95) -> 5 | T95: 倉敷市 | U95: 0 | V95: 0 | W95: 0 | X95: 0 | Y95: 0 | Z95: =SUM(U17:Z17,U95:Y95) -> 0
B96: 岩手県計 | C96: =SUM(C97:C98) -> 0 | D96: =SUM(D97:D98) -> 0 | E96: =SUM(E97:E98) -> 0 | F96: =SUM(F97:F98) -> 0 | G96: =SUM(G97:G98) -> 0 | H96: =SUM(H97:H98) -> 14 | K96: 山梨県計 | L96: =SUM(L97:L98) -> 2 | M96: =SUM(M97:M98) -> 3 | N96: =SUM(N97:N98) -> 0 | O96: =SUM(O97:O98) -> 1 | P96: =SUM(P97:P98) -> 65 | Q96: =SUM(Q97:Q98) -> 234 | T96: その他・岡山県 | U96: 1 | V96: 15 | W96: 3 | X96: 4 | Y96: 6 | Z96: =SUM(U18:Z18,U96:Y96) -> 357
B97: 盛岡市 | C97: 0 | D97: 0 | E97: 0 | F97: 0 | G97: 0 | H97: =SUM(C19:H19,C97:G97) -> 4 | K97: 甲府市 | L97: 1 | M97: 0 | N97: 0 | O97: 0 | P97: 48 | Q97: =SUM(L19:Q19,L97:P97) -> 138 | T97: 広島県計 | U97: =SUM(U98:U101) -> 1 | V97: =SUM(V98:V101) -> 1 | W97: =SUM(W98:W101) -> 0 | X97: =SUM(X98:X101) -> 1 | Y97: =SUM(Y98:Y101) -> 14 | Z97: =SUM(Z98:Z101) -> 488
B98: その他・岩手県 | C98: 0 | D98: 0 | E98: 0 | F98: 0 | G98: 0 | H98: =SUM(C20:H20,C98:G98) -> 10 | K98: その他・山梨県 | L98: 1 | M98: 3 | N98: 0 | O98: 1 | P98: 17 | Q98: =SUM(L20:Q20,L98:P98) -> 96 | T98: 広島市 | U98: 0 | V98: 0 | W98: 0 | X98: 0 | Y98: 0 | Z98: =SUM(U20:Z20,U98:Y98) -> 150
B99: 宮城県計 | C99: =SUM(C100:C101) -> 0 | D99: =SUM(D100:D101) -> 0 | E99: =SUM(E100:E101) -> 0 | F99: =SUM(F100:F101) -> 0 | G99: =SUM(G100:G101) -> 2 | H99: =SUM(H100:H101) -> 3068 | K99: 長野県計 | L99: =SUM(L100:L102) -> 2 | M99: =SUM(M100:M102) -> 9 | N99: =SUM(N100:N102) -> 3 | O99: =SUM(O100:O102) -> 0 | P99: =SUM(P100:P102) -> 3 | Q99: =SUM(Q100:Q102) -> 94 | T99: 呉市 | U99: 0 | V99: 0 | W99: 0 | X99: 0 | Y99: 0 | Z99: =SUM(U21:Z21,U99:Y99) -> 14
B100: 仙台市 | C100: 0 | D100: 0 | E100: 0 | F100: 0 | G100: 2 | H100: =SUM(C22:H22,C100:G100) -> 2994 | K100: 長野市 | L100: 0 | M100: 6 | N100: 0 | O100: 0 | P100: 1 | Q100: =SUM(L22:Q22,L100:P100) -> 14 | T100: 福山市 | U100: 0 | V100: 1 | W100: 0 | X100: 1 | Y100: 12 | Z100: =SUM(U22:Z22,U100:Y100) -> 45
B101: その他・宮城県 | C101: 0 | D101: 0 | E101: 0 | F101: 0 | G101: 0 | H101: =SUM(C23:H23,C101:G101) -> 74 | K101: 松本市 | L101: 0 | M101: 0 | N101: 2 | O101: 0 | P101: 0 | Q101: =SUM(L23:Q23,L101:P101) -> 10 | T101: その他・広島県 | U101: 1 | V101: 0 | W101: 0 | X101: 0 | Y101: 2 | Z101: =SUM(U23:Z23,U101:Y101) -> 279
B102: 秋田県計 | C102: =SUM(C103:C104) -> 0 | D102: =SUM(D103:D104) -> 5 | E102: =SUM(E103:E104) -> 0 | F102: =SUM(F103:F104) -> 0 | G102: =SUM(G103:G104) -> 0 | H102: =SUM(H103:H104) -> 149 | K102: その他・長野県 | L102: 2 | M102: 3 | N102: 1 | O102: 0 | P102: 2 | Q102: =SUM(L24:Q24,L102:P102) -> 70 | T102: 山口県計 | U102: =SUM(U103:U104) -> 1 | V102: =SUM(V103:V104) -> 0 | W102: =SUM(W103:W104) -> 0 | X102: =SUM(X103:X104) -> 0 | Y102: =SUM(Y103:Y104) -> 1 | Z102: =SUM(Z103:Z104) -> 35
B103: 秋田市 | C103: 0 | D103: 4 | E103: 0 | F103: 0 | G103: 0 | H103: =SUM(C25:H25,C103:G103) -> 133 | K103: 岐阜県計 | L103: =SUM(L104:L105) -> 0 | M103: =SUM(M104:M105) -> 3 | N103: =SUM(N104:N105) -> 1 | O103: =SUM(O104:O105) -> 5 | P103: =SUM(P104:P105) -> 1 | Q103: =SUM(Q104:Q105) -> 130 | T103: 下関市 | U103: 0 | V103: 0 | W103: 0 | X103: 0 | Y103: 0 | Z103: =SUM(U25:Z25,U103:Y103) -> 10
B104: その他・秋田県 | C104: 0 | D104: 1 | E104: 0 | F104: 0 | G104: 0 | H104: =SUM(C26:H26,C104:G104) -> 16 | K104: 岐阜市 | L104: 0 | M104: 3 | N104: 1 | O104: 5 | P104: 0 | Q104: =SUM(L26:Q26,L104:P104) -> 121 | T104: その他・山口県 | U104: 1 | V104: 0 | W104: 0 | X104: 0 | Y104: 1 | Z104: =SUM(U26:Z26,U104:Y104) -> 25
B105: 山形県計 | C105: =SUM(C106:C107) -> 0 | D105: =SUM(D106:D107) -> 20 | E105: =SUM(E106:E107) -> 0 | F105: =SUM(F106:F107) -> 8 | G105: =SUM(G106:G107) -> 9 | H105: =SUM(H106:H107) -> 411 | K105: その他・岐阜県 | L105: 0 | M105: 0 | N105: 0 | O105: 0 | P105: 1 | Q105: =SUM(L27:Q27,L105:P105) -> 9 | T105: 徳島県計 | U105: =SUM(U106:U106) -> 4 | V105: =SUM(V106:V106) -> 2 | W105: =SUM(W106:W106) -> 0 | X105: =SUM(X106:X106) -> 0 | Y105: =SUM(Y106:Y106) -> 0 | Z105: =SUM(Z106:Z106) -> 86
...
