Workbook

Sheet 表10.1
B2: 表10.1 立入検査・勧告その他行政指導件数 年度別－全国（水銀排出施設）
D4: 平成30年度 | G4: 令和元年度 | J4: 令和２年度 | M4: 令和３年度 | P4: 令和４年度
D5: 全施設 （注1） | G5: 全施設 （注1） | J5: 全施設 （注1） | M5: 全施設 （注1） | P5: 全施設 （注1）
E6: 大気 | F6: 電気・ ガス・ 鉱山 | H6: 大気 | I6: 電気・ ガス・ 鉱山 | K6: 大気 | L6: 電気・ ガス・ 鉱山 | N6: 大気 | O6: 電気・ ガス・ 鉱山 | Q6: 大気 | R6: 電気・ ガス・ 鉱山
B7: (A) | C7: 立入検査実施 工場・事業場数 | D7: =SUM(E7:F7) -> 1690 | E7: 1635 | F7: 55 | G7: =SUM(H7:I7) -> 1727 | H7: 1667 | I7: 60 | J7: =SUM(K7:L7) -> 1345 | K7: 1285 | L7: 60 | M7: =SUM(N7:O7) -> 1282 | N7: 1216 | O7: 66 | P7: =SUM(Q7:R7) -> 1179 | Q7: ='表10.3'!W65 -> 1125 | R7: ='表10.5'!U65 -> 54
B8: (A') | C8: 立入検査 実施施設数 | D8: =SUM(E8:F8) -> 2743 | E8: 2658 | F8: 85 | G8: =SUM(H8:I8) -> 2908 | H8: 2814 | I8: 94 | J8: =SUM(K8:L8) -> 2211 | K8: 2107 | L8: 104 | M8: =SUM(N8:O8) -> 2144 | N8: 2026 | O8: 118 | P8: =SUM(Q8:R8) -> 1915 | Q8: ='表10.3'!X65 -> 1828 | R8: ='表10.5'!V65 -> 87
B9: (B) | C9: 計画変更命令等 施設数 | D9: =SUM(E9:F9) -> 0 | E9: 0 | F9: － | G9: =SUM(H9:I9) -> 0 | H9: 0 | I9: － | J9: =SUM(K9:L9) -> 0 | K9: 0 | L9: － | M9: =SUM(N9:O9) -> 0 | N9: 0 | O9: － | P9: =SUM(Q9:R9) -> 0 | Q9: ='表10.3'!Y65 -> 0 | R9: －
B10: (D) | C10: 改善勧告施設数 | D10: =SUM(E10:F10) -> 0 | E10: 0 | F10: 0 | G10: =SUM(H10:I10) -> 0 | H10: 0 | I10: 0 | J10: =SUM(K10:L10) -> 0 | K10: 0 | L10: 0 | M10: =SUM(N10:O10) -> 2 | N10: 2 | O10: 0 | P10: =SUM(Q10:R10) -> 0 | Q10: ='表10.3'!Z65 -> 0 | R10: ='表10.5'!W65 -> 0
B11: (E) | C11: 改善命令・基準適合命令施設数 | D11: =SUM(E11:F11) -> 0 | E11: 0 | F11: 0 | G11: =SUM(H11:I11) -> 0 | H11: 0 | I11: 0 | J11: =SUM(K11:L11) -> 0 | K11: 0 | L11: 0 | M11: =SUM(N11:O11) -> 0 | N11: 0 | O11: 0 | P11: =SUM(Q11:R11) -> 0 | Q11: ='表10.3'!AA65 -> 0 | R11: ='表10.5'!X65 -> 0
B12: (G) | C12: (B)又は(E)の命令 違反告発施設数 | D12: =SUM(E12:F12) -> 0 | E12: 0 | F12: 0 | G12: =SUM(H12:I12) -> 0 | H12: 0 | I12: 0 | J12: =SUM(K12:L12) -> 0 | K12: 0 | L12: 0 | M12: =SUM(N12:O12) -> 0 | N12: 0 | O12: 0 | P12: =SUM(Q12:R12) -> 0 | Q12: ='表10.3'!AB65 -> 0 | R12: ='表10.5'!Y65 -> 0
B13: (H) | C13: 届出違反告発施設数 | D13: =SUM(E13:F13) -> 0 | E13: 0 | F13: － | G13: =SUM(H13:I13) -> 0 | H13: 0 | I13: － | J13: =SUM(K13:L13) -> 0 | K13: 0 | L13: － | M13: =SUM(N13:O13) -> 0 | N13: 0 | O13: － | P13: =SUM(Q13:R13) -> 0 | Q13: ='表10.3'!AC65 -> 0 | R13: －
B14: (I) | C14: 経済産業大臣等への 要請施設数 | D14: =SUM(E14:F14) -> 0 | E14: － | F14: 0 | G14: =SUM(H14:I14) -> 0 | H14: － | I14: 0 | J14: =SUM(K14:L14) -> 0 | K14: － | L14: 0 | M14: =SUM(N14:O14) -> 0 | N14: － | O14: 0 | P14: =SUM(Q14:R14) -> 0 | Q14: － | R14: ='表10.5'!Z65 -> 0
B15: (d) | C15: 行政指導施設数 | D15: =SUM(E15:F15) -> 316 | E15: 299 | F15: 17 | G15: =SUM(H15:I15) -> 235 | H15: 230 | I15: 5 | J15: =SUM(K15:L15) -> 169 | K15: 163 | L15: 6 | M15: =SUM(N15:O15) -> 192 | N15: 182 | O15: 10 | P15: =SUM(Q15:R15) -> 141 | Q15: ='表10.3'!AD65 -> 130 | R15: ='表10.5'!AA65 -> 11
B16: （注1）「大気」：大気汚染防止法届出水銀排出施設、「電気・ガス・鉱山」：電気事業法・ガス事業法・鉱山保安法に係る水銀排出施設を示す。

Sheet 表10.2
B2: 表10.2(1) 行政指導施設数 都道府県市別（水銀排出施設） | J2: 表10.2(2) 行政指導施設数 都道府県市別（水銀排出施設） | R2: 表10.2(3) 行政指導施設数 都道府県市別（水銀排出施設）
B4: 自治体名 | C4: ① | D4: ② | E4: ③ | F4: ④ | G4: ⑤ | J4: 自治体名 | K4: ① | L4: ② | M4: ③ | N4: ④ | O4: ⑤ | R4: 自治体名 | S4: ① | T4: ② | U4: ③ | V4: ④ | W4: ⑤
C5: 排出基準超過に係る行政指導件数 | D5: 設置届出書・変更届出書及び使用届出書の未届出による行政指導施設数 | E5: 氏名の変更等の届出書及び承継届出書の未届出による行政指導施設数 | F5: 設置届出書等の届出内容の不備による行政指導施設数 | G5: その他 | H5: 合計 | K5: 排出基準超過に係る行政指導件数 | L5: 設置届出書・変更届出書及び使用届出書の未届出による行政指導施設数 | M5: 氏名の変更等の届出書及び承継届出書の未届出による行政指導施設数 | N5: 設置届出書等の届出内容の不備による行政指導施設数 | O5: その他 | P5: 合計 | S5: 排出基準超過に係る行政指導件数 | T5: 設置届出書・変更届出書及び使用届出書の未届出による行政指導施設数 | U5: 氏名の変更等の届出書及び承継届出書の未届出による行政指導施設数 | V5: 設置届出書等の届出内容の不備による行政指導施設数 | W5: その他 | X5: 合計
B8: 北海道計 | C8: =SUM(C9:C15) -> 0 | D8: =SUM(D9:D15) -> 0 | E8: =SUM(E9:E15) -> 0 | F8: =SUM(F9:F15) -> 0 | G8: =SUM(G9:G15) -> 0 | H8: =SUM(H9:H15) -> 0 | J8: 新潟県計 | K8: =SUM(K9:K10) -> 0 | L8: =SUM(L9:L10) -> 0 | M8: =SUM(M9:M10) -> 0 | N8: =SUM(N9:N10) -> 0 | O8: =SUM(O9:O10) -> 0 | P8: =SUM(P9:P10) -> 0 | R8: 和歌山県計 | S8: =SUM(S9:S10) -> 0 | T8: =SUM(T9:T10) -> 0 | U8: =SUM(U9:U10) -> 0 | V8: =SUM(V9:V10) -> 0 | W8: =SUM(W9:W10) -> 0 | X8: =SUM(X9:X10) -> 0
B9: 札幌市 | C9: 0 | D9: 0 | E9: 0 | F9: 0 | G9: 0 | H9: =SUM(C9:G9) -> 0 | J9: 新潟市 | K9: 0 | L9: 0 | M9: 0 | N9: 0 | O9: 0 | P9: =SUM(K9:O9) -> 0 | R9: 和歌山市 | S9: 0 | T9: 0 | U9: 0 | V9: 0 | W9: 0 | X9: =SUM(S9:W9) -> 0
B10: 函館市 | C10: 0 | D10: 0 | E10: 0 | F10: 0 | G10: 0 | H10: =SUM(C10:G10) -> 0 | J10: その他・新潟県 | K10: 0 | L10: 0 | M10: 0 | N10: 0 | O10: 0 | P10: =SUM(K10:O10) -> 0 | R10: その他・和歌山県 | S10: 0 | T10: 0 | U10: 0 | V10: 0 | W10: 0 | X10: =SUM(S10:W10) -> 0
B11: 小樽市 | C11: 0 | D11: 0 | E11: 0 | F11: 0 | G11: 0 | H11: =SUM(C11:G11) -> 0 | J11: 富山県計 | K11: =SUM(K12:K13) -> 0 | L11: =SUM(L12:L13) -> 0 | M11: =SUM(M12:M13) -> 0 | N11: =SUM(N12:N13) -> 0 | O11: =SUM(O12:O13) -> 0 | P11: =SUM(P12:P13) -> 0 | R11: 鳥取県計 | S11: =SUM(S12:S13) -> 0 | T11: =SUM(T12:T13) -> 0 | U11: =SUM(U12:U13) -> 0 | V11: =SUM(V12:V13) -> 0 | W11: =SUM(W12:W13) -> 0 | X11: =SUM(X12:X13) -> 0
B12: 旭川市 | C12: 0 | D12: 0 | E12: 0 | F12: 0 | G12: 0 | H12: =SUM(C12:G12) -> 0 | J12: 富山市 | K12: 0 | L12: 0 | M12: 0 | N12: 0 | O12: 0 | P12: =SUM(K12:O12) -> 0 | R12: 鳥取市 | S12: 0 | T12: 0 | U12: 0 | V12: 0 | W12: 0 | X12: =SUM(S12:W12) -> 0
B13: 室蘭市 | C13: 0 | D13: 0 | E13: 0 | F13: 0 | G13: 0 | H13: =SUM(C13:G13) -> 0 | J13: その他・富山県 | L13: 0 | M13: 0 | N13: 0 | O13: 0 | P13: =SUM(K13:O13) -> 0 | R13: その他・鳥取県 | S13: 0 | T13: 0 | U13: 0 | V13: 0 | W13: 0 | X13: =SUM(S13:W13) -> 0
B14: 苫小牧市 | C14: 0 | D14: 0 | E14: 0 | F14: 0 | G14: 0 | H14: =SUM(C14:G14) -> 0 | J14: 石川県計 | K14: =SUM(K15:K16) -> 1 | L14: =SUM(L15:L16) -> 0 | M14: =SUM(M15:M16) -> 0 | N14: =SUM(N15:N16) -> 0 | O14: =SUM(O15:O16) -> 0 | P14: =SUM(P15:P16) -> 1 | R14: 島根県計 | S14: =SUM(S15:S16) -> 0 | T14: =SUM(T15:T16) -> 0 | U14: =SUM(U15:U16) -> 0 | V14: =SUM(V15:V16) -> 0 | W14: =SUM(W15:W16) -> 1 | X14: =SUM(X15:X16) -> 1
B15: その他・北海道 | C15: 0 | D15: 0 | E15: 0 | F15: 0 | G15: 0 | H15: =SUM(C15:G15) -> 0 | J15: 金沢市 | K15: 0 | L15: 0 | M15: 0 | N15: 0 | O15: 0 | P15: =SUM(K15:O15) -> 0 | R15: 松江市 | S15: 0 | T15: 0 | U15: 0 | V15: 0 | W15: 0 | X15: =SUM(S15:W15) -> 0
B16: 青森県計 | C16: =SUM(C17:C19) -> 0 | D16: =SUM(D17:D19) -> 0 | E16: =SUM(E17:E19) -> 0 | F16: =SUM(F17:F19) -> 0 | G16: =SUM(G17:G19) -> 0 | H16: =SUM(H17:H19) -> 0 | J16: その他・石川県 | K16: 1 | L16: 0 | M16: 0 | N16: 0 | O16: 0 | P16: =SUM(K16:O16) -> 1 | R16: その他・島根県 | S16: 0 | T16: 0 | U16: 0 | V16: 0 | W16: 1 | X16: =SUM(S16:W16) -> 1
B17: 青森市 | C17: 0 | D17: 0 | E17: 0 | F17: 0 | G17: 0 | H17: =SUM(C17:G17) -> 0 | J17: 福井県計 | K17: =SUM(K18:K19) -> 0 | L17: =SUM(L18:L19) -> 0 | M17: =SUM(M18:M19) -> 0 | N17: =SUM(N18:N19) -> 0 | O17: =SUM(O18:O19) -> 0 | P17: =SUM(P18:P19) -> 0 | R17: 岡山県計 | S17: =SUM(S18:S20) -> 0 | T17: =SUM(T18:T20) -> 0 | U17: =SUM(U18:U20) -> 0 | V17: =SUM(V18:V20) -> 0 | W17: =SUM(W18:W20) -> 1 | X17: =SUM(X18:X20) -> 1
B18: 八戸市 | C18: 0 | D18: 0 | E18: 0 | F18: 0 | G18: 0 | H18: =SUM(C18:G18) -> 0 | J18: 福井市 | K18: 0 | L18: 0 | M18: 0 | N18: 0 | O18: 0 | P18: =SUM(K18:O18) -> 0 | R18: 岡山市 | S18: 0 | T18: 0 | U18: 0 | V18: 0 | W18: 0 | X18: =SUM(S18:W18) -> 0
B19: その他・青森県 | C19: 0 | D19: 0 | E19: 0 | F19: 0 | G19: 0 | H19: =SUM(C19:G19) -> 0 | J19: その他・福井県 | K19: 0 | L19: 0 | M19: 0 | N19: 0 | O19: 0 | P19: =SUM(K19:O19) -> 0 | R19: 倉敷市 | S19: 0 | T19: 0 | U19: 0 | V19: 0 | W19: 0 | X19: =SUM(S19:W19) -> 0
B20: 岩手県計 | C20: =SUM(C21:C22) -> 0 | D20: =SUM(D21:D22) -> 0 | E20: =SUM(E21:E22) -> 0 | F20: =SUM(F21:F22) -> 0 | G20: =SUM(G21:G22) -> 0 | H20: =SUM(H21:H22) -> 0 | J20: 山梨県計 | K20: =SUM(K21:K22) -> 0 | L20: =SUM(L21:L22) -> 0 | M20: =SUM(M21:M22) -> 0 | N20: =SUM(N21:N22) -> 0 | O20: =SUM(O21:O22) -> 1 | P20: =SUM(P21:P22) -> 1 | R20: その他・岡山県 | S20: 0 | T20: 0 | U20: 0 | V20: 0 | W20: 1 | X20: =SUM(S20:W20) -> 1
B21: 盛岡市 | C21: 0 | D21: 0 | E21: 0 | F21: 0 | G21: 0 | H21: =SUM(C21:G21) -> 0 | J21: 甲府市 | K21: 0 | L21: 0 | M21: 0 | N21: 0 | O21: 0 | P21: =SUM(K21:O21) -> 0 | R21: 広島県計 | S21: =SUM(S22:S25) -> 0 | T21: =SUM(T22:T25) -> 0 | U21: =SUM(U22:U25) -> 0 | V21: =SUM(V22:V25) -> 0 | W21: =SUM(W22:W25) -> 0 | X21: =SUM(X22:X25) -> 0
B22: その他・岩手県 | C22: 0 | D22: 0 | E22: 0 | F22: 0 | G22: 0 | H22: =SUM(C22:G22) -> 0 | J22: その他・山梨県 | K22: 0 | L22: 0 | M22: 0 | N22: 0 | O22: 1 | P22: =SUM(K22:O22) -> 1 | R22: 広島市 | S22: 0 | T22: 0 | U22: 0 | V22: 0 | W22: 0 | X22: =SUM(S22:W22) -> 0
B23: 宮城県計 | C23: =SUM(C24:C25) -> 0 | D23: =SUM(D24:D25) -> 0 | E23: =SUM(E24:E25) -> 0 | F23: =SUM(F24:F25) -> 0 | G23: =SUM(G24:G25) -> 0 | H23: =SUM(H24:H25) -> 0 | J23: 長野県計 | K23: =SUM(K24:K26) -> 0 | L23: =SUM(L24:L26) -> 0 | M23: =SUM(M24:M26) -> 0 | N23: =SUM(N24:N26) -> 0 | O23: =SUM(O24:O26) -> 0 | P23: =SUM(P24:P26) -> 0 | R23: 呉市 | S23: 0 | T23: 0 | U23: 0 | V23: 0 | W23: 0 | X23: =SUM(S23:W23) -> 0
B24: 仙台市 | C24: 0 | D24: 0 | E24: 0 | F24: 0 | G24: 0 | H24: =SUM(C24:G24) -> 0 | J24: 長野市 | K24: 0 | L24: 0 | M24: 0 | N24: 0 | O24: 0 | P24: =SUM(K24:O24) -> 0 | R24: 福山市 | S24: 0 | T24: 0 | U24: 0 | V24: 0 | W24: 0 | X24: =SUM(S24:W24) -> 0
B25: その他・宮城県 | C25: 0 | D25: 0 | E25: 0 | F25: 0 | G25: 0 | H25: =SUM(C25:G25) -> 0 | J25: 松本市 | K25: 0 | L25: 0 | M25: 0 | N25: 0 | O25: 0 | P25: =SUM(K25:O25) -> 0 | R25: その他・広島県 | S25: 0 | T25: 0 | U25: 0 | V25: 0 | W25: 0 | X25: =SUM(S25:W25) -> 0
B26: 秋田県計 | C26: =SUM(C27:C28) -> 2 | D26: =SUM(D27:D28) -> 0 | E26: =SUM(E27:E28) -> 0 | F26: =SUM(F27:F28) -> 0 | G26: =SUM(G27:G28) -> 0 | H26: =SUM(H27:H28) -> 2 | J26: その他・長野県 | K26: 0 | L26: 0 | M26: 0 | N26: 0 | O26: 0 | P26: =SUM(K26:O26) -> 0 | R26: 山口県計 | S26: =SUM(S27:S28) -> 1 | T26: =SUM(T27:T28) -> 0 | U26: =SUM(U27:U28) -> 0 | V26: =SUM(V27:V28) -> 0 | W26: =SUM(W27:W28) -> 0 | X26: =SUM(X27:X28) -> 1
B27: 秋田市 | C27: 0 | D27: 0 | E27: 0 | F27: 0 | G27: 0 | H27: =SUM(C27:G27) -> 0 | J27: 岐阜県計 | K27: =SUM(K28:K29) -> 2 | L27: =SUM(L28:L29) -> 0 | M27: =SUM(M28:M29) -> 0 | N27: =SUM(N28:N29) -> 0 | O27: =SUM(O28:O29) -> 1 | P27: =SUM(P28:P29) -> 3 | R27: 下関市 | S27: 0 | T27: 0 | U27: 0 | V27: 0 | W27: 0 | X27: =SUM(S27:W27) -> 0
B28: その他・秋田県 | C28: 2 | D28: 0 | E28: 0 | F28: 0 | G28: 0 | H28: =SUM(C28:G28) -> 2 | J28: 岐阜市 | K28: 0 | L28: 0 | M28: 0 | N28: 0 | O28: 0 | P28: =SUM(K28:O28) -> 0 | R28: その他・山口県 | S28: 1 | T28: 0 | U28: 0 | V28: 0 | W28: 0 | X28: =SUM(S28:W28) -> 1
B29: 山形県計 | C29: =SUM(C30:C31) -> 0 | D29: =SUM(D30:D31) -> 0 | E29: =SUM(E30:E31) -> 0 | F29: =SUM(F30:F31) -> 0 | G29: =SUM(G30:G31) -> 0 | H29: =SUM(H30:H31) -> 0 | J29: その他・岐阜県 | K29: 2 | L29: 0 | M29: 0 | N29: 0 | O29: 1 | P29: =SUM(K29:O29) -> 3 | R29: 徳島県計 | S29: =SUM(S30:S30) -> 0 | T29: =SUM(T30:T30) -> 0 | U29: =SUM(U30:U30) -> 0 | V29: =SUM(V30:V30) -> 0 | W29: =SUM(W30:W30) -> 0 | X29: =SUM(X30:X30) -> 0
B30: 山形市 | C30: 0 | D30: 0 | E30: 0 | F30: 0 | G30: 0 | H30: =SUM(C30:G30) -> 0 | J30: 静岡県計 | K30: =SUM(K31:K33) -> 0 | L30: =SUM(L31:L33) -> 0 | M30: =SUM(M31:M33) -> 0 | N30: =SUM(N31:N33) -> 0 | O30: =SUM(O31:O33) -> 7 | P30: =SUM(P31:P33) -> 7 | R30: 徳島県 | S30: 0 | T30: 0 | U30: 0 | V30: 0 | W30: 0 | X30: =SUM(S30:W30) -> 0
B31: その他・山形県 | C31: 0 | D31: 0 | E31: 0 | F31: 0 | G31: 0 | H31: =SUM(C31:G31) -> 0 | J31: 静岡市 | K31: 0 | L31: 0 | M31: 0 | N31: 0 | O31: 1 | P31: =SUM(K31:O31) -> 1 | R31: 香川県計 | S31: =SUM(S32:S33) -> 0 | T31: =SUM(T32:T33) -> 0 | U31: =SUM(U32:U33) -> 0 | V31: =SUM(V32:V33) -> 0 | W31: =SUM(W32:W33) -> 0 | X31: =SUM(X32:X33) -> 0
B32: 福島県計 | C32: =SUM(C33:C36) -> 0 | D32: =SUM(D33:D36) -> 1 | E32: =SUM(E33:E36) -> 2 | F32: =SUM(F33:F36) -> 0 | G32: =SUM(G33:G36) -> 5 | H32: =SUM(H33:H36) -> 8 | J32: 浜松市 | K32: 0 | L32: 0 | M32: 0 | N32: 0 | O32: 0 | P32: =SUM(K32:O32) -> 0 | R32: 高松市 | S32: 0 | T32: 0 | U32: 0 | V32: 0 | W32: 0 | X32: =SUM(S32:W32) -> 0
B33: 福島市 | C33: 0 | D33: 0 | E33: 0 | F33: 0 | G33: 0 | H33: =SUM(C33:G33) -> 0 | J33: その他・静岡県 | K33: 0 | L33: 0 | M33: 0 | N33: 0 | O33: 6 | P33: =SUM(K33:O33) -> 6 | R33: その他・香川県 | S33: 0 | T33: 0 | U33: 0 | V33: 0 | W33: 0 | X33: =SUM(S33:W33) -> 0
B34: 郡山市 | C34: 0 | D34: 0 | E34: 0 | F34: 0 | G34: 0 | H34: =SUM(C34:G34) -> 0 | J34: 愛知県計 | K34: =SUM(K35:K40) -> 0 | L34: =SUM(L35:L40) -> 0 | M34: =SUM(M35:M40) -> 0 | N34: =SUM(N35:N40) -> 1 | O34: =SUM(O35:O40) -> 67 | P34: =SUM(P35:P40) -> 68 | R34: 愛媛県計 | S34: =SUM(S35:S36) -> 0 | T34: =SUM(T35:T36) -> 1 | U34: =SUM(U35:U36) -> 0 | V34: =SUM(V35:V36) -> 0 | W34: =SUM(W35:W36) -> 0 | X34: =SUM(X35:X36) -> 1
B35: いわき市 | C35: 0 | D35: 0 | E35: 0 | F35: 0 | G35: 0 | H35: =SUM(C35:G35) -> 0 | J35: 名古屋市 | K35: 0 | L35: 0 | M35: 0 | N35: 0 | O35: 0 | P35: =SUM(K35:O35) -> 0 | R35: 松山市 | S35: 0 | T35: 0 | U35: 0 | V35: 0 | W35: 0 | X35: =SUM(S35:W35) -> 0
B36: その他・福島県 | C36: 0 | D36: 1 | E36: 2 | F36: 0 | G36: 5 | H36: =SUM(C36:G36) -> 8 | J36: 豊橋市 | K36: 0 | L36: 0 | M36: 0 | N36: 0 | O36: 0 | P36: =SUM(K36:O36) -> 0 | R36: その他・愛媛県 | S36: 0 | T36: 1 | U36: 0 | V36: 0 | W36: 0 | X36: =SUM(S36:W36) -> 1
B37: 茨城県計 | C37: =SUM(C38:C39) -> 0 | D37: =SUM(D38:D39) -> 0 | E37: =SUM(E38:E39) -> 1 | F37: =SUM(F38:F39) -> 7 | G37: =SUM(G38:G39) -> 1 | H37: =SUM(H38:H39) -> 9 | J37: 岡崎市 | K37: 0 | L37: 0 | M37: 0 | N37: 0 | O37: 0 | P37: =SUM(K37:O37) -> 0 | R37: 高知県計 | S37: =SUM(S38:S39) -> 0 | T37: =SUM(T38:T39) -> 2 | U37: =SUM(U38:U39) -> 0 | V37: =SUM(V38:V39) -> 0 | W37: =SUM(W38:W39) -> 2 | X37: =SUM(X38:X39) -> 4
B38: 水戸市 | C38: 0 | D38: 0 | E38: 0 | F38: 0 | G38: 0 | H38: =SUM(C38:G38) -> 0 | J38: 一宮市 | K38: 0 | L38: 0 | M38: 0 | N38: 1 | O38: 0 | P38: =SUM(K38:O38) -> 1 | R38: 高知市 | S38: 0 | T38: 0 | U38: 0 | V38: 0 | W38: 2 | X38: =SUM(S38:W38) -> 2
B39: その他・茨城県 | C39: 0 | D39: 0 | E39: 1 | F39: 7 | G39: 1 | H39: =SUM(C39:G39) -> 9 | J39: 豊田市 | K39: 0 | L39: 0 | M39: 0 | N39: 0 | O39: 0 | P39: =SUM(K39:O39) -> 0 | R39: その他・高知県 | S39: 0 | T39: 2 | U39: 0 | V39: 0 | W39: 0 | X39: =SUM(S39:W39) -> 2
B40: 栃木県計 | C40: =SUM(C41:C42) -> 1 | D40: =SUM(D41:D42) -> 0 | E40: =SUM(E41:E42) -> 1 | F40: =SUM(F41:F42) -> 0 | G40: =SUM(G41:G42) -> 0 | H40: =SUM(H41:H42) -> 2 | J40: その他・愛知県 | K40: 0 | L40: 0 | M40: 0 | N40: 0 | O40: 67 | P40: =SUM(K40:O40) -> 67 | R40: 福岡県計 | S40: =SUM(S41:S45) -> 0 | T40: =SUM(T41:T45) -> 0 | U40: =SUM(U41:U45) -> 0 | V40: =SUM(V41:V45) -> 4 | W40: =SUM(W41:W45) -> 0 | X40: =SUM(X41:X45) -> 4
B41: 宇都宮市 | C41: 0 | D41: 0 | E41: 0 | F41: 0 | G41: 0 | H41: =SUM(C41:G41) -> 0 | J41: 三重県計 | K41: =SUM(K42:K43) -> 0 | L41: =SUM(L42:L43) -> 0 | M41: =SUM(M42:M43) -> 0 | N41: =SUM(N42:N43) -> 0 | O41: =SUM(O42:O43) -> 0 | P41: =SUM(P42:P43) -> 0 | R41: 北九州市 | S41: 0 | T41: 0 | U41: 0 | V41: 4 | W41: 0 | X41: =SUM(S41:W41) -> 4
B42: その他・栃木県 | C42: 1 | D42: 0 | E42: 1 | F42: 0 | G42: 0 | H42: =SUM(C42:G42) -> 2 | J42: 四日市市 | K42: 0 | L42: 0 | M42: 0 | N42: 0 | O42: 0 | P42: =SUM(K42:O42) -> 0 | R42: 福岡市 | S42: 0 | T42: 0 | U42: 0 | V42: 0 | W42: 0 | X42: =SUM(S42:W42) -> 0
B43: 群馬県計 | C43: =SUM(C44:C46) -> 0 | D43: =SUM(D44:D46) -> 0 | E43: =SUM(E44:E46) -> 0 | F43: =SUM(F44:F46) -> 0 | G43: =SUM(G44:G46) -> 0 | H43: =SUM(H44:H46) -> 0 | J43: その他・三重県 | K43: 0 | L43: 0 | M43: 0 | N43: 0 | O43: 0 | P43: =SUM(K43:O43) -> 0 | R43: 大牟田市 | S43: 0 | T43: 0 | U43: 0 | V43: 0 | W43: 0 | X43: =SUM(S43:W43) -> 0
B44: 前橋市 | C44: 0 | D44: 0 | E44: 0 | F44: 0 | G44: 0 | H44: =SUM(C44:G44) -> 0 | J44: 滋賀県計 | K44: =SUM(K45:K46) -> 0 | L44: =SUM(L45:L46) -> 0 | M44: =SUM(M45:M46) -> 0 | N44: =SUM(N45:N46) -> 0 | O44: =SUM(O45:O46) -> 0 | P44: =SUM(P45:P46) -> 0 | R44: 久留米市 | S44: 0 | T44: 0 | U44: 0 | V44: 0 | W44: 0 | X44: =SUM(S44:W44) -> 0
...

Sheet 表10.3
B2: 表10.3(1) 立入検査・勧告その他行政指導件数 都道府県市別（大気汚染防止法に係る水銀排出施設） | L2: 表10.3(2) 立入検査・勧告その他行政指導件数 都道府県市別（大気汚染防止法に係る水銀排出施設） | V2: 表10.3(3) 立入検査・勧告その他行政指導件数 都道府県市別（大気汚染防止法に係る水銀排出施設）
B4: 自治体名 | C4: 立入検査 実施工場・ 事業場数 | D4: 立入検査 実施施設数 | E4: 計画変更命令等施設数 | F4: 改善勧告施設数 | G4: 改善命令・基準適合命令施設数 | H4: (B)又は(E)の命令違反 告発施設数 | I4: 届出違反 告発施設数 | J4: 行政指導 施設数 | L4: 自治体名 | M4: 立入検査 実施工場・ 事業場数 | N4: 立入検査 実施施設数 | O4: 計画変更命令等施設数 | P4: 改善勧告施設数 | Q4: 改善命令・基準適合命令施設数 | R4: (B)又は(E)の命令違反 告発施設数 | S4: 届出違反 告発施設数 | T4: 行政指導 施設数 | V4: 自治体名 | W4: 立入検査 実施工場・ 事業場数 | X4: 立入検査 実施施設数 | Y4: 計画変更命令等施設数 | Z4: 改善勧告施設数 | AA4: 改善命令・基準適合命令施設数 | AB4: (B)又は(E)の命令違反 告発施設数 | AC4: 届出違反 告発施設数 | AD4: 行政指導 施設数
C5: (A) | D5: (A') | E5: (B) | F5: (D) | G5: (E) | H5: (G) | I5: (H) | J5: (d) | M5: (A) | N5: (A') | O5: (B) | P5: (D) | Q5: (E) | R5: (G) | S5: (H) | T5: (d) | W5: (A) | X5: (A') | Y5: (B) | Z5: (D) | AA5: (E) | AB5: (G) | AC5: (H) | AD5: (d)
B6: 北海道計 | C6: =SUM(C7:C13) -> 14 | D6: =SUM(D7:D13) -> 14 | E6: =SUM(E7:E13) -> 0 | F6: =SUM(F7:F13) -> 0 | G6: =SUM(G7:G13) -> 0 | H6: =SUM(H7:H13) -> 0 | I6: =SUM(I7:I13) -> 0 | J6: =SUM(J7:J13) -> 0 | L6: 新潟県計 | M6: =SUM(M7:M8) -> 5 | N6: =SUM(N7:N8) -> 12 | O6: =SUM(O7:O8) -> 0 | P6: =SUM(P7:P8) -> 0 | Q6: =SUM(Q7:Q8) -> 0 | R6: =SUM(R7:R8) -> 0 | S6: =SUM(S7:S8) -> 0 | T6: =SUM(T7:T8) -> 0 | V6: 和歌山県計 | W6: =SUM(W7:W8) -> 7 | X6: =SUM(X7:X8) -> 8 | Y6: =SUM(Y7:Y8) -> 0 | Z6: =SUM(Z7:Z8) -> 0 | AA6: =SUM(AA7:AA8) -> 0 | AB6: =SUM(AB7:AB8) -> 0 | AC6: =SUM(AC7:AC8) -> 0 | AD6: =SUM(AD7:AD8) -> 0
B7: 札幌市 | C7: 1 | D7: 3 | E7: 0 | F7: 0 | G7: 0 | H7: 0 | I7: 0 | J7: 0 | L7: 新潟市 | M7: 0 | N7: 0 | O7: 0 | P7: 0 | Q7: 0 | R7: 0 | S7: 0 | T7: 0 | V7: 和歌山市 | W7: 4 | X7: 4 | Y7: 0 | Z7: 0 | AA7: 0 | AB7: 0 | AC7: 0 | AD7: 0
B8: 函館市 | C8: 2 | D8: 4 | E8: 0 | F8: 0 | G8: 0 | H8: 0 | I8: 0 | J8: 0 | L8: その他・新潟県 | M8: 5 | N8: 12 | O8: 0 | P8: 0 | Q8: 0 | R8: 0 | S8: 0 | T8: 0 | V8: その他・和歌山県 | W8: 3 | X8: 4 | Y8: 0 | Z8: 0 | AA8: 0 | AB8: 0 | AC8: 0 | AD8: 0
B9: 小樽市 | C9: 0 | D9: 0 | E9: 0 | F9: 0 | G9: 0 | H9: 0 | I9: 0 | J9: 0 | L9: 富山県計 | M9: =SUM(M10:M11) -> 15 | N9: =SUM(N10:N11) -> 26 | O9: =SUM(O10:O11) -> 0 | P9: =SUM(P10:P11) -> 0 | Q9: =SUM(Q10:Q11) -> 0 | R9: =SUM(R10:R11) -> 0 | S9: =SUM(S10:S11) -> 0 | T9: =SUM(T10:T11) -> 0 | V9: 鳥取県計 | W9: =SUM(W10:W11) -> 6 | X9: =SUM(X10:X11) -> 11 | Y9: =SUM(Y10:Y11) -> 0 | Z9: =SUM(Z10:Z11) -> 0 | AA9: =SUM(AA10:AA11) -> 0 | AB9: =SUM(AB10:AB11) -> 0 | AC9: =SUM(AC10:AC11) -> 0 | AD9: =SUM(AD10:AD11) -> 0
B10: 旭川市 | C10: 0 | D10: 0 | E10: 0 | F10: 0 | G10: 0 | H10: 0 | I10: 0 | J10: 0 | L10: 富山市 | M10: 8 | N10: 8 | O10: 0 | P10: 0 | Q10: 0 | R10: 0 | S10: 0 | T10: 0 | V10: 鳥取市 | W10: 4 | X10: 8 | Y10: 0 | Z10: 0 | AA10: 0 | AB10: 0 | AC10: 0 | AD10: 0
B11: 室蘭市 | C11: 0 | D11: 0 | E11: 0 | F11: 0 | G11: 0 | H11: 0 | I11: 0 | J11: 0 | L11: その他・富山県 | M11: 7 | N11: 18 | O11: 0 | P11: 0 | Q11: 0 | R11: 0 | S11: 0 | T11: 0 | V11: その他・鳥取県 | W11: 2 | X11: 3 | Y11: 0 | Z11: 0 | AA11: 0 | AB11: 0 | AC11: 0 | AD11: 0
B12: 苫小牧市 | C12: 0 | D12: 0 | E12: 0 | F12: 0 | G12: 0 | H12: 0 | I12: 0 | J12: 0 | L12: 石川県計 | M12: =SUM(M13:M14) -> 16 | N12: =SUM(N13:N14) -> 20 | O12: =SUM(O13:O14) -> 0 | P12: =SUM(P13:P14) -> 0 | Q12: =SUM(Q13:Q14) -> 0 | R12: =SUM(R13:R14) -> 0 | S12: =SUM(S13:S14) -> 0 | T12: =SUM(T13:T14) -> 1 | V12: 島根県計 | W12: =SUM(W13:W14) -> 3 | X12: =SUM(X13:X14) -> 5 | Y12: =SUM(Y13:Y14) -> 0 | Z12: =SUM(Z13:Z14) -> 0 | AA12: =SUM(AA13:AA14) -> 0 | AB12: =SUM(AB13:AB14) -> 0 | AC12: =SUM(AC13:AC14) -> 0 | AD12: =SUM(AD13:AD14) -> 1
B13: その他・北海道 | C13: 11 | D13: 7 | E13: 0 | F13: 0 | G13: 0 | H13: 0 | I13: 0 | J13: 0 | L13: 金沢市 | M13: 0 | N13: 0 | O13: 0 | P13: 0 | Q13: 0 | R13: 0 | S13: 0 | T13: 0 | V13: 松江市 | W13: 0 | X13: 0 | Y13: 0 | Z13: 0 | AA13: 0 | AB13: 0 | AC13: 0 | AD13: 0
B14: 青森県計 | C14: =SUM(C15:C17) -> 42 | D14: =SUM(D15:D17) -> 69 | E14: =SUM(E15:E17) -> 0 | F14: =SUM(F15:F17) -> 0 | G14: =SUM(G15:G17) -> 0 | H14: =SUM(H15:H17) -> 0 | I14: =SUM(I15:I17) -> 0 | J14: =SUM(J15:J17) -> 0 | L14: その他・石川県 | M14: 16 | N14: 20 | O14: 0 | P14: 0 | Q14: 0 | R14: 0 | S14: 0 | T14: 1 | V14: その他・島根県 | W14: 3 | X14: 5 | Y14: 0 | Z14: 0 | AA14: 0 | AB14: 0 | AC14: 0 | AD14: 1
B15: 青森市 | C15: 4 | D15: 7 | E15: 0 | F15: 0 | G15: 0 | H15: 0 | I15: 0 | J15: 0 | L15: 福井県計 | M15: =SUM(M16:M17) -> 15 | N15: =SUM(N16:N17) -> 21 | O15: =SUM(O16:O17) -> 0 | P15: =SUM(P16:P17) -> 0 | Q15: =SUM(Q16:Q17) -> 0 | R15: =SUM(R16:R17) -> 0 | S15: =SUM(S16:S17) -> 0 | T15: =SUM(T16:T17) -> 0 | V15: 岡山県計 | W15: =SUM(W16:W18) -> 24 | X15: =SUM(X16:X18) -> 42 | Y15: =SUM(Y16:Y18) -> 0 | Z15: =SUM(Z16:Z18) -> 0 | AA15: =SUM(AA16:AA18) -> 0 | AB15: =SUM(AB16:AB18) -> 0 | AC15: =SUM(AC16:AC18) -> 0 | AD15: =SUM(AD16:AD18) -> 1
B16: 八戸市 | C16: 12 | D16: 21 | E16: 0 | F16: 0 | G16: 0 | H16: 0 | I16: 0 | J16: 0 | L16: 福井市 | M16: 5 | N16: 7 | O16: 0 | P16: 0 | Q16: 0 | R16: 0 | S16: 0 | T16: 0 | V16: 岡山市 | W16: 8 | X16: 16 | Y16: 0 | Z16: 0 | AA16: 0 | AB16: 0 | AC16: 0 | AD16: 0
B17: その他・青森県 | C17: 26 | D17: 41 | E17: 0 | F17: 0 | G17: 0 | H17: 0 | I17: 0 | J17: 0 | L17: その他・福井県 | M17: 10 | N17: 14 | O17: 0 | P17: 0 | Q17: 0 | R17: 0 | S17: 0 | T17: 0 | V17: 倉敷市 | W17: 2 | X17: 3 | Y17: 0 | Z17: 0 | AA17: 0 | AB17: 0 | AC17: 0 | AD17: 0
B18: 岩手県計 | C18: =SUM(C19:C20) -> 2 | D18: =SUM(D19:D20) -> 4 | E18: =SUM(E19:E20) -> 0 | F18: =SUM(F19:F20) -> 0 | G18: =SUM(G19:G20) -> 0 | H18: =SUM(H19:H20) -> 0 | I18: =SUM(I19:I20) -> 0 | J18: =SUM(J19:J20) -> 0 | L18: 山梨県計 | M18: =SUM(M19:M20) -> 13 | N18: =SUM(N19:N20) -> 22 | O18: =SUM(O19:O20) -> 0 | P18: =SUM(P19:P20) -> 0 | Q18: =SUM(Q19:Q20) -> 0 | R18: =SUM(R19:R20) -> 0 | S18: =SUM(S19:S20) -> 0 | T18: =SUM(T19:T20) -> 1 | V18: その他・岡山県 | W18: 14 | X18: 23 | Y18: 0 | Z18: 0 | AA18: 0 | AB18: 0 | AC18: 0 | AD18: 1
B19: 盛岡市 | C19: 0 | D19: 0 | E19: 0 | F19: 0 | G19: 0 | H19: 0 | I19: 0 | J19: 0 | L19: 甲府市 | M19: 0 | N19: 0 | O19: 0 | P19: 0 | Q19: 0 | R19: 0 | S19: 0 | T19: 0 | V19: 広島県計 | W19: =SUM(W20:W23) -> 20 | X19: =SUM(X20:X23) -> 27 | Y19: =SUM(Y20:Y23) -> 0 | Z19: =SUM(Z20:Z23) -> 0 | AA19: =SUM(AA20:AA23) -> 0 | AB19: =SUM(AB20:AB23) -> 0 | AC19: =SUM(AC20:AC23) -> 0 | AD19: =SUM(AD20:AD23) -> 0
B20: その他・岩手県 | C20: 2 | D20: 4 | E20: 0 | F20: 0 | G20: 0 | H20: 0 | I20: 0 | J20: 0 | L20: その他・山梨県 | M20: 13 | N20: 22 | O20: 0 | P20: 0 | Q20: 0 | R20: 0 | S20: 0 | T20: 1 | V20: 広島市 | W20: 0 | X20: 0 | Y20: 0 | Z20: 0 | AA20: 0 | AB20: 0 | AC20: 0 | AD20: 0
B21: 宮城県計 | C21: =SUM(C22:C23) -> 15 | D21: =SUM(D22:D23) -> 21 | E21: =SUM(E22:E23) -> 0 | F21: =SUM(F22:F23) -> 0 | G21: =SUM(G22:G23) -> 0 | H21: =SUM(H22:H23) -> 0 | I21: =SUM(I22:I23) -> 0 | J21: =SUM(J22:J23) -> 0 | L21: 長野県計 | M21: =SUM(M22:M24) -> 20 | N21: =SUM(N22:N24) -> 31 | O21: =SUM(O22:O24) -> 0 | P21: =SUM(P22:P24) -> 0 | Q21: =SUM(Q22:Q24) -> 0 | R21: =SUM(R22:R24) -> 0 | S21: =SUM(S22:S24) -> 0 | T21: =SUM(T22:T24) -> 0 | V21: 呉市 | W21: 0 | X21: 0 | Y21: 0 | Z21: 0 | AA21: 0 | AB21: 0 | AC21: 0 | AD21: 0
B22: 仙台市 | C22: 3 | D22: 5 | E22: 0 | F22: 0 | G22: 0 | H22: 0 | I22: 0 | J22: 0 | L22: 長野市 | M22: 0 | N22: 0 | O22: 0 | P22: 0 | Q22: 0 | R22: 0 | S22: 0 | T22: 0 | V22: 福山市 | W22: 3 | X22: 3 | Y22: 0 | Z22: 0 | AA22: 0 | AB22: 0 | AC22: 0 | AD22: 0
B23: その他・宮城県 | C23: 12 | D23: 16 | E23: 0 | F23: 0 | G23: 0 | H23: 0 | I23: 0 | J23: 0 | L23: 松本市 | M23: 4 | N23: 7 | O23: 0 | P23: 0 | Q23: 0 | R23: 0 | S23: 0 | T23: 0 | V23: その他・広島県 | W23: 17 | X23: 24 | Y23: 0 | Z23: 0 | AA23: 0 | AB23: 0 | AC23: 0 | AD23: 0
B24: 秋田県計 | C24: =SUM(C25:C26) -> 19 | D24: =SUM(D25:D26) -> 38 | E24: =SUM(E25:E26) -> 0 | F24: =SUM(F25:F26) -> 0 | G24: =SUM(G25:G26) -> 0 | H24: =SUM(H25:H26) -> 0 | I24: =SUM(I25:I26) -> 0 | J24: =SUM(J25:J26) -> 2 | L24: その他・長野県 | M24: 16 | N24: 24 | O24: 0 | P24: 0 | Q24: 0 | R24: 0 | S24: 0 | T24: 0 | V24: 山口県計 | W24: =SUM(W25:W26) -> 0 | X24: =SUM(X25:X26) -> 0 | Y24: =SUM(Y25:Y26) -> 0 | Z24: =SUM(Z25:Z26) -> 0 | AA24: =SUM(AA25:AA26) -> 0 | AB24: =SUM(AB25:AB26) -> 0 | AC24: =SUM(AC25:AC26) -> 0 | AD24: =SUM(AD25:AD26) -> 0
B25: 秋田市 | C25: 2 | D25: 2 | E25: 0 | F25: 0 | G25: 0 | H25: 0 | I25: 0 | J25: 0 | L25: 岐阜県計 | M25: =SUM(M26:M27) -> 49 | N25: =SUM(N26:N27) -> 76 | O25: =SUM(O26:O27) -> 0 | P25: =SUM(P26:P27) -> 0 | Q25: =SUM(Q26:Q27) -> 0 | R25: =SUM(R26:R27) -> 0 | S25: =SUM(S26:S27) -> 0 | T25: =SUM(T26:T27) -> 3 | V25: 下関市 | W25: 0 | X25: 0 | Y25: 0 | Z25: 0 | AA25: 0 | AB25: 0 | AC25: 0 | AD25: 0
B26: その他・秋田県 | C26: 17 | D26: 36 | E26: 0 | F26: 0 | G26: 0 | H26: 0 | I26: 0 | J26: 2 | L26: 岐阜市 | M26: 6 | N26: 10 | O26: 0 | P26: 0 | Q26: 0 | R26: 0 | S26: 0 | T26: 0 | V26: その他・山口県 | W26: 0 | X26: 0 | Y26: 0 | Z26: 0 | AA26: 0 | AB26: 0 | AC26: 0 | AD26: 0
B27: 山形県計 | C27: =SUM(C28:C29) -> 18 | D27: =SUM(D28:D29) -> 24 | E27: =SUM(E28:E29) -> 0 | F27: =SUM(F28:F29) -> 0 | G27: =SUM(G28:G29) -> 0 | H27: =SUM(H28:H29) -> 0 | I27: =SUM(I28:I29) -> 0 | J27: =SUM(J28:J29) -> 0 | L27: その他・岐阜県 | M27: 43 | N27: 66 | O27: 0 | P27: 0 | Q27: 0 | R27: 0 | S27: 0 | T27: 3 | V27: 徳島県計 | W27: =SUM(W28:W28) -> 11 | X27: =SUM(X28:X28) -> 18 | Y27: =SUM(Y28:Y28) -> 0 | Z27: =SUM(Z28:Z28) -> 0 | AA27: =SUM(AA28:AA28) -> 0 | AB27: =SUM(AB28:AB28) -> 0 | AC27: =SUM(AC28:AC28) -> 0 | AD27: =SUM(AD28:AD28) -> 0
B28: 山形市 | C28: 1 | D28: 1 | E28: 0 | F28: 0 | G28: 0 | H28: 0 | I28: 0 | J28: 0 | L28: 静岡県計 | M28: =SUM(M29:M31) -> 32 | N28: =SUM(N29:N31) -> 51 | O28: =SUM(O29:O31) -> 0 | P28: =SUM(P29:P31) -> 0 | Q28: =SUM(Q29:Q31) -> 0 | R28: =SUM(R29:R31) -> 0 | S28: =SUM(S29:S31) -> 0 | T28: =SUM(T29:T31) -> 6 | V28: 徳島県 | W28: 11 | X28: 18 | Y28: 0 | Z28: 0 | AA28: 0 | AB28: 0 | AC28: 0 | AD28: 0
B29: その他・山形県 | C29: 17 | D29: 23 | E29: 0 | F29: 0 | G29: 0 | H29: 0 | I29: 0 | J29: 0 | L29: 静岡市 | M29: 4 | N29: 9 | O29: 0 | P29: 0 | Q29: 0 | R29: 0 | S29: 0 | T29: 1 | V29: 香川県計 | W29: =SUM(W30:W31) -> 58 | X29: =SUM(X30:X31) -> 64 | Y29: =SUM(Y30:Y31) -> 0 | Z29: =SUM(Z30:Z31) -> 0 | AA29: =SUM(AA30:AA31) -> 0 | AB29: =SUM(AB30:AB31) -> 0 | AC29: =SUM(AC30:AC31) -> 0 | AD29: =SUM(AD30:AD31) -> 0
B30: 福島県計 | C30: =SUM(C31:C34) -> 31 | D30: =SUM(D31:D34) -> 47 | E30: =SUM(E31:E34) -> 0 | F30: =SUM(F31:F34) -> 0 | G30: =SUM(G31:G34) -> 0 | H30: =SUM(H31:H34) -> 0 | I30: =SUM(I31:I34) -> 0 | J30: =SUM(J31:J34) -> 8 | L30: 浜松市 | M30: 2 | N30: 6 | O30: 0 | P30: 0 | Q30: 0 | R30: 0 | S30: 0 | T30: 0 | V30: 高松市 | W30: 1 | X30: 2 | Y30: 0 | Z30: 0 | AA30: 0 | AB30: 0 | AC30: 0 | AD30: 0
B31: 福島市 | C31: 1 | D31: 1 | E31: 0 | F31: 0 | G31: 0 | H31: 0 | I31: 0 | J31: 0 | L31: その他・静岡県 | M31: 26 | N31: 36 | O31: 0 | P31: 0 | Q31: 0 | R31: 0 | S31: 0 | T31: 5 | V31: その他・香川県 | W31: 57 | X31: 62 | Y31: 0 | Z31: 0 | AA31: 0 | AB31: 0 | AC31: 0 | AD31: 0
B32: 郡山市 | C32: 2 | D32: 3 | E32: 0 | F32: 0 | G32: 0 | H32: 0 | I32: 0 | J32: 0 | L32: 愛知県計 | M32: =SUM(M33:M38) -> 115 | N32: =SUM(N33:N38) -> 150 | O32: =SUM(O33:O38) -> 0 | P32: =SUM(P33:P38) -> 0 | Q32: =SUM(Q33:Q38) -> 0 | R32: =SUM(R33:R38) -> 0 | S32: =SUM(S33:S38) -> 0 | T32: =SUM(T33:T38) -> 61 | V32: 愛媛県計 | W32: =SUM(W33:W34) -> 12 | X32: =SUM(X33:X34) -> 21 | Y32: =SUM(Y33:Y34) -> 0 | Z32: =SUM(Z33:Z34) -> 0 | AA32: =SUM(AA33:AA34) -> 0 | AB32: =SUM(AB33:AB34) -> 0 | AC32: =SUM(AC33:AC34) -> 0 | AD32: =SUM(AD33:AD34) -> 1
B33: いわき市 | C33: 3 | D33: 5 | E33: 0 | F33: 0 | G33: 0 | H33: 0 | I33: 0 | J33: 0 | L33: 名古屋市 | M33: 4 | N33: 4 | O33: 0 | P33: 0 | Q33: 0 | R33: 0 | S33: 0 | T33: 0 | V33: 松山市 | W33: 1 | X33: 1 | Y33: 0 | Z33: 0 | AA33: 0 | AB33: 0 | AC33: 0 | AD33: 0
B34: その他・福島県 | C34: 25 | D34: 38 | E34: 0 | F34: 0 | G34: 0 | H34: 0 | I34: 0 | J34: 8 | L34: 豊橋市 | M34: 1 | N34: 1 | O34: 0 | P34: 0 | Q34: 0 | R34: 0 | S34: 0 | T34: 0 | V34: その他・愛媛県 | W34: 11 | X34: 20 | Y34: 0 | Z34: 0 | AA34: 0 | AB34: 0 | AC34: 0 | AD34: 1
B35: 茨城県計 | C35: =SUM(C36:C37) -> 30 | D35: =SUM(D36:D37) -> 53 | E35: =SUM(E36:E37) -> 0 | F35: =SUM(F36:F37) -> 0 | G35: =SUM(G36:G37) -> 0 | H35: =SUM(H36:H37) -> 0 | I35: =SUM(I36:I37) -> 0 | J35: =SUM(J36:J37) -> 9 | L35: 岡崎市 | M35: 0 | N35: 0 | O35: 0 | P35: 0 | Q35: 0 | R35: 0 | S35: 0 | T35: 0 | V35: 高知県計 | W35: =SUM(W36:W37) -> 4 | X35: =SUM(X36:X37) -> 5 | Y35: =SUM(Y36:Y37) -> 0 | Z35: =SUM(Z36:Z37) -> 0 | AA35: =SUM(AA36:AA37) -> 0 | AB35: =SUM(AB36:AB37) -> 0 | AC35: =SUM(AC36:AC37) -> 0 | AD35: =SUM(AD36:AD37) -> 4
B36: 水戸市 | C36: 0 | D36: 0 | E36: 0 | F36: 0 | G36: 0 | H36: 0 | I36: 0 | J36: 0 | L36: 一宮市 | M36: 1 | N36: 1 | O36: 0 | P36: 0 | Q36: 0 | R36: 0 | S36: 0 | T36: 1 | V36: 高知市 | W36: 1 | X36: 2 | Y36: 0 | Z36: 0 | AA36: 0 | AB36: 0 | AC36: 0 | AD36: 2
B37: その他・茨城県 | C37: 30 | D37: 53 | E37: 0 | F37: 0 | G37: 0 | H37: 0 | I37: 0 | J37: 9 | L37: 豊田市 | M37: 8 | N37: 11 | O37: 0 | P37: 0 | Q37: 0 | R37: 0 | S37: 0 | T37: 0 | V37: その他・高知県 | W37: 3 | X37: 3 | Y37: 0 | Z37: 0 | AA37: 0 | AB37: 0 | AC37: 0 | AD37: 2
B38: 栃木県計 | C38: =SUM(C39:C40) -> 8 | D38: =SUM(D39:D40) -> 14 | E38: =SUM(E39:E40) -> 0 | F38: =SUM(F39:F40) -> 0 | G38: =SUM(G39:G40) -> 0 | H38: =SUM(H39:H40) -> 0 | I38: =SUM(I39:I40) -> 0 | J38: =SUM(J39:J40) -> 2 | L38: その他・愛知県 | M38: 101 | N38: 133 | O38: 0 | P38: 0 | Q38: 0 | R38: 0 | S38: 0 | T38: 60 | V38: 福岡県計 | W38: =SUM(W39:W43) -> 54 | X38: =SUM(X39:X43) -> 139 | Y38: =SUM(Y39:Y43) -> 0 | Z38: =SUM(Z39:Z43) -> 0 | AA38: =SUM(AA39:AA43) -> 0 | AB38: =SUM(AB39:AB43) -> 0 | AC38: =SUM(AC39:AC43) -> 0 | AD38: =SUM(AD39:AD43) -> 1
B39: 宇都宮市 | C39: 3 | D39: 3 | E39: 0 | F39: 0 | G39: 0 | H39: 0 | I39: 0 | J39: 0 | L39: 三重県計 | M39: =SUM(M40:M41) -> 28 | N39: =SUM(N40:N41) -> 50 | O39: =SUM(O40:O41) -> 0 | P39: =SUM(P40:P41) -> 0 | Q39: =SUM(Q40:Q41) -> 0 | R39: =SUM(R40:R41) -> 0 | S39: =SUM(S40:S41) -> 0 | T39: =SUM(T40:T41) -> 0 | V39: 北九州市 | W39: 18 | X39: 37 | Y39: 0 | Z39: 0 | AA39: 0 | AB39: 0 | AC39: 0 | AD39: 1
B40: その他・栃木県 | C40: 5 | D40: 11 | E40: 0 | F40: 0 | G40: 0 | H40: 0 | I40: 0 | J40: 2 | L40: 四日市市 | M40: 2 | N40: 5 | O40: 0 | P40: 0 | Q40: 0 | R40: 0 | S40: 0 | T40: 0 | V40: 福岡市 | W40: 1 | X40: 3 | Y40: 0 | Z40: 0 | AA40: 0 | AB40: 0 | AC40: 0 | AD40: 0
B41: 群馬県計 | C41: =SUM(C42:C44) -> 15 | D41: =SUM(D42:D44) -> 26 | E41: =SUM(E42:E44) -> 0 | F41: =SUM(F42:F44) -> 0 | G41: =SUM(G42:G44) -> 0 | H41: =SUM(H42:H44) -> 0 | I41: =SUM(I42:I44) -> 0 | J41: =SUM(J42:J44) -> 0 | L41: その他・三重県 | M41: 26 | N41: 45 | O41: 0 | P41: 0 | Q41: 0 | R41: 0 | S41: 0 | T41: 0 | V41: 大牟田市 | W41: 0 | X41: 0 | Y41: 0 | Z41: 0 | AA41: 0 | AB41: 0 | AC41: 0 | AD41: 0
B42: 前橋市 | C42: 1 | D42: 1 | E42: 0 | F42: 0 | G42: 0 | H42: 0 | I42: 0 | J42: 0 | L42: 滋賀県計 | M42: =SUM(M43:M44) -> 6 | N42: =SUM(N43:N44) -> 7 | O42: =SUM(O43:O44) -> 0 | P42: =SUM(P43:P44) -> 0 | Q42: =SUM(Q43:Q44) -> 0 | R42: =SUM(R43:R44) -> 0 | S42: =SUM(S43:S44) -> 0 | T42: =SUM(T43:T44) -> 0 | V42: 久留米市 | W42: 1 | X42: 1 | Y42: 0 | Z42: 0 | AA42: 0 | AB42: 0 | AC42: 0 | AD42: 0
...

Sheet 表10.4
B2: 表10.4(1) 立入検査・勧告その他行政指導件数 年度別・都道府県市別 （大気汚染防止法に係る水銀排出施設） | I2: 表10.4(2) 立入検査・勧告その他行政指導件数 年度別・都道府県市別 （大気汚染防止法に係る水銀排出施設） | P2: 表10.4(3) 立入検査・勧告その他行政指導件数 年度別・都道府県市別 （大気汚染防止法に係る水銀排出施設）
B4: 自治体名 | C4: 立入検査実施工場・事業場数 | I4: 自治体名 | J4: 立入検査実施工場・事業場数 | P4: 自治体名 | Q4: 立入検査実施工場・事業場数
C5: 平成30年度 | D5: 令和元年度 | E5: 令和２年度 | F5: 令和３年度 | G5: 令和４年度 | J5: 平成30年度 | K5: 令和元年度 | L5: 令和２年度 | M5: 令和３年度 | N5: 令和４年度 | Q5: 平成30年度 | R5: 令和元年度 | S5: 令和２年度 | T5: 令和３年度 | U5: 令和４年度
B6: 北海道計 | C6: =SUM(C7:C13) -> 18 | D6: =SUM(D7:D13) -> 27 | E6: =SUM(E7:E13) -> 24 | F6: =SUM(F7:F13) -> 18 | G6: =SUM(G7:G13) -> 14 | I6: 新潟県計 | J6: =SUM(J7:J8) -> 28 | K6: =SUM(K7:K8) -> 18 | L6: =SUM(L7:L8) -> 10 | M6: =SUM(M7:M8) -> 8 | N6: =SUM(N7:N8) -> 5 | P6: 和歌山県計 | Q6: =SUM(Q7:Q8) -> 15 | R6: =SUM(R7:R8) -> 10 | S6: =SUM(S7:S8) -> 17 | T6: =SUM(T7:T8) -> 14 | U6: =SUM(U7:U8) -> 7
B7: 札幌市 | C7: 5 | D7: 4 | E7: 1 | F7: 0 | G7: ='表10.3'!C7 -> 1 | I7: 新潟市 | J7: 0 | K7: 0 | L7: 0 | M7: 0 | N7: ='表10.3'!M7 -> 0 | P7: 和歌山市 | Q7: 7 | R7: 2 | S7: 7 | T7: 4 | U7: ='表10.3'!W7 -> 4
B8: 函館市 | C8: 2 | D8: 2 | E8: 1 | F8: 1 | G8: ='表10.3'!C8 -> 2 | I8: その他・新潟県 | J8: 28 | K8: 18 | L8: 10 | M8: 8 | N8: ='表10.3'!M8 -> 5 | P8: その他・和歌山県 | Q8: 8 | R8: 8 | S8: 10 | T8: 10 | U8: ='表10.3'!W8 -> 3
B9: 小樽市 | C9: 2 | D9: 0 | E9: 0 | F9: 0 | G9: ='表10.3'!C9 -> 0 | I9: 富山県計 | J9: =SUM(J10:J11) -> 13 | K9: =SUM(K10:K11) -> 18 | L9: =SUM(L10:L11) -> 12 | M9: =SUM(M10:M11) -> 9 | N9: =SUM(N10:N11) -> 15 | P9: 鳥取県計 | Q9: =SUM(Q10:Q11) -> 12 | R9: =SUM(R10:R11) -> 20 | S9: =SUM(S10:S11) -> 6 | T9: =SUM(T10:T11) -> 3 | U9: =SUM(U10:U11) -> 6
B10: 旭川市 | C10: 0 | D10: 0 | E10: 0 | F10: 0 | G10: ='表10.3'!C10 -> 0 | I10: 富山市 | J10: 6 | K10: 8 | L10: 8 | M10: 8 | N10: ='表10.3'!M10 -> 8 | P10: 鳥取市 | Q10: 2 | R10: 6 | S10: 3 | T10: 1 | U10: ='表10.3'!W10 -> 4
B11: 室蘭市 | D11: 0 | E11: 0 | F11: 0 | G11: ='表10.3'!C11 -> 0 | I11: その他・富山県 | J11: 7 | K11: 10 | L11: 4 | M11: 1 | N11: ='表10.3'!M11 -> 7 | P11: その他・鳥取県 | Q11: 10 | R11: 14 | S11: 3 | T11: 2 | U11: ='表10.3'!W11 -> 2
B12: 苫小牧市 | C12: 3 | D12: 0 | E12: 0 | F12: 0 | G12: ='表10.3'!C12 -> 0 | I12: 石川県計 | J12: =SUM(J13:J14) -> 5 | K12: =SUM(K13:K14) -> 6 | L12: =SUM(L13:L14) -> 8 | M12: =SUM(M13:M14) -> 8 | N12: =SUM(N13:N14) -> 16 | P12: 島根県計 | Q12: =SUM(Q13:Q14) -> 10 | R12: =SUM(R13:R14) -> 13 | S12: =SUM(S13:S14) -> 7 | T12: =SUM(T13:T14) -> 6 | U12: =SUM(U13:U14) -> 3
B13: その他・北海道 | C13: 6 | D13: 21 | E13: 22 | F13: 17 | G13: ='表10.3'!C13 -> 11 | I13: 金沢市 | J13: 5 | K13: 4 | L13: 1 | M13: 0 | N13: ='表10.3'!M13 -> 0 | P13: 松江市 | Q13: 3 | R13: 2 | S13: 0 | T13: 2 | U13: ='表10.3'!W13 -> 0
B14: 青森県計 | C14: =SUM(C15:C17) -> 23 | D14: =SUM(D15:D17) -> 35 | E14: =SUM(E15:E17) -> 33 | F14: =SUM(F15:F17) -> 34 | G14: =SUM(G15:G17) -> 42 | I14: その他・石川県 | J14: 0 | K14: 2 | L14: 7 | M14: 8 | N14: ='表10.3'!M14 -> 16 | P14: その他・島根県 | Q14: 7 | R14: 11 | S14: 7 | T14: 4 | U14: ='表10.3'!W14 -> 3
B15: 青森市 | C15: 4 | D15: 0 | E15: 4 | F15: 0 | G15: ='表10.3'!C15 -> 4 | I15: 福井県計 | J15: =SUM(J16:J17) -> 53 | K15: =SUM(K16:K17) -> 26 | L15: =SUM(L16:L17) -> 14 | M15: =SUM(M16:M17) -> 12 | N15: =SUM(N16:N17) -> 15 | P15: 岡山県計 | Q15: =SUM(Q16:Q18) -> 28 | R15: =SUM(R16:R18) -> 31 | S15: =SUM(S16:S18) -> 17 | T15: =SUM(T16:T18) -> 28 | U15: =SUM(U16:U18) -> 24
B16: 八戸市 | C16: 1 | D16: 10 | E16: 6 | F16: 10 | G16: ='表10.3'!C16 -> 12 | I16: 福井市 | K16: 4 | L16: 2 | M16: 1 | N16: ='表10.3'!M16 -> 5 | P16: 岡山市 | Q16: 8 | R16: 12 | S16: 7 | T16: 10 | U16: ='表10.3'!W16 -> 8
B17: その他・青森県 | C17: 18 | D17: 25 | E17: 23 | F17: 24 | G17: ='表10.3'!C17 -> 26 | I17: その他・福井県 | J17: 53 | K17: 22 | L17: 12 | M17: 11 | N17: ='表10.3'!M17 -> 10 | P17: 倉敷市 | Q17: 3 | R17: 2 | S17: 3 | T17: 1 | U17: ='表10.3'!W17 -> 2
B18: 岩手県計 | C18: =SUM(C19:C20) -> 2 | D18: =SUM(D19:D20) -> 13 | E18: =SUM(E19:E20) -> 3 | F18: =SUM(F19:F20) -> 2 | G18: =SUM(G19:G20) -> 2 | I18: 山梨県計 | J18: =SUM(J19:J20) -> 5 | K18: =SUM(K19:K20) -> 16 | L18: =SUM(L19:L20) -> 14 | M18: =SUM(M19:M20) -> 13 | N18: =SUM(N19:N20) -> 13 | P18: その他・岡山県 | Q18: 17 | R18: 17 | S18: 7 | T18: 17 | U18: ='表10.3'!W18 -> 14
B19: 盛岡市 | C19: 1 | D19: 1 | E19: 0 | F19: 0 | G19: ='表10.3'!C19 -> 0 | I19: 甲府市 | K19: 1 | L19: 1 | M19: 0 | N19: ='表10.3'!M19 -> 0 | P19: 広島県計 | Q19: =SUM(Q20:Q23) -> 91 | R19: =SUM(R20:R23) -> 53 | S19: =SUM(S20:S23) -> 35 | T19: =SUM(T20:T23) -> 24 | U19: =SUM(U20:U23) -> 20
B20: その他・岩手県 | C20: 1 | D20: 12 | E20: 3 | F20: 2 | G20: ='表10.3'!C20 -> 2 | I20: その他・山梨県 | J20: 5 | K20: 15 | L20: 13 | M20: 13 | N20: ='表10.3'!M20 -> 13 | P20: 広島市 | Q20: 11 | R20: 0 | S20: 0 | T20: 0 | U20: ='表10.3'!W20 -> 0
B21: 宮城県計 | C21: =SUM(C22:C23) -> 46 | D21: =SUM(D22:D23) -> 24 | E21: =SUM(E22:E23) -> 20 | F21: =SUM(F22:F23) -> 20 | G21: =SUM(G22:G23) -> 15 | I21: 長野県計 | J21: =SUM(J22:J24) -> 23 | K21: =SUM(K22:K24) -> 32 | L21: =SUM(L22:L24) -> 21 | M21: =SUM(M22:M24) -> 26 | N21: =SUM(N22:N24) -> 20 | P21: 呉市 | Q21: 1 | R21: 1 | S21: 0 | T21: 0 | U21: ='表10.3'!W21 -> 0
B22: 仙台市 | C22: 7 | D22: 10 | E22: 3 | F22: 3 | G22: ='表10.3'!C22 -> 3 | I22: 長野市 | J22: 0 | K22: 0 | L22: 0 | M22: 0 | N22: ='表10.3'!M22 -> 0 | P22: 福山市 | Q22: 6 | R22: 10 | S22: 11 | T22: 3 | U22: ='表10.3'!W22 -> 3
B23: その他・宮城県 | C23: 39 | D23: 14 | E23: 17 | F23: 17 | G23: ='表10.3'!C23 -> 12 | I23: 松本市 | M23: 4 | N23: ='表10.3'!M23 -> 4 | P23: その他・広島県 | Q23: 73 | R23: 42 | S23: 24 | T23: 21 | U23: ='表10.3'!W23 -> 17
B24: 秋田県計 | C24: =SUM(C25:C26) -> 47 | D24: =SUM(D25:D26) -> 48 | E24: =SUM(E25:E26) -> 39 | F24: =SUM(F25:F26) -> 29 | G24: =SUM(G25:G26) -> 19 | I24: その他・長野県 | J24: 23 | K24: 32 | L24: 21 | M24: 22 | N24: ='表10.3'!M24 -> 16 | P24: 山口県計 | Q24: =SUM(Q25:Q26) -> 5 | R24: =SUM(R25:R26) -> 2 | S24: =SUM(S25:S26) -> 5 | T24: =SUM(T25:T26) -> 0 | U24: =SUM(U25:U26) -> 0
B25: 秋田市 | C25: 7 | D25: 3 | E25: 3 | F25: 2 | G25: ='表10.3'!C25 -> 2 | I25: 岐阜県計 | J25: =SUM(J26:J27) -> 49 | K25: =SUM(K26:K27) -> 58 | L25: =SUM(L26:L27) -> 50 | M25: =SUM(M26:M27) -> 52 | N25: =SUM(N26:N27) -> 49 | P25: 下関市 | Q25: 0 | R25: 0 | S25: 0 | T25: 0 | U25: ='表10.3'!W25 -> 0
B26: その他・秋田県 | C26: 40 | D26: 45 | E26: 36 | F26: 27 | G26: ='表10.3'!C26 -> 17 | I26: 岐阜市 | J26: 9 | K26: 9 | L26: 6 | M26: 6 | N26: ='表10.3'!M26 -> 6 | P26: その他・山口県 | Q26: 5 | R26: 2 | S26: 5 | T26: 0 | U26: ='表10.3'!W26 -> 0
B27: 山形県計 | C27: =SUM(C28:C29) -> 31 | D27: =SUM(D28:D29) -> 32 | E27: =SUM(E28:E29) -> 32 | F27: =SUM(F28:F29) -> 30 | G27: =SUM(G28:G29) -> 18 | I27: その他・岐阜県 | J27: 40 | K27: 49 | L27: 44 | M27: 46 | N27: ='表10.3'!M27 -> 43 | P27: 徳島県計 | Q27: =SUM(Q28) -> 3 | R27: =SUM(R28) -> 41 | S27: =SUM(S28) -> 10 | T27: =SUM(T28) -> 8 | U27: =SUM(U28) -> 11
B28: 山形市 | D28: 5 | E28: 2 | F28: 2 | G28: ='表10.3'!C28 -> 1 | I28: 静岡県計 | J28: =SUM(J29:J31) -> 83 | K28: =SUM(K29:K31) -> 49 | L28: =SUM(L29:L31) -> 33 | M28: =SUM(M29:M31) -> 34 | N28: =SUM(N29:N31) -> 32 | P28: 徳島県 | Q28: 3 | R28: 41 | S28: 10 | T28: 8 | U28: ='表10.3'!W28 -> 11
B29: その他・山形県 | C29: 31 | D29: 27 | E29: 30 | F29: 28 | G29: ='表10.3'!C29 -> 17 | I29: 静岡市 | J29: 3 | K29: 4 | L29: 4 | M29: 6 | N29: ='表10.3'!M29 -> 4 | P29: 香川県計 | Q29: =SUM(Q30:Q31) -> 61 | R29: =SUM(R30:R31) -> 73 | S29: =SUM(S30:S31) -> 71 | T29: =SUM(T30:T31) -> 60 | U29: =SUM(U30:U31) -> 58
B30: 福島県計 | C30: =SUM(C31:C34) -> 37 | D30: =SUM(D31:D34) -> 20 | E30: =SUM(E31:E34) -> 36 | F30: =SUM(F31:F34) -> 40 | G30: =SUM(G31:G34) -> 31 | I30: 浜松市 | J30: 3 | K30: 5 | L30: 2 | M30: 3 | N30: ='表10.3'!M30 -> 2 | P30: 高松市 | Q30: 1 | R30: 1 | S30: 0 | T30: 0 | U30: ='表10.3'!W30 -> 1
B31: 福島市 | D31: 0 | E31: 1 | F31: 1 | G31: ='表10.3'!C31 -> 1 | I31: その他・静岡県 | J31: 77 | K31: 40 | L31: 27 | M31: 25 | N31: ='表10.3'!M31 -> 26 | P31: その他・香川県 | Q31: 60 | R31: 72 | S31: 71 | T31: 60 | U31: ='表10.3'!W31 -> 57
B32: 郡山市 | C32: 3 | D32: 3 | E32: 3 | F32: 2 | G32: ='表10.3'!C32 -> 2 | I32: 愛知県計 | J32: =SUM(J33:J38) -> 145 | K32: =SUM(K33:K38) -> 99 | L32: =SUM(L33:L38) -> 124 | M32: =SUM(M33:M38) -> 134 | N32: =SUM(N33:N38) -> 115 | P32: 愛媛県計 | Q32: =SUM(Q33:Q34) -> 8 | R32: =SUM(R33:R34) -> 15 | S32: =SUM(S33:S34) -> 14 | T32: =SUM(T33:T34) -> 14 | U32: =SUM(U33:U34) -> 12
B33: いわき市 | C33: 11 | D33: 3 | E33: 8 | F33: 2 | G33: ='表10.3'!C33 -> 3 | I33: 名古屋市 | J33: 9 | K33: 5 | L33: 6 | M33: 3 | N33: ='表10.3'!M33 -> 4 | P33: 松山市 | Q33: 2 | R33: 1 | S33: 3 | T33: 2 | U33: ='表10.3'!W33 -> 1
B34: その他・福島県 | C34: 23 | D34: 14 | E34: 24 | F34: 35 | G34: ='表10.3'!C34 -> 25 | I34: 豊橋市 | J34: 7 | K34: 1 | L34: 1 | M34: 1 | N34: ='表10.3'!M34 -> 1 | P34: その他・愛媛県 | Q34: 6 | R34: 14 | S34: 11 | T34: 12 | U34: ='表10.3'!W34 -> 11
B35: 茨城県計 | C35: =SUM(C36:C37) -> 44 | D35: =SUM(D36:D37) -> 25 | E35: =SUM(E36:E37) -> 27 | F35: =SUM(F36:F37) -> 16 | G35: =SUM(G36:G37) -> 30 | I35: 岡崎市 | J35: 4 | K35: 0 | L35: 0 | M35: 0 | N35: ='表10.3'!M35 -> 0 | P35: 高知県計 | Q35: =SUM(Q36:Q37) -> 1 | R35: =SUM(R36:R37) -> 2 | S35: =SUM(S36:S37) -> 2 | T35: =SUM(T36:T37) -> 6 | U35: =SUM(U36:U37) -> 4
B36: 水戸市 | E36: 1 | F36: 0 | G36: ='表10.3'!C36 -> 0 | I36: 一宮市 | M36: 3 | N36: ='表10.3'!M36 -> 1 | P36: 高知市 | Q36: 0 | R36: 1 | S36: 0 | T36: 2 | U36: ='表10.3'!W36 -> 1
B37: その他・茨城県 | C37: 44 | D37: 25 | E37: 26 | F37: 16 | G37: ='表10.3'!C37 -> 30 | I37: 豊田市 | J37: 10 | K37: 8 | L37: 7 | M37: 5 | N37: ='表10.3'!M37 -> 8 | P37: その他・高知県 | Q37: 1 | R37: 1 | S37: 2 | T37: 4 | U37: ='表10.3'!W37 -> 3
B38: 栃木県計 | C38: =SUM(C39:C40) -> 32 | D38: =SUM(D39:D40) -> 22 | E38: =SUM(E39:E40) -> 12 | F38: =SUM(F39:F40) -> 11 | G38: =SUM(G39:G40) -> 8 | I38: その他・愛知県 | J38: 115 | K38: 85 | L38: 110 | M38: 122 | N38: ='表10.3'!M38 -> 101 | P38: 福岡県計 | Q38: =SUM(Q39:Q43) -> 26 | R38: =SUM(R39:R43) -> 148 | S38: =SUM(S39:S43) -> 93 | T38: =SUM(T39:T43) -> 85 | U38: =SUM(U39:U43) -> 54
B39: 宇都宮市 | C39: 3 | D39: 2 | E39: 4 | F39: 3 | G39: ='表10.3'!C39 -> 3 | I39: 三重県計 | J39: =SUM(J40:J41) -> 60 | K39: =SUM(K40:K41) -> 78 | L39: =SUM(L40:L41) -> 39 | M39: =SUM(M40:M41) -> 30 | N39: =SUM(N40:N41) -> 28 | P39: 北九州市 | Q39: 19 | R39: 17 | S39: 19 | T39: 20 | U39: ='表10.3'!W39 -> 18
B40: その他・栃木県 | C40: 29 | D40: 20 | E40: 8 | F40: 8 | G40: ='表10.3'!C40 -> 5 | I40: 四日市市 | J40: 2 | K40: 2 | L40: 2 | M40: 2 | N40: ='表10.3'!M40 -> 2 | P40: 福岡市 | Q40: 0 | R40: 2 | S40: 2 | T40: 1 | U40: ='表10.3'!W40 -> 1
B41: 群馬県計 | C41: =SUM(C42:C44) -> 4 | D41: =SUM(D42:D44) -> 15 | E41: =SUM(E42:E44) -> 15 | F41: =SUM(F42:F44) -> 7 | G41: =SUM(G42:G44) -> 15 | I41: その他・三重県 | J41: 58 | K41: 76 | L41: 37 | M41: 28 | N41: ='表10.3'!M41 -> 26 | P41: 大牟田市 | Q41: 0 | R41: 0 | S41: 0 | T41: 0 | U41: ='表10.3'!W41 -> 0
B42: 前橋市 | C42: 0 | D42: 2 | E42: 1 | F42: 2 | G42: ='表10.3'!C42 -> 1 | I42: 滋賀県計 | J42: =SUM(J43:J44) -> 29 | K42: =SUM(K43:K44) -> 5 | L42: =SUM(L43:L44) -> 4 | M42: =SUM(M43:M44) -> 5 | N42: =SUM(N43:N44) -> 6 | P42: 久留米市 | Q42: 0 | R42: 1 | S42: 1 | T42: 1 | U42: ='表10.3'!W42 -> 1
...

Sheet 表10.5
B2: 表10.5(1) 立入検査・勧告その他行政指導件数 都道府県市別 （電気事業法・ガス事業法・鉱山保安法に係る水銀排出施設） | K2: 表10.5(2) 立入検査・勧告その他行政指導件数 都道府県市別 （電気事業法・ガス事業法・鉱山保安法に係る水銀排出施設） | T2: 表10.5(3) 立入検査・勧告その他行政指導件数 都道府県市別 （電気事業法・ガス事業法・鉱山保安法に係る水銀排出施設）
B4: 自治体名 | C4: 立入検査 実施工場・ 事業場数 | D4: 立入検査 実施施設数 | E4: 改善勧告施設数 | F4: 改善命令・基準適合命令施設数 | G4: (E)の命令違反 告発施設数 | H4: 経済産業大臣等への要請施設数 | I4: 行政指導 施設数 | K4: 自治体名 | L4: 立入検査 実施工場・ 事業場数 | M4: 立入検査 実施施設数 | N4: 改善勧告施設数 | O4: 改善命令・基準適合命令施設数 | P4: (E)の命令違反 告発施設数 | Q4: 経済産業大臣等への要請施設数 | R4: 行政指導 施設数 | T4: 自治体名 | U4: 立入検査 実施工場・ 事業場数 | V4: 立入検査 実施施設数 | W4: 改善勧告施設数 | X4: 改善命令・基準適合命令施設数 | Y4: (E)の命令違反 告発施設数 | Z4: 経済産業大臣等への要請施設数 | AA4: 行政指導 施設数
C5: (A) | D5: (A') | E5: (D) | F5: (E) | G5: (G) | H5: (I) | I5: (d) | L5: (A) | M5: (A') | N5: (D) | O5: (E) | P5: (G) | Q5: (I) | R5: (d) | U5: (A) | V5: (A') | W5: (D) | X5: (E) | Y5: (G) | Z5: (I) | AA5: (d)
B6: 北海道計 | C6: =SUM(C7:C13) -> 0 | D6: =SUM(D7:D13) -> 0 | E6: =SUM(E7:E13) -> 0 | F6: =SUM(F7:F13) -> 0 | G6: =SUM(G7:G13) -> 0 | H6: =SUM(H7:H13) -> 0 | I6: =SUM(I7:I13) -> 0 | K6: 新潟県計 | L6: =SUM(L7:L8) -> 0 | M6: =SUM(M7:M8) -> 0 | N6: =SUM(N7:N8) -> 0 | O6: =SUM(O7:O8) -> 0 | P6: =SUM(P7:P8) -> 0 | Q6: =SUM(Q7:Q8) -> 0 | R6: =SUM(R7:R8) -> 0 | T6: 和歌山県計 | U6: =SUM(U7:U8) -> 0 | V6: =SUM(V7:V8) -> 0 | W6: =SUM(W7:W8) -> 0 | X6: =SUM(X7:X8) -> 0 | Y6: =SUM(Y7:Y8) -> 0 | Z6: =SUM(Z7:Z8) -> 0 | AA6: =SUM(AA7:AA8) -> 0
B7: 札幌市 | C7: 0 | D7: 0 | E7: 0 | F7: 0 | G7: 0 | H7: 0 | I7: 0 | K7: 新潟市 | L7: 0 | M7: 0 | N7: 0 | O7: 0 | P7: 0 | Q7: 0 | R7: 0 | T7: 和歌山市 | U7: 0 | V7: 0 | W7: 0 | X7: 0 | Y7: 0 | Z7: 0 | AA7: 0
B8: 函館市 | C8: 0 | D8: 0 | E8: 0 | F8: 0 | G8: 0 | H8: 0 | I8: 0 | K8: その他・新潟県 | L8: 0 | M8: 0 | N8: 0 | O8: 0 | P8: 0 | Q8: 0 | R8: 0 | T8: その他・和歌山県 | U8: 0 | V8: 0 | W8: 0 | X8: 0 | Y8: 0 | Z8: 0 | AA8: 0
B9: 小樽市 | C9: 0 | D9: 0 | E9: 0 | F9: 0 | G9: 0 | H9: 0 | I9: 0 | K9: 富山県計 | L9: =SUM(L10:L11) -> 0 | M9: =SUM(M10:M11) -> 0 | N9: =SUM(N10:N11) -> 0 | O9: =SUM(O10:O11) -> 0 | P9: =SUM(P10:P11) -> 0 | Q9: =SUM(Q10:Q11) -> 0 | R9: =SUM(R10:R11) -> 0 | T9: 鳥取県計 | U9: =SUM(U10:U11) -> 0 | V9: =SUM(V10:V11) -> 0 | W9: =SUM(W10:W11) -> 0 | X9: =SUM(X10:X11) -> 0 | Y9: =SUM(Y10:Y11) -> 0 | Z9: =SUM(Z10:Z11) -> 0 | AA9: =SUM(AA10:AA11) -> 0
B10: 旭川市 | C10: 0 | D10: 0 | E10: 0 | F10: 0 | G10: 0 | H10: 0 | I10: 0 | K10: 富山市 | L10: 0 | M10: 0 | N10: 0 | O10: 0 | P10: 0 | Q10: 0 | R10: 0 | T10: 鳥取市 | U10: 0 | V10: 0 | W10: 0 | X10: 0 | Y10: 0 | Z10: 0 | AA10: 0
B11: 室蘭市 | C11: 0 | D11: 0 | E11: 0 | F11: 0 | G11: 0 | H11: 0 | I11: 0 | K11: その他・富山県 | L11: 0 | M11: 0 | N11: 0 | O11: 0 | P11: 0 | Q11: 0 | R11: 0 | T11: その他・鳥取県 | U11: 0 | V11: 0 | W11: 0 | X11: 0 | Y11: 0 | Z11: 0 | AA11: 0
B12: 苫小牧市 | C12: 0 | D12: 0 | E12: 0 | F12: 0 | G12: 0 | H12: 0 | I12: 0 | K12: 石川県計 | L12: =SUM(L13:L14) -> 1 | M12: =SUM(M13:M14) -> 2 | N12: =SUM(N13:N14) -> 0 | O12: =SUM(O13:O14) -> 0 | P12: =SUM(P13:P14) -> 0 | Q12: =SUM(Q13:Q14) -> 0 | R12: =SUM(R13:R14) -> 0 | T12: 島根県計 | U12: =SUM(U13:U14) -> 0 | V12: =SUM(V13:V14) -> 0 | W12: =SUM(W13:W14) -> 0 | X12: =SUM(X13:X14) -> 0 | Y12: =SUM(Y13:Y14) -> 0 | Z12: =SUM(Z13:Z14) -> 0 | AA12: =SUM(AA13:AA14) -> 0
B13: その他・北海道 | C13: 0 | D13: 0 | E13: 0 | F13: 0 | G13: 0 | H13: 0 | I13: 0 | K13: 金沢市 | L13: 0 | M13: 0 | N13: 0 | O13: 0 | P13: 0 | Q13: 0 | R13: 0 | T13: 松江市 | U13: 0 | V13: 0 | W13: 0 | X13: 0 | Y13: 0 | Z13: 0 | AA13: 0
B14: 青森県計 | C14: =SUM(C15:C17) -> 4 | D14: =SUM(D15:D17) -> 4 | E14: =SUM(E15:E17) -> 0 | F14: =SUM(F15:F17) -> 0 | G14: =SUM(G15:G17) -> 0 | H14: =SUM(H15:H17) -> 0 | I14: =SUM(I15:I17) -> 0 | K14: その他・石川県 | L14: 1 | M14: 2 | N14: 0 | O14: 0 | P14: 0 | Q14: 0 | R14: 0 | T14: その他・島根県 | U14: 0 | V14: 0 | W14: 0 | X14: 0 | Y14: 0 | Z14: 0 | AA14: 0
B15: 青森市 | C15: 0 | D15: 0 | E15: 0 | F15: 0 | G15: 0 | H15: 0 | I15: 0 | K15: 福井県計 | L15: =SUM(L16:L17) -> 1 | M15: =SUM(M16:M17) -> 2 | N15: =SUM(N16:N17) -> 0 | O15: =SUM(O16:O17) -> 0 | P15: =SUM(P16:P17) -> 0 | Q15: =SUM(Q16:Q17) -> 0 | R15: =SUM(R16:R17) -> 0 | T15: 岡山県計 | U15: =SUM(U16:U18) -> 1 | V15: =SUM(V16:V18) -> 1 | W15: =SUM(W16:W18) -> 0 | X15: =SUM(X16:X18) -> 0 | Y15: =SUM(Y16:Y18) -> 0 | Z15: =SUM(Z16:Z18) -> 0 | AA15: =SUM(AA16:AA18) -> 0
B16: 八戸市 | C16: 4 | D16: 4 | E16: 0 | F16: 0 | G16: 0 | H16: 0 | I16: 0 | K16: 福井市 | L16: 0 | M16: 0 | N16: 0 | O16: 0 | P16: 0 | Q16: 0 | R16: 0 | T16: 岡山市 | U16: 1 | V16: 1 | W16: 0 | X16: 0 | Y16: 0 | Z16: 0 | AA16: 0
B17: その他・青森県 | C17: 0 | D17: 0 | E17: 0 | F17: 0 | G17: 0 | H17: 0 | I17: 0 | K17: その他・福井県 | L17: 1 | M17: 2 | N17: 0 | O17: 0 | P17: 0 | Q17: 0 | R17: 0 | T17: 倉敷市 | U17: 0 | V17: 0 | W17: 0 | X17: 0 | Y17: 0 | Z17: 0 | AA17: 0
B18: 岩手県計 | C18: =SUM(C19:C20) -> 0 | D18: =SUM(D19:D20) -> 0 | E18: =SUM(E19:E20) -> 0 | F18: =SUM(F19:F20) -> 0 | G18: =SUM(G19:G20) -> 0 | H18: =SUM(H19:H20) -> 0 | I18: =SUM(I19:I20) -> 0 | K18: 山梨県計 | L18: =SUM(L19:L20) -> 0 | M18: =SUM(M19:M20) -> 0 | N18: =SUM(N19:N20) -> 0 | O18: =SUM(O19:O20) -> 0 | P18: =SUM(P19:P20) -> 0 | Q18: =SUM(Q19:Q20) -> 0 | R18: =SUM(R19:R20) -> 0 | T18: その他・岡山県 | U18: 0 | V18: 0 | W18: 0 | X18: 0 | Y18: 0 | Z18: 0 | AA18: 0
B19: 盛岡市 | C19: 0 | D19: 0 | E19: 0 | F19: 0 | G19: 0 | H19: 0 | I19: 0 | K19: 甲府市 | L19: 0 | M19: 0 | N19: 0 | O19: 0 | P19: 0 | Q19: 0 | R19: 0 | T19: 広島県計 | U19: =SUM(U20:U23) -> 3 | V19: =SUM(V20:V23) -> 6 | W19: =SUM(W20:W23) -> 0 | X19: =SUM(X20:X23) -> 0 | Y19: =SUM(Y20:Y23) -> 0 | Z19: =SUM(Z20:Z23) -> 0 | AA19: =SUM(AA20:AA23) -> 0
B20: その他・岩手県 | C20: 0 | D20: 0 | E20: 0 | F20: 0 | G20: 0 | H20: 0 | I20: 0 | K20: その他・山梨県 | L20: 0 | M20: 0 | N20: 0 | O20: 0 | P20: 0 | Q20: 0 | R20: 0 | T20: 広島市 | U20: 0 | V20: 0 | W20: 0 | X20: 0 | Y20: 0 | Z20: 0 | AA20: 0
B21: 宮城県計 | C21: =SUM(C22:C23) -> 2 | D21: =SUM(D22:D23) -> 5 | E21: =SUM(E22:E23) -> 0 | F21: =SUM(F22:F23) -> 0 | G21: =SUM(G22:G23) -> 0 | H21: =SUM(H22:H23) -> 0 | I21: =SUM(I22:I23) -> 0 | K21: 長野県計 | L21: =SUM(L22:L24) -> 0 | M21: =SUM(M22:M24) -> 0 | N21: =SUM(N22:N24) -> 0 | O21: =SUM(O22:O24) -> 0 | P21: =SUM(P22:P24) -> 0 | Q21: =SUM(Q22:Q24) -> 0 | R21: =SUM(R22:R24) -> 0 | T21: 呉市 | U21: 0 | V21: 0 | W21: 0 | X21: 0 | Y21: 0 | Z21: 0 | AA21: 0
B22: 仙台市 | C22: 0 | D22: 0 | E22: 0 | F22: 0 | G22: 0 | H22: 0 | I22: 0 | K22: 長野市 | L22: 0 | M22: 0 | N22: 0 | O22: 0 | P22: 0 | Q22: 0 | R22: 0 | T22: 福山市 | U22: 0 | V22: 0 | W22: 0 | X22: 0 | Y22: 0 | Z22: 0 | AA22: 0
B23: その他・宮城県 | C23: 2 | D23: 5 | E23: 0 | F23: 0 | G23: 0 | H23: 0 | I23: 0 | K23: 松本市 | L23: 0 | M23: 0 | N23: 0 | O23: 0 | P23: 0 | Q23: 0 | R23: 0 | T23: その他・広島県 | U23: 3 | V23: 6 | W23: 0 | X23: 0 | Y23: 0 | Z23: 0 | AA23: 0
B24: 秋田県計 | C24: =SUM(C25:C26) -> 0 | D24: =SUM(D25:D26) -> 0 | E24: =SUM(E25:E26) -> 0 | F24: =SUM(F25:F26) -> 0 | G24: =SUM(G25:G26) -> 0 | H24: =SUM(H25:H26) -> 0 | I24: =SUM(I25:I26) -> 0 | K24: その他・長野県 | L24: 0 | M24: 0 | N24: 0 | O24: 0 | P24: 0 | Q24: 0 | R24: 0 | T24: 山口県計 | U24: =SUM(U25:U26) -> 3 | V24: =SUM(V25:V26) -> 7 | W24: =SUM(W25:W26) -> 0 | X24: =SUM(X25:X26) -> 0 | Y24: =SUM(Y25:Y26) -> 0 | Z24: =SUM(Z25:Z26) -> 0 | AA24: =SUM(AA25:AA26) -> 1
B25: 秋田市 | C25: 0 | D25: 0 | E25: 0 | F25: 0 | G25: 0 | H25: 0 | I25: 0 | K25: 岐阜県計 | L25: =SUM(L26:L27) -> 0 | M25: =SUM(M26:M27) -> 0 | N25: =SUM(N26:N27) -> 0 | O25: =SUM(O26:O27) -> 0 | P25: =SUM(P26:P27) -> 0 | Q25: =SUM(Q26:Q27) -> 0 | R25: =SUM(R26:R27) -> 0 | T25: 下関市 | U25: 0 | V25: 0 | W25: 0 | X25: 0 | Y25: 0 | Z25: 0 | AA25: 0
B26: その他・秋田県 | C26: 0 | D26: 0 | E26: 0 | F26: 0 | G26: 0 | H26: 0 | I26: 0 | K26: 岐阜市 | L26: 0 | M26: 0 | N26: 0 | O26: 0 | P26: 0 | Q26: 0 | R26: 0 | T26: その他・山口県 | U26: 3 | V26: 7 | W26: 0 | X26: 0 | Y26: 0 | Z26: 0 | AA26: 1
B27: 山形県計 | C27: =SUM(C28:C29) -> 1 | D27: =SUM(D28:D29) -> 2 | E27: =SUM(E28:E29) -> 0 | F27: =SUM(F28:F29) -> 0 | G27: =SUM(G28:G29) -> 0 | H27: =SUM(H28:H29) -> 0 | I27: =SUM(I28:I29) -> 0 | K27: その他・岐阜県 | L27: 0 | M27: 0 | N27: 0 | O27: 0 | P27: 0 | Q27: 0 | R27: 0 | T27: 徳島県計 | U27: =SUM(U28:U28) -> 0 | V27: =SUM(V28:V28) -> 0 | W27: =SUM(W28:W28) -> 0 | X27: =SUM(X28:X28) -> 0 | Y27: =SUM(Y28:Y28) -> 0 | Z27: =SUM(Z28:Z28) -> 0 | AA27: =SUM(AA28:AA28) -> 0
B28: 山形市 | C28: 0 | D28: 0 | E28: 0 | F28: 0 | G28: 0 | H28: 0 | I28: 0 | K28: 静岡県計 | L28: =SUM(L29:L31) -> 1 | M28: =SUM(M29:M31) -> 1 | N28: =SUM(N29:N31) -> 0 | O28: =SUM(O29:O31) -> 0 | P28: =SUM(P29:P31) -> 0 | Q28: =SUM(Q29:Q31) -> 0 | R28: =SUM(R29:R31) -> 1 | T28: 徳島県 | U28: 0 | V28: 0 | W28: 0 | X28: 0 | Y28: 0 | Z28: 0 | AA28: 0
B29: その他・山形県 | C29: 1 | D29: 2 | E29: 0 | F29: 0 | G29: 0 | H29: 0 | I29: 0 | K29: 静岡市 | L29: 0 | M29: 0 | N29: 0 | O29: 0 | P29: 0 | Q29: 0 | R29: 0 | T29: 香川県計 | U29: =SUM(U30:U31) -> 0 | V29: =SUM(V30:V31) -> 0 | W29: =SUM(W30:W31) -> 0 | X29: =SUM(X30:X31) -> 0 | Y29: =SUM(Y30:Y31) -> 0 | Z29: =SUM(Z30:Z31) -> 0 | AA29: =SUM(AA30:AA31) -> 0
B30: 福島県計 | C30: =SUM(C31:C34) -> 4 | D30: =SUM(D31:D34) -> 7 | E30: =SUM(E31:E34) -> 0 | F30: =SUM(F31:F34) -> 0 | G30: =SUM(G31:G34) -> 0 | H30: =SUM(H31:H34) -> 0 | I30: =SUM(I31:I34) -> 0 | K30: 浜松市 | L30: 0 | M30: 0 | N30: 0 | O30: 0 | P30: 0 | Q30: 0 | R30: 0 | T30: 高松市 | U30: 0 | V30: 0 | W30: 0 | X30: 0 | Y30: 0 | Z30: 0 | AA30: 0
B31: 福島市 | C31: 0 | D31: 0 | E31: 0 | F31: 0 | G31: 0 | H31: 0 | I31: 0 | K31: その他・静岡県 | L31: 1 | M31: 1 | N31: 0 | O31: 0 | P31: 0 | Q31: 0 | R31: 1 | T31: その他・香川県 | U31: 0 | V31: 0 | W31: 0 | X31: 0 | Y31: 0 | Z31: 0 | AA31: 0
B32: 郡山市 | C32: 0 | D32: 0 | E32: 0 | F32: 0 | G32: 0 | H32: 0 | I32: 0 | K32: 愛知県計 | L32: =SUM(L33:L38) -> 15 | M32: =SUM(M33:M38) -> 17 | N32: =SUM(N33:N38) -> 0 | O32: =SUM(O33:O38) -> 0 | P32: =SUM(P33:P38) -> 0 | Q32: =SUM(Q33:Q38) -> 0 | R32: =SUM(R33:R38) -> 7 | T32: 愛媛県計 | U32: =SUM(U33:U34) -> 3 | V32: =SUM(V33:V34) -> 14 | W32: =SUM(W33:W34) -> 0 | X32: =SUM(X33:X34) -> 0 | Y32: =SUM(Y33:Y34) -> 0 | Z32: =SUM(Z33:Z34) -> 0 | AA32: =SUM(AA33:AA34) -> 0
B33: いわき市 | C33: 0 | D33: 0 | E33: 0 | F33: 0 | G33: 0 | H33: 0 | I33: 0 | K33: 名古屋市 | L33: 1 | M33: 1 | N33: 0 | O33: 0 | P33: 0 | Q33: 0 | R33: 0 | T33: 松山市 | U33: 0 | V33: 0 | W33: 0 | X33: 0 | Y33: 0 | Z33: 0 | AA33: 0
B34: その他・福島県 | C34: 4 | D34: 7 | E34: 0 | F34: 0 | G34: 0 | H34: 0 | I34: 0 | K34: 豊橋市 | L34: 0 | M34: 0 | N34: 0 | O34: 0 | P34: 0 | Q34: 0 | R34: 0 | T34: その他・愛媛県 | U34: 3 | V34: 14 | W34: 0 | X34: 0 | Y34: 0 | Z34: 0 | AA34: 0
B35: 茨城県計 | C35: =SUM(C36:C37) -> 0 | D35: =SUM(D36:D37) -> 0 | E35: =SUM(E36:E37) -> 0 | F35: =SUM(F36:F37) -> 0 | G35: =SUM(G36:G37) -> 0 | H35: =SUM(H36:H37) -> 0 | I35: =SUM(I36:I37) -> 0 | K35: 岡崎市 | L35: 0 | M35: 0 | N35: 0 | O35: 0 | P35: 0 | Q35: 0 | R35: 0 | T35: 高知県計 | U35: =SUM(U36:U37) -> 2 | V35: =SUM(V36:V37) -> 2 | W35: =SUM(W36:W37) -> 0 | X35: =SUM(X36:X37) -> 0 | Y35: =SUM(Y36:Y37) -> 0 | Z35: =SUM(Z36:Z37) -> 0 | AA35: =SUM(AA36:AA37) -> 0
B36: 水戸市 | C36: 0 | D36: 0 | E36: 0 | F36: 0 | G36: 0 | H36: 0 | I36: 0 | K36: 一宮市 | L36: 0 | M36: 0 | N36: 0 | O36: 0 | P36: 0 | Q36: 0 | R36: 0 | T36: 高知市 | U36: 2 | V36: 2 | W36: 0 | X36: 0 | Y36: 0 | Z36: 0 | AA36: 0
B37: その他・茨城県 | C37: 0 | D37: 0 | E37: 0 | F37: 0 | G37: 0 | H37: 0 | I37: 0 | K37: 豊田市 | L37: 0 | M37: 0 | N37: 0 | O37: 0 | P37: 0 | Q37: 0 | R37: 0 | T37: その他・高知県 | U37: 0 | V37: 0 | W37: 0 | X37: 0 | Y37: 0 | Z37: 0 | AA37: 0
B38: 栃木県計 | C38: =SUM(C39:C40) -> 0 | D38: =SUM(D39:D40) -> 0 | E38: =SUM(E39:E40) -> 0 | F38: =SUM(F39:F40) -> 0 | G38: =SUM(G39:G40) -> 0 | H38: =SUM(H39:H40) -> 0 | I38: =SUM(I39:I40) -> 0 | K38: その他・愛知県 | L38: 14 | M38: 16 | N38: 0 | O38: 0 | P38: 0 | Q38: 0 | R38: 7 | T38: 福岡県計 | U38: =SUM(U39:U43) -> 6 | V38: =SUM(V39:V43) -> 8 | W38: =SUM(W39:W43) -> 0 | X38: =SUM(X39:X43) -> 0 | Y38: =SUM(Y39:Y43) -> 0 | Z38: =SUM(Z39:Z43) -> 0 | AA38: =SUM(AA39:AA43) -> 2
B39: 宇都宮市 | C39: 0 | D39: 0 | E39: 0 | F39: 0 | G39: 0 | H39: 0 | I39: 0 | K39: 三重県計 | L39: =SUM(L40:L41) -> 0 | M39: =SUM(M40:M41) -> 0 | N39: =SUM(N40:N41) -> 0 | O39: =SUM(O40:O41) -> 0 | P39: =SUM(P40:P41) -> 0 | Q39: =SUM(Q40:Q41) -> 0 | R39: =SUM(R40:R41) -> 0 | T39: 北九州市 | U39: 4 | V39: 6 | W39: 0 | X39: 0 | Y39: 0 | Z39: 0 | AA39: 2
B40: その他・栃木県 | C40: 0 | D40: 0 | E40: 0 | F40: 0 | G40: 0 | H40: 0 | I40: 0 | K40: 四日市市 | L40: 0 | M40: 0 | N40: 0 | O40: 0 | P40: 0 | Q40: 0 | R40: 0 | T40: 福岡市 | U40: 0 | V40: 0 | W40: 0 | X40: 0 | Y40: 0 | Z40: 0 | AA40: 0
B41: 群馬県計 | C41: =SUM(C42:C44) -> 0 | D41: =SUM(D42:D44) -> 0 | E41: =SUM(E42:E44) -> 0 | F41: =SUM(F42:F44) -> 0 | G41: =SUM(G42:G44) -> 0 | H41: =SUM(H42:H44) -> 0 | I41: =SUM(I42:I44) -> 0 | K41: その他・三重県 | L41: 0 | M41: 0 | N41: 0 | O41: 0 | P41: 0 | Q41: 0 | R41: 0 | T41: 大牟田市 | U41: 0 | V41: 0 | W41: 0 | X41: 0 | Y41: 0 | Z41: 0 | AA41: 0
B42: 前橋市 | C42: 0 | D42: 0 | E42: 0 | F42: 0 | G42: 0 | H42: 0 | I42: 0 | K42: 滋賀県計 | L42: =SUM(L43:L44) -> 0 | M42: =SUM(M43:M44) -> 0 | N42: =SUM(N43:N44) -> 0 | O42: =SUM(O43:O44) -> 0 | P42: =SUM(P43:P44) -> 0 | Q42: =SUM(Q43:Q44) -> 0 | R42: =SUM(R43:R44) -> 0 | T42: 久留米市 | U42: 0 | V42: 0 | W42: 0 | X42: 0 | Y42: 0 | Z42: 0 | AA42: 0
...
