Workbook

Sheet 表11.1
B2: 表11.1 立入検査・勧告その他行政指導件数 年度別－全国（特定施設※） （※特定物質に関する事故時の措置（法17条）に係る施設）
D4: 平成30年度 | E4: 令和元年度 | F4: 令和２年度 | G4: 令和３年度 | H4: 令和４年度
B5: (A) | C5: 立入検査実施 工場・事業場数 | D5: 4 | E5: 6 | F5: 2 | G5: 7 | H5: ='表11.2'!Q65 -> 11
B6: (A') | C6: 立入検査実施施設数 | D6: 6 | E6: 6 | F6: 2 | G6: 7 | H6: ='表11.2'!R65 -> 21
B7: (Z) | C7: 事故時の措置 命令施設数 | D7: 0 | E7: 0 | F7: 0 | G7: 0 | H7: ='表11.2'!S65 -> 0
B8: (a) | C8: (Z)の命令違反 告発工場・事業場数 | D8: 0 | E8: 0 | F8: 0 | G8: 0 | H8: ='表11.2'!T65 -> 0
B9: (d) | C9: 行政指導施設数 | D9: 5 | E9: 2 | F9: 1 | G9: 5 | H9: ='表11.2'!U65 -> 2

Sheet 表11.2
B2: 表11.2(1) 立入検査・勧告その他行政指導件数 都道府県市別（特定施設※） （※特定物質に関する事故時の措置（法17条）に係る施設） | I2: 表11.2(2) 立入検査・勧告その他行政指導件数 都道府県市別（特定施設※） （※特定物質に関する事故時の措置（法17条）に係る施設） | P2: 表11.2(3) 立入検査・勧告その他行政指導件数 都道府県市別（特定施設※） （※特定物質に関する事故時の措置（法17条）に係る施設）
B4: 自治体名 | C4: 立入検査 実施工場・ 事業場数 | D4: 立入検査 実施施設数 | E4: 事故時の 措置命令 施設数 | F4: (Z)の命令違反告発工場・ 事業場数 | G4: 行政指導 施設数 | I4: 自治体名 | J4: 立入検査 実施工場・ 事業場数 | K4: 立入検査 実施施設数 | L4: 事故時の 措置命令 施設数 | M4: (Z)の命令違反告発工場・ 事業場数 | N4: 行政指導 施設数 | P4: 自治体名 | Q4: 立入検査 実施工場・ 事業場数 | R4: 立入検査 実施施設数 | S4: 事故時の 措置命令 施設数 | T4: (Z)の命令違反告発工場・ 事業場数 | U4: 行政指導 施設数
C5: (A) | D5: (A') | E5: (Z) | F5: (a) | G5: (d) | J5: (A) | K5: (A') | L5: (Z) | M5: (a) | N5: (d) | Q5: (A) | R5: (A') | S5: (Z) | T5: (a) | U5: (d)
B6: 北海道計 | C6: =SUM(C7:C13) -> 0 | D6: =SUM(D7:D13) -> 0 | E6: =SUM(E7:E13) -> 0 | F6: =SUM(F7:F13) -> 0 | G6: =SUM(G7:G13) -> 0 | I6: 新潟県計 | J6: =SUM(J7:J8) -> 0 | K6: =SUM(K7:K8) -> 0 | L6: =SUM(L7:L8) -> 0 | M6: =SUM(M7:M8) -> 0 | N6: =SUM(N7:N8) -> 0 | P6: 和歌山県計 | Q6: =SUM(Q7:Q8) -> 0 | R6: =SUM(R7:R8) -> 0 | S6: =SUM(S7:S8) -> 0 | T6: =SUM(T7:T8) -> 0 | U6: =SUM(U7:U8) -> 0
B7: 札幌市 | C7: 0 | D7: 0 | E7: 0 | F7: 0 | G7: 0 | I7: 新潟市 | J7: 0 | K7: 0 | L7: 0 | M7: 0 | N7: 0 | P7: 和歌山市 | Q7: 0 | R7: 0 | S7: 0 | T7: 0 | U7: 0
B8: 函館市 | C8: 0 | D8: 0 | E8: 0 | F8: 0 | G8: 0 | I8: その他・新潟県 | J8: 0 | K8: 0 | L8: 0 | M8: 0 | N8: 0 | P8: その他・和歌山県 | Q8: 0 | R8: 0 | S8: 0 | T8: 0 | U8: 0
B9: 小樽市 | C9: 0 | D9: 0 | E9: 0 | F9: 0 | G9: 0 | I9: 富山県計 | J9: =SUM(J10:J11) -> 0 | K9: =SUM(K10:K11) -> 0 | L9: =SUM(L10:L11) -> 0 | M9: =SUM(M10:M11) -> 0 | N9: =SUM(N10:N11) -> 0 | P9: 鳥取県計 | Q9: =SUM(Q10:Q11) -> 0 | R9: =SUM(R10:R11) -> 0 | S9: =SUM(S10:S11) -> 0 | T9: =SUM(T10:T11) -> 0 | U9: =SUM(U10:U11) -> 0
B10: 旭川市 | C10: 0 | D10: 0 | E10: 0 | F10: 0 | G10: 0 | I10: 富山市 | J10: 0 | K10: 0 | L10: 0 | M10: 0 | N10: 0 | P10: 鳥取市 | Q10: 0 | R10: 0 | S10: 0 | T10: 0 | U10: 0
B11: 室蘭市 | C11: 0 | D11: 0 | E11: 0 | F11: 0 | G11: 0 | I11: その他・富山県 | J11: 0 | K11: 0 | L11: 0 | M11: 0 | N11: 0 | P11: その他・鳥取県 | Q11: 0 | R11: 0 | S11: 0 | T11: 0 | U11: 0
B12: 苫小牧市 | C12: 0 | D12: 0 | E12: 0 | F12: 0 | G12: 0 | I12: 石川県計 | J12: =SUM(J13:J14) -> 0 | K12: =SUM(K13:K14) -> 0 | L12: =SUM(L13:L14) -> 0 | M12: =SUM(M13:M14) -> 0 | N12: =SUM(N13:N14) -> 0 | P12: 島根県計 | Q12: =SUM(Q13:Q14) -> 0 | R12: =SUM(R13:R14) -> 0 | S12: =SUM(S13:S14) -> 0 | T12: =SUM(T13:T14) -> 0 | U12: =SUM(U13:U14) -> 0
B13: その他・北海道 | C13: 0 | D13: 0 | E13: 0 | F13: 0 | G13: 0 | I13: 金沢市 | J13: 0 | K13: 0 | L13: 0 | M13: 0 | N13: 0 | P13: 松江市 | Q13: 0 | R13: 0 | S13: 0 | T13: 0 | U13: 0
B14: 青森県計 | C14: =SUM(C15:C17) -> 0 | D14: =SUM(D15:D17) -> 0 | E14: =SUM(E15:E17) -> 0 | F14: =SUM(F15:F17) -> 0 | G14: =SUM(G15:G17) -> 0 | I14: その他・石川県 | J14: 0 | K14: 0 | L14: 0 | M14: 0 | N14: 0 | P14: その他・島根県 | Q14: 0 | R14: 0 | S14: 0 | T14: 0 | U14: 0
B15: 青森市 | C15: 0 | D15: 0 | E15: 0 | F15: 0 | G15: 0 | I15: 福井県計 | J15: =SUM(J16:J17) -> 0 | K15: =SUM(K16:K17) -> 0 | L15: =SUM(L16:L17) -> 0 | M15: =SUM(M16:M17) -> 0 | N15: =SUM(N16:N17) -> 0 | P15: 岡山県計 | Q15: =SUM(Q16:Q18) -> 0 | R15: =SUM(R16:R18) -> 0 | S15: =SUM(S16:S18) -> 0 | T15: =SUM(T16:T18) -> 0 | U15: =SUM(U16:U18) -> 0
B16: 八戸市 | C16: 0 | D16: 0 | E16: 0 | F16: 0 | G16: 0 | I16: 福井市 | J16: 0 | K16: 0 | L16: 0 | M16: 0 | N16: 0 | P16: 岡山市 | Q16: 0 | R16: 0 | S16: 0 | T16: 0 | U16: 0
B17: その他・青森県 | C17: 0 | D17: 0 | E17: 0 | F17: 0 | G17: 0 | I17: その他・福井県 | J17: 0 | K17: 0 | L17: 0 | M17: 0 | N17: 0 | P17: 倉敷市 | Q17: 0 | R17: 0 | S17: 0 | T17: 0 | U17: 0
B18: 岩手県計 | C18: =SUM(C19:C20) -> 0 | D18: =SUM(D19:D20) -> 0 | E18: =SUM(E19:E20) -> 0 | F18: =SUM(F19:F20) -> 0 | G18: =SUM(G19:G20) -> 0 | I18: 山梨県計 | J18: =SUM(J19:J20) -> 0 | K18: =SUM(K19:K20) -> 0 | L18: =SUM(L19:L20) -> 0 | M18: =SUM(M19:M20) -> 0 | N18: =SUM(N19:N20) -> 0 | P18: その他・岡山県 | Q18: 0 | R18: 0 | S18: 0 | T18: 0 | U18: 0
B19: 盛岡市 | C19: 0 | D19: 0 | E19: 0 | F19: 0 | G19: 0 | I19: 甲府市 | J19: 0 | K19: 0 | L19: 0 | M19: 0 | N19: 0 | P19: 広島県計 | Q19: =SUM(Q20:Q23) -> 0 | R19: =SUM(R20:R23) -> 0 | S19: =SUM(S20:S23) -> 0 | T19: =SUM(T20:T23) -> 0 | U19: =SUM(U20:U23) -> 0
B20: その他・岩手県 | C20: 0 | D20: 0 | E20: 0 | F20: 0 | G20: 0 | I20: その他・山梨県 | J20: 0 | K20: 0 | L20: 0 | M20: 0 | N20: 0 | P20: 広島市 | Q20: 0 | R20: 0 | S20: 0 | T20: 0 | U20: 0
B21: 宮城県計 | C21: =SUM(C22:C23) -> 0 | D21: =SUM(D22:D23) -> 0 | E21: =SUM(E22:E23) -> 0 | F21: =SUM(F22:F23) -> 0 | G21: =SUM(G22:G23) -> 0 | I21: 長野県計 | J21: =SUM(J22:J24) -> 0 | K21: =SUM(K22:K24) -> 0 | L21: =SUM(L22:L24) -> 0 | M21: =SUM(M22:M24) -> 0 | N21: =SUM(N22:N24) -> 0 | P21: 呉市 | Q21: 0 | R21: 0 | S21: 0 | T21: 0 | U21: 0
B22: 仙台市 | C22: 0 | D22: 0 | E22: 0 | F22: 0 | G22: 0 | I22: 長野市 | J22: 0 | K22: 0 | L22: 0 | M22: 0 | N22: 0 | P22: 福山市 | Q22: 0 | R22: 0 | S22: 0 | T22: 0 | U22: 0
B23: その他・宮城県 | C23: 0 | D23: 0 | E23: 0 | F23: 0 | G23: 0 | I23: 松本市 | J23: 0 | K23: 0 | L23: 0 | M23: 0 | N23: 0 | P23: その他・広島県 | Q23: 0 | R23: 0 | S23: 0 | T23: 0 | U23: 0
B24: 秋田県計 | C24: =SUM(C25:C26) -> 0 | D24: =SUM(D25:D26) -> 0 | E24: =SUM(E25:E26) -> 0 | F24: =SUM(F25:F26) -> 0 | G24: =SUM(G25:G26) -> 0 | I24: その他・長野県 | J24: 0 | K24: 0 | L24: 0 | M24: 0 | N24: 0 | P24: 山口県計 | Q24: =SUM(Q25:Q26) -> 0 | R24: =SUM(R25:R26) -> 0 | S24: =SUM(S25:S26) -> 0 | T24: =SUM(T25:T26) -> 0 | U24: =SUM(U25:U26) -> 0
B25: 秋田市 | C25: 0 | D25: 0 | E25: 0 | F25: 0 | G25: 0 | I25: 岐阜県計 | J25: =SUM(J26:J27) -> 0 | K25: =SUM(K26:K27) -> 0 | L25: =SUM(L26:L27) -> 0 | M25: =SUM(M26:M27) -> 0 | N25: =SUM(N26:N27) -> 0 | P25: 下関市 | Q25: 0 | R25: 0 | S25: 0 | T25: 0 | U25: 0
B26: その他・秋田県 | C26: 0 | D26: 0 | E26: 0 | F26: 0 | G26: 0 | I26: 岐阜市 | J26: 0 | K26: 0 | L26: 0 | M26: 0 | N26: 0 | P26: その他・山口県 | Q26: 0 | R26: 0 | S26: 0 | T26: 0 | U26: 0
B27: 山形県計 | C27: =SUM(C28:C29) -> 0 | D27: =SUM(D28:D29) -> 0 | E27: =SUM(E28:E29) -> 0 | F27: =SUM(F28:F29) -> 0 | G27: =SUM(G28:G29) -> 0 | I27: その他・岐阜県 | J27: 0 | K27: 0 | L27: 0 | M27: 0 | N27: 0 | P27: 徳島県計 | Q27: =SUM(Q28) -> 0 | R27: =SUM(R28) -> 0 | S27: =SUM(S28) -> 0 | T27: =SUM(T28) -> 0 | U27: =SUM(U28) -> 0
B28: 山形市 | C28: 0 | D28: 0 | E28: 0 | F28: 0 | G28: 0 | I28: 静岡県計 | J28: =SUM(J29:J31) -> 0 | K28: =SUM(K29:K31) -> 0 | L28: =SUM(L29:L31) -> 0 | M28: =SUM(M29:M31) -> 0 | N28: =SUM(N29:N31) -> 1 | P28: 徳島県 | Q28: 0 | R28: 0 | S28: 0 | T28: 0 | U28: 0
B29: その他・山形県 | C29: 0 | D29: 0 | E29: 0 | F29: 0 | G29: 0 | I29: 静岡市 | J29: 0 | K29: 0 | L29: 0 | M29: 0 | N29: 0 | P29: 香川県計 | Q29: =SUM(Q30:Q31) -> 1 | R29: =SUM(R30:R31) -> 1 | S29: =SUM(S30:S31) -> 0 | T29: =SUM(T30:T31) -> 0 | U29: =SUM(U30:U31) -> 0
B30: 福島県計 | C30: =SUM(C31:C34) -> 0 | D30: =SUM(D31:D34) -> 0 | E30: =SUM(E31:E34) -> 0 | F30: =SUM(F31:F34) -> 0 | G30: =SUM(G31:G34) -> 0 | I30: 浜松市 | J30: 0 | K30: 0 | L30: 0 | M30: 0 | N30: 1 | P30: 高松市 | Q30: 0 | R30: 0 | S30: 0 | T30: 0 | U30: 0
B31: 福島市 | C31: 0 | D31: 0 | E31: 0 | F31: 0 | G31: 0 | I31: その他・静岡県 | J31: 0 | K31: 0 | L31: 0 | M31: 0 | N31: 0 | P31: その他・香川県 | Q31: 1 | R31: 1 | S31: 0 | T31: 0 | U31: 0
B32: 郡山市 | C32: 0 | D32: 0 | E32: 0 | F32: 0 | G32: 0 | I32: 愛知県計 | J32: =SUM(J33:J38) -> 0 | K32: =SUM(K33:K38) -> 0 | L32: =SUM(L33:L38) -> 0 | M32: =SUM(M33:M38) -> 0 | N32: =SUM(N33:N38) -> 0 | P32: 愛媛県計 | Q32: =SUM(Q33:Q34) -> 0 | R32: =SUM(R33:R34) -> 0 | S32: =SUM(S33:S34) -> 0 | T32: =SUM(T33:T34) -> 0 | U32: =SUM(U33:U34) -> 0
B33: いわき市 | C33: 0 | D33: 0 | E33: 0 | F33: 0 | G33: 0 | I33: 名古屋市 | J33: 0 | K33: 0 | L33: 0 | M33: 0 | N33: 0 | P33: 松山市 | Q33: 0 | R33: 0 | S33: 0 | T33: 0 | U33: 0
B34: その他・福島県 | C34: 0 | D34: 0 | E34: 0 | F34: 0 | G34: 0 | I34: 豊橋市 | J34: 0 | K34: 0 | L34: 0 | M34: 0 | N34: 0 | P34: その他・愛媛県 | Q34: 0 | R34: 0 | S34: 0 | T34: 0 | U34: 0
B35: 茨城県計 | C35: =SUM(C36:C37) -> 0 | D35: =SUM(D36:D37) -> 0 | E35: =SUM(E36:E37) -> 0 | F35: =SUM(F36:F37) -> 0 | G35: =SUM(G36:G37) -> 0 | I35: 岡崎市 | J35: 0 | K35: 0 | L35: 0 | M35: 0 | N35: 0 | P35: 高知県計 | Q35: =SUM(Q36:Q37) -> 0 | R35: =SUM(R36:R37) -> 0 | S35: =SUM(S36:S37) -> 0 | T35: =SUM(T36:T37) -> 0 | U35: =SUM(U36:U37) -> 0
B36: 水戸市 | C36: 0 | D36: 0 | E36: 0 | F36: 0 | G36: 0 | I36: 一宮市 | J36: 0 | K36: 0 | L36: 0 | M36: 0 | N36: 0 | P36: 高知市 | Q36: 0 | R36: 0 | S36: 0 | T36: 0 | U36: 0
B37: その他・茨城県 | C37: 0 | D37: 0 | E37: 0 | F37: 0 | G37: 0 | I37: 豊田市 | J37: 0 | K37: 0 | L37: 0 | M37: 0 | N37: 0 | P37: その他・高知県 | Q37: 0 | R37: 0 | S37: 0 | T37: 0 | U37: 0
B38: 栃木県計 | C38: =SUM(C39:C40) -> 0 | D38: =SUM(D39:D40) -> 0 | E38: =SUM(E39:E40) -> 0 | F38: =SUM(F39:F40) -> 0 | G38: =SUM(G39:G40) -> 0 | I38: その他・愛知県 | J38: 0 | K38: 0 | L38: 0 | M38: 0 | N38: 0 | P38: 福岡県計 | Q38: =SUM(Q39:Q43) -> 2 | R38: =SUM(R39:R43) -> 2 | S38: =SUM(S39:S43) -> 0 | T38: =SUM(T39:T43) -> 0 | U38: =SUM(U39:U43) -> 0
B39: 宇都宮市 | C39: 0 | D39: 0 | E39: 0 | F39: 0 | G39: 0 | I39: 三重県計 | J39: =SUM(J40:J41) -> 0 | K39: =SUM(K40:K41) -> 0 | L39: =SUM(L40:L41) -> 0 | M39: =SUM(M40:M41) -> 0 | N39: =SUM(N40:N41) -> 0 | P39: 北九州市 | Q39: 0 | R39: 0 | S39: 0 | T39: 0 | U39: 0
B40: その他・栃木県 | C40: 0 | D40: 0 | E40: 0 | F40: 0 | G40: 0 | I40: 四日市市 | J40: 0 | K40: 0 | L40: 0 | M40: 0 | N40: 0 | P40: 福岡市 | Q40: 0 | R40: 0 | S40: 0 | T40: 0 | U40: 0
B41: 群馬県計 | C41: =SUM(C42:C44) -> 0 | D41: =SUM(D42:D44) -> 0 | E41: =SUM(E42:E44) -> 0 | F41: =SUM(F42:F44) -> 0 | G41: =SUM(G42:G44) -> 0 | I41: その他・三重県 | J41: 0 | K41: 0 | L41: 0 | M41: 0 | N41: 0 | P41: 大牟田市 | Q41: 0 | R41: 0 | S41: 0 | T41: 0 | U41: 0
B42: 前橋市 | C42: 0 | D42: 0 | E42: 0 | F42: 0 | G42: 0 | I42: 滋賀県計 | J42: =SUM(J43:J44) -> 0 | K42: =SUM(K43:K44) -> 0 | L42: =SUM(L43:L44) -> 0 | M42: =SUM(M43:M44) -> 0 | N42: =SUM(N43:N44) -> 0 | P42: 久留米市 | Q42: 0 | R42: 0 | S42: 0 | T42: 0 | U42: 0
B43: 高崎市 | C43: 0 | D43: 0 | E43: 0 | F43: 0 | G43: 0 | I43: 大津市 | J43: 0 | K43: 0 | L43: 0 | M43: 0 | N43: 0 | P43: その他・福岡県 | Q43: 2 | R43: 2 | S43: 0 | T43: 0 | U43: 0
B44: その他・群馬県 | C44: 0 | D44: 0 | E44: 0 | F44: 0 | G44: 0 | I44: その他・滋賀県 | J44: 0 | K44: 0 | L44: 0 | M44: 0 | N44: 0 | P44: 佐賀県計 | Q44: =SUM(Q45) -> 0 | R44: =SUM(R45) -> 0 | S44: =SUM(S45) -> 0 | T44: =SUM(T45) -> 0 | U44: =SUM(U45) -> 0
B45: 埼玉県計 | C45: =SUM(C46:C51) -> 8 | D45: =SUM(D46:D51) -> 18 | E45: =SUM(E46:E51) -> 0 | F45: =SUM(F46:F51) -> 0 | G45: =SUM(G46:G51) -> 1 | I45: 京都府計 | J45: =SUM(J46:J47) -> 0 | K45: =SUM(K46:K47) -> 0 | L45: =SUM(L46:L47) -> 0 | M45: =SUM(M46:M47) -> 0 | N45: =SUM(N46:N47) -> 0 | P45: 佐賀県 | Q45: 0 | R45: 0 | S45: 0 | T45: 0 | U45: 0
B46: さいたま市 | C46: 0 | D46: 0 | E46: 0 | F46: 0 | G46: 0 | I46: 京都市 | J46: 0 | K46: 0 | L46: 0 | M46: 0 | N46: 0 | P46: 長崎県計 | Q46: =SUM(Q47:Q49) -> 0 | R46: =SUM(R47:R49) -> 0 | S46: =SUM(S47:S49) -> 0 | T46: =SUM(T47:T49) -> 0 | U46: =SUM(U47:U49) -> 0
B47: 川越市 | C47: 0 | D47: 0 | E47: 0 | F47: 0 | G47: 0 | I47: その他・京都府 | J47: 0 | K47: 0 | L47: 0 | M47: 0 | N47: 0 | P47: 長崎市 | Q47: 0 | R47: 0 | S47: 0 | T47: 0 | U47: 0
B48: 川口市 | C48: 0 | D48: 0 | E48: 0 | F48: 0 | G48: 0 | I48: 大阪府計 | J48: =SUM(J49:J58) -> 0 | K48: =SUM(K49:K58) -> 0 | L48: =SUM(L49:L58) -> 0 | M48: =SUM(M49:M58) -> 0 | N48: =SUM(N49:N58) -> 0 | P48: 佐世保市 | Q48: 0 | R48: 0 | S48: 0 | T48: 0 | U48: 0
B49: 所沢市 | C49: 0 | D49: 0 | E49: 0 | F49: 0 | G49: 0 | I49: 大阪市 | J49: 0 | K49: 0 | L49: 0 | M49: 0 | N49: 0 | P49: その他・長崎県 | Q49: 0 | R49: 0 | S49: 0 | T49: 0 | U49: 0
B50: 越谷市 | C50: 0 | D50: 0 | E50: 0 | F50: 0 | G50: 0 | I50: 堺市 | J50: 0 | K50: 0 | L50: 0 | M50: 0 | N50: 0 | P50: 熊本県計 | Q50: =SUM(Q51:Q52) -> 0 | R50: =SUM(R51:R52) -> 0 | S50: =SUM(S51:S52) -> 0 | T50: =SUM(T51:T52) -> 0 | U50: =SUM(U51:U52) -> 0
B51: その他・埼玉県 | C51: 8 | D51: 18 | E51: 0 | F51: 0 | G51: 1 | I51: 豊中市 | J51: 0 | K51: 0 | L51: 0 | M51: 0 | N51: 0 | P51: 熊本市 | Q51: 0 | R51: 0 | S51: 0 | T51: 0 | U51: 0
B52: 千葉県計 | C52: =SUM(C53:C59) -> 0 | D52: =SUM(D53:D59) -> 0 | E52: =SUM(E53:E59) -> 0 | F52: =SUM(F53:F59) -> 0 | G52: =SUM(G53:G59) -> 0 | I52: 吹田市 | J52: 0 | K52: 0 | L52: 0 | M52: 0 | N52: 0 | P52: その他・熊本県 | Q52: 0 | R52: 0 | S52: 0 | T52: 0 | U52: 0
B53: 千葉市 | C53: 0 | D53: 0 | E53: 0 | F53: 0 | G53: 0 | I53: 高槻市 | J53: 0 | K53: 0 | L53: 0 | M53: 0 | N53: 0 | P53: 大分県計 | Q53: =SUM(Q54:Q55) -> 0 | R53: =SUM(R54:R55) -> 0 | S53: =SUM(S54:S55) -> 0 | T53: =SUM(T54:T55) -> 0 | U53: =SUM(U54:U55) -> 0
B54: 市川市 | C54: 0 | D54: 0 | E54: 0 | F54: 0 | G54: 0 | I54: 枚方市 | J54: 0 | K54: 0 | L54: 0 | M54: 0 | N54: 0 | P54: 大分市 | Q54: 0 | R54: 0 | S54: 0 | T54: 0 | U54: 0
B55: 船橋市 | C55: 0 | D55: 0 | E55: 0 | F55: 0 | G55: 0 | I55: 八尾市 | J55: 0 | K55: 0 | L55: 0 | M55: 0 | N55: 0 | P55: その他・大分県 | Q55: 0 | R55: 0 | S55: 0 | T55: 0 | U55: 0
B56: 松戸市 | C56: 0 | D56: 0 | E56: 0 | F56: 0 | G56: 0 | I56: 寝屋川市 | J56: 0 | K56: 0 | L56: 0 | M56: 0 | N56: 0 | P56: 宮崎県計 | Q56: =SUM(Q57:Q58) -> 0 | R56: =SUM(R57:R58) -> 0 | S56: =SUM(S57:S58) -> 0 | T56: =SUM(T57:T58) -> 0 | U56: =SUM(U57:U58) -> 0
B57: 柏市 | C57: 0 | D57: 0 | E57: 0 | F57: 0 | G57: 0 | I57: 東大阪市 | J57: 0 | K57: 0 | L57: 0 | M57: 0 | N57: 0 | P57: 宮崎市 | Q57: 0 | R57: 0 | S57: 0 | T57: 0 | U57: 0
B58: 市原市 | C58: 0 | D58: 0 | E58: 0 | F58: 0 | G58: 0 | I58: その他・大阪府 | J58: 0 | K58: 0 | L58: 0 | M58: 0 | N58: 0 | P58: その他・宮崎県 | Q58: 0 | R58: 0 | S58: 0 | T58: 0 | U58: 0
B59: その他・千葉県 | C59: 0 | D59: 0 | E59: 0 | F59: 0 | G59: 0 | I59: 兵庫県計 | J59: =SUM(J60:J66) -> 0 | K59: =SUM(K60:K66) -> 0 | L59: =SUM(L60:L66) -> 0 | M59: =SUM(M60:M66) -> 0 | N59: =SUM(N60:N66) -> 0 | P59: 鹿児島県計 | Q59: =SUM(Q60:Q61) -> 0 | R59: =SUM(R60:R61) -> 0 | S59: =SUM(S60:S61) -> 0 | T59: =SUM(T60:T61) -> 0 | U59: =SUM(U60:U61) -> 0
B60: 東京都計 | C60: =SUM(C61:C62) -> 0 | D60: =SUM(D61:D62) -> 0 | E60: =SUM(E61:E62) -> 0 | F60: =SUM(F61:F62) -> 0 | G60: =SUM(G61:G62) -> 0 | I60: 神戸市 | J60: 0 | K60: 0 | L60: 0 | M60: 0 | N60: 0 | P60: 鹿児島市 | Q60: 0 | R60: 0 | S60: 0 | T60: 0 | U60: 0
B61: 八王子市 | C61: 0 | D61: 0 | E61: 0 | F61: 0 | G61: 0 | I61: 姫路市 | J61: 0 | K61: 0 | L61: 0 | M61: 0 | N61: 0 | P61: その他・鹿児島県 | Q61: 0 | R61: 0 | S61: 0 | T61: 0 | U61: 0
B62: その他・東京都 | C62: 0 | D62: 0 | E62: 0 | F62: 0 | G62: 0 | I62: 尼崎市 | J62: 0 | K62: 0 | L62: 0 | M62: 0 | N62: 0 | P62: 沖縄県計 | Q62: =SUM(Q63:Q64) -> 0 | R62: =SUM(R63:R64) -> 0 | S62: =SUM(S63:S64) -> 0 | T62: =SUM(T63:T64) -> 0 | U62: =SUM(U63:U64) -> 0
B63: 神奈川県計 | C63: =SUM(C64:C70) -> 0 | D63: =SUM(D64:D70) -> 0 | E63: =SUM(E64:E70) -> 0 | F63: =SUM(F64:F70) -> 0 | G63: =SUM(G64:G70) -> 0 | I63: 明石市 | J63: 0 | K63: 0 | L63: 0 | M63: 0 | N63: 0 | P63: 那覇市 | Q63: 0 | R63: 0 | S63: 0 | T63: 0 | U63: 0
B64: 横浜市 | C64: 0 | D64: 0 | E64: 0 | F64: 0 | G64: 0 | I64: 西宮市 | J64: 0 | K64: 0 | L64: 0 | M64: 0 | N64: 0 | P64: その他・沖縄県 | Q64: 0 | R64: 0 | S64: 0 | T64: 0 | U64: 0
B65: 川崎市 | C65: 0 | D65: 0 | E65: 0 | F65: 0 | G65: 0 | I65: 加古川市 | J65: 0 | K65: 0 | L65: 0 | M65: 0 | N65: 0 | P65: 合計 | Q65: =SUM(C6:C70,J6:J69,Q6:Q64)/2 -> 11 | R65: =SUM(D6:D70,K6:K69,R6:R64)/2 -> 21 | S65: =SUM(E6:E70,L6:L69,S6:S64)/2 -> 0 | T65: =SUM(F6:F70,M6:M69,T6:T64)/2 -> 0 | U65: =SUM(G6:G70,N6:N69,U6:U64)/2 -> 2
B66: 相模原市 | C66: 0 | D66: 0 | E66: 0 | F66: 0 | G66: 0 | I66: その他・兵庫県 | J66: 0 | K66: 0 | L66: 0 | M66: 0 | N66: 0
B67: 横須賀市 | C67: 0 | D67: 0 | E67: 0 | F67: 0 | G67: 0 | I67: 奈良県計 | J67: =SUM(J68:J69) -> 0 | K67: =SUM(K68:K69) -> 0 | L67: =SUM(L68:L69) -> 0 | M67: =SUM(M68:M69) -> 0 | N67: =SUM(N68:N69) -> 0
B68: 平塚市 | C68: 0 | D68: 0 | E68: 0 | F68: 0 | G68: 0 | I68: 奈良市 | J68: 0 | K68: 0 | L68: 0 | M68: 0 | N68: 0
B69: 藤沢市 | C69: 0 | D69: 0 | E69: 0 | F69: 0 | G69: 0 | I69: その他・奈良県 | J69: 0 | K69: 0 | L69: 0 | M69: 0 | N69: 0
B70: その他・神奈川県 | C70: 0 | D70: 0 | E70: 0 | F70: 0 | G70: 0

Sheet 表11.3
B2: 表11.3(1) 立入検査実施件数 年度別・都道府県市別（特定施設※） （※特定物質に関する事故時の措置（法17条）に係る施設） | I2: 表11.3(2) 立入検査実施件数 年度別・都道府県市別（特定施設※） （※特定物質に関する事故時の措置（法17条）に係る施設） | P2: 表11.3(3) 立入検査実施件数 年度別・都道府県市別（特定施設※） （※特定物質に関する事故時の措置（法17条）に係る施設）
B4: 自治体名 | C4: 立入検査実施工場・事業場数 | I4: 自治体名 | J4: 立入検査実施工場・事業場数 | P4: 自治体名 | Q4: 立入検査実施工場・事業場数
C5: 平成30年度 | D5: 令和元年度 | E5: 令和２年度 | F5: 令和３年度 | G5: 令和４年度 | J5: 平成30年度 | K5: 令和元年度 | L5: 令和２年度 | M5: 令和３年度 | N5: 令和４年度 | Q5: 平成30年度 | R5: 令和元年度 | S5: 令和２年度 | T5: 令和３年度 | U5: 令和４年度
B6: 北海道計 | C6: =SUM(C7:C13) -> 0 | D6: =SUM(D7:D13) -> 0 | E6: =SUM(E7:E13) -> 0 | F6: =SUM(F7:F13) -> 0 | G6: =SUM(G7:G13) -> 0 | I6: 新潟県計 | J6: =SUM(J7:J8) -> 0 | K6: =SUM(K7:K8) -> 1 | L6: =SUM(L7:L8) -> 0 | M6: =SUM(M7:M8) -> 0 | N6: =SUM(N7:N8) -> 0 | P6: 和歌山県計 | Q6: =SUM(Q7:Q8) -> 0 | R6: =SUM(R7:R8) -> 0 | S6: =SUM(S7:S8) -> 0 | T6: =SUM(T7:T8) -> 0 | U6: =SUM(U7:U8) -> 0
B7: 札幌市 | E7: 0 | F7: 0 | G7: ='表11.2'!C7 -> 0 | I7: 新潟市 | L7: 0 | M7: 0 | N7: ='表11.2'!J7 -> 0 | P7: 和歌山市 | Q7: 0 | R7: 0 | S7: 0 | T7: 0 | U7: ='表11.2'!Q7 -> 0
B8: 函館市 | E8: 0 | F8: 0 | G8: ='表11.2'!C8 -> 0 | I8: その他・新潟県 | K8: 1 | L8: 0 | M8: 0 | N8: ='表11.2'!J8 -> 0 | P8: その他・和歌山県 | Q8: 0 | R8: 0 | S8: 0 | T8: 0 | U8: ='表11.2'!Q8 -> 0
B9: 小樽市 | E9: 0 | F9: 0 | G9: ='表11.2'!C9 -> 0 | I9: 富山県計 | J9: =SUM(J10:J11) -> 0 | K9: =SUM(K10:K11) -> 0 | L9: =SUM(L10:L11) -> 0 | M9: =SUM(M10:M11) -> 0 | N9: =SUM(N10:N11) -> 0 | P9: 鳥取県計 | Q9: =SUM(Q10:Q11) -> 0 | R9: =SUM(R10:R11) -> 0 | S9: =SUM(S10:S11) -> 0 | T9: =SUM(T10:T11) -> 0 | U9: =SUM(U10:U11) -> 0
B10: 旭川市 | E10: 0 | F10: 0 | G10: ='表11.2'!C10 -> 0 | I10: 富山市 | L10: 0 | M10: 0 | N10: ='表11.2'!J10 -> 0 | P10: 鳥取市 | S10: 0 | T10: 0 | U10: ='表11.2'!Q10 -> 0
B11: 室蘭市 | E11: 0 | F11: 0 | G11: ='表11.2'!C11 -> 0 | I11: その他・富山県 | L11: 0 | M11: 0 | N11: ='表11.2'!J11 -> 0 | P11: その他・鳥取県 | S11: 0 | T11: 0 | U11: ='表11.2'!Q11 -> 0
B12: 苫小牧市 | E12: 0 | F12: 0 | G12: ='表11.2'!C12 -> 0 | I12: 石川県計 | J12: =SUM(J13:J14) -> 0 | K12: =SUM(K13:K14) -> 0 | L12: =SUM(L13:L14) -> 0 | M12: =SUM(M13:M14) -> 0 | N12: =SUM(N13:N14) -> 0 | P12: 島根県計 | Q12: =SUM(Q13:Q14) -> 0 | R12: =SUM(R13:R14) -> 0 | S12: =SUM(S13:S14) -> 0 | T12: =SUM(T13:T14) -> 0 | U12: =SUM(U13:U14) -> 0
B13: その他・北海道 | E13: 0 | F13: 0 | G13: ='表11.2'!C13 -> 0 | I13: 金沢市 | L13: 0 | M13: 0 | N13: ='表11.2'!J13 -> 0 | P13: 松江市 | S13: 0 | T13: 0 | U13: ='表11.2'!Q13 -> 0
B14: 青森県計 | C14: =SUM(C15:C17) -> 0 | D14: =SUM(D15:D17) -> 0 | E14: =SUM(E15:E17) -> 0 | F14: =SUM(F15:F17) -> 0 | G14: =SUM(G15:G17) -> 0 | I14: その他・石川県 | L14: 0 | M14: 0 | N14: ='表11.2'!J14 -> 0 | P14: その他・島根県 | S14: 0 | T14: 0 | U14: ='表11.2'!Q14 -> 0
B15: 青森市 | E15: 0 | F15: 0 | G15: ='表11.2'!C15 -> 0 | I15: 福井県計 | J15: =SUM(J16:J17) -> 0 | K15: =SUM(K16:K17) -> 0 | L15: =SUM(L16:L17) -> 0 | M15: =SUM(M16:M17) -> 0 | N15: =SUM(N16:N17) -> 0 | P15: 岡山県計 | Q15: =SUM(Q16:Q18) -> 0 | R15: =SUM(R16:R18) -> 0 | S15: =SUM(S16:S18) -> 0 | T15: =SUM(T16:T18) -> 0 | U15: =SUM(U16:U18) -> 0
B16: 八戸市 | F16: 0 | G16: ='表11.2'!C16 -> 0 | I16: 福井市 | J16: 0 | L16: 0 | M16: 0 | N16: ='表11.2'!J16 -> 0 | P16: 岡山市 | S16: 0 | T16: 0 | U16: ='表11.2'!Q16 -> 0
B17: その他・青森県 | E17: 0 | F17: 0 | G17: ='表11.2'!C17 -> 0 | I17: その他・福井県 | L17: 0 | M17: 0 | N17: ='表11.2'!J17 -> 0 | P17: 倉敷市 | S17: 0 | T17: 0 | U17: ='表11.2'!Q17 -> 0
B18: 岩手県計 | C18: =SUM(C19:C20) -> 0 | D18: =SUM(D19:D20) -> 0 | E18: =SUM(E19:E20) -> 0 | F18: =SUM(F19:F20) -> 0 | G18: =SUM(G19:G20) -> 0 | I18: 山梨県計 | J18: =SUM(J19:J20) -> 0 | K18: =SUM(K19:K20) -> 0 | L18: =SUM(L19:L20) -> 0 | M18: =SUM(M19:M20) -> 0 | N18: =SUM(N19:N20) -> 0 | P18: その他・岡山県 | S18: 0 | T18: 0 | U18: ='表11.2'!Q18 -> 0
B19: 盛岡市 | E19: 0 | F19: 0 | G19: ='表11.2'!C19 -> 0 | I19: 甲府市 | J19: 0 | L19: 0 | M19: 0 | N19: ='表11.2'!J19 -> 0 | P19: 広島県計 | Q19: =SUM(Q20:Q23) -> 0 | R19: =SUM(R20:R23) -> 0 | S19: =SUM(S20:S23) -> 0 | T19: =SUM(T20:T23) -> 0 | U19: =SUM(U20:U23) -> 0
B20: その他・岩手県 | E20: 0 | F20: 0 | G20: ='表11.2'!C20 -> 0 | I20: その他・山梨県 | L20: 0 | M20: 0 | N20: ='表11.2'!J20 -> 0 | P20: 広島市 | S20: 0 | T20: 0 | U20: ='表11.2'!Q20 -> 0
B21: 宮城県計 | C21: =SUM(C22:C23) -> 0 | D21: =SUM(D22:D23) -> 0 | E21: =SUM(E22:E23) -> 0 | F21: =SUM(F22:F23) -> 0 | G21: =SUM(G22:G23) -> 0 | I21: 長野県計 | J21: =SUM(J22:J24) -> 0 | K21: =SUM(K22:K24) -> 0 | L21: =SUM(L22:L24) -> 0 | M21: =SUM(M22:M24) -> 0 | N21: =SUM(N22:N24) -> 0 | P21: 呉市 | S21: 0 | T21: 0 | U21: ='表11.2'!Q21 -> 0
B22: 仙台市 | E22: 0 | F22: 0 | G22: ='表11.2'!C22 -> 0 | I22: 長野市 | L22: 0 | M22: 0 | N22: ='表11.2'!J22 -> 0 | P22: 福山市 | S22: 0 | T22: 0 | U22: ='表11.2'!Q22 -> 0
B23: その他・宮城県 | E23: 0 | F23: 0 | G23: ='表11.2'!C23 -> 0 | I23: 松本市 | M23: 0 | N23: ='表11.2'!J23 -> 0 | P23: その他・広島県 | S23: 0 | T23: 0 | U23: ='表11.2'!Q23 -> 0
B24: 秋田県計 | C24: =SUM(C25:C26) -> 0 | D24: =SUM(D25:D26) -> 0 | E24: =SUM(E25:E26) -> 0 | F24: =SUM(F25:F26) -> 0 | G24: =SUM(G25:G26) -> 0 | I24: その他・長野県 | L24: 0 | M24: 0 | N24: ='表11.2'!J24 -> 0 | P24: 山口県計 | Q24: =SUM(Q25:Q26) -> 0 | R24: =SUM(R25:R26) -> 0 | S24: =SUM(S25:S26) -> 0 | T24: =SUM(T25:T26) -> 0 | U24: =SUM(U25:U26) -> 0
B25: 秋田市 | E25: 0 | F25: 0 | G25: ='表11.2'!C25 -> 0 | I25: 岐阜県計 | J25: =SUM(J26:J27) -> 0 | K25: =SUM(K26:K27) -> 0 | L25: =SUM(L26:L27) -> 0 | M25: =SUM(M26:M27) -> 0 | N25: =SUM(N26:N27) -> 0 | P25: 下関市 | S25: 0 | T25: 0 | U25: ='表11.2'!Q25 -> 0
B26: その他・秋田県 | E26: 0 | F26: 0 | G26: ='表11.2'!C26 -> 0 | I26: 岐阜市 | L26: 0 | M26: 0 | N26: ='表11.2'!J26 -> 0 | P26: その他・山口県 | S26: 0 | T26: 0 | U26: ='表11.2'!Q26 -> 0
B27: 山形県計 | C27: =SUM(C28:C29) -> 0 | D27: =SUM(D28:D29) -> 0 | E27: =SUM(E28:E29) -> 0 | F27: =SUM(F28:F29) -> 0 | G27: =SUM(G28:G29) -> 0 | I27: その他・岐阜県 | L27: 0 | M27: 0 | N27: ='表11.2'!J27 -> 0 | P27: 徳島県計 | Q27: =Q28 -> 0 | R27: =R28 -> 0 | S27: =S28 -> 0 | T27: =T28 -> 0 | U27: =U28 -> 0
B28: 山形市 | E28: 0 | F28: 0 | G28: ='表11.2'!C28 -> 0 | I28: 静岡県計 | J28: =SUM(J29:J31) -> 0 | K28: =SUM(K29:K31) -> 0 | L28: =SUM(L29:L31) -> 0 | M28: =SUM(M29:M31) -> 0 | N28: =SUM(N29:N31) -> 0 | P28: 徳島県 | S28: 0 | T28: 0 | U28: ='表11.2'!Q28 -> 0
B29: その他・山形県 | E29: 0 | F29: 0 | G29: ='表11.2'!C29 -> 0 | I29: 静岡市 | L29: 0 | M29: 0 | N29: ='表11.2'!J29 -> 0 | P29: 香川県計 | Q29: =SUM(Q30:Q31) -> 0 | R29: =SUM(R30:R31) -> 0 | S29: =SUM(S30:S31) -> 0 | T29: =SUM(T30:T31) -> 0 | U29: =SUM(U30:U31) -> 1
B30: 福島県計 | C30: =SUM(C31:C34) -> 0 | D30: =SUM(D31:D34) -> 0 | E30: =SUM(E31:E34) -> 0 | F30: =SUM(F31:F34) -> 0 | G30: =SUM(G31:G34) -> 0 | I30: 浜松市 | L30: 0 | M30: 0 | N30: ='表11.2'!J30 -> 0 | P30: 高松市 | S30: 0 | T30: 0 | U30: ='表11.2'!Q30 -> 0
B31: 福島市 | E31: 0 | F31: 0 | G31: ='表11.2'!C31 -> 0 | I31: その他・静岡県 | L31: 0 | M31: 0 | N31: ='表11.2'!J31 -> 0 | P31: その他・香川県 | S31: 0 | T31: 0 | U31: ='表11.2'!Q31 -> 1
B32: 郡山市 | E32: 0 | F32: 0 | G32: ='表11.2'!C32 -> 0 | I32: 愛知県計 | J32: =SUM(J33:J38) -> 0 | K32: =SUM(K33:K38) -> 0 | L32: =SUM(L33:L38) -> 1 | M32: =SUM(M33:M38) -> 0 | N32: =SUM(N33:N38) -> 0 | P32: 愛媛県計 | Q32: =SUM(Q33:Q34) -> 0 | R32: =SUM(R33:R34) -> 0 | S32: =SUM(S33:S34) -> 0 | T32: =SUM(T33:T34) -> 0 | U32: =SUM(U33:U34) -> 0
B33: いわき市 | E33: 0 | F33: 0 | G33: ='表11.2'!C33 -> 0 | I33: 名古屋市 | K33: 0 | L33: 1 | M33: 0 | N33: ='表11.2'!J33 -> 0 | P33: 松山市 | S33: 0 | T33: 0 | U33: ='表11.2'!Q33 -> 0
B34: その他・福島県 | E34: 0 | F34: 0 | G34: ='表11.2'!C34 -> 0 | I34: 豊橋市 | L34: 0 | M34: 0 | N34: ='表11.2'!J34 -> 0 | P34: その他・愛媛県 | S34: 0 | T34: 0 | U34: ='表11.2'!Q34 -> 0
B35: 茨城県計 | C35: =SUM(C36:C37) -> 0 | D35: =SUM(D36:D37) -> 0 | E35: =SUM(E36:E37) -> 0 | F35: =SUM(F36:F37) -> 0 | G35: =SUM(G36:G37) -> 0 | I35: 岡崎市 | L35: 0 | M35: 0 | N35: ='表11.2'!J35 -> 0 | P35: 高知県計 | Q35: =SUM(Q36:Q37) -> 0 | R35: =SUM(R36:R37) -> 0 | S35: =SUM(S36:S37) -> 0 | T35: =SUM(T36:T37) -> 0 | U35: =SUM(U36:U37) -> 0
B36: 水戸市 | F36: 0 | G36: ='表11.2'!C36 -> 0 | I36: 一宮市 | M36: 0 | N36: ='表11.2'!J36 -> 0 | P36: 高知市 | S36: 0 | T36: 0 | U36: ='表11.2'!Q36 -> 0
B37: その他・茨城県 | E37: 0 | F37: 0 | G37: ='表11.2'!C37 -> 0 | I37: 豊田市 | L37: 0 | M37: 0 | N37: ='表11.2'!J37 -> 0 | P37: その他・高知県 | S37: 0 | T37: 0 | U37: ='表11.2'!Q37 -> 0
B38: 栃木県計 | C38: =SUM(C39:C40) -> 0 | D38: =SUM(D39:D40) -> 0 | E38: =SUM(E39:E40) -> 0 | F38: =SUM(F39:F40) -> 0 | G38: =SUM(G39:G40) -> 0 | I38: その他・愛知県 | L38: 0 | M38: 0 | N38: ='表11.2'!J38 -> 0 | P38: 福岡県計 | Q38: =SUM(Q39:Q43) -> 0 | R38: =SUM(R39:R43) -> 0 | S38: =SUM(S39:S43) -> 0 | T38: =SUM(T39:T43) -> 0 | U38: =SUM(U39:U43) -> 2
B39: 宇都宮市 | E39: 0 | F39: 0 | G39: ='表11.2'!C39 -> 0 | I39: 三重県計 | J39: =SUM(J40:J41) -> 0 | K39: =SUM(K40:K41) -> 0 | L39: =SUM(L40:L41) -> 0 | M39: =SUM(M40:M41) -> 0 | N39: =SUM(N40:N41) -> 0 | P39: 北九州市 | S39: 0 | T39: 0 | U39: ='表11.2'!Q39 -> 0
B40: その他・栃木県 | E40: 0 | F40: 0 | G40: ='表11.2'!C40 -> 0 | I40: 四日市市 | L40: 0 | M40: 0 | N40: ='表11.2'!J40 -> 0 | P40: 福岡市 | S40: 0 | T40: 0 | U40: ='表11.2'!Q40 -> 0
B41: 群馬県計 | C41: =SUM(C42:C44) -> 0 | D41: =SUM(D42:D44) -> 2 | E41: =SUM(E42:E44) -> 0 | F41: =SUM(F42:F44) -> 0 | G41: =SUM(G42:G44) -> 0 | I41: その他・三重県 | L41: 0 | M41: 0 | N41: ='表11.2'!J41 -> 0 | P41: 大牟田市 | S41: 0 | T41: 0 | U41: ='表11.2'!Q41 -> 0
B42: 前橋市 | D42: 0 | E42: 0 | F42: 0 | G42: ='表11.2'!C42 -> 0 | I42: 滋賀県計 | J42: =SUM(J43:J44) -> 0 | K42: =SUM(K43:K44) -> 2 | L42: =SUM(L43:L44) -> 1 | M42: =SUM(M43:M44) -> 1 | N42: =SUM(N43:N44) -> 0 | P42: 久留米市 | S42: 0 | T42: 0 | U42: ='表11.2'!Q42 -> 0
B43: 高崎市 | D43: 0 | E43: 0 | F43: 0 | G43: ='表11.2'!C43 -> 0 | I43: 大津市 | L43: 0 | M43: 0 | N43: ='表11.2'!J43 -> 0 | P43: その他・福岡県 | S43: 0 | T43: 0 | U43: ='表11.2'!Q43 -> 2
B44: その他・群馬県 | D44: 2 | E44: 0 | F44: 0 | G44: ='表11.2'!C44 -> 0 | I44: その他・滋賀県 | J44: 0 | K44: 2 | L44: 1 | M44: 1 | N44: ='表11.2'!J44 -> 0 | P44: 佐賀県計 | Q44: =Q45 -> 0 | R44: =R45 -> 0 | S44: =S45 -> 0 | T44: =T45 -> 0 | U44: =U45 -> 0
B45: 埼玉県計 | C45: =SUM(C46:C51) -> 0 | D45: =SUM(D46:D51) -> 0 | E45: =SUM(E46:E51) -> 0 | F45: =SUM(F46:F51) -> 5 | G45: =SUM(G46:G51) -> 8 | I45: 京都府計 | J45: =SUM(J46:J47) -> 0 | K45: =SUM(K46:K47) -> 0 | L45: =SUM(L46:L47) -> 0 | M45: =SUM(M46:M47) -> 0 | N45: =SUM(N46:N47) -> 0 | P45: 佐賀県 | S45: 0 | T45: 0 | U45: ='表11.2'!Q45 -> 0
B46: さいたま市 | E46: 0 | F46: 2 | G46: ='表11.2'!C46 -> 0 | I46: 京都市 | L46: 0 | M46: 0 | N46: ='表11.2'!J46 -> 0 | P46: 長崎県計 | Q46: =SUM(Q47:Q49) -> 0 | R46: =SUM(R47:R49) -> 0 | S46: =SUM(S47:S49) -> 0 | T46: =SUM(T47:T49) -> 0 | U46: =SUM(U47:U49) -> 0
B47: 川越市 | E47: 0 | F47: 0 | G47: ='表11.2'!C47 -> 0 | I47: その他・京都府 | L47: 0 | M47: 0 | N47: ='表11.2'!J47 -> 0 | P47: 長崎市 | S47: 0 | T47: 0 | U47: ='表11.2'!Q47 -> 0
B48: 川口市 | E48: 0 | F48: 0 | G48: ='表11.2'!C48 -> 0 | I48: 大阪府計 | J48: =SUM(J49:J58) -> 0 | K48: =SUM(K49:K58) -> 0 | L48: =SUM(L49:L58) -> 0 | M48: =SUM(M49:M58) -> 1 | N48: =SUM(N49:N58) -> 0 | P48: 佐世保市 | S48: 0 | T48: 0 | U48: ='表11.2'!Q48 -> 0
B49: 所沢市 | E49: 0 | F49: 0 | G49: ='表11.2'!C49 -> 0 | I49: 大阪市 | L49: 0 | M49: 0 | N49: ='表11.2'!J49 -> 0 | P49: その他・長崎県 | S49: 0 | T49: 0 | U49: ='表11.2'!Q49 -> 0
B50: 越谷市 | E50: 0 | F50: 0 | G50: ='表11.2'!C50 -> 0 | I50: 堺市 | L50: 0 | M50: 0 | N50: ='表11.2'!J50 -> 0 | P50: 熊本県計 | Q50: =SUM(Q51:Q52) -> 0 | R50: =SUM(R51:R52) -> 0 | S50: =SUM(S51:S52) -> 0 | T50: =SUM(T51:T52) -> 0 | U50: =SUM(U51:U52) -> 0
B51: その他・埼玉県 | E51: 0 | F51: 3 | G51: ='表11.2'!C51 -> 8 | I51: 豊中市 | L51: 0 | M51: 1 | N51: ='表11.2'!J51 -> 0 | P51: 熊本市 | S51: 0 | T51: 0 | U51: ='表11.2'!Q51 -> 0
B52: 千葉県計 | C52: =SUM(C53:C59) -> 0 | D52: =SUM(D53:D59) -> 0 | E52: =SUM(E53:E59) -> 0 | F52: =SUM(F53:F59) -> 0 | G52: =SUM(G53:G59) -> 0 | I52: 吹田市 | L52: 0 | M52: 0 | N52: ='表11.2'!J52 -> 0 | P52: その他・熊本県 | S52: 0 | T52: 0 | U52: ='表11.2'!Q52 -> 0
B53: 千葉市 | E53: 0 | F53: 0 | G53: ='表11.2'!C53 -> 0 | I53: 高槻市 | L53: 0 | M53: 0 | N53: ='表11.2'!J53 -> 0 | P53: 大分県計 | Q53: =SUM(Q54:Q55) -> 0 | R53: =SUM(R54:R55) -> 0 | S53: =SUM(S54:S55) -> 0 | T53: =SUM(T54:T55) -> 0 | U53: =SUM(U54:U55) -> 0
B54: 市川市 | E54: 0 | F54: 0 | G54: ='表11.2'!C54 -> 0 | I54: 枚方市 | L54: 0 | M54: 0 | N54: ='表11.2'!J54 -> 0 | P54: 大分市 | S54: 0 | T54: 0 | U54: ='表11.2'!Q54 -> 0
B55: 船橋市 | E55: 0 | F55: 0 | G55: ='表11.2'!C55 -> 0 | I55: 八尾市 | L55: 0 | M55: 0 | N55: ='表11.2'!J55 -> 0 | P55: その他・大分県 | S55: 0 | T55: 0 | U55: ='表11.2'!Q55 -> 0
B56: 松戸市 | E56: 0 | F56: 0 | G56: ='表11.2'!C56 -> 0 | I56: 寝屋川市 | L56: 0 | M56: 0 | N56: ='表11.2'!J56 -> 0 | P56: 宮崎県計 | Q56: =SUM(Q57:Q58) -> 0 | R56: =SUM(R57:R58) -> 0 | S56: =SUM(S57:S58) -> 0 | T56: =SUM(T57:T58) -> 0 | U56: =SUM(U57:U58) -> 0
B57: 柏市 | E57: 0 | F57: 0 | G57: ='表11.2'!C57 -> 0 | I57: 東大阪市 | L57: 0 | M57: 0 | N57: ='表11.2'!J57 -> 0 | P57: 宮崎市 | S57: 0 | T57: 0 | U57: ='表11.2'!Q57 -> 0
B58: 市原市 | C58: 0 | D58: 0 | E58: 0 | F58: 0 | G58: ='表11.2'!C58 -> 0 | I58: その他・大阪府 | J58: 0 | L58: 0 | M58: 0 | N58: ='表11.2'!J58 -> 0 | P58: その他・宮崎県 | S58: 0 | T58: 0 | U58: ='表11.2'!Q58 -> 0
B59: その他・千葉県 | E59: 0 | F59: 0 | G59: ='表11.2'!C59 -> 0 | I59: 兵庫県計 | J59: =SUM(J60:J66) -> 1 | K59: =SUM(K60:K66) -> 0 | L59: =SUM(L60:L66) -> 0 | M59: =SUM(M60:M66) -> 0 | N59: =SUM(N60:N66) -> 0 | P59: 鹿児島県計 | Q59: =SUM(Q60:Q61) -> 0 | R59: =SUM(R60:R61) -> 0 | S59: =SUM(S60:S61) -> 0 | T59: =SUM(T60:T61) -> 0 | U59: =SUM(U60:U61) -> 0
B60: 東京都計 | C60: =SUM(C61:C62) -> 0 | D60: =SUM(D61:D62) -> 0 | E60: =SUM(E61:E62) -> 0 | F60: =SUM(F61:F62) -> 0 | G60: =SUM(G61:G62) -> 0 | I60: 神戸市 | K60: 0 | L60: 0 | M60: 0 | N60: ='表11.2'!J60 -> 0 | P60: 鹿児島市 | S60: 0 | T60: 0 | U60: ='表11.2'!Q60 -> 0
B61: 八王子市 | E61: 0 | F61: 0 | G61: ='表11.2'!C61 -> 0 | I61: 姫路市 | K61: 0 | L61: 0 | M61: 0 | N61: ='表11.2'!J61 -> 0 | P61: その他・鹿児島県 | S61: 0 | T61: 0 | U61: ='表11.2'!Q61 -> 0
B62: その他・東京都 | E62: 0 | F62: 0 | G62: ='表11.2'!C62 -> 0 | I62: 尼崎市 | J62: 1 | K62: 0 | L62: 0 | M62: 0 | N62: ='表11.2'!J62 -> 0 | P62: 沖縄県計 | Q62: =SUM(Q63:Q64) -> 0 | R62: =SUM(R63:R64) -> 0 | S62: =SUM(S63:S64) -> 0 | T62: =SUM(T63:T64) -> 0 | U62: =SUM(U63:U64) -> 0
B63: 神奈川県計 | C63: =SUM(C64:C70) -> 2 | D63: =SUM(D64:D70) -> 1 | E63: =SUM(E64:E70) -> 0 | F63: =SUM(F64:F70) -> 0 | G63: =SUM(G64:G70) -> 0 | I63: 明石市 | K63: 0 | L63: 0 | M63: 0 | N63: ='表11.2'!J63 -> 0 | P63: 那覇市 | S63: 0 | T63: 0 | U63: ='表11.2'!Q63 -> 0
B64: 横浜市 | D64: 0 | E64: 0 | F64: 0 | G64: ='表11.2'!C64 -> 0 | I64: 西宮市 | K64: 0 | L64: 0 | M64: 0 | N64: ='表11.2'!J64 -> 0 | P64: その他・沖縄県 | S64: 0 | T64: 0 | U64: ='表11.2'!Q64 -> 0
B65: 川崎市 | C65: 1 | D65: 0 | E65: 0 | F65: 0 | G65: ='表11.2'!C65 -> 0 | I65: 加古川市 | K65: 0 | L65: 0 | M65: 0 | N65: ='表11.2'!J65 -> 0 | P65: 合計 | Q65: =SUM(C6:C70,J6:J69,Q6:Q64)/2 -> 4 | R65: =SUM(D6:D70,K6:K69,R6:R64)/2 -> 6 | S65: =SUM(E6:E70,L6:L69,S6:S64)/2 -> 2 | T65: =SUM(F6:F70,M6:M69,T6:T64)/2 -> 7 | U65: =SUM(G6:G70,N6:N69,U6:U64)/2 -> 11
B66: 相模原市 | C66: 1 | D66: 1 | E66: 0 | F66: 0 | G66: ='表11.2'!C66 -> 0 | I66: その他・兵庫県 | K66: 0 | L66: 0 | M66: 0 | N66: ='表11.2'!J66 -> 0
B67: 横須賀市 | E67: 0 | F67: 0 | G67: ='表11.2'!C67 -> 0 | I67: 奈良県計 | J67: =SUM(J68:J69) -> 1 | K67: =SUM(K68:K69) -> 0 | L67: =SUM(L68:L69) -> 0 | M67: =SUM(M68:M69) -> 0 | N67: =SUM(N68:N69) -> 0
B68: 平塚市 | E68: 0 | F68: 0 | G68: ='表11.2'!C68 -> 0 | I68: 奈良市 | K68: 0 | L68: 0 | M68: 0 | N68: ='表11.2'!J68 -> 0
B69: 藤沢市 | E69: 0 | F69: 0 | G69: ='表11.2'!C69 -> 0 | I69: その他・奈良県 | J69: 1 | K69: 0 | L69: 0 | M69: 0 | N69: ='表11.2'!J69 -> 0
B70: その他・神奈川県 | E70: 0 | F70: 0 | G70: ='表11.2'!C70 -> 0
