Workbook
Name OLE_LINK7: ×表Ⅱ・4!#REF!
Name RZK_DD: #REF!
Name RZK_DD: #REF!
Name RZK_DD: #REF!
Name RZK_DD: #REF!
Name RZK_DD: #REF!
Name RZK_DD: #REF!
Name RZK_DD: #REF!
Name RZK_TTL: #REF!
Name RZK_TTL: #REF!
Name RZK_TTL: #REF!
Name RZK_TTL: #REF!
Name RZK_TTL: #REF!
Name RZK_TTL: #REF!
Name RZK_TTL: #REF!
Name san: #REF!
Name san: #REF!
Name san: #REF!
Name san: #REF!
Name san: #REF!
Name san: #REF!
Name デ１: [1]デフレータ!#REF!
Name デ１: [1]デフレータ!#REF!
Name デ１: [1]デフレータ!#REF!
Name デ１: [1]デフレータ!#REF!
Name デフレータ: [1]デフレータ!#REF!
Name デフレータ: [1]デフレータ!#REF!
Name デフレータ: [1]デフレータ!#REF!
Name デフレータ: [1]デフレータ!#REF!

Sheet 表Ⅱ・8
B1: 表―Ⅱ・８ 濃縮汚泥量（全国量（ｍ３／年））
B3: No. | C3: 都道府県名 | D3: 令和3年度
B4: 1 | C4: 北海道 | D4: 4203072.9
B5: 2 | C5: 青森県 | D5: 551093.2
B6: 3 | C6: 岩手県 | D6: 521457.15
B7: 4 | C7: 宮城県 | D7: 1604626.6
B8: 5 | C8: 秋田県 | D8: 371014.6
B9: 6 | C9: 山形県 | D9: 586135.2
B10: 7 | C10: 福島県 | D10: 783195.6
B11: 8 | C11: 茨城県 | D11: 1703521
B12: 9 | C12: 栃木県 | D12: 921529.77
B13: 10 | C13: 群馬県 | D13: 1009795.8
B14: 11 | C14: 埼玉県 | D14: 4528333.2
B15: 12 | C15: 千葉県 | D15: 3501957.4
... B50: 47 | C50: 沖縄県 | D50: 850788.1
B51: 合計 | D51: 77279565

Sheet 表Ⅲ・2
B1: 表－Ⅲ・２ 産業廃棄物の業種別排出量（令和３年度実績値）
B3: 業種 | D3: 令和３年度 | F3: 令和２年度（参考）
D4: 排出量（千ｔ） | E4: 割合（%） | F4: 排出量（千ｔ） | G4: 割合（%）
B5: 農業、林業 | D5: =表Ⅲ・5!Y5 -> 81693.24 | E5: =D5/D$87*100 -> 21.731736 | F5: 82367.445 | G5: 22.034117
C6: 耕種農業 | D6: =表Ⅲ・5!Y6 -> 21.798322 | E6: =D6/D$87*100 -> 0.0057987097 | F6: 22.500435 | G6: 0.0060190919
C7: 畜産農業 | D7: =表Ⅲ・5!Y7 -> 81464.548 | E7: =D7/D$87*100 -> 21.6709 | F7: 82048.111 | G7: 21.948692
C8: 林業大分類 | D8: =表Ⅲ・5!Y8 -> 15.00376 | E8: =D8/D$87*100 -> 0.0039912451 | F8: 14.594343 | G8: 0.0039041331
C9: 上記以外の農業 | D9: =表Ⅲ・5!Y9 -> 0 | E9: =D9/D$87*100 -> 0 | F9: 0 | G9: 0
B10: 漁 業 | D10: =表Ⅲ・5!Y10 -> 6.4095073 | E10: =D10/D$87*100 -> 0.0017050336 | F10: 6.3602357 | G10: 0.0017014268
C11: 漁 業 | D11: =表Ⅲ・5!Y11 -> 0.88671993 | E11: =D11/D$87*100 -> 0.00023588198 | F11: 1.0686758 | G11: 0.0002858815
C12: 水産養殖業 | D12: =表Ⅲ・5!Y12 -> 0.16582725 | E12: =D12/D$87*100 -> 4.4112756e-05 | F12: 0.16813431 | G12: 4.4977613e-05
B13: 鉱 業 | D13: =表Ⅲ・5!Y13 -> 7847.8547 | E13: =D13/D$87*100 -> 2.0876575 | F13: 8233.9303 | G13: 2.2026589
B14: 建設業 | D14: =表Ⅲ・5!Y14 -> 80936.749 | E14: =D14/D$87*100 -> 21.530497 | F14: 78213.833 | G14: 20.922984
B15: 製造業 | D15: =表Ⅲ・5!Y15 -> 98243.646 | E15: =D15/D$87*100 -> 26.134414 | F15: 99143.156 | G15: 26.521788
C16: 食料品製造業 | D16: =表Ⅲ・5!Y16 -> 8708.8461 | E16: =D16/D$87*100 -> 2.3166953 | F16: 8924.6613 | G16: 2.3874364
C17: 飲料・たばこ・飼料製造業 | D17: =表Ⅲ・5!Y17 -> 2582.8594 | E17: =D17/D$87*100 -> 0.68708279 | F17: 2622.2376 | G17: 0.70147483
C18: 繊維工業 | D18: =表Ⅲ・5!Y18 -> 802.07628 | E18: =D18/D$87*100 -> 0.21336539 | F18: 721.53903 | G18: 0.19301892
C19: 木材・木製品製造業 | D19: =表Ⅲ・5!Y19 -> 885.47085 | E19: =D19/D$87*100 -> 0.23554971 | F19: 929.49612 | G19: 0.24864953
C20: 家具・装備品製造業 | D20: =表Ⅲ・5!Y20 -> 189.85003 | E20: =D20/D$87*100 -> 0.050503208 | F20: 191.97316 | G20: 0.051354744
C21: パルプ・紙・紙加工品製造業 | D21: =表Ⅲ・5!Y21 -> 27744.73 | E21: =D21/D$87*100 -> 7.3805513 | F21: 30631.887 | G21: 8.1943368
C22: 印刷・同関連業 | D22: =表Ⅲ・5!Y22 -> 498.53909 | E22: =D22/D$87*100 -> 0.13261954 | F22: 470.53455 | G22: 0.12587271
C23: 化学工業 | D23: =表Ⅲ・5!Y23 -> 9481.2894 | E23: =D23/D$87*100 -> 2.5221778 | F23: 8901.6429 | G23: 2.3812787
C24: 石油製品・石炭製品製造業 | D24: =表Ⅲ・5!Y24 -> 1137.3459 | E24: =D24/D$87*100 -> 0.30255258 | F24: 1128.1412 | G24: 0.30178908
C25: プラスチック製品製造業 | D25: =表Ⅲ・5!Y25 -> 1100.2829 | E25: =D25/D$87*100 -> 0.29269321 | F25: 1043.6056 | G25: 0.27917496
C26: ゴム製品製造業 | D26: =表Ⅲ・5!Y26 -> 326.78182 | E26: =D26/D$87*100 -> 0.086929302 | F26: 307.77102 | G26: 0.082331834
C27: なめし革・同製品・毛皮製造業 | D27: =表Ⅲ・5!Y27 -> 17.383754 | E27: =D27/D$87*100 -> 0.0046243626 | F27: 16.807162 | G27: 0.0044960845
... C39: その他の製造業 | D39: =表Ⅲ・5!Y39 -> 593.22427 | E39: =D39/D$87*100 -> 0.15780735 | F39: 568.52312 | G39: 0.15208563
B40: 電気･ガス・熱供給・水道業 | D40: =表Ⅲ・5!Y40 -> 99481.206 | E40: =D40/D$87*100 -> 26.463626 | F40: 99319.495 | G40: 26.568961
C41: 電気業 | D41: =表Ⅲ・5!Y41 -> 11318.842 | E41: =D41/D$87*100 -> 3.0109967 | F41: 10245.382 | G41: 2.7407424
C42: ガス業 | D42: =表Ⅲ・5!Y42 -> 11.131342 | E42: =D42/D$87*100 -> 0.0029611188 | F42: 6.1841082 | G42: 0.001654311
C43: 熱供給業 | D43: =表Ⅲ・5!Y43 -> 219.87376 | E43: =D43/D$87*100 -> 0.058490012 | F43: 221.27737 | G43: 0.059193914
C44: 上水道業 | D44: =表Ⅲ・5!Y44 -> 10071.491 | E44: =D44/D$87*100 -> 2.6791811 | F44: 10785.926 | G44: 2.8853433
C45: 下水道業 | D45: =表Ⅲ・5!Y45 -> 77859.868 | E45: =D45/D$87*100 -> 20.711997 | F45: 78060.726 | G45: 20.882027
B46: 情報通信業 | D46: =表Ⅲ・5!Y46 -> 107.30468 | E46: =D46/D$87*100 -> 0.028544798 | F46: 78.288483 | G46: 0.020942954
C47: 通信業 | D47: =表Ⅲ・5!Y47 -> 20.172492 | E47: =D47/D$87*100 -> 0.0053662124 | F47: 20.375511 | G47: 0.0054506535
C48: 放送業 | D48: =表Ⅲ・5!Y48 -> 22.109913 | E48: =D48/D$87*100 -> 0.0058815979 | F48: 19.444895 | G48: 0.0052017044
C49: 情報サービス業 | D49: =表Ⅲ・5!Y49 -> 12.714827 | E49: =D49/D$87*100 -> 0.0033823517 | F49: 8.7074401 | G49: 0.0023293275
C50: インターネット付随サービス業 | D50: =表Ⅲ・5!Y50 -> 10.556735 | E50: =D50/D$87*100 -> 0.0028082641 | F50: 14.504051 | G50: 0.003879979
C51: 映像・音声・文字情報制作業 | D51: =表Ⅲ・5!Y51 -> 5.9017487 | E51: =D51/D$87*100 -> 0.0015699615 | F51: 5.6082691 | G51: 0.0015002682
B52: 運輸業 | D52: =表Ⅲ・5!Y52 -> 684.34083 | E52: =D52/D$87*100 -> 0.18204584 | F52: 630.52468 | G52: 0.16867167
C53: 鉄道業 | D53: =表Ⅲ・5!Y53 -> 149.01961 | E53: =D53/D$87*100 -> 0.03964165 | F53: 127.20807 | G53: 0.034029434
C54: 道路旅客運送業 | D54: =表Ⅲ・5!Y54 -> 56.936904 | E54: =D54/D$87*100 -> 0.015146146 | F54: 55.029413 | G54: 0.01472092
C55: 道路貨物運送業 | D55: =表Ⅲ・5!Y55 -> 348.81898 | E55: =D55/D$87*100 -> 0.092791545 | F55: 325.43476 | G55: 0.087057061
C56: 上記以外の運輸通信業 | D56: =表Ⅲ・5!Y56 -> 123.49034 | E56: =D56/D$87*100 -> 0.032850448 | F56: 118.00752 | G56: 0.031568195
B57: 卸売・小売業 | D57: =表Ⅲ・5!Y57 -> 2184.378 | E57: =D57/D$87*100 -> 0.58108022 | F57: 2086.9347 | G57: 0.55827594
C58: 各種商品卸売業 | D58: =表Ⅲ・5!Y58 -> 28.909885 | E58: =D58/D$87*100 -> 0.0076905016 | F58: 27.632428 | G58: 0.0073919515
C59: 木材・竹材卸売業 | D59: =表Ⅲ・5!Y59 -> 180.02861 | E59: =D59/D$87*100 -> 0.047890551 | F59: 154.93105 | G59: 0.041445608
C60: 各種商品小売業 | D60: =表Ⅲ・5!Y60 -> 97.331714 | E60: =D60/D$87*100 -> 0.025891826 | F60: 105.35404 | G60: 0.028183262
C61: 自動車小売業 | D61: =表Ⅲ・5!Y61 -> 636.08018 | E61: =D61/D$87*100 -> 0.16920772 | F61: 653.69652 | G61: 0.17487037
C62: 機械器具小売業 | D62: =表Ⅲ・5!Y62 -> 179.99812 | E62: =D62/D$87*100 -> 0.04788244 | F62: 159.77957 | G62: 0.042742638
C63: 家具・建具・畳小売業 | D63: =表Ⅲ・5!Y63 -> 15.294013 | E63: =D63/D$87*100 -> 0.0040684573 | F63: 14.393696 | G63: 0.0038504581
C64: じゅう器小売業 | D64: =表Ⅲ・5!Y64 -> 3.1045697 | E64: =D64/D$87*100 -> 0.00082586623 | F64: 3.2836145 | G64: 0.00087839979
C65: 燃料小売業 | D65: =表Ⅲ・5!Y65 -> 324.66231 | E65: =D65/D$87*100 -> 0.086365478 | F65: 326.51564 | G65: 0.087346208
C66: 上記以外の卸売・小売業 | D66: =表Ⅲ・5!Y66 -> 717.23596 | E66: =D66/D$87*100 -> 0.19079648 | F66: 639.06402 | G66: 0.17095603
B67: 不動産業、物品賃貸業 | D67: =表Ⅲ・5!Y67 -> 247.82927 | E67: =D67/D$87*100 -> 0.065926634 | F67: 196.96141 | G67: 0.052689151
C68: 物品賃借業 | D68: =表Ⅲ・5!Y68 -> 247.77831 | E68: =D68/D$87*100 -> 0.065913078 | F68: 196.92724 | G68: 0.052680011
B69: 学術研究、専門・技術サービス業 | D69: =表Ⅲ・5!Y69 -> 223.05883 | E69: =D69/D$87*100 -> 0.059337293 | F69: 213.7583 | G69: 0.057182489
C70: 学術開発研究機関 | D70: =表Ⅲ・5!Y70 -> 200.45747 | E70: =D70/D$87*100 -> 0.053324962 | F70: 192.55228 | G70: 0.051509664
C71: 写真業 | D71: =表Ⅲ・5!Y71 -> 22.185935 | E71: =D71/D$87*100 -> 0.005901821 | F71: 20.628662 | G71: 0.0055183738
B72: 飲食店、宿泊業 | D72: =表Ⅲ・5!Y72 -> 307.60907 | E72: =D72/D$87*100 -> 0.081829036 | F72: 332.15626 | G72: 0.08885513
C73: 一般飲食店 | D73: =表Ⅲ・5!Y73 -> 196.25111 | E73: =D73/D$87*100 -> 0.052206 | F73: 204.72022 | G73: 0.054764711
C74: 上記以外の飲食店、宿泊業 | D74: =表Ⅲ・5!Y74 -> 109.41208 | E74: =D74/D$87*100 -> 0.029105401 | F74: 125.8344 | G74: 0.033661964
B75: 生活関連サービス、娯楽業 | D75: =表Ⅲ・5!Y75 -> 164.73421 | E75: =D75/D$87*100 -> 0.043821992 | F75: 163.48256 | G75: 0.043733223
C76: 洗濯業 | D76: =表Ⅲ・5!Y76 -> 69.565972 | E76: =D76/D$87*100 -> 0.018505685 | F76: 72.7081 | G76: 0.019450146
B77: 教育、学習支援業 | D77: =表Ⅲ・5!Y77 -> 199.61106 | E77: =D77/D$87*100 -> 0.053099801 | F77: 240.03344 | G77: 0.064211352
B78: 医療、福祉 | D78: =表Ⅲ・5!Y78 -> 544.6108 | E78: =D78/D$87*100 -> 0.14487537 | F78: 676.89964 | G78: 0.18107744
C79: 医療業 | D79: =表Ⅲ・5!Y79 -> 423.22303 | E79: =D79/D$87*100 -> 0.11258424 | F79: 504.58113 | G79: 0.13498051
C80: 上記以外の医療、福祉 | D80: =表Ⅲ・5!Y80 -> 119.35849 | E80: =D80/D$87*100 -> 0.031751308 | F80: 170.75456 | G80: 0.045678558
B81: 複合サービス事業 | D81: =表Ⅲ・5!Y81 -> 380.29047 | E81: =D81/D$87*100 -> 0.10116348 | F81: 137.4174 | G81: 0.036760531
B82: サービス業 | D82: =表Ⅲ・5!Y82 -> 1906.8075 | E82: =D82/D$87*100 -> 0.50724195 | F82: 1527.9095 | G82: 0.4087311
C83: 自動車整備業 | D83: =表Ⅲ・5!Y83 -> 1103.854 | E83: =D83/D$87*100 -> 0.29364319 | F83: 860.41924 | G83: 0.23017077
C84: と蓄場 | D84: =表Ⅲ・5!Y84 -> 109.20183 | E84: =D84/D$87*100 -> 0.029049472 | F84: 94.331814 | G84: 0.025234706
C85: 上記以外のサービス業 | D85: =表Ⅲ・5!Y85 -> 614.56813 | E85: =D85/D$87*100 -> 0.16348516 | F85: 486.83875 | G85: 0.13023425
B86: 公 務 | D86: =表Ⅲ・5!Y86 -> 757.08879 | E86: =D86/D$87*100 -> 0.20139798 | F86: 249.17957 | G86: 0.066658034
B87: 合 計 | D87: =表Ⅲ・5!Y87 -> 375916.77 | E87: =D87/D$87*100 -> 100 | F87: 373817.77 | G87: 100

Sheet 表Ⅲ・3
B1: 表－Ⅲ・３ 産業廃棄物の業種別排出量（令和３年度実績値） | Q1: =表Ⅲ・5!Z87 -> 0 | R1: =表Ⅲ・5!AA87 -> 0 | S1: =表Ⅲ・5!AB87 -> 0
B3: 種類 | C3: 令和３年度 | E3: 令和２年度（参考）
C4: 排出量（千ｔ） | D4: 割合（%） | E4: 排出量（千ｔ） | F4: 割合（%）
B5: 燃え殻 | C5: =表Ⅲ・5!F87 -> 2185.1608 | D5: =C5/$C$24*100 -> 0.58128846 | E5: 2058.7971 | F5: 0.55074885
B6: 汚 泥 | C6: =表Ⅲ・5!G87 -> 159817.75 | D6: =C6/$C$24*100 -> 42.514133 | E6: 163648.41 | F6: 43.77759
B7: 廃 油 | C7: =表Ⅲ・5!H87 -> 2935.5722 | D7: =C7/$C$24*100 -> 0.78091015 | E7: 2906.0059 | F7: 0.77738572
B8: 廃 酸 | C8: =表Ⅲ・5!I87 -> 3103.3051 | D8: =C8/$C$24*100 -> 0.82552983 | E8: 2970.5614 | F8: 0.79465496
B9: 廃アルカリ | C9: =表Ⅲ・5!J87 -> 2521.1706 | D9: =C9/$C$24*100 -> 0.67067257 | E9: 2435.4181 | F9: 0.65149875
B10: 廃プラスチック類 | C10: =表Ⅲ・5!K87 -> 7350.8714 | D10: =C10/$C$24*100 -> 1.9554518 | E10: 6937.6733 | F10: 1.8558972
B11: 紙くず | C11: =表Ⅲ・5!L87 -> 790.8979 | D11: =C11/$C$24*100 -> 0.21039176 | E11: 855.779 | F11: 0.22892946
B12: 木くず | C12: =表Ⅲ・5!M87 -> 7739.6095 | D12: =C12/$C$24*100 -> 2.0588625 | E12: 7789.8524 | F12: 2.0838636
B13: 繊維くず | C13: =表Ⅲ・5!N87 -> 92.804393 | D13: =C13/$C$24*100 -> 0.024687484 | E13: 88.144308 | F13: 0.023579486
B14: 動植物性残さ | C14: =表Ⅲ・5!O87 -> 2316.3916 | D14: =C14/$C$24*100 -> 0.616198 | E14: 2377.0415 | F14: 0.63588242
B15: 動物系固形不要物 | C15: =表Ⅲ・5!P87 -> 74.619115 | D15: =C15/$C$24*100 -> 0.019849903 | E15: 101.90038 | F15: 0.027259373
B16: ゴムくず | C16: =表Ⅲ・5!Q87 -> 15.480396 | D16: =C16/$C$24*100 -> 0.0041180381 | E16: 18.148081 | F16: 0.0048547936
B17: 金属くず | C17: =表Ⅲ・5!R87 -> 6894.5501 | D17: =C17/$C$24*100 -> 1.8340629 | E17: 6149.5142 | F17: 1.6450567
B18: ガラスくず、コンクリートくず及び陶磁器くず | C18: =表Ⅲ・5!S87 -> 8040.8929 | D18: =C18/$C$24*100 -> 2.1390088 | E18: 7831.6798 | F18: 2.0950529
B19: 鉱さい | C19: =表Ⅲ・5!T87 -> 11303.013 | D19: =C19/$C$24*100 -> 3.0067862 | E19: 10778.233 | F19: 2.8832853
B20: がれき類 | C20: =表Ⅲ・5!U87 -> 62498.853 | D20: =C20/$C$24*100 -> 16.625716 | E20: 59713.295 | F20: 15.973905
B21: 動物のふん尿 | C21: =表Ⅲ・5!V87 -> 81270.546 | D21: =C21/$C$24*100 -> 21.619293 | E21: 81854.846 | F21: 21.896992
B22: 動物の死体 | C22: =表Ⅲ・5!W87 -> 167.53165 | D22: =C22/$C$24*100 -> 0.044566156 | E22: 166.18954 | F22: 0.044457368
B23: ばいじん | C23: =表Ⅲ・5!X87 -> 16797.744 | D23: =C23/$C$24*100 -> 4.4684741 | E23: 15136.278 | F23: 4.0491061
B24: 合 計 | C24: =表Ⅲ・5!Y87 -> 375916.77 | D24: =C24/$C$24*100 -> 100 | E24: 373817.77 | F24: 100

Sheet 表Ⅲ・4
B1: 表－Ⅲ・４ 産業廃棄物の地域別排出量（令和３年度実績値）
B3: 地域別 | C3: 令和３年度 | E3: 令和２年度（参考）
C4: 排出量（千ｔ） | D4: 割合（%） | E4: 排出量（千ｔ） | F4: 割合（%）
B5: 北海道 | C5: 35271.637 | D5: 9.3828314 | E5: 38159.319 | F5: 10.208
B6: 東北 | C6: 36909.344 | D6: 9.8184884 | E6: 36961.293 | F6: 9.8875166
B7: 関東 | C7: 98670.633 | D7: 26.248 | E7: 97135.601 | F7: 25.984747
B8: 中部 | C8: 62427.967 | D8: 16.606859 | E8: 60010.153 | F8: 16.053318
B9: 近畿 | C9: 50372.279 | D9: 13.399849 | E9: 49076.635 | F9: 13.128492
B10: 中国 | C10: 25392.731 | D10: 6.7548811 | E10: 25548.784 | F10: 6.8345559
B11: 四国 | C11: 14121.166 | D11: 3.7564609 | E11: 14516.58 | F11: 3.8833307
B12: 九州 | C12: 52751.012 | D12: 14.032631 | E12: 52409.399 | F12: 14.02004
B13: 合 計 | C13: 375916.77 | D13: 100 | E13: 373817.77 | F13: 100
B14: ※ 各地域の産業廃棄物の量は四捨五入しているため、合算した値は合計値と異なる場合がある。

Sheet 表Ⅲ・5
B1: 表－Ⅲ・５ 令和３年度実績値 業種別・種類別排出量推計値一覧表
D3: 全国 | F3: 令和３年度 | Y3: (単位：千ｔ/年)
B4: 大分類 | C4: 番号 | D4: 産業分類 | E4: コード | F4: 燃え殻 | G4: 汚 泥 | H4: 廃 油 | I4: 廃 酸 | J4: 廃アルカリ | K4: 廃プラス チック類 | L4: 紙くず | M4: 木くず | N4: 繊維くず | O4: 動植物性 残 渣 | P4: 動物系固形不要物 | Q4: ゴムくず | R4: 金属くず | S4: ガラスくず及び 陶磁器くず | T4: 鉱さい | U4: がれき類 | V4: 動物の ふん尿 | W4: 動物の死体 | X4: ばいじん | Y4: 合 計
B5: 農業、 | D5: 農業大分類 | E5: Ａ | F5: 0.48576364 | G5: 59.081847 | H5: 4.1961249 | I5: 3.0773927 | J5: 0.082769279 | K5: 99.532215 | L5: 0 | M5: 70.595475 | N5: 0 | O5: 0 | P5: 0 | Q5: 0.0082557963 | R5: 1.678919 | S5: 10.631422 | T5: 0.24402 | U5: 5.5474647 | V5: 81270.546 | W5: 167.53165 | X5: 0 | Y5: 81693.24
B6: 林業 | C6: 1 | D6: 耕種農業 | E6: A011 | F6: 0 | G6: 0 | H6: 0.592 | I6: 0 | J6: 0 | K6: 20.757147 | L6: 0 | M6: 0.001495328 | N6: 0 | O6: 0 | P6: 0 | Q6: 0 | R6: 0 | S6: 0.44767986 | T6: 0 | U6: 0 | V6: 0 | W6: 0 | X6: 0 | Y6: 21.798322
C7: 2 | D7: 畜産農業 | E7: A012 | F7: 0 | G7: 0 | H7: 0 | I7: 0 | J7: 0 | K7: 26.428448 | L7: 0 | M7: 0.00033914039 | N7: 0 | O7: 0 | P7: 0 | Q7: 0 | R7: 0.04115566 | S7: 0 | T7: 0 | U7: 0 | V7: 81270.546 | W7: 167.53165 | X7: 0 | Y7: 81464.548
C8: 3 | D8: 林業大分類 | E8: A02 | F8: 0 | G8: 0 | H8: 0.0080988593 | I8: 0 | J8: 0 | K8: 0.67074454 | L8: 0 | M8: 6.5155315 | N8: 0 | O8: 0 | P8: 0 | Q8: 0 | R8: 0.10176151 | S8: 7.6416101 | T8: 0 | U8: 0.066013024 | V8: 0 | W8: 0 | X8: 0 | Y8: 15.00376
C9: 4 | D9: 上記以外の農業 | F9: 0 | G9: 0 | H9: 0 | I9: 0 | J9: 0 | K9: 0 | L9: 0 | M9: 0 | N9: 0 | O9: 0 | P9: 0 | Q9: 0 | R9: 0 | S9: 0 | T9: 0 | U9: 0 | V9: 0 | W9: 0 | X9: 0
B10: 漁 業 | D10: 漁業大分類 | E10: B | F10: 0.0008117 | G10: 1.3198728 | H10: 0.41229824 | I10: 0.02100544 | J10: 0 | K10: 3.7749944 | L10: 0 | M10: 0.2337269 | N10: 0 | O10: 0 | P10: 0 | Q10: 0 | R10: 0.57225004 | S10: 0.046352732 | T10: 0 | U10: 0.02819504 | V10: 0 | W10: 0 | X10: 0 | Y10: 6.4095073
C11: 5 | D11: 漁 業 | E11: B03 | F11: 0 | G11: 0 | H11: 0.015063043 | I11: 0 | J11: 0 | K11: 0.86602899 | L11: 0 | M11: 0.00029699757 | N11: 0 | O11: 0 | P11: 0 | Q11: 0 | R11: 0.0051477718 | S11: 0.00011444993 | T11: 0 | U11: 6.8669958e-05 | V11: 0 | W11: 0 | X11: 0 | Y11: 0.88671993
C12: 6 | D12: 水産養殖業 | E12: B04 | F12: 0 | G12: 0.0069400928 | H12: 0 | I12: 0 | J12: 0 | K12: 0.040357481 | L12: 0 | M12: 0 | N12: 0 | O12: 0 | P12: 0 | Q12: 0 | R12: 0.11852967 | S12: 0 | T12: 0 | U12: 0 | V12: 0 | W12: 0 | X12: 0 | Y12: 0.16582725
B13: 鉱 業 | C13: 7 | D13: 鉱業 | E13: C | F13: 0.16344047 | G13: 7449.8467 | H13: 4.156409 | I13: 0.24764791 | J13: 0.71133978 | K13: 2.4038159 | L13: 0 | M13: 0.67157721 | N13: 0 | O13: 0 | P13: 0 | Q13: 0.062616107 | R13: 12.467293 | S13: 13.429255 | T13: 16.168746 | U13: 347.48912 | V13: 0 | W13: 0 | X13: 0.036772004 | Y13: 7847.8547
B14: 建設業 | C14: 8 | D14: 建設業 | E14: D | F14: 55.679168 | G14: 10128.956 | H14: 107.91355 | I14: 5.8420662 | J14: 63.248671 | K14: 1378.0072 | L14: 304.86769 | M14: 5743.7163 | N14: 70.897972 | O14: 0 | P14: 0 | Q14: 0.8393487 | R14: 943.88976 | S14: 2812.1069 | T14: 85.142365 | U14: 59232.674 | V14: 0 | W14: 0 | X14: 2.9681623 | Y14: 80936.749
B15: 製造業 | D15: 製造業大分類 | E15: E | F15: 849.79 | G15: 52024.115 | H15: 2279.029 | I15: 2951.4114 | J15: 2294.814 | K15: 3459.2379 | L15: 484.6049 | M15: 1391.8295 | N15: 21.906421 | O15: 2316.3916 | P15: 53.748384 | Q15: 11.747544 | R15: 5270.1451 | S15: 4719.1612 | T15: 11107.33 | U15: 1938.2511 | V15: 0 | W15: 0 | X15: 7070.1331 | Y15: 98243.646
C16: 9 | D16: 食料品製造業 | E16: E9 | F16: 45.24659 | G16: 5816.5126 | H16: 136.98917 | I16: 102.95267 | J16: 52.010119 | K16: 364.44932 | L16: 0.003 | M16: 13.628399 | N16: 0 | O16: 1562.2932 | P16: 53.702384 | Q16: 0.036953976 | R16: 151.22064 | S16: 44.628272 | T16: 159.81132 | U16: 11.747829 | V16: 0 | W16: 0 | X16: 193.61365 | Y16: 8708.8461
C17: 10 | D17: 飲料・たばこ・飼料製造業 | E17: E10 | F17: 2.0322665 | G17: 1184.2912 | H17: 5.7838802 | I17: 740.01823 | J17: 37.98629 | K17: 73.033468 | L17: 0 | M17: 5.1872408 | N17: 0 | O17: 463.0419 | P17: 0 | Q17: 0.042390594 | R17: 20.820124 | S17: 12.909444 | T17: 19.309628 | U17: 2.2034083 | V17: 0 | W17: 0 | X17: 16.199937 | Y17: 2582.8594
C18: 11 | D18: 繊維工業 | E18: E11 | F18: 34.142656 | G18: 465.90624 | H18: 18.678356 | I18: 19.288714 | J18: 23.598278 | K18: 128.75992 | L18: 0 | M18: 4.3296809 | N18: 20.148421 | O18: 0 | P18: 0 | Q18: 0.0036462174 | R18: 4.0311824 | S18: 0.73387144 | T18: 0.0923591 | U18: 1.7405754 | V18: 0 | W18: 0 | X18: 80.622383 | Y18: 802.07628
C19: 12 | D19: 木材・木製品製造業 | E19: E12 | F19: 54.976464 | G19: 6.1587799 | H19: 2.062694 | I19: 0.32279516 | J19: 1.049939 | K19: 34.92246 | L19: 0 | M19: 740.41268 | N19: 0 | O19: 0 | P19: 0 | Q19: 0.0028231597 | R19: 8.8427942 | S19: 20.131803 | T19: 1.120273 | U19: 3.7704562 | V19: 0 | W19: 0 | X19: 11.696895 | Y19: 885.47085
C20: 13 | D20: 家具・装備品製造業 | E20: E13 | F20: 1.0028695 | G20: 21.567097 | H20: 2.0367475 | I20: 1.1225648 | J20: 1.1187791 | K20: 26.959259 | L20: 0 | M20: 117.63171 | N20: 0 | O20: 0 | P20: 0 | Q20: 0.037185658 | R20: 6.9455782 | S20: 3.0577236 | T20: 2.5645783 | U20: 3.7809517 | V20: 0 | W20: 0 | X20: 2.0249807 | Y20: 189.85003
C21: 14 | D21: パルプ・紙・紙加工品製造業 | E21: E14 | F21: 282.48746 | G21: 25687.568 | H21: 20.255766 | I21: 4.149734 | J21: 18.4552 | K21: 443.40699 | L21: 310.77813 | M21: 42.247135 | N21: 0 | O21: 0 | P21: 0 | Q21: 0.0057881479 | R21: 48.722054 | S21: 13.5196 | T21: 33.637557 | U21: 3.3842006 | V21: 0 | W21: 0 | X21: 836.11234 | Y21: 27744.73
C22: 15 | D22: 印刷・同関連業 | E22: E15 | F22: 1.5606542 | G22: 55.05983 | H22: 37.350307 | I22: 10.278127 | J22: 19.368142 | K22: 133.58475 | L22: 152.16726 | M22: 4.6402997 | N22: 0 | O22: 0 | P22: 0 | Q22: 0.022306927 | R22: 18.910967 | S22: 2.5324574 | T22: 6.8128753 | U22: 1.1171246 | V22: 0 | W22: 0 | X22: 55.133994 | Y22: 498.53909
C23: 16 | D23: 化学工業 | E23: E16 | F23: 99.141403 | G23: 5467.5907 | H23: 803.49343 | I23: 556.83059 | J23: 1241.0894 | K23: 254.31424 | L23: 0 | M23: 30.701848 | N23: 0 | O23: 65.300383 | P23: 0 | Q23: 0.046033072 | R23: 197.9677 | S23: 62.393227 | T23: 264.22534 | U23: 49.374246 | V23: 0 | W23: 0 | X23: 388.82093 | Y23: 9481.2894
C24: 17 | D24: 石油製品・石炭製品製造業 | E24: E17 | F24: 11.113366 | G24: 359.89676 | H24: 91.912821 | I24: 61.902546 | J24: 34.02484 | K24: 24.941408 | L24: 0 | M24: 2.9082273 | N24: 0 | O24: 0 | P24: 0 | Q24: 0.12988308 | R24: 79.67109 | S24: 91.878193 | T24: 94.528236 | U24: 179.46331 | V24: 0 | W24: 0 | X24: 104.97522 | Y24: 1137.3459
C25: 18 | D25: プラスチック製品製造業 | E25: E18 | F25: 21.70951 | G25: 224.12607 | H25: 53.70713 | I25: 28.474932 | J25: 32.706125 | K25: 630.15081 | L25: 0 | M25: 31.935505 | N25: 0 | O25: 0 | P25: 0 | Q25: 0.1015724 | R25: 27.335287 | S25: 15.301561 | T25: 3.9217187 | U25: 8.5404071 | V25: 0 | W25: 0 | X25: 22.272216 | Y25: 1100.2829
C26: 19 | D26: ゴム製品製造業 | E26: E19 | F26: 2.0768514 | G26: 76.702651 | H26: 13.458467 | I26: 0.62032243 | J26: 3.3029559 | K26: 203.54979 | L26: 0 | M26: 4.1380709 | N26: 0 | O26: 0 | P26: 0 | Q26: 9.9871093 | R26: 8.625387 | S26: 2.5090451 | T26: 0.6576136 | U26: 0.17833351 | V26: 0 | W26: 0 | X26: 0.97522493 | Y26: 326.78182
C27: 20 | D27: なめし革・同製品・毛皮製造業 | E27: E20 | F27: 0.00011954627 | G27: 11.349579 | H27: 2.1120774 | I27: 0.0024716076 | J27: 0.16172803 | K27: 3.0734614 | L27: 0 | M27: 0.39311547 | N27: 0 | O27: 0 | P27: 0 | Q27: 0.01631336 | R27: 0.18742942 | S27: 0.036864495 | T27: 0.026671493 | U27: 0.0016173213 | V27: 0 | W27: 0 | X27: 0.022305776 | Y27: 17.383754
... C39: 32 | D39: その他の製造業 | E39: E32 | F39: 21.676118 | G39: 89.950286 | H39: 61.272596 | I39: 8.0599053 | J39: 21.689475 | K39: 111.26108 | L39: 0 | M39: 22.899129 | N39: 0 | O39: 0 | P39: 0 | Q39: 0.026395874 | R39: 27.184618 | S39: 42.030798 | T39: 21.273226 | U39: 30.018618 | V39: 0 | W39: 0 | X39: 135.88203 | Y39: 593.22427
B40: 電気･ガス | D40: インフラ大分類 | E40: F | F40: 1205.3959 | G40: 88255.979 | H40: 5.8962251 | I40: 2.1436097 | J40: 28.764227 | K40: 9.6555628 | L40: 0 | M40: 10.428149 | N40: 0 | O40: 0 | P40: 0 | Q40: 0.003473217 | R40: 12.849098 | S40: 40.173575 | T40: 75.54811 | U40: 176.6048 | V40: 0 | W40: 0 | X40: 9657.7642 | Y40: 99481.206
B41: ･熱供給･ | C41: 33 | D41: 電気業 | E41: F33 | F41: 1152.1712 | G41: 1077.5598 | H41: 4.7641614 | I41: 1.5655488 | J41: 3.9838511 | K41: 7.462377 | L41: 0 | M41: 6.6525035 | N41: 0 | O41: 0 | P41: 0 | Q41: 0.0019253494 | R41: 9.9889698 | S41: 38.980378 | T41: 71.30094 | U41: 69.214045 | V41: 0 | W41: 0 | X41: 8875.196 | Y41: 11318.842
B42: 水道業 | C42: 34 | D42: ガス業 | E42: F34 | F42: 0 | G42: 0.49575155 | H42: 0.1566835 | I42: 0 | J42: 0.0031701261 | K42: 0.96458809 | L42: 0 | M42: 3.4942316 | N42: 0 | O42: 0 | P42: 0 | Q42: 0.00064835526 | R42: 1.2166729 | S42: 0.530209 | T42: 0.00023302999 | U42: 4.269154 | V42: 0 | W42: 0 | X42: 0 | Y42: 11.131342
C43: 35 | D43: 熱供給業 | E43: F35 | F43: 23.610838 | G43: 171.83786 | H43: 0.013227437 | I43: 0.0061124199 | J43: 0.0086065864 | K43: 0.015065733 | L43: 0 | M43: 0.0011232993 | N43: 0 | O43: 0 | P43: 0 | Q43: 6.9525816e-06 | R43: 0.026861684 | S43: 0.00068447395 | T43: 0.074021219 | U43: 0.52813989 | V43: 0 | W43: 0 | X43: 23.751213 | Y43: 219.87376
C44: 36 | D44: 上水道業 | E44: F361 | F44: 6.3253127 | G44: 9726.5203 | H44: 0.43862161 | I44: 0.41149813 | J44: 24.521976 | K44: 0.5311061 | L44: 0 | M44: 0.087666764 | N44: 0 | O44: 0 | P44: 0 | Q44: 6.3284888e-05 | R44: 0.70641788 | S44: 0.21575899 | T44: 0.84577625 | U44: 87.828514 | V44: 0 | W44: 0 | X44: 223.05789 | Y44: 10071.491
C45: 37 | D45: 下水道業 | E45: F363 | F45: 23.288604 | G45: 77279.565 | H45: 0.52353118 | I45: 0.16045034 | J45: 0.246623 | K45: 0.68242593 | L45: 0 | M45: 0.19262391 | N45: 0 | O45: 0 | P45: 0 | Q45: 0.00082927493 | R45: 0.91017608 | S45: 0.44654426 | T45: 3.3271391 | U45: 14.764952 | V45: 0 | W45: 0 | X45: 535.75911 | Y45: 77859.868
B46: 情報通信業 | D46: 情報大分類 | E46: G | F46: 0.0072993502 | G46: 1.12819 | H46: 2.5598466 | I46: 0.74768524 | J46: 10.033307 | K46: 17.337769 | L46: 1.425316 | M46: 1.9524375 | N46: 0 | O46: 0 | P46: 0 | Q46: 0.012390551 | R46: 28.098879 | S46: 4.9296181 | T46: 0 | U46: 39.071944 | V46: 0 | W46: 0 | X46: 0 | Y46: 107.30468
C47: 38 | D47: 通信業 | E47: G37 | F47: 0 | G47: 0.0066609684 | H47: 0.2827214 | I47: 0 | J47: 0 | K47: 7.3484364 | L47: 0 | M47: 0 | N47: 0 | O47: 0 | P47: 0 | Q47: 0 | R47: 6.3631324 | S47: 2.9986735 | T47: 0 | U47: 3.1728676 | V47: 0 | W47: 0 | X47: 0 | Y47: 20.172492
C48: 39 | D48: 放送業 | E48: G38 | F48: 0 | G48: 0.1412548 | H48: 0 | I48: 0 | J48: 0.011106772 | K48: 4.3595581 | L48: 0 | M48: 0.085325916 | N48: 0 | O48: 0 | P48: 0 | Q48: 0 | R48: 14.173512 | S48: 0.1017572 | T48: 0 | U48: 3.2373978 | V48: 0 | W48: 0 | X48: 0 | Y48: 22.109913
C49: 40 | D49: 情報サービス業 | E49: G39 | F49: 0 | G49: 0.42880905 | H49: 0 | I49: 0 | J49: 0 | K49: 4.2643908 | L49: 0 | M49: 0.00082516012 | N49: 0 | O49: 0 | P49: 0 | Q49: 0 | R49: 6.4079001 | S49: 1.6129021 | T49: 0 | U49: 0 | V49: 0 | W49: 0 | X49: 0 | Y49: 12.714827
C50: 41 | D50: インターネット付随サービス業 | E50: G40 | F50: 0 | G50: 0 | H50: 0.66225754 | I50: 0 | J50: 9.8890936 | K50: 0.0041593983 | L50: 0 | M50: 0 | N50: 0 | O50: 0 | P50: 0 | Q50: 0 | R50: 0.0012249114 | S50: 0 | T50: 0 | U50: 0 | V50: 0 | W50: 0 | X50: 0 | Y50: 10.556735
C51: 42 | D51: 映像・音声・文字情報制作業 | E51: G41 | F51: 0 | G51: 0.0018514858 | H51: 1.6148677 | I51: 0.54747832 | J51: 0.087834489 | K51: 1.3612247 | L51: 0.91909729 | M51: 0 | N51: 0 | O51: 0 | P51: 0 | Q51: 0 | R51: 1.1531094 | S51: 0.21628535 | T51: 0 | U51: 0 | V51: 0 | W51: 0 | X51: 0 | Y51: 5.9017487
B52: 運輸業 | D52: 運輸大分類 | E52: H | F52: 0.45834455 | G52: 151.26876 | H52: 48.575278 | I52: 2.759214 | J52: 3.8259466 | K52: 202.65966 | L52: 0 | M52: 171.5624 | N52: 0 | O52: 0 | P52: 0 | Q52: 0.23098664 | R52: 36.05976 | S52: 27.801775 | T52: 5.7794213 | U52: 33.061597 | V52: 0 | W52: 0 | X52: 0.29768577 | Y52: 684.34083
C53: 43 | D53: 鉄道業 | E53: H42 | F53: 0.002 | G53: 52.224614 | H53: 6.7170752 | I53: 0.0025737852 | J53: 0.6992718 | K53: 34.48909 | L53: 0 | M53: 7.819013 | N53: 0 | O53: 0 | P53: 0 | Q53: 0.12632223 | R53: 16.166098 | S53: 12.613322 | T53: 0.0021062084 | U53: 18.158123 | V53: 0 | W53: 0 | X53: 0 | Y53: 149.01961
C54: 44 | D54: 道路旅客運送業 | E54: H43 | F54: 0 | G54: 26.381396 | H54: 4.4842747 | I54: 0 | J54: 0.35441512 | K54: 19.069694 | L54: 0 | M54: 0.11936273 | N54: 0 | O54: 0 | P54: 0 | Q54: 0.0074315486 | R54: 4.3967184 | S54: 1.837234 | T54: 0 | U54: 0.28637724 | V54: 0 | W54: 0 | X54: 0 | Y54: 56.936904
C55: 45 | D55: 道路貨物運送業 | E55: H44 | F55: 0.45634455 | G55: 16.123985 | H55: 33.691951 | I55: 2.6727526 | J55: 0.96549924 | K55: 129.32396 | L55: 0 | M55: 137.82302 | N55: 0 | O55: 0 | P55: 0 | Q55: 0.097232861 | R55: 12.382496 | S55: 11.116 | T55: 0 | U55: 4.1657315 | V55: 0 | W55: 0 | X55: 0 | Y55: 348.81898
C56: 46 | D56: 上記以外の運輸通信業 | F56: 0 | G56: 56.538769 | H56: 3.6819773 | I56: 0.083887634 | J56: 1.8067604 | K56: 19.776918 | L56: 0 | M56: 25.800998 | N56: 0 | O56: 0 | P56: 0 | Q56: 0 | R56: 3.1144466 | S56: 2.23522 | T56: 0 | U56: 10.451366 | V56: 0 | W56: 0 | X56: 0 | Y56: 123.49034
B57: 卸売・小売業 | D57: 卸・小売大分類 | E57: I | F57: 1.2059257 | G57: 283.16459 | H57: 250.94746 | I57: 10.87775 | J57: 30.489277 | K57: 960.12797 | L57: 0 | M57: 124.88553 | N57: 0 | O57: 0 | P57: 0 | Q57: 1.7048739 | R57: 262.87043 | S57: 116.12625 | T57: 1.2535341 | U57: 140.20835 | V57: 0 | W57: 0 | X57: 0.516054 | Y57: 2184.378
C58: 47 | D58: 各種商品卸売業 | E58: I50 | F58: 0 | G58: 5.2159228 | H58: 1.9852732 | I58: 0.017150145 | J58: 0.20694433 | K58: 15.990923 | L58: 0 | M58: 1.5517893 | N58: 0 | O58: 0 | P58: 0 | Q58: 0 | R58: 3.1593159 | S58: 0.75952912 | T58: 0 | U58: 0.023037445 | V58: 0 | W58: 0 | X58: 0 | Y58: 28.909885
C59: 48 | D59: 木材・竹材卸売業 | E59: I5311 | F59: 0 | G59: 1.0168295 | H59: 0.024297707 | I59: 0 | J59: 0 | K59: 51.512856 | L59: 0 | M59: 16.388497 | N59: 0 | O59: 0 | P59: 0 | Q59: 0 | R59: 3.6995042 | S59: 52.984824 | T59: 0 | U59: 54.401802 | V59: 0 | W59: 0 | X59: 0 | Y59: 180.02861
C60: 49 | D60: 各種商品小売業 | E60: I56 | F60: 0.015366154 | G60: 9.5343912 | H60: 6.9530454 | I60: 0.000905062 | J60: 0.44819665 | K60: 56.789076 | L60: 0 | M60: 11.903852 | N60: 0 | O60: 0 | P60: 0 | Q60: 0 | R60: 5.0253426 | S60: 4.2836758 | T60: 0 | U60: 2.3778626 | V60: 0 | W60: 0 | X60: 0 | Y60: 97.331714
C61: 50 | D61: 自動車小売業 | E61: I591 | F61: 0.0080712287 | G61: 80.805526 | H61: 130.18603 | I61: 4.2383814 | J61: 24.990565 | K61: 246.23656 | L61: 0 | M61: 50.172436 | N61: 0 | O61: 0 | P61: 0 | Q61: 1.3867145 | R61: 79.450918 | S61: 15.559796 | T61: 0 | U61: 3.0451765 | V61: 0 | W61: 0 | X61: 0 | Y61: 636.08018
C62: 51 | D62: 機械器具小売業 | E62: I593 | F62: 0 | G62: 4.5046507 | H62: 5.1040537 | I62: 5.2599401 | J62: 0.25606975 | K62: 123.13152 | L62: 0 | M62: 0.64123941 | N62: 0 | O62: 0 | P62: 0 | Q62: 0.019865569 | R62: 15.997449 | S62: 1.5605248 | T62: 0 | U62: 23.522805 | V62: 0 | W62: 0 | X62: 0 | Y62: 179.99812
C63: 52 | D63: 家具・建具・畳小売業 | E63: I601 | F63: 0.10910995 | G63: 0 | H63: 0.033685263 | I63: 0 | J63: 0 | K63: 9.5991079 | L63: 0 | M63: 0.70957376 | N63: 0 | O63: 0 | P63: 0 | Q63: 0.0010776256 | R63: 1.1517172 | S63: 0.90841671 | T63: 0 | U63: 2.7813249 | V63: 0 | W63: 0 | X63: 0 | Y63: 15.294013
C64: 53 | D64: じゅう器小売業 | E64: I602 | F64: 0.94913526 | G64: 0.0017273607 | H64: 0 | I64: 0 | J64: 0 | K64: 1.532018 | L64: 0 | M64: 0.55428702 | N64: 0 | O64: 0 | P64: 0 | Q64: 0 | R64: 0.0077857869 | S64: 0.02223131 | T64: 0.036965331 | U64: 0.00041955623 | V64: 0 | W64: 0 | X64: 0 | Y64: 3.1045697
C65: 54 | D65: 燃料小売業 | E65: I603 | F65: 0.015107532 | G65: 124.34259 | H65: 86.606556 | I65: 0 | J65: 0.24038272 | K65: 71.086101 | L65: 0 | M65: 7.1248049 | N65: 0 | O65: 0 | P65: 0 | Q65: 0.29580977 | R65: 11.334953 | S65: 11.658619 | T65: 0 | U65: 11.957388 | V65: 0 | W65: 0 | X65: 0 | Y65: 324.66231
C66: 55 | D66: 上記以外の卸売・小売業 | F66: 0.10913553 | G66: 57.74295 | H66: 20.054519 | I66: 1.3613731 | J66: 4.3471179 | K66: 384.2498 | L66: 0 | M66: 35.839046 | N66: 0 | O66: 0 | P66: 0 | Q66: 0.001406502 | R66: 143.04345 | S66: 28.388631 | T66: 0 | U66: 42.098537 | V66: 0 | W66: 0 | X66: 0 | Y66: 717.23596
B67: 不動産業、 | D67: 不動産・物品賃借大分類 | E67: K | F67: 0.019984372 | G67: 35.629995 | H67: 2.5648108 | I67: 0.002102 | J67: 0.042932583 | K67: 55.314074 | L67: 0 | M67: 42.493814 | N67: 0 | O67: 0 | P67: 0 | Q67: 0.28867468 | R67: 28.565392 | S67: 21.672525 | T67: 0.029 | U67: 61.204106 | V67: 0 | W67: 0 | X67: 0.0018604822 | Y67: 247.82927
B68: 物品賃借業 | C68: 56 | D68: 物品賃借業 | E68: K70 | F68: 0.00012627022 | G68: 35.629995 | H68: 2.5648108 | I68: 0 | J68: 0.042932583 | K68: 55.314074 | L68: 0 | M68: 42.493814 | N68: 0 | O68: 0 | P68: 0 | Q68: 0.28867468 | R68: 28.565392 | S68: 21.672525 | T68: 0 | U68: 61.204106 | V68: 0 | W68: 0 | X68: 0.0018604822 | Y68: 247.77831
B69: 学術研究，専門 | D69: 学術研究、専門・技術サービス業 | E69: L | F69: 0.27867222 | G69: 81.970821 | H69: 10.695333 | I69: 27.814623 | J69: 9.6782886 | K69: 34.351007 | L69: 0 | M69: 6.3937269 | N69: 0 | O69: 0 | P69: 0 | Q69: 0.02914307 | R69: 24.286165 | S69: 14.721194 | T69: 1.0855161 | U69: 11.731879 | V69: 0 | W69: 0 | X69: 0.022464915 | Y69: 223.05883
B70: ・技術サービス業 | C70: 57 | D70: 学術開発研究機関 | E70: L71 | F70: 0.27867222 | G70: 81.91092 | H70: 10.695333 | I70: 11.926918 | J70: 4.4000075 | K70: 33.417447 | L70: 0 | M70: 6.379739 | N70: 0 | O70: 0 | P70: 0 | Q70: 0 | R70: 24.282674 | S70: 14.712187 | T70: 0.72169695 | U70: 11.731879 | V70: 0 | W70: 0 | X70: 0 | Y70: 200.45747
C71: 58 | D71: 写真業 | E71: L746 | F71: 0 | G71: 0.05990131 | H71: 0 | I71: 15.887705 | J71: 5.2782811 | K71: 0.9335608 | L71: 0 | M71: 0.013987877 | N71: 0 | O71: 0 | P71: 0 | Q71: 0 | R71: 0.0034917833 | S71: 0.0090069753 | T71: 0 | U71: 0 | V71: 0 | W71: 0 | X71: 0 | Y71: 22.185935
B72: 宿泊業，飲食 | D72: 飲食店、宿泊業大分類 | E72: Ｍ | F72: 1.0173762 | G72: 136.49922 | H72: 73.531244 | I72: 0.026267016 | J72: 0.008192371 | K72: 63.37657 | L72: 0 | M72: 2.1012365 | N72: 0 | O72: 0 | P72: 0 | Q72: 0.017460737 | R72: 14.551071 | S72: 12.266287 | T72: 0 | U72: 4.2122164 | V72: 0 | W72: 0 | X72: 0.0019302945 | Y72: 307.60907
B73: サービス業 | C73: 59 | D73: 一般飲食店 | E73: M76 | F73: 0.78620784 | G73: 53.554505 | H73: 66.485297 | I73: 6.9520431e-07 | J73: 0.008192371 | K73: 52.993067 | L73: 0 | M73: 0.18191425 | N73: 0 | O73: 0 | P73: 0 | Q73: 1.4847655e-05 | R73: 11.187363 | S73: 11.054401 | T73: 0 | U73: 0.00014458925 | V73: 0 | W73: 0 | X73: 0 | Y73: 196.25111
C74: 60 | D74: 上記以外の飲食店、宿泊業 | F74: 0.23116837 | G74: 82.944711 | H74: 7.0459478 | I74: 0 | J74: 0 | K74: 10.383503 | L74: 0 | M74: 0.0045800835 | N74: 0 | O74: 0 | P74: 0 | Q74: 0.012575699 | R74: 3.3637079 | S74: 1.2118856 | T74: 0 | U74: 4.2120718 | V74: 0 | W74: 0 | X74: 0.0019302945 | Y74: 109.41208
B75: 生活関連サービス、娯楽業 | D75: 生活関連サービス、娯楽業 | E75: N | F75: 3.1131646 | G75: 62.582305 | H75: 3.6412359 | I75: 15.712923 | J75: 0.63977831 | K75: 62.133823 | L75: 0 | M75: 3.2181173 | N75: 0 | O75: 0 | P75: 0 | Q75: 0.18500379 | R75: 5.2260923 | S75: 3.5416645 | T75: 0.004 | U75: 4.7199869 | V75: 0 | W75: 0 | X75: 0.01612 | Y75: 164.73421
C76: 61 | D76: 洗濯業 | E76: N781 | F76: 0.88874496 | G76: 30.70507 | H76: 2.3146357 | I76: 6.5926341 | J76: 0.43269466 | K76: 24.434902 | L76: 0 | M76: 0.82779488 | N76: 0 | O76: 0 | P76: 0 | Q76: 0.00029145021 | R76: 3.2051414 | S76: 0.047669859 | T76: 0 | U76: 0.1163928 | V76: 0 | W76: 0 | X76: 0 | Y76: 69.565972
B77: 教育、学習支援業 | C77: 64 | D77: 教育、学習支援業大分類 | E77: O | F77: 0.023592701 | G77: 82.12647 | H77: 2.2895327 | I77: 0.77446995 | J77: 0.49128333 | K77: 49.387102 | L77: 0 | M77: 6.5374066 | N77: 0 | O77: 0 | P77: 0 | Q77: 0.0061810445 | R77: 36.761055 | S77: 12.365564 | T77: 0.0013741478 | U77: 8.8141408 | V77: 0 | W77: 0 | X77: 0.03288474 | Y77: 199.61106
B78: 医療、福祉 | D78: 医療、福祉大分類 | E78: P | F78: 1.0523532 | G78: 63.600413 | H78: 15.373317 | I78: 13.969411 | J78: 10.331513 | K78: 337.39955 | L78: 0 | M78: 2.3755988 | N78: 0 | O78: 0 | P78: 0 | Q78: 0.11657631 | R78: 46.657944 | S78: 43.880819 | T78: 0 | U78: 7.8240209 | V78: 0 | W78: 0 | X78: 2.0292863 | Y78: 544.6108
C79: 62 | D79: 医療業 | E79: P83 | F79: 0.43467879 | G79: 38.129538 | H79: 13.212215 | I79: 9.1699992 | J79: 5.0993595 | K79: 274.94634 | L79: 0 | M79: 1.2773741 | N79: 0 | O79: 0 | P79: 0 | Q79: 0.1165663 | R79: 36.454796 | S79: 39.195431 | T79: 0 | U79: 5.1867273 | V79: 0 | W79: 0 | X79: 0 | Y79: 423.22303
C80: 63 | D80: 上記以外の医療、福祉 | F80: 0.61767441 | G80: 25.470876 | H80: 2.1611022 | I80: 4.7994121 | J80: 5.2321536 | K80: 62.453209 | L80: 0 | M80: 1.0982247 | N80: 0 | O80: 0 | P80: 0 | Q80: 1.0014611e-05 | R80: 10.203147 | S80: 4.6853886 | T80: 0 | U80: 2.6372936 | V80: 0 | W80: 0 | X80: 0 | Y80: 119.35849 | Z80: 21086101
B81: 複合サービス事業 | C81: 65 | D81: 複合サービス事業大分類 | E81: Q | F81: 3.8871686 | G81: 65.587542 | H81: 1.7799978 | I81: 1.5956354 | J81: 0.64713416 | K81: 83.142533 | L81: 0 | M81: 27.557596 | N81: 0 | O81: 0 | P81: 0 | Q81: 6.9462895e-05 | R81: 13.850539 | S81: 11.229902 | T81: 0.099705342 | U81: 170.86468 | V81: 0 | W81: 0 | X81: 0.047964098 | Y81: 380.29047
B82: サービス業 | D82: サービス業大分類 | E82: R | F82: 45.430163 | G82: 431.01913 | H82: 119.43105 | I82: 65.577131 | J82: 66.031278 | K82: 518.92786 | L82: 0 | M82: 123.71558 | N82: 0 | O82: 0 | P82: 20.870731 | Q82: 0.22648882 | R82: 124.15779 | S82: 164.44014 | T82: 10.268659 | U82: 182.54407 | V82: 0 | W82: 0 | X82: 34.16746 | Y82: 1906.8075
C83: 66 | D83: 自動車整備業 | E83: R891 | F83: 37.152864 | G83: 187.90016 | H83: 111.81953 | I83: 5.532901 | J83: 47.079677 | K83: 396.95206 | L83: 0 | M83: 64.986183 | N83: 0 | O83: 0 | P83: 0 | Q83: 0.097378869 | R83: 95.049094 | S83: 139.65299 | T83: 0 | U83: 17.63115 | V83: 0 | W83: 0 | X83: 0 | Y83: 1103.854
C84: 67 | D84: と蓄場 | E84: R952 | F84: 0 | G84: 89.394895 | H84: 3.5978879e-06 | I84: 0 | J84: 0.0028641422 | K84: 14.772782 | L84: 0 | M84: 0 | N84: 0 | O84: 0 | P84: 4.0570591 | Q84: 0 | R84: 0.034532878 | S84: 0.87732275 | T84: 0 | U84: 0.062375065 | V84: 0 | W84: 0 | X84: 0 | Y84: 109.20183
C85: 68 | D85: 上記以外のサービス業 | F85: 8.2772985 | G85: 153.72408 | H85: 7.6115169 | I85: 42.105706 | J85: 18.948736 | K85: 107.20302 | L85: 0 | M85: 58.729398 | N85: 0 | O85: 0 | P85: 0 | Q85: 0.0051473675 | R85: 29.074161 | S85: 23.909829 | T85: 0 | U85: 164.85054 | V85: 0 | W85: 0 | X85: 0.12869116 | Y85: 614.56813
B86: 公 務 | C86: 69 | D86: 公務大分類 | E86: S | F86: 17.151659 | G86: 503.87833 | H86: 2.5794934 | I86: 0.70476754 | J86: 1.3307528 | K86: 14.101754 | L86: 0 | M86: 9.3413381 | N86: 0 | O86: 0 | P86: 0 | Q86: 0.0013092745 | R86: 31.862596 | S86: 12.368513 | T86: 0.058951281 | U86: 134.00168 | V86: 0 | W86: 0 | X86: 29.707643 | Y86: 757.08879
D87: 合 計 | F87: 2185.1608 | G87: 159817.75 | H87: 2935.5722 | I87: 3103.3051 | J87: 2521.1706 | K87: 7350.8714 | L87: 790.8979 | M87: 7739.6095 | N87: 92.804393 | O87: 2316.3916 | P87: 74.619115 | Q87: 15.480396 | R87: 6894.5501 | S87: 8040.8929 | T87: 11303.013 | U87: 62498.853 | V87: 81270.546 | W87: 167.53165 | X87: 16797.744 | Y87: 375916.77
B88: ※大分類のみの回答で、かつ中分類への配分ができない都道府県があるため、中分類の合算値と大分類の値が合致しない項目がある。
B89: ※四捨五入により、各項目の合算値と合計値が合致しない場合がある。
B90: ※空欄は該当値が無いもの、「0」表示は500t/年未満である事を示している。
B91: ※動物の死体の原単位については平成30年度家畜共済統計表（農林水産省）の動物の死亡率を用いて推計した。

Sheet 表Ⅲ・6
C1: 表－Ⅲ・６ 令和３年度実績値 都道府県別・種類別排出量推計値一覧表
X3: (単位：千ｔ/年)
B4: 大分類 | C4: No. | D4: 都道府県名 | E4: 燃え殻 | F4: 汚 泥 | G4: 廃 油 | H4: 廃 酸 | I4: 廃アルカリ | J4: 廃プラス チック類 | K4: 紙くず | L4: 木くず | M4: 繊維くず | N4: 動植物性 残 渣 | O4: 動物系 固形不要物 | P4: ゴムくず | Q4: 金属くず | R4: ガラスくず 及び 陶磁器くず | S4: 鉱さい | T4: がれき類 | U4: 動物の ふん尿 | V4: 動物の死体 | W4: ばいじん | X4: 合 計
C5: 1 | D5: 北海道 | E5: 248.53659 | F5: 7987.4323 | G5: 46.301455 | H5: 23.176317 | I5: 7.5638469 | J5: 376.08588 | K5: 7.3178115 | L5: 458.51781 | M5: 1.8973542 | N5: 138.82982 | O5: 1.3196403 | P5: 0.038571678 | Q5: 74.709542 | R5: 392.18 | S5: 79.560075 | T5: 3525.0719 | U5: 20466.355 | V5: 42.156182 | W5: 1394.5867 | X5: 35271.637
C6: 2 | D6: 青森県 | E6: 8.0550215 | F6: 1639.1238 | G6: 9.6879448 | H6: 8.6969969 | I6: 11.250672 | J6: 36.002821 | K6: 2.6687916 | L6: 77.565743 | M6: 1.0100685 | N6: 39.095055 | O6: 1.8289646 | P6: 0.10130538 | Q6: 15.766491 | R6: 104.94156 | S6: 49.981516 | T6: 1004.3316 | U6: 2188.8313 | V6: 0.68980144 | W6: 36.267728 | X6: 5235.8972
C7: 3 | D7: 岩手県 | E7: 15.834521 | F7: 857.02461 | G7: 14.304291 | H7: 8.289541 | I7: 10.81295 | J7: 58.600129 | K7: 2.658991 | L7: 98.280673 | M7: 1.234364 | N7: 14.93428 | O7: 0.71393 | P7: 0.0001626 | Q7: 12.203607 | R7: 117.36234 | S7: 99.24099 | T7: 1041.7684 | U7: 3828.2171 | V7: 4.2243849 | W7: 41.00809 | X7: 6226.7133
C8: 4 | D8: 宮城県 | E8: 34.012356 | F8: 5291.6177 | G8: 35.90607 | H8: 11.708022 | I8: 10.928629 | J8: 169.17699 | K8: 14.743 | L8: 324.79317 | M8: 5.574 | N8: 30.995 | O8: 0 | P8: 0.13209858 | Q8: 39.152669 | R8: 236.76469 | S8: 56.802458 | T8: 1786.853 | U8: 1750.3809 | V8: 1.7513958 | W8: 158.3286 | X8: 9959.6207
C9: 5 | D9: 秋田県 | E9: 51.338911 | F9: 1298.5925 | G9: 15.288077 | H9: 5.3734008 | I9: 7.563976 | J9: 41.339362 | K9: 7.355 | L9: 70.706476 | M9: 0.466 | N9: 10.844 | O9: 0 | P9: 0.0069828233 | Q9: 12.025826 | R9: 48.709626 | S9: 150.23537 | T9: 519.77689 | U9: 951.46375 | V9: 0.42270537 | W9: 29.282626 | X9: 3220.7914
C10: 6 | D10: 山形県 | E10: 9.5551994 | F10: 1024.6299 | G10: 28.458265 | H10: 24.382949 | I10: 34.946191 | J10: 76.09735 | K10: 21.455998 | L10: 102.1966 | M10: 1.2717582 | N10: 30.954654 | O10: 0 | P10: 0.10580683 | Q10: 39.055002 | R10: 58.416638 | S10: 34.070612 | T10: 878.24036 | U10: 1037.4034 | V10: 1.7752669 | W10: 232.00285 | X10: 3635.0188
C11: 7 | D11: 福島県 | E11: 244.93563 | F11: 3244.1881 | G11: 33.176088 | H11: 18.962989 | I11: 92.912155 | J11: 202.67702 | K11: 5.636384 | L11: 275.35909 | M11: 4.138853 | N11: 17.813369 | O11: 0 | P11: 0.01986 | Q11: 29.686456 | R11: 146.07821 | S11: 156.21494 | T11: 1621.8544 | U11: 1218.4328 | V11: 1.8137007 | W11: 1317.403 | X11: 8631.3029
C12: 8 | D12: 茨城県 | E12: 98.905874 | F12: 5543.2042 | G12: 164.89787 | H12: 100.79021 | I12: 53.910914 | J12: 186.9241 | K12: 16.759397 | L12: 168.9251 | M12: 1.1837435 | N12: 91.032158 | O12: 0 | P12: 1.1051539 | Q12: 92.924257 | R12: 302.52605 | S12: 163.74253 | T12: 1432.0293 | U12: 2587.8985 | V12: 2.9288745 | W12: 688.58635 | X12: 11698.275
C13: 9 | D13: 栃木県 | E13: 4.2455018 | F13: 2762.4588 | G13: 50.252822 | H13: 30.057276 | I13: 28.33764 | J13: 187.49432 | K13: 13.276629 | L13: 176.87247 | M13: 0.60458962 | N13: 32.920492 | O13: 1.1077345 | P13: 0.080547787 | Q13: 29.824231 | R13: 150.83289 | S13: 274.98007 | T13: 1027.1455 | U13: 2861.9909 | V13: 27.084895 | W13: 33.880885 | X13: 7693.4481
C14: 10 | D14: 群馬県 | E14: 4.395538 | F14: 1427.3485 | G14: 52.720148 | H14: 7.9203837 | I14: 18.404326 | J14: 37.002495 | K14: 1.87801 | L14: 55.376719 | M14: 0.09737 | N14: 125.44802 | O14: 0 | P14: 0.1482461 | Q14: 14.449536 | R14: 113.92807 | S14: 97.432281 | T14: 299.30774 | U14: 2891.104 | V14: 2.0817311 | W14: 16.246961 | X14: 5165.2901
C15: 11 | D15: 埼玉県 | E15: 40.181193 | F15: 6705.9945 | G15: 100.41352 | H15: 34.984396 | I15: 33.432547 | J15: 367.89578 | K15: 60.068004 | L15: 232.93838 | M15: 4.3913409 | N15: 111.95639 | O15: 1.4042537 | P15: 1.6591481 | Q15: 165.98499 | R15: 271.51259 | S15: 101.19792 | T15: 2073.1808 | U15: 638.53538 | V15: 1.7171566 | W15: 28.424701 | X15: 10975.873
C16: 12 | D16: 千葉県 | E16: 29.446023 | F16: 7930.1129 | G16: 232.87645 | H16: 192.82273 | I16: 87.659066 | J16: 218.93957 | K16: 60.53 | L16: 307.19743 | M16: 2.236 | N16: 44.744 | O16: 0 | P16: 0.42194409 | Q16: 1731.6544 | R16: 352.66679 | S16: 2241.4226 | T16: 2389.1382 | U16: 2847.3909 | V16: 9.8716722 | W16: 2465.3184 | X16: 21144.449
... C51: 47 | D51: 沖縄県 | E51: 8.4912301 | F51: 1037.6611 | G51: 14.918144 | H51: 0.73818838 | I51: 0.31486511 | J51: 28.690094 | K51: 1.1302791 | L51: 34.223636 | M51: 0.062712245 | N51: 107.04414 | O51: 1.3962912 | P51: 0.31637229 | Q51: 11.440331 | R51: 88.244092 | S51: 26.593947 | T51: 420.59137 | U51: 1393.4083 | V51: 1.9004263 | W51: 153.09878 | X51: 3330.2643
C52: 全国 | E52: 2185.1608 | F52: 159817.75 | G52: 2935.5722 | H52: 3103.3051 | I52: 2521.1706 | J52: 7350.8714 | K52: 790.8979 | L52: 7739.6095 | M52: 92.804393 | N52: 2316.3916 | O52: 74.619115 | P52: 15.480396 | Q52: 6894.5501 | R52: 8040.8929 | S52: 11303.013 | T52: 62498.853 | U52: 81270.546 | V52: 167.53165 | W52: 16797.744 | X52: 375916.77
C53: ※四捨五入により、各項目の合算値と合計値が合致しない場合がある。
C54: ※動物の死体の原単位については平成30年度家畜共済統計表（農林水産省）の動物の死亡率を用いて推計した。

Sheet 表Ⅲ・7
B1: 表－Ⅲ・７ 令和３年度実績値 業種別・種類別全国共通原単位一覧表
D3: 全国 | F3: 令和３年度
B4: 大分類 | C4: 番号 | D4: 産業分類 | E4: コード | F4: 単位 | G4: 燃え殻 | H4: 汚 泥 | I4: 廃 油 | J4: 廃 酸 | K4: 廃アルカリ | L4: 廃プラス チック類 | M4: 紙くず | N4: 木くず | O4: 繊維くず | P4: 動植物性 残 渣 | Q4: 動物系固形不要物 | R4: ゴムくず | S4: 金属くず | T4: ガラスくず及び 陶磁器くず | U4: 鉱さい | V4: がれき類 | W4: 動物の ふん尿 | X4: 動物の死体 | Y4: ばいじん | AA4: 合 計
D5: 農業，林業大分類 | E5: A
C6: 1 | D6: 耕種農業 | E6: A011 | F6: t/千a | G6: 0 | H6: 0 | I6: 0 | J6: 0 | K6: 0 | N6: 0 | R6: 0 | S6: 0 | T6: 0 | U6: 0 | V6: 0 | Y6: 0
B7: 農業，林業 | C7: 2 | D7: 畜産農業 | E7: A012 | F7: t/頭羽 | G7: 0 | H7: 0 | I7: 0 | J7: 0 | K7: 0 | N7: 0 | R7: 0 | S7: 0 | T7: 0 | U7: 0 | V7: 0 | Y7: 0
C8: 3 | D8: 林業 | E8: A02 | F8: t/千人 | G8: 0 | H8: 0 | I8: 0 | J8: 0 | K8: 0 | N8: 0 | R8: 0 | S8: 0 | T8: 0 | U8: 0 | V8: 0 | Y8: 0
C9: 4 | D9: 上記以外の農業，林業
D10: 漁業大分類 | E10: B
B11: 漁 業 | C11: 5 | D11: 漁業 | E11: B03 | F11: t/千人
C12: 6 | D12: 水産養殖業 | E12: B04 | F12: t/千人
B13: 鉱 業 | C13: 7 | D13: 鉱業，採石業，砂利採取業 | E13: C | F13: t/千人 | G13: 9.4173634 | H13: 397109.85 | I13: 207.06058 | J13: 14.607893 | K13: 0.40039253 | L13: 113.21329 | N13: 33.478517 | R13: 1.5103934 | S13: 67.875613 | T13: 298.12202 | U13: 919.26586 | V13: 17102.806 | Y13: 2.0347974
B14: 建設業 | C14: 8 | D14: 建設業 | E14: D | F14: t/十億円 | G14: 0.58893578 | H14: 171.58354 | I14: 2.0496978 | J14: 0.1020266 | K14: 0.58881374 | L14: 22.594983 | M14: 5.1279654 | N14: 95.627385 | O14: 1.1935795 | R14: 0.010800643 | S14: 14.998073 | T14: 43.462711 | U14: 1.3582847 | V14: 949.19963 | Y14: 0.061964357
D15: 製造業大分類 | E15: E
C16: 9 | D16: 食料品製造業 | E16: E09 | F16: t/十億円 | G16: 1.6093762 | H16: 170.84434 | I16: 4.2842036 | J16: 3.8178297 | K16: 2.0614025 | L16: 12.592336 | N16: 0.45864293 | R16: 0.00032016112 | S16: 0.89803183 | T16: 1.1782974 | U16: 0.00017003252 | V16: 0.056564916 | Y16: 2.6587046
C17: 10 | D17: 飲料・たばこ・飼料製造業 | E17: E10 | F17: t/十億円 | G17: 0.15197186 | H17: 107.38081 | I17: 0.14583501 | J17: 99.725585 | K17: 5.9483725 | L17: 5.6342984 | N17: 0.37879936 | R17: 0.0065890874 | S17: 0.45920627 | T17: 0.23988115 | U17: 0 | V17: 0.014373401 | Y17: 0.0075246155
C18: 11 | D18: 繊維工業 | E18: E11 | F18: t/十億円 | G18: 2.7499811 | H18: 76.526136 | I18: 2.594565 | J18: 7.1179178 | K18: 10.925173 | L18: 31.233854 | N18: 0.77474486 | R18: 0.00038190458 | S18: 0.51809955 | T18: 0.14247768 | U18: 0 | V18: 0.018984996 | Y18: 20.735059
C19: 12 | D19: 木材・木製品製造業 | E19: E12 | F19: t/十億円 | G19: 15.736303 | H19: 0.66633011 | I19: 0.28389129 | J19: 0.00019949849 | K19: 0.42455013 | L19: 10.326152 | N19: 212.83599 | R19: 0.0012828161 | S19: 0.82063496 | T19: 2.4731009 | U19: 0 | V19: 0.55744743 | Y19: 2.9867686
C20: 13 | D20: 家具・装備品製造業 | E20: E13 | F20: t/十億円 | G20: 0.18223035 | H20: 5.4022089 | I20: 0.20965762 | J20: 0.38415426 | K20: 0.16249591 | L20: 16.114471 | N20: 46.220778 | R20: 0.029818899 | S20: 2.6763863 | T20: 0.49716457 | U20: 0.022693198 | V20: 0.92444111 | Y20: 0
C21: 14 | D21: パルプ・紙・紙加工品製造業 | E21: E14 | F21: t/十億円 | G21: 35.237327 | H21: 3409.5766 | I21: 2.4664632 | J21: 0.32182798 | K21: 0.42269794 | L21: 59.008925 | N21: 3.794202 | R21: 0.00013192026 | S21: 4.3067889 | T21: 1.2237519 | U21: 0.58891524 | V21: 0.24074425 | Y21: 102.47666
C22: 15 | D22: 印刷・同関連業 | E22: E15 | F22: t/十億円 | G22: 0.55806804 | H22: 13.358323 | I22: 10.903781 | J22: 2.0735554 | K22: 5.8985944 | L22: 33.284022 | N22: 1.1537704 | R22: 0.0061435595 | S22: 1.7555745 | T22: 0.5169731 | U22: 0 | V22: 0.13361598 | Y22: 1.650363
C23: 16 | D23: 化学工業 | E23: E16 | F23: t/十億円 | G23: 1.9775493 | H23: 137.22238 | I23: 19.663755 | J23: 16.682641 | K23: 45.060724 | L23: 6.7329125 | N23: 0.6257344 | R23: 0.00091734079 | S23: 0.90004564 | T23: 0.6918847 | U23: 3.1729413 | V23: 0.61338153 | Y23: 7.8960852
C24: 17 | D24: 石油製品・石炭製品製造業 | E24: E17 | F24: t/十億円 | G24: 0.80647439 | H24: 21.094686 | I24: 6.0355837 | J24: 4.3919361 | K24: 1.0712412 | L24: 0.66798815 | N24: 0.16445191 | R24: 0.0066329377 | S24: 0.48912007 | T24: 4.7269286 | U24: 0.0043539302 | V24: 9.5924445 | Y24: 2.4810413
B25: 製造業 | C25: 18 | D25: プラスチック製品製造業 | E25: E18 | F25: t/十億円 | G25: 0.066977907 | H25: 10.036451 | I25: 3.2971059 | J25: 0.53711372 | K25: 1.5666299 | L25: 42.404211 | N25: 1.7371392 | R25: 0.0061822116 | S25: 1.7544502 | T25: 0.33428467 | U25: 0.0064056044 | V25: 0.9930398 | Y25: 1.2492716
C26: 19 | D26: ゴム製品製造業 | E26: E19 | F26: t/十億円 | G26: 0.20473475 | H26: 23.602599 | I26: 3.1348233 | J26: 0.081000161 | K26: 1.2571217 | L26: 53.893727 | N26: 1.1723643 | R26: 2.5070633 | S26: 1.9468764 | T26: 0.94924275 | U26: 0 | V26: 0.037137515 | Y26: 0.00093393639
C27: 20 | D27: なめし革・同製品・毛皮製造業 | E27: E20 | F27: t/十億円 | G27: 0 | H27: 18.947722 | I27: 17.279854 | J27: 0 | K27: 1.3464777 | L27: 15.408078 | N27: 0.69044978 | R27: 0.13136685 | S27: 0.067556663 | T27: 0.0028229462 | U27: 0 | V27: 0 | Y27: 0
C28: 21 | D28: 窯業・土石製品製造業 | E28: E21 | F28: t/十億円 | G28: 15.622033 | H28: 491.54984 | I28: 1.9287359 | J28: 2.1170282 | K28: 12.483187 | L28: 9.6007422 | N28: 9.5631427 | R28: 0.0053415212 | S28: 0.71625523 | T28: 399.08141 | U28: 4.6518399 | V28: 130.89249 | Y28: 4.0993359
C29: 22 | D29: 鉄鋼業 | E29: E22 | F29: t/十億円 | G29: 6.3510193 | H29: 91.090903 | I29: 9.2326744 | J29: 18.881585 | K29: 1.7822578 | L29: 3.8621124 | N29: 1.3839108 | R29: 0.0015215354 | S29: 103.00247 | T29: 12.904994 | U29: 466.14003 | V29: 14.260532 | Y29: 199.6825
C30: 23 | D30: 非鉄金属製造業 | E30: E23 | F30: t/十億円 | G30: 0.29485751 | H30: 40.817066 | I30: 4.1798199 | J30: 2.1844632 | K30: 5.9784592 | L30: 6.5988646 | N30: 1.5779989 | R30: 0.001576966 | S30: 6.3766552 | T30: 2.163632 | U30: 30.664648 | V30: 0.56589544 | Y30: 0.47699528
C31: 24 | D31: 金属製品製造業 | E31: E24 | F31: t/十億円 | G31: 0.14372747 | H31: 28.787707 | I31: 5.6201609 | J31: 6.0514871 | K31: 3.953245 | L31: 7.0140522 | N31: 2.6213851 | R31: 0.0034075811 | S31: 11.231792 | T31: 3.209938 | U31: 1.3717033 | V31: 1.2104731 | Y31: 0.5255102
C32: 25 | D32: はん用機械器具製造業 | E32: E25 | F32: t/十億円 | G32: 0.018050505 | H32: 17.408867 | I32: 5.4490144 | J32: 0.20991724 | K32: 0.98394606 | L32: 3.7974225 | N32: 2.3314316 | R32: 0.010664563 | S32: 3.4169561 | T32: 0.37527493 | U32: 0.56589079 | V32: 1.1462253 | Y32: 0.032386643
C33: 26 | D33: 生産用機械器具製造業 | E33: E26 | F33: t/十億円 | G33: 0.0028585633 | H33: 2.3349516 | I33: 3.1680011 | J33: 0.61563821 | K33: 0.50087029 | L33: 2.2967252 | N33: 2.6181124 | R33: 0.00061008373 | S33: 2.1680433 | T33: 0.24609399 | U33: 0.40953496 | V33: 0.22575321 | Y33: 0.00033155515
C34: 27 | D34: 業務用機械器具製造業 | E34: E27 | F34: t/十億円 | G34: 0.069853802 | H34: 63.496982 | I34: 2.6903918 | J34: 0.93007209 | K34: 1.9787064 | L34: 5.4488726 | N34: 1.2442232 | R34: 1.1210392e-05 | S34: 1.6951185 | T34: 0.49703297 | U34: 0.052085713 | V34: 0.066017257 | Y34: 5.1141151e-05
C35: 28 | D35: 電子部品・デバイス・電子回路製造業 | E35: E28 | F35: t/十億円 | G35: 0.0020310506 | H35: 52.465656 | I35: 2.5374303 | J35: 5.4428481 | K35: 9.3441085 | L35: 5.2179415 | N35: 0.26572356 | R35: 0.00010826127 | S35: 1.2725194 | T35: 0.30475606 | U35: 0.00021706687 | V35: 0.04288748 | Y35: 0.00021672483
C36: 29 | D36: 電気機械器具製造業 | E36: E29 | F36: t/十億円 | G36: 0.00047208597 | H36: 5.1612098 | I36: 0.87858133 | J36: 1.1834402 | K36: 1.9661963 | L36: 3.1767686 | N36: 1.2617035 | R36: 0.0011017508 | S36: 2.8489452 | T36: 0.77747113 | U36: 0.2262696 | V36: 0.11966946 | Y36: 0.0028660767
C37: 30 | D37: 情報通信機械器具製造業 | E37: E30 | F37: t/十億円 | G37: 0.00093526005 | H37: 3.3997533 | I37: 1.146596 | J37: 0.38791116 | K37: 11.051928 | L37: 7.0415138 | N37: 0.6975628 | R37: 0 | S37: 2.0328519 | T37: 0.077497812 | U37: 0.0046431268 | V37: 0.0043041107 | Y37: 0
... C39: 32 | D39: その他の製造業 | E39: E32 | F39: t/十億円 | G39: 2.8617459 | H39: 23.503435 | I39: 9.7605594 | J39: 2.3507738 | K39: 5.766606 | L39: 32.461611 | N39: 5.1258901 | R39: 0.0064768192 | S39: 4.1915905 | T39: 11.913413 | U39: 2.8807041 | V39: 8.7686327 | Y39: 1.3959492
D40: 電気・ガス・熱供給・水道業大分類 | E40: F
B41: 電気･ガス | C41: 33 | D41: 電気業 | E41: F33 | F41: t/千人 | G41: 9692.1675 | H41: 2668.5904 | I41: 16.551466 | J41: 5.5588069 | K41: 23.21915 | L41: 53.93657 | N41: 85.987994 | R41: 0.0063347487 | S41: 80.785243 | T41: 571.56178 | U41: 788.38837 | V41: 219.82189 | Y41: 69019.72
B42: ･熱供給･ | C42: 34 | D42: ガス業 | E42: F34 | F42: t/千人 | G42: 0 | H42: 27.418129 | I42: 2.3704879 | J42: 0 | K42: 0.034894437 | L42: 50.137549 | N42: 288.84735 | R42: 0.023743562 | S42: 46.04266 | T42: 45.04085 | U42: 0.016789861 | V42: 188.62242 | Y42: 0
B43: 水道業 | C43: 35 | D43: 熱供給業 | E43: F35 | F43: t/千人 | G43: 65169.633 | H43: 3072.2899 | I43: 0.34790607 | J43: 0.85324232 | K43: 0.034129693 | L43: 23.684864 | N43: 0 | R43: 0 | S43: 39.100098 | T43: 0 | U43: 3.2217594 | V43: 0 | Y43: 2967.4744
C44: 36 | D44: 上水道業 | E44: F361 | F44: t/千人 | G44: 0 | H44: 41.705698 | I44: 0.0053602962 | J44: 0.001435604 | K44: 0.36699335 | L44: 0.0049762001 | N44: 0.00069788475 | R44: 0 | S44: 0.0047101496 | T44: 0.0026380437 | U44: 0.0018325747 | V44: 0.91318699 | Y44: 0
C45: 37 | D45: 下水道業 | E45: F363 | F45: t/千人 | G45: 0.10616713 | H45: 591.76529 | I45: 0.0013203638 | J45: 0.00053871503 | K45: 0.00047149064 | L45: 0.0046674461 | N45: 0.00050519007 | R45: 0 | S45: 0.0040109393 | T45: 0.0075350279 | U45: 0.025729395 | V45: 0.0047974837 | Y45: 0.4425269
D46: 情報通信業大分類 | E46: G
C47: 38 | D47: 通信業 | E47: G37 | F47: t/千人 | G47: 0 | H47: 0 | I47: 0 | J47: 0 | K47: 0 | L47: 7.0143336 | N47: 0 | R47: 0 | S47: 399.10444 | T47: 3.5071668 | U47: 0 | V47: 221.33771 | Y47: 0
B48: 情報通信業 | C48: 39 | D48: 放送業 | E48: G38 | F48: t/千人 | G48: 0 | H48: 0 | I48: 0 | J48: 0 | K48: 0 | L48: 8.4525358 | N48: 7.8687586 | R48: 0 | S48: 602.08694 | T48: 0.15897734 | U48: 0 | V48: 293.14613 | Y48: 0
C49: 40 | D49: 情報サービス業 | E49: G39 | F49: t/千人 | G49: 0 | H49: 0 | I49: 0 | J49: 0 | K49: 0 | L49: 0.41597338 | N49: 0.0075080873 | R49: 0 | S49: 28.750829 | T49: 3.449675e-05 | U49: 0 | V49: 0 | Y49: 0
C50: 41 | D50: インターネット付随サービス業 | E50: G40 | F50: t/千人 | G50: 0 | H50: 0 | I50: 48.575353 | J50: 0 | K50: 742.3903 | L50: 0 | N50: 0 | R50: 0 | S50: 0 | T50: 0 | U50: 0 | V50: 0 | Y50: 0
C51: 42 | D51: 映像・音声・文字情報制作業 | E51: G41 | F51: t/千人 | G51: 0 | H51: 0 | I51: 0.30807147 | J51: 8.7105905 | K51: 0 | L51: 0.61614295 | N51: 0 | R51: 0 | S51: 14.311794 | T51: 0.0018492951 | U51: 0 | V51: 0 | Y51: 0
D52: 運輸業，郵便業大分類 | E52: H
B53: 運輸業， | C53: 43 | D53: 鉄道業 | E53: H42 | F53: t/千人 | G53: 0 | H53: 124.45928 | I53: 0 | J53: 0 | K53: 0.13097339 | N53: 125.67024 | R53: 0 | S53: 0 | T53: 0 | U53: 0 | V53: 0 | Y53: 0
B54: 郵便業 | C54: 44 | D54: 道路旅客運送業 | E54: H43 | F54: t/千人 | G54: 0 | H54: 28.773356 | I54: 0.45890483 | J54: 0 | K54: 0.44385897 | N54: 0.34146402 | R54: 0 | S54: 0.050778621 | T54: 0 | U54: 0 | V54: 0 | Y54: 0
C55: 45 | D55: 道路貨物運送業 | E55: H44 | F55: t/千人 | G55: 0 | H55: 19.279997 | I55: 60.764264 | J55: 0 | K55: 0.083039808 | N55: 224.44008 | R55: 0 | S55: 0.079134688 | T55: 0 | U55: 0 | V55: 1.1481012 | Y55: 0
C56: 46 | D56: 上記以外の運輸業，郵便業 | F56: t/千人 | G56: 0 | H56: 158.3786 | I56: 0 | J56: 0 | K56: 10.118041 | N56: 75.659837 | R56: 0 | S56: 0 | T56: 0 | U56: 0 | V56: 0 | Y56: 0
D57: 卸売業，小売業大分類 | E57: I
C58: 47 | D58: 各種商品卸売業 | E58: I50 | F58: t/千人 | G58: 0 | H58: 0 | I58: 0 | J58: 0 | K58: 0 | N58: 31.023918 | R58: 0 | S58: 0 | T58: 0 | U58: 0 | V58: 0 | Y58: 0
C59: 48 | D59: 木材・竹材卸売業 | E59: I5311 | F59: t/千人 | G59: 0 | H59: 0 | I59: 0 | J59: 0 | K59: 0 | N59: 2608.7051 | R59: 0 | S59: 0 | T59: 0 | U59: 0 | V59: 0 | Y59: 0
C60: 49 | D60: 各種商品小売業 | E60: I56 | F60: t/千人 | G60: 0 | H60: 0 | I60: 0 | J60: 0 | K60: 0 | N60: 5.3757833 | R60: 0 | S60: 0 | T60: 0 | U60: 0 | V60: 0 | Y60: 0
B61: 卸売業， | C61: 50 | D61: 自動車小売業 | E61: I591 | F61: t/千人 | G61: 0 | H61: 114.16871 | I61: 548.85544 | J61: 32.201845 | K61: 185.34338 | N61: 2.1111888 | R61: 10.867556 | S61: 470.98539 | T61: 113.17875 | U61: 0 | V61: 0 | Y61: 0
B62: 小売業 | C62: 51 | D62: 機械器具小売業 | E62: I593 | F62: t/千人 | G62: 0 | H62: 0 | I62: 0 | J62: 0 | K62: 0 | N62: 14.862685 | R62: 0 | S62: 0 | T62: 0 | U62: 0 | V62: 0 | Y62: 0
C63: 52 | D63: 家具・建具・畳小売業 | E63: I601 | F63: t/千人 | G63: 0 | H63: 0 | I63: 0 | J63: 0 | K63: 0 | N63: 42.516238 | R63: 0 | S63: 0 | T63: 0 | U63: 0 | V63: 0 | Y63: 0
C64: 53 | D64: じゅう器小売業 | E64: I602 | F64: t/千人 | G64: 0 | H64: 0 | I64: 0 | J64: 0 | K64: 0 | N64: 49.445589 | R64: 0 | S64: 0 | T64: 0 | U64: 0 | V64: 0 | Y64: 0
C65: 54 | D65: 燃料小売業 | E65: I605 | F65: t/千人 | G65: 0 | H65: 2902.992 | I65: 1816.106 | J65: 0 | K65: 0 | N65: 53.820842 | R65: 0 | S65: 37.68472 | T65: 234.24116 | U65: 0 | V65: 3.5191851 | Y65: 0
C66: 55 | D66: 上記以外の卸売業，小売業 | F66: t/千人 | G66: 0 | H66: 0 | I66: 0 | J66: 0 | K66: 0 | N66: 5.9133234 | R66: 0 | S66: 0 | T66: 0 | U66: 0 | V66: 0 | Y66: 0
B67: 不動産業， | D67: 不動産業，物品賃貸業大分類 | E67: K
B68: 物品賃貸業 | C68: 56 | D68: 物品賃貸業 | E68: K70 | F68: t/千人 | G68: 0 | H68: 13.284316 | I68: 6.7389795 | J68: 0 | K68: 0 | L68: 13.904169 | N68: 44.291199 | R68: 0 | S68: 48.532213 | T68: 1.6763892 | U68: 0 | V68: 37.275007 | Y68: 0
B69: 学術研究，専門 | D69: 学術研究，専門・技術サービス業大分類 | E69: L
B70: ・技術サービス業 | C70: 57 | D70: 学術・開発研究機関 | E70: L71 | F70: t/千人 | G70: 0 | H70: 5.3074619 | I70: 0.64647543 | J70: 295.52346 | K70: 31.965944 | L70: 2.1415258 | N70: 37.885387 | R70: 0 | S70: 0.63452615 | T70: 3.9022329 | U70: 0 | V70: 0.60381556 | Y70: 0
C71: 58 | D71: 写真業 | E71: L746 | F71: t/千人 | G71: 0 | H71: 0.86070167 | I71: 0 | J71: 1065.5566 | K71: 157.40983 | L71: 1.2910525 | N71: 1.0196069 | R71: 0 | S71: 0 | T71: 0.43035083 | U71: 0 | V71: 0 | Y71: 0
B72: 宿泊業，飲食 | D72: 宿泊業，飲食サービス業大分類 | E72: M
B73: サービス業 | C73: 59 | D73: 飲食店 | E73: M76 | F73: t/千人 | G73: 0 | H73: 19.466798 | I73: 0 | J73: 0 | K73: 0 | N73: 0 | R73: 0 | S73: 1.1509891 | T73: 0 | U73: 0 | V73: 0 | Y73: 0
C74: 60 | D74: 上記以外の宿泊業，飲食サービス業 | F74: t/千人 | G74: 0 | H74: 110.58259 | I74: 0 | J74: 0 | K74: 0 | N74: 0 | R74: 0 | S74: 3.351182 | T74: 0 | U74: 0 | V74: 0 | Y74: 0
B75: 生活関連サー | D75: 生活関連サービス業，娯楽業大分類 | E75: N
B76: ビス業，娯楽業 | C76: 61 | D76: 洗濯業 | E76: N781 | F76: t/千人 | G76: 0.43936731 | H76: 1.7574692 | I76: 1.7574692 | J76: 87.434095 | K76: 6.5905097 | L76: 7.9086116 | N76: 0 | R76: 0 | S76: 0.43936731 | T76: 0 | U76: 0 | V76: 0 | Y76: 0
B77: 教育，学習支援業 | C77: 62 | D77: 教育，学習支援業 | E77: O | F77: t/千人 | G77: 0.0057112891 | H77: 31.21532 | I77: 0.49953584 | J77: 0.21093346 | K77: 0.12610202 | L77: 13.610139 | N77: 2.2853135 | R77: 0.0012521129 | S77: 9.9545258 | T77: 3.5223902 | U77: 8.1387341e-05 | V77: 2.5235403 | Y77: 0
D78: 医療，福祉大分類 | E78: P
B79: 医療，福祉 | C79: 63 | D79: 医療業 | E79: P83 | F79: t/千床 | G79: 0 | H79: 10.806457 | I79: 19.425529 | J79: 10.655508 | K79: 6.3059592 | L79: 12.03836 | N79: 0.049787337 | R79: 0 | S79: 21.924405 | T79: 44.731797 | U79: 0 | V79: 0 | Y79: 0
C80: 64 | D80: 上記以外の医療，福祉 | F80: t/千人 | G80: 0 | H80: 2.7855153 | I80: 0.66321793 | J80: 0 | K80: 0 | L80: 8.2681169 | N80: 0.11053632 | R80: 0 | S80: 3.5813768 | T80: 0.33160897 | U80: 0 | V80: 0 | Y80: 0
B81: 教育、学習支援業 | C81: 65 | D81: 複合サービス事業 | E81: Q | F81: t/千人 | G81: 10.580726 | H81: 69.696986 | I81: 4.6899986 | J81: 4.4573136 | K81: 0.84066804 | L81: 239.51176 | N81: 82.590505 | R81: 0.00016726077 | S81: 39.002424 | T81: 26.444833 | U81: 0.24008202 | V81: 503.24149 | Y81: 0
D82: サービス業大分類 | E82: R
B83: サービス業 | C83: 66 | D83: 自動車整備業 | E83: R891 | F83: t/千人 | G83: 0 | H83: 1.3236809 | I83: 719.48218 | J83: 120.9743 | K83: 130.18613 | N83: 83.657863 | R83: 0 | S83: 532.01887 | T83: 261.88892 | U83: 0 | V83: 1.3524616 | Y83: 0
C84: 67 | D84: と畜場 | E84: R952 | F84: t/千頭
C85: 68 | D85: 上記以外のサービス業 | F85: t/千人 | G85: 10.568991 | H85: 10.474221 | I85: 0.0033644647 | J85: 54.866727 | K85: 1.0696497 | N85: 95.141791 | R85: 0 | S85: 2.1265454 | T85: 0 | U85: 0 | V85: 7.9693772 | Y85: 0.12478718
B86: 公務 | C86: 69 | D86: 公務 | E86: Ｓ | F86: t/千人 | G86: 8.2116776 | H86: 237.20428 | I86: 1.0169636 | J86: 0.29316262 | K86: 0.57930007 | L86: 5.3227502 | N86: 4.2232943 | R86: 0.00021920794 | S86: 14.82291 | T86: 5.4126359 | U86: 0 | V86: 65.141281 | Y86: 12.496647
B87: ※空欄は該当値が無いものを示している。

Sheet 表Ⅲ・8
B1: 表－Ⅲ・８ 令和３年度実績値 業種別・種類別活動量指標合計（有回答）一覧表
D3: 全国 | F3: 令和３年度
B4: 大分類 | C4: 番号 | D4: 産業分類 | E4: コード | F4: 単位 | G4: 燃え殻 | H4: 汚 泥 | I4: 廃 油 | J4: 廃 酸 | K4: 廃アルカリ | L4: 廃プラス チック類 | M4: 紙くず | N4: 木くず | O4: 繊維くず | P4: 動植物性 残 渣 | Q4: 動物系固形不要物 | R4: ゴムくず | S4: 金属くず | T4: ガラスくず及び 陶磁器くず | U4: 鉱さい | V4: がれき類 | W4: 動物の ふん尿 | X4: 動物の死体 | Y4: ばいじん | Z4: 合 計
D5: 農業，林業大分類 | E5: A
C6: 1 | D6: 耕種農業 | E6: A011 | F6: 千a | L6: 80.0762 | Z6: 80.0762
B7: 農業，林業 | C7: 2 | D7: 畜産農業 | E7: A012 | F7: 頭羽 | L7: 3558.83 | W7: 52708.51 | X7: 52708.51 | Z7: 52708.51
C8: 3 | D8: 林業 | E8: A02 | F8: 千人 | L8: 1.546 | N8: 2.69 | S8: 2.69 | Z8: 2.69
C9: 4 | D9: 上記以外の農業，林業
D10: 漁業大分類 | E10: B
B11: 漁 業 | C11: 5 | D11: 漁業 | E11: B03 | F11: 千人
C12: 6 | D12: 水産養殖業 | E12: B04 | F12: 千人
B13: 鉱 業 | C13: 7 | D13: 鉱業，採石業，砂利採取業 | E13: C | F13: 千人 | G13: 2.059 | H13: 6.659 | I13: 7.552 | J13: 1.632 | K13: 1.632 | L13: 8.063 | N13: 3.906 | R13: 1.081 | S13: 6.368 | T13: 4.911 | U13: 1.632 | V13: 3.229 | Y13: 0.137 | Z13: 9.426
B14: 建設業 | C14: 8 | D14: 建設業 | E14: D | F14: 十億円 | G14: 45601.886 | H14: 45601.886 | I14: 45601.886 | J14: 42574.783 | K14: 42279.933 | L14: 45601.886 | M14: 45601.886 | N14: 45601.886 | O14: 45601.886 | R14: 38102.854 | S14: 45601.886 | T14: 45601.886 | U14: 36883.382 | V14: 45601.886 | Y14: 32553.325 | Z14: 45601.886
D15: 製造業大分類 | E15: E
C16: 9 | D16: 食料品製造業 | E16: E09 | F16: 十億円 | G16: 16003.927 | H16: 17643.684 | I16: 17643.684 | J16: 17499.064 | K16: 16463.917 | L16: 17643.684 | M16: 154.7 | N16: 14995.79 | P16: 17643.684 | Q16: 7722.154 | R16: 4391.793 | S16: 17643.684 | T16: 17643.684 | U16: 178.341 | V16: 12149.607 | Y16: 7631.185 | Z16: 17643.684
C17: 10 | D17: 飲料・たばこ・飼料製造業 | E17: E10 | F17: 十億円 | G17: 3979.754 | H17: 5723.285 | I17: 5475.107 | J17: 4747.302 | K17: 3652.708 | L17: 5749.131 | N17: 4081.042 | P17: 5723.285 | R17: 815.126 | S17: 5704.017 | T17: 5722.774 | V17: 1404.56 | Y17: 229.992 | Z17: 5749.131
C18: 11 | D18: 繊維工業 | E18: E11 | F18: 十億円 | G18: 1412.275 | H18: 1972.333 | I18: 1962.262 | J18: 1635.969 | K18: 1063.553 | L18: 2052.249 | N18: 1792.67 | O18: 1811.742 | R18: 237.392 | S18: 1931.169 | T18: 1841.038 | V18: 877.606 | Y18: 626.165 | Z18: 2052.249
C19: 12 | D19: 木材・木製品製造業 | E19: E12 | F19: 十億円 | G19: 1663.025 | H19: 1543.46 | I19: 1508.349 | J19: 235.458 | K19: 765.252 | L19: 1954.902 | N19: 1954.902 | R19: 172.069 | S19: 1770.68 | T19: 1778.976 | V19: 718.185 | Y19: 938.604 | Z19: 1954.902
C20: 13 | D20: 家具・装備品製造業 | E20: E13 | F20: 十億円 | G20: 506.914 | H20: 870.15 | I20: 875.056 | J20: 106.636 | K20: 205.439 | L20: 1108.312 | N20: 1123.536 | R20: 233.873 | S20: 816.873 | T20: 948.458 | U20: 36.523 | V20: 499.666 | Z20: 1123.536
C21: 14 | D21: パルプ・紙・紙加工品製造業 | E21: E14 | F21: 十億円 | G21: 3793.271 | H21: 4231.491 | I21: 4139.133 | J21: 3614.305 | K21: 3845.837 | L21: 4231.491 | M21: 4155.156 | N21: 4231.491 | R21: 135.743 | S21: 4190.676 | T21: 4184.326 | U21: 807.79 | V21: 2050.401 | Y21: 3284.565 | Z21: 4231.491
C22: 15 | D22: 印刷・同関連業 | E22: E15 | F22: 十億円 | G22: 1176.824 | H22: 2234.392 | I22: 2319.152 | J22: 2050.864 | K22: 2285.455 | L22: 2371.448 | M22: 2140.834 | N22: 2038.777 | R22: 1144.161 | S22: 2132.128 | T22: 2033.509 | V22: 878.061 | Y22: 222.468 | Z22: 2371.448
C23: 16 | D23: 化学工業 | E23: E16 | F23: 十億円 | G23: 17730.27 | H23: 17940.237 | I23: 17934.951 | J23: 17934.951 | K23: 17934.951 | L23: 17940.237 | N23: 15580.238 | P23: 15052.92 | R23: 3712.639 | S23: 17934.951 | T23: 17940.237 | U23: 9642.639 | V23: 12819.081 | Y23: 12653.773 | Z23: 17940.237
C24: 17 | D24: 石油製品・石炭製品製造業 | E24: E17 | F24: 十億円 | G24: 6845.246 | H24: 8061.748 | I24: 8097.5838 | J24: 6697.619 | K24: 7817.262 | L24: 8111.036 | N24: 7638.0322 | R24: 160.566 | S24: 7459.3532 | T24: 8078.894 | U24: 1982.004 | V24: 7497.3028 | Y24: 3570.321 | Z24: 8116.974
B25: 製造業 | C25: 18 | D25: プラスチック製品製造業 | E25: E18 | F25: 十億円 | G25: 4362.655 | H25: 7844.896 | I25: 7911.175 | J25: 7332.319 | K25: 7537.891 | L25: 7911.175 | N25: 6923.003 | R25: 3128.363 | S25: 7864.395 | T25: 7803.467 | U25: 577.096 | V25: 4531.177 | Y25: 2426.648 | Z25: 7911.175
C26: 19 | D26: ゴム製品製造業 | E26: E19 | F26: 十億円 | G26: 1010.25 | H26: 2318.625 | I26: 2329.549 | J26: 1705.411 | K26: 2085.036 | L26: 2329.549 | N26: 1904.486 | R26: 1946.402 | S26: 2175.526 | T26: 2239.942 | V26: 462.296 | Y26: 501.54 | Z26: 2329.549
C27: 20 | D27: なめし革・同製品・毛皮製造業 | E27: E20 | F27: 十億円 | H27: 59.577 | I27: 61.08 | K27: 23.795 | L27: 103.32366 | N27: 95.546 | R27: 12.644 | S27: 22.274457 | T27: 5.047 | Z27: 103.32366
C28: 21 | D28: 窯業・土石製品製造業 | E28: E21 | F28: 十億円 | G28: 3678.52 | H28: 4611.058 | I28: 4604.079 | J28: 3811.869 | K28: 3884.62 | L28: 4611.058 | N28: 4262.918 | R28: 1827.711 | S28: 4527.714 | T28: 4611.058 | U28: 3616.522 | V28: 4011.468 | Y28: 3480.57 | Z28: 4611.058
C29: 22 | D29: 鉄鋼業 | E29: E22 | F29: 十億円 | G29: 9223.12 | H29: 11533.39 | I29: 11609.216 | J29: 10797.489 | K29: 10608.268 | L29: 11656.519 | N29: 10564.48 | R29: 1816.3 | S29: 11533.624 | T29: 10831.737 | U29: 11584.922 | V29: 10160.923 | Y29: 10496.678 | Z29: 11656.519
C30: 23 | D30: 非鉄金属製造業 | E30: E23 | F30: 十億円 | G30: 3862.065 | H30: 6203.0303 | I30: 6260.7143 | J30: 6132.7483 | K30: 6172.508 | L30: 6260.7143 | N30: 6177.0913 | R30: 1740.166 | S30: 6230.192 | T30: 6228.684 | U30: 5258.797 | V30: 4919.8703 | Y30: 4849.636 | Z30: 6260.7143
C31: 24 | D31: 金属製品製造業 | E31: E24 | F31: 十億円 | G31: 6388.934 | H31: 8498.214 | I31: 8498.214 | J31: 8441.605 | K31: 8441.605 | L31: 8498.214 | N31: 8314.698 | R31: 1846.471 | S31: 8498.214 | T31: 8498.214 | U31: 6929.601 | V31: 6294.143 | Y31: 5582.362 | Z31: 8498.214
C32: 25 | D32: はん用機械器具製造業 | E32: E25 | F32: 十億円 | G32: 2859.261 | H32: 7103.287 | I32: 7401.877 | J32: 6938.341 | K32: 7019.07 | L32: 7401.877 | N32: 6851.893 | R32: 2731.988 | S32: 7401.877 | T32: 7008.964 | U32: 5724.242 | V32: 4395.491 | Y32: 1569.424 | Z32: 7401.877
C33: 26 | D33: 生産用機械器具製造業 | E33: E26 | F33: 十億円 | G33: 6397.051 | H33: 12218.918 | I33: 11919.421 | J33: 11088.294 | K33: 11088.294 | L33: 12399.789 | N33: 12139.505 | R33: 5847.272 | S33: 11919.421 | T33: 11919.421 | U33: 10035.929 | V33: 8310.025 | Y33: 1247.627 | Z33: 12399.789
C34: 27 | D34: 業務用機械器具製造業 | E34: E27 | F34: 十億円 | G34: 1490.243 | H34: 3943.221 | I34: 3975.182 | J34: 3858.516 | K34: 3801.916 | L34: 3977.07 | N34: 3441.11 | R34: 36.647 | S34: 3977.07 | T34: 3964.256 | U34: 335.939 | V34: 1236.966 | Y34: 468.765 | Z34: 3980.717
C35: 28 | D35: 電子部品・デバイス・電子回路製造業 | E35: E28 | F35: 十億円 | G35: 1469.618 | H35: 9184.027 | I35: 9207.957 | J35: 9184.027 | K35: 9184.027 | L35: 9228.292 | N35: 8301.917 | R35: 698.734 | S35: 9228.292 | T35: 9184.027 | U35: 787.344 | V35: 3327.121 | Y35: 436.896 | Z35: 9228.292
C36: 29 | D36: 電気機械器具製造業 | E36: E29 | F36: 十億円 | G36: 1497.192 | H36: 13054.117 | I36: 13081.913 | J36: 12971.67 | K36: 12977.298 | L36: 13081.913 | N36: 12952.063 | R36: 8638.879 | S36: 13044.992 | T36: 13017.196 | U36: 8788.81 | V36: 9203.522 | Y36: 148.455 | Z36: 13081.913
C37: 30 | D37: 情報通信機械器具製造業 | E37: E30 | F37: 十億円 | G37: 126.487 | H37: 2964.502 | I37: 3063.736 | J37: 2430.95 | K37: 2576.935 | L37: 3183.839 | N37: 2786.46 | S37: 2795.736 | T37: 3037.767 | U37: 30.386 | V37: 1263.001 | Z37: 3207.664
C38: 31 | D38: 輸送用機械器具製造業 | E38: E31 | F38: 十億円 | G38: 43920.534 | H38: 48434.766 | I38: 48456.342 | J38: 47582.875 | K38: 47643.725 | L38: 48456.342 | N38: 47816.936 | R38: 36592.524 | S38: 48434.766 | T38: 48456.342 | U38: 48002.262 | V38: 45536.314 | Y38: 39742.843 | Z38: 48456.342
C39: 32 | D39: その他の製造業 | E39: E32 | F39: 十億円 | G39: 1046.723 | H39: 2063.939 | I39: 2076.187 | J39: 1817.658 | K39: 1860.102 | L39: 2141.512 | N39: 1815.923 | R39: 409.088 | S39: 2129.322 | T39: 2072.699 | U39: 489.299 | V39: 1361.713 | Y39: 517.721 | Z39: 2141.512
D40: 電気・ガス・熱供給・水道業大分類 | E40: F
B41: 電気･ガス | C41: 33 | D41: 電気業 | E41: F33 | F41: 千人 | G41: 50.179 | H41: 56.867 | I41: 57.613 | J41: 29.597 | K41: 41.515 | L41: 58.408 | N41: 42.617 | R41: 7.597 | S41: 58.408 | T41: 57.265 | U41: 33.146 | V41: 48.344 | Y41: 50.179 | Z41: 58.408
B42: ･熱供給･ | C42: 34 | D42: ガス業 | E42: F34 | F42: 千人 | H42: 6.98 | I42: 7.146 | K42: 0.653 | L42: 10.168 | N42: 5.996 | R42: 0.231 | S42: 10.096 | T42: 8.25 | U42: 1.345 | V42: 8.519 | Z42: 10.333
B43: 水道業 | C43: 35 | D43: 熱供給業 | E43: F35 | F43: 千人 | G43: 0.258 | H43: 0.29 | I43: 0.246 | J43: 0.009 | K43: 0.009 | L43: 0.281 | S43: 0.246 | U43: 0.246 | Y43: 0.044 | Z43: 0.293
C44: 36 | D44: 上水道業 | E44: F361 | F44: 千人 | H44: 52524.86 | I44: 37642.131 | J44: 39750.727 | K44: 35916.827 | L44: 47155.064 | N44: 25194.31 | S44: 45259.536 | T44: 40875.639 | U44: 5069.7 | V44: 37500.527 | Z44: 53062.436
C45: 37 | D45: 下水道業 | E45: F363 | F45: 千人 | G45: 24277 | H45: 41618 | I45: 37312 | J45: 24717 | K45: 17491 | L45: 36636 | N45: 4936 | S45: 30229 | T45: 26535 | U45: 4731 | V45: 13902 | Y45: 21612 | Z45: 41618
D46: 情報通信業大分類 | E46: G
C47: 38 | D47: 通信業 | E47: G37 | F47: 千人 | L47: 0.146 | S47: 2.04 | T47: 0.146 | V47: 2.04 | Z47: 2.186
B48: 情報通信業 | C48: 39 | D48: 放送業 | E48: G38 | F48: 千人 | L48: 0.627 | N48: 0.911 | S48: 1.538 | T48: 0.911 | V48: 0.911 | Z48: 1.538
C49: 40 | D49: 情報サービス業 | E49: G39 | F49: 千人 | L49: 1.756 | N49: 19.88 | S49: 19.88 | T49: 19.88 | Z49: 21.636
C50: 41 | D50: インターネット付随サービス業 | E50: G40 | F50: 千人 | I50: 1.437 | K50: 1.437 | Z50: 1.437
C51: 42 | D51: 映像・音声・文字情報制作業 | E51: G41 | F51: 千人 | I51: 0.69 | J51: 2.556 | L51: 0.69 | M51: 0.69 | S51: 3.246 | T51: 2.556 | Z51: 3.246
D52: 運輸業，郵便業大分類 | E52: H
B53: 運輸業， | C53: 43 | D53: 鉄道業 | E53: H42 | F53: 千人 | G53: 2.364 | H53: 10.001 | I53: 2.364 | J53: 2.364 | K53: 7.637 | L53: 2.364 | N53: 10.001 | S53: 2.364 | T53: 2.364 | V53: 2.364 | Z53: 10.001
B54: 郵便業 | C54: 44 | D54: 道路旅客運送業 | E54: H43 | F54: 千人 | H54: 19.083 | I54: 19.083 | K54: 19.083 | L54: 2.857 | N54: 16.226 | S54: 19.083 | T54: 2.857 | Z54: 19.083
C55: 45 | D55: 道路貨物運送業 | E55: H44 | F55: 千人 | H55: 77.552 | I55: 77.552 | K55: 77.552 | L55: 10.737 | N55: 77.552 | S55: 77.552 | T55: 10.737 | V55: 66.815 | Z55: 77.552
C56: 46 | D56: 上記以外の運輸業，郵便業 | F56: 千人 | H56: 38.507 | K56: 38.507 | N56: 38.507 | Z56: 38.507
D57: 卸売業，小売業大分類 | E57: I
C58: 47 | D58: 各種商品卸売業 | E58: I50 | F58: 千人 | H58: 0.205 | I58: 0.205 | L58: 0.205 | N58: 0.859 | S58: 0.205 | T58: 0.205 | V58: 0.205 | Z58: 0.859
C59: 48 | D59: 木材・竹材卸売業 | E59: I5311 | F59: 千人 | N59: 1.3449886 | Z59: 1.3449886
C60: 49 | D60: 各種商品小売業 | E60: I56 | F60: 千人 | H60: 1.692 | I60: 1.692 | K60: 1.692 | L60: 1.692 | N60: 16.338 | S60: 1.692 | Z60: 16.338
B61: 卸売業， | C61: 50 | D61: 自動車小売業 | E61: I591 | F61: 千人 | H61: 26.949 | I61: 26.949 | J61: 21.005 | K61: 26.949 | L61: 5.944 | N61: 21.005 | R61: 21.005 | S61: 26.949 | T61: 26.949 | Z61: 26.949
B62: 小売業 | C62: 51 | D62: 機械器具小売業 | E62: I593 | F62: 千人 | H62: 2.05 | I62: 2.05 | J62: 2.05 | K62: 2.05 | L62: 2.05 | N62: 11.137 | S62: 2.05 | T62: 2.05 | V62: 2.05 | Z62: 13.187
C63: 52 | D63: 家具・建具・畳小売業 | E63: I601 | F63: 千人 | L63: 0.631 | N63: 4.439 | R63: 0.631 | S63: 0.631 | T63: 0.631 | V63: 0.631 | Z63: 4.439
C64: 53 | D64: じゅう器小売業 | E64: I602 | F64: 千人 | L64: 0.364 | N64: 2.32 | Z64: 2.684
C65: 54 | D65: 燃料小売業 | E65: I605 | F65: 千人 | H65: 13.021 | I65: 13.021 | K65: 4.281 | L65: 4.281 | N65: 8.74 | S65: 13.021 | T65: 13.021 | V65: 13.021 | Z65: 13.021
C66: 55 | D66: 上記以外の卸売業，小売業 | F66: 千人 | N66: 373.32001 | Z66: 373.32001
B67: 不動産業， | D67: 不動産業，物品賃貸業大分類 | E67: K
B68: 物品賃貸業 | C68: 56 | D68: 物品賃貸業 | E68: K70 | F68: 千人 | H68: 11.285 | I68: 11.285 | L68: 1.921 | N68: 11.285 | S68: 11.285 | T68: 1.921 | V68: 1.921 | Z68: 11.285
B69: 学術研究，専門 | D69: 学術研究，専門・技術サービス業大分類 | E69: L
B70: ・技術サービス業 | C70: 57 | D70: 学術・開発研究機関 | E70: L71 | F70: 千人 | H70: 13.754 | I70: 13.754 | J70: 13.754 | K70: 13.553 | L70: 0.201 | N70: 13.754 | S70: 0.201 | T70: 13.553 | V70: 13.553 | Z70: 13.754
C71: 58 | D71: 写真業 | E71: L746 | F71: 千人 | H71: 0.343 | J71: 2.357 | K71: 2.357 | L71: 0.343 | N71: 2.014 | T71: 0.343 | Z71: 2.357
B72: 宿泊業，飲食 | D72: 宿泊業，飲食サービス業大分類 | E72: M
B73: サービス業 | C73: 59 | D73: 飲食店 | E73: M76 | F73: 千人 | H73: 148.995 | S73: 148.995 | Z73: 148.995
C74: 60 | D74: 上記以外の宿泊業，飲食サービス業 | F74: 千人 | H74: 45.115 | S74: 45.115 | Z74: 45.115
B75: 生活関連サー | D75: 生活関連サービス業，娯楽業大分類 | E75: N
B76: ビス業，娯楽業 | C76: 61 | D76: 洗濯業 | E76: N781 | F76: 千人 | G76: 2.276 | H76: 2.276 | I76: 2.276 | J76: 2.276 | K76: 2.276 | L76: 2.276 | S76: 2.276 | Z76: 2.276
B77: 教育，学習支援業 | C77: 62 | D77: 教育，学習支援業 | E77: O | F77: 千人 | G77: 238.64 | H77: 1597.3 | I77: 1178.78 | J77: 1178.78 | K77: 1004.98 | L77: 1444 | N77: 804.94 | R77: 20.5 | S77: 1597.3 | T77: 1597.3 | U77: 40.12 | V77: 1224.1 | Z77: 1597.3
D78: 医療，福祉大分類 | E78: P
B79: 医療，福祉 | C79: 63 | D79: 医療業 | E79: P83 | F79: 千床 | G79: 36.453 | H79: 140.598 | I79: 140.598 | J79: 125.789 | K79: 125.789 | L79: 74.32 | N79: 23.058 | S79: 140.598 | T79: 140.598 | Z79: 140.598
C80: 64 | D80: 上記以外の医療，福祉 | F80: 千人 | H80: 45.234 | I80: 45.234 | L80: 45.234 | N80: 45.234 | S80: 45.234 | T80: 45.234 | Z80: 45.234
B81: 教育、学習支援業 | C81: 65 | D81: 複合サービス事業 | E81: Q | F81: 人 | G81: 54.193 | H81: 118.57 | I81: 125.426 | J81: 103.575 | K81: 103.575 | L81: 144.398 | N81: 95.941 | R81: 22.484 | S81: 140.375 | T81: 114.734 | U81: 4.265 | V81: 68.351 | Z81: 154.114
D82: サービス業大分類 | E82: R
B83: サービス業 | C83: 66 | D83: 自動車整備業 | E83: R891 | F83: 千人 | H83: 9.541 | I83: 9.541 | J83: 7.159 | K83: 9.541 | L83: 2.382 | N83: 7.159 | S83: 9.541 | T83: 9.541 | V83: 7.159 | Z83: 9.541
C84: 67 | D84: と畜場 | E84: R952 | F84: 千人
C85: 68 | D85: 上記以外のサービス業 | F85: 千人 | G85: 179.205 | H85: 215.042 | I85: 215.042 | J85: 215.042 | K85: 215.042 | L85: 35.837 | N85: 179.205 | S85: 215.042 | T85: 35.837 | V85: 179.205 | Y85: 179.205 | Z85: 215.042
B86: 公務 | C86: 69 | D86: 公務 | E86: Ｓ | F86: 千人 | G86: 223.46 | H86: 638.22 | I86: 638.22 | J86: 588.3 | K86: 617.46 | L86: 556.1 | N86: 425.98 | R86: 192.16 | S86: 638.22 | T86: 556.1 | V86: 413.32 | Y86: 167.2 | Z86: 638.22
D87: 合計

Sheet 表Ⅲ・9
B1: 表―Ⅲ・９ 産業廃棄物排出・処理状況一覧表（令和３年度実施値）
L2: （単位：千ｔ/年）
B3: 廃棄物名 | C3: 排出量 | D3: 直接再生利用量 | E3: 直接最終処分量 | F3: 中間処理 | J3: 再生利用量 計 | K3: 減量化量 | L3: 最終処分量 計
F4: 中間処理量 | G4: 処理残渣量 | H4: 中間処理後 再生利用量 | I4: 中間処理後 最終処分量
C5: （Ａ） | D5: （Ｂ） | E5: （Ｃ） | F5: （Ｄ） | G5: （Ｅ） | H5: （Ｆ） | I5: （Ｇ） | J5: （Ｂ）＋（Ｆ） | K5: （Ｄ）－（Ｅ） | L5: （Ｃ）＋（Ｇ）
B6: 燃 え 殻 | C6: 2185.1608 | D6: 166.07148 | E6: 408.82611 | F6: 1610.2632 | G6: 1478.1618 | H6: 1435.8291 | I6: 42.332729 | J6: 1601.9006 | K6: 132.10139 | L6: 451.15884
B7: 構成比 | D7: 0.075999663 | E7: 0.187092 | F7: 0.73690834 | G7: 0.67645448 | H7: 0.65708166 | I7: 0.019372821 | J7: 0.73308133 | K7: 0.060453852 | L7: 0.20646482
B8: 汚 泥 | C8: 159817.75 | D8: 676.42755 | E8: 561.74492 | F8: 158579.58 | G8: 11231.281 | H8: 10326.627 | I8: 904.65472 | J8: 11003.054 | K8: 147348.3 | L8: 1466.3996
B9: 構成比 | D9: 0.0042324932 | E9: 0.0035149094 | F9: 0.9922526 | G9: 0.070275554 | H9: 0.064615014 | I9: 0.0056605396 | J9: 0.068847508 | K9: 0.92197704 | L9: 0.0091754489
B10: 廃 油 | C10: 2935.5722 | D10: 230.81398 | E10: 1.5835538 | F10: 2703.1747 | G10: 1147.3439 | H10: 1097.8 | I10: 49.543879 | J10: 1328.614 | K10: 1555.8308 | L10: 51.127433
B11: 構成比 | D11: 0.078626571 | E11: 0.00053943615 | F11: 0.92083399 | G11: 0.39084166 | H11: 0.37396458 | I11: 0.016877078 | J11: 0.45259115 | K11: 0.52999234 | L11: 0.017416514
B12: 廃 酸 | C12: 3103.3051 | D12: 66.68427 | E12: 0.26463512 | F12: 3036.3562 | G12: 904.79577 | H12: 854.025 | I12: 50.770765 | J12: 920.70927 | K12: 2131.5604 | L12: 51.0354
B13: 構成比 | D13: 0.021488145 | E13: 8.5275251e-05 | F13: 0.97842658 | G13: 0.29155876 | H13: 0.27519853 | I13: 0.016360224 | J13: 0.29668668 | K13: 0.68686782 | L13: 0.016445499
B14: 廃 ア ル カ リ | C14: 2521.1706 | D14: 33.375968 | E14: 0.13520314 | F14: 2487.6595 | G14: 516.34901 | H14: 469.90539 | I14: 46.443616 | J14: 503.28136 | K14: 1971.3105 | L14: 46.578819
B15: 構成比 | D15: 0.013238282 | E15: 5.3627126e-05 | F15: 0.98670809 | G15: 0.20480526 | H15: 0.18638381 | I15: 0.018421449 | J15: 0.19962209 | K15: 0.78190283 | L15: 0.018475076
B16: 廃プラスチック類 | C16: 7350.8714 | D16: 71.504358 | E16: 314.19261 | F16: 6965.1744 | G16: 5344.0776 | H16: 4460.546 | I16: 883.53162 | J16: 4532.0504 | K16: 1621.0968 | L16: 1197.7242
B17: 構成比 | D17: 0.0097273309 | E17: 0.042742227 | F17: 0.94753044 | G17: 0.7269992 | H17: 0.60680507 | I17: 0.12019413 | J17: 0.6165324 | K17: 0.22053124 | L17: 0.16293636
B18: 紙 く ず | C18: 790.8979 | D18: 36.432368 | E18: 14.745431 | F18: 739.7201 | G18: 609.62764 | H18: 590.23838 | I18: 19.389254 | J18: 626.67075 | K18: 130.09247 | L18: 34.134685
B19: 構成比 | D19: 0.046064565 | E19: 0.018643912 | F19: 0.93529152 | G19: 0.77080447 | H19: 0.74628897 | I19: 0.024515495 | J19: 0.79235354 | K19: 0.16448706 | L19: 0.043159407
B20: 木 く ず | C20: 7739.6095 | D20: 129.17713 | E20: 40.26365 | F20: 7570.1687 | G20: 6698.1538 | H20: 6536.9621 | I20: 161.19167 | J20: 6666.1392 | K20: 872.01492 | L20: 201.45532
B21: 構成比 | D21: 0.016690394 | E21: 0.0052022844 | F21: 0.97810732 | G21: 0.86543821 | H21: 0.84461136 | I21: 0.020826848 | J21: 0.86130176 | K21: 0.11266911 | L21: 0.026029132
B22: 繊 維 く ず | C22: 92.804393 | D22: 2.1083794 | E22: 2.8941971 | F22: 87.801817 | G22: 61.669635 | H22: 51.325914 | I22: 10.343721 | J22: 53.434293 | K22: 26.132182 | L22: 13.237919
B23: 構成比 | D23: 0.02271853 | E23: 0.031185993 | F23: 0.94609548 | G23: 0.66451202 | H23: 0.55305478 | I23: 0.11145724 | J23: 0.57577331 | K23: 0.28158345 | L23: 0.14264323
B24: 動植物性残渣 | C24: 2316.3916 | D24: 154.84492 | E24: 7.7974122 | F24: 2153.7493 | G24: 1267.1342 | H24: 1241.341 | I24: 25.793212 | J24: 1396.1859 | K24: 886.61503 | L24: 33.590624
B25: 構成比 | D25: 0.066847471 | E25: 0.0033661891 | F25: 0.92978634 | G25: 0.54702937 | H25: 0.53589429 | I25: 0.011135083 | J25: 0.60274176 | K25: 0.38275697 | L25: 0.014501272
B26: 動物系固形不要物 | C26: 74.619115 | D26: 0.017827896 | E26: 0.044680844 | F26: 74.556606 | G26: 66.050397 | H26: 64.46083 | I26: 1.5895667 | J26: 64.478658 | K26: 8.5062093 | L26: 1.6342475
B27: 構成比 | D27: 0.00023891862 | E27: 0.0005987855 | F27: 0.9991623 | G27: 0.88516725 | H27: 0.86386485 | I27: 0.021302406 | J27: 0.86410376 | K27: 0.11399504 | L27: 0.021901192
B28: ゴ ム く ず | C28: 15.480396 | D28: 0.00818393 | E28: 0.73618989 | F28: 14.736022 | G28: 12.241434 | H28: 9.9612366 | I28: 2.2801975 | J28: 9.9694205 | K28: 2.494588 | L28: 3.0163874
B29: 構成比 | D29: 0.00052866412 | E29: 0.04755627 | F29: 0.95191507 | G29: 0.79077009 | H29: 0.64347428 | I29: 0.14729582 | J29: 0.64400294 | K29: 0.16114497 | L29: 0.19485209
B30: 金 属 く ず | C30: 6894.5501 | D30: 3382.5041 | E30: 26.577916 | F30: 3485.4681 | G30: 3397.8624 | H30: 3266.9247 | I30: 130.93769 | J30: 6649.4288 | K30: 87.605685 | L30: 157.5156
B31: 構成比 | D31: 0.49060548 | E31: 0.0038549167 | F31: 0.5055396 | G31: 0.49283309 | H31: 0.47384161 | I31: 0.018991477 | J31: 0.96444709 | K31: 0.012706512 | L31: 0.022846393
B32: ガラスくず、コンクリートくず 及び陶磁器くず | C32: 8040.8929 | D32: 159.7816 | E32: 554.02221 | F32: 7327.0891 | G32: 6846.3544 | H32: 6172.2226 | I32: 674.13178 | J32: 6332.0042 | K32: 480.73468 | L32: 1228.154
B33: 構成比 | D33: 0.019871127 | E33: 0.068900583 | F33: 0.91122829 | G33: 0.85144206 | H33: 0.76760413 | I33: 0.083837926 | J33: 0.78747526 | K33: 0.059786231 | L33: 0.15273851
B34: 鉱 さ い | C34: 11303.013 | D34: 1844.1177 | E34: 604.86415 | F34: 8854.0315 | G34: 8645.0656 | H34: 8430.473 | I34: 214.59267 | J34: 10274.591 | K34: 208.96587 | L34: 819.45682
B35: 構成比 | D35: 0.16315275 | E35: 0.053513531 | F35: 0.78333372 | G35: 0.7648461 | H35: 0.74586066 | I35: 0.018985439 | J35: 0.90901341 | K35: 0.018487625 | L35: 0.07249897
B36: がれき類 | C36: 62498.853 | D36: 496.63216 | E36: 790.67357 | F36: 61211.547 | G36: 60664.559 | H36: 59760.368 | I36: 904.19079 | J36: 60257 | K36: 546.98843 | L36: 1694.8644
B37: 構成比 | D37: 0.0079462603 | E37: 0.012651009 | F37: 0.97940273 | G37: 0.97065075 | H37: 0.95618344 | I37: 0.014467318 | J37: 0.9641297 | K37: 0.0087519755 | L37: 0.027118327
B38: 動物のふん尿 | C38: 81270.546 | D38: 66606.245 | E38: 0.16676208 | F38: 14664.134 | G38: 10656.471 | H38: 10613.309 | I38: 43.162384 | J38: 77219.554 | K38: 4007.6634 | L38: 43.329146
B39: 構成比 | D39: 0.81956192 | E39: 2.0519375e-06 | F39: 0.18043603 | G39: 0.13112341 | H39: 0.13059231 | I39: 0.00053109503 | J39: 0.95015423 | K39: 0.049312618 | L39: 0.00053314697
B40: 動物の死体 | C40: 167.53165 | D40: 5.6347123 | E40: 1.0514541 | F40: 160.84549 | G40: 64.186446 | H40: 56.952472 | I40: 7.2339739 | J40: 62.587184 | K40: 96.65904 | L40: 8.285428
B41: 構成比 | D41: 0.033633718 | E41: 0.0062761522 | F41: 0.96009013 | G41: 0.38313026 | H41: 0.33995052 | I41: 0.043179744 | J41: 0.37358424 | K41: 0.57695987 | L41: 0.049455897
B42: ば い じ ん | C42: 16797.744 | D42: 2315.3445 | E42: 1130.2514 | F42: 13352.148 | G42: 12096.829 | H42: 11905.179 | I42: 191.64965 | J42: 14220.524 | K42: 1255.3185 | L42: 1321.9011
B43: 構成比 | D43: 0.13783664 | E43: 0.067285908 | F43: 0.79487746 | G43: 0.72014608 | H43: 0.70873683 | I43: 0.011409249 | J43: 0.84657346 | K43: 0.074731379 | L43: 0.078695158
B44: 合計 | C44: 375916.77 | D44: 76377.726 | E44: 4460.8361 | F44: 295078.21 | G44: 131708.21 | H44: 127344.45 | I44: 4363.7639 | J44: 203722.18 | K44: 163369.99 | L44: 8824.6
B45: 構成比 | D45: 0.20317723 | E45: 0.011866553 | F45: 0.78495622 | G45: 0.35036536 | H45: 0.33875704 | I45: 0.011608325 | J45: 0.54193426 | K45: 0.43459086 | L45: 0.023474877
B46: ※各産業廃棄物の量は、四捨五入しているため合算した値は合計値と異なる場合がある。
B47: ※動物の死体の原単位については平成30年度家畜共済統計表（農林水産省）の動物の死亡率を用いて推計した。

Sheet 図表番号の目次‗本編
A1: 平成２７年度事業
A2: 産業廃棄物排出・処理状況調査報告書 平成２５年度実績（詳細版）
A4: 本編
A5: 表番号 | D5: 該当ページ | F5: 図番号 | I5: 該当ページ
A6: Ⅱ．調査方法
A7: ２．産業廃棄物排出量の推計
A8: 表―Ⅱ・４ | B8: 業種ごとの活動量指標の種類及び出店 | C8: ・・・ | D8: 9
A10: Ⅲ．調査結果
A11: １．アンケート調査結果
A12: 表―Ⅲ・１ | B12: 都道府県実態調査の実施状況（平成２５年度） | C12: ・・・ | D12: 22
A13: 表―Ⅲ・２ | B13: 産業廃棄物の業種別排出量（平成２５年度実績値） | C13: ・・・ | D13: 24 | F13: 図－Ⅲ・１ | G13: 産業廃棄物の業種別排出量（平成２５年度実施値） | H13: ・・・ | I13: 23
A14: 表―Ⅲ・３ | B14: 産業廃棄物の種類別排出量（平成２５年度実施値） | C14: ・・・ | D14: 26 | F14: 図－Ⅲ・２ | G14: 産業廃棄物の種類別排出量（平成２５年度実施値） | H14: ・・・ | I14: 25
A15: 表―Ⅲ・４ | B15: 産業廃棄物の地域別排出量（平成２５年度実施値） | C15: ・・・ | D15: 27 | F15: 図－Ⅲ・３ | G15: 産業廃棄物の地域別排出量（平成２５年度実施値） | H15: ・・・ | I15: 27
A16: 表―Ⅲ・５ | B16: 業種別・種類別排出量推計値一覧表（平成２５年度実施値） | C16: ・・・ | D16: 29 | F16: 図－Ⅲ・４ | G16: 産業廃棄物の処理状況（平成２５年度実施値） | H16: ・・・ | I16: 33
A17: 表―Ⅲ・６ | B17: 都道府県別・種類別推計排出量推計値一覧表（平成２５年度実施値） | C17: ・・・ | D17: 30 | F17: 図－Ⅲ・５ | G17: 産業廃棄物の種類別の処理状況（平成２５年度実施値） | H17: ・・・ | I17: 34
A18: 表―Ⅲ・７ | B18: 業種別・種類別全国共通原単位一覧表（平成２５年度実施値） | C18: ・・・ | D18: 31 | F18: 図－Ⅲ・６ | G18: 産業廃棄物の種類別再生利用率（平成２５年度実施値） | H18: ・・・ | I18: 36
A19: 表―Ⅲ・８ | B19: 全国業種別・種類別活動量指標合計（有回答）一覧表（平成２５年度実施値） | C19: ・・・ | D19: 32 | F19: 図－Ⅲ・７ | G19: 産業廃棄物の再生利用量の種類別内訳（平成２５年度実施値） | H19: ・・・ | I19: 37
A20: 表―Ⅲ・９ | B20: 産業廃棄物排出・処理状況一覧表（平成２５年度実施値） | C20: ・・・ | D20: 35 | F20: 図－Ⅲ・８ | G20: 産業廃棄物の種類別減量化率（平成２５年度実施値） | H20: ・・・ | I20: 38
F21: 図－Ⅲ・９ | G21: 産業廃棄物の減量化量の種類別内訳（平成２５年度実施値） | H21: ・・・ | I21: 39
F22: 図－Ⅲ・１０ | G22: 産業廃棄物の種類別最終処分率（平成２５年度実施値） | H22: ・・・ | I22: 40
F23: 図－Ⅲ・１１ | G23: 産業廃棄物の最終処分量の種類別内訳（平成２５年度実施値） | H23: ・・・ | I23: 41
A25: Ⅳ．まとめ
A26: １．産業廃棄物排出量の変化
F27: 図－Ⅳ・１ | G27: 産業廃棄物排出量の推移（平成２５年度実績値） | H27: ・・・ | I27: 42
F28: 図－Ⅳ・２ | G28: 産業廃棄物の業種別排出量の推移（平成２５年度実績値） | H28: ・・・ | I28: 43
F29: 図－Ⅳ・３ | G29: 産業廃棄物の種類別排出量の推移（平成２５年度実績値） | H29: ・・・ | I29: 44
F30: 図－Ⅳ・４ | G30: 産業廃棄物の地域別排出量の推移（平成２５年度実績値） | H30: ・・・ | I30: 45
F31: 図－Ⅳ・５ | G31: 産業廃棄物の直接再生利用量、中間処理量、直接最終処分量の推移（平成２５年度実績値） | H31: ・・・ | I31: 46
F32: 図－Ⅳ・６ | G32: 産業廃棄物の直接再生利用量、減量化量、最終処分量の推移（平成２５年度実績値） | H32: ・・・ | I32: 47
A34: Ⅴ．石綿含有産業廃棄物の調査結果
A35: 表―Ⅴ・１ | B35: 都道府県の石綿含有産業廃棄物実態調査の実施状況（平成２５年度実施値） | C35: ・・・ | D35: 48 | F35: 図－Ⅴ・１ | G35: 石綿含有産業廃棄物の種類別の排出量（平成２５年度実施値） | H35: ・・・ | I35: 51
A36: 表―Ⅴ・２ | B36: 石綿含有産業廃棄物の排出量の集計結果（平成２５年度実施値） | C36: ・・・ | D36: 50 | F36: 図－Ⅴ・２ | G36: 石綿含有産業廃棄物の業種別の排出量（平成２５年度実施値） | H36: ・・・ | I36: 51
A37: 表―Ⅴ・３ | B37: 石綿含有産業廃棄物の処理量の集計結果（平成２５年度実施値） | C37: ・・・ | D37: 52 | F37: 図－Ⅴ・３ | G37: 石綿含有産業廃棄物の処理量の集計結果（平成２５年度実施値） | H37: ・・・ | I37: 52
A40: 資料編
A41: Ⅱ．活動量指標 | B41: 表－資・Ⅱ・１（１） 活動量指標全国合計値（平成25年度実績値）旧産業分類 | C41: ・・・ | D41: 69
B42: 表－資・Ⅱ・１（２） 活動量指標全国合計値（平成25年度実績値）新産業分類 | C42: ・・・ | D42: 70
B43: 表－資・Ⅱ・１（３） 活動量指標（新産業分類（平成19年11月改訂版）の業種区分）（平成25年度実績値） | C43: ・・・ | D43: 71
B44: 表－資・Ⅱ・１（４） 活動量指標（新産業分類（平成19年11月改訂版）の業種区分）（平成25年度実績値） | C44: ・・・ | D44: 72
A46: Ⅲ．年度補正係数 | B46: 表－資・Ⅲ・１（１） 平成25年度業種別・都道府県別年度補正係数一覧表 | C46: ・・・ | D46: 73,74
A48: Ⅳ．有効回答データ数合計 | B48: 表－資・Ⅳ・1 平成25年度業種別・種類別有効回答データ数合計表（新産業分類の業種区分） | C48: ・・・ | D48: 75
B49: 表－資・Ⅳ・２ 平成25年度業種別・種類別有効回答データ数合計表（旧産業分類の業種区分） | C49: ・・・ | D49: 76
A51: Ⅶ．動物のふん尿及び動物の死体計算資料 | B51: 表－資・Ⅶ・１ 都道府県別家畜飼育頭羽数（平成25年度実績値） | C51: ・・・ | D51: 207
B52: 表－資・Ⅶ・２ 都道府県別動物のふん尿排出量総括表（平成25年度実績値） | C52: ・・・ | D52: 208
B53: 表－資・Ⅶ・３／４ 都道府県別動物の死体の原単位（平成25年度実績値） | C53: ・・・ | D53: 209210
A55: Ⅷ．下水汚泥資料 | B55: 表―資・Ⅷ 都道府県別濃縮汚泥量（平成２５年度実績値） | C55: ・・・ | D55: 211
A58: Ⅸ．産業廃棄物の種類別処理状況フロー図 | C58: ・・・ | D58: 213

Sheet ×表Ⅱ・4
B4: 表－Ⅱ・４ 業種ごとの活動量指標の種類及び出典
B7: 業種 | D7: 活動量指標の種類 | E7: 単位 | F7: 出典 | G7: 出典年次
B8: 農業 | C8: 耕種農業 | D8: 施設面積(ハウス面積、ガラス室面積) | E8: ａ | F8: 世界農林業センサス | G8: 平成16年度 平成21年度
C9: 畜産農業 | D9: 家畜数（乳用牛、肉用牛、豚、鶏） | E9: 頭羽 | F9: 畜産統計 | G9: 平成25年度
B10: 林業、漁業、鉱業 | D10: 従業者数 | E10: 人 | F10: 経済センサス | G10: 平成21年度 平成24年度
B11: 漁業 | D11: 従業者数 | E11: 人 | F11: 経済センサス | G11: 平成21年 平成24年
B12: 鉱業 | D12: 従業者数 | E12: 人 | F12: 経済センサス | G12: 平成21年 平成24年
B13: 建設業 | D13: 元請完成工事高 | E13: 百万円 | F13: 建設工事施工統計調査報告 | G13: 平成25年度
B14: 製造業 | D14: 製造品出荷額等 | E14: 百万円 | F14: 工業統計 | G14: 平成25年度
B15: 電気･ガス･熱供給･水道業 | D15: 従業者数 | E15: 人 | F15: 経済センサス | G15: 平成21年度 平成24年度
C16: 上水道業 | D16: 給水人口 | E16: 人 | F16: 給水人口と給水普及率 | G16: 平成25年度
C17: 下水道業 | D17: 処理区域人口 | E17: 人 | F17: 都道府県別汚水処理人口普及状況 | G17: 平成25年度
B18: 情報通信業、運輸業 卸売・小売業 不動産業，物品賃貸業 学術研究，専門・技術サービス業 宿泊業、飲食サービス業 生活関連サービス業，娯楽業 | D18: 従業者数 | E18: 人 | F18: 経済センサス | G18: 平成21年度 平成24年度
B19: 卸売・小売業 飲食店、宿泊業 | D19: 従業者数 | E19: 人 | F19: 経済センサス | G19: 平成21年 平成24年
B20: 不動産業，物品賃貸業
B21: 学術研究，専門・技術サービス業
B22: 医療、福祉 | D22: 病床数 | E22: 床 | F22: 医療施設動態調査 | G22: 平成25年度
B23: 教育，学習支援業 複合ｻｰﾋﾞｽ業、サービス業 | D23: 従業者数 | E23: 人 | F23: 経済センサス | G23: 平成21年度 平成24年度
C24: と畜場(動物系固形不要物) | D24: と畜頭数 | E24: 頭 | F24: 畜産物流通統計 | G24: 平成25年度
B25: 公務 | D25: 従業者数 | E25: 人 | F25: 就業構造基本調査 | G25: 平成19年度 平成24年度

Sheet 表V・2
B2: 表―Ⅴ・２ 石綿含産業廃棄物の排出量の集計結果（令和３年度実績値）
B5: 大分類 | C5: 番 | D5: 産業分類 | E5: コード | F5: 廃プラスチック類 | J5: ガラスくず、コンクリート及び陶磁器くず | N5: がれき類 | R5: 合 計
C6: 号 | F6: 母数排出量 （t／年） | G6: うち石綿含有 （t／年） | H6: データ数(件) | I6: 比率 | J6: 母数排出量 （t／年） | K6: うち石綿含有 （t／年） | L6: データ数(件) | M6: 比率 | N6: 母数排出量 （t／年） | O6: うち石綿含有 （t／年） | P6: データ数(件) | Q6: 比率 | R6: 母数排出量 （t／年） | S6: うち石綿含有 （t／年） | T6: データ数(件) | U6: 比率
D7: 農業，林業大分類 | E7: A | F7: 7215.013 | G7: 0 | I7: 0 | J7: 1728.73 | K7: 0 | M7: 0 | N7: 0 | O7: 0 | P7: 0 | R7: 8943.743 | S7: 0 | T7: 0 | U7: 0
C8: 1 | D8: 耕種農業 | E8: A011 | F8: 0 | G8: 0 | H8: 0 | J8: 0 | K8: 0 | L8: 0 | N8: 0 | O8: 0 | P8: 0 | R8: 0 | S8: 0 | T8: 0
B9: 農業，林業 | C9: 2 | D9: 畜産農業 | E9: A012 | F9: 0 | G9: 0 | H9: 0 | J9: 0 | K9: 0 | L9: 0 | N9: 0 | O9: 0 | P9: 0 | R9: 0 | S9: 0 | T9: 0
C10: 3 | D10: 林業 | E10: A02 | F10: 0 | G10: 0 | H10: 0 | J10: 0 | K10: 0 | L10: 0 | N10: 0 | O10: 0 | P10: 0 | R10: 0 | S10: 0 | T10: 0
C11: 4 | D11: 上記以外の農業，林業 | F11: 0 | G11: 0 | H11: 0 | J11: 0 | K11: 0 | L11: 0 | N11: 0 | O11: 0 | P11: 0 | R11: 0 | S11: 0 | T11: 0
D12: 漁業大分類 | E12: B | F12: 116.283 | G12: 0 | H12: 0 | I12: 0 | J12: 0.06 | K12: 0 | L12: 0 | M12: 0 | N12: 0 | O12: 0 | P12: 0 | R12: 116.343 | S12: 0 | T12: 0 | U12: 0
B13: 漁 業 | C13: 5 | D13: 漁業 | E13: B03 | F13: 0 | G13: 0 | H13: 0 | J13: 0 | K13: 0 | L13: 0 | N13: 0 | O13: 0 | P13: 0 | R13: 0 | S13: 0 | T13: 0
C14: 6 | D14: 水産養殖業 | E14: B04 | F14: 0 | G14: 0 | H14: 0 | J14: 0 | K14: 0 | L14: 0 | N14: 0 | O14: 0 | P14: 0 | R14: 0 | S14: 0 | T14: 0
B15: 鉱 業 | C15: 7 | D15: 鉱業，採石業，砂利採取業 | E15: C | F15: 91.178 | G15: 0 | H15: 0 | I15: 0 | J15: 199.789 | K15: 0 | L15: 0 | M15: 0 | N15: 0 | O15: 0 | P15: 0 | R15: 290.967 | S15: 0 | T15: 0 | U15: 0
B16: 建設業 | C16: 8 | D16: 建設業 | E16: D | F16: 192120.76 | G16: 330.32377 | H16: 5 | I16: 0.0017193549 | J16: 257344.43 | K16: 1532.362 | L16: 5 | M16: 0.0059545179 | N16: 5864599.1 | O16: 26055.717 | P16: 5 | Q16: 0.0044428811 | R16: 6314064.3 | S16: 27918.402 | T16: 0 | U16: 0.0044216215
D17: 製造業大分類 | E17: E | F17: 417204.06 | G17: 269.03521 | H17: 3 | I17: 0.00064485281 | J17: 423993.58 | K17: 573.28545 | L17: 5 | M17: 0.0013521088 | N17: 29406.829 | O17: 70.647382 | P17: 1 | Q17: 0.0024024142 | R17: 870604.47 | S17: 912.96805 | T17: 0 | U17: 0.00104866
C18: 9 | D18: 食料品製造業 | E18: E09 | F18: 25836.821 | G18: 15.609507 | H18: 1 | I18: 0.00060415741 | J18: 18923.16 | K18: 64.2906 | L18: 3 | M18: 0.0033974558 | N18: 0 | O18: 0 | P18: 0 | R18: 44759.981 | S18: 79.900107 | T18: 0 | U18: 0.0017850791
C19: 10 | D19: 飲料・たばこ・飼料製造業 | E19: E10 | F19: 3106.2004 | G19: 1.0954599 | H19: 1 | I19: 0.00035266878 | J19: 556.37677 | K19: 0.98706636 | L19: 1 | M19: 0.001774097 | N19: 0 | O19: 0 | P19: 0 | R19: 3662.5771 | S19: 2.0825263 | T19: 0 | U19: 0.00056859588
C20: 11 | D20: 繊維工業 | E20: E11 | F20: 14916.557 | G20: 3.4294989 | H20: 1 | I20: 0.00022991223 | J20: 186.319 | K20: 1.6 | L20: 1 | M20: 0.0085874226 | N20: 0 | O20: 0 | P20: 0 | R20: 15102.876 | S20: 5.0294989 | T20: 0 | U20: 0.00033301597
C21: 12 | D21: 木材・木製品製造業 | E21: E12 | F21: 10977.46 | G21: 32.565727 | H21: 1 | I21: 0.0029665994 | J21: 1974.126 | K21: 20.11027 | L21: 4 | M21: 0.010186923 | N21: 0 | O21: 0 | P21: 0 | R21: 12951.586 | S21: 52.675997 | T21: 0 | U21: 0.0040671464
C22: 13 | D22: 家具・装備品製造業 | E22: E13 | F22: 1160.8613 | G22: 1.3072542 | H22: 1 | I22: 0.0011261072 | J22: 67.365 | K22: 0 | L22: 0 | M22: 0 | N22: 0 | O22: 0 | P22: 0 | R22: 1228.2263 | S22: 1.3072542 | T22: 0 | U22: 0.0010643431
C23: 14 | D23: パルプ・紙・紙加工品製造業 | E23: E14 | F23: 131402.86 | G23: 27.90767 | H23: 1 | I23: 0.00021238252 | J23: 2360.0181 | K23: 2.6649121 | L23: 2 | M23: 0.0011291914 | N23: 1.19119 | O23: 0.0038513059 | P23: 1 | Q23: 0.0032331585 | R23: 133764.07 | S23: 30.576433 | T23: 0 | U23: 0.0002285848
C24: 15 | D24: 印刷・同関連業 | E24: E15 | F24: 13821.637 | G24: 0.22712049 | H24: 1 | I24: 1.6432242e-05 | J24: 525.322 | K24: 0 | L24: 0 | M24: 0 | N24: 0 | O24: 0 | P24: 0 | R24: 14346.959 | S24: 0.22712049 | T24: 0 | U24: 1.5830566e-05
C25: 16 | D25: 化学工業 | E25: E16 | F25: 31274.118 | G25: 42.879405 | H25: 1 | I25: 0.0013710828 | J25: 5238.3947 | K25: 189.30782 | L25: 3 | M25: 0.036138518 | N25: 123.79071 | O25: 0.0023301846 | P25: 1 | Q25: 1.8823582e-05 | R25: 36636.304 | S25: 232.18956 | T25: 0 | U25: 0.0063376907
C26: 17 | D26: 石油製品・石炭製品製造業 | E26: E17 | F26: 1014.0058 | G26: 0.047691574 | H26: 1 | I26: 4.7032843e-05 | J26: 4308.231 | K26: 0 | L26: 0 | M26: 0 | N26: 0 | O26: 0 | P26: 0 | R26: 5322.2368 | S26: 0.047691574 | T26: 0 | U26: 8.9608141e-06
B27: 製造業 | C27: 18 | D27: プラスチック製品製造業 | E27: E18 | F27: 39711.662 | G27: 4.3865178 | H27: 1 | I27: 0.00011045918 | J27: 1254.9727 | K27: 0.007904126 | L27: 1 | M27: 6.2982454e-06 | N27: 0 | O27: 0 | P27: 0 | R27: 40966.635 | S27: 4.3944219 | T27: 0 | U27: 0.00010726832
C28: 19 | D28: ゴム製品製造業 | E28: E19 | F28: 38733.258 | G28: 76.46801 | H28: 1 | I28: 0.001974221 | J28: 151.79972 | K28: 0.02871601 | L28: 1 | M28: 0.00018917037 | N28: 0 | O28: 0 | P28: 0 | R28: 38885.058 | S28: 76.496726 | T28: 0 | U28: 0.0019672525
C29: 20 | D29: なめし革・同製品・毛皮製造業 | E29: E20 | F29: 190.32 | G29: 0.60903006 | H29: 1 | I29: 0.0032000318 | J29: 0 | K29: 0 | L29: 0 | N29: 0 | O29: 0 | P29: 0 | R29: 190.32 | S29: 0.60903006 | T29: 0 | U29: 0.0032000318
C30: 21 | D30: 窯業・土石製品製造業 | E30: E21 | F30: 10046.878 | G30: 8.8799787 | H30: 1 | I30: 0.00088385456 | J30: 348651.6 | K30: 92.695105 | L30: 4 | M30: 0.00026586743 | N30: 29006.574 | O30: 69.852304 | P30: 1 | Q30: 0.0024081542 | R30: 387705.05 | S30: 171.42739 | T30: 0 | U30: 0.00044215929
C31: 22 | D31: 鉄鋼業 | E31: E22 | F31: 3838.1233 | G31: 9.6643211 | H31: 2 | I31: 0.0025179809 | J31: 7020.4569 | K31: 74.986413 | L31: 5 | M31: 0.01068113 | N31: 0 | O31: 0 | P31: 0 | R31: 10858.58 | S31: 84.650734 | T31: 0 | U31: 0.0077957461
C32: 23 | D32: 非鉄金属製造業 | E32: E23 | F32: 3715.2396 | G32: 12.121468 | H32: 3 | I32: 0.0032626342 | J32: 5077.7148 | K32: 14.937733 | L32: 2 | M32: 0.0029418219 | N32: 20.011 | O32: 0 | P32: 0 | Q32: 0 | R32: 8812.9654 | S32: 27.059201 | T32: 0 | U32: 0.0030703854
C33: 24 | D33: 金属製品製造業 | E33: E24 | F33: 10702.773 | G33: 3.5264934 | H33: 1 | I33: 0.00032949343 | J33: 10223.646 | K33: 17.036507 | L33: 3 | M33: 0.0016663827 | N33: 242.71035 | O33: 0.78472104 | P33: 1 | Q33: 0.0032331585 | R33: 21169.129 | S33: 21.347721 | T33: 0 | U33: 0.0010084364
C34: 25 | D34: はん用機械器具製造業 | E34: E25 | F34: 2400.173 | G34: 0.64382199 | H34: 1 | I34: 0.00026823983 | J34: 495.529 | K34: 0 | L34: 0 | M34: 0 | N34: 0 | O34: 0 | P34: 0 | R34: 2895.702 | S34: 0.64382199 | T34: 0 | U34: 0.00022233711
C35: 26 | D35: 生産用機械器具製造業 | E35: E26 | F35: 2657.5001 | G35: 1.2188847 | H35: 1 | I35: 0.00045865838 | J35: 307.77724 | K35: 0.050919317 | L35: 2 | M35: 0.00016544211 | N35: 0 | O35: 0 | P35: 0 | R35: 2965.2774 | S35: 1.269804 | T35: 0 | U35: 0.00042822437
C36: 27 | D36: 業務用機械器具製造業 | E36: E27 | F36: 1265.2029 | G36: 0.014574641 | H36: 1 | I36: 1.1519608e-05 | J36: 333.505 | K36: 0 | L36: 0 | M36: 0 | N36: 0 | O36: 0 | P36: 0 | R36: 1598.7079 | S36: 0.014574641 | T36: 0 | U36: 9.1165129e-06
C37: 28 | D37: 電子部品・デバイス・電子回路製造業 | E37: E28 | F37: 7539.5692 | G37: 1.3135067 | H37: 1 | I37: 0.00017421509 | J37: 335.33979 | K37: 0.68925908 | L37: 3 | M37: 0.002055405 | N37: 0.21072027 | O37: 0.00068129202 | P37: 1 | Q37: 0.0032331585 | R37: 7875.1197 | S37: 2.0034471 | T37: 0 | U37: 0.00025440211
C38: 29 | D38: 電気機械器具製造業 | E38: E29 | F38: 12464.466 | G38: 5.8651821 | H38: 2 | I38: 0.00047055221 | J38: 4974.7921 | K38: 18.661234 | L38: 5 | M38: 0.0037511585 | N38: 1.1508446 | O38: 0.0034945418 | P38: 1 | Q38: 0.0030365019 | R38: 17440.409 | S38: 24.529911 | T38: 0 | U38: 0.0014064986
C39: 30 | D39: 情報通信機械器具製造業 | E39: E30 | F39: 779.39841 | G39: 0.089598617 | H39: 1 | I39: 0.00011495869 | J39: 36.465106 | K39: 0.059289206 | L39: 2 | M39: 0.0016259162 | N39: 0.36 | O39: 0 | P39: 0 | Q39: 0 | R39: 816.22352 | S39: 0.14888782 | T39: 0 | U39: 0.0001824106
C40: 31 | D40: 輸送用機械器具製造業 | E40: E31 | F40: 15551.518 | G40: 6.2496443 | H40: 1 | I40: 0.00040186715 | J40: 3623.9003 | K40: 15.021701 | L40: 2 | M40: 0.004145175 | N40: 10.83 | O40: 0 | P40: 0 | Q40: 0 | R40: 19186.249 | S40: 21.271345 | T40: 0 | U40: 0.0011086766
C41: 32 | D41: その他の製造業 | E41: E32 | F41: 34097.46 | G41: 12.914845 | H41: 3 | I41: 0.00037876267 | J41: 7366.774 | K41: 60.15 | L41: 2 | M41: 0.0081650394 | N41: 0 | O41: 0 | P41: 0 | R41: 41464.234 | S41: 73.064845 | T41: 0 | U41: 0.0017621173
D42: 電気・ガス・熱供給・水道業大分類 | E42: F | F42: 1804.2107 | G42: 1.1403662 | H42: 1 | I42: 0.00063205823 | J42: 13961.966 | K42: 32.019125 | L42: 2 | M42: 0.0022933106 | N42: 785.56594 | O42: 1.6523248 | P42: 1 | Q42: 0.002103356 | R42: 16551.743 | S42: 34.811816 | T42: 0 | U42: 0.0021032116
B43: 電気･ガス | C43: 33 | D43: 電気業 | E43: F33 | F43: 1393.2676 | G43: 1.0542154 | H43: 1 | I43: 0.00075664962 | J43: 13178.143 | K43: 13.873942 | L43: 2 | M43: 0.0010527995 | N43: 775.35594 | O43: 1.623485 | P43: 1 | Q43: 0.0020938578 | R43: 15346.767 | S43: 16.551643 | T43: 0 | U43: 0.0010785101
B44: ･熱供給･ | C44: 34 | D44: ガス業 | E44: F34 | F44: 246.582 | G44: 0.036373033 | H44: 1 | I44: 0.00014750887 | J44: 394.57 | K44: 18.143233 | L44: 2 | M44: 0.045982293 | N44: 8.92 | O44: 0.028839773 | P44: 1 | Q44: 0.0032331585 | R44: 650.072 | S44: 18.208446 | T44: 0 | U44: 0.028009891
B45: 水道業 | C45: 35 | D45: 熱供給業 | E45: F35 | F45: 0 | G45: 0 | H45: 0 | J45: 0 | K45: 0 | L45: 0 | N45: 0 | O45: 0 | P45: 0 | R45: 0 | S45: 0 | T45: 0
C46: 36 | D46: 上水道業 | E46: F361 | F46: 28.618 | G46: 2.9098426e-05 | H46: 1 | I46: 1.0167876e-06 | J46: 117.09 | K46: 0 | L46: 0 | M46: 0 | N46: 1.29 | O46: 0 | P46: 0 | Q46: 0 | R46: 146.998 | S46: 2.9098426e-05 | T46: 0 | U46: 1.9795117e-07
C47: 37 | D47: 下水道業 | E47: F363 | F47: 135.743 | G47: 0.049748622 | H47: 1 | I47: 0.00036649124 | J47: 272.163 | K47: 0.0019495951 | L47: 1 | M47: 7.1633361e-06 | N47: 0 | O47: 0 | P47: 0 | R47: 407.906 | S47: 0.051698217 | T47: 0 | U47: 0.00012674052
D48: 情報通信業大分類 | E48: G | F48: 1842.2933 | G48: 0 | I48: 0 | J48: 2280.169 | K48: 0 | L48: 0 | M48: 0 | N48: 1868.7652 | O48: 0 | Q48: 0 | R48: 5991.2275 | S48: 0 | T48: 0 | U48: 0
C49: 38 | D49: 通信業 | E49: G37 | F49: 718.18213 | G49: 0 | H49: 0 | I49: 0 | J49: 2280.169 | K49: 0 | L49: 0 | M49: 0 | N49: 0 | O49: 0 | R49: 2998.3511 | S49: 0 | T49: 0 | U49: 0
B50: 情報通信業 | C50: 39 | D50: 放送業 | E50: G38 | F50: 608.89354 | G50: 0 | H50: 0 | I50: 0 | J50: 0 | K50: 0 | L50: 0 | N50: 0 | O50: 0 | R50: 608.89354 | S50: 0 | T50: 0 | U50: 0
C51: 40 | D51: 情報サービス業 | E51: G39 | F51: 421.54168 | G51: 0 | H51: 0 | I51: 0 | J51: 0 | K51: 0 | L51: 0 | N51: 0 | O51: 0 | R51: 421.54168 | S51: 0 | T51: 0 | U51: 0
C52: 41 | D52: インターネット付随サービス業 | E52: G40 | F52: 0 | G52: 0 | H52: 0 | J52: 0 | K52: 0 | L52: 0 | N52: 0 | O52: 0 | R52: 0 | S52: 0 | T52: 0
C53: 42 | D53: 映像・音声・文字情報制作業 | E53: G41 | F53: 93.67593 | G53: 0 | H53: 0 | I53: 0 | J53: 0 | K53: 0 | L53: 0 | N53: 0 | O53: 0 | R53: 93.67593 | S53: 0 | T53: 0 | U53: 0
D54: 運輸業，郵便業大分類 | E54: H | F54: 14372.432 | G54: 0 | I54: 0 | J54: 5677.8374 | K54: 0 | M54: 0 | N54: 418.42302 | O54: 0 | Q54: 0 | R54: 20468.693 | S54: 0 | T54: 0 | U54: 0
B55: 運輸業， | C55: 43 | D55: 鉄道業 | E55: H42 | F55: 4096.8833 | G55: 0 | H55: 0 | I55: 0 | J55: 2777.204 | K55: 0 | M55: 0 | N55: 321.53738 | O55: 0 | Q55: 0 | R55: 7195.6247 | S55: 0 | T55: 0 | U55: 0
B56: 郵便業 | C56: 44 | D56: 道路旅客運送業 | E56: H43 | F56: 1469.3613 | G56: 0 | H56: 0 | I56: 0 | J56: 407.82018 | K56: 0 | M56: 0 | N56: 0.563715 | O56: 0 | Q56: 0 | R56: 1877.7452 | S56: 0 | T56: 0 | U56: 0
C57: 45 | D57: 道路貨物運送業 | E57: H44 | F57: 7669.6969 | G57: 0 | H57: 0 | I57: 0 | J57: 2121.2533 | K57: 0 | M57: 0 | N57: 24.086238 | O57: 0 | Q57: 0 | R57: 9815.0365 | S57: 0 | T57: 0 | U57: 0
C58: 46 | D58: 上記以外の運輸業，郵便業 | F58: 1136.4908 | G58: 0 | H58: 0 | I58: 0 | J58: 371.55989 | K58: 0 | M58: 0 | N58: 72.235684 | O58: 0 | Q58: 0 | R58: 1580.2864 | S58: 0 | T58: 0 | U58: 0
D59: 卸売業，小売業大分類 | E59: I | F59: 40030.857 | G59: 0 | I59: 0 | J59: 8826.0079 | K59: 0 | M59: 0 | N59: 2496.2984 | O59: 0 | Q59: 0 | R59: 51353.164 | S59: 0 | T59: 0 | U59: 0
C60: 47 | D60: 各種商品卸売業 | E60: I50 | F60: 0 | G60: 0 | H60: 0 | J60: 0 | K60: 0 | L60: 0 | N60: 0 | O60: 0 | P60: 0 | R60: 0 | S60: 0 | T60: 0
C61: 48 | D61: 木材・竹材卸売業 | E61: I5311 | F61: 3166.3553 | G61: 0 | H61: 0 | I61: 0 | J61: 7853.386 | K61: 0 | L61: 0 | M61: 0 | N61: 1457.3701 | O61: 0 | P61: 0 | Q61: 0 | R61: 12477.111 | S61: 0 | T61: 0 | U61: 0
C62: 49 | D62: 各種商品小売業 | E62: I56 | F62: 2199.4508 | G62: 0 | H62: 0 | I62: 0 | J62: 5.4970801 | K62: 0 | L62: 0 | M62: 0 | N62: 32.998305 | O62: 0 | P62: 0 | Q62: 0 | R62: 2237.9462 | S62: 0 | T62: 0 | U62: 0
B63: 卸売業， | C63: 50 | D63: 自動車小売業 | E63: I591 | F63: 5823.8748 | G63: 0 | H63: 0 | I63: 0 | J63: 436.43404 | K63: 0 | L63: 0 | M63: 0 | N63: 70.406864 | O63: 0 | P63: 0 | Q63: 0 | R63: 6330.7157 | S63: 0 | T63: 0 | U63: 0
B64: 小売業 | C64: 51 | D64: 機械器具小売業 | E64: I593 | F64: 5848.6793 | G64: 0 | H64: 0 | I64: 0 | J64: 49.180271 | K64: 0 | L64: 0 | M64: 0 | N64: 551.6518 | O64: 0 | P64: 0 | Q64: 0 | R64: 6449.5113 | S64: 0 | T64: 0 | U64: 0
C65: 52 | D65: 家具・建具・畳小売業 | E65: I601 | F65: 512.85114 | G65: 0 | H65: 0 | I65: 0 | J65: 0.9110617 | K65: 0 | L65: 0 | M65: 0 | N65: 61.683825 | O65: 0 | P65: 0 | Q65: 0 | R65: 575.44603 | S65: 0 | T65: 0 | U65: 0
C66: 53 | D66: じゅう器小売業 | E66: I602 | F66: 31.110302 | G66: 0 | H66: 0 | I66: 0 | J66: 0 | K66: 0 | L66: 0 | N66: 0 | O66: 0 | P66: 0 | R66: 31.110302 | S66: 0 | T66: 0 | U66: 0
C67: 54 | D67: 燃料小売業 | E67: I605 | F67: 2289.3844 | G67: 0 | H67: 0 | I67: 0 | J67: 251.21076 | K67: 0 | L67: 0 | M67: 0 | N67: 192.0232 | O67: 0 | P67: 0 | Q67: 0 | R67: 2732.6184 | S67: 0 | T67: 0 | U67: 0
C68: 55 | D68: 上記以外の卸売業，小売業 | F68: 20159.151 | G68: 0 | H68: 0 | I68: 0 | J68: 229.38868 | K68: 0 | L68: 0 | M68: 0 | N68: 130.16435 | O68: 0 | P68: 0 | Q68: 0 | R68: 20518.704 | S68: 0 | T68: 0 | U68: 0
B69: 不動産業， | D69: 不動産業，物品賃貸業大分類 | E69: K | F69: 1333.5756 | G69: 0 | I69: 0 | J69: 3888.998 | K69: 0 | M69: 0 | N69: 0 | O69: 0 | P69: 0 | R69: 5222.5736 | S69: 0 | T69: 0 | U69: 0
B70: 物品賃貸業 | C70: 56 | D70: 物品賃貸業 | E70: K70 | F70: 1333.5756 | G70: 0 | I70: 0 | J70: 3888.998 | K70: 0 | M70: 0 | N70: 0 | O70: 0 | P70: 0 | R70: 5222.5736 | S70: 0 | T70: 0 | U70: 0
B71: 学術研究，専門 | D71: 学術研究，専門・技術サービス業大分類 | E71: L | F71: 1580.8237 | G71: 0 | I71: 0 | J71: 571.33757 | K71: 0 | M71: 0 | N71: 1501.2705 | O71: 0 | Q71: 0 | R71: 3653.4318 | S71: 0 | T71: 0 | U71: 0
B72: ・技術サービス業 | C72: 57 | D72: 学術・開発研究機関 | E72: L71 | F72: 1526.4303 | G72: 0 | I72: 0 | J72: 571.06005 | K72: 0 | M72: 0 | N72: 1501.2705 | O72: 0 | P72: 0 | Q72: 0 | R72: 3598.7608 | S72: 0 | T72: 0 | U72: 0
C73: 58 | D73: 写真業 | E73: L746 | F73: 54.393457 | G73: 0 | I73: 0 | J73: 0.2775149 | K73: 0 | M73: 0 | N73: 0 | O73: 0 | P73: 0 | R73: 54.670972 | S73: 0 | T73: 0 | U73: 0
B74: 宿泊業，飲食 | D74: 宿泊業，飲食サービス業大分類 | E74: M | F74: 1730.8921 | G74: 0 | I74: 0 | J74: 562.76927 | K74: 0 | M74: 0 | N74: 0 | O74: 0 | P74: 0 | R74: 2293.6614 | S74: 0 | T74: 0 | U74: 0
B75: サービス業 | C75: 59 | D75: 飲食店 | E75: M76 | F75: 1673.1937 | G75: 0 | I75: 0 | J75: 507.10097 | K75: 0 | L75: 0 | M75: 0 | N75: 0 | O75: 0 | P75: 0 | R75: 2180.2947 | S75: 0 | T75: 0 | U75: 0
C76: 60 | D76: 上記以外の宿泊業，飲食サービス業 | F76: 57.698369 | G76: 0 | I76: 0 | J76: 55.668298 | K76: 0 | L76: 0 | M76: 0 | N76: 0 | O76: 0 | P76: 0 | R76: 113.36667 | S76: 0 | T76: 0 | U76: 0
B77: 生活関連サー | D77: 生活関連サービス業，娯楽業大分類 | E77: N | F77: 4605.9825 | G77: 0 | I77: 0 | J77: 2110.597 | K77: 0 | L77: 0 | M77: 0 | N77: 0 | O77: 0 | P77: 0 | R77: 6716.5795 | S77: 0 | T77: 0 | U77: 0
B78: ビス業，娯楽業 | C78: 61 | D78: 洗濯業 | E78: N781 | F78: 0 | G78: 0 | J78: 0 | K78: 0 | L78: 0 | N78: 0 | O78: 0 | P78: 0 | R78: 0 | S78: 0 | T78: 0
B79: 教育，学習支援業 | C79: 62 | D79: 教育，学習支援業 | E79: O | F79: 2251.6523 | G79: 0.41724016 | H79: 1 | I79: 0.00018530399 | J79: 588.8731 | K79: 0.081104103 | L79: 1 | M79: 0.00013772764 | N79: 0 | O79: 0 | P79: 0 | R79: 2840.5254 | S79: 0.49834426 | T79: 1 | U79: 0.00017544087
D80: 医療，福祉大分類 | E80: P | F80: 16052.847 | G80: 0 | I80: 0 | J80: 2479.8958 | K80: 0 | M80: 0 | N80: 0 | O80: 0 | P80: 0 | R80: 18532.743 | S80: 0 | T80: 0 | U80: 0
B81: 医療，福祉 | C81: 63 | D81: 医療業 | E81: P83 | F81: 13953.313 | G81: 0 | H81: 0 | I81: 0 | J81: 2179.8556 | K81: 0 | L81: 0 | M81: 0 | N81: 0 | O81: 0 | P81: 0 | R81: 16133.169 | S81: 0 | T81: 0 | U81: 0
C82: 64 | D82: 上記以外の医療，福祉 | F82: 2099.534 | G82: 0 | H82: 0 | I82: 0 | J82: 300.04016 | K82: 0 | L82: 0 | M82: 0 | N82: 0 | O82: 0 | P82: 0 | R82: 2399.5741 | S82: 0 | T82: 0 | U82: 0
B83: 教育、学習支援業 | C83: 65 | D83: 複合サービス事業 | E83: Q | F83: 351.5314 | G83: 1.0577 | H83: 1 | I83: 0.003008835 | J83: 6.8507017 | K83: 0.00025445494 | L83: 1 | M83: 3.7142902e-05 | N83: 0 | O83: 0 | P83: 0 | R83: 358.38211 | S83: 1.0579545 | T83: 1 | U83: 0.0029520292
D84: サービス業大分類 | E84: R | F84: 184102.75 | G84: 0 | I84: 0 | J84: 83037.918 | K84: 0 | M84: 0 | N84: 12817.35 | O84: 0 | P84: 0 | Q84: 0 | R84: 279958.01 | S84: 0 | T84: 0 | U84: 0
B85: サービス業 | C85: 66 | D85: 自動車整備業 | E85: R891 | F85: 166749.25 | G85: 0 | H85: 0 | I85: 0 | J85: 74817.764 | K85: 0 | L85: 0 | M85: 0 | N85: 1354.7264 | O85: 0 | P85: 0 | Q85: 0 | R85: 242921.74 | S85: 0 | T85: 0 | U85: 0
C86: 67 | D86: と畜場 | E86: R952 | F86: 1247.985 | G86: 0 | H86: 0 | I86: 0 | J86: 492.73086 | K86: 0 | L86: 0 | M86: 0 | N86: 4.620921 | O86: 0 | P86: 0 | Q86: 0 | R86: 1745.3368 | S86: 0 | T86: 0 | U86: 0
C87: 68 | D87: 上記以外のサービス業 | F87: 16105.517 | G87: 0 | H87: 0 | I87: 0 | J87: 7727.4225 | K87: 0 | L87: 0 | M87: 0 | N87: 11458.003 | O87: 0 | P87: 0 | Q87: 0 | R87: 35290.942 | S87: 0 | T87: 0 | U87: 0
B88: 公務 | C88: 69 | D88: 公務 | E88: Ｓ | F88: 1672.7642 | G88: 0.0079931491 | H88: 1 | I88: 4.7784075e-06 | J88: 1108.182 | K88: 0.13008407 | L88: 2 | M88: 0.00011738511 | N88: 0 | O88: 0 | P88: 0 | R88: 2780.9462 | S88: 0.13807722 | T88: 0 | U88: 4.9651165e-05
D89: 合計 | F89: 888479.9 | G89: 601.98228 | H89: =SUM(H18:H88,H16) -> 43 | I89: 0.00067754181 | J89: 808367.99 | K89: 2137.878 | L89: =SUM(L18:L88,L16) -> 62 | M89: 0.0026446842 | N89: 5913893.6 | O89: 26128.016 | P89: =SUM(P18:P88,P16) -> 14 | Q89: 0.0044180735 | R89: 7610741.5 | S89: 28867.877 | T89: 0 | U89: 0.0037930439
B90: ※大分類のみの回答で、かつ中分類への配分ができない都道府県があるため、中分類の合算値と大分類の値が合致しない項目がある。
B91: ※各産業廃棄物の量は、四捨五入しているため合算した値は合計値と異なる場合がある。
B92: ※空欄は該当値が無いもの、「0」表示は500kg/年未満である事を示している。

Sheet 表V2 (2)
B3: 報告書P50で利用
B4: 表―Ⅴ・２ 石綿含産業廃棄物の排出量の集計結果（令和元年度実績値）
U6: （単位：t／年）
B7: 大分類 | C7: 番 | D7: 産業分類 | E7: コード | F7: 廃プラスチック類 | J7: ガラスくず、コンクリート及び陶磁器くず | N7: がれき類 | R7: 合 計
C8: 号 | F8: 母数排出量 | G8: うち石綿含有 | H8: データ数(件) | I8: 比率 | J8: 母数排出量 | K8: うち石綿含有 | L8: データ数(件) | M8: 比率 | N8: 母数排出量 | O8: うち石綿含有 | P8: データ数(件) | Q8: 比率 | R8: 母数排出量 | S8: うち石綿含有 | T8: データ数(件) | U8: 比率
D9: 農業，林業大分類 | E9: A | F9: 7159.675 | G9: 0 | H9: 7 | I9: 0 | J9: 1729.945 | K9: 0 | L9: 7 | M9: 0 | N9: 10.44 | O9: 0 | P9: 7 | Q9: 0 | R9: 8900.06 | S9: 0 | T9: 0 | U9: 0
C10: 1 | D10: 耕種農業 | E10: A011 | F10: 0 | G10: 0 | H10: 0 | J10: 0 | K10: 0 | L10: 0 | N10: 0 | O10: 0 | P10: 0 | R10: 0 | S10: 0 | T10: 0
B11: 農業，林業 | C11: 2 | D11: 畜産農業 | E11: A012 | F11: 404.4 | G11: 0 | H11: 1 | I11: 0 | J11: 0 | K11: 0 | L11: 1 | N11: 0 | O11: 0 | P11: 1 | R11: 404.4 | S11: 0 | T11: 0 | U11: 0
C12: 3 | D12: 林業 | E12: A02 | F12: 1.418 | G12: 0 | H12: 1 | I12: 0 | J12: 89.907 | K12: 0 | L12: 1 | M12: 0 | N12: 0 | O12: 0 | P12: 1 | R12: 91.325 | S12: 0 | T12: 0 | U12: 0
C13: 4 | D13: 上記以外の農業，林業 | F13: 0 | G13: 0 | H13: 0 | J13: 0 | K13: 0 | L13: 0 | N13: 0 | O13: 0 | P13: 0 | R13: 0 | S13: 0 | T13: 0
D14: 漁業大分類 | E14: B | F14: 124.333 | G14: 0 | H14: 8 | I14: 0 | J14: 0.5 | K14: 0 | L14: 8 | M14: 0 | N14: 13.75 | O14: 0 | P14: 8 | Q14: 0 | R14: 138.583 | S14: 0 | T14: 0 | U14: 0
B15: 漁 業 | C15: 5 | D15: 漁業 | E15: B03 | F15: 124.333 | G15: 0 | H15: 0 | I15: 0 | J15: 0 | K15: 0 | L15: 0 | N15: 13.75 | O15: 0 | P15: 0 | Q15: 0 | R15: 138.083 | S15: 0 | T15: 0 | U15: 0
C16: 6 | D16: 水産養殖業 | E16: B04 | F16: 0 | G16: 0 | H16: 0 | J16: 0 | K16: 0 | L16: 0 | N16: 0 | O16: 0 | P16: 0 | R16: 0 | S16: 0 | T16: 0
B17: 鉱 業 | C17: 7 | D17: 鉱業，採石業，砂利採取業 | E17: C | F17: 32.899 | G17: 0 | H17: 8 | I17: 0 | J17: 40.42 | K17: 2.5 | L17: 8 | M17: 0.061850569 | N17: 126 | O17: 0 | P17: 8 | Q17: 0 | R17: 199.319 | S17: 2.5 | T17: 0 | U17: 0.012542708
B18: 建設業 | C18: 8 | D18: 建設業 | E18: D | F18: 251774.33 | G18: 782.0569 | H18: 8 | I18: 0.0031061821 | J18: 282184.08 | K18: 4132.0405 | L18: 8 | M18: 0.014643068 | N18: 8008127 | O18: 26366.515 | P18: 8 | Q18: 0.0032924696 | R18: 8542085.5 | S18: 31280.612 | T18: 0 | U18: 0.0036619409
D19: 製造業大分類 | E19: E | F19: 457081.69 | G19: 284.96609 | H19: 0 | I19: 0.00062344673 | J19: 667831.34 | K19: 456.19612 | L19: 0 | M19: 0.00068310079 | N19: 29042.943 | O19: 64.64709 | P19: 0 | Q19: 0.0022259139 | R19: 1153956 | S19: 805.80929 | T19: 0 | U19: 0.00069830159
C20: 9 | D20: 食料品製造業 | E20: E09 | F20: 31790.035 | G20: 17.500168 | H20: 8 | I20: 0.00055049225 | J20: 15992.322 | K20: 31.380252 | L20: 8 | M20: 0.0019622073 | N20: 4.913 | O20: 0 | P20: 8 | Q20: 0 | R20: 47787.27 | S20: 48.88042 | T20: 0 | U20: 0.0010228753
C21: 10 | D21: 飲料・たばこ・飼料製造業 | E21: E10 | F21: 3428.3056 | G21: 1.2674061 | H21: 8 | I21: 0.00036968879 | J21: 1288.689 | K21: 1.7864465 | L21: 8 | M21: 0.0013862511 | N21: 30.58 | O21: 0 | P21: 8 | Q21: 0 | R21: 4747.5746 | S21: 3.0538527 | T21: 0 | U21: 0.0006432448
C22: 11 | D22: 繊維工業 | E22: E11 | F22: 19304.902 | G22: 4.1678917 | H22: 8 | I22: 0.00021589811 | J22: 546.28268 | K22: 0 | L22: 8 | M22: 0 | N22: 221.80216 | O22: 0 | P22: 8 | Q22: 0 | R22: 20072.987 | S22: 4.1678917 | T22: 0 | U22: 0.00020763685
C23: 12 | D23: 木材・木製品製造業 | E23: E12 | F23: 11437.992 | G23: 33.132126 | H23: 8 | I23: 0.0028966732 | J23: 4140.827 | K23: 10.12184 | L23: 8 | M23: 0.0024444006 | N23: 579.9 | O23: 0 | P23: 8 | Q23: 0 | R23: 16158.719 | S23: 43.253966 | T23: 0 | U23: 0.0026768189
C24: 13 | D24: 家具・装備品製造業 | E24: E13 | F24: 1122.1222 | G24: 1.420838 | H24: 8 | I24: 0.0012662061 | J24: 1182.3887 | K24: 5.4 | L24: 8 | M24: 0.004567026 | N24: 90.45964 | O24: 0 | P24: 8 | Q24: 0 | R24: 2394.9706 | S24: 6.820838 | T24: 0 | U24: 0.0028479841
C25: 14 | D25: パルプ・紙・紙加工品製造業 | E25: E14 | F25: 123383.41 | G25: 30.241742 | H25: 8 | I25: 0.00024510379 | J25: 13151.174 | K25: 0.05 | L25: 8 | M25: 3.8019419e-06 | N25: 32.6683 | O25: 0.0044271927 | P25: 8 | Q25: 0.00013551953 | R25: 136567.26 | S25: 30.296169 | T25: 0 | U25: 0.00022184065
C26: 15 | D26: 印刷・同関連業 | E26: E15 | F26: 10276.815 | G26: 0.33220932 | H26: 8 | I26: 3.2326099e-05 | J26: 2.76764 | K26: 0 | L26: 8 | M26: 0 | N26: 8.73518 | O26: 0 | P26: 8 | Q26: 0 | R26: 10288.317 | S26: 0.33220932 | T26: 0 | U26: 3.2289957e-05
C27: 16 | D27: 化学工業 | E27: E16 | F27: 36782.998 | G27: 46.851252 | H27: 8 | I27: 0.0012737203 | J27: 11988.743 | K27: 91.176177 | L27: 8 | M27: 0.0076051489 | N27: 60.38543 | O27: 0.0027037583 | P27: 8 | Q27: 4.477501e-05 | R27: 48832.127 | S27: 138.03013 | T27: 0 | U27: 0.0028266255
C28: 17 | D28: 石油製品・石炭製品製造業 | E28: E17 | F28: 1090.931 | G28: 0.034671724 | H28: 8 | I28: 3.1781775e-05 | J28: 27815.539 | K28: 0.53 | L28: 8 | M28: 1.9054098e-05 | N28: 35.21 | O28: 0 | P28: 8 | Q28: 0 | R28: 28941.68 | S28: 0.56467172 | T28: 0 | U28: 1.9510675e-05
B29: 製造業 | C29: 18 | D29: プラスチック製品製造業 | E29: E18 | F29: 61021.853 | G29: 4.8108164 | H29: 8 | I29: 7.8837598e-05 | J29: 603.11672 | K29: 2.0686687 | L29: 8 | M29: 0.0034299641 | N29: 53.135 | O29: 0 | P29: 8 | Q29: 0 | R29: 61678.105 | S29: 6.879485 | T29: 0 | U29: 0.00011153853
C30: 19 | D30: ゴム製品製造業 | E30: E19 | F30: 38126.296 | G30: 76.138568 | H30: 8 | I30: 0.0019970093 | J30: 571.00444 | K30: 3.2685923 | L30: 8 | M30: 0.0057242853 | N30: 1.66 | O30: 0 | P30: 8 | Q30: 0 | R30: 38698.961 | S30: 79.407161 | T30: 0 | U30: 0.0020519197
C31: 20 | D31: なめし革・同製品・毛皮製造業 | E31: E20 | F31: 1837.5727 | G31: 0.70754782 | H31: 8 | I31: 0.0003850448 | J31: 2.336 | K31: 0 | L31: 8 | M31: 0 | N31: 0 | O31: 0 | P31: 8 | R31: 1839.9087 | S31: 0.70754782 | T31: 0 | U31: 0.00038455594
C32: 21 | D32: 窯業・土石製品製造業 | E32: E21 | F32: 5825.1782 | G32: 7.866493 | H32: 8 | I32: 0.0013504296 | J32: 496267.6 | K32: 85.480986 | L32: 8 | M32: 0.00017224777 | N32: 24332.725 | O32: 59.986058 | P32: 8 | Q32: 0.0024652421 | R32: 526425.5 | S32: 153.33354 | T32: 0 | U32: 0.00029127301
C33: 22 | D33: 鉄鋼業 | E33: E22 | F33: 5461.4726 | G33: 2.0549341 | H33: 8 | I33: 0.00037626008 | J33: 50153.292 | K33: 105.67612 | L33: 8 | M33: 0.0021070624 | N33: 1287.1511 | O33: 0 | P33: 8 | Q33: 0 | R33: 56901.916 | S33: 107.73105 | T33: 0 | U33: 0.0018932764
C34: 23 | D34: 非鉄金属製造業 | E34: E23 | F34: 2397.6506 | G34: 33.607243 | H34: 8 | I34: 0.014016739 | J34: 3570.112 | K34: 12.11254 | L34: 8 | M34: 0.003392762 | N34: 37.29777 | O34: 0 | P34: 8 | Q34: 0 | R34: 6005.0603 | S34: 45.719783 | T34: 0 | U34: 0.0076135427
C35: 24 | D35: 金属製品製造業 | E35: E24 | F35: 9383.2644 | G35: 3.4742197 | H35: 8 | I35: 0.00037025704 | J35: 11903.945 | K35: 6.680444 | L35: 8 | M35: 0.00056119579 | N35: 365.25284 | O35: 0.7733623 | P35: 8 | Q35: 0.0021173341 | R35: 21652.462 | S35: 10.928026 | T35: 0 | U35: 0.0005047013
C36: 25 | D36: はん用機械器具製造業 | E36: E25 | F36: 1435.7703 | G36: 0.5152788 | H36: 8 | I36: 0.00035888665 | J36: 1279.783 | K36: 0 | L36: 8 | M36: 0 | N36: 17.358 | O36: 0 | P36: 8 | Q36: 0 | R36: 2732.9113 | S36: 0.5152788 | T36: 0 | U36: 0.00018854574
C37: 26 | D37: 生産用機械器具製造業 | E37: E26 | F37: 3985.9832 | G37: 1.4604621 | H37: 8 | I37: 0.00036639945 | J37: 1063.4217 | K37: 1.0250654 | L37: 8 | M37: 0.00096393127 | N37: 328.5391 | O37: 0 | P37: 8 | Q37: 0 | R37: 5377.944 | S37: 2.4855275 | T37: 0 | U37: 0.00046217058
C38: 27 | D38: 業務用機械器具製造業 | E38: E27 | F38: 3117.2052 | G38: 0.010936516 | H38: 8 | I38: 3.5084364e-06 | J38: 504.22366 | K38: 0 | L38: 8 | M38: 0 | N38: 26.098 | O38: 3.806 | P38: 8 | Q38: 0.14583493 | R38: 3647.5268 | S38: 3.8169365 | T38: 0 | U38: 0.0010464451
C39: 28 | D39: 電子部品・デバイス・電子回路製造業 | E39: E28 | F39: 10442.743 | G39: 1.2542391 | H39: 8 | I39: 0.00012010629 | J39: 377.8925 | K39: 1.3484571 | L39: 8 | M39: 0.0035683617 | N39: 498.91636 | O39: 0.00071062482 | P39: 8 | Q39: 1.4243366e-06 | R39: 11319.552 | S39: 2.6034069 | T39: 0 | U39: 0.00022999204
C40: 29 | D40: 電気機械器具製造業 | E40: E29 | F40: 7621.0378 | G40: 6.1997476 | H40: 8 | I40: 0.00081350437 | J40: 4548.4809 | K40: 8.6518234 | L40: 8 | M40: 0.0019021347 | N40: 251.01264 | O40: 0.073827222 | P40: 8 | Q40: 0.00029411755 | R40: 12420.531 | S40: 14.925398 | T40: 0 | U40: 0.0012016715
C41: 30 | D41: 情報通信機械器具製造業 | E41: E30 | F41: 3127.5097 | G41: 1.4129723 | H41: 8 | I41: 0.00045178831 | J41: 199.53392 | K41: 0.030374135 | L41: 8 | M41: 0.00015222542 | N41: 593.9295 | O41: 0 | P41: 8 | Q41: 0 | R41: 3920.9732 | S41: 1.4433465 | T41: 0 | U41: 0.00036810925
C42: 31 | D42: 輸送用機械器具製造業 | E42: E31 | F42: 18157.546 | G42: 1.8092461 | H42: 8 | I42: 9.9641552e-05 | J42: 2381.7461 | K42: 33.623331 | L42: 8 | M42: 0.014117093 | N42: 155.799 | O42: 0 | P42: 8 | Q42: 0 | R42: 20695.091 | S42: 35.432577 | T42: 0 | U42: 0.0017121247
C43: 32 | D43: その他の製造業 | E43: E32 | F43: 46523.094 | G43: 8.6950778 | H43: 8 | I43: 0.0001868981 | J43: 18296.118 | K43: 55.785 | L43: 8 | M43: 0.0030490074 | N43: 29.415 | O43: 0 | P43: 8 | Q43: 0 | R43: 64848.627 | S43: 64.480078 | T43: 0 | U43: 0.00099431678
D44: 電気・ガス・熱供給・水道業大分類 | E44: F | F44: 1040.2995 | G44: 1.1782104 | H44: 0 | I44: 0.0011325685 | J44: 14985.732 | K44: 3.7580601 | L44: 0 | M44: 0.00025077588 | N44: 1182.106 | O44: 1.8877918 | P44: 0 | Q44: 0.0015969733 | R44: 17208.138 | S44: 6.8240622 | T44: 0 | U44: 0.00039656019
B45: 電気･ガス | C45: 33 | D45: 電気業 | E45: F33 | F45: 770.018 | G45: 1.1380059 | H45: 8 | I45: 0.0014778952 | J45: 14781.146 | K45: 3.5740569 | L45: 8 | M45: 0.00024179836 | N45: 677.53 | O45: 1.8576071 | P45: 8 | Q45: 0.0027417341 | R45: 16228.694 | S45: 6.56967 | T45: 0 | U45: 0.00040481816
B46: ･熱供給･ | C46: 34 | D46: ガス業 | E46: F34 | F46: 17.25 | G46: 0.038069187 | H46: 7 | I46: 0.0022069094 | J46: 1 | K46: 0.0033839277 | L46: 7 | M46: 0.0033839277 | N46: 8.92 | O46: 0.030184635 | P46: 7 | Q46: 0.0033839277 | R46: 27.17 | S46: 0.07163775 | T46: 0 | U46: 0.0026366489
B47: 水道業 | C47: 35 | D47: 熱供給業 | E47: F35 | F47: 0 | G47: 0 | H47: 5 | J47: 0 | K47: 0 | L47: 5 | N47: 0 | O47: 0 | P47: 5 | R47: 0 | S47: 0 | T47: 0
C48: 36 | D48: 上水道業 | E48: F361 | F48: 11.27148 | G48: 3.045535e-05 | H48: 8 | I48: 2.7019832e-06 | J48: 13.00904 | K48: 0 | L48: 8 | M48: 0 | N48: 494.296 | O48: 0 | P48: 8 | Q48: 0 | R48: 518.57652 | S48: 3.045535e-05 | T48: 0 | U48: 5.8728748e-08
C49: 37 | D49: 下水道業 | E49: F363 | F49: 241.76 | G49: 0.002104803 | H49: 8 | I49: 8.7061675e-06 | J49: 190.577 | K49: 0.18061926 | L49: 8 | M49: 0.00094774951 | N49: 1.36 | O49: 0 | P49: 8 | Q49: 0 | R49: 433.697 | S49: 0.18272406 | T49: 0 | U49: 0.00042131733
D50: 情報通信業大分類 | E50: G | F50: 1132.6505 | G50: 0 | H50: 8 | I50: 0 | J50: 3907.486 | K50: 0 | L50: 8 | M50: 0 | N50: 674.56252 | O50: 0 | P50: 8 | Q50: 0 | R50: 5714.699 | S50: 0 | T50: 0 | U50: 0
C51: 38 | D51: 通信業 | E51: G37 | F51: 623.3048 | G51: 0 | H51: 0 | I51: 0 | J51: 0 | K51: 0 | L51: 0 | N51: 0 | O51: 0 | P51: 0 | R51: 623.3048 | S51: 0 | T51: 0 | U51: 0
B52: 情報通信業 | C52: 39 | D52: 放送業 | E52: G38 | F52: 32.805516 | G52: 0 | H52: 0 | I52: 0 | J52: 0 | K52: 0 | L52: 0 | N52: 0 | O52: 0 | P52: 0 | R52: 32.805516 | S52: 0 | T52: 0 | U52: 0
C53: 40 | D53: 情報サービス業 | E53: G39 | F53: 360.86067 | G53: 0 | H53: 0 | I53: 0 | J53: 0 | K53: 0 | L53: 0 | N53: 0 | O53: 0 | P53: 0 | R53: 360.86067 | S53: 0 | T53: 0 | U53: 0
C54: 41 | D54: インターネット付随サービス業 | E54: G40 | F54: 0 | G54: 0 | H54: 0 | J54: 0 | K54: 0 | L54: 0 | N54: 0 | O54: 0 | P54: 0 | R54: 0 | S54: 0 | T54: 0
C55: 42 | D55: 映像・音声・文字情報制作業 | E55: G41 | F55: 115.67954 | G55: 0 | H55: 0 | I55: 0 | J55: 1.31596 | K55: 0 | L55: 0 | M55: 0 | N55: 0 | O55: 0 | P55: 0 | R55: 116.9955 | S55: 0 | T55: 0 | U55: 0
D56: 運輸業，郵便業大分類 | E56: H | F56: 12386.306 | G56: 0.491 | H56: 7 | I56: 3.9640551e-05 | J56: 10418.035 | K56: 0.89 | L56: 7 | M56: 8.5428778e-05 | N56: 777.516 | O56: 0 | P56: 7 | Q56: 0 | R56: 23581.857 | S56: 1.381 | T56: 0 | U56: 5.8561969e-05
B57: 運輸業， | C57: 43 | D57: 鉄道業 | E57: H42 | F57: 1105.0448 | G57: 0 | H57: 1 | I57: 0 | J57: 4212.4895 | K57: 0.89 | L57: 1 | M57: 0.00021127649 | N57: 284.27117 | O57: 0 | P57: 1 | Q57: 0 | R57: 5601.8054 | S57: 0.89 | T57: 0 | U57: 0.00015887735
B58: 郵便業 | C58: 44 | D58: 道路旅客運送業 | E58: H43 | F58: 1204.3062 | G58: 0 | H58: 1 | I58: 0 | J58: 145.12667 | K58: 0 | L58: 1 | M58: 0 | N58: 26.18351 | O58: 0 | P58: 1 | Q58: 0 | R58: 1375.6164 | S58: 0 | T58: 0 | U58: 0
C59: 45 | D59: 道路貨物運送業 | E59: H44 | F59: 8479.984 | G59: 0.451 | H59: 1 | I59: 5.3184063e-05 | J59: 6059.2089 | K59: 0 | L59: 1 | M59: 0 | N59: 140.28232 | O59: 0 | P59: 1 | Q59: 0 | R59: 14679.475 | S59: 0.451 | T59: 0 | U59: 3.0723169e-05
C60: 46 | D60: 上記以外の運輸業，郵便業 | F60: 1596.9713 | G60: 0.04 | H60: 1 | I60: 2.5047414e-05 | J60: 1.21 | K60: 0 | L60: 1 | M60: 0 | N60: 326.779 | O60: 0 | P60: 1 | Q60: 0 | R60: 1924.9603 | S60: 0.04 | T60: 0 | U60: 2.077965e-05
D61: 卸売業，小売業大分類 | E61: I | F61: 43374.173 | G61: 0 | H61: 7 | I61: 0 | J61: 11014.892 | K61: 0 | L61: 7 | M61: 0 | N61: 4197.5464 | O61: 0 | P61: 7 | Q61: 0 | R61: 58586.612 | S61: 0 | T61: 0 | U61: 0
C62: 47 | D62: 各種商品卸売業 | E62: I50 | F62: 124.03549 | G62: 0 | H62: 1 | I62: 0 | J62: 9.0383925 | K62: 0 | L62: 1 | M62: 0 | N62: 134.4984 | O62: 0 | P62: 1 | Q62: 0 | R62: 267.57228 | S62: 0 | T62: 0 | U62: 0
C63: 48 | D63: 木材・竹材卸売業 | E63: I5311 | F63: 3743.2719 | G63: 0 | H63: 1 | I63: 0 | J63: 9889.2805 | K63: 0 | L63: 1 | M63: 0 | N63: 2399.273 | O63: 0 | P63: 1 | Q63: 0 | R63: 16031.825 | S63: 0 | T63: 0 | U63: 0
C64: 49 | D64: 各種商品小売業 | E64: I56 | F64: 1103.6432 | G64: 0 | H64: 1 | I64: 0 | J64: 37.76457 | K64: 0 | L64: 1 | M64: 0 | N64: 31.485 | O64: 0 | P64: 1 | Q64: 0 | R64: 1172.8927 | S64: 0 | T64: 0 | U64: 0
B65: 卸売業， | C65: 50 | D65: 自動車小売業 | E65: I591 | F65: 7887.1683 | G65: 0 | H65: 1 | I65: 0 | J65: 145.98019 | K65: 0 | L65: 1 | M65: 0 | N65: 67.178 | O65: 0 | P65: 1 | Q65: 0 | R65: 8100.3265 | S65: 0 | T65: 0 | U65: 0
B66: 小売業 | C66: 51 | D66: 機械器具小売業 | E66: I593 | F66: 13592.108 | G66: 0 | H66: 1 | I66: 0 | J66: 91.239336 | K66: 0 | L66: 1 | M66: 0 | N66: 526.353 | O66: 0 | P66: 1 | Q66: 0 | R66: 14209.7 | S66: 0 | T66: 0 | U66: 0
C67: 52 | D67: 家具・建具・畳小売業 | E67: I601 | F67: 211.65678 | G67: 0 | H67: 1 | I67: 0 | J67: 0.267 | K67: 0 | L67: 1 | M67: 0 | N67: 58.855 | O67: 0 | P67: 1 | Q67: 0 | R67: 270.77878 | S67: 0 | T67: 0 | U67: 0
C68: 53 | D68: じゅう器小売業 | E68: I602 | F68: 7.465 | G68: 0 | H68: 1 | I68: 0 | J68: 0 | K68: 0 | L68: 1 | N68: 0 | O68: 0 | P68: 1 | R68: 7.465 | S68: 0 | T68: 0 | U68: 0
C69: 54 | D69: 燃料小売業 | E69: I605 | F69: 1643.5141 | G69: 0 | H69: 1 | I69: 0 | J69: 78.140196 | K69: 0 | L69: 1 | M69: 0 | N69: 698.79419 | O69: 0 | P69: 1 | Q69: 0 | R69: 2420.4485 | S69: 0 | T69: 0 | U69: 0
C70: 55 | D70: 上記以外の卸売業，小売業 | F70: 15061.31 | G70: 0 | H70: 1 | I70: 0 | J70: 763.18194 | K70: 0 | L70: 1 | M70: 0 | N70: 281.1098 | O70: 0 | P70: 1 | Q70: 0 | R70: 16105.602 | S70: 0 | T70: 0 | U70: 0
B71: 不動産業， | D71: 不動産業，物品賃貸業大分類 | E71: K | F71: 1353.7495 | G71: 0 | H71: 7 | I71: 0 | J71: 4889.4172 | K71: 0 | L71: 7 | M71: 0 | N71: 201.0213 | O71: 0 | P71: 7 | Q71: 0 | R71: 6444.188 | S71: 0 | T71: 0 | U71: 0
B72: 物品賃貸業 | C72: 56 | D72: 物品賃貸業 | E72: K70 | F72: 1353.7495 | G72: 0 | H72: 0 | I72: 0 | J72: 4889.4172 | K72: 0 | L72: 0 | M72: 0 | N72: 201.0213 | O72: 0 | P72: 0 | Q72: 0 | R72: 6444.188 | S72: 0 | T72: 0 | U72: 0
B73: 学術研究，専門 | D73: 学術研究，専門・技術サービス業大分類 | E73: L | F73: 1505.9623 | G73: 0 | H73: 7 | I73: 0 | J73: 527.4878 | K73: 0 | L73: 7 | M73: 0 | N73: 1256.086 | O73: 0 | P73: 7 | Q73: 0 | R73: 3289.5361 | S73: 0 | T73: 0 | U73: 0
B74: ・技術サービス業 | C74: 57 | D74: 学術・開発研究機関 | E74: L71 | F74: 1451.1797 | G74: 0 | H74: 1 | I74: 0 | J74: 527.4878 | K74: 0 | L74: 1 | M74: 0 | N74: 1256.086 | O74: 0 | P74: 1 | Q74: 0 | R74: 3234.7535 | S74: 0 | T74: 0 | U74: 0
C75: 58 | D75: 写真業 | E75: L746 | F75: 54.782582 | G75: 0 | H75: 1 | I75: 0 | J75: 0 | K75: 0 | L75: 1 | N75: 0 | O75: 0 | P75: 1 | R75: 54.782582 | S75: 0 | T75: 0 | U75: 0
B76: 宿泊業，飲食 | D76: 宿泊業，飲食サービス業大分類 | E76: M | F76: 1978.6311 | G76: 0 | H76: 7 | I76: 0 | J76: 1065.9182 | K76: 0 | L76: 7 | M76: 0 | N76: 52.229 | O76: 0 | P76: 7 | Q76: 0 | R76: 3096.7783 | S76: 0 | T76: 0 | U76: 0
B77: サービス業 | C77: 59 | D77: 飲食店 | E77: M76 | F77: 970.8707 | G77: 0 | H77: 1 | I77: 0 | J77: 63.916818 | K77: 0 | L77: 1 | M77: 0 | N77: 0 | O77: 0 | P77: 1 | R77: 1034.7875 | S77: 0 | T77: 0 | U77: 0
C78: 60 | D78: 上記以外の宿泊業，飲食サービス業 | F78: 1007.7604 | G78: 0 | H78: 1 | I78: 0 | J78: 1002.0014 | K78: 0 | L78: 1 | M78: 0 | N78: 52.229 | O78: 0 | P78: 1 | Q78: 0 | R78: 2061.9908 | S78: 0 | T78: 0 | U78: 0
B79: 生活関連サー | D79: 生活関連サービス業，娯楽業大分類 | E79: N | F79: 4687.6406 | G79: 0 | H79: 7 | I79: 0 | J79: 1536.92 | K79: 0 | L79: 7 | M79: 0 | N79: 0.477 | O79: 0 | P79: 7 | Q79: 0 | R79: 6225.0376 | S79: 0 | T79: 0 | U79: 0
B80: ビス業，娯楽業 | C80: 61 | D80: 洗濯業 | E80: N781 | F80: 255.3038 | G80: 0 | H80: 1 | I80: 0 | J80: 0.037 | K80: 0 | L80: 1 | M80: 0 | N80: 0.477 | O80: 0 | P80: 1 | Q80: 0 | R80: 255.8178 | S80: 0 | T80: 0 | U80: 0
B81: 教育，学習支援業 | C81: 62 | D81: 教育，学習支援業 | E81: O | F81: 2311.2981 | G81: 10.4227 | H81: 8 | I81: 0.0045094574 | J81: 1106.2143 | K81: 14.822165 | L81: 8 | M81: 0.013399 | N81: 149.1339 | O81: 0 | P81: 8 | Q81: 0 | R81: 3566.6464 | S81: 25.244866 | T81: 0 | U81: 0.0070780401
D82: 医療，福祉大分類 | E82: P | F82: 19668.384 | G82: 0 | H82: 7 | I82: 0 | J82: 7752.9104 | K82: 0 | L82: 7 | M82: 0 | N82: 150.69324 | O82: 0 | P82: 7 | Q82: 0 | R82: 27571.987 | S82: 0 | T82: 0 | U82: 0
B83: 医療，福祉 | C83: 63 | D83: 医療業 | E83: P83 | F83: 16091.49 | G83: 0 | H83: 1 | I83: 0 | J83: 4628.5067 | K83: 0 | L83: 1 | M83: 0 | N83: 97.6563 | O83: 0 | P83: 1 | Q83: 0 | R83: 20817.653 | S83: 0 | T83: 0 | U83: 0
C84: 64 | D84: 上記以外の医療，福祉 | F84: 3576.8936 | G84: 0 | H84: 1 | I84: 0 | J84: 3124.4037 | K84: 0 | L84: 1 | M84: 0 | N84: 53.03694 | O84: 0 | P84: 1 | Q84: 0 | R84: 6754.3342 | S84: 0 | T84: 0 | U84: 0
B85: 教育、学習支援業 | C85: 65 | D85: 複合サービス事業 | E85: Q | F85: 1462.915 | G85: 3.3631039 | H85: 7 | I85: 0.0022989058 | J85: 80.248319 | K85: 0.00028932582 | L85: 7 | M85: 3.6053817e-06 | N85: 61.496256 | O85: 0 | P85: 7 | Q85: 0 | R85: 1604.6596 | S85: 3.3633932 | T85: 0 | U85: 0.0020960166
D86: サービス業大分類 | E86: R | F86: 192707.66 | G86: 0 | H86: 7 | I86: 0 | J86: 47587.626 | K86: 0 | L86: 7 | M86: 0 | N86: 494.10759 | O86: 0 | P86: 7 | Q86: 0 | R86: 240789.39 | S86: 0 | T86: 0 | U86: 0
B87: サービス業 | C87: 66 | D87: 自動車整備業 | E87: R891 | F87: 77495.604 | G87: 0 | H87: 1 | I87: 0 | J87: 24677.554 | K87: 0 | L87: 1 | M87: 0 | N87: 52.214 | O87: 0 | P87: 1 | Q87: 0 | R87: 102225.37 | S87: 0 | T87: 0 | U87: 0
C88: 67 | D88: と畜場 | E88: R952 | F88: 176.8327 | G88: 0 | H88: 1 | I88: 0 | J88: 0.3288 | K88: 0 | L88: 1 | M88: 0 | N88: 0.1781 | O88: 0 | P88: 1 | Q88: 0 | R88: 177.3396 | S88: 0 | T88: 0 | U88: 0
C89: 68 | D89: 上記以外のサービス業 | F89: 115035.22 | G89: 0 | H89: 1 | I89: 0 | J89: 22909.743 | K89: 0 | L89: 1 | M89: 0 | N89: 441.71549 | O89: 0 | P89: 1 | Q89: 0 | R89: 138386.68 | S89: 0 | T89: 0 | U89: 0
B90: 公務 | C90: 69 | D90: 公務 | E90: Ｓ | F90: 1902.3948 | G90: 0.0083650694 | H90: 7 | I90: 4.3971259e-06 | J90: 2237.9884 | K90: 8.7982121e-05 | L90: 7 | M90: 3.9313037e-08 | N90: 523.28032 | O90: 0 | P90: 7 | Q90: 0 | R90: 4663.6635 | S90: 0.0084530515 | T90: 0 | U90: 1.8125346e-06
D91: 合計 | F91: 1001685 | G91: 1082.4864 | H91: 0 | I91: 0.0010806655 | J91: 1058897.2 | K91: 4610.2072 | L91: 0 | M91: 0.0043537819 | N91: 8047040.4 | O91: 26433.05 | P91: 0 | Q91: 0.0032848163 | R91: 10107623 | S91: 32125.744 | T91: 0 | U91: 0.0031783679
G92: =G91/1000 -> 1.0824864 | K92: =K91/1000 -> 4.6102072 | O92: =O91/1000 -> 26.43305 | S92: =S91/1000 -> 32.125744
B96: H30
B97: 大分類 | C97: 番 | D97: 産業分類 | E97: コード | F97: 廃プラスチック類 | J97: ガラスくず、コンクリート及び陶磁器くず | N97: がれき類 | R97: 合 計
C98: 号 | F98: 母数排出量 | G98: うち石綿含有 | H98: データ数(件) | I98: 比率 | J98: 母数排出量 | K98: うち石綿含有 | L98: データ数(件) | M98: 比率 | N98: 母数排出量 | O98: うち石綿含有 | P98: データ数(件) | Q98: 比率 | R98: 母数排出量 | S98: うち石綿含有 | T98: データ数(件) | U98: 比率
D99: 農業，林業大分類 | E99: A | F99: 6565.4682 | G99: 0 | H99: 7 | I99: 0 | J99: 2396.1723 | K99: 0 | L99: 7 | M99: 0 | N99: 147 | O99: 0 | P99: 8 | Q99: 0 | R99: 9108.6405 | S99: 0 | T99: 0 | U99: 0
C100: 1 | D100: 耕種農業 | E100: A011 | F100: 0 | G100: 0 | H100: 0 | J100: 0 | K100: 0 | L100: 0
B101: 農業，林業 | C101: 2 | D101: 畜産農業 | E101: A012 | F101: 0 | G101: 0 | H101: 0 | J101: 0 | K101: 0 | L101: 0
C102: 3 | D102: 林業 | E102: A02 | F102: 0 | G102: 0 | H102: 0 | J102: 0 | K102: 0 | L102: 0
C103: 4 | D103: 上記以外の農業，林業 | F103: 0 | G103: 0 | H103: 0 | J103: 0 | K103: 0 | L103: 0
D104: 漁業大分類 | E104: B | F104: 102.828 | G104: 0 | H104: 7 | I104: 0 | J104: 16.93 | K104: 0 | L104: 7 | M104: 0 | N104: 0 | O104: 0 | P104: 7 | R104: 119.758 | S104: 0 | T104: 0 | U104: 0
B105: 漁 業 | C105: 5 | D105: 漁業 | E105: B03 | F105: 0 | G105: 0 | H105: 0 | J105: 0 | K105: 0 | L105: 0
C106: 6 | D106: 水産養殖業 | E106: B04 | F106: 0 | G106: 0 | H106: 0 | J106: 0 | K106: 0 | L106: 0
...

Sheet 表V・3
B2: 表―Ⅴ・３ 石綿含有産業廃棄物の処理量の集計結果（令和３年度実績値）
L3: （単位：ｔ/年）
B4: 廃棄物種類 | C4: 排出量 | D4: 直接再生 利用量 | E4: 直接最終 処分量 | F4: 中間処理量 | J4: 再生利用量 計 | K4: 減量化量 計 | L4: 最終処分量 計
F5: 中間処理量 | G5: 処理残渣量 | H5: 中間処理後 再生利用量 | I5: 中間処理後 最終処分量
B6: 石綿含有 廃プラスチック類 | C6: 601.98228 | D6: 0 | E6: 250.99424 | F6: 350.98804 | G6: 175.19098 | H6: 57.420297 | I6: 117.77069 | J6: 57.420297 | K6: 175.79706 | L6: 368.76492
D7: 0 | E7: 0.41694622 | F7: 0.58305378 | G7: 0.29102349 | H7: 0.095385361 | I7: 0.19563813 | J7: 0.095385361 | K7: 0.29203029 | L7: 0.61258435
B8: 石綿含有 ガラスくず、コンクリート 及び陶磁器くず | C8: 2137.878 | D8: 0 | E8: 1905.7119 | F8: 232.16616 | G8: 141.66878 | H8: 36.716531 | I8: 104.95225 | J8: 36.716531 | K8: 90.497386 | L8: 2010.6641
D9: 0 | E9: 0.89140346 | F9: 0.10859654 | G9: 0.066266071 | H9: 0.017174287 | I9: 0.049091784 | J9: 0.017174287 | K9: 0.042330472 | L9: 0.94049524
B10: 石綿含有 がれき類 | C10: 26128.016 | D10: 0 | E10: 24598.553 | F10: 1529.4631 | G10: 897.15565 | H10: 203.23129 | I10: 693.92436 | J10: 203.23129 | K10: 632.30741 | L10: 25292.478
D11: 0 | E11: 0.94146272 | F11: 0.058537282 | G11: 0.034336921 | H11: 0.0077782899 | I11: 0.026558632 | J11: 0.0077782899 | K11: 0.02420036 | L11: 0.96802135
B12: 合計 | C12: 28867.877 | D12: 0 | E12: 26755.259 | F12: 2112.6173 | G12: 1214.0154 | H12: 297.36811 | I12: 916.64729 | J12: 297.36811 | K12: 898.60185 | L12: 27671.907
D13: 0 | E13: 0.92681771 | F13: 0.073182288 | G13: 0.042054198 | H13: 0.010301004 | I13: 0.031753194 | J13: 0.010301004 | K13: 0.03112809 | L13: 0.95857091
B14: ※四捨五入により、各項目の合算値と合計値が合致しない場合がある。

Sheet 表Ⅵ2 (2)
B3: 報告書P50で利用
B4: 表―Ⅴ・２ 水銀使用産業廃棄物の排出量の集計結果（令和元年度実績値）
M8: （単位：ｔ/年）
B9: 大分類 | C9: 番 | D9: 産業分類 | E9: コード | F9: 水銀使用製品廃棄物 由来の汚泥 | G9: データの個数 | H9: 水銀使用製品廃棄物 由来の廃プラスチック類 | I9: データの個数 | J9: 水銀使用製品廃棄物 由来の金属くず | K9: データの個数 | L9: 水銀使用製品廃棄物 由来のガラスくず | M9: データの個数 | O9: ①水銀使用製品廃棄物（個別製品の種類別）
C10: 号
D11: 農業，林業大分類 | E11: A | F11: 0 | G11: 2 | H11: 0 | I11: 2 | J11: 0 | K11: 2 | L11: 0 | M11: 2
C12: 1 | D12: 耕種農業 | E12: A011 | F12: 0 | G12: 0 | H12: 0 | I12: 0 | J12: 0 | K12: 0 | L12: 0 | M12: 0
B13: 農業，林業 | C13: 2 | D13: 畜産農業 | E13: A012 | F13: 0 | G13: 0 | H13: 0 | I13: 0 | J13: 0 | K13: 0 | L13: 0 | M13: 0
C14: 3 | D14: 林業 | E14: A02 | F14: 0 | G14: 0 | H14: 0 | I14: 0 | J14: 0 | K14: 0 | L14: 0 | M14: 0
C15: 4 | D15: 上記以外の農業，林業 | F15: 0 | G15: 0 | H15: 0 | I15: 0 | J15: 0 | K15: 0 | L15: 0 | M15: 0
D16: 漁業大分類 | E16: B | F16: 0 | G16: 2 | H16: 0 | I16: 2 | J16: 0 | K16: 2 | L16: 0 | M16: 2
B17: 漁 業 | C17: 5 | D17: 漁業 | E17: B03 | F17: 0 | G17: 0 | H17: 0 | I17: 0 | J17: 0 | K17: 0 | L17: 0 | M17: 0
C18: 6 | D18: 水産養殖業 | E18: B04 | F18: 0 | G18: 0 | H18: 0 | I18: 0 | J18: 0 | K18: 0 | L18: 0 | M18: 0
B19: 鉱 業 | C19: 7 | D19: 鉱業，採石業，砂利採取業 | E19: C | F19: 0 | G19: 2 | H19: 0 | I19: 2 | J19: 0 | K19: 2 | L19: 0 | M19: 2
B20: 建設業 | C20: 8 | D20: 建設業 | E20: D | F20: 13.41843 | G20: 2 | H20: 22 | I20: 2 | J20: 2803.002 | K20: 3 | L20: 40.13 | M20: 3
D21: 製造業大分類 | E21: E | F21: 227.15194 | G21: 0 | H21: 0 | I21: 0 | J21: 0 | K21: 0 | L21: 197.27942 | M21: 0
C22: 9 | D22: 食料品製造業 | E22: E09 | F22: 0.77 | G22: 2 | H22: 0 | I22: 2 | J22: 0 | K22: 2 | L22: 195.8534 | M22: 2
C23: 10 | D23: 飲料・たばこ・飼料製造業 | E23: E10 | F23: 0 | G23: 2 | H23: 0 | I23: 2 | J23: 0 | K23: 2 | L23: 0 | M23: 2
C24: 11 | D24: 繊維工業 | E24: E11 | F24: 0 | G24: 2 | H24: 0 | I24: 2 | J24: 0 | K24: 2 | L24: 0 | M24: 2
C25: 12 | D25: 木材・木製品製造業 | E25: E12 | F25: 0 | G25: 2 | H25: 0 | I25: 2 | J25: 0 | K25: 2 | L25: 0 | M25: 2
C26: 13 | D26: 家具・装備品製造業 | E26: E13 | F26: 0 | G26: 2 | H26: 0 | I26: 2 | J26: 0 | K26: 2 | L26: 0 | M26: 2
C27: 14 | D27: パルプ・紙・紙加工品製造業 | E27: E14 | F27: 225.4389 | G27: 2 | H27: 0 | I27: 2 | J27: 0 | K27: 2 | L27: 0 | M27: 2
C28: 15 | D28: 印刷・同関連業 | E28: E15 | F28: 0 | G28: 2 | H28: 0 | I28: 2 | J28: 0 | K28: 2 | L28: 0 | M28: 2
C29: 16 | D29: 化学工業 | E29: E16 | F29: 0.06392 | G29: 2 | H29: 0 | I29: 2 | J29: 0 | K29: 2 | L29: 0 | M29: 2
C30: 17 | D30: 石油製品・石炭製品製造業 | E30: E17 | F30: 0 | G30: 2 | H30: 0 | I30: 2 | J30: 0 | K30: 2 | L30: 0 | M30: 2
B31: 製造業 | C31: 18 | D31: プラスチック製品製造業 | E31: E18 | F31: 0.49 | G31: 2 | H31: 0 | I31: 2 | J31: 0 | K31: 2 | L31: 0 | M31: 2
C32: 19 | D32: ゴム製品製造業 | E32: E19 | F32: 0 | G32: 2 | H32: 0 | I32: 2 | J32: 0 | K32: 2 | L32: 1.12902 | M32: 2
C33: 20 | D33: なめし革・同製品・毛皮製造業 | E33: E20 | F33: 0 | G33: 2 | H33: 0 | I33: 2 | J33: 0 | K33: 2 | L33: 0 | M33: 2
C34: 21 | D34: 窯業・土石製品製造業 | E34: E21 | F34: 0.3601234 | G34: 2 | H34: 0 | I34: 2 | J34: 0 | K34: 2 | L34: 0.297 | M34: 2
C35: 22 | D35: 鉄鋼業 | E35: E22 | F35: 0 | G35: 2 | H35: 0 | I35: 2 | J35: 0 | K35: 2 | L35: 0 | M35: 2
C36: 23 | D36: 非鉄金属製造業 | E36: E23 | F36: 0 | G36: 2 | H36: 0 | I36: 2 | J36: 0 | K36: 2 | L36: 0 | M36: 2
C37: 24 | D37: 金属製品製造業 | E37: E24 | F37: 0 | G37: 2 | H37: 0 | I37: 2 | J37: 0 | K37: 2 | L37: 0 | M37: 2
C38: 25 | D38: はん用機械器具製造業 | E38: E25 | F38: 0 | G38: 2 | H38: 0 | I38: 2 | J38: 0 | K38: 2 | L38: 0 | M38: 2
C39: 26 | D39: 生産用機械器具製造業 | E39: E26 | F39: 0 | G39: 2 | H39: 0 | I39: 2 | J39: 0 | K39: 2 | L39: 0 | M39: 2
C40: 27 | D40: 業務用機械器具製造業 | E40: E27 | F40: 0 | G40: 2 | H40: 0 | I40: 2 | J40: 0 | K40: 2 | L40: 0 | M40: 2
C41: 28 | D41: 電子部品・デバイス・電子回路製造業 | E41: E28 | F41: 0 | G41: 2 | H41: 0 | I41: 2 | J41: 0 | K41: 2 | L41: 0 | M41: 2
C42: 29 | D42: 電気機械器具製造業 | E42: E29 | F42: 0.029 | G42: 2 | H42: 0 | I42: 2 | J42: 0 | K42: 2 | L42: 0 | M42: 2
C43: 30 | D43: 情報通信機械器具製造業 | E43: E30 | F43: 0 | G43: 2 | H43: 0 | I43: 2 | J43: 0 | K43: 2 | L43: 0 | M43: 2
... C45: 32 | D45: その他の製造業 | E45: E32 | F45: 0 | G45: 2 | H45: 0 | I45: 2 | J45: 0 | K45: 2 | L45: 0 | M45: 2
D46: 電気・ガス・熱供給・水道業大分類 | E46: F | F46: 0 | G46: 2 | H46: 0 | I46: 2 | J46: 0 | K46: 2 | L46: 0.262 | M46: 2
B47: 電気･ガス | C47: 33 | D47: 電気業 | E47: F33 | F47: 0 | G47: 0 | H47: 0 | I47: 0 | J47: 0 | K47: 0 | L47: 0 | M47: 0
B48: ･熱供給･ | C48: 34 | D48: ガス業 | E48: F34 | F48: 0 | G48: 0 | H48: 0 | I48: 0 | J48: 0 | K48: 0 | L48: 0 | M48: 0
B49: 水道業 | C49: 35 | D49: 熱供給業 | E49: F35 | F49: 0 | G49: 0 | H49: 0 | I49: 0 | J49: 0 | K49: 0 | L49: 0 | M49: 0
C50: 36 | D50: 上水道業 | E50: F361 | F50: 0 | G50: 0 | H50: 0 | I50: 0 | J50: 0 | K50: 0 | L50: 0 | M50: 0
C51: 37 | D51: 下水道業 | E51: F363 | F51: 0 | G51: 0 | H51: 0 | I51: 0 | J51: 0 | K51: 0 | L51: 0 | M51: 0
D52: 情報通信業大分類 | E52: G | F52: 0 | G52: 2 | H52: 0 | I52: 2 | J52: 0 | K52: 2 | L52: 0 | M52: 2
C53: 38 | D53: 通信業 | E53: G37 | F53: 0 | G53: 0 | H53: 0 | I53: 0 | J53: 0 | K53: 0 | L53: 0 | M53: 0
B54: 情報通信業 | C54: 39 | D54: 放送業 | E54: G38 | F54: 0 | G54: 0 | H54: 0 | I54: 0 | J54: 0 | K54: 0 | L54: 0 | M54: 0
C55: 40 | D55: 情報サービス業 | E55: G39 | F55: 0 | G55: 0 | H55: 0 | I55: 0 | J55: 0 | K55: 0 | L55: 0 | M55: 0
C56: 41 | D56: インターネット付随サービス業 | E56: G40 | F56: 0 | G56: 0 | H56: 0 | I56: 0 | J56: 0 | K56: 0 | L56: 0 | M56: 0
C57: 42 | D57: 映像・音声・文字情報制作業 | E57: G41 | F57: 0 | G57: 0 | H57: 0 | I57: 0 | J57: 0 | K57: 0 | L57: 0 | M57: 0
D58: 運輸業，郵便業大分類 | E58: H | F58: 0.24 | G58: 2 | H58: 0 | I58: 2 | J58: 0 | K58: 2 | L58: 0 | M58: 2
B59: 運輸業， | C59: 43 | D59: 鉄道業 | E59: H42 | F59: 0 | G59: 0 | H59: 0 | I59: 0 | J59: 0 | K59: 0 | L59: 0 | M59: 0
B60: 郵便業 | C60: 44 | D60: 道路旅客運送業 | E60: H43 | F60: 0 | G60: 0 | H60: 0 | I60: 0 | J60: 0 | K60: 0 | L60: 0 | M60: 0
C61: 45 | D61: 道路貨物運送業 | E61: H44 | F61: 0 | G61: 0 | H61: 0 | I61: 0 | J61: 0 | K61: 0 | L61: 0 | M61: 0
C62: 46 | D62: 上記以外の運輸業，郵便業 | F62: 0 | G62: 0 | H62: 0 | I62: 0 | J62: 0 | K62: 0 | L62: 0 | M62: 0
D63: 卸売業，小売業大分類 | E63: I | F63: 0.09177 | G63: 2 | H63: 0 | I63: 2 | J63: 0 | K63: 2 | L63: 0 | M63: 2
C64: 47 | D64: 各種商品卸売業 | E64: I50 | F64: 0 | G64: 0 | H64: 0 | I64: 0 | J64: 0 | K64: 0 | L64: 0 | M64: 0
C65: 48 | D65: 木材・竹材卸売業 | E65: I5311 | F65: 0 | G65: 0 | H65: 0 | I65: 0 | J65: 0 | K65: 0 | L65: 0 | M65: 0
C66: 49 | D66: 各種商品小売業 | E66: I56 | F66: 0 | G66: 0 | H66: 0 | I66: 0 | J66: 0 | K66: 0 | L66: 0 | M66: 0
B67: 卸売業， | C67: 50 | D67: 自動車小売業 | E67: I591 | F67: 0 | G67: 0 | H67: 0 | I67: 0 | J67: 0 | K67: 0 | L67: 0 | M67: 0
B68: 小売業 | C68: 51 | D68: 機械器具小売業 | E68: I593 | F68: 0 | G68: 0 | H68: 0 | I68: 0 | J68: 0 | K68: 0 | L68: 0 | M68: 0
C69: 52 | D69: 家具・建具・畳小売業 | E69: I601 | F69: 0 | G69: 0 | H69: 0 | I69: 0 | J69: 0 | K69: 0 | L69: 0 | M69: 0
C70: 53 | D70: じゅう器小売業 | E70: I602 | F70: 0 | G70: 0 | H70: 0 | I70: 0 | J70: 0 | K70: 0 | L70: 0 | M70: 0
C71: 54 | D71: 燃料小売業 | E71: I605 | F71: 0 | G71: 0 | H71: 0 | I71: 0 | J71: 0 | K71: 0 | L71: 0 | M71: 0
C72: 55 | D72: 上記以外の卸売業，小売業 | F72: 0 | G72: 0 | H72: 0 | I72: 0 | J72: 0 | K72: 0 | L72: 0 | M72: 0
B73: 不動産業， | D73: 不動産業，物品賃貸業大分類 | E73: K | F73: 0 | G73: 2 | H73: 0 | I73: 2 | J73: 0 | K73: 2 | L73: 0 | M73: 2
B74: 物品賃貸業 | C74: 56 | D74: 物品賃貸業 | E74: K70 | F74: 0 | G74: 0 | H74: 0 | I74: 0 | J74: 0 | K74: 0 | L74: 0 | M74: 0
B75: 学術研究，専門 | D75: 学術研究，専門・技術サービス業大分類 | E75: L | F75: 0 | G75: 2 | H75: 0 | I75: 2 | J75: 0 | K75: 2 | L75: 4 | M75: 2
B76: ・技術サービス業 | C76: 57 | D76: 学術・開発研究機関 | E76: L71 | F76: 0 | G76: 0 | H76: 0 | I76: 0 | J76: 0 | K76: 0 | L76: 0 | M76: 0
C77: 58 | D77: 写真業 | E77: L746 | F77: 0 | G77: 0 | H77: 0 | I77: 0 | J77: 0 | K77: 0 | L77: 0 | M77: 0
B78: 宿泊業，飲食 | D78: 宿泊業，飲食サービス業大分類 | E78: M | F78: 0 | G78: 2 | H78: 0 | I78: 2 | J78: 0 | K78: 2 | L78: 27 | M78: 2
B79: サービス業 | C79: 59 | D79: 飲食店 | E79: M76 | F79: 0 | G79: 0 | H79: 0 | I79: 0 | J79: 0 | K79: 0 | L79: 0 | M79: 0
C80: 60 | D80: 上記以外の宿泊業，飲食サービス業 | F80: 0 | G80: 0 | H80: 0 | I80: 0 | J80: 0 | K80: 0 | L80: 0 | M80: 0
B81: 生活関連サー | D81: 生活関連サービス業，娯楽業大分類 | E81: N | F81: 0 | G81: 2 | H81: 0 | I81: 2 | J81: 0 | K81: 2 | L81: 0 | M81: 2
B82: ビス業，娯楽業 | C82: 61 | D82: 洗濯業 | E82: N781 | F82: 0 | G82: 0 | H82: 0 | I82: 0 | J82: 0 | K82: 0 | L82: 0 | M82: 0
B83: 教育，学習支援業 | C83: 62 | D83: 教育，学習支援業 | E83: O | F83: 0 | G83: 1 | H83: 0 | I83: 1 | J83: 0 | K83: 1 | L83: 0 | M83: 1
D84: 医療，福祉大分類 | E84: P | F84: 0 | G84: 2 | H84: 0.346075 | I84: 2 | J84: 6 | K84: 2 | L84: 0.102 | M84: 2
B85: 医療，福祉 | C85: 63 | D85: 医療業 | E85: P83 | F85: 0 | G85: 0 | H85: 0 | I85: 0 | J85: 0 | K85: 0 | L85: 0 | M85: 0
C86: 64 | D86: 上記以外の医療，福祉 | F86: 0 | G86: 0 | H86: 0 | I86: 0 | J86: 0 | K86: 0 | L86: 0 | M86: 0
B87: 教育、学習支援業 | C87: 65 | D87: 複合サービス事業 | E87: Q | F87: 0 | G87: 2 | H87: 0 | I87: 2 | J87: 18 | K87: 2 | L87: 6 | M87: 2
D88: サービス業大分類 | E88: R | F88: 8.6658 | G88: 2 | H88: 0 | I88: 2 | J88: 0 | K88: 2 | L88: 0 | M88: 2
B89: サービス業 | C89: 66 | D89: 自動車整備業 | E89: R891 | F89: 0 | G89: 0 | H89: 0 | I89: 0 | J89: 0 | K89: 0 | L89: 0 | M89: 0
C90: 67 | D90: と畜場 | E90: R952 | F90: 0 | G90: 0 | H90: 0 | I90: 0 | J90: 0 | K90: 0 | L90: 0 | M90: 0
C91: 68 | D91: 上記以外のサービス業 | F91: 0 | G91: 0 | H91: 0 | I91: 0 | J91: 0 | K91: 0 | L91: 0 | M91: 0
B92: 公務 | C92: 69 | D92: 公務 | E92: Ｓ | F92: 0 | G92: 2 | H92: 0 | I92: 2 | J92: 0 | K92: 2 | L92: 0 | M92: 2
D93: 合計 | F93: =SUM(F11,F16,F19:F21,F46,F52,F58,F63,F73,F75,F78,F81,F83:F84,F87:F88,F92) -> 249.56794 | G93: 0 | H93: =SUM(H11,H16,H19:H21,H46,H52,H58,H63,H73,H75,H78,H81,H83:H84,H87:H88,H92) -> 22.346075 | I93: 0 | J93: =SUM(J11,J16,J19:J21,J46,J52,J58,J63,J73,J75,J78,J81,J83:J84,J87:J88,J92) -> 2827.002 | K93: 0 | L93: =SUM(L11,L16,L19:L21,L46,L52,L58,L63,L73,L75,L78,L81,L83:L84,L87:L88,L92) -> 274.77342 | M93: 0
G94: =G93/1000 -> 0 | K94: =K93/1000 -> 0
B96: ②水銀使用製品廃棄物（一括） | O96: ③水銀含有ばいじん等
G98: （単位：ｔ/年） | AO98: （単位：ｔ/年）
B99: 大分類 | C99: 番 | D99: 産業分類 | E99: コード | F99: 水銀使用製品廃棄物 | G99: データの個数 | O99: 大分類 | P99: 産業分類 | Q99: コード | R99: 燃え殻 | V99: 汚 泥 | Z99: 廃 酸 | AD99: 廃アルカリ | AH99: 鉱さい | AL99: ばいじん
C100: 号 | S100: うち水銀含有 | T100: データの個数 | U100: 比率 | W100: うち水銀含有 | X100: データの個数 | Y100: 比率 | AA100: うち水銀含有 | AB100: データの個数 | AC100: 比率 | AE100: うち水銀含有 | AF100: データの個数 | AG100: 比率 | AI100: うち水銀含有 | AJ100: データの個数 | AK100: 比率 | AM100: うち水銀含有 | AN100: データの個数 | AO100: 比率
D101: 農業，林業大分類 | E101: A | F101: 5.25 | G101: 6 | P101: 農業，林業大分類 | Q101: A | R101: 0 | S101: 0 | T101: 2 | V101: 22564 | W101: 0 | X101: 2 | Y101: 0 | Z101: 0 | AA101: 0 | AB101: 2 | AD101: 0 | AE101: 0 | AF101: 2 | AH101: 0 | AI101: 0 | AJ101: 2 | AL101: 0 | AM101: 0 | AN101: 2
C102: 1 | D102: 耕種農業 | E102: A011 | F102: 0 | G102: 0 | P102: 耕種農業 | Q102: A011 | R102: 0 | S102: 0 | T102: 0 | V102: 0 | W102: 0 | X102: 0 | Z102: 0 | AA102: 0 | AB102: 0 | AD102: 0 | AE102: 0 | AF102: 0 | AH102: 0 | AI102: 0 | AJ102: 0 | AL102: 0 | AM102: 0 | AN102: 0
B103: 農業，林業 | C103: 2 | D103: 畜産農業 | E103: A012 | F103: 0 | G103: 0 | O103: 農業，林業 | P103: 畜産農業 | Q103: A012 | R103: 0 | S103: 0 | T103: 0 | V103: 0 | W103: 0 | X103: 0 | Z103: 0 | AA103: 0 | AB103: 0 | AD103: 0 | AE103: 0 | AF103: 0 | AH103: 0 | AI103: 0 | AJ103: 0 | AL103: 0 | AM103: 0 | AN103: 0
C104: 3 | D104: 林業 | E104: A02 | F104: 0 | G104: 0 | P104: 林業 | Q104: A02 | R104: 0 | S104: 0 | T104: 0 | V104: 0 | W104: 0 | X104: 0 | Z104: 0 | AA104: 0 | AB104: 0 | AD104: 0 | AE104: 0 | AF104: 0 | AH104: 0 | AI104: 0 | AJ104: 0 | AL104: 0 | AM104: 0 | AN104: 0
C105: 4 | D105: 上記以外の農業，林業 | F105: 0 | G105: 0 | P105: 上記以外の農業，林業 | R105: 0 | S105: 0 | T105: 0 | V105: 0 | W105: 0 | X105: 0 | Z105: 0 | AA105: 0 | AB105: 0 | AD105: 0 | AE105: 0 | AF105: 0 | AH105: 0 | AI105: 0 | AJ105: 0 | AL105: 0 | AM105: 0 | AN105: 0
D106: 漁業大分類 | E106: B | F106: 0 | G106: 6 | P106: 漁業大分類 | Q106: B | R106: 0 | S106: 0 | T106: 2 | V106: 0 | W106: 0 | X106: 2 | Z106: 0 | AA106: 0 | AB106: 2 | AD106: 0 | AE106: 0 | AF106: 2 | AH106: 0 | AI106: 0 | AJ106: 2 | AL106: 0 | AM106: 0 | AN106: 2
B107: 漁 業 | C107: 5 | D107: 漁業 | E107: B03 | F107: 0 | G107: 0 | O107: 漁 業 | P107: 漁業 | Q107: B03 | R107: 0 | S107: 0 | T107: 0 | V107: 0 | W107: 0 | X107: 0 | Z107: 0 | AA107: 0 | AB107: 0 | AD107: 0 | AE107: 0 | AF107: 0 | AH107: 0 | AI107: 0 | AJ107: 0 | AL107: 0 | AM107: 0 | AN107: 0
C108: 6 | D108: 水産養殖業 | E108: B04 | F108: 0 | G108: 0 | P108: 水産養殖業 | Q108: B04 | R108: 0 | S108: 0 | T108: 0 | V108: 0 | W108: 0 | X108: 0 | Z108: 0 | AA108: 0 | AB108: 0 | AD108: 0 | AE108: 0 | AF108: 0 | AH108: 0 | AI108: 0 | AJ108: 0 | AL108: 0 | AM108: 0 | AN108: 0
...

Sheet 旧分類　赤字要確認
B1: 表－資・Ⅱ・１（１） 活動量指標全国合計値
B2: （旧産業分類（平成14年3月改訂版）の業種区分）
B3: 大分類 | C3: 番 号 | D3: 産業分類 | E3: コード | F3: 単位 | G3: 平成15年度 | H3: 平成16年度 | I3: 平成20年度 | J3: 平成21年度 | K3: 平成22年度 | L3: 平成23年度 | M3: 平成24年度 | N3: 平成25年度 | O3: 平成26年度
B4: 農 業 | D4: 農業大分類 | E4: A
C5: 1 | D5: 耕種農業 | E5: A011 | F5: a | G5: 4366996.2 | H5: 4621577 | I5: 4421759 | J5: 4196993.2 | K5: 4359500 | L5: 3886123.6 | M5: 3763590.4 | N5: 3641057.2 | O5: 3518524
C6: 2 | D6: 畜産農業 | E6: A012 | I6: 299671570 | J6: 298904940 | K6: 2.965242e+08 | L6: 317512092 | M6: 317612980 | N6: 324052000 | O6: 3.2389132e+08
C7: 3 | D7: 上記以外の農業
B8: 林 業 | C8: 4 | D8: 林業大分類 | E8: B | F8: 人 | G8: 25999.6 | H8: 23252.4 | I8: 23974.6 | J8: 49615 | K8: 67404.667 | L8: 43403 | M8: 43431.333 | N8: 43459.667 | O8: 43488
B9: 漁 業 | D9: 漁業大分類 | E9: C
C10: 5 | D10: 漁 業 | E10: C03 | F10: 人 | G10: 25693.6 | H10: 23930.2 | I10: 21901.6 | J10: 30194 | K10: 31955.333 | L10: 26533 | M10: 26074.333 | N10: 25615.667 | O10: 25157
C11: 6 | D11: 水産養殖業 | E11: C04 | F11: 人 | G11: 15033.6 | H11: 14336.4 | I11: 12327.6 | J11: 18153 | K11: 19544.333 | L11: 15544 | M11: 15432.667 | N11: 15321.333 | O11: 15210
B12: 鉱 業 | C12: 7 | D12: 鉱業 | E12: D | F12: 人 | G12: 40234.6 | H12: 37128.2 | I12: 28091 | J12: 30710 | K12: 30009.082 | L12: 21427 | M12: 20916 | N12: 20405 | O12: 19894
B13: 建設業 | C13: 8 | D13: 建設業 | E13: E | F13: 百万円 | G13: 57459742 | H13: 56181868 | I13: 51812976 | J13: 45476653 | K13: 46996633 | L13: 46524166 | M13: 47086029 | N13: 52274182 | O13: 54925604
B14: 製造業 | D14: 製造業大分類 | E14: F
C15: 9 | D15: 食料品製造業 | E15: F9 | F15: 百万円 | G15: 22761510 | H15: 22799037 | I15: 24941562 | J15: 24578723 | K15: 24114367 | L15: 23699901 | M15: 24301989 | N15: 24948095 | O15: 25936077
C16: 10 | D16: 飲料・たばこ・飼料製造業 | E16: F10 | F16: 百万円 | G16: 10306228 | H16: 10639675 | I16: 9911530.8 | J16: 10058553 | K16: 9613347.7 | L16: 9250528.6 | M16: 9615436.9 | N16: 9500444 | O16: 9596768.3
C17: 11 | D17: 繊維工業 | E17: F11 | F17: 百万円 | G17: 2393522 | H17: 2320584 | I17: 4687733.4 | J17: 4022247 | K17: 3789827.9 | L17: 3480961.2 | M17: 3922821.4 | N17: 3767912.7 | O17: 3822303.8
C18: 12 | D18: 衣服・その他の繊維製品製造業 | E18: F12 | F18: 百万円 | G18: 2443124 | H18: 2250023
C19: 13 | D19: 木材・木製品製造業 | E19: F13 | F19: 百万円 | G19: 2613632 | H19: 2595927 | I19: 2564790.9 | J19: 2167854 | K19: 2134100.8 | L19: 1974972.9 | M19: 2223302.9 | N19: 2436380.4 | O19: 2520040.5
C20: 14 | D20: 家具・装備品製造業 | E20: F14 | F20: 百万円 | G20: 2246607 | H20: 2171701 | I20: 2041129.7 | J20: 1758929 | K20: 1575389.5 | L20: 1418718.2 | M20: 1730851 | N20: 1819000.6 | O20: 1915042
C21: 15 | D21: パルプ・紙・紙加工品製造業 | E21: F15 | F21: 百万円 | G21: 7088673 | H21: 7202123 | I21: 7794835.9 | J21: 7103012 | K21: 7110758.5 | L21: 6508756.6 | M21: 6814766.4 | N21: 6741136.3 | O21: 6974352.6
C22: 16 | D22: 印刷・同関連業 | E22: F16 | F22: 百万円 | G22: 7227561 | H22: 7037226 | I22: 6737841.7 | J22: 6320513 | K22: 6044642.4 | L22: 5196920.1 | M22: 5481652.4 | N22: 5420685.8 | O22: 5415918.2
C23: 17 | D23: 化学工業 | E23: F17 | F23: 百万円 | G23: 23327084 | H23: 24149281 | I23: 28130703 | J23: 24311153 | K23: 26212040 | L23: 25364097 | M23: 26045603 | N23: 27409230 | O23: 28124954
C24: 18 | D24: 石油製品・石炭製品製造業 | E24: F18 | F24: 百万円 | G24: 9917028 | H24: 10475421 | I24: 14005700 | J24: 10506512 | K24: 14979921 | L24: 17129504 | M24: 17172068 | N24: 17781869 | O24: 18648512
C25: 19 | D25: プラスチック製品製造業 | E25: F19 | F25: 百万円 | G25: 10079129 | H25: 10637895 | I25: 12073507 | J25: 10134367 | K25: 10902553 | L25: 10376376 | M25: 11106061 | N25: 11237336 | O25: 11532576
C26: 20 | D26: ゴム製品製造業 | E26: F20 | F26: 百万円 | G26: 2898194 | H26: 2981988 | I26: 3495352.3 | J26: 2667486.5 | K26: 3034826.8 | L26: 2834689.2 | M26: 3177734.3 | N26: 3118877.6 | O26: 3212641.9
C27: 21 | D27: なめし革・同製品・毛皮製造業 | E27: F21 | F27: 百万円 | G27: 515561 | H27: 501111 | I27: 476461.55 | J27: 413852 | K27: 374779.28 | L27: 315029.98 | M27: 344068.14 | N27: 342263.56 | O27: 355024.28
C28: 22 | D28: 窯業・土石製品製造業 | E28: F22 | F28: 百万円 | G28: 7414685 | H28: 7446476 | I28: 8174730.8 | J28: 6848525 | K28: 7101297.5 | L28: 6707257.4 | M28: 6831066.1 | N28: 7056283.9 | O28: 7332194.1
C29: 23 | D29: 鉄鋼業 | E29: F23 | F29: 百万円 | G29: 11902991 | H29: 14141321 | I29: 24332178 | J29: 16019441 | K29: 18146293 | L29: 19243578 | M29: 18012099 | N29: 17905277 | O29: 19202162
C30: 24 | D30: 非鉄金属製造業 | E30: F24 | F30: 百万円 | G30: 5632129 | H30: 6193145 | I30: 10477736 | J30: 6957920 | K30: 8896006.5 | L30: 8204706.8 | M30: 8969612.5 | N30: 8847818.1 | O30: 9502051.1
C31: 25 | D31: 金属製品製造業 | E31: F25 | F31: 百万円 | G31: 13242960 | H31: 13455012 | I31: 15149270 | J31: 12700920 | K31: 12292040 | L31: 11709254 | M31: 12860722 | N31: 13060603 | O31: 13932776
C32: 26 | D32: 一般機械器具製造業 | E32: F26 | F32: 百万円 | G32: 26068300 | H32: 29079931 | I32: 汎用、生産、業務 | J32: 汎用、生産、業務 | K32: 汎用、生産、業務 | L32: 汎用、生産、業務 | M32: 汎用、生産、業務 | N32: 汎用、生産、業務 | O32: 汎用、生産、業務
C33: 27 | D33: 電気機械器具製造業 | E33: F27 | F33: 百万円 | G33: 17890208 | H33: 18328485 | I33: 40247738 | J33: 29197828 | K33: 30618645 | L33: 30607952 | M33: 33081622 | N33: 32091086 | O33: 33727290
C34: 28 | D34: 情報通信機械器具製造業 | E34: F28 | F34: 百万円 | G34: 12711987 | H34: 12871263 | I34: 電子、電気、情報 | J34: 電子、電気、情報 | K34: 電子、電気、情報 | L34: 汎用、生産、業務 | M34: 汎用、生産、業務 | N34: 汎用、生産、業務 | O34: 汎用、生産、業務
C35: 29 | D35: 電子部品・デバイス製造業 | E35: F29 | F35: 百万円 | G35: 17411528 | H35: 18657245 | I35: 51873505 | J35: 40137981 | K35: 44345998 | L35: 37928093 | M35: 36797797 | N35: 36681965 | O35: 39392819
C36: 30 | D36: 輸送用機械器具製造業 | E36: F30 | F36: 百万円 | G36: 49886937 | H36: 50699532 | I36: 63766639 | J36: 47238029 | K36: 54213562 | L36: 54032593 | M36: 56485808 | N36: 58203152 | O36: 60063334
C37: 31 | D37: 精密機械器具製造業 | E37: F31 | F37: 百万円 | G37: 3587538 | H37: 3975911
C38: 32 | D38: その他の製造業 | E38: F32 | F38: 百万円 | G38: 4167338 | H38: 3859936 | I38: 4695880.4 | J38: 3933093 | K38: 3607287 | L38: 3721150.9 | M38: 3752559.2 | N38: 3722713.3 | O38: 3933151.1
B39: 電気･ガス | D39: 電気・ガス・熱供給・水道業大分類 | E39: G
B40: ･熱供給･ | C40: 33 | D40: 電気業 | E40: G33 | F40: 人 | G40: 152717.4 | H40: 150517.6 | I40: 127256.4 | J40: 148753 | K40: 153057.72 | L40: 142113 | M40: 140910.67 | N40: 139708.33 | O40: 138506
B41: 水道業 | C41: 34 | D41: ガス業 | E41: G34 | F41: 人 | G41: 43448 | H41: 42806 | I41: 30897.2 | J41: 37598 | K41: 38605.107 | L41: 35588 | M41: 34948.333 | N41: 34308.667 | O41: 33669
C42: 35 | D42: 熱供給業 | E42: G35 | F42: 人 | G42: 1921.4 | H42: 1947.2 | I42: 2738.8 | J42: 2613 | K42: 2580.5914 | L42: 2011 | M42: 1994.3333 | N42: 1977.6667 | O42: 1961
C43: 36 | D43: 上水道業 | E43: G361 | F43: 人 | G43: 123752978 | H43: 124007589 | I43: 124743531 | J43: 124796337 | K43: 124817005 | L43: 124657159 | M43: 124465601 | N43: 124369524 | O43: 124266130
C44: 37 | D44: 下水道業 | E44: G363 | F44: 人 | G44: 84446173 | H44: 86323574 | I44: 92411000 | J44: 93599000 | K44: 94512000 | L44: 95235000 | M44: 97434000 | N44: 98123000 | O44: 98737000
B45: 情報通信業 | D45: 情報通信業大分類 | E45: H
C46: 38 | D46: 通信業 | E46: H37 | F46: 人 | G46: 313689.6 | H46: 321522.4 | I46: 235508.4 | J46: 192861 | K46: 182904.39 | L46: 196034 | M46: 182143.67 | N46: 168253.33 | O46: 154363
C47: 39 | D47: 放送業 | E47: H38 | F47: 人 | G47: 66500.4 | H47: 66031.6 | I47: 64432.2 | J47: 72194 | K47: 74497.188 | L47: 68217 | M47: 68102 | N47: 67987 | O47: 67872
C48: 40 | D48: 情報サービス業 | E48: H39 | F48: 人 | G48: 921406.6 | H48: 963436.4 | I48: 1011539.2 | J48: 1108899 | K48: 1157929 | L48: 1044779 | M48: 1054646.3 | N48: 1064513.7 | O48: 1074381
C49: 41 | D49: インターネット付随サービス業 | E49: H40 | F49: 人 | G49: 9662.2 | H49: 10386.8 | I49: 62519.4 | J49: 64936 | K49: 70953.328 | L49: 54161 | M49: 63805 | N49: 73449 | O49: 83093
C50: 42 | D50: 映像・音声・文字情報制作業 | E50: H41 | F50: 人 | G50: 254027.2 | H50: 253584.8 | I50: 269302.6 | J50: 286088 | K50: 293051.76 | L50: 248970 | M50: 249636.67 | N50: 250303.33 | O50: 250970
B51: 運輸業 | D51: 運輸業大分類 | E51: I
C52: 43 | D52: 鉄道業 | E52: I42 | F52: 人 | G52: 221048.4 | H52: 212988.6 | I52: 201881 | J52: 275173 | K52: 296386.38 | L52: 261271 | M52: 252521 | N52: 243771 | O52: 235021
C53: 44 | D53: 道路旅客運送業 | E53: I43 | F53: 人 | G53: 596105 | H53: 589044 | I53: 590039 | J53: 621855 | K53: 630535.61 | L53: 563476 | M53: 558032.33 | N53: 552588.67 | O53: 547145
C54: 45 | D54: 道路貨物運送業 | E54: I44 | F54: 人 | G54: 1550155.6 | H54: 1554998.4 | I54: 1526495.2 | J54: 1793269 | K54: 1880854.9 | L54: 1532188 | M54: 1592830.7 | N54: 1653473.3 | O54: 1714116
C55: 46 | D55: 上記以外の運輸通信業 | F55: 人 | I55: 571344 | J55: 921305 | K55: 1036303.7 | L55: 925355 | M55: 867570.67 | N55: 809786.33 | O55: 752002
B56: 卸売・小売業 | D56: 卸売・小売業大分類 | E56: J
C57: 47 | D57: 各種商品卸売業 | E57: J49 | F57: 人 | G57: 36755.2 | H57: 32866 | I57: 37537.6 | J57: 37936 | K57: 40915.658 | L57: 41092 | M57: 39718.333 | N57: 38344.667 | O57: 36971
C58: 48 | D58: 各種商品小売業 | E58: J55 | F58: 人 | G58: 728564.6 | H58: 730130.4 | I58: 587822.8 | J58: 640122 | K58: 647042.34 | L58: 375764 | M58: 388766 | N58: 401768 | O58: 414770
C59: 49 | D59: 自動車小売業 | E59: J571 | F59: 人 | G59: 654787.8 | H59: 654717.2 | I59: 581489.2 | J59: 636711 | K59: 648121.38 | L59: 538840 | M59: 551472.67 | N59: 564105.33 | O59: 576738
C60: 50 | D60: 家具・じゅう器・機械器具小売業 | E60: J59 | F60: 人 | G60: 574996.4 | H60: 559914.6 | I60: =[3]H20活動指標!$BB66+[3]H20活動指標!AY67+[3]H20活動指標!AY65 -> 288722 | J60: =[3]H21活動指標!$BB66+[3]H21活動指標!AZ67+[3]H21活動指標!AZ65 -> 127616 | K60: =[3]H22活動指標!$BB66+[3]H22活動指標!BA67+[3]H22活動指標!BA65 -> 125161.94 | L60: =[3]H23活動指標!$BB66+[3]H23活動指標!BB67+[3]H23活動指標!BB65 -> 503404 | M60: =[3]H24活動指標!BB66+[3]H24活動指標!BB67+[3]H24活動指標!BB65 -> 466135.67 | N60: =[3]H25活動指標!$BB66+[3]H25活動指標!BD67+[3]H25活動指標!BD65 -> 81611 | O60: =[3]H25活動指標!$BB66+[3]H25活動指標!BE67+[3]H25活動指標!BE65 -> 81507
C61: 51 | D61: 燃料小売業 | E61: J603 | F61: 人 | G61: 469067 | H61: 456760 | I61: 374342.2 | J61: 394418 | K61: 389742.39 | L61: 339246 | M61: 338207 | N61: 337168 | O61: 336129
C62: 52 | D62: 上記以外の卸売・小売業・飲食店小売業 | F62: 人 | J62: 10377323 | K62: 10448332 | L62: 9908889 | M62: 9986846.8 | N62: 10064805 | O62: 10142763
B63: 飲食店、宿泊業 | D63: 飲食店、宿泊業大分類 | E63: M
C64: 53 | D64: 一般飲食店 | E64: M70 | F64: 人 | G64: 3004797.8 | H64: 3042321.2 | I64: 2847172 | J64: 3876846 | K64: 4939103.9 | L64: 4201947 | M64: 4211591.7 | N64: 4221236.3 | O64: 4230881
C65: 54 | D65: 上記以外の飲食店、宿泊業 | F65: 人 | I65: 1931850 | J65: 1315040 | K65: 1085155.5 | L65: 1218885 | M65: 1232153.3 | N65: 1245421.7 | O65: 1258690
B66: 医療、福祉 | D66: 医療、福祉大分類 | E66: N
C67: 55 | D67: 医療業 | E67: N73 | F67: 床 | G67: 1820035 | H67: 1812554 | I67: 1751842 | J67: 1743293 | K67: 1730215 | L67: 1712439 | M67: 1712439 | N67: 1695114 | O67: 1680625
C68: 56 | D68: 上記以外の医療、福祉 | F68: 人 | I68: 2640008.8 | J68: 2876829 | K68: 3062060 | L68: 2766541 | M68: 2987603.7 | N68: 3208666.3 | O68: 3429729
B69: 教育、学習支援業 | C69: 57 | D69: 教育、学習支援業大分類 | E69: O | F69: 人 | G69: 2827057 | H69: 2834116 | I69: 2990446.4 | J69: 3086902 | K69: 3135750.1 | L69: 2993051.2 | M69: 2992400 | N69: 3004440 | O69: 3016680
B70: 複合サービス事業 | C70: 58 | D70: 複合サービス事業大分類 | E70: P | F70: 人 | G70: 736523.6 | H70: 728107.4 | I70: 687875.2 | J70: 406970 | K70: 369603.55 | L70: 342426 | M70: 401191.33 | N70: 459956.67 | O70: 518722
B71: サービス業 | D71: サービス業大分類 | E71: Q
C72: 59 | D72: 写真業 | E72: Q808 | F72: 人 | G72: 133955 | H72: 133936 | I72: 49196.6 | J72: 53803 | K72: 53720.858 | L72: 48716 | M72: 49360 | N72: 50004 | O72: 50648
C73: 60 | D73: 学術開発研究機関 | E73: Q81 | F73: 人 | G73: 291483.8 | H73: 295290.2 | I73: 272537.8 | J73: 303752 | K73: 312190.91 | L73: 252841 | M73: 255080 | N73: 257319 | O73: 259558
C74: 61 | D74: 洗濯業 | E74: Q821 | F74: 人 | G74: 390056.2 | H74: 385912.8 | I74: 355242 | J74: 385042 | K74: 390823.12 | L74: 365401 | M74: 352087.67 | N74: 338774.33 | O74: 325461
C75: 62 | D75: 自動車整備業 | E75: Q86 | F75: 人 | G75: 304507.6 | H75: 298207.4 | I75: 311291.2 | J75: 271619 | K75: 258637.39 | L75: 279646 | M75: 274408 | N75: 269170 | O75: 263932
C76: 63 | D76: と蓄場 | E76: Q932 | F76: 人 | G76: 2849 | H76: 2838 | I76: 3081 | J76: 4052 | K76: 4311.5134 | L76: 2477 | M76: 2361.3333 | N76: 2245.6667 | O76: 2130
F77: （頭） | G77: 1209571 | H77: 1265822 | I77: 1237578 | J77: 1227764 | K77: 1218663 | L77: 1174221 | M77: 1199510 | N77: 1184999 | O77: 1156602
C78: 64 | D78: 上記以外のサービス業 | F78: 人 | I78: 7915329.4 | J78: 4290390.7 | K78: 4421416.5 | L78: 4239632 | M78: 4292511 | N78: 4345390 | O78: 4398269
B79: 公 務 | C79: 65 | D79: 公務大分類 | E79: R | F79: 人 | G79: 1888211.4 | H79: 1893670.6 | I79: 1842038.2 | J79: 1868690 | K79: 1874179.3 | L79: 2203870.5 | M79: 2187800 | N79: 2187940 | O79: 2188480

Sheet 表Ⅵ・２
B1: 表―Ⅵ・２ 水銀使用産業廃棄物の排出量の集計結果（令和３年度実績値）
B3: 大分類 | C3: 番 | D3: 産業分類 | E3: コード | F3: 水銀使用製品廃棄物 由来の汚泥 （ｔ/年） | G3: データの個数 (件) | H3: 水銀使用製品廃棄物 由来の廃プラスチック類 （ｔ/年） | I3: データの個数 (件) | J3: 水銀使用製品廃棄物 由来の金属くず （ｔ/年） | K3: データの個数 (件) | L3: 水銀使用製品廃棄物 由来のガラスくず （ｔ/年） | M3: データの個数 (件)
C4: 号
D5: 農業，林業大分類 | E5: A | F5: 0 | G5: 0 | H5: 0 | I5: 0 | J5: 0 | K5: 0 | L5: 0 | M5: 0
C6: 1 | D6: 耕種農業 | E6: A011 | F6: 0 | G6: 0 | H6: 0 | I6: 0 | J6: 0 | K6: 0 | L6: 0 | M6: 0
B7: 農業，林業 | C7: 2 | D7: 畜産農業 | E7: A012 | F7: 0 | G7: 0 | H7: 0 | I7: 0 | J7: 0 | K7: 0 | L7: 0 | M7: 0
C8: 3 | D8: 林業 | E8: A02 | F8: 0 | G8: 0 | H8: 0 | I8: 0 | J8: 0 | K8: 0 | L8: 0 | M8: 0
C9: 4 | D9: 上記以外の農業，林業 | F9: 0 | G9: 0 | H9: 0 | I9: 0 | J9: 0 | K9: 0 | L9: 0 | M9: 0
D10: 漁業大分類 | E10: B | F10: 0 | G10: 0 | H10: 0 | I10: 0 | J10: 0 | K10: 0 | L10: 0 | M10: 0
B11: 漁 業 | C11: 5 | D11: 漁業 | E11: B03 | F11: 0 | G11: 0 | H11: 0 | I11: 0 | J11: 0 | K11: 0 | L11: 0 | M11: 0
C12: 6 | D12: 水産養殖業 | E12: B04 | F12: 0 | G12: 0 | H12: 0 | I12: 0 | J12: 0 | K12: 0 | L12: 0 | M12: 0
B13: 鉱 業 | C13: 7 | D13: 鉱業，採石業，砂利採取業 | E13: C | F13: 0 | G13: 0 | H13: 0 | I13: 0 | J13: 0 | K13: 0 | L13: 0 | M13: 0
B14: 建設業 | C14: 8 | D14: 建設業 | E14: D | F14: 9.421957 | G14: 1 | H14: 22 | I14: 1 | J14: 0.002 | K14: 1 | L14: 1.627 | M14: 1
D15: 製造業大分類 | E15: E | F15: 206.5586 | G15: 0 | H15: 0 | I15: 0 | J15: 0 | K15: 0 | L15: 206.19312 | M15: 0
C16: 9 | D16: 食料品製造業 | E16: E09 | F16: 0.77 | G16: 1 | H16: 0 | I16: 0 | J16: 0 | K16: 0 | L16: 204.6558 | M16: 1
C17: 10 | D17: 飲料・たばこ・飼料製造業 | E17: E10 | F17: 0 | G17: 0 | H17: 0 | I17: 0 | J17: 0 | K17: 0 | L17: 0 | M17: 0
C18: 11 | D18: 繊維工業 | E18: E11 | F18: 0 | G18: 0 | H18: 0 | I18: 0 | J18: 0 | K18: 0 | L18: 0 | M18: 0
C19: 12 | D19: 木材・木製品製造業 | E19: E12 | F19: 0 | G19: 0 | H19: 0 | I19: 0 | J19: 0 | K19: 0 | L19: 0 | M19: 0
C20: 13 | D20: 家具・装備品製造業 | E20: E13 | F20: 0 | G20: 0 | H20: 0 | I20: 0 | J20: 0 | K20: 0 | L20: 0 | M20: 0
C21: 14 | D21: パルプ・紙・紙加工品製造業 | E21: E14 | F21: 204.8841 | G21: 1 | H21: 0 | I21: 0 | J21: 0 | K21: 0 | L21: 0 | M21: 0
C22: 15 | D22: 印刷・同関連業 | E22: E15 | F22: 0 | G22: 0 | H22: 0 | I22: 0 | J22: 0 | K22: 0 | L22: 0 | M22: 0
C23: 16 | D23: 化学工業 | E23: E16 | F23: 0.0572 | G23: 1 | H23: 0 | I23: 0 | J23: 0 | K23: 0 | L23: 0 | M23: 0
C24: 17 | D24: 石油製品・石炭製品製造業 | E24: E17 | F24: 0 | G24: 0 | H24: 0 | I24: 0 | J24: 0 | K24: 0 | L24: 0 | M24: 0
B25: 製造業 | C25: 18 | D25: プラスチック製品製造業 | E25: E18 | F25: 0.4675 | G25: 1 | H25: 0 | I25: 0 | J25: 0 | K25: 0 | L25: 0 | M25: 0
C26: 19 | D26: ゴム製品製造業 | E26: E19 | F26: 0 | G26: 0 | H26: 0 | I26: 0 | J26: 0 | K26: 0 | L26: 1.17552 | M26: 1
C27: 20 | D27: なめし革・同製品・毛皮製造業 | E27: E20 | F27: 0 | G27: 0 | H27: 0 | I27: 0 | J27: 0 | K27: 0 | L27: 0 | M27: 0
C28: 21 | D28: 窯業・土石製品製造業 | E28: E21 | F28: 0.3522 | G28: 1 | H28: 0 | I28: 0 | J28: 0 | K28: 0 | L28: 0.3618 | M28: 1
C29: 22 | D29: 鉄鋼業 | E29: E22 | F29: 0 | G29: 0 | H29: 0 | I29: 0 | J29: 0 | K29: 0 | L29: 0 | M29: 0
C30: 23 | D30: 非鉄金属製造業 | E30: E23 | F30: 0 | G30: 0 | H30: 0 | I30: 0 | J30: 0 | K30: 0 | L30: 0 | M30: 0
C31: 24 | D31: 金属製品製造業 | E31: E24 | F31: 0 | G31: 0 | H31: 0 | I31: 0 | J31: 0 | K31: 0 | L31: 0 | M31: 0
C32: 25 | D32: はん用機械器具製造業 | E32: E25 | F32: 0 | G32: 0 | H32: 0 | I32: 0 | J32: 0 | K32: 0 | L32: 0 | M32: 0
C33: 26 | D33: 生産用機械器具製造業 | E33: E26 | F33: 0 | G33: 0 | H33: 0 | I33: 0 | J33: 0 | K33: 0 | L33: 0 | M33: 0
C34: 27 | D34: 業務用機械器具製造業 | E34: E27 | F34: 0 | G34: 0 | H34: 0 | I34: 0 | J34: 0 | K34: 0 | L34: 0 | M34: 0
C35: 28 | D35: 電子部品・デバイス・電子回路製造業 | E35: E28 | F35: 0 | G35: 0 | H35: 0 | I35: 0 | J35: 0 | K35: 0 | L35: 0 | M35: 0
C36: 29 | D36: 電気機械器具製造業 | E36: E29 | F36: 0.0276 | G36: 1 | H36: 0 | I36: 0 | J36: 0 | K36: 0 | L36: 0 | M36: 0
C37: 30 | D37: 情報通信機械器具製造業 | E37: E30 | F37: 0 | G37: 0 | H37: 0 | I37: 0 | J37: 0 | K37: 0 | L37: 0 | M37: 0
... C39: 32 | D39: その他の製造業 | E39: E32 | F39: 0 | G39: 0 | H39: 0 | I39: 0 | J39: 0 | K39: 0 | L39: 0 | M39: 0
D40: 電気・ガス・熱供給・水道業大分類 | E40: F | F40: 0 | G40: 0 | H40: 0 | I40: 0 | J40: 0 | K40: 0 | L40: 0 | M40: 0
B41: 電気･ガス | C41: 33 | D41: 電気業 | E41: F33 | F41: 0 | G41: 0 | H41: 0 | I41: 0 | J41: 0 | K41: 0 | L41: 0.262 | M41: 1
B42: ･熱供給･ | C42: 34 | D42: ガス業 | E42: F34 | F42: 0 | G42: 0 | H42: 0 | I42: 0 | J42: 0 | K42: 0 | L42: 0 | M42: 0
B43: 水道業 | C43: 35 | D43: 熱供給業 | E43: F35 | F43: 0 | G43: 0 | H43: 0 | I43: 0 | J43: 0 | K43: 0 | L43: 0 | M43: 0
C44: 36 | D44: 上水道業 | E44: F361 | F44: 0 | G44: 0 | H44: 0 | I44: 0 | J44: 0 | K44: 0 | L44: 0 | M44: 0
C45: 37 | D45: 下水道業 | E45: F363 | F45: 0 | G45: 0 | H45: 0 | I45: 0 | J45: 0 | K45: 0 | L45: 0 | M45: 0
D46: 情報通信業大分類 | E46: G | F46: 0 | G46: 0 | H46: 0 | I46: 0 | J46: 0 | K46: 0 | L46: 0 | M46: 0
C47: 38 | D47: 通信業 | E47: G37 | F47: 0 | G47: 0 | H47: 0 | I47: 0 | J47: 0 | K47: 0 | L47: 0 | M47: 0
B48: 情報通信業 | C48: 39 | D48: 放送業 | E48: G38 | F48: 0 | G48: 0 | H48: 0 | I48: 0 | J48: 0 | K48: 0 | L48: 0 | M48: 0
C49: 40 | D49: 情報サービス業 | E49: G39 | F49: 0 | G49: 0 | H49: 0 | I49: 0 | J49: 0 | K49: 0 | L49: 0 | M49: 0
C50: 41 | D50: インターネット付随サービス業 | E50: G40 | F50: 0 | G50: 0 | H50: 0 | I50: 0 | J50: 0 | K50: 0 | L50: 0 | M50: 0
C51: 42 | D51: 映像・音声・文字情報制作業 | E51: G41 | F51: 0 | G51: 0 | H51: 0 | I51: 0 | J51: 0 | K51: 0 | L51: 0 | M51: 0
D52: 運輸業，郵便業大分類 | E52: H | F52: 0.23808 | G52: 1 | H52: 0 | I52: 0 | J52: 0 | K52: 0 | L52: 0 | M52: 0
B53: 運輸業， | C53: 43 | D53: 鉄道業 | E53: H42 | F53: 0 | G53: 0 | H53: 0 | I53: 0 | J53: 0 | K53: 0 | L53: 0 | M53: 0
B54: 郵便業 | C54: 44 | D54: 道路旅客運送業 | E54: H43 | F54: 0 | G54: 0 | H54: 0 | I54: 0 | J54: 0 | K54: 0 | L54: 0 | M54: 0
C55: 45 | D55: 道路貨物運送業 | E55: H44 | F55: 0 | G55: 0 | H55: 0 | I55: 0 | J55: 0 | K55: 0 | L55: 0 | M55: 0
C56: 46 | D56: 上記以外の運輸業，郵便業 | F56: 0 | G56: 0 | H56: 0 | I56: 0 | J56: 0 | K56: 0 | L56: 0 | M56: 0
D57: 卸売業，小売業大分類 | E57: I | F57: 0.08816 | G57: 1 | H57: 0 | I57: 0 | J57: 0 | K57: 0 | L57: 0 | M57: 0
C58: 47 | D58: 各種商品卸売業 | E58: I50 | F58: 0 | G58: 0 | H58: 0 | I58: 0 | J58: 0 | K58: 0 | L58: 0 | M58: 0
C59: 48 | D59: 木材・竹材卸売業 | E59: I5311 | F59: 0 | G59: 0 | H59: 0 | I59: 0 | J59: 0 | K59: 0 | L59: 0 | M59: 0
C60: 49 | D60: 各種商品小売業 | E60: I56 | F60: 0 | G60: 0 | H60: 0 | I60: 0 | J60: 0 | K60: 0 | L60: 0 | M60: 0
B61: 卸売業， | C61: 50 | D61: 自動車小売業 | E61: I591 | F61: 0 | G61: 0 | H61: 0 | I61: 0 | J61: 0 | K61: 0 | L61: 0 | M61: 0
B62: 小売業 | C62: 51 | D62: 機械器具小売業 | E62: I593 | F62: 0 | G62: 0 | H62: 0 | I62: 0 | J62: 0 | K62: 0 | L62: 0 | M62: 0
C63: 52 | D63: 家具・建具・畳小売業 | E63: I601 | F63: 0 | G63: 0 | H63: 0 | I63: 0 | J63: 0 | K63: 0 | L63: 0 | M63: 0
C64: 53 | D64: じゅう器小売業 | E64: I602 | F64: 0 | G64: 0 | H64: 0 | I64: 0 | J64: 0 | K64: 0 | L64: 0 | M64: 0
C65: 54 | D65: 燃料小売業 | E65: I605 | F65: 0 | G65: 0 | H65: 0 | I65: 0 | J65: 0 | K65: 0 | L65: 0 | M65: 0
C66: 55 | D66: 上記以外の卸売業，小売業 | F66: 0 | G66: 0 | H66: 0 | I66: 0 | J66: 0 | K66: 0 | L66: 0 | M66: 0
B67: 不動産業， | D67: 不動産業，物品賃貸業大分類 | E67: K | F67: 0 | G67: 0 | H67: 0 | I67: 0 | J67: 0 | K67: 0 | L67: 0 | M67: 0
B68: 物品賃貸業 | C68: 56 | D68: 物品賃貸業 | E68: K70 | F68: 0 | G68: 0 | H68: 0 | I68: 0 | J68: 0 | K68: 0 | L68: 0 | M68: 0
B69: 学術研究，専門 | D69: 学術研究，専門・技術サービス業大分類 | E69: L | F69: 0 | G69: 0 | H69: 0 | I69: 0 | J69: 0 | K69: 0 | L69: 0 | M69: 0
B70: ・技術サービス業 | C70: 57 | D70: 学術・開発研究機関 | E70: L71 | F70: 0 | G70: 0 | H70: 0 | I70: 0 | J70: 0 | K70: 0 | L70: 0 | M70: 0
C71: 58 | D71: 写真業 | E71: L746 | F71: 0 | G71: 0 | H71: 0 | I71: 0 | J71: 0 | K71: 0 | L71: 0 | M71: 0
B72: 宿泊業，飲食 | D72: 宿泊業，飲食サービス業大分類 | E72: M | F72: 0 | G72: 0 | H72: 0 | I72: 0 | J72: 0 | K72: 0 | L72: 0 | M72: 0
B73: サービス業 | C73: 59 | D73: 飲食店 | E73: M76 | F73: 0 | G73: 0 | H73: 0 | I73: 0 | J73: 0 | K73: 0 | L73: 0 | M73: 0
C74: 60 | D74: 上記以外の宿泊業，飲食サービス業 | F74: 0 | G74: 0 | H74: 0 | I74: 0 | J74: 0 | K74: 0 | L74: 0 | M74: 0
B75: 生活関連サー | D75: 生活関連サービス業，娯楽業大分類 | E75: N | F75: 0 | G75: 0 | H75: 0 | I75: 0 | J75: 0 | K75: 0 | L75: 0 | M75: 0
B76: ビス業，娯楽業 | C76: 61 | D76: 洗濯業 | E76: N781 | F76: 0 | G76: 0 | H76: 0 | I76: 0 | J76: 0 | K76: 0 | L76: 0 | M76: 0
B77: 教育，学習支援業 | C77: 62 | D77: 教育，学習支援業 | E77: O | F77: 0 | G77: 0 | H77: 0 | I77: 0 | J77: 0 | K77: 0 | L77: 0 | M77: 0
D78: 医療，福祉大分類 | E78: P | F78: 0 | G78: 0 | H78: 0.340625 | I78: 1 | J78: 0 | K78: 0 | L78: 0.102 | M78: 1
B79: 医療，福祉 | C79: 63 | D79: 医療業 | E79: P83 | F79: 0 | G79: 0 | H79: 0 | I79: 0 | J79: 0 | K79: 0 | L79: 0 | M79: 0
C80: 64 | D80: 上記以外の医療，福祉 | F80: 0 | G80: 0 | H80: 0 | I80: 0 | J80: 0 | K80: 0 | L80: 0 | M80: 0
B81: 教育、学習支援業 | C81: 65 | D81: 複合サービス事業 | E81: Q | F81: 0 | G81: 0 | H81: 0 | I81: 0 | J81: 0 | K81: 0 | L81: 0 | M81: 0
D82: サービス業大分類 | E82: R | F82: 8.77185 | G82: 1 | H82: 0 | I82: 0 | J82: 0 | K82: 0 | L82: 0 | M82: 0
B83: サービス業 | C83: 66 | D83: 自動車整備業 | E83: R891 | F83: 0 | G83: 0 | H83: 0 | I83: 0 | J83: 0 | K83: 0 | L83: 0 | M83: 0
C84: 67 | D84: と畜場 | E84: R952 | F84: 0 | G84: 0 | H84: 0 | I84: 0 | J84: 0 | K84: 0 | L84: 0 | M84: 0
C85: 68 | D85: 上記以外のサービス業 | F85: 0 | G85: 0 | H85: 0 | I85: 0 | J85: 0 | K85: 0 | L85: 0 | M85: 0
B86: 公務 | C86: 69 | D86: 公務 | E86: Ｓ | F86: 0 | G86: 0 | H86: 0 | I86: 0 | J86: 0 | K86: 0 | L86: 0 | M86: 0
D87: 合計 | F87: 225.07865 | G87: 10 | H87: 22.340625 | I87: 2 | J87: 0.002 | K87: 1 | L87: 208.18412 | M87: 6
B88: ※大分類のみの回答で、かつ中分類への配分ができない都道府県があるため、中分類の合算値と大分類の値が合致しない項目がある。
B89: ※各産業廃棄物の排出量は、四捨五入しているため合算した値は合計値と異なる場合がある。
B90: ※空欄は該当値が無いもの、「0」表示は500kg/年未満である事を示している。

Sheet 表Ⅵ・３
B1: 表―Ⅵ・３ 水銀使用製品産業廃棄物（一括）の排出量の集計結果（令和３年度実績値）
B3: 大分類 | C3: 番 | D3: 産業分類 | E3: コード | F3: 水銀使用製品廃棄物 （ｔ/年） | G3: データの個数 (件)
C4: 号
D5: 農業，林業大分類 | E5: A | F5: 0.03 | G5: 1
C6: 1 | D6: 耕種農業 | E6: A011 | F6: 0 | G6: 0
B7: 農業，林業 | C7: 2 | D7: 畜産農業 | E7: A012 | F7: 0 | G7: 0
C8: 3 | D8: 林業 | E8: A02 | F8: 0 | G8: 0
C9: 4 | D9: 上記以外の農業，林業 | F9: 0 | G9: 0
D10: 漁業大分類 | E10: B | F10: 0 | G10: 0
B11: 漁 業 | C11: 5 | D11: 漁業 | E11: B03 | F11: 0 | G11: 0
C12: 6 | D12: 水産養殖業 | E12: B04 | F12: 0 | G12: 0
B13: 鉱 業 | C13: 7 | D13: 鉱業，採石業，砂利採取業 | E13: C | F13: 0 | G13: 0
B14: 建設業 | C14: 8 | D14: 建設業 | E14: D | F14: 640.78558 | G14: 6
D15: 製造業大分類 | E15: E | F15: 1023.7391 | G15: 1
C16: 9 | D16: 食料品製造業 | E16: E09 | F16: 14.18446 | G16: 5
C17: 10 | D17: 飲料・たばこ・飼料製造業 | E17: E10 | F17: 2.233951 | G17: 3
C18: 11 | D18: 繊維工業 | E18: E11 | F18: 4.6302845 | G18: 4
C19: 12 | D19: 木材・木製品製造業 | E19: E12 | F19: 1.2633863 | G19: 3
C20: 13 | D20: 家具・装備品製造業 | E20: E13 | F20: 1.0534825 | G20: 2
C21: 14 | D21: パルプ・紙・紙加工品製造業 | E21: E14 | F21: 6.3325123 | G21: 5
C22: 15 | D22: 印刷・同関連業 | E22: E15 | F22: 4.8731157 | G22: 5
C23: 16 | D23: 化学工業 | E23: E16 | F23: 44.145849 | G23: 6
C24: 17 | D24: 石油製品・石炭製品製造業 | E24: E17 | F24: 1.8105 | G24: 3
B25: 製造業 | C25: 18 | D25: プラスチック製品製造業 | E25: E18 | F25: 74.983711 | G25: 5
C26: 19 | D26: ゴム製品製造業 | E26: E19 | F26: 5.1801635 | G26: 4
C27: 20 | D27: なめし革・同製品・毛皮製造業 | E27: E20 | F27: 0 | G27: 0
C28: 21 | D28: 窯業・土石製品製造業 | E28: E21 | F28: 6.0691115 | G28: 5
C29: 22 | D29: 鉄鋼業 | E29: E22 | F29: 66.736312 | G29: 5
C30: 23 | D30: 非鉄金属製造業 | E30: E23 | F30: 2.386682 | G30: 4
C31: 24 | D31: 金属製品製造業 | E31: E24 | F31: 10.716203 | G31: 5
C32: 25 | D32: はん用機械器具製造業 | E32: E25 | F32: 30.471856 | G32: 4
C33: 26 | D33: 生産用機械器具製造業 | E33: E26 | F33: 6.4610381 | G33: 4
C34: 27 | D34: 業務用機械器具製造業 | E34: E27 | F34: 18.663492 | G34: 4
C35: 28 | D35: 電子部品・デバイス・電子回路製造業 | E35: E28 | F35: 15.52416 | G35: 5
C36: 29 | D36: 電気機械器具製造業 | E36: E29 | F36: 9.3283063 | G36: 4
C37: 30 | D37: 情報通信機械器具製造業 | E37: E30 | F37: 3.0993872 | G37: 5
... C39: 32 | D39: その他の製造業 | E39: E32 | F39: 7.6920344 | G39: 5
D40: 電気・ガス・熱供給・水道業大分類 | E40: F | F40: 8.8722458 | G40: 0
B41: 電気･ガス | C41: 33 | D41: 電気業 | E41: F33 | F41: 6.6704103 | G41: 4
B42: ･熱供給･ | C42: 34 | D42: ガス業 | E42: F34 | F42: 0.83557128 | G42: 3
B43: 水道業 | C43: 35 | D43: 熱供給業 | E43: F35 | F43: 0.026235238 | G43: 1
C44: 36 | D44: 上水道業 | E44: F361 | F44: 1.2499516 | G44: 3
C45: 37 | D45: 下水道業 | E45: F363 | F45: 0.29507736 | G45: 3
D46: 情報通信業大分類 | E46: G | F46: 1.9873778 | G46: 3
C47: 38 | D47: 通信業 | E47: G37 | F47: 0 | G47: 0
B48: 情報通信業 | C48: 39 | D48: 放送業 | E48: G38 | F48: 0 | G48: 0
C49: 40 | D49: 情報サービス業 | E49: G39 | F49: 0 | G49: 0
C50: 41 | D50: インターネット付随サービス業 | E50: G40 | F50: 0 | G50: 0
C51: 42 | D51: 映像・音声・文字情報制作業 | E51: G41 | F51: 0 | G51: 0
D52: 運輸業，郵便業大分類 | E52: H | F52: 33.903433 | G52: 5
B53: 運輸業， | C53: 43 | D53: 鉄道業 | E53: H42 | F53: 0 | G53: 0
B54: 郵便業 | C54: 44 | D54: 道路旅客運送業 | E54: H43 | F54: 0 | G54: 0
C55: 45 | D55: 道路貨物運送業 | E55: H44 | F55: 0 | G55: 0
C56: 46 | D56: 上記以外の運輸業，郵便業 | F56: 0 | G56: 0
D57: 卸売業，小売業大分類 | E57: I | F57: 327.92005 | G57: 6
C58: 47 | D58: 各種商品卸売業 | E58: I50 | F58: 0 | G58: 0
C59: 48 | D59: 木材・竹材卸売業 | E59: I5311 | F59: 0 | G59: 0
C60: 49 | D60: 各種商品小売業 | E60: I56 | F60: 0 | G60: 0
B61: 卸売業， | C61: 50 | D61: 自動車小売業 | E61: I591 | F61: 0 | G61: 0
B62: 小売業 | C62: 51 | D62: 機械器具小売業 | E62: I593 | F62: 0 | G62: 0
C63: 52 | D63: 家具・建具・畳小売業 | E63: I601 | F63: 0 | G63: 0
C64: 53 | D64: じゅう器小売業 | E64: I602 | F64: 0 | G64: 0
C65: 54 | D65: 燃料小売業 | E65: I605 | F65: 0 | G65: 0
C66: 55 | D66: 上記以外の卸売業，小売業 | F66: 0 | G66: 0
B67: 不動産業， | D67: 不動産業，物品賃貸業大分類 | E67: K | F67: 41.460133 | G67: 4
B68: 物品賃貸業 | C68: 56 | D68: 物品賃貸業 | E68: K70 | F68: 0 | G68: 0
B69: 学術研究，専門 | D69: 学術研究，専門・技術サービス業大分類 | E69: L | F69: 22.153228 | G69: 4
B70: ・技術サービス業 | C70: 57 | D70: 学術・開発研究機関 | E70: L71 | F70: 0 | G70: 0
C71: 58 | D71: 写真業 | E71: L746 | F71: 0 | G71: 0
B72: 宿泊業，飲食 | D72: 宿泊業，飲食サービス業大分類 | E72: M | F72: 25.804121 | G72: 2
B73: サービス業 | C73: 59 | D73: 飲食店 | E73: M76 | F73: 0 | G73: 0
C74: 60 | D74: 上記以外の宿泊業，飲食サービス業 | F74: 0 | G74: 0
B75: 生活関連サー | D75: 生活関連サービス業，娯楽業大分類 | E75: N | F75: 8.031158 | G75: 2
B76: ビス業，娯楽業 | C76: 61 | D76: 洗濯業 | E76: N781 | F76: 0 | G76: 0
B77: 教育，学習支援業 | C77: 62 | D77: 教育，学習支援業 | E77: O | F77: 87.855889 | G77: 3
D78: 医療，福祉大分類 | E78: P | F78: 34.184124 | G78: 5
B79: 医療，福祉 | C79: 63 | D79: 医療業 | E79: P83 | F79: 0 | G79: 0
C80: 64 | D80: 上記以外の医療，福祉 | F80: 0 | G80: 0
B81: 教育、学習支援業 | C81: 65 | D81: 複合サービス事業 | E81: Q | F81: 0.1453492 | G81: 1
D82: サービス業大分類 | E82: R | F82: 157.12807 | G82: 5
B83: サービス業 | C83: 66 | D83: 自動車整備業 | E83: R891 | F83: 0 | G83: 0
C84: 67 | D84: と畜場 | E84: R952 | F84: 0 | G84: 0
C85: 68 | D85: 上記以外のサービス業 | F85: 0 | G85: 0
B86: 公務 | C86: 69 | D86: 公務 | E86: Ｓ | F86: 0.431 | G86: 1
D87: 合計 | F87: =SUM(F5,F10,F13:F15,F40,F46,F52,F57,F67,F69,F72,F75,F77:F78,F81:F82,F86) -> 2414.4309 | G87: =SUM(G5:G86) -> 163
B88: ※大分類のみの回答で、かつ中分類への配分ができない都道府県があるため、中分類の合算値と大分類の値が合致しない項目がある。
B89: ※各産業廃棄物の排出量は、四捨五入しているため合算した値は合計値と異なる場合がある。
B90: ※空欄は該当値が無いもの、「0」表示は500kg/年未満である事を示している。

Sheet 表Ⅵ・４
B1: 表―Ⅵ・４ 水銀含有ばいじん等の排出量の集計結果（令和３年度実績値）
B4: 大分類 | C4: 産業分類 | D4: コード | E4: 燃え殻 | I4: 汚 泥 | M4: 廃 酸 | Q4: 廃アルカリ | U4: 鉱さい | Y4: ばいじん
E5: 排出量 （ｔ/年） | F5: うち水銀含有 （ｔ/年） | G5: データの個数 (件) | H5: 比率 | I5: 排出量 （ｔ/年） | J5: うち水銀含有 （ｔ/年） | K5: データの個数 (件) | L5: 比率 | M5: 排出量 （ｔ/年） | N5: うち水銀含有 （ｔ/年） | O5: データの個数 (件) | P5: 比率 | Q5: 排出量 （ｔ/年） | R5: うち水銀含有 （ｔ/年） | S5: データの個数 (件) | T5: 比率 | U5: 排出量 （ｔ/年） | V5: うち水銀含有 （ｔ/年） | W5: データの個数 (件) | X5: 比率 | Y5: 排出量 （ｔ/年） | Z5: うち水銀含有 （ｔ/年） | AA5: データの個数 (件) | AB5: 比率
C6: 農業，林業大分類 | D6: A | E6: 0 | F6: 0 | G6: 0 | I6: 25925.229 | J6: 0.012965533 | K6: 1 | L6: 5.0011257e-07 | M6: 0 | N6: 0 | O6: 0 | Q6: 0 | R6: 0 | S6: 0 | U6: 0 | V6: 0 | W6: 0 | Y6: 0 | Z6: 0 | AA6: 0
C7: 耕種農業 | D7: A011 | E7: 0 | F7: 0 | I7: 0 | J7: 0 | K7: 0 | M7: 0 | N7: 0 | O7: 0 | Q7: 0 | R7: 0 | S7: 0 | U7: 0 | V7: 0 | W7: 0 | Y7: 0 | Z7: 0 | AA7: 0
B8: 農業，林業 | C8: 畜産農業 | D8: A012 | E8: 0 | F8: 0 | I8: 0 | J8: 0 | M8: 0 | N8: 0 | Q8: 0 | R8: 0 | U8: 0 | V8: 0 | Y8: 0 | Z8: 0
C9: 林業 | D9: A02 | E9: 0 | F9: 0 | I9: 0 | J9: 0 | M9: 0 | N9: 0 | Q9: 0 | R9: 0 | U9: 0 | V9: 0 | Y9: 0 | Z9: 0
C10: 上記以外の農業，林業 | E10: 0 | F10: 0 | I10: 0 | J10: 0 | M10: 0 | N10: 0 | O10: 0 | Q10: 0 | R10: 0 | S10: 0 | U10: 0 | V10: 0 | W10: 0 | Y10: 0 | Z10: 0 | AA10: 0
C11: 漁業大分類 | D11: B | E11: 0 | F11: 0 | I11: 0 | J11: 0 | M11: 0 | N11: 0 | Q11: 0 | R11: 0 | U11: 0 | V11: 0 | Y11: 0 | Z11: 0
B12: 漁 業 | C12: 漁業 | D12: B03 | E12: 0 | F12: 0 | I12: 0 | J12: 0 | K12: 0 | M12: 0 | N12: 0 | O12: 0 | Q12: 0 | R12: 0 | S12: 0 | U12: 0 | V12: 0 | W12: 0 | Y12: 0 | Z12: 0 | AA12: 0
C13: 水産養殖業 | D13: B04 | E13: 0 | F13: 0 | G13: 0 | I13: 0 | J13: 0 | K13: 0 | M13: 0 | N13: 0 | O13: 0 | Q13: 0 | R13: 0 | S13: 0 | U13: 0 | V13: 0 | W13: 0 | Y13: 0 | Z13: 0 | AA13: 0
B14: 鉱 業 | C14: 鉱業，採石業，砂利採取業 | D14: C | E14: 0 | F14: 0 | I14: 156.72702 | J14: 0.082264583 | K14: 2 | L14: 0.00052489088 | M14: 0 | N14: 0 | Q14: 0 | R14: 0 | U14: 0 | V14: 0 | W14: 1 | Y14: 0 | Z14: 0
B15: 建設業 | C15: 建設業 | D15: D | E15: 1959.8122 | F15: 0.96985388 | G15: 2 | H15: 0.00049487083 | I15: 651864.17 | J15: 314.15577 | K15: 2 | L15: 0.0004819344 | M15: 2285.9732 | N15: 1.1920952 | O15: 2 | P15: 0.0005214826 | Q15: 6993.6166 | R15: 6.9653555 | S15: 3 | T15: 0.00099595901 | U15: 12318.847 | V15: 6.3163783 | W15: 2 | X15: 0.00051274104 | Y15: 981.42684 | Z15: 0 | AB15: 0
C16: 製造業大分類 | D16: E | E16: 53833.751 | F16: 19.993921 | G16: 1 | H16: 0.00037140123 | I16: 3090380.5 | J16: 456.8386 | K16: 1 | L16: 0.000147826 | M16: 298321.19 | N16: 133.60993 | O16: 1 | P16: 0.00044787275 | Q16: 594135.42 | R16: 293.55194 | S16: 1 | T16: 0.00049408255 | U16: 5007117.1 | V16: 12767.456 | W16: 1 | X16: 0.0025498616 | Y16: 1322492.6 | Z16: 1244.189 | AA16: 1 | AB16: 0.00094079087
C17: 食料品製造業 | D17: E09 | E17: 119.42155 | F17: 0.056505666 | G17: 2 | H17: 0.00047316139 | I17: 446856.02 | J17: 81.986938 | K17: 2 | L17: 0.00018347507 | M17: 6850.8987 | N17: 1.4030168 | O17: 2 | P17: 0.00020479309 | Q17: 817.9228 | R17: 0.046528812 | S17: 2 | T17: 5.6886557e-05 | U17: 0 | V17: 0 | Y17: 4.9307143 | Z17: 0.0010319057 | AA17: 2 | AB17: 0.00020928118
C18: 飲料・たばこ・飼料製造業 | D18: E10 | E18: 75.219927 | F18: 0.017370389 | G18: 2 | H18: 0.00023092802 | I18: 143210.18 | J18: 46.060571 | K18: 2 | L18: 0.00032162916 | M18: 34654.422 | N18: 1.9874947 | O18: 2 | P18: 5.7351835e-05 | Q18: 285.02071 | R18: 0 | T18: 0 | U18: 0 | V18: 0 | Y18: 0 | Z18: 0
C19: 繊維工業 | D19: E11 | E19: 2614.2057 | F19: 1.3989509 | G19: 2 | H19: 0.00053513419 | I19: 25309.655 | J19: 13.509813 | K19: 2 | L19: 0.000533781 | M19: 168.04292 | N19: 0.089925511 | O19: 2 | P19: 0.00053513419 | Q19: 21512.022 | R19: 11.511819 | S19: 2 | T19: 0.00053513419 | U19: 0 | V19: 0 | Y19: 39625.797 | Z19: 21.205119 | AA19: 2 | AB19: 0.00053513419
C20: 木材・木製品製造業 | D20: E12 | E20: 7675.9783 | F20: 1.0628629 | G20: 2 | H20: 0.00013846612 | I20: 34.26286 | J20: 0.010843349 | K20: 2 | L20: 0.0003164753 | M20: 0 | N20: 0 | Q20: 0 | R20: 0 | U20: 0 | V20: 0 | Y20: 2765.2798 | Z20: 0.1621537 | AA20: 2 | AB20: 5.8639164e-05
C21: 家具・装備品製造業 | D21: E13 | E21: 3.2964 | H21: 0 | I21: 248.13906 | J21: 0.11994447 | K21: 2 | L21: 0.00048337603 | M21: 0 | N21: 0 | Q21: 0 | R21: 0 | U21: 0 | V21: 0 | Y21: 0 | Z21: 0
C22: パルプ・紙・紙加工品製造業 | D22: E14 | E22: 16494.819 | F22: 5.9862369 | G22: 2 | H22: 0.00036291619 | I22: 1069787.7 | J22: 64.020459 | K22: 2 | L22: 5.984408e-05 | M22: 35.521406 | N22: 0.00026724434 | O22: 2 | P22: 7.5234732e-06 | Q22: 403.06459 | R22: 0.21569364 | S22: 2 | T22: 0.00053513419 | U22: 370.87889 | V22: 0.076575132 | W22: 2 | X22: 0.00020646937 | Y22: 56948.72 | Z22: 18.04339 | AA22: 2 | AB22: 0.00031683574
C23: 印刷・同関連業 | D23: E15 | E23: 0 | F23: 0 | I23: 224.66275 | J23: 0.12022472 | K23: 2 | L23: 0.00053513419 | M23: 330.55749 | N23: 0.17345839 | O23: 2 | P23: 0.000524745 | Q23: 2641.3141 | R23: 1.3192457 | S23: 2 | T23: 0.00049946566 | U23: 0 | V23: 0 | Y23: 0 | Z23: 0
C24: 化学工業 | D24: E16 | E24: 5688.8472 | F24: 0.24420459 | G24: 2 | H24: 4.2926902e-05 | I24: 84755.953 | J24: 31.174079 | K24: 2 | L24: 0.0003678099 | M24: 53269.228 | N24: 27.252912 | O24: 2 | P24: 0.00051160703 | Q24: 499189.28 | R24: 258.40847 | S24: 2 | T24: 0.00051765629 | U24: 7.8846182 | V24: 0 | X24: 0 | Y24: 100.03878 | Z24: 0.053534172 | AA24: 2 | AB24: 0.00053513419
C25: 石油製品・石炭製品製造業 | D25: E17 | E25: 5386.3845 | F25: 2.8471196 | G25: 2 | H25: 0.00052857712 | I25: 28657.293 | J25: 14.021208 | K25: 2 | L25: 0.00048927188 | M25: 325.7829 | N25: 0.17433757 | O25: 2 | P25: 0.00053513419 | Q25: 57.846558 | R25: 0.022928658 | S25: 2 | T25: 0.00039637031 | U25: 15.846492 | V25: 0.0084799998 | W25: 2 | X25: 0.00053513419 | Y25: 17883.611 | Z25: 9.188046 | AA25: 2 | AB25: 0.00051376905
B26: 製造業 | C26: プラスチック製品製造業 | D26: E18 | E26: 454.28147 | F26: 0.24310154 | G26: 2 | H26: 0.00053513419 | I26: 6993.4347 | J26: 3.4449811 | K26: 2 | L26: 0.00049260216 | M26: 570.04788 | N26: 0.18892799 | O26: 2 | P26: 0.00033142477 | Q26: 5116.4086 | R26: 2.6788965 | S26: 2 | T26: 0.00052358924 | U26: 0 | V26: 0 | Y26: 9620.2131 | Z26: 5.1481049 | AA26: 2 | AB26: 0.00053513419
C27: ゴム製品製造業 | D27: E19 | E27: 53.259238 | F27: 0.00047504634 | G27: 2 | H27: 8.9195105e-06 | I27: 5124.3296 | J27: 0.78620734 | K27: 2 | L27: 0.00015342638 | M27: 15.071017 | N27: 3.8003707e-05 | O27: 2 | P27: 2.5216418e-06 | Q27: 1505.0247 | R27: 0.10736316 | S27: 2 | T27: 7.1336479e-05 | U27: 0 | V27: 0 | Y27: 0 | Z27: 0
C28: なめし革・同製品・毛皮製造業 | D28: E20 | E28: 0 | F28: 0 | G28: 0 | I28: 0 | J28: 0 | K28: 0 | M28: 0 | N28: 0 | O28: 0 | Q28: 139.123 | R28: 0.074449473 | S28: 1 | T28: 0.00053513419 | U28: 0 | V28: 0 | W28: 0 | Y28: 0 | Z28: 0
C29: 窯業・土石製品製造業 | D29: E21 | E29: 12138.743 | F29: 6.4953213 | G29: 2 | H29: 0.0005350901 | I29: 267398.28 | J29: 119.36489 | K29: 2 | L29: 0.00044639364 | M29: 5454.2082 | N29: 2.9187333 | O29: 2 | P29: 0.00053513419 | Q29: 1464.7889 | R29: 0.78385863 | S29: 2 | T29: 0.00053513419 | U29: 9286.3223 | V29: 4.8843422 | W29: 2 | X29: 0.00052597164 | Y29: 12491.412 | Z29: 0.1243718 | AA29: 2 | AB29: 9.9565841e-06
C30: 鉄鋼業 | D30: E22 | E30: 2888.2996 | F30: 1.5456279 | G30: 2 | H30: 0.00053513419 | I30: 854478.18 | J30: 21.480231 | K30: 2 | L30: 2.513842e-05 | M30: 168031.33 | N30: 88.641345 | O30: 2 | P30: 0.00052752868 | Q30: 4500.313 | R30: 0.5687752 | S30: 2 | T30: 0.0001263857 | U30: 4816848.9 | V30: 12675.396 | W30: 3 | X30: 0.0026314705 | Y30: 1181045.4 | Z30: 339.14508 | AA30: 2 | AB30: 0.00028715668
C31: 非鉄金属製造業 | D31: E23 | E31: 2.7895593 | F31: 0.0014927886 | G31: 2 | H31: 0.00053513419 | I31: 21686.901 | J31: 3.3766513 | K31: 2 | L31: 0.00015570004 | M31: 3705.7242 | N31: 0.021874039 | O31: 2 | P31: 5.9027703e-06 | Q31: 9422.8333 | R31: 1.8227715 | S31: 2 | T31: 0.00019344197 | U31: 10814.56 | V31: 5.7872409 | W31: 2 | X31: 0.00053513419 | Y31: 907.06723 | Z31: 843.33503 | AA31: 2 | AB31: 0.92973817
C32: 金属製品製造業 | D32: E24 | E32: 67.20148 | F32: 0.020442918 | G32: 2 | H32: 0.00030420339 | I32: 48227.772 | J32: 21.403583 | K32: 2 | L32: 0.00044380203 | M32: 14650.971 | N32: 6.199356 | O32: 2 | P32: 0.00042313618 | Q32: 6210.5287 | R32: 3.1223833 | S32: 2 | T32: 0.00050275644 | U32: 507.78815 | V32: 0.18932413 | W32: 2 | X32: 0.00037284079 | Y32: 152.42005 | Z32: 0.081565178 | AA32: 2 | AB32: 0.00053513419
C33: はん用機械器具製造業 | D33: E25 | E33: 23.890904 | F33: 0.01278484 | G33: 2 | H33: 0.00053513419 | I33: 6976.5908 | J33: 3.221298 | K33: 2 | L33: 0.00046172954 | M33: 208.25328 | N33: 0.10336277 | O33: 2 | P33: 0.000496332 | Q33: 4682.7581 | R33: 2.4306252 | S33: 2 | T33: 0.00051905846 | U33: 1707.0525 | V33: 0.44740028 | W33: 2 | X33: 0.00026208935 | Y33: 122.9413 | Z33: 0.065790094 | AA33: 2 | AB33: 0.00053513419
C34: 生産用機械器具製造業 | D34: E26 | E34: 18.496648 | F34: 0.0023405618 | G34: 2 | H34: 0.00012653978 | I34: 7683.2944 | J34: 4.0000734 | K34: 2 | L34: 0.00052061956 | M34: 221.6566 | N34: 0.10350924 | O34: 2 | P34: 0.00046698017 | Q34: 1818.843 | R34: 0.91203625 | S34: 2 | T34: 0.00050143758 | U34: 633.67394 | V34: 0.33910059 | W34: 2 | X34: 0.00053513419 | Y34: 0 | Z34: 0
C35: 業務用機械器具製造業 | D35: E27 | E35: 2.2552972 | F35: 0.00067175242 | G35: 2 | H35: 0.00029785539 | I35: 3939.4712 | J35: 0.4406676 | K35: 2 | L35: 0.00011185958 | M35: 20.515264 | N35: 0.010978419 | O35: 2 | P35: 0.00053513419 | Q35: 73.31422 | R35: 0.033881604 | S35: 2 | T35: 0.00046214232 | U35: 0 | V35: 0 | Y35: 0 | Z35: 0
C36: 電子部品・デバイス・電子回路製造業 | D36: E28 | E36: 0.60388763 | F36: 0.00032316091 | G36: 2 | H36: 0.00053513419 | I36: 6830.8123 | J36: 0.78225522 | K36: 2 | L36: 0.00011451862 | M36: 4186.2897 | N36: 1.5644579 | O36: 2 | P36: 0.0003737099 | Q36: 7869.5958 | R36: 3.0967456 | S36: 2 | T36: 0.00039350758 | U36: 0 | V36: 0 | Y36: 0 | Z36: 0
C37: 電気機械器具製造業 | D37: E29 | E37: 0.20785473 | F37: 0 | H37: 0 | I37: 8025.1468 | J37: 1.8012762 | K37: 2 | L37: 0.00022445399 | M37: 68.924753 | N37: 0.029229131 | O37: 2 | P37: 0.00042407307 | Q37: 1820.0868 | R37: 0.18399053 | S37: 2 | T37: 0.00010108888 | U37: 6.9430696 | V37: 0.0035375057 | W37: 2 | X37: 0.00050950168 | Y37: 37.493765 | Z37: 7.4934 | AA37: 2 | AB37: 0.19985723
C38: 情報通信機械器具製造業 | D38: E30 | E38: 0 | F38: 0 | I38: 1304.4886 | J38: 0.19451516 | K38: 2 | L38: 0.0001491122 | M38: 115.53661 | N38: 0.06182759 | O38: 2 | P38: 0.00053513419 | Q38: 12893.057 | R38: 0.40191631 | S38: 2 | T38: 3.1173081e-05 | U38: 0 | V38: 0 | Y38: 0 | Z38: 0
C39: 輸送用機械器具製造業 | D39: E31 | E39: 125.54917 | F39: 0.058088371 | G39: 2 | H39: 0.00046267428 | I39: 50741.763 | J39: 24.508534 | K39: 2 | L39: 0.00048300518 | M39: 4590.6177 | N39: 2.231305 | O39: 2 | P39: 0.00048605768 | Q39: 11378.304 | R39: 5.6308446 | S39: 2 | T39: 0.00049487556 | U39: 166917.21 | V39: 80.32391 | W39: 2 | X39: 0.00048122006 | Y39: 787.27567 | Z39: 0.14234889 | AA39: 2 | AB39: 0.00018081201
C40: その他の製造業 | D40: E32 | E40: 0 | F40: 0 | I40: 1886.1684 | J40: 1.0093532 | K40: 2 | L40: 0.00053513419 | M40: 847.59447 | N40: 0.45357678 | O40: 2 | P40: 0.00053513419 | Q40: 333.9648 | R40: 0.17871598 | S40: 2 | T40: 0.00053513419 | U40: 0 | V40: 0 | Y40: 0 | Z40: 0
C41: 電気・ガス・熱供給・水道業大分類 | D41: F | E41: 14774 | F41: =SUM(F42:F46) -> 84.924861 | G41: 1 | H41: 0 | I41: 409634 | J41: =SUM(J42:J46) -> 420.92384 | L41: 0 | M41: 146 | N41: =SUM(N42:N46) -> 0.014018841 | P41: 0 | Q41: 0 | R41: =SUM(R42:R46) -> 0.011624998 | U41: 0 | V41: =SUM(V42:V46) -> 0.0059440437 | Y41: 36417 | Z41: =SUM(Z42:Z46) -> 543.16972 | AB41: 0
B42: 電気･ガス | C42: 電気業 | D42: F33 | E42: 173374.25 | F42: 84.872414 | G42: 2 | H42: 0.00048953299 | I42: 75041.341 | J42: 28.301769 | K42: 2 | L42: 0.00037714903 | M42: 182.27921 | N42: 0.011866743 | O42: 2 | P42: 6.5102009e-05 | Q42: 21.502528 | R42: 0.011479964 | S42: 2 | T42: 0.00053388903 | U42: 11.107576 | V42: 0.0059440437 | W42: 2 | X42: 0.00053513419 | Y42: 1044838.5 | Z42: 539.64081 | AA42: 2 | AB42: 0.00051648252
B43: ･熱供給･ | C43: ガス業 | D43: F34 | E43: 0 | F43: 0 | G43: 0 | I43: 212.27793 | J43: 0.11359718 | K43: 1 | L43: 0.00053513419 | M43: 0 | N43: 0 | O43: 0 | Q43: 0 | R43: 0 | S43: 0 | U43: 0 | V43: 0 | W43: 0 | Y43: 0 | Z43: 0 | AA43: 0
B44: 水道業 | C44: 熱供給業 | D44: F35 | E44: 0 | F44: 0 | G44: 0 | I44: 893.86 | J44: 0.47833504 | K44: 1 | L44: 0.00053513419 | M44: 0 | N44: 0 | O44: 0 | Q44: 0 | R44: 0 | U44: 0 | V44: 0 | W44: 0 | Y44: 44 | Z44: 0.023545904 | AA44: 1 | AB44: 0.00053513419
C45: 上水道業 | D45: F361 | E45: 0 | F45: 0 | I45: 385675.8 | J45: 186.72312 | K45: 2 | L45: 0.00048414529 | M45: 16.021604 | N45: 0.002152098 | O45: 2 | P45: 0.00013432475 | Q45: 0.27102388 | R45: 0.00014503414 | S45: 2 | T45: 0.00053513419 | U45: 0 | V45: 0 | Y45: 0 | Z45: 0
C46: 下水道業 | D46: F363 | E46: 98.006553 | F46: 0.052446657 | G46: 2 | H46: 0.00053513419 | I46: 1027015 | J46: 205.30702 | K46: 2 | L46: 0.00019990654 | M46: 0.082500021 | N46: 0 | P46: 0 | Q46: 0.056500015 | R46: 0 | T46: 0 | U46: 0 | V46: 0 | Y46: 6550.438 | Z46: 3.5053633 | AA46: 2 | AB46: 0.00053513419
C47: 情報通信業大分類 | D47: G | E47: 0 | F47: 0 | I47: 16.478245 | J47: 0.0088180724 | K47: 2 | L47: 0.00053513419 | M47: 0 | N47: 0 | Q47: 0 | R47: 0 | U47: 0 | V47: 0 | Y47: 0 | Z47: 0
C48: 通信業 | D48: G37 | E48: 0 | F48: 0 | G48: 0 | I48: 0 | J48: 0 | K48: 0 | M48: 0 | N48: 0 | O48: 0 | Q48: 0 | R48: 0 | S48: 0 | U48: 0 | V48: 0 | W48: 0 | Y48: 0 | Z48: 0 | AA48: 0
B49: 情報通信業 | C49: 放送業 | D49: G38 | E49: 0 | F49: 0 | G49: 0 | I49: 0 | J49: 0 | K49: 0 | M49: 0 | N49: 0 | O49: 0 | Q49: 0 | R49: 0 | S49: 0 | U49: 0 | V49: 0 | W49: 0 | Y49: 0 | Z49: 0 | AA49: 0
C50: 情報サービス業 | D50: G39 | E50: 0 | F50: 0 | G50: 0 | I50: 0 | J50: 0 | K50: 0 | M50: 0 | N50: 0 | O50: 0 | Q50: 0 | R50: 0 | S50: 0 | U50: 0 | V50: 0 | W50: 0 | Y50: 0 | Z50: 0 | AA50: 0
C51: インターネット付随サービス業 | D51: G40 | E51: 0 | F51: 0 | G51: 0 | I51: 0 | J51: 0 | K51: 0 | M51: 0 | N51: 0 | O51: 0 | Q51: 0 | R51: 0 | S51: 0 | U51: 0 | V51: 0 | W51: 0 | Y51: 0 | Z51: 0 | AA51: 0
C52: 映像・音声・文字情報制作業 | D52: G41 | E52: 0 | F52: 0 | G52: 0 | I52: 0 | J52: 0 | K52: 0 | M52: 0 | N52: 0 | O52: 0 | Q52: 0 | R52: 0 | S52: 0 | U52: 0 | V52: 0 | W52: 0 | Y52: 0 | Z52: 0 | AA52: 0
C53: 運輸業，郵便業大分類 | D53: H | E53: 5.4020111 | F53: 0.0028908008 | G53: 2 | H53: 0.00053513419 | I53: 4714.009 | J53: 2.4346657 | K53: 2 | L53: 0.00051647455 | M53: 21.541038 | N53: 0.0074912045 | O53: 2 | P53: 0.00034776432 | Q53: 55.634254 | R53: 0.029552524 | S53: 2 | T53: 0.00053119296 | U53: 20.173321 | V53: 0.010795434 | W53: 2 | X53: 0.00053513419 | Y53: 0 | Z53: 0
B54: 運輸業， | C54: 鉄道業 | D54: H42 | E54: 0 | F54: 0 | G54: 0 | I54: 0 | J54: 0 | K54: 0 | M54: 0 | N54: 0 | O54: 0 | Q54: 0 | R54: 0 | S54: 0 | U54: 0 | V54: 0 | W54: 0 | Y54: 0 | Z54: 0 | AA54: 0
B55: 郵便業 | C55: 道路旅客運送業 | D55: H43 | E55: 0 | F55: 0 | G55: 0 | I55: 0 | J55: 0 | K55: 0 | M55: 0 | N55: 0 | O55: 0 | Q55: 0 | R55: 0 | S55: 0 | U55: 0 | V55: 0 | W55: 0 | Y55: 0 | Z55: 0 | AA55: 0
C56: 道路貨物運送業 | D56: H44 | E56: 0 | F56: 0 | G56: 0 | I56: 0 | J56: 0 | K56: 0 | M56: 0 | N56: 0 | O56: 0 | Q56: 0 | R56: 0 | S56: 0 | U56: 0 | V56: 0 | W56: 0 | Y56: 0 | Z56: 0 | AA56: 0
C57: 上記以外の運輸業，郵便業 | E57: 0 | F57: 0 | G57: 0 | I57: 0 | J57: 0 | K57: 0 | M57: 0 | N57: 0 | O57: 0 | Q57: 0 | R57: 0 | S57: 0 | U57: 0 | V57: 0 | W57: 0 | Y57: 0 | Z57: 0 | AA57: 0
C58: 卸売業，小売業大分類 | D58: I | E58: 124.21748 | F58: 0.066473022 | G58: 2 | H58: 0.00053513419 | I58: 9289.1648 | J58: 3.4621726 | K58: 2 | L58: 0.00037271087 | M58: 338.52546 | N58: 0.13863956 | O58: 2 | P58: 0.00040953953 | Q58: 2027.1359 | R58: 0.96975068 | S58: 2 | T58: 0.00047838464 | U58: 0 | V58: 0 | Y58: 0 | Z58: 0
C59: 各種商品卸売業 | D59: I50 | E59: 0 | F59: 0 | G59: 0 | I59: 0 | J59: 0 | K59: 0 | M59: 0 | N59: 0 | O59: 0 | Q59: 0 | R59: 0 | S59: 0 | U59: 0 | V59: 0 | W59: 0 | Y59: 0 | Z59: 0 | AA59: 0
C60: 木材・竹材卸売業 | D60: I5311 | E60: 0 | F60: 0 | G60: 0 | I60: 0 | J60: 0 | K60: 0 | M60: 0 | N60: 0 | O60: 0 | Q60: 0 | R60: 0 | S60: 0 | U60: 0 | V60: 0 | W60: 0 | Y60: 0 | Z60: 0 | AA60: 0
C61: 各種商品小売業 | D61: I56 | E61: 0 | F61: 0 | G61: 0 | I61: 0 | J61: 0 | K61: 0 | M61: 0 | N61: 0 | O61: 0 | Q61: 0 | R61: 0 | S61: 0 | U61: 0 | V61: 0 | W61: 0 | Y61: 0 | Z61: 0 | AA61: 0
B62: 卸売業， | C62: 自動車小売業 | D62: I591 | E62: 0 | F62: 0 | G62: 0 | I62: 0 | J62: 0 | K62: 0 | M62: 0 | N62: 0 | O62: 0 | Q62: 0 | R62: 0 | S62: 0 | U62: 0 | V62: 0 | W62: 0 | Y62: 0 | Z62: 0 | AA62: 0
B63: 小売業 | C63: 機械器具小売業 | D63: I593 | E63: 0 | F63: 0 | G63: 0 | I63: 0 | J63: 0 | K63: 0 | M63: 0 | N63: 0 | O63: 0 | Q63: 0 | R63: 0 | S63: 0 | U63: 0 | V63: 0 | W63: 0 | Y63: 0 | Z63: 0 | AA63: 0
C64: 家具・建具・畳小売業 | D64: I601 | E64: 0 | F64: 0 | G64: 0 | I64: 0 | J64: 0 | K64: 0 | M64: 0 | N64: 0 | O64: 0 | Q64: 0 | R64: 0 | S64: 0 | U64: 0 | V64: 0 | W64: 0 | Y64: 0 | Z64: 0 | AA64: 0
C65: じゅう器小売業 | D65: I602 | E65: 0 | F65: 0 | G65: 0 | I65: 0 | J65: 0 | K65: 0 | M65: 0 | N65: 0 | O65: 0 | Q65: 0 | R65: 0 | S65: 0 | U65: 0 | V65: 0 | W65: 0 | Y65: 0 | Z65: 0 | AA65: 0
C66: 燃料小売業 | D66: I605 | E66: 0 | F66: 0 | G66: 0 | I66: 0 | J66: 0 | K66: 0 | M66: 0 | N66: 0 | O66: 0 | Q66: 0 | R66: 0 | S66: 0 | U66: 0 | V66: 0 | W66: 0 | Y66: 0 | Z66: 0 | AA66: 0
C67: 上記以外の卸売業，小売業 | E67: 0 | F67: 0 | G67: 0 | I67: 0 | J67: 0 | K67: 0 | M67: 0 | N67: 0 | O67: 0 | Q67: 0 | R67: 0 | S67: 0 | U67: 0 | V67: 0 | W67: 0 | Y67: 0 | Z67: 0 | AA67: 0
B68: 不動産業， | C68: 不動産業，物品賃貸業大分類 | D68: K | E68: 0 | F68: 0 | I68: 19821.01 | J68: 10.542684 | K68: 2 | L68: 0.00053189439 | M68: 0 | N68: 0 | Q68: 0 | R68: 0 | U68: 0 | V68: 0 | Y68: 0 | Z68: 0
B69: 物品賃貸業 | C69: 物品賃貸業 | D69: K70 | E69: 0 | F69: 0 | G69: 0 | I69: 0 | J69: 0 | K69: 0 | M69: 0 | N69: 0 | O69: 0 | Q69: 0 | R69: 0 | S69: 0 | U69: 0 | V69: 0 | W69: 0 | Y69: 0 | Z69: 0 | AA69: 0
B70: 学術研究，専門 | C70: 学術研究，専門・技術サービス業大分類 | D70: L | E70: 1.1963295 | F70: 0.00064019681 | G70: 2 | H70: 0.00053513419 | I70: 54936.754 | J70: 29.349776 | K70: 2 | L70: 0.00053424665 | M70: 207.21079 | N70: 0.061413122 | O70: 2 | P70: 0.00029637994 | Q70: 178.26639 | R70: 0.09444344 | S70: 2 | T70: 0.00052978824 | U70: 572.63172 | V70: 0.18730949 | W70: 2 | X70: 0.00032710289 | Y70: 0 | Z70: 0
B71: ・技術サービス業 | C71: 学術・開発研究機関 | D71: L71 | E71: 0 | F71: 0 | G71: 0 | I71: 0 | J71: 0 | K71: 0 | M71: 0 | N71: 0 | O71: 0 | Q71: 0 | R71: 0 | S71: 0 | U71: 0 | V71: 0 | W71: 0 | Y71: 0 | Z71: 0 | AA71: 0
C72: 写真業 | D72: L746 | E72: 0 | F72: 0 | G72: 0 | I72: 0 | J72: 0 | K72: 0 | M72: 0 | N72: 0 | O72: 0 | Q72: 0 | R72: 0 | S72: 0 | U72: 0 | V72: 0 | W72: 0 | Y72: 0 | Z72: 0 | AA72: 0
B73: 宿泊業，飲食 | C73: 宿泊業，飲食サービス業大分類 | D73: M | E73: 473.2497 | I73: 7219.0888 | J73: 1.9515048 | K73: 2 | L73: 0.00027032564 | M73: 0.40332063 | N73: 0.00021583066 | O73: 2 | P73: 0.00053513419 | Q73: 0 | R73: 0 | U73: 0 | V73: 0 | Y73: 0 | Z73: 0
B74: サービス業 | C74: 飲食店 | D74: M76 | E74: 0 | F74: 0 | G74: 0 | I74: 0 | J74: 0 | K74: 0 | M74: 0 | N74: 0 | O74: 0 | Q74: 0 | R74: 0 | S74: 0 | U74: 0 | V74: 0 | W74: 0 | Y74: 0 | Z74: 0 | AA74: 0
C75: 上記以外の宿泊業，飲食サービス業 | E75: 0 | F75: 0 | G75: 0 | I75: 0 | J75: 0 | K75: 0 | M75: 0 | N75: 0 | O75: 0 | Q75: 0 | R75: 0 | S75: 0 | U75: 0 | V75: 0 | W75: 0 | Y75: 0 | Z75: 0 | AA75: 0
B76: 生活関連サー | C76: 生活関連サービス業，娯楽業大分類 | D76: N | E76: 0 | F76: 0 | I76: 13259.013 | J76: 6.7068436 | K76: 2 | L76: 0.0005058328 | M76: 0.14438898 | N76: 7.7267479e-05 | O76: 2 | P76: 0.00053513419 | Q76: 2.9504342 | R76: 0.0015788782 | S76: 2 | T76: 0.00053513419 | U76: 0 | V76: 0 | Y76: 0 | Z76: 0
B77: ビス業，娯楽業 | C77: 洗濯業 | D77: N781 | E77: 0 | F77: 0 | G77: 0 | I77: 0 | J77: 0 | K77: 0 | M77: 0 | N77: 0 | O77: 0 | Q77: 0 | R77: 0 | S77: 0 | U77: 0 | V77: 0 | W77: 0 | Y77: 0 | Z77: 0 | AA77: 0
B78: 教育，学習支援業 | C78: 教育，学習支援業 | D78: O | E78: 0 | F78: 0 | I78: 43103.761 | J78: 22.943835 | K78: 2 | L78: 0.0005322931 | M78: 8.5153553 | N78: 0.0013846951 | O78: 2 | P78: 0.00016261155 | Q78: 84.529002 | R78: 0.010389602 | S78: 2 | T78: 0.00012291168 | U78: 0 | V78: 0 | Y78: 0 | Z78: 0
C79: 医療，福祉大分類 | D79: P | E79: 454.98466 | F79: 0.23597177 | G79: 2 | H79: 0.00051863675 | I79: 13551.393 | J79: 6.6800895 | K79: 2 | L79: 0.00049294487 | M79: 5476.8993 | N79: 2.9098157 | O79: 2 | P79: 0.00053128889 | Q79: 6069.1109 | R79: 3.2214064 | S79: 2 | T79: 0.00053078721 | U79: 0 | V79: 0 | Y79: 0 | Z79: 0
B80: 医療，福祉 | C80: 医療業 | D80: P83 | E80: 0 | F80: 0 | I80: 194 | J80: 0 | L80: 0 | M80: 19 | N80: 0 | O80: 1 | P80: 0 | Q80: 39 | R80: 0 | S80: 1 | T80: 0 | U80: 0 | V80: 0 | Y80: 0 | Z80: 0
C81: 上記以外の医療，福祉 | E81: 0 | F81: 0 | I81: 126 | J81: 0 | L81: 0 | M81: 0 | N81: 0 | Q81: 0 | R81: 0 | U81: 0 | V81: 0 | Y81: 0 | Z81: 0
B82: 複合サービス事業 | C82: 複合サービス事業 | D82: Q | E82: 10.818956 | F82: 0.0009435284 | G82: 2 | H82: 8.721067e-05 | I82: 32926.781 | J82: 0.047228149 | K82: 2 | L82: 1.4343385e-06 | M82: 20.599752 | N82: 0.0062074237 | O82: 2 | P82: 0.00030133488 | Q82: 72.513014 | R82: 0.031312314 | S82: 2 | T82: 0.00043181648 | U82: 37 | V82: 0 | W82: 1 | X82: 0 | Y82: 0 | Z82: 0
C83: サービス業大分類 | D83: R | E83: 7.5109231 | F83: 0.0040193517 | G83: 1 | H83: 0.00053513419 | I83: 16357.876 | J83: 8.5943287 | K83: 1 | L83: 0.00052539392 | M83: 110.92097 | N83: 0.057703823 | O83: 1 | P83: 0.00052022463 | Q83: 758.60368 | R83: 0.36721752 | S83: 1 | T83: 0.00048407031 | U83: 0 | V83: 0 | W83: 0 | Y83: 0 | Z83: 0 | AA83: 0
B84: サービス業 | C84: 自動車整備業 | D84: R891 | E84: 0 | F84: 0 | G84: 0 | I84: 0 | J84: 0 | K84: 0 | M84: 0 | N84: 0 | O84: 0 | Q84: 0 | R84: 0 | S84: 0 | U84: 0 | V84: 0 | W84: 0 | Y84: 0 | Z84: 0 | AA84: 0
C85: と畜場 | D85: R952 | E85: 0 | F85: 0 | G85: 0 | I85: 0 | J85: 0 | K85: 0 | M85: 0 | N85: 0 | O85: 0 | Q85: 0 | R85: 0 | S85: 0 | U85: 0 | V85: 0 | W85: 0 | Y85: 0 | Z85: 0 | AA85: 0
C86: 上記以外のサービス業 | E86: 0 | F86: 0 | G86: 0 | I86: 0 | J86: 0 | K86: 0 | M86: 0 | N86: 0 | O86: 0 | Q86: 0 | R86: 0 | S86: 0 | U86: 0 | V86: 0 | W86: 0 | Y86: 0 | Z86: 0 | AA86: 0
B87: 公務 | C87: 公務 | D87: Ｓ | E87: 8 | F87: 0 | G87: 1 | H87: 0 | I87: 100.45004 | J87: 0 | L87: 0 | M87: 0 | N87: 0 | Q87: 10 | R87: 0 | T87: 0 | U87: 0 | V87: 0 | Y87: 0 | Z87: 0
C88: 合計 | E88: =SUM(E6,E11,E14:E15,E16,E41,E47,E53,E58,E68,E70,E73,E76,E78:E79,E82:E83,E87) -> 71652.943 | F88: =SUM(F6,F11,F14:F15,F16,F41,F47,F53,F58,F68,F70,F73,F76,F78:F79,F82:F83,F87) -> 106.19957 | G88: =SUM(G6:G87) -> 56 | H88: =IFERROR(F88/E88,"") -> 0.0014821383 | I88: =SUM(I6,I11,I14:I15,I16,I41,I47,I53,I58,I68,I70,I73,I76,I78:I79,I82:I83,I87) -> 4393256.4 | J88: =SUM(J6,J11,J14:J15,J16,J41,J47,J53,J58,J68,J70,J73,J76,J78:J79,J82:J83,J87) -> 1284.7354 | K88: =SUM(K6:K87) -> 81 | L88: =IFERROR(J88/I88,"") -> 0.00029243351 | M88: =SUM(M6,M11,M14:M15,M16,M41,M47,M53,M58,M68,M70,M73,M76,M78:M79,M82:M83,M87) -> 306937.93 | N88: =SUM(N6,N11,N14:N15,N16,N41,N47,N53,N58,N68,N70,N73,N76,N78:N79,N82:N83,N87) -> 137.999 | O88: =SUM(O6:O87) -> 67 | P88: =IFERROR(N88/M88,"") -> 0.00044959904 | Q88: =SUM(Q6,Q11,Q14:Q15,Q16,Q41,Q47,Q53,Q58,Q68,Q70,Q73,Q76,Q78:Q79,Q82:Q83,Q87) -> 610387.78 | R88: =SUM(R6,R11,R14:R15,R16,R41,R47,R53,R58,R68,R70,R73,R76,R78:R79,R82:R83,R87) -> 305.25457 | S88: =SUM(S6:S87) -> 65 | T88: =IFERROR(R88/Q88,"") -> 0.00050009942 | U88: =SUM(U6,U11,U14:U15,U16,U41,U47,U53,U58,U68,U70,U73,U76,U78:U79,U82:U83,U87) -> 5020065.7 | V88: =SUM(V6,V11,V14:V15,V16,V41,V47,V53,V58,V68,V70,V73,V76,V78:V79,V82:V83,V87) -> 12773.976 | W88: =SUM(W6:W87) -> 32 | X88: =IFERROR(V88/U88,"") -> 0.0025445834 | Y88: =SUM(Y6,Y11,Y14:Y15,Y16,Y41,Y47,Y53,Y58,Y68,Y70,Y73,Y76,Y78:Y79,Y82:Y83,Y87) -> 1359891 | Z88: =SUM(Z6,Z11,Z14:Z15,Z16,Z41,Z47,Z53,Z58,Z68,Z70,Z73,Z76,Z78:Z79,Z82:Z83,Z87) -> 1787.3587 | AA88: =SUM(AA6:AA87) -> 34 | AB88: =IFERROR(Z88/Y88,"") -> 0.0013143396
B89: ※大分類のみの回答で、かつ中分類への配分ができない都道府県があるため、中分類の合算値と大分類の値が合致しない項目がある。
B90: ※各産業廃棄物の排出量は、四捨五入しているため合算した値は合計値と異なる場合がある。
B91: ※空欄は該当値が無いもの、「0」表示は500kg/年未満である事を示している。
F93: =SUM(F88,J88,N88,R88,V88,Z88) -> 16395.523
F94: =F93/1000 -> 16.395523

Sheet 表Ⅵ・５
B2: 表―Ⅵ・５水銀使用製品廃棄物（個別製品の種類別）の処理量の集計結果（令和３年度実績値）
L3: （単位：ｔ/年）
B4: 廃棄物種類 | C4: 排出量 | D4: 直接再生 利用量 | E4: 直接最終 処分量 | F4: 中間処理量 | J4: 再生利用量 計 | K4: 減量化量 計 | L4: 最終処分量 計
F5: 中間処理量 | G5: 処理残渣量 | H5: 中間処理後 再生利用量 | I5: 中間処理後 最終処分量
B6: 水銀使用製品廃棄物由来の汚泥 | C6: 225.07865 | D6: 0 | E6: 134.99747 | F6: 90.081173 | G6: 6.8254062 | H6: 2.8580098 | I6: 3.9673964 | J6: 2.8580098 | K6: 83.255767 | L6: 138.96487
D7: 0 | E7: 0.59977913 | F7: 0.40022087 | G7: 0.030324539 | H7: 0.012697827 | I7: 0.017626712 | J7: 0.012697827 | K7: 0.36989634 | L7: 0.61740584
B8: 水銀使用製品廃棄物由来の廃プラスチック類 | C8: 22.340625 | D8: 0 | E8: 0 | F8: 22.340625 | G8: 0 | H8: 0 | I8: 0 | J8: 0 | K8: 22.340625 | L8: 0
D9: 0 | E9: 0 | F9: 1 | G9: 0 | H9: 0 | I9: 0 | J9: 0 | K9: 1 | L9: 0
B10: 水銀使用製品廃棄物由来の金属くず | C10: 0.002 | D10: 0 | E10: 0 | F10: 0.002 | G10: 0 | H10: 0 | I10: 0 | J10: 0 | K10: 0.002 | L10: 0
D11: 0 | E11: 0 | F11: 1 | G11: 0 | H11: 0 | I11: 0 | J11: 0 | K11: 1 | L11: 0
B12: 水銀使用製品廃棄物由来のガラスくず | C12: 208.18412 | D12: 0 | E12: 0 | F12: 208.18412 | G12: 0 | H12: 0 | I12: 0 | J12: 0 | K12: 208.18412 | L12: 0
D13: 0 | E13: 0 | F13: 1 | G13: 0 | H13: 0 | I13: 0 | J13: 0 | K13: 1 | L13: 0
B14: 合計 | C14: 455.60539 | D14: 0 | E14: 134.99747 | F14: 320.60792 | G14: 6.8254062 | H14: 2.8580098 | I14: 3.9673964 | J14: 2.8580098 | K14: 313.78251 | L14: 138.96487
D15: 0 | E15: 0.2963035 | F15: 0.7036965 | G15: 0.01498096 | H15: 0.0062729939 | I15: 0.0087079663 | J15: 0.0062729939 | K15: 0.68871554 | L15: 0.30501147
B16: ※四捨五入により、各項目の合算値と合計値が合致しない場合がある。

Sheet 表Ⅵ・６
B2: 表―Ⅵ・６ 水銀使用製品廃棄物（一括）の処理量の集計結果（令和３年度実績値）
L3: （単位：ｔ/年）
B4: 廃棄物種類 | C4: 排出量 | D4: 直接再生 利用量 | E4: 直接最終 処分量 | F4: 中間処理量 | J4: 再生利用量 計 | K4: 減量化量 計 | L4: 最終処分量 計
F5: 中間処理量 | G5: 処理残渣量 | H5: 中間処理後 再生利用量 | I5: 中間処理後 最終処分量
B6: 水銀使用製品廃棄物 （一括） | C6: 2414.6359 | D6: 0.023356416 | E6: 64.425121 | F6: 2350.1874 | G6: 2233.6393 | H6: 1626.4302 | I6: 607.20912 | J6: 1626.4536 | K6: 116.54809 | L6: 671.63424
D7: 9.672852e-06 | E7: 0.026681091 | F7: 0.97330924 | G7: 0.92504188 | H7: 0.67357162 | I7: 0.25147026 | J7: 0.67358129 | K7: 0.048267355 | L7: 0.27815135
B8: ※四捨五入により、各項目の合算値と合計値が合致しない場合がある。

Sheet 表Ⅵ・７
B2: 表―Ⅵ・７ 水銀含有ばいじん等の処理量の集計結果（令和３年実績値）
L3: （単位：ｔ/年）
B4: 廃棄物種類 | C4: 排出量 | D4: 直接再生 利用量 | E4: 直接最終 処分量 | F4: 中間処理量 | J4: 再生利用量 計 | K4: 減量化量 計 | L4: 最終処分量 計
F5: 中間処理量 | G5: 処理残渣量 | H5: 中間処理後 再生利用量 | I5: 中間処理後 最終処分量
B6: 燃え殻 | C6: 106.45283 | D6: 0 | E6: 9.339089 | F6: 97.113738 | G6: 97.072968 | H6: 96.440602 | I6: 0.63236599 | J6: 96.440602 | K6: 0.040769798 | L6: 9.971455
D7: 0 | E7: 0.087729836 | F7: 0.91227016 | G7: 0.91188718 | H7: 0.90594684 | I7: 0.0059403401 | J7: 0.90594684 | K7: 0.00038298465 | L7: 0.093670176
B8: 汚泥 | C8: 1284.7354 | D8: 22.042988 | E8: 31.526076 | F8: 1231.1663 | G8: 389.24333 | H8: 363.06401 | I8: 26.179315 | J8: 385.107 | K8: 841.92299 | L8: 57.705391
D9: 0.01715761 | E9: 0.024538964 | F9: 0.95830343 | G9: 0.30297549 | H9: 0.28259828 | I9: 0.020377204 | J9: 0.29975589 | K9: 0.65532794 | L9: 0.044916168
B10: 廃酸 | C10: 137.999 | D10: 0 | E10: 0.95635043 | F10: 137.04265 | G10: 8.4352255 | H10: 7.0903877 | I10: 1.3448378 | J10: 7.0903877 | K10: 128.60742 | L10: 2.3011883
D11: 0 | E11: 0.006930126 | F11: 0.99306987 | G11: 0.061125268 | H11: 0.051379995 | I11: 0.0097452726 | J11: 0.051379995 | K11: 0.93194461 | L11: 0.016675399
B12: 廃アルカリ | C12: 305.25457 | D12: 0.086017024 | E12: 0.23417438 | F12: 304.93438 | G12: 15.203948 | H12: 13.261639 | I12: 1.9423086 | J12: 13.347656 | K12: 289.73043 | L12: 2.1764829
D13: 0.00028178783 | E13: 0.00076714453 | F13: 0.99895107 | G13: 0.049807437 | H13: 0.043444523 | I13: 0.0063629139 | J13: 0.043726311 | K13: 0.94914363 | L13: 0.0071300584
B14: 鉱さい | C14: 12773.976 | D14: 233.12667 | E14: 367.70472 | F14: 12173.145 | G14: 425.38606 | H14: 421.40313 | I14: 3.9829204 | J14: 654.52981 | K14: 11747.759 | L14: 371.68764
D15: 0.018250126 | E15: 0.028785456 | F15: 0.95296442 | G15: 0.033300991 | H15: 0.032989191 | I15: 0.00031179958 | J15: 0.051239317 | K15: 0.91966343 | L15: 0.029097255
B16: ばいじん | C16: 1787.3587 | D16: 2.7330547 | E16: 58.700384 | F16: 1725.9252 | G16: 1718.1006 | H16: 1712.7689 | I16: 5.3316928 | J16: 1715.502 | K16: 7.8246355 | L16: 64.032077
D17: 0.0015291025 | E17: 0.032841972 | F17: 0.96562893 | G17: 0.96125116 | H17: 0.95826816 | I17: 0.002983001 | J17: 0.95979726 | K17: 0.0043777646 | L17: 0.035824973
B18: 合計 | C18: 16395.776 | D18: 257.98873 | E18: 468.4608 | F18: 15669.327 | G18: 2653.4421 | H18: 2614.0287 | I18: 39.413441 | J18: 2872.0174 | K18: 13015.885 | L18: 507.87424
D19: 0.015735073 | E19: 0.028572041 | F19: 0.95569289 | G19: 0.16183693 | H19: 0.15943305 | I19: 0.0024038777 | J19: 0.17516813 | K19: 0.79385596 | L19: 0.030975919
B20: ※四捨五入により、各項目の合算値と合計値が合致しない場合がある。

Sheet ×00_全国25
B1: 表－資・Ⅳ・２ 平成25年度業種別・種類別有効回答データ数合計表（旧産業分類の業種区分）
B2: No. | D2: 全国 | F2: 平成25年度 | Y2: (単位：件)
B3: 大分類 | C3: 番号 | D3: 産業分類 | E3: コード | F3: 燃え殻 | G3: 汚 泥 | H3: 廃 油 | I3: 廃 酸 | J3: 廃アルカリ | K3: 廃プラス チック類 | L3: 紙くず | M3: 木くず | N3: 繊維くず | O3: 動植物性 残 渣 | P3: 動物系固形不要物 | Q3: ゴムくず | R3: 金属くず | S3: ガラスくず及び 陶磁器くず | T3: 鉱さい | U3: がれき類 | V3: 動物の ふん尿 | W3: 動物の死体 | X3: ばいじん | Y3: 合 計
B4: 農 業 | D4: 農業大分類 | E4: A | F4: =COUNT('[4]26_京都府22:46_鹿児島県20'!F5) -> 5 | G4: =COUNT('[4]26_京都府22:46_鹿児島県20'!G5) -> 5 | H4: =COUNT('[4]26_京都府22:46_鹿児島県20'!H5) -> 5 | I4: =COUNT('[4]26_京都府22:46_鹿児島県20'!I5) -> 5 | J4: =COUNT('[4]26_京都府22:46_鹿児島県20'!J5) -> 5 | K4: =COUNT('[4]26_京都府22:46_鹿児島県20'!K5) -> 5 | L4: =COUNT('[4]26_京都府22:46_鹿児島県20'!L5) -> 5 | M4: =COUNT('[4]26_京都府22:46_鹿児島県20'!M5) -> 5 | ... Y4: =COUNT('[4]26_京都府22:46_鹿児島県20'!Y5) -> 5
C5: 1 | D5: 耕種農業 | E5: A011 | F5: =COUNT('[4]26_京都府22:46_鹿児島県20'!F6) -> 5 | G5: =COUNT('[4]26_京都府22:46_鹿児島県20'!G6) -> 5 | H5: =COUNT('[4]26_京都府22:46_鹿児島県20'!H6) -> 5 | I5: =COUNT('[4]26_京都府22:46_鹿児島県20'!I6) -> 5 | J5: =COUNT('[4]26_京都府22:46_鹿児島県20'!J6) -> 5 | K5: =COUNT('[4]26_京都府22:46_鹿児島県20'!K6) -> 5 | L5: =COUNT('[4]26_京都府22:46_鹿児島県20'!L6) -> 5 | M5: =COUNT('[4]26_京都府22:46_鹿児島県20'!M6) -> 5 | ... Y5: =COUNT('[4]26_京都府22:46_鹿児島県20'!Y6) -> 5
C6: 2 | D6: 畜産農業 | E6: A012 | F6: =COUNT('[4]26_京都府22:46_鹿児島県20'!F7) -> 5 | G6: =COUNT('[4]26_京都府22:46_鹿児島県20'!G7) -> 5 | H6: =COUNT('[4]26_京都府22:46_鹿児島県20'!H7) -> 5 | I6: =COUNT('[4]26_京都府22:46_鹿児島県20'!I7) -> 5 | J6: =COUNT('[4]26_京都府22:46_鹿児島県20'!J7) -> 5 | K6: =COUNT('[4]26_京都府22:46_鹿児島県20'!K7) -> 5 | L6: =COUNT('[4]26_京都府22:46_鹿児島県20'!L7) -> 5 | M6: =COUNT('[4]26_京都府22:46_鹿児島県20'!M7) -> 5 | ... Y6: =COUNT('[4]26_京都府22:46_鹿児島県20'!Y7) -> 5
C7: 3 | D7: 上記以外の農業 | F7: =COUNT('[4]26_京都府22:46_鹿児島県20'!F8) -> 5 | G7: =COUNT('[4]26_京都府22:46_鹿児島県20'!G8) -> 5 | H7: =COUNT('[4]26_京都府22:46_鹿児島県20'!H8) -> 5 | I7: =COUNT('[4]26_京都府22:46_鹿児島県20'!I8) -> 5 | J7: =COUNT('[4]26_京都府22:46_鹿児島県20'!J8) -> 5 | K7: =COUNT('[4]26_京都府22:46_鹿児島県20'!K8) -> 5 | L7: =COUNT('[4]26_京都府22:46_鹿児島県20'!L8) -> 5 | M7: =COUNT('[4]26_京都府22:46_鹿児島県20'!M8) -> 5 | ... Y7: =COUNT('[4]26_京都府22:46_鹿児島県20'!Y8) -> 5
B8: 林 業 | C8: 4 | D8: 林業大分類 | E8: B | F8: =COUNT('[4]26_京都府22:46_鹿児島県20'!F9) -> 5 | G8: =COUNT('[4]26_京都府22:46_鹿児島県20'!G9) -> 5 | H8: =COUNT('[4]26_京都府22:46_鹿児島県20'!H9) -> 5 | I8: =COUNT('[4]26_京都府22:46_鹿児島県20'!I9) -> 5 | J8: =COUNT('[4]26_京都府22:46_鹿児島県20'!J9) -> 5 | K8: =COUNT('[4]26_京都府22:46_鹿児島県20'!K9) -> 5 | L8: =COUNT('[4]26_京都府22:46_鹿児島県20'!L9) -> 5 | M8: =COUNT('[4]26_京都府22:46_鹿児島県20'!M9) -> 5 | ... Y8: =COUNT('[4]26_京都府22:46_鹿児島県20'!Y9) -> 5
B9: 漁 業 | D9: 漁業大分類 | E9: C | F9: =COUNT('[4]26_京都府22:46_鹿児島県20'!F10) -> 5 | G9: =COUNT('[4]26_京都府22:46_鹿児島県20'!G10) -> 5 | H9: =COUNT('[4]26_京都府22:46_鹿児島県20'!H10) -> 5 | I9: =COUNT('[4]26_京都府22:46_鹿児島県20'!I10) -> 5 | J9: =COUNT('[4]26_京都府22:46_鹿児島県20'!J10) -> 5 | K9: =COUNT('[4]26_京都府22:46_鹿児島県20'!K10) -> 5 | L9: =COUNT('[4]26_京都府22:46_鹿児島県20'!L10) -> 5 | M9: =COUNT('[4]26_京都府22:46_鹿児島県20'!M10) -> 5 | ... Y9: =COUNT('[4]26_京都府22:46_鹿児島県20'!Y10) -> 5
C10: 5 | D10: 漁 業 | E10: C03 | F10: =COUNT('[4]26_京都府22:46_鹿児島県20'!F11) -> 5 | G10: =COUNT('[4]26_京都府22:46_鹿児島県20'!G11) -> 5 | H10: =COUNT('[4]26_京都府22:46_鹿児島県20'!H11) -> 5 | I10: =COUNT('[4]26_京都府22:46_鹿児島県20'!I11) -> 5 | J10: =COUNT('[4]26_京都府22:46_鹿児島県20'!J11) -> 5 | K10: =COUNT('[4]26_京都府22:46_鹿児島県20'!K11) -> 5 | L10: =COUNT('[4]26_京都府22:46_鹿児島県20'!L11) -> 5 | M10: =COUNT('[4]26_京都府22:46_鹿児島県20'!M11) -> 5 | ... Y10: =COUNT('[4]26_京都府22:46_鹿児島県20'!Y11) -> 5
C11: 6 | D11: 水産養殖業 | E11: C04 | F11: =COUNT('[4]26_京都府22:46_鹿児島県20'!F12) -> 5 | G11: =COUNT('[4]26_京都府22:46_鹿児島県20'!G12) -> 5 | H11: =COUNT('[4]26_京都府22:46_鹿児島県20'!H12) -> 5 | I11: =COUNT('[4]26_京都府22:46_鹿児島県20'!I12) -> 5 | J11: =COUNT('[4]26_京都府22:46_鹿児島県20'!J12) -> 5 | K11: =COUNT('[4]26_京都府22:46_鹿児島県20'!K12) -> 5 | L11: =COUNT('[4]26_京都府22:46_鹿児島県20'!L12) -> 5 | M11: =COUNT('[4]26_京都府22:46_鹿児島県20'!M12) -> 5 | ... Y11: =COUNT('[4]26_京都府22:46_鹿児島県20'!Y12) -> 5
B12: 鉱 業 | C12: 7 | D12: 鉱業 | E12: D | F12: =COUNT('[4]26_京都府22:46_鹿児島県20'!F13) -> 5 | G12: =COUNT('[4]26_京都府22:46_鹿児島県20'!G13) -> 5 | H12: =COUNT('[4]26_京都府22:46_鹿児島県20'!H13) -> 5 | I12: =COUNT('[4]26_京都府22:46_鹿児島県20'!I13) -> 5 | J12: =COUNT('[4]26_京都府22:46_鹿児島県20'!J13) -> 5 | K12: =COUNT('[4]26_京都府22:46_鹿児島県20'!K13) -> 5 | L12: =COUNT('[4]26_京都府22:46_鹿児島県20'!L13) -> 5 | M12: =COUNT('[4]26_京都府22:46_鹿児島県20'!M13) -> 5 | ... Y12: =COUNT('[4]26_京都府22:46_鹿児島県20'!Y13) -> 5
B13: 建設業 | C13: 8 | D13: 建設業 | E13: E | F13: =COUNT('[4]26_京都府22:46_鹿児島県20'!F14) -> 5 | G13: =COUNT('[4]26_京都府22:46_鹿児島県20'!G14) -> 5 | H13: =COUNT('[4]26_京都府22:46_鹿児島県20'!H14) -> 5 | I13: =COUNT('[4]26_京都府22:46_鹿児島県20'!I14) -> 5 | J13: =COUNT('[4]26_京都府22:46_鹿児島県20'!J14) -> 5 | K13: =COUNT('[4]26_京都府22:46_鹿児島県20'!K14) -> 5 | L13: =COUNT('[4]26_京都府22:46_鹿児島県20'!L14) -> 5 | M13: =COUNT('[4]26_京都府22:46_鹿児島県20'!M14) -> 5 | ... Y13: =COUNT('[4]26_京都府22:46_鹿児島県20'!Y14) -> 5
D14: 製造業大分類 | E14: F | F14: =COUNT('[4]26_京都府22:46_鹿児島県20'!F15) -> 5 | G14: =COUNT('[4]26_京都府22:46_鹿児島県20'!G15) -> 5 | H14: =COUNT('[4]26_京都府22:46_鹿児島県20'!H15) -> 5 | I14: =COUNT('[4]26_京都府22:46_鹿児島県20'!I15) -> 5 | J14: =COUNT('[4]26_京都府22:46_鹿児島県20'!J15) -> 5 | K14: =COUNT('[4]26_京都府22:46_鹿児島県20'!K15) -> 5 | L14: =COUNT('[4]26_京都府22:46_鹿児島県20'!L15) -> 5 | M14: =COUNT('[4]26_京都府22:46_鹿児島県20'!M15) -> 5 | ... Y14: =COUNT('[4]26_京都府22:46_鹿児島県20'!Y15) -> 5
C15: 9 | D15: 食料品製造業 | E15: F9 | F15: =COUNT('[4]26_京都府22:46_鹿児島県20'!F16) -> 5 | G15: =COUNT('[4]26_京都府22:46_鹿児島県20'!G16) -> 5 | H15: =COUNT('[4]26_京都府22:46_鹿児島県20'!H16) -> 5 | I15: =COUNT('[4]26_京都府22:46_鹿児島県20'!I16) -> 5 | J15: =COUNT('[4]26_京都府22:46_鹿児島県20'!J16) -> 5 | K15: =COUNT('[4]26_京都府22:46_鹿児島県20'!K16) -> 5 | L15: =COUNT('[4]26_京都府22:46_鹿児島県20'!L16) -> 5 | M15: =COUNT('[4]26_京都府22:46_鹿児島県20'!M16) -> 5 | ... Y15: =COUNT('[4]26_京都府22:46_鹿児島県20'!Y16) -> 5
C16: 10 | D16: 飲料・たばこ・飼料製造業 | E16: F10 | F16: =COUNT('[4]26_京都府22:46_鹿児島県20'!F17) -> 5 | G16: =COUNT('[4]26_京都府22:46_鹿児島県20'!G17) -> 5 | H16: =COUNT('[4]26_京都府22:46_鹿児島県20'!H17) -> 5 | I16: =COUNT('[4]26_京都府22:46_鹿児島県20'!I17) -> 5 | J16: =COUNT('[4]26_京都府22:46_鹿児島県20'!J17) -> 5 | K16: =COUNT('[4]26_京都府22:46_鹿児島県20'!K17) -> 5 | L16: =COUNT('[4]26_京都府22:46_鹿児島県20'!L17) -> 5 | M16: =COUNT('[4]26_京都府22:46_鹿児島県20'!M17) -> 5 | ... Y16: =COUNT('[4]26_京都府22:46_鹿児島県20'!Y17) -> 5
C17: 11 | D17: 繊維工業 | E17: F11 | F17: =COUNT('[4]26_京都府22:46_鹿児島県20'!F18) -> 5 | G17: =COUNT('[4]26_京都府22:46_鹿児島県20'!G18) -> 5 | H17: =COUNT('[4]26_京都府22:46_鹿児島県20'!H18) -> 5 | I17: =COUNT('[4]26_京都府22:46_鹿児島県20'!I18) -> 5 | J17: =COUNT('[4]26_京都府22:46_鹿児島県20'!J18) -> 5 | K17: =COUNT('[4]26_京都府22:46_鹿児島県20'!K18) -> 5 | L17: =COUNT('[4]26_京都府22:46_鹿児島県20'!L18) -> 5 | M17: =COUNT('[4]26_京都府22:46_鹿児島県20'!M18) -> 5 | ... Y17: =COUNT('[4]26_京都府22:46_鹿児島県20'!Y18) -> 5
C18: 12 | D18: 衣服・その他の繊維製品製造業 | E18: F12 | F18: =COUNT('[4]26_京都府22:46_鹿児島県20'!F19) -> 5 | G18: =COUNT('[4]26_京都府22:46_鹿児島県20'!G19) -> 5 | H18: =COUNT('[4]26_京都府22:46_鹿児島県20'!H19) -> 5 | I18: =COUNT('[4]26_京都府22:46_鹿児島県20'!I19) -> 5 | J18: =COUNT('[4]26_京都府22:46_鹿児島県20'!J19) -> 5 | K18: =COUNT('[4]26_京都府22:46_鹿児島県20'!K19) -> 5 | L18: =COUNT('[4]26_京都府22:46_鹿児島県20'!L19) -> 5 | M18: =COUNT('[4]26_京都府22:46_鹿児島県20'!M19) -> 5 | ... Y18: =COUNT('[4]26_京都府22:46_鹿児島県20'!Y19) -> 5
C19: 13 | D19: 木材・木製品製造業 | E19: F13 | F19: =COUNT('[4]26_京都府22:46_鹿児島県20'!F20) -> 5 | G19: =COUNT('[4]26_京都府22:46_鹿児島県20'!G20) -> 5 | H19: =COUNT('[4]26_京都府22:46_鹿児島県20'!H20) -> 5 | I19: =COUNT('[4]26_京都府22:46_鹿児島県20'!I20) -> 5 | J19: =COUNT('[4]26_京都府22:46_鹿児島県20'!J20) -> 5 | K19: =COUNT('[4]26_京都府22:46_鹿児島県20'!K20) -> 5 | L19: =COUNT('[4]26_京都府22:46_鹿児島県20'!L20) -> 5 | M19: =COUNT('[4]26_京都府22:46_鹿児島県20'!M20) -> 5 | ... Y19: =COUNT('[4]26_京都府22:46_鹿児島県20'!Y20) -> 5
C20: 14 | D20: 家具・装備品製造業 | E20: F14 | F20: =COUNT('[4]26_京都府22:46_鹿児島県20'!F21) -> 5 | G20: =COUNT('[4]26_京都府22:46_鹿児島県20'!G21) -> 5 | H20: =COUNT('[4]26_京都府22:46_鹿児島県20'!H21) -> 5 | I20: =COUNT('[4]26_京都府22:46_鹿児島県20'!I21) -> 5 | J20: =COUNT('[4]26_京都府22:46_鹿児島県20'!J21) -> 5 | K20: =COUNT('[4]26_京都府22:46_鹿児島県20'!K21) -> 5 | L20: =COUNT('[4]26_京都府22:46_鹿児島県20'!L21) -> 5 | M20: =COUNT('[4]26_京都府22:46_鹿児島県20'!M21) -> 5 | ... Y20: =COUNT('[4]26_京都府22:46_鹿児島県20'!Y21) -> 5
