Workbook
Name OLE_LINK7: ×表Ⅱ・4!#REF!
Name RZK_DD: #REF!
Name RZK_DD: #REF!
Name RZK_DD: #REF!
Name RZK_DD: #REF!
Name RZK_DD: #REF!
Name RZK_DD: #REF!
Name RZK_DD: #REF!
Name RZK_TTL: #REF!
Name RZK_TTL: #REF!
Name RZK_TTL: #REF!
Name RZK_TTL: #REF!
Name RZK_TTL: #REF!
Name RZK_TTL: #REF!
Name RZK_TTL: #REF!
Name san: #REF!
Name san: #REF!
Name san: #REF!
Name san: #REF!
Name san: #REF!
Name san: #REF!
Name デ１: [1]デフレータ!#REF!
Name デ１: [1]デフレータ!#REF!
Name デ１: [1]デフレータ!#REF!
Name デ１: [1]デフレータ!#REF!
Name デフレータ: [1]デフレータ!#REF!
Name デフレータ: [1]デフレータ!#REF!
Name デフレータ: [1]デフレータ!#REF!
Name デフレータ: [1]デフレータ!#REF!

Sheet 表Ⅱ・8
B1: 表―Ⅱ・８ 濃縮汚泥量（全国量（ｍ３／年））
B3: No. | C3: 都道府県名 | D3: 令和3年度
B4: 1 | C4: 北海道 | D4: 4203072.9
B5: 2 | C5: 青森県 | D5: 551093.2
B6: 3 | C6: 岩手県 | D6: 521457.15
B7: 4 | C7: 宮城県 | D7: 1604626.6
B8: 5 | C8: 秋田県 | D8: 371014.6
B9: 6 | C9: 山形県 | D9: 586135.2
B10: 7 | C10: 福島県 | D10: 783195.6
B11: 8 | C11: 茨城県 | D11: 1703521
B12: 9 | C12: 栃木県 | D12: 921529.77
B13: 10 | C13: 群馬県 | D13: 1009795.8
B14: 11 | C14: 埼玉県 | D14: 4528333.2
B15: 12 | C15: 千葉県 | D15: 3501957.4
... B50: 47 | C50: 沖縄県 | D50: 850788.1
B51: 合計 | D51: 77279565

Sheet 表Ⅲ・2
B1: 表－Ⅲ・２ 産業廃棄物の業種別排出量（令和３年度実績値）
B3: 業種 | D3: 令和３年度 | F3: 令和２年度（参考）
D4: 排出量（千ｔ） | E4: 割合（%） | F4: 排出量（千ｔ） | G4: 割合（%）
B5: 農業、林業 | D5: =表Ⅲ・5!Y5 -> 81693.24 | E5: =D5/D$87*100 -> 21.731736 | F5: 82367.445 | G5: 22.034117
C6: 耕種農業 | D6: =表Ⅲ・5!Y6 -> 21.798322 | E6: =D6/D$87*100 -> 0.0057987097 | F6: 22.500435 | G6: 0.0060190919
C7: 畜産農業 | D7: =表Ⅲ・5!Y7 -> 81464.548 | E7: =D7/D$87*100 -> 21.6709 | F7: 82048.111 | G7: 21.948692
C8: 林業大分類 | D8: =表Ⅲ・5!Y8 -> 15.00376 | E8: =D8/D$87*100 -> 0.0039912451 | F8: 14.594343 | G8: 0.0039041331
C9: 上記以外の農業 | D9: =表Ⅲ・5!Y9 -> 0 | E9: =D9/D$87*100 -> 0 | F9: 0 | G9: 0
B10: 漁 業 | D10: =表Ⅲ・5!Y10 -> 6.4095073 | E10: =D10/D$87*100 -> 0.0017050336 | F10: 6.3602357 | G10: 0.0017014268
C11: 漁 業 | D11: =表Ⅲ・5!Y11 -> 0.88671993 | E11: =D11/D$87*100 -> 0.00023588198 | F11: 1.0686758 | G11: 0.0002858815
C12: 水産養殖業 | D12: =表Ⅲ・5!Y12 -> 0.16582725 | E12: =D12/D$87*100 -> 4.4112756e-05 | F12: 0.16813431 | G12: 4.4977613e-05
B13: 鉱 業 | D13: =表Ⅲ・5!Y13 -> 7847.8547 | E13: =D13/D$87*100 -> 2.0876575 | F13: 8233.9303 | G13: 2.2026589
B14: 建設業 | D14: =表Ⅲ・5!Y14 -> 80936.749 | E14: =D14/D$87*100 -> 21.530497 | F14: 78213.833 | G14: 20.922984
B15: 製造業 | D15: =表Ⅲ・5!Y15 -> 98243.646 | E15: =D15/D$87*100 -> 26.134414 | F15: 99143.156 | G15: 26.521788
C16: 食料品製造業 | D16: =表Ⅲ・5!Y16 -> 8708.8461 | E16: =D16/D$87*100 -> 2.3166953 | F16: 8924.6613 | G16: 2.3874364
C17: 飲料・たばこ・飼料製造業 | D17: =表Ⅲ・5!Y17 -> 2582.8594 | E17: =D17/D$87*100 -> 0.68708279 | F17: 2622.2376 | G17: 0.70147483
C18: 繊維工業 | D18: =表Ⅲ・5!Y18 -> 802.07628 | E18: =D18/D$87*100 -> 0.21336539 | F18: 721.53903 | G18: 0.19301892
C19: 木材・木製品製造業 | D19: =表Ⅲ・5!Y19 -> 885.47085 | E19: =D19/D$87*100 -> 0.23554971 | F19: 929.49612 | G19: 0.24864953
C20: 家具・装備品製造業 | D20: =表Ⅲ・5!Y20 -> 189.85003 | E20: =D20/D$87*100 -> 0.050503208 | F20: 191.97316 | G20: 0.051354744
C21: パルプ・紙・紙加工品製造業 | D21: =表Ⅲ・5!Y21 -> 27744.73 | E21: =D21/D$87*100 -> 7.3805513 | F21: 30631.887 | G21: 8.1943368
C22: 印刷・同関連業 | D22: =表Ⅲ・5!Y22 -> 498.53909 | E22: =D22/D$87*100 -> 0.13261954 | F22: 470.53455 | G22: 0.12587271
C23: 化学工業 | D23: =表Ⅲ・5!Y23 -> 9481.2894 | E23: =D23/D$87*100 -> 2.5221778 | F23: 8901.6429 | G23: 2.3812787
C24: 石油製品・石炭製品製造業 | D24: =表Ⅲ・5!Y24 -> 1137.3459 | E24: =D24/D$87*100 -> 0.30255258 | F24: 1128.1412 | G24: 0.30178908
C25: プラスチック製品製造業 | D25: =表Ⅲ・5!Y25 -> 1100.2829 | E25: =D25/D$87*100 -> 0.29269321 | F25: 1043.6056 | G25: 0.27917496
C26: ゴム製品製造業 | D26: =表Ⅲ・5!Y26 -> 326.78182 | E26: =D26/D$87*100 -> 0.086929302 | F26: 307.77102 | G26: 0.082331834
C27: なめし革・同製品・毛皮製造業 | D27: =表Ⅲ・5!Y27 -> 17.383754 | E27: =D27/D$87*100 -> 0.0046243626 | F27: 16.807162 | G27: 0.0044960845
... C39: その他の製造業 | D39: =表Ⅲ・5!Y39 -> 593.22427 | E39: =D39/D$87*100 -> 0.15780735 | F39: 568.52312 | G39: 0.15208563
B40: 電気･ガス・熱供給・水道業 | D40: =表Ⅲ・5!Y40 -> 99481.206 | E40: =D40/D$87*100 -> 26.463626 | F40: 99319.495 | G40: 26.568961
C41: 電気業 | D41: =表Ⅲ・5!Y41 -> 11318.842 | E41: =D41/D$87*100 -> 3.0109967 | F41: 10245.382 | G41: 2.7407424
C42: ガス業 | D42: =表Ⅲ・5!Y42 -> 11.131342 | E42: =D42/D$87*100 -> 0.0029611188 | F42: 6.1841082 | G42: 0.001654311
C43: 熱供給業 | D43: =表Ⅲ・5!Y43 -> 219.87376 | E43: =D43/D$87*100 -> 0.058490012 | F43: 221.27737 | G43: 0.059193914
C44: 上水道業 | D44: =表Ⅲ・5!Y44 -> 10071.491 | E44: =D44/D$87*100 -> 2.6791811 | F44: 10785.926 | G44: 2.8853433
C45: 下水道業 | D45: =表Ⅲ・5!Y45 -> 77859.868 | E45: =D45/D$87*100 -> 20.711997 | F45: 78060.726 | G45: 20.882027
B46: 情報通信業 | D46: =表Ⅲ・5!Y46 -> 107.30468 | E46: =D46/D$87*100 -> 0.028544798 | F46: 78.288483 | G46: 0.020942954
C47: 通信業 | D47: =表Ⅲ・5!Y47 -> 20.172492 | E47: =D47/D$87*100 -> 0.0053662124 | F47: 20.375511 | G47: 0.0054506535
C48: 放送業 | D48: =表Ⅲ・5!Y48 -> 22.109913 | E48: =D48/D$87*100 -> 0.0058815979 | F48: 19.444895 | G48: 0.0052017044
C49: 情報サービス業 | D49: =表Ⅲ・5!Y49 -> 12.714827 | E49: =D49/D$87*100 -> 0.0033823517 | F49: 8.7074401 | G49: 0.0023293275
C50: インターネット付随サービス業 | D50: =表Ⅲ・5!Y50 -> 10.556735 | E50: =D50/D$87*100 -> 0.0028082641 | F50: 14.504051 | G50: 0.003879979
C51: 映像・音声・文字情報制作業 | D51: =表Ⅲ・5!Y51 -> 5.9017487 | E51: =D51/D$87*100 -> 0.0015699615 | F51: 5.6082691 | G51: 0.0015002682
B52: 運輸業 | D52: =表Ⅲ・5!Y52 -> 684.34083 | E52: =D52/D$87*100 -> 0.18204584 | F52: 630.52468 | G52: 0.16867167
...

Sheet 表Ⅲ・3
B1: 表－Ⅲ・３ 産業廃棄物の業種別排出量（令和３年度実績値） | Q1: =表Ⅲ・5!Z87 -> 0 | R1: =表Ⅲ・5!AA87 -> 0 | S1: =表Ⅲ・5!AB87 -> 0
B3: 種類 | C3: 令和３年度 | E3: 令和２年度（参考）
C4: 排出量（千ｔ） | D4: 割合（%） | E4: 排出量（千ｔ） | F4: 割合（%）
B5: 燃え殻 | C5: =表Ⅲ・5!F87 -> 2185.1608 | D5: =C5/$C$24*100 -> 0.58128846 | E5: 2058.7971 | F5: 0.55074885
B6: 汚 泥 | C6: =表Ⅲ・5!G87 -> 159817.75 | D6: =C6/$C$24*100 -> 42.514133 | E6: 163648.41 | F6: 43.77759
B7: 廃 油 | C7: =表Ⅲ・5!H87 -> 2935.5722 | D7: =C7/$C$24*100 -> 0.78091015 | E7: 2906.0059 | F7: 0.77738572
B8: 廃 酸 | C8: =表Ⅲ・5!I87 -> 3103.3051 | D8: =C8/$C$24*100 -> 0.82552983 | E8: 2970.5614 | F8: 0.79465496
B9: 廃アルカリ | C9: =表Ⅲ・5!J87 -> 2521.1706 | D9: =C9/$C$24*100 -> 0.67067257 | E9: 2435.4181 | F9: 0.65149875
B10: 廃プラスチック類 | C10: =表Ⅲ・5!K87 -> 7350.8714 | D10: =C10/$C$24*100 -> 1.9554518 | E10: 6937.6733 | F10: 1.8558972
B11: 紙くず | C11: =表Ⅲ・5!L87 -> 790.8979 | D11: =C11/$C$24*100 -> 0.21039176 | E11: 855.779 | F11: 0.22892946
B12: 木くず | C12: =表Ⅲ・5!M87 -> 7739.6095 | D12: =C12/$C$24*100 -> 2.0588625 | E12: 7789.8524 | F12: 2.0838636
B13: 繊維くず | C13: =表Ⅲ・5!N87 -> 92.804393 | D13: =C13/$C$24*100 -> 0.024687484 | E13: 88.144308 | F13: 0.023579486
B14: 動植物性残さ | C14: =表Ⅲ・5!O87 -> 2316.3916 | D14: =C14/$C$24*100 -> 0.616198 | E14: 2377.0415 | F14: 0.63588242
B15: 動物系固形不要物 | C15: =表Ⅲ・5!P87 -> 74.619115 | D15: =C15/$C$24*100 -> 0.019849903 | E15: 101.90038 | F15: 0.027259373
B16: ゴムくず | C16: =表Ⅲ・5!Q87 -> 15.480396 | D16: =C16/$C$24*100 -> 0.0041180381 | E16: 18.148081 | F16: 0.0048547936
B17: 金属くず | C17: =表Ⅲ・5!R87 -> 6894.5501 | D17: =C17/$C$24*100 -> 1.8340629 | E17: 6149.5142 | F17: 1.6450567
B18: ガラスくず、コンクリートくず及び陶磁器くず | C18: =表Ⅲ・5!S87 -> 8040.8929 | D18: =C18/$C$24*100 -> 2.1390088 | E18: 7831.6798 | F18: 2.0950529
B19: 鉱さい | C19: =表Ⅲ・5!T87 -> 11303.013 | D19: =C19/$C$24*100 -> 3.0067862 | E19: 10778.233 | F19: 2.8832853
B20: がれき類 | C20: =表Ⅲ・5!U87 -> 62498.853 | D20: =C20/$C$24*100 -> 16.625716 | E20: 59713.295 | F20: 15.973905
B21: 動物のふん尿 | C21: =表Ⅲ・5!V87 -> 81270.546 | D21: =C21/$C$24*100 -> 21.619293 | E21: 81854.846 | F21: 21.896992
B22: 動物の死体 | C22: =表Ⅲ・5!W87 -> 167.53165 | D22: =C22/$C$24*100 -> 0.044566156 | E22: 166.18954 | F22: 0.044457368
B23: ばいじん | C23: =表Ⅲ・5!X87 -> 16797.744 | D23: =C23/$C$24*100 -> 4.4684741 | E23: 15136.278 | F23: 4.0491061
B24: 合 計 | C24: =表Ⅲ・5!Y87 -> 375916.77 | D24: =C24/$C$24*100 -> 100 | E24: 373817.77 | F24: 100

Sheet 表Ⅲ・4
B1: 表－Ⅲ・４ 産業廃棄物の地域別排出量（令和３年度実績値）
B3: 地域別 | C3: 令和３年度 | E3: 令和２年度（参考）
C4: 排出量（千ｔ） | D4: 割合（%） | E4: 排出量（千ｔ） | F4: 割合（%）
B5: 北海道 | C5: 35271.637 | D5: 9.3828314 | E5: 38159.319 | F5: 10.208
B6: 東北 | C6: 36909.344 | D6: 9.8184884 | E6: 36961.293 | F6: 9.8875166
B7: 関東 | C7: 98670.633 | D7: 26.248 | E7: 97135.601 | F7: 25.984747
B8: 中部 | C8: 62427.967 | D8: 16.606859 | E8: 60010.153 | F8: 16.053318
B9: 近畿 | C9: 50372.279 | D9: 13.399849 | E9: 49076.635 | F9: 13.128492
B10: 中国 | C10: 25392.731 | D10: 6.7548811 | E10: 25548.784 | F10: 6.8345559
B11: 四国 | C11: 14121.166 | D11: 3.7564609 | E11: 14516.58 | F11: 3.8833307
B12: 九州 | C12: 52751.012 | D12: 14.032631 | E12: 52409.399 | F12: 14.02004
B13: 合 計 | C13: 375916.77 | D13: 100 | E13: 373817.77 | F13: 100
B14: ※ 各地域の産業廃棄物の量は四捨五入しているため、合算した値は合計値と異なる場合がある。

Sheet 表Ⅲ・5
B1: 表－Ⅲ・５ 令和３年度実績値 業種別・種類別排出量推計値一覧表
D3: 全国 | F3: 令和３年度 | Y3: (単位：千ｔ/年)
B4: 大分類 | C4: 番号 | D4: 産業分類 | E4: コード | F4: 燃え殻 | G4: 汚 泥 | H4: 廃 油 | I4: 廃 酸 | J4: 廃アルカリ | K4: 廃プラス チック類 | L4: 紙くず | M4: 木くず | N4: 繊維くず | O4: 動植物性 残 渣 | P4: 動物系固形不要物 | Q4: ゴムくず | R4: 金属くず | S4: ガラスくず及び 陶磁器くず | T4: 鉱さい | U4: がれき類 | V4: 動物の ふん尿 | W4: 動物の死体 | X4: ばいじん | Y4: 合 計
B5: 農業、 | D5: 農業大分類 | E5: Ａ | F5: 0.48576364 | G5: 59.081847 | H5: 4.1961249 | I5: 3.0773927 | J5: 0.082769279 | K5: 99.532215 | L5: 0 | M5: 70.595475 | N5: 0 | O5: 0 | P5: 0 | Q5: 0.0082557963 | R5: 1.678919 | S5: 10.631422 | T5: 0.24402 | U5: 5.5474647 | V5: 81270.546 | W5: 167.53165 | X5: 0 | Y5: 81693.24
B6: 林業 | C6: 1 | D6: 耕種農業 | E6: A011 | F6: 0 | G6: 0 | H6: 0.592 | I6: 0 | J6: 0 | K6: 20.757147 | L6: 0 | M6: 0.001495328 | N6: 0 | O6: 0 | P6: 0 | Q6: 0 | R6: 0 | S6: 0.44767986 | T6: 0 | U6: 0 | V6: 0 | W6: 0 | X6: 0 | Y6: 21.798322
C7: 2 | D7: 畜産農業 | E7: A012 | F7: 0 | G7: 0 | H7: 0 | I7: 0 | J7: 0 | K7: 26.428448 | L7: 0 | M7: 0.00033914039 | N7: 0 | O7: 0 | P7: 0 | Q7: 0 | R7: 0.04115566 | S7: 0 | T7: 0 | U7: 0 | V7: 81270.546 | W7: 167.53165 | X7: 0 | Y7: 81464.548
C8: 3 | D8: 林業大分類 | E8: A02 | F8: 0 | G8: 0 | H8: 0.0080988593 | I8: 0 | J8: 0 | K8: 0.67074454 | L8: 0 | M8: 6.5155315 | N8: 0 | O8: 0 | P8: 0 | Q8: 0 | R8: 0.10176151 | S8: 7.6416101 | T8: 0 | U8: 0.066013024 | V8: 0 | W8: 0 | X8: 0 | Y8: 15.00376
C9: 4 | D9: 上記以外の農業 | F9: 0 | G9: 0 | H9: 0 | I9: 0 | J9: 0 | K9: 0 | L9: 0 | M9: 0 | N9: 0 | O9: 0 | P9: 0 | Q9: 0 | R9: 0 | S9: 0 | T9: 0 | U9: 0 | V9: 0 | W9: 0 | X9: 0
B10: 漁 業 | D10: 漁業大分類 | E10: B | F10: 0.0008117 | G10: 1.3198728 | H10: 0.41229824 | I10: 0.02100544 | J10: 0 | K10: 3.7749944 | L10: 0 | M10: 0.2337269 | N10: 0 | O10: 0 | P10: 0 | Q10: 0 | R10: 0.57225004 | S10: 0.046352732 | T10: 0 | U10: 0.02819504 | V10: 0 | W10: 0 | X10: 0 | Y10: 6.4095073
C11: 5 | D11: 漁 業 | E11: B03 | F11: 0 | G11: 0 | H11: 0.015063043 | I11: 0 | J11: 0 | K11: 0.86602899 | L11: 0 | M11: 0.00029699757 | N11: 0 | O11: 0 | P11: 0 | Q11: 0 | R11: 0.0051477718 | S11: 0.00011444993 | T11: 0 | U11: 6.8669958e-05 | V11: 0 | W11: 0 | X11: 0 | Y11: 0.88671993
C12: 6 | D12: 水産養殖業 | E12: B04 | F12: 0 | G12: 0.0069400928 | H12: 0 | I12: 0 | J12: 0 | K12: 0.040357481 | L12: 0 | M12: 0 | N12: 0 | O12: 0 | P12: 0 | Q12: 0 | R12: 0.11852967 | S12: 0 | T12: 0 | U12: 0 | V12: 0 | W12: 0 | X12: 0 | Y12: 0.16582725
B13: 鉱 業 | C13: 7 | D13: 鉱業 | E13: C | F13: 0.16344047 | G13: 7449.8467 | H13: 4.156409 | I13: 0.24764791 | J13: 0.71133978 | K13: 2.4038159 | L13: 0 | M13: 0.67157721 | N13: 0 | O13: 0 | P13: 0 | Q13: 0.062616107 | R13: 12.467293 | S13: 13.429255 | T13: 16.168746 | U13: 347.48912 | V13: 0 | W13: 0 | X13: 0.036772004 | Y13: 7847.8547
B14: 建設業 | C14: 8 | D14: 建設業 | E14: D | F14: 55.679168 | G14: 10128.956 | H14: 107.91355 | I14: 5.8420662 | J14: 63.248671 | K14: 1378.0072 | L14: 304.86769 | M14: 5743.7163 | N14: 70.897972 | O14: 0 | P14: 0 | Q14: 0.8393487 | R14: 943.88976 | S14: 2812.1069 | T14: 85.142365 | U14: 59232.674 | V14: 0 | W14: 0 | X14: 2.9681623 | Y14: 80936.749
B15: 製造業 | D15: 製造業大分類 | E15: E | F15: 849.79 | G15: 52024.115 | H15: 2279.029 | I15: 2951.4114 | J15: 2294.814 | K15: 3459.2379 | L15: 484.6049 | M15: 1391.8295 | N15: 21.906421 | O15: 2316.3916 | P15: 53.748384 | Q15: 11.747544 | R15: 5270.1451 | S15: 4719.1612 | T15: 11107.33 | U15: 1938.2511 | V15: 0 | W15: 0 | X15: 7070.1331 | Y15: 98243.646
C16: 9 | D16: 食料品製造業 | E16: E9 | F16: 45.24659 | G16: 5816.5126 | H16: 136.98917 | I16: 102.95267 | J16: 52.010119 | K16: 364.44932 | L16: 0.003 | M16: 13.628399 | N16: 0 | O16: 1562.2932 | P16: 53.702384 | Q16: 0.036953976 | R16: 151.22064 | S16: 44.628272 | T16: 159.81132 | U16: 11.747829 | V16: 0 | W16: 0 | X16: 193.61365 | Y16: 8708.8461
C17: 10 | D17: 飲料・たばこ・飼料製造業 | E17: E10 | F17: 2.0322665 | G17: 1184.2912 | H17: 5.7838802 | I17: 740.01823 | J17: 37.98629 | K17: 73.033468 | L17: 0 | M17: 5.1872408 | N17: 0 | O17: 463.0419 | P17: 0 | Q17: 0.042390594 | R17: 20.820124 | S17: 12.909444 | T17: 19.309628 | U17: 2.2034083 | V17: 0 | W17: 0 | X17: 16.199937 | Y17: 2582.8594
C18: 11 | D18: 繊維工業 | E18: E11 | F18: 34.142656 | G18: 465.90624 | H18: 18.678356 | I18: 19.288714 | J18: 23.598278 | K18: 128.75992 | L18: 0 | M18: 4.3296809 | N18: 20.148421 | O18: 0 | P18: 0 | Q18: 0.0036462174 | R18: 4.0311824 | S18: 0.73387144 | T18: 0.0923591 | U18: 1.7405754 | V18: 0 | W18: 0 | X18: 80.622383 | Y18: 802.07628
C19: 12 | D19: 木材・木製品製造業 | E19: E12 | F19: 54.976464 | G19: 6.1587799 | H19: 2.062694 | I19: 0.32279516 | J19: 1.049939 | K19: 34.92246 | L19: 0 | M19: 740.41268 | N19: 0 | O19: 0 | P19: 0 | Q19: 0.0028231597 | R19: 8.8427942 | S19: 20.131803 | T19: 1.120273 | U19: 3.7704562 | V19: 0 | W19: 0 | X19: 11.696895 | Y19: 885.47085
C20: 13 | D20: 家具・装備品製造業 | E20: E13 | F20: 1.0028695 | G20: 21.567097 | H20: 2.0367475 | I20: 1.1225648 | J20: 1.1187791 | K20: 26.959259 | L20: 0 | M20: 117.63171 | N20: 0 | O20: 0 | P20: 0 | Q20: 0.037185658 | R20: 6.9455782 | S20: 3.0577236 | T20: 2.5645783 | U20: 3.7809517 | V20: 0 | W20: 0 | X20: 2.0249807 | Y20: 189.85003
C21: 14 | D21: パルプ・紙・紙加工品製造業 | E21: E14 | F21: 282.48746 | G21: 25687.568 | H21: 20.255766 | I21: 4.149734 | J21: 18.4552 | K21: 443.40699 | L21: 310.77813 | M21: 42.247135 | N21: 0 | O21: 0 | P21: 0 | Q21: 0.0057881479 | R21: 48.722054 | S21: 13.5196 | T21: 33.637557 | U21: 3.3842006 | V21: 0 | W21: 0 | X21: 836.11234 | Y21: 27744.73
C22: 15 | D22: 印刷・同関連業 | E22: E15 | F22: 1.5606542 | G22: 55.05983 | H22: 37.350307 | I22: 10.278127 | J22: 19.368142 | K22: 133.58475 | L22: 152.16726 | M22: 4.6402997 | N22: 0 | O22: 0 | P22: 0 | Q22: 0.022306927 | R22: 18.910967 | S22: 2.5324574 | T22: 6.8128753 | U22: 1.1171246 | V22: 0 | W22: 0 | X22: 55.133994 | Y22: 498.53909
C23: 16 | D23: 化学工業 | E23: E16 | F23: 99.141403 | G23: 5467.5907 | H23: 803.49343 | I23: 556.83059 | J23: 1241.0894 | K23: 254.31424 | L23: 0 | M23: 30.701848 | N23: 0 | O23: 65.300383 | P23: 0 | Q23: 0.046033072 | R23: 197.9677 | S23: 62.393227 | T23: 264.22534 | U23: 49.374246 | V23: 0 | W23: 0 | X23: 388.82093 | Y23: 9481.2894
C24: 17 | D24: 石油製品・石炭製品製造業 | E24: E17 | F24: 11.113366 | G24: 359.89676 | H24: 91.912821 | I24: 61.902546 | J24: 34.02484 | K24: 24.941408 | L24: 0 | M24: 2.9082273 | N24: 0 | O24: 0 | P24: 0 | Q24: 0.12988308 | R24: 79.67109 | S24: 91.878193 | T24: 94.528236 | U24: 179.46331 | V24: 0 | W24: 0 | X24: 104.97522 | Y24: 1137.3459
C25: 18 | D25: プラスチック製品製造業 | E25: E18 | F25: 21.70951 | G25: 224.12607 | H25: 53.70713 | I25: 28.474932 | J25: 32.706125 | K25: 630.15081 | L25: 0 | M25: 31.935505 | N25: 0 | O25: 0 | P25: 0 | Q25: 0.1015724 | R25: 27.335287 | S25: 15.301561 | T25: 3.9217187 | U25: 8.5404071 | V25: 0 | W25: 0 | X25: 22.272216 | Y25: 1100.2829
C26: 19 | D26: ゴム製品製造業 | E26: E19 | F26: 2.0768514 | G26: 76.702651 | H26: 13.458467 | I26: 0.62032243 | J26: 3.3029559 | K26: 203.54979 | L26: 0 | M26: 4.1380709 | N26: 0 | O26: 0 | P26: 0 | Q26: 9.9871093 | R26: 8.625387 | S26: 2.5090451 | T26: 0.6576136 | U26: 0.17833351 | V26: 0 | W26: 0 | X26: 0.97522493 | Y26: 326.78182
C27: 20 | D27: なめし革・同製品・毛皮製造業 | E27: E20 | F27: 0.00011954627 | G27: 11.349579 | H27: 2.1120774 | I27: 0.0024716076 | J27: 0.16172803 | K27: 3.0734614 | L27: 0 | M27: 0.39311547 | N27: 0 | O27: 0 | P27: 0 | Q27: 0.01631336 | R27: 0.18742942 | S27: 0.036864495 | T27: 0.026671493 | U27: 0.0016173213 | V27: 0 | W27: 0 | X27: 0.022305776 | Y27: 17.383754
... C39: 32 | D39: その他の製造業 | E39: E32 | F39: 21.676118 | G39: 89.950286 | H39: 61.272596 | I39: 8.0599053 | J39: 21.689475 | K39: 111.26108 | L39: 0 | M39: 22.899129 | N39: 0 | O39: 0 | P39: 0 | Q39: 0.026395874 | R39: 27.184618 | S39: 42.030798 | T39: 21.273226 | U39: 30.018618 | V39: 0 | W39: 0 | X39: 135.88203 | Y39: 593.22427
B40: 電気･ガス | D40: インフラ大分類 | E40: F | F40: 1205.3959 | G40: 88255.979 | H40: 5.8962251 | I40: 2.1436097 | J40: 28.764227 | K40: 9.6555628 | L40: 0 | M40: 10.428149 | N40: 0 | O40: 0 | P40: 0 | Q40: 0.003473217 | R40: 12.849098 | S40: 40.173575 | T40: 75.54811 | U40: 176.6048 | V40: 0 | W40: 0 | X40: 9657.7642 | Y40: 99481.206
B41: ･熱供給･ | C41: 33 | D41: 電気業 | E41: F33 | F41: 1152.1712 | G41: 1077.5598 | H41: 4.7641614 | I41: 1.5655488 | J41: 3.9838511 | K41: 7.462377 | L41: 0 | M41: 6.6525035 | N41: 0 | O41: 0 | P41: 0 | Q41: 0.0019253494 | R41: 9.9889698 | S41: 38.980378 | T41: 71.30094 | U41: 69.214045 | V41: 0 | W41: 0 | X41: 8875.196 | Y41: 11318.842
B42: 水道業 | C42: 34 | D42: ガス業 | E42: F34 | F42: 0 | G42: 0.49575155 | H42: 0.1566835 | I42: 0 | J42: 0.0031701261 | K42: 0.96458809 | L42: 0 | M42: 3.4942316 | N42: 0 | O42: 0 | P42: 0 | Q42: 0.00064835526 | R42: 1.2166729 | S42: 0.530209 | T42: 0.00023302999 | U42: 4.269154 | V42: 0 | W42: 0 | X42: 0 | Y42: 11.131342
C43: 35 | D43: 熱供給業 | E43: F35 | F43: 23.610838 | G43: 171.83786 | H43: 0.013227437 | I43: 0.0061124199 | J43: 0.0086065864 | K43: 0.015065733 | L43: 0 | M43: 0.0011232993 | N43: 0 | O43: 0 | P43: 0 | Q43: 6.9525816e-06 | R43: 0.026861684 | S43: 0.00068447395 | T43: 0.074021219 | U43: 0.52813989 | V43: 0 | W43: 0 | X43: 23.751213 | Y43: 219.87376
C44: 36 | D44: 上水道業 | E44: F361 | F44: 6.3253127 | G44: 9726.5203 | H44: 0.43862161 | I44: 0.41149813 | J44: 24.521976 | K44: 0.5311061 | L44: 0 | M44: 0.087666764 | N44: 0 | O44: 0 | P44: 0 | Q44: 6.3284888e-05 | R44: 0.70641788 | S44: 0.21575899 | T44: 0.84577625 | U44: 87.828514 | V44: 0 | W44: 0 | X44: 223.05789 | Y44: 10071.491
C45: 37 | D45: 下水道業 | E45: F363 | F45: 23.288604 | G45: 77279.565 | H45: 0.52353118 | I45: 0.16045034 | J45: 0.246623 | K45: 0.68242593 | L45: 0 | M45: 0.19262391 | N45: 0 | O45: 0 | P45: 0 | Q45: 0.00082927493 | R45: 0.91017608 | S45: 0.44654426 | T45: 3.3271391 | U45: 14.764952 | V45: 0 | W45: 0 | X45: 535.75911 | Y45: 77859.868
B46: 情報通信業 | D46: 情報大分類 | E46: G | F46: 0.0072993502 | G46: 1.12819 | H46: 2.5598466 | I46: 0.74768524 | J46: 10.033307 | K46: 17.337769 | L46: 1.425316 | M46: 1.9524375 | N46: 0 | O46: 0 | P46: 0 | Q46: 0.012390551 | R46: 28.098879 | S46: 4.9296181 | T46: 0 | U46: 39.071944 | V46: 0 | W46: 0 | X46: 0 | Y46: 107.30468
C47: 38 | D47: 通信業 | E47: G37 | F47: 0 | G47: 0.0066609684 | H47: 0.2827214 | I47: 0 | J47: 0 | K47: 7.3484364 | L47: 0 | M47: 0 | N47: 0 | O47: 0 | P47: 0 | Q47: 0 | R47: 6.3631324 | S47: 2.9986735 | T47: 0 | U47: 3.1728676 | V47: 0 | W47: 0 | X47: 0 | Y47: 20.172492
C48: 39 | D48: 放送業 | E48: G38 | F48: 0 | G48: 0.1412548 | H48: 0 | I48: 0 | J48: 0.011106772 | K48: 4.3595581 | L48: 0 | M48: 0.085325916 | N48: 0 | O48: 0 | P48: 0 | Q48: 0 | R48: 14.173512 | S48: 0.1017572 | T48: 0 | U48: 3.2373978 | V48: 0 | W48: 0 | X48: 0 | Y48: 22.109913
C49: 40 | D49: 情報サービス業 | E49: G39 | F49: 0 | G49: 0.42880905 | H49: 0 | I49: 0 | J49: 0 | K49: 4.2643908 | L49: 0 | M49: 0.00082516012 | N49: 0 | O49: 0 | P49: 0 | Q49: 0 | R49: 6.4079001 | S49: 1.6129021 | T49: 0 | U49: 0 | V49: 0 | W49: 0 | X49: 0 | Y49: 12.714827
C50: 41 | D50: インターネット付随サービス業 | E50: G40 | F50: 0 | G50: 0 | H50: 0.66225754 | I50: 0 | J50: 9.8890936 | K50: 0.0041593983 | L50: 0 | M50: 0 | N50: 0 | O50: 0 | P50: 0 | Q50: 0 | R50: 0.0012249114 | S50: 0 | T50: 0 | U50: 0 | V50: 0 | W50: 0 | X50: 0 | Y50: 10.556735
C51: 42 | D51: 映像・音声・文字情報制作業 | E51: G41 | F51: 0 | G51: 0.0018514858 | H51: 1.6148677 | I51: 0.54747832 | J51: 0.087834489 | K51: 1.3612247 | L51: 0.91909729 | M51: 0 | N51: 0 | O51: 0 | P51: 0 | Q51: 0 | R51: 1.1531094 | S51: 0.21628535 | T51: 0 | U51: 0 | V51: 0 | W51: 0 | X51: 0 | Y51: 5.9017487
B52: 運輸業 | D52: 運輸大分類 | E52: H | F52: 0.45834455 | G52: 151.26876 | H52: 48.575278 | I52: 2.759214 | J52: 3.8259466 | K52: 202.65966 | L52: 0 | M52: 171.5624 | N52: 0 | O52: 0 | P52: 0 | Q52: 0.23098664 | R52: 36.05976 | S52: 27.801775 | T52: 5.7794213 | U52: 33.061597 | V52: 0 | W52: 0 | X52: 0.29768577 | Y52: 684.34083
...

Sheet 表Ⅲ・6
C1: 表－Ⅲ・６ 令和３年度実績値 都道府県別・種類別排出量推計値一覧表
X3: (単位：千ｔ/年)
B4: 大分類 | C4: No. | D4: 都道府県名 | E4: 燃え殻 | F4: 汚 泥 | G4: 廃 油 | H4: 廃 酸 | I4: 廃アルカリ | J4: 廃プラス チック類 | K4: 紙くず | L4: 木くず | M4: 繊維くず | N4: 動植物性 残 渣 | O4: 動物系 固形不要物 | P4: ゴムくず | Q4: 金属くず | R4: ガラスくず 及び 陶磁器くず | S4: 鉱さい | T4: がれき類 | U4: 動物の ふん尿 | V4: 動物の死体 | W4: ばいじん | X4: 合 計
C5: 1 | D5: 北海道 | E5: 248.53659 | F5: 7987.4323 | G5: 46.301455 | H5: 23.176317 | I5: 7.5638469 | J5: 376.08588 | K5: 7.3178115 | L5: 458.51781 | M5: 1.8973542 | N5: 138.82982 | O5: 1.3196403 | P5: 0.038571678 | Q5: 74.709542 | R5: 392.18 | S5: 79.560075 | T5: 3525.0719 | U5: 20466.355 | V5: 42.156182 | W5: 1394.5867 | X5: 35271.637
C6: 2 | D6: 青森県 | E6: 8.0550215 | F6: 1639.1238 | G6: 9.6879448 | H6: 8.6969969 | I6: 11.250672 | J6: 36.002821 | K6: 2.6687916 | L6: 77.565743 | M6: 1.0100685 | N6: 39.095055 | O6: 1.8289646 | P6: 0.10130538 | Q6: 15.766491 | R6: 104.94156 | S6: 49.981516 | T6: 1004.3316 | U6: 2188.8313 | V6: 0.68980144 | W6: 36.267728 | X6: 5235.8972
C7: 3 | D7: 岩手県 | E7: 15.834521 | F7: 857.02461 | G7: 14.304291 | H7: 8.289541 | I7: 10.81295 | J7: 58.600129 | K7: 2.658991 | L7: 98.280673 | M7: 1.234364 | N7: 14.93428 | O7: 0.71393 | P7: 0.0001626 | Q7: 12.203607 | R7: 117.36234 | S7: 99.24099 | T7: 1041.7684 | U7: 3828.2171 | V7: 4.2243849 | W7: 41.00809 | X7: 6226.7133
C8: 4 | D8: 宮城県 | E8: 34.012356 | F8: 5291.6177 | G8: 35.90607 | H8: 11.708022 | I8: 10.928629 | J8: 169.17699 | K8: 14.743 | L8: 324.79317 | M8: 5.574 | N8: 30.995 | O8: 0 | P8: 0.13209858 | Q8: 39.152669 | R8: 236.76469 | S8: 56.802458 | T8: 1786.853 | U8: 1750.3809 | V8: 1.7513958 | W8: 158.3286 | X8: 9959.6207
C9: 5 | D9: 秋田県 | E9: 51.338911 | F9: 1298.5925 | G9: 15.288077 | H9: 5.3734008 | I9: 7.563976 | J9: 41.339362 | K9: 7.355 | L9: 70.706476 | M9: 0.466 | N9: 10.844 | O9: 0 | P9: 0.0069828233 | Q9: 12.025826 | R9: 48.709626 | S9: 150.23537 | T9: 519.77689 | U9: 951.46375 | V9: 0.42270537 | W9: 29.282626 | X9: 3220.7914
C10: 6 | D10: 山形県 | E10: 9.5551994 | F10: 1024.6299 | G10: 28.458265 | H10: 24.382949 | I10: 34.946191 | J10: 76.09735 | K10: 21.455998 | L10: 102.1966 | M10: 1.2717582 | N10: 30.954654 | O10: 0 | P10: 0.10580683 | Q10: 39.055002 | R10: 58.416638 | S10: 34.070612 | T10: 878.24036 | U10: 1037.4034 | V10: 1.7752669 | W10: 232.00285 | X10: 3635.0188
C11: 7 | D11: 福島県 | E11: 244.93563 | F11: 3244.1881 | G11: 33.176088 | H11: 18.962989 | I11: 92.912155 | J11: 202.67702 | K11: 5.636384 | L11: 275.35909 | M11: 4.138853 | N11: 17.813369 | O11: 0 | P11: 0.01986 | Q11: 29.686456 | R11: 146.07821 | S11: 156.21494 | T11: 1621.8544 | U11: 1218.4328 | V11: 1.8137007 | W11: 1317.403 | X11: 8631.3029
C12: 8 | D12: 茨城県 | E12: 98.905874 | F12: 5543.2042 | G12: 164.89787 | H12: 100.79021 | I12: 53.910914 | J12: 186.9241 | K12: 16.759397 | L12: 168.9251 | M12: 1.1837435 | N12: 91.032158 | O12: 0 | P12: 1.1051539 | Q12: 92.924257 | R12: 302.52605 | S12: 163.74253 | T12: 1432.0293 | U12: 2587.8985 | V12: 2.9288745 | W12: 688.58635 | X12: 11698.275
C13: 9 | D13: 栃木県 | E13: 4.2455018 | F13: 2762.4588 | G13: 50.252822 | H13: 30.057276 | I13: 28.33764 | J13: 187.49432 | K13: 13.276629 | L13: 176.87247 | M13: 0.60458962 | N13: 32.920492 | O13: 1.1077345 | P13: 0.080547787 | Q13: 29.824231 | R13: 150.83289 | S13: 274.98007 | T13: 1027.1455 | U13: 2861.9909 | V13: 27.084895 | W13: 33.880885 | X13: 7693.4481
C14: 10 | D14: 群馬県 | E14: 4.395538 | F14: 1427.3485 | G14: 52.720148 | H14: 7.9203837 | I14: 18.404326 | J14: 37.002495 | K14: 1.87801 | L14: 55.376719 | M14: 0.09737 | N14: 125.44802 | O14: 0 | P14: 0.1482461 | Q14: 14.449536 | R14: 113.92807 | S14: 97.432281 | T14: 299.30774 | U14: 2891.104 | V14: 2.0817311 | W14: 16.246961 | X14: 5165.2901
C15: 11 | D15: 埼玉県 | E15: 40.181193 | F15: 6705.9945 | G15: 100.41352 | H15: 34.984396 | I15: 33.432547 | J15: 367.89578 | K15: 60.068004 | L15: 232.93838 | M15: 4.3913409 | N15: 111.95639 | O15: 1.4042537 | P15: 1.6591481 | Q15: 165.98499 | R15: 271.51259 | S15: 101.19792 | T15: 2073.1808 | U15: 638.53538 | V15: 1.7171566 | W15: 28.424701 | X15: 10975.873
C16: 12 | D16: 千葉県 | E16: 29.446023 | F16: 7930.1129 | G16: 232.87645 | H16: 192.82273 | I16: 87.659066 | J16: 218.93957 | K16: 60.53 | L16: 307.19743 | M16: 2.236 | N16: 44.744 | O16: 0 | P16: 0.42194409 | Q16: 1731.6544 | R16: 352.66679 | S16: 2241.4226 | T16: 2389.1382 | U16: 2847.3909 | V16: 9.8716722 | W16: 2465.3184 | X16: 21144.449
... C51: 47 | D51: 沖縄県 | E51: 8.4912301 | F51: 1037.6611 | G51: 14.918144 | H51: 0.73818838 | I51: 0.31486511 | J51: 28.690094 | K51: 1.1302791 | L51: 34.223636 | M51: 0.062712245 | N51: 107.04414 | O51: 1.3962912 | P51: 0.31637229 | Q51: 11.440331 | R51: 88.244092 | S51: 26.593947 | T51: 420.59137 | U51: 1393.4083 | V51: 1.9004263 | W51: 153.09878 | X51: 3330.2643
C52: 全国 | E52: 2185.1608 | F52: 159817.75 | G52: 2935.5722 | H52: 3103.3051 | I52: 2521.1706 | J52: 7350.8714 | K52: 790.8979 | L52: 7739.6095 | M52: 92.804393 | N52: 2316.3916 | O52: 74.619115 | P52: 15.480396 | Q52: 6894.5501 | R52: 8040.8929 | S52: 11303.013 | T52: 62498.853 | U52: 81270.546 | V52: 167.53165 | W52: 16797.744 | X52: 375916.77
C53: ※四捨五入により、各項目の合算値と合計値が合致しない場合がある。
C54: ※動物の死体の原単位については平成30年度家畜共済統計表（農林水産省）の動物の死亡率を用いて推計した。

Sheet 表Ⅲ・7
B1: 表－Ⅲ・７ 令和３年度実績値 業種別・種類別全国共通原単位一覧表
D3: 全国 | F3: 令和３年度
B4: 大分類 | C4: 番号 | D4: 産業分類 | E4: コード | F4: 単位 | G4: 燃え殻 | H4: 汚 泥 | I4: 廃 油 | J4: 廃 酸 | K4: 廃アルカリ | L4: 廃プラス チック類 | M4: 紙くず | N4: 木くず | O4: 繊維くず | P4: 動植物性 残 渣 | Q4: 動物系固形不要物 | R4: ゴムくず | S4: 金属くず | T4: ガラスくず及び 陶磁器くず | U4: 鉱さい | V4: がれき類 | W4: 動物の ふん尿 | X4: 動物の死体 | Y4: ばいじん | AA4: 合 計
D5: 農業，林業大分類 | E5: A
C6: 1 | D6: 耕種農業 | E6: A011 | F6: t/千a | G6: 0 | H6: 0 | I6: 0 | J6: 0 | K6: 0 | N6: 0 | R6: 0 | S6: 0 | T6: 0 | U6: 0 | V6: 0 | Y6: 0
B7: 農業，林業 | C7: 2 | D7: 畜産農業 | E7: A012 | F7: t/頭羽 | G7: 0 | H7: 0 | I7: 0 | J7: 0 | K7: 0 | N7: 0 | R7: 0 | S7: 0 | T7: 0 | U7: 0 | V7: 0 | Y7: 0
C8: 3 | D8: 林業 | E8: A02 | F8: t/千人 | G8: 0 | H8: 0 | I8: 0 | J8: 0 | K8: 0 | N8: 0 | R8: 0 | S8: 0 | T8: 0 | U8: 0 | V8: 0 | Y8: 0
C9: 4 | D9: 上記以外の農業，林業
D10: 漁業大分類 | E10: B
B11: 漁 業 | C11: 5 | D11: 漁業 | E11: B03 | F11: t/千人
C12: 6 | D12: 水産養殖業 | E12: B04 | F12: t/千人
B13: 鉱 業 | C13: 7 | D13: 鉱業，採石業，砂利採取業 | E13: C | F13: t/千人 | G13: 9.4173634 | H13: 397109.85 | I13: 207.06058 | J13: 14.607893 | K13: 0.40039253 | L13: 113.21329 | N13: 33.478517 | R13: 1.5103934 | S13: 67.875613 | T13: 298.12202 | U13: 919.26586 | V13: 17102.806 | Y13: 2.0347974
B14: 建設業 | C14: 8 | D14: 建設業 | E14: D | F14: t/十億円 | G14: 0.58893578 | H14: 171.58354 | I14: 2.0496978 | J14: 0.1020266 | K14: 0.58881374 | L14: 22.594983 | M14: 5.1279654 | N14: 95.627385 | O14: 1.1935795 | R14: 0.010800643 | S14: 14.998073 | T14: 43.462711 | U14: 1.3582847 | V14: 949.19963 | Y14: 0.061964357
D15: 製造業大分類 | E15: E
C16: 9 | D16: 食料品製造業 | E16: E09 | F16: t/十億円 | G16: 1.6093762 | H16: 170.84434 | I16: 4.2842036 | J16: 3.8178297 | K16: 2.0614025 | L16: 12.592336 | N16: 0.45864293 | R16: 0.00032016112 | S16: 0.89803183 | T16: 1.1782974 | U16: 0.00017003252 | V16: 0.056564916 | Y16: 2.6587046
C17: 10 | D17: 飲料・たばこ・飼料製造業 | E17: E10 | F17: t/十億円 | G17: 0.15197186 | H17: 107.38081 | I17: 0.14583501 | J17: 99.725585 | K17: 5.9483725 | L17: 5.6342984 | N17: 0.37879936 | R17: 0.0065890874 | S17: 0.45920627 | T17: 0.23988115 | U17: 0 | V17: 0.014373401 | Y17: 0.0075246155
C18: 11 | D18: 繊維工業 | E18: E11 | F18: t/十億円 | G18: 2.7499811 | H18: 76.526136 | I18: 2.594565 | J18: 7.1179178 | K18: 10.925173 | L18: 31.233854 | N18: 0.77474486 | R18: 0.00038190458 | S18: 0.51809955 | T18: 0.14247768 | U18: 0 | V18: 0.018984996 | Y18: 20.735059
C19: 12 | D19: 木材・木製品製造業 | E19: E12 | F19: t/十億円 | G19: 15.736303 | H19: 0.66633011 | I19: 0.28389129 | J19: 0.00019949849 | K19: 0.42455013 | L19: 10.326152 | N19: 212.83599 | R19: 0.0012828161 | S19: 0.82063496 | T19: 2.4731009 | U19: 0 | V19: 0.55744743 | Y19: 2.9867686
C20: 13 | D20: 家具・装備品製造業 | E20: E13 | F20: t/十億円 | G20: 0.18223035 | H20: 5.4022089 | I20: 0.20965762 | J20: 0.38415426 | K20: 0.16249591 | L20: 16.114471 | N20: 46.220778 | R20: 0.029818899 | S20: 2.6763863 | T20: 0.49716457 | U20: 0.022693198 | V20: 0.92444111 | Y20: 0
C21: 14 | D21: パルプ・紙・紙加工品製造業 | E21: E14 | F21: t/十億円 | G21: 35.237327 | H21: 3409.5766 | I21: 2.4664632 | J21: 0.32182798 | K21: 0.42269794 | L21: 59.008925 | N21: 3.794202 | R21: 0.00013192026 | S21: 4.3067889 | T21: 1.2237519 | U21: 0.58891524 | V21: 0.24074425 | Y21: 102.47666
C22: 15 | D22: 印刷・同関連業 | E22: E15 | F22: t/十億円 | G22: 0.55806804 | H22: 13.358323 | I22: 10.903781 | J22: 2.0735554 | K22: 5.8985944 | L22: 33.284022 | N22: 1.1537704 | R22: 0.0061435595 | S22: 1.7555745 | T22: 0.5169731 | U22: 0 | V22: 0.13361598 | Y22: 1.650363
C23: 16 | D23: 化学工業 | E23: E16 | F23: t/十億円 | G23: 1.9775493 | H23: 137.22238 | I23: 19.663755 | J23: 16.682641 | K23: 45.060724 | L23: 6.7329125 | N23: 0.6257344 | R23: 0.00091734079 | S23: 0.90004564 | T23: 0.6918847 | U23: 3.1729413 | V23: 0.61338153 | Y23: 7.8960852
C24: 17 | D24: 石油製品・石炭製品製造業 | E24: E17 | F24: t/十億円 | G24: 0.80647439 | H24: 21.094686 | I24: 6.0355837 | J24: 4.3919361 | K24: 1.0712412 | L24: 0.66798815 | N24: 0.16445191 | R24: 0.0066329377 | S24: 0.48912007 | T24: 4.7269286 | U24: 0.0043539302 | V24: 9.5924445 | Y24: 2.4810413
B25: 製造業 | C25: 18 | D25: プラスチック製品製造業 | E25: E18 | F25: t/十億円 | G25: 0.066977907 | H25: 10.036451 | I25: 3.2971059 | J25: 0.53711372 | K25: 1.5666299 | L25: 42.404211 | N25: 1.7371392 | R25: 0.0061822116 | S25: 1.7544502 | T25: 0.33428467 | U25: 0.0064056044 | V25: 0.9930398 | Y25: 1.2492716
C26: 19 | D26: ゴム製品製造業 | E26: E19 | F26: t/十億円 | G26: 0.20473475 | H26: 23.602599 | I26: 3.1348233 | J26: 0.081000161 | K26: 1.2571217 | L26: 53.893727 | N26: 1.1723643 | R26: 2.5070633 | S26: 1.9468764 | T26: 0.94924275 | U26: 0 | V26: 0.037137515 | Y26: 0.00093393639
C27: 20 | D27: なめし革・同製品・毛皮製造業 | E27: E20 | F27: t/十億円 | G27: 0 | H27: 18.947722 | I27: 17.279854 | J27: 0 | K27: 1.3464777 | L27: 15.408078 | N27: 0.69044978 | R27: 0.13136685 | S27: 0.067556663 | T27: 0.0028229462 | U27: 0 | V27: 0 | Y27: 0
C28: 21 | D28: 窯業・土石製品製造業 | E28: E21 | F28: t/十億円 | G28: 15.622033 | H28: 491.54984 | I28: 1.9287359 | J28: 2.1170282 | K28: 12.483187 | L28: 9.6007422 | N28: 9.5631427 | R28: 0.0053415212 | S28: 0.71625523 | T28: 399.08141 | U28: 4.6518399 | V28: 130.89249 | Y28: 4.0993359
C29: 22 | D29: 鉄鋼業 | E29: E22 | F29: t/十億円 | G29: 6.3510193 | H29: 91.090903 | I29: 9.2326744 | J29: 18.881585 | K29: 1.7822578 | L29: 3.8621124 | N29: 1.3839108 | R29: 0.0015215354 | S29: 103.00247 | T29: 12.904994 | U29: 466.14003 | V29: 14.260532 | Y29: 199.6825
C30: 23 | D30: 非鉄金属製造業 | E30: E23 | F30: t/十億円 | G30: 0.29485751 | H30: 40.817066 | I30: 4.1798199 | J30: 2.1844632 | K30: 5.9784592 | L30: 6.5988646 | N30: 1.5779989 | R30: 0.001576966 | S30: 6.3766552 | T30: 2.163632 | U30: 30.664648 | V30: 0.56589544 | Y30: 0.47699528
C31: 24 | D31: 金属製品製造業 | E31: E24 | F31: t/十億円 | G31: 0.14372747 | H31: 28.787707 | I31: 5.6201609 | J31: 6.0514871 | K31: 3.953245 | L31: 7.0140522 | N31: 2.6213851 | R31: 0.0034075811 | S31: 11.231792 | T31: 3.209938 | U31: 1.3717033 | V31: 1.2104731 | Y31: 0.5255102
C32: 25 | D32: はん用機械器具製造業 | E32: E25 | F32: t/十億円 | G32: 0.018050505 | H32: 17.408867 | I32: 5.4490144 | J32: 0.20991724 | K32: 0.98394606 | L32: 3.7974225 | N32: 2.3314316 | R32: 0.010664563 | S32: 3.4169561 | T32: 0.37527493 | U32: 0.56589079 | V32: 1.1462253 | Y32: 0.032386643
C33: 26 | D33: 生産用機械器具製造業 | E33: E26 | F33: t/十億円 | G33: 0.0028585633 | H33: 2.3349516 | I33: 3.1680011 | J33: 0.61563821 | K33: 0.50087029 | L33: 2.2967252 | N33: 2.6181124 | R33: 0.00061008373 | S33: 2.1680433 | T33: 0.24609399 | U33: 0.40953496 | V33: 0.22575321 | Y33: 0.00033155515
C34: 27 | D34: 業務用機械器具製造業 | E34: E27 | F34: t/十億円 | G34: 0.069853802 | H34: 63.496982 | I34: 2.6903918 | J34: 0.93007209 | K34: 1.9787064 | L34: 5.4488726 | N34: 1.2442232 | R34: 1.1210392e-05 | S34: 1.6951185 | T34: 0.49703297 | U34: 0.052085713 | V34: 0.066017257 | Y34: 5.1141151e-05
C35: 28 | D35: 電子部品・デバイス・電子回路製造業 | E35: E28 | F35: t/十億円 | G35: 0.0020310506 | H35: 52.465656 | I35: 2.5374303 | J35: 5.4428481 | K35: 9.3441085 | L35: 5.2179415 | N35: 0.26572356 | R35: 0.00010826127 | S35: 1.2725194 | T35: 0.30475606 | U35: 0.00021706687 | V35: 0.04288748 | Y35: 0.00021672483
C36: 29 | D36: 電気機械器具製造業 | E36: E29 | F36: t/十億円 | G36: 0.00047208597 | H36: 5.1612098 | I36: 0.87858133 | J36: 1.1834402 | K36: 1.9661963 | L36: 3.1767686 | N36: 1.2617035 | R36: 0.0011017508 | S36: 2.8489452 | T36: 0.77747113 | U36: 0.2262696 | V36: 0.11966946 | Y36: 0.0028660767
C37: 30 | D37: 情報通信機械器具製造業 | E37: E30 | F37: t/十億円 | G37: 0.00093526005 | H37: 3.3997533 | I37: 1.146596 | J37: 0.38791116 | K37: 11.051928 | L37: 7.0415138 | N37: 0.6975628 | R37: 0 | S37: 2.0328519 | T37: 0.077497812 | U37: 0.0046431268 | V37: 0.0043041107 | Y37: 0
... C39: 32 | D39: その他の製造業 | E39: E32 | F39: t/十億円 | G39: 2.8617459 | H39: 23.503435 | I39: 9.7605594 | J39: 2.3507738 | K39: 5.766606 | L39: 32.461611 | N39: 5.1258901 | R39: 0.0064768192 | S39: 4.1915905 | T39: 11.913413 | U39: 2.8807041 | V39: 8.7686327 | Y39: 1.3959492
D40: 電気・ガス・熱供給・水道業大分類 | E40: F
B41: 電気･ガス | C41: 33 | D41: 電気業 | E41: F33 | F41: t/千人 | G41: 9692.1675 | H41: 2668.5904 | I41: 16.551466 | J41: 5.5588069 | K41: 23.21915 | L41: 53.93657 | N41: 85.987994 | R41: 0.0063347487 | S41: 80.785243 | T41: 571.56178 | U41: 788.38837 | V41: 219.82189 | Y41: 69019.72
B42: ･熱供給･ | C42: 34 | D42: ガス業 | E42: F34 | F42: t/千人 | G42: 0 | H42: 27.418129 | I42: 2.3704879 | J42: 0 | K42: 0.034894437 | L42: 50.137549 | N42: 288.84735 | R42: 0.023743562 | S42: 46.04266 | T42: 45.04085 | U42: 0.016789861 | V42: 188.62242 | Y42: 0
...

Sheet 表Ⅲ・8
B1: 表－Ⅲ・８ 令和３年度実績値 業種別・種類別活動量指標合計（有回答）一覧表
D3: 全国 | F3: 令和３年度
B4: 大分類 | C4: 番号 | D4: 産業分類 | E4: コード | F4: 単位 | G4: 燃え殻 | H4: 汚 泥 | I4: 廃 油 | J4: 廃 酸 | K4: 廃アルカリ | L4: 廃プラス チック類 | M4: 紙くず | N4: 木くず | O4: 繊維くず | P4: 動植物性 残 渣 | Q4: 動物系固形不要物 | R4: ゴムくず | S4: 金属くず | T4: ガラスくず及び 陶磁器くず | U4: 鉱さい | V4: がれき類 | W4: 動物の ふん尿 | X4: 動物の死体 | Y4: ばいじん | Z4: 合 計
D5: 農業，林業大分類 | E5: A
C6: 1 | D6: 耕種農業 | E6: A011 | F6: 千a | L6: 80.0762 | Z6: 80.0762
B7: 農業，林業 | C7: 2 | D7: 畜産農業 | E7: A012 | F7: 頭羽 | L7: 3558.83 | W7: 52708.51 | X7: 52708.51 | Z7: 52708.51
C8: 3 | D8: 林業 | E8: A02 | F8: 千人 | L8: 1.546 | N8: 2.69 | S8: 2.69 | Z8: 2.69
C9: 4 | D9: 上記以外の農業，林業
D10: 漁業大分類 | E10: B
B11: 漁 業 | C11: 5 | D11: 漁業 | E11: B03 | F11: 千人
C12: 6 | D12: 水産養殖業 | E12: B04 | F12: 千人
B13: 鉱 業 | C13: 7 | D13: 鉱業，採石業，砂利採取業 | E13: C | F13: 千人 | G13: 2.059 | H13: 6.659 | I13: 7.552 | J13: 1.632 | K13: 1.632 | L13: 8.063 | N13: 3.906 | R13: 1.081 | S13: 6.368 | T13: 4.911 | U13: 1.632 | V13: 3.229 | Y13: 0.137 | Z13: 9.426
B14: 建設業 | C14: 8 | D14: 建設業 | E14: D | F14: 十億円 | G14: 45601.886 | H14: 45601.886 | I14: 45601.886 | J14: 42574.783 | K14: 42279.933 | L14: 45601.886 | M14: 45601.886 | N14: 45601.886 | O14: 45601.886 | R14: 38102.854 | S14: 45601.886 | T14: 45601.886 | U14: 36883.382 | V14: 45601.886 | Y14: 32553.325 | Z14: 45601.886
D15: 製造業大分類 | E15: E
C16: 9 | D16: 食料品製造業 | E16: E09 | F16: 十億円 | G16: 16003.927 | H16: 17643.684 | I16: 17643.684 | J16: 17499.064 | K16: 16463.917 | L16: 17643.684 | M16: 154.7 | N16: 14995.79 | P16: 17643.684 | Q16: 7722.154 | R16: 4391.793 | S16: 17643.684 | T16: 17643.684 | U16: 178.341 | V16: 12149.607 | Y16: 7631.185 | Z16: 17643.684
C17: 10 | D17: 飲料・たばこ・飼料製造業 | E17: E10 | F17: 十億円 | G17: 3979.754 | H17: 5723.285 | I17: 5475.107 | J17: 4747.302 | K17: 3652.708 | L17: 5749.131 | N17: 4081.042 | P17: 5723.285 | R17: 815.126 | S17: 5704.017 | T17: 5722.774 | V17: 1404.56 | Y17: 229.992 | Z17: 5749.131
C18: 11 | D18: 繊維工業 | E18: E11 | F18: 十億円 | G18: 1412.275 | H18: 1972.333 | I18: 1962.262 | J18: 1635.969 | K18: 1063.553 | L18: 2052.249 | N18: 1792.67 | O18: 1811.742 | R18: 237.392 | S18: 1931.169 | T18: 1841.038 | V18: 877.606 | Y18: 626.165 | Z18: 2052.249
C19: 12 | D19: 木材・木製品製造業 | E19: E12 | F19: 十億円 | G19: 1663.025 | H19: 1543.46 | I19: 1508.349 | J19: 235.458 | K19: 765.252 | L19: 1954.902 | N19: 1954.902 | R19: 172.069 | S19: 1770.68 | T19: 1778.976 | V19: 718.185 | Y19: 938.604 | Z19: 1954.902
C20: 13 | D20: 家具・装備品製造業 | E20: E13 | F20: 十億円 | G20: 506.914 | H20: 870.15 | I20: 875.056 | J20: 106.636 | K20: 205.439 | L20: 1108.312 | N20: 1123.536 | R20: 233.873 | S20: 816.873 | T20: 948.458 | U20: 36.523 | V20: 499.666 | Z20: 1123.536
C21: 14 | D21: パルプ・紙・紙加工品製造業 | E21: E14 | F21: 十億円 | G21: 3793.271 | H21: 4231.491 | I21: 4139.133 | J21: 3614.305 | K21: 3845.837 | L21: 4231.491 | M21: 4155.156 | N21: 4231.491 | R21: 135.743 | S21: 4190.676 | T21: 4184.326 | U21: 807.79 | V21: 2050.401 | Y21: 3284.565 | Z21: 4231.491
C22: 15 | D22: 印刷・同関連業 | E22: E15 | F22: 十億円 | G22: 1176.824 | H22: 2234.392 | I22: 2319.152 | J22: 2050.864 | K22: 2285.455 | L22: 2371.448 | M22: 2140.834 | N22: 2038.777 | R22: 1144.161 | S22: 2132.128 | T22: 2033.509 | V22: 878.061 | Y22: 222.468 | Z22: 2371.448
C23: 16 | D23: 化学工業 | E23: E16 | F23: 十億円 | G23: 17730.27 | H23: 17940.237 | I23: 17934.951 | J23: 17934.951 | K23: 17934.951 | L23: 17940.237 | N23: 15580.238 | P23: 15052.92 | R23: 3712.639 | S23: 17934.951 | T23: 17940.237 | U23: 9642.639 | V23: 12819.081 | Y23: 12653.773 | Z23: 17940.237
C24: 17 | D24: 石油製品・石炭製品製造業 | E24: E17 | F24: 十億円 | G24: 6845.246 | H24: 8061.748 | I24: 8097.5838 | J24: 6697.619 | K24: 7817.262 | L24: 8111.036 | N24: 7638.0322 | R24: 160.566 | S24: 7459.3532 | T24: 8078.894 | U24: 1982.004 | V24: 7497.3028 | Y24: 3570.321 | Z24: 8116.974
B25: 製造業 | C25: 18 | D25: プラスチック製品製造業 | E25: E18 | F25: 十億円 | G25: 4362.655 | H25: 7844.896 | I25: 7911.175 | J25: 7332.319 | K25: 7537.891 | L25: 7911.175 | N25: 6923.003 | R25: 3128.363 | S25: 7864.395 | T25: 7803.467 | U25: 577.096 | V25: 4531.177 | Y25: 2426.648 | Z25: 7911.175
C26: 19 | D26: ゴム製品製造業 | E26: E19 | F26: 十億円 | G26: 1010.25 | H26: 2318.625 | I26: 2329.549 | J26: 1705.411 | K26: 2085.036 | L26: 2329.549 | N26: 1904.486 | R26: 1946.402 | S26: 2175.526 | T26: 2239.942 | V26: 462.296 | Y26: 501.54 | Z26: 2329.549
C27: 20 | D27: なめし革・同製品・毛皮製造業 | E27: E20 | F27: 十億円 | H27: 59.577 | I27: 61.08 | K27: 23.795 | L27: 103.32366 | N27: 95.546 | R27: 12.644 | S27: 22.274457 | T27: 5.047 | Z27: 103.32366
C28: 21 | D28: 窯業・土石製品製造業 | E28: E21 | F28: 十億円 | G28: 3678.52 | H28: 4611.058 | I28: 4604.079 | J28: 3811.869 | K28: 3884.62 | L28: 4611.058 | N28: 4262.918 | R28: 1827.711 | S28: 4527.714 | T28: 4611.058 | U28: 3616.522 | V28: 4011.468 | Y28: 3480.57 | Z28: 4611.058
C29: 22 | D29: 鉄鋼業 | E29: E22 | F29: 十億円 | G29: 9223.12 | H29: 11533.39 | I29: 11609.216 | J29: 10797.489 | K29: 10608.268 | L29: 11656.519 | N29: 10564.48 | R29: 1816.3 | S29: 11533.624 | T29: 10831.737 | U29: 11584.922 | V29: 10160.923 | Y29: 10496.678 | Z29: 11656.519
C30: 23 | D30: 非鉄金属製造業 | E30: E23 | F30: 十億円 | G30: 3862.065 | H30: 6203.0303 | I30: 6260.7143 | J30: 6132.7483 | K30: 6172.508 | L30: 6260.7143 | N30: 6177.0913 | R30: 1740.166 | S30: 6230.192 | T30: 6228.684 | U30: 5258.797 | V30: 4919.8703 | Y30: 4849.636 | Z30: 6260.7143
C31: 24 | D31: 金属製品製造業 | E31: E24 | F31: 十億円 | G31: 6388.934 | H31: 8498.214 | I31: 8498.214 | J31: 8441.605 | K31: 8441.605 | L31: 8498.214 | N31: 8314.698 | R31: 1846.471 | S31: 8498.214 | T31: 8498.214 | U31: 6929.601 | V31: 6294.143 | Y31: 5582.362 | Z31: 8498.214
C32: 25 | D32: はん用機械器具製造業 | E32: E25 | F32: 十億円 | G32: 2859.261 | H32: 7103.287 | I32: 7401.877 | J32: 6938.341 | K32: 7019.07 | L32: 7401.877 | N32: 6851.893 | R32: 2731.988 | S32: 7401.877 | T32: 7008.964 | U32: 5724.242 | V32: 4395.491 | Y32: 1569.424 | Z32: 7401.877
C33: 26 | D33: 生産用機械器具製造業 | E33: E26 | F33: 十億円 | G33: 6397.051 | H33: 12218.918 | I33: 11919.421 | J33: 11088.294 | K33: 11088.294 | L33: 12399.789 | N33: 12139.505 | R33: 5847.272 | S33: 11919.421 | T33: 11919.421 | U33: 10035.929 | V33: 8310.025 | Y33: 1247.627 | Z33: 12399.789
C34: 27 | D34: 業務用機械器具製造業 | E34: E27 | F34: 十億円 | G34: 1490.243 | H34: 3943.221 | I34: 3975.182 | J34: 3858.516 | K34: 3801.916 | L34: 3977.07 | N34: 3441.11 | R34: 36.647 | S34: 3977.07 | T34: 3964.256 | U34: 335.939 | V34: 1236.966 | Y34: 468.765 | Z34: 3980.717
C35: 28 | D35: 電子部品・デバイス・電子回路製造業 | E35: E28 | F35: 十億円 | G35: 1469.618 | H35: 9184.027 | I35: 9207.957 | J35: 9184.027 | K35: 9184.027 | L35: 9228.292 | N35: 8301.917 | R35: 698.734 | S35: 9228.292 | T35: 9184.027 | U35: 787.344 | V35: 3327.121 | Y35: 436.896 | Z35: 9228.292
C36: 29 | D36: 電気機械器具製造業 | E36: E29 | F36: 十億円 | G36: 1497.192 | H36: 13054.117 | I36: 13081.913 | J36: 12971.67 | K36: 12977.298 | L36: 13081.913 | N36: 12952.063 | R36: 8638.879 | S36: 13044.992 | T36: 13017.196 | U36: 8788.81 | V36: 9203.522 | Y36: 148.455 | Z36: 13081.913
C37: 30 | D37: 情報通信機械器具製造業 | E37: E30 | F37: 十億円 | G37: 126.487 | H37: 2964.502 | I37: 3063.736 | J37: 2430.95 | K37: 2576.935 | L37: 3183.839 | N37: 2786.46 | S37: 2795.736 | T37: 3037.767 | U37: 30.386 | V37: 1263.001 | Z37: 3207.664
C38: 31 | D38: 輸送用機械器具製造業 | E38: E31 | F38: 十億円 | G38: 43920.534 | H38: 48434.766 | I38: 48456.342 | J38: 47582.875 | K38: 47643.725 | L38: 48456.342 | N38: 47816.936 | R38: 36592.524 | S38: 48434.766 | T38: 48456.342 | U38: 48002.262 | V38: 45536.314 | Y38: 39742.843 | Z38: 48456.342
C39: 32 | D39: その他の製造業 | E39: E32 | F39: 十億円 | G39: 1046.723 | H39: 2063.939 | I39: 2076.187 | J39: 1817.658 | K39: 1860.102 | L39: 2141.512 | N39: 1815.923 | R39: 409.088 | S39: 2129.322 | T39: 2072.699 | U39: 489.299 | V39: 1361.713 | Y39: 517.721 | Z39: 2141.512
D40: 電気・ガス・熱供給・水道業大分類 | E40: F
B41: 電気･ガス | C41: 33 | D41: 電気業 | E41: F33 | F41: 千人 | G41: 50.179 | H41: 56.867 | I41: 57.613 | J41: 29.597 | K41: 41.515 | L41: 58.408 | N41: 42.617 | R41: 7.597 | S41: 58.408 | T41: 57.265 | U41: 33.146 | V41: 48.344 | Y41: 50.179 | Z41: 58.408
...

Sheet 表Ⅲ・9
B1: 表―Ⅲ・９ 産業廃棄物排出・処理状況一覧表（令和３年度実施値）
L2: （単位：千ｔ/年）
B3: 廃棄物名 | C3: 排出量 | D3: 直接再生利用量 | E3: 直接最終処分量 | F3: 中間処理 | J3: 再生利用量 計 | K3: 減量化量 | L3: 最終処分量 計
F4: 中間処理量 | G4: 処理残渣量 | H4: 中間処理後 再生利用量 | I4: 中間処理後 最終処分量
C5: （Ａ） | D5: （Ｂ） | E5: （Ｃ） | F5: （Ｄ） | G5: （Ｅ） | H5: （Ｆ） | I5: （Ｇ） | J5: （Ｂ）＋（Ｆ） | K5: （Ｄ）－（Ｅ） | L5: （Ｃ）＋（Ｇ）
B6: 燃 え 殻 | C6: 2185.1608 | D6: 166.07148 | E6: 408.82611 | F6: 1610.2632 | G6: 1478.1618 | H6: 1435.8291 | I6: 42.332729 | J6: 1601.9006 | K6: 132.10139 | L6: 451.15884
B7: 構成比 | D7: 0.075999663 | E7: 0.187092 | F7: 0.73690834 | G7: 0.67645448 | H7: 0.65708166 | I7: 0.019372821 | J7: 0.73308133 | K7: 0.060453852 | L7: 0.20646482
B8: 汚 泥 | C8: 159817.75 | D8: 676.42755 | E8: 561.74492 | F8: 158579.58 | G8: 11231.281 | H8: 10326.627 | I8: 904.65472 | J8: 11003.054 | K8: 147348.3 | L8: 1466.3996
B9: 構成比 | D9: 0.0042324932 | E9: 0.0035149094 | F9: 0.9922526 | G9: 0.070275554 | H9: 0.064615014 | I9: 0.0056605396 | J9: 0.068847508 | K9: 0.92197704 | L9: 0.0091754489
B10: 廃 油 | C10: 2935.5722 | D10: 230.81398 | E10: 1.5835538 | F10: 2703.1747 | G10: 1147.3439 | H10: 1097.8 | I10: 49.543879 | J10: 1328.614 | K10: 1555.8308 | L10: 51.127433
B11: 構成比 | D11: 0.078626571 | E11: 0.00053943615 | F11: 0.92083399 | G11: 0.39084166 | H11: 0.37396458 | I11: 0.016877078 | J11: 0.45259115 | K11: 0.52999234 | L11: 0.017416514
B12: 廃 酸 | C12: 3103.3051 | D12: 66.68427 | E12: 0.26463512 | F12: 3036.3562 | G12: 904.79577 | H12: 854.025 | I12: 50.770765 | J12: 920.70927 | K12: 2131.5604 | L12: 51.0354
B13: 構成比 | D13: 0.021488145 | E13: 8.5275251e-05 | F13: 0.97842658 | G13: 0.29155876 | H13: 0.27519853 | I13: 0.016360224 | J13: 0.29668668 | K13: 0.68686782 | L13: 0.016445499
B14: 廃 ア ル カ リ | C14: 2521.1706 | D14: 33.375968 | E14: 0.13520314 | F14: 2487.6595 | G14: 516.34901 | H14: 469.90539 | I14: 46.443616 | J14: 503.28136 | K14: 1971.3105 | L14: 46.578819
B15: 構成比 | D15: 0.013238282 | E15: 5.3627126e-05 | F15: 0.98670809 | G15: 0.20480526 | H15: 0.18638381 | I15: 0.018421449 | J15: 0.19962209 | K15: 0.78190283 | L15: 0.018475076
B16: 廃プラスチック類 | C16: 7350.8714 | D16: 71.504358 | E16: 314.19261 | F16: 6965.1744 | G16: 5344.0776 | H16: 4460.546 | I16: 883.53162 | J16: 4532.0504 | K16: 1621.0968 | L16: 1197.7242
B17: 構成比 | D17: 0.0097273309 | E17: 0.042742227 | F17: 0.94753044 | G17: 0.7269992 | H17: 0.60680507 | I17: 0.12019413 | J17: 0.6165324 | K17: 0.22053124 | L17: 0.16293636
B18: 紙 く ず | C18: 790.8979 | D18: 36.432368 | E18: 14.745431 | F18: 739.7201 | G18: 609.62764 | H18: 590.23838 | I18: 19.389254 | J18: 626.67075 | K18: 130.09247 | L18: 34.134685
B19: 構成比 | D19: 0.046064565 | E19: 0.018643912 | F19: 0.93529152 | G19: 0.77080447 | H19: 0.74628897 | I19: 0.024515495 | J19: 0.79235354 | K19: 0.16448706 | L19: 0.043159407
B20: 木 く ず | C20: 7739.6095 | D20: 129.17713 | E20: 40.26365 | F20: 7570.1687 | G20: 6698.1538 | H20: 6536.9621 | I20: 161.19167 | J20: 6666.1392 | K20: 872.01492 | L20: 201.45532
B21: 構成比 | D21: 0.016690394 | E21: 0.0052022844 | F21: 0.97810732 | G21: 0.86543821 | H21: 0.84461136 | I21: 0.020826848 | J21: 0.86130176 | K21: 0.11266911 | L21: 0.026029132
B22: 繊 維 く ず | C22: 92.804393 | D22: 2.1083794 | E22: 2.8941971 | F22: 87.801817 | G22: 61.669635 | H22: 51.325914 | I22: 10.343721 | J22: 53.434293 | K22: 26.132182 | L22: 13.237919
B23: 構成比 | D23: 0.02271853 | E23: 0.031185993 | F23: 0.94609548 | G23: 0.66451202 | H23: 0.55305478 | I23: 0.11145724 | J23: 0.57577331 | K23: 0.28158345 | L23: 0.14264323
B24: 動植物性残渣 | C24: 2316.3916 | D24: 154.84492 | E24: 7.7974122 | F24: 2153.7493 | G24: 1267.1342 | H24: 1241.341 | I24: 25.793212 | J24: 1396.1859 | K24: 886.61503 | L24: 33.590624
B25: 構成比 | D25: 0.066847471 | E25: 0.0033661891 | F25: 0.92978634 | G25: 0.54702937 | H25: 0.53589429 | I25: 0.011135083 | J25: 0.60274176 | K25: 0.38275697 | L25: 0.014501272
B26: 動物系固形不要物 | C26: 74.619115 | D26: 0.017827896 | E26: 0.044680844 | F26: 74.556606 | G26: 66.050397 | H26: 64.46083 | I26: 1.5895667 | J26: 64.478658 | K26: 8.5062093 | L26: 1.6342475
B27: 構成比 | D27: 0.00023891862 | E27: 0.0005987855 | F27: 0.9991623 | G27: 0.88516725 | H27: 0.86386485 | I27: 0.021302406 | J27: 0.86410376 | K27: 0.11399504 | L27: 0.021901192
B28: ゴ ム く ず | C28: 15.480396 | D28: 0.00818393 | E28: 0.73618989 | F28: 14.736022 | G28: 12.241434 | H28: 9.9612366 | I28: 2.2801975 | J28: 9.9694205 | K28: 2.494588 | L28: 3.0163874
B29: 構成比 | D29: 0.00052866412 | E29: 0.04755627 | F29: 0.95191507 | G29: 0.79077009 | H29: 0.64347428 | I29: 0.14729582 | J29: 0.64400294 | K29: 0.16114497 | L29: 0.19485209
B30: 金 属 く ず | C30: 6894.5501 | D30: 3382.5041 | E30: 26.577916 | F30: 3485.4681 | G30: 3397.8624 | H30: 3266.9247 | I30: 130.93769 | J30: 6649.4288 | K30: 87.605685 | L30: 157.5156
B31: 構成比 | D31: 0.49060548 | E31: 0.0038549167 | F31: 0.5055396 | G31: 0.49283309 | H31: 0.47384161 | I31: 0.018991477 | J31: 0.96444709 | K31: 0.012706512 | L31: 0.022846393
B32: ガラスくず、コンクリートくず 及び陶磁器くず | C32: 8040.8929 | D32: 159.7816 | E32: 554.02221 | F32: 7327.0891 | G32: 6846.3544 | H32: 6172.2226 | I32: 674.13178 | J32: 6332.0042 | K32: 480.73468 | L32: 1228.154
B33: 構成比 | D33: 0.019871127 | E33: 0.068900583 | F33: 0.91122829 | G33: 0.85144206 | H33: 0.76760413 | I33: 0.083837926 | J33: 0.78747526 | K33: 0.059786231 | L33: 0.15273851
B34: 鉱 さ い | C34: 11303.013 | D34: 1844.1177 | E34: 604.86415 | F34: 8854.0315 | G34: 8645.0656 | H34: 8430.473 | I34: 214.59267 | J34: 10274.591 | K34: 208.96587 | L34: 819.45682
B35: 構成比 | D35: 0.16315275 | E35: 0.053513531 | F35: 0.78333372 | G35: 0.7648461 | H35: 0.74586066 | I35: 0.018985439 | J35: 0.90901341 | K35: 0.018487625 | L35: 0.07249897
B36: がれき類 | C36: 62498.853 | D36: 496.63216 | E36: 790.67357 | F36: 61211.547 | G36: 60664.559 | H36: 59760.368 | I36: 904.19079 | J36: 60257 | K36: 546.98843 | L36: 1694.8644
B37: 構成比 | D37: 0.0079462603 | E37: 0.012651009 | F37: 0.97940273 | G37: 0.97065075 | H37: 0.95618344 | I37: 0.014467318 | J37: 0.9641297 | K37: 0.0087519755 | L37: 0.027118327
B38: 動物のふん尿 | C38: 81270.546 | D38: 66606.245 | E38: 0.16676208 | F38: 14664.134 | G38: 10656.471 | H38: 10613.309 | I38: 43.162384 | J38: 77219.554 | K38: 4007.6634 | L38: 43.329146
B39: 構成比 | D39: 0.81956192 | E39: 2.0519375e-06 | F39: 0.18043603 | G39: 0.13112341 | H39: 0.13059231 | I39: 0.00053109503 | J39: 0.95015423 | K39: 0.049312618 | L39: 0.00053314697
B40: 動物の死体 | C40: 167.53165 | D40: 5.6347123 | E40: 1.0514541 | F40: 160.84549 | G40: 64.186446 | H40: 56.952472 | I40: 7.2339739 | J40: 62.587184 | K40: 96.65904 | L40: 8.285428
...

Sheet 図表番号の目次‗本編
A1: 平成２７年度事業
A2: 産業廃棄物排出・処理状況調査報告書 平成２５年度実績（詳細版）
A4: 本編
A5: 表番号 | D5: 該当ページ | F5: 図番号 | I5: 該当ページ
A6: Ⅱ．調査方法
A7: ２．産業廃棄物排出量の推計
A8: 表―Ⅱ・４ | B8: 業種ごとの活動量指標の種類及び出店 | C8: ・・・ | D8: 9
A10: Ⅲ．調査結果
A11: １．アンケート調査結果
A12: 表―Ⅲ・１ | B12: 都道府県実態調査の実施状況（平成２５年度） | C12: ・・・ | D12: 22
A13: 表―Ⅲ・２ | B13: 産業廃棄物の業種別排出量（平成２５年度実績値） | C13: ・・・ | D13: 24 | F13: 図－Ⅲ・１ | G13: 産業廃棄物の業種別排出量（平成２５年度実施値） | H13: ・・・ | I13: 23
A14: 表―Ⅲ・３ | B14: 産業廃棄物の種類別排出量（平成２５年度実施値） | C14: ・・・ | D14: 26 | F14: 図－Ⅲ・２ | G14: 産業廃棄物の種類別排出量（平成２５年度実施値） | H14: ・・・ | I14: 25
A15: 表―Ⅲ・４ | B15: 産業廃棄物の地域別排出量（平成２５年度実施値） | C15: ・・・ | D15: 27 | F15: 図－Ⅲ・３ | G15: 産業廃棄物の地域別排出量（平成２５年度実施値） | H15: ・・・ | I15: 27
A16: 表―Ⅲ・５ | B16: 業種別・種類別排出量推計値一覧表（平成２５年度実施値） | C16: ・・・ | D16: 29 | F16: 図－Ⅲ・４ | G16: 産業廃棄物の処理状況（平成２５年度実施値） | H16: ・・・ | I16: 33
A17: 表―Ⅲ・６ | B17: 都道府県別・種類別推計排出量推計値一覧表（平成２５年度実施値） | C17: ・・・ | D17: 30 | F17: 図－Ⅲ・５ | G17: 産業廃棄物の種類別の処理状況（平成２５年度実施値） | H17: ・・・ | I17: 34
A18: 表―Ⅲ・７ | B18: 業種別・種類別全国共通原単位一覧表（平成２５年度実施値） | C18: ・・・ | D18: 31 | F18: 図－Ⅲ・６ | G18: 産業廃棄物の種類別再生利用率（平成２５年度実施値） | H18: ・・・ | I18: 36
A19: 表―Ⅲ・８ | B19: 全国業種別・種類別活動量指標合計（有回答）一覧表（平成２５年度実施値） | C19: ・・・ | D19: 32 | F19: 図－Ⅲ・７ | G19: 産業廃棄物の再生利用量の種類別内訳（平成２５年度実施値） | H19: ・・・ | I19: 37
A20: 表―Ⅲ・９ | B20: 産業廃棄物排出・処理状況一覧表（平成２５年度実施値） | C20: ・・・ | D20: 35 | F20: 図－Ⅲ・８ | G20: 産業廃棄物の種類別減量化率（平成２５年度実施値） | H20: ・・・ | I20: 38
F21: 図－Ⅲ・９ | G21: 産業廃棄物の減量化量の種類別内訳（平成２５年度実施値） | H21: ・・・ | I21: 39
F22: 図－Ⅲ・１０ | G22: 産業廃棄物の種類別最終処分率（平成２５年度実施値） | H22: ・・・ | I22: 40
F23: 図－Ⅲ・１１ | G23: 産業廃棄物の最終処分量の種類別内訳（平成２５年度実施値） | H23: ・・・ | I23: 41
A25: Ⅳ．まとめ
A26: １．産業廃棄物排出量の変化
F27: 図－Ⅳ・１ | G27: 産業廃棄物排出量の推移（平成２５年度実績値） | H27: ・・・ | I27: 42
F28: 図－Ⅳ・２ | G28: 産業廃棄物の業種別排出量の推移（平成２５年度実績値） | H28: ・・・ | I28: 43
F29: 図－Ⅳ・３ | G29: 産業廃棄物の種類別排出量の推移（平成２５年度実績値） | H29: ・・・ | I29: 44
F30: 図－Ⅳ・４ | G30: 産業廃棄物の地域別排出量の推移（平成２５年度実績値） | H30: ・・・ | I30: 45
F31: 図－Ⅳ・５ | G31: 産業廃棄物の直接再生利用量、中間処理量、直接最終処分量の推移（平成２５年度実績値） | H31: ・・・ | I31: 46
F32: 図－Ⅳ・６ | G32: 産業廃棄物の直接再生利用量、減量化量、最終処分量の推移（平成２５年度実績値） | H32: ・・・ | I32: 47
A34: Ⅴ．石綿含有産業廃棄物の調査結果
A35: 表―Ⅴ・１ | B35: 都道府県の石綿含有産業廃棄物実態調査の実施状況（平成２５年度実施値） | C35: ・・・ | D35: 48 | F35: 図－Ⅴ・１ | G35: 石綿含有産業廃棄物の種類別の排出量（平成２５年度実施値） | H35: ・・・ | I35: 51
A36: 表―Ⅴ・２ | B36: 石綿含有産業廃棄物の排出量の集計結果（平成２５年度実施値） | C36: ・・・ | D36: 50 | F36: 図－Ⅴ・２ | G36: 石綿含有産業廃棄物の業種別の排出量（平成２５年度実施値） | H36: ・・・ | I36: 51
A37: 表―Ⅴ・３ | B37: 石綿含有産業廃棄物の処理量の集計結果（平成２５年度実施値） | C37: ・・・ | D37: 52 | F37: 図－Ⅴ・３ | G37: 石綿含有産業廃棄物の処理量の集計結果（平成２５年度実施値） | H37: ・・・ | I37: 52
A40: 資料編
A41: Ⅱ．活動量指標 | B41: 表－資・Ⅱ・１（１） 活動量指標全国合計値（平成25年度実績値）旧産業分類 | C41: ・・・ | D41: 69
B42: 表－資・Ⅱ・１（２） 活動量指標全国合計値（平成25年度実績値）新産業分類 | C42: ・・・ | D42: 70
B43: 表－資・Ⅱ・１（３） 活動量指標（新産業分類（平成19年11月改訂版）の業種区分）（平成25年度実績値） | C43: ・・・ | D43: 71
B44: 表－資・Ⅱ・１（４） 活動量指標（新産業分類（平成19年11月改訂版）の業種区分）（平成25年度実績値） | C44: ・・・ | D44: 72
A46: Ⅲ．年度補正係数 | B46: 表－資・Ⅲ・１（１） 平成25年度業種別・都道府県別年度補正係数一覧表 | C46: ・・・ | D46: 73,74
A48: Ⅳ．有効回答データ数合計 | B48: 表－資・Ⅳ・1 平成25年度業種別・種類別有効回答データ数合計表（新産業分類の業種区分） | C48: ・・・ | D48: 75
...

Sheet ×表Ⅱ・4
B4: 表－Ⅱ・４ 業種ごとの活動量指標の種類及び出典
B7: 業種 | D7: 活動量指標の種類 | E7: 単位 | F7: 出典 | G7: 出典年次
B8: 農業 | C8: 耕種農業 | D8: 施設面積(ハウス面積、ガラス室面積) | E8: ａ | F8: 世界農林業センサス | G8: 平成16年度 平成21年度
C9: 畜産農業 | D9: 家畜数（乳用牛、肉用牛、豚、鶏） | E9: 頭羽 | F9: 畜産統計 | G9: 平成25年度
B10: 林業、漁業、鉱業 | D10: 従業者数 | E10: 人 | F10: 経済センサス | G10: 平成21年度 平成24年度
B11: 漁業 | D11: 従業者数 | E11: 人 | F11: 経済センサス | G11: 平成21年 平成24年
B12: 鉱業 | D12: 従業者数 | E12: 人 | F12: 経済センサス | G12: 平成21年 平成24年
B13: 建設業 | D13: 元請完成工事高 | E13: 百万円 | F13: 建設工事施工統計調査報告 | G13: 平成25年度
B14: 製造業 | D14: 製造品出荷額等 | E14: 百万円 | F14: 工業統計 | G14: 平成25年度
B15: 電気･ガス･熱供給･水道業 | D15: 従業者数 | E15: 人 | F15: 経済センサス | G15: 平成21年度 平成24年度
C16: 上水道業 | D16: 給水人口 | E16: 人 | F16: 給水人口と給水普及率 | G16: 平成25年度
C17: 下水道業 | D17: 処理区域人口 | E17: 人 | F17: 都道府県別汚水処理人口普及状況 | G17: 平成25年度
B18: 情報通信業、運輸業 卸売・小売業 不動産業，物品賃貸業 学術研究，専門・技術サービス業 宿泊業、飲食サービス業 生活関連サービス業，娯楽業 | D18: 従業者数 | E18: 人 | F18: 経済センサス | G18: 平成21年度 平成24年度
B19: 卸売・小売業 飲食店、宿泊業 | D19: 従業者数 | E19: 人 | F19: 経済センサス | G19: 平成21年 平成24年
B20: 不動産業，物品賃貸業
B21: 学術研究，専門・技術サービス業
B22: 医療、福祉 | D22: 病床数 | E22: 床 | F22: 医療施設動態調査 | G22: 平成25年度
B23: 教育，学習支援業 複合ｻｰﾋﾞｽ業、サービス業 | D23: 従業者数 | E23: 人 | F23: 経済センサス | G23: 平成21年度 平成24年度
C24: と畜場(動物系固形不要物) | D24: と畜頭数 | E24: 頭 | F24: 畜産物流通統計 | G24: 平成25年度
B25: 公務 | D25: 従業者数 | E25: 人 | F25: 就業構造基本調査 | G25: 平成19年度 平成24年度

Sheet 表V・2
B2: 表―Ⅴ・２ 石綿含産業廃棄物の排出量の集計結果（令和３年度実績値）
B5: 大分類 | C5: 番 | D5: 産業分類 | E5: コード | F5: 廃プラスチック類 | J5: ガラスくず、コンクリート及び陶磁器くず | N5: がれき類 | R5: 合 計
C6: 号 | F6: 母数排出量 （t／年） | G6: うち石綿含有 （t／年） | H6: データ数(件) | I6: 比率 | J6: 母数排出量 （t／年） | K6: うち石綿含有 （t／年） | L6: データ数(件) | M6: 比率 | N6: 母数排出量 （t／年） | O6: うち石綿含有 （t／年） | P6: データ数(件) | Q6: 比率 | R6: 母数排出量 （t／年） | S6: うち石綿含有 （t／年） | T6: データ数(件) | U6: 比率
D7: 農業，林業大分類 | E7: A | F7: 7215.013 | G7: 0 | I7: 0 | J7: 1728.73 | K7: 0 | M7: 0 | N7: 0 | O7: 0 | P7: 0 | R7: 8943.743 | S7: 0 | T7: 0 | U7: 0
C8: 1 | D8: 耕種農業 | E8: A011 | F8: 0 | G8: 0 | H8: 0 | J8: 0 | K8: 0 | L8: 0 | N8: 0 | O8: 0 | P8: 0 | R8: 0 | S8: 0 | T8: 0
B9: 農業，林業 | C9: 2 | D9: 畜産農業 | E9: A012 | F9: 0 | G9: 0 | H9: 0 | J9: 0 | K9: 0 | L9: 0 | N9: 0 | O9: 0 | P9: 0 | R9: 0 | S9: 0 | T9: 0
C10: 3 | D10: 林業 | E10: A02 | F10: 0 | G10: 0 | H10: 0 | J10: 0 | K10: 0 | L10: 0 | N10: 0 | O10: 0 | P10: 0 | R10: 0 | S10: 0 | T10: 0
C11: 4 | D11: 上記以外の農業，林業 | F11: 0 | G11: 0 | H11: 0 | J11: 0 | K11: 0 | L11: 0 | N11: 0 | O11: 0 | P11: 0 | R11: 0 | S11: 0 | T11: 0
D12: 漁業大分類 | E12: B | F12: 116.283 | G12: 0 | H12: 0 | I12: 0 | J12: 0.06 | K12: 0 | L12: 0 | M12: 0 | N12: 0 | O12: 0 | P12: 0 | R12: 116.343 | S12: 0 | T12: 0 | U12: 0
B13: 漁 業 | C13: 5 | D13: 漁業 | E13: B03 | F13: 0 | G13: 0 | H13: 0 | J13: 0 | K13: 0 | L13: 0 | N13: 0 | O13: 0 | P13: 0 | R13: 0 | S13: 0 | T13: 0
C14: 6 | D14: 水産養殖業 | E14: B04 | F14: 0 | G14: 0 | H14: 0 | J14: 0 | K14: 0 | L14: 0 | N14: 0 | O14: 0 | P14: 0 | R14: 0 | S14: 0 | T14: 0
B15: 鉱 業 | C15: 7 | D15: 鉱業，採石業，砂利採取業 | E15: C | F15: 91.178 | G15: 0 | H15: 0 | I15: 0 | J15: 199.789 | K15: 0 | L15: 0 | M15: 0 | N15: 0 | O15: 0 | P15: 0 | R15: 290.967 | S15: 0 | T15: 0 | U15: 0
B16: 建設業 | C16: 8 | D16: 建設業 | E16: D | F16: 192120.76 | G16: 330.32377 | H16: 5 | I16: 0.0017193549 | J16: 257344.43 | K16: 1532.362 | L16: 5 | M16: 0.0059545179 | N16: 5864599.1 | O16: 26055.717 | P16: 5 | Q16: 0.0044428811 | R16: 6314064.3 | S16: 27918.402 | T16: 0 | U16: 0.0044216215
D17: 製造業大分類 | E17: E | F17: 417204.06 | G17: 269.03521 | H17: 3 | I17: 0.00064485281 | J17: 423993.58 | K17: 573.28545 | L17: 5 | M17: 0.0013521088 | N17: 29406.829 | O17: 70.647382 | P17: 1 | Q17: 0.0024024142 | R17: 870604.47 | S17: 912.96805 | T17: 0 | U17: 0.00104866
C18: 9 | D18: 食料品製造業 | E18: E09 | F18: 25836.821 | G18: 15.609507 | H18: 1 | I18: 0.00060415741 | J18: 18923.16 | K18: 64.2906 | L18: 3 | M18: 0.0033974558 | N18: 0 | O18: 0 | P18: 0 | R18: 44759.981 | S18: 79.900107 | T18: 0 | U18: 0.0017850791
C19: 10 | D19: 飲料・たばこ・飼料製造業 | E19: E10 | F19: 3106.2004 | G19: 1.0954599 | H19: 1 | I19: 0.00035266878 | J19: 556.37677 | K19: 0.98706636 | L19: 1 | M19: 0.001774097 | N19: 0 | O19: 0 | P19: 0 | R19: 3662.5771 | S19: 2.0825263 | T19: 0 | U19: 0.00056859588
C20: 11 | D20: 繊維工業 | E20: E11 | F20: 14916.557 | G20: 3.4294989 | H20: 1 | I20: 0.00022991223 | J20: 186.319 | K20: 1.6 | L20: 1 | M20: 0.0085874226 | N20: 0 | O20: 0 | P20: 0 | R20: 15102.876 | S20: 5.0294989 | T20: 0 | U20: 0.00033301597
C21: 12 | D21: 木材・木製品製造業 | E21: E12 | F21: 10977.46 | G21: 32.565727 | H21: 1 | I21: 0.0029665994 | J21: 1974.126 | K21: 20.11027 | L21: 4 | M21: 0.010186923 | N21: 0 | O21: 0 | P21: 0 | R21: 12951.586 | S21: 52.675997 | T21: 0 | U21: 0.0040671464
C22: 13 | D22: 家具・装備品製造業 | E22: E13 | F22: 1160.8613 | G22: 1.3072542 | H22: 1 | I22: 0.0011261072 | J22: 67.365 | K22: 0 | L22: 0 | M22: 0 | N22: 0 | O22: 0 | P22: 0 | R22: 1228.2263 | S22: 1.3072542 | T22: 0 | U22: 0.0010643431
C23: 14 | D23: パルプ・紙・紙加工品製造業 | E23: E14 | F23: 131402.86 | G23: 27.90767 | H23: 1 | I23: 0.00021238252 | J23: 2360.0181 | K23: 2.6649121 | L23: 2 | M23: 0.0011291914 | N23: 1.19119 | O23: 0.0038513059 | P23: 1 | Q23: 0.0032331585 | R23: 133764.07 | S23: 30.576433 | T23: 0 | U23: 0.0002285848
C24: 15 | D24: 印刷・同関連業 | E24: E15 | F24: 13821.637 | G24: 0.22712049 | H24: 1 | I24: 1.6432242e-05 | J24: 525.322 | K24: 0 | L24: 0 | M24: 0 | N24: 0 | O24: 0 | P24: 0 | R24: 14346.959 | S24: 0.22712049 | T24: 0 | U24: 1.5830566e-05
C25: 16 | D25: 化学工業 | E25: E16 | F25: 31274.118 | G25: 42.879405 | H25: 1 | I25: 0.0013710828 | J25: 5238.3947 | K25: 189.30782 | L25: 3 | M25: 0.036138518 | N25: 123.79071 | O25: 0.0023301846 | P25: 1 | Q25: 1.8823582e-05 | R25: 36636.304 | S25: 232.18956 | T25: 0 | U25: 0.0063376907
C26: 17 | D26: 石油製品・石炭製品製造業 | E26: E17 | F26: 1014.0058 | G26: 0.047691574 | H26: 1 | I26: 4.7032843e-05 | J26: 4308.231 | K26: 0 | L26: 0 | M26: 0 | N26: 0 | O26: 0 | P26: 0 | R26: 5322.2368 | S26: 0.047691574 | T26: 0 | U26: 8.9608141e-06
B27: 製造業 | C27: 18 | D27: プラスチック製品製造業 | E27: E18 | F27: 39711.662 | G27: 4.3865178 | H27: 1 | I27: 0.00011045918 | J27: 1254.9727 | K27: 0.007904126 | L27: 1 | M27: 6.2982454e-06 | N27: 0 | O27: 0 | P27: 0 | R27: 40966.635 | S27: 4.3944219 | T27: 0 | U27: 0.00010726832
C28: 19 | D28: ゴム製品製造業 | E28: E19 | F28: 38733.258 | G28: 76.46801 | H28: 1 | I28: 0.001974221 | J28: 151.79972 | K28: 0.02871601 | L28: 1 | M28: 0.00018917037 | N28: 0 | O28: 0 | P28: 0 | R28: 38885.058 | S28: 76.496726 | T28: 0 | U28: 0.0019672525
C29: 20 | D29: なめし革・同製品・毛皮製造業 | E29: E20 | F29: 190.32 | G29: 0.60903006 | H29: 1 | I29: 0.0032000318 | J29: 0 | K29: 0 | L29: 0 | N29: 0 | O29: 0 | P29: 0 | R29: 190.32 | S29: 0.60903006 | T29: 0 | U29: 0.0032000318
C30: 21 | D30: 窯業・土石製品製造業 | E30: E21 | F30: 10046.878 | G30: 8.8799787 | H30: 1 | I30: 0.00088385456 | J30: 348651.6 | K30: 92.695105 | L30: 4 | M30: 0.00026586743 | N30: 29006.574 | O30: 69.852304 | P30: 1 | Q30: 0.0024081542 | R30: 387705.05 | S30: 171.42739 | T30: 0 | U30: 0.00044215929
C31: 22 | D31: 鉄鋼業 | E31: E22 | F31: 3838.1233 | G31: 9.6643211 | H31: 2 | I31: 0.0025179809 | J31: 7020.4569 | K31: 74.986413 | L31: 5 | M31: 0.01068113 | N31: 0 | O31: 0 | P31: 0 | R31: 10858.58 | S31: 84.650734 | T31: 0 | U31: 0.0077957461
C32: 23 | D32: 非鉄金属製造業 | E32: E23 | F32: 3715.2396 | G32: 12.121468 | H32: 3 | I32: 0.0032626342 | J32: 5077.7148 | K32: 14.937733 | L32: 2 | M32: 0.0029418219 | N32: 20.011 | O32: 0 | P32: 0 | Q32: 0 | R32: 8812.9654 | S32: 27.059201 | T32: 0 | U32: 0.0030703854
C33: 24 | D33: 金属製品製造業 | E33: E24 | F33: 10702.773 | G33: 3.5264934 | H33: 1 | I33: 0.00032949343 | J33: 10223.646 | K33: 17.036507 | L33: 3 | M33: 0.0016663827 | N33: 242.71035 | O33: 0.78472104 | P33: 1 | Q33: 0.0032331585 | R33: 21169.129 | S33: 21.347721 | T33: 0 | U33: 0.0010084364
C34: 25 | D34: はん用機械器具製造業 | E34: E25 | F34: 2400.173 | G34: 0.64382199 | H34: 1 | I34: 0.00026823983 | J34: 495.529 | K34: 0 | L34: 0 | M34: 0 | N34: 0 | O34: 0 | P34: 0 | R34: 2895.702 | S34: 0.64382199 | T34: 0 | U34: 0.00022233711
C35: 26 | D35: 生産用機械器具製造業 | E35: E26 | F35: 2657.5001 | G35: 1.2188847 | H35: 1 | I35: 0.00045865838 | J35: 307.77724 | K35: 0.050919317 | L35: 2 | M35: 0.00016544211 | N35: 0 | O35: 0 | P35: 0 | R35: 2965.2774 | S35: 1.269804 | T35: 0 | U35: 0.00042822437
