Workbook
Name Print_Area2: #REF!
Name Print_Area2: #REF!

Sheet 就職希望率
A1: 大学、短期大学及び高等専門学校卒業予定者の４月１日現在の就職希望率の推移
A3: 注：１）対前年度増減は、前年度同期調査からの増減値である。
A4: ２）1996年度から、文部科学省・厚生労働省調査を実施。
D7: 就職希望率 | E7: 就職希望率 | F7: 就職希望率 | G7: 就職希望率 | H7: 就職希望率 | I7: 就職希望率
D8: 全体 | E8: 男子 | F8: 女子 | G8: 対前年度増減 | H8: 対前年度増減 | I8: 対前年度増減
G9: 全体 | H9: 男子 | I9: 女子
A10: 年月 | B10: 調査校種別 | C10: 設立種別（大学） | D10: （％） | E10: （％） | F10: （％） | G10: （ポイント） | H10: （ポイント） | I10: （ポイント）
A11: 45383 | B11: 大学 | C11: 計 | D11: 74.8 | E11: 68.9 | F11: 83 | G11: -0.3 | H11: -0.6 | I11: 0.2 | J11: =[1]就職希望率!DG6*100-D11 -> 0 | K11: =[1]就職希望率!DG15*100-E11 -> 0 | L11: =[1]就職希望率!DG23*100-F11 -> 0 | M11: =[1]就職希望率!DI6-G11 -> 0 | N11: =[1]就職希望率!DI15-H11 -> 0 | O11: =[1]就職希望率!DI23-I11 -> 0
A12: 45383 | B12: 大学 | C12: うち国公立 | D12: 55.8 | E12: 47.5 | F12: 68.8 | G12: -0.2 | H12: -0.6 | I12: 0.3 | J12: =[1]就職希望率!DG7*100-D12 -> 0 | K12: =[1]就職希望率!DG16*100-E12 -> 0 | L12: =[1]就職希望率!DG24*100-F12 -> 0 | M12: =[1]就職希望率!DI7-G12 -> 0 | N12: =[1]就職希望率!DI16-H12 -> 0 | O12: =[1]就職希望率!DI24-I12 -> 0
A13: 45383 | B13: 大学 | C13: うち私立 | D13: 84.2 | E13: 80.3 | F13: 89.3 | G13: -0.3 | H13: -0.7 | I13: 0.2 | J13: =[1]就職希望率!DG8*100-D13 -> 0 | K13: =[1]就職希望率!DG17*100-E13 -> 0 | L13: =[1]就職希望率!DG25*100-F13 -> 0 | M13: =[1]就職希望率!DI8-G13 -> 0 | N13: =[1]就職希望率!DI17-H13 -> 0 | O13: =[1]就職希望率!DI25-I13 -> 0
A14: 45383 | B14: 短期大学 | D14: 80.2 | E14: *** | F14: 80.2 | G14: -0.8 | H14: *** | I14: -0.8 | J14: =[1]就職希望率!DG9*100-D14 -> 0 | L14: =[1]就職希望率!DG26*100-F14 -> 0 | M14: =[1]就職希望率!DI9-G14 -> 0 | O14: =[1]就職希望率!DI26-I14 -> 0
A15: 45383 | B15: 高等専門学校 | D15: 57.8 | E15: 57.8 | F15: *** | G15: -1.5 | H15: -1.5 | I15: *** | J15: =[1]就職希望率!DG10*100-D15 -> 0 | K15: =[1]就職希望率!DG18*100-E15 -> 0 | M15: =[1]就職希望率!DI10-G15 -> 0 | N15: =[1]就職希望率!DI18-H15 -> 0
A16: 45383 | B16: 計 | D16: 74.1 | E16: 67.5 | F16: 82.4 | G16: -0.4 | H16: -0.7 | I16: 0 | J16: =[1]就職希望率!DG11*100-D16 -> 0 | K16: =[1]就職希望率!DG19*100-E16 -> 0 | L16: =[1]就職希望率!DG27*100-F16 -> 0 | M16: =[1]就職希望率!DI11-G16 -> 0 | N16: =[1]就職希望率!DI19-H16 -> 0 | O16: =[1]就職希望率!DI27-I16 -> 0
A17: 45017 | B17: 大学 | C17: 計 | D17: 75.1 | E17: 69.5 | F17: 82.8 | G17: -1 | H17: -0.9 | I17: -1.3
A18: 45017 | B18: 大学 | C18: うち国公立 | D18: 56 | E18: 48.1 | F18: 68.5 | G18: -0.8 | H18: -0.7 | I18: -0.9
A19: 45017 | B19: 大学 | C19: うち私立 | D19: 84.5 | E19: 81 | F19: 89.1 | G19: -1.2 | H19: -1 | I19: -1.5
A20: 45017 | B20: 短期大学 | D20: 81 | E20: *** | F20: 81 | G20: 2 | H20: *** | I20: 2
A21: 45017 | B21: 高等専門学校 | D21: 59.3 | E21: 59.3 | F21: *** | G21: 5.3 | H21: 5.3 | I21: ***
A22: 45017 | B22: 計 | D22: 74.5 | E22: 68.2 | F22: 82.4 | G22: -0.4 | H22: -0.2 | I22: -0.6
A23: 44652 | B23: 大学 | C23: 計 | D23: 76.1 | E23: 70.4 | F23: 84.1 | G23: 0.1 | H23: -0.2 | I23: 0.7
A24: 44652 | B24: 大学 | C24: うち国公立 | D24: 56.8 | E24: 48.8 | F24: 69.4 | G24: 0.3 | H24: 0.8 | I24: -0.4
A25: 44652 | B25: 大学 | C25: うち私立 | D25: 85.7 | E25: 82 | F25: 90.6 | G25: 0.1 | H25: -0.6 | I25: 1.1
A26: 44652 | B26: 短期大学 | D26: 79 | E26: *** | F26: 79 | G26: 0.3 | H26: *** | I26: 0.3
A27: 44652 | B27: 高等専門学校 | D27: 54 | E27: 54 | F27: *** | G27: -6.3 | H27: -6.3 | I27: ***
A28: 44652 | B28: 計 | D28: 74.9 | E28: 68.4 | F28: 83 | G28: -0.2 | H28: -0.9 | I28: 0.5
A29: 44287 | B29: 大学 | C29: 計 | D29: 76 | E29: 70.6 | F29: 83.4 | G29: -1 | H29: -0.6 | I29: -1.6
A30: 44287 | B30: 大学 | C30: うち国公立 | D30: 56.5 | E30: 48 | F30: 69.8 | G30: -0.8 | H30: -0.8 | I30: -1
A31: 44287 | B31: 大学 | C31: うち私立 | D31: 85.6 | E31: 82.6 | F31: 89.5 | G31: -1.1 | H31: -0.6 | I31: -1.9
A32: 44287 | B32: 短期大学 | D32: 78.7 | E32: *** | F32: 78.7 | G32: -5 | H32: *** | I32: -5
A33: 44287 | B33: 高等専門学校 | D33: 60.3 | E33: 60.3 | F33: *** | G33: 2.3 | H33: 2.3 | I33: ***
A34: 44287 | B34: 計 | D34: 75.1 | E34: 69.3 | F34: 82.5 | G34: -1.2 | H34: -0.2 | I34: -2.3
A35: 43922 | B35: 大学 | C35: 計 | D35: 77 | E35: 71.2 | F35: 85 | G35: 1 | H35: 0.8 | I35: 1.2
A36: 43922 | B36: 大学 | C36: うち国公立 | D36: 57.3 | E36: 48.8 | F36: 70.8 | G36: 2 | H36: 1.6 | I36: 2.8
A37: 43922 | B37: 大学 | C37: うち私立 | D37: 86.7 | E37: 83.2 | F37: 91.4 | G37: 0.4 | H37: 0.3 | I37: 0.6
A38: 43922 | B38: 短期大学 | D38: 83.7 | E38: *** | F38: 83.7 | G38: 0.8 | H38: *** | I38: 0.8
A39: 43922 | B39: 高等専門学校 | D39: 58 | E39: 58 | F39: *** | G39: -4 | H39: -4 | I39: ***
A40: 43922 | B40: 計 | D40: 76.3 | E40: 69.5 | F40: 84.8 | G40: 0.6 | H40: 0.1 | I40: 1.2
A41: 43556 | B41: 大学 | C41: 計 | D41: 76 | E41: 70.4 | F41: 83.8 | G41: 0.7 | H41: 1.3 | I41: -0.1
A42: 43556 | B42: 大学 | C42: うち国公立 | D42: 55.3 | E42: 47.2 | F42: 68 | G42: 1.6 | H42: 2.6 | I42: 0
A43: 43556 | B43: 大学 | C43: うち私立 | D43: 86.3 | E43: 82.9 | F43: 90.8 | G43: 0.2 | H43: 0.6 | I43: -0.2
...
