Workbook
Name Print_Area2: #REF!
Name Print_Area2: #REF!

Sheet 就職希望率
A1: 大学、短期大学及び高等専門学校卒業予定者の４月１日現在の就職希望率の推移
A3: 注：１）対前年度増減は、前年度同期調査からの増減値である。
A4: ２）1996年度から、文部科学省・厚生労働省調査を実施。
D7: 就職希望率 | E7: 就職希望率 | F7: 就職希望率 | G7: 就職希望率 | H7: 就職希望率 | I7: 就職希望率
D8: 全体 | E8: 男子 | F8: 女子 | G8: 対前年度増減 | H8: 対前年度増減 | I8: 対前年度増減
G9: 全体 | H9: 男子 | I9: 女子
A10: 年月 | B10: 調査校種別 | C10: 設立種別（大学） | D10: （％） | E10: （％） | F10: （％） | G10: （ポイント） | H10: （ポイント） | I10: （ポイント）
A11: 45383 | B11: 大学 | C11: 計 | D11: 74.8 | E11: 68.9 | F11: 83 | G11: -0.3 | H11: -0.6 | I11: 0.2 | J11: =[1]就職希望率!DG6*100-D11 -> 0 | K11: =[1]就職希望率!DG15*100-E11 -> 0 | L11: =[1]就職希望率!DG23*100-F11 -> 0 | M11: =[1]就職希望率!DI6-G11 -> 0 | N11: =[1]就職希望率!DI15-H11 -> 0 | O11: =[1]就職希望率!DI23-I11 -> 0
A12: 45383 | B12: 大学 | C12: うち国公立 | D12: 55.8 | E12: 47.5 | F12: 68.8 | G12: -0.2 | H12: -0.6 | I12: 0.3 | J12: =[1]就職希望率!DG7*100-D12 -> 0 | K12: =[1]就職希望率!DG16*100-E12 -> 0 | L12: =[1]就職希望率!DG24*100-F12 -> 0 | M12: =[1]就職希望率!DI7-G12 -> 0 | N12: =[1]就職希望率!DI16-H12 -> 0 | O12: =[1]就職希望率!DI24-I12 -> 0
A13: 45383 | B13: 大学 | C13: うち私立 | D13: 84.2 | E13: 80.3 | F13: 89.3 | G13: -0.3 | H13: -0.7 | I13: 0.2 | J13: =[1]就職希望率!DG8*100-D13 -> 0 | K13: =[1]就職希望率!DG17*100-E13 -> 0 | L13: =[1]就職希望率!DG25*100-F13 -> 0 | M13: =[1]就職希望率!DI8-G13 -> 0 | N13: =[1]就職希望率!DI17-H13 -> 0 | O13: =[1]就職希望率!DI25-I13 -> 0
A14: 45383 | B14: 短期大学 | D14: 80.2 | E14: *** | F14: 80.2 | G14: -0.8 | H14: *** | I14: -0.8 | J14: =[1]就職希望率!DG9*100-D14 -> 0 | L14: =[1]就職希望率!DG26*100-F14 -> 0 | M14: =[1]就職希望率!DI9-G14 -> 0 | O14: =[1]就職希望率!DI26-I14 -> 0
A15: 45383 | B15: 高等専門学校 | D15: 57.8 | E15: 57.8 | F15: *** | G15: -1.5 | H15: -1.5 | I15: *** | J15: =[1]就職希望率!DG10*100-D15 -> 0 | K15: =[1]就職希望率!DG18*100-E15 -> 0 | M15: =[1]就職希望率!DI10-G15 -> 0 | N15: =[1]就職希望率!DI18-H15 -> 0
A16: 45383 | B16: 計 | D16: 74.1 | E16: 67.5 | F16: 82.4 | G16: -0.4 | H16: -0.7 | I16: 0 | J16: =[1]就職希望率!DG11*100-D16 -> 0 | K16: =[1]就職希望率!DG19*100-E16 -> 0 | L16: =[1]就職希望率!DG27*100-F16 -> 0 | M16: =[1]就職希望率!DI11-G16 -> 0 | N16: =[1]就職希望率!DI19-H16 -> 0 | O16: =[1]就職希望率!DI27-I16 -> 0
A17: 45017 | B17: 大学 | C17: 計 | D17: 75.1 | E17: 69.5 | F17: 82.8 | G17: -1 | H17: -0.9 | I17: -1.3
A18: 45017 | B18: 大学 | C18: うち国公立 | D18: 56 | E18: 48.1 | F18: 68.5 | G18: -0.8 | H18: -0.7 | I18: -0.9
A19: 45017 | B19: 大学 | C19: うち私立 | D19: 84.5 | E19: 81 | F19: 89.1 | G19: -1.2 | H19: -1 | I19: -1.5
A20: 45017 | B20: 短期大学 | D20: 81 | E20: *** | F20: 81 | G20: 2 | H20: *** | I20: 2
A21: 45017 | B21: 高等専門学校 | D21: 59.3 | E21: 59.3 | F21: *** | G21: 5.3 | H21: 5.3 | I21: ***
A22: 45017 | B22: 計 | D22: 74.5 | E22: 68.2 | F22: 82.4 | G22: -0.4 | H22: -0.2 | I22: -0.6
A23: 44652 | B23: 大学 | C23: 計 | D23: 76.1 | E23: 70.4 | F23: 84.1 | G23: 0.1 | H23: -0.2 | I23: 0.7
A24: 44652 | B24: 大学 | C24: うち国公立 | D24: 56.8 | E24: 48.8 | F24: 69.4 | G24: 0.3 | H24: 0.8 | I24: -0.4
A25: 44652 | B25: 大学 | C25: うち私立 | D25: 85.7 | E25: 82 | F25: 90.6 | G25: 0.1 | H25: -0.6 | I25: 1.1
A26: 44652 | B26: 短期大学 | D26: 79 | E26: *** | F26: 79 | G26: 0.3 | H26: *** | I26: 0.3
A27: 44652 | B27: 高等専門学校 | D27: 54 | E27: 54 | F27: *** | G27: -6.3 | H27: -6.3 | I27: ***
A28: 44652 | B28: 計 | D28: 74.9 | E28: 68.4 | F28: 83 | G28: -0.2 | H28: -0.9 | I28: 0.5
A29: 44287 | B29: 大学 | C29: 計 | D29: 76 | E29: 70.6 | F29: 83.4 | G29: -1 | H29: -0.6 | I29: -1.6
A30: 44287 | B30: 大学 | C30: うち国公立 | D30: 56.5 | E30: 48 | F30: 69.8 | G30: -0.8 | H30: -0.8 | I30: -1
A31: 44287 | B31: 大学 | C31: うち私立 | D31: 85.6 | E31: 82.6 | F31: 89.5 | G31: -1.1 | H31: -0.6 | I31: -1.9
A32: 44287 | B32: 短期大学 | D32: 78.7 | E32: *** | F32: 78.7 | G32: -5 | H32: *** | I32: -5
A33: 44287 | B33: 高等専門学校 | D33: 60.3 | E33: 60.3 | F33: *** | G33: 2.3 | H33: 2.3 | I33: ***
A34: 44287 | B34: 計 | D34: 75.1 | E34: 69.3 | F34: 82.5 | G34: -1.2 | H34: -0.2 | I34: -2.3
A35: 43922 | B35: 大学 | C35: 計 | D35: 77 | E35: 71.2 | F35: 85 | G35: 1 | H35: 0.8 | I35: 1.2
A36: 43922 | B36: 大学 | C36: うち国公立 | D36: 57.3 | E36: 48.8 | F36: 70.8 | G36: 2 | H36: 1.6 | I36: 2.8
A37: 43922 | B37: 大学 | C37: うち私立 | D37: 86.7 | E37: 83.2 | F37: 91.4 | G37: 0.4 | H37: 0.3 | I37: 0.6
A38: 43922 | B38: 短期大学 | D38: 83.7 | E38: *** | F38: 83.7 | G38: 0.8 | H38: *** | I38: 0.8
A39: 43922 | B39: 高等専門学校 | D39: 58 | E39: 58 | F39: *** | G39: -4 | H39: -4 | I39: ***
A40: 43922 | B40: 計 | D40: 76.3 | E40: 69.5 | F40: 84.8 | G40: 0.6 | H40: 0.1 | I40: 1.2
A41: 43556 | B41: 大学 | C41: 計 | D41: 76 | E41: 70.4 | F41: 83.8 | G41: 0.7 | H41: 1.3 | I41: -0.1
A42: 43556 | B42: 大学 | C42: うち国公立 | D42: 55.3 | E42: 47.2 | F42: 68 | G42: 1.6 | H42: 2.6 | I42: 0
A43: 43556 | B43: 大学 | C43: うち私立 | D43: 86.3 | E43: 82.9 | F43: 90.8 | G43: 0.2 | H43: 0.6 | I43: -0.2
A44: 43556 | B44: 短期大学 | D44: 82.9 | E44: *** | F44: 82.9 | G44: -1.3 | H44: *** | I44: -1.3
A45: 43556 | B45: 高等専門学校 | D45: 62 | E45: 62 | F45: *** | G45: -1 | H45: -1 | I45: ***
A46: 43556 | B46: 計 | D46: 75.7 | E46: 69.4 | F46: 83.6 | G46: 0.4 | H46: 1 | I46: -0.4
A47: 43191 | B47: 大学 | C47: 計 | D47: 75.3 | E47: 69.1 | F47: 83.9 | G47: 0.6 | H47: 0.9 | I47: 0.2
A48: 43191 | B48: 大学 | C48: うち国公立 | D48: 53.7 | E48: 44.6 | F48: 68 | G48: -1.6 | H48: -2.2 | I48: -0.6
A49: 43191 | B49: 大学 | C49: うち私立 | D49: 86.1 | E49: 82.3 | F49: 91 | G49: 1.8 | H49: 2.6 | I49: 0.6
A50: 43191 | B50: 短期大学 | D50: 84.2 | E50: *** | F50: 84.2 | G50: 1.9 | H50: *** | I50: 1.9
A51: 43191 | B51: 高等専門学校 | D51: 63 | E51: 63 | F51: *** | G51: 5 | H51: 5 | I51: ***
A52: 43191 | B52: 計 | D52: 75.3 | E52: 68.4 | F52: 84 | G52: 1.1 | H52: 1.5 | I52: 0.6
A53: 42826 | B53: 大学 | C53: 計 | D53: 74.7 | E53: 68.2 | F53: 83.7 | G53: 0.7 | H53: 0.5 | I53: 1
A54: 42826 | B54: 大学 | C54: うち国公立 | D54: 55.3 | E54: 46.8 | F54: 68.6 | G54: 2.1 | H54: 3.3 | I54: 0
A55: 42826 | B55: 大学 | C55: うち私立 | D55: 84.3 | E55: 79.7 | F55: 90.4 | G55: 0 | H55: -1 | I55: 1.4
A56: 42826 | B56: 短期大学 | D56: 82.3 | E56: *** | F56: 82.3 | G56: 1 | H56: *** | I56: 1
A57: 42826 | B57: 高等専門学校 | D57: 58 | E57: 58 | F57: *** | G57: -4 | H57: -4 | I57: ***
A58: 42826 | B58: 計 | D58: 74.2 | E58: 66.9 | F58: 83.4 | G58: 0.4 | H58: -0.1 | I58: 0.9
A59: 42461 | B59: 大学 | C59: 計 | D59: 74 | E59: 67.7 | F59: 82.7 | G59: 1.3 | H59: 1.3 | I59: 1.1
A60: 42461 | B60: 大学 | C60: うち国公立 | D60: 53.2 | E60: 43.5 | F60: 68.6 | G60: -1.1 | H60: -2.8 | I60: 1.6
A61: 42461 | B61: 大学 | C61: うち私立 | D61: 84.3 | E61: 80.7 | F61: 89 | G61: 2.4 | H61: 3.5 | I61: 0.9
A62: 42461 | B62: 短期大学 | D62: 81.3 | E62: *** | F62: 81.3 | G62: 2.5 | H62: *** | I62: 2.5
A63: 42461 | B63: 高等専門学校 | D63: 62 | E63: 62 | F63: *** | G63: 5.7 | H63: 5.7 | I63: ***
A64: 42461 | B64: 計 | D64: 73.8 | E64: 67 | F64: 82.5 | G64: 1.7 | H64: 1.9 | I64: 1.5
A65: 42095 | B65: 大学 | C65: 計 | D65: 72.7 | E65: 66.4 | F65: 81.6 | G65: 1.2 | H65: 1.8 | I65: 0.6
A66: 42095 | B66: 大学 | C66: うち国公立 | D66: 54.3 | E66: 46.3 | F66: 67 | G66: 1.2 | H66: 3 | I66: -1.6
A67: 42095 | B67: 大学 | C67: うち私立 | D67: 81.9 | E67: 77.2 | F67: 88.1 | G67: 1.3 | H67: 1.1 | I67: 1.6
A68: 42095 | B68: 短期大学 | D68: 78.8 | E68: *** | F68: 78.8 | G68: -0.2 | H68: *** | I68: -0.2
A69: 42095 | B69: 高等専門学校 | D69: 56.3 | E69: 56.3 | F69: *** | G69: -1.5 | H69: -1.5 | I69: ***
A70: 42095 | B70: 計 | D70: 72.1 | E70: 65.1 | F70: 81 | G70: 0.9 | H70: 1.3 | I70: 0.4
A71: 41730 | B71: 大学 | C71: 計 | D71: 71.5 | E71: 64.6 | F71: 81 | G71: 1.2 | H71: 1 | I71: 1.3
A72: 41730 | B72: 大学 | C72: うち国公立 | D72: 53.1 | E72: 43.3 | F72: 68.6 | G72: -0.3 | H72: -0.1 | I72: -0.5
A73: 41730 | B73: 大学 | C73: うち私立 | D73: 80.6 | E73: 76.1 | F73: 86.5 | G73: 1.9 | H73: 1.7 | I73: 2.1
A74: 41730 | B74: 短期大学 | D74: 79 | E74: *** | F74: 79 | G74: -1 | H74: *** | I74: -1
A75: 41730 | B75: 高等専門学校 | D75: 57.8 | E75: 57.8 | F75: *** | G75: -3 | H75: -3 | I75: ***
A76: 41730 | B76: 計 | D76: 71.2 | E76: 63.8 | F76: 80.6 | G76: 0.7 | H76: 0.6 | I76: 0.8
A77: 41365 | B77: 大学 | C77: 計 | D77: 70.3 | E77: 63.6 | F77: 79.7 | G77: 1.4 | H77: 1.8 | I77: 0.9
A78: 41365 | B78: 大学 | C78: うち国公立 | D78: 53.4 | E78: 43.4 | F78: 69.1 | G78: -0.8 | H78: -0.9 | I78: -0.7
A79: 41365 | B79: 大学 | C79: うち私立 | D79: 78.7 | E79: 74.4 | F79: 84.4 | G79: 2.5 | H79: 3.3 | I79: 1.6
A80: 41365 | B80: 短期大学 | D80: 80 | E80: *** | F80: 80 | G80: 5.2 | H80: *** | I80: 5.2
A81: 41365 | B81: 高等専門学校 | D81: 60.8 | E81: 60.8 | F81: *** | G81: -2 | H81: -2 | I81: ***
A82: 41365 | B82: 計 | D82: 70.5 | E82: 63.2 | F82: 79.8 | G82: 1.5 | H82: 1.3 | I82: 1.8
A83: 41000 | B83: 大学 | C83: 計 | D83: 68.9 | E83: 61.8 | F83: 78.8 | G83: 2.4 | H83: 1.6 | I83: 3.5
A84: 41000 | B84: 大学 | C84: うち国公立 | D84: 54.2 | E84: 44.3 | F84: 69.8 | G84: 4.4 | H84: 1.5 | I84: 8.9
A85: 41000 | B85: 大学 | C85: うち私立 | D85: 76.2 | E85: 71.1 | F85: 82.8 | G85: 1.5 | H85: 1.6 | I85: 1.2
A86: 41000 | B86: 短期大学 | D86: 74.8 | E86: *** | F86: 74.8 | G86: 0 | H86: *** | I86: 0
A87: 41000 | B87: 高等専門学校 | D87: 62.8 | E87: 62.8 | F87: *** | G87: 6.5 | H87: 6.5 | I87: ***
A88: 41000 | B88: 計 | D88: 69 | E88: 61.9 | F88: 78 | G88: 2.5 | H88: 2.2 | I88: 2.8
A89: 40634 | B89: 大学 | C89: 計 | D89: 66.5 | E89: 60.2 | F89: 75.3 | G89: -0.3 | H89: -0.5 | I89: 0
A90: 40634 | B90: 大学 | C90: うち国公立 | D90: 49.8 | E90: 42.8 | F90: 60.9 | G90: -3 | H90: -0.8 | I90: -6.4
A91: 40634 | B91: 大学 | C91: うち私立 | D91: 74.7 | E91: 69.5 | F91: 81.6 | G91: 1 | H91: -0.3 | I91: 2.7
A92: 40634 | B92: 短期大学 | D92: 74.8 | E92: *** | F92: 74.8 | G92: 3.5 | H92: *** | I92: 3.5
A93: 40634 | B93: 高等専門学校 | D93: 56.3 | E93: 56.3 | F93: *** | G93: 1.3 | H93: 1.3 | I93: ***
A94: 40634 | B94: 計 | D94: 66.5 | E94: 59.7 | F94: 75.2 | G94: 0.1 | H94: -0.3 | I94: 0.7
A95: 40269 | B95: 大学 | C95: 計 | D95: 66.8 | E95: 60.7 | F95: 75.3 | G95: -3.6 | H95: -4.1 | I95: -2.8
A96: 40269 | B96: 大学 | C96: うち国公立 | D96: 52.8 | E96: 43.6 | F96: 67.3 | G96: 1.4 | H96: 1.1 | I96: 1.8
A97: 40269 | B97: 大学 | C97: うち私立 | D97: 73.7 | E97: 69.8 | F97: 78.9 | G97: -6 | H97: -7 | I97: -4.7
A98: 40269 | B98: 短期大学 | D98: 71.3 | E98: *** | F98: 71.3 | G98: -6.2 | H98: *** | I98: -6.2
A99: 40269 | B99: 高等専門学校 | D99: 55 | E99: 55 | F99: *** | G99: 2.5 | H99: 2.5 | I99: ***
A100: 40269 | B100: 計 | D100: 66.4 | E100: 60 | F100: 74.5 | G100: -3.4 | H100: -3.3 | I100: -3.5
A101: 39904 | B101: 大学 | C101: 計 | D101: 70.4 | E101: 64.8 | F101: 78.1 | G101: -0.8 | H101: -0.9 | I101: -0.8
A102: 39904 | B102: 大学 | C102: うち国公立 | D102: 51.4 | E102: 42.5 | F102: 65.5 | G102: -1.4 | H102: -2.3 | I102: 0
A103: 39904 | B103: 大学 | C103: うち私立 | D103: 79.7 | E103: 76.8 | F103: 83.6 | G103: -0.6 | H103: 0 | I103: -1.3
...
