Workbook
Name ExternalData_1: 概況_第１６表!$B$1:$G$13
Name ExternalData_1: 概況_第２０表!$B$1:$E$13
Name ExternalData_1: 概況_第２１表!$B$1:$D$28
Name ExternalData_1: 概況_第２６表!$B$1:$R$2
Name ExternalData_1: 概況_第２７表!$B$1:$AB$2
Name ExternalData_1: 概況_第２表!$B$1:$G$13
Name ExternalData_1: 概況_第３２表!$B$1:$D$32
Name ExternalData_1: 概況_第３４表!$B$1:$H$24
Name ExternalData_1: 概況_第３６表!$B$1:$F$16
Name ExternalData_1: 概況_第４３表!$B$1:$P$13
Name ExternalData_1: 概況_第４４表!$B$1:$BK$2
Name ExternalData_1: 概況_第４８表!$B$1:$D$33
Name ExternalData_1: 概況_第５０表!$B$1:$D$16
Name ExternalData_1: 概況_第５２表!$B$1:$D$33
Name ExternalData_1: 概況_第５４表!$B$1:$D$33

Sheet 年の入力
A1: 年 | B1: 2023
C6: 第１表 | D6: I-第１－１表
C7: 第２表 | D7: I-第２図の値
C8: 第３表 | D8: I-第３表
C9: 第４表 | D9: I-第４表
C10: 第５表 | D10: I-第５表
C11: 第６表 | D11: I-第６表
C12: 第７表 | D12: I-第７表
C13: 第８表 | D13: I-第８表
C14: 第９表 | D14: I-第９表
C15: 第１０表 | D15: I-第１０表
C16: 第１１表 | D16: I-第１１表
C17: 第１２表 | D17: I-第１２表
... C21: 第１６表 | D21: I-第１６表
C22: 第１７表
C23: 第１８表
C24: 第１９表
C25: 第２０表
C26: 第２１表
C27: 第２２表
C28: 第２３表
C29: 第２４表
C30: 第２５表
C31: 第２６表
C32: 第２７表
C33: 第２８表
... C59: 第５４表

Sheet 概況_第１表
A1: 出火件数 | B1: 概況_第１表 火災の概況
B3: 区分 | C3: 単位 | D3: ="令和"&IF(LEN(年の入力!$B$1-2018)>=2,年の入力!$B$1-2018, DBCS(年の入力!$B$1-2018))&"年"&CHAR(10)&"（Ａ）" -> 令和５年 （Ａ） | E3: ="令和"&IF(LEN(年の入力!$B$1-1-2018)>=2,年の入力!$B$1-2018, DBCS(年の入力!$B$1-1-2018))&"年"&CHAR(10)&"（Ｂ）" -> 令和４年 （Ｂ） | F3: 増減 （Ａ）－（Ｂ） ＝（Ｃ） | G3: 増減率 （Ｃ）/（Ｂ） ×100％
B4: 出火件数 | C4: 件 | D4: 38672 | E4: 36314 | F4: 2358 | G4: 6.4933634
B5: 建物 | D5: 20974 | E5: 20167 | F5: 807 | G5: 4.0015868
B6: 林野 | D6: 1299 | E6: 1239 | F6: 60 | G6: 4.842615
B7: 車両 | D7: 3521 | E7: 3409 | F7: 112 | G7: 3.2854209
B8: 船舶 | D8: 58 | E8: 78 | F8: -20 | G8: -25.641026
B9: 航空機 | D9: 1 | E9: 2 | F9: -1 | G9: -
B10: その他 | D10: 12819 | E10: 11419 | F10: 1400 | G10: 12.260268
B11: 焼損棟数 | C11: 棟 | D11: 29656 | E11: 28795 | F11: 861 | G11: 2.9901024
B12: 全焼 | D12: 6692 | E12: 6672 | F12: 20 | G12: 0.29976019
B13: 半焼 | D13: 1484 | E13: 1434 | F13: 50 | G13: 3.4867503
B14: 部分焼 | D14: 7494 | E14: 7068 | F14: 426 | G14: 6.0271647
B15: ぼや | D15: 13986 | E15: 13621 | F15: 365 | G15: 2.6796858
B16: 建物焼損床面積 | C16: ㎡ | D16: 1022440 | E16: 1064873 | F16: -42433 | G16: -3.9847944
B17: 建物焼損表面積 | D17: 124871 | E17: 96153 | F17: 28718 | G17: 29.866983
B18: 林野焼損面積 | C18: ａ | D18: 84379 | E18: 60517 | F18: 23862 | G18: 39.430243
B19: 死者 | C19: 人 | D19: 1503 | E19: 1452 | F19: 51 | G19: 3.5123967
B20: 負傷者 | D20: 5766 | E20: 5750 | F20: 16 | G20: 0.27826087
B21: り災世帯数 | C21: 世帯 | D21: 18882 | E21: 18415 | F21: 467 | G21: 2.5359761
B22: 全損 | D22: 3994 | E22: 4029 | F22: -35 | G22: -0.86870191
B23: 半損 | D23: 1152 | E23: 1107 | F23: 45 | G23: 4.0650407
B24: 小損 | D24: 13736 | E24: 13279 | F24: 457 | G24: 3.4415242
B25: り災人員 | C25: 人 | D25: 39147 | E25: 38458 | F25: 689 | G25: 1.7915648
B26: 損害額 | C26: 百万円 | D26: 94208.47 | E26: 101742.71 | F26: -7534.244 | G26: -7.4051927
B27: 建物 | D27: 82040.342 | E27: 95328.147 | F27: -13287.805 | G27: -13.939015
B28: 林野 | D28: 125.187 | E28: 344.678 | F28: -219.491 | G28: -63.680014
B29: 車両 | D29: 2824.247 | E29: 2425.549 | F29: 398.698 | G29: 16.437433
B30: 船舶 | D30: 855.049 | E30: 1022.018 | F30: -166.969 | G30: -16.337188
B31: 航空機 | D31: 5.643 | E31: 3.725 | F31: 1.918 | G31: -
B32: その他 | D32: 7978.258 | E32: 2395.765 | F32: 5582.493 | G32: 233.01505
B33: 爆発 | D33: 379.744 | E33: 222.832 | F33: 156.912 | G33: 70.417175
B34: 出火率 | C34: 件 | D34: 3.0834766 | E34: 2.8837136 | F34: 0.19976299 | G34: -
B35: （注）1 死者には、火災により負傷した後、48時間以内に死亡した者も含む。
B36: =" 2 出火率とは、人口１万人当たりの出火件数をいう。なお、人口については"&"令和"&IF(LEN(年の入力!$B$1-1-2018)>=2,年の入力!$B$1-1-2018, DBCS(年の入力!$B$1-1-2018))&"年"&"及び"&"令和"&IF(LEN(年の入力!$B$1-2018)>=2,年の入力!$B$1-2018, DBCS(年の入力!$B$1-2018))&"年"&"住民基本台帳" -> 2 出火率とは、人口１万人当たりの出火件数をいう。なお、人口については令和４年及び令和５年住民基本台帳
B37: （同年１月１日現在）による。
B38: 3 △は、負数を表す。
B39: 4 損害額及び増減率は、その計算後に表示単位未満を四捨五入にする端数処理を実施している。そのため、
B40: 表記されている損害額又は増減率の数値は、表記されている端数処理済みの数値をもとに計算した損害額又
B41: は増減率と一致していない場合がある。
B42: 5 火災が２種類以上にわたった場合、出火件数は火災報告取扱要領に基づき計上し、損害額については
B43: 個々の各種別の損害を計上した。
B44: 6 設定の期日以降に火災調査等により判明し変更が生じた箇所については集計の対象としていない。

Sheet 概況_第２表
B1: ="概況_第２表 火災の推移（"&$B$4&"を100とする指数）" -> 概況_第２表 火災の推移（平成26年を100とする指数）
B3: 年 | C3: 件数 | D3: 床面積 | E3: 死者 | F3: 損害額
B4: ='I-第2図の値'!G5 -> 平成26年 | C4: ='I-第2図の値'!H5 -> 100 | D4: ='I-第2図の値'!I5 -> 100 | E4: ='I-第2図の値'!J5 -> 100 | F4: ='I-第2図の値'!K5 -> 100
B5: ='I-第2図の値'!G6 -> 平成27年 | C5: ='I-第2図の値'!H6 -> 89.414965 | D5: ='I-第2図の値'!I6 -> 93.451338 | E5: ='I-第2図の値'!J6 -> 93.146603 | F5: ='I-第2図の値'!K6 -> 96.720119
B6: ='I-第2図の値'!G7 -> 平成28年 | C6: ='I-第2図の値'!H7 -> 84.202465 | D6: ='I-第2図の値'!I7 -> 92.630149 | E6: ='I-第2図の値'!J7 -> 86.531585 | F6: ='I-第2図の値'!K7 -> 88.179118
B7: ='I-第2図の値'!G8 -> 平成29年 | C7: ='I-第2図の値'!H8 -> 90.013946 | D7: ='I-第2図の値'!I8 -> 96.551189 | E7: ='I-第2図の値'!J8 -> 86.769964 | F7: ='I-第2図の値'!K8 -> 104.69279
B8: ='I-第2図の値'!G9 -> 平成30年 | C8: ='I-第2図の値'!H9 -> 86.831577 | D8: ='I-第2図の値'!I9 -> 95.978252 | E8: ='I-第2図の値'!J9 -> 85.041716 | F8: ='I-第2図の値'!K9 -> 99.189401
B9: ='I-第2図の値'!G10 -> 令和元年 | C9: ='I-第2図の値'!H10 -> 86.150294 | D9: ='I-第2図の値'!I10 -> 99.507016 | E9: ='I-第2図の値'!J10 -> 88.557807 | F9: ='I-第2図の値'!K10 -> 106.42456
B10: ='I-第2図の値'!G11 -> 令和２年 | C10: ='I-第2図の値'!H11 -> 79.310029 | D10: ='I-第2図の値'!I11 -> 91.598881 | E10: ='I-第2図の値'!J11 -> 79.022646 | F10: ='I-第2図の値'!K11 -> 121.59026
B11: ='I-第2図の値'!G12 -> 令和３年 | C11: ='I-第2図の値'!H12 -> 80.523994 | D11: ='I-第2図の値'!I12 -> 89.550422 | E11: ='I-第2図の値'!J12 -> 84.445769 | F11: ='I-第2図の値'!K12 -> 122.14493
B12: ='I-第2図の値'!G13 -> 令和４年 | C12: ='I-第2図の値'!H13 -> 83.020507 | D12: ='I-第2図の値'!I13 -> 96.094662 | E12: ='I-第2図の値'!J13 -> 86.531585 | F12: ='I-第2図の値'!K13 -> 119.25
B13: ='I-第2図の値'!G14 -> 令和５年 | C13: ='I-第2図の値'!H14 -> 88.41133 | D13: ='I-第2図の値'!I14 -> 92.265488 | E13: ='I-第2図の値'!J14 -> 89.570918 | F13: ='I-第2図の値'!K14 -> 110.41931

Sheet I-第2図の値
B2: Ⅰ－第 ２図 火災の推移
B3: 年名称
C4: 件数 | D4: 床面積 | E4: 死者 | F4: 損害額 | G4: 年 | H4: 件数 | I4: 床面積 | J4: 死者 | K4: 損害額
B5: 2014年 | C5: 43741 | D5: 1108150 | E5: 1678 | F5: 85318835 | G5: =IF(年の入力!$B$1-ROWS($A5:$A$14)+1>2019, "令和"&IF(LEN(年の入力!$B$1-ROWS($A5:$A$14)+1-2018)>=2,年の入力!$B$1-ROWS($A5:$A$14)+1-2018, DBCS(年の入力!$B$1-ROWS($A5:$A$14)+1-2018))&"年", IF(年の入力!$B$1-ROWS($A5:$A$14)+1=2019,"令和元年","平成"&年の入力!$B$1-ROWS($A5:$A$14)+1-1988&"年" )) -> 平成26年 | H5: =(C5/C$5)*100 -> 100 | I5: =(D5/D$5)*100 -> 100 | J5: =(E5/E$5)*100 -> 100 | K5: =(F5/F$5)*100 -> 100
B6: 2015年 | C6: 39111 | D6: 1035581 | E6: 1563 | F6: 82520479 | G6: =IF(年の入力!$B$1-ROWS($A6:$A$14)+1>2019, "令和"&IF(LEN(年の入力!$B$1-ROWS($A6:$A$14)+1-2018)>=2,年の入力!$B$1-ROWS($A6:$A$14)+1-2018, DBCS(年の入力!$B$1-ROWS($A6:$A$14)+1-2018))&"年", IF(年の入力!$B$1-ROWS($A6:$A$14)+1=2019,"令和元年","平成"&年の入力!$B$1-ROWS($A6:$A$14)+1-1988&"年" )) -> 平成27年 | H6: =(C6/C$5)*100 -> 89.414965 | I6: =(D6/D$5)*100 -> 93.451338 | J6: =(E6/E$5)*100 -> 93.146603 | K6: =(F6/F$5)*100 -> 96.720119
B7: 2016年 | C7: 36831 | D7: 1026481 | E7: 1452 | F7: 75233396 | G7: =IF(年の入力!$B$1-ROWS($A7:$A$14)+1>2019, "令和"&IF(LEN(年の入力!$B$1-ROWS($A7:$A$14)+1-2018)>=2,年の入力!$B$1-ROWS($A7:$A$14)+1-2018, DBCS(年の入力!$B$1-ROWS($A7:$A$14)+1-2018))&"年", IF(年の入力!$B$1-ROWS($A7:$A$14)+1=2019,"令和元年","平成"&年の入力!$B$1-ROWS($A7:$A$14)+1-1988&"年" )) -> 平成28年 | H7: =(C7/C$5)*100 -> 84.202465 | I7: =(D7/D$5)*100 -> 92.630149 | J7: =(E7/E$5)*100 -> 86.531585 | K7: =(F7/F$5)*100 -> 88.179118
B8: 2017年 | C8: 39373 | D8: 1069932 | E8: 1456 | F8: 89322667 | G8: =IF(年の入力!$B$1-ROWS($A8:$A$14)+1>2019, "令和"&IF(LEN(年の入力!$B$1-ROWS($A8:$A$14)+1-2018)>=2,年の入力!$B$1-ROWS($A8:$A$14)+1-2018, DBCS(年の入力!$B$1-ROWS($A8:$A$14)+1-2018))&"年", IF(年の入力!$B$1-ROWS($A8:$A$14)+1=2019,"令和元年","平成"&年の入力!$B$1-ROWS($A8:$A$14)+1-1988&"年" )) -> 平成29年 | H8: =(C8/C$5)*100 -> 90.013946 | I8: =(D8/D$5)*100 -> 96.551189 | J8: =(E8/E$5)*100 -> 86.769964 | K8: =(F8/F$5)*100 -> 104.69279
B9: 2018年 | C9: 37981 | D9: 1063583 | E9: 1427 | F9: 84627241 | G9: =IF(年の入力!$B$1-ROWS($A9:$A$14)+1>2019, "令和"&IF(LEN(年の入力!$B$1-ROWS($A9:$A$14)+1-2018)>=2,年の入力!$B$1-ROWS($A9:$A$14)+1-2018, DBCS(年の入力!$B$1-ROWS($A9:$A$14)+1-2018))&"年", IF(年の入力!$B$1-ROWS($A9:$A$14)+1=2019,"令和元年","平成"&年の入力!$B$1-ROWS($A9:$A$14)+1-1988&"年" )) -> 平成30年 | H9: =(C9/C$5)*100 -> 86.831577 | I9: =(D9/D$5)*100 -> 95.978252 | J9: =(E9/E$5)*100 -> 85.041716 | K9: =(F9/F$5)*100 -> 99.189401
B10: 2019年 | C10: 37683 | D10: 1102687 | E10: 1486 | F10: 90800192 | G10: =IF(年の入力!$B$1-ROWS($A10:$A$14)+1>2019, "令和"&IF(LEN(年の入力!$B$1-ROWS($A10:$A$14)+1-2018)>=2,年の入力!$B$1-ROWS($A10:$A$14)+1-2018, DBCS(年の入力!$B$1-ROWS($A10:$A$14)+1-2018))&"年", IF(年の入力!$B$1-ROWS($A10:$A$14)+1=2019,"令和元年","平成"&年の入力!$B$1-ROWS($A10:$A$14)+1-1988&"年" )) -> 令和元年 | H10: =(C10/C$5)*100 -> 86.150294 | I10: =(D10/D$5)*100 -> 99.507016 | J10: =(E10/E$5)*100 -> 88.557807 | K10: =(F10/F$5)*100 -> 106.42456
B11: 2020年 | C11: 34691 | D11: 1015053 | E11: 1326 | F11: 103739390 | G11: =IF(年の入力!$B$1-ROWS($A11:$A$14)+1>2019, "令和"&IF(LEN(年の入力!$B$1-ROWS($A11:$A$14)+1-2018)>=2,年の入力!$B$1-ROWS($A11:$A$14)+1-2018, DBCS(年の入力!$B$1-ROWS($A11:$A$14)+1-2018))&"年", IF(年の入力!$B$1-ROWS($A11:$A$14)+1=2019,"令和元年","平成"&年の入力!$B$1-ROWS($A11:$A$14)+1-1988&"年" )) -> 令和２年 | H11: =(C11/C$5)*100 -> 79.310029 | I11: =(D11/D$5)*100 -> 91.598881 | J11: =(E11/E$5)*100 -> 79.022646 | K11: =(F11/F$5)*100 -> 121.59026
B12: 2021年 | C12: 35222 | D12: 992353 | E12: 1417 | F12: 104212628 | G12: =IF(年の入力!$B$1-ROWS($A12:$A$14)+1>2019, "令和"&IF(LEN(年の入力!$B$1-ROWS($A12:$A$14)+1-2018)>=2,年の入力!$B$1-ROWS($A12:$A$14)+1-2018, DBCS(年の入力!$B$1-ROWS($A12:$A$14)+1-2018))&"年", IF(年の入力!$B$1-ROWS($A12:$A$14)+1=2019,"令和元年","平成"&年の入力!$B$1-ROWS($A12:$A$14)+1-1988&"年" )) -> 令和３年 | H12: =(C12/C$5)*100 -> 80.523994 | I12: =(D12/D$5)*100 -> 89.550422 | J12: =(E12/E$5)*100 -> 84.445769 | K12: =(F12/F$5)*100 -> 122.14493
B13: 2022年 | C13: 36314 | D13: 1064873 | E13: 1452 | F13: 101742714 | G13: =IF(年の入力!$B$1-ROWS($A13:$A$14)+1>2019, "令和"&IF(LEN(年の入力!$B$1-ROWS($A13:$A$14)+1-2018)>=2,年の入力!$B$1-ROWS($A13:$A$14)+1-2018, DBCS(年の入力!$B$1-ROWS($A13:$A$14)+1-2018))&"年", IF(年の入力!$B$1-ROWS($A13:$A$14)+1=2019,"令和元年","平成"&年の入力!$B$1-ROWS($A13:$A$14)+1-1988&"年" )) -> 令和４年 | H13: =(C13/C$5)*100 -> 83.020507 | I13: =(D13/D$5)*100 -> 96.094662 | J13: =(E13/E$5)*100 -> 86.531585 | K13: =(F13/F$5)*100 -> 119.25
B14: 2023年 | C14: 38672 | D14: 1022440 | E14: 1503 | F14: 94208470 | G14: =IF(年の入力!$B$1-ROWS($A14:$A$14)+1>2019, "令和"&IF(LEN(年の入力!$B$1-ROWS($A14:$A$14)+1-2018)>=2,年の入力!$B$1-ROWS($A14:$A$14)+1-2018, DBCS(年の入力!$B$1-ROWS($A14:$A$14)+1-2018))&"年", IF(年の入力!$B$1-ROWS($A14:$A$14)+1=2019,"令和元年","平成"&年の入力!$B$1-ROWS($A14:$A$14)+1-1988&"年" )) -> 令和５年 | H14: =(C14/C$5)*100 -> 88.41133 | I14: =(D14/D$5)*100 -> 92.265488 | J14: =(E14/E$5)*100 -> 89.570918 | K14: =(F14/F$5)*100 -> 110.41931

Sheet 概況_第３表
B1: ="概況_第３表 業態別の火災件数"&"【令和"&IF(LEN(年の入力!$B$1-2018)>=2,年の入力!$B$1-2018, DBCS(年の入力!$B$1-2018))&"年】" -> 概況_第３表 業態別の火災件数【令和５年】
B3: 区分 | C3: 火災件数 | D3: 割合
B4: 農業 | C4: 789 | D4: 2.0402358
B5: 林業 | C5: 50 | D5: 0.12929251
B6: 漁業 | C6: 49 | D6: 0.12670666
B7: 鉱業 | C7: 33 | D7: 0.085333058
B8: 建設業 | C8: 745 | D8: 1.9264584
B9: 製造業 | C9: 1805 | D9: 4.6674597
B10: 電気・ガス等 | C10: 302 | D10: 0.78092677
B11: 運輸・通信業 | C11: 908 | D11: 2.347952
B12: 卸売・小売業 | C12: 1237 | D12: 3.1986967
B13: 金融・保険業 | C13: 32 | D13: 0.082747207
B14: 不動産業 | C14: 150 | D14: 0.38787753
B15: サービス業 | C15: 4621 | D15: 11.949214
... B19: 計 | C19: 38672 | D19: 100

Sheet 概況_第４表
A1: 出火件数 | B1: 概況_第４表 １日当たり及び１件当たりの火災の概況
B3: 区分 | D3: 単位 | E3: ="令和"&IF(LEN(年の入力!$B$1-2018)>=2,年の入力!$B$1-2018, DBCS(年の入力!$B$1-2018))&"年" -> 令和５年 | F3: ="令和"&IF(LEN(年の入力!$B$1-1-2018)>=2,年の入力!$B$1-2018, DBCS(年の入力!$B$1-1-2018))&"年" -> 令和４年
B4: 全火災１日当たり | C4: 出火件数 | D4: 件 | E4: 105.95068 | F4: 99.490411
C5: 損害額 | D5: 百万円 | E5: 258.1054 | F5: 278.74716
C6: 焼損棟数 | D6: 棟 | E6: 81.249315 | F6: 78.890411
C7: 建物焼損床面積 | D7: ㎡ | E7: 2801.2055 | F7: 2917.4603
C8: 建物焼損表面積 | D8: ㎡ | E8: 342.11233 | F8: 263.43288
C9: 林野焼損面積 | D9: ａ | E9: 231.17534 | F9: 165.8
C10: り災世帯数 | D10: 世帯 | E10: 51.731507 | F10: 50.452055
C11: り災人員 | D11: 人 | E11: 107.25205 | F11: 105.36438
C12: 死者 | D12: 人 | E12: 4.1178082 | F12: 3.9780822
C13: 負傷者 | D13: 人 | E13: 15.79726 | F13: 15.753425
B14: 建物火災１日当たり | C14: 建物 | D14: 件 | E14: 57.463014 | F14: 55.252055
B15: 林野火災１日当たり | C15: 林野 | D15: 件 | E15: 3.5589041 | F15: 3.3945205
B16: 全火災１件当たり | C16: 損害額 | D16: 万円 | E16: 243.60899 | F16: 280.1749
B17: 建物火災１件当たり | C17: 建物の損害額（注） | D17: 万円 | E17: 391.15258 | F17: 472.69374
C18: 建物焼損床面積 | D18: ㎡ | E18: 48.747974 | F18: 52.802747
C19: 建物焼損表面積 | D19: ㎡ | E19: 5.9536092 | F19: 4.7678385
C20: 焼損棟数 | D20: 棟 | E20: 1.4139411 | F20: 1.4278276
C21: り災世帯数 | D21: 世帯 | E21: 0.90025746 | F21: 0.9131254
C22: り災人員 | D22: 人 | E22: 1.8664537 | F22: 1.9069767
B23: 林野火災１件当たり | C23: 林野損害額 | D23: 万円 | E23: 9.6371824 | F23: 27.819048
C24: 林野焼損面積 | D24: ａ | E24: 64.95689 | F24: 48.843422
B25: （注）建物の損害額には、建物損害額に加え収容物損害額も含まれる。

Sheet 概況_第５表
B1: 概況_第５表 火災種別出火件数の構成割合
C3: ="令和"&IF(LEN(年の入力!$B$1-2018)>=2,年の入力!$B$1-2018, DBCS(年の入力!$B$1-2018))&"年" -> 令和５年 | E3: ="令和"&IF(LEN(年の入力!$B$1-1-2018)>=2,年の入力!$B$1-2018, DBCS(年の入力!$B$1-1-2018))&"年" -> 令和４年
C4: 件数 | D4: 割合 | E4: 件数 | F4: 割合
B5: 建物火災 | C5: 20974 | D5: 54.235623 | E5: 20167 | F5: 55.535055
B6: 林野火災 | C6: 1299 | D6: 3.3590194 | E6: 1239 | F6: 3.4119073
B7: 車両火災 | C7: 3521 | D7: 9.1047787 | E7: 3409 | F7: 9.387564
B8: 船舶火災 | C8: 58 | D8: 0.14997931 | E8: 78 | F8: 0.21479319
B9: 航空機火災 | C9: 1 | D9: 0.0025858502 | E9: 2 | F9: 0.0055075178
B10: その他の火災 | C10: 12819 | D10: 33.148014 | E10: 11419 | F10: 31.445173
B11: 計 | C11: 38672 | D11: 100 | E11: 36314 | F11: 100

Sheet 概況_第６表
B1: 概況_第６表 四季別出火状況
C3: ="令和"&IF(LEN(年の入力!$B$1-2018)>=2,年の入力!$B$1-2018, DBCS(年の入力!$B$1-2018))&"年" -> 令和５年 | G3: ="令和"&IF(LEN(年の入力!$B$1-1-2018)>=2,年の入力!$B$1-2018, DBCS(年の入力!$B$1-1-2018))&"年" -> 令和４年
C4: 出火件数 | D4: 割合 | E4: 損害額 （千円） | F4: 割合 | G4: 出火件数 | H4: 割合 | I4: 損害額 （千円） | J4: 割合
B5: 春季（3月～5月） | C5: 11244 | D5: 29.0753 | E5: 26793782 | F5: 28.440948 | G5: 10731 | H5: 29.550587 | I5: 27118636 | J5: 26.654131
B6: 夏季（6月～8月） | C6: 8119 | D6: 20.994518 | E6: 23713444 | F6: 25.171244 | G6: 7368 | H6: 20.289695 | I6: 27635749 | J6: 27.162386
B7: 秋季（9月～11月） | C7: 8523 | D7: 22.039201 | E7: 18522270 | F7: 19.660939 | G7: 7625 | H7: 20.997411 | I7: 21441268 | J7: 21.074008
B8: 冬季（12月～2月） | C8: 10786 | D8: 27.890981 | E8: 25178974 | F8: 26.726869 | G8: 10590 | H8: 29.162307 | I8: 25547061 | J8: 25.109475
B9: 計 | C9: 38672 | D9: 100 | E9: 94208470 | F9: 100 | G9: 36314 | H9: 100 | I9: 101742714 | J9: 100

Sheet 概況_第７表
B1: ="概況_第７表 火災警報発令状況別出火件数"&"【令和"&IF(LEN(年の入力!$B$1-2018)>=2,年の入力!$B$1-2018, DBCS(年の入力!$B$1-2018))&"年】" -> 概況_第７表 火災警報発令状況別出火件数【令和５年】
C3: 出火件数 | D3: 火災警報発令中 | E3: 割合
B4: 建物火災 | C4: 20974 | D4: 128 | E4: 0.61027939
B5: 林野火災 | C5: 1299 | D5: 12 | E5: 0.9237875
B6: 車両火災 | C6: 3521 | D6: 18 | E6: 0.5112184
B7: 船舶火災 | C7: 58 | D7: 0 | E7: 0
B8: 航空機火災 | C8: 1 | D8: 0 | E8: 0
B9: その他の火災 | C9: 12819 | D9: 93 | E9: 0.7254856
B10: 計 | C10: 38672 | D10: 251 | E10: 0.6490484

Sheet 概況_第８表
B1: 概況_第８表 出火率、出火件数、人口及び世帯数の変化
D3: ="令和"&IF(LEN(年の入力!$B$1-2018)>=2,年の入力!$B$1-2018, DBCS(年の入力!$B$1-2018))&"年" -> 令和５年 | E3: ="令和"&IF(LEN(年の入力!$B$1-1-2018)>=2,年の入力!$B$1-2018, DBCS(年の入力!$B$1-1-2018))&"年" -> 令和４年 | F3: 増減率
B4: 出火率 | C4: （件/人口１万人） | D4: 3.0834766 | E4: 2.8837136 | F4: 6.9272825
B5: 総火災件数 | C5: 件 | D5: 38672 | E5: 36314 | F5: 6.4933634
B6: 建物火災件数 | C6: 件 | D6: 20974 | E6: 20167 | F6: 4.0015868
B7: 人口 | C7: 人 | D7: 125416877 | E7: 125927902 | F7: -0.4058076
B8: 世帯数 | C8: 世帯 | D8: 60266318 | E8: 59761065 | F8: 0.84545515
B9: （注）人口及び世帯数は令和３年及び令和４年住民基本台帳（同年１月1日現在）による。

Sheet 概況_第９表
B1: 概況_第９表 市町村別出火件数及び出火率の推移
C3: =IF(年の入力!$B$1-COLUMNS(C$3:$L$3)+1>2019, "令和"&IF(LEN(年の入力!$B$1-COLUMNS(C$3:$L$3)+1-2018)>=2,年の入力!$B$1-COLUMNS(C$3:$L$3)+1-2018, DBCS(年の入力!$B$1-COLUMNS(C$3:$L$3)+1-2018))&"年", IF(年の入力!$B$1-COLUMNS(C$3:$L$3)+1=2019,"令和元年","平成"&年の入力!$B$1-COLUMNS(C$3:$L$3)+1-1988&"年" )) -> 平成26年 | D3: =IF(年の入力!$B$1-COLUMNS(D$3:$L$3)+1>2019, "令和"&IF(LEN(年の入力!$B$1-COLUMNS(D$3:$L$3)+1-2018)>=2,年の入力!$B$1-COLUMNS(D$3:$L$3)+1-2018, DBCS(年の入力!$B$1-COLUMNS(D$3:$L$3)+1-2018))&"年", IF(年の入力!$B$1-COLUMNS(D$3:$L$3)+1=2019,"令和元年","平成"&年の入力!$B$1-COLUMNS(D$3:$L$3)+1-1988&"年" )) -> 平成27年 | E3: =IF(年の入力!$B$1-COLUMNS(E$3:$L$3)+1>2019, "令和"&IF(LEN(年の入力!$B$1-COLUMNS(E$3:$L$3)+1-2018)>=2,年の入力!$B$1-COLUMNS(E$3:$L$3)+1-2018, DBCS(年の入力!$B$1-COLUMNS(E$3:$L$3)+1-2018))&"年", IF(年の入力!$B$1-COLUMNS(E$3:$L$3)+1=2019,"令和元年","平成"&年の入力!$B$1-COLUMNS(E$3:$L$3)+1-1988&"年" )) -> 平成28年 | F3: =IF(年の入力!$B$1-COLUMNS(F$3:$L$3)+1>2019, "令和"&IF(LEN(年の入力!$B$1-COLUMNS(F$3:$L$3)+1-2018)>=2,年の入力!$B$1-COLUMNS(F$3:$L$3)+1-2018, DBCS(年の入力!$B$1-COLUMNS(F$3:$L$3)+1-2018))&"年", IF(年の入力!$B$1-COLUMNS(F$3:$L$3)+1=2019,"令和元年","平成"&年の入力!$B$1-COLUMNS(F$3:$L$3)+1-1988&"年" )) -> 平成29年 | G3: =IF(年の入力!$B$1-COLUMNS(G$3:$L$3)+1>2019, "令和"&IF(LEN(年の入力!$B$1-COLUMNS(G$3:$L$3)+1-2018)>=2,年の入力!$B$1-COLUMNS(G$3:$L$3)+1-2018, DBCS(年の入力!$B$1-COLUMNS(G$3:$L$3)+1-2018))&"年", IF(年の入力!$B$1-COLUMNS(G$3:$L$3)+1=2019,"令和元年","平成"&年の入力!$B$1-COLUMNS(G$3:$L$3)+1-1988&"年" )) -> 平成30年 | H3: =IF(年の入力!$B$1-COLUMNS(H$3:$L$3)+1>2019, "令和"&IF(LEN(年の入力!$B$1-COLUMNS(H$3:$L$3)+1-2018)>=2,年の入力!$B$1-COLUMNS(H$3:$L$3)+1-2018, DBCS(年の入力!$B$1-COLUMNS(H$3:$L$3)+1-2018))&"年", IF(年の入力!$B$1-COLUMNS(H$3:$L$3)+1=2019,"令和元年","平成"&年の入力!$B$1-COLUMNS(H$3:$L$3)+1-1988&"年" )) -> 令和元年 | I3: =IF(年の入力!$B$1-COLUMNS(I$3:$L$3)+1>2019, "令和"&IF(LEN(年の入力!$B$1-COLUMNS(I$3:$L$3)+1-2018)>=2,年の入力!$B$1-COLUMNS(I$3:$L$3)+1-2018, DBCS(年の入力!$B$1-COLUMNS(I$3:$L$3)+1-2018))&"年", IF(年の入力!$B$1-COLUMNS(I$3:$L$3)+1=2019,"令和元年","平成"&年の入力!$B$1-COLUMNS(I$3:$L$3)+1-1988&"年" )) -> 令和２年 | J3: =IF(年の入力!$B$1-COLUMNS(J$3:$L$3)+1>2019, "令和"&IF(LEN(年の入力!$B$1-COLUMNS(J$3:$L$3)+1-2018)>=2,年の入力!$B$1-COLUMNS(J$3:$L$3)+1-2018, DBCS(年の入力!$B$1-COLUMNS(J$3:$L$3)+1-2018))&"年", IF(年の入力!$B$1-COLUMNS(J$3:$L$3)+1=2019,"令和元年","平成"&年の入力!$B$1-COLUMNS(J$3:$L$3)+1-1988&"年" )) -> 令和３年 | ... L3: =IF(年の入力!$B$1-COLUMNS(L$3:$L$3)+1>2019, "令和"&IF(LEN(年の入力!$B$1-COLUMNS(L$3:$L$3)+1-2018)>=2,年の入力!$B$1-COLUMNS(L$3:$L$3)+1-2018, DBCS(年の入力!$B$1-COLUMNS(L$3:$L$3)+1-2018))&"年", IF(年の入力!$B$1-COLUMNS(L$3:$L$3)+1=2019,"令和元年","平成"&年の入力!$B$1-COLUMNS(L$3:$L$3)+1-1988&"年" )) -> 令和５年
B4: 指定都市等 | C4: 11241 | D4: 9998 | E4: 9522 | F4: 9950 | G4: 9188 | H4: 9028 | I4: 8403 | J4: 8435 | K4: 8709 | L4: 9213
C5: 3.1005063 | D5: 2.7462218 | E5: 2.6035069 | F5: 2.7047338 | G5: 2.4938672 | H5: 2.4416374 | I5: 2.2643055 | J5: 2.2722483 | K5: 2.3532971 | L5: 2.4871297
B6: その他の都市 | C6: 26850 | D6: 23948 | E6: 22577 | F6: 24263 | G6: 23689 | H6: 23597 | I6: 21600 | J6: 21907 | K6: 22682 | L6: 24222
C7: 3.3386994 | D7: 2.9796683 | E7: 2.8135575 | F7: 3.0368467 | G7: 2.9679636 | H7: 2.9654435 | I7: 2.7257546 | J7: 2.7777787 | K7: 2.8940331 | L7: 3.1142687
B8: 町村 | C8: 5650 | D8: 5165 | E8: 4732 | F8: 5160 | G8: 5104 | H8: 5058 | I8: 4688 | J8: 4880 | K8: 4923 | L8: 5237
C9: 4.9324236 | D9: 4.5598778 | E9: 4.1941803 | F9: 4.5665988 | G9: 4.6193339 | H9: 4.6424463 | I9: 4.3475011 | J9: 4.5747515 | K9: 4.668477 | L9: 4.9421111
B10: 全国計 | C10: 43741 | D10: 39111 | E10: 36831 | F10: 39373 | G10: 37981 | H10: 37683 | I10: 34691 | J10: 35222 | K10: 36314 | L10: 38672
C11: 3.4137792 | D11: 3.0530472 | E11: 2.8751835 | F11: 3.0764443 | G11: 2.9740674 | H11: 2.9568382 | I11: 2.7286091 | J11: 2.7809569 | K11: 2.8837136 | L11: 3.0834766
B12: （注）上段は出火件数，下段は出火率を示す。

Sheet 概況_第１０表
B1: ="概況_第１０表 都道府県別出火率"&"【令和"&IF(LEN(年の入力!$B$1-2018)>=2,年の入力!$B$1-2018,DBCS(年の入力!$B$1-2018))&"年】" -> 概況_第１０表 都道府県別出火率【令和５年】
B3: 都道府県 | D3: 出火件数 | E3: 人口 | F3: 出火率 | H3: 都道府県 | J3: 出火件数 | K3: 人口 | L3: 出火率
B4: 1 | C4: 北海道 | D4: 1587 | E4: 5139913 | F4: 3.0876009 | H4: 25 | I4: 滋賀県 | J4: 392 | K4: 1413989 | L4: 2.7722988
B5: 2 | C5: 青森県 | D5: 436 | E5: 1225497 | F5: 3.5577402 | H5: 26 | I5: 京都府 | J5: 516 | K5: 2501269 | L5: 2.0629528
B6: 3 | C6: 岩手県 | D6: 383 | E6: 1189670 | F6: 3.2193802 | H6: 27 | I6: 大阪府 | J6: 1967 | K6: 8784421 | L6: 2.2391914
B7: 4 | C7: 宮城県 | D7: 698 | E7: 2257472 | F7: 3.0919542 | H7: 28 | I7: 兵庫県 | J7: 1548 | K7: 5459867 | L7: 2.8352339
B8: 5 | C8: 秋田県 | D8: 318 | E8: 941021 | F8: 3.3793082 | H8: 29 | I8: 奈良県 | J8: 395 | K8: 1325385 | L8: 2.9802661
B9: 6 | C9: 山形県 | D9: 318 | E9: 1042396 | F9: 3.050664 | H9: 30 | I9: 和歌山県 | J9: 343 | K9: 924469 | L9: 3.710238
B10: 7 | C10: 福島県 | D10: 703 | E10: 1818581 | F10: 3.8656513 | H10: 31 | I10: 鳥取県 | J10: 177 | K10: 546558 | L10: 3.2384486
B11: 8 | C11: 茨城県 | D11: 1385 | E11: 2879808 | F11: 4.8093484 | H11: 32 | I11: 島根県 | J11: 266 | K11: 658809 | L11: 4.037589
B12: 9 | C12: 栃木県 | D12: 870 | E12: 1929434 | F12: 4.5090944 | H12: 33 | I12: 岡山県 | J12: 743 | K12: 1865478 | L12: 3.9828934
B13: 10 | C13: 群馬県 | D13: 759 | E13: 1930976 | F13: 3.9306548 | H13: 34 | I13: 広島県 | J13: 845 | K13: 2770623 | L13: 3.0498556
B14: 11 | C14: 埼玉県 | D14: 1995 | E14: 7381035 | F14: 2.702873 | H14: 35 | I14: 山口県 | J14: 587 | K14: 1326218 | L14: 4.42612
B15: 12 | C15: 千葉県 | D15: 2105 | E15: 6310075 | F15: 3.335935 | H15: 36 | I15: 徳島県 | J15: 231 | K15: 718879 | L15: 3.2133363
... B26: 23 | C26: 愛知県 | D26: 2038 | E26: 7512703 | F26: 2.7127387 | H26: 47 | I26: 沖縄県 | J26: 523 | K26: 1485526 | L26: 3.5206385
B27: 24 | C27: 三重県 | D27: 690 | E27: 1772427 | F27: 3.8929671 | H27: 計 | J27: 38672 | K27: 125416877 | L27: 3.0834766

Sheet 概況_第１１表
B1: 概況_第１１表 初期消火器具等の使用状況
C3: 簡易消火用具 | E3: 消火器 | G3: 固定消火設備 | I3: その他 | K3: 未実施
C4: 件数 | D4: 割合 | E4: 件数 | F4: 割合 | G4: 件数 | H4: 割合 | I4: 件数 | J4: 割合 | K4: 件数 | L4: 割合
B5: ="令和"&IF(LEN(年の入力!$B$1-2018)>=2,年の入力!$B$1-2018, DBCS(年の入力!$B$1-2018))&"年" -> 令和５年 | C5: 1538 | D5: 3.9770376 | E5: 7043 | F5: 18.212143 | G5: 382 | H5: 0.98779478 | I5: 15454 | J5: 39.961729 | K5: 14255 | L5: 36.861295
B6: 有効 | C6: 726 | D6: 47.204161 | E6: 4181 | F6: 59.363907 | G6: 231 | H6: 60.471204 | I6: 8430 | J6: 54.548984
B7: ="令和"&IF(LEN(年の入力!$B$1-1-2018)>=2,年の入力!$B$1-2018, DBCS(年の入力!$B$1-1-2018))&"年" -> 令和４年 | C7: 1392 | D7: 3.8332324 | E7: 6680 | F7: 18.395109 | G7: 389 | H7: 1.0712122 | I7: 14684 | J7: 40.436195 | K7: 13169 | L7: 36.264251
B8: 有効 | C8: 612 | D8: 43.965517 | E8: 3969 | F8: 59.416168 | G8: 231 | H8: 59.383033 | I8: 8066 | J8: 54.930537

Sheet 概況_第１２表
B1: ="概況_第１２表 覚知方法別出火件数"&"【令和"&IF(LEN(年の入力!$B$1-2018)>=2,年の入力!$B$1-2018,DBCS(年の入力!$B$1-2018))&"年】" -> 概況_第１２表 覚知方法別出火件数【令和５年】
D3: 計 | F3: 大都市 | H3: その他の都市 | J3: 町村
D4: 件数 | E4: 割合 | F4: 件数 | G4: 割合 | H4: 件数 | I4: 割合 | J4: 件数 | K4: 割合
B5: 火災報知専用電話 | C5: ＮＴＴを除く固定電話から | D5: 2393 | E5: 6.1879396 | F5: 407 | G5: 4.4176707 | H5: 1660 | I5: 6.8532739 | J5: 326 | K5: 6.2249379
C6: ＮＴＴ固定電話から | D6: 3915 | E6: 10.123604 | F6: 893 | G6: 9.6928254 | H6: 2422 | I6: 9.9991743 | J6: 600 | K6: 11.456941
C7: 携帯電話から | D7: 20650 | E7: 53.397807 | F7: 4351 | G7: 47.226745 | H7: 13381 | I7: 55.243167 | J7: 2918 | K7: 55.718923
C8: 計 | D8: =SUM(D5:D7) -> 26958 | E8: =D8/D15*100 -> 69.70935 | F8: =SUM(F5:F7) -> 5651 | G8: =F8/F15*100 -> 61.337241 | H8: =SUM(H5:H7) -> 17463 | I8: =H8/H15*100 -> 72.095616 | J8: =SUM(J5:J7) -> 3844 | K8: =J8/J15*100 -> 73.400802
B9: 加入電話 （固定電話から） | D9: 1055 | E9: 2.728072 | F9: 106 | G9: 1.1505481 | H9: 739 | I9: 3.0509454 | J9: 210 | K9: 4.0099293
B10: 加入電話 （携帯電話から） | D10: 1084 | E10: 2.8030616 | F10: 120 | G10: 1.3025073 | H10: 658 | I10: 2.7165387 | J10: 306 | K10: 5.8430399
B11: 警察電話 | D11: 1131 | E11: 2.9245966 | F11: 468 | G11: 5.0797786 | H11: 582 | I11: 2.4027743 | J11: 81 | K11: 1.546687
B12: 駆け付け通報 | D12: 158 | E12: 0.40856434 | F12: 28 | G12: 0.30391838 | H12: 87 | I12: 0.35917761 | J12: 43 | K12: 0.82108077
B13: 事後聞知 | D13: 7684 | E13: 19.869673 | F13: 2735 | G13: 29.686313 | H13: 4315 | I13: 17.814384 | J13: 634 | K13: 12.106168
B14: その他 | D14: 602 | E14: 1.5566818 | F14: 105 | G14: 1.1396939 | H14: 378 | I14: 1.5605648 | J14: 119 | K14: 2.2722933
B15: 計 | D15: 38672 | E15: 100 | F15: 9213 | G15: 100 | H15: 24222 | I15: 100 | J15: 5237 | K15: 100
B16: （注）1 火災報知専用電話（携帯電話から）とは、携帯電話及びPHS等の移動電話から消防機関へ119番通報したものをいう。
B17: 2 加入電話（固定電話から）とは、消防機関の一般加入電話（○○－××××－△△△△）へ固定電話から通報したものをいう。
B18: 3 加入電話（携帯電話から）とは、消防機関の一般加入電話（○○－××××－△△△△）へ移動電話から通報したものをいう。
B19: 4 事後聞知とは、既に鎮火している火災を通報したものをいう。

Sheet 概況_第１３表
A1: 死者数・割合 | B1: ="概況_第１３表 火災種別ごとの死者発生状況"&"【令和"&IF(LEN(年の入力!$B$1-2018)>=2,年の入力!$B$1-2018,DBCS(年の入力!$B$1-2018))&"年】" -> 概況_第１３表 火災種別ごとの死者発生状況【令和５年】
C3: 計 | D3: 建物火災 | I3: 林野 火災 | J3: 車両 火災 | K3: 船舶 火災 | L3: 航空機 火災 | M3: その他 の火災
D4: 全焼 | E4: 半焼 | F4: 部分焼 | G4: ぼや | H4: その他
B5: 死者数 | C5: ='I-13表'!C5 -> 1503 | D5: ='I-13表'!D5 -> 749 | E5: ='I-13表'!E5 -> 145 | F5: ='I-13表'!F5 -> 221 | G5: ='I-13表'!G5 -> 84 | H5: ='I-13表'!H5 -> 1 | I5: ='I-13表'!J5 -> 8 | J5: ='I-13表'!K5 -> 105 | K5: ='I-13表'!L5 -> 0 | L5: ='I-13表'!M5 -> 0 | M5: ='I-13表'!N5 -> 190
D6: ='I-13表'!D6 -> 1200 | E6: ='I-13表'!E6 -> 0 | F6: ='I-13表'!F6 -> 0 | G6: ='I-13表'!G6 -> 0 | H6: ='I-13表'!H6 -> 0 | I6: ='I-13表'!I6 -> 0 | J6: ='I-13表'!J6 -> 0 | K6: ='I-13表'!K6 -> 0 | ... M6: ='I-13表'!M6 -> 0
B7: 割合 | C7: ='I-13表'!C7 -> 100 | D7: ='I-13表'!D7 -> 79.840319 | E7: ='I-13表'!E7 -> 0 | F7: ='I-13表'!F7 -> 0 | G7: ='I-13表'!G7 -> 0 | H7: ='I-13表'!H7 -> 0 | I7: ='I-13表'!J7 -> 0.5322688 | J7: ='I-13表'!K7 -> 6.9860279 | K7: ='I-13表'!L7 -> 0 | L7: ='I-13表'!M7 -> 0 | M7: ='I-13表'!N7 -> 12.641384
B8: 死者発生火災件数 | C8: ='I-13表'!C8 -> 1385 | D8: ='I-13表'!D8 -> 665 | E8: ='I-13表'!E8 -> 130 | F8: ='I-13表'!F8 -> 212 | G8: ='I-13表'!G8 -> 84 | H8: ='I-13表'!H8 -> 1 | I8: ='I-13表'!J8 -> 8 | J8: ='I-13表'!K8 -> 96 | K8: ='I-13表'!L8 -> 0 | L8: ='I-13表'!M8 -> 0 | M8: ='I-13表'!N8 -> 189
D9: ='I-13表'!D9 -> 1092 | E9: ='I-13表'!E9 -> 0 | F9: ='I-13表'!F9 -> 0 | G9: ='I-13表'!G9 -> 0 | H9: ='I-13表'!H9 -> 0
B10: 割合 | C10: ='I-13表'!C10 -> 100 | D10: ='I-13表'!D10 -> 78.844765 | E10: ='I-13表'!E10 -> 0 | F10: ='I-13表'!F10 -> 0 | G10: ='I-13表'!G10 -> 0 | H10: ='I-13表'!H10 -> 0 | I10: ='I-13表'!J10 -> 0.57761733 | J10: ='I-13表'!K10 -> 6.9314079 | K10: ='I-13表'!L10 -> 0 | L10: ='I-13表'!M10 -> 0 | M10: ='I-13表'!N10 -> 13.646209
B11: （注）火災報告取扱要領第3（死者の調査表）に定める区分による。

Sheet I-13表
B1: Ⅰ－第１３表－１ 火災種別ごとの死者発生状況（死者数・割合）
C3: 計 | D3: 建物火災 | J3: 林野 火災 | K3: 車両 火災 | L3: 船舶 火災 | M3: 航空機 火災 | N3: その他 の火災
D4: 全焼 | E4: 半焼 | F4: 部分焼 | G4: ぼや | H4: その他 | I4: 計
B5: 死者数 | C5: 1503 | D5: 749 | E5: 145 | F5: 221 | G5: 84 | H5: 1 | J5: 8 | K5: 105 | L5: 0 | M5: 0 | N5: 190
D6: 1200
B7: 割合 | C7: 100 | D7: 79.840319 | J7: 0.5322688 | K7: 6.9860279 | L7: 0 | M7: 0 | N7: 12.641384
B8: 死者発生火災件数 | C8: 1385 | D8: 665 | E8: 130 | F8: 212 | G8: 84 | H8: 1 | J8: 8 | K8: 96 | L8: 0 | M8: 0 | N8: 189
D9: 1092
B10: 割合 | C10: 100 | D10: 78.844765 | J10: 0.57761733 | K10: 6.9314079 | L10: 0 | M10: 0 | N10: 13.646209

Sheet 概況_第１４表
B1: ="概況_第１４表 全火災の死傷者区分別死傷者数"&"【令和"&IF(LEN(年の入力!$B$1-2018)>=2,年の入力!$B$1-2018,DBCS(年の入力!$B$1-2018))&"年】" -> 概況_第１４表 全火災の死傷者区分別死傷者数【令和５年】
D3: 計 | E3: 消防吏員 | F3: 消防団員 | G3: 応急消火 義務者 | H3: 消防協力者 | I3: その他
A4: 死者 | B4: 死者 | D4: 1503 | E4: 1 | F4: 0 | G4: 961 | H4: 1 | I4: 540
D6: 計 | E6: 消防吏員 | F6: 消防団員 | G6: 応急消火 義務者 | H6: 消防協力者 | I6: 自損 | J6: その他
A7: 負傷者：計 | B7: 負傷者 | C7: 計 | D7: 5766 | E7: 186 | F7: 92 | G7: 4350 | H7: 117 | I7: 144 | J7: 877
A8: 負傷者：重症 | C8: 重症 | D8: 770 | E8: 5 | F8: 1 | G8: 592 | H8: 2 | I8: 55 | J8: 115
A9: 負傷者：中等症 | C9: 中等症 | D9: 1745 | E9: 43 | F9: 19 | G9: 1362 | H9: 13 | I9: 56 | J9: 252
A10: 負傷者：軽症 | C10: 軽症 | D10: 3251 | E10: 138 | F10: 72 | G10: 2396 | H10: 102 | I10: 33 | J10: 510

Sheet 概況_第１５表
B1: ="概況_第１５表 全火災の負傷者の性別・年齢区分"&"【令和"&IF(LEN(年の入力!$B$1-2018)>=2,年の入力!$B$1-2018,DBCS(年の入力!$B$1-2018))&"年】" -> 概況_第１５表 全火災の負傷者の性別・年齢区分【令和５年】
B3: 年齢区分 | C3: 男 | D3: 女 | E3: 計 | F3: 構成比
B4: 5歳以下 | C4: 32 | D4: 29 | E4: 61 | F4: 1.0579258
B5: 6～10歳 | C5: 22 | D5: 23 | E5: 45 | F5: 0.78043704
B6: 11～15歳 | C6: 48 | D6: 37 | E6: 85 | F6: 1.4741589
B7: 16～20歳 | C7: 98 | D7: 52 | E7: 150 | F7: 2.6014568
B8: 21～25歳 | C8: 217 | D8: 97 | E8: 314 | F8: 5.4457163
B9: 26～30歳 | C9: 194 | D9: 81 | E9: 275 | F9: 4.7693375
B10: 31～35歳 | C10: 173 | D10: 80 | E10: 253 | F10: 4.3877905
B11: 36～40歳 | C11: 217 | D11: 91 | E11: 308 | F11: 5.341658
B12: 41～45歳 | C12: 219 | D12: 93 | E12: 312 | F12: 5.4110302
B13: 46～50歳 | C13: 298 | D13: 130 | E13: 428 | F13: 7.4228234
B14: 51～55歳 | C14: 340 | D14: 148 | E14: 488 | F14: 8.4634062
B15: 56～60歳 | C15: 255 | D15: 115 | E15: 370 | F15: 6.4169268
... B21: 計 | C21: 3707 | D21: 2059 | E21: 5766 | F21: 100

Sheet 概況_第１６表
B1: 概況_第１６表 損害額の推移
B3: 年 | C3: 件数 | D3: 損害額（千円） | E3: 損害額（億円） | F3: 1件当たり損害額（万円）
B4: =IF(年の入力!$B$1-ROWS($A4:$A$13)+1>2019, "令和"&IF(LEN(年の入力!$B$1-ROWS($A4:$A$13)+1-2018)>=2,年の入力!$B$1-ROWS($A4:$A$13)+1-2018, DBCS(年の入力!$B$1-ROWS($A4:$A$13)+1-2018))&"年", IF(年の入力!$B$1-ROWS($A4:$A$13)+1=2019,"令和元年","平成"&年の入力!$B$1-ROWS($A4:$A$13)+1-1988&"年" )) -> 平成26年 | C4: 43741 | D4: 85318835 | E4: 853.18835 | F4: 195.05461
B5: =IF(年の入力!$B$1-ROWS($A5:$A$13)+1>2019, "令和"&IF(LEN(年の入力!$B$1-ROWS($A5:$A$13)+1-2018)>=2,年の入力!$B$1-ROWS($A5:$A$13)+1-2018, DBCS(年の入力!$B$1-ROWS($A5:$A$13)+1-2018))&"年", IF(年の入力!$B$1-ROWS($A5:$A$13)+1=2019,"令和元年","平成"&年の入力!$B$1-ROWS($A5:$A$13)+1-1988&"年" )) -> 平成27年 | C5: 39111 | D5: 82520479 | E5: 825.20479 | F5: 210.99046
B6: =IF(年の入力!$B$1-ROWS($A6:$A$13)+1>2019, "令和"&IF(LEN(年の入力!$B$1-ROWS($A6:$A$13)+1-2018)>=2,年の入力!$B$1-ROWS($A6:$A$13)+1-2018, DBCS(年の入力!$B$1-ROWS($A6:$A$13)+1-2018))&"年", IF(年の入力!$B$1-ROWS($A6:$A$13)+1=2019,"令和元年","平成"&年の入力!$B$1-ROWS($A6:$A$13)+1-1988&"年" )) -> 平成28年 | C6: 36831 | D6: 75233396 | E6: 752.33396 | F6: 204.2665
B7: =IF(年の入力!$B$1-ROWS($A7:$A$13)+1>2019, "令和"&IF(LEN(年の入力!$B$1-ROWS($A7:$A$13)+1-2018)>=2,年の入力!$B$1-ROWS($A7:$A$13)+1-2018, DBCS(年の入力!$B$1-ROWS($A7:$A$13)+1-2018))&"年", IF(年の入力!$B$1-ROWS($A7:$A$13)+1=2019,"令和元年","平成"&年の入力!$B$1-ROWS($A7:$A$13)+1-1988&"年" )) -> 平成29年 | C7: 39373 | D7: 89322667 | E7: 893.22667 | F7: 226.86274
B8: =IF(年の入力!$B$1-ROWS($A8:$A$13)+1>2019, "令和"&IF(LEN(年の入力!$B$1-ROWS($A8:$A$13)+1-2018)>=2,年の入力!$B$1-ROWS($A8:$A$13)+1-2018, DBCS(年の入力!$B$1-ROWS($A8:$A$13)+1-2018))&"年", IF(年の入力!$B$1-ROWS($A8:$A$13)+1=2019,"令和元年","平成"&年の入力!$B$1-ROWS($A8:$A$13)+1-1988&"年" )) -> 平成30年 | C8: 37981 | D8: 84627241 | E8: 846.27241 | F8: 222.81467
B9: =IF(年の入力!$B$1-ROWS($A9:$A$13)+1>2019, "令和"&IF(LEN(年の入力!$B$1-ROWS($A9:$A$13)+1-2018)>=2,年の入力!$B$1-ROWS($A9:$A$13)+1-2018, DBCS(年の入力!$B$1-ROWS($A9:$A$13)+1-2018))&"年", IF(年の入力!$B$1-ROWS($A9:$A$13)+1=2019,"令和元年","平成"&年の入力!$B$1-ROWS($A9:$A$13)+1-1988&"年" )) -> 令和元年 | C9: 37683 | D9: 90800192 | E9: 908.00192 | F9: 240.95797
B10: =IF(年の入力!$B$1-ROWS($A10:$A$13)+1>2019, "令和"&IF(LEN(年の入力!$B$1-ROWS($A10:$A$13)+1-2018)>=2,年の入力!$B$1-ROWS($A10:$A$13)+1-2018, DBCS(年の入力!$B$1-ROWS($A10:$A$13)+1-2018))&"年", IF(年の入力!$B$1-ROWS($A10:$A$13)+1=2019,"令和元年","平成"&年の入力!$B$1-ROWS($A10:$A$13)+1-1988&"年" )) -> 令和２年 | C10: 34691 | D10: 103739390 | E10: 1037.3939 | F10: 299.03834
B11: =IF(年の入力!$B$1-ROWS($A11:$A$13)+1>2019, "令和"&IF(LEN(年の入力!$B$1-ROWS($A11:$A$13)+1-2018)>=2,年の入力!$B$1-ROWS($A11:$A$13)+1-2018, DBCS(年の入力!$B$1-ROWS($A11:$A$13)+1-2018))&"年", IF(年の入力!$B$1-ROWS($A11:$A$13)+1=2019,"令和元年","平成"&年の入力!$B$1-ROWS($A11:$A$13)+1-1988&"年" )) -> 令和３年 | C11: 35222 | D11: 104212628 | E11: 1042.1263 | F11: 295.87368
B12: =IF(年の入力!$B$1-ROWS($A12:$A$13)+1>2019, "令和"&IF(LEN(年の入力!$B$1-ROWS($A12:$A$13)+1-2018)>=2,年の入力!$B$1-ROWS($A12:$A$13)+1-2018, DBCS(年の入力!$B$1-ROWS($A12:$A$13)+1-2018))&"年", IF(年の入力!$B$1-ROWS($A12:$A$13)+1=2019,"令和元年","平成"&年の入力!$B$1-ROWS($A12:$A$13)+1-1988&"年" )) -> 令和４年 | C12: 36314 | D12: 101742714 | E12: 1017.4271 | F12: 280.1749
B13: =IF(年の入力!$B$1-ROWS($A13:$A$13)+1>2019, "令和"&IF(LEN(年の入力!$B$1-ROWS($A13:$A$13)+1-2018)>=2,年の入力!$B$1-ROWS($A13:$A$13)+1-2018, DBCS(年の入力!$B$1-ROWS($A13:$A$13)+1-2018))&"年", IF(年の入力!$B$1-ROWS($A13:$A$13)+1=2019,"令和元年","平成"&年の入力!$B$1-ROWS($A13:$A$13)+1-1988&"年" )) -> 令和５年 | C13: 38672 | D13: 94208470 | E13: 942.0847 | F13: 243.60899

Sheet 概況_第１７表
B1: ="概況_第１７表 火災による物件別損害額"&"【令和"&IF(LEN(年の入力!$B$1-2018)>=2,年の入力!$B$1-2018,DBCS(年の入力!$B$1-2018))&"年】" -> 概況_第１７表 火災による物件別損害額【令和５年】
C3: 損害額（千円） | D3: 割合 | E3: 出火件数 | F3: １件当たりの 損害額（千円）
B4: 建物 | C4: 82040342 | D4: 87.083828 | E4: 20974 | F4: 3911.5258
B5: 林野 | C5: 125187 | D5: 0.13288296 | E5: 1299 | F5: 96.371824
B6: 車両 | C6: 2824247 | D6: 2.9978695 | E6: 3521 | F6: 802.11502
B7: 船舶 | C7: 855049 | D7: 0.90761372 | E7: 58 | F7: 14742.224
B8: 航空機 | C8: 5643 | D8: 0.0059899073 | E8: 1 | F8: 5643
B9: その他 | C9: 7978258 | D9: 8.4687269 | E9: 12819 | F9: 622.37756
B10: 爆発 | C10: 379744 | D10: 0.40308902
B11: 計 | C11: 94208470 | D11: 100 | E11: 38672 | F11: 2436.0899
B12: （注）損害額については、火災種別ごとに計上したものではなく、個々の物件の損害額を示してある。
B13: 1件当たりの損害額の算出に当たっては、火災種別ごとの火災の件数で除してある。

Sheet 概況_第１８表
B1: ="概況_第１８表 主な出火原因別の出火件数と損害額"&"【令和"&IF(LEN(年の入力!$B$1-2018)>=2,年の入力!$B$1-2018,DBCS(年の入力!$B$1-2018))&"年】" -> 概況_第１８表 主な出火原因別の出火件数と損害額【令和５年】
B3: 出火原因 | C3: 件数 | D3: 損害額（百万円）
B4: たばこ | C4: 3498 | D4: 4637.919
B5: こんろ | C5: 2838 | D5: 2624.871
B6: かまど | C6: 63 | D6: 292.711
B7: 風呂かまど | C7: 115 | D7: 251.643
B8: 炉 | C8: 113 | D8: 681.659
B9: 焼却炉 | C9: 342 | D9: 471.313
B10: ストーブ | C10: 997 | D10: 3717.77
B11: こたつ | C11: 34 | D11: 111.393
B12: ボイラー | C12: 38 | D12: 59.062
B13: 煙突・煙道 | C13: 141 | D13: 517.988
B14: 排気管 | C14: 776 | D14: 2648.053
B15: 電気機器 | C15: 2205 | D15: 6087.805
... B33: 計 | C33: 38672 | D33: 94208.47

Sheet 概況_第１９表
A1: 出火件数 | B1: 概況_第１９表 放火及び放火の疑いによる火災の損害状況
D3: 単位 | E3: 放火 | H3: 放火の疑い | K3: 放火と放火の疑いの合計
E4: ="令和"&IF(LEN(年の入力!$B$1-2018)>=2,年の入力!$B$1-2018,DBCS(年の入力!$B$1-2018))&"年" -> 令和５年 | F4: ="令和"&IF(LEN(年の入力!$B$1-1-2018)>=2,年の入力!$B$1-2018,DBCS(年の入力!$B$1-1-2018))&"年" -> 令和４年 | G4: 増減値 | H4: ="令和"&IF(LEN(年の入力!$B$1-2018)>=2,年の入力!$B$1-2018,DBCS(年の入力!$B$1-2018))&"年" -> 令和５年 | I4: ="令和"&IF(LEN(年の入力!$B$1-1-2018)>=2,年の入力!$B$1-2018,DBCS(年の入力!$B$1-1-2018))&"年" -> 令和４年 | J4: 増減値 | K4: ="令和"&IF(LEN(年の入力!$B$1-2018)>=2,年の入力!$B$1-2018,DBCS(年の入力!$B$1-2018))&"年" -> 令和５年 | L4: ="令和"&IF(LEN(年の入力!$B$1-1-2018)>=2,年の入力!$B$1-2018,DBCS(年の入力!$B$1-1-2018))&"年" -> 令和４年 | M4: 増減値
B5: 総出火件数 | D5: 件 | E5: ='I-19表'!E5 -> 2495 | F5: ='I-19表'!F5 -> 2242 | G5: ='I-19表'!G5 -> 253 | H5: ='I-19表'!H5 -> 1616 | I5: ='I-19表'!I5 -> 1468 | J5: ='I-19表'!J5 -> 148 | K5: ='I-19表'!K5 -> 4111 | L5: ='I-19表'!L5 -> 3710 | M5: ='I-19表'!M5 -> 401
B6: 建物火災 | E6: ='I-19表'!E6 -> 1140 | F6: ='I-19表'!F6 -> 1012 | G6: ='I-19表'!G6 -> 128 | H6: ='I-19表'!H6 -> 556 | I6: ='I-19表'!I6 -> 553 | J6: ='I-19表'!J6 -> 3 | K6: ='I-19表'!K6 -> 1696 | L6: ='I-19表'!L6 -> 1565 | M6: ='I-19表'!M6 -> 131
B7: 林野火災 | E7: ='I-19表'!E7 -> 34 | F7: ='I-19表'!F7 -> 13 | G7: ='I-19表'!G7 -> 21 | H7: ='I-19表'!H7 -> 64 | I7: ='I-19表'!I7 -> 75 | J7: ='I-19表'!J7 -> -11 | K7: ='I-19表'!K7 -> 98 | L7: ='I-19表'!L7 -> 88 | M7: ='I-19表'!M7 -> 10
B8: 車両火災 | E8: ='I-19表'!E8 -> 140 | F8: ='I-19表'!F8 -> 124 | G8: ='I-19表'!G8 -> 16 | H8: ='I-19表'!H8 -> 60 | I8: ='I-19表'!I8 -> 53 | J8: ='I-19表'!J8 -> 7 | K8: ='I-19表'!K8 -> 200 | L8: ='I-19表'!L8 -> 177 | M8: ='I-19表'!M8 -> 23
B9: 船舶火災 | E9: ='I-19表'!E9 -> 0 | F9: ='I-19表'!F9 -> 0 | G9: ='I-19表'!G9 -> 0 | H9: ='I-19表'!H9 -> 3 | I9: ='I-19表'!I9 -> 2 | J9: ='I-19表'!J9 -> 1 | K9: ='I-19表'!K9 -> 3 | L9: ='I-19表'!L9 -> 2 | M9: ='I-19表'!M9 -> 1
B10: 航空機火災 | E10: ='I-19表'!E10 -> 0 | F10: ='I-19表'!F10 -> 0 | G10: ='I-19表'!G10 -> 0 | H10: ='I-19表'!H10 -> 0 | I10: ='I-19表'!I10 -> 0 | J10: ='I-19表'!J10 -> 0 | K10: ='I-19表'!K10 -> 0 | L10: ='I-19表'!L10 -> 0 | M10: ='I-19表'!M10 -> 0
B11: その他の火災 | E11: ='I-19表'!E11 -> 1181 | F11: ='I-19表'!F11 -> 1093 | G11: ='I-19表'!G11 -> 88 | H11: ='I-19表'!H11 -> 933 | I11: ='I-19表'!I11 -> 785 | J11: ='I-19表'!J11 -> 148 | K11: ='I-19表'!K11 -> 2114 | L11: ='I-19表'!L11 -> 1878 | M11: ='I-19表'!M11 -> 236
B12: 主な発火源 | C12: ='I-19表'!C12 -> ライター | D12: 件 | E12: ='I-19表'!E12 -> 917 | F12: ='I-19表'!F12 -> 885 | G12: ='I-19表'!G12 -> 32 | H12: ='I-19表'!H12 -> 199 | I12: ='I-19表'!I12 -> 177 | J12: ='I-19表'!J12 -> 22 | K12: ='I-19表'!K12 -> 1116 | L12: ='I-19表'!L12 -> 1062 | M12: ='I-19表'!M12 -> 54
C13: ='I-19表'!C13 -> その他のたばことマッチ | E13: ='I-19表'!E13 -> 144 | F13: ='I-19表'!F13 -> 138 | G13: ='I-19表'!G13 -> 6 | H13: ='I-19表'!H13 -> 167 | I13: ='I-19表'!I13 -> 137 | J13: ='I-19表'!J13 -> 30 | K13: ='I-19表'!K13 -> 311 | L13: ='I-19表'!L13 -> 275 | M13: ='I-19表'!M13 -> 36
C14: ='I-19表'!C14 -> マッチ | E14: ='I-19表'!E14 -> 134 | F14: ='I-19表'!F14 -> 131 | G14: ='I-19表'!G14 -> 3 | H14: ='I-19表'!H14 -> 22 | I14: ='I-19表'!I14 -> 21 | J14: ='I-19表'!J14 -> 1 | K14: ='I-19表'!K14 -> 156 | L14: ='I-19表'!L14 -> 152 | M14: ='I-19表'!M14 -> 4
B15: 建物焼損床面積（㎡） | D15: ㎡ | E15: ='I-19表'!E15 -> 26790 | F15: ='I-19表'!F15 -> 25167 | G15: ='I-19表'!G15 -> 1623 | H15: ='I-19表'!H15 -> 29668 | I15: ='I-19表'!I15 -> 23914 | J15: ='I-19表'!J15 -> 5754 | K15: ='I-19表'!K15 -> 56458 | L15: ='I-19表'!L15 -> 49081 | M15: ='I-19表'!M15 -> 7377
B16: 建物焼損表面積（㎡） | E16: ='I-19表'!E16 -> 3834 | F16: ='I-19表'!F16 -> 3143 | G16: ='I-19表'!G16 -> 691 | H16: ='I-19表'!H16 -> 3764 | I16: ='I-19表'!I16 -> 3234 | J16: ='I-19表'!J16 -> 530 | K16: ='I-19表'!K16 -> 7598 | L16: ='I-19表'!L16 -> 6377 | M16: ='I-19表'!M16 -> 1221
B17: 林野焼損面積（a） | D17: ａ | E17: ='I-19表'!E17 -> 216 | F17: ='I-19表'!F17 -> 388 | G17: ='I-19表'!G17 -> -172 | H17: ='I-19表'!H17 -> 944 | I17: ='I-19表'!I17 -> 359 | J17: ='I-19表'!J17 -> 585 | K17: ='I-19表'!K17 -> 1160 | L17: ='I-19表'!L17 -> 747 | M17: ='I-19表'!M17 -> 413
B18: 損害額 | D18: 万円 | E18: ='I-19表'!E18 -> 226962.8 | F18: ='I-19表'!F18 -> 209091.1 | G18: ='I-19表'!G18 -> 17871.7 | H18: ='I-19表'!H18 -> 213219.8 | I18: ='I-19表'!I18 -> 140139.9 | J18: ='I-19表'!J18 -> 73079.9 | K18: ='I-19表'!K18 -> 440182.6 | L18: ='I-19表'!L18 -> 349231 | M18: ='I-19表'!M18 -> 90951.6

Sheet I-19表
C1: Ⅰ－第１９表－１ 放火及び放火の疑いによる火災の損害状況（出火件数）
D3: 単位 | E3: 放火 | H3: 放火の疑い | K3: 放火と放火の疑いの合計
E4: 令和５年 | F4: 令和４年 | G4: 増減値 | H4: 令和５年 | I4: 令和４年 | J4: 増減値 | K4: 令和５年 | L4: 令和４年 | M4: 増減値
B5: 総出火件数 | D5: 件 | E5: 2495 | F5: 2242 | G5: 253 | H5: 1616 | I5: 1468 | J5: 148 | K5: 4111 | L5: 3710 | M5: 401
B6: 建物火災 | E6: 1140 | F6: 1012 | G6: 128 | H6: 556 | I6: 553 | J6: 3 | K6: 1696 | L6: 1565 | M6: 131
B7: 林野火災 | E7: 34 | F7: 13 | G7: 21 | H7: 64 | I7: 75 | J7: -11 | K7: 98 | L7: 88 | M7: 10
B8: 車両火災 | E8: 140 | F8: 124 | G8: 16 | H8: 60 | I8: 53 | J8: 7 | K8: 200 | L8: 177 | M8: 23
B9: 船舶火災 | E9: 0 | F9: 0 | G9: 0 | H9: 3 | I9: 2 | J9: 1 | K9: 3 | L9: 2 | M9: 1
B10: 航空機火災 | E10: 0 | F10: 0 | G10: 0 | H10: 0 | I10: 0 | J10: 0 | K10: 0 | L10: 0 | M10: 0
B11: その他の火災 | E11: 1181 | F11: 1093 | G11: 88 | H11: 933 | I11: 785 | J11: 148 | K11: 2114 | L11: 1878 | M11: 236
B12: 主な発火源 | C12: ライター | D12: 件 | E12: 917 | F12: 885 | G12: 32 | H12: 199 | I12: 177 | J12: 22 | K12: 1116 | L12: 1062 | M12: 54
C13: その他のたばことマッチ | E13: 144 | F13: 138 | G13: 6 | H13: 167 | I13: 137 | J13: 30 | K13: 311 | L13: 275 | M13: 36
C14: マッチ | E14: 134 | F14: 131 | G14: 3 | H14: 22 | I14: 21 | J14: 1 | K14: 156 | L14: 152 | M14: 4
B15: 建物焼損床面積 | D15: ㎡ | E15: 26790 | F15: 25167 | G15: 1623 | H15: 29668 | I15: 23914 | J15: 5754 | K15: 56458 | L15: 49081 | M15: 7377
B16: 建物焼損表面積 | E16: 3834 | F16: 3143 | G16: 691 | H16: 3764 | I16: 3234 | J16: 530 | K16: 7598 | L16: 6377 | M16: 1221
B17: 林野焼損面積 | D17: ａ | E17: 216 | F17: 388 | G17: -172 | H17: 944 | I17: 359 | J17: 585 | K17: 1160 | L17: 747 | M17: 413
B18: 損害額 | D18: 万円 | E18: 226962.8 | F18: 209091.1 | G18: 17871.7 | H18: 213219.8 | I18: 140139.9 | J18: 73079.9 | K18: 440182.6 | L18: 349231 | M18: 90951.6
F19: 前年から | I19: 前年から | L19: 前年から
C20: ここに入力（R4は増減に注意）
D21: Ⅰ－第１９表－１ 放火及び放火の疑いによる火災の損害状況（出火件数）
E22: 放火 | H22: 放火の疑い | K22: 放火と放火の疑いの合計
E23: 当年 | F23: 前年 | G23: 増減値 | H23: 当年 | I23: 前年 | J23: 増減値 | K23: 当年 | L23: 前年 | M23: 増減値
C24: 総出火件数 | E24: 2495 | F24: 2242 | G24: 253 | H24: 1616 | I24: 1468 | J24: 148 | K24: 4111 | L24: 3710 | M24: 401
C25: 建物火災 | E25: 1140 | F25: 1012 | G25: 128 | H25: 556 | I25: 553 | J25: 3 | K25: 1696 | L25: 1565 | M25: 131
C26: 林野火災 | E26: 34 | F26: 13 | G26: 21 | H26: 64 | I26: 75 | J26: -11 | K26: 98 | L26: 88 | M26: 10
C27: 車両火災 | E27: 140 | F27: 124 | G27: 16 | H27: 60 | I27: 53 | J27: 7 | K27: 200 | L27: 177 | M27: 23
C28: 船舶火災 | E28: 0 | F28: 0 | G28: 0 | H28: 3 | I28: 2 | J28: 1 | K28: 3 | L28: 2 | M28: 1
C29: 航空機火災 | E29: 0 | F29: 0 | G29: 0 | H29: 0 | I29: 0 | J29: 0 | K29: 0 | L29: 0 | M29: 0
C30: その他火災 | E30: 1181 | F30: 1093 | G30: 88 | H30: 933 | I30: 785 | J30: 148 | K30: 2114 | L30: 1878 | M30: 236
C31: 主な発火源 | D31: ライター | E31: 917 | F31: 885 | G31: 32 | H31: 199 | I31: 177 | J31: 22 | K31: 1116 | L31: 1062 | M31: 54
D32: その他のたばことマッチ | E32: 144 | F32: 138 | G32: 6 | H32: 167 | I32: 137 | J32: 30 | K32: 311 | L32: 275 | M32: 36
D33: マッチ | E33: 134 | F33: 131 | G33: 3 | H33: 22 | I33: 21 | J33: 1 | K33: 156 | L33: 152 | M33: 4
C34: 建物焼損床面積（㎡） | E34: 26790 | F34: 25167 | G34: 1623 | H34: 29668 | I34: 23914 | J34: 5754 | K34: 56458 | L34: 49081 | M34: 7377
C35: 建物焼損表面積（㎡） | E35: 3834 | F35: 3143 | G35: 691 | H35: 3764 | I35: 3234 | J35: 530 | K35: 7598 | L35: 6377 | M35: 1221
C36: 林野焼損面積（a） | E36: 216 | F36: 388 | G36: -172 | H36: 944 | I36: 359 | J36: 585 | K36: 1160 | L36: 747 | M36: 413
C37: 損害額 | E37: 226962.8 | F37: 209091.1 | G37: 17871.7 | H37: 213219.8 | I37: 140139.9 | J37: 73079.9 | K37: 440182.6 | L37: 349231 | M37: 90951.6

Sheet 概況_第２０表
B1: 概況_第２０表 放火及び放火の疑いによる火災件数の推移
B3: 年 | C3: 全火災件数 | D3: 放火及び 放火の疑いの ある火災件数
B4: =IF(年の入力!$B$1-ROWS($A5:$A$14)+1>2019, "令和"&IF(LEN(年の入力!$B$1-ROWS($A5:$A$14)+1-2018)>=2,年の入力!$B$1-ROWS($A5:$A$14)+1-2018, DBCS(年の入力!$B$1-ROWS($A5:$A$14)+1-2018))&"年", IF(年の入力!$B$1-ROWS($A5:$A$14)+1=2019,"令和元年","平成"&年の入力!$B$1-ROWS($A5:$A$14)+1-1988&"年" )) -> 平成26年 | C4: 43741 | D4: 8038
B5: =IF(年の入力!$B$1-ROWS($A6:$A$14)+1>2019, "令和"&IF(LEN(年の入力!$B$1-ROWS($A6:$A$14)+1-2018)>=2,年の入力!$B$1-ROWS($A6:$A$14)+1-2018, DBCS(年の入力!$B$1-ROWS($A6:$A$14)+1-2018))&"年", IF(年の入力!$B$1-ROWS($A6:$A$14)+1=2019,"令和元年","平成"&年の入力!$B$1-ROWS($A6:$A$14)+1-1988&"年" )) -> 平成27年 | C5: 39111 | D5: 6502
B6: =IF(年の入力!$B$1-ROWS($A7:$A$14)+1>2019, "令和"&IF(LEN(年の入力!$B$1-ROWS($A7:$A$14)+1-2018)>=2,年の入力!$B$1-ROWS($A7:$A$14)+1-2018, DBCS(年の入力!$B$1-ROWS($A7:$A$14)+1-2018))&"年", IF(年の入力!$B$1-ROWS($A7:$A$14)+1=2019,"令和元年","平成"&年の入力!$B$1-ROWS($A7:$A$14)+1-1988&"年" )) -> 平成28年 | C6: 36831 | D6: 5814
B7: =IF(年の入力!$B$1-ROWS($A8:$A$14)+1>2019, "令和"&IF(LEN(年の入力!$B$1-ROWS($A8:$A$14)+1-2018)>=2,年の入力!$B$1-ROWS($A8:$A$14)+1-2018, DBCS(年の入力!$B$1-ROWS($A8:$A$14)+1-2018))&"年", IF(年の入力!$B$1-ROWS($A8:$A$14)+1=2019,"令和元年","平成"&年の入力!$B$1-ROWS($A8:$A$14)+1-1988&"年" )) -> 平成29年 | C7: 39373 | D7: 5833
B8: =IF(年の入力!$B$1-ROWS($A9:$A$14)+1>2019, "令和"&IF(LEN(年の入力!$B$1-ROWS($A9:$A$14)+1-2018)>=2,年の入力!$B$1-ROWS($A9:$A$14)+1-2018, DBCS(年の入力!$B$1-ROWS($A9:$A$14)+1-2018))&"年", IF(年の入力!$B$1-ROWS($A9:$A$14)+1=2019,"令和元年","平成"&年の入力!$B$1-ROWS($A9:$A$14)+1-1988&"年" )) -> 平成30年 | C8: 37981 | D8: 4761
B9: =IF(年の入力!$B$1-ROWS($A10:$A$14)+1>2019, "令和"&IF(LEN(年の入力!$B$1-ROWS($A10:$A$14)+1-2018)>=2,年の入力!$B$1-ROWS($A10:$A$14)+1-2018, DBCS(年の入力!$B$1-ROWS($A10:$A$14)+1-2018))&"年", IF(年の入力!$B$1-ROWS($A10:$A$14)+1=2019,"令和元年","平成"&年の入力!$B$1-ROWS($A10:$A$14)+1-1988&"年" )) -> 令和元年 | C9: 37683 | D9: 4567
B10: =IF(年の入力!$B$1-ROWS($A11:$A$14)+1>2019, "令和"&IF(LEN(年の入力!$B$1-ROWS($A11:$A$14)+1-2018)>=2,年の入力!$B$1-ROWS($A11:$A$14)+1-2018, DBCS(年の入力!$B$1-ROWS($A11:$A$14)+1-2018))&"年", IF(年の入力!$B$1-ROWS($A11:$A$14)+1=2019,"令和元年","平成"&年の入力!$B$1-ROWS($A11:$A$14)+1-1988&"年" )) -> 令和２年 | C10: 34691 | D10: 4052
B11: =IF(年の入力!$B$1-ROWS($A12:$A$14)+1>2019, "令和"&IF(LEN(年の入力!$B$1-ROWS($A12:$A$14)+1-2018)>=2,年の入力!$B$1-ROWS($A12:$A$14)+1-2018, DBCS(年の入力!$B$1-ROWS($A12:$A$14)+1-2018))&"年", IF(年の入力!$B$1-ROWS($A12:$A$14)+1=2019,"令和元年","平成"&年の入力!$B$1-ROWS($A12:$A$14)+1-1988&"年" )) -> 令和３年 | C11: 35222 | D11: 3888
B12: =IF(年の入力!$B$1-ROWS($A13:$A$14)+1>2019, "令和"&IF(LEN(年の入力!$B$1-ROWS($A13:$A$14)+1-2018)>=2,年の入力!$B$1-ROWS($A13:$A$14)+1-2018, DBCS(年の入力!$B$1-ROWS($A13:$A$14)+1-2018))&"年", IF(年の入力!$B$1-ROWS($A13:$A$14)+1=2019,"令和元年","平成"&年の入力!$B$1-ROWS($A13:$A$14)+1-1988&"年" )) -> 令和４年 | C12: 36314 | D12: 3710
B13: =IF(年の入力!$B$1-ROWS($A14:$A$14)+1>2019, "令和"&IF(LEN(年の入力!$B$1-ROWS($A14:$A$14)+1-2018)>=2,年の入力!$B$1-ROWS($A14:$A$14)+1-2018, DBCS(年の入力!$B$1-ROWS($A14:$A$14)+1-2018))&"年", IF(年の入力!$B$1-ROWS($A14:$A$14)+1=2019,"令和元年","平成"&年の入力!$B$1-ROWS($A14:$A$14)+1-1988&"年" )) -> 令和５年 | C13: 38672 | D13: 4111

Sheet 概況_第２１表
B1: ="概況_第２１表 放火及び放火の疑いによる火災の出火時刻別件数"&"【令和"&IF(LEN(年の入力!$B$1-2018)>=2,年の入力!$B$1-2018,DBCS(年の入力!$B$1-2018))&"年】" -> 概況_第２１表 放火及び放火の疑いによる火災の出火時刻別件数【令和５年】
B3: 出火・時名称 | C3: 件数
B4: 0時 | C4: 153
B5: 1時 | C5: 164
B6: 2時 | C6: 167
B7: 3時 | C7: 122
B8: 4時 | C8: 120
B9: 5時 | C9: 106
B10: 6時 | C10: 81
B11: 7時 | C11: 82
B12: 8時 | C12: 106
B13: 9時 | C13: 109
B14: 10時 | C14: 87
B15: 11時 | C15: 144
... B28: 不明 | C28: 615
B29: 計 | C29: =SUM(C4:C28) -> 4111

Sheet 概況_第２２表
A1: 出火件数 | B1: 概況_第２２表 たばこによる火災の損害状況
D3: 単位 | E3: たばこ
E4: ="令和"&IF(LEN(年の入力!$B$1-2018)>=2,年の入力!$B$1-2018, DBCS(年の入力!$B$1-2018))&"年"&CHAR(10) -> 令和５年 | F4: ="令和"&IF(LEN(年の入力!$B$1-1-2018)>=2,年の入力!$B$1-2018, DBCS(年の入力!$B$1-1-2018))&"年" -> 令和４年 | G4: 増減値
B5: 総出火件数 | D5: 件 | E5: ='I-22表'!E5 -> 3498 | F5: ='I-22表'!F5 -> 3209 | G5: ='I-22表'!G5 -> 289
B6: 建物火災 | E6: ='I-22表'!E6 -> 1925 | F6: ='I-22表'!F6 -> 1844 | G6: ='I-22表'!G6 -> 81
B7: 林野火災 | E7: ='I-22表'!E7 -> 49 | F7: ='I-22表'!F7 -> 47 | G7: ='I-22表'!G7 -> 2
B8: 車両火災 | E8: ='I-22表'!E8 -> 153 | F8: ='I-22表'!F8 -> 135 | G8: ='I-22表'!G8 -> 18
B9: 船舶火災 | E9: ='I-22表'!E9 -> 2 | F9: ='I-22表'!F9 -> 0 | G9: ='I-22表'!G9 -> 2
B10: 航空機火災 | E10: ='I-22表'!E10 -> 0 | F10: ='I-22表'!F10 -> 0 | G10: ='I-22表'!G10 -> 0
B11: その他の火災 | E11: ='I-22表'!E11 -> 1369 | F11: ='I-22表'!F11 -> 1183 | G11: ='I-22表'!G11 -> 186
B12: 主な経過 | C12: ='I-22表'!C12 -> 不適当な場所への放置 | D12: 件 | E12: ='I-22表'!E12 -> 2287 | F12: ='I-22表'!F12 -> 2012 | G12: ='I-22表'!G12 -> 275
C13: ='I-22表'!C13 -> 火源の転倒・落下 | E13: ='I-22表'!E13 -> 593 | F13: ='I-22表'!F13 -> 598 | G13: ='I-22表'!G13 -> -5
C14: ='I-22表'!C14 -> 残り火の処置が不充分 | E14: ='I-22表'!E14 -> 131 | F14: ='I-22表'!F14 -> 125 | G14: ='I-22表'!G14 -> 6
B15: 建物焼損床面積（㎡） | D15: ㎡ | E15: ='I-22表'!E15 -> 52525 | F15: ='I-22表'!F15 -> 45348 | G15: ='I-22表'!G15 -> 7177
B16: 建物焼損表面積（㎡） | E16: ='I-22表'!E16 -> 8160 | F16: ='I-22表'!F16 -> 6405 | G16: ='I-22表'!G16 -> 1755
B17: 林野焼損面積（a） | D17: ａ | E17: ='I-22表'!E17 -> 7977 | F17: ='I-22表'!F17 -> 4649 | G17: ='I-22表'!G17 -> 3328
B18: 損害額 | D18: 万円 | E18: ='I-22表'!E18 -> 463791.9 | F18: ='I-22表'!F18 -> 402006.5 | G18: ='I-22表'!G18 -> 61785.4

Sheet I-22表
C1: Ⅰ－第２２表－１ たばこによる火災の損害状況（出火件数）
D3: 単位 | E3: たばこ
E4: 令和５年 | F4: 令和４年 | G4: 増減値
B5: 総出火件数 | D5: 件 | E5: 3498 | F5: 3209 | G5: 289
B6: 建物火災 | E6: 1925 | F6: 1844 | G6: 81
B7: 林野火災 | E7: 49 | F7: 47 | G7: 2
B8: 車両火災 | E8: 153 | F8: 135 | G8: 18
B9: 船舶火災 | E9: 2 | F9: 0 | G9: 2
B10: 航空機火災 | E10: 0 | F10: 0 | G10: 0
B11: その他の火災 | E11: 1369 | F11: 1183 | G11: 186
B12: 主な経過 | C12: 不適当な場所への放置 | D12: 件 | E12: 2287 | F12: 2012 | G12: 275
C13: 火源の転倒・落下 | E13: 593 | F13: 598 | G13: -5
C14: 残り火の処置が不充分 | E14: 131 | F14: 125 | G14: 6
B15: 建物焼損床面積 | D15: ㎡ | E15: 52525 | F15: 45348 | G15: 7177
B16: 建物焼損表面積 | E16: 8160 | F16: 6405 | G16: 1755
B17: 林野焼損面積 | D17: ａ | E17: 7977 | F17: 4649 | G17: 3328
B18: 損害額 | D18: 万円 | E18: 463791.9 | F18: 402006.5 | G18: 61785.4
F19: 前年から
C20: 経過が前年と異なる場合があるので注意！！
C21: 令和３→４年は変化あり！

Sheet 概況_第２３表
A1: 出火件数 | B1: 概況_第２３表 こんろによる火災の損害状況
D3: 単位 | E3: こんろ
E4: ="令和"&IF(LEN(年の入力!$B$1-2018)>=2,年の入力!$B$1-2018, DBCS(年の入力!$B$1-2018))&"年"&CHAR(10) -> 令和５年 | F4: ="令和"&IF(LEN(年の入力!$B$1-1-2018)>=2,年の入力!$B$1-2018, DBCS(年の入力!$B$1-1-2018))&"年" -> 令和４年 | G4: 増減値
B5: 総出火件数 | D5: 件 | E5: ='I-23表'!E5 -> 2838 | F5: ='I-23表'!F5 -> 2771 | G5: ='I-23表'!G5 -> 67
B6: ='I-23表'!B6 -> 建物火災 | E6: ='I-23表'!E6 -> 2769 | F6: ='I-23表'!F6 -> 2713 | G6: ='I-23表'!G6 -> 56
B7: ='I-23表'!B7 -> 林野火災 | E7: ='I-23表'!E7 -> 1 | F7: ='I-23表'!F7 -> 2 | G7: ='I-23表'!G7 -> -1
B8: ='I-23表'!B8 -> 車両火災 | E8: ='I-23表'!E8 -> 20 | F8: ='I-23表'!F8 -> 15 | G8: ='I-23表'!G8 -> 5
B9: ='I-23表'!B9 -> 船舶火災 | E9: ='I-23表'!E9 -> 0 | F9: ='I-23表'!F9 -> 1 | G9: ='I-23表'!G9 -> -1
B10: ='I-23表'!B10 -> 航空機火災 | E10: ='I-23表'!E10 -> 0 | F10: ='I-23表'!F10 -> 0 | G10: ='I-23表'!G10 -> 0
B11: ='I-23表'!B11 -> その他の火災 | E11: ='I-23表'!E11 -> 48 | F11: ='I-23表'!F11 -> 40 | G11: ='I-23表'!G11 -> 8
B12: 主なこんろ | C12: ='I-23表'!C12 -> ガスこんろ | D12: 件 | E12: ='I-23表'!E12 -> 2396 | F12: ='I-23表'!F12 -> 2336 | G12: ='I-23表'!G12 -> 60
C13: ='I-23表'!C13 -> 電気こんろ | E13: ='I-23表'!E13 -> 302 | F13: ='I-23表'!F13 -> 310 | G13: ='I-23表'!G13 -> -8
C14: ='I-23表'!C14 -> 石油こんろ | E14: ='I-23表'!E14 -> 30 | F14: ='I-23表'!F14 -> 21 | G14: ='I-23表'!G14 -> 9
C15: ='I-23表'!C15 -> まき・炭・石炭こんろ | E15: ='I-23表'!E15 -> 89 | F15: ='I-23表'!F15 -> 86 | G15: ='I-23表'!G15 -> 3
B16: 主な経過 | C16: 消し忘れ | D16: 件 | E16: ='I-23表'!E16 -> 1169 | F16: ='I-23表'!F16 -> 1186 | G16: ='I-23表'!G16 -> -17
C17: 可燃物が接触 | E17: ='I-23表'!E17 -> 345 | F17: ='I-23表'!F17 -> 330 | G17: ='I-23表'!G17 -> 15
C18: 過熱 | E18: ='I-23表'!E18 -> 279 | F18: ='I-23表'!F18 -> 280 | G18: ='I-23表'!G18 -> -1
B19: 建物焼損床面積（㎡） | D19: ㎡ | E19: ='I-23表'!E19 -> 31404 | F19: ='I-23表'!F19 -> 37949 | G19: ='I-23表'!G19 -> -6545
B20: 建物焼損表面積（㎡） | E20: ='I-23表'!E20 -> 5629 | F20: ='I-23表'!F20 -> 4723 | G20: ='I-23表'!G20 -> 906
B21: 損害額 | D21: 万円 | E21: ='I-23表'!E21 -> 262487.1 | F21: ='I-23表'!F21 -> 290267.2 | G21: ='I-23表'!G21 -> -27780.1

Sheet I-23表
C1: Ⅰ－第２３表－１ こんろによる火災の損害状況（出火件数）
D3: 単位 | E3: こんろ
E4: 当年 | F4: 前年 | G4: 増減値
B5: 総出火件数 | D5: 件 | E5: 2838 | F5: 2771 | G5: 67
B6: 建物火災 | E6: 2769 | F6: 2713 | G6: 56
B7: 林野火災 | E7: 1 | F7: 2 | G7: -1
B8: 車両火災 | E8: 20 | F8: 15 | G8: 5
B9: 船舶火災 | E9: 0 | F9: 1 | G9: -1
B10: 航空機火災 | E10: 0 | F10: 0 | G10: 0
B11: その他の火災 | E11: 48 | F11: 40 | G11: 8
B12: 主なこんろ | C12: ガスこんろ | D12: 件 | E12: 2396 | F12: 2336 | G12: 60
C13: 電気こんろ | E13: 302 | F13: 310 | G13: -8
C14: 石油こんろ | E14: 30 | F14: 21 | G14: 9
C15: まき・炭・石炭こんろ | E15: 89 | F15: 86 | G15: 3
B16: 主な経過 | C16: 放置する、忘れる | D16: 件 | E16: 1169 | F16: 1186 | G16: -17
C17: 可燃物の接触 | E17: 345 | F17: 330 | G17: 15
C18: 過熱 | E18: 279 | F18: 280 | G18: -1
B19: 建物焼損床面積 | D19: ㎡ | E19: 31404 | F19: 37949 | G19: -6545
B20: 建物焼損表面積 | E20: 5629 | F20: 4723 | G20: 906
B21: 損害額 | D21: 万円 | E21: 262487.1 | F21: 290267.2 | G21: -27780.1

Sheet 概況_第２４表
A1: 出火件数 | B1: 概況_第２４表 たき火及び火遊びによる火災の損害状況
C3: 単位 | D3: たき火 | H3: 火遊び
D4: ="令和"&IF(LEN(年の入力!$B$1-2018)>=2,年の入力!$B$1-2018, DBCS(年の入力!$B$1-2018))&"年"&CHAR(10) -> 令和５年 | F4: ="令和"&IF(LEN(年の入力!$B$1-1-2018)>=2,年の入力!$B$1-2018, DBCS(年の入力!$B$1-1-2018))&"年" -> 令和４年 | G4: 増減値 | H4: ="令和"&IF(LEN(年の入力!$B$1-2018)>=2,年の入力!$B$1-2018, DBCS(年の入力!$B$1-2018))&"年"&CHAR(10) -> 令和５年 | J4: ="令和"&IF(LEN(年の入力!$B$1-1-2018)>=2,年の入力!$B$1-2018, DBCS(年の入力!$B$1-1-2018))&"年" -> 令和４年 | K4: 増減値
B5: 総出火件数 | C5: 件 | D5: ='I-24表'!D5 -> 3473 | F5: ='I-24表'!F5 -> 3105 | G5: ='I-24表'!G5 -> 368 | H5: ='I-24表'!H5 -> 364 | I5: ='I-24表'!I5 -> 0 | J5: ='I-24表'!J5 -> 357 | K5: ='I-24表'!K5 -> 7
B6: ='I-24表'!B6 -> 建物火災 | D6: ='I-24表'!D6 -> 475 | F6: ='I-24表'!F6 -> 410 | G6: ='I-24表'!G6 -> 65 | H6: ='I-24表'!H6 -> 130 | I6: ='I-24表'!I6 -> 0 | J6: ='I-24表'!J6 -> 147 | K6: ='I-24表'!K6 -> -17
B7: ='I-24表'!B7 -> 林野火災 | D7: ='I-24表'!D7 -> 416 | F7: ='I-24表'!F7 -> 452 | G7: ='I-24表'!G7 -> -36 | H7: ='I-24表'!H7 -> 7 | I7: ='I-24表'!I7 -> 0 | J7: ='I-24表'!J7 -> 15 | K7: ='I-24表'!K7 -> -8
B8: ='I-24表'!B8 -> 車両火災 | D8: ='I-24表'!D8 -> 32 | F8: ='I-24表'!F8 -> 34 | G8: ='I-24表'!G8 -> -2 | H8: ='I-24表'!H8 -> 5 | I8: ='I-24表'!I8 -> 0 | J8: ='I-24表'!J8 -> 5 | K8: ='I-24表'!K8 -> 0
B9: ='I-24表'!B9 -> 船舶火災 | D9: ='I-24表'!D9 -> 0 | F9: ='I-24表'!F9 -> 1 | G9: ='I-24表'!G9 -> -1 | H9: ='I-24表'!H9 -> 0 | I9: ='I-24表'!I9 -> 0 | J9: ='I-24表'!J9 -> 0 | K9: ='I-24表'!K9 -> 0
B10: ='I-24表'!B10 -> 航空機火災 | D10: ='I-24表'!D10 -> 0 | F10: ='I-24表'!F10 -> 0 | G10: ='I-24表'!G10 -> 0 | H10: ='I-24表'!H10 -> 0 | I10: ='I-24表'!I10 -> 0 | J10: ='I-24表'!J10 -> 0 | K10: ='I-24表'!K10 -> 0
B11: ='I-24表'!B11 -> その他の火災 | D11: ='I-24表'!D11 -> 2550 | F11: ='I-24表'!F11 -> 2208 | G11: ='I-24表'!G11 -> 342 | H11: ='I-24表'!H11 -> 222 | I11: ='I-24表'!I11 -> 0 | J11: ='I-24表'!J11 -> 190 | K11: ='I-24表'!K11 -> 32
B12: 主な発火源・経過 | C12: 件 | D12: 経過 | E12: ='I-24表'!E12 -> たき火の延焼拡大 | H12: 発火源 | I12: ='I-24表'!I12 -> ライター
E13: ='I-24表'!E13 -> 2141 | F13: ='I-24表'!F13 -> 1923 | G13: ='I-24表'!G13 -> 218 | I13: ='I-24表'!I13 -> 196 | J13: ='I-24表'!J13 -> 179 | K13: ='I-24表'!K13 -> 17
E14: ='I-24表'!E14 -> 火の粉の飛火 | F14: ='I-24表'!F14 -> 0 | G14: ='I-24表'!G14 -> 0 | I14: ='I-24表'!I14 -> マッチ
E15: ='I-24表'!E15 -> 715 | F15: ='I-24表'!F15 -> 656 | G15: ='I-24表'!G15 -> 59 | I15: ='I-24表'!I15 -> 83 | J15: ='I-24表'!J15 -> 69 | K15: ='I-24表'!K15 -> 14
E16: ='I-24表'!E16 -> 残り火の処置が不充分 | F16: ='I-24表'!F16 -> 0 | G16: ='I-24表'!G16 -> 0 | I16: ='I-24表'!I16 -> 火のついた紙
E17: ='I-24表'!E17 -> 231 | F17: ='I-24表'!F17 -> 198 | G17: ='I-24表'!G17 -> 33 | I17: ='I-24表'!I17 -> 14 | J17: ='I-24表'!J17 -> 22 | K17: ='I-24表'!K17 -> -8
B18: 建物焼損床面積 | C18: ㎡ | D18: ='I-24表'!D18 -> 30818 | F18: ='I-24表'!F18 -> 26237 | G18: ='I-24表'!G18 -> 4581 | H18: ='I-24表'!H18 -> 1811 | I18: ='I-24表'!I18 -> 0 | J18: ='I-24表'!J18 -> 2025 | K18: ='I-24表'!K18 -> -214
B19: 建物焼損表面積 | D19: ='I-24表'!D19 -> 3812 | F19: ='I-24表'!F19 -> 1985 | G19: ='I-24表'!G19 -> 1827 | H19: ='I-24表'!H19 -> 139 | I19: ='I-24表'!I19 -> 0 | J19: ='I-24表'!J19 -> 297 | K19: ='I-24表'!K19 -> -158
B20: 林野焼損面積 | C20: a | D20: ='I-24表'!D20 -> 29637 | F20: ='I-24表'!F20 -> 6498 | G20: ='I-24表'!G20 -> 23139 | H20: ='I-24表'!H20 -> 7 | I20: ='I-24表'!I20 -> 0 | J20: ='I-24表'!J20 -> 67 | K20: ='I-24表'!K20 -> -60
B21: 損害額 | C21: 万円 | D21: ='I-24表'!D21 -> 108138.4 | F21: ='I-24表'!F21 -> 76069.6 | G21: ='I-24表'!G21 -> 32068.8 | H21: ='I-24表'!H21 -> 10822.3 | I21: ='I-24表'!I21 -> 0 | J21: ='I-24表'!J21 -> 19994.6 | K21: ='I-24表'!K21 -> -9172.3

Sheet I-24表
B1: Ⅰ－第２４表－１ たき火及び火遊びによる火災の損害状況（出火件数）
C3: 単位 | D3: たき火 | H3: 火遊び
D4: 令和５年 | F4: 令和４年 | G4: 増減値 | H4: 令和５年 | J4: 令和４年 | K4: 増減値
B5: 総出火件数 | C5: 件 | D5: 3473 | F5: 3105 | G5: 368 | H5: 364 | J5: 357 | K5: 7
B6: 建物火災 | D6: 475 | F6: 410 | G6: 65 | H6: 130 | J6: 147 | K6: -17
B7: 林野火災 | D7: 416 | F7: 452 | G7: -36 | H7: 7 | J7: 15 | K7: -8
B8: 車両火災 | D8: 32 | F8: 34 | G8: -2 | H8: 5 | J8: 5 | K8: 0
B9: 船舶火災 | D9: 0 | F9: 1 | G9: -1 | H9: 0 | J9: 0 | K9: 0
B10: 航空機火災 | D10: 0 | F10: 0 | G10: 0 | H10: 0 | J10: 0 | K10: 0
B11: その他の火災 | D11: 2550 | F11: 2208 | G11: 342 | H11: 222 | J11: 190 | K11: 32
B12: 主な発火源・経過 | C12: 件 | D12: 経過 | E12: たき火の延焼拡大 | H12: 発火源 | I12: ライター
E13: 2141 | F13: 1923 | G13: 218 | I13: 196 | J13: 179 | K13: 17
E14: 火の粉の飛火 | I14: マッチ
E15: 715 | F15: 656 | G15: 59 | I15: 83 | J15: 69 | K15: 14
E16: 残り火の処置が不充分 | I16: 火のついた紙
E17: 231 | F17: 198 | G17: 33 | I17: 14 | J17: 22 | K17: -8
B18: 建物焼損床面積 | C18: ㎡ | D18: 30818 | F18: 26237 | G18: 4581 | H18: 1811 | J18: 2025 | K18: -214
B19: 建物焼損表面積 | D19: 3812 | F19: 1985 | G19: 1827 | H19: 139 | J19: 297 | K19: -158
B20: 林野焼損面積 | C20: a | D20: 29637 | F20: 6498 | G20: 23139 | H20: 7 | J20: 67 | K20: -60
B21: 損害額 | C21: 万円 | D21: 108138.4 | F21: 76069.6 | G21: 32068.8 | H21: 10822.3 | J21: 19994.6 | K21: -9172.3
F22: 前年から | J22: 前年から
D23: 経過・発火源が前年と異なる場合があるので注意！！
D24: 令和３→４年は変化なし
C25: 単位 | D25: たき火 | H25: 火遊び
D26: 当年 | F26: 前年 | G26: 増減値 | H26: 当年 | J26: 前年 | K26: 増減値
B27: 総出火件数 | C27: 件 | D27: 3473 | F27: 3105 | G27: 368 | H27: 364 | J27: 357 | K27: 7
B28: 建物火災 | D28: 475 | F28: 410 | G28: 65 | H28: 130 | J28: 147 | K28: -17
B29: 林野火災 | D29: 416 | F29: 452 | G29: -36 | H29: 7 | J29: 15 | K29: -8
B30: 車両火災 | D30: 32 | F30: 34 | G30: -2 | H30: 5 | J30: 5 | K30: 0
B31: 船舶火災 | D31: 0 | F31: 1 | G31: -1 | H31: 0 | J31: 0 | K31: 0
B32: 航空機火災 | D32: 0 | F32: 0 | G32: 0 | H32: 0 | J32: 0 | K32: 0
B33: その他火災 | D33: 2550 | F33: 2208 | G33: 342 | H33: 222 | J33: 190 | K33: 32
B34: 建物焼損床面積 | C34: ㎡ | D34: 30818 | F34: 26237 | G34: 4581 | H34: 1811 | J34: 2025 | K34: -214
B35: 建物焼損表面積 | D35: 3812 | F35: 1985 | G35: 1827 | H35: 139 | J35: 297 | K35: -158
B36: 林野焼損面積 | C36: a | D36: 29637 | F36: 6498 | G36: 23139 | H36: 7 | J36: 67 | K36: -60
B37: 損害額 | C37: 万円 | D37: 108138.4 | F37: 76069.6 | G37: 32068.8 | H37: 10822.3 | J37: 19994.6 | K37: -9172.3
C39: 経過コード | D39: たき火：平成３４年 | E39: 平成３３年 | F39: 増減値 | G39: 増減率 | I39: 不明・その他を飛ばすこと！！
B40: たき火の延焼拡大 | C40: 48 | D40: 2141 | E40: 1923 | F40: 218
B41: 火の粉の飛火 | C41: 45 | D41: 715 | E41: 656 | F41: 59
B42: 残り火の処置が不充分 | C42: 67 | D42: 231 | E42: 198 | F42: 33
C44: 発火源コード | D44: 火遊び：平成３４年 | E44: 平成３３年 | F44: 増減値 | G44: 増減率 | I44: 不明・その他を飛ばすこと！！
B45: ライター | C45: 4203 | D45: 196 | E45: 179 | F45: 17
B46: マッチ | C46: 4202 | D46: 83 | E46: 69 | F46: 14
B47: 火のついた紙 | C47: 4109 | D47: 14 | E47: 22 | F47: -8

Sheet 概況_第２５表
A1: 出火件数 | B1: 概況_第２５表 ストーブによる火災の損害状況
D3: 単位 | E3: ストーブ
E4: ="令和"&IF(LEN(年の入力!$B$1-2018)>=2,年の入力!$B$1-2018, DBCS(年の入力!$B$1-2018))&"年"&CHAR(10) -> 令和５年 | F4: ="令和"&IF(LEN(年の入力!$B$1-1-2018)>=2,年の入力!$B$1-2018, DBCS(年の入力!$B$1-1-2018))&"年" -> 令和４年 | G4: 増減値 | H4: 増減率
B5: 総出火件数 | D5: 件 | E5: ='I-25表'!E5 -> 997 | F5: ='I-25表'!F5 -> 1115 | G5: ='I-25表'!G5 -> -118 | H5: -11.660517
B6: ='I-25表'!B6 -> 建物火災 | E6: ='I-25表'!E6 -> 977 | F6: ='I-25表'!F6 -> 1088 | G6: ='I-25表'!G6 -> -111 | H6: -12.030075
B7: ='I-25表'!B7 -> 林野火災 | E7: ='I-25表'!E7 -> 1 | F7: ='I-25表'!F7 -> 1 | G7: ='I-25表'!G7 -> 0 | H7: 0
B8: ='I-25表'!B8 -> 車両火災 | E8: ='I-25表'!E8 -> 3 | F8: ='I-25表'!F8 -> 1 | G8: ='I-25表'!G8 -> 2 | H8: 100
B9: ='I-25表'!B9 -> 船舶火災 | E9: ='I-25表'!E9 -> 0 | F9: ='I-25表'!F9 -> 1 | G9: ='I-25表'!G9 -> -1 | H9: 0
B10: ='I-25表'!B10 -> 航空機火災 | E10: ='I-25表'!E10 -> 0 | F10: ='I-25表'!F10 -> 0 | G10: ='I-25表'!G10 -> 0 | H10: 0
B11: ='I-25表'!B11 -> その他の火災 | E11: ='I-25表'!E11 -> 16 | F11: ='I-25表'!F11 -> 24 | G11: ='I-25表'!G11 -> -8 | H11: 4.166666
B12: 主な発火源 | C12: ='I-25表'!C12 -> 石油ストーブ | D12: 件 | E12: ='I-25表'!E12 -> 420 | F12: ='I-25表'!F12 -> 485 | G12: ='I-25表'!G12 -> -65 | H12: -12.578616
C13: ='I-25表'!C13 -> 電気ストーブ | E13: ='I-25表'!E13 -> 381 | F13: ='I-25表'!F13 -> 446 | G13: ='I-25表'!G13 -> -65 | H13: -9.784735
C14: ='I-25表'!C14 -> まきストーブ | E14: ='I-25表'!E14 -> 123 | F14: ='I-25表'!F14 -> 121 | G14: ='I-25表'!G14 -> 2 | H14: -9.022556
C15: ='I-25表'!C15 -> ガスストーブ | E15: ='I-25表'!E15 -> 46 | F15: ='I-25表'!F15 -> 34 | G15: ='I-25表'!G15 -> 12 | H15: -9.756097
C16: ='I-25表'!C16 -> 石炭ストーブ | E16: ='I-25表'!E16 -> 0 | F16: ='I-25表'!F16 -> 0 | G16: ='I-25表'!G16 -> 0 | H16: -100
B17: 主な経過 | C17: ='I-25表'!C17 -> 可燃物が接触 | D17: 件 | E17: ='I-25表'!E17 -> 225 | F17: ='I-25表'!F17 -> 287 | G17: ='I-25表'!G17 -> -62 | H17: -18.296529
C18: ='I-25表'!C18 -> 輻射熱による発火 | E18: ='I-25表'!E18 -> 132 | F18: ='I-25表'!F18 -> 123 | G18: ='I-25表'!G18 -> 9 | H18: 1.204819
C19: ='I-25表'!C19 -> 引火 | E19: ='I-25表'!E19 -> 100 | F19: ='I-25表'!F19 -> 120 | G19: ='I-25表'!G19 -> -20 | H19: -15.72327
C20: ='I-25表'!C20 -> 可燃物が火源の上に落下 | E20: ='I-25表'!E20 -> 95 | F20: ='I-25表'!F20 -> 106 | G20: ='I-25表'!G20 -> -11 | H20: -29.530201
C21: ='I-25表'!C21 -> 使用方法の誤り | E21: ='I-25表'!E21 -> 56 | F21: ='I-25表'!F21 -> 63 | G21: ='I-25表'!G21 -> -7 | H21: -7.058823
B22: 建物焼損床面積 | D22: ㎡ | E22: ='I-25表'!E22 -> 61393 | F22: ='I-25表'!F22 -> 71367 | G22: ='I-25表'!G22 -> -9974 | H22: 1.3683057
B23: 建物焼損表面積 | E23: ='I-25表'!E23 -> 6418 | F23: ='I-25表'!F23 -> 6439 | G23: ='I-25表'!G23 -> -21 | H23: -23.186052
B24: 損害額 | D24: 万円 | E24: ='I-25表'!E24 -> 371777 | F24: ='I-25表'!F24 -> 412308 | G24: ='I-25表'!G24 -> -40531 | H24: -2.153064

Sheet I-25表
C1: Ⅰ－第２５表－１ ストーブによる火災の損害状況（出火件数）
D3: 単位 | E3: ストーブ
E4: 令和５年 | F4: 令和４年 | G4: 増減値
B5: 総出火件数 | D5: 件 | E5: 997 | F5: 1115 | G5: -118
B6: 建物火災 | E6: 977 | F6: 1088 | G6: -111
B7: 林野火災 | E7: 1 | F7: 1 | G7: 0
B8: 車両火災 | E8: 3 | F8: 1 | G8: 2
B9: 船舶火災 | E9: 0 | F9: 1 | G9: -1
B10: 航空機火災 | E10: 0 | F10: 0 | G10: 0
B11: その他の火災 | E11: 16 | F11: 24 | G11: -8
B12: 主な発火源 | C12: 石油ストーブ | D12: 件 | E12: 420 | F12: 485 | G12: -65
C13: 電気ストーブ | E13: 381 | F13: 446 | G13: -65
C14: まきストーブ | E14: 123 | F14: 121 | G14: 2
C15: ガスストーブ | E15: 46 | F15: 34 | G15: 12
C16: 石炭ストーブ | E16: 0 | F16: 0 | G16: 0
B17: 主な経過 | C17: 可燃物が接触 | D17: 件 | E17: 225 | F17: 287 | G17: -62
C18: 輻射熱による発火 | E18: 132 | F18: 123 | G18: 9
C19: 引火 | E19: 100 | F19: 120 | G19: -20
C20: 可燃物が火源の上に落下 | E20: 95 | F20: 106 | G20: -11
C21: 使用方法の誤り | E21: 56 | F21: 63 | G21: -7
B22: 建物焼損床面積 | D22: ㎡ | E22: 61393 | F22: 71367 | G22: -9974
B23: 建物焼損表面積 | E23: 6418 | F23: 6439 | G23: -21
B24: 損害額 | D24: 万円 | E24: 371777 | F24: 412308 | G24: -40531
F25: 前年から
C27: Ⅰ－第２５表－１ ストーブによる火災の損害状況（出火件数）
D28: 単位
E29: 当年 | F29: 前年 | G29: 増減値
B30: 総出火件数 | D30: 件 | E30: 997 | F30: 1115 | G30: -118
B31: 建物火災 | E31: 977 | F31: 1088 | G31: -111
B32: 林野火災 | E32: 1 | F32: 1 | G32: 0
B33: 車両火災 | E33: 3 | F33: 1 | G33: 2
B34: 船舶火災 | E34: 0 | F34: 1 | G34: -1
B35: 航空機火災 | E35: 0 | F35: 0 | G35: 0
B36: その他火災 | E36: 16 | F36: 24 | G36: -8
B37: 主な経過 | C37: 石油ストーブ | D37: 件 | E37: 420 | F37: 485 | G37: -65
C38: 電気ストーブ | E38: 381 | F38: 446 | G38: -65
C39: まきストーブ | E39: 123 | F39: 121 | G39: 2
C40: ガスストーブ | E40: 46 | F40: 34 | G40: 12
C41: 石炭ストーブ | E41: 0 | F41: 0 | G41: 0
B42: 建物焼損床面積 | D42: ㎡ | E42: 61393 | F42: 71367 | G42: -9974
B43: 建物焼損表面積 | E43: 6418 | F43: 6439 | G43: -21
B44: 損害額 | D44: 万円 | E44: 371777 | F44: 412308 | G44: -40531
C46: 経過名称 | D46: 経過コード | E46: 当年 | F46: 前年 | G46: 増減値
C47: 可燃物が接触 | D47: 42 | E47: 225 | F47: 287 | G47: -62
C48: 輻射熱による発火 | D48: 35 | E48: 132 | F48: 123 | G48: 9
C49: 引火 | D49: 26 | E49: 100 | F49: 120 | G49: -20
C50: 可燃物が火源の上に落下 | D50: 41 | E50: 95 | F50: 106 | G50: -11
C51: 使用方法の誤り | D51: 63 | E51: 56 | F51: 63 | G51: -7

Sheet 概況_第２６表
B1: ="概況_第２６表 建物火災の月別出火件数"&"【令和"&IF(LEN(年の入力!$B$1-2018)>=2,年の入力!$B$1-2018, DBCS(年の入力!$B$1-2018))&"年】" -> 概況_第２６表 建物火災の月別出火件数【令和５年】
B3: 出火月 | C3: 出火件数
B4: 1月 | C4: 2161
B5: 2月 | C5: 1876
B6: 3月 | C6: 1987
B7: 4月 | C7: 1802
B8: 5月 | C8: 1706
B9: 6月 | C9: 1427
B10: 7月 | C10: 1565
B11: 8月 | C11: 1577
B12: 9月 | C12: 1411
B13: 10月 | C13: 1678
B14: 11月 | C14: 1688
B15: 12月 | C15: 2096
B16: 計 | C16: =SUM(C4:C15) -> 20974

Sheet 概況_第２７表
B1: ="概況_第２７表 建物火災の出火時刻別出火件数"&"【令和"&IF(LEN(年の入力!$B$1-2018)>=2,年の入力!$B$1-2018, DBCS(年の入力!$B$1-2018))&"年】" -> 概況_第２７表 建物火災の出火時刻別出火件数【令和５年】
B3: 出火時刻 | C3: 出火件数
B4: 0時 | C4: 566
B5: 1時 | C5: 509
B6: 2時 | C6: 489
B7: 3時 | C7: 444
B8: 4時 | C8: 462
B9: 5時 | C9: 453
B10: 6時 | C10: 534
B11: 7時 | C11: 759
B12: 8時 | C12: 874
B13: 9時 | C13: 979
B14: 10時 | C14: 1140
B15: 11時 | C15: 1170
... B28: 不明 | C28: 1014
B29: 計 | C29: =SUM(C4:C28) -> 20974

Sheet 概況_第２８表
B1: ="概況_第２８表 建物火災の火元建物用途別の損害状況"&"【令和"&IF(LEN(年の入力!$B$1-2018)>=2,年の入力!$B$1-2018, DBCS(年の入力!$B$1-2018))&"年】" -> 概況_第２８表 建物火災の火元建物用途別の損害状況【令和５年】
B3: 火元建物用途 | E3: 出火件数 | F3: 焼損床面積 （㎡） | G3: 焼損表面積 （㎡） | H3: 損害額 （千円） | I3: 負傷者 （人） | J3: 死者 (人）
B4: 一般住宅 | E4: 8087 | F4: 526425 | G4: 48679 | H4: 31097874 | I4: 2359 | J4: 907
B5: 併用住宅 | E5: 313 | F5: 31537 | G5: 2794 | H5: 1727974 | I5: 106 | J5: 17
B6: (5) | C6: ロ | D6: 共同住宅 | E6: 3712 | F6: 34893 | G6: 9564 | H6: 4087477 | I6: 982 | J6: 208
B7: 住宅計 | E7: 12112 | F7: 592855 | G7: 61037 | H7: 36913325 | I7: 3447 | J7: 1132
B8: (1) | C8: イ | D8: 劇場等 | E8: 11 | F8: 0 | G8: 14 | H8: 371 | I8: 0 | J8: 0
C9: ロ | D9: 公会堂等 | E9: 34 | F9: 217 | G9: 68 | H9: 24644 | I9: 1 | J9: 0
B10: (2) | C10: イ | D10: キャバレー等 | E10: 3 | F10: 0 | G10: 0 | H10: 17 | I10: 3 | J10: 0
C11: ロ | D11: 遊技場等 | E11: 32 | F11: 974 | G11: 153 | H11: 294261 | I11: 4 | J11: 0
C12: ハ | D12: 性風俗施設 | E12: 0 | F12: 0 | G12: 0 | H12: 0 | I12: 0 | J12: 0
C13: ニ | D13: カラオケボックス等 | E13: 7 | F13: 375 | G13: 2 | H13: 145425 | I13: 3 | J13: 0
B14: (3) | C14: イ | D14: 料理店等 | E14: 10 | F14: 44 | G14: 2 | H14: 7891 | I14: 1 | J14: 0
C15: ロ | D15: 飲食店 | E15: 604 | F15: 10753 | G15: 1904 | H15: 951149 | I15: 120 | J15: 3
B16: (4) | D16: 物品販売店舗等 | E16: 308 | F16: 9679 | G16: 4271 | H16: 1015490 | I16: 24 | J16: 0
B17: (5) | C17: イ | D17: 旅館・ホテル等 | E17: 186 | F17: 8382 | G17: 300 | H17: 1114385 | I17: 37 | J17: 1
B18: (6) | C18: イ | D18: 病院等 | E18: 69 | F18: 355 | G18: 141 | H18: 127523 | I18: 19 | J18: 0
C19: ロ | D19: グループホーム等 | E19: 86 | F19: 22 | G19: 16 | H19: 9005 | I19: 14 | J19: 0
C20: ハ | D20: 社会福祉施設等 | E20: 100 | F20: 604 | G20: 246 | H20: 114701 | I20: 14 | J20: 0
C21: ニ | D21: 幼稚園等 | E21: 7 | F21: 0 | G21: 0 | H21: 50 | I21: 1 | J21: 0
B22: (7) | D22: 学校 | E22: 168 | F22: 2386 | G22: 1506 | H22: 342512 | I22: 35 | J22: 0
B23: (8) | D23: 図書館等 | E23: 10 | F23: 0 | G23: 0 | H23: 171 | I23: 1 | J23: 0
B24: (9) | C24: イ | D24: 特殊浴場 | E24: 4 | F24: 37 | G24: 25 | H24: 13346 | I24: 1 | J24: 0
C25: ロ | D25: 公衆浴場 | E25: 5 | F25: 547 | G25: 8 | H25: 30000 | I25: 1 | J25: 0
B26: (10) | D26: 停車場等 | E26: 24 | F26: 0 | G26: 1 | H26: 376 | I26: 1 | J26: 0
B27: (11) | D27: 神社・寺院等 | E27: 59 | F27: 11757 | G27: 180 | H27: 1053846 | I27: 12 | J27: 3
B28: (12) | C28: イ | D28: 工場・作業場 | E28: 1905 | F28: 166908 | G28: 22921 | H28: 20624586 | I28: 250 | J28: 10
C29: ロ | D29: スタジオ | E29: 3 | F29: 52 | G29: 0 | H29: 762 | I29: 1 | J29: 0
B30: (13) | C30: イ | D30: 駐車場等 | E30: 51 | F30: 6490 | G30: 377 | H30: 374678 | I30: 3 | J30: 1
C31: ロ | D31: 航空機格納庫 | E31: 2 | F31: 562 | G31: 42 | H31: 40320 | I31: 0 | J31: 0
B32: (14) | D32: 倉庫 | E32: 605 | F32: 53839 | G32: 5843 | H32: 7157822 | I32: 44 | J32: 5
B33: (15) | D33: 事務所等 | E33: 912 | F33: 61257 | G33: 3795 | H33: 4716193 | I33: 72 | J33: 4
B34: (16) | C34: イ | D34: 特定複合用途 | E34: 2139 | F34: 21023 | G34: 4374 | H34: 2626270 | I34: 386 | J34: 17
C35: ロ | D35: 非特定複合用途 | E35: 724 | F35: 19845 | G35: 3205 | H35: 1808029 | I35: 197 | J35: 25
B36: (16の2) | D36: 地下街 | E36: 14 | F36: 0 | G36: 0 | H36: 719 | I36: 0 | J36: 0
B37: (16の3) | D37: 準地下街 | E37: 0 | F37: 0 | G37: 0 | H37: 0 | I37: 0 | J37: 0
B38: (17) | D38: 文化財 | E38: 4 | F38: 48 | G38: 0 | H38: 3221 | I38: 1 | J38: 0
B39: その他 | E39: 776 | F39: 50714 | G39: 9146 | H39: 2107712 | I39: 82 | J39: 9
B40: 計 | E40: 20974 | F40: 1019725 | G40: 119577 | H40: 81618800 | I40: 4775 | J40: 1210
B41: （注）用途欄に掲げている括弧つき数字及びカナは、その用途に対応する消防法施行令別表第１中の項番を示す。

Sheet 概況_第２９表
B1: 概況_第２９表 建物火災の火元建物の構造別損害状況
C3: ="令和"&IF(LEN(年の入力!$B$1-2018)>=2,年の入力!$B$1-2018, DBCS(年の入力!$B$1-2018))&"年" -> 令和５年 | J3: 出火件数
B4: 構造 | C4: 出火 件数 | D4: 焼損 床面積 （㎡） | E4: 損害額 （千円） | F4: 延焼 件数 | G4: 延焼 率 | H4: 1件 当たりの 焼損 床面積 （㎡） | I4: 1件 当たりの 損害額 （千円） | J4: =IF(年の入力!$B$1-COLUMNS($J$4:J4)>2019, "令和"&IF(LEN(年の入力!$B$1-COLUMNS($J$4:J4)-2018)>=2,年の入力!$B$1-COLUMNS($J$4:J4)+1-2018, DBCS(年の入力!$B$1-COLUMNS($J$4:J4)-2018))&"年", IF(年の入力!$B$1-COLUMNS($J$4:J4)=2019,"令和元年","平成"&年の入力!$B$1-COLUMNS($J$4:J4)-1988&"年" )) -> 令和４年 | K4: =IF(年の入力!$B$1-COLUMNS($J$4:K4)>2019, "令和"&IF(LEN(年の入力!$B$1-COLUMNS($J$4:K4)-2018)>=2,年の入力!$B$1-COLUMNS($J$4:K4)+1-2018, DBCS(年の入力!$B$1-COLUMNS($J$4:K4)-2018))&"年", IF(年の入力!$B$1-COLUMNS($J$4:K4)=2019,"令和元年","平成"&年の入力!$B$1-COLUMNS($J$4:K4)-1988&"年" )) -> 令和３年 | L4: =IF(年の入力!$B$1-COLUMNS($J$4:L4)>2019, "令和"&IF(LEN(年の入力!$B$1-COLUMNS($J$4:L4)-2018)>=2,年の入力!$B$1-COLUMNS($J$4:L4)+1-2018, DBCS(年の入力!$B$1-COLUMNS($J$4:L4)-2018))&"年", IF(年の入力!$B$1-COLUMNS($J$4:L4)=2019,"令和元年","平成"&年の入力!$B$1-COLUMNS($J$4:L4)-1988&"年" )) -> 令和２年 | M4: =IF(年の入力!$B$1-COLUMNS($J$4:M4)>2019, "令和"&IF(LEN(年の入力!$B$1-COLUMNS($J$4:M4)-2018)>=2,年の入力!$B$1-COLUMNS($J$4:M4)+1-2018, DBCS(年の入力!$B$1-COLUMNS($J$4:M4)-2018))&"年", IF(年の入力!$B$1-COLUMNS($J$4:M4)=2019,"令和元年","平成"&年の入力!$B$1-COLUMNS($J$4:M4)-1988&"年" )) -> 令和元年
B5: 木造建築物 | C5: 7762 | D5: 595768 | E5: 32035906 | F5: 2256 | G5: 29.064674 | H5: 76.754445 | I5: 4127.2747 | J5: 7783 | K5: 7543 | L5: 7358 | M5: 8137
B6: 防火構造 建築物 | C6: 1722 | D6: 52622 | E6: 4969452 | F6: 249 | G6: 14.45993 | H6: 30.558653 | I6: 2885.8606 | J6: 1677 | K6: 1826 | L6: 1772 | M6: 1872
B7: 準耐火建築物 （木造） | C7: 335 | D7: 9072 | E7: 766432 | F7: 34 | G7: 10.149253 | H7: 27.080597 | I7: 2287.8567 | J7: 311 | K7: 260 | L7: 303 | M7: 286
B8: 準耐火建築物 （非木造） | C8: 2398 | D8: 143782 | E8: 20529972 | F8: 183 | G8: 7.6313594 | H8: 59.959133 | I8: 8561.2894 | J8: 2243 | K8: 2209 | L8: 2166 | M8: 2451
B9: 耐火建築物 | C9: 6299 | D9: 48309 | E9: 10383638 | F9: 70 | G9: 1.1112875 | H9: 7.6693125 | I9: 1648.4582 | J9: 5786 | K9: 5450 | L9: 5514 | M9: 5868
B10: その他の 建築物・不明 | C10: 2458 | D10: 170172 | E10: 12933400 | F10: 842 | G10: 34.255492 | H10: 69.231896 | I10: 5261.7575 | J10: 2367 | K10: 2261 | L10: 2252 | M10: 2389
B11: 計 | C11: 20974 | D11: 1019725 | E11: 81618800 | F11: 3634 | G11: 17.326213 | H11: 48.618528 | I11: 3891.4275 | J11: 20167 | K11: 19549 | L11: 19365 | M11: 21003
B12: （注） 1 延焼件数とは、火元建物以外の別棟に延焼した火災件数をいう。
B13: 2 延焼率とは、火元建物以外の別棟に延焼した火災件数の割合をいう。
B14: 3 市町村をまたがって延焼した火災の焼損床面積・損害額は、それぞれの火元建物の構造別に計上している。

Sheet 概況_第３０表
B1: ="概況_第３０表 建物火災延焼状況件数"&"【令和"&IF(LEN(年の入力!$B$1-2018)>=2,年の入力!$B$1-2018, DBCS(年の入力!$B$1-2018))&"年】" -> 概況_第３０表 建物火災延焼状況件数【令和５年】
D3: 件数
B4: 建物火災 | D4: 20974
B5: 延焼件数 | D5: 3634
B6: 区画外 延焼件数 | C6: 防火区画（建築基準法施行令第112条） | D6: 59
C7: 防火壁（建築基準法施行令第113条） | D7: 7
C8: 共同住宅の特例区画 | D8: 14
C9: 消防法施行規則第13条の区画 | D9: 2
C10: 界壁等（建築基準法施行令第114条） | D10: 27
C11: 計 | D11: 109

Sheet 概況_第３１表
A1: 火元建物 | B1: ="概況_第３１表 建物火災の焼損程度別焼損棟数"&"【令和"&IF(LEN(年の入力!$B$1-2018)>=2,年の入力!$B$1-2018, DBCS(年の入力!$B$1-2018))&"年】" -> 概況_第３１表 建物火災の焼損程度別焼損棟数【令和５年】
C3: 全焼 | D3: 半焼 | E3: 部分焼 | F3: ぼや | G3: 計
B4: 火元建物 | C4: 4222 | D4: 1021 | E4: 4167 | F4: 11137 | G4: 20547
B5: 延焼建物 | C5: 2470 | D5: 463 | E5: 3327 | F5: 2849 | G5: 9109
B6: 計 | C6: 6692 | D6: 1484 | E6: 7494 | F6: 13986 | G6: 29656

Sheet 概況_第３２表
B1: ="概況_第３２表 建物火災の主な出火原因"&"【令和"&IF(LEN(年の入力!$B$1-2018)>=2,年の入力!$B$1-2018, DBCS(年の入力!$B$1-2018))&"年】" -> 概況_第３２表 建物火災の主な出火原因【令和５年】
B3: 出火原因 | C3: 出火件数
B4: こんろ | C4: 2769
B5: たばこ | C5: 1925
B6: 電気機器 | C6: 1688
B7: 配線器具 | C7: 1310
B8: 放火 | C8: 1140
B9: 電灯電話等の配線 | C9: 998
B10: ストーブ | C10: 977
B11: 放火の疑い | C11: 556
B12: たき火 | C12: 475
B13: 電気装置 | C13: 474
B14: 灯火 | C14: 388
B15: マッチ・ライター | C15: 261
... B32: 不明・調査中 | C32: 2656
B33: 計 | C33: =SUM(C4:C32) -> 20974

Sheet 概況_第３３表
B1: ="概況_第３３表 都道府県別建物火災1件当たりの焼損床面積"&"【令和"&IF(LEN(年の入力!$B$1-2018)>=2,年の入力!$B$1-2018, DBCS(年の入力!$B$1-2018))&"年】" -> 概況_第３３表 都道府県別建物火災1件当たりの焼損床面積【令和５年】
B3: 都道府県 | C3: 建物火災 件数 | D3: 建物焼損 床面積 （㎡） | E3: 1件当たり の焼損床 面積（㎡） | G3: 都道府県 | H3: 建物火災 件数 | I3: 建物焼損 床面積 （㎡） | J3: 1件当たり の焼損床 面積（㎡）
B4: 北海道 | C4: 965 | D4: 60284 | E4: 62.470466 | G4: 滋賀県 | H4: 198 | I4: 7844 | J4: 39.616161
B5: 青森県 | C5: 284 | D5: 28021 | E5: 98.665492 | G5: 京都府 | H5: 314 | I5: 10493 | J5: 33.417197
B6: 岩手県 | C6: 213 | D6: 24808 | E6: 116.46948 | G6: 大阪府 | H6: 1424 | I6: 30852 | J6: 21.66573
B7: 宮城県 | C7: 375 | D7: 21308 | E7: 56.821333 | G7: 兵庫県 | H7: 813 | I7: 42817 | J7: 52.665436
B8: 秋田県 | C8: 184 | D8: 21132 | E8: 114.84783 | G8: 奈良県 | H8: 190 | I8: 9314 | J8: 49.021052
B9: 山形県 | C9: 181 | D9: 19000 | E9: 104.97237 | G9: 和歌山県 | H9: 182 | I9: 9687 | J9: 53.225274
B10: 福島県 | C10: 322 | D10: 35408 | E10: 109.96273 | G10: 鳥取県 | H10: 82 | I10: 11499 | J10: 140.23171
B11: 茨城県 | C11: 618 | D11: 55270 | E11: 89.433656 | G11: 島根県 | H11: 123 | I11: 10319 | J11: 83.894308
B12: 栃木県 | C12: 426 | D12: 22821 | E12: 53.570422 | G12: 岡山県 | H12: 331 | I12: 26971 | J12: 81.483383
B13: 群馬県 | C13: 370 | D13: 27506 | E13: 74.34054 | G13: 広島県 | H13: 401 | I13: 20644 | J13: 51.481296
B14: 埼玉県 | C14: 1062 | D14: 42353 | E14: 39.880414 | G14: 山口県 | H14: 238 | I14: 15278 | J14: 64.193277
B15: 千葉県 | C15: 983 | D15: 50602 | E15: 51.47711 | G15: 徳島県 | H15: 102 | I15: 7363 | J15: 72.186274
... B27: 三重県 | C27: 278 | D27: 16839 | E27: 60.571942 | G27: 計 | H27: 20974 | I27: 1022440 | J27: 48.747974

Sheet 概況_第３４表
B1: ="概況_第３４表 建物火災の湿度別延焼状況"&"【令和"&IF(LEN(年の入力!$B$1-2018)>=2,年の入力!$B$1-2018, DBCS(年の入力!$B$1-2018))&"年】" -> 概況_第３４表 建物火災の湿度別延焼状況【令和５年】
B3: 相対湿度（％） | C3: 延焼率（％） | D3: 1件当たりの 焼損床面積（㎡） | E3: 件数 | F3: 延焼件数 | G3: 焼損床面積 （㎡）
B4: 0～5 | C4: 22.580645 | D4: 37.774193 | E4: 31 | F4: 7 | G4: 1171
B5: 6～10 | C5: 40 | D5: 58.9 | E5: 10 | F5: 4 | G5: 589
B6: 11～15 | C6: 26.666666 | D6: 66.733333 | E6: 30 | F6: 8 | G6: 2002
B7: 16～20 | C7: 27.678571 | D7: 69.866071 | E7: 112 | F7: 31 | G7: 7825
B8: 21～25 | C8: 23.529411 | D8: 43.147058 | E8: 204 | F8: 48 | G8: 8802
B9: 26～30 | C9: 24.087591 | D9: 62.89781 | E9: 411 | F9: 99 | G9: 25851
B10: 31～35 | C10: 23.801065 | D10: 47.305506 | E10: 563 | F10: 134 | G10: 26633
B11: 36～40 | C11: 19.586374 | D11: 35.979318 | E11: 822 | F11: 161 | G11: 29575
B12: 41～45 | C12: 18.452381 | D12: 38.178571 | E12: 1008 | F12: 186 | G12: 38484
B13: 46～50 | C13: 17.150957 | D13: 40.948972 | E13: 1411 | F13: 242 | G13: 57779
B14: 51～55 | C14: 17.281781 | D14: 37.59051 | E14: 1707 | F14: 295 | G14: 64167
B15: 56～60 | C15: 17.265795 | D15: 53.006536 | E15: 1836 | F15: 317 | G15: 97320
... B24: 不明 | C24: 5.917159 | D24: 22.781065 | E24: 169 | F24: 10 | G24: 3850

Sheet 概況_第３５表
B1: ="概況_第３５表 建物火災の放水開始時間別焼損状況"&"【令和"&IF(LEN(年の入力!$B$1-2018)>=2,年の入力!$B$1-2018, DBCS(年の入力!$B$1-2018))&"年】" -> 概況_第３５表 建物火災の放水開始時間別焼損状況【令和５年】
D3: 建物火災件数 | G3: 1件当たりの 焼損床面積（㎡） | J3: 1件当たりの 焼損表面積（㎡） | M3: 1件当たりの 放水ポンプ台数 | P3: 延焼率
D4: 計 | E4: 昼 | F4: 夜 | G4: 計 | H4: 昼 | I4: 夜 | J4: 計 | K4: 昼 | L4: 夜 | M4: 計 | N4: 昼 | O4: 夜
B5: 消防隊等 により 放水実施 | C5: 1分 | D5: 15 | E5: 10 | F5: 5 | G5: 62.066666 | H5: 67.5 | I5: 51.2 | J5: 5.066666 | K5: 7.6 | L5: 0 | M5: 3.066666 | N5: 3.4 | O5: 2.4 | P5: 33.333333
C6: 2分 | D6: 22 | E6: 17 | F6: 5 | G6: 124.27273 | H6: 141.82353 | I6: 64.6 | J6: 12.318181 | K6: 12.352941 | L6: 12.2 | M6: 5.636363 | N6: 5.588235 | O6: 5.8 | P6: 36.363636
C7: 3分 | D7: 58 | E7: 37 | F7: 21 | G7: 24.310344 | H7: 22.945945 | I7: 26.714285 | J7: 8.517241 | K7: 9.27027 | L7: 7.190476 | M7: 2.637931 | N7: 2.513513 | O7: 2.857142 | P7: 18.965517
C8: 4分 | D8: 137 | E8: 87 | F8: 50 | G8: 52.014598 | H8: 52.436781 | I8: 51.28 | J8: 13.021897 | K8: 13.586206 | L8: 12.04 | M8: 3.189781 | N8: 3.252873 | O8: 3.08 | P8: 25.547445
C9: 5分 | D9: 269 | E9: 161 | F9: 108 | G9: 54.115241 | H9: 61.968944 | I9: 42.407407 | J9: 11.327137 | K9: 9.84472 | L9: 13.537037 | M9: 3.182156 | N9: 3.298136 | O9: 3.009259 | P9: 27.88104
C10: 6～10分 | D10: 3554 | E10: 2312 | F10: 1242 | G10: 78.663478 | H10: 74.275952 | I10: 86.830918 | J10: 11.496061 | K10: 10.900951 | L10: 12.603865 | M10: 3.5371412 | N10: 3.4623702 | O10: 3.6763285 | P10: 33.398987
C11: 11～15分 | D11: 3714 | E11: 2324 | F11: 1390 | G11: 105.88772 | H11: 97.027539 | I11: 120.70144 | J11: 12.483306 | K11: 12.799914 | L11: 11.953957 | M11: 3.7137856 | N11: 3.5202237 | O11: 4.03741 | P11: 37.749058
C12: 16～20分 | D12: 1313 | E12: 761 | F12: 552 | G12: 131.09596 | H12: 137.19317 | I12: 122.69022 | J12: 9.5262757 | K12: 9.105124 | L12: 10.106884 | M12: 3.8217821 | N12: 3.850197 | O12: 3.782608 | P12: 38.385377
C13: 21分以上 | D13: 941 | E13: 528 | F13: 413 | G13: 150.19872 | H13: 160.89962 | I13: 136.51816 | J13: 10.586609 | K13: 10.895833 | L13: 10.191283 | M13: 3.415515 | N13: 3.388257 | O13: 3.450363 | P13: 31.668437
C14: 小計 | D14: 10023 | E14: 6237 | F14: 3786 | G14: 101.07363 | H14: 97.009941 | I14: 107.76809 | J14: 11.509728 | K14: 11.388167 | L14: 11.709984 | M14: 3.6128903 | N14: 3.5178771 | O14: 3.7694136 | P14: 35.169111
B15: 事後聞知 | D15: 5393 | E15: 2941 | F15: 2452 | G15: 0.3532356 | H15: 0.200952 | I15: 0.535889 | J15: 0.2477285 | K15: 0.2145528 | L15: 0.2875203 | M15: － | N15: － | O15: － | P15: 0.6304468
B16: 放水なし・放水開始時刻不明等 | D16: 5558 | E16: 3360 | F16: 2198 | G16: 0.8562432 | H16: 0.8735119 | I16: 0.8298453 | J16: 0.517992 | K16: 0.5526785 | L16: 0.4649681 | M16: － | N16: － | O16: － | P16: 1.3494062
B17: 計 | D17: 20974 | E17: 12538 | F17: 8436 | G17: 48.618528 | H17: 48.538603 | I17: 48.737316 | J17: 5.7012015 | K17: 5.8634551 | L17: 5.4600521 | M17: 1.7265185 | N17: 1.7499601 | O17: 1.6916785 | P17: 17.326213
B18: （注）「昼」には、出火時刻が7時00分から18時59分までの火災を集計し、「夜」には、出火時刻が19時00分から6時59分までの火災を集計している。

Sheet 概況_第３６表
B1: ="概況_第３６表 建物火災の鎮火所要時間別1件当たりの焼損状況"&"【令和"&IF(LEN(年の入力!$B$1-2018)>=2,年の入力!$B$1-2018, DBCS(年の入力!$B$1-2018))&"年】" -> 概況_第３６表 建物火災の鎮火所要時間別1件当たりの焼損状況【令和５年】
B3: 放水～鎮火所要時間 | C3: 建物火災件数 | D3: 1件当たりの 焼損床面積（㎡） | E3: 焼損床面積（㎡）
B4: 0～5分 | C4: 260 | D4: 2.115384 | E4: 550
B5: 6～10分 | C5: 310 | D5: 3.580645 | E5: 1110
B6: 11～20分 | C6: 843 | D6: 6.824436 | E6: 5753
B7: 21～30分 | C7: 805 | D7: 14.114285 | E7: 11362
B8: 31～40分 | C8: 746 | D8: 26.701072 | E8: 19919
B9: 41～50分 | C9: 637 | D9: 34.4427 | E9: 21940
B10: 51～60分 | C10: 596 | D10: 45.570469 | E10: 27160
B11: 61～90分 | C11: 1508 | D11: 67.497347 | E11: 101786
B12: 91分以上 | C12: 4193 | D12: 170.96423 | E12: 716853
B13: 事後聞知 | C13: 5393 | D13: 0.3532356 | E13: 1905
B14: 放水なし | C14: 5558 | D14: 0.856783 | E14: 4762
B15: 不明 | C15: 125 | D15: 874.72 | E15: 109340
B16: 計 | C16: 20974 | D16: 48.747974 | E16: 1022440

Sheet 概況_第３７表
B1: ="概況_第３７表 建物火災の火元建物用途別負傷者数"&"【令和"&IF(LEN(年の入力!$B$1-2018)>=2,年の入力!$B$1-2018, DBCS(年の入力!$B$1-2018))&"年】" -> 概況_第３７表 建物火災の火元建物用途別負傷者数【令和５年】
B3: 火元建物用途 | E3: 計 | F3: 消防吏員 | G3: 消防団員 | H3: 応急消火 義務者 | I3: 消防 協力者 | J3: 自損者 | K3: その他
B4: 一般住宅 | E4: 2359 | F4: 94 | G4: 44 | H4: 1825 | I4: 61 | J4: 45 | K4: 290
B5: 併用住宅 | E5: 106 | F5: 11 | G5: 5 | H5: 81 | I5: 1 | J5: 0 | K5: 8
B6: (5) | C6: ロ | D6: 共同住宅 | E6: 982 | F6: 8 | G6: 2 | H6: 775 | I6: 12 | J6: 23 | K6: 162
B7: 住宅計 | E7: 3447 | F7: 113 | G7: 51 | H7: 2681 | I7: 74 | J7: 68 | K7: 460
B8: (1) | C8: イ | D8: 劇場等 | E8: 0 | F8: 0 | G8: 0 | H8: 0 | I8: 0 | J8: 0 | K8: 0
C9: ロ | D9: 公会堂等 | E9: 1 | F9: 0 | G9: 0 | H9: 1 | I9: 0 | J9: 0 | K9: 0
B10: (2) | C10: イ | D10: キャバレー等 | E10: 3 | F10: 0 | G10: 0 | H10: 3 | I10: 0 | J10: 0 | K10: 0
C11: ロ | D11: 遊技場等 | E11: 4 | F11: 0 | G11: 1 | H11: 1 | I11: 0 | J11: 0 | K11: 2
C12: ハ | D12: 性風俗施設 | E12: 0 | F12: 0 | G12: 0 | H12: 0 | I12: 0 | J12: 0 | K12: 0
C13: ニ | D13: カラオケボックス等 | E13: 3 | F13: 0 | G13: 0 | H13: 3 | I13: 0 | J13: 0 | K13: 0
B14: (3) | C14: イ | D14: 料理店等 | E14: 1 | F14: 0 | G14: 0 | H14: 1 | I14: 0 | J14: 0 | K14: 0
C15: ロ | D15: 飲食店 | E15: 120 | F15: 1 | G15: 0 | H15: 101 | I15: 1 | J15: 0 | K15: 17
B16: (4) | D16: 物品販売店舗等 | E16: 24 | F16: 2 | G16: 0 | H16: 18 | I16: 1 | J16: 0 | K16: 3
B17: (5) | C17: イ | D17: 旅館・ホテル等 | E17: 37 | F17: 1 | G17: 0 | H17: 23 | I17: 0 | J17: 1 | K17: 12
B18: (6) | C18: イ | D18: 病院等 | E18: 19 | F18: 0 | G18: 0 | H18: 15 | I18: 1 | J18: 1 | K18: 2
C19: ロ | D19: グループホーム等 | E19: 14 | F19: 0 | G19: 0 | H19: 13 | I19: 0 | J19: 0 | K19: 1
C20: ハ | D20: 社会福祉施設等 | E20: 14 | F20: 0 | G20: 0 | H20: 1 | I20: 0 | J20: 1 | K20: 12
C21: ニ | D21: 幼稚園等 | E21: 1 | F21: 0 | G21: 0 | H21: 1 | I21: 0 | J21: 0 | K21: 0
B22: (7) | D22: 学校 | E22: 35 | F22: 0 | G22: 0 | H22: 19 | I22: 0 | J22: 0 | K22: 16
B23: (8) | D23: 図書館等 | E23: 1 | F23: 0 | G23: 0 | H23: 1 | I23: 0 | J23: 0 | K23: 0
B24: (9) | C24: イ | D24: 特殊浴場 | E24: 1 | F24: 0 | G24: 0 | H24: 1 | I24: 0 | J24: 0 | K24: 0
C25: ロ | D25: 公衆浴場 | E25: 1 | F25: 0 | G25: 0 | H25: 1 | I25: 0 | J25: 0 | K25: 0
B26: (10) | D26: 停車場等 | E26: 1 | F26: 0 | G26: 0 | H26: 1 | I26: 0 | J26: 0 | K26: 0
B27: (11) | D27: 神社・寺院等 | E27: 12 | F27: 2 | G27: 1 | H27: 9 | I27: 0 | J27: 0 | K27: 0
B28: (12) | C28: イ | D28: 工場・作業場 | E28: 250 | F28: 16 | G28: 8 | H28: 186 | I28: 2 | J28: 1 | K28: 37
C29: ロ | D29: スタジオ | E29: 1 | F29: 0 | G29: 0 | H29: 1 | I29: 0 | J29: 0 | K29: 0
B30: (13) | C30: イ | D30: 駐車場等 | E30: 3 | F30: 0 | G30: 1 | H30: 1 | I30: 0 | J30: 0 | K30: 1
C31: ロ | D31: 航空機格納庫 | E31: 0 | F31: 0 | G31: 0 | H31: 0 | I31: 0 | J31: 0 | K31: 0
B32: (14) | D32: 倉庫 | E32: 44 | F32: 4 | G32: 2 | H32: 34 | I32: 1 | J32: 0 | K32: 3
B33: (15) | D33: 事務所等 | E33: 72 | F33: 3 | G33: 2 | H33: 50 | I33: 2 | J33: 0 | K33: 15
B34: (16) | C34: イ | D34: 特定複合用途 | E34: 386 | F34: 9 | G34: 2 | H34: 287 | I34: 4 | J34: 3 | K34: 81
C35: ロ | D35: 非特定複合用途 | E35: 197 | F35: 7 | G35: 0 | H35: 129 | I35: 4 | J35: 4 | K35: 53
B36: (16の2) | D36: 地下街 | E36: 0 | F36: 0 | G36: 0 | H36: 0 | I36: 0 | J36: 0 | K36: 0
B37: (16の3) | D37: 準地下街 | E37: 0 | F37: 0 | G37: 0 | H37: 0 | I37: 0 | J37: 0 | K37: 0
B38: (17) | D38: 文化財 | E38: 1 | F38: 0 | G38: 0 | H38: 1 | I38: 0 | J38: 0 | K38: 0
B39: その他 | E39: 82 | F39: 1 | G39: 3 | H39: 63 | I39: 6 | J39: 1 | K39: 8
B40: 計 | E40: =SUM(E7:E39) -> 4775 | F40: =SUM(F7:F39) -> 159 | G40: =SUM(G7:G39) -> 71 | H40: =SUM(H7:H39) -> 3646 | I40: =SUM(I7:I39) -> 96 | J40: =SUM(J7:J39) -> 80 | K40: =SUM(K7:K39) -> 723
B41: （注）用途欄に掲げている括弧つき数字及びカナは、その用途に対応する消防法施行令別表第１中の項番を示す。

Sheet 概況_第３８表
B1: ="概況_第３８表 建物火災の建物構造別・受傷原因別負傷者数"&"【令和"&IF(LEN(年の入力!$B$1-2018)>=2,年の入力!$B$1-2018, DBCS(年の入力!$B$1-2018))&"年】" -> 概況_第３８表 建物火災の建物構造別・受傷原因別負傷者数【令和５年】
B3: 構造 | C3: 計 | D3: 火炎・高温 | E3: 煙を吸う | F3: 放射熱 | G3: 飛散物 ・擦過 | H3: 飛び降り | I3: その他
B4: 木造建築物 | C4: 2094 | D4: 911 | E4: 725 | F4: 121 | G4: 47 | H4: 39 | I4: 251
B5: 防火構造建築物 | C5: 558 | D5: 196 | E5: 249 | F5: 19 | G5: 1 | H5: 5 | I5: 88
B6: 準耐火建築物（木造） | C6: 98 | D6: 28 | E6: 44 | F6: 6 | G6: 1 | H6: 3 | I6: 16
B7: 準耐火建築物（非木造） | C7: 406 | D7: 200 | E7: 135 | F7: 11 | G7: 15 | H7: 2 | I7: 43
B8: 耐火建築物 | C8: 1272 | D8: 479 | E8: 560 | F8: 32 | G8: 25 | H8: 3 | I8: 173
B9: その他の建築物 | C9: 299 | D9: 146 | E9: 80 | F9: 23 | G9: 9 | H9: 3 | I9: 38
B10: 不明 | C10: 48 | D10: 27 | E10: 8 | F10: 7 | G10: 1 | H10: 0 | I10: 5
B11: 計 | C11: 4775 | D11: 1987 | E11: 1801 | F11: 219 | G11: 99 | H11: 55 | I11: 614

Sheet 概況_第３９表
A1: 消火器具 | B1: ="概況_第３９表 消防用設備等の設置状況別建物火災出火件数"&"【令和"&IF(LEN(年の入力!$B$1-2018)>=2,年の入力!$B$1-2018, DBCS(年の入力!$B$1-2018))&"年】" -> 概況_第３９表 消防用設備等の設置状況別建物火災出火件数【令和５年】
C3: 設置対象防火対象物 | F3: 設置非対象防火対象物
C4: 設置 | E4: 未設置 | F4: 設置 | H4: 未設置
C5: 使用 | D5: 未使用 | F5: 使用 | G5: 未使用
B6: 消火器具 | C6: 2470 | D6: 3546 | E6: 254 | F6: 134 | G6: 125 | H6: 3015
B7: 屋内消火栓設備 | C7: 192 | D7: 1678 | E7: 184 | F7: 23 | G7: 52 | H7: 7587
B8: スプリンクラー設備 | C8: 81 | D8: 1108 | E8: 50 | F8: 32 | G8: 50 | H8: 8422
B9: 水噴霧・泡・二酸化炭素 ・ハロゲン化物・粉末消火設備 | C9: 37 | D9: 600 | E9: 48 | F9: 36 | G9: 36 | H9: 8996
B10: 屋外消火栓設備 | C10: 72 | D10: 489 | E10: 85 | F10: 31 | G10: 60 | H10: 9018
B11: 動力消防ポンプ設備 | C11: 200 | D11: 228 | E11: 349 | F11: 476 | G11: 90 | H11: 8407
B12: 自動火災報知設備 | C12: 1950 | D12: 2414 | E12: 302 | F12: 97 | G12: 58 | H12: 4851
B13: 漏電火災警報器 | C13: 10 | D13: 63 | E13: 51 | F13: 29 | G13: 25 | H13: 9585
B14: 非常警報器具・非常警報設備 | C14: 233 | D14: 1329 | E14: 123 | F14: 47 | G14: 136 | H14: 7877
B15: 避難器具 | C15: 36 | D15: 974 | E15: 65 | F15: 29 | G15: 251 | H15: 8399
B16: 誘導灯・誘導標識 | C16: 1046 | D16: 1991 | E16: 211 | F16: 82 | G16: 124 | H16: 6294
B17: 消防用水 | C17: 49 | D17: 596 | E17: 41 | F17: 31 | G17: 34 | H17: 9008
... B22: 無線通信補助設備 | C22: 26 | D22: 128 | E22: 52 | F22: 30 | G22: 23 | H22: 9467

Sheet 概況_第４０表
A1: 住宅用消火器 | B1: ="概況_第４０表 住宅用防災機器の設置状況別住宅出火件数"&"【令和"&IF(LEN(年の入力!$B$1-2018)>=2,年の入力!$B$1-2018, DBCS(年の入力!$B$1-2018))&"年】" -> 概況_第４０表 住宅用防災機器の設置状況別住宅出火件数【令和５年】
D3: 設置 | F3: 未設置
D4: 使用 | E4: 未使用
B5: 住宅用消火器 | D5: 332 | E5: 556 | F5: 10322
B6: 住宅用スプリンクラー設備 | D6: 3 | E6: 18 | F6: 11189
B7: 簡易消火具 | D7: 27 | E7: 20 | F7: 11163
B8: 住宅用自動消火装置 | D8: 0 | E8: 13 | F8: 11197
B9: 住宅用火災警報器 （注） | D9: 1923 | E9: 1952 | F9: 4272
B10: 住宅用自動火災報知設備 | D10: 143 | E10: 91 | F10: 10976
B11: 防炎 | C11: 寝具類 | D11: 21 | E11: 38 | F11: 11151
C12: 衣類 | D12: 23 | E12: 37 | F12: 11150
C13: カーテン等 | D13: 38 | E13: 44 | F13: 11128
C14: じゅうたん等 | D14: 24 | E14: 36 | F14: 11150
B16: （注）設置の有無が判明しないものを除く。

Sheet 概況_第４１表
A1: 損害額 | B1: ="概況_第４１表 建物火災の損害額及び焼損面積の程度別出火件数"&"【令和"&IF(LEN(年の入力!$B$1-2018)>=2,年の入力!$B$1-2018, DBCS(年の入力!$B$1-2018))&"年】" -> 概況_第４１表 建物火災の損害額及び焼損面積の程度別出火件数【令和５年】
B3: １件当たりの損害額 （万円） | C3: 建物火災件数 | E3: １件当たりの焼損 床面積（㎡） | F3: 建物火災件数
B4: 10未満 | C4: 11850 | E4: 50未満 | F4: 16694
B5: 10～50未満 | C5: 2310 | E5: 50～100未満 | F5: 1338
B6: 50～100未満 | C6: 1003 | E6: 100～200未満 | F6: 1577
B7: 100～500未満 | C7: 2844 | E7: 200～300未満 | F7: 638
B8: 500～1,000未満 | C8: 1263 | E8: 300～500未満 | F8: 447
B9: 1,000～2,000未満 | C9: 868 | E9: 500～1,000未満 | F9: 204
B10: 2,000～3,000未満 | C10: 372 | E10: 1,000～2,000未満 | F10: 50
B11: 3,000～5,000未満 | C11: 256 | E11: 2,000～3,000未満 | F11: 12
B12: 5,000以上 | C12: 208 | E12: 3,000以上 | F12: 14
B13: 計 | C13: 20974 | E13: 計 | F13: 20974

Sheet 概況_第４２表
B1: ="概況_第４２表 市町村別物火災の損害額及び１件当たりの損害額"&"【令和"&IF(LEN(年の入力!$B$1-2018)>=2,年の入力!$B$1-2018, DBCS(年の入力!$B$1-2018))&"年】" -> 概況_第４２表 市町村別物火災の損害額及び１件当たりの損害額【令和５年】
C3: 建物火災 件数 | D3: 損害額（千円） | E3: １件当たりの 損害額(千円）
B4: 大都市 | C4: 6268 | D4: 10705372 | E4: 1707.9407
B5: その他の都市 | C5: 12434 | D5: 60979288 | E5: 4904.2374
B6: 町村 | C6: 2272 | D6: 10355682 | E6: 4557.9586
B7: 計 | C7: 20974 | D7: 82040342 | E7: 3911.5258

Sheet 概況_第４３表
B1: 概況_第４３表 住宅火災件数の月別推移
B3: 年 | C3: 1月 | D3: 2月 | E3: 3月 | F3: 4月 | G3: 5月 | H3: 6月 | I3: 7月 | J3: 8月 | K3: 9月 | L3: 10月 | M3: 11月 | N3: 12月 | O3: 計
B4: =IF(年の入力!$B$1-ROWS($A5:$A$14)+1>2019, "令和"&IF(LEN(年の入力!$B$1-ROWS($A5:$A$14)+1-2018)>=2,年の入力!$B$1-ROWS($A5:$A$14)+1-2018, DBCS(年の入力!$B$1-ROWS($A5:$A$14)+1-2018))&"年", IF(年の入力!$B$1-ROWS($A5:$A$14)+1=2019,"令和元年","平成"&年の入力!$B$1-ROWS($A5:$A$14)+1-1988&"年" )) -> 平成26年 | C4: 1494 | D4: 1212 | E4: 1313 | F4: 1220 | G4: 1054 | H4: 820 | I4: 867 | J4: 833 | K4: 833 | L4: 874 | M4: 1027 | N4: 1375 | O4: 12922
B5: =IF(年の入力!$B$1-ROWS($A6:$A$14)+1>2019, "令和"&IF(LEN(年の入力!$B$1-ROWS($A6:$A$14)+1-2018)>=2,年の入力!$B$1-ROWS($A6:$A$14)+1-2018, DBCS(年の入力!$B$1-ROWS($A6:$A$14)+1-2018))&"年", IF(年の入力!$B$1-ROWS($A6:$A$14)+1=2019,"令和元年","平成"&年の入力!$B$1-ROWS($A6:$A$14)+1-1988&"年" )) -> 平成27年 | C5: 1391 | D5: 1194 | E5: 1346 | F5: 1065 | G5: 1003 | H5: 771 | I5: 816 | J5: 829 | K5: 746 | L5: 960 | M5: 844 | N5: 1132 | O5: 12097
B6: =IF(年の入力!$B$1-ROWS($A7:$A$14)+1>2019, "令和"&IF(LEN(年の入力!$B$1-ROWS($A7:$A$14)+1-2018)>=2,年の入力!$B$1-ROWS($A7:$A$14)+1-2018, DBCS(年の入力!$B$1-ROWS($A7:$A$14)+1-2018))&"年", IF(年の入力!$B$1-ROWS($A7:$A$14)+1=2019,"令和元年","平成"&年の入力!$B$1-ROWS($A7:$A$14)+1-1988&"年" )) -> 平成28年 | C6: 1329 | D6: 1132 | E6: 1163 | F6: 974 | G6: 963 | H6: 697 | I6: 711 | J6: 839 | K6: 673 | L6: 843 | M6: 914 | N6: 1116 | O6: 11354
B7: =IF(年の入力!$B$1-ROWS($A8:$A$14)+1>2019, "令和"&IF(LEN(年の入力!$B$1-ROWS($A8:$A$14)+1-2018)>=2,年の入力!$B$1-ROWS($A8:$A$14)+1-2018, DBCS(年の入力!$B$1-ROWS($A8:$A$14)+1-2018))&"年", IF(年の入力!$B$1-ROWS($A8:$A$14)+1=2019,"令和元年","平成"&年の入力!$B$1-ROWS($A8:$A$14)+1-1988&"年" )) -> 平成29年 | C7: 1300 | D7: 1148 | E7: 1180 | F7: 1006 | G7: 923 | H7: 804 | I7: 701 | J7: 751 | K7: 700 | L7: 710 | M7: 959 | N7: 1226 | O7: 11408
B8: =IF(年の入力!$B$1-ROWS($A9:$A$14)+1>2019, "令和"&IF(LEN(年の入力!$B$1-ROWS($A9:$A$14)+1-2018)>=2,年の入力!$B$1-ROWS($A9:$A$14)+1-2018, DBCS(年の入力!$B$1-ROWS($A9:$A$14)+1-2018))&"年", IF(年の入力!$B$1-ROWS($A9:$A$14)+1=2019,"令和元年","平成"&年の入力!$B$1-ROWS($A9:$A$14)+1-1988&"年" )) -> 平成30年 | C8: 1352 | D8: 1178 | E8: 1076 | F8: 966 | G8: 828 | H8: 621 | I8: 780 | J8: 790 | K8: 652 | L8: 770 | M8: 839 | N8: 1167 | O8: 11019
B9: =IF(年の入力!$B$1-ROWS($A10:$A$14)+1>2019, "令和"&IF(LEN(年の入力!$B$1-ROWS($A10:$A$14)+1-2018)>=2,年の入力!$B$1-ROWS($A10:$A$14)+1-2018, DBCS(年の入力!$B$1-ROWS($A10:$A$14)+1-2018))&"年", IF(年の入力!$B$1-ROWS($A10:$A$14)+1=2019,"令和元年","平成"&年の入力!$B$1-ROWS($A10:$A$14)+1-1988&"年" )) -> 令和元年 | C9: 1269 | D9: 1065 | E9: 1030 | F9: 1049 | G9: 926 | H9: 659 | I9: 640 | J9: 768 | K9: 671 | L9: 760 | M9: 919 | N9: 1028 | O9: 10784
B10: =IF(年の入力!$B$1-ROWS($A11:$A$14)+1>2019, "令和"&IF(LEN(年の入力!$B$1-ROWS($A11:$A$14)+1-2018)>=2,年の入力!$B$1-ROWS($A11:$A$14)+1-2018, DBCS(年の入力!$B$1-ROWS($A11:$A$14)+1-2018))&"年", IF(年の入力!$B$1-ROWS($A11:$A$14)+1=2019,"令和元年","平成"&年の入力!$B$1-ROWS($A11:$A$14)+1-1988&"年" )) -> 令和２年 | C10: 1076 | D10: 1056 | E10: 1004 | F10: 987 | G10: 883 | H10: 709 | I10: 611 | J10: 796 | K10: 664 | L10: 726 | M10: 865 | N10: 1187 | O10: 10564
B11: =IF(年の入力!$B$1-ROWS($A12:$A$14)+1>2019, "令和"&IF(LEN(年の入力!$B$1-ROWS($A12:$A$14)+1-2018)>=2,年の入力!$B$1-ROWS($A12:$A$14)+1-2018, DBCS(年の入力!$B$1-ROWS($A12:$A$14)+1-2018))&"年", IF(年の入力!$B$1-ROWS($A12:$A$14)+1=2019,"令和元年","平成"&年の入力!$B$1-ROWS($A12:$A$14)+1-1988&"年" )) -> 令和３年 | C11: 1305 | D11: 1110 | E11: 1042 | F11: 997 | G11: 820 | H11: 699 | I11: 784 | J11: 712 | K11: 645 | L11: 785 | M11: 922 | N11: 1115 | O11: 10936
B12: =IF(年の入力!$B$1-ROWS($A13:$A$14)+1>2019, "令和"&IF(LEN(年の入力!$B$1-ROWS($A13:$A$14)+1-2018)>=2,年の入力!$B$1-ROWS($A13:$A$14)+1-2018, DBCS(年の入力!$B$1-ROWS($A13:$A$14)+1-2018))&"年", IF(年の入力!$B$1-ROWS($A13:$A$14)+1=2019,"令和元年","平成"&年の入力!$B$1-ROWS($A13:$A$14)+1-1988&"年" )) -> 令和４年 | C12: 1374 | D12: 1198 | E12: 1120 | F12: 919 | G12: 826 | H12: 753 | I12: 708 | J12: 793 | K12: 685 | L12: 816 | M12: 902 | N12: 1317 | O12: 11411
B13: =IF(年の入力!$B$1-ROWS($A14:$A$14)+1>2019, "令和"&IF(LEN(年の入力!$B$1-ROWS($A14:$A$14)+1-2018)>=2,年の入力!$B$1-ROWS($A14:$A$14)+1-2018, DBCS(年の入力!$B$1-ROWS($A14:$A$14)+1-2018))&"年", IF(年の入力!$B$1-ROWS($A14:$A$14)+1=2019,"令和元年","平成"&年の入力!$B$1-ROWS($A14:$A$14)+1-1988&"年" )) -> 令和５年 | C13: 1385 | D13: 1160 | E13: 1133 | F13: 1042 | G13: 999 | H13: 783 | I13: 815 | J13: 825 | K13: 776 | L13: 939 | M13: 977 | N13: 1278 | O13: 12112

Sheet 概況_第４４表
B1: ="概況_第４４表 住宅火災における出火原因別出火件数"&"【令和"&IF(LEN(年の入力!$B$1-2018)>=2,年の入力!$B$1-2018, DBCS(年の入力!$B$1-2018))&"年】" -> 概況_第４４表 住宅火災における出火原因別出火件数【令和５年】
B3: 出火原因 | C3: 出火件数
B4: こんろ | C4: 1792
B5: たばこ | C5: 1401
B6: ストーブ | C6: 818
B7: 電気機器 | C7: 769
B8: 放火 | C8: 751
B9: 配線器具 | C9: 716
B10: 電灯電話等の配線 | C10: 555
B11: 放火の疑い | C11: 339
B12: 灯火 | C12: 336
B13: たき火 | C13: 236
B14: マッチ・ライター | C14: 170
B15: 風呂かまど | C15: 106
... B33: 計 | C33: 12112

Sheet 概況_第４５表
B1: 概況_第４５表 住宅火災死者数の月別推移
B3: 年 | C3: 1月 | D3: 2月 | E3: 3月 | F3: 4月 | G3: 5月 | H3: 6月 | I3: 7月 | J3: 8月 | K3: 9月 | L3: 10月 | M3: 11月 | N3: 12月 | O3: 計
B4: =IF(年の入力!$B$1-ROWS($A5:$A$14)+1>2019, "令和"&IF(LEN(年の入力!$B$1-ROWS($A5:$A$14)+1-2018)>=2,年の入力!$B$1-ROWS($A5:$A$14)+1-2018, DBCS(年の入力!$B$1-ROWS($A5:$A$14)+1-2018))&"年", IF(年の入力!$B$1-ROWS($A5:$A$14)+1=2019,"令和元年","平成"&年の入力!$B$1-ROWS($A5:$A$14)+1-1988&"年" )) -> 平成26年 | C4: 182 | D4: 141 | E4: 124 | F4: 90 | G4: 56 | H4: 33 | I4: 53 | J4: 50 | K4: 60 | L4: 60 | M4: 84 | N4: 189 | O4: 1122
B5: =IF(年の入力!$B$1-ROWS($A6:$A$14)+1>2019, "令和"&IF(LEN(年の入力!$B$1-ROWS($A6:$A$14)+1-2018)>=2,年の入力!$B$1-ROWS($A6:$A$14)+1-2018, DBCS(年の入力!$B$1-ROWS($A6:$A$14)+1-2018))&"年", IF(年の入力!$B$1-ROWS($A6:$A$14)+1=2019,"令和元年","平成"&年の入力!$B$1-ROWS($A6:$A$14)+1-1988&"年" )) -> 平成27年 | C5: 162 | D5: 132 | E5: 117 | F5: 95 | G5: 69 | H5: 47 | I5: 47 | J5: 51 | K5: 44 | L5: 72 | M5: 82 | N5: 102 | O5: 1020
B6: =IF(年の入力!$B$1-ROWS($A7:$A$14)+1>2019, "令和"&IF(LEN(年の入力!$B$1-ROWS($A7:$A$14)+1-2018)>=2,年の入力!$B$1-ROWS($A7:$A$14)+1-2018, DBCS(年の入力!$B$1-ROWS($A7:$A$14)+1-2018))&"年", IF(年の入力!$B$1-ROWS($A7:$A$14)+1=2019,"令和元年","平成"&年の入力!$B$1-ROWS($A7:$A$14)+1-1988&"年" )) -> 平成28年 | C6: 133 | D6: 133 | E6: 131 | F6: 86 | G6: 64 | H6: 42 | I6: 44 | J6: 29 | K6: 39 | L6: 48 | M6: 113 | N6: 125 | O6: 987
B7: =IF(年の入力!$B$1-ROWS($A8:$A$14)+1>2019, "令和"&IF(LEN(年の入力!$B$1-ROWS($A8:$A$14)+1-2018)>=2,年の入力!$B$1-ROWS($A8:$A$14)+1-2018, DBCS(年の入力!$B$1-ROWS($A8:$A$14)+1-2018))&"年", IF(年の入力!$B$1-ROWS($A8:$A$14)+1=2019,"令和元年","平成"&年の入力!$B$1-ROWS($A8:$A$14)+1-1988&"年" )) -> 平成29年 | C7: 137 | D7: 132 | E7: 100 | F7: 101 | G7: 63 | H7: 61 | I7: 39 | J7: 46 | K7: 39 | L7: 47 | M7: 92 | N7: 128 | O7: 985
B8: =IF(年の入力!$B$1-ROWS($A9:$A$14)+1>2019, "令和"&IF(LEN(年の入力!$B$1-ROWS($A9:$A$14)+1-2018)>=2,年の入力!$B$1-ROWS($A9:$A$14)+1-2018, DBCS(年の入力!$B$1-ROWS($A9:$A$14)+1-2018))&"年", IF(年の入力!$B$1-ROWS($A9:$A$14)+1=2019,"令和元年","平成"&年の入力!$B$1-ROWS($A9:$A$14)+1-1988&"年" )) -> 平成30年 | C8: 166 | D8: 173 | E8: 110 | F8: 90 | G8: 63 | H8: 39 | I8: 35 | J8: 31 | K8: 38 | L8: 63 | M8: 77 | N8: 143 | O8: 1028
B9: =IF(年の入力!$B$1-ROWS($A10:$A$14)+1>2019, "令和"&IF(LEN(年の入力!$B$1-ROWS($A10:$A$14)+1-2018)>=2,年の入力!$B$1-ROWS($A10:$A$14)+1-2018, DBCS(年の入力!$B$1-ROWS($A10:$A$14)+1-2018))&"年", IF(年の入力!$B$1-ROWS($A10:$A$14)+1=2019,"令和元年","平成"&年の入力!$B$1-ROWS($A10:$A$14)+1-1988&"年" )) -> 令和元年 | C9: 166 | D9: 121 | E9: 103 | F9: 104 | G9: 71 | H9: 41 | I9: 48 | J9: 44 | K9: 41 | L9: 61 | M9: 92 | N9: 108 | O9: 1000
B10: =IF(年の入力!$B$1-ROWS($A11:$A$14)+1>2019, "令和"&IF(LEN(年の入力!$B$1-ROWS($A11:$A$14)+1-2018)>=2,年の入力!$B$1-ROWS($A11:$A$14)+1-2018, DBCS(年の入力!$B$1-ROWS($A11:$A$14)+1-2018))&"年", IF(年の入力!$B$1-ROWS($A11:$A$14)+1=2019,"令和元年","平成"&年の入力!$B$1-ROWS($A11:$A$14)+1-1988&"年" )) -> 令和２年 | C10: 121 | D10: 126 | E10: 130 | F10: 69 | G10: 57 | H10: 45 | I10: 41 | J10: 43 | K10: 44 | L10: 70 | M10: 85 | N10: 142 | O10: 973
B11: =IF(年の入力!$B$1-ROWS($A12:$A$14)+1>2019, "令和"&IF(LEN(年の入力!$B$1-ROWS($A12:$A$14)+1-2018)>=2,年の入力!$B$1-ROWS($A12:$A$14)+1-2018, DBCS(年の入力!$B$1-ROWS($A12:$A$14)+1-2018))&"年", IF(年の入力!$B$1-ROWS($A12:$A$14)+1=2019,"令和元年","平成"&年の入力!$B$1-ROWS($A12:$A$14)+1-1988&"年" )) -> 令和３年 | C11: 176 | D11: 96 | E11: 145 | F11: 90 | G11: 60 | H11: 68 | I11: 51 | J11: 42 | K11: 43 | L11: 60 | M11: 110 | N11: 117 | O11: 1058
B12: =IF(年の入力!$B$1-ROWS($A13:$A$14)+1>2019, "令和"&IF(LEN(年の入力!$B$1-ROWS($A13:$A$14)+1-2018)>=2,年の入力!$B$1-ROWS($A13:$A$14)+1-2018, DBCS(年の入力!$B$1-ROWS($A13:$A$14)+1-2018))&"年", IF(年の入力!$B$1-ROWS($A13:$A$14)+1=2019,"令和元年","平成"&年の入力!$B$1-ROWS($A13:$A$14)+1-1988&"年" )) -> 令和４年 | C12: 177 | D12: 155 | E12: 112 | F12: 70 | G12: 65 | H12: 45 | I12: 39 | J12: 39 | K12: 38 | L12: 68 | M12: 85 | N12: 172 | O12: 1065
B13: =IF(年の入力!$B$1-ROWS($A14:$A$14)+1>2019, "令和"&IF(LEN(年の入力!$B$1-ROWS($A14:$A$14)+1-2018)>=2,年の入力!$B$1-ROWS($A14:$A$14)+1-2018, DBCS(年の入力!$B$1-ROWS($A14:$A$14)+1-2018))&"年", IF(年の入力!$B$1-ROWS($A14:$A$14)+1=2019,"令和元年","平成"&年の入力!$B$1-ROWS($A14:$A$14)+1-1988&"年" )) -> 令和５年 | C13: 173 | D13: 137 | E13: 131 | F13: 94 | G13: 87 | H13: 64 | I13: 48 | J13: 39 | K13: 47 | L13: 65 | M13: 107 | N13: 135 | O13: 1127

Sheet 概況_第４６表
B1: 概況_第４６表 住宅火災（放火自殺者等を除く）の月別死者数と住宅火災（放火を除く）件数の推移
B3: 年 | C3: 1月 | D3: 2月 | E3: 3月 | F3: 4月 | G3: 5月 | H3: 6月 | I3: 7月 | J3: 8月 | K3: 9月 | L3: 10月 | M3: 11月 | N3: 12月 | O3: 計
B4: =IF(年の入力!$B$1-ROWS($A5:$A$14)+1>2019, "令和"&IF(LEN(年の入力!$B$1-ROWS($A5:$A$14)+1-2018)>=2,年の入力!$B$1-ROWS($A5:$A$14)+1-2018, DBCS(年の入力!$B$1-ROWS($A5:$A$14)+1-2018))&"年", IF(年の入力!$B$1-ROWS($A5:$A$14)+1=2019,"令和元年","平成"&年の入力!$B$1-ROWS($A5:$A$14)+1-1988&"年" )) -> 平成26年 | C4: 164 | D4: 134 | E4: 111 | F4: 76 | G4: 46 | H4: 29 | I4: 43 | J4: 42 | K4: 52 | L4: 52 | M4: 78 | N4: 179 | O4: 1006
B5: =IF(年の入力!$B$1-ROWS($A6:$A$14)+1>2019, "令和"&IF(LEN(年の入力!$B$1-ROWS($A6:$A$14)+1-2018)>=2,年の入力!$B$1-ROWS($A6:$A$14)+1-2018, DBCS(年の入力!$B$1-ROWS($A6:$A$14)+1-2018))&"年", IF(年の入力!$B$1-ROWS($A6:$A$14)+1=2019,"令和元年","平成"&年の入力!$B$1-ROWS($A6:$A$14)+1-1988&"年" )) -> 平成27年 | C5: 147 | D5: 124 | E5: 101 | F5: 85 | G5: 62 | H5: 42 | I5: 34 | J5: 46 | K5: 41 | L5: 64 | M5: 77 | N5: 91 | O5: 914
B6: =IF(年の入力!$B$1-ROWS($A7:$A$14)+1>2019, "令和"&IF(LEN(年の入力!$B$1-ROWS($A7:$A$14)+1-2018)>=2,年の入力!$B$1-ROWS($A7:$A$14)+1-2018, DBCS(年の入力!$B$1-ROWS($A7:$A$14)+1-2018))&"年", IF(年の入力!$B$1-ROWS($A7:$A$14)+1=2019,"令和元年","平成"&年の入力!$B$1-ROWS($A7:$A$14)+1-1988&"年" )) -> 平成28年 | C6: 123 | D6: 121 | E6: 120 | F6: 76 | G6: 55 | H6: 37 | I6: 39 | J6: 25 | K6: 34 | L6: 45 | M6: 97 | N6: 113 | O6: 885
B7: =IF(年の入力!$B$1-ROWS($A8:$A$14)+1>2019, "令和"&IF(LEN(年の入力!$B$1-ROWS($A8:$A$14)+1-2018)>=2,年の入力!$B$1-ROWS($A8:$A$14)+1-2018, DBCS(年の入力!$B$1-ROWS($A8:$A$14)+1-2018))&"年", IF(年の入力!$B$1-ROWS($A8:$A$14)+1=2019,"令和元年","平成"&年の入力!$B$1-ROWS($A8:$A$14)+1-1988&"年" )) -> 平成29年 | C7: 132 | D7: 120 | E7: 86 | F7: 88 | G7: 55 | H7: 51 | I7: 37 | J7: 42 | K7: 35 | L7: 42 | M7: 82 | N7: 119 | O7: 889
B8: =IF(年の入力!$B$1-ROWS($A9:$A$14)+1>2019, "令和"&IF(LEN(年の入力!$B$1-ROWS($A9:$A$14)+1-2018)>=2,年の入力!$B$1-ROWS($A9:$A$14)+1-2018, DBCS(年の入力!$B$1-ROWS($A9:$A$14)+1-2018))&"年", IF(年の入力!$B$1-ROWS($A9:$A$14)+1=2019,"令和元年","平成"&年の入力!$B$1-ROWS($A9:$A$14)+1-1988&"年" )) -> 平成30年 | C8: 160 | D8: 163 | E8: 104 | F8: 82 | G8: 57 | H8: 32 | I8: 31 | J8: 28 | K8: 28 | L8: 57 | M8: 70 | N8: 134 | O8: 946
B9: =IF(年の入力!$B$1-ROWS($A10:$A$14)+1>2019, "令和"&IF(LEN(年の入力!$B$1-ROWS($A10:$A$14)+1-2018)>=2,年の入力!$B$1-ROWS($A10:$A$14)+1-2018, DBCS(年の入力!$B$1-ROWS($A10:$A$14)+1-2018))&"年", IF(年の入力!$B$1-ROWS($A10:$A$14)+1=2019,"令和元年","平成"&年の入力!$B$1-ROWS($A10:$A$14)+1-1988&"年" )) -> 令和元年 | C9: 155 | D9: 117 | E9: 97 | F9: 94 | G9: 64 | H9: 37 | I9: 40 | J9: 40 | K9: 34 | L9: 49 | M9: 83 | N9: 89 | O9: 899
B10: =IF(年の入力!$B$1-ROWS($A11:$A$14)+1>2019, "令和"&IF(LEN(年の入力!$B$1-ROWS($A11:$A$14)+1-2018)>=2,年の入力!$B$1-ROWS($A11:$A$14)+1-2018, DBCS(年の入力!$B$1-ROWS($A11:$A$14)+1-2018))&"年", IF(年の入力!$B$1-ROWS($A11:$A$14)+1=2019,"令和元年","平成"&年の入力!$B$1-ROWS($A11:$A$14)+1-1988&"年" )) -> 令和２年 | C10: 115 | D10: 118 | E10: 122 | F10: 68 | G10: 53 | H10: 35 | I10: 34 | J10: 37 | K10: 40 | L10: 65 | M10: 77 | N10: 135 | O10: 899
B11: =IF(年の入力!$B$1-ROWS($A12:$A$14)+1>2019, "令和"&IF(LEN(年の入力!$B$1-ROWS($A12:$A$14)+1-2018)>=2,年の入力!$B$1-ROWS($A12:$A$14)+1-2018, DBCS(年の入力!$B$1-ROWS($A12:$A$14)+1-2018))&"年", IF(年の入力!$B$1-ROWS($A12:$A$14)+1=2019,"令和元年","平成"&年の入力!$B$1-ROWS($A12:$A$14)+1-1988&"年" )) -> 令和３年 | C11: 164 | D11: 91 | E11: 128 | F11: 82 | G11: 53 | H11: 64 | I11: 49 | J11: 35 | K11: 40 | L11: 53 | M11: 98 | N11: 109 | O11: 966
B12: =IF(年の入力!$B$1-ROWS($A13:$A$14)+1>2019, "令和"&IF(LEN(年の入力!$B$1-ROWS($A13:$A$14)+1-2018)>=2,年の入力!$B$1-ROWS($A13:$A$14)+1-2018, DBCS(年の入力!$B$1-ROWS($A13:$A$14)+1-2018))&"年", IF(年の入力!$B$1-ROWS($A13:$A$14)+1=2019,"令和元年","平成"&年の入力!$B$1-ROWS($A13:$A$14)+1-1988&"年" )) -> 令和４年 | C12: 164 | D12: 144 | E12: 106 | F12: 62 | G12: 56 | H12: 39 | I12: 32 | J12: 33 | K12: 38 | L12: 63 | M12: 73 | N12: 162 | O12: 972
B13: =IF(年の入力!$B$1-ROWS($A14:$A$14)+1>2019, "令和"&IF(LEN(年の入力!$B$1-ROWS($A14:$A$14)+1-2018)>=2,年の入力!$B$1-ROWS($A14:$A$14)+1-2018, DBCS(年の入力!$B$1-ROWS($A14:$A$14)+1-2018))&"年", IF(年の入力!$B$1-ROWS($A14:$A$14)+1=2019,"令和元年","平成"&年の入力!$B$1-ROWS($A14:$A$14)+1-1988&"年" )) -> 令和５年 | C13: 162 | D13: 130 | E13: 119 | F13: 82 | G13: 83 | H13: 52 | I13: 45 | J13: 31 | K13: 38 | L13: 53 | M13: 102 | N13: 126 | O13: 1023

Sheet 概況_第４７表
B1: ="概況_第４７表 林野火災の推移（"&$B$4&"を100とする指数）" -> 概況_第４７表 林野火災の推移（平成26年を100とする指数）
B3: 年 | C3: 林野損害額 | D3: 林野火災件数 | E3: 林野焼損面積
B4: =IF(年の入力!$B$1-ROWS($A5:$A$14)+1>2019, "令和"&IF(LEN(年の入力!$B$1-ROWS($A5:$A$14)+1-2018)>=2,年の入力!$B$1-ROWS($A5:$A$14)+1-2018, DBCS(年の入力!$B$1-ROWS($A5:$A$14)+1-2018))&"年", IF(年の入力!$B$1-ROWS($A5:$A$14)+1=2019,"令和元年","平成"&年の入力!$B$1-ROWS($A5:$A$14)+1-1988&"年" )) -> 平成26年 | C4: 100 | D4: 100 | E4: 100
B5: =IF(年の入力!$B$1-ROWS($A6:$A$14)+1>2019, "令和"&IF(LEN(年の入力!$B$1-ROWS($A6:$A$14)+1-2018)>=2,年の入力!$B$1-ROWS($A6:$A$14)+1-2018, DBCS(年の入力!$B$1-ROWS($A6:$A$14)+1-2018))&"年", IF(年の入力!$B$1-ROWS($A6:$A$14)+1=2019,"令和元年","平成"&年の入力!$B$1-ROWS($A6:$A$14)+1-1988&"年" )) -> 平成27年 | C5: 18.628065 | D5: 74.029451 | E5: 50.70916
B6: =IF(年の入力!$B$1-ROWS($A7:$A$14)+1>2019, "令和"&IF(LEN(年の入力!$B$1-ROWS($A7:$A$14)+1-2018)>=2,年の入力!$B$1-ROWS($A7:$A$14)+1-2018, DBCS(年の入力!$B$1-ROWS($A7:$A$14)+1-2018))&"年", IF(年の入力!$B$1-ROWS($A7:$A$14)+1=2019,"令和元年","平成"&年の入力!$B$1-ROWS($A7:$A$14)+1-1988&"年" )) -> 平成28年 | C6: 11.481467 | D6: 68.741633 | E6: 36.174681
B7: =IF(年の入力!$B$1-ROWS($A8:$A$14)+1>2019, "令和"&IF(LEN(年の入力!$B$1-ROWS($A8:$A$14)+1-2018)>=2,年の入力!$B$1-ROWS($A8:$A$14)+1-2018, DBCS(年の入力!$B$1-ROWS($A8:$A$14)+1-2018))&"年", IF(年の入力!$B$1-ROWS($A8:$A$14)+1=2019,"令和元年","平成"&年の入力!$B$1-ROWS($A8:$A$14)+1-1988&"年" )) -> 平成29年 | C7: 65.767066 | D7: 85.943775 | E7: 88.346424
B8: =IF(年の入力!$B$1-ROWS($A9:$A$14)+1>2019, "令和"&IF(LEN(年の入力!$B$1-ROWS($A9:$A$14)+1-2018)>=2,年の入力!$B$1-ROWS($A9:$A$14)+1-2018, DBCS(年の入力!$B$1-ROWS($A9:$A$14)+1-2018))&"年", IF(年の入力!$B$1-ROWS($A9:$A$14)+1=2019,"令和元年","平成"&年の入力!$B$1-ROWS($A9:$A$14)+1-1988&"年" )) -> 平成30年 | C8: 14.781942 | D8: 91.231593 | E8: 57.094423
B9: =IF(年の入力!$B$1-ROWS($A10:$A$14)+1>2019, "令和"&IF(LEN(年の入力!$B$1-ROWS($A10:$A$14)+1-2018)>=2,年の入力!$B$1-ROWS($A10:$A$14)+1-2018, DBCS(年の入力!$B$1-ROWS($A10:$A$14)+1-2018))&"年", IF(年の入力!$B$1-ROWS($A10:$A$14)+1=2019,"令和元年","平成"&年の入力!$B$1-ROWS($A10:$A$14)+1-1988&"年" )) -> 令和元年 | C9: 19.627615 | D9: 93.105756 | E9: 78.780773
B10: =IF(年の入力!$B$1-ROWS($A11:$A$14)+1>2019, "令和"&IF(LEN(年の入力!$B$1-ROWS($A11:$A$14)+1-2018)>=2,年の入力!$B$1-ROWS($A11:$A$14)+1-2018, DBCS(年の入力!$B$1-ROWS($A11:$A$14)+1-2018))&"年", IF(年の入力!$B$1-ROWS($A11:$A$14)+1=2019,"令和元年","平成"&年の入力!$B$1-ROWS($A11:$A$14)+1-1988&"年" )) -> 令和２年 | C10: 14.716639 | D10: 82.931727 | E10: 42.27176
B11: =IF(年の入力!$B$1-ROWS($A12:$A$14)+1>2019, "令和"&IF(LEN(年の入力!$B$1-ROWS($A12:$A$14)+1-2018)>=2,年の入力!$B$1-ROWS($A12:$A$14)+1-2018, DBCS(年の入力!$B$1-ROWS($A12:$A$14)+1-2018))&"年", IF(年の入力!$B$1-ROWS($A12:$A$14)+1=2019,"令和元年","平成"&年の入力!$B$1-ROWS($A12:$A$14)+1-1988&"年" )) -> 令和３年 | C11: 12.886272 | D11: 82.128514 | E11: 74.350643
B12: =IF(年の入力!$B$1-ROWS($A13:$A$14)+1>2019, "令和"&IF(LEN(年の入力!$B$1-ROWS($A13:$A$14)+1-2018)>=2,年の入力!$B$1-ROWS($A13:$A$14)+1-2018, DBCS(年の入力!$B$1-ROWS($A13:$A$14)+1-2018))&"年", IF(年の入力!$B$1-ROWS($A13:$A$14)+1=2019,"令和元年","平成"&年の入力!$B$1-ROWS($A13:$A$14)+1-1988&"年" )) -> 令和４年 | C12: 25.17708 | D12: 82.931727 | E12: 56.993652
B13: =IF(年の入力!$B$1-ROWS($A14:$A$14)+1>2019, "令和"&IF(LEN(年の入力!$B$1-ROWS($A14:$A$14)+1-2018)>=2,年の入力!$B$1-ROWS($A14:$A$14)+1-2018, DBCS(年の入力!$B$1-ROWS($A14:$A$14)+1-2018))&"年", IF(年の入力!$B$1-ROWS($A14:$A$14)+1=2019,"令和元年","平成"&年の入力!$B$1-ROWS($A14:$A$14)+1-1988&"年" )) -> 令和５年 | C13: 9.1443118 | D13: 86.947791 | E13: 79.466388

Sheet 概況_第４８表
B1: ="概況_第４８表 出火原因別の林野火災件数"&"【令和"&IF(LEN(年の入力!$B$1-2018)>=2,年の入力!$B$1-2018, DBCS(年の入力!$B$1-2018))&"年】" -> 概況_第４８表 出火原因別の林野火災件数【令和５年】
B3: 出火原因 | C3: 件数
B4: たき火 | C4: 416
B5: 火入れ | C5: 247
B6: 放火の疑い | C6: 64
B7: たばこ | C7: 49
B8: 放火 | C8: 34
B9: マッチ・ライター | C9: 32
B10: 焼却炉 | C10: 19
B11: 取灰 | C11: 11
B12: 電灯電話等の配線 | C12: 7
B13: 火あそび | C13: 7
B14: 排気管 | C14: 3
B15: こんろ | C15: 1
... B32: 不明・調査中 | C32: 141
B33: 計 | C33: =SUM(C4:C32) -> 1299

Sheet 概況_第４９表
B1: ="概況_第４９表 林野火災の焼損面積段階別損害状況"&"【令和"&IF(LEN(年の入力!$B$1-2018)>=2,年の入力!$B$1-2018, DBCS(年の入力!$B$1-2018))&"年】" -> 概況_第４９表 林野火災の焼損面積段階別損害状況【令和５年】
C3: 1a未満 | D3: 1a以上 5a未満 | E3: 5a以上 10a未満 | F3: 10a以上 50a未満 | G3: 50a以上 1ha未満 | H3: 1ha以上 2ha未満 | I3: 2ha以上 3ha未満 | J3: 3ha以上 5ha未満 | K3: 5ha以上 10ha未満 | L3: 10ha以上 20ha未満 | M3: 20ha以上 30ha未満 | N3: 30ha以上 40ha未満 | O3: 40ha以上 50ha未満 | P3: 50ha以上 | Q3: 計
B4: 林野火災件数 | C4: 241 | D4: 525 | E4: 163 | F4: 248 | G4: 58 | H4: 27 | I4: 6 | J4: 10 | K4: 7 | L4: 7 | M4: 2 | N4: 2 | O4: 0 | P4: 3 | Q4: 1299
B5: 林野焼損面積（a） | C5: 0 | D5: 1360 | E5: 1408 | F5: 6449 | G5: 4622 | H5: 4143 | I5: 2571 | J5: 3864 | K5: 4797 | L5: 9707 | M5: 4801 | N5: 7100 | O5: 0 | P5: 33557 | Q5: 84379
B6: １件当たりの放水ポンプ台数 | C6: 1.813278 | D6: 2.342857 | E6: 3.190184 | F6: 4.318548 | G6: 5.982758 | H6: 5.407407 | I6: 3.666666 | J6: 4.2 | K6: 5.428571 | L6: 27.857142 | M6: 3 | N6: 34 | O6: 0 | P6: 29.666666 | Q6: 3.2417244
B7: 損害額（千円） | C7: 2867 | D7: 12149 | E7: 6280 | F7: 26266 | G7: 16750 | H7: 5871 | I7: 3881 | J7: 1791 | K7: 15924 | L7: 21658 | M7: 4 | N7: 4877 | O7: 0 | P7: 6869 | Q7: 125187

Sheet 概況_第５０表
B1: ="概況_第５０表 林野火災の月別出火件数"&"【令和"&IF(LEN(年の入力!$B$1-2018)>=2,年の入力!$B$1-2018, DBCS(年の入力!$B$1-2018))&"年】" -> 概況_第５０表 林野火災の月別出火件数【令和５年】
B3: 出火・月 | C3: 件数
B4: 1月 | C4: 115
B5: 2月 | C5: 132
B6: 3月 | C6: 325
B7: 4月 | C7: 222
B8: 5月 | C8: 85
B9: 6月 | C9: 19
B10: 7月 | C10: 44
B11: 8月 | C11: 81
B12: 9月 | C12: 30
B13: 10月 | C13: 85
B14: 11月 | C14: 72
B15: 12月 | C15: 89
B16: 計 | C16: 1299

Sheet 概況_第５１表
B1: ="概況_第５１表 車両火災の推移（"&$B$4&"を100とする指数）" -> 概況_第５１表 車両火災の推移（平成26年を100とする指数）
B3: 年 | C3: 車両損害額 | D3: 車両火災件数
B4: =IF(年の入力!$B$1-ROWS($A5:$A$14)+1>2019, "令和"&IF(LEN(年の入力!$B$1-ROWS($A5:$A$14)+1-2018)>=2,年の入力!$B$1-ROWS($A5:$A$14)+1-2018, DBCS(年の入力!$B$1-ROWS($A5:$A$14)+1-2018))&"年", IF(年の入力!$B$1-ROWS($A5:$A$14)+1=2019,"令和元年","平成"&年の入力!$B$1-ROWS($A5:$A$14)+1-1988&"年" )) -> 平成26年 | C4: 100 | D4: 100
B5: =IF(年の入力!$B$1-ROWS($A6:$A$14)+1>2019, "令和"&IF(LEN(年の入力!$B$1-ROWS($A6:$A$14)+1-2018)>=2,年の入力!$B$1-ROWS($A6:$A$14)+1-2018, DBCS(年の入力!$B$1-ROWS($A6:$A$14)+1-2018))&"年", IF(年の入力!$B$1-ROWS($A6:$A$14)+1=2019,"令和元年","平成"&年の入力!$B$1-ROWS($A6:$A$14)+1-1988&"年" )) -> 平成27年 | C5: 82.464017 | D5: 93.754197
B6: =IF(年の入力!$B$1-ROWS($A7:$A$14)+1>2019, "令和"&IF(LEN(年の入力!$B$1-ROWS($A7:$A$14)+1-2018)>=2,年の入力!$B$1-ROWS($A7:$A$14)+1-2018, DBCS(年の入力!$B$1-ROWS($A7:$A$14)+1-2018))&"年", IF(年の入力!$B$1-ROWS($A7:$A$14)+1=2019,"令和元年","平成"&年の入力!$B$1-ROWS($A7:$A$14)+1-1988&"年" )) -> 平成28年 | C6: 87.351322 | D6: 90.732035
B7: =IF(年の入力!$B$1-ROWS($A8:$A$14)+1>2019, "令和"&IF(LEN(年の入力!$B$1-ROWS($A8:$A$14)+1-2018)>=2,年の入力!$B$1-ROWS($A8:$A$14)+1-2018, DBCS(年の入力!$B$1-ROWS($A8:$A$14)+1-2018))&"年", IF(年の入力!$B$1-ROWS($A8:$A$14)+1=2019,"令和元年","平成"&年の入力!$B$1-ROWS($A8:$A$14)+1-1988&"年" )) -> 平成29年 | C7: 86.971911 | D7: 86.478621
B8: =IF(年の入力!$B$1-ROWS($A9:$A$14)+1>2019, "令和"&IF(LEN(年の入力!$B$1-ROWS($A9:$A$14)+1-2018)>=2,年の入力!$B$1-ROWS($A9:$A$14)+1-2018, DBCS(年の入力!$B$1-ROWS($A9:$A$14)+1-2018))&"年", IF(年の入力!$B$1-ROWS($A9:$A$14)+1=2019,"令和元年","平成"&年の入力!$B$1-ROWS($A9:$A$14)+1-1988&"年" )) -> 平成30年 | C8: 84.844053 | D8: 81.934184
B9: =IF(年の入力!$B$1-ROWS($A10:$A$14)+1>2019, "令和"&IF(LEN(年の入力!$B$1-ROWS($A10:$A$14)+1-2018)>=2,年の入力!$B$1-ROWS($A10:$A$14)+1-2018, DBCS(年の入力!$B$1-ROWS($A10:$A$14)+1-2018))&"年", IF(年の入力!$B$1-ROWS($A10:$A$14)+1=2019,"令和元年","平成"&年の入力!$B$1-ROWS($A10:$A$14)+1-1988&"年" )) -> 令和元年 | C9: 86.06087 | D9: 80.255205
B10: =IF(年の入力!$B$1-ROWS($A11:$A$14)+1>2019, "令和"&IF(LEN(年の入力!$B$1-ROWS($A11:$A$14)+1-2018)>=2,年の入力!$B$1-ROWS($A11:$A$14)+1-2018, DBCS(年の入力!$B$1-ROWS($A11:$A$14)+1-2018))&"年", IF(年の入力!$B$1-ROWS($A11:$A$14)+1=2019,"令和元年","平成"&年の入力!$B$1-ROWS($A11:$A$14)+1-1988&"年" )) -> 令和２年 | C10: 81.307578 | D10: 77.591224
B11: =IF(年の入力!$B$1-ROWS($A12:$A$14)+1>2019, "令和"&IF(LEN(年の入力!$B$1-ROWS($A12:$A$14)+1-2018)>=2,年の入力!$B$1-ROWS($A12:$A$14)+1-2018, DBCS(年の入力!$B$1-ROWS($A12:$A$14)+1-2018))&"年", IF(年の入力!$B$1-ROWS($A12:$A$14)+1=2019,"令和元年","平成"&年の入力!$B$1-ROWS($A12:$A$14)+1-1988&"年" )) -> 令和３年 | C11: 99.319424 | D11: 78.620998
B12: =IF(年の入力!$B$1-ROWS($A13:$A$14)+1>2019, "令和"&IF(LEN(年の入力!$B$1-ROWS($A13:$A$14)+1-2018)>=2,年の入力!$B$1-ROWS($A13:$A$14)+1-2018, DBCS(年の入力!$B$1-ROWS($A13:$A$14)+1-2018))&"年", IF(年の入力!$B$1-ROWS($A13:$A$14)+1=2019,"令和元年","平成"&年の入力!$B$1-ROWS($A13:$A$14)+1-1988&"年" )) -> 令和４年 | C12: 92.397361 | D12: 76.3152
B13: =IF(年の入力!$B$1-ROWS($A14:$A$14)+1>2019, "令和"&IF(LEN(年の入力!$B$1-ROWS($A14:$A$14)+1-2018)>=2,年の入力!$B$1-ROWS($A14:$A$14)+1-2018, DBCS(年の入力!$B$1-ROWS($A14:$A$14)+1-2018))&"年", IF(年の入力!$B$1-ROWS($A14:$A$14)+1=2019,"令和元年","平成"&年の入力!$B$1-ROWS($A14:$A$14)+1-1988&"年" )) -> 令和５年 | C13: 107.58512 | D13: 78.822476

Sheet 概況_第５２表
B1: ="概況_第５２表 出火原因別車両火災件数"&"【令和"&IF(LEN(年の入力!$B$1-2018)>=2,年の入力!$B$1-2018, DBCS(年の入力!$B$1-2018))&"年】" -> 概況_第５２表 出火原因別車両火災件数【令和５年】
B3: 出火原因 | C3: 件数
B4: 排気管 | C4: 652
B5: 電気機器 | C5: 332
B6: 交通機関内配線 | C6: 298
B7: たばこ | C7: 153
B8: 放火 | C8: 140
B9: 電気装置 | C9: 111
B10: 内燃機関 | C10: 106
B11: 衝突の火花 | C11: 91
B12: 配線器具 | C12: 73
B13: マッチ・ライター | C13: 64
B14: 放火の疑い | C14: 60
B15: 電灯電話等の配線 | C15: 33
... B32: 不明・調査中 | C32: 459
B33: 計 | C33: =SUM(C4:C32) -> 3521

Sheet 概況_第５３表
B1: ="概況_第５３表 船舶火災の推移（"&$B$4&"を100とする指数）" -> 概況_第５３表 船舶火災の推移（平成26年を100とする指数）
B3: 年 | C3: 船舶損害額 | D3: 船舶火災件数
B4: =IF(年の入力!$B$1-ROWS($A5:$A$14)+1>2019, "令和"&IF(LEN(年の入力!$B$1-ROWS($A5:$A$14)+1-2018)>=2,年の入力!$B$1-ROWS($A5:$A$14)+1-2018, DBCS(年の入力!$B$1-ROWS($A5:$A$14)+1-2018))&"年", IF(年の入力!$B$1-ROWS($A5:$A$14)+1=2019,"令和元年","平成"&年の入力!$B$1-ROWS($A5:$A$14)+1-1988&"年" )) -> 平成26年 | C4: 100 | D4: 100
B5: =IF(年の入力!$B$1-ROWS($A6:$A$14)+1>2019, "令和"&IF(LEN(年の入力!$B$1-ROWS($A6:$A$14)+1-2018)>=2,年の入力!$B$1-ROWS($A6:$A$14)+1-2018, DBCS(年の入力!$B$1-ROWS($A6:$A$14)+1-2018))&"年", IF(年の入力!$B$1-ROWS($A6:$A$14)+1=2019,"令和元年","平成"&年の入力!$B$1-ROWS($A6:$A$14)+1-1988&"年" )) -> 平成27年 | C5: 240.21026 | D5: 112.7907
B6: =IF(年の入力!$B$1-ROWS($A7:$A$14)+1>2019, "令和"&IF(LEN(年の入力!$B$1-ROWS($A7:$A$14)+1-2018)>=2,年の入力!$B$1-ROWS($A7:$A$14)+1-2018, DBCS(年の入力!$B$1-ROWS($A7:$A$14)+1-2018))&"年", IF(年の入力!$B$1-ROWS($A7:$A$14)+1=2019,"令和元年","平成"&年の入力!$B$1-ROWS($A7:$A$14)+1-1988&"年" )) -> 平成28年 | C6: 202.7127 | D6: 83.72093
B7: =IF(年の入力!$B$1-ROWS($A8:$A$14)+1>2019, "令和"&IF(LEN(年の入力!$B$1-ROWS($A8:$A$14)+1-2018)>=2,年の入力!$B$1-ROWS($A8:$A$14)+1-2018, DBCS(年の入力!$B$1-ROWS($A8:$A$14)+1-2018))&"年", IF(年の入力!$B$1-ROWS($A8:$A$14)+1=2019,"令和元年","平成"&年の入力!$B$1-ROWS($A8:$A$14)+1-1988&"年" )) -> 平成29年 | C7: 257.00317 | D7: 83.72093
B8: =IF(年の入力!$B$1-ROWS($A9:$A$14)+1>2019, "令和"&IF(LEN(年の入力!$B$1-ROWS($A9:$A$14)+1-2018)>=2,年の入力!$B$1-ROWS($A9:$A$14)+1-2018, DBCS(年の入力!$B$1-ROWS($A9:$A$14)+1-2018))&"年", IF(年の入力!$B$1-ROWS($A9:$A$14)+1=2019,"令和元年","平成"&年の入力!$B$1-ROWS($A9:$A$14)+1-1988&"年" )) -> 平成30年 | C8: 356.47731 | D8: 80.232558
B9: =IF(年の入力!$B$1-ROWS($A10:$A$14)+1>2019, "令和"&IF(LEN(年の入力!$B$1-ROWS($A10:$A$14)+1-2018)>=2,年の入力!$B$1-ROWS($A10:$A$14)+1-2018, DBCS(年の入力!$B$1-ROWS($A10:$A$14)+1-2018))&"年", IF(年の入力!$B$1-ROWS($A10:$A$14)+1=2019,"令和元年","平成"&年の入力!$B$1-ROWS($A10:$A$14)+1-1988&"年" )) -> 令和元年 | C9: 105.61673 | D9: 80.232558
B10: =IF(年の入力!$B$1-ROWS($A11:$A$14)+1>2019, "令和"&IF(LEN(年の入力!$B$1-ROWS($A11:$A$14)+1-2018)>=2,年の入力!$B$1-ROWS($A11:$A$14)+1-2018, DBCS(年の入力!$B$1-ROWS($A11:$A$14)+1-2018))&"年", IF(年の入力!$B$1-ROWS($A11:$A$14)+1=2019,"令和元年","平成"&年の入力!$B$1-ROWS($A11:$A$14)+1-1988&"年" )) -> 令和２年 | C10: 171.28965 | D10: 90.697674
B11: =IF(年の入力!$B$1-ROWS($A12:$A$14)+1>2019, "令和"&IF(LEN(年の入力!$B$1-ROWS($A12:$A$14)+1-2018)>=2,年の入力!$B$1-ROWS($A12:$A$14)+1-2018, DBCS(年の入力!$B$1-ROWS($A12:$A$14)+1-2018))&"年", IF(年の入力!$B$1-ROWS($A12:$A$14)+1=2019,"令和元年","平成"&年の入力!$B$1-ROWS($A12:$A$14)+1-1988&"年" )) -> 令和３年 | C11: 285.19638 | D11: 73.255813
B12: =IF(年の入力!$B$1-ROWS($A13:$A$14)+1>2019, "令和"&IF(LEN(年の入力!$B$1-ROWS($A13:$A$14)+1-2018)>=2,年の入力!$B$1-ROWS($A13:$A$14)+1-2018, DBCS(年の入力!$B$1-ROWS($A13:$A$14)+1-2018))&"年", IF(年の入力!$B$1-ROWS($A13:$A$14)+1=2019,"令和元年","平成"&年の入力!$B$1-ROWS($A13:$A$14)+1-1988&"年" )) -> 令和４年 | C12: 424.1777 | D12: 90.697674
B13: =IF(年の入力!$B$1-ROWS($A14:$A$14)+1>2019, "令和"&IF(LEN(年の入力!$B$1-ROWS($A14:$A$14)+1-2018)>=2,年の入力!$B$1-ROWS($A14:$A$14)+1-2018, DBCS(年の入力!$B$1-ROWS($A14:$A$14)+1-2018))&"年", IF(年の入力!$B$1-ROWS($A14:$A$14)+1=2019,"令和元年","平成"&年の入力!$B$1-ROWS($A14:$A$14)+1-1988&"年" )) -> 令和５年 | C13: 354.879 | D13: 67.44186

Sheet 概況_第５４表
B1: ="概況_第５４表 出火原因別船舶火災件数"&"【令和"&IF(LEN(年の入力!$B$1-2018)>=2,年の入力!$B$1-2018, DBCS(年の入力!$B$1-2018))&"年】" -> 概況_第５４表 出火原因別船舶火災件数【令和５年】
B3: 出火原因 | C3: 件数
B4: 配線器具 | C4: 6
B5: 電気機器 | C5: 5
B6: 電灯電話等の配線 | C6: 5
B7: 交通機関内配線 | C7: 5
B8: 排気管 | C8: 4
B9: 電気装置 | C9: 3
B10: 溶接機・切断機 | C10: 3
B11: 放火の疑い | C11: 3
B12: たばこ | C12: 2
B13: 内燃機関 | C13: 2
B14: 火入れ | C14: 2
B15: こんろ | C15: 0
... B32: 不明・調査中 | C32: 12
B33: 計 | C33: =SUM(C4:C32) -> 58
